{"text_format":"1","workbook":"xlsx","n_sheets":1,"sheets":["Planilha3"],"not_rendered":{"charts":0,"images":0,"macros":1,"external_links":0,"defined_names":0,"comments":0,"pivot_tables":0},"unopened":[],"bounds":{"document_bytes":16777216,"sheet_cells":100000,"rows_first":2000,"rows_last":500,"rows_between":2000,"halvings":0,"cell_chars":16384,"cell_head_chars":4096},"cells_cut":0,"cells_raw":0,"read":"whole","date_system":"1900"}

{"sheet":"Planilha3","index":0,"n_rows":36,"n_cols":142,"rows_kept":36,"cut":false,"hidden":false,"merged":[[4,6,28,6]]}
[null,null,null,null,null,null,null,null,null,null,null,"Nome","Setor"]
[]
[]
[null,null,null,null,null,null,null,"IMPACTO"]
["RISCO","PROBABILIDADE","IMPACTO",null,null,null,"PROBABILIDADE","EEE","DDD"]
["AAA","Muito Alto","Muito Alto",null,null,null,null,null,"ZZZ",null,null,null,null,null,null,null,null,null,{"$f":"IF(AND($B6=\"Muito Alto\",$C6=\"Muito Alto\"),\"1MuMu\",\"\")","v":"1MuMu"},{"$f":"IFERROR(VLOOKUP(S6,$A$6:$A$10,5,0),\"\")","v":""},{"$f":"IFERROR(INDEX($S$6:$S$10,_xlfn.AGGREGATE(15,6,ROW($S$6:$S$10)/($S$6:$S$10<>\"\"),ROW(#REF!))-5),\"\")","v":""},{"$f":"IF(U6=\"\",\"\",VLOOKUP(U6,S$6:T$30,2,0))","v":""},null,{"$f":"IF(AND($B6=\"Muito Alto\",$C6=\"Alto\"),\"1MuAl\",\"\")","v":""},{"$f":"IFERROR(VLOOKUP(X6,$A$6:$A$30,5,0),\"\")","v":""},{"$f":"IFERROR(INDEX($X$6:$X$30,_xlfn.AGGREGATE(15,6,ROW($X$6:$X$30)/($X$6:$X$30<>\"\"),ROW(#REF!))-5),\"\")","v":""},{"$f":"IF(Z6=\"\",\"\",VLOOKUP(Z6,X$6:Y$30,2,0))","v":""},null,{"$f":"IF(AND($B6=\"Muito Alto\",$C6=\"Moderado\"),\"1MuMo\",\"\")","v":""},{"$f":"IFERROR(VLOOKUP(AC6,$A$6:$A$30,5,0),\"\")","v":""},{"$f":"IFERROR(INDEX($AC$6:$AC$30,_xlfn.AGGREGATE(15,6,ROW($AC$6:$AC$30)/($AC$6:$AC$30<>\"\"),ROW(#REF!))-5),\"\")","v":""},{"$f":"IF(AE6=\"\",\"\",VLOOKUP(AE6,AC$6:AD$30,2,0))","v":""},null,{"$f":"IF(AND($B6=\"Muito Alto\",$C6=\"Baixo\"),\"1MuBa\",\"\")","v":""},{"$f":"IFERROR(VLOOKUP(AH6,$A$6:$A$30,5,0),\"\")","v":""},{"$f":"IFERROR(INDEX($AH$6:$AH$30,_xlfn.AGGREGATE(15,6,ROW($AH$6:$AH$30)/($AH$6:$AH$30<>\"\"),ROW(#REF!))-5),\"\")","v":""},{"$f":"IF(AJ6=\"\",\"\",VLOOKUP(AJ6,AH$6:AI$30,2,0))","v":""},null,{"$f":"IF(AND($B6=\"Muito Alto\",$C6=\"Desprezível\"),\"1MuDe\",\"\")","v":""},{"$f":"IFERROR(VLOOKUP(AM6,$A$6:$A$30,5,0),\"\")","v":""},{"$f":"IFERROR(INDEX($AM$6:$AM$30,_xlfn.AGGREGATE(15,6,ROW($AM$6:$AM$30)/($AM$6:$AM$30<>\"\"),ROW(#REF!))-5),\"\")","v":""},{"$f":"IF(AO6=\"\",\"\",VLOOKUP(AO6,AM$6:AN$30,2,0))","v":""},null,{"$f":"IF(AND($B6=\"Alto\",$C6=\"Muito Alto\"),\"1AlMu\",\"\")","v":""},{"$f":"IFERROR(VLOOKUP(AR6,$A$6:$A$10,5,0),\"\")","v":""},{"$f":"IFERROR(INDEX($AR$6:$AR$10,_xlfn.AGGREGATE(15,6,ROW($AR$6:$AR$10)/($AR$6:$AR$10<>\"\"),ROW(#REF!))-5),\"\")","v":""},{"$f":"IF(AT6=\"\",\"\",VLOOKUP(AT6,AR$6:AS$30,2,0))","v":""},null,{"$f":"IF(AND($B6=\"Alto\",$C6=\"Alto\"),\"1AlAl\",\"\")","v":""},{"$f":"IFERROR(VLOOKUP(AW6,$A$6:$A$30,5,0),\"\")","v":""},{"$f":"IFERROR(INDEX($AW$6:$AW$30,_xlfn.AGGREGATE(15,6,ROW($AW$6:$AW$30)/($AW$6:$AW$30<>\"\"),ROW(#REF!))-5),\"\")","v":""},{"$f":"IF(AY6=\"\",\"\",VLOOKUP(AY6,AW$6:AX$30,2,0))","v":""},null,{"$f":"IF(AND($B6=\"Alto\",$C6=\"Moderado\"),\"1AlMo\",\"\")","v":""},{"$f":"IFERROR(VLOOKUP(BB6,$A$6:$A$30,5,0),\"\")","v":""},{"$f":"IFERROR(INDEX($BB$6:$BB$30,_xlfn.AGGREGATE(15,6,ROW($BB$6:$BB$30)/($BB$6:$BB$30<>\"\"),ROW(#REF!))-5),\"\")","v":""},{"$f":"IF(BD6=\"\",\"\",VLOOKUP(BD6,BB$6:BC$30,2,0))","v":""},null,{"$f":"IF(AND($B6=\"Alto\",$C6=\"Baixo\"),\"1AlBa\",\"\")","v":""},{"$f":"IFERROR(VLOOKUP(BG6,$A$6:$A$30,5,0),\"\")","v":""},{"$f":"IFERROR(INDEX($BG$6:$BG$30,_xlfn.AGGREGATE(15,6,ROW($BG$6:$BG$30)/($BG$6:$BG$30<>\"\"),ROW(#REF!))-5),\"\")","v":""},{"$f":"IF(BI6=\"\",\"\",VLOOKUP(BI6,BG$6:BH$30,2,0))","v":""},null,{"$f":"IF(AND($B6=\"Alto\",$C6=\"Desprezível\"),\"1AlDe\",\"\")","v":""},{"$f":"IFERROR(VLOOKUP(BL6,$A$6:$A$30,5,0),\"\")","v":""},{"$f":"IFERROR(INDEX($BL$6:$BL$30,_xlfn.AGGREGATE(15,6,ROW($BL$6:$BL$30)/($BL$6:$BL$30<>\"\"),ROW(#REF!))-5),\"\")","v":""},{"$f":"IF(BN6=\"\",\"\",VLOOKUP(BN6,BL$6:BM$30,2,0))","v":""},null,{"$f":"IF(AND($B6=\"Moderado\",$C6=\"Muito Alto\"),\"1MoMu\",\"\")","v":""},{"$f":"IFERROR(VLOOKUP(BQ6,$A$6:$A$10,5,0),\"\")","v":""},{"$f":"IFERROR(INDEX($BQ$6:$BQ$10,_xlfn.AGGREGATE(15,6,ROW($BQ$6:$BQ$10)/($BQ$6:$BQ$10<>\"\"),ROW(#REF!))-5),\"\")","v":""},{"$f":"IF(BS6=\"\",\"\",VLOOKUP(BS6,BQ$6:BR$30,2,0))","v":""},null,{"$f":"IF(AND($B6=\"Moderado\",$C6=\"Alto\"),\"1MoAl\",\"\")","v":""},{"$f":"IFERROR(VLOOKUP(BV6,$A$6:$A$30,5,0),\"\")","v":""},{"$f":"IFERROR(INDEX($BV$6:$BV$30,_xlfn.AGGREGATE(15,6,ROW($BV$6:$BV$30)/($BV$6:$BV$30<>\"\"),ROW(#REF!))-5),\"\")","v":""},{"$f":"IF(BX6=\"\",\"\",VLOOKUP(BX6,BV$6:BW$30,2,0))","v":""},null,{"$f":"IF(AND($B6=\"Moderado\",$C6=\"Moderado\"),\"1MoMo\",\"\")","v":""},{"$f":"IFERROR(VLOOKUP(CA6,$A$6:$A$30,5,0),\"\")","v":""},{"$f":"IFERROR(INDEX($CA$6:$CA$30,_xlfn.AGGREGATE(15,6,ROW($CA$6:$CA$30)/($CA$6:$CA$30<>\"\"),ROW(#REF!))-5),\"\")","v":""},{"$f":"IF(CC6=\"\",\"\",VLOOKUP(CC6,CA$6:CB$30,2,0))","v":""},null,{"$f":"IF(AND($B6=\"Moderado\",$C6=\"Baixo\"),\"1MoBa\",\"\")","v":""},{"$f":"IFERROR(VLOOKUP(CF6,$A$6:$A$30,5,0),\"\")","v":""},{"$f":"IFERROR(INDEX($CF$6:$CF$30,_xlfn.AGGREGATE(15,6,ROW($CF$6:$CF$30)/($CF$6:$CF$30<>\"\"),ROW(#REF!))-5),\"\")","v":""},{"$f":"IF(CH6=\"\",\"\",VLOOKUP(CH6,CF$6:CG$30,2,0))","v":""},null,{"$f":"IF(AND($B6=\"Moderado\",$C6=\"Desprezível\"),\"1MoDe\",\"\")","v":""},{"$f":"IFERROR(VLOOKUP(CK6,$A$6:$A$30,5,0),\"\")","v":""},{"$f":"IFERROR(INDEX($CK$6:$CK$30,_xlfn.AGGREGATE(15,6,ROW($CK$6:$CK$30)/($CK$6:$CK$30<>\"\"),ROW(#REF!))-5),\"\")","v":""},{"$f":"IF(CM6=\"\",\"\",VLOOKUP(CM6,CK$6:CL$30,2,0))","v":""},null,{"$f":"IF(AND($B6=\"Baixo\",$C6=\"Muito Alto\"),\"1BaMu\",\"\")","v":""},{"$f":"IFERROR(VLOOKUP(CP6,$A$6:$A$30,5,0),\"\")","v":""},{"$f":"IFERROR(INDEX($CP$6:$CP$30,_xlfn.AGGREGATE(15,6,ROW($CP$6:$CP$30)/($CP$6:$CP$30<>\"\"),ROW(#REF!))-5),\"\")","v":""},{"$f":"IF(CR6=\"\",\"\",VLOOKUP(CR6,CP$6:CQ$30,2,0))","v":""},null,{"$f":"IF(AND($B6=\"Baixo\",$C6=\"Alto\"),\"1BaAl\",\"\")","v":""},{"$f":"IFERROR(VLOOKUP(CU6,$A$6:$A$30,5,0),\"\")","v":""},{"$f":"IFERROR(INDEX($CU$6:$CU$30,_xlfn.AGGREGATE(15,6,ROW($CU$6:$CU$30)/($CU$6:$CU$30<>\"\"),ROW(#REF!))-5),\"\")","v":""},{"$f":"IF(CW6=\"\",\"\",VLOOKUP(CW6,CU$6:CV$30,2,0))","v":""},null,{"$f":"IF(AND($B6=\"Baixo\",$C6=\"Moderado\"),\"1BaMo\",\"\")","v":""},{"$f":"IFERROR(VLOOKUP(CZ6,$A$6:$A$30,5,0),\"\")","v":""},{"$f":"IFERROR(INDEX($CZ$6:$CZ$30,_xlfn.AGGREGATE(15,6,ROW($CZ$6:$CZ$30)/($CZ$6:$CZ$30<>\"\"),ROW(#REF!))-5),\"\")","v":""},{"$f":"IF(DB6=\"\",\"\",VLOOKUP(DB6,CZ$6:DA$30,2,0))","v":""},null,{"$f":"IF(AND($B6=\"Baixo\",$C6=\"Baixo\"),\"1BaBa\",\"\")","v":""},{"$f":"IFERROR(VLOOKUP(DE6,$A$6:$A$30,5,0),\"\")","v":""},{"$f":"IFERROR(INDEX($DE$6:$DE$30,_xlfn.AGGREGATE(15,6,ROW($DE$6:$DE$30)/($DE$6:$DE$30<>\"\"),ROW(#REF!))-5),\"\")","v":""},{"$f":"IF(DG6=\"\",\"\",VLOOKUP(DG6,DE$6:DF$30,2,0))","v":""},null,{"$f":"IF(AND($B6=\"Baixo\",$C6=\"Desprezível\"),\"1BaDe\",\"\")","v":""},{"$f":"IFERROR(VLOOKUP(DJ6,$A$6:$A$30,5,0),\"\")","v":""},{"$f":"IFERROR(INDEX($DJ$6:$DJ$30,_xlfn.AGGREGATE(15,6,ROW($DJ$6:$DJ$30)/($DJ$6:$DJ$30<>\"\"),ROW(#REF!))-5),\"\")","v":""},{"$f":"IF(DL6=\"\",\"\",VLOOKUP(DL6,DJ$6:DK$30,2,0))","v":""},null,{"$f":"IF(AND($B6=\"Desprezível\",$C6=\"Muito Alto\"),\"1DeMu\",\"\")","v":""},{"$f":"IFERROR(VLOOKUP(DO6,$A$6:$A$10,5,0),\"\")","v":""},{"$f":"IFERROR(INDEX($DO$6:$DO$10,_xlfn.AGGREGATE(15,6,ROW($DO$6:$DO$10)/($DO$6:$DO$10<>\"\"),ROW(#REF!))-5),\"\")","v":""},{"$f":"IF(DQ6=\"\",\"\",VLOOKUP(DQ6,DO6:DP30,2,0))","v":""},null,{"$f":"IF(AND($B6=\"Desprezível\",$C6=\"Alto\"),\"1DeAl\",\"\")","v":""},{"$f":"IFERROR(VLOOKUP(DT6,$A$6:$A$30,5,0),\"\")","v":""},{"$f":"IFERROR(INDEX($DT$6:$DT$30,_xlfn.AGGREGATE(15,6,ROW($DT$6:$DT$30)/($DT$6:$DT$30<>\"\"),ROW(#REF!))-5),\"\")","v":""},{"$f":"IF(DV6=\"\",\"\",VLOOKUP(DV6,DT6:DU30,2,0))","v":""},null,{"$f":"IF(AND($B6=\"Desprezível\",$C6=\"Moderado\"),\"1DeMo\",\"\")","v":""},{"$f":"IFERROR(VLOOKUP(DY6,$A$6:$A$30,5,0),\"\")","v":""},{"$f":"IFERROR(INDEX($DY$6:$DY$30,_xlfn.AGGREGATE(15,6,ROW($DY$6:$DY$30)/($DY$6:$DY$30<>\"\"),ROW(#REF!))-5),\"\")","v":""},{"$f":"IF(EA6=\"\",\"\",VLOOKUP(EA6,DY6:DZ30,2,0))","v":""},null,{"$f":"IF(AND($B6=\"Desprezível\",$C6=\"Baixo\"),\"1DeBa\",\"\")","v":""},{"$f":"IFERROR(VLOOKUP(ED6,$A$6:$A$30,5,0),\"\")","v":""},{"$f":"IFERROR(INDEX($ED$6:$ED$30,_xlfn.AGGREGATE(15,6,ROW($ED$6:$ED$30)/($ED$6:$ED$30<>\"\"),ROW(#REF!))-5),\"\")","v":""},{"$f":"IF(EF6=\"\",\"\",VLOOKUP(EF6,ED6:EE30,2,0))","v":""},null,{"$f":"IF(AND($B6=\"Desprezível\",$C6=\"Desprezível\"),\"1DeDe\",\"\")","v":""},{"$f":"IFERROR(VLOOKUP(EI6,$A$6:$A$30,5,0),\"\")","v":""},{"$f":"IFERROR(INDEX($EI$6:$EI$30,_xlfn.AGGREGATE(15,6,ROW($EI$6:$EI$30)/($EI$6:$EI$30<>\"\"),ROW(#REF!))-5),\"\")","v":""},{"$f":"IF(EK6=\"\",\"\",VLOOKUP(EK6,EI6:EJ30,2,0))","v":""}]
["BBB","Muito Alto","Alto",null,null,null,null,null,"AAE",null,null,null,null,null,null,null,null,null,{"$f":"IF(AND($B7=\"Muito Alto\",$C7=\"Muito Alto\"),\"2MuMu\",\"\")","v":""},"",{"$f":"IFERROR(INDEX($S$6:$S$10,_xlfn.AGGREGATE(15,6,ROW($S$6:$S$10)/($S$6:$S$10<>\"\"),ROW(#REF!))-5),\"\")","v":""},{"$f":"IF(U7=\"\",\"\",VLOOKUP(U7,S$6:T$30,2,0))","v":""},null,{"$f":"IF(AND($B7=\"Muito Alto\",$C7=\"Alto\"),\"2MuAl\",\"\")","v":"2MuAl"},"",{"$f":"IFERROR(INDEX($X$6:$X$30,_xlfn.AGGREGATE(15,6,ROW($X$6:$X$30)/($X$6:$X$30<>\"\"),ROW(#REF!))-5),\"\")","v":""},{"$f":"IF(Z7=\"\",\"\",VLOOKUP(Z7,X$6:Y$30,2,0))","v":""},null,{"$f":"IF(AND($B7=\"Muito Alto\",$C7=\"Moderado\"),\"2MuMo\",\"\")","v":""},"",{"$f":"IFERROR(INDEX($AC$6:$AC$30,_xlfn.AGGREGATE(15,6,ROW($AC$6:$AC$30)/($AC$6:$AC$30<>\"\"),ROW(#REF!))-5),\"\")","v":""},{"$f":"IF(AE7=\"\",\"\",VLOOKUP(AE7,AC$6:AD$30,2,0))","v":""},null,{"$f":"IF(AND($B7=\"Muito Alto\",$C7=\"Baixo\"),\"2MuBa\",\"\")","v":""},"",{"$f":"IFERROR(INDEX($AH$6:$AH$30,_xlfn.AGGREGATE(15,6,ROW($AH$6:$AH$30)/($AH$6:$AH$30<>\"\"),ROW(#REF!))-5),\"\")","v":""},{"$f":"IF(AJ7=\"\",\"\",VLOOKUP(AJ7,AH$6:AI$30,2,0))","v":""},null,{"$f":"IF(AND($B7=\"Muito Alto\",$C7=\"Desprezível\"),\"2MuDe\",\"\")","v":""},"",{"$f":"IFERROR(INDEX($AM$6:$AM$30,_xlfn.AGGREGATE(15,6,ROW($AM$6:$AM$30)/($AM$6:$AM$30<>\"\"),ROW(#REF!))-5),\"\")","v":""},{"$f":"IF(AO7=\"\",\"\",VLOOKUP(AO7,AM$6:AN$30,2,0))","v":""},null,{"$f":"IF(AND($B7=\"Alto\",$C7=\"Muito Alto\"),\"2AlMu\",\"\")","v":""},"",{"$f":"IFERROR(INDEX($AR$6:$AR$10,_xlfn.AGGREGATE(15,6,ROW($AR$6:$AR$10)/($AR$6:$AR$10<>\"\"),ROW(#REF!))-5),\"\")","v":""},{"$f":"IF(AT7=\"\",\"\",VLOOKUP(AT7,AR$6:AS$30,2,0))","v":""},null,{"$f":"IF(AND($B7=\"Alto\",$C7=\"Alto\"),\"2AlAl\",\"\")","v":""},"",{"$f":"IFERROR(INDEX($AW$6:$AW$30,_xlfn.AGGREGATE(15,6,ROW($AW$6:$AW$30)/($AW$6:$AW$30<>\"\"),ROW(#REF!))-5),\"\")","v":""},{"$f":"IF(AY7=\"\",\"\",VLOOKUP(AY7,AW$6:AX$30,2,0))","v":""},null,{"$f":"IF(AND($B7=\"Alto\",$C7=\"Moderado\"),\"2AlMo\",\"\")","v":""},"",{"$f":"IFERROR(INDEX($BB$6:$BB$30,_xlfn.AGGREGATE(15,6,ROW($BB$6:$BB$30)/($BB$6:$BB$30<>\"\"),ROW(#REF!))-5),\"\")","v":""},{"$f":"IF(BD7=\"\",\"\",VLOOKUP(BD7,BB$6:BC$30,2,0))","v":""},null,{"$f":"IF(AND($B7=\"Alto\",$C7=\"Baixo\"),\"2AlBa\",\"\")","v":""},"",{"$f":"IFERROR(INDEX($BG$6:$BG$30,_xlfn.AGGREGATE(15,6,ROW($BG$6:$BG$30)/($BG$6:$BG$30<>\"\"),ROW(#REF!))-5),\"\")","v":""},{"$f":"IF(BI7=\"\",\"\",VLOOKUP(BI7,BG$6:BH$30,2,0))","v":""},null,{"$f":"IF(AND($B7=\"Alto\",$C7=\"Desprezível\"),\"2AlDe\",\"\")","v":""},"",{"$f":"IFERROR(INDEX($BL$6:$BL$30,_xlfn.AGGREGATE(15,6,ROW($BL$6:$BL$30)/($BL$6:$BL$30<>\"\"),ROW(#REF!))-5),\"\")","v":""},{"$f":"IF(BN7=\"\",\"\",VLOOKUP(BN7,BL$6:BM$30,2,0))","v":""},null,{"$f":"IF(AND($B7=\"Moderado\",$C7=\"Muito Alto\"),\"2MoMu\",\"\")","v":""},"",{"$f":"IFERROR(INDEX($BQ$6:$BQ$10,_xlfn.AGGREGATE(15,6,ROW($BQ$6:$BQ$10)/($BQ$6:$BQ$10<>\"\"),ROW(#REF!))-5),\"\")","v":""},{"$f":"IF(BS7=\"\",\"\",VLOOKUP(BS7,BQ$6:BR$30,2,0))","v":""},null,{"$f":"IF(AND($B7=\"Moderado\",$C7=\"Alto\"),\"2MoAl\",\"\")","v":""},"",{"$f":"IFERROR(INDEX($BV$6:$BV$30,_xlfn.AGGREGATE(15,6,ROW($BV$6:$BV$30)/($BV$6:$BV$30<>\"\"),ROW(#REF!))-5),\"\")","v":""},{"$f":"IF(BX7=\"\",\"\",VLOOKUP(BX7,BV$6:BW$30,2,0))","v":""},null,{"$f":"IF(AND($B7=\"Moderado\",$C7=\"Moderado\"),\"2MoMo\",\"\")","v":""},"",{"$f":"IFERROR(INDEX($CA$6:$CA$30,_xlfn.AGGREGATE(15,6,ROW($CA$6:$CA$30)/($CA$6:$CA$30<>\"\"),ROW(#REF!))-5),\"\")","v":""},{"$f":"IF(CC7=\"\",\"\",VLOOKUP(CC7,CA$6:CB$30,2,0))","v":""},null,{"$f":"IF(AND($B7=\"Moderado\",$C7=\"Baixo\"),\"2MoBa\",\"\")","v":""},"",{"$f":"IFERROR(INDEX($CF$6:$CF$30,_xlfn.AGGREGATE(15,6,ROW($CF$6:$CF$30)/($CF$6:$CF$30<>\"\"),ROW(#REF!))-5),\"\")","v":""},{"$f":"IF(CH7=\"\",\"\",VLOOKUP(CH7,CF$6:CG$30,2,0))","v":""},null,{"$f":"IF(AND($B7=\"Moderado\",$C7=\"Desprezível\"),\"2MoDe\",\"\")","v":""},"",{"$f":"IFERROR(INDEX($CK$6:$CK$30,_xlfn.AGGREGATE(15,6,ROW($CK$6:$CK$30)/($CK$6:$CK$30<>\"\"),ROW(#REF!))-5),\"\")","v":""},{"$f":"IF(CM7=\"\",\"\",VLOOKUP(CM7,CK$6:CL$30,2,0))","v":""},null,{"$f":"IF(AND($B7=\"Baixo\",$C7=\"Muito Alto\"),\"2BaMu\",\"\")","v":""},"",{"$f":"IFERROR(INDEX($CP$6:$CP$30,_xlfn.AGGREGATE(15,6,ROW($CP$6:$CP$30)/($CP$6:$CP$30<>\"\"),ROW(#REF!))-5),\"\")","v":""},{"$f":"IF(CR7=\"\",\"\",VLOOKUP(CR7,CP$6:CQ$30,2,0))","v":""},null,{"$f":"IF(AND($B7=\"Baixo\",$C7=\"Alto\"),\"2BaAl\",\"\")","v":""},"",{"$f":"IFERROR(INDEX($CU$6:$CU$30,_xlfn.AGGREGATE(15,6,ROW($CU$6:$CU$30)/($CU$6:$CU$30<>\"\"),ROW(#REF!))-5),\"\")","v":""},{"$f":"IF(CW7=\"\",\"\",VLOOKUP(CW7,CU$6:CV$30,2,0))","v":""},null,{"$f":"IF(AND($B7=\"Baixo\",$C7=\"Moderado\"),\"2BaMo\",\"\")","v":""},"",{"$f":"IFERROR(INDEX($CZ$6:$CZ$30,_xlfn.AGGREGATE(15,6,ROW($CZ$6:$CZ$30)/($CZ$6:$CZ$30<>\"\"),ROW(#REF!))-5),\"\")","v":""},{"$f":"IF(DB7=\"\",\"\",VLOOKUP(DB7,CZ$6:DA$30,2,0))","v":""},null,{"$f":"IF(AND($B7=\"Baixo\",$C7=\"Baixo\"),\"2BaBa\",\"\")","v":""},"",{"$f":"IFERROR(INDEX($DE$6:$DE$30,_xlfn.AGGREGATE(15,6,ROW($DE$6:$DE$30)/($DE$6:$DE$30<>\"\"),ROW(#REF!))-5),\"\")","v":""},{"$f":"IF(DG7=\"\",\"\",VLOOKUP(DG7,DE$6:DF$30,2,0))","v":""},null,{"$f":"IF(AND($B7=\"Baixo\",$C7=\"Desprezível\"),\"2BaDe\",\"\")","v":""},"",{"$f":"IFERROR(INDEX($DJ$6:$DJ$30,_xlfn.AGGREGATE(15,6,ROW($DJ$6:$DJ$30)/($DJ$6:$DJ$30<>\"\"),ROW(#REF!))-5),\"\")","v":""},{"$f":"IF(DL7=\"\",\"\",VLOOKUP(DL7,DJ$6:DK$30,2,0))","v":""},null,{"$f":"IF(AND($B7=\"Desprezível\",$C7=\"Muito Alto\"),\"2DeMu\",\"\")","v":""},"",{"$f":"IFERROR(INDEX($DO$6:$DO$10,_xlfn.AGGREGATE(15,6,ROW($DO$6:$DO$10)/($DO$6:$DO$10<>\"\"),ROW(#REF!))-5),\"\")","v":""},{"$f":"IF(DQ7=\"\",\"\",VLOOKUP(DQ7,DO7:DP31,2,0))","v":""},null,{"$f":"IF(AND($B7=\"Desprezível\",$C7=\"Alto\"),\"2DeAl\",\"\")","v":""},"",{"$f":"IFERROR(INDEX($DT$6:$DT$30,_xlfn.AGGREGATE(15,6,ROW($DT$6:$DT$30)/($DT$6:$DT$30<>\"\"),ROW(#REF!))-5),\"\")","v":""},{"$f":"IF(DV7=\"\",\"\",VLOOKUP(DV7,DT7:DU31,2,0))","v":""},null,{"$f":"IF(AND($B7=\"Desprezível\",$C7=\"Moderado\"),\"2DeMo\",\"\")","v":""},"",{"$f":"IFERROR(INDEX($DY$6:$DY$30,_xlfn.AGGREGATE(15,6,ROW($DY$6:$DY$30)/($DY$6:$DY$30<>\"\"),ROW(#REF!))-5),\"\")","v":""},{"$f":"IF(EA7=\"\",\"\",VLOOKUP(EA7,DY7:DZ31,2,0))","v":""},null,{"$f":"IF(AND($B7=\"Desprezível\",$C7=\"Baixo\"),\"2DeBa\",\"\")","v":""},"",{"$f":"IFERROR(INDEX($ED$6:$ED$30,_xlfn.AGGREGATE(15,6,ROW($ED$6:$ED$30)/($ED$6:$ED$30<>\"\"),ROW(#REF!))-5),\"\")","v":""},{"$f":"IF(EF7=\"\",\"\",VLOOKUP(EF7,ED7:EE31,2,0))","v":""},null,{"$f":"IF(AND($B7=\"Desprezível\",$C7=\"Desprezível\"),\"2DeDe\",\"\")","v":""},"",{"$f":"IFERROR(INDEX($EI$6:$EI$30,_xlfn.AGGREGATE(15,6,ROW($EI$6:$EI$30)/($EI$6:$EI$30<>\"\"),ROW(#REF!))-5),\"\")","v":""},{"$f":"IF(EK7=\"\",\"\",VLOOKUP(EK7,EI7:EJ31,2,0))","v":""}]
["CCC","Muito Alto","Moderado",null,null,null,null,null,null,null,null,null,null,null,null,null,null,null,{"$f":"IF(AND($B8=\"Muito Alto\",$C8=\"Muito Alto\"),\"3MuMu\",\"\")","v":""},"",{"$f":"IFERROR(INDEX($S$6:$S$10,_xlfn.AGGREGATE(15,6,ROW($S$6:$S$10)/($S$6:$S$10<>\"\"),ROW(#REF!))-5),\"\")","v":""},"",null,{"$f":"IF(AND($B8=\"Muito Alto\",$C8=\"Alto\"),\"3MuAl\",\"\")","v":""},"",{"$f":"IFERROR(INDEX($X$6:$X$30,_xlfn.AGGREGATE(15,6,ROW($X$6:$X$30)/($X$6:$X$30<>\"\"),ROW(#REF!))-5),\"\")","v":""},"",null,{"$f":"IF(AND($B8=\"Muito Alto\",$C8=\"Moderado\"),\"3MuMo\",\"\")","v":"3MuMo"},"",{"$f":"IFERROR(INDEX($AC$6:$AC$30,_xlfn.AGGREGATE(15,6,ROW($AC$6:$AC$30)/($AC$6:$AC$30<>\"\"),ROW(#REF!))-5),\"\")","v":""},"",null,{"$f":"IF(AND($B8=\"Muito Alto\",$C8=\"Baixo\"),\"3MuBa\",\"\")","v":""},"",{"$f":"IFERROR(INDEX($AH$6:$AH$30,_xlfn.AGGREGATE(15,6,ROW($AH$6:$AH$30)/($AH$6:$AH$30<>\"\"),ROW(#REF!))-5),\"\")","v":""},"",null,{"$f":"IF(AND($B8=\"Muito Alto\",$C8=\"Desprezível\"),\"3MuDe\",\"\")","v":""},"",{"$f":"IFERROR(INDEX($AM$6:$AM$30,_xlfn.AGGREGATE(15,6,ROW($AM$6:$AM$30)/($AM$6:$AM$30<>\"\"),ROW(#REF!))-5),\"\")","v":""},"",null,{"$f":"IF(AND($B8=\"Alto\",$C8=\"Muito Alto\"),\"3AlMu\",\"\")","v":""},"",{"$f":"IFERROR(INDEX($AR$6:$AR$10,_xlfn.AGGREGATE(15,6,ROW($AR$6:$AR$10)/($AR$6:$AR$10<>\"\"),ROW(#REF!))-5),\"\")","v":""},"",null,{"$f":"IF(AND($B8=\"Alto\",$C8=\"Alto\"),\"3AlAl\",\"\")","v":""},"",{"$f":"IFERROR(INDEX($AW$6:$AW$30,_xlfn.AGGREGATE(15,6,ROW($AW$6:$AW$30)/($AW$6:$AW$30<>\"\"),ROW(#REF!))-5),\"\")","v":""},"",null,{"$f":"IF(AND($B8=\"Alto\",$C8=\"Moderado\"),\"3AlMo\",\"\")","v":""},"",{"$f":"IFERROR(INDEX($BB$6:$BB$30,_xlfn.AGGREGATE(15,6,ROW($BB$6:$BB$30)/($BB$6:$BB$30<>\"\"),ROW(#REF!))-5),\"\")","v":""},"",null,{"$f":"IF(AND($B8=\"Alto\",$C8=\"Baixo\"),\"3AlBa\",\"\")","v":""},"",{"$f":"IFERROR(INDEX($BG$6:$BG$30,_xlfn.AGGREGATE(15,6,ROW($BG$6:$BG$30)/($BG$6:$BG$30<>\"\"),ROW(#REF!))-5),\"\")","v":""},"",null,{"$f":"IF(AND($B8=\"Alto\",$C8=\"Desprezível\"),\"3AlDe\",\"\")","v":""},"",{"$f":"IFERROR(INDEX($BL$6:$BL$30,_xlfn.AGGREGATE(15,6,ROW($BL$6:$BL$30)/($BL$6:$BL$30<>\"\"),ROW(#REF!))-5),\"\")","v":""},"",null,{"$f":"IF(AND($B8=\"Moderado\",$C8=\"Muito Alto\"),\"3MoMu\",\"\")","v":""},"",{"$f":"IFERROR(INDEX($BQ$6:$BQ$10,_xlfn.AGGREGATE(15,6,ROW($BQ$6:$BQ$10)/($BQ$6:$BQ$10<>\"\"),ROW(#REF!))-5),\"\")","v":""},"",null,{"$f":"IF(AND($B8=\"Moderado\",$C8=\"Alto\"),\"3MoAl\",\"\")","v":""},"",{"$f":"IFERROR(INDEX($BV$6:$BV$30,_xlfn.AGGREGATE(15,6,ROW($BV$6:$BV$30)/($BV$6:$BV$30<>\"\"),ROW(#REF!))-5),\"\")","v":""},"",null,{"$f":"IF(AND($B8=\"Moderado\",$C8=\"Moderado\"),\"3MoMo\",\"\")","v":""},"",{"$f":"IFERROR(INDEX($CA$6:$CA$30,_xlfn.AGGREGATE(15,6,ROW($CA$6:$CA$30)/($CA$6:$CA$30<>\"\"),ROW(#REF!))-5),\"\")","v":""},"",null,{"$f":"IF(AND($B8=\"Moderado\",$C8=\"Baixo\"),\"3MoBa\",\"\")","v":""},"",{"$f":"IFERROR(INDEX($CF$6:$CF$30,_xlfn.AGGREGATE(15,6,ROW($CF$6:$CF$30)/($CF$6:$CF$30<>\"\"),ROW(#REF!))-5),\"\")","v":""},"",null,{"$f":"IF(AND($B8=\"Moderado\",$C8=\"Desprezível\"),\"3MoDe\",\"\")","v":""},"",{"$f":"IFERROR(INDEX($CK$6:$CK$30,_xlfn.AGGREGATE(15,6,ROW($CK$6:$CK$30)/($CK$6:$CK$30<>\"\"),ROW(#REF!))-5),\"\")","v":""},"",null,{"$f":"IF(AND($B8=\"Baixo\",$C8=\"Muito Alto\"),\"3BaMu\",\"\")","v":""},"",{"$f":"IFERROR(INDEX($CP$6:$CP$30,_xlfn.AGGREGATE(15,6,ROW($CP$6:$CP$30)/($CP$6:$CP$30<>\"\"),ROW(#REF!))-5),\"\")","v":""},"",null,{"$f":"IF(AND($B8=\"Baixo\",$C8=\"Alto\"),\"3BaAl\",\"\")","v":""},"",{"$f":"IFERROR(INDEX($CU$6:$CU$30,_xlfn.AGGREGATE(15,6,ROW($CU$6:$CU$30)/($CU$6:$CU$30<>\"\"),ROW(#REF!))-5),\"\")","v":""},"",null,{"$f":"IF(AND($B8=\"Baixo\",$C8=\"Moderado\"),\"3BaMo\",\"\")","v":""},"",{"$f":"IFERROR(INDEX($CZ$6:$CZ$30,_xlfn.AGGREGATE(15,6,ROW($CZ$6:$CZ$30)/($CZ$6:$CZ$30<>\"\"),ROW(#REF!))-5),\"\")","v":""},"",null,{"$f":"IF(AND($B8=\"Baixo\",$C8=\"Baixo\"),\"3BaBa\",\"\")","v":""},"",{"$f":"IFERROR(INDEX($DE$6:$DE$30,_xlfn.AGGREGATE(15,6,ROW($DE$6:$DE$30)/($DE$6:$DE$30<>\"\"),ROW(#REF!))-5),\"\")","v":""},"",null,{"$f":"IF(AND($B8=\"Baixo\",$C8=\"Desprezível\"),\"3BaDe\",\"\")","v":""},"",{"$f":"IFERROR(INDEX($DJ$6:$DJ$30,_xlfn.AGGREGATE(15,6,ROW($DJ$6:$DJ$30)/($DJ$6:$DJ$30<>\"\"),ROW(#REF!))-5),\"\")","v":""},"",null,{"$f":"IF(AND($B8=\"Desprezível\",$C8=\"Muito Alto\"),\"3DeMu\",\"\")","v":""},"",{"$f":"IFERROR(INDEX($DO$6:$DO$10,_xlfn.AGGREGATE(15,6,ROW($DO$6:$DO$10)/($DO$6:$DO$10<>\"\"),ROW(#REF!))-5),\"\")","v":""},"",null,{"$f":"IF(AND($B8=\"Desprezível\",$C8=\"Alto\"),\"3DeAl\",\"\")","v":""},"",{"$f":"IFERROR(INDEX($DT$6:$DT$30,_xlfn.AGGREGATE(15,6,ROW($DT$6:$DT$30)/($DT$6:$DT$30<>\"\"),ROW(#REF!))-5),\"\")","v":""},"",null,{"$f":"IF(AND($B8=\"Desprezível\",$C8=\"Moderado\"),\"3DeMo\",\"\")","v":""},"",{"$f":"IFERROR(INDEX($DY$6:$DY$30,_xlfn.AGGREGATE(15,6,ROW($DY$6:$DY$30)/($DY$6:$DY$30<>\"\"),ROW(#REF!))-5),\"\")","v":""},"",null,{"$f":"IF(AND($B8=\"Desprezível\",$C8=\"Baixo\"),\"3DeBa\",\"\")","v":""},"",{"$f":"IFERROR(INDEX($ED$6:$ED$30,_xlfn.AGGREGATE(15,6,ROW($ED$6:$ED$30)/($ED$6:$ED$30<>\"\"),ROW(#REF!))-5),\"\")","v":""},"",null,{"$f":"IF(AND($B8=\"Desprezível\",$C8=\"Desprezível\"),\"3DeDe\",\"\")","v":""},"",{"$f":"IFERROR(INDEX($EI$6:$EI$30,_xlfn.AGGREGATE(15,6,ROW($EI$6:$EI$30)/($EI$6:$EI$30<>\"\"),ROW(#REF!))-5),\"\")","v":""},""]
["DDD","Muito Alto","Baixo",null,null,null,null,null,null,null,null,null,null,null,null,null,null,null,{"$f":"IF(AND($B9=\"Muito Alto\",$C9=\"Muito Alto\"),\"4MuMu\",\"\")","v":""},"",{"$f":"IFERROR(INDEX($S$6:$S$10,_xlfn.AGGREGATE(15,6,ROW($S$6:$S$10)/($S$6:$S$10<>\"\"),ROW(#REF!))-5),\"\")","v":""},"",null,{"$f":"IF(AND($B9=\"Muito Alto\",$C9=\"Alto\"),\"4MuAl\",\"\")","v":""},"",{"$f":"IFERROR(INDEX($X$6:$X$30,_xlfn.AGGREGATE(15,6,ROW($X$6:$X$30)/($X$6:$X$30<>\"\"),ROW(#REF!))-5),\"\")","v":""},"",null,{"$f":"IF(AND($B9=\"Muito Alto\",$C9=\"Moderado\"),\"4MuMo\",\"\")","v":""},"",{"$f":"IFERROR(INDEX($AC$6:$AC$30,_xlfn.AGGREGATE(15,6,ROW($AC$6:$AC$30)/($AC$6:$AC$30<>\"\"),ROW(#REF!))-5),\"\")","v":""},"",null,{"$f":"IF(AND($B9=\"Muito Alto\",$C9=\"Baixo\"),\"4MuBa\",\"\")","v":"4MuBa"},"",{"$f":"IFERROR(INDEX($AH$6:$AH$30,_xlfn.AGGREGATE(15,6,ROW($AH$6:$AH$30)/($AH$6:$AH$30<>\"\"),ROW(#REF!))-5),\"\")","v":""},"",null,{"$f":"IF(AND($B9=\"Muito Alto\",$C9=\"Desprezível\"),\"4MuDe\",\"\")","v":""},"",{"$f":"IFERROR(INDEX($AM$6:$AM$30,_xlfn.AGGREGATE(15,6,ROW($AM$6:$AM$30)/($AM$6:$AM$30<>\"\"),ROW(#REF!))-5),\"\")","v":""},"",null,{"$f":"IF(AND($B9=\"Alto\",$C9=\"Muito Alto\"),\"4AlMu\",\"\")","v":""},"",{"$f":"IFERROR(INDEX($AR$6:$AR$10,_xlfn.AGGREGATE(15,6,ROW($AR$6:$AR$10)/($AR$6:$AR$10<>\"\"),ROW(#REF!))-5),\"\")","v":""},"",null,{"$f":"IF(AND($B9=\"Alto\",$C9=\"Alto\"),\"4AlAl\",\"\")","v":""},"",{"$f":"IFERROR(INDEX($AW$6:$AW$30,_xlfn.AGGREGATE(15,6,ROW($AW$6:$AW$30)/($AW$6:$AW$30<>\"\"),ROW(#REF!))-5),\"\")","v":""},"",null,{"$f":"IF(AND($B9=\"Alto\",$C9=\"Moderado\"),\"4AlMo\",\"\")","v":""},"",{"$f":"IFERROR(INDEX($BB$6:$BB$30,_xlfn.AGGREGATE(15,6,ROW($BB$6:$BB$30)/($BB$6:$BB$30<>\"\"),ROW(#REF!))-5),\"\")","v":""},"",null,{"$f":"IF(AND($B9=\"Alto\",$C9=\"Baixo\"),\"4AlBa\",\"\")","v":""},"",{"$f":"IFERROR(INDEX($BG$6:$BG$30,_xlfn.AGGREGATE(15,6,ROW($BG$6:$BG$30)/($BG$6:$BG$30<>\"\"),ROW(#REF!))-5),\"\")","v":""},"",null,{"$f":"IF(AND($B9=\"Alto\",$C9=\"Desprezível\"),\"4AlDe\",\"\")","v":""},"",{"$f":"IFERROR(INDEX($BL$6:$BL$30,_xlfn.AGGREGATE(15,6,ROW($BL$6:$BL$30)/($BL$6:$BL$30<>\"\"),ROW(#REF!))-5),\"\")","v":""},"",null,{"$f":"IF(AND($B9=\"Moderado\",$C9=\"Muito Alto\"),\"4MoMu\",\"\")","v":""},"",{"$f":"IFERROR(INDEX($BQ$6:$BQ$10,_xlfn.AGGREGATE(15,6,ROW($BQ$6:$BQ$10)/($BQ$6:$BQ$10<>\"\"),ROW(#REF!))-5),\"\")","v":""},"",null,{"$f":"IF(AND($B9=\"Moderado\",$C9=\"Alto\"),\"4MoAl\",\"\")","v":""},"",{"$f":"IFERROR(INDEX($BV$6:$BV$30,_xlfn.AGGREGATE(15,6,ROW($BV$6:$BV$30)/($BV$6:$BV$30<>\"\"),ROW(#REF!))-5),\"\")","v":""},"",null,{"$f":"IF(AND($B9=\"Moderado\",$C9=\"Moderado\"),\"4MoMo\",\"\")","v":""},"",{"$f":"IFERROR(INDEX($CA$6:$CA$30,_xlfn.AGGREGATE(15,6,ROW($CA$6:$CA$30)/($CA$6:$CA$30<>\"\"),ROW(#REF!))-5),\"\")","v":""},"",null,{"$f":"IF(AND($B9=\"Moderado\",$C9=\"Baixo\"),\"4MoBa\",\"\")","v":""},"",{"$f":"IFERROR(INDEX($CF$6:$CF$30,_xlfn.AGGREGATE(15,6,ROW($CF$6:$CF$30)/($CF$6:$CF$30<>\"\"),ROW(#REF!))-5),\"\")","v":""},"",null,{"$f":"IF(AND($B9=\"Moderado\",$C9=\"Desprezível\"),\"4MoDe\",\"\")","v":""},"",{"$f":"IFERROR(INDEX($CK$6:$CK$30,_xlfn.AGGREGATE(15,6,ROW($CK$6:$CK$30)/($CK$6:$CK$30<>\"\"),ROW(#REF!))-5),\"\")","v":""},"",null,{"$f":"IF(AND($B9=\"Baixo\",$C9=\"Muito Alto\"),\"4BaMu\",\"\")","v":""},"",{"$f":"IFERROR(INDEX($CP$6:$CP$30,_xlfn.AGGREGATE(15,6,ROW($CP$6:$CP$30)/($CP$6:$CP$30<>\"\"),ROW(#REF!))-5),\"\")","v":""},"",null,{"$f":"IF(AND($B9=\"Baixo\",$C9=\"Alto\"),\"4BaAl\",\"\")","v":""},"",{"$f":"IFERROR(INDEX($CU$6:$CU$30,_xlfn.AGGREGATE(15,6,ROW($CU$6:$CU$30)/($CU$6:$CU$30<>\"\"),ROW(#REF!))-5),\"\")","v":""},"",null,{"$f":"IF(AND($B9=\"Baixo\",$C9=\"Moderado\"),\"4BaMo\",\"\")","v":""},"",{"$f":"IFERROR(INDEX($CZ$6:$CZ$30,_xlfn.AGGREGATE(15,6,ROW($CZ$6:$CZ$30)/($CZ$6:$CZ$30<>\"\"),ROW(#REF!))-5),\"\")","v":""},"",null,{"$f":"IF(AND($B9=\"Baixo\",$C9=\"Baixo\"),\"4BaBa\",\"\")","v":""},"",{"$f":"IFERROR(INDEX($DE$6:$DE$30,_xlfn.AGGREGATE(15,6,ROW($DE$6:$DE$30)/($DE$6:$DE$30<>\"\"),ROW(#REF!))-5),\"\")","v":""},"",null,{"$f":"IF(AND($B9=\"Baixo\",$C9=\"Desprezível\"),\"4BaDe\",\"\")","v":""},"",{"$f":"IFERROR(INDEX($DJ$6:$DJ$30,_xlfn.AGGREGATE(15,6,ROW($DJ$6:$DJ$30)/($DJ$6:$DJ$30<>\"\"),ROW(#REF!))-5),\"\")","v":""},"",null,{"$f":"IF(AND($B9=\"Desprezível\",$C9=\"Muito Alto\"),\"4DeMu\",\"\")","v":""},"",{"$f":"IFERROR(INDEX($DO$6:$DO$10,_xlfn.AGGREGATE(15,6,ROW($DO$6:$DO$10)/($DO$6:$DO$10<>\"\"),ROW(#REF!))-5),\"\")","v":""},"",null,{"$f":"IF(AND($B9=\"Desprezível\",$C9=\"Alto\"),\"4DeAl\",\"\")","v":""},"",{"$f":"IFERROR(INDEX($DT$6:$DT$30,_xlfn.AGGREGATE(15,6,ROW($DT$6:$DT$30)/($DT$6:$DT$30<>\"\"),ROW(#REF!))-5),\"\")","v":""},"",null,{"$f":"IF(AND($B9=\"Desprezível\",$C9=\"Moderado\"),\"4DeMo\",\"\")","v":""},"",{"$f":"IFERROR(INDEX($DY$6:$DY$30,_xlfn.AGGREGATE(15,6,ROW($DY$6:$DY$30)/($DY$6:$DY$30<>\"\"),ROW(#REF!))-5),\"\")","v":""},"",null,{"$f":"IF(AND($B9=\"Desprezível\",$C9=\"Baixo\"),\"4DeBa\",\"\")","v":""},"",{"$f":"IFERROR(INDEX($ED$6:$ED$30,_xlfn.AGGREGATE(15,6,ROW($ED$6:$ED$30)/($ED$6:$ED$30<>\"\"),ROW(#REF!))-5),\"\")","v":""},"",null,{"$f":"IF(AND($B9=\"Desprezível\",$C9=\"Desprezível\"),\"4DeDe\",\"\")","v":""},"",{"$f":"IFERROR(INDEX($EI$6:$EI$30,_xlfn.AGGREGATE(15,6,ROW($EI$6:$EI$30)/($EI$6:$EI$30<>\"\"),ROW(#REF!))-5),\"\")","v":""},""]
["EEE","Muito Alto","Desprezível",null,null,null,null,null,null,null,null,null,null,null,null,null,null,null,{"$f":"IF(AND($B10=\"Muito Alto\",$C10=\"Muito Alto\"),\"5MuMu\",\"\")","v":""},"",{"$f":"IFERROR(INDEX($S$6:$S$10,_xlfn.AGGREGATE(15,6,ROW($S$6:$S$10)/($S$6:$S$10<>\"\"),ROW(#REF!))-5),\"\")","v":""},"",null,{"$f":"IF(AND($B10=\"Muito Alto\",$C10=\"Alto\"),\"5MuAl\",\"\")","v":""},"",{"$f":"IFERROR(INDEX($X$6:$X$30,_xlfn.AGGREGATE(15,6,ROW($X$6:$X$30)/($X$6:$X$30<>\"\"),ROW(#REF!))-5),\"\")","v":""},"",null,{"$f":"IF(AND($B10=\"Muito Alto\",$C10=\"Moderado\"),\"5MuMo\",\"\")","v":""},"",{"$f":"IFERROR(INDEX($AC$6:$AC$30,_xlfn.AGGREGATE(15,6,ROW($AC$6:$AC$30)/($AC$6:$AC$30<>\"\"),ROW(#REF!))-5),\"\")","v":""},"",null,{"$f":"IF(AND($B10=\"Muito Alto\",$C10=\"Baixo\"),\"5MuBa\",\"\")","v":""},"",{"$f":"IFERROR(INDEX($AH$6:$AH$30,_xlfn.AGGREGATE(15,6,ROW($AH$6:$AH$30)/($AH$6:$AH$30<>\"\"),ROW(#REF!))-5),\"\")","v":""},"",null,{"$f":"IF(AND($B10=\"Muito Alto\",$C10=\"Desprezível\"),\"5MuDe\",\"\")","v":"5MuDe"},"",{"$f":"IFERROR(INDEX($AM$6:$AM$30,_xlfn.AGGREGATE(15,6,ROW($AM$6:$AM$30)/($AM$6:$AM$30<>\"\"),ROW(#REF!))-5),\"\")","v":""},"",null,{"$f":"IF(AND($B10=\"Alto\",$C10=\"Muito Alto\"),\"5AlMu\",\"\")","v":""},"",{"$f":"IFERROR(INDEX($AR$6:$AR$10,_xlfn.AGGREGATE(15,6,ROW($AR$6:$AR$10)/($AR$6:$AR$10<>\"\"),ROW(#REF!))-5),\"\")","v":""},"",null,{"$f":"IF(AND($B10=\"Alto\",$C10=\"Alto\"),\"5AlAl\",\"\")","v":""},"",{"$f":"IFERROR(INDEX($AW$6:$AW$30,_xlfn.AGGREGATE(15,6,ROW($AW$6:$AW$30)/($AW$6:$AW$30<>\"\"),ROW(#REF!))-5),\"\")","v":""},"",null,{"$f":"IF(AND($B10=\"Alto\",$C10=\"Moderado\"),\"5AlMo\",\"\")","v":""},"",{"$f":"IFERROR(INDEX($BB$6:$BB$30,_xlfn.AGGREGATE(15,6,ROW($BB$6:$BB$30)/($BB$6:$BB$30<>\"\"),ROW(#REF!))-5),\"\")","v":""},"",null,{"$f":"IF(AND($B10=\"Alto\",$C10=\"Baixo\"),\"5AlBa\",\"\")","v":""},"",{"$f":"IFERROR(INDEX($BG$6:$BG$30,_xlfn.AGGREGATE(15,6,ROW($BG$6:$BG$30)/($BG$6:$BG$30<>\"\"),ROW(#REF!))-5),\"\")","v":""},"",null,{"$f":"IF(AND($B10=\"Alto\",$C10=\"Desprezível\"),\"5AlDe\",\"\")","v":""},"",{"$f":"IFERROR(INDEX($BL$6:$BL$30,_xlfn.AGGREGATE(15,6,ROW($BL$6:$BL$30)/($BL$6:$BL$30<>\"\"),ROW(#REF!))-5),\"\")","v":""},"",null,{"$f":"IF(AND($B10=\"Moderado\",$C10=\"Muito Alto\"),\"5MoMu\",\"\")","v":""},"",{"$f":"IFERROR(INDEX($BQ$6:$BQ$10,_xlfn.AGGREGATE(15,6,ROW($BQ$6:$BQ$10)/($BQ$6:$BQ$10<>\"\"),ROW(#REF!))-5),\"\")","v":""},"",null,{"$f":"IF(AND($B10=\"Moderado\",$C10=\"Alto\"),\"5MoAl\",\"\")","v":""},"",{"$f":"IFERROR(INDEX($BV$6:$BV$30,_xlfn.AGGREGATE(15,6,ROW($BV$6:$BV$30)/($BV$6:$BV$30<>\"\"),ROW(#REF!))-5),\"\")","v":""},"",null,{"$f":"IF(AND($B10=\"Moderado\",$C10=\"Moderado\"),\"5MoMo\",\"\")","v":""},"",{"$f":"IFERROR(INDEX($CA$6:$CA$30,_xlfn.AGGREGATE(15,6,ROW($CA$6:$CA$30)/($CA$6:$CA$30<>\"\"),ROW(#REF!))-5),\"\")","v":""},"",null,{"$f":"IF(AND($B10=\"Moderado\",$C10=\"Baixo\"),\"5MoBa\",\"\")","v":""},"",{"$f":"IFERROR(INDEX($CF$6:$CF$30,_xlfn.AGGREGATE(15,6,ROW($CF$6:$CF$30)/($CF$6:$CF$30<>\"\"),ROW(#REF!))-5),\"\")","v":""},"",null,{"$f":"IF(AND($B10=\"Moderado\",$C10=\"Desprezível\"),\"5MoDe\",\"\")","v":""},"",{"$f":"IFERROR(INDEX($CK$6:$CK$30,_xlfn.AGGREGATE(15,6,ROW($CK$6:$CK$30)/($CK$6:$CK$30<>\"\"),ROW(#REF!))-5),\"\")","v":""},"",null,{"$f":"IF(AND($B10=\"Baixo\",$C10=\"Muito Alto\"),\"5BaMu\",\"\")","v":""},"",{"$f":"IFERROR(INDEX($CP$6:$CP$30,_xlfn.AGGREGATE(15,6,ROW($CP$6:$CP$30)/($CP$6:$CP$30<>\"\"),ROW(#REF!))-5),\"\")","v":""},"",null,{"$f":"IF(AND($B10=\"Baixo\",$C10=\"Alto\"),\"5BaAl\",\"\")","v":""},"",{"$f":"IFERROR(INDEX($CU$6:$CU$30,_xlfn.AGGREGATE(15,6,ROW($CU$6:$CU$30)/($CU$6:$CU$30<>\"\"),ROW(#REF!))-5),\"\")","v":""},"",null,{"$f":"IF(AND($B10=\"Baixo\",$C10=\"Moderado\"),\"5BaMo\",\"\")","v":""},"",{"$f":"IFERROR(INDEX($CZ$6:$CZ$30,_xlfn.AGGREGATE(15,6,ROW($CZ$6:$CZ$30)/($CZ$6:$CZ$30<>\"\"),ROW(#REF!))-5),\"\")","v":""},"",null,{"$f":"IF(AND($B10=\"Baixo\",$C10=\"Baixo\"),\"5BaBa\",\"\")","v":""},"",{"$f":"IFERROR(INDEX($DE$6:$DE$30,_xlfn.AGGREGATE(15,6,ROW($DE$6:$DE$30)/($DE$6:$DE$30<>\"\"),ROW(#REF!))-5),\"\")","v":""},"",null,{"$f":"IF(AND($B10=\"Baixo\",$C10=\"Desprezível\"),\"5BaDe\",\"\")","v":""},"",{"$f":"IFERROR(INDEX($DJ$6:$DJ$30,_xlfn.AGGREGATE(15,6,ROW($DJ$6:$DJ$30)/($DJ$6:$DJ$30<>\"\"),ROW(#REF!))-5),\"\")","v":""},"",null,{"$f":"IF(AND($B10=\"Desprezível\",$C10=\"Muito Alto\"),\"5DeMu\",\"\")","v":""},"",{"$f":"IFERROR(INDEX($DO$6:$DO$10,_xlfn.AGGREGATE(15,6,ROW($DO$6:$DO$10)/($DO$6:$DO$10<>\"\"),ROW(#REF!))-5),\"\")","v":""},"",null,{"$f":"IF(AND($B10=\"Desprezível\",$C10=\"Alto\"),\"5DeAl\",\"\")","v":""},"",{"$f":"IFERROR(INDEX($DT$6:$DT$30,_xlfn.AGGREGATE(15,6,ROW($DT$6:$DT$30)/($DT$6:$DT$30<>\"\"),ROW(#REF!))-5),\"\")","v":""},"",null,{"$f":"IF(AND($B10=\"Desprezível\",$C10=\"Moderado\"),\"5DeMo\",\"\")","v":""},"",{"$f":"IFERROR(INDEX($DY$6:$DY$30,_xlfn.AGGREGATE(15,6,ROW($DY$6:$DY$30)/($DY$6:$DY$30<>\"\"),ROW(#REF!))-5),\"\")","v":""},"",null,{"$f":"IF(AND($B10=\"Desprezível\",$C10=\"Baixo\"),\"5DeBa\",\"\")","v":""},"",{"$f":"IFERROR(INDEX($ED$6:$ED$30,_xlfn.AGGREGATE(15,6,ROW($ED$6:$ED$30)/($ED$6:$ED$30<>\"\"),ROW(#REF!))-5),\"\")","v":""},"",null,{"$f":"IF(AND($B10=\"Desprezível\",$C10=\"Desprezível\"),\"5DeDe\",\"\")","v":""},"",{"$f":"IFERROR(INDEX($EI$6:$EI$30,_xlfn.AGGREGATE(15,6,ROW($EI$6:$EI$30)/($EI$6:$EI$30<>\"\"),ROW(#REF!))-5),\"\")","v":""},""]
["FFF","Alto","Muito Alto",null,null,null,null,null,null,null,null,null,null,null,null,null,null,null,{"$f":"IF(AND($B11=\"Muito Alto\",$C11=\"Muito Alto\"),\"6MuMu\",\"\")","v":""},"",{"$f":"IFERROR(INDEX($S$6:$S$10,_xlfn.AGGREGATE(15,6,ROW($S$6:$S$10)/($S$6:$S$10<>\"\"),ROW(#REF!))-5),\"\")","v":""},"",null,{"$f":"IF(AND($B11=\"Muito Alto\",$C11=\"Alto\"),\"6MuAl\",\"\")","v":""},"",{"$f":"IFERROR(INDEX($X$6:$X$30,_xlfn.AGGREGATE(15,6,ROW($X$6:$X$30)/($X$6:$X$30<>\"\"),ROW(#REF!))-5),\"\")","v":""},"",null,{"$f":"IF(AND($B11=\"Muito Alto\",$C11=\"Moderado\"),\"6MuMo\",\"\")","v":""},"",{"$f":"IFERROR(INDEX($AC$6:$AC$30,_xlfn.AGGREGATE(15,6,ROW($AC$6:$AC$30)/($AC$6:$AC$30<>\"\"),ROW(#REF!))-5),\"\")","v":""},"",null,{"$f":"IF(AND($B11=\"Muito Alto\",$C11=\"Baixo\"),\"6MuBa\",\"\")","v":""},"",{"$f":"IFERROR(INDEX($AH$6:$AH$30,_xlfn.AGGREGATE(15,6,ROW($AH$6:$AH$30)/($AH$6:$AH$30<>\"\"),ROW(#REF!))-5),\"\")","v":""},"",null,{"$f":"IF(AND($B11=\"Muito Alto\",$C11=\"Desprezível\"),\"6MuDe\",\"\")","v":""},"",{"$f":"IFERROR(INDEX($AM$6:$AM$30,_xlfn.AGGREGATE(15,6,ROW($AM$6:$AM$30)/($AM$6:$AM$30<>\"\"),ROW(#REF!))-5),\"\")","v":""},"",null,{"$f":"IF(AND($B11=\"Alto\",$C11=\"Muito Alto\"),\"6AlMu\",\"\")","v":"6AlMu"},"",{"$f":"IFERROR(INDEX($AR$6:$AR$10,_xlfn.AGGREGATE(15,6,ROW($AR$6:$AR$10)/($AR$6:$AR$10<>\"\"),ROW(#REF!))-5),\"\")","v":""},"",null,{"$f":"IF(AND($B11=\"Alto\",$C11=\"Alto\"),\"6AlAl\",\"\")","v":""},"",{"$f":"IFERROR(INDEX($AW$6:$AW$30,_xlfn.AGGREGATE(15,6,ROW($AW$6:$AW$30)/($AW$6:$AW$30<>\"\"),ROW(#REF!))-5),\"\")","v":""},"",null,{"$f":"IF(AND($B11=\"Alto\",$C11=\"Moderado\"),\"6AlMo\",\"\")","v":""},"",{"$f":"IFERROR(INDEX($BB$6:$BB$30,_xlfn.AGGREGATE(15,6,ROW($BB$6:$BB$30)/($BB$6:$BB$30<>\"\"),ROW(#REF!))-5),\"\")","v":""},"",null,{"$f":"IF(AND($B11=\"Alto\",$C11=\"Baixo\"),\"6AlBa\",\"\")","v":""},"",{"$f":"IFERROR(INDEX($BG$6:$BG$30,_xlfn.AGGREGATE(15,6,ROW($BG$6:$BG$30)/($BG$6:$BG$30<>\"\"),ROW(#REF!))-5),\"\")","v":""},"",null,{"$f":"IF(AND($B11=\"Alto\",$C11=\"Desprezível\"),\"6AlDe\",\"\")","v":""},"",{"$f":"IFERROR(INDEX($BL$6:$BL$30,_xlfn.AGGREGATE(15,6,ROW($BL$6:$BL$30)/($BL$6:$BL$30<>\"\"),ROW(#REF!))-5),\"\")","v":""},"",null,{"$f":"IF(AND($B11=\"Moderado\",$C11=\"Muito Alto\"),\"6MoMu\",\"\")","v":""},"",{"$f":"IFERROR(INDEX($BQ$6:$BQ$10,_xlfn.AGGREGATE(15,6,ROW($BQ$6:$BQ$10)/($BQ$6:$BQ$10<>\"\"),ROW(#REF!))-5),\"\")","v":""},"",null,{"$f":"IF(AND($B11=\"Moderado\",$C11=\"Alto\"),\"6MoAl\",\"\")","v":""},"",{"$f":"IFERROR(INDEX($BV$6:$BV$30,_xlfn.AGGREGATE(15,6,ROW($BV$6:$BV$30)/($BV$6:$BV$30<>\"\"),ROW(#REF!))-5),\"\")","v":""},"",null,{"$f":"IF(AND($B11=\"Moderado\",$C11=\"Moderado\"),\"6MoMo\",\"\")","v":""},"",{"$f":"IFERROR(INDEX($CA$6:$CA$30,_xlfn.AGGREGATE(15,6,ROW($CA$6:$CA$30)/($CA$6:$CA$30<>\"\"),ROW(#REF!))-5),\"\")","v":""},"",null,{"$f":"IF(AND($B11=\"Moderado\",$C11=\"Baixo\"),\"6MoBa\",\"\")","v":""},"",{"$f":"IFERROR(INDEX($CF$6:$CF$30,_xlfn.AGGREGATE(15,6,ROW($CF$6:$CF$30)/($CF$6:$CF$30<>\"\"),ROW(#REF!))-5),\"\")","v":""},"",null,{"$f":"IF(AND($B11=\"Moderado\",$C11=\"Desprezível\"),\"6MoDe\",\"\")","v":""},"",{"$f":"IFERROR(INDEX($CK$6:$CK$30,_xlfn.AGGREGATE(15,6,ROW($CK$6:$CK$30)/($CK$6:$CK$30<>\"\"),ROW(#REF!))-5),\"\")","v":""},"",null,{"$f":"IF(AND($B11=\"Baixo\",$C11=\"Muito Alto\"),\"6BaMu\",\"\")","v":""},"",{"$f":"IFERROR(INDEX($CP$6:$CP$30,_xlfn.AGGREGATE(15,6,ROW($CP$6:$CP$30)/($CP$6:$CP$30<>\"\"),ROW(#REF!))-5),\"\")","v":""},"",null,{"$f":"IF(AND($B11=\"Baixo\",$C11=\"Alto\"),\"6BaAl\",\"\")","v":""},"",{"$f":"IFERROR(INDEX($CU$6:$CU$30,_xlfn.AGGREGATE(15,6,ROW($CU$6:$CU$30)/($CU$6:$CU$30<>\"\"),ROW(#REF!))-5),\"\")","v":""},"",null,{"$f":"IF(AND($B11=\"Baixo\",$C11=\"Moderado\"),\"6BaMo\",\"\")","v":""},"",{"$f":"IFERROR(INDEX($CZ$6:$CZ$30,_xlfn.AGGREGATE(15,6,ROW($CZ$6:$CZ$30)/($CZ$6:$CZ$30<>\"\"),ROW(#REF!))-5),\"\")","v":""},"",null,{"$f":"IF(AND($B11=\"Baixo\",$C11=\"Baixo\"),\"6BaBa\",\"\")","v":""},"",{"$f":"IFERROR(INDEX($DE$6:$DE$30,_xlfn.AGGREGATE(15,6,ROW($DE$6:$DE$30)/($DE$6:$DE$30<>\"\"),ROW(#REF!))-5),\"\")","v":""},"",null,{"$f":"IF(AND($B11=\"Baixo\",$C11=\"Desprezível\"),\"6BaDe\",\"\")","v":""},"",{"$f":"IFERROR(INDEX($DJ$6:$DJ$30,_xlfn.AGGREGATE(15,6,ROW($DJ$6:$DJ$30)/($DJ$6:$DJ$30<>\"\"),ROW(#REF!))-5),\"\")","v":""},"",null,{"$f":"IF(AND($B11=\"Desprezível\",$C11=\"Muito Alto\"),\"6DeMu\",\"\")","v":""},"",{"$f":"IFERROR(INDEX($DO$6:$DO$10,_xlfn.AGGREGATE(15,6,ROW($DO$6:$DO$10)/($DO$6:$DO$10<>\"\"),ROW(#REF!))-5),\"\")","v":""},"",null,{"$f":"IF(AND($B11=\"Desprezível\",$C11=\"Alto\"),\"6DeAl\",\"\")","v":""},"",{"$f":"IFERROR(INDEX($DT$6:$DT$30,_xlfn.AGGREGATE(15,6,ROW($DT$6:$DT$30)/($DT$6:$DT$30<>\"\"),ROW(#REF!))-5),\"\")","v":""},"",null,{"$f":"IF(AND($B11=\"Desprezível\",$C11=\"Moderado\"),\"6DeMo\",\"\")","v":""},"",{"$f":"IFERROR(INDEX($DY$6:$DY$30,_xlfn.AGGREGATE(15,6,ROW($DY$6:$DY$30)/($DY$6:$DY$30<>\"\"),ROW(#REF!))-5),\"\")","v":""},"",null,{"$f":"IF(AND($B11=\"Desprezível\",$C11=\"Baixo\"),\"6DeBa\",\"\")","v":""},"",{"$f":"IFERROR(INDEX($ED$6:$ED$30,_xlfn.AGGREGATE(15,6,ROW($ED$6:$ED$30)/($ED$6:$ED$30<>\"\"),ROW(#REF!))-5),\"\")","v":""},"",null,{"$f":"IF(AND($B11=\"Desprezível\",$C11=\"Desprezível\"),\"6DeDe\",\"\")","v":""},"",{"$f":"IFERROR(INDEX($EI$6:$EI$30,_xlfn.AGGREGATE(15,6,ROW($EI$6:$EI$30)/($EI$6:$EI$30<>\"\"),ROW(#REF!))-5),\"\")","v":""},""]
["GGG","Alto","Alto",null,null,null,null,null,null,null,null,null,null,null,null,null,null,null,{"$f":"IF(AND($B12=\"Muito Alto\",$C12=\"Muito Alto\"),\"7MuMu\",\"\")","v":""},"",{"$f":"IFERROR(INDEX($S$6:$S$10,_xlfn.AGGREGATE(15,6,ROW($S$6:$S$10)/($S$6:$S$10<>\"\"),ROW(#REF!))-5),\"\")","v":""},"",null,{"$f":"IF(AND($B12=\"Muito Alto\",$C12=\"Alto\"),\"7MuAl\",\"\")","v":""},"",{"$f":"IFERROR(INDEX($X$6:$X$30,_xlfn.AGGREGATE(15,6,ROW($X$6:$X$30)/($X$6:$X$30<>\"\"),ROW(#REF!))-5),\"\")","v":""},"",null,{"$f":"IF(AND($B12=\"Muito Alto\",$C12=\"Moderado\"),\"7MuMo\",\"\")","v":""},"",{"$f":"IFERROR(INDEX($AC$6:$AC$30,_xlfn.AGGREGATE(15,6,ROW($AC$6:$AC$30)/($AC$6:$AC$30<>\"\"),ROW(#REF!))-5),\"\")","v":""},"",null,{"$f":"IF(AND($B12=\"Muito Alto\",$C12=\"Baixo\"),\"7MuBa\",\"\")","v":""},"",{"$f":"IFERROR(INDEX($AH$6:$AH$30,_xlfn.AGGREGATE(15,6,ROW($AH$6:$AH$30)/($AH$6:$AH$30<>\"\"),ROW(#REF!))-5),\"\")","v":""},"",null,{"$f":"IF(AND($B12=\"Muito Alto\",$C12=\"Desprezível\"),\"7MuDe\",\"\")","v":""},"",{"$f":"IFERROR(INDEX($AM$6:$AM$30,_xlfn.AGGREGATE(15,6,ROW($AM$6:$AM$30)/($AM$6:$AM$30<>\"\"),ROW(#REF!))-5),\"\")","v":""},"",null,{"$f":"IF(AND($B12=\"Alto\",$C12=\"Muito Alto\"),\"7AlMu\",\"\")","v":""},"",{"$f":"IFERROR(INDEX($AR$6:$AR$10,_xlfn.AGGREGATE(15,6,ROW($AR$6:$AR$10)/($AR$6:$AR$10<>\"\"),ROW(#REF!))-5),\"\")","v":""},"",null,{"$f":"IF(AND($B12=\"Alto\",$C12=\"Alto\"),\"7AlAl\",\"\")","v":"7AlAl"},"",{"$f":"IFERROR(INDEX($AW$6:$AW$30,_xlfn.AGGREGATE(15,6,ROW($AW$6:$AW$30)/($AW$6:$AW$30<>\"\"),ROW(#REF!))-5),\"\")","v":""},"",null,{"$f":"IF(AND($B12=\"Alto\",$C12=\"Moderado\"),\"7AlMo\",\"\")","v":""},"",{"$f":"IFERROR(INDEX($BB$6:$BB$30,_xlfn.AGGREGATE(15,6,ROW($BB$6:$BB$30)/($BB$6:$BB$30<>\"\"),ROW(#REF!))-5),\"\")","v":""},"",null,{"$f":"IF(AND($B12=\"Alto\",$C12=\"Baixo\"),\"7AlBa\",\"\")","v":""},"",{"$f":"IFERROR(INDEX($BG$6:$BG$30,_xlfn.AGGREGATE(15,6,ROW($BG$6:$BG$30)/($BG$6:$BG$30<>\"\"),ROW(#REF!))-5),\"\")","v":""},"",null,{"$f":"IF(AND($B12=\"Alto\",$C12=\"Desprezível\"),\"7AlDe\",\"\")","v":""},"",{"$f":"IFERROR(INDEX($BL$6:$BL$30,_xlfn.AGGREGATE(15,6,ROW($BL$6:$BL$30)/($BL$6:$BL$30<>\"\"),ROW(#REF!))-5),\"\")","v":""},"",null,{"$f":"IF(AND($B12=\"Moderado\",$C12=\"Muito Alto\"),\"7MoMu\",\"\")","v":""},"",{"$f":"IFERROR(INDEX($BQ$6:$BQ$10,_xlfn.AGGREGATE(15,6,ROW($BQ$6:$BQ$10)/($BQ$6:$BQ$10<>\"\"),ROW(#REF!))-5),\"\")","v":""},"",null,{"$f":"IF(AND($B12=\"Moderado\",$C12=\"Alto\"),\"7MoAl\",\"\")","v":""},"",{"$f":"IFERROR(INDEX($BV$6:$BV$30,_xlfn.AGGREGATE(15,6,ROW($BV$6:$BV$30)/($BV$6:$BV$30<>\"\"),ROW(#REF!))-5),\"\")","v":""},"",null,{"$f":"IF(AND($B12=\"Moderado\",$C12=\"Moderado\"),\"7MoMo\",\"\")","v":""},"",{"$f":"IFERROR(INDEX($CA$6:$CA$30,_xlfn.AGGREGATE(15,6,ROW($CA$6:$CA$30)/($CA$6:$CA$30<>\"\"),ROW(#REF!))-5),\"\")","v":""},"",null,{"$f":"IF(AND($B12=\"Moderado\",$C12=\"Baixo\"),\"7MoBa\",\"\")","v":""},"",{"$f":"IFERROR(INDEX($CF$6:$CF$30,_xlfn.AGGREGATE(15,6,ROW($CF$6:$CF$30)/($CF$6:$CF$30<>\"\"),ROW(#REF!))-5),\"\")","v":""},"",null,{"$f":"IF(AND($B12=\"Moderado\",$C12=\"Desprezível\"),\"7MoDe\",\"\")","v":""},"",{"$f":"IFERROR(INDEX($CK$6:$CK$30,_xlfn.AGGREGATE(15,6,ROW($CK$6:$CK$30)/($CK$6:$CK$30<>\"\"),ROW(#REF!))-5),\"\")","v":""},"",null,{"$f":"IF(AND($B12=\"Baixo\",$C12=\"Muito Alto\"),\"7BaMu\",\"\")","v":""},"",{"$f":"IFERROR(INDEX($CP$6:$CP$30,_xlfn.AGGREGATE(15,6,ROW($CP$6:$CP$30)/($CP$6:$CP$30<>\"\"),ROW(#REF!))-5),\"\")","v":""},"",null,{"$f":"IF(AND($B12=\"Baixo\",$C12=\"Alto\"),\"7BaAl\",\"\")","v":""},"",{"$f":"IFERROR(INDEX($CU$6:$CU$30,_xlfn.AGGREGATE(15,6,ROW($CU$6:$CU$30)/($CU$6:$CU$30<>\"\"),ROW(#REF!))-5),\"\")","v":""},"",null,{"$f":"IF(AND($B12=\"Baixo\",$C12=\"Moderado\"),\"7BaMo\",\"\")","v":""},"",{"$f":"IFERROR(INDEX($CZ$6:$CZ$30,_xlfn.AGGREGATE(15,6,ROW($CZ$6:$CZ$30)/($CZ$6:$CZ$30<>\"\"),ROW(#REF!))-5),\"\")","v":""},"",null,{"$f":"IF(AND($B12=\"Baixo\",$C12=\"Baixo\"),\"7BaBa\",\"\")","v":""},"",{"$f":"IFERROR(INDEX($DE$6:$DE$30,_xlfn.AGGREGATE(15,6,ROW($DE$6:$DE$30)/($DE$6:$DE$30<>\"\"),ROW(#REF!))-5),\"\")","v":""},"",null,{"$f":"IF(AND($B12=\"Baixo\",$C12=\"Desprezível\"),\"7BaDe\",\"\")","v":""},"",{"$f":"IFERROR(INDEX($DJ$6:$DJ$30,_xlfn.AGGREGATE(15,6,ROW($DJ$6:$DJ$30)/($DJ$6:$DJ$30<>\"\"),ROW(#REF!))-5),\"\")","v":""},"",null,{"$f":"IF(AND($B12=\"Desprezível\",$C12=\"Muito Alto\"),\"7DeMu\",\"\")","v":""},"",{"$f":"IFERROR(INDEX($DO$6:$DO$10,_xlfn.AGGREGATE(15,6,ROW($DO$6:$DO$10)/($DO$6:$DO$10<>\"\"),ROW(#REF!))-5),\"\")","v":""},"",null,{"$f":"IF(AND($B12=\"Desprezível\",$C12=\"Alto\"),\"7DeAl\",\"\")","v":""},"",{"$f":"IFERROR(INDEX($DT$6:$DT$30,_xlfn.AGGREGATE(15,6,ROW($DT$6:$DT$30)/($DT$6:$DT$30<>\"\"),ROW(#REF!))-5),\"\")","v":""},"",null,{"$f":"IF(AND($B12=\"Desprezível\",$C12=\"Moderado\"),\"7DeMo\",\"\")","v":""},"",{"$f":"IFERROR(INDEX($DY$6:$DY$30,_xlfn.AGGREGATE(15,6,ROW($DY$6:$DY$30)/($DY$6:$DY$30<>\"\"),ROW(#REF!))-5),\"\")","v":""},"",null,{"$f":"IF(AND($B12=\"Desprezível\",$C12=\"Baixo\"),\"7DeBa\",\"\")","v":""},"",{"$f":"IFERROR(INDEX($ED$6:$ED$30,_xlfn.AGGREGATE(15,6,ROW($ED$6:$ED$30)/($ED$6:$ED$30<>\"\"),ROW(#REF!))-5),\"\")","v":""},"",null,{"$f":"IF(AND($B12=\"Desprezível\",$C12=\"Desprezível\"),\"7DeDe\",\"\")","v":""},"",{"$f":"IFERROR(INDEX($EI$6:$EI$30,_xlfn.AGGREGATE(15,6,ROW($EI$6:$EI$30)/($EI$6:$EI$30<>\"\"),ROW(#REF!))-5),\"\")","v":""},""]
["HHH","Alto","Moderado",null,null,null,null,null,null,null,null,null,null,null,null,null,null,null,{"$f":"IF(AND($B13=\"Muito Alto\",$C13=\"Muito Alto\"),\"8MuMu\",\"\")","v":""},"",{"$f":"IFERROR(INDEX($S$6:$S$10,_xlfn.AGGREGATE(15,6,ROW($S$6:$S$10)/($S$6:$S$10<>\"\"),ROW(#REF!))-5),\"\")","v":""},"",null,{"$f":"IF(AND($B13=\"Muito Alto\",$C13=\"Alto\"),\"8MuAl\",\"\")","v":""},"",{"$f":"IFERROR(INDEX($X$6:$X$30,_xlfn.AGGREGATE(15,6,ROW($X$6:$X$30)/($X$6:$X$30<>\"\"),ROW(#REF!))-5),\"\")","v":""},"",null,{"$f":"IF(AND($B13=\"Muito Alto\",$C13=\"Moderado\"),\"8MuMo\",\"\")","v":""},"",{"$f":"IFERROR(INDEX($AC$6:$AC$30,_xlfn.AGGREGATE(15,6,ROW($AC$6:$AC$30)/($AC$6:$AC$30<>\"\"),ROW(#REF!))-5),\"\")","v":""},"",null,{"$f":"IF(AND($B13=\"Muito Alto\",$C13=\"Baixo\"),\"8MuBa\",\"\")","v":""},"",{"$f":"IFERROR(INDEX($AH$6:$AH$30,_xlfn.AGGREGATE(15,6,ROW($AH$6:$AH$30)/($AH$6:$AH$30<>\"\"),ROW(#REF!))-5),\"\")","v":""},"",null,{"$f":"IF(AND($B13=\"Muito Alto\",$C13=\"Desprezível\"),\"8MuDe\",\"\")","v":""},"",{"$f":"IFERROR(INDEX($AM$6:$AM$30,_xlfn.AGGREGATE(15,6,ROW($AM$6:$AM$30)/($AM$6:$AM$30<>\"\"),ROW(#REF!))-5),\"\")","v":""},"",null,{"$f":"IF(AND($B13=\"Alto\",$C13=\"Muito Alto\"),\"8AlMu\",\"\")","v":""},"",{"$f":"IFERROR(INDEX($AR$6:$AR$10,_xlfn.AGGREGATE(15,6,ROW($AR$6:$AR$10)/($AR$6:$AR$10<>\"\"),ROW(#REF!))-5),\"\")","v":""},"",null,{"$f":"IF(AND($B13=\"Alto\",$C13=\"Alto\"),\"8AlAl\",\"\")","v":""},"",{"$f":"IFERROR(INDEX($AW$6:$AW$30,_xlfn.AGGREGATE(15,6,ROW($AW$6:$AW$30)/($AW$6:$AW$30<>\"\"),ROW(#REF!))-5),\"\")","v":""},"",null,{"$f":"IF(AND($B13=\"Alto\",$C13=\"Moderado\"),\"8AlMo\",\"\")","v":"8AlMo"},"",{"$f":"IFERROR(INDEX($BB$6:$BB$30,_xlfn.AGGREGATE(15,6,ROW($BB$6:$BB$30)/($BB$6:$BB$30<>\"\"),ROW(#REF!))-5),\"\")","v":""},"",null,{"$f":"IF(AND($B13=\"Alto\",$C13=\"Baixo\"),\"8AlBa\",\"\")","v":""},"",{"$f":"IFERROR(INDEX($BG$6:$BG$30,_xlfn.AGGREGATE(15,6,ROW($BG$6:$BG$30)/($BG$6:$BG$30<>\"\"),ROW(#REF!))-5),\"\")","v":""},"",null,{"$f":"IF(AND($B13=\"Alto\",$C13=\"Desprezível\"),\"8AlDe\",\"\")","v":""},"",{"$f":"IFERROR(INDEX($BL$6:$BL$30,_xlfn.AGGREGATE(15,6,ROW($BL$6:$BL$30)/($BL$6:$BL$30<>\"\"),ROW(#REF!))-5),\"\")","v":""},"",null,{"$f":"IF(AND($B13=\"Moderado\",$C13=\"Muito Alto\"),\"8MoMu\",\"\")","v":""},"",{"$f":"IFERROR(INDEX($BQ$6:$BQ$10,_xlfn.AGGREGATE(15,6,ROW($BQ$6:$BQ$10)/($BQ$6:$BQ$10<>\"\"),ROW(#REF!))-5),\"\")","v":""},"",null,{"$f":"IF(AND($B13=\"Moderado\",$C13=\"Alto\"),\"8MoAl\",\"\")","v":""},"",{"$f":"IFERROR(INDEX($BV$6:$BV$30,_xlfn.AGGREGATE(15,6,ROW($BV$6:$BV$30)/($BV$6:$BV$30<>\"\"),ROW(#REF!))-5),\"\")","v":""},"",null,{"$f":"IF(AND($B13=\"Moderado\",$C13=\"Moderado\"),\"8MoMo\",\"\")","v":""},"",{"$f":"IFERROR(INDEX($CA$6:$CA$30,_xlfn.AGGREGATE(15,6,ROW($CA$6:$CA$30)/($CA$6:$CA$30<>\"\"),ROW(#REF!))-5),\"\")","v":""},"",null,{"$f":"IF(AND($B13=\"Moderado\",$C13=\"Baixo\"),\"8MoBa\",\"\")","v":""},"",{"$f":"IFERROR(INDEX($CF$6:$CF$30,_xlfn.AGGREGATE(15,6,ROW($CF$6:$CF$30)/($CF$6:$CF$30<>\"\"),ROW(#REF!))-5),\"\")","v":""},"",null,{"$f":"IF(AND($B13=\"Moderado\",$C13=\"Desprezível\"),\"8MoDe\",\"\")","v":""},"",{"$f":"IFERROR(INDEX($CK$6:$CK$30,_xlfn.AGGREGATE(15,6,ROW($CK$6:$CK$30)/($CK$6:$CK$30<>\"\"),ROW(#REF!))-5),\"\")","v":""},"",null,{"$f":"IF(AND($B13=\"Baixo\",$C13=\"Muito Alto\"),\"8BaMu\",\"\")","v":""},"",{"$f":"IFERROR(INDEX($CP$6:$CP$30,_xlfn.AGGREGATE(15,6,ROW($CP$6:$CP$30)/($CP$6:$CP$30<>\"\"),ROW(#REF!))-5),\"\")","v":""},"",null,{"$f":"IF(AND($B13=\"Baixo\",$C13=\"Alto\"),\"8BaAl\",\"\")","v":""},"",{"$f":"IFERROR(INDEX($CU$6:$CU$30,_xlfn.AGGREGATE(15,6,ROW($CU$6:$CU$30)/($CU$6:$CU$30<>\"\"),ROW(#REF!))-5),\"\")","v":""},"",null,{"$f":"IF(AND($B13=\"Baixo\",$C13=\"Moderado\"),\"8BaMo\",\"\")","v":""},"",{"$f":"IFERROR(INDEX($CZ$6:$CZ$30,_xlfn.AGGREGATE(15,6,ROW($CZ$6:$CZ$30)/($CZ$6:$CZ$30<>\"\"),ROW(#REF!))-5),\"\")","v":""},"",null,{"$f":"IF(AND($B13=\"Baixo\",$C13=\"Baixo\"),\"8BaBa\",\"\")","v":""},"",{"$f":"IFERROR(INDEX($DE$6:$DE$30,_xlfn.AGGREGATE(15,6,ROW($DE$6:$DE$30)/($DE$6:$DE$30<>\"\"),ROW(#REF!))-5),\"\")","v":""},"",null,{"$f":"IF(AND($B13=\"Baixo\",$C13=\"Desprezível\"),\"8BaDe\",\"\")","v":""},"",{"$f":"IFERROR(INDEX($DJ$6:$DJ$30,_xlfn.AGGREGATE(15,6,ROW($DJ$6:$DJ$30)/($DJ$6:$DJ$30<>\"\"),ROW(#REF!))-5),\"\")","v":""},"",null,{"$f":"IF(AND($B13=\"Desprezível\",$C13=\"Muito Alto\"),\"8DeMu\",\"\")","v":""},"",{"$f":"IFERROR(INDEX($DO$6:$DO$10,_xlfn.AGGREGATE(15,6,ROW($DO$6:$DO$10)/($DO$6:$DO$10<>\"\"),ROW(#REF!))-5),\"\")","v":""},"",null,{"$f":"IF(AND($B13=\"Desprezível\",$C13=\"Alto\"),\"8DeAl\",\"\")","v":""},"",{"$f":"IFERROR(INDEX($DT$6:$DT$30,_xlfn.AGGREGATE(15,6,ROW($DT$6:$DT$30)/($DT$6:$DT$30<>\"\"),ROW(#REF!))-5),\"\")","v":""},"",null,{"$f":"IF(AND($B13=\"Desprezível\",$C13=\"Moderado\"),\"8DeMo\",\"\")","v":""},"",{"$f":"IFERROR(INDEX($DY$6:$DY$30,_xlfn.AGGREGATE(15,6,ROW($DY$6:$DY$30)/($DY$6:$DY$30<>\"\"),ROW(#REF!))-5),\"\")","v":""},"",null,{"$f":"IF(AND($B13=\"Desprezível\",$C13=\"Baixo\"),\"8DeBa\",\"\")","v":""},"",{"$f":"IFERROR(INDEX($ED$6:$ED$30,_xlfn.AGGREGATE(15,6,ROW($ED$6:$ED$30)/($ED$6:$ED$30<>\"\"),ROW(#REF!))-5),\"\")","v":""},"",null,{"$f":"IF(AND($B13=\"Desprezível\",$C13=\"Desprezível\"),\"8DeDe\",\"\")","v":""},"",{"$f":"IFERROR(INDEX($EI$6:$EI$30,_xlfn.AGGREGATE(15,6,ROW($EI$6:$EI$30)/($EI$6:$EI$30<>\"\"),ROW(#REF!))-5),\"\")","v":""},""]
["III","Alto","Baixo",null,null,null,null,null,null,null,null,null,null,null,null,null,null,null,{"$f":"IF(AND($B14=\"Muito Alto\",$C14=\"Muito Alto\"),\"9MuMu\",\"\")","v":""},"",{"$f":"IFERROR(INDEX($S$6:$S$10,_xlfn.AGGREGATE(15,6,ROW($S$6:$S$10)/($S$6:$S$10<>\"\"),ROW(#REF!))-5),\"\")","v":""},"",null,{"$f":"IF(AND($B14=\"Muito Alto\",$C14=\"Alto\"),\"9MuAl\",\"\")","v":""},"",{"$f":"IFERROR(INDEX($X$6:$X$30,_xlfn.AGGREGATE(15,6,ROW($X$6:$X$30)/($X$6:$X$30<>\"\"),ROW(#REF!))-5),\"\")","v":""},"",null,{"$f":"IF(AND($B14=\"Muito Alto\",$C14=\"Moderado\"),\"9MuMo\",\"\")","v":""},"",{"$f":"IFERROR(INDEX($AC$6:$AC$30,_xlfn.AGGREGATE(15,6,ROW($AC$6:$AC$30)/($AC$6:$AC$30<>\"\"),ROW(#REF!))-5),\"\")","v":""},"",null,{"$f":"IF(AND($B14=\"Muito Alto\",$C14=\"Baixo\"),\"9MuBa\",\"\")","v":""},"",{"$f":"IFERROR(INDEX($AH$6:$AH$30,_xlfn.AGGREGATE(15,6,ROW($AH$6:$AH$30)/($AH$6:$AH$30<>\"\"),ROW(#REF!))-5),\"\")","v":""},"",null,{"$f":"IF(AND($B14=\"Muito Alto\",$C14=\"Desprezível\"),\"9MuDe\",\"\")","v":""},"",{"$f":"IFERROR(INDEX($AM$6:$AM$30,_xlfn.AGGREGATE(15,6,ROW($AM$6:$AM$30)/($AM$6:$AM$30<>\"\"),ROW(#REF!))-5),\"\")","v":""},"",null,{"$f":"IF(AND($B14=\"Alto\",$C14=\"Muito Alto\"),\"9AlMu\",\"\")","v":""},"",{"$f":"IFERROR(INDEX($AR$6:$AR$10,_xlfn.AGGREGATE(15,6,ROW($AR$6:$AR$10)/($AR$6:$AR$10<>\"\"),ROW(#REF!))-5),\"\")","v":""},"",null,{"$f":"IF(AND($B14=\"Alto\",$C14=\"Alto\"),\"9AlAl\",\"\")","v":""},"",{"$f":"IFERROR(INDEX($AW$6:$AW$30,_xlfn.AGGREGATE(15,6,ROW($AW$6:$AW$30)/($AW$6:$AW$30<>\"\"),ROW(#REF!))-5),\"\")","v":""},"",null,{"$f":"IF(AND($B14=\"Alto\",$C14=\"Moderado\"),\"9AlMo\",\"\")","v":""},"",{"$f":"IFERROR(INDEX($BB$6:$BB$30,_xlfn.AGGREGATE(15,6,ROW($BB$6:$BB$30)/($BB$6:$BB$30<>\"\"),ROW(#REF!))-5),\"\")","v":""},"",null,{"$f":"IF(AND($B14=\"Alto\",$C14=\"Baixo\"),\"9AlBa\",\"\")","v":"9AlBa"},"",{"$f":"IFERROR(INDEX($BG$6:$BG$30,_xlfn.AGGREGATE(15,6,ROW($BG$6:$BG$30)/($BG$6:$BG$30<>\"\"),ROW(#REF!))-5),\"\")","v":""},"",null,{"$f":"IF(AND($B14=\"Alto\",$C14=\"Desprezível\"),\"9AlDe\",\"\")","v":""},"",{"$f":"IFERROR(INDEX($BL$6:$BL$30,_xlfn.AGGREGATE(15,6,ROW($BL$6:$BL$30)/($BL$6:$BL$30<>\"\"),ROW(#REF!))-5),\"\")","v":""},"",null,{"$f":"IF(AND($B14=\"Moderado\",$C14=\"Muito Alto\"),\"9MoMu\",\"\")","v":""},"",{"$f":"IFERROR(INDEX($BQ$6:$BQ$10,_xlfn.AGGREGATE(15,6,ROW($BQ$6:$BQ$10)/($BQ$6:$BQ$10<>\"\"),ROW(#REF!))-5),\"\")","v":""},"",null,{"$f":"IF(AND($B14=\"Moderado\",$C14=\"Alto\"),\"9MoAl\",\"\")","v":""},"",{"$f":"IFERROR(INDEX($BV$6:$BV$30,_xlfn.AGGREGATE(15,6,ROW($BV$6:$BV$30)/($BV$6:$BV$30<>\"\"),ROW(#REF!))-5),\"\")","v":""},"",null,{"$f":"IF(AND($B14=\"Moderado\",$C14=\"Moderado\"),\"9MoMo\",\"\")","v":""},"",{"$f":"IFERROR(INDEX($CA$6:$CA$30,_xlfn.AGGREGATE(15,6,ROW($CA$6:$CA$30)/($CA$6:$CA$30<>\"\"),ROW(#REF!))-5),\"\")","v":""},"",null,{"$f":"IF(AND($B14=\"Moderado\",$C14=\"Baixo\"),\"9MoBa\",\"\")","v":""},"",{"$f":"IFERROR(INDEX($CF$6:$CF$30,_xlfn.AGGREGATE(15,6,ROW($CF$6:$CF$30)/($CF$6:$CF$30<>\"\"),ROW(#REF!))-5),\"\")","v":""},"",null,{"$f":"IF(AND($B14=\"Moderado\",$C14=\"Desprezível\"),\"9MoDe\",\"\")","v":""},"",{"$f":"IFERROR(INDEX($CK$6:$CK$30,_xlfn.AGGREGATE(15,6,ROW($CK$6:$CK$30)/($CK$6:$CK$30<>\"\"),ROW(#REF!))-5),\"\")","v":""},"",null,{"$f":"IF(AND($B14=\"Baixo\",$C14=\"Muito Alto\"),\"9BaMu\",\"\")","v":""},"",{"$f":"IFERROR(INDEX($CP$6:$CP$30,_xlfn.AGGREGATE(15,6,ROW($CP$6:$CP$30)/($CP$6:$CP$30<>\"\"),ROW(#REF!))-5),\"\")","v":""},"",null,{"$f":"IF(AND($B14=\"Baixo\",$C14=\"Alto\"),\"9BaAl\",\"\")","v":""},"",{"$f":"IFERROR(INDEX($CU$6:$CU$30,_xlfn.AGGREGATE(15,6,ROW($CU$6:$CU$30)/($CU$6:$CU$30<>\"\"),ROW(#REF!))-5),\"\")","v":""},"",null,{"$f":"IF(AND($B14=\"Baixo\",$C14=\"Moderado\"),\"9BaMo\",\"\")","v":""},"",{"$f":"IFERROR(INDEX($CZ$6:$CZ$30,_xlfn.AGGREGATE(15,6,ROW($CZ$6:$CZ$30)/($CZ$6:$CZ$30<>\"\"),ROW(#REF!))-5),\"\")","v":""},"",null,{"$f":"IF(AND($B14=\"Baixo\",$C14=\"Baixo\"),\"9BaBa\",\"\")","v":""},"",{"$f":"IFERROR(INDEX($DE$6:$DE$30,_xlfn.AGGREGATE(15,6,ROW($DE$6:$DE$30)/($DE$6:$DE$30<>\"\"),ROW(#REF!))-5),\"\")","v":""},"",null,{"$f":"IF(AND($B14=\"Baixo\",$C14=\"Desprezível\"),\"9BaDe\",\"\")","v":""},"",{"$f":"IFERROR(INDEX($DJ$6:$DJ$30,_xlfn.AGGREGATE(15,6,ROW($DJ$6:$DJ$30)/($DJ$6:$DJ$30<>\"\"),ROW(#REF!))-5),\"\")","v":""},"",null,{"$f":"IF(AND($B14=\"Desprezível\",$C14=\"Muito Alto\"),\"9DeMu\",\"\")","v":""},"",{"$f":"IFERROR(INDEX($DO$6:$DO$10,_xlfn.AGGREGATE(15,6,ROW($DO$6:$DO$10)/($DO$6:$DO$10<>\"\"),ROW(#REF!))-5),\"\")","v":""},"",null,{"$f":"IF(AND($B14=\"Desprezível\",$C14=\"Alto\"),\"9DeAl\",\"\")","v":""},"",{"$f":"IFERROR(INDEX($DT$6:$DT$30,_xlfn.AGGREGATE(15,6,ROW($DT$6:$DT$30)/($DT$6:$DT$30<>\"\"),ROW(#REF!))-5),\"\")","v":""},"",null,{"$f":"IF(AND($B14=\"Desprezível\",$C14=\"Moderado\"),\"9DeMo\",\"\")","v":""},"",{"$f":"IFERROR(INDEX($DY$6:$DY$30,_xlfn.AGGREGATE(15,6,ROW($DY$6:$DY$30)/($DY$6:$DY$30<>\"\"),ROW(#REF!))-5),\"\")","v":""},"",null,{"$f":"IF(AND($B14=\"Desprezível\",$C14=\"Baixo\"),\"9DeBa\",\"\")","v":""},"",{"$f":"IFERROR(INDEX($ED$6:$ED$30,_xlfn.AGGREGATE(15,6,ROW($ED$6:$ED$30)/($ED$6:$ED$30<>\"\"),ROW(#REF!))-5),\"\")","v":""},"",null,{"$f":"IF(AND($B14=\"Desprezível\",$C14=\"Desprezível\"),\"9DeDe\",\"\")","v":""},"",{"$f":"IFERROR(INDEX($EI$6:$EI$30,_xlfn.AGGREGATE(15,6,ROW($EI$6:$EI$30)/($EI$6:$EI$30<>\"\"),ROW(#REF!))-5),\"\")","v":""},""]
["JJJ","Alto","Desprezível",null,null,null,null,null,null,null,null,null,null,null,null,null,null,null,{"$f":"IF(AND($B15=\"Muito Alto\",$C15=\"Muito Alto\"),\"10MuMu\",\"\")","v":""},"",{"$f":"IFERROR(INDEX($S$6:$S$10,_xlfn.AGGREGATE(15,6,ROW($S$6:$S$10)/($S$6:$S$10<>\"\"),ROW(#REF!))-5),\"\")","v":""},"",null,{"$f":"IF(AND($B15=\"Muito Alto\",$C15=\"Alto\"),\"10MuAl\",\"\")","v":""},"",{"$f":"IFERROR(INDEX($X$6:$X$30,_xlfn.AGGREGATE(15,6,ROW($X$6:$X$30)/($X$6:$X$30<>\"\"),ROW(#REF!))-5),\"\")","v":""},"",null,{"$f":"IF(AND($B15=\"Muito Alto\",$C15=\"Moderado\"),\"10MuMo\",\"\")","v":""},"",{"$f":"IFERROR(INDEX($AC$6:$AC$30,_xlfn.AGGREGATE(15,6,ROW($AC$6:$AC$30)/($AC$6:$AC$30<>\"\"),ROW(#REF!))-5),\"\")","v":""},"",null,{"$f":"IF(AND($B15=\"Muito Alto\",$C15=\"Baixo\"),\"10MuBa\",\"\")","v":""},"",{"$f":"IFERROR(INDEX($AH$6:$AH$30,_xlfn.AGGREGATE(15,6,ROW($AH$6:$AH$30)/($AH$6:$AH$30<>\"\"),ROW(#REF!))-5),\"\")","v":""},"",null,{"$f":"IF(AND($B15=\"Muito Alto\",$C15=\"Desprezível\"),\"10MuDe\",\"\")","v":""},"",{"$f":"IFERROR(INDEX($AM$6:$AM$30,_xlfn.AGGREGATE(15,6,ROW($AM$6:$AM$30)/($AM$6:$AM$30<>\"\"),ROW(#REF!))-5),\"\")","v":""},"",null,{"$f":"IF(AND($B15=\"Alto\",$C15=\"Muito Alto\"),\"10AlMu\",\"\")","v":""},"",{"$f":"IFERROR(INDEX($AR$6:$AR$10,_xlfn.AGGREGATE(15,6,ROW($AR$6:$AR$10)/($AR$6:$AR$10<>\"\"),ROW(#REF!))-5),\"\")","v":""},"",null,{"$f":"IF(AND($B15=\"Alto\",$C15=\"Alto\"),\"10AlAl\",\"\")","v":""},"",{"$f":"IFERROR(INDEX($AW$6:$AW$30,_xlfn.AGGREGATE(15,6,ROW($AW$6:$AW$30)/($AW$6:$AW$30<>\"\"),ROW(#REF!))-5),\"\")","v":""},"",null,{"$f":"IF(AND($B15=\"Alto\",$C15=\"Moderado\"),\"10AlMo\",\"\")","v":""},"",{"$f":"IFERROR(INDEX($BB$6:$BB$30,_xlfn.AGGREGATE(15,6,ROW($BB$6:$BB$30)/($BB$6:$BB$30<>\"\"),ROW(#REF!))-5),\"\")","v":""},"",null,{"$f":"IF(AND($B15=\"Alto\",$C15=\"Baixo\"),\"10AlBa\",\"\")","v":""},"",{"$f":"IFERROR(INDEX($BG$6:$BG$30,_xlfn.AGGREGATE(15,6,ROW($BG$6:$BG$30)/($BG$6:$BG$30<>\"\"),ROW(#REF!))-5),\"\")","v":""},"",null,{"$f":"IF(AND($B15=\"Alto\",$C15=\"Desprezível\"),\"10AlDe\",\"\")","v":"10AlDe"},"",{"$f":"IFERROR(INDEX($BL$6:$BL$30,_xlfn.AGGREGATE(15,6,ROW($BL$6:$BL$30)/($BL$6:$BL$30<>\"\"),ROW(#REF!))-5),\"\")","v":""},"",null,{"$f":"IF(AND($B15=\"Moderado\",$C15=\"Muito Alto\"),\"10MoMu\",\"\")","v":""},"",{"$f":"IFERROR(INDEX($BQ$6:$BQ$10,_xlfn.AGGREGATE(15,6,ROW($BQ$6:$BQ$10)/($BQ$6:$BQ$10<>\"\"),ROW(#REF!))-5),\"\")","v":""},"",null,{"$f":"IF(AND($B15=\"Moderado\",$C15=\"Alto\"),\"10MoAl\",\"\")","v":""},"",{"$f":"IFERROR(INDEX($BV$6:$BV$30,_xlfn.AGGREGATE(15,6,ROW($BV$6:$BV$30)/($BV$6:$BV$30<>\"\"),ROW(#REF!))-5),\"\")","v":""},"",null,{"$f":"IF(AND($B15=\"Moderado\",$C15=\"Moderado\"),\"10MoMo\",\"\")","v":""},"",{"$f":"IFERROR(INDEX($CA$6:$CA$30,_xlfn.AGGREGATE(15,6,ROW($CA$6:$CA$30)/($CA$6:$CA$30<>\"\"),ROW(#REF!))-5),\"\")","v":""},"",null,{"$f":"IF(AND($B15=\"Moderado\",$C15=\"Baixo\"),\"10MoBa\",\"\")","v":""},"",{"$f":"IFERROR(INDEX($CF$6:$CF$30,_xlfn.AGGREGATE(15,6,ROW($CF$6:$CF$30)/($CF$6:$CF$30<>\"\"),ROW(#REF!))-5),\"\")","v":""},"",null,{"$f":"IF(AND($B15=\"Moderado\",$C15=\"Desprezível\"),\"10MoDe\",\"\")","v":""},"",{"$f":"IFERROR(INDEX($CK$6:$CK$30,_xlfn.AGGREGATE(15,6,ROW($CK$6:$CK$30)/($CK$6:$CK$30<>\"\"),ROW(#REF!))-5),\"\")","v":""},"",null,{"$f":"IF(AND($B15=\"Baixo\",$C15=\"Muito Alto\"),\"10BaMu\",\"\")","v":""},"",{"$f":"IFERROR(INDEX($CP$6:$CP$30,_xlfn.AGGREGATE(15,6,ROW($CP$6:$CP$30)/($CP$6:$CP$30<>\"\"),ROW(#REF!))-5),\"\")","v":""},"",null,{"$f":"IF(AND($B15=\"Baixo\",$C15=\"Alto\"),\"10BaAl\",\"\")","v":""},"",{"$f":"IFERROR(INDEX($CU$6:$CU$30,_xlfn.AGGREGATE(15,6,ROW($CU$6:$CU$30)/($CU$6:$CU$30<>\"\"),ROW(#REF!))-5),\"\")","v":""},"",null,{"$f":"IF(AND($B15=\"Baixo\",$C15=\"Moderado\"),\"10BaMo\",\"\")","v":""},"",{"$f":"IFERROR(INDEX($CZ$6:$CZ$30,_xlfn.AGGREGATE(15,6,ROW($CZ$6:$CZ$30)/($CZ$6:$CZ$30<>\"\"),ROW(#REF!))-5),\"\")","v":""},"",null,{"$f":"IF(AND($B15=\"Baixo\",$C15=\"Baixo\"),\"10BaBa\",\"\")","v":""},"",{"$f":"IFERROR(INDEX($DE$6:$DE$30,_xlfn.AGGREGATE(15,6,ROW($DE$6:$DE$30)/($DE$6:$DE$30<>\"\"),ROW(#REF!))-5),\"\")","v":""},"",null,{"$f":"IF(AND($B15=\"Baixo\",$C15=\"Desprezível\"),\"10BaDe\",\"\")","v":""},"",{"$f":"IFERROR(INDEX($DJ$6:$DJ$30,_xlfn.AGGREGATE(15,6,ROW($DJ$6:$DJ$30)/($DJ$6:$DJ$30<>\"\"),ROW(#REF!))-5),\"\")","v":""},"",null,{"$f":"IF(AND($B15=\"Desprezível\",$C15=\"Muito Alto\"),\"10DeMu\",\"\")","v":""},"",{"$f":"IFERROR(INDEX($DO$6:$DO$10,_xlfn.AGGREGATE(15,6,ROW($DO$6:$DO$10)/($DO$6:$DO$10<>\"\"),ROW(#REF!))-5),\"\")","v":""},"",null,{"$f":"IF(AND($B15=\"Desprezível\",$C15=\"Alto\"),\"10DeAl\",\"\")","v":""},"",{"$f":"IFERROR(INDEX($DT$6:$DT$30,_xlfn.AGGREGATE(15,6,ROW($DT$6:$DT$30)/($DT$6:$DT$30<>\"\"),ROW(#REF!))-5),\"\")","v":""},"",null,{"$f":"IF(AND($B15=\"Desprezível\",$C15=\"Moderado\"),\"10DeMo\",\"\")","v":""},"",{"$f":"IFERROR(INDEX($DY$6:$DY$30,_xlfn.AGGREGATE(15,6,ROW($DY$6:$DY$30)/($DY$6:$DY$30<>\"\"),ROW(#REF!))-5),\"\")","v":""},"",null,{"$f":"IF(AND($B15=\"Desprezível\",$C15=\"Baixo\"),\"10DeBa\",\"\")","v":""},"",{"$f":"IFERROR(INDEX($ED$6:$ED$30,_xlfn.AGGREGATE(15,6,ROW($ED$6:$ED$30)/($ED$6:$ED$30<>\"\"),ROW(#REF!))-5),\"\")","v":""},"",null,{"$f":"IF(AND($B15=\"Desprezível\",$C15=\"Desprezível\"),\"10DeDe\",\"\")","v":""},"",{"$f":"IFERROR(INDEX($EI$6:$EI$30,_xlfn.AGGREGATE(15,6,ROW($EI$6:$EI$30)/($EI$6:$EI$30<>\"\"),ROW(#REF!))-5),\"\")","v":""},""]
["KKK","Moderado","Muito Alto",null,null,null,null,null,null,null,null,null,null,null,null,null,null,null,{"$f":"IF(AND($B16=\"Muito Alto\",$C16=\"Muito Alto\"),\"11MuMu\",\"\")","v":""},"",{"$f":"IFERROR(INDEX($S$6:$S$10,_xlfn.AGGREGATE(15,6,ROW($S$6:$S$10)/($S$6:$S$10<>\"\"),ROW(#REF!))-5),\"\")","v":""},"",null,{"$f":"IF(AND($B16=\"Muito Alto\",$C16=\"Alto\"),\"11MuAl\",\"\")","v":""},"",{"$f":"IFERROR(INDEX($X$6:$X$30,_xlfn.AGGREGATE(15,6,ROW($X$6:$X$30)/($X$6:$X$30<>\"\"),ROW(#REF!))-5),\"\")","v":""},"",null,{"$f":"IF(AND($B16=\"Muito Alto\",$C16=\"Moderado\"),\"11MuMo\",\"\")","v":""},"",{"$f":"IFERROR(INDEX($AC$6:$AC$30,_xlfn.AGGREGATE(15,6,ROW($AC$6:$AC$30)/($AC$6:$AC$30<>\"\"),ROW(#REF!))-5),\"\")","v":""},"",null,{"$f":"IF(AND($B16=\"Muito Alto\",$C16=\"Baixo\"),\"11MuBa\",\"\")","v":""},"",{"$f":"IFERROR(INDEX($AH$6:$AH$30,_xlfn.AGGREGATE(15,6,ROW($AH$6:$AH$30)/($AH$6:$AH$30<>\"\"),ROW(#REF!))-5),\"\")","v":""},"",null,{"$f":"IF(AND($B16=\"Muito Alto\",$C16=\"Desprezível\"),\"11MuDe\",\"\")","v":""},"",{"$f":"IFERROR(INDEX($AM$6:$AM$30,_xlfn.AGGREGATE(15,6,ROW($AM$6:$AM$30)/($AM$6:$AM$30<>\"\"),ROW(#REF!))-5),\"\")","v":""},"",null,{"$f":"IF(AND($B16=\"Alto\",$C16=\"Muito Alto\"),\"11AlMu\",\"\")","v":""},"",{"$f":"IFERROR(INDEX($AR$6:$AR$10,_xlfn.AGGREGATE(15,6,ROW($AR$6:$AR$10)/($AR$6:$AR$10<>\"\"),ROW(#REF!))-5),\"\")","v":""},"",null,{"$f":"IF(AND($B16=\"Alto\",$C16=\"Alto\"),\"11AlAl\",\"\")","v":""},"",{"$f":"IFERROR(INDEX($AW$6:$AW$30,_xlfn.AGGREGATE(15,6,ROW($AW$6:$AW$30)/($AW$6:$AW$30<>\"\"),ROW(#REF!))-5),\"\")","v":""},"",null,{"$f":"IF(AND($B16=\"Alto\",$C16=\"Moderado\"),\"11AlMo\",\"\")","v":""},"",{"$f":"IFERROR(INDEX($BB$6:$BB$30,_xlfn.AGGREGATE(15,6,ROW($BB$6:$BB$30)/($BB$6:$BB$30<>\"\"),ROW(#REF!))-5),\"\")","v":""},"",null,{"$f":"IF(AND($B16=\"Alto\",$C16=\"Baixo\"),\"11AlBa\",\"\")","v":""},"",{"$f":"IFERROR(INDEX($BG$6:$BG$30,_xlfn.AGGREGATE(15,6,ROW($BG$6:$BG$30)/($BG$6:$BG$30<>\"\"),ROW(#REF!))-5),\"\")","v":""},"",null,{"$f":"IF(AND($B16=\"Alto\",$C16=\"Desprezível\"),\"11AlDe\",\"\")","v":""},"",{"$f":"IFERROR(INDEX($BL$6:$BL$30,_xlfn.AGGREGATE(15,6,ROW($BL$6:$BL$30)/($BL$6:$BL$30<>\"\"),ROW(#REF!))-5),\"\")","v":""},"",null,{"$f":"IF(AND($B16=\"Moderado\",$C16=\"Muito Alto\"),\"11MoMu\",\"\")","v":"11MoMu"},"",{"$f":"IFERROR(INDEX($BQ$6:$BQ$10,_xlfn.AGGREGATE(15,6,ROW($BQ$6:$BQ$10)/($BQ$6:$BQ$10<>\"\"),ROW(#REF!))-5),\"\")","v":""},"",null,{"$f":"IF(AND($B16=\"Moderado\",$C16=\"Alto\"),\"11MoAl\",\"\")","v":""},"",{"$f":"IFERROR(INDEX($BV$6:$BV$30,_xlfn.AGGREGATE(15,6,ROW($BV$6:$BV$30)/($BV$6:$BV$30<>\"\"),ROW(#REF!))-5),\"\")","v":""},"",null,{"$f":"IF(AND($B16=\"Moderado\",$C16=\"Moderado\"),\"11MoMo\",\"\")","v":""},"",{"$f":"IFERROR(INDEX($CA$6:$CA$30,_xlfn.AGGREGATE(15,6,ROW($CA$6:$CA$30)/($CA$6:$CA$30<>\"\"),ROW(#REF!))-5),\"\")","v":""},"",null,{"$f":"IF(AND($B16=\"Moderado\",$C16=\"Baixo\"),\"11MoBa\",\"\")","v":""},"",{"$f":"IFERROR(INDEX($CF$6:$CF$30,_xlfn.AGGREGATE(15,6,ROW($CF$6:$CF$30)/($CF$6:$CF$30<>\"\"),ROW(#REF!))-5),\"\")","v":""},"",null,{"$f":"IF(AND($B16=\"Moderado\",$C16=\"Desprezível\"),\"11MoDe\",\"\")","v":""},"",{"$f":"IFERROR(INDEX($CK$6:$CK$30,_xlfn.AGGREGATE(15,6,ROW($CK$6:$CK$30)/($CK$6:$CK$30<>\"\"),ROW(#REF!))-5),\"\")","v":""},"",null,{"$f":"IF(AND($B16=\"Baixo\",$C16=\"Muito Alto\"),\"11BaMu\",\"\")","v":""},"",{"$f":"IFERROR(INDEX($CP$6:$CP$30,_xlfn.AGGREGATE(15,6,ROW($CP$6:$CP$30)/($CP$6:$CP$30<>\"\"),ROW(#REF!))-5),\"\")","v":""},"",null,{"$f":"IF(AND($B16=\"Baixo\",$C16=\"Alto\"),\"11BaAl\",\"\")","v":""},"",{"$f":"IFERROR(INDEX($CU$6:$CU$30,_xlfn.AGGREGATE(15,6,ROW($CU$6:$CU$30)/($CU$6:$CU$30<>\"\"),ROW(#REF!))-5),\"\")","v":""},"",null,{"$f":"IF(AND($B16=\"Baixo\",$C16=\"Moderado\"),\"11BaMo\",\"\")","v":""},"",{"$f":"IFERROR(INDEX($CZ$6:$CZ$30,_xlfn.AGGREGATE(15,6,ROW($CZ$6:$CZ$30)/($CZ$6:$CZ$30<>\"\"),ROW(#REF!))-5),\"\")","v":""},"",null,{"$f":"IF(AND($B16=\"Baixo\",$C16=\"Baixo\"),\"11BaBa\",\"\")","v":""},"",{"$f":"IFERROR(INDEX($DE$6:$DE$30,_xlfn.AGGREGATE(15,6,ROW($DE$6:$DE$30)/($DE$6:$DE$30<>\"\"),ROW(#REF!))-5),\"\")","v":""},"",null,{"$f":"IF(AND($B16=\"Baixo\",$C16=\"Desprezível\"),\"11BaDe\",\"\")","v":""},"",{"$f":"IFERROR(INDEX($DJ$6:$DJ$30,_xlfn.AGGREGATE(15,6,ROW($DJ$6:$DJ$30)/($DJ$6:$DJ$30<>\"\"),ROW(#REF!))-5),\"\")","v":""},"",null,{"$f":"IF(AND($B16=\"Desprezível\",$C16=\"Muito Alto\"),\"11DeMu\",\"\")","v":""},"",{"$f":"IFERROR(INDEX($DO$6:$DO$10,_xlfn.AGGREGATE(15,6,ROW($DO$6:$DO$10)/($DO$6:$DO$10<>\"\"),ROW(#REF!))-5),\"\")","v":""},"",null,{"$f":"IF(AND($B16=\"Desprezível\",$C16=\"Alto\"),\"11DeAl\",\"\")","v":""},"",{"$f":"IFERROR(INDEX($DT$6:$DT$30,_xlfn.AGGREGATE(15,6,ROW($DT$6:$DT$30)/($DT$6:$DT$30<>\"\"),ROW(#REF!))-5),\"\")","v":""},"",null,{"$f":"IF(AND($B16=\"Desprezível\",$C16=\"Moderado\"),\"11DeMo\",\"\")","v":""},"",{"$f":"IFERROR(INDEX($DY$6:$DY$30,_xlfn.AGGREGATE(15,6,ROW($DY$6:$DY$30)/($DY$6:$DY$30<>\"\"),ROW(#REF!))-5),\"\")","v":""},"",null,{"$f":"IF(AND($B16=\"Desprezível\",$C16=\"Baixo\"),\"11DeBa\",\"\")","v":""},"",{"$f":"IFERROR(INDEX($ED$6:$ED$30,_xlfn.AGGREGATE(15,6,ROW($ED$6:$ED$30)/($ED$6:$ED$30<>\"\"),ROW(#REF!))-5),\"\")","v":""},"",null,{"$f":"IF(AND($B16=\"Desprezível\",$C16=\"Desprezível\"),\"11DeDe\",\"\")","v":""},"",{"$f":"IFERROR(INDEX($EI$6:$EI$30,_xlfn.AGGREGATE(15,6,ROW($EI$6:$EI$30)/($EI$6:$EI$30<>\"\"),ROW(#REF!))-5),\"\")","v":""},""]
["LLL","Moderado","Alto",null,null,null,null,null,null,null,null,null,null,null,null,null,null,null,{"$f":"IF(AND($B17=\"Muito Alto\",$C17=\"Muito Alto\"),\"12MuMu\",\"\")","v":""},"",{"$f":"IFERROR(INDEX($S$6:$S$10,_xlfn.AGGREGATE(15,6,ROW($S$6:$S$10)/($S$6:$S$10<>\"\"),ROW(#REF!))-5),\"\")","v":""},"",null,{"$f":"IF(AND($B17=\"Muito Alto\",$C17=\"Alto\"),\"12MuAl\",\"\")","v":""},"",{"$f":"IFERROR(INDEX($X$6:$X$30,_xlfn.AGGREGATE(15,6,ROW($X$6:$X$30)/($X$6:$X$30<>\"\"),ROW(#REF!))-5),\"\")","v":""},"",null,{"$f":"IF(AND($B17=\"Muito Alto\",$C17=\"Moderado\"),\"12MuMo\",\"\")","v":""},"",{"$f":"IFERROR(INDEX($AC$6:$AC$30,_xlfn.AGGREGATE(15,6,ROW($AC$6:$AC$30)/($AC$6:$AC$30<>\"\"),ROW(#REF!))-5),\"\")","v":""},"",null,{"$f":"IF(AND($B17=\"Muito Alto\",$C17=\"Baixo\"),\"12MuBa\",\"\")","v":""},"",{"$f":"IFERROR(INDEX($AH$6:$AH$30,_xlfn.AGGREGATE(15,6,ROW($AH$6:$AH$30)/($AH$6:$AH$30<>\"\"),ROW(#REF!))-5),\"\")","v":""},"",null,{"$f":"IF(AND($B17=\"Muito Alto\",$C17=\"Desprezível\"),\"12MuDe\",\"\")","v":""},"",{"$f":"IFERROR(INDEX($AM$6:$AM$30,_xlfn.AGGREGATE(15,6,ROW($AM$6:$AM$30)/($AM$6:$AM$30<>\"\"),ROW(#REF!))-5),\"\")","v":""},"",null,{"$f":"IF(AND($B17=\"Alto\",$C17=\"Muito Alto\"),\"12AlMu\",\"\")","v":""},"",{"$f":"IFERROR(INDEX($AR$6:$AR$10,_xlfn.AGGREGATE(15,6,ROW($AR$6:$AR$10)/($AR$6:$AR$10<>\"\"),ROW(#REF!))-5),\"\")","v":""},"",null,{"$f":"IF(AND($B17=\"Alto\",$C17=\"Alto\"),\"12AlAl\",\"\")","v":""},"",{"$f":"IFERROR(INDEX($AW$6:$AW$30,_xlfn.AGGREGATE(15,6,ROW($AW$6:$AW$30)/($AW$6:$AW$30<>\"\"),ROW(#REF!))-5),\"\")","v":""},"",null,{"$f":"IF(AND($B17=\"Alto\",$C17=\"Moderado\"),\"12AlMo\",\"\")","v":""},"",{"$f":"IFERROR(INDEX($BB$6:$BB$30,_xlfn.AGGREGATE(15,6,ROW($BB$6:$BB$30)/($BB$6:$BB$30<>\"\"),ROW(#REF!))-5),\"\")","v":""},"",null,{"$f":"IF(AND($B17=\"Alto\",$C17=\"Baixo\"),\"12AlBa\",\"\")","v":""},"",{"$f":"IFERROR(INDEX($BG$6:$BG$30,_xlfn.AGGREGATE(15,6,ROW($BG$6:$BG$30)/($BG$6:$BG$30<>\"\"),ROW(#REF!))-5),\"\")","v":""},"",null,{"$f":"IF(AND($B17=\"Alto\",$C17=\"Desprezível\"),\"12AlDe\",\"\")","v":""},"",{"$f":"IFERROR(INDEX($BL$6:$BL$30,_xlfn.AGGREGATE(15,6,ROW($BL$6:$BL$30)/($BL$6:$BL$30<>\"\"),ROW(#REF!))-5),\"\")","v":""},"",null,{"$f":"IF(AND($B17=\"Moderado\",$C17=\"Muito Alto\"),\"12MoMu\",\"\")","v":""},"",{"$f":"IFERROR(INDEX($BQ$6:$BQ$10,_xlfn.AGGREGATE(15,6,ROW($BQ$6:$BQ$10)/($BQ$6:$BQ$10<>\"\"),ROW(#REF!))-5),\"\")","v":""},"",null,{"$f":"IF(AND($B17=\"Moderado\",$C17=\"Alto\"),\"12MoAl\",\"\")","v":"12MoAl"},"",{"$f":"IFERROR(INDEX($BV$6:$BV$30,_xlfn.AGGREGATE(15,6,ROW($BV$6:$BV$30)/($BV$6:$BV$30<>\"\"),ROW(#REF!))-5),\"\")","v":""},"",null,{"$f":"IF(AND($B17=\"Moderado\",$C17=\"Moderado\"),\"12MoMo\",\"\")","v":""},"",{"$f":"IFERROR(INDEX($CA$6:$CA$30,_xlfn.AGGREGATE(15,6,ROW($CA$6:$CA$30)/($CA$6:$CA$30<>\"\"),ROW(#REF!))-5),\"\")","v":""},"",null,{"$f":"IF(AND($B17=\"Moderado\",$C17=\"Baixo\"),\"12MoBa\",\"\")","v":""},"",{"$f":"IFERROR(INDEX($CF$6:$CF$30,_xlfn.AGGREGATE(15,6,ROW($CF$6:$CF$30)/($CF$6:$CF$30<>\"\"),ROW(#REF!))-5),\"\")","v":""},"",null,{"$f":"IF(AND($B17=\"Moderado\",$C17=\"Desprezível\"),\"12MoDe\",\"\")","v":""},"",{"$f":"IFERROR(INDEX($CK$6:$CK$30,_xlfn.AGGREGATE(15,6,ROW($CK$6:$CK$30)/($CK$6:$CK$30<>\"\"),ROW(#REF!))-5),\"\")","v":""},"",null,{"$f":"IF(AND($B17=\"Baixo\",$C17=\"Muito Alto\"),\"12BaMu\",\"\")","v":""},"",{"$f":"IFERROR(INDEX($CP$6:$CP$30,_xlfn.AGGREGATE(15,6,ROW($CP$6:$CP$30)/($CP$6:$CP$30<>\"\"),ROW(#REF!))-5),\"\")","v":""},"",null,{"$f":"IF(AND($B17=\"Baixo\",$C17=\"Alto\"),\"12BaAl\",\"\")","v":""},"",{"$f":"IFERROR(INDEX($CU$6:$CU$30,_xlfn.AGGREGATE(15,6,ROW($CU$6:$CU$30)/($CU$6:$CU$30<>\"\"),ROW(#REF!))-5),\"\")","v":""},"",null,{"$f":"IF(AND($B17=\"Baixo\",$C17=\"Moderado\"),\"12BaMo\",\"\")","v":""},"",{"$f":"IFERROR(INDEX($CZ$6:$CZ$30,_xlfn.AGGREGATE(15,6,ROW($CZ$6:$CZ$30)/($CZ$6:$CZ$30<>\"\"),ROW(#REF!))-5),\"\")","v":""},"",null,{"$f":"IF(AND($B17=\"Baixo\",$C17=\"Baixo\"),\"12BaBa\",\"\")","v":""},"",{"$f":"IFERROR(INDEX($DE$6:$DE$30,_xlfn.AGGREGATE(15,6,ROW($DE$6:$DE$30)/($DE$6:$DE$30<>\"\"),ROW(#REF!))-5),\"\")","v":""},"",null,{"$f":"IF(AND($B17=\"Baixo\",$C17=\"Desprezível\"),\"12BaDe\",\"\")","v":""},"",{"$f":"IFERROR(INDEX($DJ$6:$DJ$30,_xlfn.AGGREGATE(15,6,ROW($DJ$6:$DJ$30)/($DJ$6:$DJ$30<>\"\"),ROW(#REF!))-5),\"\")","v":""},"",null,{"$f":"IF(AND($B17=\"Desprezível\",$C17=\"Muito Alto\"),\"12DeMu\",\"\")","v":""},"",{"$f":"IFERROR(INDEX($DO$6:$DO$10,_xlfn.AGGREGATE(15,6,ROW($DO$6:$DO$10)/($DO$6:$DO$10<>\"\"),ROW(#REF!))-5),\"\")","v":""},"",null,{"$f":"IF(AND($B17=\"Desprezível\",$C17=\"Alto\"),\"12DeAl\",\"\")","v":""},"",{"$f":"IFERROR(INDEX($DT$6:$DT$30,_xlfn.AGGREGATE(15,6,ROW($DT$6:$DT$30)/($DT$6:$DT$30<>\"\"),ROW(#REF!))-5),\"\")","v":""},"",null,{"$f":"IF(AND($B17=\"Desprezível\",$C17=\"Moderado\"),\"12DeMo\",\"\")","v":""},"",{"$f":"IFERROR(INDEX($DY$6:$DY$30,_xlfn.AGGREGATE(15,6,ROW($DY$6:$DY$30)/($DY$6:$DY$30<>\"\"),ROW(#REF!))-5),\"\")","v":""},"",null,{"$f":"IF(AND($B17=\"Desprezível\",$C17=\"Baixo\"),\"12DeBa\",\"\")","v":""},"",{"$f":"IFERROR(INDEX($ED$6:$ED$30,_xlfn.AGGREGATE(15,6,ROW($ED$6:$ED$30)/($ED$6:$ED$30<>\"\"),ROW(#REF!))-5),\"\")","v":""},"",null,{"$f":"IF(AND($B17=\"Desprezível\",$C17=\"Desprezível\"),\"12DeDe\",\"\")","v":""},"",{"$f":"IFERROR(INDEX($EI$6:$EI$30,_xlfn.AGGREGATE(15,6,ROW($EI$6:$EI$30)/($EI$6:$EI$30<>\"\"),ROW(#REF!))-5),\"\")","v":""},""]
["MMM","Moderado","Moderado",null,null,null,null,null,null,null,null,null,null,null,null,null,null,null,{"$f":"IF(AND($B18=\"Muito Alto\",$C18=\"Muito Alto\"),\"13MuMu\",\"\")","v":""},"",{"$f":"IFERROR(INDEX($S$6:$S$10,_xlfn.AGGREGATE(15,6,ROW($S$6:$S$10)/($S$6:$S$10<>\"\"),ROW(#REF!))-5),\"\")","v":""},"",null,{"$f":"IF(AND($B18=\"Muito Alto\",$C18=\"Alto\"),\"13MuAl\",\"\")","v":""},"",{"$f":"IFERROR(INDEX($X$6:$X$30,_xlfn.AGGREGATE(15,6,ROW($X$6:$X$30)/($X$6:$X$30<>\"\"),ROW(#REF!))-5),\"\")","v":""},"",null,{"$f":"IF(AND($B18=\"Muito Alto\",$C18=\"Moderado\"),\"13MuMo\",\"\")","v":""},"",{"$f":"IFERROR(INDEX($AC$6:$AC$30,_xlfn.AGGREGATE(15,6,ROW($AC$6:$AC$30)/($AC$6:$AC$30<>\"\"),ROW(#REF!))-5),\"\")","v":""},"",null,{"$f":"IF(AND($B18=\"Muito Alto\",$C18=\"Baixo\"),\"13MuBa\",\"\")","v":""},"",{"$f":"IFERROR(INDEX($AH$6:$AH$30,_xlfn.AGGREGATE(15,6,ROW($AH$6:$AH$30)/($AH$6:$AH$30<>\"\"),ROW(#REF!))-5),\"\")","v":""},"",null,{"$f":"IF(AND($B18=\"Muito Alto\",$C18=\"Desprezível\"),\"13MuDe\",\"\")","v":""},"",{"$f":"IFERROR(INDEX($AM$6:$AM$30,_xlfn.AGGREGATE(15,6,ROW($AM$6:$AM$30)/($AM$6:$AM$30<>\"\"),ROW(#REF!))-5),\"\")","v":""},"",null,{"$f":"IF(AND($B18=\"Alto\",$C18=\"Muito Alto\"),\"13AlMu\",\"\")","v":""},"",{"$f":"IFERROR(INDEX($AR$6:$AR$10,_xlfn.AGGREGATE(15,6,ROW($AR$6:$AR$10)/($AR$6:$AR$10<>\"\"),ROW(#REF!))-5),\"\")","v":""},"",null,{"$f":"IF(AND($B18=\"Alto\",$C18=\"Alto\"),\"13AlAl\",\"\")","v":""},"",{"$f":"IFERROR(INDEX($AW$6:$AW$30,_xlfn.AGGREGATE(15,6,ROW($AW$6:$AW$30)/($AW$6:$AW$30<>\"\"),ROW(#REF!))-5),\"\")","v":""},"",null,{"$f":"IF(AND($B18=\"Alto\",$C18=\"Moderado\"),\"13AlMo\",\"\")","v":""},"",{"$f":"IFERROR(INDEX($BB$6:$BB$30,_xlfn.AGGREGATE(15,6,ROW($BB$6:$BB$30)/($BB$6:$BB$30<>\"\"),ROW(#REF!))-5),\"\")","v":""},"",null,{"$f":"IF(AND($B18=\"Alto\",$C18=\"Baixo\"),\"13AlBa\",\"\")","v":""},"",{"$f":"IFERROR(INDEX($BG$6:$BG$30,_xlfn.AGGREGATE(15,6,ROW($BG$6:$BG$30)/($BG$6:$BG$30<>\"\"),ROW(#REF!))-5),\"\")","v":""},"",null,{"$f":"IF(AND($B18=\"Alto\",$C18=\"Desprezível\"),\"13AlDe\",\"\")","v":""},"",{"$f":"IFERROR(INDEX($BL$6:$BL$30,_xlfn.AGGREGATE(15,6,ROW($BL$6:$BL$30)/($BL$6:$BL$30<>\"\"),ROW(#REF!))-5),\"\")","v":""},"",null,{"$f":"IF(AND($B18=\"Moderado\",$C18=\"Muito Alto\"),\"13MoMu\",\"\")","v":""},"",{"$f":"IFERROR(INDEX($BQ$6:$BQ$10,_xlfn.AGGREGATE(15,6,ROW($BQ$6:$BQ$10)/($BQ$6:$BQ$10<>\"\"),ROW(#REF!))-5),\"\")","v":""},"",null,{"$f":"IF(AND($B18=\"Moderado\",$C18=\"Alto\"),\"13MoAl\",\"\")","v":""},"",{"$f":"IFERROR(INDEX($BV$6:$BV$30,_xlfn.AGGREGATE(15,6,ROW($BV$6:$BV$30)/($BV$6:$BV$30<>\"\"),ROW(#REF!))-5),\"\")","v":""},"",null,{"$f":"IF(AND($B18=\"Moderado\",$C18=\"Moderado\"),\"13MoMo\",\"\")","v":"13MoMo"},"",{"$f":"IFERROR(INDEX($CA$6:$CA$30,_xlfn.AGGREGATE(15,6,ROW($CA$6:$CA$30)/($CA$6:$CA$30<>\"\"),ROW(#REF!))-5),\"\")","v":""},"",null,{"$f":"IF(AND($B18=\"Moderado\",$C18=\"Baixo\"),\"13MoBa\",\"\")","v":""},"",{"$f":"IFERROR(INDEX($CF$6:$CF$30,_xlfn.AGGREGATE(15,6,ROW($CF$6:$CF$30)/($CF$6:$CF$30<>\"\"),ROW(#REF!))-5),\"\")","v":""},"",null,{"$f":"IF(AND($B18=\"Moderado\",$C18=\"Desprezível\"),\"13MoDe\",\"\")","v":""},"",{"$f":"IFERROR(INDEX($CK$6:$CK$30,_xlfn.AGGREGATE(15,6,ROW($CK$6:$CK$30)/($CK$6:$CK$30<>\"\"),ROW(#REF!))-5),\"\")","v":""},"",null,{"$f":"IF(AND($B18=\"Baixo\",$C18=\"Muito Alto\"),\"13BaMu\",\"\")","v":""},"",{"$f":"IFERROR(INDEX($CP$6:$CP$30,_xlfn.AGGREGATE(15,6,ROW($CP$6:$CP$30)/($CP$6:$CP$30<>\"\"),ROW(#REF!))-5),\"\")","v":""},"",null,{"$f":"IF(AND($B18=\"Baixo\",$C18=\"Alto\"),\"13BaAl\",\"\")","v":""},"",{"$f":"IFERROR(INDEX($CU$6:$CU$30,_xlfn.AGGREGATE(15,6,ROW($CU$6:$CU$30)/($CU$6:$CU$30<>\"\"),ROW(#REF!))-5),\"\")","v":""},"",null,{"$f":"IF(AND($B18=\"Baixo\",$C18=\"Moderado\"),\"13BaMo\",\"\")","v":""},"",{"$f":"IFERROR(INDEX($CZ$6:$CZ$30,_xlfn.AGGREGATE(15,6,ROW($CZ$6:$CZ$30)/($CZ$6:$CZ$30<>\"\"),ROW(#REF!))-5),\"\")","v":""},"",null,{"$f":"IF(AND($B18=\"Baixo\",$C18=\"Baixo\"),\"13BaBa\",\"\")","v":""},"",{"$f":"IFERROR(INDEX($DE$6:$DE$30,_xlfn.AGGREGATE(15,6,ROW($DE$6:$DE$30)/($DE$6:$DE$30<>\"\"),ROW(#REF!))-5),\"\")","v":""},"",null,{"$f":"IF(AND($B18=\"Baixo\",$C18=\"Desprezível\"),\"13BaDe\",\"\")","v":""},"",{"$f":"IFERROR(INDEX($DJ$6:$DJ$30,_xlfn.AGGREGATE(15,6,ROW($DJ$6:$DJ$30)/($DJ$6:$DJ$30<>\"\"),ROW(#REF!))-5),\"\")","v":""},"",null,{"$f":"IF(AND($B18=\"Desprezível\",$C18=\"Muito Alto\"),\"13DeMu\",\"\")","v":""},"",{"$f":"IFERROR(INDEX($DO$6:$DO$10,_xlfn.AGGREGATE(15,6,ROW($DO$6:$DO$10)/($DO$6:$DO$10<>\"\"),ROW(#REF!))-5),\"\")","v":""},"",null,{"$f":"IF(AND($B18=\"Desprezível\",$C18=\"Alto\"),\"13DeAl\",\"\")","v":""},"",{"$f":"IFERROR(INDEX($DT$6:$DT$30,_xlfn.AGGREGATE(15,6,ROW($DT$6:$DT$30)/($DT$6:$DT$30<>\"\"),ROW(#REF!))-5),\"\")","v":""},"",null,{"$f":"IF(AND($B18=\"Desprezível\",$C18=\"Moderado\"),\"13DeMo\",\"\")","v":""},"",{"$f":"IFERROR(INDEX($DY$6:$DY$30,_xlfn.AGGREGATE(15,6,ROW($DY$6:$DY$30)/($DY$6:$DY$30<>\"\"),ROW(#REF!))-5),\"\")","v":""},"",null,{"$f":"IF(AND($B18=\"Desprezível\",$C18=\"Baixo\"),\"13DeBa\",\"\")","v":""},"",{"$f":"IFERROR(INDEX($ED$6:$ED$30,_xlfn.AGGREGATE(15,6,ROW($ED$6:$ED$30)/($ED$6:$ED$30<>\"\"),ROW(#REF!))-5),\"\")","v":""},"",null,{"$f":"IF(AND($B18=\"Desprezível\",$C18=\"Desprezível\"),\"13DeDe\",\"\")","v":""},"",{"$f":"IFERROR(INDEX($EI$6:$EI$30,_xlfn.AGGREGATE(15,6,ROW($EI$6:$EI$30)/($EI$6:$EI$30<>\"\"),ROW(#REF!))-5),\"\")","v":""},""]
["NNN","Moderado","Baixo",null,null,null,null,null,null,null,null,null,null,null,null,null,null,null,{"$f":"IF(AND($B19=\"Muito Alto\",$C19=\"Muito Alto\"),\"14MuMu\",\"\")","v":""},"",{"$f":"IFERROR(INDEX($S$6:$S$10,_xlfn.AGGREGATE(15,6,ROW($S$6:$S$10)/($S$6:$S$10<>\"\"),ROW(#REF!))-5),\"\")","v":""},"",null,{"$f":"IF(AND($B19=\"Muito Alto\",$C19=\"Alto\"),\"14MuAl\",\"\")","v":""},"",{"$f":"IFERROR(INDEX($X$6:$X$30,_xlfn.AGGREGATE(15,6,ROW($X$6:$X$30)/($X$6:$X$30<>\"\"),ROW(#REF!))-5),\"\")","v":""},"",null,{"$f":"IF(AND($B19=\"Muito Alto\",$C19=\"Moderado\"),\"14MuMo\",\"\")","v":""},"",{"$f":"IFERROR(INDEX($AC$6:$AC$30,_xlfn.AGGREGATE(15,6,ROW($AC$6:$AC$30)/($AC$6:$AC$30<>\"\"),ROW(#REF!))-5),\"\")","v":""},"",null,{"$f":"IF(AND($B19=\"Muito Alto\",$C19=\"Baixo\"),\"14MuBa\",\"\")","v":""},"",{"$f":"IFERROR(INDEX($AH$6:$AH$30,_xlfn.AGGREGATE(15,6,ROW($AH$6:$AH$30)/($AH$6:$AH$30<>\"\"),ROW(#REF!))-5),\"\")","v":""},"",null,{"$f":"IF(AND($B19=\"Muito Alto\",$C19=\"Desprezível\"),\"14MuDe\",\"\")","v":""},"",{"$f":"IFERROR(INDEX($AM$6:$AM$30,_xlfn.AGGREGATE(15,6,ROW($AM$6:$AM$30)/($AM$6:$AM$30<>\"\"),ROW(#REF!))-5),\"\")","v":""},"",null,{"$f":"IF(AND($B19=\"Alto\",$C19=\"Muito Alto\"),\"14AlMu\",\"\")","v":""},"",{"$f":"IFERROR(INDEX($AR$6:$AR$10,_xlfn.AGGREGATE(15,6,ROW($AR$6:$AR$10)/($AR$6:$AR$10<>\"\"),ROW(#REF!))-5),\"\")","v":""},"",null,{"$f":"IF(AND($B19=\"Alto\",$C19=\"Alto\"),\"14AlAl\",\"\")","v":""},"",{"$f":"IFERROR(INDEX($AW$6:$AW$30,_xlfn.AGGREGATE(15,6,ROW($AW$6:$AW$30)/($AW$6:$AW$30<>\"\"),ROW(#REF!))-5),\"\")","v":""},"",null,{"$f":"IF(AND($B19=\"Alto\",$C19=\"Moderado\"),\"14AlMo\",\"\")","v":""},"",{"$f":"IFERROR(INDEX($BB$6:$BB$30,_xlfn.AGGREGATE(15,6,ROW($BB$6:$BB$30)/($BB$6:$BB$30<>\"\"),ROW(#REF!))-5),\"\")","v":""},"",null,{"$f":"IF(AND($B19=\"Alto\",$C19=\"Baixo\"),\"14AlBa\",\"\")","v":""},"",{"$f":"IFERROR(INDEX($BG$6:$BG$30,_xlfn.AGGREGATE(15,6,ROW($BG$6:$BG$30)/($BG$6:$BG$30<>\"\"),ROW(#REF!))-5),\"\")","v":""},"",null,{"$f":"IF(AND($B19=\"Alto\",$C19=\"Desprezível\"),\"14AlDe\",\"\")","v":""},"",{"$f":"IFERROR(INDEX($BL$6:$BL$30,_xlfn.AGGREGATE(15,6,ROW($BL$6:$BL$30)/($BL$6:$BL$30<>\"\"),ROW(#REF!))-5),\"\")","v":""},"",null,{"$f":"IF(AND($B19=\"Moderado\",$C19=\"Muito Alto\"),\"14MoMu\",\"\")","v":""},"",{"$f":"IFERROR(INDEX($BQ$6:$BQ$10,_xlfn.AGGREGATE(15,6,ROW($BQ$6:$BQ$10)/($BQ$6:$BQ$10<>\"\"),ROW(#REF!))-5),\"\")","v":""},"",null,{"$f":"IF(AND($B19=\"Moderado\",$C19=\"Alto\"),\"14MoAl\",\"\")","v":""},"",{"$f":"IFERROR(INDEX($BV$6:$BV$30,_xlfn.AGGREGATE(15,6,ROW($BV$6:$BV$30)/($BV$6:$BV$30<>\"\"),ROW(#REF!))-5),\"\")","v":""},"",null,{"$f":"IF(AND($B19=\"Moderado\",$C19=\"Moderado\"),\"14MoMo\",\"\")","v":""},"",{"$f":"IFERROR(INDEX($CA$6:$CA$30,_xlfn.AGGREGATE(15,6,ROW($CA$6:$CA$30)/($CA$6:$CA$30<>\"\"),ROW(#REF!))-5),\"\")","v":""},"",null,{"$f":"IF(AND($B19=\"Moderado\",$C19=\"Baixo\"),\"14MoBa\",\"\")","v":"14MoBa"},"",{"$f":"IFERROR(INDEX($CF$6:$CF$30,_xlfn.AGGREGATE(15,6,ROW($CF$6:$CF$30)/($CF$6:$CF$30<>\"\"),ROW(#REF!))-5),\"\")","v":""},"",null,{"$f":"IF(AND($B19=\"Moderado\",$C19=\"Desprezível\"),\"14MoDe\",\"\")","v":""},"",{"$f":"IFERROR(INDEX($CK$6:$CK$30,_xlfn.AGGREGATE(15,6,ROW($CK$6:$CK$30)/($CK$6:$CK$30<>\"\"),ROW(#REF!))-5),\"\")","v":""},"",null,{"$f":"IF(AND($B19=\"Baixo\",$C19=\"Muito Alto\"),\"14BaMu\",\"\")","v":""},"",{"$f":"IFERROR(INDEX($CP$6:$CP$30,_xlfn.AGGREGATE(15,6,ROW($CP$6:$CP$30)/($CP$6:$CP$30<>\"\"),ROW(#REF!))-5),\"\")","v":""},"",null,{"$f":"IF(AND($B19=\"Baixo\",$C19=\"Alto\"),\"14BaAl\",\"\")","v":""},"",{"$f":"IFERROR(INDEX($CU$6:$CU$30,_xlfn.AGGREGATE(15,6,ROW($CU$6:$CU$30)/($CU$6:$CU$30<>\"\"),ROW(#REF!))-5),\"\")","v":""},"",null,{"$f":"IF(AND($B19=\"Baixo\",$C19=\"Moderado\"),\"14BaMo\",\"\")","v":""},"",{"$f":"IFERROR(INDEX($CZ$6:$CZ$30,_xlfn.AGGREGATE(15,6,ROW($CZ$6:$CZ$30)/($CZ$6:$CZ$30<>\"\"),ROW(#REF!))-5),\"\")","v":""},"",null,{"$f":"IF(AND($B19=\"Baixo\",$C19=\"Baixo\"),\"14BaBa\",\"\")","v":""},"",{"$f":"IFERROR(INDEX($DE$6:$DE$30,_xlfn.AGGREGATE(15,6,ROW($DE$6:$DE$30)/($DE$6:$DE$30<>\"\"),ROW(#REF!))-5),\"\")","v":""},"",null,{"$f":"IF(AND($B19=\"Baixo\",$C19=\"Desprezível\"),\"14BaDe\",\"\")","v":""},"",{"$f":"IFERROR(INDEX($DJ$6:$DJ$30,_xlfn.AGGREGATE(15,6,ROW($DJ$6:$DJ$30)/($DJ$6:$DJ$30<>\"\"),ROW(#REF!))-5),\"\")","v":""},"",null,{"$f":"IF(AND($B19=\"Desprezível\",$C19=\"Muito Alto\"),\"14DeMu\",\"\")","v":""},"",{"$f":"IFERROR(INDEX($DO$6:$DO$10,_xlfn.AGGREGATE(15,6,ROW($DO$6:$DO$10)/($DO$6:$DO$10<>\"\"),ROW(#REF!))-5),\"\")","v":""},"",null,{"$f":"IF(AND($B19=\"Desprezível\",$C19=\"Alto\"),\"14DeAl\",\"\")","v":""},"",{"$f":"IFERROR(INDEX($DT$6:$DT$30,_xlfn.AGGREGATE(15,6,ROW($DT$6:$DT$30)/($DT$6:$DT$30<>\"\"),ROW(#REF!))-5),\"\")","v":""},"",null,{"$f":"IF(AND($B19=\"Desprezível\",$C19=\"Moderado\"),\"14DeMo\",\"\")","v":""},"",{"$f":"IFERROR(INDEX($DY$6:$DY$30,_xlfn.AGGREGATE(15,6,ROW($DY$6:$DY$30)/($DY$6:$DY$30<>\"\"),ROW(#REF!))-5),\"\")","v":""},"",null,{"$f":"IF(AND($B19=\"Desprezível\",$C19=\"Baixo\"),\"14DeBa\",\"\")","v":""},"",{"$f":"IFERROR(INDEX($ED$6:$ED$30,_xlfn.AGGREGATE(15,6,ROW($ED$6:$ED$30)/($ED$6:$ED$30<>\"\"),ROW(#REF!))-5),\"\")","v":""},"",null,{"$f":"IF(AND($B19=\"Desprezível\",$C19=\"Desprezível\"),\"14DeDe\",\"\")","v":""},"",{"$f":"IFERROR(INDEX($EI$6:$EI$30,_xlfn.AGGREGATE(15,6,ROW($EI$6:$EI$30)/($EI$6:$EI$30<>\"\"),ROW(#REF!))-5),\"\")","v":""},""]
["OOO","Moderado","Desprezível",null,null,null,null,null,null,null,null,null,null,null,null,null,null,null,{"$f":"IF(AND($B20=\"Muito Alto\",$C20=\"Muito Alto\"),\"15MuMu\",\"\")","v":""},"",{"$f":"IFERROR(INDEX($S$6:$S$10,_xlfn.AGGREGATE(15,6,ROW($S$6:$S$10)/($S$6:$S$10<>\"\"),ROW(#REF!))-5),\"\")","v":""},"",null,{"$f":"IF(AND($B20=\"Muito Alto\",$C20=\"Alto\"),\"15MuAl\",\"\")","v":""},"",{"$f":"IFERROR(INDEX($X$6:$X$30,_xlfn.AGGREGATE(15,6,ROW($X$6:$X$30)/($X$6:$X$30<>\"\"),ROW(#REF!))-5),\"\")","v":""},"",null,{"$f":"IF(AND($B20=\"Muito Alto\",$C20=\"Moderado\"),\"15MuMo\",\"\")","v":""},"",{"$f":"IFERROR(INDEX($AC$6:$AC$30,_xlfn.AGGREGATE(15,6,ROW($AC$6:$AC$30)/($AC$6:$AC$30<>\"\"),ROW(#REF!))-5),\"\")","v":""},"",null,{"$f":"IF(AND($B20=\"Muito Alto\",$C20=\"Baixo\"),\"15MuBa\",\"\")","v":""},"",{"$f":"IFERROR(INDEX($AH$6:$AH$30,_xlfn.AGGREGATE(15,6,ROW($AH$6:$AH$30)/($AH$6:$AH$30<>\"\"),ROW(#REF!))-5),\"\")","v":""},"",null,{"$f":"IF(AND($B20=\"Muito Alto\",$C20=\"Desprezível\"),\"15MuDe\",\"\")","v":""},"",{"$f":"IFERROR(INDEX($AM$6:$AM$30,_xlfn.AGGREGATE(15,6,ROW($AM$6:$AM$30)/($AM$6:$AM$30<>\"\"),ROW(#REF!))-5),\"\")","v":""},"",null,{"$f":"IF(AND($B20=\"Alto\",$C20=\"Muito Alto\"),\"15AlMu\",\"\")","v":""},"",{"$f":"IFERROR(INDEX($AR$6:$AR$10,_xlfn.AGGREGATE(15,6,ROW($AR$6:$AR$10)/($AR$6:$AR$10<>\"\"),ROW(#REF!))-5),\"\")","v":""},"",null,{"$f":"IF(AND($B20=\"Alto\",$C20=\"Alto\"),\"15AlAl\",\"\")","v":""},"",{"$f":"IFERROR(INDEX($AW$6:$AW$30,_xlfn.AGGREGATE(15,6,ROW($AW$6:$AW$30)/($AW$6:$AW$30<>\"\"),ROW(#REF!))-5),\"\")","v":""},"",null,{"$f":"IF(AND($B20=\"Alto\",$C20=\"Moderado\"),\"15AlMo\",\"\")","v":""},"",{"$f":"IFERROR(INDEX($BB$6:$BB$30,_xlfn.AGGREGATE(15,6,ROW($BB$6:$BB$30)/($BB$6:$BB$30<>\"\"),ROW(#REF!))-5),\"\")","v":""},"",null,{"$f":"IF(AND($B20=\"Alto\",$C20=\"Baixo\"),\"15AlBa\",\"\")","v":""},"",{"$f":"IFERROR(INDEX($BG$6:$BG$30,_xlfn.AGGREGATE(15,6,ROW($BG$6:$BG$30)/($BG$6:$BG$30<>\"\"),ROW(#REF!))-5),\"\")","v":""},"",null,{"$f":"IF(AND($B20=\"Alto\",$C20=\"Desprezível\"),\"15AlDe\",\"\")","v":""},"",{"$f":"IFERROR(INDEX($BL$6:$BL$30,_xlfn.AGGREGATE(15,6,ROW($BL$6:$BL$30)/($BL$6:$BL$30<>\"\"),ROW(#REF!))-5),\"\")","v":""},"",null,{"$f":"IF(AND($B20=\"Moderado\",$C20=\"Muito Alto\"),\"15MoMu\",\"\")","v":""},"",{"$f":"IFERROR(INDEX($BQ$6:$BQ$10,_xlfn.AGGREGATE(15,6,ROW($BQ$6:$BQ$10)/($BQ$6:$BQ$10<>\"\"),ROW(#REF!))-5),\"\")","v":""},"",null,{"$f":"IF(AND($B20=\"Moderado\",$C20=\"Alto\"),\"15MoAl\",\"\")","v":""},"",{"$f":"IFERROR(INDEX($BV$6:$BV$30,_xlfn.AGGREGATE(15,6,ROW($BV$6:$BV$30)/($BV$6:$BV$30<>\"\"),ROW(#REF!))-5),\"\")","v":""},"",null,{"$f":"IF(AND($B20=\"Moderado\",$C20=\"Moderado\"),\"15MoMo\",\"\")","v":""},"",{"$f":"IFERROR(INDEX($CA$6:$CA$30,_xlfn.AGGREGATE(15,6,ROW($CA$6:$CA$30)/($CA$6:$CA$30<>\"\"),ROW(#REF!))-5),\"\")","v":""},"",null,{"$f":"IF(AND($B20=\"Moderado\",$C20=\"Baixo\"),\"15MoBa\",\"\")","v":""},"",{"$f":"IFERROR(INDEX($CF$6:$CF$30,_xlfn.AGGREGATE(15,6,ROW($CF$6:$CF$30)/($CF$6:$CF$30<>\"\"),ROW(#REF!))-5),\"\")","v":""},"",null,{"$f":"IF(AND($B20=\"Moderado\",$C20=\"Desprezível\"),\"15MoDe\",\"\")","v":"15MoDe"},"",{"$f":"IFERROR(INDEX($CK$6:$CK$30,_xlfn.AGGREGATE(15,6,ROW($CK$6:$CK$30)/($CK$6:$CK$30<>\"\"),ROW(#REF!))-5),\"\")","v":""},"",null,{"$f":"IF(AND($B20=\"Baixo\",$C20=\"Muito Alto\"),\"15BaMu\",\"\")","v":""},"",{"$f":"IFERROR(INDEX($CP$6:$CP$30,_xlfn.AGGREGATE(15,6,ROW($CP$6:$CP$30)/($CP$6:$CP$30<>\"\"),ROW(#REF!))-5),\"\")","v":""},"",null,{"$f":"IF(AND($B20=\"Baixo\",$C20=\"Alto\"),\"15BaAl\",\"\")","v":""},"",{"$f":"IFERROR(INDEX($CU$6:$CU$30,_xlfn.AGGREGATE(15,6,ROW($CU$6:$CU$30)/($CU$6:$CU$30<>\"\"),ROW(#REF!))-5),\"\")","v":""},"",null,{"$f":"IF(AND($B20=\"Baixo\",$C20=\"Moderado\"),\"15BaMo\",\"\")","v":""},"",{"$f":"IFERROR(INDEX($CZ$6:$CZ$30,_xlfn.AGGREGATE(15,6,ROW($CZ$6:$CZ$30)/($CZ$6:$CZ$30<>\"\"),ROW(#REF!))-5),\"\")","v":""},"",null,{"$f":"IF(AND($B20=\"Baixo\",$C20=\"Baixo\"),\"15BaBa\",\"\")","v":""},"",{"$f":"IFERROR(INDEX($DE$6:$DE$30,_xlfn.AGGREGATE(15,6,ROW($DE$6:$DE$30)/($DE$6:$DE$30<>\"\"),ROW(#REF!))-5),\"\")","v":""},"",null,{"$f":"IF(AND($B20=\"Baixo\",$C20=\"Desprezível\"),\"15BaDe\",\"\")","v":""},"",{"$f":"IFERROR(INDEX($DJ$6:$DJ$30,_xlfn.AGGREGATE(15,6,ROW($DJ$6:$DJ$30)/($DJ$6:$DJ$30<>\"\"),ROW(#REF!))-5),\"\")","v":""},"",null,{"$f":"IF(AND($B20=\"Desprezível\",$C20=\"Muito Alto\"),\"15DeMu\",\"\")","v":""},"",{"$f":"IFERROR(INDEX($DO$6:$DO$10,_xlfn.AGGREGATE(15,6,ROW($DO$6:$DO$10)/($DO$6:$DO$10<>\"\"),ROW(#REF!))-5),\"\")","v":""},"",null,{"$f":"IF(AND($B20=\"Desprezível\",$C20=\"Alto\"),\"15DeAl\",\"\")","v":""},"",{"$f":"IFERROR(INDEX($DT$6:$DT$30,_xlfn.AGGREGATE(15,6,ROW($DT$6:$DT$30)/($DT$6:$DT$30<>\"\"),ROW(#REF!))-5),\"\")","v":""},"",null,{"$f":"IF(AND($B20=\"Desprezível\",$C20=\"Moderado\"),\"15DeMo\",\"\")","v":""},"",{"$f":"IFERROR(INDEX($DY$6:$DY$30,_xlfn.AGGREGATE(15,6,ROW($DY$6:$DY$30)/($DY$6:$DY$30<>\"\"),ROW(#REF!))-5),\"\")","v":""},"",null,{"$f":"IF(AND($B20=\"Desprezível\",$C20=\"Baixo\"),\"15DeBa\",\"\")","v":""},"",{"$f":"IFERROR(INDEX($ED$6:$ED$30,_xlfn.AGGREGATE(15,6,ROW($ED$6:$ED$30)/($ED$6:$ED$30<>\"\"),ROW(#REF!))-5),\"\")","v":""},"",null,{"$f":"IF(AND($B20=\"Desprezível\",$C20=\"Desprezível\"),\"15DeDe\",\"\")","v":""},"",{"$f":"IFERROR(INDEX($EI$6:$EI$30,_xlfn.AGGREGATE(15,6,ROW($EI$6:$EI$30)/($EI$6:$EI$30<>\"\"),ROW(#REF!))-5),\"\")","v":""},""]
["PPP","Baixo","Muito Alto",null,null,null,null,null,null,null,null,null,null,null,null,null,null,null,{"$f":"IF(AND($B21=\"Muito Alto\",$C21=\"Muito Alto\"),\"16MuMu\",\"\")","v":""},"",{"$f":"IFERROR(INDEX($S$6:$S$10,_xlfn.AGGREGATE(15,6,ROW($S$6:$S$10)/($S$6:$S$10<>\"\"),ROW(#REF!))-5),\"\")","v":""},"",null,{"$f":"IF(AND($B21=\"Muito Alto\",$C21=\"Alto\"),\"16MuAl\",\"\")","v":""},"",{"$f":"IFERROR(INDEX($X$6:$X$30,_xlfn.AGGREGATE(15,6,ROW($X$6:$X$30)/($X$6:$X$30<>\"\"),ROW(#REF!))-5),\"\")","v":""},"",null,{"$f":"IF(AND($B21=\"Muito Alto\",$C21=\"Moderado\"),\"16MuMo\",\"\")","v":""},"",{"$f":"IFERROR(INDEX($AC$6:$AC$30,_xlfn.AGGREGATE(15,6,ROW($AC$6:$AC$30)/($AC$6:$AC$30<>\"\"),ROW(#REF!))-5),\"\")","v":""},"",null,{"$f":"IF(AND($B21=\"Muito Alto\",$C21=\"Baixo\"),\"16MuBa\",\"\")","v":""},"",{"$f":"IFERROR(INDEX($AH$6:$AH$30,_xlfn.AGGREGATE(15,6,ROW($AH$6:$AH$30)/($AH$6:$AH$30<>\"\"),ROW(#REF!))-5),\"\")","v":""},"",null,{"$f":"IF(AND($B21=\"Muito Alto\",$C21=\"Desprezível\"),\"16MuDe\",\"\")","v":""},"",{"$f":"IFERROR(INDEX($AM$6:$AM$30,_xlfn.AGGREGATE(15,6,ROW($AM$6:$AM$30)/($AM$6:$AM$30<>\"\"),ROW(#REF!))-5),\"\")","v":""},"",null,{"$f":"IF(AND($B21=\"Alto\",$C21=\"Muito Alto\"),\"16AlMu\",\"\")","v":""},"",{"$f":"IFERROR(INDEX($AR$6:$AR$10,_xlfn.AGGREGATE(15,6,ROW($AR$6:$AR$10)/($AR$6:$AR$10<>\"\"),ROW(#REF!))-5),\"\")","v":""},"",null,{"$f":"IF(AND($B21=\"Alto\",$C21=\"Alto\"),\"16AlAl\",\"\")","v":""},"",{"$f":"IFERROR(INDEX($AW$6:$AW$30,_xlfn.AGGREGATE(15,6,ROW($AW$6:$AW$30)/($AW$6:$AW$30<>\"\"),ROW(#REF!))-5),\"\")","v":""},"",null,{"$f":"IF(AND($B21=\"Alto\",$C21=\"Moderado\"),\"16AlMo\",\"\")","v":""},"",{"$f":"IFERROR(INDEX($BB$6:$BB$30,_xlfn.AGGREGATE(15,6,ROW($BB$6:$BB$30)/($BB$6:$BB$30<>\"\"),ROW(#REF!))-5),\"\")","v":""},"",null,{"$f":"IF(AND($B21=\"Alto\",$C21=\"Baixo\"),\"16AlBa\",\"\")","v":""},"",{"$f":"IFERROR(INDEX($BG$6:$BG$30,_xlfn.AGGREGATE(15,6,ROW($BG$6:$BG$30)/($BG$6:$BG$30<>\"\"),ROW(#REF!))-5),\"\")","v":""},"",null,{"$f":"IF(AND($B21=\"Alto\",$C21=\"Desprezível\"),\"16AlDe\",\"\")","v":""},"",{"$f":"IFERROR(INDEX($BL$6:$BL$30,_xlfn.AGGREGATE(15,6,ROW($BL$6:$BL$30)/($BL$6:$BL$30<>\"\"),ROW(#REF!))-5),\"\")","v":""},"",null,{"$f":"IF(AND($B21=\"Moderado\",$C21=\"Muito Alto\"),\"16MoMu\",\"\")","v":""},"",{"$f":"IFERROR(INDEX($BQ$6:$BQ$10,_xlfn.AGGREGATE(15,6,ROW($BQ$6:$BQ$10)/($BQ$6:$BQ$10<>\"\"),ROW(#REF!))-5),\"\")","v":""},"",null,{"$f":"IF(AND($B21=\"Moderado\",$C21=\"Alto\"),\"16MoAl\",\"\")","v":""},"",{"$f":"IFERROR(INDEX($BV$6:$BV$30,_xlfn.AGGREGATE(15,6,ROW($BV$6:$BV$30)/($BV$6:$BV$30<>\"\"),ROW(#REF!))-5),\"\")","v":""},"",null,{"$f":"IF(AND($B21=\"Moderado\",$C21=\"Moderado\"),\"16MoMo\",\"\")","v":""},"",{"$f":"IFERROR(INDEX($CA$6:$CA$30,_xlfn.AGGREGATE(15,6,ROW($CA$6:$CA$30)/($CA$6:$CA$30<>\"\"),ROW(#REF!))-5),\"\")","v":""},"",null,{"$f":"IF(AND($B21=\"Moderado\",$C21=\"Baixo\"),\"16MoBa\",\"\")","v":""},"",{"$f":"IFERROR(INDEX($CF$6:$CF$30,_xlfn.AGGREGATE(15,6,ROW($CF$6:$CF$30)/($CF$6:$CF$30<>\"\"),ROW(#REF!))-5),\"\")","v":""},"",null,{"$f":"IF(AND($B21=\"Moderado\",$C21=\"Desprezível\"),\"16MoDe\",\"\")","v":""},"",{"$f":"IFERROR(INDEX($CK$6:$CK$30,_xlfn.AGGREGATE(15,6,ROW($CK$6:$CK$30)/($CK$6:$CK$30<>\"\"),ROW(#REF!))-5),\"\")","v":""},"",null,{"$f":"IF(AND($B21=\"Baixo\",$C21=\"Muito Alto\"),\"16BaMu\",\"\")","v":"16BaMu"},"",{"$f":"IFERROR(INDEX($CP$6:$CP$30,_xlfn.AGGREGATE(15,6,ROW($CP$6:$CP$30)/($CP$6:$CP$30<>\"\"),ROW(#REF!))-5),\"\")","v":""},"",null,{"$f":"IF(AND($B21=\"Baixo\",$C21=\"Alto\"),\"16BaAl\",\"\")","v":""},"",{"$f":"IFERROR(INDEX($CU$6:$CU$30,_xlfn.AGGREGATE(15,6,ROW($CU$6:$CU$30)/($CU$6:$CU$30<>\"\"),ROW(#REF!))-5),\"\")","v":""},"",null,{"$f":"IF(AND($B21=\"Baixo\",$C21=\"Moderado\"),\"16BaMo\",\"\")","v":""},"",{"$f":"IFERROR(INDEX($CZ$6:$CZ$30,_xlfn.AGGREGATE(15,6,ROW($CZ$6:$CZ$30)/($CZ$6:$CZ$30<>\"\"),ROW(#REF!))-5),\"\")","v":""},"",null,{"$f":"IF(AND($B21=\"Baixo\",$C21=\"Baixo\"),\"16BaBa\",\"\")","v":""},"",{"$f":"IFERROR(INDEX($DE$6:$DE$30,_xlfn.AGGREGATE(15,6,ROW($DE$6:$DE$30)/($DE$6:$DE$30<>\"\"),ROW(#REF!))-5),\"\")","v":""},"",null,{"$f":"IF(AND($B21=\"Baixo\",$C21=\"Desprezível\"),\"16BaDe\",\"\")","v":""},"",{"$f":"IFERROR(INDEX($DJ$6:$DJ$30,_xlfn.AGGREGATE(15,6,ROW($DJ$6:$DJ$30)/($DJ$6:$DJ$30<>\"\"),ROW(#REF!))-5),\"\")","v":""},"",null,{"$f":"IF(AND($B21=\"Desprezível\",$C21=\"Muito Alto\"),\"16DeMu\",\"\")","v":""},"",{"$f":"IFERROR(INDEX($DO$6:$DO$10,_xlfn.AGGREGATE(15,6,ROW($DO$6:$DO$10)/($DO$6:$DO$10<>\"\"),ROW(#REF!))-5),\"\")","v":""},"",null,{"$f":"IF(AND($B21=\"Desprezível\",$C21=\"Alto\"),\"16DeAl\",\"\")","v":""},"",{"$f":"IFERROR(INDEX($DT$6:$DT$30,_xlfn.AGGREGATE(15,6,ROW($DT$6:$DT$30)/($DT$6:$DT$30<>\"\"),ROW(#REF!))-5),\"\")","v":""},"",null,{"$f":"IF(AND($B21=\"Desprezível\",$C21=\"Moderado\"),\"16DeMo\",\"\")","v":""},"",{"$f":"IFERROR(INDEX($DY$6:$DY$30,_xlfn.AGGREGATE(15,6,ROW($DY$6:$DY$30)/($DY$6:$DY$30<>\"\"),ROW(#REF!))-5),\"\")","v":""},"",null,{"$f":"IF(AND($B21=\"Desprezível\",$C21=\"Baixo\"),\"16DeBa\",\"\")","v":""},"",{"$f":"IFERROR(INDEX($ED$6:$ED$30,_xlfn.AGGREGATE(15,6,ROW($ED$6:$ED$30)/($ED$6:$ED$30<>\"\"),ROW(#REF!))-5),\"\")","v":""},"",null,{"$f":"IF(AND($B21=\"Desprezível\",$C21=\"Desprezível\"),\"16DeDe\",\"\")","v":""},"",{"$f":"IFERROR(INDEX($EI$6:$EI$30,_xlfn.AGGREGATE(15,6,ROW($EI$6:$EI$30)/($EI$6:$EI$30<>\"\"),ROW(#REF!))-5),\"\")","v":""},""]
["QQQ","Baixo","Alto",null,null,null,null,null,null,null,null,null,null,null,null,null,null,null,{"$f":"IF(AND($B22=\"Muito Alto\",$C22=\"Muito Alto\"),\"17MuMu\",\"\")","v":""},"",{"$f":"IFERROR(INDEX($S$6:$S$10,_xlfn.AGGREGATE(15,6,ROW($S$6:$S$10)/($S$6:$S$10<>\"\"),ROW(#REF!))-5),\"\")","v":""},"",null,{"$f":"IF(AND($B22=\"Muito Alto\",$C22=\"Alto\"),\"17MuAl\",\"\")","v":""},"",{"$f":"IFERROR(INDEX($X$6:$X$30,_xlfn.AGGREGATE(15,6,ROW($X$6:$X$30)/($X$6:$X$30<>\"\"),ROW(#REF!))-5),\"\")","v":""},"",null,{"$f":"IF(AND($B22=\"Muito Alto\",$C22=\"Moderado\"),\"17MuMo\",\"\")","v":""},"",{"$f":"IFERROR(INDEX($AC$6:$AC$30,_xlfn.AGGREGATE(15,6,ROW($AC$6:$AC$30)/($AC$6:$AC$30<>\"\"),ROW(#REF!))-5),\"\")","v":""},"",null,{"$f":"IF(AND($B22=\"Muito Alto\",$C22=\"Baixo\"),\"17MuBa\",\"\")","v":""},"",{"$f":"IFERROR(INDEX($AH$6:$AH$30,_xlfn.AGGREGATE(15,6,ROW($AH$6:$AH$30)/($AH$6:$AH$30<>\"\"),ROW(#REF!))-5),\"\")","v":""},"",null,{"$f":"IF(AND($B22=\"Muito Alto\",$C22=\"Desprezível\"),\"17MuDe\",\"\")","v":""},"",{"$f":"IFERROR(INDEX($AM$6:$AM$30,_xlfn.AGGREGATE(15,6,ROW($AM$6:$AM$30)/($AM$6:$AM$30<>\"\"),ROW(#REF!))-5),\"\")","v":""},"",null,{"$f":"IF(AND($B22=\"Alto\",$C22=\"Muito Alto\"),\"17AlMu\",\"\")","v":""},"",{"$f":"IFERROR(INDEX($AR$6:$AR$10,_xlfn.AGGREGATE(15,6,ROW($AR$6:$AR$10)/($AR$6:$AR$10<>\"\"),ROW(#REF!))-5),\"\")","v":""},"",null,{"$f":"IF(AND($B22=\"Alto\",$C22=\"Alto\"),\"17AlAl\",\"\")","v":""},"",{"$f":"IFERROR(INDEX($AW$6:$AW$30,_xlfn.AGGREGATE(15,6,ROW($AW$6:$AW$30)/($AW$6:$AW$30<>\"\"),ROW(#REF!))-5),\"\")","v":""},"",null,{"$f":"IF(AND($B22=\"Alto\",$C22=\"Moderado\"),\"17AlMo\",\"\")","v":""},"",{"$f":"IFERROR(INDEX($BB$6:$BB$30,_xlfn.AGGREGATE(15,6,ROW($BB$6:$BB$30)/($BB$6:$BB$30<>\"\"),ROW(#REF!))-5),\"\")","v":""},"",null,{"$f":"IF(AND($B22=\"Alto\",$C22=\"Baixo\"),\"17AlBa\",\"\")","v":""},"",{"$f":"IFERROR(INDEX($BG$6:$BG$30,_xlfn.AGGREGATE(15,6,ROW($BG$6:$BG$30)/($BG$6:$BG$30<>\"\"),ROW(#REF!))-5),\"\")","v":""},"",null,{"$f":"IF(AND($B22=\"Alto\",$C22=\"Desprezível\"),\"17AlDe\",\"\")","v":""},"",{"$f":"IFERROR(INDEX($BL$6:$BL$30,_xlfn.AGGREGATE(15,6,ROW($BL$6:$BL$30)/($BL$6:$BL$30<>\"\"),ROW(#REF!))-5),\"\")","v":""},"",null,{"$f":"IF(AND($B22=\"Moderado\",$C22=\"Muito Alto\"),\"17MoMu\",\"\")","v":""},"",{"$f":"IFERROR(INDEX($BQ$6:$BQ$10,_xlfn.AGGREGATE(15,6,ROW($BQ$6:$BQ$10)/($BQ$6:$BQ$10<>\"\"),ROW(#REF!))-5),\"\")","v":""},"",null,{"$f":"IF(AND($B22=\"Moderado\",$C22=\"Alto\"),\"17MoAl\",\"\")","v":""},"",{"$f":"IFERROR(INDEX($BV$6:$BV$30,_xlfn.AGGREGATE(15,6,ROW($BV$6:$BV$30)/($BV$6:$BV$30<>\"\"),ROW(#REF!))-5),\"\")","v":""},"",null,{"$f":"IF(AND($B22=\"Moderado\",$C22=\"Moderado\"),\"17MoMo\",\"\")","v":""},"",{"$f":"IFERROR(INDEX($CA$6:$CA$30,_xlfn.AGGREGATE(15,6,ROW($CA$6:$CA$30)/($CA$6:$CA$30<>\"\"),ROW(#REF!))-5),\"\")","v":""},"",null,{"$f":"IF(AND($B22=\"Moderado\",$C22=\"Baixo\"),\"17MoBa\",\"\")","v":""},"",{"$f":"IFERROR(INDEX($CF$6:$CF$30,_xlfn.AGGREGATE(15,6,ROW($CF$6:$CF$30)/($CF$6:$CF$30<>\"\"),ROW(#REF!))-5),\"\")","v":""},"",null,{"$f":"IF(AND($B22=\"Moderado\",$C22=\"Desprezível\"),\"17MoDe\",\"\")","v":""},"",{"$f":"IFERROR(INDEX($CK$6:$CK$30,_xlfn.AGGREGATE(15,6,ROW($CK$6:$CK$30)/($CK$6:$CK$30<>\"\"),ROW(#REF!))-5),\"\")","v":""},"",null,{"$f":"IF(AND($B22=\"Baixo\",$C22=\"Muito Alto\"),\"17BaMu\",\"\")","v":""},"",{"$f":"IFERROR(INDEX($CP$6:$CP$30,_xlfn.AGGREGATE(15,6,ROW($CP$6:$CP$30)/($CP$6:$CP$30<>\"\"),ROW(#REF!))-5),\"\")","v":""},"",null,{"$f":"IF(AND($B22=\"Baixo\",$C22=\"Alto\"),\"17BaAl\",\"\")","v":"17BaAl"},"",{"$f":"IFERROR(INDEX($CU$6:$CU$30,_xlfn.AGGREGATE(15,6,ROW($CU$6:$CU$30)/($CU$6:$CU$30<>\"\"),ROW(#REF!))-5),\"\")","v":""},"",null,{"$f":"IF(AND($B22=\"Baixo\",$C22=\"Moderado\"),\"17BaMo\",\"\")","v":""},"",{"$f":"IFERROR(INDEX($CZ$6:$CZ$30,_xlfn.AGGREGATE(15,6,ROW($CZ$6:$CZ$30)/($CZ$6:$CZ$30<>\"\"),ROW(#REF!))-5),\"\")","v":""},"",null,{"$f":"IF(AND($B22=\"Baixo\",$C22=\"Baixo\"),\"17BaBa\",\"\")","v":""},"",{"$f":"IFERROR(INDEX($DE$6:$DE$30,_xlfn.AGGREGATE(15,6,ROW($DE$6:$DE$30)/($DE$6:$DE$30<>\"\"),ROW(#REF!))-5),\"\")","v":""},"",null,{"$f":"IF(AND($B22=\"Baixo\",$C22=\"Desprezível\"),\"17BaDe\",\"\")","v":""},"",{"$f":"IFERROR(INDEX($DJ$6:$DJ$30,_xlfn.AGGREGATE(15,6,ROW($DJ$6:$DJ$30)/($DJ$6:$DJ$30<>\"\"),ROW(#REF!))-5),\"\")","v":""},"",null,{"$f":"IF(AND($B22=\"Desprezível\",$C22=\"Muito Alto\"),\"17DeMu\",\"\")","v":""},"",{"$f":"IFERROR(INDEX($DO$6:$DO$10,_xlfn.AGGREGATE(15,6,ROW($DO$6:$DO$10)/($DO$6:$DO$10<>\"\"),ROW(#REF!))-5),\"\")","v":""},"",null,{"$f":"IF(AND($B22=\"Desprezível\",$C22=\"Alto\"),\"17DeAl\",\"\")","v":""},"",{"$f":"IFERROR(INDEX($DT$6:$DT$30,_xlfn.AGGREGATE(15,6,ROW($DT$6:$DT$30)/($DT$6:$DT$30<>\"\"),ROW(#REF!))-5),\"\")","v":""},"",null,{"$f":"IF(AND($B22=\"Desprezível\",$C22=\"Moderado\"),\"17DeMo\",\"\")","v":""},"",{"$f":"IFERROR(INDEX($DY$6:$DY$30,_xlfn.AGGREGATE(15,6,ROW($DY$6:$DY$30)/($DY$6:$DY$30<>\"\"),ROW(#REF!))-5),\"\")","v":""},"",null,{"$f":"IF(AND($B22=\"Desprezível\",$C22=\"Baixo\"),\"17DeBa\",\"\")","v":""},"",{"$f":"IFERROR(INDEX($ED$6:$ED$30,_xlfn.AGGREGATE(15,6,ROW($ED$6:$ED$30)/($ED$6:$ED$30<>\"\"),ROW(#REF!))-5),\"\")","v":""},"",null,{"$f":"IF(AND($B22=\"Desprezível\",$C22=\"Desprezível\"),\"17DeDe\",\"\")","v":""},"",{"$f":"IFERROR(INDEX($EI$6:$EI$30,_xlfn.AGGREGATE(15,6,ROW($EI$6:$EI$30)/($EI$6:$EI$30<>\"\"),ROW(#REF!))-5),\"\")","v":""},""]
["RRR","Baixo","Moderado",null,null,null,null,null,null,null,null,null,null,null,null,null,null,null,{"$f":"IF(AND($B23=\"Muito Alto\",$C23=\"Muito Alto\"),\"18MuMu\",\"\")","v":""},"",{"$f":"IFERROR(INDEX($S$6:$S$10,_xlfn.AGGREGATE(15,6,ROW($S$6:$S$10)/($S$6:$S$10<>\"\"),ROW(#REF!))-5),\"\")","v":""},"",null,{"$f":"IF(AND($B23=\"Muito Alto\",$C23=\"Alto\"),\"18MuAl\",\"\")","v":""},"",{"$f":"IFERROR(INDEX($X$6:$X$30,_xlfn.AGGREGATE(15,6,ROW($X$6:$X$30)/($X$6:$X$30<>\"\"),ROW(#REF!))-5),\"\")","v":""},"",null,{"$f":"IF(AND($B23=\"Muito Alto\",$C23=\"Moderado\"),\"18MuMo\",\"\")","v":""},"",{"$f":"IFERROR(INDEX($AC$6:$AC$30,_xlfn.AGGREGATE(15,6,ROW($AC$6:$AC$30)/($AC$6:$AC$30<>\"\"),ROW(#REF!))-5),\"\")","v":""},"",null,{"$f":"IF(AND($B23=\"Muito Alto\",$C23=\"Baixo\"),\"18MuBa\",\"\")","v":""},"",{"$f":"IFERROR(INDEX($AH$6:$AH$30,_xlfn.AGGREGATE(15,6,ROW($AH$6:$AH$30)/($AH$6:$AH$30<>\"\"),ROW(#REF!))-5),\"\")","v":""},"",null,{"$f":"IF(AND($B23=\"Muito Alto\",$C23=\"Desprezível\"),\"18MuDe\",\"\")","v":""},"",{"$f":"IFERROR(INDEX($AM$6:$AM$30,_xlfn.AGGREGATE(15,6,ROW($AM$6:$AM$30)/($AM$6:$AM$30<>\"\"),ROW(#REF!))-5),\"\")","v":""},"",null,{"$f":"IF(AND($B23=\"Alto\",$C23=\"Muito Alto\"),\"18AlMu\",\"\")","v":""},"",{"$f":"IFERROR(INDEX($AR$6:$AR$10,_xlfn.AGGREGATE(15,6,ROW($AR$6:$AR$10)/($AR$6:$AR$10<>\"\"),ROW(#REF!))-5),\"\")","v":""},"",null,{"$f":"IF(AND($B23=\"Alto\",$C23=\"Alto\"),\"18AlAl\",\"\")","v":""},"",{"$f":"IFERROR(INDEX($AW$6:$AW$30,_xlfn.AGGREGATE(15,6,ROW($AW$6:$AW$30)/($AW$6:$AW$30<>\"\"),ROW(#REF!))-5),\"\")","v":""},"",null,{"$f":"IF(AND($B23=\"Alto\",$C23=\"Moderado\"),\"18AlMo\",\"\")","v":""},"",{"$f":"IFERROR(INDEX($BB$6:$BB$30,_xlfn.AGGREGATE(15,6,ROW($BB$6:$BB$30)/($BB$6:$BB$30<>\"\"),ROW(#REF!))-5),\"\")","v":""},"",null,{"$f":"IF(AND($B23=\"Alto\",$C23=\"Baixo\"),\"18AlBa\",\"\")","v":""},"",{"$f":"IFERROR(INDEX($BG$6:$BG$30,_xlfn.AGGREGATE(15,6,ROW($BG$6:$BG$30)/($BG$6:$BG$30<>\"\"),ROW(#REF!))-5),\"\")","v":""},"",null,{"$f":"IF(AND($B23=\"Alto\",$C23=\"Desprezível\"),\"18AlDe\",\"\")","v":""},"",{"$f":"IFERROR(INDEX($BL$6:$BL$30,_xlfn.AGGREGATE(15,6,ROW($BL$6:$BL$30)/($BL$6:$BL$30<>\"\"),ROW(#REF!))-5),\"\")","v":""},"",null,{"$f":"IF(AND($B23=\"Moderado\",$C23=\"Muito Alto\"),\"18MoMu\",\"\")","v":""},"",{"$f":"IFERROR(INDEX($BQ$6:$BQ$10,_xlfn.AGGREGATE(15,6,ROW($BQ$6:$BQ$10)/($BQ$6:$BQ$10<>\"\"),ROW(#REF!))-5),\"\")","v":""},"",null,{"$f":"IF(AND($B23=\"Moderado\",$C23=\"Alto\"),\"18MoAl\",\"\")","v":""},"",{"$f":"IFERROR(INDEX($BV$6:$BV$30,_xlfn.AGGREGATE(15,6,ROW($BV$6:$BV$30)/($BV$6:$BV$30<>\"\"),ROW(#REF!))-5),\"\")","v":""},"",null,{"$f":"IF(AND($B23=\"Moderado\",$C23=\"Moderado\"),\"18MoMo\",\"\")","v":""},"",{"$f":"IFERROR(INDEX($CA$6:$CA$30,_xlfn.AGGREGATE(15,6,ROW($CA$6:$CA$30)/($CA$6:$CA$30<>\"\"),ROW(#REF!))-5),\"\")","v":""},"",null,{"$f":"IF(AND($B23=\"Moderado\",$C23=\"Baixo\"),\"18MoBa\",\"\")","v":""},"",{"$f":"IFERROR(INDEX($CF$6:$CF$30,_xlfn.AGGREGATE(15,6,ROW($CF$6:$CF$30)/($CF$6:$CF$30<>\"\"),ROW(#REF!))-5),\"\")","v":""},"",null,{"$f":"IF(AND($B23=\"Moderado\",$C23=\"Desprezível\"),\"18MoDe\",\"\")","v":""},"",{"$f":"IFERROR(INDEX($CK$6:$CK$30,_xlfn.AGGREGATE(15,6,ROW($CK$6:$CK$30)/($CK$6:$CK$30<>\"\"),ROW(#REF!))-5),\"\")","v":""},"",null,{"$f":"IF(AND($B23=\"Baixo\",$C23=\"Muito Alto\"),\"18BaMu\",\"\")","v":""},"",{"$f":"IFERROR(INDEX($CP$6:$CP$30,_xlfn.AGGREGATE(15,6,ROW($CP$6:$CP$30)/($CP$6:$CP$30<>\"\"),ROW(#REF!))-5),\"\")","v":""},"",null,{"$f":"IF(AND($B23=\"Baixo\",$C23=\"Alto\"),\"18BaAl\",\"\")","v":""},"",{"$f":"IFERROR(INDEX($CU$6:$CU$30,_xlfn.AGGREGATE(15,6,ROW($CU$6:$CU$30)/($CU$6:$CU$30<>\"\"),ROW(#REF!))-5),\"\")","v":""},"",null,{"$f":"IF(AND($B23=\"Baixo\",$C23=\"Moderado\"),\"18BaMo\",\"\")","v":"18BaMo"},"",{"$f":"IFERROR(INDEX($CZ$6:$CZ$30,_xlfn.AGGREGATE(15,6,ROW($CZ$6:$CZ$30)/($CZ$6:$CZ$30<>\"\"),ROW(#REF!))-5),\"\")","v":""},"",null,{"$f":"IF(AND($B23=\"Baixo\",$C23=\"Baixo\"),\"18BaBa\",\"\")","v":""},"",{"$f":"IFERROR(INDEX($DE$6:$DE$30,_xlfn.AGGREGATE(15,6,ROW($DE$6:$DE$30)/($DE$6:$DE$30<>\"\"),ROW(#REF!))-5),\"\")","v":""},"",null,{"$f":"IF(AND($B23=\"Baixo\",$C23=\"Desprezível\"),\"18BaDe\",\"\")","v":""},"",{"$f":"IFERROR(INDEX($DJ$6:$DJ$30,_xlfn.AGGREGATE(15,6,ROW($DJ$6:$DJ$30)/($DJ$6:$DJ$30<>\"\"),ROW(#REF!))-5),\"\")","v":""},"",null,{"$f":"IF(AND($B23=\"Desprezível\",$C23=\"Muito Alto\"),\"18DeMu\",\"\")","v":""},"",{"$f":"IFERROR(INDEX($DO$6:$DO$10,_xlfn.AGGREGATE(15,6,ROW($DO$6:$DO$10)/($DO$6:$DO$10<>\"\"),ROW(#REF!))-5),\"\")","v":""},"",null,{"$f":"IF(AND($B23=\"Desprezível\",$C23=\"Alto\"),\"18DeAl\",\"\")","v":""},"",{"$f":"IFERROR(INDEX($DT$6:$DT$30,_xlfn.AGGREGATE(15,6,ROW($DT$6:$DT$30)/($DT$6:$DT$30<>\"\"),ROW(#REF!))-5),\"\")","v":""},"",null,{"$f":"IF(AND($B23=\"Desprezível\",$C23=\"Moderado\"),\"18DeMo\",\"\")","v":""},"",{"$f":"IFERROR(INDEX($DY$6:$DY$30,_xlfn.AGGREGATE(15,6,ROW($DY$6:$DY$30)/($DY$6:$DY$30<>\"\"),ROW(#REF!))-5),\"\")","v":""},"",null,{"$f":"IF(AND($B23=\"Desprezível\",$C23=\"Baixo\"),\"18DeBa\",\"\")","v":""},"",{"$f":"IFERROR(INDEX($ED$6:$ED$30,_xlfn.AGGREGATE(15,6,ROW($ED$6:$ED$30)/($ED$6:$ED$30<>\"\"),ROW(#REF!))-5),\"\")","v":""},"",null,{"$f":"IF(AND($B23=\"Desprezível\",$C23=\"Desprezível\"),\"18DeDe\",\"\")","v":""},"",{"$f":"IFERROR(INDEX($EI$6:$EI$30,_xlfn.AGGREGATE(15,6,ROW($EI$6:$EI$30)/($EI$6:$EI$30<>\"\"),ROW(#REF!))-5),\"\")","v":""},""]
["SSS","Baixo","Baixo",null,null,null,null,null,null,null,null,null,null,null,null,null,null,null,{"$f":"IF(AND($B24=\"Muito Alto\",$C24=\"Muito Alto\"),\"19MuMu\",\"\")","v":""},"",{"$f":"IFERROR(INDEX($S$6:$S$10,_xlfn.AGGREGATE(15,6,ROW($S$6:$S$10)/($S$6:$S$10<>\"\"),ROW(#REF!))-5),\"\")","v":""},"",null,{"$f":"IF(AND($B24=\"Muito Alto\",$C24=\"Alto\"),\"19MuAl\",\"\")","v":""},"",{"$f":"IFERROR(INDEX($X$6:$X$30,_xlfn.AGGREGATE(15,6,ROW($X$6:$X$30)/($X$6:$X$30<>\"\"),ROW(#REF!))-5),\"\")","v":""},"",null,{"$f":"IF(AND($B24=\"Muito Alto\",$C24=\"Moderado\"),\"19MuMo\",\"\")","v":""},"",{"$f":"IFERROR(INDEX($AC$6:$AC$30,_xlfn.AGGREGATE(15,6,ROW($AC$6:$AC$30)/($AC$6:$AC$30<>\"\"),ROW(#REF!))-5),\"\")","v":""},"",null,{"$f":"IF(AND($B24=\"Muito Alto\",$C24=\"Baixo\"),\"19MuBa\",\"\")","v":""},"",{"$f":"IFERROR(INDEX($AH$6:$AH$30,_xlfn.AGGREGATE(15,6,ROW($AH$6:$AH$30)/($AH$6:$AH$30<>\"\"),ROW(#REF!))-5),\"\")","v":""},"",null,{"$f":"IF(AND($B24=\"Muito Alto\",$C24=\"Desprezível\"),\"19MuDe\",\"\")","v":""},"",{"$f":"IFERROR(INDEX($AM$6:$AM$30,_xlfn.AGGREGATE(15,6,ROW($AM$6:$AM$30)/($AM$6:$AM$30<>\"\"),ROW(#REF!))-5),\"\")","v":""},"",null,{"$f":"IF(AND($B24=\"Alto\",$C24=\"Muito Alto\"),\"19AlMu\",\"\")","v":""},"",{"$f":"IFERROR(INDEX($AR$6:$AR$10,_xlfn.AGGREGATE(15,6,ROW($AR$6:$AR$10)/($AR$6:$AR$10<>\"\"),ROW(#REF!))-5),\"\")","v":""},"",null,{"$f":"IF(AND($B24=\"Alto\",$C24=\"Alto\"),\"19AlAl\",\"\")","v":""},"",{"$f":"IFERROR(INDEX($AW$6:$AW$30,_xlfn.AGGREGATE(15,6,ROW($AW$6:$AW$30)/($AW$6:$AW$30<>\"\"),ROW(#REF!))-5),\"\")","v":""},"",null,{"$f":"IF(AND($B24=\"Alto\",$C24=\"Moderado\"),\"19AlMo\",\"\")","v":""},"",{"$f":"IFERROR(INDEX($BB$6:$BB$30,_xlfn.AGGREGATE(15,6,ROW($BB$6:$BB$30)/($BB$6:$BB$30<>\"\"),ROW(#REF!))-5),\"\")","v":""},"",null,{"$f":"IF(AND($B24=\"Alto\",$C24=\"Baixo\"),\"19AlBa\",\"\")","v":""},"",{"$f":"IFERROR(INDEX($BG$6:$BG$30,_xlfn.AGGREGATE(15,6,ROW($BG$6:$BG$30)/($BG$6:$BG$30<>\"\"),ROW(#REF!))-5),\"\")","v":""},"",null,{"$f":"IF(AND($B24=\"Alto\",$C24=\"Desprezível\"),\"19AlDe\",\"\")","v":""},"",{"$f":"IFERROR(INDEX($BL$6:$BL$30,_xlfn.AGGREGATE(15,6,ROW($BL$6:$BL$30)/($BL$6:$BL$30<>\"\"),ROW(#REF!))-5),\"\")","v":""},"",null,{"$f":"IF(AND($B24=\"Moderado\",$C24=\"Muito Alto\"),\"19MoMu\",\"\")","v":""},"",{"$f":"IFERROR(INDEX($BQ$6:$BQ$10,_xlfn.AGGREGATE(15,6,ROW($BQ$6:$BQ$10)/($BQ$6:$BQ$10<>\"\"),ROW(#REF!))-5),\"\")","v":""},"",null,{"$f":"IF(AND($B24=\"Moderado\",$C24=\"Alto\"),\"19MoAl\",\"\")","v":""},"",{"$f":"IFERROR(INDEX($BV$6:$BV$30,_xlfn.AGGREGATE(15,6,ROW($BV$6:$BV$30)/($BV$6:$BV$30<>\"\"),ROW(#REF!))-5),\"\")","v":""},"",null,{"$f":"IF(AND($B24=\"Moderado\",$C24=\"Moderado\"),\"19MoMo\",\"\")","v":""},"",{"$f":"IFERROR(INDEX($CA$6:$CA$30,_xlfn.AGGREGATE(15,6,ROW($CA$6:$CA$30)/($CA$6:$CA$30<>\"\"),ROW(#REF!))-5),\"\")","v":""},"",null,{"$f":"IF(AND($B24=\"Moderado\",$C24=\"Baixo\"),\"19MoBa\",\"\")","v":""},"",{"$f":"IFERROR(INDEX($CF$6:$CF$30,_xlfn.AGGREGATE(15,6,ROW($CF$6:$CF$30)/($CF$6:$CF$30<>\"\"),ROW(#REF!))-5),\"\")","v":""},"",null,{"$f":"IF(AND($B24=\"Moderado\",$C24=\"Desprezível\"),\"19MoDe\",\"\")","v":""},"",{"$f":"IFERROR(INDEX($CK$6:$CK$30,_xlfn.AGGREGATE(15,6,ROW($CK$6:$CK$30)/($CK$6:$CK$30<>\"\"),ROW(#REF!))-5),\"\")","v":""},"",null,{"$f":"IF(AND($B24=\"Baixo\",$C24=\"Muito Alto\"),\"19BaMu\",\"\")","v":""},"",{"$f":"IFERROR(INDEX($CP$6:$CP$30,_xlfn.AGGREGATE(15,6,ROW($CP$6:$CP$30)/($CP$6:$CP$30<>\"\"),ROW(#REF!))-5),\"\")","v":""},"",null,{"$f":"IF(AND($B24=\"Baixo\",$C24=\"Alto\"),\"19BaAl\",\"\")","v":""},"",{"$f":"IFERROR(INDEX($CU$6:$CU$30,_xlfn.AGGREGATE(15,6,ROW($CU$6:$CU$30)/($CU$6:$CU$30<>\"\"),ROW(#REF!))-5),\"\")","v":""},"",null,{"$f":"IF(AND($B24=\"Baixo\",$C24=\"Moderado\"),\"19BaMo\",\"\")","v":""},"",{"$f":"IFERROR(INDEX($CZ$6:$CZ$30,_xlfn.AGGREGATE(15,6,ROW($CZ$6:$CZ$30)/($CZ$6:$CZ$30<>\"\"),ROW(#REF!))-5),\"\")","v":""},"",null,{"$f":"IF(AND($B24=\"Baixo\",$C24=\"Baixo\"),\"19BaBa\",\"\")","v":"19BaBa"},"",{"$f":"IFERROR(INDEX($DE$6:$DE$30,_xlfn.AGGREGATE(15,6,ROW($DE$6:$DE$30)/($DE$6:$DE$30<>\"\"),ROW(#REF!))-5),\"\")","v":""},"",null,{"$f":"IF(AND($B24=\"Baixo\",$C24=\"Desprezível\"),\"19BaDe\",\"\")","v":""},"",{"$f":"IFERROR(INDEX($DJ$6:$DJ$30,_xlfn.AGGREGATE(15,6,ROW($DJ$6:$DJ$30)/($DJ$6:$DJ$30<>\"\"),ROW(#REF!))-5),\"\")","v":""},"",null,{"$f":"IF(AND($B24=\"Desprezível\",$C24=\"Muito Alto\"),\"19DeMu\",\"\")","v":""},"",{"$f":"IFERROR(INDEX($DO$6:$DO$10,_xlfn.AGGREGATE(15,6,ROW($DO$6:$DO$10)/($DO$6:$DO$10<>\"\"),ROW(#REF!))-5),\"\")","v":""},"",null,{"$f":"IF(AND($B24=\"Desprezível\",$C24=\"Alto\"),\"19DeAl\",\"\")","v":""},"",{"$f":"IFERROR(INDEX($DT$6:$DT$30,_xlfn.AGGREGATE(15,6,ROW($DT$6:$DT$30)/($DT$6:$DT$30<>\"\"),ROW(#REF!))-5),\"\")","v":""},"",null,{"$f":"IF(AND($B24=\"Desprezível\",$C24=\"Moderado\"),\"19DeMo\",\"\")","v":""},"",{"$f":"IFERROR(INDEX($DY$6:$DY$30,_xlfn.AGGREGATE(15,6,ROW($DY$6:$DY$30)/($DY$6:$DY$30<>\"\"),ROW(#REF!))-5),\"\")","v":""},"",null,{"$f":"IF(AND($B24=\"Desprezível\",$C24=\"Baixo\"),\"19DeBa\",\"\")","v":""},"",{"$f":"IFERROR(INDEX($ED$6:$ED$30,_xlfn.AGGREGATE(15,6,ROW($ED$6:$ED$30)/($ED$6:$ED$30<>\"\"),ROW(#REF!))-5),\"\")","v":""},"",null,{"$f":"IF(AND($B24=\"Desprezível\",$C24=\"Desprezível\"),\"19DeDe\",\"\")","v":""},"",{"$f":"IFERROR(INDEX($EI$6:$EI$30,_xlfn.AGGREGATE(15,6,ROW($EI$6:$EI$30)/($EI$6:$EI$30<>\"\"),ROW(#REF!))-5),\"\")","v":""},""]
["TTT","Baixo","Desprezível",null,null,null,null,null,null,null,null,null,null,null,null,null,null,null,{"$f":"IF(AND($B25=\"Muito Alto\",$C25=\"Muito Alto\"),\"20MuMu\",\"\")","v":""},"",{"$f":"IFERROR(INDEX($S$6:$S$10,_xlfn.AGGREGATE(15,6,ROW($S$6:$S$10)/($S$6:$S$10<>\"\"),ROW(#REF!))-5),\"\")","v":""},"",null,{"$f":"IF(AND($B25=\"Muito Alto\",$C25=\"Alto\"),\"20MuAl\",\"\")","v":""},"",{"$f":"IFERROR(INDEX($X$6:$X$30,_xlfn.AGGREGATE(15,6,ROW($X$6:$X$30)/($X$6:$X$30<>\"\"),ROW(#REF!))-5),\"\")","v":""},"",null,{"$f":"IF(AND($B25=\"Muito Alto\",$C25=\"Moderado\"),\"20MuMo\",\"\")","v":""},"",{"$f":"IFERROR(INDEX($AC$6:$AC$30,_xlfn.AGGREGATE(15,6,ROW($AC$6:$AC$30)/($AC$6:$AC$30<>\"\"),ROW(#REF!))-5),\"\")","v":""},"",null,{"$f":"IF(AND($B25=\"Muito Alto\",$C25=\"Baixo\"),\"20MuBa\",\"\")","v":""},"",{"$f":"IFERROR(INDEX($AH$6:$AH$30,_xlfn.AGGREGATE(15,6,ROW($AH$6:$AH$30)/($AH$6:$AH$30<>\"\"),ROW(#REF!))-5),\"\")","v":""},"",null,{"$f":"IF(AND($B25=\"Muito Alto\",$C25=\"Desprezível\"),\"20MuDe\",\"\")","v":""},"",{"$f":"IFERROR(INDEX($AM$6:$AM$30,_xlfn.AGGREGATE(15,6,ROW($AM$6:$AM$30)/($AM$6:$AM$30<>\"\"),ROW(#REF!))-5),\"\")","v":""},"",null,{"$f":"IF(AND($B25=\"Alto\",$C25=\"Muito Alto\"),\"20AlMu\",\"\")","v":""},"",{"$f":"IFERROR(INDEX($AR$6:$AR$10,_xlfn.AGGREGATE(15,6,ROW($AR$6:$AR$10)/($AR$6:$AR$10<>\"\"),ROW(#REF!))-5),\"\")","v":""},"",null,{"$f":"IF(AND($B25=\"Alto\",$C25=\"Alto\"),\"20AlAl\",\"\")","v":""},"",{"$f":"IFERROR(INDEX($AW$6:$AW$30,_xlfn.AGGREGATE(15,6,ROW($AW$6:$AW$30)/($AW$6:$AW$30<>\"\"),ROW(#REF!))-5),\"\")","v":""},"",null,{"$f":"IF(AND($B25=\"Alto\",$C25=\"Moderado\"),\"20AlMo\",\"\")","v":""},"",{"$f":"IFERROR(INDEX($BB$6:$BB$30,_xlfn.AGGREGATE(15,6,ROW($BB$6:$BB$30)/($BB$6:$BB$30<>\"\"),ROW(#REF!))-5),\"\")","v":""},"",null,{"$f":"IF(AND($B25=\"Alto\",$C25=\"Baixo\"),\"20AlBa\",\"\")","v":""},"",{"$f":"IFERROR(INDEX($BG$6:$BG$30,_xlfn.AGGREGATE(15,6,ROW($BG$6:$BG$30)/($BG$6:$BG$30<>\"\"),ROW(#REF!))-5),\"\")","v":""},"",null,{"$f":"IF(AND($B25=\"Alto\",$C25=\"Desprezível\"),\"20AlDe\",\"\")","v":""},"",{"$f":"IFERROR(INDEX($BL$6:$BL$30,_xlfn.AGGREGATE(15,6,ROW($BL$6:$BL$30)/($BL$6:$BL$30<>\"\"),ROW(#REF!))-5),\"\")","v":""},"",null,{"$f":"IF(AND($B25=\"Moderado\",$C25=\"Muito Alto\"),\"20MoMu\",\"\")","v":""},"",{"$f":"IFERROR(INDEX($BQ$6:$BQ$10,_xlfn.AGGREGATE(15,6,ROW($BQ$6:$BQ$10)/($BQ$6:$BQ$10<>\"\"),ROW(#REF!))-5),\"\")","v":""},"",null,{"$f":"IF(AND($B25=\"Moderado\",$C25=\"Alto\"),\"20MoAl\",\"\")","v":""},"",{"$f":"IFERROR(INDEX($BV$6:$BV$30,_xlfn.AGGREGATE(15,6,ROW($BV$6:$BV$30)/($BV$6:$BV$30<>\"\"),ROW(#REF!))-5),\"\")","v":""},"",null,{"$f":"IF(AND($B25=\"Moderado\",$C25=\"Moderado\"),\"20MoMo\",\"\")","v":""},"",{"$f":"IFERROR(INDEX($CA$6:$CA$30,_xlfn.AGGREGATE(15,6,ROW($CA$6:$CA$30)/($CA$6:$CA$30<>\"\"),ROW(#REF!))-5),\"\")","v":""},"",null,{"$f":"IF(AND($B25=\"Moderado\",$C25=\"Baixo\"),\"20MoBa\",\"\")","v":""},"",{"$f":"IFERROR(INDEX($CF$6:$CF$30,_xlfn.AGGREGATE(15,6,ROW($CF$6:$CF$30)/($CF$6:$CF$30<>\"\"),ROW(#REF!))-5),\"\")","v":""},"",null,{"$f":"IF(AND($B25=\"Moderado\",$C25=\"Desprezível\"),\"20MoDe\",\"\")","v":""},"",{"$f":"IFERROR(INDEX($CK$6:$CK$30,_xlfn.AGGREGATE(15,6,ROW($CK$6:$CK$30)/($CK$6:$CK$30<>\"\"),ROW(#REF!))-5),\"\")","v":""},"",null,{"$f":"IF(AND($B25=\"Baixo\",$C25=\"Muito Alto\"),\"20BaMu\",\"\")","v":""},"",{"$f":"IFERROR(INDEX($CP$6:$CP$30,_xlfn.AGGREGATE(15,6,ROW($CP$6:$CP$30)/($CP$6:$CP$30<>\"\"),ROW(#REF!))-5),\"\")","v":""},"",null,{"$f":"IF(AND($B25=\"Baixo\",$C25=\"Alto\"),\"20BaAl\",\"\")","v":""},"",{"$f":"IFERROR(INDEX($CU$6:$CU$30,_xlfn.AGGREGATE(15,6,ROW($CU$6:$CU$30)/($CU$6:$CU$30<>\"\"),ROW(#REF!))-5),\"\")","v":""},"",null,{"$f":"IF(AND($B25=\"Baixo\",$C25=\"Moderado\"),\"20BaMo\",\"\")","v":""},"",{"$f":"IFERROR(INDEX($CZ$6:$CZ$30,_xlfn.AGGREGATE(15,6,ROW($CZ$6:$CZ$30)/($CZ$6:$CZ$30<>\"\"),ROW(#REF!))-5),\"\")","v":""},"",null,{"$f":"IF(AND($B25=\"Baixo\",$C25=\"Baixo\"),\"20BaBa\",\"\")","v":""},"",{"$f":"IFERROR(INDEX($DE$6:$DE$30,_xlfn.AGGREGATE(15,6,ROW($DE$6:$DE$30)/($DE$6:$DE$30<>\"\"),ROW(#REF!))-5),\"\")","v":""},"",null,{"$f":"IF(AND($B25=\"Baixo\",$C25=\"Desprezível\"),\"20BaDe\",\"\")","v":"20BaDe"},"",{"$f":"IFERROR(INDEX($DJ$6:$DJ$30,_xlfn.AGGREGATE(15,6,ROW($DJ$6:$DJ$30)/($DJ$6:$DJ$30<>\"\"),ROW(#REF!))-5),\"\")","v":""},"",null,{"$f":"IF(AND($B25=\"Desprezível\",$C25=\"Muito Alto\"),\"20DeMu\",\"\")","v":""},"",{"$f":"IFERROR(INDEX($DO$6:$DO$10,_xlfn.AGGREGATE(15,6,ROW($DO$6:$DO$10)/($DO$6:$DO$10<>\"\"),ROW(#REF!))-5),\"\")","v":""},"",null,{"$f":"IF(AND($B25=\"Desprezível\",$C25=\"Alto\"),\"20DeAl\",\"\")","v":""},"",{"$f":"IFERROR(INDEX($DT$6:$DT$30,_xlfn.AGGREGATE(15,6,ROW($DT$6:$DT$30)/($DT$6:$DT$30<>\"\"),ROW(#REF!))-5),\"\")","v":""},"",null,{"$f":"IF(AND($B25=\"Desprezível\",$C25=\"Moderado\"),\"20DeMo\",\"\")","v":""},"",{"$f":"IFERROR(INDEX($DY$6:$DY$30,_xlfn.AGGREGATE(15,6,ROW($DY$6:$DY$30)/($DY$6:$DY$30<>\"\"),ROW(#REF!))-5),\"\")","v":""},"",null,{"$f":"IF(AND($B25=\"Desprezível\",$C25=\"Baixo\"),\"20DeBa\",\"\")","v":""},"",{"$f":"IFERROR(INDEX($ED$6:$ED$30,_xlfn.AGGREGATE(15,6,ROW($ED$6:$ED$30)/($ED$6:$ED$30<>\"\"),ROW(#REF!))-5),\"\")","v":""},"",null,{"$f":"IF(AND($B25=\"Desprezível\",$C25=\"Desprezível\"),\"20DeDe\",\"\")","v":""},"",{"$f":"IFERROR(INDEX($EI$6:$EI$30,_xlfn.AGGREGATE(15,6,ROW($EI$6:$EI$30)/($EI$6:$EI$30<>\"\"),ROW(#REF!))-5),\"\")","v":""},""]
["UUU","Desprezível","Muito Alto",null,null,null,null,null,null,null,null,null,null,null,null,null,null,null,{"$f":"IF(AND($B26=\"Muito Alto\",$C26=\"Muito Alto\"),\"21MuMu\",\"\")","v":""},"",{"$f":"IFERROR(INDEX($S$6:$S$10,_xlfn.AGGREGATE(15,6,ROW($S$6:$S$10)/($S$6:$S$10<>\"\"),ROW(#REF!))-5),\"\")","v":""},"",null,{"$f":"IF(AND($B26=\"Muito Alto\",$C26=\"Alto\"),\"21MuAl\",\"\")","v":""},"",{"$f":"IFERROR(INDEX($X$6:$X$30,_xlfn.AGGREGATE(15,6,ROW($X$6:$X$30)/($X$6:$X$30<>\"\"),ROW(#REF!))-5),\"\")","v":""},"",null,{"$f":"IF(AND($B26=\"Muito Alto\",$C26=\"Moderado\"),\"21MuMo\",\"\")","v":""},"",{"$f":"IFERROR(INDEX($AC$6:$AC$30,_xlfn.AGGREGATE(15,6,ROW($AC$6:$AC$30)/($AC$6:$AC$30<>\"\"),ROW(#REF!))-5),\"\")","v":""},"",null,{"$f":"IF(AND($B26=\"Muito Alto\",$C26=\"Baixo\"),\"21MuBa\",\"\")","v":""},"",{"$f":"IFERROR(INDEX($AH$6:$AH$30,_xlfn.AGGREGATE(15,6,ROW($AH$6:$AH$30)/($AH$6:$AH$30<>\"\"),ROW(#REF!))-5),\"\")","v":""},"",null,{"$f":"IF(AND($B26=\"Muito Alto\",$C26=\"Desprezível\"),\"21MuDe\",\"\")","v":""},"",{"$f":"IFERROR(INDEX($AM$6:$AM$30,_xlfn.AGGREGATE(15,6,ROW($AM$6:$AM$30)/($AM$6:$AM$30<>\"\"),ROW(#REF!))-5),\"\")","v":""},"",null,{"$f":"IF(AND($B26=\"Alto\",$C26=\"Muito Alto\"),\"21AlMu\",\"\")","v":""},"",{"$f":"IFERROR(INDEX($AR$6:$AR$10,_xlfn.AGGREGATE(15,6,ROW($AR$6:$AR$10)/($AR$6:$AR$10<>\"\"),ROW(#REF!))-5),\"\")","v":""},"",null,{"$f":"IF(AND($B26=\"Alto\",$C26=\"Alto\"),\"21AlAl\",\"\")","v":""},"",{"$f":"IFERROR(INDEX($AW$6:$AW$30,_xlfn.AGGREGATE(15,6,ROW($AW$6:$AW$30)/($AW$6:$AW$30<>\"\"),ROW(#REF!))-5),\"\")","v":""},"",null,{"$f":"IF(AND($B26=\"Alto\",$C26=\"Moderado\"),\"21AlMo\",\"\")","v":""},"",{"$f":"IFERROR(INDEX($BB$6:$BB$30,_xlfn.AGGREGATE(15,6,ROW($BB$6:$BB$30)/($BB$6:$BB$30<>\"\"),ROW(#REF!))-5),\"\")","v":""},"",null,{"$f":"IF(AND($B26=\"Alto\",$C26=\"Baixo\"),\"21AlBa\",\"\")","v":""},"",{"$f":"IFERROR(INDEX($BG$6:$BG$30,_xlfn.AGGREGATE(15,6,ROW($BG$6:$BG$30)/($BG$6:$BG$30<>\"\"),ROW(#REF!))-5),\"\")","v":""},"",null,{"$f":"IF(AND($B26=\"Alto\",$C26=\"Desprezível\"),\"21AlDe\",\"\")","v":""},"",{"$f":"IFERROR(INDEX($BL$6:$BL$30,_xlfn.AGGREGATE(15,6,ROW($BL$6:$BL$30)/($BL$6:$BL$30<>\"\"),ROW(#REF!))-5),\"\")","v":""},"",null,{"$f":"IF(AND($B26=\"Moderado\",$C26=\"Muito Alto\"),\"21MoMu\",\"\")","v":""},"",{"$f":"IFERROR(INDEX($BQ$6:$BQ$10,_xlfn.AGGREGATE(15,6,ROW($BQ$6:$BQ$10)/($BQ$6:$BQ$10<>\"\"),ROW(#REF!))-5),\"\")","v":""},"",null,{"$f":"IF(AND($B26=\"Moderado\",$C26=\"Alto\"),\"21MoAl\",\"\")","v":""},"",{"$f":"IFERROR(INDEX($BV$6:$BV$30,_xlfn.AGGREGATE(15,6,ROW($BV$6:$BV$30)/($BV$6:$BV$30<>\"\"),ROW(#REF!))-5),\"\")","v":""},"",null,{"$f":"IF(AND($B26=\"Moderado\",$C26=\"Moderado\"),\"21MoMo\",\"\")","v":""},"",{"$f":"IFERROR(INDEX($CA$6:$CA$30,_xlfn.AGGREGATE(15,6,ROW($CA$6:$CA$30)/($CA$6:$CA$30<>\"\"),ROW(#REF!))-5),\"\")","v":""},"",null,{"$f":"IF(AND($B26=\"Moderado\",$C26=\"Baixo\"),\"21MoBa\",\"\")","v":""},"",{"$f":"IFERROR(INDEX($CF$6:$CF$30,_xlfn.AGGREGATE(15,6,ROW($CF$6:$CF$30)/($CF$6:$CF$30<>\"\"),ROW(#REF!))-5),\"\")","v":""},"",null,{"$f":"IF(AND($B26=\"Moderado\",$C26=\"Desprezível\"),\"21MoDe\",\"\")","v":""},"",{"$f":"IFERROR(INDEX($CK$6:$CK$30,_xlfn.AGGREGATE(15,6,ROW($CK$6:$CK$30)/($CK$6:$CK$30<>\"\"),ROW(#REF!))-5),\"\")","v":""},"",null,{"$f":"IF(AND($B26=\"Baixo\",$C26=\"Muito Alto\"),\"21BaMu\",\"\")","v":""},"",{"$f":"IFERROR(INDEX($CP$6:$CP$30,_xlfn.AGGREGATE(15,6,ROW($CP$6:$CP$30)/($CP$6:$CP$30<>\"\"),ROW(#REF!))-5),\"\")","v":""},"",null,{"$f":"IF(AND($B26=\"Baixo\",$C26=\"Alto\"),\"21BaAl\",\"\")","v":""},"",{"$f":"IFERROR(INDEX($CU$6:$CU$30,_xlfn.AGGREGATE(15,6,ROW($CU$6:$CU$30)/($CU$6:$CU$30<>\"\"),ROW(#REF!))-5),\"\")","v":""},"",null,{"$f":"IF(AND($B26=\"Baixo\",$C26=\"Moderado\"),\"21BaMo\",\"\")","v":""},"",{"$f":"IFERROR(INDEX($CZ$6:$CZ$30,_xlfn.AGGREGATE(15,6,ROW($CZ$6:$CZ$30)/($CZ$6:$CZ$30<>\"\"),ROW(#REF!))-5),\"\")","v":""},"",null,{"$f":"IF(AND($B26=\"Baixo\",$C26=\"Baixo\"),\"21BaBa\",\"\")","v":""},"",{"$f":"IFERROR(INDEX($DE$6:$DE$30,_xlfn.AGGREGATE(15,6,ROW($DE$6:$DE$30)/($DE$6:$DE$30<>\"\"),ROW(#REF!))-5),\"\")","v":""},"",null,{"$f":"IF(AND($B26=\"Baixo\",$C26=\"Desprezível\"),\"21BaDe\",\"\")","v":""},"",{"$f":"IFERROR(INDEX($DJ$6:$DJ$30,_xlfn.AGGREGATE(15,6,ROW($DJ$6:$DJ$30)/($DJ$6:$DJ$30<>\"\"),ROW(#REF!))-5),\"\")","v":""},"",null,{"$f":"IF(AND($B26=\"Desprezível\",$C26=\"Muito Alto\"),\"21DeMu\",\"\")","v":"21DeMu"},"",{"$f":"IFERROR(INDEX($DO$6:$DO$10,_xlfn.AGGREGATE(15,6,ROW($DO$6:$DO$10)/($DO$6:$DO$10<>\"\"),ROW(#REF!))-5),\"\")","v":""},"",null,{"$f":"IF(AND($B26=\"Desprezível\",$C26=\"Alto\"),\"21DeAl\",\"\")","v":""},"",{"$f":"IFERROR(INDEX($DT$6:$DT$30,_xlfn.AGGREGATE(15,6,ROW($DT$6:$DT$30)/($DT$6:$DT$30<>\"\"),ROW(#REF!))-5),\"\")","v":""},"",null,{"$f":"IF(AND($B26=\"Desprezível\",$C26=\"Moderado\"),\"21DeMo\",\"\")","v":""},"",{"$f":"IFERROR(INDEX($DY$6:$DY$30,_xlfn.AGGREGATE(15,6,ROW($DY$6:$DY$30)/($DY$6:$DY$30<>\"\"),ROW(#REF!))-5),\"\")","v":""},"",null,{"$f":"IF(AND($B26=\"Desprezível\",$C26=\"Baixo\"),\"21DeBa\",\"\")","v":""},"",{"$f":"IFERROR(INDEX($ED$6:$ED$30,_xlfn.AGGREGATE(15,6,ROW($ED$6:$ED$30)/($ED$6:$ED$30<>\"\"),ROW(#REF!))-5),\"\")","v":""},"",null,{"$f":"IF(AND($B26=\"Desprezível\",$C26=\"Desprezível\"),\"21DeDe\",\"\")","v":""},"",{"$f":"IFERROR(INDEX($EI$6:$EI$30,_xlfn.AGGREGATE(15,6,ROW($EI$6:$EI$30)/($EI$6:$EI$30<>\"\"),ROW(#REF!))-5),\"\")","v":""},""]
["VVV","Desprezível","Alto",null,null,null,null,null,null,null,null,null,null,null,null,null,null,null,{"$f":"IF(AND($B27=\"Muito Alto\",$C27=\"Muito Alto\"),\"22MuMu\",\"\")","v":""},"",{"$f":"IFERROR(INDEX($S$6:$S$10,_xlfn.AGGREGATE(15,6,ROW($S$6:$S$10)/($S$6:$S$10<>\"\"),ROW(#REF!))-5),\"\")","v":""},"",null,{"$f":"IF(AND($B27=\"Muito Alto\",$C27=\"Alto\"),\"22MuAl\",\"\")","v":""},"",{"$f":"IFERROR(INDEX($X$6:$X$30,_xlfn.AGGREGATE(15,6,ROW($X$6:$X$30)/($X$6:$X$30<>\"\"),ROW(#REF!))-5),\"\")","v":""},"",null,{"$f":"IF(AND($B27=\"Muito Alto\",$C27=\"Moderado\"),\"22MuMo\",\"\")","v":""},"",{"$f":"IFERROR(INDEX($AC$6:$AC$30,_xlfn.AGGREGATE(15,6,ROW($AC$6:$AC$30)/($AC$6:$AC$30<>\"\"),ROW(#REF!))-5),\"\")","v":""},"",null,{"$f":"IF(AND($B27=\"Muito Alto\",$C27=\"Baixo\"),\"22MuBa\",\"\")","v":""},"",{"$f":"IFERROR(INDEX($AH$6:$AH$30,_xlfn.AGGREGATE(15,6,ROW($AH$6:$AH$30)/($AH$6:$AH$30<>\"\"),ROW(#REF!))-5),\"\")","v":""},"",null,{"$f":"IF(AND($B27=\"Muito Alto\",$C27=\"Desprezível\"),\"22MuDe\",\"\")","v":""},"",{"$f":"IFERROR(INDEX($AM$6:$AM$30,_xlfn.AGGREGATE(15,6,ROW($AM$6:$AM$30)/($AM$6:$AM$30<>\"\"),ROW(#REF!))-5),\"\")","v":""},"",null,{"$f":"IF(AND($B27=\"Alto\",$C27=\"Muito Alto\"),\"22AlMu\",\"\")","v":""},"",{"$f":"IFERROR(INDEX($AR$6:$AR$10,_xlfn.AGGREGATE(15,6,ROW($AR$6:$AR$10)/($AR$6:$AR$10<>\"\"),ROW(#REF!))-5),\"\")","v":""},"",null,{"$f":"IF(AND($B27=\"Alto\",$C27=\"Alto\"),\"22AlAl\",\"\")","v":""},"",{"$f":"IFERROR(INDEX($AW$6:$AW$30,_xlfn.AGGREGATE(15,6,ROW($AW$6:$AW$30)/($AW$6:$AW$30<>\"\"),ROW(#REF!))-5),\"\")","v":""},"",null,{"$f":"IF(AND($B27=\"Alto\",$C27=\"Moderado\"),\"22AlMo\",\"\")","v":""},"",{"$f":"IFERROR(INDEX($BB$6:$BB$30,_xlfn.AGGREGATE(15,6,ROW($BB$6:$BB$30)/($BB$6:$BB$30<>\"\"),ROW(#REF!))-5),\"\")","v":""},"",null,{"$f":"IF(AND($B27=\"Alto\",$C27=\"Baixo\"),\"22AlBa\",\"\")","v":""},"",{"$f":"IFERROR(INDEX($BG$6:$BG$30,_xlfn.AGGREGATE(15,6,ROW($BG$6:$BG$30)/($BG$6:$BG$30<>\"\"),ROW(#REF!))-5),\"\")","v":""},"",null,{"$f":"IF(AND($B27=\"Alto\",$C27=\"Desprezível\"),\"22AlDe\",\"\")","v":""},"",{"$f":"IFERROR(INDEX($BL$6:$BL$30,_xlfn.AGGREGATE(15,6,ROW($BL$6:$BL$30)/($BL$6:$BL$30<>\"\"),ROW(#REF!))-5),\"\")","v":""},"",null,{"$f":"IF(AND($B27=\"Moderado\",$C27=\"Muito Alto\"),\"22MoMu\",\"\")","v":""},"",{"$f":"IFERROR(INDEX($BQ$6:$BQ$10,_xlfn.AGGREGATE(15,6,ROW($BQ$6:$BQ$10)/($BQ$6:$BQ$10<>\"\"),ROW(#REF!))-5),\"\")","v":""},"",null,{"$f":"IF(AND($B27=\"Moderado\",$C27=\"Alto\"),\"22MoAl\",\"\")","v":""},"",{"$f":"IFERROR(INDEX($BV$6:$BV$30,_xlfn.AGGREGATE(15,6,ROW($BV$6:$BV$30)/($BV$6:$BV$30<>\"\"),ROW(#REF!))-5),\"\")","v":""},"",null,{"$f":"IF(AND($B27=\"Moderado\",$C27=\"Moderado\"),\"22MoMo\",\"\")","v":""},"",{"$f":"IFERROR(INDEX($CA$6:$CA$30,_xlfn.AGGREGATE(15,6,ROW($CA$6:$CA$30)/($CA$6:$CA$30<>\"\"),ROW(#REF!))-5),\"\")","v":""},"",null,{"$f":"IF(AND($B27=\"Moderado\",$C27=\"Baixo\"),\"22MoBa\",\"\")","v":""},"",{"$f":"IFERROR(INDEX($CF$6:$CF$30,_xlfn.AGGREGATE(15,6,ROW($CF$6:$CF$30)/($CF$6:$CF$30<>\"\"),ROW(#REF!))-5),\"\")","v":""},"",null,{"$f":"IF(AND($B27=\"Moderado\",$C27=\"Desprezível\"),\"22MoDe\",\"\")","v":""},"",{"$f":"IFERROR(INDEX($CK$6:$CK$30,_xlfn.AGGREGATE(15,6,ROW($CK$6:$CK$30)/($CK$6:$CK$30<>\"\"),ROW(#REF!))-5),\"\")","v":""},"",null,{"$f":"IF(AND($B27=\"Baixo\",$C27=\"Muito Alto\"),\"22BaMu\",\"\")","v":""},"",{"$f":"IFERROR(INDEX($CP$6:$CP$30,_xlfn.AGGREGATE(15,6,ROW($CP$6:$CP$30)/($CP$6:$CP$30<>\"\"),ROW(#REF!))-5),\"\")","v":""},"",null,{"$f":"IF(AND($B27=\"Baixo\",$C27=\"Alto\"),\"22BaAl\",\"\")","v":""},"",{"$f":"IFERROR(INDEX($CU$6:$CU$30,_xlfn.AGGREGATE(15,6,ROW($CU$6:$CU$30)/($CU$6:$CU$30<>\"\"),ROW(#REF!))-5),\"\")","v":""},"",null,{"$f":"IF(AND($B27=\"Baixo\",$C27=\"Moderado\"),\"22BaMo\",\"\")","v":""},"",{"$f":"IFERROR(INDEX($CZ$6:$CZ$30,_xlfn.AGGREGATE(15,6,ROW($CZ$6:$CZ$30)/($CZ$6:$CZ$30<>\"\"),ROW(#REF!))-5),\"\")","v":""},"",null,{"$f":"IF(AND($B27=\"Baixo\",$C27=\"Baixo\"),\"22BaBa\",\"\")","v":""},"",{"$f":"IFERROR(INDEX($DE$6:$DE$30,_xlfn.AGGREGATE(15,6,ROW($DE$6:$DE$30)/($DE$6:$DE$30<>\"\"),ROW(#REF!))-5),\"\")","v":""},"",null,{"$f":"IF(AND($B27=\"Baixo\",$C27=\"Desprezível\"),\"22BaDe\",\"\")","v":""},"",{"$f":"IFERROR(INDEX($DJ$6:$DJ$30,_xlfn.AGGREGATE(15,6,ROW($DJ$6:$DJ$30)/($DJ$6:$DJ$30<>\"\"),ROW(#REF!))-5),\"\")","v":""},"",null,{"$f":"IF(AND($B27=\"Desprezível\",$C27=\"Muito Alto\"),\"22DeMu\",\"\")","v":""},"",{"$f":"IFERROR(INDEX($DO$6:$DO$10,_xlfn.AGGREGATE(15,6,ROW($DO$6:$DO$10)/($DO$6:$DO$10<>\"\"),ROW(#REF!))-5),\"\")","v":""},"",null,{"$f":"IF(AND($B27=\"Desprezível\",$C27=\"Alto\"),\"22DeAl\",\"\")","v":"22DeAl"},"",{"$f":"IFERROR(INDEX($DT$6:$DT$30,_xlfn.AGGREGATE(15,6,ROW($DT$6:$DT$30)/($DT$6:$DT$30<>\"\"),ROW(#REF!))-5),\"\")","v":""},"",null,{"$f":"IF(AND($B27=\"Desprezível\",$C27=\"Moderado\"),\"22DeMo\",\"\")","v":""},"",{"$f":"IFERROR(INDEX($DY$6:$DY$30,_xlfn.AGGREGATE(15,6,ROW($DY$6:$DY$30)/($DY$6:$DY$30<>\"\"),ROW(#REF!))-5),\"\")","v":""},"",null,{"$f":"IF(AND($B27=\"Desprezível\",$C27=\"Baixo\"),\"22DeBa\",\"\")","v":""},"",{"$f":"IFERROR(INDEX($ED$6:$ED$30,_xlfn.AGGREGATE(15,6,ROW($ED$6:$ED$30)/($ED$6:$ED$30<>\"\"),ROW(#REF!))-5),\"\")","v":""},"",null,{"$f":"IF(AND($B27=\"Desprezível\",$C27=\"Desprezível\"),\"22DeDe\",\"\")","v":""},"",{"$f":"IFERROR(INDEX($EI$6:$EI$30,_xlfn.AGGREGATE(15,6,ROW($EI$6:$EI$30)/($EI$6:$EI$30<>\"\"),ROW(#REF!))-5),\"\")","v":""},""]
["XXX","Desprezível","Moderado",null,null,null,null,null,null,null,null,null,null,null,null,null,null,null,{"$f":"IF(AND($B28=\"Muito Alto\",$C28=\"Muito Alto\"),\"23MuMu\",\"\")","v":""},"",{"$f":"IFERROR(INDEX($S$6:$S$10,_xlfn.AGGREGATE(15,6,ROW($S$6:$S$10)/($S$6:$S$10<>\"\"),ROW(#REF!))-5),\"\")","v":""},"",null,{"$f":"IF(AND($B28=\"Muito Alto\",$C28=\"Alto\"),\"23MuAl\",\"\")","v":""},"",{"$f":"IFERROR(INDEX($X$6:$X$30,_xlfn.AGGREGATE(15,6,ROW($X$6:$X$30)/($X$6:$X$30<>\"\"),ROW(#REF!))-5),\"\")","v":""},"",null,{"$f":"IF(AND($B28=\"Muito Alto\",$C28=\"Moderado\"),\"23MuMo\",\"\")","v":""},"",{"$f":"IFERROR(INDEX($AC$6:$AC$30,_xlfn.AGGREGATE(15,6,ROW($AC$6:$AC$30)/($AC$6:$AC$30<>\"\"),ROW(#REF!))-5),\"\")","v":""},"",null,{"$f":"IF(AND($B28=\"Muito Alto\",$C28=\"Baixo\"),\"23MuBa\",\"\")","v":""},"",{"$f":"IFERROR(INDEX($AH$6:$AH$30,_xlfn.AGGREGATE(15,6,ROW($AH$6:$AH$30)/($AH$6:$AH$30<>\"\"),ROW(#REF!))-5),\"\")","v":""},"",null,{"$f":"IF(AND($B28=\"Muito Alto\",$C28=\"Desprezível\"),\"23MuDe\",\"\")","v":""},"",{"$f":"IFERROR(INDEX($AM$6:$AM$30,_xlfn.AGGREGATE(15,6,ROW($AM$6:$AM$30)/($AM$6:$AM$30<>\"\"),ROW(#REF!))-5),\"\")","v":""},"",null,{"$f":"IF(AND($B28=\"Alto\",$C28=\"Muito Alto\"),\"23AlMu\",\"\")","v":""},"",{"$f":"IFERROR(INDEX($AR$6:$AR$10,_xlfn.AGGREGATE(15,6,ROW($AR$6:$AR$10)/($AR$6:$AR$10<>\"\"),ROW(#REF!))-5),\"\")","v":""},"",null,{"$f":"IF(AND($B28=\"Alto\",$C28=\"Alto\"),\"23AlAl\",\"\")","v":""},"",{"$f":"IFERROR(INDEX($AW$6:$AW$30,_xlfn.AGGREGATE(15,6,ROW($AW$6:$AW$30)/($AW$6:$AW$30<>\"\"),ROW(#REF!))-5),\"\")","v":""},"",null,{"$f":"IF(AND($B28=\"Alto\",$C28=\"Moderado\"),\"23AlMo\",\"\")","v":""},"",{"$f":"IFERROR(INDEX($BB$6:$BB$30,_xlfn.AGGREGATE(15,6,ROW($BB$6:$BB$30)/($BB$6:$BB$30<>\"\"),ROW(#REF!))-5),\"\")","v":""},"",null,{"$f":"IF(AND($B28=\"Alto\",$C28=\"Baixo\"),\"23AlBa\",\"\")","v":""},"",{"$f":"IFERROR(INDEX($BG$6:$BG$30,_xlfn.AGGREGATE(15,6,ROW($BG$6:$BG$30)/($BG$6:$BG$30<>\"\"),ROW(#REF!))-5),\"\")","v":""},"",null,{"$f":"IF(AND($B28=\"Alto\",$C28=\"Desprezível\"),\"23AlDe\",\"\")","v":""},"",{"$f":"IFERROR(INDEX($BL$6:$BL$30,_xlfn.AGGREGATE(15,6,ROW($BL$6:$BL$30)/($BL$6:$BL$30<>\"\"),ROW(#REF!))-5),\"\")","v":""},"",null,{"$f":"IF(AND($B28=\"Moderado\",$C28=\"Muito Alto\"),\"23MoMu\",\"\")","v":""},"",{"$f":"IFERROR(INDEX($BQ$6:$BQ$10,_xlfn.AGGREGATE(15,6,ROW($BQ$6:$BQ$10)/($BQ$6:$BQ$10<>\"\"),ROW(#REF!))-5),\"\")","v":""},"",null,{"$f":"IF(AND($B28=\"Moderado\",$C28=\"Alto\"),\"23MoAl\",\"\")","v":""},"",{"$f":"IFERROR(INDEX($BV$6:$BV$30,_xlfn.AGGREGATE(15,6,ROW($BV$6:$BV$30)/($BV$6:$BV$30<>\"\"),ROW(#REF!))-5),\"\")","v":""},"",null,{"$f":"IF(AND($B28=\"Moderado\",$C28=\"Moderado\"),\"23MoMo\",\"\")","v":""},"",{"$f":"IFERROR(INDEX($CA$6:$CA$30,_xlfn.AGGREGATE(15,6,ROW($CA$6:$CA$30)/($CA$6:$CA$30<>\"\"),ROW(#REF!))-5),\"\")","v":""},"",null,{"$f":"IF(AND($B28=\"Moderado\",$C28=\"Baixo\"),\"23MoBa\",\"\")","v":""},"",{"$f":"IFERROR(INDEX($CF$6:$CF$30,_xlfn.AGGREGATE(15,6,ROW($CF$6:$CF$30)/($CF$6:$CF$30<>\"\"),ROW(#REF!))-5),\"\")","v":""},"",null,{"$f":"IF(AND($B28=\"Moderado\",$C28=\"Desprezível\"),\"23MoDe\",\"\")","v":""},"",{"$f":"IFERROR(INDEX($CK$6:$CK$30,_xlfn.AGGREGATE(15,6,ROW($CK$6:$CK$30)/($CK$6:$CK$30<>\"\"),ROW(#REF!))-5),\"\")","v":""},"",null,{"$f":"IF(AND($B28=\"Baixo\",$C28=\"Muito Alto\"),\"23BaMu\",\"\")","v":""},"",{"$f":"IFERROR(INDEX($CP$6:$CP$30,_xlfn.AGGREGATE(15,6,ROW($CP$6:$CP$30)/($CP$6:$CP$30<>\"\"),ROW(#REF!))-5),\"\")","v":""},"",null,{"$f":"IF(AND($B28=\"Baixo\",$C28=\"Alto\"),\"23BaAl\",\"\")","v":""},"",{"$f":"IFERROR(INDEX($CU$6:$CU$30,_xlfn.AGGREGATE(15,6,ROW($CU$6:$CU$30)/($CU$6:$CU$30<>\"\"),ROW(#REF!))-5),\"\")","v":""},"",null,{"$f":"IF(AND($B28=\"Baixo\",$C28=\"Moderado\"),\"23BaMo\",\"\")","v":""},"",{"$f":"IFERROR(INDEX($CZ$6:$CZ$30,_xlfn.AGGREGATE(15,6,ROW($CZ$6:$CZ$30)/($CZ$6:$CZ$30<>\"\"),ROW(#REF!))-5),\"\")","v":""},"",null,{"$f":"IF(AND($B28=\"Baixo\",$C28=\"Baixo\"),\"23BaBa\",\"\")","v":""},"",{"$f":"IFERROR(INDEX($DE$6:$DE$30,_xlfn.AGGREGATE(15,6,ROW($DE$6:$DE$30)/($DE$6:$DE$30<>\"\"),ROW(#REF!))-5),\"\")","v":""},"",null,{"$f":"IF(AND($B28=\"Baixo\",$C28=\"Desprezível\"),\"23BaDe\",\"\")","v":""},"",{"$f":"IFERROR(INDEX($DJ$6:$DJ$30,_xlfn.AGGREGATE(15,6,ROW($DJ$6:$DJ$30)/($DJ$6:$DJ$30<>\"\"),ROW(#REF!))-5),\"\")","v":""},"",null,{"$f":"IF(AND($B28=\"Desprezível\",$C28=\"Muito Alto\"),\"23DeMu\",\"\")","v":""},"",{"$f":"IFERROR(INDEX($DO$6:$DO$10,_xlfn.AGGREGATE(15,6,ROW($DO$6:$DO$10)/($DO$6:$DO$10<>\"\"),ROW(#REF!))-5),\"\")","v":""},"",null,{"$f":"IF(AND($B28=\"Desprezível\",$C28=\"Alto\"),\"23DeAl\",\"\")","v":""},"",{"$f":"IFERROR(INDEX($DT$6:$DT$30,_xlfn.AGGREGATE(15,6,ROW($DT$6:$DT$30)/($DT$6:$DT$30<>\"\"),ROW(#REF!))-5),\"\")","v":""},"",null,{"$f":"IF(AND($B28=\"Desprezível\",$C28=\"Moderado\"),\"23DeMo\",\"\")","v":"23DeMo"},"",{"$f":"IFERROR(INDEX($DY$6:$DY$30,_xlfn.AGGREGATE(15,6,ROW($DY$6:$DY$30)/($DY$6:$DY$30<>\"\"),ROW(#REF!))-5),\"\")","v":""},"",null,{"$f":"IF(AND($B28=\"Desprezível\",$C28=\"Baixo\"),\"23DeBa\",\"\")","v":""},"",{"$f":"IFERROR(INDEX($ED$6:$ED$30,_xlfn.AGGREGATE(15,6,ROW($ED$6:$ED$30)/($ED$6:$ED$30<>\"\"),ROW(#REF!))-5),\"\")","v":""},"",null,{"$f":"IF(AND($B28=\"Desprezível\",$C28=\"Desprezível\"),\"23DeDe\",\"\")","v":""},"",{"$f":"IFERROR(INDEX($EI$6:$EI$30,_xlfn.AGGREGATE(15,6,ROW($EI$6:$EI$30)/($EI$6:$EI$30<>\"\"),ROW(#REF!))-5),\"\")","v":""},""]
["YYY","Desprezível","Baixo",null,null,null,null,null,null,null,null,null,null,null,null,null,null,null,{"$f":"IF(AND($B29=\"Muito Alto\",$C29=\"Muito Alto\"),\"24MuMu\",\"\")","v":""},"",{"$f":"IFERROR(INDEX($S$6:$S$10,_xlfn.AGGREGATE(15,6,ROW($S$6:$S$10)/($S$6:$S$10<>\"\"),ROW(#REF!))-5),\"\")","v":""},"",null,{"$f":"IF(AND($B29=\"Muito Alto\",$C29=\"Alto\"),\"24MuAl\",\"\")","v":""},"",{"$f":"IFERROR(INDEX($X$6:$X$30,_xlfn.AGGREGATE(15,6,ROW($X$6:$X$30)/($X$6:$X$30<>\"\"),ROW(#REF!))-5),\"\")","v":""},"",null,{"$f":"IF(AND($B29=\"Muito Alto\",$C29=\"Moderado\"),\"24MuMo\",\"\")","v":""},"",{"$f":"IFERROR(INDEX($AC$6:$AC$30,_xlfn.AGGREGATE(15,6,ROW($AC$6:$AC$30)/($AC$6:$AC$30<>\"\"),ROW(#REF!))-5),\"\")","v":""},"",null,{"$f":"IF(AND($B29=\"Muito Alto\",$C29=\"Baixo\"),\"24MuBa\",\"\")","v":""},"",{"$f":"IFERROR(INDEX($AH$6:$AH$30,_xlfn.AGGREGATE(15,6,ROW($AH$6:$AH$30)/($AH$6:$AH$30<>\"\"),ROW(#REF!))-5),\"\")","v":""},"",null,{"$f":"IF(AND($B29=\"Muito Alto\",$C29=\"Desprezível\"),\"24MuDe\",\"\")","v":""},"",{"$f":"IFERROR(INDEX($AM$6:$AM$30,_xlfn.AGGREGATE(15,6,ROW($AM$6:$AM$30)/($AM$6:$AM$30<>\"\"),ROW(#REF!))-5),\"\")","v":""},"",null,{"$f":"IF(AND($B29=\"Alto\",$C29=\"Muito Alto\"),\"24AlMu\",\"\")","v":""},"",{"$f":"IFERROR(INDEX($AR$6:$AR$10,_xlfn.AGGREGATE(15,6,ROW($AR$6:$AR$10)/($AR$6:$AR$10<>\"\"),ROW(#REF!))-5),\"\")","v":""},"",null,{"$f":"IF(AND($B29=\"Alto\",$C29=\"Alto\"),\"24AlAl\",\"\")","v":""},"",{"$f":"IFERROR(INDEX($AW$6:$AW$30,_xlfn.AGGREGATE(15,6,ROW($AW$6:$AW$30)/($AW$6:$AW$30<>\"\"),ROW(#REF!))-5),\"\")","v":""},"",null,{"$f":"IF(AND($B29=\"Alto\",$C29=\"Moderado\"),\"24AlMo\",\"\")","v":""},"",{"$f":"IFERROR(INDEX($BB$6:$BB$30,_xlfn.AGGREGATE(15,6,ROW($BB$6:$BB$30)/($BB$6:$BB$30<>\"\"),ROW(#REF!))-5),\"\")","v":""},"",null,{"$f":"IF(AND($B29=\"Alto\",$C29=\"Baixo\"),\"24AlBa\",\"\")","v":""},"",{"$f":"IFERROR(INDEX($BG$6:$BG$30,_xlfn.AGGREGATE(15,6,ROW($BG$6:$BG$30)/($BG$6:$BG$30<>\"\"),ROW(#REF!))-5),\"\")","v":""},"",null,{"$f":"IF(AND($B29=\"Alto\",$C29=\"Desprezível\"),\"24AlDe\",\"\")","v":""},"",{"$f":"IFERROR(INDEX($BL$6:$BL$30,_xlfn.AGGREGATE(15,6,ROW($BL$6:$BL$30)/($BL$6:$BL$30<>\"\"),ROW(#REF!))-5),\"\")","v":""},"",null,{"$f":"IF(AND($B29=\"Moderado\",$C29=\"Muito Alto\"),\"24MoMu\",\"\")","v":""},"",{"$f":"IFERROR(INDEX($BQ$6:$BQ$10,_xlfn.AGGREGATE(15,6,ROW($BQ$6:$BQ$10)/($BQ$6:$BQ$10<>\"\"),ROW(#REF!))-5),\"\")","v":""},"",null,{"$f":"IF(AND($B29=\"Moderado\",$C29=\"Alto\"),\"24MoAl\",\"\")","v":""},"",{"$f":"IFERROR(INDEX($BV$6:$BV$30,_xlfn.AGGREGATE(15,6,ROW($BV$6:$BV$30)/($BV$6:$BV$30<>\"\"),ROW(#REF!))-5),\"\")","v":""},"",null,{"$f":"IF(AND($B29=\"Moderado\",$C29=\"Moderado\"),\"24MoMo\",\"\")","v":""},"",{"$f":"IFERROR(INDEX($CA$6:$CA$30,_xlfn.AGGREGATE(15,6,ROW($CA$6:$CA$30)/($CA$6:$CA$30<>\"\"),ROW(#REF!))-5),\"\")","v":""},"",null,{"$f":"IF(AND($B29=\"Moderado\",$C29=\"Baixo\"),\"24MoBa\",\"\")","v":""},"",{"$f":"IFERROR(INDEX($CF$6:$CF$30,_xlfn.AGGREGATE(15,6,ROW($CF$6:$CF$30)/($CF$6:$CF$30<>\"\"),ROW(#REF!))-5),\"\")","v":""},"",null,{"$f":"IF(AND($B29=\"Moderado\",$C29=\"Desprezível\"),\"24MoDe\",\"\")","v":""},"",{"$f":"IFERROR(INDEX($CK$6:$CK$30,_xlfn.AGGREGATE(15,6,ROW($CK$6:$CK$30)/($CK$6:$CK$30<>\"\"),ROW(#REF!))-5),\"\")","v":""},"",null,{"$f":"IF(AND($B29=\"Baixo\",$C29=\"Muito Alto\"),\"24BaMu\",\"\")","v":""},"",{"$f":"IFERROR(INDEX($CP$6:$CP$30,_xlfn.AGGREGATE(15,6,ROW($CP$6:$CP$30)/($CP$6:$CP$30<>\"\"),ROW(#REF!))-5),\"\")","v":""},"",null,{"$f":"IF(AND($B29=\"Baixo\",$C29=\"Alto\"),\"24BaAl\",\"\")","v":""},"",{"$f":"IFERROR(INDEX($CU$6:$CU$30,_xlfn.AGGREGATE(15,6,ROW($CU$6:$CU$30)/($CU$6:$CU$30<>\"\"),ROW(#REF!))-5),\"\")","v":""},"",null,{"$f":"IF(AND($B29=\"Baixo\",$C29=\"Moderado\"),\"24BaMo\",\"\")","v":""},"",{"$f":"IFERROR(INDEX($CZ$6:$CZ$30,_xlfn.AGGREGATE(15,6,ROW($CZ$6:$CZ$30)/($CZ$6:$CZ$30<>\"\"),ROW(#REF!))-5),\"\")","v":""},"",null,{"$f":"IF(AND($B29=\"Baixo\",$C29=\"Baixo\"),\"24BaBa\",\"\")","v":""},"",{"$f":"IFERROR(INDEX($DE$6:$DE$30,_xlfn.AGGREGATE(15,6,ROW($DE$6:$DE$30)/($DE$6:$DE$30<>\"\"),ROW(#REF!))-5),\"\")","v":""},"",null,{"$f":"IF(AND($B29=\"Baixo\",$C29=\"Desprezível\"),\"24BaDe\",\"\")","v":""},"",{"$f":"IFERROR(INDEX($DJ$6:$DJ$30,_xlfn.AGGREGATE(15,6,ROW($DJ$6:$DJ$30)/($DJ$6:$DJ$30<>\"\"),ROW(#REF!))-5),\"\")","v":""},"",null,{"$f":"IF(AND($B29=\"Desprezível\",$C29=\"Muito Alto\"),\"24DeMu\",\"\")","v":""},"",{"$f":"IFERROR(INDEX($DO$6:$DO$10,_xlfn.AGGREGATE(15,6,ROW($DO$6:$DO$10)/($DO$6:$DO$10<>\"\"),ROW(#REF!))-5),\"\")","v":""},"",null,{"$f":"IF(AND($B29=\"Desprezível\",$C29=\"Alto\"),\"24DeAl\",\"\")","v":""},"",{"$f":"IFERROR(INDEX($DT$6:$DT$30,_xlfn.AGGREGATE(15,6,ROW($DT$6:$DT$30)/($DT$6:$DT$30<>\"\"),ROW(#REF!))-5),\"\")","v":""},"",null,{"$f":"IF(AND($B29=\"Desprezível\",$C29=\"Moderado\"),\"24DeMo\",\"\")","v":""},"",{"$f":"IFERROR(INDEX($DY$6:$DY$30,_xlfn.AGGREGATE(15,6,ROW($DY$6:$DY$30)/($DY$6:$DY$30<>\"\"),ROW(#REF!))-5),\"\")","v":""},"",null,{"$f":"IF(AND($B29=\"Desprezível\",$C29=\"Baixo\"),\"24DeBa\",\"\")","v":"24DeBa"},"",{"$f":"IFERROR(INDEX($ED$6:$ED$30,_xlfn.AGGREGATE(15,6,ROW($ED$6:$ED$30)/($ED$6:$ED$30<>\"\"),ROW(#REF!))-5),\"\")","v":""},"",null,{"$f":"IF(AND($B29=\"Desprezível\",$C29=\"Desprezível\"),\"24DeDe\",\"\")","v":""},"",{"$f":"IFERROR(INDEX($EI$6:$EI$30,_xlfn.AGGREGATE(15,6,ROW($EI$6:$EI$30)/($EI$6:$EI$30<>\"\"),ROW(#REF!))-5),\"\")","v":""},""]
["WWW","Desprezível","Desprezível",null,null,null,null,null,null,null,null,null,null,null,null,null,null,null,{"$f":"IF(AND($B30=\"Muito Alto\",$C30=\"Muito Alto\"),\"25MuMu\",\"\")","v":""},"",{"$f":"IFERROR(INDEX($S$6:$S$10,_xlfn.AGGREGATE(15,6,ROW($S$6:$S$10)/($S$6:$S$10<>\"\"),ROW(#REF!))-5),\"\")","v":""},"",null,{"$f":"IF(AND($B30=\"Muito Alto\",$C30=\"Alto\"),\"25MuAl\",\"\")","v":""},"",{"$f":"IFERROR(INDEX($X$6:$X$30,_xlfn.AGGREGATE(15,6,ROW($X$6:$X$30)/($X$6:$X$30<>\"\"),ROW(#REF!))-5),\"\")","v":""},"",null,{"$f":"IF(AND($B30=\"Muito Alto\",$C30=\"Moderado\"),\"25MuMo\",\"\")","v":""},"",{"$f":"IFERROR(INDEX($AC$6:$AC$30,_xlfn.AGGREGATE(15,6,ROW($AC$6:$AC$30)/($AC$6:$AC$30<>\"\"),ROW(#REF!))-5),\"\")","v":""},"",null,{"$f":"IF(AND($B30=\"Muito Alto\",$C30=\"Baixo\"),\"25MuBa\",\"\")","v":""},"",{"$f":"IFERROR(INDEX($AH$6:$AH$30,_xlfn.AGGREGATE(15,6,ROW($AH$6:$AH$30)/($AH$6:$AH$30<>\"\"),ROW(#REF!))-5),\"\")","v":""},"",null,{"$f":"IF(AND($B30=\"Muito Alto\",$C30=\"Desprezível\"),\"25MuDe\",\"\")","v":""},"",{"$f":"IFERROR(INDEX($AM$6:$AM$30,_xlfn.AGGREGATE(15,6,ROW($AM$6:$AM$30)/($AM$6:$AM$30<>\"\"),ROW(#REF!))-5),\"\")","v":""},"",null,{"$f":"IF(AND($B30=\"Alto\",$C30=\"Muito Alto\"),\"25AlMu\",\"\")","v":""},"",{"$f":"IFERROR(INDEX($AR$6:$AR$10,_xlfn.AGGREGATE(15,6,ROW($AR$6:$AR$10)/($AR$6:$AR$10<>\"\"),ROW(#REF!))-5),\"\")","v":""},"",null,{"$f":"IF(AND($B30=\"Alto\",$C30=\"Alto\"),\"25AlAl\",\"\")","v":""},"",{"$f":"IFERROR(INDEX($AW$6:$AW$30,_xlfn.AGGREGATE(15,6,ROW($AW$6:$AW$30)/($AW$6:$AW$30<>\"\"),ROW(#REF!))-5),\"\")","v":""},"",null,{"$f":"IF(AND($B30=\"Alto\",$C30=\"Moderado\"),\"25AlMo\",\"\")","v":""},"",{"$f":"IFERROR(INDEX($BB$6:$BB$30,_xlfn.AGGREGATE(15,6,ROW($BB$6:$BB$30)/($BB$6:$BB$30<>\"\"),ROW(#REF!))-5),\"\")","v":""},"",null,{"$f":"IF(AND($B30=\"Alto\",$C30=\"Baixo\"),\"25AlBa\",\"\")","v":""},"",{"$f":"IFERROR(INDEX($BG$6:$BG$30,_xlfn.AGGREGATE(15,6,ROW($BG$6:$BG$30)/($BG$6:$BG$30<>\"\"),ROW(#REF!))-5),\"\")","v":""},"",null,{"$f":"IF(AND($B30=\"Alto\",$C30=\"Desprezível\"),\"25AlDe\",\"\")","v":""},"",{"$f":"IFERROR(INDEX($BL$6:$BL$30,_xlfn.AGGREGATE(15,6,ROW($BL$6:$BL$30)/($BL$6:$BL$30<>\"\"),ROW(#REF!))-5),\"\")","v":""},"",null,{"$f":"IF(AND($B30=\"Moderado\",$C30=\"Muito Alto\"),\"25MoMu\",\"\")","v":""},"",{"$f":"IFERROR(INDEX($BQ$6:$BQ$10,_xlfn.AGGREGATE(15,6,ROW($BQ$6:$BQ$10)/($BQ$6:$BQ$10<>\"\"),ROW(#REF!))-5),\"\")","v":""},"",null,{"$f":"IF(AND($B30=\"Moderado\",$C30=\"Alto\"),\"25MoAl\",\"\")","v":""},"",{"$f":"IFERROR(INDEX($BV$6:$BV$30,_xlfn.AGGREGATE(15,6,ROW($BV$6:$BV$30)/($BV$6:$BV$30<>\"\"),ROW(#REF!))-5),\"\")","v":""},"",null,{"$f":"IF(AND($B30=\"Moderado\",$C30=\"Moderado\"),\"25MoMo\",\"\")","v":""},"",{"$f":"IFERROR(INDEX($CA$6:$CA$30,_xlfn.AGGREGATE(15,6,ROW($CA$6:$CA$30)/($CA$6:$CA$30<>\"\"),ROW(#REF!))-5),\"\")","v":""},"",null,{"$f":"IF(AND($B30=\"Moderado\",$C30=\"Baixo\"),\"25MoBa\",\"\")","v":""},"",{"$f":"IFERROR(INDEX($CF$6:$CF$30,_xlfn.AGGREGATE(15,6,ROW($CF$6:$CF$30)/($CF$6:$CF$30<>\"\"),ROW(#REF!))-5),\"\")","v":""},"",null,{"$f":"IF(AND($B30=\"Moderado\",$C30=\"Desprezível\"),\"25MoDe\",\"\")","v":""},"",{"$f":"IFERROR(INDEX($CK$6:$CK$30,_xlfn.AGGREGATE(15,6,ROW($CK$6:$CK$30)/($CK$6:$CK$30<>\"\"),ROW(#REF!))-5),\"\")","v":""},"",null,{"$f":"IF(AND($B30=\"Baixo\",$C30=\"Muito Alto\"),\"25BaMu\",\"\")","v":""},"",{"$f":"IFERROR(INDEX($CP$6:$CP$30,_xlfn.AGGREGATE(15,6,ROW($CP$6:$CP$30)/($CP$6:$CP$30<>\"\"),ROW(#REF!))-5),\"\")","v":""},"",null,{"$f":"IF(AND($B30=\"Baixo\",$C30=\"Alto\"),\"25BaAl\",\"\")","v":""},"",{"$f":"IFERROR(INDEX($CU$6:$CU$30,_xlfn.AGGREGATE(15,6,ROW($CU$6:$CU$30)/($CU$6:$CU$30<>\"\"),ROW(#REF!))-5),\"\")","v":""},"",null,{"$f":"IF(AND($B30=\"Baixo\",$C30=\"Moderado\"),\"25BaMo\",\"\")","v":""},"",{"$f":"IFERROR(INDEX($CZ$6:$CZ$30,_xlfn.AGGREGATE(15,6,ROW($CZ$6:$CZ$30)/($CZ$6:$CZ$30<>\"\"),ROW(#REF!))-5),\"\")","v":""},"",null,{"$f":"IF(AND($B30=\"Baixo\",$C30=\"Baixo\"),\"25BaBa\",\"\")","v":""},"",{"$f":"IFERROR(INDEX($DE$6:$DE$30,_xlfn.AGGREGATE(15,6,ROW($DE$6:$DE$30)/($DE$6:$DE$30<>\"\"),ROW(#REF!))-5),\"\")","v":""},"",null,{"$f":"IF(AND($B30=\"Baixo\",$C30=\"Desprezível\"),\"25BaDe\",\"\")","v":""},"",{"$f":"IFERROR(INDEX($DJ$6:$DJ$30,_xlfn.AGGREGATE(15,6,ROW($DJ$6:$DJ$30)/($DJ$6:$DJ$30<>\"\"),ROW(#REF!))-5),\"\")","v":""},"",null,{"$f":"IF(AND($B30=\"Desprezível\",$C30=\"Muito Alto\"),\"25DeMu\",\"\")","v":""},"",{"$f":"IFERROR(INDEX($DO$6:$DO$10,_xlfn.AGGREGATE(15,6,ROW($DO$6:$DO$10)/($DO$6:$DO$10<>\"\"),ROW(#REF!))-5),\"\")","v":""},"",null,{"$f":"IF(AND($B30=\"Desprezível\",$C30=\"Alto\"),\"25DeAl\",\"\")","v":""},"",{"$f":"IFERROR(INDEX($DT$6:$DT$30,_xlfn.AGGREGATE(15,6,ROW($DT$6:$DT$30)/($DT$6:$DT$30<>\"\"),ROW(#REF!))-5),\"\")","v":""},"",null,{"$f":"IF(AND($B30=\"Desprezível\",$C30=\"Moderado\"),\"25DeMo\",\"\")","v":""},"",{"$f":"IFERROR(INDEX($DY$6:$DY$30,_xlfn.AGGREGATE(15,6,ROW($DY$6:$DY$30)/($DY$6:$DY$30<>\"\"),ROW(#REF!))-5),\"\")","v":""},"",null,{"$f":"IF(AND($B30=\"Desprezível\",$C30=\"Baixo\"),\"25DeBa\",\"\")","v":""},"",{"$f":"IFERROR(INDEX($ED$6:$ED$30,_xlfn.AGGREGATE(15,6,ROW($ED$6:$ED$30)/($ED$6:$ED$30<>\"\"),ROW(#REF!))-5),\"\")","v":""},"",null,{"$f":"IF(AND($B30=\"Desprezível\",$C30=\"Desprezível\"),\"25DeDe\",\"\")","v":"25DeDe"},"",{"$f":"IFERROR(INDEX($EI$6:$EI$30,_xlfn.AGGREGATE(15,6,ROW($EI$6:$EI$30)/($EI$6:$EI$30<>\"\"),ROW(#REF!))-5),\"\")","v":""},""]
["ZZZ","Muito Alto","Baixo"]
["AAB","Baixo","Baixo"]
["AAC","Moderado","Baixo"]
["AAD","Alto","Baixo"]
["AAE","Muito Alto","Baixo"]
["AAF","Moderado","Muito Alto"]