{"text_format":"1","workbook":"xlsx","n_sheets":2,"sheets":["Times","Pontuacao"],"not_rendered":{"charts":0,"images":1,"macros":1,"external_links":1,"defined_names":0,"comments":0,"pivot_tables":0},"unopened":[],"bounds":{"document_bytes":16777216,"sheet_cells":100000,"rows_first":2000,"rows_last":500,"rows_between":2000,"halvings":0,"cell_chars":16384,"cell_head_chars":4096},"cells_cut":0,"cells_raw":0,"read":"whole","date_system":"1900"}

{"sheet":"Times","index":0,"n_rows":30,"n_cols":22,"rows_kept":30,"cut":false,"hidden":false,"merged":[]}
["Nome","Time","ID Time",null,"Clube ID","Clube Nome",null,null,"Rodada Atual","Status","Fechamento","Times Escalados",null,null,null,null,"Nome","Time","ID Time","Liga","Copas","RaR"]
["Thais Gonçalves","DraVascular","7630223",null,1371,"Cuiabá",null,null,2,"Aberto","5/6/2021 - 18:30",350434,null,null,null,null,"Alberto L. Santos","Camisa21FC","219929","L","C","R"]
["Jader  Lazari","Denoris F.C.","71375",null,262,"Flamengo",null,null,null,null,null,null,null,null,null,null,"Alemão","Raça Timão!!!","48733","L","C"]
["Jose Veloso","Golden Lions FC","18796615",null,264,"Corinthians",null,null,null,null,null,null,null,null,null,null,"Beto Melo","Obina Mais Dez","14439636","L","C","R"]
["Victor Sanchez","VS Ponte Preta","1011904",null,265,"Bahia",null,null,null,null,null,null,null,null,null,null,"Bruno Sampaio","SAMPAIO13 FUTEBOL CL","1061000","L","C"]
["Alberto L. Santos","Camisa21FC","219929",null,266,"Fluminense",null,null,null,null,null,null,null,null,null,null,"Caio Rodrigues","oSantista","13957925","L","C","R"]
["Rodrigo Lourenço","RLR Santos FC","937747",null,275,"Palmeiras",null,null,null,null,null,null,null,null,null,null,"Candinho Tavares","Fandangos Santista","1241021","L","C","R"]
["thiagorbp","Eae Malandro FC","1235701",null,276,"São Paulo",null,null,null,null,null,null,null,null,null,null,"Cauê Ferreira","Luanday FC","579336","L","C","R"]
["Chrisgomes","Christimao","1893918",null,277,"Santos",null,null,null,null,null,null,null,null,null,null,"Chrisgomes","Christimao","1893918","L","C","R"]
["Renato Gonella","Gonella Verde","28919430",null,280,"Bragantino",null,null,null,null,null,null,null,null,null,null,"Daniel Pennisi ","AvantiHulkFc","279314",null,"C","R"]
["Marcos ","Markito Team","8912058",null,282,"Atlético-MG",null,null,null,null,null,null,null,null,null,null,"Diego Pereira","Diego Pereira FC","1245808","L","C","R"]
["Caio Rodrigues","oSantista","13957925",null,284,"Grêmio",null,null,null,null,null,null,null,null,null,null,"Felipe","FC Caiçara BR","15452244","L","C"]
["Candinho Tavares","Fandangos Santista","1241021",null,285,"Internacional",null,null,null,null,null,null,null,null,null,null,"Felipe Laureano ","Real Beach Soccer","315637","L","C","R"]
["Leonardo Brayner","Lanterna Football Club","19883717",null,286,"Juventude",null,null,null,null,null,null,null,null,null,null,"Fernando Filho","0VINTE1 FC","1889674",null,null,"R"]
["Gabriel Mello","Gabitreta F C","3646412",null,292,"Sport",null,null,null,null,null,null,null,null,null,null,"Gabriel Mello","Gabitreta F C","3646412","L","C","R"]
["RIVA MANAGER","RIVA 77","977136",null,293,"Athlético-PR",null,null,null,null,"Atualizar",null,null,null,null,null,"Jader  Lazari","Denoris F.C.","71375","L","C","R"]
["Cauê Ferreira","Luanday FC","579336",null,315,"Chapecoense",null,null,null,null,null,null,null,null,null,null,"Jeverton","JevyGoal","25582672","L","C"]
["Beto Melo","Obina Mais Dez","14439636",null,327,"América-MG",null,null,null,null,null,null,null,null,null,null,"Jose Veloso","Golden Lions FC","18796615","L","C","R"]
["Diego Pereira","Diego Pereira FC","1245808",null,354,"Ceará",null,null,null,null,null,null,null,null,null,null,"Leonardo Brayner","Lanterna Football Club","19883717","L","C","R"]
["Felipe Laureano ","Real Beach Soccer","315637",null,356,"Fortaleza",null,null,null,null,null,null,null,null,null,null,"Luiz Ribas","Sóhh Tapa F.C.","54685","L","C","R"]
["Daniel Pennisi ","AvantiHulkFc","279314",null,373,"Atlético-GO",null,null,null,null,null,null,null,null,null,null,"Marcos ","Markito Team","8912058","L","C","R"]
["Felipe","FC Caiçara BR","15452244",null,null,null,null,null,null,null,null,null,null,null,null,null,"Renato Gonella","Gonella Verde","28919430","L","C"]
["Luiz Ribas","Sóhh Tapa F.C.","54685",null,null,null,null,null,null,null,null,null,null,null,null,null,"RIVA MANAGER","RIVA 77","977136","L","C","R"]
["Bruno Sampaio","SAMPAIO13 FUTEBOL CL","1061000",null,null,null,null,null,null,null,null,null,null,null,null,null,"Rodrigo Lourenço","RLR Santos FC","937747","L","C","R"]
["Jeverton","JevyGoal","25582672",null,null,null,null,null,null,null,null,null,null,null,null,null,"Thais Gonçalves","DraVascular","7630223","L","C","R"]
["Thiago Rolo","ThiagoRolo FC","19190102",null,null,null,null,null,null,null,null,null,null,null,null,null,"Thiago Rolo","ThiagoRolo FC","19190102","L","C","R"]
["Fernando Filho","0VINTE1 FC","1889674",null,null,null,null,null,null,null,null,null,null,null,null,null,"thiagorbp","Eae Malandro FC","1235701","L","C","R"]
["Alemão","Raça Timão!!!","48733",null,null,null,null,null,null,null,null,null,null,null,null,null,"Victor Sanchez","VS Ponte Preta","1011904","L","C","R"]
[]
[null,null,null,null,null,null,null,null,null,null,null,null,null,null,null,null,null,null,null,{"$f":"COUNTIF(T2:T28, \"L\")","v":25},{"$f":"COUNTIF(U2:U28, \"C\")","v":26},{"$f":"COUNTIF(V2:V28, \"R\")","v":22}]

{"sheet":"Pontuacao","index":1,"n_rows":59,"n_cols":41,"rows_kept":59,"cut":false,"hidden":false,"merged":[]}
["Nome","Time","ID Time",1,2,3,4,5,6,7,8,9,10,11,12,13,14,15,16,17,18,19,20,21,22,23,24,25,26,27,28,29,30,31,32,33,34,35,36,37,38]
[{"$f":"IF(Times!A2=\"\",\"\",Times!A2)","v":"Thais Gonçalves"},{"$f":"IF(Times!B2=\"\",\"\",Times!B2)","v":"DraVascular"},{"$f":"IF(Times!C2=\"\",\"\",Times!C2)","v":"7630223"},72.5498046875]
[{"$f":"IF(Times!A3=\"\",\"\",Times!A3)","v":"Jader  Lazari"},{"$f":"IF(Times!B3=\"\",\"\",Times!B3)","v":"Denoris F.C."},{"$f":"IF(Times!C3=\"\",\"\",Times!C3)","v":"71375"},62.949951171875]
[{"$f":"IF(Times!A4=\"\",\"\",Times!A4)","v":"Jose Veloso"},{"$f":"IF(Times!B4=\"\",\"\",Times!B4)","v":"Golden Lions FC"},{"$f":"IF(Times!C4=\"\",\"\",Times!C4)","v":"18796615"},61.64990234375]
[{"$f":"IF(Times!A5=\"\",\"\",Times!A5)","v":"Victor Sanchez"},{"$f":"IF(Times!B5=\"\",\"\",Times!B5)","v":"VS Ponte Preta"},{"$f":"IF(Times!C5=\"\",\"\",Times!C5)","v":"1011904"},59.14990234375]
[{"$f":"IF(Times!A6=\"\",\"\",Times!A6)","v":"Alberto L. Santos"},{"$f":"IF(Times!B6=\"\",\"\",Times!B6)","v":"Camisa21FC"},{"$f":"IF(Times!C6=\"\",\"\",Times!C6)","v":"219929"},58.64990234375]
[{"$f":"IF(Times!A7=\"\",\"\",Times!A7)","v":"Rodrigo Lourenço"},{"$f":"IF(Times!B7=\"\",\"\",Times!B7)","v":"RLR Santos FC"},{"$f":"IF(Times!C7=\"\",\"\",Times!C7)","v":"937747"},56.550048828125]
[{"$f":"IF(Times!A8=\"\",\"\",Times!A8)","v":"thiagorbp"},{"$f":"IF(Times!B8=\"\",\"\",Times!B8)","v":"Eae Malandro FC"},{"$f":"IF(Times!C8=\"\",\"\",Times!C8)","v":"1235701"},53.75]
[{"$f":"IF(Times!A9=\"\",\"\",Times!A9)","v":"Chrisgomes"},{"$f":"IF(Times!B9=\"\",\"\",Times!B9)","v":"Christimao"},{"$f":"IF(Times!C9=\"\",\"\",Times!C9)","v":"1893918"},53.449951171875]
[{"$f":"IF(Times!A10=\"\",\"\",Times!A10)","v":"Renato Gonella"},{"$f":"IF(Times!B10=\"\",\"\",Times!B10)","v":"Gonella Verde"},{"$f":"IF(Times!C10=\"\",\"\",Times!C10)","v":"28919430"},51.639892578125]
[{"$f":"IF(Times!A11=\"\",\"\",Times!A11)","v":"Marcos "},{"$f":"IF(Times!B11=\"\",\"\",Times!B11)","v":"Markito Team"},{"$f":"IF(Times!C11=\"\",\"\",Times!C11)","v":"8912058"},49.669921875]
[{"$f":"IF(Times!A12=\"\",\"\",Times!A12)","v":"Caio Rodrigues"},{"$f":"IF(Times!B12=\"\",\"\",Times!B12)","v":"oSantista"},{"$f":"IF(Times!C12=\"\",\"\",Times!C12)","v":"13957925"},49.35009765625]
[{"$f":"IF(Times!A13=\"\",\"\",Times!A13)","v":"Candinho Tavares"},{"$f":"IF(Times!B13=\"\",\"\",Times!B13)","v":"Fandangos Santista"},{"$f":"IF(Times!C13=\"\",\"\",Times!C13)","v":"1241021"},99]
[{"$f":"IF(Times!A14=\"\",\"\",Times!A14)","v":"Leonardo Brayner"},{"$f":"IF(Times!B14=\"\",\"\",Times!B14)","v":"Lanterna Football Club"},{"$f":"IF(Times!C14=\"\",\"\",Times!C14)","v":"19883717"},44.449951171875]
[{"$f":"IF(Times!A15=\"\",\"\",Times!A15)","v":"Gabriel Mello"},{"$f":"IF(Times!B15=\"\",\"\",Times!B15)","v":"Gabitreta F C"},{"$f":"IF(Times!C15=\"\",\"\",Times!C15)","v":"3646412"},40.75]
[{"$f":"IF(Times!A16=\"\",\"\",Times!A16)","v":"RIVA MANAGER"},{"$f":"IF(Times!B16=\"\",\"\",Times!B16)","v":"RIVA 77"},{"$f":"IF(Times!C16=\"\",\"\",Times!C16)","v":"977136"},40.530029296875]
[{"$f":"IF(Times!A17=\"\",\"\",Times!A17)","v":"Cauê Ferreira"},{"$f":"IF(Times!B17=\"\",\"\",Times!B17)","v":"Luanday FC"},{"$f":"IF(Times!C17=\"\",\"\",Times!C17)","v":"579336"},36.14990234375]
[{"$f":"IF(Times!A18=\"\",\"\",Times!A18)","v":"Beto Melo"},{"$f":"IF(Times!B18=\"\",\"\",Times!B18)","v":"Obina Mais Dez"},{"$f":"IF(Times!C18=\"\",\"\",Times!C18)","v":"14439636"},36.050048828125]
[{"$f":"IF(Times!A19=\"\",\"\",Times!A19)","v":"Diego Pereira"},{"$f":"IF(Times!B19=\"\",\"\",Times!B19)","v":"Diego Pereira FC"},{"$f":"IF(Times!C19=\"\",\"\",Times!C19)","v":"1245808"},35.25]
[{"$f":"IF(Times!A20=\"\",\"\",Times!A20)","v":"Felipe Laureano "},{"$f":"IF(Times!B20=\"\",\"\",Times!B20)","v":"Real Beach Soccer"},{"$f":"IF(Times!C20=\"\",\"\",Times!C20)","v":"315637"},34.75]
[{"$f":"IF(Times!A21=\"\",\"\",Times!A21)","v":"Daniel Pennisi "},{"$f":"IF(Times!B21=\"\",\"\",Times!B21)","v":"AvantiHulkFc"},{"$f":"IF(Times!C21=\"\",\"\",Times!C21)","v":"279314"},29.25]
[{"$f":"IF(Times!A22=\"\",\"\",Times!A22)","v":"Felipe"},{"$f":"IF(Times!B22=\"\",\"\",Times!B22)","v":"FC Caiçara BR"},{"$f":"IF(Times!C22=\"\",\"\",Times!C22)","v":"15452244"},29.050048828125]
[{"$f":"IF(Times!A23=\"\",\"\",Times!A23)","v":"Luiz Ribas"},{"$f":"IF(Times!B23=\"\",\"\",Times!B23)","v":"Sóhh Tapa F.C."},{"$f":"IF(Times!C23=\"\",\"\",Times!C23)","v":"54685"},28.25]
[{"$f":"IF(Times!A24=\"\",\"\",Times!A24)","v":"Bruno Sampaio"},{"$f":"IF(Times!B24=\"\",\"\",Times!B24)","v":"SAMPAIO13 FUTEBOL CL"},{"$f":"IF(Times!C24=\"\",\"\",Times!C24)","v":"1061000"},25.8900146484375]
[{"$f":"IF(Times!A25=\"\",\"\",Times!A25)","v":"Jeverton"},{"$f":"IF(Times!B25=\"\",\"\",Times!B25)","v":"JevyGoal"},{"$f":"IF(Times!C25=\"\",\"\",Times!C25)","v":"25582672"},21.6600341796875]
[{"$f":"IF(Times!A26=\"\",\"\",Times!A26)","v":"Thiago Rolo"},{"$f":"IF(Times!B26=\"\",\"\",Times!B26)","v":"ThiagoRolo FC"},{"$f":"IF(Times!C26=\"\",\"\",Times!C26)","v":"19190102"},21.050048828125]
[{"$f":"IF(Times!A27=\"\",\"\",Times!A27)","v":"Fernando Filho"},{"$f":"IF(Times!B27=\"\",\"\",Times!B27)","v":"0VINTE1 FC"},{"$f":"IF(Times!C27=\"\",\"\",Times!C27)","v":"1889674"},18.25]
[{"$f":"IF(Times!A28=\"\",\"\",Times!A28)","v":"Alemão"},{"$f":"IF(Times!B28=\"\",\"\",Times!B28)","v":"Raça Timão!!!"},{"$f":"IF(Times!C28=\"\",\"\",Times!C28)","v":"48733"},9.95001220703125]
[{"$f":"IF(Times!A29=\"\",\"\",Times!A29)","v":""},{"$f":"IF(Times!B29=\"\",\"\",Times!B29)","v":""},{"$f":"IF(Times!C29=\"\",\"\",Times!C29)","v":""}]
[]
[]
[null,null,null,{"$f":"IF(Times!V2:V28=\"R\",IF(SUM(D2:D28)=0,\"\",IFERROR(INDEX($A$2:$A$28,MATCH(LARGE(D2:D28,1),D2:D28,0)),\"\")),\"\")","v":"Candinho Tavares"}]
[null,null,null,{"$f":"LARGE(IFERROR((Times!V2:V28<>\"R\")*D2:D28,0),1)","v":62.949951171875}]
[null,null,null,62.949951171875]
[null,null,null,62.949951171875]
[null,null,null,62.949951171875]
[null,null,null,62.949951171875]
[null,null,null,62.949951171875]
[null,null,null,62.949951171875]
[null,null,null,62.949951171875]
[null,null,null,62.949951171875]
[null,null,null,62.949951171875]
[null,null,null,62.949951171875]
[null,null,null,62.949951171875]
[null,null,null,62.949951171875]
[null,null,null,62.949951171875]
[null,null,null,62.949951171875]
[null,null,null,62.949951171875]
[null,null,null,62.949951171875]
[null,null,null,62.949951171875]
[null,null,null,62.949951171875]
[null,null,null,62.949951171875]
[null,null,null,62.949951171875]
[null,null,null,62.949951171875]
[null,null,null,62.949951171875]
[null,null,null,62.949951171875]
[null,null,null,62.949951171875]
[null,null,null,62.949951171875]
[null,null,null,62.949951171875]