{"text_format":"1","workbook":"xlsx","n_sheets":6,"sheets":["Habilitar macros","Orçamento de Custo","Orçamento de Venda","Cronograma","Conheça o Obra Prima","Config"],"not_rendered":{"charts":0,"images":18,"macros":1,"external_links":1,"defined_names":50,"comments":0,"pivot_tables":0},"unopened":[],"bounds":{"document_bytes":16777216,"sheet_cells":100000,"rows_first":2000,"rows_last":500,"rows_between":2000,"halvings":0,"cell_chars":16384,"cell_head_chars":4096},"cells_cut":0,"cells_raw":0,"read":"whole","date_system":"1900"}

{"sheet":"Habilitar macros","index":0,"n_rows":14,"n_cols":2,"rows_kept":14,"cut":false,"hidden":false,"merged":[[12,1,12,11],[13,1,13,11]]}
[]
[]
[]
[]
[]
[]
[]
[]
[]
[]
[]
[]
[null,"Importante!"]
[null,"Para utilizar a planilha ORÇAMENTO DE OBRA é necessário HABILITAR EDIÇÃO e HABILITAR CONTEÚDO, conforme exemplos abaixo:"]

{"sheet":"Orçamento de Custo","index":1,"n_rows":224,"n_cols":13,"rows_kept":224,"cut":false,"hidden":false,"merged":[[0,0,0,9],[221,0,221,7],[222,0,222,7],[223,0,223,7],[224,0,224,9]]}
["Orçamento de Custo"]
["Código","Tipo","Descrição","Unidade","Quantidade","Material","Mão de Obra","Valor Unitário","Valor Total","%","Total Serviço","Total Mat","Total MO"]
["1","Fase","SERVIÇOS",null,null,null,null,null,{"$f":"+I4+I11","v":0},{"$f":"IFERROR(I3/$K$224,0)","v":0},{"$f":"IF(B3=\"Serviço\",I3,0)","v":0},{"$f":"IF(B3=\"Serviço\",F3*E3,0)","v":0},{"$f":"IF(B3=\"Serviço\",G3*E3,0)","v":0}]
["1.1","Subfase","SERVIÇOS TÉCNICOS",null,null,null,null,null,{"$f":"SUM(I5:I10)","v":0},{"$f":"IFERROR(I4/$K$224,0)","v":0},{"$f":"IF(B4=\"Serviço\",I4,0)","v":0},{"$f":"IF(B4=\"Serviço\",F4*E4,0)","v":0},{"$f":"IF(B4=\"Serviço\",G4*E4,0)","v":0}]
["1.1.1","Serviço","Projeto de Arquitetura","VB",0,0,0,{"$f":"+F5+G5","v":0},{"$f":"+E5*H5","v":0},0,0,0,0]
["1.1.2","Serviço","Projetos de Hidráulica","VB",0,0,0,{"$f":"+F6+G6","v":0},0,0,0,0,0]
["1.1.3","Serviço","Outros Projetos","VB",0,0,0,0,0,0,0,0,0]
["1.1.4","Serviço","Projeto de Bombeiro","VB",0,0,0,0,0,0,0,0,0]
["1.1.5","Serviço","Projeto Estrutural","VB",0,0,0,0,0,0,0,0,0]
["1.1.6","Serviço","Projetos de Elétrica","VB",0,0,0,0,0,0,0,0,0]
["1.2","Subfase","OUTROS SERVIÇOS",null,null,null,null,null,{"$f":"SUM(I12:I16)","v":0},0,0,0,0]
["1.2.1","Serviço","Administração de Obra","VB",0,0,0,{"$f":"+F12+G12","v":0},{"$f":"+E12*H12","v":0},0,0,0,0]
["1.2.2","Serviço","Cópias e Plotagens","VB",0,0,0,0,{"$f":"+E13*H13","v":0},0,0,0,0]
["1.2.3","Serviço","Licenças e Seguros","VB",0,0,0,0,{"$f":"+E14*H14","v":0},0,0,0,0]
["1.2.4","Serviço","Serviço de Topografia","VB",0,0,0,0,{"$f":"+E15*H15","v":0},0,0,0,0]
["1.2.5","Serviço","Sondagem","VB",0,0,0,0,{"$f":"+E16*H16","v":0},0,0,0,0]
["2","Fase","INSTALAÇÕES DO CANTEIRO DE OBRA",null,null,null,null,null,{"$f":"SUM(I18:I31)","v":0},0,0,0,0]
["2.1","Serviço","Demolições","VB",0,0,0,{"$f":"+F18+G18","v":0},{"$f":"+E18*H18","v":0},0,0,0,0]
["2.2","Serviço","Limpeza de Terreno","M2",0,0,0,0,0,0,0,0,0]
["2.3","Serviço","Abrigo provisório. conteiner tipo escritório","DIA",0,0,0,0,0,0,0,0,0]
["2.4","Serviço","Abrigo provisório. conteiner tipo sanitário","DIA",0,0,0,0,0,0,0,0,0]
["2.5","Serviço","Almoxarifado de Obra","M2",0,0,0,0,0,0,0,0,0]
["2.6","Serviço","Alojamento de Obra","M2",0,0,0,0,0,0,0,0,0]
["2.7","Serviço","Instalações da Obra","VB",0,0,0,0,0,0,0,0,0]
["2.8","Serviço","Ligação Provisória de Energia","VB",0,0,0,0,0,0,0,0,0]
["2.9","Serviço","Ligação Provisória de Telefone","VB",0,0,0,0,0,0,0,0,0]
["2.10","Serviço","Ligações Provisórias de Água e Esgoto","VB",0,0,0,0,0,0,0,0,0]
["2.11","Serviço","Locação/Instalação de Canteiro de Obras","VB",0,0,0,0,0,0,0,0,0]
["2.12","Serviço","Placas de Obra","VB",0,0,0,0,0,0,0,0,0]
["2.13","Serviço","Seguros","VB",0,0,0,0,0,0,0,0,0]
["2.14","Serviço","Tapume","VB",0,0,0,0,0,0,0,0,0]
["3","Fase","TERRAPLANAGEM",null,null,null,null,null,{"$f":"SUM(I33:I35)","v":0},0,0,0,0]
["3.1","Serviço","Escavação Mecanizada","M3",0,0,0,{"$f":"+F33+G33","v":0},{"$f":"+E33*H33","v":0},0,0,0,0]
["3.2","Serviço","Escavação Manual","H",0,0,0,0,{"$f":"+E34*H34","v":0},0,0,0,0]
["3.3","Serviço","Terraplanagem","VB",0,0,0,0,{"$f":"+E35*H35","v":0},0,0,0,0]
["4","Fase","FUNDAÇÕES - INFRA ESTRUTURA",null,null,null,null,null,{"$f":"SUM(I37:I58)","v":0},0,0,0,0]
["4.1","Serviço","Lastro de areia","M3",0,0,0,{"$f":"+F37+G37","v":0},{"$f":"+E37*H37","v":0},0,0,0,0]
["4.2","Serviço","Lastro de brita","M3",0,0,0,0,0,0,0,0,0]
["4.3","Serviço","Concreto Ciclópico","M3",0,0,0,0,0,0,0,0,0]
["4.4","Serviço","Cortinas dos Sub-Solos - Concreto","M2",0,0,0,0,0,0,0,0,0]
["4.5","Serviço","Embasamento em Pedra","M3",0,0,0,0,0,0,0,0,0]
["4.6","Serviço","Escavação de Tubulão","M",0,0,0,0,0,0,0,0,0]
["4.7","Serviço","Escavação para blocos e baldrames","M3",0,0,0,0,0,0,0,0,0]
["4.8","Serviço","Estaca Pré-Moldada - 40 tf","M",0,0,0,0,0,0,0,0,0]
["4.9","Serviço","Estaca Strauss 25cm - 20 tf","M",0,0,0,0,0,0,0,0,0]
["4.10","Serviço","Estaca Strauss 32 cm - 30 tf","M",0,0,0,0,0,0,0,0,0]
["4.11","Serviço","Estaca Strauss 45 cm - 50 tf","M",0,0,0,0,0,0,0,0,0]
["4.12","Serviço","Estacas Pré-Moldadas 30 tf","M",0,0,0,0,0,0,0,0,0]
["4.13","Serviço","Fundações","VB",0,0,0,0,0,0,0,0,0]
["4.14","Serviço","Lastro de concreto magro","M3",0,0,0,0,0,0,0,0,0]
["4.15","Serviço","Lastro de Rachão","M3",0,0,0,0,0,0,0,0,0]
["4.16","Serviço","Mobilização de Bate-Estacas","VB",0,0,0,0,0,0,0,0,0]
["4.17","Serviço","Muro de Arrimo - Conc. Obra / 7m2 / 115 kg Aço","M3",0,0,0,0,0,0,0,0,0]
["4.18","Serviço","Perfil Metálico Alma Dupla I 10¨","M",0,0,0,0,0,0,0,0,0]
["4.19","Serviço","Perfil Metálico Alma Dupla I 12¨","M",0,0,0,0,0,0,0,0,0]
["4.20","Serviço","Perfil Metálico I 10¨","M",0,0,0,0,0,0,0,0,0]
["4.21","Serviço","Perfil Metálico I 12¨","M",0,0,0,0,0,0,0,0,0]
["4.22","Serviço","Regularização e Compactação para blocos e baldrames","M2",0,0,0,0,0,0,0,0,0]
["5","Fase","ESTRUTURA",null,null,null,null,null,{"$f":"SUM(I60:I84)","v":0},0,0,0,0]
["5.1","Serviço","Escoramento","M2",0,0,0,{"$f":"+F60+G60","v":0},{"$f":"+E60*H60","v":0},0,0,0,0]
["5.2","Serviço","Estruturas","VB",0,0,0,0,0,0,0,0,0]
["5.3","Serviço","Aço CA-50 / 60 Cortado e Dobrado","KG",0,0,0,0,0,0,0,0,0]
["5.4","Serviço","Blocos de EPS 50x50x18cm","UN",0,0,0,0,0,0,0,0,0]
["5.5","Serviço","Cinta de Concreto","M3",0,0,0,0,0,0,0,0,0]
["5.6","Serviço","Concreto Usinado 15.0 MPA - Bombeado","M3",0,0,0,0,0,0,0,0,0]
["5.7","Serviço","Concreto Usinado 20.0 MPA - Bombeado","M3",0,0,0,0,0,0,0,0,0]
["5.8","Serviço","Concreto Usinado 25.0 MPA - Bombeado","M3",0,0,0,0,0,0,0,0,0]
["5.9","Serviço","Concreto Usinado 30.0 MPA - Bombeado","M3",0,0,0,0,0,{"$f":"IFERROR(I68/$K$224,0)","v":0},{"$f":"IF(B68=\"Serviço\",I68,0)","v":0},{"$f":"IF(B68=\"Serviço\",F68*E68,0)","v":0},{"$f":"IF(B68=\"Serviço\",G68*E68,0)","v":0}]
["5.10","Serviço","Concreto Usinado 35.0 MPA - Bombeado","M3",0,0,0,0,0,0,0,0,0]
["5.11","Serviço","Concreto Usinado 40.0 MPA - Bombeado","M3",0,0,0,0,0,0,0,0,0]
["5.12","Serviço","Concreto Virado na Obra","M3",0,0,0,0,0,0,0,0,0]
["5.13","Serviço","Estr. Apar. / Concreto / Plastificado (3x)","M3",0,0,0,0,0,0,0,0,0]
["5.14","Serviço","Estr. Apar. / Concreto / Resinado (3x)","M3",0,0,0,0,0,0,0,0,0]
["5.15","Serviço","Estr. Comum / Concreto / Tábuas (2x) / 115 kg","M3",0,0,0,0,0,0,0,0,0]
["5.16","Serviço","Estrutura Metálica","M2",0,0,0,0,0,0,0,0,0]
["5.17","Serviço","Forma Aparente Resinada","M2",0,0,0,0,0,0,0,0,0]
["5.18","Serviço","Forma Curva Resinada","M2",0,0,0,0,0,0,0,0,0]
["5.19","Serviço","Forma de Tábuas (2x)","M2",0,0,0,0,0,0,0,0,0]
["5.20","Serviço","Forma para cinta","M3",0,0,0,0,0,0,0,0,0]
["5.21","Serviço","Forma para Pré-Moldado","M2",0,0,0,0,0,0,0,0,0]
["5.22","Serviço","Laje Pré-Fabricada","M2",0,0,0,0,0,0,0,0,0]
["5.23","Serviço","Lastro de concreto simples no traço 1:4:8. espessura 7cm.","M2",0,0,0,0,0,0,0,0,0]
["5.24","Serviço","Regularização de base p/ piso.  Arg. Mista c/Cim/A Grossa. 1:4. Esp= 0.3cm. Área Molhada.","M2",0,0,0,0,0,0,0,0,0]
["5.25","Serviço","Regularização de base p/ piso.  Arg. Mista c/Cim/A Grossa. 1:4. Esp= 0.5cm. Área Seca.","M2",0,0,0,0,0,0,0,0,0]
["6","Fase","IMPERMEABILIZAÇÕES",null,null,null,null,null,{"$f":"SUM(I86:I91)","v":0},0,0,0,0]
["6.1","Serviço","Impermeabilizações","VB",0,0,0,{"$f":"+F86+G86","v":0},{"$f":"+E86*H86","v":0},0,0,0,0]
["6.2","Serviço","Drenagem Junto a Cortinas","VB",0,0,0,0,0,0,0,0,0]
["6.3","Serviço","Impermeabilização Manta 4 mm. Lajes. Floreiras. Terr. etc.","VB",0,0,0,0,0,0,0,0,0]
["6.4","Serviço","Proteção Mecânica","M2",0,0,0,0,0,0,0,0,0]
["6.5","Serviço","Proteção Primaria","M2",0,0,0,0,0,0,0,0,0]
["6.6","Serviço","Regularização","M2",0,0,0,0,0,0,0,0,0]
["7","Fase","ALVENARIA",null,null,null,null,null,{"$f":"SUM(I93:I109)","v":0},0,0,0,0]
["7.1","Serviço","Alvenaria de Tijolo Comum","M2",0,0,0,{"$f":"+F93+G93","v":0},{"$f":"+E93*H93","v":0},0,0,0,0]
["7.2","Serviço","Aço para Alvenaria (2.2 kg/m2)","KG",0,0,0,0,0,0,0,0,0]
["7.3","Serviço","Alvenaria de Embasamento Tijolo Comum","M3",0,0,0,0,0,0,0,0,0]
["7.4","Serviço","Alvenaria Estrutural Bloco Concreto","M2",0,0,0,0,0,0,0,0,0]
["7.5","Serviço","Alvenaria Vedação Bloco de Concreto","M2",0,0,0,0,0,0,0,0,0]
["7.6","Serviço","Argamassa de 9 MPa - 15 kg/m2 para assentamento de blocos de concreto","KG",0,0,0,0,0,0,0,0,0]
["7.7","Serviço","Batentes para Divisórias de Granilite","M",0,0,0,0,0,0,0,0,0]
["7.8","Serviço","Blocos de Concreto","M2",0,0,0,0,0,0,0,0,0]
["7.9","Serviço","Cintas Estrutural Canaleta Concreto","M",0,0,0,0,0,0,0,0,0]
["7.10","Serviço","Divisória de PVC","M2",0,0,0,0,0,0,0,0,0]
["7.11","Serviço","Divisória Dry wall - Parede de Gesso","M2",0,0,0,0,0,0,0,0,0]
["7.12","Serviço","Divisórias de Granilite","M2",0,0,0,0,0,0,0,0,0]
["7.13","Serviço","Dry Wall - Retoque de Gesso para Parede de Dry Wall","M2",0,0,0,0,0,0,0,0,0]
["7.14","Serviço","Graute para Alvenaria Armada","KG",0,0,0,0,0,0,0,0,0]
["7.15","Serviço","Grout (0.03 m3/m2)","M3",0,0,0,0,0,0,0,0,0]
["7.16","Serviço","Pilaretes Estrutural Bloco Concreto","M",0,0,0,0,0,0,0,0,0]
["7.17","Serviço","Vergas Retas de Concreto Armado","M3",0,0,0,0,0,0,0,0,0]
["8","Fase","COBERTURA",null,null,null,null,null,{"$f":"SUM(I111:I119)","v":0},0,0,0,0]
["8.1","Serviço","Cobertura com telha cerâmica tipo portuguesa","M2",0,0,0,{"$f":"+F111+G111","v":0},{"$f":"+E111*H111","v":0},0,0,0,0]
["8.2","Serviço","Madeiramento Telha Comum","M2",0,0,0,0,0,0,0,0,0]
["8.3","Serviço","Canalete","M2",0,0,0,0,0,0,0,0,0]
["8.4","Serviço","Cobertura","VB",0,0,0,0,0,0,0,0,0]
["8.5","Serviço","Cobertura com Telha Colonial","M2",0,0,0,0,0,0,0,0,0]
["8.6","Serviço","Cobertura com Telha Plan","M2",0,0,0,0,0,0,0,0,0]
["8.7","Serviço","Cobertura Telha Fibro-Cimento","M2",0,0,0,0,0,0,0,0,0]
["8.8","Serviço","Feltro Asfaltico","M2",0,0,0,0,0,0,0,0,0]
["8.9","Serviço","Madeiramento Telha Fibro-Cimento","M2",0,0,0,0,0,0,0,0,0]
["9","Fase","FORRO",null,null,null,null,null,{"$f":"SUM(I121:I129)","v":0},0,0,0,0]
["9.1","Serviço","Forro de PVC","M2",0,0,0,{"$f":"+F121+G121","v":0},{"$f":"+E121*H121","v":0},0,0,0,0]
["9.2","Serviço","Estrutura Auxiliar para Forro","M2",0,0,0,0,0,0,0,0,0]
["9.3","Serviço","Forro de Gesso","M2",0,0,0,0,0,0,0,0,0]
["9.4","Serviço","Forro de Madeira","M2",0,0,0,0,0,0,0,0,0]
["9.5","Serviço","Forro de Massa","M2",0,0,0,0,0,0,0,0,0]
["9.6","Serviço","Forros","VB",0,0,0,0,0,0,0,0,0]
["9.7","Serviço","Laje pré-moldada para fôrro","M2",0,0,0,0,0,0,0,0,0]
["9.8","Serviço","Moldura de Gesso","M",0,0,0,0,0,0,0,0,0]
["9.9","Serviço","Sanca de Gesso","M",0,0,0,0,0,0,0,0,0]
["10","Fase","REVESTIMENTOS",null,null,null,null,null,{"$f":"SUM(I131:I137)","v":0},0,0,0,0]
["10.1","Serviço","Revestimentos de Parede","VB",0,0,0,{"$f":"+F131+G131","v":0},{"$f":"+E131*H131","v":0},0,0,0,0]
["10.2","Serviço","Chapisco","M2",0,0,0,0,0,{"$f":"IFERROR(I132/$K$224,0)","v":0},{"$f":"IF(B132=\"Serviço\",I132,0)","v":0},{"$f":"IF(B132=\"Serviço\",F132*E132,0)","v":0},{"$f":"IF(B132=\"Serviço\",G132*E132,0)","v":0}]
["10.3","Serviço","Massa Fina","M2",0,0,0,0,0,0,0,0,0]
["10.4","Serviço","Massa Grossa","M2",0,0,0,0,0,0,0,0,0]
["10.5","Serviço","Revestimento com Pedras Naturais","M2",0,0,0,0,0,0,0,0,0]
["10.6","Serviço","Revestimento em Gesso ","M2",0,0,0,0,0,0,0,0,0]
["10.7","Serviço","Textura Cristaline em Fachadas","M2",0,0,0,0,0,0,0,0,0]
["11","Fase","ESQUADRIAS",null,null,null,null,null,{"$f":"SUM(I139:I142)","v":0},0,0,0,0]
["11.1","Serviço","Esquadrias de Aluminio","VB",0,0,0,{"$f":"+F139+G139","v":0},{"$f":"+E139*H139","v":0},0,0,0,0]
["11.2","Serviço","Batente dos Elevadores","UN",0,0,0,0,{"$f":"+E140*H140","v":0},0,0,0,0]
["11.3","Serviço","Esquadrias de Ferro","VB",0,0,0,0,{"$f":"+E141*H141","v":0},0,0,0,0]
["11.4","Serviço","Porta Corta Fogo 90x210 cm","UN",0,0,0,0,{"$f":"+E142*H142","v":0},0,0,0,0]
["12","Fase","PISOS, LADRILHOS, PEITORIS, SOLEIRAS E RODAPÉS",null,null,null,null,null,{"$f":"SUM(I144:I161)","v":0},0,0,0,0]
["12.1","Serviço","Contra-piso","M2",0,0,0,{"$f":"+F144+G144","v":0},{"$f":"+E144*H144","v":0},0,0,0,0]
["12.2","Serviço","Pisos","VB",0,0,0,0,0,0,0,0,0]
["12.3","Serviço","Cantoneira de Proteção Pisos","M",0,0,0,0,0,0,0,0,0]
["12.4","Serviço","Cerâmica Esmaltada","VB",0,0,0,0,0,0,0,0,0]
["12.5","Serviço","Cimentad","M2",0,0,0,0,0,0,0,0,0]
["12.6","Serviço","Granilite","M2",0,0,0,0,0,0,0,0,0]
["12.7","Serviço","M.O. e Argamassa de assentamento e porcelanato","M2",0,0,0,0,0,0,0,0,0]
["12.8","Serviço","Mármores e Granitos","M2",0,0,0,0,0,0,0,0,0]
["12.9","Serviço","Piso Cerâmico","M2",0,0,0,0,0,0,0,0,0]
["12.10","Serviço","Piso cimentado liso c/ junta plástica.","M2",0,0,0,0,0,0,0,0,0]
["12.11","Serviço","Piso Cimentado Liso subsolos escadas","M2",0,0,0,0,0,0,0,0,0]
["12.12","Serviço","Piso de Madeira - Assoalho","M2",0,0,0,0,0,0,0,0,0]
["12.13","Serviço","Piso em Granito","M2",0,0,0,0,0,0,0,0,0]
["12.14","Serviço","Piso em Lajotas","M2",0,0,0,0,0,0,0,0,0]
["12.15","Serviço","Regularização de Piso","M2",0,0,0,0,0,0,0,0,0]
["12.16","Serviço","Revestimento de Escadas","M2",0,0,0,0,0,0,0,0,0]
["12.17","Serviço","Rodapé","VB",0,0,0,0,0,0,0,0,0]
["12.18","Serviço","Soleira de Granito","VB",0,0,0,0,0,0,0,0,0]
["13","Fase","PORTAS DE MADEIRA E FERRAGENS",null,null,null,null,null,{"$f":"SUM(I163:I164)","v":0},0,0,0,0]
["13.1","Serviço","Ferragens para Portas","UN",0,0,0,{"$f":"+F163+G163","v":0},{"$f":"+E163*H163","v":0},0,0,0,0]
["13.2","Serviço","Porta de Madeira com Batentes","UN",0,0,0,0,{"$f":"+E164*H164","v":0},0,0,0,0]
["14","Fase","PAVIMENTAÇÃO",null,null,null,null,null,{"$f":"SUM(I166:I176)","v":0},0,0,0,0]
["14.1","Serviço","Abertura de caixa até 25 cm. inclui escavação compactação. transporte e preparo do sub-leito","M2",0,0,0,{"$f":"+F166+G166","v":0},{"$f":"+E166*H166","v":0},0,0,0,0]
["14.2","Serviço","Canaleta Aguas Pluviais com Grelha Fofo","M",0,0,0,0,0,0,0,0,0]
["14.3","Serviço","Capa Asfáltica 4 cm","M2",0,0,0,0,0,0,0,0,0]
["14.4","Serviço","Fornecimento e assentamento de guias tipo PMSP 100. inclusive preparo de caixa. lastro de brita e en","M",0,0,0,0,0,0,0,0,0]
["14.5","Serviço","Guia","M",0,0,0,0,0,0,0,0,0]
["14.6","Serviço","Meio Fio de concreto inclusive escavação e reaterro","M",0,0,0,0,0,0,0,0,0]
["14.7","Serviço","Paralelepipedo","M2",0,0,0,0,0,0,0,0,0]
["14.8","Serviço","Pavimentação","VB",0,0,0,0,0,0,0,0,0]
["14.9","Serviço","Praparo de Sub-Leito","M2",0,0,0,0,0,0,0,0,0]
["14.10","Serviço","Revestimento de concreto asfáltico. inclusive transporte. espalhamento e compactação","M3",0,0,0,0,0,0,0,0,0]
["14.11","Serviço","Sarjetas e Sarjetões","M3",0,0,0,0,0,0,0,0,0]
["15","Fase","INSTALAÇÕES ELÉTRICAS",null,null,null,null,null,{"$f":"SUM(I178:I182)","v":0},0,0,0,0]
["15.1","Serviço","Interruptores e Tomadas","UN",0,0,0,{"$f":"+F178+G178","v":0},{"$f":"+E178*H178","v":0},0,0,0,0]
["15.2","Serviço","Luminárias e Lustres","VB",0,0,0,0,{"$f":"+E179*H179","v":0},0,0,0,0]
["15.3","Serviço","Instalações Elétricas","VB",0,0,0,0,{"$f":"+E180*H180","v":0},0,0,0,0]
["15.4","Serviço","Subestação de energia","UN",0,0,0,0,{"$f":"+E181*H181","v":0},0,0,0,0]
["15.5","Serviço","Tubos e Conexões Elétrica/Telefônica","UN",0,0,0,0,{"$f":"+E182*H182","v":0},0,0,0,0]
["16","Fase","INSTALAÇÕES HIDRÁULICAS",null,null,null,null,null,{"$f":"SUM(I184:I194)","v":0},0,0,0,0]
["16.1","Serviço","Instalações Hidráulicas","VB",0,0,0,{"$f":"+F184+G184","v":0},{"$f":"+E184*H184","v":0},0,0,0,0]
["16.2","Serviço","Fossa séptica","UN",0,0,0,0,0,0,0,0,0]
["16.3","Serviço","Instalações de Combate a Incêndios","VB",0,0,0,0,0,0,0,0,0]
["16.4","Serviço","Instalações de Splinklers","VB",0,0,0,0,0,0,0,0,0]
["16.5","Serviço","Instalações hidrossanitárias","UN",0,0,0,0,0,0,0,0,0]
["16.6","Serviço","Louças e Metais","VB",0,0,0,0,0,0,0,0,0]
["16.7","Serviço","Prumadas de Águas Pluviais","UN",0,0,0,0,0,0,0,0,0]
["16.8","Serviço","Prumadas Hidraulica.","UN",0,0,0,0,0,0,0,0,0]
["16.9","Serviço","Prumadas Sanitárias","UN",0,0,0,0,0,0,0,0,0]
["16.10","Serviço","Tubos e Conexões Hidraulicas","UN",0,0,0,0,0,0,0,0,0]
["16.11","Serviço","Vala de Infiltração","M",0,0,0,0,0,0,0,0,0]
["17","Fase","VIDROS",null,null,null,null,null,{"$f":"SUM(I196:I199)","v":0},0,0,0,0]
["17.1","Serviço","Vidro comum","M2",0,0,0,{"$f":"+F196+G196","v":0},{"$f":"+E196*H196","v":0},{"$f":"IFERROR(I196/$K$224,0)","v":0},{"$f":"IF(B196=\"Serviço\",I196,0)","v":0},{"$f":"IF(B196=\"Serviço\",F196*E196,0)","v":0},{"$f":"IF(B196=\"Serviço\",G196*E196,0)","v":0}]
["17.2","Serviço","Vidro Fantasia","M2",0,0,0,0,{"$f":"+E197*H197","v":0},0,0,0,0]
["17.3","Serviço","Vidro Laminado","M2",0,0,0,0,{"$f":"+E198*H198","v":0},0,0,0,0]
["17.4","Serviço","Vidro Temperado","M2",0,0,0,0,{"$f":"+E199*H199","v":0},0,0,0,0]
["18","Fase","PINTURA",null,null,null,null,null,{"$f":"+I201","v":0},0,0,0,0]
["18.1","Serviço","Pintura","VB",0,0,0,{"$f":"+F201+G201","v":0},{"$f":"+E201*H201","v":0},0,0,0,0]
["19","Fase","ELEVADORES",null,null,null,null,null,{"$f":"+I203","v":0},0,0,0,0]
["19.1","Serviço","Fornecimento e Instalação de Elevadores","VB",0,0,0,{"$f":"+F203+G203","v":0},{"$f":"+E203*H203","v":0},0,0,0,0]
["20","Fase","CONTROLE TECNOLÓGICO",null,null,null,null,null,{"$f":"SUM(I205:I207)","v":0},0,0,0,0]
["20.1","Serviço","Controle Tecnológico bloco estrutural","VB",0,0,0,{"$f":"+F205+G205","v":0},{"$f":"+E205*H205","v":0},0,0,0,0]
["20.2","Serviço","Controle Tecnológico do Aço","VB",0,0,0,0,{"$f":"+E206*H206","v":0},0,0,0,0]
["20.3","Serviço","Controle Tecnológico do Concreto","VB",0,0,0,0,{"$f":"+E207*H207","v":0},0,0,0,0]
["21","Fase","DIVERSOS",null,null,null,null,null,{"$f":"SUM(I209:I213)","v":0},0,0,0,0]
["21.1","Serviço","Jardim / Paisagismo","VB",0,0,0,{"$f":"+F209+G209","v":0},{"$f":"+E209*H209","v":0},0,0,0,0]
["21.2","Serviço","Diversos","VB",0,0,0,0,{"$f":"+E210*H210","v":0},0,0,0,0]
["21.3","Serviço","Equipamentos de Segurança","VB",0,0,0,0,{"$f":"+E211*H211","v":0},0,0,0,0]
["21.4","Serviço","Muro Bloco Concreto H= 1.80 com chapisco","M2",0,0,0,0,{"$f":"+E212*H212","v":0},0,0,0,0]
["21.5","Serviço","Muro de Tijolos E= 10 cm com brocas","M2",0,0,0,0,{"$f":"+E213*H213","v":0},0,0,0,0]
["22","Fase","FINALIZAÇÃO DE OBRA",null,null,null,null,null,{"$f":"+I215+I218","v":0},0,0,0,0]
["22.1","Subfase","LIMPEZA",null,null,null,null,null,{"$f":"SUM(I216:I217)","v":0},0,0,0,0]
["22.1.1","Serviço","Limpeza Final da Obra","M2",0,0,0,{"$f":"+F216+G216","v":0},{"$f":"+E216*H216","v":0},0,0,0,0]
["22.1.2","Serviço","Remoção de Entulho","UN",0,0,0,0,{"$f":"+E217*H217","v":0},0,0,0,0]
["22.2","Subfase","LIGAÇÕES DEFINITIVAS",null,null,null,null,null,{"$f":"SUM(I219:I221)","v":0},0,0,0,0]
["22.2.1","Serviço","Ligação Definitiva de Água e Esgoto","VB",0,0,0,{"$f":"+F219+G219","v":0},{"$f":"+E219*H219","v":0},0,0,0,0]
["22.2.2","Serviço","Ligação Definitiva de Energia Elétrica","VB",0,0,0,0,{"$f":"+E220*H220","v":0},0,0,0,0]
["22.2.3","Serviço","Ligação Definitiva de Telefone","VB",0,0,0,0,{"$f":"+E221*H221","v":0},0,0,0,0]
["Material",null,null,null,null,null,null,null,{"$f":"+K222","v":0},{"$f":"IFERROR(K222/K224,0)","v":0},{"$f":"+L224","v":0}]
["Mão de Obra",null,null,null,null,null,null,null,{"$f":"+K223","v":0},{"$f":"IFERROR(K223/K224,0)","v":0},{"$f":"+M224","v":0}]
["Total",null,null,null,null,null,null,null,{"$f":"+K224","v":0},1,{"$f":"SUM(K3:K221)","v":0},{"$f":"SUM(L3:L221)","v":0},{"$f":"SUM(M3:M221)","v":0}]

{"sheet":"Orçamento de Venda","index":2,"n_rows":224,"n_cols":11,"rows_kept":224,"cut":false,"hidden":false,"merged":[[0,0,0,8],[221,0,221,6],[222,0,222,6],[223,0,223,6]]}
["Orçamento de Venda"]
["Código","Tipo","Descrição","Unidade","Quantidade","Valor Custo","BDI %","Valor Venda","%","Total Custo","Total Venda"]
["1","Fase",{"$f":"'Orçamento de Custo'!C3","v":"SERVIÇOS"},null,null,{"$f":"+F4+F11","v":0},{"$f":"IFERROR((H3/F3)-1,0)","v":0},{"$f":"+H4+H11","v":0},{"$f":"IFERROR(H3/$H$224,0)","v":0},{"$f":"IF(B3=\"Serviço\",F3,0)","v":0},{"$f":"IF(B3=\"Serviço\",H3,0)","v":0}]
["1.1","Subfase",{"$f":"'Orçamento de Custo'!C4","v":"SERVIÇOS TÉCNICOS"},null,null,{"$f":"+'Orçamento de Custo'!I4","v":0},{"$f":"IFERROR((H4/F4)-1,0)","v":0},{"$f":"SUM(H5:H10)","v":0},{"$f":"IFERROR(H4/$H$224,0)","v":0},0,0]
["1.1.1","Serviço",{"$f":"'Orçamento de Custo'!C5","v":"Projeto de Arquitetura"},{"$f":"'Orçamento de Custo'!D5","v":"VB"},{"$f":"+'Orçamento de Custo'!E5","v":0},{"$f":"+'Orçamento de Custo'!I5","v":0},0.1,{"$f":"+F5*(1+G5)","v":0},0,{"$f":"IF(B5=\"Serviço\",F5,0)","v":0},{"$f":"IF(B5=\"Serviço\",H5,0)","v":0}]
["1.1.2","Serviço",{"$f":"'Orçamento de Custo'!C6","v":"Projetos de Hidráulica"},{"$f":"'Orçamento de Custo'!D6","v":"VB"},{"$f":"+'Orçamento de Custo'!E6","v":0},{"$f":"+'Orçamento de Custo'!I6","v":0},0.1,{"$f":"+F6*(1+G6)","v":0},0,{"$f":"IF(B6=\"Serviço\",F6,0)","v":0},{"$f":"IF(B6=\"Serviço\",H6,0)","v":0}]
["1.1.3","Serviço",{"$f":"'Orçamento de Custo'!C7","v":"Outros Projetos"},{"$f":"'Orçamento de Custo'!D7","v":"VB"},{"$f":"+'Orçamento de Custo'!E7","v":0},{"$f":"+'Orçamento de Custo'!I7","v":0},0.1,0,0,0,0]
["1.1.4","Serviço",{"$f":"'Orçamento de Custo'!C8","v":"Projeto de Bombeiro"},{"$f":"'Orçamento de Custo'!D8","v":"VB"},{"$f":"+'Orçamento de Custo'!E8","v":0},{"$f":"+'Orçamento de Custo'!I8","v":0},0.1,0,0,0,0]
["1.1.5","Serviço",{"$f":"'Orçamento de Custo'!C9","v":"Projeto Estrutural"},{"$f":"'Orçamento de Custo'!D9","v":"VB"},{"$f":"+'Orçamento de Custo'!E9","v":0},{"$f":"+'Orçamento de Custo'!I9","v":0},0.1,0,0,0,0]
["1.1.6","Serviço",{"$f":"'Orçamento de Custo'!C10","v":"Projetos de Elétrica"},{"$f":"'Orçamento de Custo'!D10","v":"VB"},{"$f":"+'Orçamento de Custo'!E10","v":0},{"$f":"+'Orçamento de Custo'!I10","v":0},0.1,0,0,0,0]
["1.2","Subfase",{"$f":"'Orçamento de Custo'!C11","v":"OUTROS SERVIÇOS"},null,null,{"$f":"+'Orçamento de Custo'!I11","v":0},{"$f":"IFERROR((H11/F11)-1,0)","v":0},{"$f":"SUM(H12:H16)","v":0},0,0,0]
["1.2.1","Serviço",{"$f":"'Orçamento de Custo'!C12","v":"Administração de Obra"},{"$f":"'Orçamento de Custo'!D12","v":"VB"},{"$f":"+'Orçamento de Custo'!E12","v":0},{"$f":"+'Orçamento de Custo'!I12","v":0},0.1,{"$f":"+F12*(1+G12)","v":0},0,0,0]
["1.2.2","Serviço",{"$f":"'Orçamento de Custo'!C13","v":"Cópias e Plotagens"},{"$f":"'Orçamento de Custo'!D13","v":"VB"},{"$f":"+'Orçamento de Custo'!E13","v":0},{"$f":"+'Orçamento de Custo'!I13","v":0},0.1,0,0,0,0]
["1.2.3","Serviço",{"$f":"'Orçamento de Custo'!C14","v":"Licenças e Seguros"},{"$f":"'Orçamento de Custo'!D14","v":"VB"},{"$f":"+'Orçamento de Custo'!E14","v":0},{"$f":"+'Orçamento de Custo'!I14","v":0},0.1,0,0,0,0]
["1.2.4","Serviço",{"$f":"'Orçamento de Custo'!C15","v":"Serviço de Topografia"},{"$f":"'Orçamento de Custo'!D15","v":"VB"},{"$f":"+'Orçamento de Custo'!E15","v":0},{"$f":"+'Orçamento de Custo'!I15","v":0},0.1,0,0,0,0]
["1.2.5","Serviço",{"$f":"'Orçamento de Custo'!C16","v":"Sondagem"},{"$f":"'Orçamento de Custo'!D16","v":"VB"},{"$f":"+'Orçamento de Custo'!E16","v":0},{"$f":"+'Orçamento de Custo'!I16","v":0},0.1,0,0,0,0]
["2","Fase",{"$f":"'Orçamento de Custo'!C17","v":"INSTALAÇÕES DO CANTEIRO DE OBRA"},null,null,{"$f":"+'Orçamento de Custo'!I17","v":0},{"$f":"IFERROR((H17/F17)-1,0)","v":0},{"$f":"SUM(H18:H31)","v":0},0,0,0]
["2.1","Serviço",{"$f":"'Orçamento de Custo'!C18","v":"Demolições"},{"$f":"'Orçamento de Custo'!D18","v":"VB"},{"$f":"+'Orçamento de Custo'!E18","v":0},{"$f":"+'Orçamento de Custo'!I18","v":0},0.1,{"$f":"+F18*(1+G18)","v":0},0,0,0]
["2.2","Serviço",{"$f":"'Orçamento de Custo'!C19","v":"Limpeza de Terreno"},{"$f":"'Orçamento de Custo'!D19","v":"M2"},{"$f":"+'Orçamento de Custo'!E19","v":0},{"$f":"+'Orçamento de Custo'!I19","v":0},0.1,0,0,0,0]
["2.3","Serviço",{"$f":"'Orçamento de Custo'!C20","v":"Abrigo provisório. conteiner tipo escritório"},{"$f":"'Orçamento de Custo'!D20","v":"DIA"},{"$f":"+'Orçamento de Custo'!E20","v":0},{"$f":"+'Orçamento de Custo'!I20","v":0},0.1,0,0,0,0]
["2.4","Serviço",{"$f":"'Orçamento de Custo'!C21","v":"Abrigo provisório. conteiner tipo sanitário"},{"$f":"'Orçamento de Custo'!D21","v":"DIA"},{"$f":"+'Orçamento de Custo'!E21","v":0},{"$f":"+'Orçamento de Custo'!I21","v":0},0.1,0,0,0,0]
["2.5","Serviço",{"$f":"'Orçamento de Custo'!C22","v":"Almoxarifado de Obra"},{"$f":"'Orçamento de Custo'!D22","v":"M2"},{"$f":"+'Orçamento de Custo'!E22","v":0},{"$f":"+'Orçamento de Custo'!I22","v":0},0.1,0,0,0,0]
["2.6","Serviço",{"$f":"'Orçamento de Custo'!C23","v":"Alojamento de Obra"},{"$f":"'Orçamento de Custo'!D23","v":"M2"},{"$f":"+'Orçamento de Custo'!E23","v":0},{"$f":"+'Orçamento de Custo'!I23","v":0},0.1,0,0,0,0]
["2.7","Serviço",{"$f":"'Orçamento de Custo'!C24","v":"Instalações da Obra"},{"$f":"'Orçamento de Custo'!D24","v":"VB"},{"$f":"+'Orçamento de Custo'!E24","v":0},{"$f":"+'Orçamento de Custo'!I24","v":0},0.1,0,0,0,0]
["2.8","Serviço",{"$f":"'Orçamento de Custo'!C25","v":"Ligação Provisória de Energia"},{"$f":"'Orçamento de Custo'!D25","v":"VB"},{"$f":"+'Orçamento de Custo'!E25","v":0},{"$f":"+'Orçamento de Custo'!I25","v":0},0.1,0,0,0,0]
["2.9","Serviço",{"$f":"'Orçamento de Custo'!C26","v":"Ligação Provisória de Telefone"},{"$f":"'Orçamento de Custo'!D26","v":"VB"},{"$f":"+'Orçamento de Custo'!E26","v":0},{"$f":"+'Orçamento de Custo'!I26","v":0},0.1,0,0,0,0]
["2.10","Serviço",{"$f":"'Orçamento de Custo'!C27","v":"Ligações Provisórias de Água e Esgoto"},{"$f":"'Orçamento de Custo'!D27","v":"VB"},{"$f":"+'Orçamento de Custo'!E27","v":0},{"$f":"+'Orçamento de Custo'!I27","v":0},0.1,0,0,0,0]
["2.11","Serviço",{"$f":"'Orçamento de Custo'!C28","v":"Locação/Instalação de Canteiro de Obras"},{"$f":"'Orçamento de Custo'!D28","v":"VB"},{"$f":"+'Orçamento de Custo'!E28","v":0},{"$f":"+'Orçamento de Custo'!I28","v":0},0.1,0,0,0,0]
["2.12","Serviço",{"$f":"'Orçamento de Custo'!C29","v":"Placas de Obra"},{"$f":"'Orçamento de Custo'!D29","v":"VB"},{"$f":"+'Orçamento de Custo'!E29","v":0},{"$f":"+'Orçamento de Custo'!I29","v":0},0.1,0,0,0,0]
["2.13","Serviço",{"$f":"'Orçamento de Custo'!C30","v":"Seguros"},{"$f":"'Orçamento de Custo'!D30","v":"VB"},{"$f":"+'Orçamento de Custo'!E30","v":0},{"$f":"+'Orçamento de Custo'!I30","v":0},0.1,0,0,0,0]
["2.14","Serviço",{"$f":"'Orçamento de Custo'!C31","v":"Tapume"},{"$f":"'Orçamento de Custo'!D31","v":"VB"},{"$f":"+'Orçamento de Custo'!E31","v":0},{"$f":"+'Orçamento de Custo'!I31","v":0},0.1,0,0,0,0]
["3","Fase",{"$f":"'Orçamento de Custo'!C32","v":"TERRAPLANAGEM"},null,null,{"$f":"+'Orçamento de Custo'!I32","v":0},{"$f":"IFERROR((H32/F32)-1,0)","v":0},{"$f":"SUM(H33:H35)","v":0},0,0,0]
["3.1","Serviço",{"$f":"'Orçamento de Custo'!C33","v":"Escavação Mecanizada"},{"$f":"'Orçamento de Custo'!D33","v":"M3"},{"$f":"+'Orçamento de Custo'!E33","v":0},{"$f":"+'Orçamento de Custo'!I33","v":0},0.1,{"$f":"+F33*(1+G33)","v":0},0,0,0]
["3.2","Serviço",{"$f":"'Orçamento de Custo'!C34","v":"Escavação Manual"},{"$f":"'Orçamento de Custo'!D34","v":"H"},{"$f":"+'Orçamento de Custo'!E34","v":0},{"$f":"+'Orçamento de Custo'!I34","v":0},0.1,0,0,0,0]
["3.3","Serviço",{"$f":"'Orçamento de Custo'!C35","v":"Terraplanagem"},{"$f":"'Orçamento de Custo'!D35","v":"VB"},{"$f":"+'Orçamento de Custo'!E35","v":0},{"$f":"+'Orçamento de Custo'!I35","v":0},0.1,0,0,0,0]
["4","Fase",{"$f":"'Orçamento de Custo'!C36","v":"FUNDAÇÕES - INFRA ESTRUTURA"},null,null,{"$f":"+'Orçamento de Custo'!I36","v":0},{"$f":"IFERROR((H36/F36)-1,0)","v":0},{"$f":"SUM(H37:H58)","v":0},0,0,0]
["4.1","Serviço",{"$f":"'Orçamento de Custo'!C37","v":"Lastro de areia"},{"$f":"'Orçamento de Custo'!D37","v":"M3"},{"$f":"+'Orçamento de Custo'!E37","v":0},{"$f":"+'Orçamento de Custo'!I37","v":0},0.1,{"$f":"+F37*(1+G37)","v":0},0,0,0]
["4.2","Serviço",{"$f":"'Orçamento de Custo'!C38","v":"Lastro de brita"},{"$f":"'Orçamento de Custo'!D38","v":"M3"},{"$f":"+'Orçamento de Custo'!E38","v":0},{"$f":"+'Orçamento de Custo'!I38","v":0},0.1,0,0,0,0]
["4.3","Serviço",{"$f":"'Orçamento de Custo'!C39","v":"Concreto Ciclópico"},{"$f":"'Orçamento de Custo'!D39","v":"M3"},{"$f":"+'Orçamento de Custo'!E39","v":0},{"$f":"+'Orçamento de Custo'!I39","v":0},0.1,0,0,0,0]
["4.4","Serviço",{"$f":"'Orçamento de Custo'!C40","v":"Cortinas dos Sub-Solos - Concreto"},{"$f":"'Orçamento de Custo'!D40","v":"M2"},{"$f":"+'Orçamento de Custo'!E40","v":0},{"$f":"+'Orçamento de Custo'!I40","v":0},0.1,0,0,0,0]
["4.5","Serviço",{"$f":"'Orçamento de Custo'!C41","v":"Embasamento em Pedra"},{"$f":"'Orçamento de Custo'!D41","v":"M3"},{"$f":"+'Orçamento de Custo'!E41","v":0},{"$f":"+'Orçamento de Custo'!I41","v":0},0.1,0,0,0,0]
["4.6","Serviço",{"$f":"'Orçamento de Custo'!C42","v":"Escavação de Tubulão"},{"$f":"'Orçamento de Custo'!D42","v":"M"},{"$f":"+'Orçamento de Custo'!E42","v":0},{"$f":"+'Orçamento de Custo'!I42","v":0},0.1,0,0,0,0]
["4.7","Serviço",{"$f":"'Orçamento de Custo'!C43","v":"Escavação para blocos e baldrames"},{"$f":"'Orçamento de Custo'!D43","v":"M3"},{"$f":"+'Orçamento de Custo'!E43","v":0},{"$f":"+'Orçamento de Custo'!I43","v":0},0.1,0,0,0,0]
["4.8","Serviço",{"$f":"'Orçamento de Custo'!C44","v":"Estaca Pré-Moldada - 40 tf"},{"$f":"'Orçamento de Custo'!D44","v":"M"},{"$f":"+'Orçamento de Custo'!E44","v":0},{"$f":"+'Orçamento de Custo'!I44","v":0},0.1,0,0,0,0]
["4.9","Serviço",{"$f":"'Orçamento de Custo'!C45","v":"Estaca Strauss 25cm - 20 tf"},{"$f":"'Orçamento de Custo'!D45","v":"M"},{"$f":"+'Orçamento de Custo'!E45","v":0},{"$f":"+'Orçamento de Custo'!I45","v":0},0.1,0,0,0,0]
["4.10","Serviço",{"$f":"'Orçamento de Custo'!C46","v":"Estaca Strauss 32 cm - 30 tf"},{"$f":"'Orçamento de Custo'!D46","v":"M"},{"$f":"+'Orçamento de Custo'!E46","v":0},{"$f":"+'Orçamento de Custo'!I46","v":0},0.1,0,0,0,0]
["4.11","Serviço",{"$f":"'Orçamento de Custo'!C47","v":"Estaca Strauss 45 cm - 50 tf"},{"$f":"'Orçamento de Custo'!D47","v":"M"},{"$f":"+'Orçamento de Custo'!E47","v":0},{"$f":"+'Orçamento de Custo'!I47","v":0},0.1,0,0,0,0]
["4.12","Serviço",{"$f":"'Orçamento de Custo'!C48","v":"Estacas Pré-Moldadas 30 tf"},{"$f":"'Orçamento de Custo'!D48","v":"M"},{"$f":"+'Orçamento de Custo'!E48","v":0},{"$f":"+'Orçamento de Custo'!I48","v":0},0.1,0,0,0,0]
["4.13","Serviço",{"$f":"'Orçamento de Custo'!C49","v":"Fundações"},{"$f":"'Orçamento de Custo'!D49","v":"VB"},{"$f":"+'Orçamento de Custo'!E49","v":0},{"$f":"+'Orçamento de Custo'!I49","v":0},0.1,0,0,0,0]
["4.14","Serviço",{"$f":"'Orçamento de Custo'!C50","v":"Lastro de concreto magro"},{"$f":"'Orçamento de Custo'!D50","v":"M3"},{"$f":"+'Orçamento de Custo'!E50","v":0},{"$f":"+'Orçamento de Custo'!I50","v":0},0.1,0,0,0,0]
["4.15","Serviço",{"$f":"'Orçamento de Custo'!C51","v":"Lastro de Rachão"},{"$f":"'Orçamento de Custo'!D51","v":"M3"},{"$f":"+'Orçamento de Custo'!E51","v":0},{"$f":"+'Orçamento de Custo'!I51","v":0},0.1,0,0,0,0]
["4.16","Serviço",{"$f":"'Orçamento de Custo'!C52","v":"Mobilização de Bate-Estacas"},{"$f":"'Orçamento de Custo'!D52","v":"VB"},{"$f":"+'Orçamento de Custo'!E52","v":0},{"$f":"+'Orçamento de Custo'!I52","v":0},0.1,0,0,0,0]
["4.17","Serviço",{"$f":"'Orçamento de Custo'!C53","v":"Muro de Arrimo - Conc. Obra / 7m2 / 115 kg Aço"},{"$f":"'Orçamento de Custo'!D53","v":"M3"},{"$f":"+'Orçamento de Custo'!E53","v":0},{"$f":"+'Orçamento de Custo'!I53","v":0},0.1,0,0,0,0]
["4.18","Serviço",{"$f":"'Orçamento de Custo'!C54","v":"Perfil Metálico Alma Dupla I 10¨"},{"$f":"'Orçamento de Custo'!D54","v":"M"},{"$f":"+'Orçamento de Custo'!E54","v":0},{"$f":"+'Orçamento de Custo'!I54","v":0},0.1,0,0,0,0]
["4.19","Serviço",{"$f":"'Orçamento de Custo'!C55","v":"Perfil Metálico Alma Dupla I 12¨"},{"$f":"'Orçamento de Custo'!D55","v":"M"},{"$f":"+'Orçamento de Custo'!E55","v":0},{"$f":"+'Orçamento de Custo'!I55","v":0},0.1,0,0,0,0]
["4.20","Serviço",{"$f":"'Orçamento de Custo'!C56","v":"Perfil Metálico I 10¨"},{"$f":"'Orçamento de Custo'!D56","v":"M"},{"$f":"+'Orçamento de Custo'!E56","v":0},{"$f":"+'Orçamento de Custo'!I56","v":0},0.1,0,0,0,0]
["4.21","Serviço",{"$f":"'Orçamento de Custo'!C57","v":"Perfil Metálico I 12¨"},{"$f":"'Orçamento de Custo'!D57","v":"M"},{"$f":"+'Orçamento de Custo'!E57","v":0},{"$f":"+'Orçamento de Custo'!I57","v":0},0.1,0,0,0,0]
["4.22","Serviço",{"$f":"'Orçamento de Custo'!C58","v":"Regularização e Compactação para blocos e baldrames"},{"$f":"'Orçamento de Custo'!D58","v":"M2"},{"$f":"+'Orçamento de Custo'!E58","v":0},{"$f":"+'Orçamento de Custo'!I58","v":0},0.1,0,0,0,0]
["5","Fase",{"$f":"'Orçamento de Custo'!C59","v":"ESTRUTURA"},null,null,{"$f":"+'Orçamento de Custo'!I59","v":0},{"$f":"IFERROR((H59/F59)-1,0)","v":0},{"$f":"SUM(H60:H84)","v":0},0,0,0]
["5.1","Serviço",{"$f":"'Orçamento de Custo'!C60","v":"Escoramento"},{"$f":"'Orçamento de Custo'!D60","v":"M2"},{"$f":"+'Orçamento de Custo'!E60","v":0},{"$f":"+'Orçamento de Custo'!I60","v":0},0.1,{"$f":"+F60*(1+G60)","v":0},0,0,0]
["5.2","Serviço",{"$f":"'Orçamento de Custo'!C61","v":"Estruturas"},{"$f":"'Orçamento de Custo'!D61","v":"VB"},{"$f":"+'Orçamento de Custo'!E61","v":0},{"$f":"+'Orçamento de Custo'!I61","v":0},0.1,0,0,0,0]
["5.3","Serviço",{"$f":"'Orçamento de Custo'!C62","v":"Aço CA-50 / 60 Cortado e Dobrado"},{"$f":"'Orçamento de Custo'!D62","v":"KG"},{"$f":"+'Orçamento de Custo'!E62","v":0},{"$f":"+'Orçamento de Custo'!I62","v":0},0.1,0,0,0,0]
["5.4","Serviço",{"$f":"'Orçamento de Custo'!C63","v":"Blocos de EPS 50x50x18cm"},{"$f":"'Orçamento de Custo'!D63","v":"UN"},{"$f":"+'Orçamento de Custo'!E63","v":0},{"$f":"+'Orçamento de Custo'!I63","v":0},0.1,0,0,0,0]
["5.5","Serviço",{"$f":"'Orçamento de Custo'!C64","v":"Cinta de Concreto"},{"$f":"'Orçamento de Custo'!D64","v":"M3"},{"$f":"+'Orçamento de Custo'!E64","v":0},{"$f":"+'Orçamento de Custo'!I64","v":0},0.1,0,0,0,0]
["5.6","Serviço",{"$f":"'Orçamento de Custo'!C65","v":"Concreto Usinado 15.0 MPA - Bombeado"},{"$f":"'Orçamento de Custo'!D65","v":"M3"},{"$f":"+'Orçamento de Custo'!E65","v":0},{"$f":"+'Orçamento de Custo'!I65","v":0},0.1,0,0,0,0]
["5.7","Serviço",{"$f":"'Orçamento de Custo'!C66","v":"Concreto Usinado 20.0 MPA - Bombeado"},{"$f":"'Orçamento de Custo'!D66","v":"M3"},{"$f":"+'Orçamento de Custo'!E66","v":0},{"$f":"+'Orçamento de Custo'!I66","v":0},0.1,0,0,0,0]
["5.8","Serviço",{"$f":"'Orçamento de Custo'!C67","v":"Concreto Usinado 25.0 MPA - Bombeado"},{"$f":"'Orçamento de Custo'!D67","v":"M3"},{"$f":"+'Orçamento de Custo'!E67","v":0},{"$f":"+'Orçamento de Custo'!I67","v":0},0.1,0,0,0,0]
["5.9","Serviço",{"$f":"'Orçamento de Custo'!C68","v":"Concreto Usinado 30.0 MPA - Bombeado"},{"$f":"'Orçamento de Custo'!D68","v":"M3"},{"$f":"+'Orçamento de Custo'!E68","v":0},{"$f":"+'Orçamento de Custo'!I68","v":0},0.1,0,{"$f":"IFERROR(H68/$H$224,0)","v":0},0,0]
["5.10","Serviço",{"$f":"'Orçamento de Custo'!C69","v":"Concreto Usinado 35.0 MPA - Bombeado"},{"$f":"'Orçamento de Custo'!D69","v":"M3"},{"$f":"+'Orçamento de Custo'!E69","v":0},{"$f":"+'Orçamento de Custo'!I69","v":0},0.1,0,0,0,0]
["5.11","Serviço",{"$f":"'Orçamento de Custo'!C70","v":"Concreto Usinado 40.0 MPA - Bombeado"},{"$f":"'Orçamento de Custo'!D70","v":"M3"},{"$f":"+'Orçamento de Custo'!E70","v":0},{"$f":"+'Orçamento de Custo'!I70","v":0},0.1,0,0,{"$f":"IF(B70=\"Serviço\",F70,0)","v":0},{"$f":"IF(B70=\"Serviço\",H70,0)","v":0}]
["5.12","Serviço",{"$f":"'Orçamento de Custo'!C71","v":"Concreto Virado na Obra"},{"$f":"'Orçamento de Custo'!D71","v":"M3"},{"$f":"+'Orçamento de Custo'!E71","v":0},{"$f":"+'Orçamento de Custo'!I71","v":0},0.1,0,0,0,0]
["5.13","Serviço",{"$f":"'Orçamento de Custo'!C72","v":"Estr. Apar. / Concreto / Plastificado (3x)"},{"$f":"'Orçamento de Custo'!D72","v":"M3"},{"$f":"+'Orçamento de Custo'!E72","v":0},{"$f":"+'Orçamento de Custo'!I72","v":0},0.1,0,0,0,0]
["5.14","Serviço",{"$f":"'Orçamento de Custo'!C73","v":"Estr. Apar. / Concreto / Resinado (3x)"},{"$f":"'Orçamento de Custo'!D73","v":"M3"},{"$f":"+'Orçamento de Custo'!E73","v":0},{"$f":"+'Orçamento de Custo'!I73","v":0},0.1,0,0,0,0]
["5.15","Serviço",{"$f":"'Orçamento de Custo'!C74","v":"Estr. Comum / Concreto / Tábuas (2x) / 115 kg"},{"$f":"'Orçamento de Custo'!D74","v":"M3"},{"$f":"+'Orçamento de Custo'!E74","v":0},{"$f":"+'Orçamento de Custo'!I74","v":0},0.1,0,0,0,0]
["5.16","Serviço",{"$f":"'Orçamento de Custo'!C75","v":"Estrutura Metálica"},{"$f":"'Orçamento de Custo'!D75","v":"M2"},{"$f":"+'Orçamento de Custo'!E75","v":0},{"$f":"+'Orçamento de Custo'!I75","v":0},0.1,0,0,0,0]
["5.17","Serviço",{"$f":"'Orçamento de Custo'!C76","v":"Forma Aparente Resinada"},{"$f":"'Orçamento de Custo'!D76","v":"M2"},{"$f":"+'Orçamento de Custo'!E76","v":0},{"$f":"+'Orçamento de Custo'!I76","v":0},0.1,0,0,0,0]
["5.18","Serviço",{"$f":"'Orçamento de Custo'!C77","v":"Forma Curva Resinada"},{"$f":"'Orçamento de Custo'!D77","v":"M2"},{"$f":"+'Orçamento de Custo'!E77","v":0},{"$f":"+'Orçamento de Custo'!I77","v":0},0.1,0,0,0,0]
["5.19","Serviço",{"$f":"'Orçamento de Custo'!C78","v":"Forma de Tábuas (2x)"},{"$f":"'Orçamento de Custo'!D78","v":"M2"},{"$f":"+'Orçamento de Custo'!E78","v":0},{"$f":"+'Orçamento de Custo'!I78","v":0},0.1,0,0,0,0]
["5.20","Serviço",{"$f":"'Orçamento de Custo'!C79","v":"Forma para cinta"},{"$f":"'Orçamento de Custo'!D79","v":"M3"},{"$f":"+'Orçamento de Custo'!E79","v":0},{"$f":"+'Orçamento de Custo'!I79","v":0},0.1,0,0,0,0]
["5.21","Serviço",{"$f":"'Orçamento de Custo'!C80","v":"Forma para Pré-Moldado"},{"$f":"'Orçamento de Custo'!D80","v":"M2"},{"$f":"+'Orçamento de Custo'!E80","v":0},{"$f":"+'Orçamento de Custo'!I80","v":0},0.1,0,0,0,0]
["5.22","Serviço",{"$f":"'Orçamento de Custo'!C81","v":"Laje Pré-Fabricada"},{"$f":"'Orçamento de Custo'!D81","v":"M2"},{"$f":"+'Orçamento de Custo'!E81","v":0},{"$f":"+'Orçamento de Custo'!I81","v":0},0.1,0,0,0,0]
["5.23","Serviço",{"$f":"'Orçamento de Custo'!C82","v":"Lastro de concreto simples no traço 1:4:8. espessura 7cm."},{"$f":"'Orçamento de Custo'!D82","v":"M2"},{"$f":"+'Orçamento de Custo'!E82","v":0},{"$f":"+'Orçamento de Custo'!I82","v":0},0.1,0,0,0,0]
["5.24","Serviço",{"$f":"'Orçamento de Custo'!C83","v":"Regularização de base p/ piso.  Arg. Mista c/Cim/A Grossa. 1:4. Esp= 0.3cm. Área Molhada."},{"$f":"'Orçamento de Custo'!D83","v":"M2"},{"$f":"+'Orçamento de Custo'!E83","v":0},{"$f":"+'Orçamento de Custo'!I83","v":0},0.1,0,0,0,0]
["5.25","Serviço",{"$f":"'Orçamento de Custo'!C84","v":"Regularização de base p/ piso.  Arg. Mista c/Cim/A Grossa. 1:4. Esp= 0.5cm. Área Seca."},{"$f":"'Orçamento de Custo'!D84","v":"M2"},{"$f":"+'Orçamento de Custo'!E84","v":0},{"$f":"+'Orçamento de Custo'!I84","v":0},0.1,0,0,0,0]
["6","Fase",{"$f":"'Orçamento de Custo'!C85","v":"IMPERMEABILIZAÇÕES"},null,null,{"$f":"+'Orçamento de Custo'!I85","v":0},{"$f":"IFERROR((H85/F85)-1,0)","v":0},{"$f":"SUM(H86:H91)","v":0},0,0,0]
["6.1","Serviço",{"$f":"'Orçamento de Custo'!C86","v":"Impermeabilizações"},{"$f":"'Orçamento de Custo'!D86","v":"VB"},{"$f":"+'Orçamento de Custo'!E86","v":0},{"$f":"+'Orçamento de Custo'!I86","v":0},0.1,{"$f":"+F86*(1+G86)","v":0},0,0,0]
["6.2","Serviço",{"$f":"'Orçamento de Custo'!C87","v":"Drenagem Junto a Cortinas"},{"$f":"'Orçamento de Custo'!D87","v":"VB"},{"$f":"+'Orçamento de Custo'!E87","v":0},{"$f":"+'Orçamento de Custo'!I87","v":0},0.1,0,0,0,0]
["6.3","Serviço",{"$f":"'Orçamento de Custo'!C88","v":"Impermeabilização Manta 4 mm. Lajes. Floreiras. Terr. etc."},{"$f":"'Orçamento de Custo'!D88","v":"VB"},{"$f":"+'Orçamento de Custo'!E88","v":0},{"$f":"+'Orçamento de Custo'!I88","v":0},0.1,0,0,0,0]
["6.4","Serviço",{"$f":"'Orçamento de Custo'!C89","v":"Proteção Mecânica"},{"$f":"'Orçamento de Custo'!D89","v":"M2"},{"$f":"+'Orçamento de Custo'!E89","v":0},{"$f":"+'Orçamento de Custo'!I89","v":0},0.1,0,0,0,0]
["6.5","Serviço",{"$f":"'Orçamento de Custo'!C90","v":"Proteção Primaria"},{"$f":"'Orçamento de Custo'!D90","v":"M2"},{"$f":"+'Orçamento de Custo'!E90","v":0},{"$f":"+'Orçamento de Custo'!I90","v":0},0.1,0,0,0,0]
["6.6","Serviço",{"$f":"'Orçamento de Custo'!C91","v":"Regularização"},{"$f":"'Orçamento de Custo'!D91","v":"M2"},{"$f":"+'Orçamento de Custo'!E91","v":0},{"$f":"+'Orçamento de Custo'!I91","v":0},0.1,0,0,0,0]
["7","Fase",{"$f":"'Orçamento de Custo'!C92","v":"ALVENARIA"},null,null,{"$f":"+'Orçamento de Custo'!I92","v":0},{"$f":"IFERROR((H92/F92)-1,0)","v":0},{"$f":"SUM(H93:H109)","v":0},0,0,0]
["7.1","Serviço",{"$f":"'Orçamento de Custo'!C93","v":"Alvenaria de Tijolo Comum"},{"$f":"'Orçamento de Custo'!D93","v":"M2"},{"$f":"+'Orçamento de Custo'!E93","v":0},{"$f":"+'Orçamento de Custo'!I93","v":0},0.1,{"$f":"+F93*(1+G93)","v":0},0,0,0]
["7.2","Serviço",{"$f":"'Orçamento de Custo'!C94","v":"Aço para Alvenaria (2.2 kg/m2)"},{"$f":"'Orçamento de Custo'!D94","v":"KG"},{"$f":"+'Orçamento de Custo'!E94","v":0},{"$f":"+'Orçamento de Custo'!I94","v":0},0.1,0,0,0,0]
["7.3","Serviço",{"$f":"'Orçamento de Custo'!C95","v":"Alvenaria de Embasamento Tijolo Comum"},{"$f":"'Orçamento de Custo'!D95","v":"M3"},{"$f":"+'Orçamento de Custo'!E95","v":0},{"$f":"+'Orçamento de Custo'!I95","v":0},0.1,0,0,0,0]
["7.4","Serviço",{"$f":"'Orçamento de Custo'!C96","v":"Alvenaria Estrutural Bloco Concreto"},{"$f":"'Orçamento de Custo'!D96","v":"M2"},{"$f":"+'Orçamento de Custo'!E96","v":0},{"$f":"+'Orçamento de Custo'!I96","v":0},0.1,0,0,0,0]
["7.5","Serviço",{"$f":"'Orçamento de Custo'!C97","v":"Alvenaria Vedação Bloco de Concreto"},{"$f":"'Orçamento de Custo'!D97","v":"M2"},{"$f":"+'Orçamento de Custo'!E97","v":0},{"$f":"+'Orçamento de Custo'!I97","v":0},0.1,0,0,0,0]
["7.6","Serviço",{"$f":"'Orçamento de Custo'!C98","v":"Argamassa de 9 MPa - 15 kg/m2 para assentamento de blocos de concreto"},{"$f":"'Orçamento de Custo'!D98","v":"KG"},{"$f":"+'Orçamento de Custo'!E98","v":0},{"$f":"+'Orçamento de Custo'!I98","v":0},0.1,0,0,0,0]
["7.7","Serviço",{"$f":"'Orçamento de Custo'!C99","v":"Batentes para Divisórias de Granilite"},{"$f":"'Orçamento de Custo'!D99","v":"M"},{"$f":"+'Orçamento de Custo'!E99","v":0},{"$f":"+'Orçamento de Custo'!I99","v":0},0.1,0,0,0,0]
["7.8","Serviço",{"$f":"'Orçamento de Custo'!C100","v":"Blocos de Concreto"},{"$f":"'Orçamento de Custo'!D100","v":"M2"},{"$f":"+'Orçamento de Custo'!E100","v":0},{"$f":"+'Orçamento de Custo'!I100","v":0},0.1,0,0,0,0]
["7.9","Serviço",{"$f":"'Orçamento de Custo'!C101","v":"Cintas Estrutural Canaleta Concreto"},{"$f":"'Orçamento de Custo'!D101","v":"M"},{"$f":"+'Orçamento de Custo'!E101","v":0},{"$f":"+'Orçamento de Custo'!I101","v":0},0.1,0,0,0,0]
["7.10","Serviço",{"$f":"'Orçamento de Custo'!C102","v":"Divisória de PVC"},{"$f":"'Orçamento de Custo'!D102","v":"M2"},{"$f":"+'Orçamento de Custo'!E102","v":0},{"$f":"+'Orçamento de Custo'!I102","v":0},0.1,0,0,0,0]
["7.11","Serviço",{"$f":"'Orçamento de Custo'!C103","v":"Divisória Dry wall - Parede de Gesso"},{"$f":"'Orçamento de Custo'!D103","v":"M2"},{"$f":"+'Orçamento de Custo'!E103","v":0},{"$f":"+'Orçamento de Custo'!I103","v":0},0.1,0,0,0,0]
["7.12","Serviço",{"$f":"'Orçamento de Custo'!C104","v":"Divisórias de Granilite"},{"$f":"'Orçamento de Custo'!D104","v":"M2"},{"$f":"+'Orçamento de Custo'!E104","v":0},{"$f":"+'Orçamento de Custo'!I104","v":0},0.1,0,0,0,0]
["7.13","Serviço",{"$f":"'Orçamento de Custo'!C105","v":"Dry Wall - Retoque de Gesso para Parede de Dry Wall"},{"$f":"'Orçamento de Custo'!D105","v":"M2"},{"$f":"+'Orçamento de Custo'!E105","v":0},{"$f":"+'Orçamento de Custo'!I105","v":0},0.1,0,0,0,0]
["7.14","Serviço",{"$f":"'Orçamento de Custo'!C106","v":"Graute para Alvenaria Armada"},{"$f":"'Orçamento de Custo'!D106","v":"KG"},{"$f":"+'Orçamento de Custo'!E106","v":0},{"$f":"+'Orçamento de Custo'!I106","v":0},0.1,0,0,0,0]
["7.15","Serviço",{"$f":"'Orçamento de Custo'!C107","v":"Grout (0.03 m3/m2)"},{"$f":"'Orçamento de Custo'!D107","v":"M3"},{"$f":"+'Orçamento de Custo'!E107","v":0},{"$f":"+'Orçamento de Custo'!I107","v":0},0.1,0,0,0,0]
["7.16","Serviço",{"$f":"'Orçamento de Custo'!C108","v":"Pilaretes Estrutural Bloco Concreto"},{"$f":"'Orçamento de Custo'!D108","v":"M"},{"$f":"+'Orçamento de Custo'!E108","v":0},{"$f":"+'Orçamento de Custo'!I108","v":0},0.1,0,0,0,0]
["7.17","Serviço",{"$f":"'Orçamento de Custo'!C109","v":"Vergas Retas de Concreto Armado"},{"$f":"'Orçamento de Custo'!D109","v":"M3"},{"$f":"+'Orçamento de Custo'!E109","v":0},{"$f":"+'Orçamento de Custo'!I109","v":0},0.1,0,0,0,0]
["8","Fase",{"$f":"'Orçamento de Custo'!C110","v":"COBERTURA"},null,null,{"$f":"+'Orçamento de Custo'!I110","v":0},{"$f":"IFERROR((H110/F110)-1,0)","v":0},{"$f":"SUM(H111:H119)","v":0},0,0,0]
["8.1","Serviço",{"$f":"'Orçamento de Custo'!C111","v":"Cobertura com telha cerâmica tipo portuguesa"},{"$f":"'Orçamento de Custo'!D111","v":"M2"},{"$f":"+'Orçamento de Custo'!E111","v":0},{"$f":"+'Orçamento de Custo'!I111","v":0},0.1,{"$f":"+F111*(1+G111)","v":0},0,0,0]
["8.2","Serviço",{"$f":"'Orçamento de Custo'!C112","v":"Madeiramento Telha Comum"},{"$f":"'Orçamento de Custo'!D112","v":"M2"},{"$f":"+'Orçamento de Custo'!E112","v":0},{"$f":"+'Orçamento de Custo'!I112","v":0},0.1,0,0,0,0]
["8.3","Serviço",{"$f":"'Orçamento de Custo'!C113","v":"Canalete"},{"$f":"'Orçamento de Custo'!D113","v":"M2"},{"$f":"+'Orçamento de Custo'!E113","v":0},{"$f":"+'Orçamento de Custo'!I113","v":0},0.1,0,0,0,0]
["8.4","Serviço",{"$f":"'Orçamento de Custo'!C114","v":"Cobertura"},{"$f":"'Orçamento de Custo'!D114","v":"VB"},{"$f":"+'Orçamento de Custo'!E114","v":0},{"$f":"+'Orçamento de Custo'!I114","v":0},0.1,0,0,0,0]
["8.5","Serviço",{"$f":"'Orçamento de Custo'!C115","v":"Cobertura com Telha Colonial"},{"$f":"'Orçamento de Custo'!D115","v":"M2"},{"$f":"+'Orçamento de Custo'!E115","v":0},{"$f":"+'Orçamento de Custo'!I115","v":0},0.1,0,0,0,0]
["8.6","Serviço",{"$f":"'Orçamento de Custo'!C116","v":"Cobertura com Telha Plan"},{"$f":"'Orçamento de Custo'!D116","v":"M2"},{"$f":"+'Orçamento de Custo'!E116","v":0},{"$f":"+'Orçamento de Custo'!I116","v":0},0.1,0,0,0,0]
["8.7","Serviço",{"$f":"'Orçamento de Custo'!C117","v":"Cobertura Telha Fibro-Cimento"},{"$f":"'Orçamento de Custo'!D117","v":"M2"},{"$f":"+'Orçamento de Custo'!E117","v":0},{"$f":"+'Orçamento de Custo'!I117","v":0},0.1,0,0,0,0]
["8.8","Serviço",{"$f":"'Orçamento de Custo'!C118","v":"Feltro Asfaltico"},{"$f":"'Orçamento de Custo'!D118","v":"M2"},{"$f":"+'Orçamento de Custo'!E118","v":0},{"$f":"+'Orçamento de Custo'!I118","v":0},0.1,0,0,0,0]
["8.9","Serviço",{"$f":"'Orçamento de Custo'!C119","v":"Madeiramento Telha Fibro-Cimento"},{"$f":"'Orçamento de Custo'!D119","v":"M2"},{"$f":"+'Orçamento de Custo'!E119","v":0},{"$f":"+'Orçamento de Custo'!I119","v":0},0.1,0,0,0,0]
["9","Fase",{"$f":"'Orçamento de Custo'!C120","v":"FORRO"},null,null,{"$f":"+'Orçamento de Custo'!I120","v":0},{"$f":"IFERROR((H120/F120)-1,0)","v":0},{"$f":"SUM(H121:H129)","v":0},0,0,0]
["9.1","Serviço",{"$f":"'Orçamento de Custo'!C121","v":"Forro de PVC"},{"$f":"'Orçamento de Custo'!D121","v":"M2"},{"$f":"+'Orçamento de Custo'!E121","v":0},{"$f":"+'Orçamento de Custo'!I121","v":0},0.1,{"$f":"+F121*(1+G121)","v":0},0,0,0]
["9.2","Serviço",{"$f":"'Orçamento de Custo'!C122","v":"Estrutura Auxiliar para Forro"},{"$f":"'Orçamento de Custo'!D122","v":"M2"},{"$f":"+'Orçamento de Custo'!E122","v":0},{"$f":"+'Orçamento de Custo'!I122","v":0},0.1,0,0,0,0]
["9.3","Serviço",{"$f":"'Orçamento de Custo'!C123","v":"Forro de Gesso"},{"$f":"'Orçamento de Custo'!D123","v":"M2"},{"$f":"+'Orçamento de Custo'!E123","v":0},{"$f":"+'Orçamento de Custo'!I123","v":0},0.1,0,0,0,0]
["9.4","Serviço",{"$f":"'Orçamento de Custo'!C124","v":"Forro de Madeira"},{"$f":"'Orçamento de Custo'!D124","v":"M2"},{"$f":"+'Orçamento de Custo'!E124","v":0},{"$f":"+'Orçamento de Custo'!I124","v":0},0.1,0,0,0,0]
["9.5","Serviço",{"$f":"'Orçamento de Custo'!C125","v":"Forro de Massa"},{"$f":"'Orçamento de Custo'!D125","v":"M2"},{"$f":"+'Orçamento de Custo'!E125","v":0},{"$f":"+'Orçamento de Custo'!I125","v":0},0.1,0,0,0,0]
["9.6","Serviço",{"$f":"'Orçamento de Custo'!C126","v":"Forros"},{"$f":"'Orçamento de Custo'!D126","v":"VB"},{"$f":"+'Orçamento de Custo'!E126","v":0},{"$f":"+'Orçamento de Custo'!I126","v":0},0.1,0,0,0,0]
["9.7","Serviço",{"$f":"'Orçamento de Custo'!C127","v":"Laje pré-moldada para fôrro"},{"$f":"'Orçamento de Custo'!D127","v":"M2"},{"$f":"+'Orçamento de Custo'!E127","v":0},{"$f":"+'Orçamento de Custo'!I127","v":0},0.1,0,0,0,0]
["9.8","Serviço",{"$f":"'Orçamento de Custo'!C128","v":"Moldura de Gesso"},{"$f":"'Orçamento de Custo'!D128","v":"M"},{"$f":"+'Orçamento de Custo'!E128","v":0},{"$f":"+'Orçamento de Custo'!I128","v":0},0.1,0,0,0,0]
["9.9","Serviço",{"$f":"'Orçamento de Custo'!C129","v":"Sanca de Gesso"},{"$f":"'Orçamento de Custo'!D129","v":"M"},{"$f":"+'Orçamento de Custo'!E129","v":0},{"$f":"+'Orçamento de Custo'!I129","v":0},0.1,0,0,0,0]
["10","Fase",{"$f":"'Orçamento de Custo'!C130","v":"REVESTIMENTOS"},null,null,{"$f":"+'Orçamento de Custo'!I130","v":0},{"$f":"IFERROR((H130/F130)-1,0)","v":0},{"$f":"SUM(H131:H137)","v":0},0,0,0]
["10.1","Serviço",{"$f":"'Orçamento de Custo'!C131","v":"Revestimentos de Parede"},{"$f":"'Orçamento de Custo'!D131","v":"VB"},{"$f":"+'Orçamento de Custo'!E131","v":0},{"$f":"+'Orçamento de Custo'!I131","v":0},0.1,{"$f":"+F131*(1+G131)","v":0},0,0,0]
["10.2","Serviço",{"$f":"'Orçamento de Custo'!C132","v":"Chapisco"},{"$f":"'Orçamento de Custo'!D132","v":"M2"},{"$f":"+'Orçamento de Custo'!E132","v":0},{"$f":"+'Orçamento de Custo'!I132","v":0},0.1,0,{"$f":"IFERROR(H132/$H$224,0)","v":0},0,0]
["10.3","Serviço",{"$f":"'Orçamento de Custo'!C133","v":"Massa Fina"},{"$f":"'Orçamento de Custo'!D133","v":"M2"},{"$f":"+'Orçamento de Custo'!E133","v":0},{"$f":"+'Orçamento de Custo'!I133","v":0},0.1,0,0,0,0]
["10.4","Serviço",{"$f":"'Orçamento de Custo'!C134","v":"Massa Grossa"},{"$f":"'Orçamento de Custo'!D134","v":"M2"},{"$f":"+'Orçamento de Custo'!E134","v":0},{"$f":"+'Orçamento de Custo'!I134","v":0},0.1,0,0,{"$f":"IF(B134=\"Serviço\",F134,0)","v":0},{"$f":"IF(B134=\"Serviço\",H134,0)","v":0}]
["10.5","Serviço",{"$f":"'Orçamento de Custo'!C135","v":"Revestimento com Pedras Naturais"},{"$f":"'Orçamento de Custo'!D135","v":"M2"},{"$f":"+'Orçamento de Custo'!E135","v":0},{"$f":"+'Orçamento de Custo'!I135","v":0},0.1,0,0,0,0]
["10.6","Serviço",{"$f":"'Orçamento de Custo'!C136","v":"Revestimento em Gesso "},{"$f":"'Orçamento de Custo'!D136","v":"M2"},{"$f":"+'Orçamento de Custo'!E136","v":0},{"$f":"+'Orçamento de Custo'!I136","v":0},0.1,0,0,0,0]
["10.7","Serviço",{"$f":"'Orçamento de Custo'!C137","v":"Textura Cristaline em Fachadas"},{"$f":"'Orçamento de Custo'!D137","v":"M2"},{"$f":"+'Orçamento de Custo'!E137","v":0},{"$f":"+'Orçamento de Custo'!I137","v":0},0.1,0,0,0,0]
["11","Fase",{"$f":"'Orçamento de Custo'!C138","v":"ESQUADRIAS"},null,null,{"$f":"+'Orçamento de Custo'!I138","v":0},{"$f":"IFERROR((H138/F138)-1,0)","v":0},{"$f":"SUM(H139:H142)","v":0},0,0,0]
["11.1","Serviço",{"$f":"'Orçamento de Custo'!C139","v":"Esquadrias de Aluminio"},{"$f":"'Orçamento de Custo'!D139","v":"VB"},{"$f":"+'Orçamento de Custo'!E139","v":0},{"$f":"+'Orçamento de Custo'!I139","v":0},0.1,{"$f":"+F139*(1+G139)","v":0},0,0,0]
["11.2","Serviço",{"$f":"'Orçamento de Custo'!C140","v":"Batente dos Elevadores"},{"$f":"'Orçamento de Custo'!D140","v":"UN"},{"$f":"+'Orçamento de Custo'!E140","v":0},{"$f":"+'Orçamento de Custo'!I140","v":0},0.1,0,0,0,0]
["11.3","Serviço",{"$f":"'Orçamento de Custo'!C141","v":"Esquadrias de Ferro"},{"$f":"'Orçamento de Custo'!D141","v":"VB"},{"$f":"+'Orçamento de Custo'!E141","v":0},{"$f":"+'Orçamento de Custo'!I141","v":0},0.1,0,0,0,0]
["11.4","Serviço",{"$f":"'Orçamento de Custo'!C142","v":"Porta Corta Fogo 90x210 cm"},{"$f":"'Orçamento de Custo'!D142","v":"UN"},{"$f":"+'Orçamento de Custo'!E142","v":0},{"$f":"+'Orçamento de Custo'!I142","v":0},0.1,0,0,0,0]
["12","Fase",{"$f":"'Orçamento de Custo'!C143","v":"PISOS, LADRILHOS, PEITORIS, SOLEIRAS E RODAPÉS"},null,null,{"$f":"+'Orçamento de Custo'!I143","v":0},{"$f":"IFERROR((H143/F143)-1,0)","v":0},{"$f":"SUM(H144:H161)","v":0},0,0,0]
["12.1","Serviço",{"$f":"'Orçamento de Custo'!C144","v":"Contra-piso"},{"$f":"'Orçamento de Custo'!D144","v":"M2"},{"$f":"+'Orçamento de Custo'!E144","v":0},{"$f":"+'Orçamento de Custo'!I144","v":0},0.1,{"$f":"+F144*(1+G144)","v":0},0,0,0]
["12.2","Serviço",{"$f":"'Orçamento de Custo'!C145","v":"Pisos"},{"$f":"'Orçamento de Custo'!D145","v":"VB"},{"$f":"+'Orçamento de Custo'!E145","v":0},{"$f":"+'Orçamento de Custo'!I145","v":0},0.1,0,0,0,0]
["12.3","Serviço",{"$f":"'Orçamento de Custo'!C146","v":"Cantoneira de Proteção Pisos"},{"$f":"'Orçamento de Custo'!D146","v":"M"},{"$f":"+'Orçamento de Custo'!E146","v":0},{"$f":"+'Orçamento de Custo'!I146","v":0},0.1,0,0,0,0]
["12.4","Serviço",{"$f":"'Orçamento de Custo'!C147","v":"Cerâmica Esmaltada"},{"$f":"'Orçamento de Custo'!D147","v":"VB"},{"$f":"+'Orçamento de Custo'!E147","v":0},{"$f":"+'Orçamento de Custo'!I147","v":0},0.1,0,0,0,0]
["12.5","Serviço",{"$f":"'Orçamento de Custo'!C148","v":"Cimentad"},{"$f":"'Orçamento de Custo'!D148","v":"M2"},{"$f":"+'Orçamento de Custo'!E148","v":0},{"$f":"+'Orçamento de Custo'!I148","v":0},0.1,0,0,0,0]
["12.6","Serviço",{"$f":"'Orçamento de Custo'!C149","v":"Granilite"},{"$f":"'Orçamento de Custo'!D149","v":"M2"},{"$f":"+'Orçamento de Custo'!E149","v":0},{"$f":"+'Orçamento de Custo'!I149","v":0},0.1,0,0,0,0]
["12.7","Serviço",{"$f":"'Orçamento de Custo'!C150","v":"M.O. e Argamassa de assentamento e porcelanato"},{"$f":"'Orçamento de Custo'!D150","v":"M2"},{"$f":"+'Orçamento de Custo'!E150","v":0},{"$f":"+'Orçamento de Custo'!I150","v":0},0.1,0,0,0,0]
["12.8","Serviço",{"$f":"'Orçamento de Custo'!C151","v":"Mármores e Granitos"},{"$f":"'Orçamento de Custo'!D151","v":"M2"},{"$f":"+'Orçamento de Custo'!E151","v":0},{"$f":"+'Orçamento de Custo'!I151","v":0},0.1,0,0,0,0]
["12.9","Serviço",{"$f":"'Orçamento de Custo'!C152","v":"Piso Cerâmico"},{"$f":"'Orçamento de Custo'!D152","v":"M2"},{"$f":"+'Orçamento de Custo'!E152","v":0},{"$f":"+'Orçamento de Custo'!I152","v":0},0.1,0,0,0,0]
["12.10","Serviço",{"$f":"'Orçamento de Custo'!C153","v":"Piso cimentado liso c/ junta plástica."},{"$f":"'Orçamento de Custo'!D153","v":"M2"},{"$f":"+'Orçamento de Custo'!E153","v":0},{"$f":"+'Orçamento de Custo'!I153","v":0},0.1,0,0,0,0]
["12.11","Serviço",{"$f":"'Orçamento de Custo'!C154","v":"Piso Cimentado Liso subsolos escadas"},{"$f":"'Orçamento de Custo'!D154","v":"M2"},{"$f":"+'Orçamento de Custo'!E154","v":0},{"$f":"+'Orçamento de Custo'!I154","v":0},0.1,0,0,0,0]
["12.12","Serviço",{"$f":"'Orçamento de Custo'!C155","v":"Piso de Madeira - Assoalho"},{"$f":"'Orçamento de Custo'!D155","v":"M2"},{"$f":"+'Orçamento de Custo'!E155","v":0},{"$f":"+'Orçamento de Custo'!I155","v":0},0.1,0,0,0,0]
["12.13","Serviço",{"$f":"'Orçamento de Custo'!C156","v":"Piso em Granito"},{"$f":"'Orçamento de Custo'!D156","v":"M2"},{"$f":"+'Orçamento de Custo'!E156","v":0},{"$f":"+'Orçamento de Custo'!I156","v":0},0.1,0,0,0,0]
["12.14","Serviço",{"$f":"'Orçamento de Custo'!C157","v":"Piso em Lajotas"},{"$f":"'Orçamento de Custo'!D157","v":"M2"},{"$f":"+'Orçamento de Custo'!E157","v":0},{"$f":"+'Orçamento de Custo'!I157","v":0},0.1,0,0,0,0]
["12.15","Serviço",{"$f":"'Orçamento de Custo'!C158","v":"Regularização de Piso"},{"$f":"'Orçamento de Custo'!D158","v":"M2"},{"$f":"+'Orçamento de Custo'!E158","v":0},{"$f":"+'Orçamento de Custo'!I158","v":0},0.1,0,0,0,0]
["12.16","Serviço",{"$f":"'Orçamento de Custo'!C159","v":"Revestimento de Escadas"},{"$f":"'Orçamento de Custo'!D159","v":"M2"},{"$f":"+'Orçamento de Custo'!E159","v":0},{"$f":"+'Orçamento de Custo'!I159","v":0},0.1,0,0,0,0]
["12.17","Serviço",{"$f":"'Orçamento de Custo'!C160","v":"Rodapé"},{"$f":"'Orçamento de Custo'!D160","v":"VB"},{"$f":"+'Orçamento de Custo'!E160","v":0},{"$f":"+'Orçamento de Custo'!I160","v":0},0.1,0,0,0,0]
["12.18","Serviço",{"$f":"'Orçamento de Custo'!C161","v":"Soleira de Granito"},{"$f":"'Orçamento de Custo'!D161","v":"VB"},{"$f":"+'Orçamento de Custo'!E161","v":0},{"$f":"+'Orçamento de Custo'!I161","v":0},0.1,0,0,0,0]
["13","Fase",{"$f":"'Orçamento de Custo'!C162","v":"PORTAS DE MADEIRA E FERRAGENS"},null,null,{"$f":"+'Orçamento de Custo'!I162","v":0},{"$f":"IFERROR((H162/F162)-1,0)","v":0},{"$f":"SUM(H163:H164)","v":0},0,0,0]
["13.1","Serviço",{"$f":"'Orçamento de Custo'!C163","v":"Ferragens para Portas"},{"$f":"'Orçamento de Custo'!D163","v":"UN"},{"$f":"+'Orçamento de Custo'!E163","v":0},{"$f":"+'Orçamento de Custo'!I163","v":0},0.1,{"$f":"+F163*(1+G163)","v":0},0,0,0]
["13.2","Serviço",{"$f":"'Orçamento de Custo'!C164","v":"Porta de Madeira com Batentes"},{"$f":"'Orçamento de Custo'!D164","v":"UN"},{"$f":"+'Orçamento de Custo'!E164","v":0},{"$f":"+'Orçamento de Custo'!I164","v":0},0.1,0,0,0,0]
["14","Fase",{"$f":"'Orçamento de Custo'!C165","v":"PAVIMENTAÇÃO"},null,null,{"$f":"+'Orçamento de Custo'!I165","v":0},{"$f":"IFERROR((H165/F165)-1,0)","v":0},{"$f":"SUM(H166:H176)","v":0},0,0,0]
["14.1","Serviço",{"$f":"'Orçamento de Custo'!C166","v":"Abertura de caixa até 25 cm. inclui escavação compactação. transporte e preparo do sub-leito"},{"$f":"'Orçamento de Custo'!D166","v":"M2"},{"$f":"+'Orçamento de Custo'!E166","v":0},{"$f":"+'Orçamento de Custo'!I166","v":0},0.1,{"$f":"+F166*(1+G166)","v":0},0,0,0]
["14.2","Serviço",{"$f":"'Orçamento de Custo'!C167","v":"Canaleta Aguas Pluviais com Grelha Fofo"},{"$f":"'Orçamento de Custo'!D167","v":"M"},{"$f":"+'Orçamento de Custo'!E167","v":0},{"$f":"+'Orçamento de Custo'!I167","v":0},0.1,0,0,0,0]
["14.3","Serviço",{"$f":"'Orçamento de Custo'!C168","v":"Capa Asfáltica 4 cm"},{"$f":"'Orçamento de Custo'!D168","v":"M2"},{"$f":"+'Orçamento de Custo'!E168","v":0},{"$f":"+'Orçamento de Custo'!I168","v":0},0.1,0,0,0,0]
["14.4","Serviço",{"$f":"'Orçamento de Custo'!C169","v":"Fornecimento e assentamento de guias tipo PMSP 100. inclusive preparo de caixa. lastro de brita e en"},{"$f":"'Orçamento de Custo'!D169","v":"M"},{"$f":"+'Orçamento de Custo'!E169","v":0},{"$f":"+'Orçamento de Custo'!I169","v":0},0.1,0,0,0,0]
["14.5","Serviço",{"$f":"'Orçamento de Custo'!C170","v":"Guia"},{"$f":"'Orçamento de Custo'!D170","v":"M"},{"$f":"+'Orçamento de Custo'!E170","v":0},{"$f":"+'Orçamento de Custo'!I170","v":0},0.1,0,0,0,0]
["14.6","Serviço",{"$f":"'Orçamento de Custo'!C171","v":"Meio Fio de concreto inclusive escavação e reaterro"},{"$f":"'Orçamento de Custo'!D171","v":"M"},{"$f":"+'Orçamento de Custo'!E171","v":0},{"$f":"+'Orçamento de Custo'!I171","v":0},0.1,0,0,0,0]
["14.7","Serviço",{"$f":"'Orçamento de Custo'!C172","v":"Paralelepipedo"},{"$f":"'Orçamento de Custo'!D172","v":"M2"},{"$f":"+'Orçamento de Custo'!E172","v":0},{"$f":"+'Orçamento de Custo'!I172","v":0},0.1,0,0,0,0]
["14.8","Serviço",{"$f":"'Orçamento de Custo'!C173","v":"Pavimentação"},{"$f":"'Orçamento de Custo'!D173","v":"VB"},{"$f":"+'Orçamento de Custo'!E173","v":0},{"$f":"+'Orçamento de Custo'!I173","v":0},0.1,0,0,0,0]
["14.9","Serviço",{"$f":"'Orçamento de Custo'!C174","v":"Praparo de Sub-Leito"},{"$f":"'Orçamento de Custo'!D174","v":"M2"},{"$f":"+'Orçamento de Custo'!E174","v":0},{"$f":"+'Orçamento de Custo'!I174","v":0},0.1,0,0,0,0]
["14.10","Serviço",{"$f":"'Orçamento de Custo'!C175","v":"Revestimento de concreto asfáltico. inclusive transporte. espalhamento e compactação"},{"$f":"'Orçamento de Custo'!D175","v":"M3"},{"$f":"+'Orçamento de Custo'!E175","v":0},{"$f":"+'Orçamento de Custo'!I175","v":0},0.1,0,0,0,0]
["14.11","Serviço",{"$f":"'Orçamento de Custo'!C176","v":"Sarjetas e Sarjetões"},{"$f":"'Orçamento de Custo'!D176","v":"M3"},{"$f":"+'Orçamento de Custo'!E176","v":0},{"$f":"+'Orçamento de Custo'!I176","v":0},0.1,0,0,0,0]
["15","Fase",{"$f":"'Orçamento de Custo'!C177","v":"INSTALAÇÕES ELÉTRICAS"},null,null,{"$f":"+'Orçamento de Custo'!I177","v":0},{"$f":"IFERROR((H177/F177)-1,0)","v":0},{"$f":"SUM(H178:H182)","v":0},0,0,0]
["15.1","Serviço",{"$f":"'Orçamento de Custo'!C178","v":"Interruptores e Tomadas"},{"$f":"'Orçamento de Custo'!D178","v":"UN"},{"$f":"+'Orçamento de Custo'!E178","v":0},{"$f":"+'Orçamento de Custo'!I178","v":0},0.1,{"$f":"+F178*(1+G178)","v":0},0,0,0]
["15.2","Serviço",{"$f":"'Orçamento de Custo'!C179","v":"Luminárias e Lustres"},{"$f":"'Orçamento de Custo'!D179","v":"VB"},{"$f":"+'Orçamento de Custo'!E179","v":0},{"$f":"+'Orçamento de Custo'!I179","v":0},0.1,0,0,0,0]
["15.3","Serviço",{"$f":"'Orçamento de Custo'!C180","v":"Instalações Elétricas"},{"$f":"'Orçamento de Custo'!D180","v":"VB"},{"$f":"+'Orçamento de Custo'!E180","v":0},{"$f":"+'Orçamento de Custo'!I180","v":0},0.1,0,0,0,0]
["15.4","Serviço",{"$f":"'Orçamento de Custo'!C181","v":"Subestação de energia"},{"$f":"'Orçamento de Custo'!D181","v":"UN"},{"$f":"+'Orçamento de Custo'!E181","v":0},{"$f":"+'Orçamento de Custo'!I181","v":0},0.1,0,0,0,0]
["15.5","Serviço",{"$f":"'Orçamento de Custo'!C182","v":"Tubos e Conexões Elétrica/Telefônica"},{"$f":"'Orçamento de Custo'!D182","v":"UN"},{"$f":"+'Orçamento de Custo'!E182","v":0},{"$f":"+'Orçamento de Custo'!I182","v":0},0.1,0,0,0,0]
["16","Fase",{"$f":"'Orçamento de Custo'!C183","v":"INSTALAÇÕES HIDRÁULICAS"},null,null,{"$f":"+'Orçamento de Custo'!I183","v":0},{"$f":"IFERROR((H183/F183)-1,0)","v":0},{"$f":"SUM(H184:H194)","v":0},0,0,0]
["16.1","Serviço",{"$f":"'Orçamento de Custo'!C184","v":"Instalações Hidráulicas"},{"$f":"'Orçamento de Custo'!D184","v":"VB"},{"$f":"+'Orçamento de Custo'!E184","v":0},{"$f":"+'Orçamento de Custo'!I184","v":0},0.1,{"$f":"+F184*(1+G184)","v":0},0,0,0]
["16.2","Serviço",{"$f":"'Orçamento de Custo'!C185","v":"Fossa séptica"},{"$f":"'Orçamento de Custo'!D185","v":"UN"},{"$f":"+'Orçamento de Custo'!E185","v":0},{"$f":"+'Orçamento de Custo'!I185","v":0},0.1,0,0,0,0]
["16.3","Serviço",{"$f":"'Orçamento de Custo'!C186","v":"Instalações de Combate a Incêndios"},{"$f":"'Orçamento de Custo'!D186","v":"VB"},{"$f":"+'Orçamento de Custo'!E186","v":0},{"$f":"+'Orçamento de Custo'!I186","v":0},0.1,0,0,0,0]
["16.4","Serviço",{"$f":"'Orçamento de Custo'!C187","v":"Instalações de Splinklers"},{"$f":"'Orçamento de Custo'!D187","v":"VB"},{"$f":"+'Orçamento de Custo'!E187","v":0},{"$f":"+'Orçamento de Custo'!I187","v":0},0.1,0,0,0,0]
["16.5","Serviço",{"$f":"'Orçamento de Custo'!C188","v":"Instalações hidrossanitárias"},{"$f":"'Orçamento de Custo'!D188","v":"UN"},{"$f":"+'Orçamento de Custo'!E188","v":0},{"$f":"+'Orçamento de Custo'!I188","v":0},0.1,0,0,0,0]
["16.6","Serviço",{"$f":"'Orçamento de Custo'!C189","v":"Louças e Metais"},{"$f":"'Orçamento de Custo'!D189","v":"VB"},{"$f":"+'Orçamento de Custo'!E189","v":0},{"$f":"+'Orçamento de Custo'!I189","v":0},0.1,0,0,0,0]
["16.7","Serviço",{"$f":"'Orçamento de Custo'!C190","v":"Prumadas de Águas Pluviais"},{"$f":"'Orçamento de Custo'!D190","v":"UN"},{"$f":"+'Orçamento de Custo'!E190","v":0},{"$f":"+'Orçamento de Custo'!I190","v":0},0.1,0,0,0,0]
["16.8","Serviço",{"$f":"'Orçamento de Custo'!C191","v":"Prumadas Hidraulica."},{"$f":"'Orçamento de Custo'!D191","v":"UN"},{"$f":"+'Orçamento de Custo'!E191","v":0},{"$f":"+'Orçamento de Custo'!I191","v":0},0.1,0,0,0,0]
["16.9","Serviço",{"$f":"'Orçamento de Custo'!C192","v":"Prumadas Sanitárias"},{"$f":"'Orçamento de Custo'!D192","v":"UN"},{"$f":"+'Orçamento de Custo'!E192","v":0},{"$f":"+'Orçamento de Custo'!I192","v":0},0.1,0,0,0,0]
["16.10","Serviço",{"$f":"'Orçamento de Custo'!C193","v":"Tubos e Conexões Hidraulicas"},{"$f":"'Orçamento de Custo'!D193","v":"UN"},{"$f":"+'Orçamento de Custo'!E193","v":0},{"$f":"+'Orçamento de Custo'!I193","v":0},0.1,0,0,0,0]
["16.11","Serviço",{"$f":"'Orçamento de Custo'!C194","v":"Vala de Infiltração"},{"$f":"'Orçamento de Custo'!D194","v":"M"},{"$f":"+'Orçamento de Custo'!E194","v":0},{"$f":"+'Orçamento de Custo'!I194","v":0},0.1,0,0,0,0]
["17","Fase",{"$f":"'Orçamento de Custo'!C195","v":"VIDROS"},null,null,{"$f":"+'Orçamento de Custo'!I195","v":0},{"$f":"IFERROR((H195/F195)-1,0)","v":0},{"$f":"SUM(H196:H199)","v":0},0,0,0]
["17.1","Serviço",{"$f":"'Orçamento de Custo'!C196","v":"Vidro comum"},{"$f":"'Orçamento de Custo'!D196","v":"M2"},{"$f":"+'Orçamento de Custo'!E196","v":0},{"$f":"+'Orçamento de Custo'!I196","v":0},0.1,{"$f":"+F196*(1+G196)","v":0},{"$f":"IFERROR(H196/$H$224,0)","v":0},0,0]
["17.2","Serviço",{"$f":"'Orçamento de Custo'!C197","v":"Vidro Fantasia"},{"$f":"'Orçamento de Custo'!D197","v":"M2"},{"$f":"+'Orçamento de Custo'!E197","v":0},{"$f":"+'Orçamento de Custo'!I197","v":0},0.1,0,0,0,0]
["17.3","Serviço",{"$f":"'Orçamento de Custo'!C198","v":"Vidro Laminado"},{"$f":"'Orçamento de Custo'!D198","v":"M2"},{"$f":"+'Orçamento de Custo'!E198","v":0},{"$f":"+'Orçamento de Custo'!I198","v":0},0.1,0,0,{"$f":"IF(B198=\"Serviço\",F198,0)","v":0},{"$f":"IF(B198=\"Serviço\",H198,0)","v":0}]
["17.4","Serviço",{"$f":"'Orçamento de Custo'!C199","v":"Vidro Temperado"},{"$f":"'Orçamento de Custo'!D199","v":"M2"},{"$f":"+'Orçamento de Custo'!E199","v":0},{"$f":"+'Orçamento de Custo'!I199","v":0},0.1,0,0,0,0]
["18","Fase",{"$f":"'Orçamento de Custo'!C200","v":"PINTURA"},null,null,{"$f":"+'Orçamento de Custo'!I200","v":0},{"$f":"IFERROR((H200/F200)-1,0)","v":0},{"$f":"+H201","v":0},0,0,0]
["18.1","Serviço",{"$f":"'Orçamento de Custo'!C201","v":"Pintura"},{"$f":"'Orçamento de Custo'!D201","v":"VB"},{"$f":"+'Orçamento de Custo'!E201","v":0},{"$f":"+'Orçamento de Custo'!I201","v":0},0.1,{"$f":"+F201*(1+G201)","v":0},0,0,0]
["19","Fase",{"$f":"'Orçamento de Custo'!C202","v":"ELEVADORES"},null,null,{"$f":"+'Orçamento de Custo'!I202","v":0},{"$f":"IFERROR((H202/F202)-1,0)","v":0},{"$f":"+H203","v":0},0,0,0]
["19.1","Serviço",{"$f":"'Orçamento de Custo'!C203","v":"Fornecimento e Instalação de Elevadores"},{"$f":"'Orçamento de Custo'!D203","v":"VB"},{"$f":"+'Orçamento de Custo'!E203","v":0},{"$f":"+'Orçamento de Custo'!I203","v":0},0.1,{"$f":"+F203*(1+G203)","v":0},0,0,0]
["20","Fase",{"$f":"'Orçamento de Custo'!C204","v":"CONTROLE TECNOLÓGICO"},null,null,{"$f":"+'Orçamento de Custo'!I204","v":0},{"$f":"IFERROR((H204/F204)-1,0)","v":0},{"$f":"SUM(H205:H207)","v":0},0,0,0]
["20.1","Serviço",{"$f":"'Orçamento de Custo'!C205","v":"Controle Tecnológico bloco estrutural"},{"$f":"'Orçamento de Custo'!D205","v":"VB"},{"$f":"+'Orçamento de Custo'!E205","v":0},{"$f":"+'Orçamento de Custo'!I205","v":0},0.1,{"$f":"+F205*(1+G205)","v":0},0,0,0]
["20.2","Serviço",{"$f":"'Orçamento de Custo'!C206","v":"Controle Tecnológico do Aço"},{"$f":"'Orçamento de Custo'!D206","v":"VB"},{"$f":"+'Orçamento de Custo'!E206","v":0},{"$f":"+'Orçamento de Custo'!I206","v":0},0.1,0,0,0,0]
["20.3","Serviço",{"$f":"'Orçamento de Custo'!C207","v":"Controle Tecnológico do Concreto"},{"$f":"'Orçamento de Custo'!D207","v":"VB"},{"$f":"+'Orçamento de Custo'!E207","v":0},{"$f":"+'Orçamento de Custo'!I207","v":0},0.1,0,0,0,0]
["21","Fase",{"$f":"'Orçamento de Custo'!C208","v":"DIVERSOS"},null,null,{"$f":"+'Orçamento de Custo'!I208","v":0},{"$f":"IFERROR((H208/F208)-1,0)","v":0},{"$f":"SUM(H209:H213)","v":0},0,0,0]
["21.1","Serviço",{"$f":"'Orçamento de Custo'!C209","v":"Jardim / Paisagismo"},{"$f":"'Orçamento de Custo'!D209","v":"VB"},{"$f":"+'Orçamento de Custo'!E209","v":0},{"$f":"+'Orçamento de Custo'!I209","v":0},0.1,{"$f":"+F209*(1+G209)","v":0},0,0,0]
["21.2","Serviço",{"$f":"'Orçamento de Custo'!C210","v":"Diversos"},{"$f":"'Orçamento de Custo'!D210","v":"VB"},{"$f":"+'Orçamento de Custo'!E210","v":0},{"$f":"+'Orçamento de Custo'!I210","v":0},0.1,0,0,0,0]
["21.3","Serviço",{"$f":"'Orçamento de Custo'!C211","v":"Equipamentos de Segurança"},{"$f":"'Orçamento de Custo'!D211","v":"VB"},{"$f":"+'Orçamento de Custo'!E211","v":0},{"$f":"+'Orçamento de Custo'!I211","v":0},0.1,0,0,0,0]
["21.4","Serviço",{"$f":"'Orçamento de Custo'!C212","v":"Muro Bloco Concreto H= 1.80 com chapisco"},{"$f":"'Orçamento de Custo'!D212","v":"M2"},{"$f":"+'Orçamento de Custo'!E212","v":0},{"$f":"+'Orçamento de Custo'!I212","v":0},0.1,0,0,0,0]
["21.5","Serviço",{"$f":"'Orçamento de Custo'!C213","v":"Muro de Tijolos E= 10 cm com brocas"},{"$f":"'Orçamento de Custo'!D213","v":"M2"},{"$f":"+'Orçamento de Custo'!E213","v":0},{"$f":"+'Orçamento de Custo'!I213","v":0},0.1,0,0,0,0]
["22","Fase",{"$f":"'Orçamento de Custo'!C214","v":"FINALIZAÇÃO DE OBRA"},null,null,{"$f":"+'Orçamento de Custo'!I214","v":0},{"$f":"IFERROR((H214/F214)-1,0)","v":0},{"$f":"+H215+H218","v":0},0,0,0]
["22.1","Subfase",{"$f":"'Orçamento de Custo'!C215","v":"LIMPEZA"},null,null,{"$f":"+'Orçamento de Custo'!I215","v":0},0,{"$f":"SUM(H216:H217)","v":0},0,0,0]
["22.1.1","Serviço",{"$f":"'Orçamento de Custo'!C216","v":"Limpeza Final da Obra"},{"$f":"'Orçamento de Custo'!D216","v":"M2"},{"$f":"+'Orçamento de Custo'!E216","v":0},{"$f":"+'Orçamento de Custo'!I216","v":0},0.1,{"$f":"+F216*(1+G216)","v":0},0,0,0]
["22.1.2","Serviço",{"$f":"'Orçamento de Custo'!C217","v":"Remoção de Entulho"},{"$f":"'Orçamento de Custo'!D217","v":"UN"},{"$f":"+'Orçamento de Custo'!E217","v":0},{"$f":"+'Orçamento de Custo'!I217","v":0},0.1,0,0,0,0]
["22.2","Subfase",{"$f":"'Orçamento de Custo'!C218","v":"LIGAÇÕES DEFINITIVAS"},null,null,{"$f":"+'Orçamento de Custo'!I218","v":0},{"$f":"IFERROR((H218/F218)-1,0)","v":0},{"$f":"SUM(H219:H221)","v":0},0,0,0]
["22.2.1","Serviço",{"$f":"'Orçamento de Custo'!C219","v":"Ligação Definitiva de Água e Esgoto"},{"$f":"'Orçamento de Custo'!D219","v":"VB"},{"$f":"+'Orçamento de Custo'!E219","v":0},{"$f":"+'Orçamento de Custo'!I219","v":0},0.1,{"$f":"+F219*(1+G219)","v":0},0,0,0]
["22.2.2","Serviço",{"$f":"'Orçamento de Custo'!C220","v":"Ligação Definitiva de Energia Elétrica"},{"$f":"'Orçamento de Custo'!D220","v":"VB"},{"$f":"+'Orçamento de Custo'!E220","v":0},{"$f":"+'Orçamento de Custo'!I220","v":0},0.1,0,0,0,0]
["22.2.3","Serviço",{"$f":"'Orçamento de Custo'!C221","v":"Ligação Definitiva de Telefone"},{"$f":"'Orçamento de Custo'!D221","v":"VB"},{"$f":"+'Orçamento de Custo'!E221","v":0},{"$f":"+'Orçamento de Custo'!I221","v":0},0.1,0,0,0,0]
["Total Custo",null,null,null,null,null,null,{"$f":"+J222","v":0},null,{"$f":"SUM(J3:J221)","v":0},{"$f":"SUM(K3:K221)","v":0}]
["BDI %",null,null,null,null,null,null,{"$f":"IFERROR((H224/H222)-1,0)","v":0}]
["Total Venda",null,null,null,null,null,null,{"$f":"+K222","v":0},null,{"$f":"SUM(J3:J221)","v":0},{"$f":"SUM(K3:K221)","v":0}]

{"sheet":"Cronograma","index":3,"n_rows":23,"n_cols":11,"rows_kept":23,"cut":false,"hidden":false,"merged":[[32,9,32,19],[21,10,21,19],[22,10,22,19],[26,9,27,19],[28,9,29,19],[30,9,31,19]]}
[]
[]
[]
[]
[]
[]
[]
[]
[]
[]
[]
[]
[]
[]
[]
[]
[]
[]
[]
[]
[]
[null,null,null,null,null,null,null,null,null,null,"Planilha de Cronograma de Obra"]
[null,null,null,null,null,null,null,null,null,null,"Elaboramos uma planilha para você planejar e acompanhar a execução de suas obras. Adeus atrasos, entregas dentro do prazo!"]

{"sheet":"Conheça o Obra Prima","index":4,"n_rows":14,"n_cols":2,"rows_kept":14,"cut":false,"hidden":false,"merged":[[12,1,12,11],[13,1,13,11]]}
[]
[]
[]
[]
[]
[]
[]
[]
[]
[]
[]
[]
[null,"Você acha complicado controlar suas obras?\n\nNS!"]
[null,"Conheça o Obra Prima! Um sistema de gestão especialista nas obras e projetos de pequenas e médias empresas que buscam uma solução de gerenciamento ágil e dinâmica, mas sem as complexidades e os custos dos sistemas tradicionais."]

{"sheet":"Config","index":5,"n_rows":111,"n_cols":5,"rows_kept":111,"cut":false,"hidden":true,"merged":[]}
[]
[]
[]
[]
[]
[]
[]
[]
[]
[]
[]
[]
[]
[]
[]
[]
[]
[]
[]
[]
[]
[]
[]
[]
[]
[]
[]
[]
[]
[]
[]
[]
[]
[]
[]
[]
[]
[]
[]
[]
[]
[]
[]
[]
[]
[]
[]
[]
[]
[]
[]
[]
[]
[]
[]
[]
[]
[]
[]
[]
[]
[]
[]
[]
[]
[]
[]
[]
[]
[]
[]
[]
[]
[]
[]
[]
[]
[]
[]
[]
[]
[]
[]
[]
[]
[]
[]
[]
[]
[]
[]
[]
[]
[]
[]
[]
[]
[]
[]
[]
[null,null,null,"Caractere de preencimento",""]
[null,null,null,"Preencher fase",0]
[null,null,null,"RD Station - Identificador","plan_orcamento_registro"]
[null,null,null,"RD Station - Token","690c706ccac09a2762c0248762a71ee2"]
[null,null,null,"RD Station - URL","https://www.rdstation.com.br/api/1.3/conversions"]
[null,null,null,"Nome"]
[null,null,null,"E-mail"]
[null,null,null,"Celular"]
[null,null,null,"Empresa"]
[null,null,null,"RD Station - Data Integração"]
[null,null,null,"Arquivo Segurança","xlplor.dll"]