{"text_format":"1","workbook":"xlsx","n_sheets":2,"sheets":["FORMULAÇÃO","FICHAS"],"not_rendered":{"charts":0,"images":0,"macros":1,"external_links":1,"defined_names":2,"comments":0,"pivot_tables":0},"unopened":[],"bounds":{"document_bytes":16777216,"sheet_cells":100000,"rows_first":2000,"rows_last":500,"rows_between":2000,"halvings":0,"cell_chars":16384,"cell_head_chars":4096},"cells_cut":0,"cells_raw":0,"read":"whole","date_system":"1900"}

{"sheet":"FORMULAÇÃO","index":0,"n_rows":324,"n_cols":3,"rows_kept":324,"cut":false,"hidden":false,"merged":[[0,1,0,2]]}
[]
[]
[]
[]
[{"$f":"FICHAS!A5","v":"INGREDIENTE"},{"$f":"FICHAS!B5","v":"Custo/kg"}]
[{"$f":"FICHAS!A6","v":"Ingrediente 1"},null,{"$f":"FICHAS!B6","v":5}]
[{"$f":"FICHAS!A7","v":"Ingrediente 2"},null,{"$f":"FICHAS!B7","v":10}]
[{"$f":"FICHAS!A8","v":"Ingrediente 3"},null,{"$f":"FICHAS!B8","v":15}]
[{"$f":"FICHAS!A9","v":"Ingrediente 4"},null,{"$f":"('[1]BASE DE DADOS'!C9*$B9)","v":0}]
[{"$f":"FICHAS!A10","v":"Ingrediente 5"},null,{"$f":"('[1]BASE DE DADOS'!C10*$B10)","v":0}]
[null,null,{"$f":"('[1]BASE DE DADOS'!C11*$B11)","v":0}]
[null,null,{"$f":"('[1]BASE DE DADOS'!C12*$B12)","v":0}]
[null,null,{"$f":"('[1]BASE DE DADOS'!C13*$B13)","v":0}]
[null,null,{"$f":"('[1]BASE DE DADOS'!C14*$B14)","v":0}]
[null,null,{"$f":"('[1]BASE DE DADOS'!C15*$B15)","v":0}]
[null,null,{"$f":"('[1]BASE DE DADOS'!C16*$B16)","v":0}]
[null,null,{"$f":"('[1]BASE DE DADOS'!C17*$B17)","v":0}]
[null,null,{"$f":"('[1]BASE DE DADOS'!C18*$B18)","v":0}]
[null,null,{"$f":"('[1]BASE DE DADOS'!C19*$B19)","v":0}]
[null,null,{"$f":"('[1]BASE DE DADOS'!C20*$B20)","v":0}]
[null,null,{"$f":"('[1]BASE DE DADOS'!C21*$B21)","v":0}]
[null,null,{"$f":"('[1]BASE DE DADOS'!C22*$B22)","v":0}]
[null,null,{"$f":"('[1]BASE DE DADOS'!C23*$B23)","v":0}]
[null,null,{"$f":"('[1]BASE DE DADOS'!C24*$B24)","v":0}]
[null,null,{"$f":"('[1]BASE DE DADOS'!C25*$B25)","v":0}]
[null,null,{"$f":"('[1]BASE DE DADOS'!C26*$B26)","v":0}]
[null,null,{"$f":"('[1]BASE DE DADOS'!C27*$B27)","v":0}]
[null,null,{"$f":"('[1]BASE DE DADOS'!C28*$B28)","v":0}]
[null,null,{"$f":"('[1]BASE DE DADOS'!C29*$B29)","v":0}]
[null,null,{"$f":"('[1]BASE DE DADOS'!C30*$B30)","v":0}]
[null,null,{"$f":"('[1]BASE DE DADOS'!C31*$B31)","v":0}]
[null,null,{"$f":"('[1]BASE DE DADOS'!C32*$B32)","v":0}]
[null,null,{"$f":"('[1]BASE DE DADOS'!C33*$B33)","v":0}]
[null,null,{"$f":"('[1]BASE DE DADOS'!C34*$B34)","v":0}]
[null,null,{"$f":"('[1]BASE DE DADOS'!C35*$B35)","v":0}]
[null,null,{"$f":"('[1]BASE DE DADOS'!C36*$B36)","v":0}]
[null,null,{"$f":"('[1]BASE DE DADOS'!C37*$B37)","v":0}]
[null,null,{"$f":"('[1]BASE DE DADOS'!C38*$B38)","v":0}]
[null,null,{"$f":"('[1]BASE DE DADOS'!C39*$B39)","v":0}]
[null,null,{"$f":"('[1]BASE DE DADOS'!C40*$B40)","v":0}]
[null,null,{"$f":"('[1]BASE DE DADOS'!C41*$B41)","v":0}]
[null,null,{"$f":"('[1]BASE DE DADOS'!C42*$B42)","v":0}]
[null,null,{"$f":"('[1]BASE DE DADOS'!C43*$B43)","v":0}]
[null,null,{"$f":"('[1]BASE DE DADOS'!C44*$B44)","v":0}]
[null,null,{"$f":"('[1]BASE DE DADOS'!C45*$B45)","v":0}]
[null,null,{"$f":"('[1]BASE DE DADOS'!C46*$B46)","v":0}]
[null,null,{"$f":"('[1]BASE DE DADOS'!C47*$B47)","v":0}]
[null,null,{"$f":"('[1]BASE DE DADOS'!C48*$B48)","v":0}]
[null,null,{"$f":"('[1]BASE DE DADOS'!C49*$B49)","v":0}]
[null,null,{"$f":"('[1]BASE DE DADOS'!C50*$B50)","v":0}]
[null,null,{"$f":"('[1]BASE DE DADOS'!C51*$B51)","v":0}]
[null,null,{"$f":"('[1]BASE DE DADOS'!C52*$B52)","v":0}]
[null,null,{"$f":"('[1]BASE DE DADOS'!C53*$B53)","v":0}]
[null,null,{"$f":"('[1]BASE DE DADOS'!C54*$B54)","v":0}]
[null,null,{"$f":"('[1]BASE DE DADOS'!C55*$B55)","v":0}]
[null,null,{"$f":"('[1]BASE DE DADOS'!C56*$B56)","v":0}]
[null,null,{"$f":"('[1]BASE DE DADOS'!C57*$B57)","v":0}]
[null,null,{"$f":"('[1]BASE DE DADOS'!C58*$B58)","v":0}]
[null,null,{"$f":"('[1]BASE DE DADOS'!C59*$B59)","v":0}]
[null,null,{"$f":"('[1]BASE DE DADOS'!C60*$B60)","v":0}]
[null,null,{"$f":"('[1]BASE DE DADOS'!C61*$B61)","v":0}]
[null,null,{"$f":"('[1]BASE DE DADOS'!C62*$B62)","v":0}]
[null,null,{"$f":"('[1]BASE DE DADOS'!C63*$B63)","v":0}]
[null,null,{"$f":"('[1]BASE DE DADOS'!C64*$B64)","v":0}]
[null,null,{"$f":"('[1]BASE DE DADOS'!C65*$B65)","v":0}]
[null,null,{"$f":"('[1]BASE DE DADOS'!C66*$B66)","v":0}]
[null,null,{"$f":"('[1]BASE DE DADOS'!C67*$B67)","v":0}]
[null,null,{"$f":"('[1]BASE DE DADOS'!C68*$B68)","v":0}]
[null,null,{"$f":"('[1]BASE DE DADOS'!C69*$B69)","v":0}]
[null,null,{"$f":"('[1]BASE DE DADOS'!C70*$B70)","v":0}]
[null,null,{"$f":"('[1]BASE DE DADOS'!C71*$B71)","v":0}]
[null,null,{"$f":"('[1]BASE DE DADOS'!C72*$B72)","v":0}]
[null,null,{"$f":"('[1]BASE DE DADOS'!C73*$B73)","v":0}]
[null,null,{"$f":"('[1]BASE DE DADOS'!C74*$B74)","v":0}]
[null,null,{"$f":"('[1]BASE DE DADOS'!C75*$B75)","v":0}]
[null,null,{"$f":"('[1]BASE DE DADOS'!C76*$B76)","v":0}]
[null,null,{"$f":"('[1]BASE DE DADOS'!C77*$B77)","v":0}]
[null,null,{"$f":"('[1]BASE DE DADOS'!C78*$B78)","v":0}]
[null,null,{"$f":"('[1]BASE DE DADOS'!C79*$B79)","v":0}]
[null,null,{"$f":"('[1]BASE DE DADOS'!C80*$B80)","v":0}]
[null,null,{"$f":"('[1]BASE DE DADOS'!C81*$B81)","v":0}]
[]
[null,null,{"$f":"('[1]BASE DE DADOS'!C83*$B83)","v":0}]
[null,null,{"$f":"('[1]BASE DE DADOS'!C84*$B84)","v":0}]
[null,null,{"$f":"('[1]BASE DE DADOS'!C85*$B85)","v":0}]
[null,null,{"$f":"('[1]BASE DE DADOS'!C86*$B86)","v":0}]
[null,null,{"$f":"('[1]BASE DE DADOS'!C87*$B87)","v":0}]
[null,null,{"$f":"('[1]BASE DE DADOS'!C88*$B88)","v":0}]
[null,null,{"$f":"('[1]BASE DE DADOS'!C89*$B89)","v":0}]
[null,null,{"$f":"('[1]BASE DE DADOS'!C90*$B90)","v":0}]
[null,null,{"$f":"('[1]BASE DE DADOS'!C91*$B91)","v":0}]
[null,null,{"$f":"('[1]BASE DE DADOS'!C92*$B92)","v":0}]
[null,null,{"$f":"('[1]BASE DE DADOS'!C93*$B93)","v":0}]
[null,null,{"$f":"('[1]BASE DE DADOS'!C94*$B94)","v":0}]
[null,null,{"$f":"('[1]BASE DE DADOS'!C95*$B95)","v":0}]
[null,null,{"$f":"('[1]BASE DE DADOS'!C96*$B96)","v":0}]
[null,null,{"$f":"('[1]BASE DE DADOS'!C97*$B97)","v":0}]
[null,null,{"$f":"('[1]BASE DE DADOS'!C98*$B98)","v":0}]
[null,null,{"$f":"('[1]BASE DE DADOS'!C99*$B99)","v":0}]
[null,null,{"$f":"('[1]BASE DE DADOS'!C100*$B100)","v":0}]
[null,null,{"$f":"('[1]BASE DE DADOS'!C101*$B101)","v":0}]
[null,null,{"$f":"('[1]BASE DE DADOS'!C102*$B102)","v":0}]
[null,null,{"$f":"('[1]BASE DE DADOS'!C103*$B103)","v":0}]
[null,null,{"$f":"('[1]BASE DE DADOS'!C104*$B104)","v":0}]
[null,null,{"$f":"('[1]BASE DE DADOS'!C105*$B105)","v":0}]
[null,null,{"$f":"('[1]BASE DE DADOS'!C106*$B106)","v":0}]
[null,null,{"$f":"('[1]BASE DE DADOS'!C107*$B107)","v":0}]
[null,null,{"$f":"('[1]BASE DE DADOS'!C108*$B108)","v":0}]
[null,null,{"$f":"('[1]BASE DE DADOS'!C109*$B109)","v":0}]
[null,null,{"$f":"('[1]BASE DE DADOS'!C110*$B110)","v":0}]
[null,null,{"$f":"('[1]BASE DE DADOS'!C111*$B111)","v":0}]
[null,null,{"$f":"('[1]BASE DE DADOS'!C112*$B112)","v":0}]
[null,null,{"$f":"('[1]BASE DE DADOS'!C113*$B113)","v":0}]
[null,null,{"$f":"('[1]BASE DE DADOS'!C114*$B114)","v":0}]
[null,null,{"$f":"('[1]BASE DE DADOS'!C115*$B115)","v":0}]
[null,null,{"$f":"('[1]BASE DE DADOS'!C116*$B116)","v":0}]
[null,null,{"$f":"('[1]BASE DE DADOS'!C117*$B117)","v":0}]
[null,null,{"$f":"('[1]BASE DE DADOS'!C118*$B118)","v":0}]
[null,null,{"$f":"('[1]BASE DE DADOS'!C119*$B119)","v":0}]
[null,null,{"$f":"('[1]BASE DE DADOS'!C120*$B120)","v":0}]
[null,null,{"$f":"('[1]BASE DE DADOS'!C121*$B121)","v":0}]
[null,null,{"$f":"('[1]BASE DE DADOS'!C122*$B122)","v":0}]
[null,null,{"$f":"('[1]BASE DE DADOS'!C123*$B123)","v":0}]
[null,null,{"$f":"('[1]BASE DE DADOS'!C124*$B124)","v":0}]
[null,null,{"$f":"('[1]BASE DE DADOS'!C125*$B125)","v":0}]
[null,null,{"$f":"('[1]BASE DE DADOS'!C126*$B126)","v":0}]
[null,null,{"$f":"('[1]BASE DE DADOS'!C127*$B127)","v":0}]
[null,null,{"$f":"('[1]BASE DE DADOS'!C128*$B128)","v":0}]
[null,null,{"$f":"('[1]BASE DE DADOS'!C129*$B129)","v":0}]
[null,null,{"$f":"('[1]BASE DE DADOS'!C130*$B130)","v":0}]
[null,null,{"$f":"('[1]BASE DE DADOS'!C131*$B131)","v":0}]
[null,null,{"$f":"('[1]BASE DE DADOS'!C132*$B132)","v":0}]
[null,null,{"$f":"('[1]BASE DE DADOS'!C133*$B133)","v":0}]
[null,null,{"$f":"('[1]BASE DE DADOS'!C134*$B134)","v":0}]
[null,null,{"$f":"('[1]BASE DE DADOS'!C135*$B135)","v":0}]
[null,null,{"$f":"('[1]BASE DE DADOS'!C136*$B136)","v":0}]
[null,null,{"$f":"('[1]BASE DE DADOS'!C137*$B137)","v":0}]
[null,null,{"$f":"('[1]BASE DE DADOS'!C138*$B138)","v":0}]
[null,null,{"$f":"('[1]BASE DE DADOS'!C139*$B139)","v":0}]
[null,null,{"$f":"('[1]BASE DE DADOS'!C140*$B140)","v":0}]
[null,null,{"$f":"('[1]BASE DE DADOS'!C141*$B141)","v":0}]
[null,null,{"$f":"('[1]BASE DE DADOS'!C142*$B142)","v":0}]
[null,null,{"$f":"('[1]BASE DE DADOS'!C143*$B143)","v":0}]
[null,null,{"$f":"('[1]BASE DE DADOS'!C144*$B144)","v":0}]
[null,null,{"$f":"('[1]BASE DE DADOS'!C145*$B145)","v":0}]
[null,null,{"$f":"('[1]BASE DE DADOS'!C146*$B146)","v":0}]
[null,null,{"$f":"('[1]BASE DE DADOS'!C147*$B147)","v":0}]
[null,null,{"$f":"('[1]BASE DE DADOS'!C148*$B148)","v":0}]
[null,null,{"$f":"('[1]BASE DE DADOS'!C149*$B149)","v":0}]
[null,null,{"$f":"('[1]BASE DE DADOS'!C150*$B150)","v":0}]
[null,null,{"$f":"('[1]BASE DE DADOS'!C151*$B151)","v":0}]
[null,null,{"$f":"('[1]BASE DE DADOS'!C152*$B152)","v":0}]
[null,null,{"$f":"('[1]BASE DE DADOS'!C153*$B153)","v":0}]
[null,null,{"$f":"('[1]BASE DE DADOS'!C154*$B154)","v":0}]
[null,null,{"$f":"('[1]BASE DE DADOS'!C155*$B155)","v":0}]
[null,null,{"$f":"('[1]BASE DE DADOS'!C156*$B156)","v":0}]
[null,null,{"$f":"('[1]BASE DE DADOS'!C157*$B157)","v":0}]
[null,null,{"$f":"('[1]BASE DE DADOS'!C158*$B158)","v":0}]
[null,null,{"$f":"('[1]BASE DE DADOS'!C159*$B159)","v":0}]
[null,null,{"$f":"('[1]BASE DE DADOS'!C160*$B160)","v":0}]
[null,null,{"$f":"('[1]BASE DE DADOS'!C161*$B161)","v":0}]
[null,null,{"$f":"('[1]BASE DE DADOS'!C162*$B162)","v":0}]
[null,null,{"$f":"('[1]BASE DE DADOS'!C163*$B163)","v":0}]
[null,null,{"$f":"('[1]BASE DE DADOS'!C164*$B164)","v":0}]
[null,null,{"$f":"('[1]BASE DE DADOS'!C165*$B165)","v":0}]
[null,null,{"$f":"('[1]BASE DE DADOS'!C166*$B166)","v":0}]
[null,null,{"$f":"('[1]BASE DE DADOS'!C167*$B167)","v":0}]
[null,null,{"$f":"('[1]BASE DE DADOS'!C168*$B168)","v":0}]
[]
[null,null,{"$f":"('[1]BASE DE DADOS'!C170*$B170)","v":0}]
[null,null,{"$f":"('[1]BASE DE DADOS'!C171*$B171)","v":0}]
[null,null,{"$f":"('[1]BASE DE DADOS'!C172*$B172)","v":0}]
[null,null,{"$f":"('[1]BASE DE DADOS'!C173*$B173)","v":0}]
[null,null,{"$f":"('[1]BASE DE DADOS'!C174*$B174)","v":0}]
[null,null,{"$f":"('[1]BASE DE DADOS'!C175*$B175)","v":0}]
[null,null,{"$f":"('[1]BASE DE DADOS'!C176*$B176)","v":0}]
[null,null,{"$f":"('[1]BASE DE DADOS'!C177*$B177)","v":0}]
[null,null,{"$f":"('[1]BASE DE DADOS'!C178*$B178)","v":0}]
[null,null,{"$f":"('[1]BASE DE DADOS'!C179*$B179)","v":0}]
[null,null,{"$f":"('[1]BASE DE DADOS'!C180*$B180)","v":0}]
[null,null,{"$f":"('[1]BASE DE DADOS'!C181*$B181)","v":0}]
[null,null,{"$f":"('[1]BASE DE DADOS'!C182*$B182)","v":0}]
[null,null,{"$f":"('[1]BASE DE DADOS'!C183*$B183)","v":0}]
[null,null,{"$f":"('[1]BASE DE DADOS'!C184*$B184)","v":0}]
[null,null,{"$f":"('[1]BASE DE DADOS'!C185*$B185)","v":0}]
[null,null,{"$f":"('[1]BASE DE DADOS'!C186*$B186)","v":0}]
[null,null,{"$f":"('[1]BASE DE DADOS'!C187*$B187)","v":0}]
[null,null,{"$f":"('[1]BASE DE DADOS'!C188*$B188)","v":0}]
[null,null,{"$f":"('[1]BASE DE DADOS'!C189*$B189)","v":0}]
[null,null,{"$f":"('[1]BASE DE DADOS'!C190*$B190)","v":0}]
[null,null,{"$f":"('[1]BASE DE DADOS'!C191*$B191)","v":0}]
[null,null,{"$f":"('[1]BASE DE DADOS'!C192*$B192)","v":0}]
[null,null,{"$f":"('[1]BASE DE DADOS'!C193*$B193)","v":0}]
[null,null,{"$f":"('[1]BASE DE DADOS'!C194*$B194)","v":0}]
[null,null,{"$f":"('[1]BASE DE DADOS'!C195*$B195)","v":0}]
[null,null,{"$f":"('[1]BASE DE DADOS'!C196*$B196)","v":0}]
[null,null,{"$f":"('[1]BASE DE DADOS'!C197*$B197)","v":0}]
[null,null,{"$f":"('[1]BASE DE DADOS'!C198*$B198)","v":0}]
[null,null,{"$f":"('[1]BASE DE DADOS'!C199*$B199)","v":0}]
[null,null,{"$f":"('[1]BASE DE DADOS'!C200*$B200)","v":0}]
[null,null,{"$f":"('[1]BASE DE DADOS'!C201*$B201)","v":0}]
[null,null,{"$f":"('[1]BASE DE DADOS'!C202*$B202)","v":0}]
[null,null,{"$f":"('[1]BASE DE DADOS'!C203*$B203)","v":0}]
[null,null,{"$f":"('[1]BASE DE DADOS'!C204*$B204)","v":0}]
[null,null,{"$f":"('[1]BASE DE DADOS'!C205*$B205)","v":0}]
[null,null,{"$f":"('[1]BASE DE DADOS'!C206*$B206)","v":0}]
[null,null,{"$f":"('[1]BASE DE DADOS'!C207*$B207)","v":0}]
[null,null,{"$f":"('[1]BASE DE DADOS'!C208*$B208)","v":0}]
[null,null,{"$f":"('[1]BASE DE DADOS'!C209*$B209)","v":0}]
[null,null,{"$f":"('[1]BASE DE DADOS'!C210*$B210)","v":0}]
[]
[null,null,{"$f":"('[1]BASE DE DADOS'!C212*$B212)","v":0}]
[null,null,{"$f":"('[1]BASE DE DADOS'!C213*$B213)","v":0}]
[null,null,{"$f":"('[1]BASE DE DADOS'!C214*$B214)","v":0}]
[null,null,{"$f":"('[1]BASE DE DADOS'!C215*$B215)","v":0}]
[null,null,{"$f":"('[1]BASE DE DADOS'!C216*$B216)","v":0}]
[null,null,{"$f":"('[1]BASE DE DADOS'!C217*$B217)","v":0}]
[null,null,{"$f":"('[1]BASE DE DADOS'!C218*$B218)","v":0}]
[null,null,{"$f":"('[1]BASE DE DADOS'!C219*$B219)","v":0}]
[null,null,{"$f":"('[1]BASE DE DADOS'!C220*$B220)","v":0}]
[null,null,{"$f":"('[1]BASE DE DADOS'!C221*$B221)","v":0}]
[null,null,{"$f":"('[1]BASE DE DADOS'!C222*$B222)","v":0}]
[null,null,{"$f":"('[1]BASE DE DADOS'!C223*$B223)","v":0}]
[null,null,{"$f":"('[1]BASE DE DADOS'!C224*$B224)","v":0}]
[null,null,{"$f":"('[1]BASE DE DADOS'!C225*$B225)","v":0}]
[null,null,{"$f":"('[1]BASE DE DADOS'!C226*$B226)","v":0}]
[null,null,{"$f":"('[1]BASE DE DADOS'!C227*$B227)","v":0}]
[null,null,{"$f":"('[1]BASE DE DADOS'!C228*$B228)","v":0}]
[null,null,{"$f":"('[1]BASE DE DADOS'!C229*$B229)","v":0}]
[null,null,{"$f":"('[1]BASE DE DADOS'!C230*$B230)","v":0}]
[null,null,{"$f":"('[1]BASE DE DADOS'!C231*$B231)","v":0}]
[null,null,{"$f":"('[1]BASE DE DADOS'!C232*$B232)","v":0}]
[null,null,{"$f":"('[1]BASE DE DADOS'!C233*$B233)","v":0}]
[null,null,{"$f":"('[1]BASE DE DADOS'!C234*$B234)","v":0}]
[null,null,{"$f":"('[1]BASE DE DADOS'!C235*$B235)","v":0}]
[null,null,{"$f":"('[1]BASE DE DADOS'!C236*$B236)","v":0}]
[null,null,{"$f":"('[1]BASE DE DADOS'!C237*$B237)","v":0}]
[null,null,{"$f":"('[1]BASE DE DADOS'!C238*$B238)","v":0}]
[null,null,{"$f":"('[1]BASE DE DADOS'!C239*$B239)","v":0}]
[null,null,{"$f":"('[1]BASE DE DADOS'!C240*$B240)","v":0}]
[null,null,{"$f":"('[1]BASE DE DADOS'!C241*$B241)","v":0}]
[null,null,{"$f":"('[1]BASE DE DADOS'!C242*$B242)","v":0}]
[null,null,{"$f":"('[1]BASE DE DADOS'!C243*$B243)","v":0}]
[null,null,{"$f":"('[1]BASE DE DADOS'!C244*$B244)","v":0}]
[null,null,{"$f":"('[1]BASE DE DADOS'!C245*$B245)","v":0}]
[null,null,{"$f":"('[1]BASE DE DADOS'!C246*$B246)","v":0}]
[null,null,{"$f":"('[1]BASE DE DADOS'!C247*$B247)","v":0}]
[null,null,{"$f":"('[1]BASE DE DADOS'!C248*$B248)","v":0}]
[null,null,{"$f":"('[1]BASE DE DADOS'!C249*$B249)","v":0}]
[null,null,{"$f":"('[1]BASE DE DADOS'!C250*$B250)","v":0}]
[null,null,{"$f":"('[1]BASE DE DADOS'!C251*$B251)","v":0}]
[null,null,{"$f":"('[1]BASE DE DADOS'!C252*$B252)","v":0}]
[null,null,{"$f":"('[1]BASE DE DADOS'!C253*$B253)","v":0}]
[null,null,{"$f":"('[1]BASE DE DADOS'!C254*$B254)","v":0}]
[null,null,{"$f":"('[1]BASE DE DADOS'!C255*$B255)","v":0}]
[null,null,{"$f":"('[1]BASE DE DADOS'!C256*$B256)","v":0}]
[null,null,{"$f":"('[1]BASE DE DADOS'!C257*$B257)","v":0}]
[null,null,{"$f":"('[1]BASE DE DADOS'!C258*$B258)","v":0}]
[null,null,{"$f":"('[1]BASE DE DADOS'!C259*$B259)","v":0}]
[null,null,{"$f":"('[1]BASE DE DADOS'!C260*$B260)","v":0}]
[null,null,{"$f":"('[1]BASE DE DADOS'!C261*$B261)","v":0}]
[null,null,{"$f":"('[1]BASE DE DADOS'!C262*$B262)","v":0}]
[null,null,{"$f":"('[1]BASE DE DADOS'!C263*$B263)","v":0}]
[null,null,{"$f":"('[1]BASE DE DADOS'!C264*$B264)","v":0}]
[null,null,{"$f":"('[1]BASE DE DADOS'!C265*$B265)","v":0}]
[null,null,{"$f":"('[1]BASE DE DADOS'!C266*$B266)","v":0}]
[null,null,{"$f":"('[1]BASE DE DADOS'!C267*$B267)","v":0}]
[null,null,{"$f":"('[1]BASE DE DADOS'!C268*$B268)","v":0}]
[null,null,{"$f":"('[1]BASE DE DADOS'!C269*$B269)","v":0}]
[null,null,{"$f":"('[1]BASE DE DADOS'!C270*$B270)","v":0}]
[null,null,{"$f":"('[1]BASE DE DADOS'!C271*$B271)","v":0}]
[null,null,{"$f":"('[1]BASE DE DADOS'!C272*$B272)","v":0}]
[null,null,{"$f":"('[1]BASE DE DADOS'!C273*$B273)","v":0}]
[null,null,{"$f":"('[1]BASE DE DADOS'!C274*$B274)","v":0}]
[null,null,{"$f":"('[1]BASE DE DADOS'!C275*$B275)","v":0}]
[null,null,{"$f":"('[1]BASE DE DADOS'!C276*$B276)","v":0}]
[null,null,{"$f":"('[1]BASE DE DADOS'!C277*$B277)","v":0}]
[null,null,{"$f":"('[1]BASE DE DADOS'!C278*$B278)","v":0}]
[null,null,{"$f":"('[1]BASE DE DADOS'!C279*$B279)","v":0}]
[null,null,{"$f":"('[1]BASE DE DADOS'!C280*$B280)","v":0}]
[null,null,{"$f":"('[1]BASE DE DADOS'!C281*$B281)","v":0}]
[null,null,{"$f":"('[1]BASE DE DADOS'!C282*$B282)","v":0}]
[null,null,{"$f":"('[1]BASE DE DADOS'!C283*$B283)","v":0}]
[null,null,{"$f":"('[1]BASE DE DADOS'!C284*$B284)","v":0}]
[null,null,{"$f":"('[1]BASE DE DADOS'!C285*$B285)","v":0}]
[null,null,{"$f":"('[1]BASE DE DADOS'!C286*$B286)","v":0}]
[null,null,{"$f":"('[1]BASE DE DADOS'!C287*$B287)","v":0}]
[null,null,{"$f":"('[1]BASE DE DADOS'!C288*$B288)","v":0}]
[null,null,{"$f":"('[1]BASE DE DADOS'!C289*$B289)","v":0}]
[null,null,{"$f":"('[1]BASE DE DADOS'!C290*$B290)","v":0}]
[null,null,{"$f":"('[1]BASE DE DADOS'!C291*$B291)","v":0}]
[null,null,{"$f":"('[1]BASE DE DADOS'!C292*$B292)","v":0}]
[null,null,{"$f":"('[1]BASE DE DADOS'!C293*$B293)","v":0}]
[null,null,{"$f":"('[1]BASE DE DADOS'!C294*$B294)","v":0}]
[null,null,{"$f":"('[1]BASE DE DADOS'!C295*$B295)","v":0}]
[null,null,{"$f":"('[1]BASE DE DADOS'!C296*$B296)","v":0}]
[null,null,{"$f":"('[1]BASE DE DADOS'!C297*$B297)","v":0}]
[]
[null,null,{"$f":"('[1]BASE DE DADOS'!C299*$B299)","v":0}]
[null,null,{"$f":"('[1]BASE DE DADOS'!C300*$B300)","v":0}]
[null,null,{"$f":"('[1]BASE DE DADOS'!C301*$B301)","v":0}]
[null,null,{"$f":"('[1]BASE DE DADOS'!C302*$B302)","v":0}]
[null,null,{"$f":"('[1]BASE DE DADOS'!C303*$B303)","v":0}]
[null,null,{"$f":"('[1]BASE DE DADOS'!C304*$B304)","v":0}]
[null,null,{"$f":"('[1]BASE DE DADOS'!C305*$B305)","v":0}]
[null,null,{"$f":"('[1]BASE DE DADOS'!C306*$B306)","v":0}]
[null,null,{"$f":"('[1]BASE DE DADOS'!C307*$B307)","v":0}]
[null,null,{"$f":"('[1]BASE DE DADOS'!C308*$B308)","v":0}]
[null,null,{"$f":"('[1]BASE DE DADOS'!C309*$B309)","v":0}]
[null,null,{"$f":"('[1]BASE DE DADOS'!C310*$B310)","v":0}]
[null,null,{"$f":"('[1]BASE DE DADOS'!C311*$B311)","v":0}]
[null,null,{"$f":"('[1]BASE DE DADOS'!C312*$B312)","v":0}]
[null,null,{"$f":"('[1]BASE DE DADOS'!C313*$B313)","v":0}]
[null,null,{"$f":"('[1]BASE DE DADOS'!C314*$B314)","v":0}]
[null,null,{"$f":"('[1]BASE DE DADOS'!C315*$B315)","v":0}]
[null,null,{"$f":"('[1]BASE DE DADOS'!C316*$B316)","v":0}]
[null,null,{"$f":"('[1]BASE DE DADOS'!C317*$B317)","v":0}]
[null,null,{"$f":"('[1]BASE DE DADOS'!C318*$B318)","v":0}]
[null,null,{"$f":"('[1]BASE DE DADOS'!C319*$B319)","v":0}]
[null,null,{"$f":"('[1]BASE DE DADOS'!C320*$B320)","v":0}]
[null,null,{"$f":"('[1]BASE DE DADOS'!C321*$B321)","v":0}]
[null,null,{"$f":"('[1]BASE DE DADOS'!C322*$B322)","v":0}]
[null,null,{"$f":"('[1]BASE DE DADOS'!C323*$B323)","v":0}]
[null,null,{"$f":"('[1]BASE DE DADOS'!C324*$B324)","v":0}]

{"sheet":"FICHAS","index":1,"n_rows":326,"n_cols":8,"rows_kept":326,"cut":false,"hidden":false,"merged":[[2,0,2,2]]}
[]
[null,null,null,"FÓRMULA 1","FÓRMULA 2","FÓRMULA 3"]
["Duplo clique nesta linha para copiar coluna >>",null,null,{"$f":"SUBSTITUTE(ADDRESS(ROW(),COLUMN(),4),ROW(),\"\")","v":"D"},{"$f":"SUBSTITUTE(ADDRESS(ROW(),COLUMN(),4),ROW(),\"\")","v":"E"},"F","G","H"]
[null,null,null,{"$f":"SUM(D6:D324)","v":1000},1000,{"$f":"SUM(F6:F324)","v":1000},0,{"$f":"SUM(H6:H324)","v":0}]
["INGREDIENTE","Custo/kg",null,{"$f":"SUMPRODUCT($B6:$B324,D6:D324)","v":8750},{"$f":"SUMPRODUCT($B6:$B324,E6:E324)","v":6000},7500,0,{"$f":"SUMPRODUCT($B6:$B324,H6:H324)","v":0}]
["Ingrediente 1",5,null,500,200,250]
["Ingrediente 2",10,null,250,200,250]
["Ingrediente 3",15,null,250,200,250]
["Ingrediente 4",null,null,null,200,250]
["Ingrediente 5",null,null,null,200]
[]
[]
[]
[]
[]
[]
[]
[]
[]
[]
[]
[]
[]
[]
[]
[]
[]
[]
[]
[]
[]
[]
[]
[]
[]
[]
[]
[]
[]
[]
[]
[]
[]
[]
[]
[]
[]
[]
[]
[]
[]
[]
[]
[]
[]
[]
[]
[]
[]
[]
[]
[]
[]
[]
[]
[]
[]
[]
[]
[]
[]
[]
[]
[]
[]
[]
[]
[]
[]
[]
[]
[]
[]
[]
[]
[]
[]
[]
[]
[]
[]
[]
[]
[]
[]
[]
[]
[]
[]
[]
[]
[]
[]
[]
[]
[]
[]
[]
[]
[]
[]
[]
[]
[]
[]
[]
[]
[]
[]
[]
[]
[]
[]
[]
[]
[]
[]
[]
[]
[]
[]
[]
[]
[]
[]
[]
[]
[]
[]
[]
[]
[]
[]
[]
[]
[]
[]
[]
[]
[]
[]
[]
[]
[]
[]
[]
[]
[]
[]
[]
[]
[]
[]
[]
[]
[]
[]
[]
[]
[]
[]
[]
[]
[]
[]
[]
[]
[]
[]
[]
[]
[]
[]
[]
[]
[]
[]
[]
[]
[]
[]
[]
[]
[]
[]
[]
[]
[]
[]
[]
[]
[]
[]
[]
[]
[]
[]
[]
[]
[]
[]
[]
[]
[]
[]
[]
[]
[]
[]
[]
[]
[]
[]
[]
[]
[]
[]
[]
[]
[]
[]
[]
[]
[]
[]
[]
[]
[]
[]
[]
[]
[]
[]
[]
[]
[]
[]
[]
[]
[]
[]
[]
[]
[]
[]
[]
[]
[]
[]
[]
[]
[]
[]
[]
[]
[]
[]
[]
[]
[]
[]
[]
[]
[]
[]
[]
[]
[]
[]
[]
[]
[]
[]
[]
[]
[]
[]
[]
[]
[]
[]
[]
[]
[]
[]
[]
[]
[]
[]
[]
[]
[]
[]
[]
[]
[]
[]
[]
[]
[]
[]
[]
[]
[]
[]
[]
[]
[]
[]
[]
[]
[]
[]
[]
[null,null,null,{"$f":"IFERROR(SUMPRODUCT($B$6:$B$324,D6:D324),\"\")","v":8750},{"$f":"IFERROR(SUMPRODUCT($B$6:$B$324,E6:E324),\"\")","v":6000},7500,0,{"$f":"IFERROR(SUMPRODUCT($B$6:$B$324,H6:H324),\"\")","v":0}]
[null,null,null,{"$f":"IFERROR(D325/D4,\"\")","v":8.75},{"$f":"IFERROR(E325/E4,\"\")","v":6},7.5,"",{"$f":"IFERROR(H325/H4,\"\")","v":""}]