{"text_format":"1","workbook":"xlsx","n_sheets":2,"sheets":["Analitico","Curva ABC"],"not_rendered":{"charts":0,"images":1,"macros":1,"external_links":0,"defined_names":3,"comments":0,"pivot_tables":0},"unopened":[],"bounds":{"document_bytes":16777216,"sheet_cells":100000,"rows_first":2000,"rows_last":500,"rows_between":2000,"halvings":0,"cell_chars":16384,"cell_head_chars":4096},"cells_cut":0,"cells_raw":0,"read":"whole","date_system":"1900"}

{"sheet":"Analitico","index":0,"n_rows":17,"n_cols":14,"rows_kept":17,"cut":false,"hidden":false,"merged":[[0,12,2,12],[0,13,2,13],[0,6,2,6],[0,7,2,7],[0,8,2,8],[0,9,2,9],[0,10,2,10],[0,11,2,11],[0,0,2,0],[0,1,2,1],[0,2,2,2],[0,3,2,3],[0,4,2,4],[0,5,2,5]]}
["Item","Descrição da despesa","Destinatário da despesa","Tipo de despesa","Etapa","Natureza","Quantidade","Unidade","Preço Unitário","Preço Total","Data","Número do documento","Centro de custo","Total Acumulado"]
[]
[]
[1,"Tê PVC soldável 32 mm","Objetiva","Material","Instalações de água","Conexões",8,"un ",2.48,{"$f":"ROUND(G4*I4,2)","v":19.84},"2021-08-16",133147894,"Obra 1",{"$f":"SUM(J$4:J4)","v":19.84}]
[{"$f":"A4+1","v":2},"Joelho PVC soldável 90º 32 mm","Objetiva","Material","Instalações de água","Conexões",18,"un ",1.56,28.08,"2021-08-16",667942,"Obra 1",{"$f":"SUM(J$4:J5)","v":47.92}]
[{"$f":"A5+1","v":3},"Tê PVC soldável 25 mm","Objetiva","Material","Instalações de água","Conexões",20,"un ",0.79,15.8,"2021-08-16",667955,"Obra 1",{"$f":"SUM(J$4:J6)","v":63.72}]
[4,"Base de registro de pressão 3/4\"","Condor","Material","Instalações de água","Registros",4,"un ",26.68,106.72,"2021-08-20",671281,"Obra 1",{"$f":"SUM(J$4:J7)","v":170.44}]
[5,"Base de registro de gaveta 3/4\"","Condor","Material","Instalações de água","Registros",8,"un ",26.88,215.04,"2021-08-20",4290354,"Obra 1",{"$f":"SUM(J$4:J8)","v":385.48}]
[{"$f":"A8+1","v":6},"Aço CA-60 4,2 mm (3/16\")","São Lucas","Material","Laje","Aços",100,"br",14.5,{"$f":"ROUND(G9*I9,2)","v":1450},"2021-08-23",12345,"Obra 4",{"$f":"SUM(J$4:J9)","v":1835.48}]
[7,"Aço CA-50 6,3 mm (1/4\")","São Lucas","Material","Laje","Aços",20,"br",30,600,"2021-08-23",12345,"Obra 4",{"$f":"SUM(J$4:J10)","v":2435.48}]
[8,"Aço CA-60 4,2 mm (3/16\")","Master","Material","Laje","Aços",150,"br",{"$f":"1930.8/140","v":13.791428571428572},2068.71,"2021-08-25","N/A","Obra 2",{"$f":"SUM(J$4:J11)","v":4504.1900000000005}]
[9,"Aço CA-50 6,3 mm (1/4\")","Master","Material","Laje","Aços",30,"br",29,870,"2021-08-25",443903,"Obra 2",{"$f":"SUM(J$4:J12)","v":5374.1900000000005}]
[10,"Tê PVC soldável 32 mm","Objetiva","Material","Instalações de água","Conexões",8,"un ",2.48,{"$f":"ROUND(G13*I13,2)","v":19.84},"2021-08-28",11222333,"Obra 3",{"$f":"SUM(J$4:J13)","v":5394.0300000000007}]
[11,"Joelho PVC soldável 90º 32 mm","Objetiva","Material","Instalações de água","Conexões",18,"un ",2,{"$f":"ROUND(G14*I14,2)","v":36},"2021-08-28",676700,"Obra 3",{"$f":"SUM(J$4:J14)","v":5430.0300000000007}]
[12,"Tê PVC soldável 25 mm","Objetiva","Material","Instalações de água","Conexões",20,"un ",1,20,"2021-08-28",707070,"Obra 3",{"$f":"SUM(J$4:J15)","v":5450.0300000000007}]
[13,"Base de registro de pressão 3/4\"","Condor","Material","Instalações de água","Registros",4,"un ",30,120,"2021-08-30",757500,"Obra 3",{"$f":"SUM(J$4:J16)","v":5570.0300000000007}]
[14,"Base de registro de gaveta 3/4\"","Condor","Material","Instalações de água","Registros",8,"un ",28,224,"2021-08-30",4300001,"Obra 3",{"$f":"SUM(J$4:J17)","v":5794.0300000000007}]

{"sheet":"Curva ABC","index":1,"n_rows":11,"n_cols":12,"rows_kept":11,"cut":false,"hidden":false,"merged":[[0,7,2,7],[0,8,2,8],[10,3,10,4],[0,6,2,6],[0,1,2,1],[0,2,2,2],[0,3,2,3],[0,4,2,4],[0,5,2,5],[0,0,2,0]]}
["ITEM","DESCRIÇÃO","UNIDADE","QUANTIDADE","CUSTO UNITÁRIO MÉDIO","TOTAL POR ITEM","% RELATIVO","% ACUMULADO","CLASSIFICAÇÃO ABC",null,"TOTAL DE SERVIÇOS",7]
[null,null,null,null,null,null,null,null,null,null,"CUSTO TOTAL",{"$f":"SUM(F4:F10)","v":5794.0300000000007}]
[null,null,null,null,null,null,null,null,null,null,"CENTRO DE CUSTO"]
[1,"Aço CA-60 4,2 mm (3/16\")","br",{"$f":"SUMIF(Analitico!B:B,B4,Analitico!G:G)","v":250},14.07484,{"$f":"SUMIF(Analitico!B:B,B4,Analitico!J:J)","v":3518.71},0.60729923731841229,0.60729923731841229,"Item A"]
[2,"Aço CA-50 6,3 mm (1/4\")","br",{"$f":"SUMIF(Analitico!B:B,B5,Analitico!G:G)","v":50},29.4,{"$f":"SUMIF(Analitico!B:B,B5,Analitico!J:J)","v":1470},0.25370942159429621,0.8610086589127085,"Item B"]
[3,"Base de registro de gaveta 3/4\"","un ",{"$f":"SUMIF(Analitico!B:B,B6,Analitico!G:G)","v":16},27.439999999999998,{"$f":"SUMIF(Analitico!B:B,B6,Analitico!J:J)","v":439.03999999999996},7.5774547249496477E-2,0.93678320616220501,"Item B"]
[4,"Base de registro de pressão 3/4\"","un ",{"$f":"SUMIF(Analitico!B:B,B7,Analitico!G:G)","v":8},28.34,{"$f":"SUMIF(Analitico!B:B,B7,Analitico!J:J)","v":226.72},3.9129932016230502E-2,0.9759131381784355,"Item C"]
[5,"Joelho PVC soldável 90º 32 mm","un ",{"$f":"SUMIF(Analitico!B:B,B8,Analitico!G:G)","v":36},1.78,{"$f":"SUMIF(Analitico!B:B,B8,Analitico!J:J)","v":64.08},1.1059659684192178E-2,0.9869727978626277,"Item C"]
[6,"Tê PVC soldável 32 mm","un ",{"$f":"SUMIF(Analitico!B:B,B9,Analitico!G:G)","v":16},2.48,{"$f":"SUMIF(Analitico!B:B,B9,Analitico!J:J)","v":39.68},6.8484284686133835E-3,0.99382122633124104,"Item C"]
[7,"Tê PVC soldável 25 mm","un ",{"$f":"SUMIF(Analitico!B:B,B10,Analitico!G:G)","v":40},0.89499999999999991,{"$f":"SUMIF(Analitico!B:B,B10,Analitico!J:J)","v":35.799999999999997},6.1787736687590501E-3,1,"Item C"]
[null,"QUANTIDADE DE ITENS",{"$f":"SUBTOTAL(103,B4:B10)","v":7},"CUSTO TOTAL",null,{"$f":"SUBTOTAL(109,F4:F10)","v":5794.0300000000007}]