{"text_format":"1","workbook":"xlsx","n_sheets":4,"sheets":["Jogo","Conferência","Resultado","Conferido"],"not_rendered":{"charts":0,"images":0,"macros":1,"external_links":0,"defined_names":0,"comments":0,"pivot_tables":0},"unopened":[],"bounds":{"document_bytes":16777216,"sheet_cells":100000,"rows_first":2000,"rows_last":500,"rows_between":2000,"halvings":0,"cell_chars":16384,"cell_head_chars":4096},"cells_cut":0,"cells_raw":0,"read":"whole","date_system":"1900"}

{"sheet":"Jogo","index":0,"n_rows":493,"n_cols":33,"rows_kept":493,"cut":false,"hidden":false,"merged":[]}
["CONC","SEMANA","B1","B2","B3","B4","B5","B6","B7","B8","B9","B10","B11","B12","B13","B14","B15"]
[744,"QUARTA-FEIRA",1,3,4,6,7,9,10,11,12,13,15,16,19,23,24,null,"RESULTADO"]
[72,"QUARTA-FEIRA",1,2,5,7,8,11,12,13,15,16,17,18,23,24,25,null,1,3,4,6,7,9,10,11,12,13,15,16,19,23,24]
[127,"QUARTA-FEIRA",1,2,3,4,5,7,10,11,12,13,18,19,22,23,25]
[417,"QUARTA-FEIRA",1,2,3,8,9,11,12,13,14,15,16,17,19,21,23]
[628,"QUARTA-FEIRA",2,3,4,7,8,9,10,11,13,15,18,19,22,23,25]
[712,"QUARTA-FEIRA",1,4,8,9,12,14,15,16,17,18,20,21,22,23,25]
[715,"QUARTA-FEIRA",1,3,5,8,10,11,13,14,15,18,20,22,23,24,25]
[717,"QUARTA-FEIRA",1,2,3,5,7,8,9,11,14,16,18,20,21,23,25]
[723,"QUARTA-FEIRA",2,3,4,5,7,8,9,10,11,12,14,15,18,20,24]
[726,"QUARTA-FEIRA",1,2,4,7,9,10,11,13,14,15,16,20,21,24,25]
[729,"QUARTA-FEIRA",1,2,3,4,6,7,9,10,12,14,15,17,22,23,25]
[732,"QUARTA-FEIRA",1,4,8,9,10,11,13,14,17,20,21,22,23,24,25]
[735,"QUARTA-FEIRA",5,6,8,10,11,12,13,14,17,19,20,21,22,24,25]
[738,"QUARTA-FEIRA",2,6,7,9,11,12,13,14,16,18,19,20,23,24,25]
[741,"QUARTA-FEIRA",2,3,5,7,10,11,12,13,14,16,17,18,21,24,25]
[744,"QUARTA-FEIRA",1,3,4,6,7,9,10,11,12,13,15,16,19,23,24]
[747,"QUARTA-FEIRA",1,2,3,4,6,7,10,12,13,15,16,17,20,23,24]
[750,"QUARTA-FEIRA",2,3,4,5,7,9,10,11,13,15,19,20,21,24,25]
[753,"QUARTA-FEIRA",1,3,4,5,6,7,8,11,13,14,17,20,21,22,25]
[756,"QUARTA-FEIRA",3,5,6,7,8,10,13,14,15,16,17,20,22,23,25]
[759,"QUARTA-FEIRA",2,5,7,8,9,10,15,16,17,18,19,20,23,24,25]
[762,"QUARTA-FEIRA",1,2,3,5,6,7,9,10,11,12,13,14,17,21,22]
[765,"QUARTA-FEIRA",1,2,3,7,8,9,10,12,13,14,18,20,23,24,25]
[768,"QUARTA-FEIRA",1,3,5,6,11,12,13,14,15,17,19,20,23,24,25]
[771,"QUARTA-FEIRA",2,4,5,6,7,8,9,10,14,16,17,20,22,23,25]
[774,"QUARTA-FEIRA",1,3,4,5,6,8,9,11,12,14,15,18,19,22,25]
[777,"QUARTA-FEIRA",2,3,6,9,11,12,13,14,15,16,20,21,23,24,25]
[780,"QUARTA-FEIRA",3,6,7,8,10,13,15,16,17,18,19,20,21,24,25]
[783,"QUARTA-FEIRA",1,2,5,6,7,8,11,13,15,16,19,20,21,22,24]
[786,"QUARTA-FEIRA",2,4,5,6,8,10,11,12,13,15,17,21,23,24,25]
[789,"QUARTA-FEIRA",2,3,4,8,10,11,12,14,15,16,18,19,21,22,24]
[792,"QUARTA-FEIRA",1,2,3,6,8,9,10,12,14,18,19,20,21,23,25]
[795,"QUARTA-FEIRA",1,2,3,4,6,7,8,9,10,12,14,16,21,22,24]
[798,"QUARTA-FEIRA",1,3,5,6,8,10,11,13,15,16,18,19,22,23,24]
[802,"QUARTA-FEIRA",1,3,4,5,8,9,10,12,13,14,18,20,21,22,25]
[805,"QUARTA-FEIRA",1,2,4,6,7,9,11,13,14,16,17,20,22,24,25]
[808,"QUARTA-FEIRA",4,6,7,10,11,12,14,16,17,18,20,21,22,24,25]
[811,"QUARTA-FEIRA",1,2,3,4,5,6,7,9,10,12,14,17,19,20,22]
[814,"QUARTA-FEIRA",3,4,8,10,11,12,13,14,17,19,20,21,22,23,24]
[817,"QUARTA-FEIRA",1,2,3,4,5,8,10,11,12,17,18,20,23,24,25]
[820,"QUARTA-FEIRA",1,2,3,5,6,7,8,9,10,13,15,16,22,23,24]
[823,"QUARTA-FEIRA",1,2,4,5,9,11,12,13,14,16,19,20,22,24,25]
[826,"QUARTA-FEIRA",3,5,6,12,13,14,15,16,17,18,19,20,21,23,24]
[829,"QUARTA-FEIRA",2,5,7,8,9,11,13,14,16,17,18,22,23,24,25]
[832,"QUARTA-FEIRA",2,5,6,7,8,10,11,12,15,16,19,22,23,24,25]
[835,"QUARTA-FEIRA",1,2,4,6,8,12,14,15,16,17,18,19,21,24,25]
[838,"QUARTA-FEIRA",2,4,5,7,9,10,11,14,15,16,18,20,21,23,24]
[841,"QUARTA-FEIRA",1,3,5,6,8,10,12,13,14,15,16,17,20,21,24]
[844,"QUARTA-FEIRA",1,3,5,7,8,9,10,12,15,16,17,19,22,24,25]
[847,"QUARTA-FEIRA",1,3,5,6,7,9,10,11,13,14,17,18,20,21,25]
[850,"QUARTA-FEIRA",2,3,5,7,8,10,13,14,18,19,20,21,22,23,24]
[853,"QUARTA-FEIRA",2,3,5,6,8,9,11,12,17,18,19,20,21,22,23]
[856,"QUARTA-FEIRA",2,3,7,8,9,11,12,13,15,16,19,20,22,23,25]
[859,"QUARTA-FEIRA",1,2,3,4,5,6,9,10,11,13,14,17,18,19,20]
[862,"QUARTA-FEIRA",1,2,3,4,5,10,13,14,15,17,18,19,20,23,24]
[865,"QUARTA-FEIRA",1,3,4,5,6,7,10,13,18,19,20,21,22,23,25]
[867,"QUARTA-FEIRA",2,3,4,5,6,7,8,10,12,13,14,15,21,22,25]
[870,"QUARTA-FEIRA",1,2,4,5,6,7,8,10,12,13,14,16,17,18,23]
[873,"QUARTA-FEIRA",2,3,6,7,8,9,11,12,13,14,15,17,18,22,25]
[876,"QUARTA-FEIRA",3,5,6,7,9,12,13,14,16,18,20,21,23,24,25]
[879,"QUARTA-FEIRA",2,3,4,7,9,10,12,13,15,16,18,21,22,24,25]
[882,"QUARTA-FEIRA",1,2,7,8,10,11,12,13,14,17,18,19,22,24,25]
[885,"QUARTA-FEIRA",2,5,7,8,9,11,12,15,16,17,18,19,22,23,24]
[888,"QUARTA-FEIRA",1,3,6,11,12,13,14,16,17,18,19,20,21,22,24]
[891,"QUARTA-FEIRA",1,5,6,7,8,12,14,15,16,17,19,21,23,24,25]
[894,"QUARTA-FEIRA",1,2,5,6,9,12,13,14,15,18,19,21,22,24,25]
[897,"QUARTA-FEIRA",1,2,5,7,8,9,10,11,13,14,16,17,18,21,23]
[902,"QUARTA-FEIRA",1,2,3,4,5,6,8,9,11,17,20,21,23,24,25]
[905,"QUARTA-FEIRA",1,4,6,8,10,11,12,13,14,16,17,20,21,22,23]
[908,"QUARTA-FEIRA",1,2,4,6,7,9,10,12,13,15,17,18,23,24,25]
[911,"QUARTA-FEIRA",1,2,3,5,6,8,11,13,15,17,21,22,23,24,25]
[914,"QUARTA-FEIRA",1,3,4,5,6,10,11,12,15,17,18,20,22,23,24]
[917,"QUARTA-FEIRA",1,2,3,4,5,6,11,13,14,17,19,20,21,22,24]
[920,"QUARTA-FEIRA",1,2,3,4,5,6,10,12,13,15,16,19,20,22,23]
[923,"QUARTA-FEIRA",1,3,4,5,6,7,10,12,14,15,19,20,22,24,25]
[926,"QUARTA-FEIRA",1,5,6,7,8,9,10,11,12,13,14,15,19,21,24]
[929,"QUARTA-FEIRA",1,2,4,5,7,8,9,10,11,14,18,20,21,23,25]
[932,"QUARTA-FEIRA",1,4,5,8,12,13,14,15,16,18,20,21,22,23,25]
[935,"QUARTA-FEIRA",1,2,3,4,5,6,7,9,10,12,14,18,19,22,23]
[938,"QUARTA-FEIRA",2,3,4,6,7,10,11,13,15,16,17,18,19,20,25]
[941,"QUARTA-FEIRA",1,2,3,4,5,7,8,9,10,11,15,16,18,23,25]
[944,"QUARTA-FEIRA",1,8,9,10,11,12,13,14,16,17,18,19,21,24,25]
[947,"QUARTA-FEIRA",1,2,3,5,7,9,10,11,12,15,16,18,20,22,24]
[950,"QUARTA-FEIRA",2,4,5,7,8,9,12,13,14,17,18,19,20,21,25]
[954,"QUARTA-FEIRA",3,5,6,8,10,11,12,13,14,16,18,20,23,24,25]
[957,"QUARTA-FEIRA",1,3,4,5,6,7,8,13,15,16,21,22,23,24,25]
[960,"QUARTA-FEIRA",1,2,3,4,6,7,10,12,14,16,17,18,20,21,24]
[963,"QUARTA-FEIRA",3,4,6,7,9,10,11,14,15,16,17,18,19,23,24]
[966,"QUARTA-FEIRA",2,3,4,5,6,7,8,10,11,12,17,19,21,22,25]
[969,"QUARTA-FEIRA",1,3,4,5,9,10,11,12,16,17,18,19,20,22,24]
[972,"QUARTA-FEIRA",1,3,6,8,11,13,14,15,16,20,21,22,23,24,25]
[975,"QUARTA-FEIRA",1,2,4,6,7,10,11,12,13,14,16,17,19,20,24]
[978,"QUARTA-FEIRA",3,4,5,6,7,8,9,11,12,13,14,15,16,18,25]
[981,"QUARTA-FEIRA",1,2,3,4,6,8,9,12,16,18,19,21,22,24,25]
[984,"QUARTA-FEIRA",2,4,8,9,10,11,12,13,15,20,21,22,23,24,25]
[987,"QUARTA-FEIRA",2,4,5,6,7,9,11,12,13,15,18,19,20,22,23]
[990,"QUARTA-FEIRA",1,5,6,7,8,10,11,12,13,15,16,19,20,22,24]
[993,"QUARTA-FEIRA",2,4,5,7,9,10,12,14,17,20,21,22,23,24,25]
[996,"QUARTA-FEIRA",2,3,4,6,7,9,13,16,17,18,20,21,23,24,25]
[1006,"QUARTA-FEIRA",1,3,4,5,6,7,9,13,14,15,16,20,22,23,24]
[1009,"QUARTA-FEIRA",2,4,6,9,10,11,12,14,15,17,18,19,20,22,24]
[1012,"QUARTA-FEIRA",1,2,7,9,11,12,14,15,16,17,18,21,22,24,25]
[1015,"QUARTA-FEIRA",1,2,3,5,6,7,8,13,15,16,17,18,20,21,23]
[1018,"QUARTA-FEIRA",2,4,5,7,8,10,11,12,14,16,17,18,19,22,24]
[1021,"QUARTA-FEIRA",1,5,6,9,10,13,14,15,16,18,19,20,21,22,23]
[1024,"QUARTA-FEIRA",1,2,4,7,9,10,11,12,13,14,17,20,21,22,23]
[1026,"QUARTA-FEIRA",1,5,6,7,11,12,14,15,16,18,19,20,21,23,24]
[1029,"QUARTA-FEIRA",1,2,3,6,8,11,13,14,17,18,19,22,23,24,25]
[1032,"QUARTA-FEIRA",1,2,3,4,6,8,10,11,13,14,16,17,18,20,23]
[1035,"QUARTA-FEIRA",4,6,7,9,12,13,14,15,18,19,20,21,22,23,25]
[1038,"QUARTA-FEIRA",2,6,7,8,9,10,13,16,17,18,19,20,21,24,25]
[1041,"QUARTA-FEIRA",1,3,5,7,10,12,13,15,17,19,20,21,23,24,25]
[1044,"QUARTA-FEIRA",2,4,5,6,7,8,10,11,12,15,17,20,23,24,25]
[1046,"QUARTA-FEIRA",3,4,5,7,8,11,12,13,14,18,20,21,22,23,25]
[1049,"QUARTA-FEIRA",2,4,5,9,12,14,16,17,18,19,20,21,22,23,25]
[1052,"QUARTA-FEIRA",1,3,4,5,6,8,10,11,16,17,18,20,21,23,24]
[1055,"QUARTA-FEIRA",1,2,3,7,8,9,10,12,13,14,18,22,23,24,25]
[1058,"QUARTA-FEIRA",4,5,6,7,9,12,13,16,17,18,20,21,22,24,25]
[1061,"QUARTA-FEIRA",2,3,5,7,8,9,12,14,15,16,19,21,22,23,24]
[1064,"QUARTA-FEIRA",2,3,7,8,9,10,11,14,15,16,18,19,21,24,25]
[1067,"QUARTA-FEIRA",1,2,3,4,5,7,10,11,13,14,15,17,21,22,25]
[1070,"QUARTA-FEIRA",4,9,10,11,12,13,16,18,19,20,21,22,23,24,25]
[1073,"QUARTA-FEIRA",1,3,4,5,6,7,13,16,17,19,20,21,22,23,24]
[1076,"QUARTA-FEIRA",4,9,10,11,12,13,14,15,16,17,18,20,21,22,25]
[1079,"QUARTA-FEIRA",5,6,7,8,11,13,14,15,16,17,19,20,21,22,24]
[1082,"QUARTA-FEIRA",3,7,9,10,11,13,15,16,17,18,19,21,22,23,24]
[1085,"QUARTA-FEIRA",3,6,7,8,9,10,14,16,18,19,21,22,23,24,25]
[1088,"QUARTA-FEIRA",1,2,3,5,6,7,9,10,12,13,18,19,20,22,23]
[1091,"QUARTA-FEIRA",2,4,5,6,7,9,10,12,13,14,16,20,23,24,25]
[1094,"QUARTA-FEIRA",1,2,3,4,5,6,8,9,10,12,14,16,19,22,25]
[1097,"QUARTA-FEIRA",4,5,6,9,10,12,14,15,16,18,19,20,23,24,25]
[1100,"QUARTA-FEIRA",5,6,7,9,10,11,12,14,15,16,18,19,20,23,24]
[1104,"QUARTA-FEIRA",2,5,6,8,9,11,13,14,15,16,18,19,21,22,23]
[1107,"QUARTA-FEIRA",1,2,4,8,9,10,11,12,14,16,18,19,20,21,24]
[1110,"QUARTA-FEIRA",1,2,3,4,6,9,10,15,17,18,19,20,22,24,25]
[1113,"QUARTA-FEIRA",1,3,6,7,9,12,13,14,15,17,19,20,22,24,25]
[1116,"QUARTA-FEIRA",1,2,3,4,5,6,9,12,15,17,18,21,22,24,25]
[1119,"QUARTA-FEIRA",1,2,3,5,6,7,8,10,12,14,15,17,18,20,23]
[1122,"QUARTA-FEIRA",2,3,7,10,11,12,13,14,16,19,20,21,23,24,25]
[1125,"QUARTA-FEIRA",1,3,4,6,9,11,12,13,15,16,17,18,21,22,25]
[1128,"QUARTA-FEIRA",1,2,3,4,6,7,10,11,12,14,16,17,20,24,25]
[1131,"QUARTA-FEIRA",2,3,4,6,12,14,15,16,17,19,20,21,22,24,25]
[1134,"QUARTA-FEIRA",1,2,4,8,10,11,12,13,14,15,17,18,20,23,25]
[1137,"QUARTA-FEIRA",2,4,5,7,8,9,10,11,12,15,19,20,21,23,25]
[1140,"QUARTA-FEIRA",3,4,5,6,7,8,10,15,18,19,20,21,23,24,25]
[1143,"QUARTA-FEIRA",1,3,4,6,10,11,12,13,14,16,17,18,23,24,25]
[1146,"QUARTA-FEIRA",2,3,4,5,7,11,13,15,17,18,19,21,22,24,25]
[1149,"QUARTA-FEIRA",1,2,3,6,7,8,10,12,15,17,18,19,21,22,23]
[1152,"QUARTA-FEIRA",3,4,5,7,8,9,10,12,16,18,19,20,21,22,25]
[1155,"QUARTA-FEIRA",1,2,3,4,8,9,12,13,15,16,18,19,22,24,25]
[1158,"QUARTA-FEIRA",2,3,5,7,10,13,14,15,16,17,19,20,22,24,25]
[1161,"QUARTA-FEIRA",1,2,4,5,6,8,10,11,15,17,18,19,22,24,25]
[1164,"QUARTA-FEIRA",3,4,5,8,10,11,13,15,17,20,21,22,23,24,25]
[1167,"QUARTA-FEIRA",1,2,4,5,7,8,9,11,12,14,15,16,18,21,23]
[1170,"QUARTA-FEIRA",1,2,4,7,8,10,13,15,16,18,19,20,21,22,25]
[1172,"QUARTA-FEIRA",2,6,8,9,10,11,12,13,14,16,19,20,23,24,25]
[1175,"QUARTA-FEIRA",1,3,4,8,10,12,13,14,15,19,20,21,23,24,25]
[1178,"QUARTA-FEIRA",1,4,7,8,9,11,12,16,17,18,19,20,21,23,24]
[1181,"QUARTA-FEIRA",3,4,5,6,7,8,9,11,13,14,20,21,22,23,24]
[1184,"QUARTA-FEIRA",2,4,6,7,10,11,12,14,16,17,18,19,20,21,25]
[1187,"QUARTA-FEIRA",1,2,4,7,8,10,11,12,14,16,19,21,22,23,25]
[1190,"QUARTA-FEIRA",2,3,4,6,9,10,11,14,15,16,17,21,22,23,25]
[1193,"QUARTA-FEIRA",1,4,7,8,9,10,13,14,15,18,19,20,22,23,25]
[1196,"QUARTA-FEIRA",1,2,4,6,7,8,9,11,12,16,17,18,19,20,23]
[1199,"QUARTA-FEIRA",1,2,3,4,5,6,10,14,15,16,19,21,22,24,25]
[1202,"QUARTA-FEIRA",2,3,4,8,10,13,14,16,17,18,19,20,23,24,25]
[1205,"QUARTA-FEIRA",1,3,6,8,9,11,12,14,17,18,20,21,22,24,25]
[1208,"QUARTA-FEIRA",1,2,3,4,5,10,11,14,15,18,19,20,22,24,25]
[1211,"QUARTA-FEIRA",1,2,3,5,7,10,11,12,13,15,16,17,20,23,24]
[1214,"QUARTA-FEIRA",1,2,3,4,5,7,8,9,13,14,18,19,20,21,23]
[1217,"QUARTA-FEIRA",1,3,6,7,8,9,10,11,12,13,17,19,20,24,25]
[1220,"QUARTA-FEIRA",2,3,4,5,6,7,9,13,14,17,18,19,20,23,25]
[1223,"QUARTA-FEIRA",2,6,7,8,9,10,13,14,16,17,18,20,21,22,23]
[1226,"QUARTA-FEIRA",1,3,5,7,8,10,11,14,15,17,19,21,22,23,24]
[1229,"QUARTA-FEIRA",1,2,3,5,6,7,8,13,14,17,19,20,22,24,25]
[1232,"QUARTA-FEIRA",2,3,5,6,9,10,13,14,15,16,19,21,23,24,25]
[1235,"QUARTA-FEIRA",1,2,3,4,6,9,10,11,12,13,15,17,18,20,24]
[1238,"QUARTA-FEIRA",2,3,5,7,8,9,11,13,14,15,16,17,18,21,25]
[1241,"QUARTA-FEIRA",1,4,5,8,9,10,11,12,13,15,17,20,22,24,25]
[1244,"QUARTA-FEIRA",1,3,5,7,9,10,11,12,13,16,17,19,21,23,25]
[1247,"QUARTA-FEIRA",2,3,7,8,9,11,15,16,17,18,19,20,23,24,25]
[1250,"QUARTA-FEIRA",2,3,4,5,7,9,10,14,15,17,18,19,20,24,25]
[1253,"QUARTA-FEIRA",1,2,3,5,6,7,11,15,16,18,20,22,23,24,25]
[1256,"QUARTA-FEIRA",1,2,6,8,10,11,12,13,14,15,16,18,19,22,23]
[1259,"QUARTA-FEIRA",2,5,8,9,10,13,14,16,17,18,19,20,22,23,25]
[1262,"QUARTA-FEIRA",1,3,4,6,8,11,12,13,16,17,20,21,22,23,24]
[1265,"QUARTA-FEIRA",1,2,3,4,7,11,13,14,15,16,19,22,23,24,25]
[1268,"QUARTA-FEIRA",1,2,3,6,7,8,11,12,13,15,17,18,21,22,24]
[1271,"QUARTA-FEIRA",1,2,4,6,8,9,11,12,13,14,17,18,23,24,25]
[1274,"QUARTA-FEIRA",1,3,7,8,10,11,12,13,14,15,18,19,20,22,25]
[1277,"QUARTA-FEIRA",1,2,3,4,6,9,10,12,13,15,17,18,21,22,25]
[1280,"QUARTA-FEIRA",1,3,4,5,7,9,11,14,15,17,19,22,23,24,25]
[1283,"QUARTA-FEIRA",2,6,7,8,9,10,11,12,13,15,16,17,18,22,23]
[1286,"QUARTA-FEIRA",1,3,4,5,7,10,11,12,16,17,19,20,21,23,25]
[1289,"QUARTA-FEIRA",1,2,5,7,8,11,13,15,16,17,18,20,22,24,25]
[1292,"QUARTA-FEIRA",1,2,3,7,8,10,11,14,15,17,19,22,23,24,25]
[1295,"QUARTA-FEIRA",3,6,9,10,11,12,13,14,15,17,18,19,23,24,25]
[1298,"QUARTA-FEIRA",2,3,4,6,7,9,12,17,18,20,21,22,23,24,25]
[1301,"QUARTA-FEIRA",1,2,3,4,6,7,9,10,14,16,17,19,22,24,25]
[1304,"QUARTA-FEIRA",1,2,3,7,8,10,11,13,14,17,18,19,20,21,25]
[1307,"QUARTA-FEIRA",3,4,6,8,9,10,12,13,14,15,16,18,20,21,23]
[1310,"QUARTA-FEIRA",1,2,3,4,5,7,8,10,11,15,17,18,19,21,23]
[1313,"QUARTA-FEIRA",1,4,8,10,11,13,15,16,17,20,21,22,23,24,25]
[1316,"QUARTA-FEIRA",1,2,3,4,5,6,11,12,15,17,19,20,23,24,25]
[1319,"QUARTA-FEIRA",3,5,6,8,9,10,11,13,14,15,17,19,22,23,25]
[1321,"QUARTA-FEIRA",2,3,4,6,7,9,10,11,13,14,18,19,20,23,24]
[1324,"QUARTA-FEIRA",1,4,5,6,7,8,10,11,13,17,18,19,21,24,25]
[1327,"QUARTA-FEIRA",1,3,4,5,7,10,13,14,16,17,18,20,22,23,25]
[1330,"QUARTA-FEIRA",4,5,7,10,12,13,16,17,18,19,20,22,23,24,25]
[1333,"QUARTA-FEIRA",3,4,5,7,8,9,10,11,12,14,17,18,20,22,24]
[1336,"QUARTA-FEIRA",6,8,9,10,11,12,13,14,15,17,18,19,20,22,24]
[1339,"QUARTA-FEIRA",2,3,4,5,6,7,8,11,13,14,16,20,21,23,24]
[1342,"QUARTA-FEIRA",1,2,3,5,9,10,11,12,13,15,20,21,23,24,25]
[1345,"QUARTA-FEIRA",1,3,7,8,9,10,11,14,15,17,19,21,22,24,25]
[1348,"QUARTA-FEIRA",1,2,6,7,8,9,10,14,15,18,20,21,22,24,25]
[1351,"QUARTA-FEIRA",2,4,6,7,10,11,13,17,19,20,21,22,23,24,25]
[1354,"QUARTA-FEIRA",1,2,3,5,7,9,11,12,13,14,15,18,20,21,24]
[1357,"QUARTA-FEIRA",3,7,8,9,10,11,12,13,15,17,18,20,21,22,23]
[1360,"QUARTA-FEIRA",1,2,3,4,5,6,8,10,11,12,14,18,20,23,24]
[1363,"QUARTA-FEIRA",5,7,9,10,12,13,14,15,16,17,19,20,21,22,23]
[1366,"QUARTA-FEIRA",4,8,9,10,11,12,13,14,15,16,17,21,22,24,25]
[1369,"QUARTA-FEIRA",3,4,5,9,10,11,12,13,14,16,17,18,21,22,24]
[1372,"QUARTA-FEIRA",1,2,3,5,7,9,10,13,15,16,17,18,21,23,25]
[1375,"QUARTA-FEIRA",1,5,6,9,10,11,14,15,16,18,20,22,23,24,25]
[1378,"QUARTA-FEIRA",1,2,3,6,8,10,12,13,17,19,20,21,23,24,25]
[1381,"QUARTA-FEIRA",1,4,6,8,9,10,12,13,14,16,17,18,19,21,25]
[1384,"QUARTA-FEIRA",3,4,6,8,9,11,12,13,15,18,19,20,22,24,25]
[1387,"QUARTA-FEIRA",1,3,4,5,6,7,9,11,12,13,14,15,16,18,24]
[1390,"QUARTA-FEIRA",3,5,6,7,8,11,13,14,15,16,17,18,20,21,23]
[1393,"QUARTA-FEIRA",3,4,5,7,9,10,11,12,13,14,17,18,20,22,23]
[1396,"QUARTA-FEIRA",3,5,6,7,10,12,13,17,18,19,20,22,23,24,25]
[1399,"QUARTA-FEIRA",4,5,6,8,9,12,13,14,15,17,19,21,22,24,25]
[1402,"QUARTA-FEIRA",2,3,4,5,8,9,11,12,14,15,16,19,20,21,23]
[1405,"QUARTA-FEIRA",2,3,4,7,9,10,11,14,15,16,18,19,20,23,24]
[1411,"QUARTA-FEIRA",1,5,6,7,8,9,10,12,13,14,15,16,17,21,23]
[1414,"QUARTA-FEIRA",2,3,4,5,7,9,10,11,13,14,16,17,20,21,23]
[1417,"QUARTA-FEIRA",1,2,3,4,6,7,9,11,13,14,15,18,19,22,23]
[1420,"QUARTA-FEIRA",1,4,6,7,8,10,13,14,15,16,17,20,22,23,25]
[1425,"QUARTA-FEIRA",1,3,4,5,8,9,11,12,13,14,16,19,20,21,25]
[1428,"QUARTA-FEIRA",2,3,4,5,6,8,9,13,17,18,19,20,21,22,25]
[1433,"QUARTA-FEIRA",3,6,7,9,10,12,14,15,16,18,20,22,23,24,25]
[1436,"QUARTA-FEIRA",1,2,3,5,6,8,11,12,15,17,18,19,22,23,24]
[1439,"QUARTA-FEIRA",1,2,3,5,11,12,13,14,15,16,17,18,19,22,24]
[1442,"QUARTA-FEIRA",1,2,3,4,7,9,11,12,13,15,16,17,19,20,21]
[1445,"QUARTA-FEIRA",1,4,5,6,8,10,13,15,16,17,18,20,22,23,25]
[1448,"QUARTA-FEIRA",1,3,4,5,6,8,12,13,16,18,19,21,22,23,24]
[1451,"QUARTA-FEIRA",1,2,3,5,10,12,13,14,15,19,20,21,23,24,25]
[1454,"QUARTA-FEIRA",1,3,4,7,10,12,13,14,18,19,20,21,22,23,25]
[1457,"QUARTA-FEIRA",1,2,3,4,7,8,9,10,11,13,14,15,18,23,24]
[1460,"QUARTA-FEIRA",1,3,5,7,11,14,15,16,17,18,19,20,21,24,25]
[1463,"QUARTA-FEIRA",3,4,6,7,10,11,13,14,15,17,19,20,22,23,24]
[1466,"QUARTA-FEIRA",2,3,4,6,10,11,12,14,19,20,21,22,23,24,25]
[1469,"QUARTA-FEIRA",1,2,3,5,6,7,8,9,11,13,16,17,18,19,20]
[1472,"QUARTA-FEIRA",2,3,4,5,7,8,10,12,13,14,18,21,22,23,24]
[1475,"QUARTA-FEIRA",1,2,3,5,6,9,10,12,13,15,18,20,21,24,25]
[1478,"QUARTA-FEIRA",2,5,6,7,10,11,12,15,16,17,18,19,21,24,25]
[1480,"QUARTA-FEIRA",1,6,7,10,11,12,13,15,16,17,19,20,21,22,25]
[1483,"QUARTA-FEIRA",3,4,5,6,7,9,11,13,14,15,17,20,21,22,23]
[1486,"QUARTA-FEIRA",2,4,5,8,9,10,12,14,18,19,20,21,22,23,25]
[1489,"QUARTA-FEIRA",2,4,7,8,9,10,12,13,14,15,19,20,22,23,25]
[1492,"QUARTA-FEIRA",2,3,4,5,7,8,10,12,15,16,17,18,19,24,25]
[1495,"QUARTA-FEIRA",1,2,3,4,5,8,10,12,13,14,18,22,23,24,25]
[1498,"QUARTA-FEIRA",4,5,7,8,10,11,14,15,16,17,18,21,23,24,25]
[1501,"QUARTA-FEIRA",1,6,7,8,9,10,11,13,16,17,18,21,22,24,25]
[1504,"QUARTA-FEIRA",1,4,5,7,8,11,12,14,17,18,19,21,23,24,25]
[1506,"QUARTA-FEIRA",3,4,5,8,9,10,13,14,17,18,19,20,21,22,24]
[1509,"QUARTA-FEIRA",1,2,3,6,7,8,9,13,14,15,17,18,19,22,24]
[1512,"QUARTA-FEIRA",2,3,4,6,10,11,12,13,15,16,17,19,21,22,24]
[1515,"QUARTA-FEIRA",1,2,3,5,8,9,11,12,13,16,17,18,19,20,23]
[1518,"QUARTA-FEIRA",2,3,4,5,7,8,11,12,14,16,17,20,22,24,25]
[1521,"QUARTA-FEIRA",1,2,3,4,5,7,8,12,14,15,17,19,20,23,24]
[1524,"QUARTA-FEIRA",1,3,5,6,7,8,9,10,13,14,20,22,23,24,25]
[1527,"QUARTA-FEIRA",1,2,3,5,6,7,9,10,14,15,20,21,22,24,25]
[1530,"QUARTA-FEIRA",2,4,5,7,9,10,12,14,15,16,18,20,22,23,24]
[1533,"QUARTA-FEIRA",1,3,4,6,7,11,12,13,14,15,16,19,20,21,24]
[1536,"QUARTA-FEIRA",1,3,5,6,7,8,9,10,11,12,13,19,20,23,25]
[1539,"QUARTA-FEIRA",1,3,4,8,11,12,13,14,16,17,18,19,20,21,25]
[1542,"QUARTA-FEIRA",2,3,5,7,8,10,11,13,15,16,17,20,21,22,24]
[1545,"QUARTA-FEIRA",3,5,7,8,10,11,12,15,16,17,20,22,23,24,25]
[1548,"QUARTA-FEIRA",2,3,4,9,10,11,12,14,15,17,18,20,21,22,23]
[1551,"QUARTA-FEIRA",1,3,5,7,8,11,13,14,15,17,19,20,22,23,25]
[1554,"QUARTA-FEIRA",1,3,4,5,7,8,9,10,13,14,16,18,19,24,25]
[1559,"QUARTA-FEIRA",3,4,5,6,7,9,10,11,14,16,18,19,20,23,25]
[1562,"QUARTA-FEIRA",1,2,3,4,5,6,7,8,9,11,12,14,16,17,18]
[1565,"QUARTA-FEIRA",1,3,6,7,8,9,10,11,12,13,15,17,18,24,25]
[1568,"QUARTA-FEIRA",1,2,3,4,6,7,10,11,13,16,17,19,21,22,24]
[1571,"QUARTA-FEIRA",1,3,4,5,6,7,11,12,14,17,18,19,23,24,25]
[1574,"QUARTA-FEIRA",1,2,3,5,6,7,10,11,12,14,15,17,18,21,22]
[1577,"QUARTA-FEIRA",3,5,6,7,9,10,11,13,15,16,17,18,19,21,24]
[1580,"QUARTA-FEIRA",3,4,7,10,11,12,13,14,15,16,18,20,22,23,25]
[1583,"QUARTA-FEIRA",2,3,4,6,7,9,10,14,15,16,17,19,20,23,25]
[1589,"QUARTA-FEIRA",1,2,3,4,6,12,13,14,15,17,18,22,23,24,25]
[1592,"QUARTA-FEIRA",1,2,3,4,5,6,9,12,14,15,16,19,20,22,25]
[1595,"QUARTA-FEIRA",1,2,3,4,6,7,9,10,11,13,17,18,20,22,25]
[1598,"QUARTA-FEIRA",2,5,6,7,10,12,13,15,16,17,18,19,20,21,24]
[1601,"QUARTA-FEIRA",2,4,6,8,9,10,11,12,13,14,15,18,20,22,25]
[1604,"QUARTA-FEIRA",3,4,5,6,7,8,9,10,12,13,15,19,21,22,24]
[1607,"QUARTA-FEIRA",1,2,3,6,7,8,9,11,12,13,14,15,17,18,24]
[1610,"QUARTA-FEIRA",3,6,7,9,10,11,13,14,16,17,19,20,21,22,24]
[1613,"QUARTA-FEIRA",1,2,3,4,6,8,9,10,13,14,16,17,18,19,21]
[1616,"QUARTA-FEIRA",1,2,4,5,8,10,11,13,14,16,17,18,22,23,24]
[1619,"QUARTA-FEIRA",4,5,7,8,10,11,13,15,16,17,18,21,22,24,25]
[1622,"QUARTA-FEIRA",1,2,3,4,8,9,11,16,17,18,20,22,23,24,25]
[1624,"QUARTA-FEIRA",1,2,6,7,8,9,11,14,15,16,17,18,20,23,24]
[1627,"QUARTA-FEIRA",2,3,4,6,8,9,11,12,13,14,15,17,20,21,24]
[1630,"QUARTA-FEIRA",3,5,7,8,9,10,12,13,14,15,17,20,22,23,25]
[1633,"QUARTA-FEIRA",1,2,3,5,6,7,9,10,17,18,19,20,23,24,25]
[1636,"QUARTA-FEIRA",2,3,6,7,8,9,12,13,14,15,18,19,20,22,25]
[1639,"QUARTA-FEIRA",1,3,5,6,7,8,9,10,11,14,15,19,20,22,25]
[1642,"QUARTA-FEIRA",2,5,6,7,10,11,13,15,17,18,19,20,22,24,25]
[1645,"QUARTA-FEIRA",2,3,4,5,8,9,10,14,15,16,18,20,21,23,25]
[1648,"QUARTA-FEIRA",4,9,10,11,12,13,15,16,17,19,21,22,23,24,25]
[1651,"QUARTA-FEIRA",1,2,3,4,6,7,8,10,16,17,18,19,20,22,24]
[1654,"QUARTA-FEIRA",1,2,3,4,6,10,11,13,16,18,19,20,22,23,25]
[1657,"QUARTA-FEIRA",3,4,6,8,9,10,12,15,17,18,19,20,21,23,24]
[1660,"QUARTA-FEIRA",1,2,3,7,8,10,11,13,14,17,18,20,21,24,25]
[1663,"QUARTA-FEIRA",1,2,3,5,6,7,9,11,12,13,16,17,21,22,23]
[1666,"QUARTA-FEIRA",1,2,5,6,8,9,10,12,13,14,17,20,21,24,25]
[1669,"QUARTA-FEIRA",1,2,3,5,6,7,8,9,12,16,17,20,21,23,25]
[1672,"QUARTA-FEIRA",2,3,5,6,8,9,11,17,18,20,21,22,23,24,25]
[1675,"QUARTA-FEIRA",1,2,3,5,7,8,9,12,14,19,20,21,22,23,25]
[1678,"QUARTA-FEIRA",1,3,4,5,6,8,9,14,16,18,19,20,22,23,24]
[1681,"QUARTA-FEIRA",1,2,3,7,8,10,11,12,15,16,17,20,22,23,25]
[1684,"QUARTA-FEIRA",2,4,7,9,10,12,13,14,15,16,17,22,23,24,25]
[1687,"QUARTA-FEIRA",1,2,3,4,6,7,9,10,14,16,17,18,19,20,24]
[1690,"QUARTA-FEIRA",1,2,4,5,7,8,10,13,15,16,19,20,22,23,25]
[1693,"QUARTA-FEIRA",1,3,4,6,7,8,11,14,16,17,19,20,21,22,23]
[1696,"QUARTA-FEIRA",2,4,5,7,8,10,12,13,14,16,17,18,19,23,24]
[1699,"QUARTA-FEIRA",4,5,6,8,9,10,13,14,15,16,19,21,23,24,25]
[1702,"QUARTA-FEIRA",3,4,5,7,8,10,11,14,15,16,17,18,19,22,25]
[1705,"QUARTA-FEIRA",2,3,4,5,9,12,14,16,17,18,19,20,21,23,24]
[1710,"QUARTA-FEIRA",2,4,5,6,7,9,10,11,12,17,20,21,22,24,25]
[1713,"QUARTA-FEIRA",1,4,8,9,10,12,13,15,16,17,19,20,21,23,24]
[1716,"QUARTA-FEIRA",1,3,4,5,7,10,11,12,13,16,17,22,23,24,25]
[1719,"QUARTA-FEIRA",2,3,4,6,10,11,13,15,17,18,20,21,23,24,25]
[1722,"QUARTA-FEIRA",2,4,5,7,8,11,12,14,15,17,19,21,22,23,25]
[1725,"QUARTA-FEIRA",1,5,6,8,12,13,14,15,18,19,21,22,23,24,25]
[1728,"QUARTA-FEIRA",2,3,5,6,7,8,9,10,11,12,14,15,17,21,22]
[1731,"QUARTA-FEIRA",1,3,5,7,8,9,10,13,14,17,19,20,22,24,25]
[1734,"QUARTA-FEIRA",1,2,3,6,7,8,10,11,15,16,17,21,22,24,25]
[1737,"QUARTA-FEIRA",2,4,5,6,10,11,12,15,16,18,19,20,22,24,25]
[1740,"QUARTA-FEIRA",1,2,3,4,5,6,8,9,10,11,16,18,19,22,24]
[1743,"QUARTA-FEIRA",5,6,7,8,10,11,13,15,17,18,19,21,22,24,25]
[1746,"QUARTA-FEIRA",3,4,6,7,8,9,10,11,12,15,16,19,22,23,25]
[1749,"QUARTA-FEIRA",2,4,6,9,12,13,15,16,19,20,21,22,23,24,25]
[1752,"QUARTA-FEIRA",1,3,4,6,7,8,9,12,13,15,16,17,18,20,22]
[1755,"QUARTA-FEIRA",1,2,3,8,9,11,13,16,18,19,20,21,22,23,25]
[1758,"QUARTA-FEIRA",1,2,4,7,8,9,10,12,13,14,17,19,20,22,23]
[1761,"QUARTA-FEIRA",1,2,3,5,6,9,10,11,13,17,18,19,20,21,25]
[1764,"QUARTA-FEIRA",1,2,4,6,7,10,12,14,15,16,17,19,20,23,25]
[1767,"QUARTA-FEIRA",2,4,5,6,7,9,10,11,15,16,19,20,23,24,25]
[1770,"QUARTA-FEIRA",2,4,5,7,11,12,14,15,18,19,20,21,22,23,25]
[1773,"QUARTA-FEIRA",1,2,5,8,9,10,13,15,16,17,18,19,21,24,25]
[1776,"QUARTA-FEIRA",2,3,4,6,7,11,12,13,17,18,19,22,23,24,25]
[1779,"QUARTA-FEIRA",2,3,4,6,8,9,15,18,19,20,21,22,23,24,25]
[1782,"QUARTA-FEIRA",1,2,3,7,8,12,13,14,15,17,18,19,20,22,25]
[1784,"QUARTA-FEIRA",1,3,4,7,9,10,11,13,14,17,18,19,22,23,25]
[1787,"QUARTA-FEIRA",1,2,4,6,7,10,11,12,14,18,19,20,21,23,25]
[1790,"QUARTA-FEIRA",1,2,3,6,8,11,12,13,15,17,18,21,23,24,25]
[1793,"QUARTA-FEIRA",1,2,3,5,6,10,11,13,16,18,19,20,21,23,24]
[1796,"QUARTA-FEIRA",1,3,5,9,10,12,15,16,18,19,20,21,23,24,25]
[1799,"QUARTA-FEIRA",2,3,4,5,8,10,11,12,15,18,20,22,23,24,25]
[1802,"QUARTA-FEIRA",1,2,5,8,11,12,14,15,16,19,20,21,23,24,25]
[1805,"QUARTA-FEIRA",1,2,4,5,6,9,10,14,15,16,18,20,22,23,24]
[1811,"QUARTA-FEIRA",2,3,4,5,6,7,8,10,12,13,14,18,20,21,24]
[1814,"QUARTA-FEIRA",1,2,3,5,7,12,14,15,16,18,19,21,23,24,25]
[1817,"QUARTA-FEIRA",1,4,7,9,10,11,14,15,16,17,18,21,22,23,24]
[1820,"QUARTA-FEIRA",1,4,5,7,10,13,14,16,17,18,19,20,21,22,25]
[1823,"QUARTA-FEIRA",3,5,6,7,8,9,10,12,13,15,16,17,18,19,22]
[1826,"QUARTA-FEIRA",1,2,5,7,8,9,10,11,12,13,14,19,21,22,25]
[1829,"QUARTA-FEIRA",2,3,4,5,7,10,11,13,15,16,19,21,22,23,24]
[1832,"QUARTA-FEIRA",2,7,8,9,10,11,16,18,19,20,21,22,23,24,25]
[1835,"QUARTA-FEIRA",1,4,6,7,11,13,14,15,16,18,20,21,22,23,24]
[1838,"QUARTA-FEIRA",1,3,5,8,9,10,12,15,16,18,20,21,22,23,25]
[1841,"QUARTA-FEIRA",1,2,3,4,6,7,8,11,12,13,17,18,21,22,25]
[1844,"QUARTA-FEIRA",1,3,5,6,7,8,11,12,14,15,16,17,21,23,25]
[1847,"QUARTA-FEIRA",1,2,3,5,7,8,9,14,15,17,18,19,20,23,24]
[1850,"QUARTA-FEIRA",4,5,7,10,11,12,14,15,16,18,20,21,23,24,25]
[1853,"QUARTA-FEIRA",1,3,5,9,10,11,13,14,15,16,17,20,22,23,24]
[1856,"QUARTA-FEIRA",1,3,4,7,8,10,11,12,13,16,17,18,20,21,23]
[1859,"QUARTA-FEIRA",3,6,7,8,9,12,13,16,17,19,20,21,22,24,25]
[1863,"QUARTA-FEIRA",2,3,4,5,6,8,9,10,14,16,18,21,22,24,25]
[1866,"QUARTA-FEIRA",1,2,3,4,5,10,11,12,13,14,16,20,21,23,25]
[1869,"QUARTA-FEIRA",1,2,4,10,11,13,14,15,17,18,21,22,23,24,25]
[1872,"QUARTA-FEIRA",1,2,6,8,9,13,14,15,17,19,20,21,22,23,25]
[1875,"QUARTA-FEIRA",1,3,4,5,7,8,13,14,16,18,19,21,22,23,24]
[1878,"QUARTA-FEIRA",1,2,3,4,5,6,8,10,12,15,17,19,23,24,25]
[1881,"QUARTA-FEIRA",1,3,4,5,10,14,15,16,17,18,19,21,23,24,25]
[1884,"QUARTA-FEIRA",1,2,3,5,6,7,8,9,11,12,14,16,17,23,25]
[1887,"QUARTA-FEIRA",1,3,4,6,7,8,9,10,11,12,14,16,17,18,22]
[1890,"QUARTA-FEIRA",1,2,4,5,7,8,9,10,11,13,15,16,17,21,23]
[1896,"QUARTA-FEIRA",1,2,3,6,8,9,12,15,16,17,18,20,21,22,24]
[1899,"QUARTA-FEIRA",1,3,5,6,9,10,11,14,15,16,17,18,19,20,23]
[1902,"QUARTA-FEIRA",1,2,4,5,6,8,9,11,12,15,16,17,22,23,25]
[1905,"QUARTA-FEIRA",1,3,6,8,9,11,12,15,16,17,18,19,21,23,24]
[1913,"QUARTA-FEIRA",2,5,6,7,8,9,10,11,12,14,16,19,20,24,25]
[1916,"QUARTA-FEIRA",4,5,6,7,8,10,11,13,15,18,19,20,23,24,25]
[1919,"QUARTA-FEIRA",1,2,3,5,6,9,10,11,15,19,20,21,22,23,24]
[1922,"QUARTA-FEIRA",2,3,4,5,6,7,8,10,12,16,17,18,19,23,25]
[1925,"QUARTA-FEIRA",1,2,3,4,5,6,7,9,13,14,16,18,20,21,23]
[1928,"QUARTA-FEIRA",1,2,3,5,6,7,8,9,10,15,16,19,23,24,25]
[1931,"QUARTA-FEIRA",3,4,5,6,7,9,10,11,12,14,16,18,19,22,23]
[1933,"QUARTA-FEIRA",1,7,9,10,11,12,13,16,19,20,21,22,23,24,25]
[1936,"QUARTA-FEIRA",2,3,4,5,6,8,11,13,14,15,17,19,20,21,25]
[1939,"QUARTA-FEIRA",2,3,4,6,7,9,10,11,12,13,19,20,22,23,24]
[1942,"QUARTA-FEIRA",1,2,3,4,7,8,10,11,12,13,15,18,20,24,25]
[1945,"QUARTA-FEIRA",3,4,5,8,9,10,12,15,17,19,20,22,23,24,25]
[1948,"QUARTA-FEIRA",1,3,7,9,11,12,13,14,16,17,19,20,21,22,24]
[1951,"QUARTA-FEIRA",3,4,6,9,10,11,12,13,16,18,19,20,22,23,25]
[1954,"QUARTA-FEIRA",2,3,4,6,7,8,10,13,16,18,21,22,23,24,25]
[1957,"QUARTA-FEIRA",1,2,3,4,5,7,11,14,15,16,17,19,20,23,25]
[1960,"QUARTA-FEIRA",2,3,7,9,10,12,13,15,17,18,20,21,23,24,25]
[1963,"QUARTA-FEIRA",3,4,5,8,9,10,11,12,13,14,15,18,20,24,25]
[1966,"QUARTA-FEIRA",1,3,4,5,6,7,9,12,13,14,15,16,18,19,24]
[1969,"QUARTA-FEIRA",4,5,6,7,9,13,14,15,16,18,19,20,22,23,24]
[1972,"QUARTA-FEIRA",3,7,8,11,12,13,14,15,16,18,20,21,22,23,25]
[1975,"QUARTA-FEIRA",2,5,7,8,9,10,11,12,13,16,17,20,22,23,25]
[1978,"QUARTA-FEIRA",1,4,5,6,7,8,9,10,12,13,15,16,20,23,24]
[1981,"QUARTA-FEIRA",1,2,3,4,5,6,7,12,13,15,17,20,23,24,25]
[1984,"QUARTA-FEIRA",2,4,5,10,11,12,13,14,16,19,20,21,23,24,25]
[1987,"QUARTA-FEIRA",2,3,4,5,6,10,11,12,13,15,16,17,19,21,22]
[1990,"QUARTA-FEIRA",4,6,7,8,9,11,13,14,16,17,19,20,23,24,25]
[1993,"QUARTA-FEIRA",1,3,4,5,6,8,9,10,13,15,16,20,21,22,23]
[1996,"QUARTA-FEIRA",2,4,5,7,8,9,10,11,12,13,18,19,20,22,25]
[1999,"QUARTA-FEIRA",3,4,6,7,8,9,13,15,17,19,20,22,23,24,25]
[2003,"QUARTA-FEIRA",1,5,6,7,8,9,10,11,12,15,17,20,22,24,25]
[2009,"QUARTA-FEIRA",1,2,3,4,5,7,12,13,15,16,17,19,20,22,24]
[2015,"QUARTA-FEIRA",2,3,4,5,6,8,9,11,13,15,17,18,20,23,25]
[2021,"QUARTA-FEIRA",1,2,3,4,6,7,8,10,12,15,18,19,22,23,24]
[2027,"QUARTA-FEIRA",1,2,3,6,7,9,12,13,16,17,20,21,23,24,25]
[2033,"QUARTA-FEIRA",1,2,5,6,10,11,12,13,14,16,17,19,20,21,22]
[2039,"QUARTA-FEIRA",1,2,3,4,5,6,10,11,14,15,19,21,23,24,25]
[2045,"QUARTA-FEIRA",1,3,5,9,12,13,15,16,17,18,19,20,21,24,25]
[2051,"QUARTA-FEIRA",1,2,3,4,7,9,10,12,16,18,19,20,22,23,25]
[2056,"QUARTA-FEIRA",1,3,4,5,6,9,10,13,15,16,17,18,19,20,21]
[2062,"QUARTA-FEIRA",3,4,6,7,8,9,10,12,14,15,19,20,22,23,24]
[2068,"QUARTA-FEIRA",1,2,3,7,10,14,15,16,18,19,20,21,23,24,25]
[2073,"QUARTA-FEIRA",4,5,6,7,11,12,13,15,16,18,19,20,23,24,25]
[2079,"QUARTA-FEIRA",1,2,3,6,9,12,14,15,17,18,19,22,23,24,25]
[2085,"QUARTA-FEIRA",1,4,6,9,10,12,13,14,15,16,18,20,23,24,25]
[2091,"QUARTA-FEIRA",2,3,4,5,6,7,8,9,10,11,16,17,19,20,24]
[2097,"QUARTA-FEIRA",2,3,6,7,8,10,12,14,15,16,18,19,21,23,24]
[2103,"QUARTA-FEIRA",1,2,5,7,10,11,12,13,15,16,18,19,20,21,25]
[2109,"QUARTA-FEIRA",2,4,5,8,9,10,11,12,13,14,16,17,21,22,23]
[2115,"QUARTA-FEIRA",3,5,7,9,10,12,13,16,17,18,20,21,22,24,25]
[2120,"QUARTA-FEIRA",2,4,5,8,9,12,13,14,17,18,20,21,22,23,25]
[2125,"QUARTA-FEIRA",1,8,10,11,12,13,15,16,17,19,20,21,23,24,25]
[2131,"QUARTA-FEIRA",1,2,3,7,8,9,10,11,13,14,16,17,19,23,25]
[2137,"QUARTA-FEIRA",2,6,7,9,11,12,13,14,16,17,18,19,20,21,23]
[2143,"QUARTA-FEIRA",1,2,3,6,9,10,11,14,17,18,19,20,21,23,25]
[2149,"QUARTA-FEIRA",1,2,4,8,9,10,12,13,14,15,16,17,18,20,23]
[2155,"QUARTA-FEIRA",1,2,3,4,6,9,13,14,15,17,18,19,20,21,22]
[2159,"QUARTA-FEIRA",1,2,4,5,7,12,13,14,16,18,20,21,22,24,25]
[2165,"QUARTA-FEIRA",1,3,5,6,8,13,14,15,16,17,18,20,21,22,23]
[2171,"QUARTA-FEIRA",1,4,9,10,11,13,15,17,18,19,21,22,23,24,25]
[2177,"QUARTA-FEIRA",1,3,4,7,8,10,12,14,15,16,17,19,20,22,24]
[2183,"QUARTA-FEIRA",1,2,4,6,9,11,14,15,16,18,19,20,21,22,25]
[2189,"QUARTA-FEIRA",1,3,4,5,6,8,10,11,13,14,17,18,19,22,24]
[2195,"QUARTA-FEIRA",2,3,5,7,8,9,11,12,13,16,17,18,20,22,23]
[2200,"QUARTA-FEIRA",1,2,4,6,8,9,10,11,13,14,16,17,19,23,25]
[2206,"QUARTA-FEIRA",1,2,3,4,6,8,12,13,15,16,17,20,21,23,25]
[2217,"QUARTA-FEIRA",1,6,7,9,10,11,14,15,16,18,19,20,22,23,25]
[2222,"QUARTA-FEIRA",2,4,5,6,7,8,9,10,12,13,14,19,22,23,24]
[2228,"QUARTA-FEIRA",1,4,5,6,7,11,12,13,16,17,18,19,20,22,23]
[2234,"QUARTA-FEIRA",1,2,3,6,7,11,14,15,17,18,20,21,22,24,25]
[2240,"QUARTA-FEIRA",2,3,4,6,7,9,11,12,13,15,17,18,19,20,25]
[2246,"QUARTA-FEIRA",2,3,4,5,7,8,10,11,12,13,14,15,18,20,25]
[2251,"QUARTA-FEIRA",2,4,5,7,9,12,13,14,15,18,19,21,22,23,24]
[2257,"QUARTA-FEIRA",1,4,5,6,7,8,9,11,12,13,15,18,20,22,24]
[2263,"QUARTA-FEIRA",1,2,3,7,8,10,11,14,15,16,18,19,22,23,25]
[2269,"QUARTA-FEIRA",2,3,4,5,7,9,10,11,13,14,17,20,21,22,25]
[2275,"QUARTA-FEIRA",1,2,4,5,7,10,11,12,13,14,15,16,19,20,21]
[2281,"QUARTA-FEIRA",2,3,5,6,7,9,10,11,14,15,16,17,18,20,21]
[2287,"QUARTA-FEIRA",1,3,4,6,7,9,10,11,12,14,16,17,18,19,25]
[2293,"QUARTA-FEIRA",1,2,4,5,8,9,11,12,13,16,18,19,20,21,22]
[2299,"QUARTA-FEIRA",1,3,5,7,8,9,11,12,14,15,16,20,21,23,25]
[2305,"QUARTA-FEIRA",1,5,7,8,10,11,14,16,17,18,19,22,23,24,25]
[2311,"QUARTA-FEIRA",1,3,4,5,9,10,12,13,14,15,18,19,20,21,25]
[2317,"QUARTA-FEIRA",1,2,3,5,6,7,9,14,15,16,17,20,21,23,25]
[2323,"QUARTA-FEIRA",1,4,7,8,11,13,14,16,17,19,21,22,23,24,25]
[2329,"QUARTA-FEIRA",1,3,4,5,10,11,12,13,14,16,17,18,19,20,24]
[2358,"QUARTA-FEIRA",4,5,6,7,8,11,12,14,15,16,17,20,23,24,25]
[2369,"QUARTA-FEIRA",2,3,5,8,9,10,11,12,13,14,15,22,23,24,25]
[2374,"QUARTA-FEIRA",1,3,5,7,9,10,14,15,16,17,20,21,22,23,25]
[2380,"QUARTA-FEIRA",1,3,5,6,7,9,10,11,13,14,15,17,21,22,24]
[2386,"QUARTA-FEIRA",2,3,6,7,8,10,12,13,14,15,16,17,18,23,24]
[2392,"QUARTA-FEIRA",1,2,5,6,8,11,12,13,16,17,18,22,23,24,25]
[2398,"QUARTA-FEIRA",2,3,4,5,6,9,10,12,13,14,15,20,22,23,25]
[2404,"QUARTA-FEIRA",1,2,3,4,5,7,10,11,12,14,15,22,23,24,25]
[2409,"QUARTA-FEIRA",1,2,5,6,7,8,9,10,12,16,19,20,21,22,25]
[2414,"QUARTA-FEIRA",3,4,5,6,7,8,9,10,11,13,16,17,19,21,24]
[2420,"QUARTA-FEIRA"]

{"sheet":"Conferência","index":1,"n_rows":2,"n_cols":17,"rows_kept":2,"cut":false,"hidden":false,"merged":[]}
["CONC","SEMANA","B1","B2","B3","B4","B5","B6","B7","B8","B9","B10","B11","B12","B13","B14","B15"]
[744,"QUARTA-FEIRA",1,3,4,6,7,9,10,11,12,13,15,16,19,23,24]

{"sheet":"Resultado","index":2,"n_rows":1001,"n_cols":18,"rows_kept":1001,"cut":false,"hidden":true,"merged":[]}
["CONC","SEMANA","B1","B2","B3","B4","B5","B6","B7","B8","B9","B10","B11","B12","B13","B14","B15","Comparativo"]
[{"$f":"IF(Jogo!A2=Conferência!$A$2,Conferência!$A$2,\"\")","v":744},{"$f":"IF(Jogo!B2=Conferência!$B$2,Conferência!$B$2,\"\")","v":"QUARTA-FEIRA"},{"$f":"IF(Jogo!C2=Conferência!$C$2,Conferência!$C$2,\"\")","v":1},{"$f":"IF(Jogo!D2=Conferência!$D$2,Conferência!$D$2,\"\")","v":3},{"$f":"IF(Jogo!E2=Conferência!$E$2,Conferência!$E$2,\"\")","v":4},{"$f":"IF(Jogo!F2=Conferência!$F$2,Conferência!$F$2,\"\")","v":6},{"$f":"IF(Jogo!G2=Conferência!$G$2,Conferência!$G$2,\"\")","v":7},{"$f":"IF(Jogo!H2=Conferência!$H$2,Conferência!$H$2,\"\")","v":9},{"$f":"IF(Jogo!I2=Conferência!$I$2,Conferência!$I$2,\"\")","v":10},{"$f":"IF(Jogo!J2=Conferência!$J$2,Conferência!$J$2,\"\")","v":11},{"$f":"IF(Jogo!K2=Conferência!$K$2,Conferência!$K$2,\"\")","v":12},{"$f":"IF(Jogo!L2=Conferência!$L$2,Conferência!$L$2,\"\")","v":13},{"$f":"IF(Jogo!M2=Conferência!$M$2,Conferência!$M$2,\"\")","v":15},{"$f":"IF(Jogo!N2=Conferência!$N$2,Conferência!$N$2,\"\")","v":16},{"$f":"IF(Jogo!O2=Conferência!$O$2,Conferência!$O$2,\"\")","v":19},{"$f":"IF(Jogo!P2=Conferência!$P$2,Conferência!$P$2,\"\")","v":23},{"$f":"IF(Jogo!Q2=Conferência!$Q$2,Conferência!$Q$2,\"\")","v":24},{"$f":"IF(A2=\"\",\"\",\"OK\")","v":"OK"}]
[{"$f":"IF(Jogo!A3=Conferência!$A$2,Conferência!$A$2,\"\")","v":""},{"$f":"IF(Jogo!B3=Conferência!$B$2,Conferência!$B$2,\"\")","v":"QUARTA-FEIRA"},{"$f":"IF(Jogo!C3=Conferência!$C$2,Conferência!$C$2,\"\")","v":1},{"$f":"IF(Jogo!D3=Conferência!$D$2,Conferência!$D$2,\"\")","v":""},{"$f":"IF(Jogo!E3=Conferência!$E$2,Conferência!$E$2,\"\")","v":""},{"$f":"IF(Jogo!F3=Conferência!$F$2,Conferência!$F$2,\"\")","v":""},{"$f":"IF(Jogo!G3=Conferência!$G$2,Conferência!$G$2,\"\")","v":""},{"$f":"IF(Jogo!H3=Conferência!$H$2,Conferência!$H$2,\"\")","v":""},{"$f":"IF(Jogo!I3=Conferência!$I$2,Conferência!$I$2,\"\")","v":""},{"$f":"IF(Jogo!J3=Conferência!$J$2,Conferência!$J$2,\"\")","v":""},{"$f":"IF(Jogo!K3=Conferência!$K$2,Conferência!$K$2,\"\")","v":""},{"$f":"IF(Jogo!L3=Conferência!$L$2,Conferência!$L$2,\"\")","v":""},{"$f":"IF(Jogo!M3=Conferência!$M$2,Conferência!$M$2,\"\")","v":""},{"$f":"IF(Jogo!N3=Conferência!$N$2,Conferência!$N$2,\"\")","v":""},{"$f":"IF(Jogo!O3=Conferência!$O$2,Conferência!$O$2,\"\")","v":""},{"$f":"IF(Jogo!P3=Conferência!$P$2,Conferência!$P$2,\"\")","v":""},{"$f":"IF(Jogo!Q3=Conferência!$Q$2,Conferência!$Q$2,\"\")","v":""},{"$f":"IF(A3=\"\",\"\",\"OK\")","v":""}]
[{"$f":"IF(Jogo!A4=Conferência!$A$2,Conferência!$A$2,\"\")","v":""},{"$f":"IF(Jogo!B4=Conferência!$B$2,Conferência!$B$2,\"\")","v":"QUARTA-FEIRA"},{"$f":"IF(Jogo!C4=Conferência!$C$2,Conferência!$C$2,\"\")","v":1},{"$f":"IF(Jogo!D4=Conferência!$D$2,Conferência!$D$2,\"\")","v":""},{"$f":"IF(Jogo!E4=Conferência!$E$2,Conferência!$E$2,\"\")","v":""},{"$f":"IF(Jogo!F4=Conferência!$F$2,Conferência!$F$2,\"\")","v":""},{"$f":"IF(Jogo!G4=Conferência!$G$2,Conferência!$G$2,\"\")","v":""},{"$f":"IF(Jogo!H4=Conferência!$H$2,Conferência!$H$2,\"\")","v":""},{"$f":"IF(Jogo!I4=Conferência!$I$2,Conferência!$I$2,\"\")","v":10},{"$f":"IF(Jogo!J4=Conferência!$J$2,Conferência!$J$2,\"\")","v":11},{"$f":"IF(Jogo!K4=Conferência!$K$2,Conferência!$K$2,\"\")","v":12},{"$f":"IF(Jogo!L4=Conferência!$L$2,Conferência!$L$2,\"\")","v":13},{"$f":"IF(Jogo!M4=Conferência!$M$2,Conferência!$M$2,\"\")","v":""},{"$f":"IF(Jogo!N4=Conferência!$N$2,Conferência!$N$2,\"\")","v":""},{"$f":"IF(Jogo!O4=Conferência!$O$2,Conferência!$O$2,\"\")","v":""},{"$f":"IF(Jogo!P4=Conferência!$P$2,Conferência!$P$2,\"\")","v":23},{"$f":"IF(Jogo!Q4=Conferência!$Q$2,Conferência!$Q$2,\"\")","v":""},""]
[{"$f":"IF(Jogo!A5=Conferência!$A$2,Conferência!$A$2,\"\")","v":""},{"$f":"IF(Jogo!B5=Conferência!$B$2,Conferência!$B$2,\"\")","v":"QUARTA-FEIRA"},{"$f":"IF(Jogo!C5=Conferência!$C$2,Conferência!$C$2,\"\")","v":1},{"$f":"IF(Jogo!D5=Conferência!$D$2,Conferência!$D$2,\"\")","v":""},{"$f":"IF(Jogo!E5=Conferência!$E$2,Conferência!$E$2,\"\")","v":""},{"$f":"IF(Jogo!F5=Conferência!$F$2,Conferência!$F$2,\"\")","v":""},{"$f":"IF(Jogo!G5=Conferência!$G$2,Conferência!$G$2,\"\")","v":""},{"$f":"IF(Jogo!H5=Conferência!$H$2,Conferência!$H$2,\"\")","v":""},{"$f":"IF(Jogo!I5=Conferência!$I$2,Conferência!$I$2,\"\")","v":""},{"$f":"IF(Jogo!J5=Conferência!$J$2,Conferência!$J$2,\"\")","v":""},{"$f":"IF(Jogo!K5=Conferência!$K$2,Conferência!$K$2,\"\")","v":""},{"$f":"IF(Jogo!L5=Conferência!$L$2,Conferência!$L$2,\"\")","v":""},{"$f":"IF(Jogo!M5=Conferência!$M$2,Conferência!$M$2,\"\")","v":""},{"$f":"IF(Jogo!N5=Conferência!$N$2,Conferência!$N$2,\"\")","v":""},{"$f":"IF(Jogo!O5=Conferência!$O$2,Conferência!$O$2,\"\")","v":19},{"$f":"IF(Jogo!P5=Conferência!$P$2,Conferência!$P$2,\"\")","v":""},{"$f":"IF(Jogo!Q5=Conferência!$Q$2,Conferência!$Q$2,\"\")","v":""},""]
[{"$f":"IF(Jogo!A6=Conferência!$A$2,Conferência!$A$2,\"\")","v":""},{"$f":"IF(Jogo!B6=Conferência!$B$2,Conferência!$B$2,\"\")","v":"QUARTA-FEIRA"},{"$f":"IF(Jogo!C6=Conferência!$C$2,Conferência!$C$2,\"\")","v":""},{"$f":"IF(Jogo!D6=Conferência!$D$2,Conferência!$D$2,\"\")","v":3},{"$f":"IF(Jogo!E6=Conferência!$E$2,Conferência!$E$2,\"\")","v":4},{"$f":"IF(Jogo!F6=Conferência!$F$2,Conferência!$F$2,\"\")","v":""},{"$f":"IF(Jogo!G6=Conferência!$G$2,Conferência!$G$2,\"\")","v":""},{"$f":"IF(Jogo!H6=Conferência!$H$2,Conferência!$H$2,\"\")","v":9},{"$f":"IF(Jogo!I6=Conferência!$I$2,Conferência!$I$2,\"\")","v":10},{"$f":"IF(Jogo!J6=Conferência!$J$2,Conferência!$J$2,\"\")","v":11},{"$f":"IF(Jogo!K6=Conferência!$K$2,Conferência!$K$2,\"\")","v":""},{"$f":"IF(Jogo!L6=Conferência!$L$2,Conferência!$L$2,\"\")","v":""},{"$f":"IF(Jogo!M6=Conferência!$M$2,Conferência!$M$2,\"\")","v":""},{"$f":"IF(Jogo!N6=Conferência!$N$2,Conferência!$N$2,\"\")","v":""},{"$f":"IF(Jogo!O6=Conferência!$O$2,Conferência!$O$2,\"\")","v":""},{"$f":"IF(Jogo!P6=Conferência!$P$2,Conferência!$P$2,\"\")","v":23},{"$f":"IF(Jogo!Q6=Conferência!$Q$2,Conferência!$Q$2,\"\")","v":""},""]
[{"$f":"IF(Jogo!A7=Conferência!$A$2,Conferência!$A$2,\"\")","v":""},{"$f":"IF(Jogo!B7=Conferência!$B$2,Conferência!$B$2,\"\")","v":"QUARTA-FEIRA"},{"$f":"IF(Jogo!C7=Conferência!$C$2,Conferência!$C$2,\"\")","v":1},{"$f":"IF(Jogo!D7=Conferência!$D$2,Conferência!$D$2,\"\")","v":""},{"$f":"IF(Jogo!E7=Conferência!$E$2,Conferência!$E$2,\"\")","v":""},{"$f":"IF(Jogo!F7=Conferência!$F$2,Conferência!$F$2,\"\")","v":""},{"$f":"IF(Jogo!G7=Conferência!$G$2,Conferência!$G$2,\"\")","v":""},{"$f":"IF(Jogo!H7=Conferência!$H$2,Conferência!$H$2,\"\")","v":""},{"$f":"IF(Jogo!I7=Conferência!$I$2,Conferência!$I$2,\"\")","v":""},{"$f":"IF(Jogo!J7=Conferência!$J$2,Conferência!$J$2,\"\")","v":""},{"$f":"IF(Jogo!K7=Conferência!$K$2,Conferência!$K$2,\"\")","v":""},{"$f":"IF(Jogo!L7=Conferência!$L$2,Conferência!$L$2,\"\")","v":""},{"$f":"IF(Jogo!M7=Conferência!$M$2,Conferência!$M$2,\"\")","v":""},{"$f":"IF(Jogo!N7=Conferência!$N$2,Conferência!$N$2,\"\")","v":""},{"$f":"IF(Jogo!O7=Conferência!$O$2,Conferência!$O$2,\"\")","v":""},{"$f":"IF(Jogo!P7=Conferência!$P$2,Conferência!$P$2,\"\")","v":23},{"$f":"IF(Jogo!Q7=Conferência!$Q$2,Conferência!$Q$2,\"\")","v":""},""]
[{"$f":"IF(Jogo!A8=Conferência!$A$2,Conferência!$A$2,\"\")","v":""},{"$f":"IF(Jogo!B8=Conferência!$B$2,Conferência!$B$2,\"\")","v":"QUARTA-FEIRA"},{"$f":"IF(Jogo!C8=Conferência!$C$2,Conferência!$C$2,\"\")","v":1},{"$f":"IF(Jogo!D8=Conferência!$D$2,Conferência!$D$2,\"\")","v":3},{"$f":"IF(Jogo!E8=Conferência!$E$2,Conferência!$E$2,\"\")","v":""},{"$f":"IF(Jogo!F8=Conferência!$F$2,Conferência!$F$2,\"\")","v":""},{"$f":"IF(Jogo!G8=Conferência!$G$2,Conferência!$G$2,\"\")","v":""},{"$f":"IF(Jogo!H8=Conferência!$H$2,Conferência!$H$2,\"\")","v":""},{"$f":"IF(Jogo!I8=Conferência!$I$2,Conferência!$I$2,\"\")","v":""},{"$f":"IF(Jogo!J8=Conferência!$J$2,Conferência!$J$2,\"\")","v":""},{"$f":"IF(Jogo!K8=Conferência!$K$2,Conferência!$K$2,\"\")","v":""},{"$f":"IF(Jogo!L8=Conferência!$L$2,Conferência!$L$2,\"\")","v":""},{"$f":"IF(Jogo!M8=Conferência!$M$2,Conferência!$M$2,\"\")","v":""},{"$f":"IF(Jogo!N8=Conferência!$N$2,Conferência!$N$2,\"\")","v":""},{"$f":"IF(Jogo!O8=Conferência!$O$2,Conferência!$O$2,\"\")","v":""},{"$f":"IF(Jogo!P8=Conferência!$P$2,Conferência!$P$2,\"\")","v":""},{"$f":"IF(Jogo!Q8=Conferência!$Q$2,Conferência!$Q$2,\"\")","v":""},""]
[{"$f":"IF(Jogo!A9=Conferência!$A$2,Conferência!$A$2,\"\")","v":""},{"$f":"IF(Jogo!B9=Conferência!$B$2,Conferência!$B$2,\"\")","v":"QUARTA-FEIRA"},{"$f":"IF(Jogo!C9=Conferência!$C$2,Conferência!$C$2,\"\")","v":1},{"$f":"IF(Jogo!D9=Conferência!$D$2,Conferência!$D$2,\"\")","v":""},{"$f":"IF(Jogo!E9=Conferência!$E$2,Conferência!$E$2,\"\")","v":""},{"$f":"IF(Jogo!F9=Conferência!$F$2,Conferência!$F$2,\"\")","v":""},{"$f":"IF(Jogo!G9=Conferência!$G$2,Conferência!$G$2,\"\")","v":7},{"$f":"IF(Jogo!H9=Conferência!$H$2,Conferência!$H$2,\"\")","v":""},{"$f":"IF(Jogo!I9=Conferência!$I$2,Conferência!$I$2,\"\")","v":""},{"$f":"IF(Jogo!J9=Conferência!$J$2,Conferência!$J$2,\"\")","v":11},{"$f":"IF(Jogo!K9=Conferência!$K$2,Conferência!$K$2,\"\")","v":""},{"$f":"IF(Jogo!L9=Conferência!$L$2,Conferência!$L$2,\"\")","v":""},{"$f":"IF(Jogo!M9=Conferência!$M$2,Conferência!$M$2,\"\")","v":""},{"$f":"IF(Jogo!N9=Conferência!$N$2,Conferência!$N$2,\"\")","v":""},{"$f":"IF(Jogo!O9=Conferência!$O$2,Conferência!$O$2,\"\")","v":""},{"$f":"IF(Jogo!P9=Conferência!$P$2,Conferência!$P$2,\"\")","v":23},{"$f":"IF(Jogo!Q9=Conferência!$Q$2,Conferência!$Q$2,\"\")","v":""},""]
[{"$f":"IF(Jogo!A10=Conferência!$A$2,Conferência!$A$2,\"\")","v":""},{"$f":"IF(Jogo!B10=Conferência!$B$2,Conferência!$B$2,\"\")","v":"QUARTA-FEIRA"},{"$f":"IF(Jogo!C10=Conferência!$C$2,Conferência!$C$2,\"\")","v":""},{"$f":"IF(Jogo!D10=Conferência!$D$2,Conferência!$D$2,\"\")","v":3},{"$f":"IF(Jogo!E10=Conferência!$E$2,Conferência!$E$2,\"\")","v":4},{"$f":"IF(Jogo!F10=Conferência!$F$2,Conferência!$F$2,\"\")","v":""},{"$f":"IF(Jogo!G10=Conferência!$G$2,Conferência!$G$2,\"\")","v":7},{"$f":"IF(Jogo!H10=Conferência!$H$2,Conferência!$H$2,\"\")","v":""},{"$f":"IF(Jogo!I10=Conferência!$I$2,Conferência!$I$2,\"\")","v":""},{"$f":"IF(Jogo!J10=Conferência!$J$2,Conferência!$J$2,\"\")","v":""},{"$f":"IF(Jogo!K10=Conferência!$K$2,Conferência!$K$2,\"\")","v":""},{"$f":"IF(Jogo!L10=Conferência!$L$2,Conferência!$L$2,\"\")","v":""},{"$f":"IF(Jogo!M10=Conferência!$M$2,Conferência!$M$2,\"\")","v":""},{"$f":"IF(Jogo!N10=Conferência!$N$2,Conferência!$N$2,\"\")","v":""},{"$f":"IF(Jogo!O10=Conferência!$O$2,Conferência!$O$2,\"\")","v":""},{"$f":"IF(Jogo!P10=Conferência!$P$2,Conferência!$P$2,\"\")","v":""},{"$f":"IF(Jogo!Q10=Conferência!$Q$2,Conferência!$Q$2,\"\")","v":24},""]
[{"$f":"IF(Jogo!A11=Conferência!$A$2,Conferência!$A$2,\"\")","v":""},{"$f":"IF(Jogo!B11=Conferência!$B$2,Conferência!$B$2,\"\")","v":"QUARTA-FEIRA"},{"$f":"IF(Jogo!C11=Conferência!$C$2,Conferência!$C$2,\"\")","v":1},{"$f":"IF(Jogo!D11=Conferência!$D$2,Conferência!$D$2,\"\")","v":""},{"$f":"IF(Jogo!E11=Conferência!$E$2,Conferência!$E$2,\"\")","v":4},{"$f":"IF(Jogo!F11=Conferência!$F$2,Conferência!$F$2,\"\")","v":""},{"$f":"IF(Jogo!G11=Conferência!$G$2,Conferência!$G$2,\"\")","v":""},{"$f":"IF(Jogo!H11=Conferência!$H$2,Conferência!$H$2,\"\")","v":""},{"$f":"IF(Jogo!I11=Conferência!$I$2,Conferência!$I$2,\"\")","v":""},{"$f":"IF(Jogo!J11=Conferência!$J$2,Conferência!$J$2,\"\")","v":""},{"$f":"IF(Jogo!K11=Conferência!$K$2,Conferência!$K$2,\"\")","v":""},{"$f":"IF(Jogo!L11=Conferência!$L$2,Conferência!$L$2,\"\")","v":""},{"$f":"IF(Jogo!M11=Conferência!$M$2,Conferência!$M$2,\"\")","v":""},{"$f":"IF(Jogo!N11=Conferência!$N$2,Conferência!$N$2,\"\")","v":""},{"$f":"IF(Jogo!O11=Conferência!$O$2,Conferência!$O$2,\"\")","v":""},{"$f":"IF(Jogo!P11=Conferência!$P$2,Conferência!$P$2,\"\")","v":""},{"$f":"IF(Jogo!Q11=Conferência!$Q$2,Conferência!$Q$2,\"\")","v":""},""]
[{"$f":"IF(Jogo!A12=Conferência!$A$2,Conferência!$A$2,\"\")","v":""},{"$f":"IF(Jogo!B12=Conferência!$B$2,Conferência!$B$2,\"\")","v":"QUARTA-FEIRA"},{"$f":"IF(Jogo!C12=Conferência!$C$2,Conferência!$C$2,\"\")","v":1},{"$f":"IF(Jogo!D12=Conferência!$D$2,Conferência!$D$2,\"\")","v":""},{"$f":"IF(Jogo!E12=Conferência!$E$2,Conferência!$E$2,\"\")","v":""},{"$f":"IF(Jogo!F12=Conferência!$F$2,Conferência!$F$2,\"\")","v":""},{"$f":"IF(Jogo!G12=Conferência!$G$2,Conferência!$G$2,\"\")","v":""},{"$f":"IF(Jogo!H12=Conferência!$H$2,Conferência!$H$2,\"\")","v":""},{"$f":"IF(Jogo!I12=Conferência!$I$2,Conferência!$I$2,\"\")","v":""},{"$f":"IF(Jogo!J12=Conferência!$J$2,Conferência!$J$2,\"\")","v":""},{"$f":"IF(Jogo!K12=Conferência!$K$2,Conferência!$K$2,\"\")","v":12},{"$f":"IF(Jogo!L12=Conferência!$L$2,Conferência!$L$2,\"\")","v":""},{"$f":"IF(Jogo!M12=Conferência!$M$2,Conferência!$M$2,\"\")","v":15},{"$f":"IF(Jogo!N12=Conferência!$N$2,Conferência!$N$2,\"\")","v":""},{"$f":"IF(Jogo!O12=Conferência!$O$2,Conferência!$O$2,\"\")","v":""},{"$f":"IF(Jogo!P12=Conferência!$P$2,Conferência!$P$2,\"\")","v":23},{"$f":"IF(Jogo!Q12=Conferência!$Q$2,Conferência!$Q$2,\"\")","v":""},""]
[{"$f":"IF(Jogo!A13=Conferência!$A$2,Conferência!$A$2,\"\")","v":""},{"$f":"IF(Jogo!B13=Conferência!$B$2,Conferência!$B$2,\"\")","v":"QUARTA-FEIRA"},{"$f":"IF(Jogo!C13=Conferência!$C$2,Conferência!$C$2,\"\")","v":1},{"$f":"IF(Jogo!D13=Conferência!$D$2,Conferência!$D$2,\"\")","v":""},{"$f":"IF(Jogo!E13=Conferência!$E$2,Conferência!$E$2,\"\")","v":""},{"$f":"IF(Jogo!F13=Conferência!$F$2,Conferência!$F$2,\"\")","v":""},{"$f":"IF(Jogo!G13=Conferência!$G$2,Conferência!$G$2,\"\")","v":""},{"$f":"IF(Jogo!H13=Conferência!$H$2,Conferência!$H$2,\"\")","v":""},{"$f":"IF(Jogo!I13=Conferência!$I$2,Conferência!$I$2,\"\")","v":""},{"$f":"IF(Jogo!J13=Conferência!$J$2,Conferência!$J$2,\"\")","v":""},{"$f":"IF(Jogo!K13=Conferência!$K$2,Conferência!$K$2,\"\")","v":""},{"$f":"IF(Jogo!L13=Conferência!$L$2,Conferência!$L$2,\"\")","v":""},{"$f":"IF(Jogo!M13=Conferência!$M$2,Conferência!$M$2,\"\")","v":""},{"$f":"IF(Jogo!N13=Conferência!$N$2,Conferência!$N$2,\"\")","v":""},{"$f":"IF(Jogo!O13=Conferência!$O$2,Conferência!$O$2,\"\")","v":""},{"$f":"IF(Jogo!P13=Conferência!$P$2,Conferência!$P$2,\"\")","v":""},{"$f":"IF(Jogo!Q13=Conferência!$Q$2,Conferência!$Q$2,\"\")","v":""},""]
[{"$f":"IF(Jogo!A14=Conferência!$A$2,Conferência!$A$2,\"\")","v":""},{"$f":"IF(Jogo!B14=Conferência!$B$2,Conferência!$B$2,\"\")","v":"QUARTA-FEIRA"},{"$f":"IF(Jogo!C14=Conferência!$C$2,Conferência!$C$2,\"\")","v":""},{"$f":"IF(Jogo!D14=Conferência!$D$2,Conferência!$D$2,\"\")","v":""},{"$f":"IF(Jogo!E14=Conferência!$E$2,Conferência!$E$2,\"\")","v":""},{"$f":"IF(Jogo!F14=Conferência!$F$2,Conferência!$F$2,\"\")","v":""},{"$f":"IF(Jogo!G14=Conferência!$G$2,Conferência!$G$2,\"\")","v":""},{"$f":"IF(Jogo!H14=Conferência!$H$2,Conferência!$H$2,\"\")","v":""},{"$f":"IF(Jogo!I14=Conferência!$I$2,Conferência!$I$2,\"\")","v":""},{"$f":"IF(Jogo!J14=Conferência!$J$2,Conferência!$J$2,\"\")","v":""},{"$f":"IF(Jogo!K14=Conferência!$K$2,Conferência!$K$2,\"\")","v":""},{"$f":"IF(Jogo!L14=Conferência!$L$2,Conferência!$L$2,\"\")","v":""},{"$f":"IF(Jogo!M14=Conferência!$M$2,Conferência!$M$2,\"\")","v":""},{"$f":"IF(Jogo!N14=Conferência!$N$2,Conferência!$N$2,\"\")","v":""},{"$f":"IF(Jogo!O14=Conferência!$O$2,Conferência!$O$2,\"\")","v":""},{"$f":"IF(Jogo!P14=Conferência!$P$2,Conferência!$P$2,\"\")","v":""},{"$f":"IF(Jogo!Q14=Conferência!$Q$2,Conferência!$Q$2,\"\")","v":""},""]
[{"$f":"IF(Jogo!A15=Conferência!$A$2,Conferência!$A$2,\"\")","v":""},{"$f":"IF(Jogo!B15=Conferência!$B$2,Conferência!$B$2,\"\")","v":"QUARTA-FEIRA"},{"$f":"IF(Jogo!C15=Conferência!$C$2,Conferência!$C$2,\"\")","v":""},{"$f":"IF(Jogo!D15=Conferência!$D$2,Conferência!$D$2,\"\")","v":""},{"$f":"IF(Jogo!E15=Conferência!$E$2,Conferência!$E$2,\"\")","v":""},{"$f":"IF(Jogo!F15=Conferência!$F$2,Conferência!$F$2,\"\")","v":""},{"$f":"IF(Jogo!G15=Conferência!$G$2,Conferência!$G$2,\"\")","v":""},{"$f":"IF(Jogo!H15=Conferência!$H$2,Conferência!$H$2,\"\")","v":""},{"$f":"IF(Jogo!I15=Conferência!$I$2,Conferência!$I$2,\"\")","v":""},{"$f":"IF(Jogo!J15=Conferência!$J$2,Conferência!$J$2,\"\")","v":""},{"$f":"IF(Jogo!K15=Conferência!$K$2,Conferência!$K$2,\"\")","v":""},{"$f":"IF(Jogo!L15=Conferência!$L$2,Conferência!$L$2,\"\")","v":""},{"$f":"IF(Jogo!M15=Conferência!$M$2,Conferência!$M$2,\"\")","v":""},{"$f":"IF(Jogo!N15=Conferência!$N$2,Conferência!$N$2,\"\")","v":""},{"$f":"IF(Jogo!O15=Conferência!$O$2,Conferência!$O$2,\"\")","v":""},{"$f":"IF(Jogo!P15=Conferência!$P$2,Conferência!$P$2,\"\")","v":""},{"$f":"IF(Jogo!Q15=Conferência!$Q$2,Conferência!$Q$2,\"\")","v":""},""]
[{"$f":"IF(Jogo!A16=Conferência!$A$2,Conferência!$A$2,\"\")","v":""},{"$f":"IF(Jogo!B16=Conferência!$B$2,Conferência!$B$2,\"\")","v":"QUARTA-FEIRA"},{"$f":"IF(Jogo!C16=Conferência!$C$2,Conferência!$C$2,\"\")","v":""},{"$f":"IF(Jogo!D16=Conferência!$D$2,Conferência!$D$2,\"\")","v":3},{"$f":"IF(Jogo!E16=Conferência!$E$2,Conferência!$E$2,\"\")","v":""},{"$f":"IF(Jogo!F16=Conferência!$F$2,Conferência!$F$2,\"\")","v":""},{"$f":"IF(Jogo!G16=Conferência!$G$2,Conferência!$G$2,\"\")","v":""},{"$f":"IF(Jogo!H16=Conferência!$H$2,Conferência!$H$2,\"\")","v":""},{"$f":"IF(Jogo!I16=Conferência!$I$2,Conferência!$I$2,\"\")","v":""},{"$f":"IF(Jogo!J16=Conferência!$J$2,Conferência!$J$2,\"\")","v":""},{"$f":"IF(Jogo!K16=Conferência!$K$2,Conferência!$K$2,\"\")","v":""},{"$f":"IF(Jogo!L16=Conferência!$L$2,Conferência!$L$2,\"\")","v":""},{"$f":"IF(Jogo!M16=Conferência!$M$2,Conferência!$M$2,\"\")","v":""},{"$f":"IF(Jogo!N16=Conferência!$N$2,Conferência!$N$2,\"\")","v":""},{"$f":"IF(Jogo!O16=Conferência!$O$2,Conferência!$O$2,\"\")","v":""},{"$f":"IF(Jogo!P16=Conferência!$P$2,Conferência!$P$2,\"\")","v":""},{"$f":"IF(Jogo!Q16=Conferência!$Q$2,Conferência!$Q$2,\"\")","v":""},""]
[{"$f":"IF(Jogo!A17=Conferência!$A$2,Conferência!$A$2,\"\")","v":744},{"$f":"IF(Jogo!B17=Conferência!$B$2,Conferência!$B$2,\"\")","v":"QUARTA-FEIRA"},{"$f":"IF(Jogo!C17=Conferência!$C$2,Conferência!$C$2,\"\")","v":1},{"$f":"IF(Jogo!D17=Conferência!$D$2,Conferência!$D$2,\"\")","v":3},{"$f":"IF(Jogo!E17=Conferência!$E$2,Conferência!$E$2,\"\")","v":4},{"$f":"IF(Jogo!F17=Conferência!$F$2,Conferência!$F$2,\"\")","v":6},{"$f":"IF(Jogo!G17=Conferência!$G$2,Conferência!$G$2,\"\")","v":7},{"$f":"IF(Jogo!H17=Conferência!$H$2,Conferência!$H$2,\"\")","v":9},{"$f":"IF(Jogo!I17=Conferência!$I$2,Conferência!$I$2,\"\")","v":10},{"$f":"IF(Jogo!J17=Conferência!$J$2,Conferência!$J$2,\"\")","v":11},{"$f":"IF(Jogo!K17=Conferência!$K$2,Conferência!$K$2,\"\")","v":12},{"$f":"IF(Jogo!L17=Conferência!$L$2,Conferência!$L$2,\"\")","v":13},{"$f":"IF(Jogo!M17=Conferência!$M$2,Conferência!$M$2,\"\")","v":15},{"$f":"IF(Jogo!N17=Conferência!$N$2,Conferência!$N$2,\"\")","v":16},{"$f":"IF(Jogo!O17=Conferência!$O$2,Conferência!$O$2,\"\")","v":19},{"$f":"IF(Jogo!P17=Conferência!$P$2,Conferência!$P$2,\"\")","v":23},{"$f":"IF(Jogo!Q17=Conferência!$Q$2,Conferência!$Q$2,\"\")","v":24},{"$f":"IF(A17=\"\",\"\",\"OK\")","v":"OK"}]
[{"$f":"IF(Jogo!A18=Conferência!$A$2,Conferência!$A$2,\"\")","v":""},{"$f":"IF(Jogo!B18=Conferência!$B$2,Conferência!$B$2,\"\")","v":"QUARTA-FEIRA"},{"$f":"IF(Jogo!C18=Conferência!$C$2,Conferência!$C$2,\"\")","v":1},{"$f":"IF(Jogo!D18=Conferência!$D$2,Conferência!$D$2,\"\")","v":""},{"$f":"IF(Jogo!E18=Conferência!$E$2,Conferência!$E$2,\"\")","v":""},{"$f":"IF(Jogo!F18=Conferência!$F$2,Conferência!$F$2,\"\")","v":""},{"$f":"IF(Jogo!G18=Conferência!$G$2,Conferência!$G$2,\"\")","v":""},{"$f":"IF(Jogo!H18=Conferência!$H$2,Conferência!$H$2,\"\")","v":""},{"$f":"IF(Jogo!I18=Conferência!$I$2,Conferência!$I$2,\"\")","v":10},{"$f":"IF(Jogo!J18=Conferência!$J$2,Conferência!$J$2,\"\")","v":""},{"$f":"IF(Jogo!K18=Conferência!$K$2,Conferência!$K$2,\"\")","v":""},{"$f":"IF(Jogo!L18=Conferência!$L$2,Conferência!$L$2,\"\")","v":""},{"$f":"IF(Jogo!M18=Conferência!$M$2,Conferência!$M$2,\"\")","v":""},{"$f":"IF(Jogo!N18=Conferência!$N$2,Conferência!$N$2,\"\")","v":""},{"$f":"IF(Jogo!O18=Conferência!$O$2,Conferência!$O$2,\"\")","v":""},{"$f":"IF(Jogo!P18=Conferência!$P$2,Conferência!$P$2,\"\")","v":23},{"$f":"IF(Jogo!Q18=Conferência!$Q$2,Conferência!$Q$2,\"\")","v":24},{"$f":"IF(A18=\"\",\"\",\"OK\")","v":""}]
[{"$f":"IF(Jogo!A19=Conferência!$A$2,Conferência!$A$2,\"\")","v":""},{"$f":"IF(Jogo!B19=Conferência!$B$2,Conferência!$B$2,\"\")","v":"QUARTA-FEIRA"},{"$f":"IF(Jogo!C19=Conferência!$C$2,Conferência!$C$2,\"\")","v":""},{"$f":"IF(Jogo!D19=Conferência!$D$2,Conferência!$D$2,\"\")","v":3},{"$f":"IF(Jogo!E19=Conferência!$E$2,Conferência!$E$2,\"\")","v":4},{"$f":"IF(Jogo!F19=Conferência!$F$2,Conferência!$F$2,\"\")","v":""},{"$f":"IF(Jogo!G19=Conferência!$G$2,Conferência!$G$2,\"\")","v":7},{"$f":"IF(Jogo!H19=Conferência!$H$2,Conferência!$H$2,\"\")","v":9},{"$f":"IF(Jogo!I19=Conferência!$I$2,Conferência!$I$2,\"\")","v":10},{"$f":"IF(Jogo!J19=Conferência!$J$2,Conferência!$J$2,\"\")","v":11},{"$f":"IF(Jogo!K19=Conferência!$K$2,Conferência!$K$2,\"\")","v":""},{"$f":"IF(Jogo!L19=Conferência!$L$2,Conferência!$L$2,\"\")","v":""},{"$f":"IF(Jogo!M19=Conferência!$M$2,Conferência!$M$2,\"\")","v":""},{"$f":"IF(Jogo!N19=Conferência!$N$2,Conferência!$N$2,\"\")","v":""},{"$f":"IF(Jogo!O19=Conferência!$O$2,Conferência!$O$2,\"\")","v":""},{"$f":"IF(Jogo!P19=Conferência!$P$2,Conferência!$P$2,\"\")","v":""},{"$f":"IF(Jogo!Q19=Conferência!$Q$2,Conferência!$Q$2,\"\")","v":""},""]
[{"$f":"IF(Jogo!A20=Conferência!$A$2,Conferência!$A$2,\"\")","v":""},{"$f":"IF(Jogo!B20=Conferência!$B$2,Conferência!$B$2,\"\")","v":"QUARTA-FEIRA"},{"$f":"IF(Jogo!C20=Conferência!$C$2,Conferência!$C$2,\"\")","v":1},{"$f":"IF(Jogo!D20=Conferência!$D$2,Conferência!$D$2,\"\")","v":3},{"$f":"IF(Jogo!E20=Conferência!$E$2,Conferência!$E$2,\"\")","v":4},{"$f":"IF(Jogo!F20=Conferência!$F$2,Conferência!$F$2,\"\")","v":""},{"$f":"IF(Jogo!G20=Conferência!$G$2,Conferência!$G$2,\"\")","v":""},{"$f":"IF(Jogo!H20=Conferência!$H$2,Conferência!$H$2,\"\")","v":""},{"$f":"IF(Jogo!I20=Conferência!$I$2,Conferência!$I$2,\"\")","v":""},{"$f":"IF(Jogo!J20=Conferência!$J$2,Conferência!$J$2,\"\")","v":11},{"$f":"IF(Jogo!K20=Conferência!$K$2,Conferência!$K$2,\"\")","v":""},{"$f":"IF(Jogo!L20=Conferência!$L$2,Conferência!$L$2,\"\")","v":""},{"$f":"IF(Jogo!M20=Conferência!$M$2,Conferência!$M$2,\"\")","v":""},{"$f":"IF(Jogo!N20=Conferência!$N$2,Conferência!$N$2,\"\")","v":""},{"$f":"IF(Jogo!O20=Conferência!$O$2,Conferência!$O$2,\"\")","v":""},{"$f":"IF(Jogo!P20=Conferência!$P$2,Conferência!$P$2,\"\")","v":""},{"$f":"IF(Jogo!Q20=Conferência!$Q$2,Conferência!$Q$2,\"\")","v":""},""]
[{"$f":"IF(Jogo!A21=Conferência!$A$2,Conferência!$A$2,\"\")","v":""},{"$f":"IF(Jogo!B21=Conferência!$B$2,Conferência!$B$2,\"\")","v":"QUARTA-FEIRA"},{"$f":"IF(Jogo!C21=Conferência!$C$2,Conferência!$C$2,\"\")","v":""},{"$f":"IF(Jogo!D21=Conferência!$D$2,Conferência!$D$2,\"\")","v":""},{"$f":"IF(Jogo!E21=Conferência!$E$2,Conferência!$E$2,\"\")","v":""},{"$f":"IF(Jogo!F21=Conferência!$F$2,Conferência!$F$2,\"\")","v":""},{"$f":"IF(Jogo!G21=Conferência!$G$2,Conferência!$G$2,\"\")","v":""},{"$f":"IF(Jogo!H21=Conferência!$H$2,Conferência!$H$2,\"\")","v":""},{"$f":"IF(Jogo!I21=Conferência!$I$2,Conferência!$I$2,\"\")","v":""},{"$f":"IF(Jogo!J21=Conferência!$J$2,Conferência!$J$2,\"\")","v":""},{"$f":"IF(Jogo!K21=Conferência!$K$2,Conferência!$K$2,\"\")","v":""},{"$f":"IF(Jogo!L21=Conferência!$L$2,Conferência!$L$2,\"\")","v":""},{"$f":"IF(Jogo!M21=Conferência!$M$2,Conferência!$M$2,\"\")","v":""},{"$f":"IF(Jogo!N21=Conferência!$N$2,Conferência!$N$2,\"\")","v":""},{"$f":"IF(Jogo!O21=Conferência!$O$2,Conferência!$O$2,\"\")","v":""},{"$f":"IF(Jogo!P21=Conferência!$P$2,Conferência!$P$2,\"\")","v":23},{"$f":"IF(Jogo!Q21=Conferência!$Q$2,Conferência!$Q$2,\"\")","v":""},""]
[{"$f":"IF(Jogo!A22=Conferência!$A$2,Conferência!$A$2,\"\")","v":""},{"$f":"IF(Jogo!B22=Conferência!$B$2,Conferência!$B$2,\"\")","v":"QUARTA-FEIRA"},{"$f":"IF(Jogo!C22=Conferência!$C$2,Conferência!$C$2,\"\")","v":""},{"$f":"IF(Jogo!D22=Conferência!$D$2,Conferência!$D$2,\"\")","v":""},{"$f":"IF(Jogo!E22=Conferência!$E$2,Conferência!$E$2,\"\")","v":""},{"$f":"IF(Jogo!F22=Conferência!$F$2,Conferência!$F$2,\"\")","v":""},{"$f":"IF(Jogo!G22=Conferência!$G$2,Conferência!$G$2,\"\")","v":""},{"$f":"IF(Jogo!H22=Conferência!$H$2,Conferência!$H$2,\"\")","v":""},{"$f":"IF(Jogo!I22=Conferência!$I$2,Conferência!$I$2,\"\")","v":""},{"$f":"IF(Jogo!J22=Conferência!$J$2,Conferência!$J$2,\"\")","v":""},{"$f":"IF(Jogo!K22=Conferência!$K$2,Conferência!$K$2,\"\")","v":""},{"$f":"IF(Jogo!L22=Conferência!$L$2,Conferência!$L$2,\"\")","v":""},{"$f":"IF(Jogo!M22=Conferência!$M$2,Conferência!$M$2,\"\")","v":""},{"$f":"IF(Jogo!N22=Conferência!$N$2,Conferência!$N$2,\"\")","v":""},{"$f":"IF(Jogo!O22=Conferência!$O$2,Conferência!$O$2,\"\")","v":""},{"$f":"IF(Jogo!P22=Conferência!$P$2,Conferência!$P$2,\"\")","v":""},{"$f":"IF(Jogo!Q22=Conferência!$Q$2,Conferência!$Q$2,\"\")","v":""},""]
[{"$f":"IF(Jogo!A23=Conferência!$A$2,Conferência!$A$2,\"\")","v":""},{"$f":"IF(Jogo!B23=Conferência!$B$2,Conferência!$B$2,\"\")","v":"QUARTA-FEIRA"},{"$f":"IF(Jogo!C23=Conferência!$C$2,Conferência!$C$2,\"\")","v":1},{"$f":"IF(Jogo!D23=Conferência!$D$2,Conferência!$D$2,\"\")","v":""},{"$f":"IF(Jogo!E23=Conferência!$E$2,Conferência!$E$2,\"\")","v":""},{"$f":"IF(Jogo!F23=Conferência!$F$2,Conferência!$F$2,\"\")","v":""},{"$f":"IF(Jogo!G23=Conferência!$G$2,Conferência!$G$2,\"\")","v":""},{"$f":"IF(Jogo!H23=Conferência!$H$2,Conferência!$H$2,\"\")","v":""},{"$f":"IF(Jogo!I23=Conferência!$I$2,Conferência!$I$2,\"\")","v":""},{"$f":"IF(Jogo!J23=Conferência!$J$2,Conferência!$J$2,\"\")","v":""},{"$f":"IF(Jogo!K23=Conferência!$K$2,Conferência!$K$2,\"\")","v":""},{"$f":"IF(Jogo!L23=Conferência!$L$2,Conferência!$L$2,\"\")","v":""},{"$f":"IF(Jogo!M23=Conferência!$M$2,Conferência!$M$2,\"\")","v":""},{"$f":"IF(Jogo!N23=Conferência!$N$2,Conferência!$N$2,\"\")","v":""},{"$f":"IF(Jogo!O23=Conferência!$O$2,Conferência!$O$2,\"\")","v":""},{"$f":"IF(Jogo!P23=Conferência!$P$2,Conferência!$P$2,\"\")","v":""},{"$f":"IF(Jogo!Q23=Conferência!$Q$2,Conferência!$Q$2,\"\")","v":""},""]
[{"$f":"IF(Jogo!A24=Conferência!$A$2,Conferência!$A$2,\"\")","v":""},{"$f":"IF(Jogo!B24=Conferência!$B$2,Conferência!$B$2,\"\")","v":"QUARTA-FEIRA"},{"$f":"IF(Jogo!C24=Conferência!$C$2,Conferência!$C$2,\"\")","v":1},{"$f":"IF(Jogo!D24=Conferência!$D$2,Conferência!$D$2,\"\")","v":""},{"$f":"IF(Jogo!E24=Conferência!$E$2,Conferência!$E$2,\"\")","v":""},{"$f":"IF(Jogo!F24=Conferência!$F$2,Conferência!$F$2,\"\")","v":""},{"$f":"IF(Jogo!G24=Conferência!$G$2,Conferência!$G$2,\"\")","v":""},{"$f":"IF(Jogo!H24=Conferência!$H$2,Conferência!$H$2,\"\")","v":9},{"$f":"IF(Jogo!I24=Conferência!$I$2,Conferência!$I$2,\"\")","v":10},{"$f":"IF(Jogo!J24=Conferência!$J$2,Conferência!$J$2,\"\")","v":""},{"$f":"IF(Jogo!K24=Conferência!$K$2,Conferência!$K$2,\"\")","v":""},{"$f":"IF(Jogo!L24=Conferência!$L$2,Conferência!$L$2,\"\")","v":""},{"$f":"IF(Jogo!M24=Conferência!$M$2,Conferência!$M$2,\"\")","v":""},{"$f":"IF(Jogo!N24=Conferência!$N$2,Conferência!$N$2,\"\")","v":""},{"$f":"IF(Jogo!O24=Conferência!$O$2,Conferência!$O$2,\"\")","v":""},{"$f":"IF(Jogo!P24=Conferência!$P$2,Conferência!$P$2,\"\")","v":""},{"$f":"IF(Jogo!Q24=Conferência!$Q$2,Conferência!$Q$2,\"\")","v":""},""]
[{"$f":"IF(Jogo!A25=Conferência!$A$2,Conferência!$A$2,\"\")","v":""},{"$f":"IF(Jogo!B25=Conferência!$B$2,Conferência!$B$2,\"\")","v":"QUARTA-FEIRA"},{"$f":"IF(Jogo!C25=Conferência!$C$2,Conferência!$C$2,\"\")","v":1},{"$f":"IF(Jogo!D25=Conferência!$D$2,Conferência!$D$2,\"\")","v":3},{"$f":"IF(Jogo!E25=Conferência!$E$2,Conferência!$E$2,\"\")","v":""},{"$f":"IF(Jogo!F25=Conferência!$F$2,Conferência!$F$2,\"\")","v":6},{"$f":"IF(Jogo!G25=Conferência!$G$2,Conferência!$G$2,\"\")","v":""},{"$f":"IF(Jogo!H25=Conferência!$H$2,Conferência!$H$2,\"\")","v":""},{"$f":"IF(Jogo!I25=Conferência!$I$2,Conferência!$I$2,\"\")","v":""},{"$f":"IF(Jogo!J25=Conferência!$J$2,Conferência!$J$2,\"\")","v":""},{"$f":"IF(Jogo!K25=Conferência!$K$2,Conferência!$K$2,\"\")","v":""},{"$f":"IF(Jogo!L25=Conferência!$L$2,Conferência!$L$2,\"\")","v":""},{"$f":"IF(Jogo!M25=Conferência!$M$2,Conferência!$M$2,\"\")","v":""},{"$f":"IF(Jogo!N25=Conferência!$N$2,Conferência!$N$2,\"\")","v":""},{"$f":"IF(Jogo!O25=Conferência!$O$2,Conferência!$O$2,\"\")","v":""},{"$f":"IF(Jogo!P25=Conferência!$P$2,Conferência!$P$2,\"\")","v":""},{"$f":"IF(Jogo!Q25=Conferência!$Q$2,Conferência!$Q$2,\"\")","v":""},""]
[{"$f":"IF(Jogo!A26=Conferência!$A$2,Conferência!$A$2,\"\")","v":""},{"$f":"IF(Jogo!B26=Conferência!$B$2,Conferência!$B$2,\"\")","v":"QUARTA-FEIRA"},{"$f":"IF(Jogo!C26=Conferência!$C$2,Conferência!$C$2,\"\")","v":""},{"$f":"IF(Jogo!D26=Conferência!$D$2,Conferência!$D$2,\"\")","v":""},{"$f":"IF(Jogo!E26=Conferência!$E$2,Conferência!$E$2,\"\")","v":""},{"$f":"IF(Jogo!F26=Conferência!$F$2,Conferência!$F$2,\"\")","v":6},{"$f":"IF(Jogo!G26=Conferência!$G$2,Conferência!$G$2,\"\")","v":7},{"$f":"IF(Jogo!H26=Conferência!$H$2,Conferência!$H$2,\"\")","v":""},{"$f":"IF(Jogo!I26=Conferência!$I$2,Conferência!$I$2,\"\")","v":""},{"$f":"IF(Jogo!J26=Conferência!$J$2,Conferência!$J$2,\"\")","v":""},{"$f":"IF(Jogo!K26=Conferência!$K$2,Conferência!$K$2,\"\")","v":""},{"$f":"IF(Jogo!L26=Conferência!$L$2,Conferência!$L$2,\"\")","v":""},{"$f":"IF(Jogo!M26=Conferência!$M$2,Conferência!$M$2,\"\")","v":""},{"$f":"IF(Jogo!N26=Conferência!$N$2,Conferência!$N$2,\"\")","v":""},{"$f":"IF(Jogo!O26=Conferência!$O$2,Conferência!$O$2,\"\")","v":""},{"$f":"IF(Jogo!P26=Conferência!$P$2,Conferência!$P$2,\"\")","v":23},{"$f":"IF(Jogo!Q26=Conferência!$Q$2,Conferência!$Q$2,\"\")","v":""},""]
[{"$f":"IF(Jogo!A27=Conferência!$A$2,Conferência!$A$2,\"\")","v":""},{"$f":"IF(Jogo!B27=Conferência!$B$2,Conferência!$B$2,\"\")","v":"QUARTA-FEIRA"},{"$f":"IF(Jogo!C27=Conferência!$C$2,Conferência!$C$2,\"\")","v":1},{"$f":"IF(Jogo!D27=Conferência!$D$2,Conferência!$D$2,\"\")","v":3},{"$f":"IF(Jogo!E27=Conferência!$E$2,Conferência!$E$2,\"\")","v":4},{"$f":"IF(Jogo!F27=Conferência!$F$2,Conferência!$F$2,\"\")","v":""},{"$f":"IF(Jogo!G27=Conferência!$G$2,Conferência!$G$2,\"\")","v":""},{"$f":"IF(Jogo!H27=Conferência!$H$2,Conferência!$H$2,\"\")","v":""},{"$f":"IF(Jogo!I27=Conferência!$I$2,Conferência!$I$2,\"\")","v":""},{"$f":"IF(Jogo!J27=Conferência!$J$2,Conferência!$J$2,\"\")","v":11},{"$f":"IF(Jogo!K27=Conferência!$K$2,Conferência!$K$2,\"\")","v":12},{"$f":"IF(Jogo!L27=Conferência!$L$2,Conferência!$L$2,\"\")","v":""},{"$f":"IF(Jogo!M27=Conferência!$M$2,Conferência!$M$2,\"\")","v":15},{"$f":"IF(Jogo!N27=Conferência!$N$2,Conferência!$N$2,\"\")","v":""},{"$f":"IF(Jogo!O27=Conferência!$O$2,Conferência!$O$2,\"\")","v":19},{"$f":"IF(Jogo!P27=Conferência!$P$2,Conferência!$P$2,\"\")","v":""},{"$f":"IF(Jogo!Q27=Conferência!$Q$2,Conferência!$Q$2,\"\")","v":""},""]
[{"$f":"IF(Jogo!A28=Conferência!$A$2,Conferência!$A$2,\"\")","v":""},{"$f":"IF(Jogo!B28=Conferência!$B$2,Conferência!$B$2,\"\")","v":"QUARTA-FEIRA"},{"$f":"IF(Jogo!C28=Conferência!$C$2,Conferência!$C$2,\"\")","v":""},{"$f":"IF(Jogo!D28=Conferência!$D$2,Conferência!$D$2,\"\")","v":3},{"$f":"IF(Jogo!E28=Conferência!$E$2,Conferência!$E$2,\"\")","v":""},{"$f":"IF(Jogo!F28=Conferência!$F$2,Conferência!$F$2,\"\")","v":""},{"$f":"IF(Jogo!G28=Conferência!$G$2,Conferência!$G$2,\"\")","v":""},{"$f":"IF(Jogo!H28=Conferência!$H$2,Conferência!$H$2,\"\")","v":""},{"$f":"IF(Jogo!I28=Conferência!$I$2,Conferência!$I$2,\"\")","v":""},{"$f":"IF(Jogo!J28=Conferência!$J$2,Conferência!$J$2,\"\")","v":""},{"$f":"IF(Jogo!K28=Conferência!$K$2,Conferência!$K$2,\"\")","v":""},{"$f":"IF(Jogo!L28=Conferência!$L$2,Conferência!$L$2,\"\")","v":""},{"$f":"IF(Jogo!M28=Conferência!$M$2,Conferência!$M$2,\"\")","v":""},{"$f":"IF(Jogo!N28=Conferência!$N$2,Conferência!$N$2,\"\")","v":""},{"$f":"IF(Jogo!O28=Conferência!$O$2,Conferência!$O$2,\"\")","v":""},{"$f":"IF(Jogo!P28=Conferência!$P$2,Conferência!$P$2,\"\")","v":""},{"$f":"IF(Jogo!Q28=Conferência!$Q$2,Conferência!$Q$2,\"\")","v":""},""]
[{"$f":"IF(Jogo!A29=Conferência!$A$2,Conferência!$A$2,\"\")","v":""},{"$f":"IF(Jogo!B29=Conferência!$B$2,Conferência!$B$2,\"\")","v":"QUARTA-FEIRA"},{"$f":"IF(Jogo!C29=Conferência!$C$2,Conferência!$C$2,\"\")","v":""},{"$f":"IF(Jogo!D29=Conferência!$D$2,Conferência!$D$2,\"\")","v":""},{"$f":"IF(Jogo!E29=Conferência!$E$2,Conferência!$E$2,\"\")","v":""},{"$f":"IF(Jogo!F29=Conferência!$F$2,Conferência!$F$2,\"\")","v":""},{"$f":"IF(Jogo!G29=Conferência!$G$2,Conferência!$G$2,\"\")","v":""},{"$f":"IF(Jogo!H29=Conferência!$H$2,Conferência!$H$2,\"\")","v":""},{"$f":"IF(Jogo!I29=Conferência!$I$2,Conferência!$I$2,\"\")","v":""},{"$f":"IF(Jogo!J29=Conferência!$J$2,Conferência!$J$2,\"\")","v":""},{"$f":"IF(Jogo!K29=Conferência!$K$2,Conferência!$K$2,\"\")","v":""},{"$f":"IF(Jogo!L29=Conferência!$L$2,Conferência!$L$2,\"\")","v":""},{"$f":"IF(Jogo!M29=Conferência!$M$2,Conferência!$M$2,\"\")","v":""},{"$f":"IF(Jogo!N29=Conferência!$N$2,Conferência!$N$2,\"\")","v":""},{"$f":"IF(Jogo!O29=Conferência!$O$2,Conferência!$O$2,\"\")","v":""},{"$f":"IF(Jogo!P29=Conferência!$P$2,Conferência!$P$2,\"\")","v":""},{"$f":"IF(Jogo!Q29=Conferência!$Q$2,Conferência!$Q$2,\"\")","v":""},""]
[{"$f":"IF(Jogo!A30=Conferência!$A$2,Conferência!$A$2,\"\")","v":""},{"$f":"IF(Jogo!B30=Conferência!$B$2,Conferência!$B$2,\"\")","v":"QUARTA-FEIRA"},{"$f":"IF(Jogo!C30=Conferência!$C$2,Conferência!$C$2,\"\")","v":1},{"$f":"IF(Jogo!D30=Conferência!$D$2,Conferência!$D$2,\"\")","v":""},{"$f":"IF(Jogo!E30=Conferência!$E$2,Conferência!$E$2,\"\")","v":""},{"$f":"IF(Jogo!F30=Conferência!$F$2,Conferência!$F$2,\"\")","v":6},{"$f":"IF(Jogo!G30=Conferência!$G$2,Conferência!$G$2,\"\")","v":7},{"$f":"IF(Jogo!H30=Conferência!$H$2,Conferência!$H$2,\"\")","v":""},{"$f":"IF(Jogo!I30=Conferência!$I$2,Conferência!$I$2,\"\")","v":""},{"$f":"IF(Jogo!J30=Conferência!$J$2,Conferência!$J$2,\"\")","v":""},{"$f":"IF(Jogo!K30=Conferência!$K$2,Conferência!$K$2,\"\")","v":""},{"$f":"IF(Jogo!L30=Conferência!$L$2,Conferência!$L$2,\"\")","v":""},{"$f":"IF(Jogo!M30=Conferência!$M$2,Conferência!$M$2,\"\")","v":""},{"$f":"IF(Jogo!N30=Conferência!$N$2,Conferência!$N$2,\"\")","v":""},{"$f":"IF(Jogo!O30=Conferência!$O$2,Conferência!$O$2,\"\")","v":""},{"$f":"IF(Jogo!P30=Conferência!$P$2,Conferência!$P$2,\"\")","v":""},{"$f":"IF(Jogo!Q30=Conferência!$Q$2,Conferência!$Q$2,\"\")","v":24},""]
[{"$f":"IF(Jogo!A31=Conferência!$A$2,Conferência!$A$2,\"\")","v":""},{"$f":"IF(Jogo!B31=Conferência!$B$2,Conferência!$B$2,\"\")","v":"QUARTA-FEIRA"},{"$f":"IF(Jogo!C31=Conferência!$C$2,Conferência!$C$2,\"\")","v":""},{"$f":"IF(Jogo!D31=Conferência!$D$2,Conferência!$D$2,\"\")","v":""},{"$f":"IF(Jogo!E31=Conferência!$E$2,Conferência!$E$2,\"\")","v":""},{"$f":"IF(Jogo!F31=Conferência!$F$2,Conferência!$F$2,\"\")","v":6},{"$f":"IF(Jogo!G31=Conferência!$G$2,Conferência!$G$2,\"\")","v":""},{"$f":"IF(Jogo!H31=Conferência!$H$2,Conferência!$H$2,\"\")","v":""},{"$f":"IF(Jogo!I31=Conferência!$I$2,Conferência!$I$2,\"\")","v":""},{"$f":"IF(Jogo!J31=Conferência!$J$2,Conferência!$J$2,\"\")","v":""},{"$f":"IF(Jogo!K31=Conferência!$K$2,Conferência!$K$2,\"\")","v":""},{"$f":"IF(Jogo!L31=Conferência!$L$2,Conferência!$L$2,\"\")","v":""},{"$f":"IF(Jogo!M31=Conferência!$M$2,Conferência!$M$2,\"\")","v":""},{"$f":"IF(Jogo!N31=Conferência!$N$2,Conferência!$N$2,\"\")","v":""},{"$f":"IF(Jogo!O31=Conferência!$O$2,Conferência!$O$2,\"\")","v":""},{"$f":"IF(Jogo!P31=Conferência!$P$2,Conferência!$P$2,\"\")","v":""},{"$f":"IF(Jogo!Q31=Conferência!$Q$2,Conferência!$Q$2,\"\")","v":""},""]
[{"$f":"IF(Jogo!A32=Conferência!$A$2,Conferência!$A$2,\"\")","v":""},{"$f":"IF(Jogo!B32=Conferência!$B$2,Conferência!$B$2,\"\")","v":"QUARTA-FEIRA"},{"$f":"IF(Jogo!C32=Conferência!$C$2,Conferência!$C$2,\"\")","v":""},{"$f":"IF(Jogo!D32=Conferência!$D$2,Conferência!$D$2,\"\")","v":3},{"$f":"IF(Jogo!E32=Conferência!$E$2,Conferência!$E$2,\"\")","v":4},{"$f":"IF(Jogo!F32=Conferência!$F$2,Conferência!$F$2,\"\")","v":""},{"$f":"IF(Jogo!G32=Conferência!$G$2,Conferência!$G$2,\"\")","v":""},{"$f":"IF(Jogo!H32=Conferência!$H$2,Conferência!$H$2,\"\")","v":""},{"$f":"IF(Jogo!I32=Conferência!$I$2,Conferência!$I$2,\"\")","v":""},{"$f":"IF(Jogo!J32=Conferência!$J$2,Conferência!$J$2,\"\")","v":""},{"$f":"IF(Jogo!K32=Conferência!$K$2,Conferência!$K$2,\"\")","v":""},{"$f":"IF(Jogo!L32=Conferência!$L$2,Conferência!$L$2,\"\")","v":""},{"$f":"IF(Jogo!M32=Conferência!$M$2,Conferência!$M$2,\"\")","v":""},{"$f":"IF(Jogo!N32=Conferência!$N$2,Conferência!$N$2,\"\")","v":""},{"$f":"IF(Jogo!O32=Conferência!$O$2,Conferência!$O$2,\"\")","v":""},{"$f":"IF(Jogo!P32=Conferência!$P$2,Conferência!$P$2,\"\")","v":""},{"$f":"IF(Jogo!Q32=Conferência!$Q$2,Conferência!$Q$2,\"\")","v":24},""]
[{"$f":"IF(Jogo!A33=Conferência!$A$2,Conferência!$A$2,\"\")","v":""},{"$f":"IF(Jogo!B33=Conferência!$B$2,Conferência!$B$2,\"\")","v":"QUARTA-FEIRA"},{"$f":"IF(Jogo!C33=Conferência!$C$2,Conferência!$C$2,\"\")","v":1},{"$f":"IF(Jogo!D33=Conferência!$D$2,Conferência!$D$2,\"\")","v":""},{"$f":"IF(Jogo!E33=Conferência!$E$2,Conferência!$E$2,\"\")","v":""},{"$f":"IF(Jogo!F33=Conferência!$F$2,Conferência!$F$2,\"\")","v":6},{"$f":"IF(Jogo!G33=Conferência!$G$2,Conferência!$G$2,\"\")","v":""},{"$f":"IF(Jogo!H33=Conferência!$H$2,Conferência!$H$2,\"\")","v":9},{"$f":"IF(Jogo!I33=Conferência!$I$2,Conferência!$I$2,\"\")","v":10},{"$f":"IF(Jogo!J33=Conferência!$J$2,Conferência!$J$2,\"\")","v":""},{"$f":"IF(Jogo!K33=Conferência!$K$2,Conferência!$K$2,\"\")","v":""},{"$f":"IF(Jogo!L33=Conferência!$L$2,Conferência!$L$2,\"\")","v":""},{"$f":"IF(Jogo!M33=Conferência!$M$2,Conferência!$M$2,\"\")","v":""},{"$f":"IF(Jogo!N33=Conferência!$N$2,Conferência!$N$2,\"\")","v":""},{"$f":"IF(Jogo!O33=Conferência!$O$2,Conferência!$O$2,\"\")","v":""},{"$f":"IF(Jogo!P33=Conferência!$P$2,Conferência!$P$2,\"\")","v":23},{"$f":"IF(Jogo!Q33=Conferência!$Q$2,Conferência!$Q$2,\"\")","v":""},""]
[{"$f":"IF(Jogo!A34=Conferência!$A$2,Conferência!$A$2,\"\")","v":""},{"$f":"IF(Jogo!B34=Conferência!$B$2,Conferência!$B$2,\"\")","v":"QUARTA-FEIRA"},{"$f":"IF(Jogo!C34=Conferência!$C$2,Conferência!$C$2,\"\")","v":1},{"$f":"IF(Jogo!D34=Conferência!$D$2,Conferência!$D$2,\"\")","v":""},{"$f":"IF(Jogo!E34=Conferência!$E$2,Conferência!$E$2,\"\")","v":""},{"$f":"IF(Jogo!F34=Conferência!$F$2,Conferência!$F$2,\"\")","v":""},{"$f":"IF(Jogo!G34=Conferência!$G$2,Conferência!$G$2,\"\")","v":""},{"$f":"IF(Jogo!H34=Conferência!$H$2,Conferência!$H$2,\"\")","v":""},{"$f":"IF(Jogo!I34=Conferência!$I$2,Conferência!$I$2,\"\")","v":""},{"$f":"IF(Jogo!J34=Conferência!$J$2,Conferência!$J$2,\"\")","v":""},{"$f":"IF(Jogo!K34=Conferência!$K$2,Conferência!$K$2,\"\")","v":""},{"$f":"IF(Jogo!L34=Conferência!$L$2,Conferência!$L$2,\"\")","v":""},{"$f":"IF(Jogo!M34=Conferência!$M$2,Conferência!$M$2,\"\")","v":""},{"$f":"IF(Jogo!N34=Conferência!$N$2,Conferência!$N$2,\"\")","v":16},{"$f":"IF(Jogo!O34=Conferência!$O$2,Conferência!$O$2,\"\")","v":""},{"$f":"IF(Jogo!P34=Conferência!$P$2,Conferência!$P$2,\"\")","v":""},{"$f":"IF(Jogo!Q34=Conferência!$Q$2,Conferência!$Q$2,\"\")","v":24},""]
[{"$f":"IF(Jogo!A35=Conferência!$A$2,Conferência!$A$2,\"\")","v":""},{"$f":"IF(Jogo!B35=Conferência!$B$2,Conferência!$B$2,\"\")","v":"QUARTA-FEIRA"},{"$f":"IF(Jogo!C35=Conferência!$C$2,Conferência!$C$2,\"\")","v":1},{"$f":"IF(Jogo!D35=Conferência!$D$2,Conferência!$D$2,\"\")","v":3},{"$f":"IF(Jogo!E35=Conferência!$E$2,Conferência!$E$2,\"\")","v":""},{"$f":"IF(Jogo!F35=Conferência!$F$2,Conferência!$F$2,\"\")","v":6},{"$f":"IF(Jogo!G35=Conferência!$G$2,Conferência!$G$2,\"\")","v":""},{"$f":"IF(Jogo!H35=Conferência!$H$2,Conferência!$H$2,\"\")","v":""},{"$f":"IF(Jogo!I35=Conferência!$I$2,Conferência!$I$2,\"\")","v":""},{"$f":"IF(Jogo!J35=Conferência!$J$2,Conferência!$J$2,\"\")","v":""},{"$f":"IF(Jogo!K35=Conferência!$K$2,Conferência!$K$2,\"\")","v":""},{"$f":"IF(Jogo!L35=Conferência!$L$2,Conferência!$L$2,\"\")","v":""},{"$f":"IF(Jogo!M35=Conferência!$M$2,Conferência!$M$2,\"\")","v":""},{"$f":"IF(Jogo!N35=Conferência!$N$2,Conferência!$N$2,\"\")","v":""},{"$f":"IF(Jogo!O35=Conferência!$O$2,Conferência!$O$2,\"\")","v":""},{"$f":"IF(Jogo!P35=Conferência!$P$2,Conferência!$P$2,\"\")","v":23},{"$f":"IF(Jogo!Q35=Conferência!$Q$2,Conferência!$Q$2,\"\")","v":24},""]
[{"$f":"IF(Jogo!A36=Conferência!$A$2,Conferência!$A$2,\"\")","v":""},{"$f":"IF(Jogo!B36=Conferência!$B$2,Conferência!$B$2,\"\")","v":"QUARTA-FEIRA"},{"$f":"IF(Jogo!C36=Conferência!$C$2,Conferência!$C$2,\"\")","v":1},{"$f":"IF(Jogo!D36=Conferência!$D$2,Conferência!$D$2,\"\")","v":3},{"$f":"IF(Jogo!E36=Conferência!$E$2,Conferência!$E$2,\"\")","v":4},{"$f":"IF(Jogo!F36=Conferência!$F$2,Conferência!$F$2,\"\")","v":""},{"$f":"IF(Jogo!G36=Conferência!$G$2,Conferência!$G$2,\"\")","v":""},{"$f":"IF(Jogo!H36=Conferência!$H$2,Conferência!$H$2,\"\")","v":9},{"$f":"IF(Jogo!I36=Conferência!$I$2,Conferência!$I$2,\"\")","v":10},{"$f":"IF(Jogo!J36=Conferência!$J$2,Conferência!$J$2,\"\")","v":""},{"$f":"IF(Jogo!K36=Conferência!$K$2,Conferência!$K$2,\"\")","v":""},{"$f":"IF(Jogo!L36=Conferência!$L$2,Conferência!$L$2,\"\")","v":""},{"$f":"IF(Jogo!M36=Conferência!$M$2,Conferência!$M$2,\"\")","v":""},{"$f":"IF(Jogo!N36=Conferência!$N$2,Conferência!$N$2,\"\")","v":""},{"$f":"IF(Jogo!O36=Conferência!$O$2,Conferência!$O$2,\"\")","v":""},{"$f":"IF(Jogo!P36=Conferência!$P$2,Conferência!$P$2,\"\")","v":""},{"$f":"IF(Jogo!Q36=Conferência!$Q$2,Conferência!$Q$2,\"\")","v":""},""]
[{"$f":"IF(Jogo!A37=Conferência!$A$2,Conferência!$A$2,\"\")","v":""},{"$f":"IF(Jogo!B37=Conferência!$B$2,Conferência!$B$2,\"\")","v":"QUARTA-FEIRA"},{"$f":"IF(Jogo!C37=Conferência!$C$2,Conferência!$C$2,\"\")","v":1},{"$f":"IF(Jogo!D37=Conferência!$D$2,Conferência!$D$2,\"\")","v":""},{"$f":"IF(Jogo!E37=Conferência!$E$2,Conferência!$E$2,\"\")","v":4},{"$f":"IF(Jogo!F37=Conferência!$F$2,Conferência!$F$2,\"\")","v":6},{"$f":"IF(Jogo!G37=Conferência!$G$2,Conferência!$G$2,\"\")","v":7},{"$f":"IF(Jogo!H37=Conferência!$H$2,Conferência!$H$2,\"\")","v":9},{"$f":"IF(Jogo!I37=Conferência!$I$2,Conferência!$I$2,\"\")","v":""},{"$f":"IF(Jogo!J37=Conferência!$J$2,Conferência!$J$2,\"\")","v":""},{"$f":"IF(Jogo!K37=Conferência!$K$2,Conferência!$K$2,\"\")","v":""},{"$f":"IF(Jogo!L37=Conferência!$L$2,Conferência!$L$2,\"\")","v":""},{"$f":"IF(Jogo!M37=Conferência!$M$2,Conferência!$M$2,\"\")","v":""},{"$f":"IF(Jogo!N37=Conferência!$N$2,Conferência!$N$2,\"\")","v":""},{"$f":"IF(Jogo!O37=Conferência!$O$2,Conferência!$O$2,\"\")","v":""},{"$f":"IF(Jogo!P37=Conferência!$P$2,Conferência!$P$2,\"\")","v":""},{"$f":"IF(Jogo!Q37=Conferência!$Q$2,Conferência!$Q$2,\"\")","v":""},""]
[{"$f":"IF(Jogo!A38=Conferência!$A$2,Conferência!$A$2,\"\")","v":""},{"$f":"IF(Jogo!B38=Conferência!$B$2,Conferência!$B$2,\"\")","v":"QUARTA-FEIRA"},{"$f":"IF(Jogo!C38=Conferência!$C$2,Conferência!$C$2,\"\")","v":""},{"$f":"IF(Jogo!D38=Conferência!$D$2,Conferência!$D$2,\"\")","v":""},{"$f":"IF(Jogo!E38=Conferência!$E$2,Conferência!$E$2,\"\")","v":""},{"$f":"IF(Jogo!F38=Conferência!$F$2,Conferência!$F$2,\"\")","v":""},{"$f":"IF(Jogo!G38=Conferência!$G$2,Conferência!$G$2,\"\")","v":""},{"$f":"IF(Jogo!H38=Conferência!$H$2,Conferência!$H$2,\"\")","v":""},{"$f":"IF(Jogo!I38=Conferência!$I$2,Conferência!$I$2,\"\")","v":""},{"$f":"IF(Jogo!J38=Conferência!$J$2,Conferência!$J$2,\"\")","v":""},{"$f":"IF(Jogo!K38=Conferência!$K$2,Conferência!$K$2,\"\")","v":""},{"$f":"IF(Jogo!L38=Conferência!$L$2,Conferência!$L$2,\"\")","v":""},{"$f":"IF(Jogo!M38=Conferência!$M$2,Conferência!$M$2,\"\")","v":""},{"$f":"IF(Jogo!N38=Conferência!$N$2,Conferência!$N$2,\"\")","v":""},{"$f":"IF(Jogo!O38=Conferência!$O$2,Conferência!$O$2,\"\")","v":""},{"$f":"IF(Jogo!P38=Conferência!$P$2,Conferência!$P$2,\"\")","v":""},{"$f":"IF(Jogo!Q38=Conferência!$Q$2,Conferência!$Q$2,\"\")","v":""},""]
[{"$f":"IF(Jogo!A39=Conferência!$A$2,Conferência!$A$2,\"\")","v":""},{"$f":"IF(Jogo!B39=Conferência!$B$2,Conferência!$B$2,\"\")","v":"QUARTA-FEIRA"},{"$f":"IF(Jogo!C39=Conferência!$C$2,Conferência!$C$2,\"\")","v":1},{"$f":"IF(Jogo!D39=Conferência!$D$2,Conferência!$D$2,\"\")","v":""},{"$f":"IF(Jogo!E39=Conferência!$E$2,Conferência!$E$2,\"\")","v":""},{"$f":"IF(Jogo!F39=Conferência!$F$2,Conferência!$F$2,\"\")","v":""},{"$f":"IF(Jogo!G39=Conferência!$G$2,Conferência!$G$2,\"\")","v":""},{"$f":"IF(Jogo!H39=Conferência!$H$2,Conferência!$H$2,\"\")","v":""},{"$f":"IF(Jogo!I39=Conferência!$I$2,Conferência!$I$2,\"\")","v":""},{"$f":"IF(Jogo!J39=Conferência!$J$2,Conferência!$J$2,\"\")","v":""},{"$f":"IF(Jogo!K39=Conferência!$K$2,Conferência!$K$2,\"\")","v":""},{"$f":"IF(Jogo!L39=Conferência!$L$2,Conferência!$L$2,\"\")","v":""},{"$f":"IF(Jogo!M39=Conferência!$M$2,Conferência!$M$2,\"\")","v":""},{"$f":"IF(Jogo!N39=Conferência!$N$2,Conferência!$N$2,\"\")","v":""},{"$f":"IF(Jogo!O39=Conferência!$O$2,Conferência!$O$2,\"\")","v":19},{"$f":"IF(Jogo!P39=Conferência!$P$2,Conferência!$P$2,\"\")","v":""},{"$f":"IF(Jogo!Q39=Conferência!$Q$2,Conferência!$Q$2,\"\")","v":""},""]
[{"$f":"IF(Jogo!A40=Conferência!$A$2,Conferência!$A$2,\"\")","v":""},{"$f":"IF(Jogo!B40=Conferência!$B$2,Conferência!$B$2,\"\")","v":"QUARTA-FEIRA"},{"$f":"IF(Jogo!C40=Conferência!$C$2,Conferência!$C$2,\"\")","v":""},{"$f":"IF(Jogo!D40=Conferência!$D$2,Conferência!$D$2,\"\")","v":""},{"$f":"IF(Jogo!E40=Conferência!$E$2,Conferência!$E$2,\"\")","v":""},{"$f":"IF(Jogo!F40=Conferência!$F$2,Conferência!$F$2,\"\")","v":""},{"$f":"IF(Jogo!G40=Conferência!$G$2,Conferência!$G$2,\"\")","v":""},{"$f":"IF(Jogo!H40=Conferência!$H$2,Conferência!$H$2,\"\")","v":""},{"$f":"IF(Jogo!I40=Conferência!$I$2,Conferência!$I$2,\"\")","v":""},{"$f":"IF(Jogo!J40=Conferência!$J$2,Conferência!$J$2,\"\")","v":""},{"$f":"IF(Jogo!K40=Conferência!$K$2,Conferência!$K$2,\"\")","v":""},{"$f":"IF(Jogo!L40=Conferência!$L$2,Conferência!$L$2,\"\")","v":""},{"$f":"IF(Jogo!M40=Conferência!$M$2,Conferência!$M$2,\"\")","v":""},{"$f":"IF(Jogo!N40=Conferência!$N$2,Conferência!$N$2,\"\")","v":""},{"$f":"IF(Jogo!O40=Conferência!$O$2,Conferência!$O$2,\"\")","v":""},{"$f":"IF(Jogo!P40=Conferência!$P$2,Conferência!$P$2,\"\")","v":23},{"$f":"IF(Jogo!Q40=Conferência!$Q$2,Conferência!$Q$2,\"\")","v":24},""]
[{"$f":"IF(Jogo!A41=Conferência!$A$2,Conferência!$A$2,\"\")","v":""},{"$f":"IF(Jogo!B41=Conferência!$B$2,Conferência!$B$2,\"\")","v":"QUARTA-FEIRA"},{"$f":"IF(Jogo!C41=Conferência!$C$2,Conferência!$C$2,\"\")","v":1},{"$f":"IF(Jogo!D41=Conferência!$D$2,Conferência!$D$2,\"\")","v":""},{"$f":"IF(Jogo!E41=Conferência!$E$2,Conferência!$E$2,\"\")","v":""},{"$f":"IF(Jogo!F41=Conferência!$F$2,Conferência!$F$2,\"\")","v":""},{"$f":"IF(Jogo!G41=Conferência!$G$2,Conferência!$G$2,\"\")","v":""},{"$f":"IF(Jogo!H41=Conferência!$H$2,Conferência!$H$2,\"\")","v":""},{"$f":"IF(Jogo!I41=Conferência!$I$2,Conferência!$I$2,\"\")","v":10},{"$f":"IF(Jogo!J41=Conferência!$J$2,Conferência!$J$2,\"\")","v":11},{"$f":"IF(Jogo!K41=Conferência!$K$2,Conferência!$K$2,\"\")","v":12},{"$f":"IF(Jogo!L41=Conferência!$L$2,Conferência!$L$2,\"\")","v":""},{"$f":"IF(Jogo!M41=Conferência!$M$2,Conferência!$M$2,\"\")","v":""},{"$f":"IF(Jogo!N41=Conferência!$N$2,Conferência!$N$2,\"\")","v":""},{"$f":"IF(Jogo!O41=Conferência!$O$2,Conferência!$O$2,\"\")","v":""},{"$f":"IF(Jogo!P41=Conferência!$P$2,Conferência!$P$2,\"\")","v":""},{"$f":"IF(Jogo!Q41=Conferência!$Q$2,Conferência!$Q$2,\"\")","v":""},""]
[{"$f":"IF(Jogo!A42=Conferência!$A$2,Conferência!$A$2,\"\")","v":""},{"$f":"IF(Jogo!B42=Conferência!$B$2,Conferência!$B$2,\"\")","v":"QUARTA-FEIRA"},{"$f":"IF(Jogo!C42=Conferência!$C$2,Conferência!$C$2,\"\")","v":1},{"$f":"IF(Jogo!D42=Conferência!$D$2,Conferência!$D$2,\"\")","v":""},{"$f":"IF(Jogo!E42=Conferência!$E$2,Conferência!$E$2,\"\")","v":""},{"$f":"IF(Jogo!F42=Conferência!$F$2,Conferência!$F$2,\"\")","v":""},{"$f":"IF(Jogo!G42=Conferência!$G$2,Conferência!$G$2,\"\")","v":""},{"$f":"IF(Jogo!H42=Conferência!$H$2,Conferência!$H$2,\"\")","v":""},{"$f":"IF(Jogo!I42=Conferência!$I$2,Conferência!$I$2,\"\")","v":""},{"$f":"IF(Jogo!J42=Conferência!$J$2,Conferência!$J$2,\"\")","v":""},{"$f":"IF(Jogo!K42=Conferência!$K$2,Conferência!$K$2,\"\")","v":""},{"$f":"IF(Jogo!L42=Conferência!$L$2,Conferência!$L$2,\"\")","v":13},{"$f":"IF(Jogo!M42=Conferência!$M$2,Conferência!$M$2,\"\")","v":15},{"$f":"IF(Jogo!N42=Conferência!$N$2,Conferência!$N$2,\"\")","v":16},{"$f":"IF(Jogo!O42=Conferência!$O$2,Conferência!$O$2,\"\")","v":""},{"$f":"IF(Jogo!P42=Conferência!$P$2,Conferência!$P$2,\"\")","v":23},{"$f":"IF(Jogo!Q42=Conferência!$Q$2,Conferência!$Q$2,\"\")","v":24},""]
[{"$f":"IF(Jogo!A43=Conferência!$A$2,Conferência!$A$2,\"\")","v":""},{"$f":"IF(Jogo!B43=Conferência!$B$2,Conferência!$B$2,\"\")","v":"QUARTA-FEIRA"},{"$f":"IF(Jogo!C43=Conferência!$C$2,Conferência!$C$2,\"\")","v":1},{"$f":"IF(Jogo!D43=Conferência!$D$2,Conferência!$D$2,\"\")","v":""},{"$f":"IF(Jogo!E43=Conferência!$E$2,Conferência!$E$2,\"\")","v":4},{"$f":"IF(Jogo!F43=Conferência!$F$2,Conferência!$F$2,\"\")","v":""},{"$f":"IF(Jogo!G43=Conferência!$G$2,Conferência!$G$2,\"\")","v":""},{"$f":"IF(Jogo!H43=Conferência!$H$2,Conferência!$H$2,\"\")","v":""},{"$f":"IF(Jogo!I43=Conferência!$I$2,Conferência!$I$2,\"\")","v":""},{"$f":"IF(Jogo!J43=Conferência!$J$2,Conferência!$J$2,\"\")","v":""},{"$f":"IF(Jogo!K43=Conferência!$K$2,Conferência!$K$2,\"\")","v":""},{"$f":"IF(Jogo!L43=Conferência!$L$2,Conferência!$L$2,\"\")","v":""},{"$f":"IF(Jogo!M43=Conferência!$M$2,Conferência!$M$2,\"\")","v":""},{"$f":"IF(Jogo!N43=Conferência!$N$2,Conferência!$N$2,\"\")","v":""},{"$f":"IF(Jogo!O43=Conferência!$O$2,Conferência!$O$2,\"\")","v":""},{"$f":"IF(Jogo!P43=Conferência!$P$2,Conferência!$P$2,\"\")","v":""},{"$f":"IF(Jogo!Q43=Conferência!$Q$2,Conferência!$Q$2,\"\")","v":""},""]
[{"$f":"IF(Jogo!A44=Conferência!$A$2,Conferência!$A$2,\"\")","v":""},{"$f":"IF(Jogo!B44=Conferência!$B$2,Conferência!$B$2,\"\")","v":"QUARTA-FEIRA"},{"$f":"IF(Jogo!C44=Conferência!$C$2,Conferência!$C$2,\"\")","v":""},{"$f":"IF(Jogo!D44=Conferência!$D$2,Conferência!$D$2,\"\")","v":""},{"$f":"IF(Jogo!E44=Conferência!$E$2,Conferência!$E$2,\"\")","v":""},{"$f":"IF(Jogo!F44=Conferência!$F$2,Conferência!$F$2,\"\")","v":""},{"$f":"IF(Jogo!G44=Conferência!$G$2,Conferência!$G$2,\"\")","v":""},{"$f":"IF(Jogo!H44=Conferência!$H$2,Conferência!$H$2,\"\")","v":""},{"$f":"IF(Jogo!I44=Conferência!$I$2,Conferência!$I$2,\"\")","v":""},{"$f":"IF(Jogo!J44=Conferência!$J$2,Conferência!$J$2,\"\")","v":""},{"$f":"IF(Jogo!K44=Conferência!$K$2,Conferência!$K$2,\"\")","v":""},{"$f":"IF(Jogo!L44=Conferência!$L$2,Conferência!$L$2,\"\")","v":""},{"$f":"IF(Jogo!M44=Conferência!$M$2,Conferência!$M$2,\"\")","v":""},{"$f":"IF(Jogo!N44=Conferência!$N$2,Conferência!$N$2,\"\")","v":""},{"$f":"IF(Jogo!O44=Conferência!$O$2,Conferência!$O$2,\"\")","v":""},{"$f":"IF(Jogo!P44=Conferência!$P$2,Conferência!$P$2,\"\")","v":23},{"$f":"IF(Jogo!Q44=Conferência!$Q$2,Conferência!$Q$2,\"\")","v":24},""]
[{"$f":"IF(Jogo!A45=Conferência!$A$2,Conferência!$A$2,\"\")","v":""},{"$f":"IF(Jogo!B45=Conferência!$B$2,Conferência!$B$2,\"\")","v":"QUARTA-FEIRA"},{"$f":"IF(Jogo!C45=Conferência!$C$2,Conferência!$C$2,\"\")","v":""},{"$f":"IF(Jogo!D45=Conferência!$D$2,Conferência!$D$2,\"\")","v":""},{"$f":"IF(Jogo!E45=Conferência!$E$2,Conferência!$E$2,\"\")","v":""},{"$f":"IF(Jogo!F45=Conferência!$F$2,Conferência!$F$2,\"\")","v":""},{"$f":"IF(Jogo!G45=Conferência!$G$2,Conferência!$G$2,\"\")","v":""},{"$f":"IF(Jogo!H45=Conferência!$H$2,Conferência!$H$2,\"\")","v":""},{"$f":"IF(Jogo!I45=Conferência!$I$2,Conferência!$I$2,\"\")","v":""},{"$f":"IF(Jogo!J45=Conferência!$J$2,Conferência!$J$2,\"\")","v":""},{"$f":"IF(Jogo!K45=Conferência!$K$2,Conferência!$K$2,\"\")","v":""},{"$f":"IF(Jogo!L45=Conferência!$L$2,Conferência!$L$2,\"\")","v":""},{"$f":"IF(Jogo!M45=Conferência!$M$2,Conferência!$M$2,\"\")","v":""},{"$f":"IF(Jogo!N45=Conferência!$N$2,Conferência!$N$2,\"\")","v":""},{"$f":"IF(Jogo!O45=Conferência!$O$2,Conferência!$O$2,\"\")","v":""},{"$f":"IF(Jogo!P45=Conferência!$P$2,Conferência!$P$2,\"\")","v":""},{"$f":"IF(Jogo!Q45=Conferência!$Q$2,Conferência!$Q$2,\"\")","v":""},""]
[{"$f":"IF(Jogo!A46=Conferência!$A$2,Conferência!$A$2,\"\")","v":""},{"$f":"IF(Jogo!B46=Conferência!$B$2,Conferência!$B$2,\"\")","v":"QUARTA-FEIRA"},{"$f":"IF(Jogo!C46=Conferência!$C$2,Conferência!$C$2,\"\")","v":""},{"$f":"IF(Jogo!D46=Conferência!$D$2,Conferência!$D$2,\"\")","v":""},{"$f":"IF(Jogo!E46=Conferência!$E$2,Conferência!$E$2,\"\")","v":""},{"$f":"IF(Jogo!F46=Conferência!$F$2,Conferência!$F$2,\"\")","v":""},{"$f":"IF(Jogo!G46=Conferência!$G$2,Conferência!$G$2,\"\")","v":""},{"$f":"IF(Jogo!H46=Conferência!$H$2,Conferência!$H$2,\"\")","v":""},{"$f":"IF(Jogo!I46=Conferência!$I$2,Conferência!$I$2,\"\")","v":""},{"$f":"IF(Jogo!J46=Conferência!$J$2,Conferência!$J$2,\"\")","v":""},{"$f":"IF(Jogo!K46=Conferência!$K$2,Conferência!$K$2,\"\")","v":""},{"$f":"IF(Jogo!L46=Conferência!$L$2,Conferência!$L$2,\"\")","v":""},{"$f":"IF(Jogo!M46=Conferência!$M$2,Conferência!$M$2,\"\")","v":""},{"$f":"IF(Jogo!N46=Conferência!$N$2,Conferência!$N$2,\"\")","v":""},{"$f":"IF(Jogo!O46=Conferência!$O$2,Conferência!$O$2,\"\")","v":""},{"$f":"IF(Jogo!P46=Conferência!$P$2,Conferência!$P$2,\"\")","v":""},{"$f":"IF(Jogo!Q46=Conferência!$Q$2,Conferência!$Q$2,\"\")","v":""},""]
[{"$f":"IF(Jogo!A47=Conferência!$A$2,Conferência!$A$2,\"\")","v":""},{"$f":"IF(Jogo!B47=Conferência!$B$2,Conferência!$B$2,\"\")","v":"QUARTA-FEIRA"},{"$f":"IF(Jogo!C47=Conferência!$C$2,Conferência!$C$2,\"\")","v":1},{"$f":"IF(Jogo!D47=Conferência!$D$2,Conferência!$D$2,\"\")","v":""},{"$f":"IF(Jogo!E47=Conferência!$E$2,Conferência!$E$2,\"\")","v":4},{"$f":"IF(Jogo!F47=Conferência!$F$2,Conferência!$F$2,\"\")","v":6},{"$f":"IF(Jogo!G47=Conferência!$G$2,Conferência!$G$2,\"\")","v":""},{"$f":"IF(Jogo!H47=Conferência!$H$2,Conferência!$H$2,\"\")","v":""},{"$f":"IF(Jogo!I47=Conferência!$I$2,Conferência!$I$2,\"\")","v":""},{"$f":"IF(Jogo!J47=Conferência!$J$2,Conferência!$J$2,\"\")","v":""},{"$f":"IF(Jogo!K47=Conferência!$K$2,Conferência!$K$2,\"\")","v":""},{"$f":"IF(Jogo!L47=Conferência!$L$2,Conferência!$L$2,\"\")","v":""},{"$f":"IF(Jogo!M47=Conferência!$M$2,Conferência!$M$2,\"\")","v":""},{"$f":"IF(Jogo!N47=Conferência!$N$2,Conferência!$N$2,\"\")","v":""},{"$f":"IF(Jogo!O47=Conferência!$O$2,Conferência!$O$2,\"\")","v":""},{"$f":"IF(Jogo!P47=Conferência!$P$2,Conferência!$P$2,\"\")","v":""},{"$f":"IF(Jogo!Q47=Conferência!$Q$2,Conferência!$Q$2,\"\")","v":""},""]
[{"$f":"IF(Jogo!A48=Conferência!$A$2,Conferência!$A$2,\"\")","v":""},{"$f":"IF(Jogo!B48=Conferência!$B$2,Conferência!$B$2,\"\")","v":"QUARTA-FEIRA"},{"$f":"IF(Jogo!C48=Conferência!$C$2,Conferência!$C$2,\"\")","v":""},{"$f":"IF(Jogo!D48=Conferência!$D$2,Conferência!$D$2,\"\")","v":""},{"$f":"IF(Jogo!E48=Conferência!$E$2,Conferência!$E$2,\"\")","v":""},{"$f":"IF(Jogo!F48=Conferência!$F$2,Conferência!$F$2,\"\")","v":""},{"$f":"IF(Jogo!G48=Conferência!$G$2,Conferência!$G$2,\"\")","v":""},{"$f":"IF(Jogo!H48=Conferência!$H$2,Conferência!$H$2,\"\")","v":""},{"$f":"IF(Jogo!I48=Conferência!$I$2,Conferência!$I$2,\"\")","v":""},{"$f":"IF(Jogo!J48=Conferência!$J$2,Conferência!$J$2,\"\")","v":""},{"$f":"IF(Jogo!K48=Conferência!$K$2,Conferência!$K$2,\"\")","v":""},{"$f":"IF(Jogo!L48=Conferência!$L$2,Conferência!$L$2,\"\")","v":""},{"$f":"IF(Jogo!M48=Conferência!$M$2,Conferência!$M$2,\"\")","v":""},{"$f":"IF(Jogo!N48=Conferência!$N$2,Conferência!$N$2,\"\")","v":""},{"$f":"IF(Jogo!O48=Conferência!$O$2,Conferência!$O$2,\"\")","v":""},{"$f":"IF(Jogo!P48=Conferência!$P$2,Conferência!$P$2,\"\")","v":23},{"$f":"IF(Jogo!Q48=Conferência!$Q$2,Conferência!$Q$2,\"\")","v":24},""]
[{"$f":"IF(Jogo!A49=Conferência!$A$2,Conferência!$A$2,\"\")","v":""},{"$f":"IF(Jogo!B49=Conferência!$B$2,Conferência!$B$2,\"\")","v":"QUARTA-FEIRA"},{"$f":"IF(Jogo!C49=Conferência!$C$2,Conferência!$C$2,\"\")","v":1},{"$f":"IF(Jogo!D49=Conferência!$D$2,Conferência!$D$2,\"\")","v":3},{"$f":"IF(Jogo!E49=Conferência!$E$2,Conferência!$E$2,\"\")","v":""},{"$f":"IF(Jogo!F49=Conferência!$F$2,Conferência!$F$2,\"\")","v":6},{"$f":"IF(Jogo!G49=Conferência!$G$2,Conferência!$G$2,\"\")","v":""},{"$f":"IF(Jogo!H49=Conferência!$H$2,Conferência!$H$2,\"\")","v":""},{"$f":"IF(Jogo!I49=Conferência!$I$2,Conferência!$I$2,\"\")","v":""},{"$f":"IF(Jogo!J49=Conferência!$J$2,Conferência!$J$2,\"\")","v":""},{"$f":"IF(Jogo!K49=Conferência!$K$2,Conferência!$K$2,\"\")","v":""},{"$f":"IF(Jogo!L49=Conferência!$L$2,Conferência!$L$2,\"\")","v":""},{"$f":"IF(Jogo!M49=Conferência!$M$2,Conferência!$M$2,\"\")","v":""},{"$f":"IF(Jogo!N49=Conferência!$N$2,Conferência!$N$2,\"\")","v":""},{"$f":"IF(Jogo!O49=Conferência!$O$2,Conferência!$O$2,\"\")","v":""},{"$f":"IF(Jogo!P49=Conferência!$P$2,Conferência!$P$2,\"\")","v":""},{"$f":"IF(Jogo!Q49=Conferência!$Q$2,Conferência!$Q$2,\"\")","v":24},""]
[{"$f":"IF(Jogo!A50=Conferência!$A$2,Conferência!$A$2,\"\")","v":""},{"$f":"IF(Jogo!B50=Conferência!$B$2,Conferência!$B$2,\"\")","v":"QUARTA-FEIRA"},{"$f":"IF(Jogo!C50=Conferência!$C$2,Conferência!$C$2,\"\")","v":1},{"$f":"IF(Jogo!D50=Conferência!$D$2,Conferência!$D$2,\"\")","v":3},{"$f":"IF(Jogo!E50=Conferência!$E$2,Conferência!$E$2,\"\")","v":""},{"$f":"IF(Jogo!F50=Conferência!$F$2,Conferência!$F$2,\"\")","v":""},{"$f":"IF(Jogo!G50=Conferência!$G$2,Conferência!$G$2,\"\")","v":""},{"$f":"IF(Jogo!H50=Conferência!$H$2,Conferência!$H$2,\"\")","v":9},{"$f":"IF(Jogo!I50=Conferência!$I$2,Conferência!$I$2,\"\")","v":10},{"$f":"IF(Jogo!J50=Conferência!$J$2,Conferência!$J$2,\"\")","v":""},{"$f":"IF(Jogo!K50=Conferência!$K$2,Conferência!$K$2,\"\")","v":""},{"$f":"IF(Jogo!L50=Conferência!$L$2,Conferência!$L$2,\"\")","v":""},{"$f":"IF(Jogo!M50=Conferência!$M$2,Conferência!$M$2,\"\")","v":""},{"$f":"IF(Jogo!N50=Conferência!$N$2,Conferência!$N$2,\"\")","v":""},{"$f":"IF(Jogo!O50=Conferência!$O$2,Conferência!$O$2,\"\")","v":""},{"$f":"IF(Jogo!P50=Conferência!$P$2,Conferência!$P$2,\"\")","v":""},{"$f":"IF(Jogo!Q50=Conferência!$Q$2,Conferência!$Q$2,\"\")","v":""},""]
[{"$f":"IF(Jogo!A51=Conferência!$A$2,Conferência!$A$2,\"\")","v":""},{"$f":"IF(Jogo!B51=Conferência!$B$2,Conferência!$B$2,\"\")","v":"QUARTA-FEIRA"},{"$f":"IF(Jogo!C51=Conferência!$C$2,Conferência!$C$2,\"\")","v":1},{"$f":"IF(Jogo!D51=Conferência!$D$2,Conferência!$D$2,\"\")","v":3},{"$f":"IF(Jogo!E51=Conferência!$E$2,Conferência!$E$2,\"\")","v":""},{"$f":"IF(Jogo!F51=Conferência!$F$2,Conferência!$F$2,\"\")","v":6},{"$f":"IF(Jogo!G51=Conferência!$G$2,Conferência!$G$2,\"\")","v":7},{"$f":"IF(Jogo!H51=Conferência!$H$2,Conferência!$H$2,\"\")","v":9},{"$f":"IF(Jogo!I51=Conferência!$I$2,Conferência!$I$2,\"\")","v":10},{"$f":"IF(Jogo!J51=Conferência!$J$2,Conferência!$J$2,\"\")","v":11},{"$f":"IF(Jogo!K51=Conferência!$K$2,Conferência!$K$2,\"\")","v":""},{"$f":"IF(Jogo!L51=Conferência!$L$2,Conferência!$L$2,\"\")","v":""},{"$f":"IF(Jogo!M51=Conferência!$M$2,Conferência!$M$2,\"\")","v":""},{"$f":"IF(Jogo!N51=Conferência!$N$2,Conferência!$N$2,\"\")","v":""},{"$f":"IF(Jogo!O51=Conferência!$O$2,Conferência!$O$2,\"\")","v":""},{"$f":"IF(Jogo!P51=Conferência!$P$2,Conferência!$P$2,\"\")","v":""},{"$f":"IF(Jogo!Q51=Conferência!$Q$2,Conferência!$Q$2,\"\")","v":""},""]
[{"$f":"IF(Jogo!A52=Conferência!$A$2,Conferência!$A$2,\"\")","v":""},{"$f":"IF(Jogo!B52=Conferência!$B$2,Conferência!$B$2,\"\")","v":"QUARTA-FEIRA"},{"$f":"IF(Jogo!C52=Conferência!$C$2,Conferência!$C$2,\"\")","v":""},{"$f":"IF(Jogo!D52=Conferência!$D$2,Conferência!$D$2,\"\")","v":3},{"$f":"IF(Jogo!E52=Conferência!$E$2,Conferência!$E$2,\"\")","v":""},{"$f":"IF(Jogo!F52=Conferência!$F$2,Conferência!$F$2,\"\")","v":""},{"$f":"IF(Jogo!G52=Conferência!$G$2,Conferência!$G$2,\"\")","v":""},{"$f":"IF(Jogo!H52=Conferência!$H$2,Conferência!$H$2,\"\")","v":""},{"$f":"IF(Jogo!I52=Conferência!$I$2,Conferência!$I$2,\"\")","v":""},{"$f":"IF(Jogo!J52=Conferência!$J$2,Conferência!$J$2,\"\")","v":""},{"$f":"IF(Jogo!K52=Conferência!$K$2,Conferência!$K$2,\"\")","v":""},{"$f":"IF(Jogo!L52=Conferência!$L$2,Conferência!$L$2,\"\")","v":""},{"$f":"IF(Jogo!M52=Conferência!$M$2,Conferência!$M$2,\"\")","v":""},{"$f":"IF(Jogo!N52=Conferência!$N$2,Conferência!$N$2,\"\")","v":""},{"$f":"IF(Jogo!O52=Conferência!$O$2,Conferência!$O$2,\"\")","v":""},{"$f":"IF(Jogo!P52=Conferência!$P$2,Conferência!$P$2,\"\")","v":23},{"$f":"IF(Jogo!Q52=Conferência!$Q$2,Conferência!$Q$2,\"\")","v":24},""]
[{"$f":"IF(Jogo!A53=Conferência!$A$2,Conferência!$A$2,\"\")","v":""},{"$f":"IF(Jogo!B53=Conferência!$B$2,Conferência!$B$2,\"\")","v":"QUARTA-FEIRA"},{"$f":"IF(Jogo!C53=Conferência!$C$2,Conferência!$C$2,\"\")","v":""},{"$f":"IF(Jogo!D53=Conferência!$D$2,Conferência!$D$2,\"\")","v":3},{"$f":"IF(Jogo!E53=Conferência!$E$2,Conferência!$E$2,\"\")","v":""},{"$f":"IF(Jogo!F53=Conferência!$F$2,Conferência!$F$2,\"\")","v":6},{"$f":"IF(Jogo!G53=Conferência!$G$2,Conferência!$G$2,\"\")","v":""},{"$f":"IF(Jogo!H53=Conferência!$H$2,Conferência!$H$2,\"\")","v":9},{"$f":"IF(Jogo!I53=Conferência!$I$2,Conferência!$I$2,\"\")","v":""},{"$f":"IF(Jogo!J53=Conferência!$J$2,Conferência!$J$2,\"\")","v":""},{"$f":"IF(Jogo!K53=Conferência!$K$2,Conferência!$K$2,\"\")","v":""},{"$f":"IF(Jogo!L53=Conferência!$L$2,Conferência!$L$2,\"\")","v":""},{"$f":"IF(Jogo!M53=Conferência!$M$2,Conferência!$M$2,\"\")","v":""},{"$f":"IF(Jogo!N53=Conferência!$N$2,Conferência!$N$2,\"\")","v":""},{"$f":"IF(Jogo!O53=Conferência!$O$2,Conferência!$O$2,\"\")","v":""},{"$f":"IF(Jogo!P53=Conferência!$P$2,Conferência!$P$2,\"\")","v":""},{"$f":"IF(Jogo!Q53=Conferência!$Q$2,Conferência!$Q$2,\"\")","v":""},""]
[{"$f":"IF(Jogo!A54=Conferência!$A$2,Conferência!$A$2,\"\")","v":""},{"$f":"IF(Jogo!B54=Conferência!$B$2,Conferência!$B$2,\"\")","v":"QUARTA-FEIRA"},{"$f":"IF(Jogo!C54=Conferência!$C$2,Conferência!$C$2,\"\")","v":""},{"$f":"IF(Jogo!D54=Conferência!$D$2,Conferência!$D$2,\"\")","v":3},{"$f":"IF(Jogo!E54=Conferência!$E$2,Conferência!$E$2,\"\")","v":""},{"$f":"IF(Jogo!F54=Conferência!$F$2,Conferência!$F$2,\"\")","v":""},{"$f":"IF(Jogo!G54=Conferência!$G$2,Conferência!$G$2,\"\")","v":""},{"$f":"IF(Jogo!H54=Conferência!$H$2,Conferência!$H$2,\"\")","v":""},{"$f":"IF(Jogo!I54=Conferência!$I$2,Conferência!$I$2,\"\")","v":""},{"$f":"IF(Jogo!J54=Conferência!$J$2,Conferência!$J$2,\"\")","v":""},{"$f":"IF(Jogo!K54=Conferência!$K$2,Conferência!$K$2,\"\")","v":""},{"$f":"IF(Jogo!L54=Conferência!$L$2,Conferência!$L$2,\"\")","v":""},{"$f":"IF(Jogo!M54=Conferência!$M$2,Conferência!$M$2,\"\")","v":""},{"$f":"IF(Jogo!N54=Conferência!$N$2,Conferência!$N$2,\"\")","v":""},{"$f":"IF(Jogo!O54=Conferência!$O$2,Conferência!$O$2,\"\")","v":""},{"$f":"IF(Jogo!P54=Conferência!$P$2,Conferência!$P$2,\"\")","v":23},{"$f":"IF(Jogo!Q54=Conferência!$Q$2,Conferência!$Q$2,\"\")","v":""},""]
[{"$f":"IF(Jogo!A55=Conferência!$A$2,Conferência!$A$2,\"\")","v":""},{"$f":"IF(Jogo!B55=Conferência!$B$2,Conferência!$B$2,\"\")","v":"QUARTA-FEIRA"},{"$f":"IF(Jogo!C55=Conferência!$C$2,Conferência!$C$2,\"\")","v":1},{"$f":"IF(Jogo!D55=Conferência!$D$2,Conferência!$D$2,\"\")","v":""},{"$f":"IF(Jogo!E55=Conferência!$E$2,Conferência!$E$2,\"\")","v":""},{"$f":"IF(Jogo!F55=Conferência!$F$2,Conferência!$F$2,\"\")","v":""},{"$f":"IF(Jogo!G55=Conferência!$G$2,Conferência!$G$2,\"\")","v":""},{"$f":"IF(Jogo!H55=Conferência!$H$2,Conferência!$H$2,\"\")","v":""},{"$f":"IF(Jogo!I55=Conferência!$I$2,Conferência!$I$2,\"\")","v":""},{"$f":"IF(Jogo!J55=Conferência!$J$2,Conferência!$J$2,\"\")","v":""},{"$f":"IF(Jogo!K55=Conferência!$K$2,Conferência!$K$2,\"\")","v":""},{"$f":"IF(Jogo!L55=Conferência!$L$2,Conferência!$L$2,\"\")","v":13},{"$f":"IF(Jogo!M55=Conferência!$M$2,Conferência!$M$2,\"\")","v":""},{"$f":"IF(Jogo!N55=Conferência!$N$2,Conferência!$N$2,\"\")","v":""},{"$f":"IF(Jogo!O55=Conferência!$O$2,Conferência!$O$2,\"\")","v":""},{"$f":"IF(Jogo!P55=Conferência!$P$2,Conferência!$P$2,\"\")","v":""},{"$f":"IF(Jogo!Q55=Conferência!$Q$2,Conferência!$Q$2,\"\")","v":""},""]
[{"$f":"IF(Jogo!A56=Conferência!$A$2,Conferência!$A$2,\"\")","v":""},{"$f":"IF(Jogo!B56=Conferência!$B$2,Conferência!$B$2,\"\")","v":"QUARTA-FEIRA"},{"$f":"IF(Jogo!C56=Conferência!$C$2,Conferência!$C$2,\"\")","v":1},{"$f":"IF(Jogo!D56=Conferência!$D$2,Conferência!$D$2,\"\")","v":""},{"$f":"IF(Jogo!E56=Conferência!$E$2,Conferência!$E$2,\"\")","v":""},{"$f":"IF(Jogo!F56=Conferência!$F$2,Conferência!$F$2,\"\")","v":""},{"$f":"IF(Jogo!G56=Conferência!$G$2,Conferência!$G$2,\"\")","v":""},{"$f":"IF(Jogo!H56=Conferência!$H$2,Conferência!$H$2,\"\")","v":""},{"$f":"IF(Jogo!I56=Conferência!$I$2,Conferência!$I$2,\"\")","v":""},{"$f":"IF(Jogo!J56=Conferência!$J$2,Conferência!$J$2,\"\")","v":""},{"$f":"IF(Jogo!K56=Conferência!$K$2,Conferência!$K$2,\"\")","v":""},{"$f":"IF(Jogo!L56=Conferência!$L$2,Conferência!$L$2,\"\")","v":""},{"$f":"IF(Jogo!M56=Conferência!$M$2,Conferência!$M$2,\"\")","v":""},{"$f":"IF(Jogo!N56=Conferência!$N$2,Conferência!$N$2,\"\")","v":""},{"$f":"IF(Jogo!O56=Conferência!$O$2,Conferência!$O$2,\"\")","v":""},{"$f":"IF(Jogo!P56=Conferência!$P$2,Conferência!$P$2,\"\")","v":23},{"$f":"IF(Jogo!Q56=Conferência!$Q$2,Conferência!$Q$2,\"\")","v":24},""]
[{"$f":"IF(Jogo!A57=Conferência!$A$2,Conferência!$A$2,\"\")","v":""},{"$f":"IF(Jogo!B57=Conferência!$B$2,Conferência!$B$2,\"\")","v":"QUARTA-FEIRA"},{"$f":"IF(Jogo!C57=Conferência!$C$2,Conferência!$C$2,\"\")","v":1},{"$f":"IF(Jogo!D57=Conferência!$D$2,Conferência!$D$2,\"\")","v":3},{"$f":"IF(Jogo!E57=Conferência!$E$2,Conferência!$E$2,\"\")","v":4},{"$f":"IF(Jogo!F57=Conferência!$F$2,Conferência!$F$2,\"\")","v":""},{"$f":"IF(Jogo!G57=Conferência!$G$2,Conferência!$G$2,\"\")","v":""},{"$f":"IF(Jogo!H57=Conferência!$H$2,Conferência!$H$2,\"\")","v":""},{"$f":"IF(Jogo!I57=Conferência!$I$2,Conferência!$I$2,\"\")","v":10},{"$f":"IF(Jogo!J57=Conferência!$J$2,Conferência!$J$2,\"\")","v":""},{"$f":"IF(Jogo!K57=Conferência!$K$2,Conferência!$K$2,\"\")","v":""},{"$f":"IF(Jogo!L57=Conferência!$L$2,Conferência!$L$2,\"\")","v":""},{"$f":"IF(Jogo!M57=Conferência!$M$2,Conferência!$M$2,\"\")","v":""},{"$f":"IF(Jogo!N57=Conferência!$N$2,Conferência!$N$2,\"\")","v":""},{"$f":"IF(Jogo!O57=Conferência!$O$2,Conferência!$O$2,\"\")","v":""},{"$f":"IF(Jogo!P57=Conferência!$P$2,Conferência!$P$2,\"\")","v":23},{"$f":"IF(Jogo!Q57=Conferência!$Q$2,Conferência!$Q$2,\"\")","v":""},""]
[{"$f":"IF(Jogo!A58=Conferência!$A$2,Conferência!$A$2,\"\")","v":""},{"$f":"IF(Jogo!B58=Conferência!$B$2,Conferência!$B$2,\"\")","v":"QUARTA-FEIRA"},{"$f":"IF(Jogo!C58=Conferência!$C$2,Conferência!$C$2,\"\")","v":""},{"$f":"IF(Jogo!D58=Conferência!$D$2,Conferência!$D$2,\"\")","v":3},{"$f":"IF(Jogo!E58=Conferência!$E$2,Conferência!$E$2,\"\")","v":4},{"$f":"IF(Jogo!F58=Conferência!$F$2,Conferência!$F$2,\"\")","v":""},{"$f":"IF(Jogo!G58=Conferência!$G$2,Conferência!$G$2,\"\")","v":""},{"$f":"IF(Jogo!H58=Conferência!$H$2,Conferência!$H$2,\"\")","v":""},{"$f":"IF(Jogo!I58=Conferência!$I$2,Conferência!$I$2,\"\")","v":""},{"$f":"IF(Jogo!J58=Conferência!$J$2,Conferência!$J$2,\"\")","v":""},{"$f":"IF(Jogo!K58=Conferência!$K$2,Conferência!$K$2,\"\")","v":12},{"$f":"IF(Jogo!L58=Conferência!$L$2,Conferência!$L$2,\"\")","v":13},{"$f":"IF(Jogo!M58=Conferência!$M$2,Conferência!$M$2,\"\")","v":""},{"$f":"IF(Jogo!N58=Conferência!$N$2,Conferência!$N$2,\"\")","v":""},{"$f":"IF(Jogo!O58=Conferência!$O$2,Conferência!$O$2,\"\")","v":""},{"$f":"IF(Jogo!P58=Conferência!$P$2,Conferência!$P$2,\"\")","v":""},{"$f":"IF(Jogo!Q58=Conferência!$Q$2,Conferência!$Q$2,\"\")","v":""},""]
[{"$f":"IF(Jogo!A59=Conferência!$A$2,Conferência!$A$2,\"\")","v":""},{"$f":"IF(Jogo!B59=Conferência!$B$2,Conferência!$B$2,\"\")","v":"QUARTA-FEIRA"},{"$f":"IF(Jogo!C59=Conferência!$C$2,Conferência!$C$2,\"\")","v":1},{"$f":"IF(Jogo!D59=Conferência!$D$2,Conferência!$D$2,\"\")","v":""},{"$f":"IF(Jogo!E59=Conferência!$E$2,Conferência!$E$2,\"\")","v":4},{"$f":"IF(Jogo!F59=Conferência!$F$2,Conferência!$F$2,\"\")","v":""},{"$f":"IF(Jogo!G59=Conferência!$G$2,Conferência!$G$2,\"\")","v":""},{"$f":"IF(Jogo!H59=Conferência!$H$2,Conferência!$H$2,\"\")","v":""},{"$f":"IF(Jogo!I59=Conferência!$I$2,Conferência!$I$2,\"\")","v":""},{"$f":"IF(Jogo!J59=Conferência!$J$2,Conferência!$J$2,\"\")","v":""},{"$f":"IF(Jogo!K59=Conferência!$K$2,Conferência!$K$2,\"\")","v":12},{"$f":"IF(Jogo!L59=Conferência!$L$2,Conferência!$L$2,\"\")","v":13},{"$f":"IF(Jogo!M59=Conferência!$M$2,Conferência!$M$2,\"\")","v":""},{"$f":"IF(Jogo!N59=Conferência!$N$2,Conferência!$N$2,\"\")","v":16},{"$f":"IF(Jogo!O59=Conferência!$O$2,Conferência!$O$2,\"\")","v":""},{"$f":"IF(Jogo!P59=Conferência!$P$2,Conferência!$P$2,\"\")","v":""},{"$f":"IF(Jogo!Q59=Conferência!$Q$2,Conferência!$Q$2,\"\")","v":""},""]
[{"$f":"IF(Jogo!A60=Conferência!$A$2,Conferência!$A$2,\"\")","v":""},{"$f":"IF(Jogo!B60=Conferência!$B$2,Conferência!$B$2,\"\")","v":"QUARTA-FEIRA"},{"$f":"IF(Jogo!C60=Conferência!$C$2,Conferência!$C$2,\"\")","v":""},{"$f":"IF(Jogo!D60=Conferência!$D$2,Conferência!$D$2,\"\")","v":3},{"$f":"IF(Jogo!E60=Conferência!$E$2,Conferência!$E$2,\"\")","v":""},{"$f":"IF(Jogo!F60=Conferência!$F$2,Conferência!$F$2,\"\")","v":""},{"$f":"IF(Jogo!G60=Conferência!$G$2,Conferência!$G$2,\"\")","v":""},{"$f":"IF(Jogo!H60=Conferência!$H$2,Conferência!$H$2,\"\")","v":9},{"$f":"IF(Jogo!I60=Conferência!$I$2,Conferência!$I$2,\"\")","v":""},{"$f":"IF(Jogo!J60=Conferência!$J$2,Conferência!$J$2,\"\")","v":""},{"$f":"IF(Jogo!K60=Conferência!$K$2,Conferência!$K$2,\"\")","v":""},{"$f":"IF(Jogo!L60=Conferência!$L$2,Conferência!$L$2,\"\")","v":""},{"$f":"IF(Jogo!M60=Conferência!$M$2,Conferência!$M$2,\"\")","v":15},{"$f":"IF(Jogo!N60=Conferência!$N$2,Conferência!$N$2,\"\")","v":""},{"$f":"IF(Jogo!O60=Conferência!$O$2,Conferência!$O$2,\"\")","v":""},{"$f":"IF(Jogo!P60=Conferência!$P$2,Conferência!$P$2,\"\")","v":""},{"$f":"IF(Jogo!Q60=Conferência!$Q$2,Conferência!$Q$2,\"\")","v":""},""]
[{"$f":"IF(Jogo!A61=Conferência!$A$2,Conferência!$A$2,\"\")","v":""},{"$f":"IF(Jogo!B61=Conferência!$B$2,Conferência!$B$2,\"\")","v":"QUARTA-FEIRA"},{"$f":"IF(Jogo!C61=Conferência!$C$2,Conferência!$C$2,\"\")","v":""},{"$f":"IF(Jogo!D61=Conferência!$D$2,Conferência!$D$2,\"\")","v":""},{"$f":"IF(Jogo!E61=Conferência!$E$2,Conferência!$E$2,\"\")","v":""},{"$f":"IF(Jogo!F61=Conferência!$F$2,Conferência!$F$2,\"\")","v":""},{"$f":"IF(Jogo!G61=Conferência!$G$2,Conferência!$G$2,\"\")","v":""},{"$f":"IF(Jogo!H61=Conferência!$H$2,Conferência!$H$2,\"\")","v":""},{"$f":"IF(Jogo!I61=Conferência!$I$2,Conferência!$I$2,\"\")","v":""},{"$f":"IF(Jogo!J61=Conferência!$J$2,Conferência!$J$2,\"\")","v":""},{"$f":"IF(Jogo!K61=Conferência!$K$2,Conferência!$K$2,\"\")","v":""},{"$f":"IF(Jogo!L61=Conferência!$L$2,Conferência!$L$2,\"\")","v":""},{"$f":"IF(Jogo!M61=Conferência!$M$2,Conferência!$M$2,\"\")","v":""},{"$f":"IF(Jogo!N61=Conferência!$N$2,Conferência!$N$2,\"\")","v":""},{"$f":"IF(Jogo!O61=Conferência!$O$2,Conferência!$O$2,\"\")","v":""},{"$f":"IF(Jogo!P61=Conferência!$P$2,Conferência!$P$2,\"\")","v":""},{"$f":"IF(Jogo!Q61=Conferência!$Q$2,Conferência!$Q$2,\"\")","v":""},""]
[{"$f":"IF(Jogo!A62=Conferência!$A$2,Conferência!$A$2,\"\")","v":""},{"$f":"IF(Jogo!B62=Conferência!$B$2,Conferência!$B$2,\"\")","v":"QUARTA-FEIRA"},{"$f":"IF(Jogo!C62=Conferência!$C$2,Conferência!$C$2,\"\")","v":""},{"$f":"IF(Jogo!D62=Conferência!$D$2,Conferência!$D$2,\"\")","v":3},{"$f":"IF(Jogo!E62=Conferência!$E$2,Conferência!$E$2,\"\")","v":4},{"$f":"IF(Jogo!F62=Conferência!$F$2,Conferência!$F$2,\"\")","v":""},{"$f":"IF(Jogo!G62=Conferência!$G$2,Conferência!$G$2,\"\")","v":""},{"$f":"IF(Jogo!H62=Conferência!$H$2,Conferência!$H$2,\"\")","v":""},{"$f":"IF(Jogo!I62=Conferência!$I$2,Conferência!$I$2,\"\")","v":""},{"$f":"IF(Jogo!J62=Conferência!$J$2,Conferência!$J$2,\"\")","v":""},{"$f":"IF(Jogo!K62=Conferência!$K$2,Conferência!$K$2,\"\")","v":""},{"$f":"IF(Jogo!L62=Conferência!$L$2,Conferência!$L$2,\"\")","v":""},{"$f":"IF(Jogo!M62=Conferência!$M$2,Conferência!$M$2,\"\")","v":""},{"$f":"IF(Jogo!N62=Conferência!$N$2,Conferência!$N$2,\"\")","v":""},{"$f":"IF(Jogo!O62=Conferência!$O$2,Conferência!$O$2,\"\")","v":""},{"$f":"IF(Jogo!P62=Conferência!$P$2,Conferência!$P$2,\"\")","v":""},{"$f":"IF(Jogo!Q62=Conferência!$Q$2,Conferência!$Q$2,\"\")","v":""},""]
[{"$f":"IF(Jogo!A63=Conferência!$A$2,Conferência!$A$2,\"\")","v":""},{"$f":"IF(Jogo!B63=Conferência!$B$2,Conferência!$B$2,\"\")","v":"QUARTA-FEIRA"},{"$f":"IF(Jogo!C63=Conferência!$C$2,Conferência!$C$2,\"\")","v":1},{"$f":"IF(Jogo!D63=Conferência!$D$2,Conferência!$D$2,\"\")","v":""},{"$f":"IF(Jogo!E63=Conferência!$E$2,Conferência!$E$2,\"\")","v":""},{"$f":"IF(Jogo!F63=Conferência!$F$2,Conferência!$F$2,\"\")","v":""},{"$f":"IF(Jogo!G63=Conferência!$G$2,Conferência!$G$2,\"\")","v":""},{"$f":"IF(Jogo!H63=Conferência!$H$2,Conferência!$H$2,\"\")","v":""},{"$f":"IF(Jogo!I63=Conferência!$I$2,Conferência!$I$2,\"\")","v":""},{"$f":"IF(Jogo!J63=Conferência!$J$2,Conferência!$J$2,\"\")","v":""},{"$f":"IF(Jogo!K63=Conferência!$K$2,Conferência!$K$2,\"\")","v":""},{"$f":"IF(Jogo!L63=Conferência!$L$2,Conferência!$L$2,\"\")","v":""},{"$f":"IF(Jogo!M63=Conferência!$M$2,Conferência!$M$2,\"\")","v":""},{"$f":"IF(Jogo!N63=Conferência!$N$2,Conferência!$N$2,\"\")","v":""},{"$f":"IF(Jogo!O63=Conferência!$O$2,Conferência!$O$2,\"\")","v":""},{"$f":"IF(Jogo!P63=Conferência!$P$2,Conferência!$P$2,\"\")","v":""},{"$f":"IF(Jogo!Q63=Conferência!$Q$2,Conferência!$Q$2,\"\")","v":""},""]
[{"$f":"IF(Jogo!A64=Conferência!$A$2,Conferência!$A$2,\"\")","v":""},{"$f":"IF(Jogo!B64=Conferência!$B$2,Conferência!$B$2,\"\")","v":"QUARTA-FEIRA"},{"$f":"IF(Jogo!C64=Conferência!$C$2,Conferência!$C$2,\"\")","v":""},{"$f":"IF(Jogo!D64=Conferência!$D$2,Conferência!$D$2,\"\")","v":""},{"$f":"IF(Jogo!E64=Conferência!$E$2,Conferência!$E$2,\"\")","v":""},{"$f":"IF(Jogo!F64=Conferência!$F$2,Conferência!$F$2,\"\")","v":""},{"$f":"IF(Jogo!G64=Conferência!$G$2,Conferência!$G$2,\"\")","v":""},{"$f":"IF(Jogo!H64=Conferência!$H$2,Conferência!$H$2,\"\")","v":""},{"$f":"IF(Jogo!I64=Conferência!$I$2,Conferência!$I$2,\"\")","v":""},{"$f":"IF(Jogo!J64=Conferência!$J$2,Conferência!$J$2,\"\")","v":""},{"$f":"IF(Jogo!K64=Conferência!$K$2,Conferência!$K$2,\"\")","v":""},{"$f":"IF(Jogo!L64=Conferência!$L$2,Conferência!$L$2,\"\")","v":""},{"$f":"IF(Jogo!M64=Conferência!$M$2,Conferência!$M$2,\"\")","v":""},{"$f":"IF(Jogo!N64=Conferência!$N$2,Conferência!$N$2,\"\")","v":""},{"$f":"IF(Jogo!O64=Conferência!$O$2,Conferência!$O$2,\"\")","v":""},{"$f":"IF(Jogo!P64=Conferência!$P$2,Conferência!$P$2,\"\")","v":23},{"$f":"IF(Jogo!Q64=Conferência!$Q$2,Conferência!$Q$2,\"\")","v":24},""]
[{"$f":"IF(Jogo!A65=Conferência!$A$2,Conferência!$A$2,\"\")","v":""},{"$f":"IF(Jogo!B65=Conferência!$B$2,Conferência!$B$2,\"\")","v":"QUARTA-FEIRA"},{"$f":"IF(Jogo!C65=Conferência!$C$2,Conferência!$C$2,\"\")","v":1},{"$f":"IF(Jogo!D65=Conferência!$D$2,Conferência!$D$2,\"\")","v":3},{"$f":"IF(Jogo!E65=Conferência!$E$2,Conferência!$E$2,\"\")","v":""},{"$f":"IF(Jogo!F65=Conferência!$F$2,Conferência!$F$2,\"\")","v":""},{"$f":"IF(Jogo!G65=Conferência!$G$2,Conferência!$G$2,\"\")","v":""},{"$f":"IF(Jogo!H65=Conferência!$H$2,Conferência!$H$2,\"\")","v":""},{"$f":"IF(Jogo!I65=Conferência!$I$2,Conferência!$I$2,\"\")","v":""},{"$f":"IF(Jogo!J65=Conferência!$J$2,Conferência!$J$2,\"\")","v":""},{"$f":"IF(Jogo!K65=Conferência!$K$2,Conferência!$K$2,\"\")","v":""},{"$f":"IF(Jogo!L65=Conferência!$L$2,Conferência!$L$2,\"\")","v":""},{"$f":"IF(Jogo!M65=Conferência!$M$2,Conferência!$M$2,\"\")","v":""},{"$f":"IF(Jogo!N65=Conferência!$N$2,Conferência!$N$2,\"\")","v":""},{"$f":"IF(Jogo!O65=Conferência!$O$2,Conferência!$O$2,\"\")","v":""},{"$f":"IF(Jogo!P65=Conferência!$P$2,Conferência!$P$2,\"\")","v":""},{"$f":"IF(Jogo!Q65=Conferência!$Q$2,Conferência!$Q$2,\"\")","v":24},""]
[{"$f":"IF(Jogo!A66=Conferência!$A$2,Conferência!$A$2,\"\")","v":""},{"$f":"IF(Jogo!B66=Conferência!$B$2,Conferência!$B$2,\"\")","v":"QUARTA-FEIRA"},{"$f":"IF(Jogo!C66=Conferência!$C$2,Conferência!$C$2,\"\")","v":1},{"$f":"IF(Jogo!D66=Conferência!$D$2,Conferência!$D$2,\"\")","v":""},{"$f":"IF(Jogo!E66=Conferência!$E$2,Conferência!$E$2,\"\")","v":""},{"$f":"IF(Jogo!F66=Conferência!$F$2,Conferência!$F$2,\"\")","v":""},{"$f":"IF(Jogo!G66=Conferência!$G$2,Conferência!$G$2,\"\")","v":""},{"$f":"IF(Jogo!H66=Conferência!$H$2,Conferência!$H$2,\"\")","v":""},{"$f":"IF(Jogo!I66=Conferência!$I$2,Conferência!$I$2,\"\")","v":""},{"$f":"IF(Jogo!J66=Conferência!$J$2,Conferência!$J$2,\"\")","v":""},{"$f":"IF(Jogo!K66=Conferência!$K$2,Conferência!$K$2,\"\")","v":""},{"$f":"IF(Jogo!L66=Conferência!$L$2,Conferência!$L$2,\"\")","v":""},{"$f":"IF(Jogo!M66=Conferência!$M$2,Conferência!$M$2,\"\")","v":""},{"$f":"IF(Jogo!N66=Conferência!$N$2,Conferência!$N$2,\"\")","v":""},{"$f":"IF(Jogo!O66=Conferência!$O$2,Conferência!$O$2,\"\")","v":""},{"$f":"IF(Jogo!P66=Conferência!$P$2,Conferência!$P$2,\"\")","v":""},{"$f":"IF(Jogo!Q66=Conferência!$Q$2,Conferência!$Q$2,\"\")","v":""},""]
[{"$f":"IF(Jogo!A67=Conferência!$A$2,Conferência!$A$2,\"\")","v":""},{"$f":"IF(Jogo!B67=Conferência!$B$2,Conferência!$B$2,\"\")","v":"QUARTA-FEIRA"},{"$f":"IF(Jogo!C67=Conferência!$C$2,Conferência!$C$2,\"\")","v":1},{"$f":"IF(Jogo!D67=Conferência!$D$2,Conferência!$D$2,\"\")","v":""},{"$f":"IF(Jogo!E67=Conferência!$E$2,Conferência!$E$2,\"\")","v":""},{"$f":"IF(Jogo!F67=Conferência!$F$2,Conferência!$F$2,\"\")","v":6},{"$f":"IF(Jogo!G67=Conferência!$G$2,Conferência!$G$2,\"\")","v":""},{"$f":"IF(Jogo!H67=Conferência!$H$2,Conferência!$H$2,\"\")","v":""},{"$f":"IF(Jogo!I67=Conferência!$I$2,Conferência!$I$2,\"\")","v":""},{"$f":"IF(Jogo!J67=Conferência!$J$2,Conferência!$J$2,\"\")","v":""},{"$f":"IF(Jogo!K67=Conferência!$K$2,Conferência!$K$2,\"\")","v":""},{"$f":"IF(Jogo!L67=Conferência!$L$2,Conferência!$L$2,\"\")","v":""},{"$f":"IF(Jogo!M67=Conferência!$M$2,Conferência!$M$2,\"\")","v":""},{"$f":"IF(Jogo!N67=Conferência!$N$2,Conferência!$N$2,\"\")","v":""},{"$f":"IF(Jogo!O67=Conferência!$O$2,Conferência!$O$2,\"\")","v":""},{"$f":"IF(Jogo!P67=Conferência!$P$2,Conferência!$P$2,\"\")","v":""},{"$f":"IF(Jogo!Q67=Conferência!$Q$2,Conferência!$Q$2,\"\")","v":""},""]
[{"$f":"IF(Jogo!A68=Conferência!$A$2,Conferência!$A$2,\"\")","v":""},{"$f":"IF(Jogo!B68=Conferência!$B$2,Conferência!$B$2,\"\")","v":"QUARTA-FEIRA"},{"$f":"IF(Jogo!C68=Conferência!$C$2,Conferência!$C$2,\"\")","v":1},{"$f":"IF(Jogo!D68=Conferência!$D$2,Conferência!$D$2,\"\")","v":""},{"$f":"IF(Jogo!E68=Conferência!$E$2,Conferência!$E$2,\"\")","v":""},{"$f":"IF(Jogo!F68=Conferência!$F$2,Conferência!$F$2,\"\")","v":""},{"$f":"IF(Jogo!G68=Conferência!$G$2,Conferência!$G$2,\"\")","v":""},{"$f":"IF(Jogo!H68=Conferência!$H$2,Conferência!$H$2,\"\")","v":9},{"$f":"IF(Jogo!I68=Conferência!$I$2,Conferência!$I$2,\"\")","v":10},{"$f":"IF(Jogo!J68=Conferência!$J$2,Conferência!$J$2,\"\")","v":11},{"$f":"IF(Jogo!K68=Conferência!$K$2,Conferência!$K$2,\"\")","v":""},{"$f":"IF(Jogo!L68=Conferência!$L$2,Conferência!$L$2,\"\")","v":""},{"$f":"IF(Jogo!M68=Conferência!$M$2,Conferência!$M$2,\"\")","v":""},{"$f":"IF(Jogo!N68=Conferência!$N$2,Conferência!$N$2,\"\")","v":""},{"$f":"IF(Jogo!O68=Conferência!$O$2,Conferência!$O$2,\"\")","v":""},{"$f":"IF(Jogo!P68=Conferência!$P$2,Conferência!$P$2,\"\")","v":""},{"$f":"IF(Jogo!Q68=Conferência!$Q$2,Conferência!$Q$2,\"\")","v":""},""]
[{"$f":"IF(Jogo!A69=Conferência!$A$2,Conferência!$A$2,\"\")","v":""},{"$f":"IF(Jogo!B69=Conferência!$B$2,Conferência!$B$2,\"\")","v":"QUARTA-FEIRA"},{"$f":"IF(Jogo!C69=Conferência!$C$2,Conferência!$C$2,\"\")","v":1},{"$f":"IF(Jogo!D69=Conferência!$D$2,Conferência!$D$2,\"\")","v":""},{"$f":"IF(Jogo!E69=Conferência!$E$2,Conferência!$E$2,\"\")","v":""},{"$f":"IF(Jogo!F69=Conferência!$F$2,Conferência!$F$2,\"\")","v":""},{"$f":"IF(Jogo!G69=Conferência!$G$2,Conferência!$G$2,\"\")","v":""},{"$f":"IF(Jogo!H69=Conferência!$H$2,Conferência!$H$2,\"\")","v":""},{"$f":"IF(Jogo!I69=Conferência!$I$2,Conferência!$I$2,\"\")","v":""},{"$f":"IF(Jogo!J69=Conferência!$J$2,Conferência!$J$2,\"\")","v":""},{"$f":"IF(Jogo!K69=Conferência!$K$2,Conferência!$K$2,\"\")","v":""},{"$f":"IF(Jogo!L69=Conferência!$L$2,Conferência!$L$2,\"\")","v":""},{"$f":"IF(Jogo!M69=Conferência!$M$2,Conferência!$M$2,\"\")","v":""},{"$f":"IF(Jogo!N69=Conferência!$N$2,Conferência!$N$2,\"\")","v":""},{"$f":"IF(Jogo!O69=Conferência!$O$2,Conferência!$O$2,\"\")","v":""},{"$f":"IF(Jogo!P69=Conferência!$P$2,Conferência!$P$2,\"\")","v":""},{"$f":"IF(Jogo!Q69=Conferência!$Q$2,Conferência!$Q$2,\"\")","v":""},""]
[{"$f":"IF(Jogo!A70=Conferência!$A$2,Conferência!$A$2,\"\")","v":""},{"$f":"IF(Jogo!B70=Conferência!$B$2,Conferência!$B$2,\"\")","v":"QUARTA-FEIRA"},{"$f":"IF(Jogo!C70=Conferência!$C$2,Conferência!$C$2,\"\")","v":1},{"$f":"IF(Jogo!D70=Conferência!$D$2,Conferência!$D$2,\"\")","v":""},{"$f":"IF(Jogo!E70=Conferência!$E$2,Conferência!$E$2,\"\")","v":""},{"$f":"IF(Jogo!F70=Conferência!$F$2,Conferência!$F$2,\"\")","v":""},{"$f":"IF(Jogo!G70=Conferência!$G$2,Conferência!$G$2,\"\")","v":""},{"$f":"IF(Jogo!H70=Conferência!$H$2,Conferência!$H$2,\"\")","v":""},{"$f":"IF(Jogo!I70=Conferência!$I$2,Conferência!$I$2,\"\")","v":""},{"$f":"IF(Jogo!J70=Conferência!$J$2,Conferência!$J$2,\"\")","v":""},{"$f":"IF(Jogo!K70=Conferência!$K$2,Conferência!$K$2,\"\")","v":""},{"$f":"IF(Jogo!L70=Conferência!$L$2,Conferência!$L$2,\"\")","v":""},{"$f":"IF(Jogo!M70=Conferência!$M$2,Conferência!$M$2,\"\")","v":""},{"$f":"IF(Jogo!N70=Conferência!$N$2,Conferência!$N$2,\"\")","v":""},{"$f":"IF(Jogo!O70=Conferência!$O$2,Conferência!$O$2,\"\")","v":""},{"$f":"IF(Jogo!P70=Conferência!$P$2,Conferência!$P$2,\"\")","v":""},{"$f":"IF(Jogo!Q70=Conferência!$Q$2,Conferência!$Q$2,\"\")","v":""},""]
[{"$f":"IF(Jogo!A71=Conferência!$A$2,Conferência!$A$2,\"\")","v":""},{"$f":"IF(Jogo!B71=Conferência!$B$2,Conferência!$B$2,\"\")","v":"QUARTA-FEIRA"},{"$f":"IF(Jogo!C71=Conferência!$C$2,Conferência!$C$2,\"\")","v":1},{"$f":"IF(Jogo!D71=Conferência!$D$2,Conferência!$D$2,\"\")","v":""},{"$f":"IF(Jogo!E71=Conferência!$E$2,Conferência!$E$2,\"\")","v":4},{"$f":"IF(Jogo!F71=Conferência!$F$2,Conferência!$F$2,\"\")","v":6},{"$f":"IF(Jogo!G71=Conferência!$G$2,Conferência!$G$2,\"\")","v":7},{"$f":"IF(Jogo!H71=Conferência!$H$2,Conferência!$H$2,\"\")","v":9},{"$f":"IF(Jogo!I71=Conferência!$I$2,Conferência!$I$2,\"\")","v":10},{"$f":"IF(Jogo!J71=Conferência!$J$2,Conferência!$J$2,\"\")","v":""},{"$f":"IF(Jogo!K71=Conferência!$K$2,Conferência!$K$2,\"\")","v":""},{"$f":"IF(Jogo!L71=Conferência!$L$2,Conferência!$L$2,\"\")","v":""},{"$f":"IF(Jogo!M71=Conferência!$M$2,Conferência!$M$2,\"\")","v":""},{"$f":"IF(Jogo!N71=Conferência!$N$2,Conferência!$N$2,\"\")","v":""},{"$f":"IF(Jogo!O71=Conferência!$O$2,Conferência!$O$2,\"\")","v":""},{"$f":"IF(Jogo!P71=Conferência!$P$2,Conferência!$P$2,\"\")","v":""},{"$f":"IF(Jogo!Q71=Conferência!$Q$2,Conferência!$Q$2,\"\")","v":""},""]
[{"$f":"IF(Jogo!A72=Conferência!$A$2,Conferência!$A$2,\"\")","v":""},{"$f":"IF(Jogo!B72=Conferência!$B$2,Conferência!$B$2,\"\")","v":"QUARTA-FEIRA"},{"$f":"IF(Jogo!C72=Conferência!$C$2,Conferência!$C$2,\"\")","v":1},{"$f":"IF(Jogo!D72=Conferência!$D$2,Conferência!$D$2,\"\")","v":""},{"$f":"IF(Jogo!E72=Conferência!$E$2,Conferência!$E$2,\"\")","v":""},{"$f":"IF(Jogo!F72=Conferência!$F$2,Conferência!$F$2,\"\")","v":""},{"$f":"IF(Jogo!G72=Conferência!$G$2,Conferência!$G$2,\"\")","v":""},{"$f":"IF(Jogo!H72=Conferência!$H$2,Conferência!$H$2,\"\")","v":""},{"$f":"IF(Jogo!I72=Conferência!$I$2,Conferência!$I$2,\"\")","v":""},{"$f":"IF(Jogo!J72=Conferência!$J$2,Conferência!$J$2,\"\")","v":""},{"$f":"IF(Jogo!K72=Conferência!$K$2,Conferência!$K$2,\"\")","v":""},{"$f":"IF(Jogo!L72=Conferência!$L$2,Conferência!$L$2,\"\")","v":""},{"$f":"IF(Jogo!M72=Conferência!$M$2,Conferência!$M$2,\"\")","v":""},{"$f":"IF(Jogo!N72=Conferência!$N$2,Conferência!$N$2,\"\")","v":""},{"$f":"IF(Jogo!O72=Conferência!$O$2,Conferência!$O$2,\"\")","v":""},{"$f":"IF(Jogo!P72=Conferência!$P$2,Conferência!$P$2,\"\")","v":""},{"$f":"IF(Jogo!Q72=Conferência!$Q$2,Conferência!$Q$2,\"\")","v":""},""]
[{"$f":"IF(Jogo!A73=Conferência!$A$2,Conferência!$A$2,\"\")","v":""},{"$f":"IF(Jogo!B73=Conferência!$B$2,Conferência!$B$2,\"\")","v":"QUARTA-FEIRA"},{"$f":"IF(Jogo!C73=Conferência!$C$2,Conferência!$C$2,\"\")","v":1},{"$f":"IF(Jogo!D73=Conferência!$D$2,Conferência!$D$2,\"\")","v":3},{"$f":"IF(Jogo!E73=Conferência!$E$2,Conferência!$E$2,\"\")","v":4},{"$f":"IF(Jogo!F73=Conferência!$F$2,Conferência!$F$2,\"\")","v":""},{"$f":"IF(Jogo!G73=Conferência!$G$2,Conferência!$G$2,\"\")","v":""},{"$f":"IF(Jogo!H73=Conferência!$H$2,Conferência!$H$2,\"\")","v":""},{"$f":"IF(Jogo!I73=Conferência!$I$2,Conferência!$I$2,\"\")","v":""},{"$f":"IF(Jogo!J73=Conferência!$J$2,Conferência!$J$2,\"\")","v":""},{"$f":"IF(Jogo!K73=Conferência!$K$2,Conferência!$K$2,\"\")","v":""},{"$f":"IF(Jogo!L73=Conferência!$L$2,Conferência!$L$2,\"\")","v":""},{"$f":"IF(Jogo!M73=Conferência!$M$2,Conferência!$M$2,\"\")","v":""},{"$f":"IF(Jogo!N73=Conferência!$N$2,Conferência!$N$2,\"\")","v":""},{"$f":"IF(Jogo!O73=Conferência!$O$2,Conferência!$O$2,\"\")","v":""},{"$f":"IF(Jogo!P73=Conferência!$P$2,Conferência!$P$2,\"\")","v":23},{"$f":"IF(Jogo!Q73=Conferência!$Q$2,Conferência!$Q$2,\"\")","v":24},""]
[{"$f":"IF(Jogo!A74=Conferência!$A$2,Conferência!$A$2,\"\")","v":""},{"$f":"IF(Jogo!B74=Conferência!$B$2,Conferência!$B$2,\"\")","v":"QUARTA-FEIRA"},{"$f":"IF(Jogo!C74=Conferência!$C$2,Conferência!$C$2,\"\")","v":1},{"$f":"IF(Jogo!D74=Conferência!$D$2,Conferência!$D$2,\"\")","v":""},{"$f":"IF(Jogo!E74=Conferência!$E$2,Conferência!$E$2,\"\")","v":""},{"$f":"IF(Jogo!F74=Conferência!$F$2,Conferência!$F$2,\"\")","v":""},{"$f":"IF(Jogo!G74=Conferência!$G$2,Conferência!$G$2,\"\")","v":""},{"$f":"IF(Jogo!H74=Conferência!$H$2,Conferência!$H$2,\"\")","v":""},{"$f":"IF(Jogo!I74=Conferência!$I$2,Conferência!$I$2,\"\")","v":""},{"$f":"IF(Jogo!J74=Conferência!$J$2,Conferência!$J$2,\"\")","v":""},{"$f":"IF(Jogo!K74=Conferência!$K$2,Conferência!$K$2,\"\")","v":""},{"$f":"IF(Jogo!L74=Conferência!$L$2,Conferência!$L$2,\"\")","v":""},{"$f":"IF(Jogo!M74=Conferência!$M$2,Conferência!$M$2,\"\")","v":""},{"$f":"IF(Jogo!N74=Conferência!$N$2,Conferência!$N$2,\"\")","v":""},{"$f":"IF(Jogo!O74=Conferência!$O$2,Conferência!$O$2,\"\")","v":""},{"$f":"IF(Jogo!P74=Conferência!$P$2,Conferência!$P$2,\"\")","v":""},{"$f":"IF(Jogo!Q74=Conferência!$Q$2,Conferência!$Q$2,\"\")","v":24},""]
[{"$f":"IF(Jogo!A75=Conferência!$A$2,Conferência!$A$2,\"\")","v":""},{"$f":"IF(Jogo!B75=Conferência!$B$2,Conferência!$B$2,\"\")","v":"QUARTA-FEIRA"},{"$f":"IF(Jogo!C75=Conferência!$C$2,Conferência!$C$2,\"\")","v":1},{"$f":"IF(Jogo!D75=Conferência!$D$2,Conferência!$D$2,\"\")","v":""},{"$f":"IF(Jogo!E75=Conferência!$E$2,Conferência!$E$2,\"\")","v":""},{"$f":"IF(Jogo!F75=Conferência!$F$2,Conferência!$F$2,\"\")","v":""},{"$f":"IF(Jogo!G75=Conferência!$G$2,Conferência!$G$2,\"\")","v":""},{"$f":"IF(Jogo!H75=Conferência!$H$2,Conferência!$H$2,\"\")","v":""},{"$f":"IF(Jogo!I75=Conferência!$I$2,Conferência!$I$2,\"\")","v":10},{"$f":"IF(Jogo!J75=Conferência!$J$2,Conferência!$J$2,\"\")","v":""},{"$f":"IF(Jogo!K75=Conferência!$K$2,Conferência!$K$2,\"\")","v":""},{"$f":"IF(Jogo!L75=Conferência!$L$2,Conferência!$L$2,\"\")","v":""},{"$f":"IF(Jogo!M75=Conferência!$M$2,Conferência!$M$2,\"\")","v":""},{"$f":"IF(Jogo!N75=Conferência!$N$2,Conferência!$N$2,\"\")","v":""},{"$f":"IF(Jogo!O75=Conferência!$O$2,Conferência!$O$2,\"\")","v":""},{"$f":"IF(Jogo!P75=Conferência!$P$2,Conferência!$P$2,\"\")","v":""},{"$f":"IF(Jogo!Q75=Conferência!$Q$2,Conferência!$Q$2,\"\")","v":""},""]
[{"$f":"IF(Jogo!A76=Conferência!$A$2,Conferência!$A$2,\"\")","v":""},{"$f":"IF(Jogo!B76=Conferência!$B$2,Conferência!$B$2,\"\")","v":"QUARTA-FEIRA"},{"$f":"IF(Jogo!C76=Conferência!$C$2,Conferência!$C$2,\"\")","v":1},{"$f":"IF(Jogo!D76=Conferência!$D$2,Conferência!$D$2,\"\")","v":3},{"$f":"IF(Jogo!E76=Conferência!$E$2,Conferência!$E$2,\"\")","v":4},{"$f":"IF(Jogo!F76=Conferência!$F$2,Conferência!$F$2,\"\")","v":""},{"$f":"IF(Jogo!G76=Conferência!$G$2,Conferência!$G$2,\"\")","v":""},{"$f":"IF(Jogo!H76=Conferência!$H$2,Conferência!$H$2,\"\")","v":""},{"$f":"IF(Jogo!I76=Conferência!$I$2,Conferência!$I$2,\"\")","v":10},{"$f":"IF(Jogo!J76=Conferência!$J$2,Conferência!$J$2,\"\")","v":""},{"$f":"IF(Jogo!K76=Conferência!$K$2,Conferência!$K$2,\"\")","v":""},{"$f":"IF(Jogo!L76=Conferência!$L$2,Conferência!$L$2,\"\")","v":""},{"$f":"IF(Jogo!M76=Conferência!$M$2,Conferência!$M$2,\"\")","v":""},{"$f":"IF(Jogo!N76=Conferência!$N$2,Conferência!$N$2,\"\")","v":""},{"$f":"IF(Jogo!O76=Conferência!$O$2,Conferência!$O$2,\"\")","v":""},{"$f":"IF(Jogo!P76=Conferência!$P$2,Conferência!$P$2,\"\")","v":""},{"$f":"IF(Jogo!Q76=Conferência!$Q$2,Conferência!$Q$2,\"\")","v":""},""]
[{"$f":"IF(Jogo!A77=Conferência!$A$2,Conferência!$A$2,\"\")","v":""},{"$f":"IF(Jogo!B77=Conferência!$B$2,Conferência!$B$2,\"\")","v":"QUARTA-FEIRA"},{"$f":"IF(Jogo!C77=Conferência!$C$2,Conferência!$C$2,\"\")","v":1},{"$f":"IF(Jogo!D77=Conferência!$D$2,Conferência!$D$2,\"\")","v":""},{"$f":"IF(Jogo!E77=Conferência!$E$2,Conferência!$E$2,\"\")","v":""},{"$f":"IF(Jogo!F77=Conferência!$F$2,Conferência!$F$2,\"\")","v":""},{"$f":"IF(Jogo!G77=Conferência!$G$2,Conferência!$G$2,\"\")","v":""},{"$f":"IF(Jogo!H77=Conferência!$H$2,Conferência!$H$2,\"\")","v":9},{"$f":"IF(Jogo!I77=Conferência!$I$2,Conferência!$I$2,\"\")","v":10},{"$f":"IF(Jogo!J77=Conferência!$J$2,Conferência!$J$2,\"\")","v":11},{"$f":"IF(Jogo!K77=Conferência!$K$2,Conferência!$K$2,\"\")","v":12},{"$f":"IF(Jogo!L77=Conferência!$L$2,Conferência!$L$2,\"\")","v":13},{"$f":"IF(Jogo!M77=Conferência!$M$2,Conferência!$M$2,\"\")","v":""},{"$f":"IF(Jogo!N77=Conferência!$N$2,Conferência!$N$2,\"\")","v":""},{"$f":"IF(Jogo!O77=Conferência!$O$2,Conferência!$O$2,\"\")","v":19},{"$f":"IF(Jogo!P77=Conferência!$P$2,Conferência!$P$2,\"\")","v":""},{"$f":"IF(Jogo!Q77=Conferência!$Q$2,Conferência!$Q$2,\"\")","v":24},""]
[{"$f":"IF(Jogo!A78=Conferência!$A$2,Conferência!$A$2,\"\")","v":""},{"$f":"IF(Jogo!B78=Conferência!$B$2,Conferência!$B$2,\"\")","v":"QUARTA-FEIRA"},{"$f":"IF(Jogo!C78=Conferência!$C$2,Conferência!$C$2,\"\")","v":1},{"$f":"IF(Jogo!D78=Conferência!$D$2,Conferência!$D$2,\"\")","v":""},{"$f":"IF(Jogo!E78=Conferência!$E$2,Conferência!$E$2,\"\")","v":4},{"$f":"IF(Jogo!F78=Conferência!$F$2,Conferência!$F$2,\"\")","v":""},{"$f":"IF(Jogo!G78=Conferência!$G$2,Conferência!$G$2,\"\")","v":7},{"$f":"IF(Jogo!H78=Conferência!$H$2,Conferência!$H$2,\"\")","v":""},{"$f":"IF(Jogo!I78=Conferência!$I$2,Conferência!$I$2,\"\")","v":""},{"$f":"IF(Jogo!J78=Conferência!$J$2,Conferência!$J$2,\"\")","v":""},{"$f":"IF(Jogo!K78=Conferência!$K$2,Conferência!$K$2,\"\")","v":""},{"$f":"IF(Jogo!L78=Conferência!$L$2,Conferência!$L$2,\"\")","v":""},{"$f":"IF(Jogo!M78=Conferência!$M$2,Conferência!$M$2,\"\")","v":""},{"$f":"IF(Jogo!N78=Conferência!$N$2,Conferência!$N$2,\"\")","v":""},{"$f":"IF(Jogo!O78=Conferência!$O$2,Conferência!$O$2,\"\")","v":""},{"$f":"IF(Jogo!P78=Conferência!$P$2,Conferência!$P$2,\"\")","v":23},{"$f":"IF(Jogo!Q78=Conferência!$Q$2,Conferência!$Q$2,\"\")","v":""},""]
[{"$f":"IF(Jogo!A79=Conferência!$A$2,Conferência!$A$2,\"\")","v":""},{"$f":"IF(Jogo!B79=Conferência!$B$2,Conferência!$B$2,\"\")","v":"QUARTA-FEIRA"},{"$f":"IF(Jogo!C79=Conferência!$C$2,Conferência!$C$2,\"\")","v":1},{"$f":"IF(Jogo!D79=Conferência!$D$2,Conferência!$D$2,\"\")","v":""},{"$f":"IF(Jogo!E79=Conferência!$E$2,Conferência!$E$2,\"\")","v":""},{"$f":"IF(Jogo!F79=Conferência!$F$2,Conferência!$F$2,\"\")","v":""},{"$f":"IF(Jogo!G79=Conferência!$G$2,Conferência!$G$2,\"\")","v":""},{"$f":"IF(Jogo!H79=Conferência!$H$2,Conferência!$H$2,\"\")","v":""},{"$f":"IF(Jogo!I79=Conferência!$I$2,Conferência!$I$2,\"\")","v":""},{"$f":"IF(Jogo!J79=Conferência!$J$2,Conferência!$J$2,\"\")","v":""},{"$f":"IF(Jogo!K79=Conferência!$K$2,Conferência!$K$2,\"\")","v":""},{"$f":"IF(Jogo!L79=Conferência!$L$2,Conferência!$L$2,\"\")","v":""},{"$f":"IF(Jogo!M79=Conferência!$M$2,Conferência!$M$2,\"\")","v":""},{"$f":"IF(Jogo!N79=Conferência!$N$2,Conferência!$N$2,\"\")","v":""},{"$f":"IF(Jogo!O79=Conferência!$O$2,Conferência!$O$2,\"\")","v":""},{"$f":"IF(Jogo!P79=Conferência!$P$2,Conferência!$P$2,\"\")","v":23},{"$f":"IF(Jogo!Q79=Conferência!$Q$2,Conferência!$Q$2,\"\")","v":""},""]
[{"$f":"IF(Jogo!A80=Conferência!$A$2,Conferência!$A$2,\"\")","v":""},{"$f":"IF(Jogo!B80=Conferência!$B$2,Conferência!$B$2,\"\")","v":"QUARTA-FEIRA"},{"$f":"IF(Jogo!C80=Conferência!$C$2,Conferência!$C$2,\"\")","v":1},{"$f":"IF(Jogo!D80=Conferência!$D$2,Conferência!$D$2,\"\")","v":""},{"$f":"IF(Jogo!E80=Conferência!$E$2,Conferência!$E$2,\"\")","v":""},{"$f":"IF(Jogo!F80=Conferência!$F$2,Conferência!$F$2,\"\")","v":""},{"$f":"IF(Jogo!G80=Conferência!$G$2,Conferência!$G$2,\"\")","v":""},{"$f":"IF(Jogo!H80=Conferência!$H$2,Conferência!$H$2,\"\")","v":""},{"$f":"IF(Jogo!I80=Conferência!$I$2,Conferência!$I$2,\"\")","v":""},{"$f":"IF(Jogo!J80=Conferência!$J$2,Conferência!$J$2,\"\")","v":""},{"$f":"IF(Jogo!K80=Conferência!$K$2,Conferência!$K$2,\"\")","v":""},{"$f":"IF(Jogo!L80=Conferência!$L$2,Conferência!$L$2,\"\")","v":""},{"$f":"IF(Jogo!M80=Conferência!$M$2,Conferência!$M$2,\"\")","v":""},{"$f":"IF(Jogo!N80=Conferência!$N$2,Conferência!$N$2,\"\")","v":""},{"$f":"IF(Jogo!O80=Conferência!$O$2,Conferência!$O$2,\"\")","v":19},{"$f":"IF(Jogo!P80=Conferência!$P$2,Conferência!$P$2,\"\")","v":""},{"$f":"IF(Jogo!Q80=Conferência!$Q$2,Conferência!$Q$2,\"\")","v":""},""]
[{"$f":"IF(Jogo!A81=Conferência!$A$2,Conferência!$A$2,\"\")","v":""},{"$f":"IF(Jogo!B81=Conferência!$B$2,Conferência!$B$2,\"\")","v":"QUARTA-FEIRA"},{"$f":"IF(Jogo!C81=Conferência!$C$2,Conferência!$C$2,\"\")","v":""},{"$f":"IF(Jogo!D81=Conferência!$D$2,Conferência!$D$2,\"\")","v":3},{"$f":"IF(Jogo!E81=Conferência!$E$2,Conferência!$E$2,\"\")","v":4},{"$f":"IF(Jogo!F81=Conferência!$F$2,Conferência!$F$2,\"\")","v":6},{"$f":"IF(Jogo!G81=Conferência!$G$2,Conferência!$G$2,\"\")","v":7},{"$f":"IF(Jogo!H81=Conferência!$H$2,Conferência!$H$2,\"\")","v":""},{"$f":"IF(Jogo!I81=Conferência!$I$2,Conferência!$I$2,\"\")","v":""},{"$f":"IF(Jogo!J81=Conferência!$J$2,Conferência!$J$2,\"\")","v":""},{"$f":"IF(Jogo!K81=Conferência!$K$2,Conferência!$K$2,\"\")","v":""},{"$f":"IF(Jogo!L81=Conferência!$L$2,Conferência!$L$2,\"\")","v":""},{"$f":"IF(Jogo!M81=Conferência!$M$2,Conferência!$M$2,\"\")","v":""},{"$f":"IF(Jogo!N81=Conferência!$N$2,Conferência!$N$2,\"\")","v":""},{"$f":"IF(Jogo!O81=Conferência!$O$2,Conferência!$O$2,\"\")","v":19},{"$f":"IF(Jogo!P81=Conferência!$P$2,Conferência!$P$2,\"\")","v":""},{"$f":"IF(Jogo!Q81=Conferência!$Q$2,Conferência!$Q$2,\"\")","v":""},""]
[{"$f":"IF(Jogo!A82=Conferência!$A$2,Conferência!$A$2,\"\")","v":""},{"$f":"IF(Jogo!B82=Conferência!$B$2,Conferência!$B$2,\"\")","v":"QUARTA-FEIRA"},{"$f":"IF(Jogo!C82=Conferência!$C$2,Conferência!$C$2,\"\")","v":1},{"$f":"IF(Jogo!D82=Conferência!$D$2,Conferência!$D$2,\"\")","v":""},{"$f":"IF(Jogo!E82=Conferência!$E$2,Conferência!$E$2,\"\")","v":""},{"$f":"IF(Jogo!F82=Conferência!$F$2,Conferência!$F$2,\"\")","v":""},{"$f":"IF(Jogo!G82=Conferência!$G$2,Conferência!$G$2,\"\")","v":""},{"$f":"IF(Jogo!H82=Conferência!$H$2,Conferência!$H$2,\"\")","v":""},{"$f":"IF(Jogo!I82=Conferência!$I$2,Conferência!$I$2,\"\")","v":""},{"$f":"IF(Jogo!J82=Conferência!$J$2,Conferência!$J$2,\"\")","v":""},{"$f":"IF(Jogo!K82=Conferência!$K$2,Conferência!$K$2,\"\")","v":""},{"$f":"IF(Jogo!L82=Conferência!$L$2,Conferência!$L$2,\"\")","v":""},{"$f":"IF(Jogo!M82=Conferência!$M$2,Conferência!$M$2,\"\")","v":15},{"$f":"IF(Jogo!N82=Conferência!$N$2,Conferência!$N$2,\"\")","v":16},{"$f":"IF(Jogo!O82=Conferência!$O$2,Conferência!$O$2,\"\")","v":""},{"$f":"IF(Jogo!P82=Conferência!$P$2,Conferência!$P$2,\"\")","v":23},{"$f":"IF(Jogo!Q82=Conferência!$Q$2,Conferência!$Q$2,\"\")","v":""},{"$f":"IF(A82=\"\",\"\",\"OK\")","v":""}]
[{"$f":"IF(Jogo!A83=Conferência!$A$2,Conferência!$A$2,\"\")","v":""},{"$f":"IF(Jogo!B83=Conferência!$B$2,Conferência!$B$2,\"\")","v":"QUARTA-FEIRA"},{"$f":"IF(Jogo!C83=Conferência!$C$2,Conferência!$C$2,\"\")","v":1},{"$f":"IF(Jogo!D83=Conferência!$D$2,Conferência!$D$2,\"\")","v":""},{"$f":"IF(Jogo!E83=Conferência!$E$2,Conferência!$E$2,\"\")","v":""},{"$f":"IF(Jogo!F83=Conferência!$F$2,Conferência!$F$2,\"\")","v":""},{"$f":"IF(Jogo!G83=Conferência!$G$2,Conferência!$G$2,\"\")","v":""},{"$f":"IF(Jogo!H83=Conferência!$H$2,Conferência!$H$2,\"\")","v":""},{"$f":"IF(Jogo!I83=Conferência!$I$2,Conferência!$I$2,\"\")","v":""},{"$f":"IF(Jogo!J83=Conferência!$J$2,Conferência!$J$2,\"\")","v":""},{"$f":"IF(Jogo!K83=Conferência!$K$2,Conferência!$K$2,\"\")","v":""},{"$f":"IF(Jogo!L83=Conferência!$L$2,Conferência!$L$2,\"\")","v":""},{"$f":"IF(Jogo!M83=Conferência!$M$2,Conferência!$M$2,\"\")","v":""},{"$f":"IF(Jogo!N83=Conferência!$N$2,Conferência!$N$2,\"\")","v":""},{"$f":"IF(Jogo!O83=Conferência!$O$2,Conferência!$O$2,\"\")","v":""},{"$f":"IF(Jogo!P83=Conferência!$P$2,Conferência!$P$2,\"\")","v":""},{"$f":"IF(Jogo!Q83=Conferência!$Q$2,Conferência!$Q$2,\"\")","v":""},""]
[{"$f":"IF(Jogo!A84=Conferência!$A$2,Conferência!$A$2,\"\")","v":""},{"$f":"IF(Jogo!B84=Conferência!$B$2,Conferência!$B$2,\"\")","v":"QUARTA-FEIRA"},{"$f":"IF(Jogo!C84=Conferência!$C$2,Conferência!$C$2,\"\")","v":1},{"$f":"IF(Jogo!D84=Conferência!$D$2,Conferência!$D$2,\"\")","v":""},{"$f":"IF(Jogo!E84=Conferência!$E$2,Conferência!$E$2,\"\")","v":""},{"$f":"IF(Jogo!F84=Conferência!$F$2,Conferência!$F$2,\"\")","v":""},{"$f":"IF(Jogo!G84=Conferência!$G$2,Conferência!$G$2,\"\")","v":7},{"$f":"IF(Jogo!H84=Conferência!$H$2,Conferência!$H$2,\"\")","v":9},{"$f":"IF(Jogo!I84=Conferência!$I$2,Conferência!$I$2,\"\")","v":10},{"$f":"IF(Jogo!J84=Conferência!$J$2,Conferência!$J$2,\"\")","v":11},{"$f":"IF(Jogo!K84=Conferência!$K$2,Conferência!$K$2,\"\")","v":12},{"$f":"IF(Jogo!L84=Conferência!$L$2,Conferência!$L$2,\"\")","v":""},{"$f":"IF(Jogo!M84=Conferência!$M$2,Conferência!$M$2,\"\")","v":""},{"$f":"IF(Jogo!N84=Conferência!$N$2,Conferência!$N$2,\"\")","v":""},{"$f":"IF(Jogo!O84=Conferência!$O$2,Conferência!$O$2,\"\")","v":""},{"$f":"IF(Jogo!P84=Conferência!$P$2,Conferência!$P$2,\"\")","v":""},{"$f":"IF(Jogo!Q84=Conferência!$Q$2,Conferência!$Q$2,\"\")","v":24},""]
[{"$f":"IF(Jogo!A85=Conferência!$A$2,Conferência!$A$2,\"\")","v":""},{"$f":"IF(Jogo!B85=Conferência!$B$2,Conferência!$B$2,\"\")","v":"QUARTA-FEIRA"},{"$f":"IF(Jogo!C85=Conferência!$C$2,Conferência!$C$2,\"\")","v":""},{"$f":"IF(Jogo!D85=Conferência!$D$2,Conferência!$D$2,\"\")","v":""},{"$f":"IF(Jogo!E85=Conferência!$E$2,Conferência!$E$2,\"\")","v":""},{"$f":"IF(Jogo!F85=Conferência!$F$2,Conferência!$F$2,\"\")","v":""},{"$f":"IF(Jogo!G85=Conferência!$G$2,Conferência!$G$2,\"\")","v":""},{"$f":"IF(Jogo!H85=Conferência!$H$2,Conferência!$H$2,\"\")","v":9},{"$f":"IF(Jogo!I85=Conferência!$I$2,Conferência!$I$2,\"\")","v":""},{"$f":"IF(Jogo!J85=Conferência!$J$2,Conferência!$J$2,\"\")","v":""},{"$f":"IF(Jogo!K85=Conferência!$K$2,Conferência!$K$2,\"\")","v":""},{"$f":"IF(Jogo!L85=Conferência!$L$2,Conferência!$L$2,\"\")","v":""},{"$f":"IF(Jogo!M85=Conferência!$M$2,Conferência!$M$2,\"\")","v":""},{"$f":"IF(Jogo!N85=Conferência!$N$2,Conferência!$N$2,\"\")","v":""},{"$f":"IF(Jogo!O85=Conferência!$O$2,Conferência!$O$2,\"\")","v":""},{"$f":"IF(Jogo!P85=Conferência!$P$2,Conferência!$P$2,\"\")","v":""},{"$f":"IF(Jogo!Q85=Conferência!$Q$2,Conferência!$Q$2,\"\")","v":""},""]
[{"$f":"IF(Jogo!A86=Conferência!$A$2,Conferência!$A$2,\"\")","v":""},{"$f":"IF(Jogo!B86=Conferência!$B$2,Conferência!$B$2,\"\")","v":"QUARTA-FEIRA"},{"$f":"IF(Jogo!C86=Conferência!$C$2,Conferência!$C$2,\"\")","v":""},{"$f":"IF(Jogo!D86=Conferência!$D$2,Conferência!$D$2,\"\")","v":""},{"$f":"IF(Jogo!E86=Conferência!$E$2,Conferência!$E$2,\"\")","v":""},{"$f":"IF(Jogo!F86=Conferência!$F$2,Conferência!$F$2,\"\")","v":""},{"$f":"IF(Jogo!G86=Conferência!$G$2,Conferência!$G$2,\"\")","v":""},{"$f":"IF(Jogo!H86=Conferência!$H$2,Conferência!$H$2,\"\")","v":""},{"$f":"IF(Jogo!I86=Conferência!$I$2,Conferência!$I$2,\"\")","v":""},{"$f":"IF(Jogo!J86=Conferência!$J$2,Conferência!$J$2,\"\")","v":""},{"$f":"IF(Jogo!K86=Conferência!$K$2,Conferência!$K$2,\"\")","v":""},{"$f":"IF(Jogo!L86=Conferência!$L$2,Conferência!$L$2,\"\")","v":""},{"$f":"IF(Jogo!M86=Conferência!$M$2,Conferência!$M$2,\"\")","v":""},{"$f":"IF(Jogo!N86=Conferência!$N$2,Conferência!$N$2,\"\")","v":""},{"$f":"IF(Jogo!O86=Conferência!$O$2,Conferência!$O$2,\"\")","v":""},{"$f":"IF(Jogo!P86=Conferência!$P$2,Conferência!$P$2,\"\")","v":""},{"$f":"IF(Jogo!Q86=Conferência!$Q$2,Conferência!$Q$2,\"\")","v":""},""]
[{"$f":"IF(Jogo!A87=Conferência!$A$2,Conferência!$A$2,\"\")","v":""},{"$f":"IF(Jogo!B87=Conferência!$B$2,Conferência!$B$2,\"\")","v":"QUARTA-FEIRA"},{"$f":"IF(Jogo!C87=Conferência!$C$2,Conferência!$C$2,\"\")","v":1},{"$f":"IF(Jogo!D87=Conferência!$D$2,Conferência!$D$2,\"\")","v":3},{"$f":"IF(Jogo!E87=Conferência!$E$2,Conferência!$E$2,\"\")","v":4},{"$f":"IF(Jogo!F87=Conferência!$F$2,Conferência!$F$2,\"\")","v":""},{"$f":"IF(Jogo!G87=Conferência!$G$2,Conferência!$G$2,\"\")","v":""},{"$f":"IF(Jogo!H87=Conferência!$H$2,Conferência!$H$2,\"\")","v":""},{"$f":"IF(Jogo!I87=Conferência!$I$2,Conferência!$I$2,\"\")","v":""},{"$f":"IF(Jogo!J87=Conferência!$J$2,Conferência!$J$2,\"\")","v":""},{"$f":"IF(Jogo!K87=Conferência!$K$2,Conferência!$K$2,\"\")","v":""},{"$f":"IF(Jogo!L87=Conferência!$L$2,Conferência!$L$2,\"\")","v":""},{"$f":"IF(Jogo!M87=Conferência!$M$2,Conferência!$M$2,\"\")","v":""},{"$f":"IF(Jogo!N87=Conferência!$N$2,Conferência!$N$2,\"\")","v":""},{"$f":"IF(Jogo!O87=Conferência!$O$2,Conferência!$O$2,\"\")","v":""},{"$f":"IF(Jogo!P87=Conferência!$P$2,Conferência!$P$2,\"\")","v":""},{"$f":"IF(Jogo!Q87=Conferência!$Q$2,Conferência!$Q$2,\"\")","v":""},""]
[{"$f":"IF(Jogo!A88=Conferência!$A$2,Conferência!$A$2,\"\")","v":""},{"$f":"IF(Jogo!B88=Conferência!$B$2,Conferência!$B$2,\"\")","v":"QUARTA-FEIRA"},{"$f":"IF(Jogo!C88=Conferência!$C$2,Conferência!$C$2,\"\")","v":1},{"$f":"IF(Jogo!D88=Conferência!$D$2,Conferência!$D$2,\"\")","v":""},{"$f":"IF(Jogo!E88=Conferência!$E$2,Conferência!$E$2,\"\")","v":""},{"$f":"IF(Jogo!F88=Conferência!$F$2,Conferência!$F$2,\"\")","v":""},{"$f":"IF(Jogo!G88=Conferência!$G$2,Conferência!$G$2,\"\")","v":""},{"$f":"IF(Jogo!H88=Conferência!$H$2,Conferência!$H$2,\"\")","v":""},{"$f":"IF(Jogo!I88=Conferência!$I$2,Conferência!$I$2,\"\")","v":10},{"$f":"IF(Jogo!J88=Conferência!$J$2,Conferência!$J$2,\"\")","v":""},{"$f":"IF(Jogo!K88=Conferência!$K$2,Conferência!$K$2,\"\")","v":""},{"$f":"IF(Jogo!L88=Conferência!$L$2,Conferência!$L$2,\"\")","v":""},{"$f":"IF(Jogo!M88=Conferência!$M$2,Conferência!$M$2,\"\")","v":""},{"$f":"IF(Jogo!N88=Conferência!$N$2,Conferência!$N$2,\"\")","v":""},{"$f":"IF(Jogo!O88=Conferência!$O$2,Conferência!$O$2,\"\")","v":""},{"$f":"IF(Jogo!P88=Conferência!$P$2,Conferência!$P$2,\"\")","v":""},{"$f":"IF(Jogo!Q88=Conferência!$Q$2,Conferência!$Q$2,\"\")","v":24},""]
[{"$f":"IF(Jogo!A89=Conferência!$A$2,Conferência!$A$2,\"\")","v":""},{"$f":"IF(Jogo!B89=Conferência!$B$2,Conferência!$B$2,\"\")","v":"QUARTA-FEIRA"},{"$f":"IF(Jogo!C89=Conferência!$C$2,Conferência!$C$2,\"\")","v":""},{"$f":"IF(Jogo!D89=Conferência!$D$2,Conferência!$D$2,\"\")","v":""},{"$f":"IF(Jogo!E89=Conferência!$E$2,Conferência!$E$2,\"\")","v":""},{"$f":"IF(Jogo!F89=Conferência!$F$2,Conferência!$F$2,\"\")","v":""},{"$f":"IF(Jogo!G89=Conferência!$G$2,Conferência!$G$2,\"\")","v":""},{"$f":"IF(Jogo!H89=Conferência!$H$2,Conferência!$H$2,\"\")","v":""},{"$f":"IF(Jogo!I89=Conferência!$I$2,Conferência!$I$2,\"\")","v":""},{"$f":"IF(Jogo!J89=Conferência!$J$2,Conferência!$J$2,\"\")","v":""},{"$f":"IF(Jogo!K89=Conferência!$K$2,Conferência!$K$2,\"\")","v":""},{"$f":"IF(Jogo!L89=Conferência!$L$2,Conferência!$L$2,\"\")","v":""},{"$f":"IF(Jogo!M89=Conferência!$M$2,Conferência!$M$2,\"\")","v":""},{"$f":"IF(Jogo!N89=Conferência!$N$2,Conferência!$N$2,\"\")","v":""},{"$f":"IF(Jogo!O89=Conferência!$O$2,Conferência!$O$2,\"\")","v":19},{"$f":"IF(Jogo!P89=Conferência!$P$2,Conferência!$P$2,\"\")","v":23},{"$f":"IF(Jogo!Q89=Conferência!$Q$2,Conferência!$Q$2,\"\")","v":24},""]
[{"$f":"IF(Jogo!A90=Conferência!$A$2,Conferência!$A$2,\"\")","v":""},{"$f":"IF(Jogo!B90=Conferência!$B$2,Conferência!$B$2,\"\")","v":"QUARTA-FEIRA"},{"$f":"IF(Jogo!C90=Conferência!$C$2,Conferência!$C$2,\"\")","v":""},{"$f":"IF(Jogo!D90=Conferência!$D$2,Conferência!$D$2,\"\")","v":3},{"$f":"IF(Jogo!E90=Conferência!$E$2,Conferência!$E$2,\"\")","v":4},{"$f":"IF(Jogo!F90=Conferência!$F$2,Conferência!$F$2,\"\")","v":""},{"$f":"IF(Jogo!G90=Conferência!$G$2,Conferência!$G$2,\"\")","v":""},{"$f":"IF(Jogo!H90=Conferência!$H$2,Conferência!$H$2,\"\")","v":""},{"$f":"IF(Jogo!I90=Conferência!$I$2,Conferência!$I$2,\"\")","v":""},{"$f":"IF(Jogo!J90=Conferência!$J$2,Conferência!$J$2,\"\")","v":""},{"$f":"IF(Jogo!K90=Conferência!$K$2,Conferência!$K$2,\"\")","v":""},{"$f":"IF(Jogo!L90=Conferência!$L$2,Conferência!$L$2,\"\")","v":""},{"$f":"IF(Jogo!M90=Conferência!$M$2,Conferência!$M$2,\"\")","v":""},{"$f":"IF(Jogo!N90=Conferência!$N$2,Conferência!$N$2,\"\")","v":""},{"$f":"IF(Jogo!O90=Conferência!$O$2,Conferência!$O$2,\"\")","v":""},{"$f":"IF(Jogo!P90=Conferência!$P$2,Conferência!$P$2,\"\")","v":""},{"$f":"IF(Jogo!Q90=Conferência!$Q$2,Conferência!$Q$2,\"\")","v":""},""]
[{"$f":"IF(Jogo!A91=Conferência!$A$2,Conferência!$A$2,\"\")","v":""},{"$f":"IF(Jogo!B91=Conferência!$B$2,Conferência!$B$2,\"\")","v":"QUARTA-FEIRA"},{"$f":"IF(Jogo!C91=Conferência!$C$2,Conferência!$C$2,\"\")","v":1},{"$f":"IF(Jogo!D91=Conferência!$D$2,Conferência!$D$2,\"\")","v":3},{"$f":"IF(Jogo!E91=Conferência!$E$2,Conferência!$E$2,\"\")","v":4},{"$f":"IF(Jogo!F91=Conferência!$F$2,Conferência!$F$2,\"\")","v":""},{"$f":"IF(Jogo!G91=Conferência!$G$2,Conferência!$G$2,\"\")","v":""},{"$f":"IF(Jogo!H91=Conferência!$H$2,Conferência!$H$2,\"\")","v":""},{"$f":"IF(Jogo!I91=Conferência!$I$2,Conferência!$I$2,\"\")","v":""},{"$f":"IF(Jogo!J91=Conferência!$J$2,Conferência!$J$2,\"\")","v":""},{"$f":"IF(Jogo!K91=Conferência!$K$2,Conferência!$K$2,\"\")","v":""},{"$f":"IF(Jogo!L91=Conferência!$L$2,Conferência!$L$2,\"\")","v":""},{"$f":"IF(Jogo!M91=Conferência!$M$2,Conferência!$M$2,\"\")","v":""},{"$f":"IF(Jogo!N91=Conferência!$N$2,Conferência!$N$2,\"\")","v":""},{"$f":"IF(Jogo!O91=Conferência!$O$2,Conferência!$O$2,\"\")","v":""},{"$f":"IF(Jogo!P91=Conferência!$P$2,Conferência!$P$2,\"\")","v":""},{"$f":"IF(Jogo!Q91=Conferência!$Q$2,Conferência!$Q$2,\"\")","v":24},""]
[{"$f":"IF(Jogo!A92=Conferência!$A$2,Conferência!$A$2,\"\")","v":""},{"$f":"IF(Jogo!B92=Conferência!$B$2,Conferência!$B$2,\"\")","v":"QUARTA-FEIRA"},{"$f":"IF(Jogo!C92=Conferência!$C$2,Conferência!$C$2,\"\")","v":1},{"$f":"IF(Jogo!D92=Conferência!$D$2,Conferência!$D$2,\"\")","v":3},{"$f":"IF(Jogo!E92=Conferência!$E$2,Conferência!$E$2,\"\")","v":""},{"$f":"IF(Jogo!F92=Conferência!$F$2,Conferência!$F$2,\"\")","v":""},{"$f":"IF(Jogo!G92=Conferência!$G$2,Conferência!$G$2,\"\")","v":""},{"$f":"IF(Jogo!H92=Conferência!$H$2,Conferência!$H$2,\"\")","v":""},{"$f":"IF(Jogo!I92=Conferência!$I$2,Conferência!$I$2,\"\")","v":""},{"$f":"IF(Jogo!J92=Conferência!$J$2,Conferência!$J$2,\"\")","v":""},{"$f":"IF(Jogo!K92=Conferência!$K$2,Conferência!$K$2,\"\")","v":""},{"$f":"IF(Jogo!L92=Conferência!$L$2,Conferência!$L$2,\"\")","v":""},{"$f":"IF(Jogo!M92=Conferência!$M$2,Conferência!$M$2,\"\")","v":""},{"$f":"IF(Jogo!N92=Conferência!$N$2,Conferência!$N$2,\"\")","v":""},{"$f":"IF(Jogo!O92=Conferência!$O$2,Conferência!$O$2,\"\")","v":""},{"$f":"IF(Jogo!P92=Conferência!$P$2,Conferência!$P$2,\"\")","v":""},{"$f":"IF(Jogo!Q92=Conferência!$Q$2,Conferência!$Q$2,\"\")","v":""},""]
[{"$f":"IF(Jogo!A93=Conferência!$A$2,Conferência!$A$2,\"\")","v":""},{"$f":"IF(Jogo!B93=Conferência!$B$2,Conferência!$B$2,\"\")","v":"QUARTA-FEIRA"},{"$f":"IF(Jogo!C93=Conferência!$C$2,Conferência!$C$2,\"\")","v":1},{"$f":"IF(Jogo!D93=Conferência!$D$2,Conferência!$D$2,\"\")","v":""},{"$f":"IF(Jogo!E93=Conferência!$E$2,Conferência!$E$2,\"\")","v":4},{"$f":"IF(Jogo!F93=Conferência!$F$2,Conferência!$F$2,\"\")","v":6},{"$f":"IF(Jogo!G93=Conferência!$G$2,Conferência!$G$2,\"\")","v":7},{"$f":"IF(Jogo!H93=Conferência!$H$2,Conferência!$H$2,\"\")","v":""},{"$f":"IF(Jogo!I93=Conferência!$I$2,Conferência!$I$2,\"\")","v":""},{"$f":"IF(Jogo!J93=Conferência!$J$2,Conferência!$J$2,\"\")","v":""},{"$f":"IF(Jogo!K93=Conferência!$K$2,Conferência!$K$2,\"\")","v":""},{"$f":"IF(Jogo!L93=Conferência!$L$2,Conferência!$L$2,\"\")","v":""},{"$f":"IF(Jogo!M93=Conferência!$M$2,Conferência!$M$2,\"\")","v":""},{"$f":"IF(Jogo!N93=Conferência!$N$2,Conferência!$N$2,\"\")","v":""},{"$f":"IF(Jogo!O93=Conferência!$O$2,Conferência!$O$2,\"\")","v":19},{"$f":"IF(Jogo!P93=Conferência!$P$2,Conferência!$P$2,\"\")","v":""},{"$f":"IF(Jogo!Q93=Conferência!$Q$2,Conferência!$Q$2,\"\")","v":24},""]
[{"$f":"IF(Jogo!A94=Conferência!$A$2,Conferência!$A$2,\"\")","v":""},{"$f":"IF(Jogo!B94=Conferência!$B$2,Conferência!$B$2,\"\")","v":"QUARTA-FEIRA"},{"$f":"IF(Jogo!C94=Conferência!$C$2,Conferência!$C$2,\"\")","v":""},{"$f":"IF(Jogo!D94=Conferência!$D$2,Conferência!$D$2,\"\")","v":""},{"$f":"IF(Jogo!E94=Conferência!$E$2,Conferência!$E$2,\"\")","v":""},{"$f":"IF(Jogo!F94=Conferência!$F$2,Conferência!$F$2,\"\")","v":6},{"$f":"IF(Jogo!G94=Conferência!$G$2,Conferência!$G$2,\"\")","v":7},{"$f":"IF(Jogo!H94=Conferência!$H$2,Conferência!$H$2,\"\")","v":""},{"$f":"IF(Jogo!I94=Conferência!$I$2,Conferência!$I$2,\"\")","v":""},{"$f":"IF(Jogo!J94=Conferência!$J$2,Conferência!$J$2,\"\")","v":11},{"$f":"IF(Jogo!K94=Conferência!$K$2,Conferência!$K$2,\"\")","v":12},{"$f":"IF(Jogo!L94=Conferência!$L$2,Conferência!$L$2,\"\")","v":13},{"$f":"IF(Jogo!M94=Conferência!$M$2,Conferência!$M$2,\"\")","v":""},{"$f":"IF(Jogo!N94=Conferência!$N$2,Conferência!$N$2,\"\")","v":""},{"$f":"IF(Jogo!O94=Conferência!$O$2,Conferência!$O$2,\"\")","v":""},{"$f":"IF(Jogo!P94=Conferência!$P$2,Conferência!$P$2,\"\")","v":""},{"$f":"IF(Jogo!Q94=Conferência!$Q$2,Conferência!$Q$2,\"\")","v":""},""]
[{"$f":"IF(Jogo!A95=Conferência!$A$2,Conferência!$A$2,\"\")","v":""},{"$f":"IF(Jogo!B95=Conferência!$B$2,Conferência!$B$2,\"\")","v":"QUARTA-FEIRA"},{"$f":"IF(Jogo!C95=Conferência!$C$2,Conferência!$C$2,\"\")","v":1},{"$f":"IF(Jogo!D95=Conferência!$D$2,Conferência!$D$2,\"\")","v":""},{"$f":"IF(Jogo!E95=Conferência!$E$2,Conferência!$E$2,\"\")","v":""},{"$f":"IF(Jogo!F95=Conferência!$F$2,Conferência!$F$2,\"\")","v":""},{"$f":"IF(Jogo!G95=Conferência!$G$2,Conferência!$G$2,\"\")","v":""},{"$f":"IF(Jogo!H95=Conferência!$H$2,Conferência!$H$2,\"\")","v":""},{"$f":"IF(Jogo!I95=Conferência!$I$2,Conferência!$I$2,\"\")","v":""},{"$f":"IF(Jogo!J95=Conferência!$J$2,Conferência!$J$2,\"\")","v":""},{"$f":"IF(Jogo!K95=Conferência!$K$2,Conferência!$K$2,\"\")","v":""},{"$f":"IF(Jogo!L95=Conferência!$L$2,Conferência!$L$2,\"\")","v":""},{"$f":"IF(Jogo!M95=Conferência!$M$2,Conferência!$M$2,\"\")","v":""},{"$f":"IF(Jogo!N95=Conferência!$N$2,Conferência!$N$2,\"\")","v":""},{"$f":"IF(Jogo!O95=Conferência!$O$2,Conferência!$O$2,\"\")","v":""},{"$f":"IF(Jogo!P95=Conferência!$P$2,Conferência!$P$2,\"\")","v":""},{"$f":"IF(Jogo!Q95=Conferência!$Q$2,Conferência!$Q$2,\"\")","v":""},""]
[{"$f":"IF(Jogo!A96=Conferência!$A$2,Conferência!$A$2,\"\")","v":""},{"$f":"IF(Jogo!B96=Conferência!$B$2,Conferência!$B$2,\"\")","v":"QUARTA-FEIRA"},{"$f":"IF(Jogo!C96=Conferência!$C$2,Conferência!$C$2,\"\")","v":""},{"$f":"IF(Jogo!D96=Conferência!$D$2,Conferência!$D$2,\"\")","v":""},{"$f":"IF(Jogo!E96=Conferência!$E$2,Conferência!$E$2,\"\")","v":""},{"$f":"IF(Jogo!F96=Conferência!$F$2,Conferência!$F$2,\"\")","v":""},{"$f":"IF(Jogo!G96=Conferência!$G$2,Conferência!$G$2,\"\")","v":""},{"$f":"IF(Jogo!H96=Conferência!$H$2,Conferência!$H$2,\"\")","v":""},{"$f":"IF(Jogo!I96=Conferência!$I$2,Conferência!$I$2,\"\")","v":""},{"$f":"IF(Jogo!J96=Conferência!$J$2,Conferência!$J$2,\"\")","v":""},{"$f":"IF(Jogo!K96=Conferência!$K$2,Conferência!$K$2,\"\")","v":""},{"$f":"IF(Jogo!L96=Conferência!$L$2,Conferência!$L$2,\"\")","v":""},{"$f":"IF(Jogo!M96=Conferência!$M$2,Conferência!$M$2,\"\")","v":""},{"$f":"IF(Jogo!N96=Conferência!$N$2,Conferência!$N$2,\"\")","v":""},{"$f":"IF(Jogo!O96=Conferência!$O$2,Conferência!$O$2,\"\")","v":""},{"$f":"IF(Jogo!P96=Conferência!$P$2,Conferência!$P$2,\"\")","v":""},{"$f":"IF(Jogo!Q96=Conferência!$Q$2,Conferência!$Q$2,\"\")","v":""},""]
[{"$f":"IF(Jogo!A97=Conferência!$A$2,Conferência!$A$2,\"\")","v":""},{"$f":"IF(Jogo!B97=Conferência!$B$2,Conferência!$B$2,\"\")","v":"QUARTA-FEIRA"},{"$f":"IF(Jogo!C97=Conferência!$C$2,Conferência!$C$2,\"\")","v":""},{"$f":"IF(Jogo!D97=Conferência!$D$2,Conferência!$D$2,\"\")","v":""},{"$f":"IF(Jogo!E97=Conferência!$E$2,Conferência!$E$2,\"\")","v":""},{"$f":"IF(Jogo!F97=Conferência!$F$2,Conferência!$F$2,\"\")","v":6},{"$f":"IF(Jogo!G97=Conferência!$G$2,Conferência!$G$2,\"\")","v":7},{"$f":"IF(Jogo!H97=Conferência!$H$2,Conferência!$H$2,\"\")","v":9},{"$f":"IF(Jogo!I97=Conferência!$I$2,Conferência!$I$2,\"\")","v":""},{"$f":"IF(Jogo!J97=Conferência!$J$2,Conferência!$J$2,\"\")","v":""},{"$f":"IF(Jogo!K97=Conferência!$K$2,Conferência!$K$2,\"\")","v":""},{"$f":"IF(Jogo!L97=Conferência!$L$2,Conferência!$L$2,\"\")","v":""},{"$f":"IF(Jogo!M97=Conferência!$M$2,Conferência!$M$2,\"\")","v":""},{"$f":"IF(Jogo!N97=Conferência!$N$2,Conferência!$N$2,\"\")","v":""},{"$f":"IF(Jogo!O97=Conferência!$O$2,Conferência!$O$2,\"\")","v":""},{"$f":"IF(Jogo!P97=Conferência!$P$2,Conferência!$P$2,\"\")","v":""},{"$f":"IF(Jogo!Q97=Conferência!$Q$2,Conferência!$Q$2,\"\")","v":""},""]
[{"$f":"IF(Jogo!A98=Conferência!$A$2,Conferência!$A$2,\"\")","v":""},{"$f":"IF(Jogo!B98=Conferência!$B$2,Conferência!$B$2,\"\")","v":"QUARTA-FEIRA"},{"$f":"IF(Jogo!C98=Conferência!$C$2,Conferência!$C$2,\"\")","v":1},{"$f":"IF(Jogo!D98=Conferência!$D$2,Conferência!$D$2,\"\")","v":""},{"$f":"IF(Jogo!E98=Conferência!$E$2,Conferência!$E$2,\"\")","v":""},{"$f":"IF(Jogo!F98=Conferência!$F$2,Conferência!$F$2,\"\")","v":""},{"$f":"IF(Jogo!G98=Conferência!$G$2,Conferência!$G$2,\"\")","v":""},{"$f":"IF(Jogo!H98=Conferência!$H$2,Conferência!$H$2,\"\")","v":""},{"$f":"IF(Jogo!I98=Conferência!$I$2,Conferência!$I$2,\"\")","v":""},{"$f":"IF(Jogo!J98=Conferência!$J$2,Conferência!$J$2,\"\")","v":""},{"$f":"IF(Jogo!K98=Conferência!$K$2,Conferência!$K$2,\"\")","v":""},{"$f":"IF(Jogo!L98=Conferência!$L$2,Conferência!$L$2,\"\")","v":""},{"$f":"IF(Jogo!M98=Conferência!$M$2,Conferência!$M$2,\"\")","v":""},{"$f":"IF(Jogo!N98=Conferência!$N$2,Conferência!$N$2,\"\")","v":""},{"$f":"IF(Jogo!O98=Conferência!$O$2,Conferência!$O$2,\"\")","v":""},{"$f":"IF(Jogo!P98=Conferência!$P$2,Conferência!$P$2,\"\")","v":""},{"$f":"IF(Jogo!Q98=Conferência!$Q$2,Conferência!$Q$2,\"\")","v":24},""]
[{"$f":"IF(Jogo!A99=Conferência!$A$2,Conferência!$A$2,\"\")","v":""},{"$f":"IF(Jogo!B99=Conferência!$B$2,Conferência!$B$2,\"\")","v":"QUARTA-FEIRA"},{"$f":"IF(Jogo!C99=Conferência!$C$2,Conferência!$C$2,\"\")","v":""},{"$f":"IF(Jogo!D99=Conferência!$D$2,Conferência!$D$2,\"\")","v":""},{"$f":"IF(Jogo!E99=Conferência!$E$2,Conferência!$E$2,\"\")","v":""},{"$f":"IF(Jogo!F99=Conferência!$F$2,Conferência!$F$2,\"\")","v":""},{"$f":"IF(Jogo!G99=Conferência!$G$2,Conferência!$G$2,\"\")","v":""},{"$f":"IF(Jogo!H99=Conferência!$H$2,Conferência!$H$2,\"\")","v":""},{"$f":"IF(Jogo!I99=Conferência!$I$2,Conferência!$I$2,\"\")","v":""},{"$f":"IF(Jogo!J99=Conferência!$J$2,Conferência!$J$2,\"\")","v":""},{"$f":"IF(Jogo!K99=Conferência!$K$2,Conferência!$K$2,\"\")","v":""},{"$f":"IF(Jogo!L99=Conferência!$L$2,Conferência!$L$2,\"\")","v":""},{"$f":"IF(Jogo!M99=Conferência!$M$2,Conferência!$M$2,\"\")","v":""},{"$f":"IF(Jogo!N99=Conferência!$N$2,Conferência!$N$2,\"\")","v":""},{"$f":"IF(Jogo!O99=Conferência!$O$2,Conferência!$O$2,\"\")","v":""},{"$f":"IF(Jogo!P99=Conferência!$P$2,Conferência!$P$2,\"\")","v":""},{"$f":"IF(Jogo!Q99=Conferência!$Q$2,Conferência!$Q$2,\"\")","v":""},""]
[{"$f":"IF(Jogo!A100=Conferência!$A$2,Conferência!$A$2,\"\")","v":""},{"$f":"IF(Jogo!B100=Conferência!$B$2,Conferência!$B$2,\"\")","v":"QUARTA-FEIRA"},{"$f":"IF(Jogo!C100=Conferência!$C$2,Conferência!$C$2,\"\")","v":""},{"$f":"IF(Jogo!D100=Conferência!$D$2,Conferência!$D$2,\"\")","v":3},{"$f":"IF(Jogo!E100=Conferência!$E$2,Conferência!$E$2,\"\")","v":4},{"$f":"IF(Jogo!F100=Conferência!$F$2,Conferência!$F$2,\"\")","v":6},{"$f":"IF(Jogo!G100=Conferência!$G$2,Conferência!$G$2,\"\")","v":7},{"$f":"IF(Jogo!H100=Conferência!$H$2,Conferência!$H$2,\"\")","v":9},{"$f":"IF(Jogo!I100=Conferência!$I$2,Conferência!$I$2,\"\")","v":""},{"$f":"IF(Jogo!J100=Conferência!$J$2,Conferência!$J$2,\"\")","v":""},{"$f":"IF(Jogo!K100=Conferência!$K$2,Conferência!$K$2,\"\")","v":""},{"$f":"IF(Jogo!L100=Conferência!$L$2,Conferência!$L$2,\"\")","v":""},{"$f":"IF(Jogo!M100=Conferência!$M$2,Conferência!$M$2,\"\")","v":""},{"$f":"IF(Jogo!N100=Conferência!$N$2,Conferência!$N$2,\"\")","v":""},{"$f":"IF(Jogo!O100=Conferência!$O$2,Conferência!$O$2,\"\")","v":""},{"$f":"IF(Jogo!P100=Conferência!$P$2,Conferência!$P$2,\"\")","v":""},{"$f":"IF(Jogo!Q100=Conferência!$Q$2,Conferência!$Q$2,\"\")","v":""},""]
[{"$f":"IF(Jogo!A101=Conferência!$A$2,Conferência!$A$2,\"\")","v":""},{"$f":"IF(Jogo!B101=Conferência!$B$2,Conferência!$B$2,\"\")","v":"QUARTA-FEIRA"},{"$f":"IF(Jogo!C101=Conferência!$C$2,Conferência!$C$2,\"\")","v":1},{"$f":"IF(Jogo!D101=Conferência!$D$2,Conferência!$D$2,\"\")","v":3},{"$f":"IF(Jogo!E101=Conferência!$E$2,Conferência!$E$2,\"\")","v":4},{"$f":"IF(Jogo!F101=Conferência!$F$2,Conferência!$F$2,\"\")","v":""},{"$f":"IF(Jogo!G101=Conferência!$G$2,Conferência!$G$2,\"\")","v":""},{"$f":"IF(Jogo!H101=Conferência!$H$2,Conferência!$H$2,\"\")","v":""},{"$f":"IF(Jogo!I101=Conferência!$I$2,Conferência!$I$2,\"\")","v":""},{"$f":"IF(Jogo!J101=Conferência!$J$2,Conferência!$J$2,\"\")","v":""},{"$f":"IF(Jogo!K101=Conferência!$K$2,Conferência!$K$2,\"\")","v":""},{"$f":"IF(Jogo!L101=Conferência!$L$2,Conferência!$L$2,\"\")","v":""},{"$f":"IF(Jogo!M101=Conferência!$M$2,Conferência!$M$2,\"\")","v":""},{"$f":"IF(Jogo!N101=Conferência!$N$2,Conferência!$N$2,\"\")","v":""},{"$f":"IF(Jogo!O101=Conferência!$O$2,Conferência!$O$2,\"\")","v":""},{"$f":"IF(Jogo!P101=Conferência!$P$2,Conferência!$P$2,\"\")","v":23},{"$f":"IF(Jogo!Q101=Conferência!$Q$2,Conferência!$Q$2,\"\")","v":24},""]
[{"$f":"IF(Jogo!A102=Conferência!$A$2,Conferência!$A$2,\"\")","v":""},{"$f":"IF(Jogo!B102=Conferência!$B$2,Conferência!$B$2,\"\")","v":"QUARTA-FEIRA"},{"$f":"IF(Jogo!C102=Conferência!$C$2,Conferência!$C$2,\"\")","v":""},{"$f":"IF(Jogo!D102=Conferência!$D$2,Conferência!$D$2,\"\")","v":""},{"$f":"IF(Jogo!E102=Conferência!$E$2,Conferência!$E$2,\"\")","v":""},{"$f":"IF(Jogo!F102=Conferência!$F$2,Conferência!$F$2,\"\")","v":""},{"$f":"IF(Jogo!G102=Conferência!$G$2,Conferência!$G$2,\"\")","v":""},{"$f":"IF(Jogo!H102=Conferência!$H$2,Conferência!$H$2,\"\")","v":""},{"$f":"IF(Jogo!I102=Conferência!$I$2,Conferência!$I$2,\"\")","v":""},{"$f":"IF(Jogo!J102=Conferência!$J$2,Conferência!$J$2,\"\")","v":""},{"$f":"IF(Jogo!K102=Conferência!$K$2,Conferência!$K$2,\"\")","v":""},{"$f":"IF(Jogo!L102=Conferência!$L$2,Conferência!$L$2,\"\")","v":""},{"$f":"IF(Jogo!M102=Conferência!$M$2,Conferência!$M$2,\"\")","v":""},{"$f":"IF(Jogo!N102=Conferência!$N$2,Conferência!$N$2,\"\")","v":""},{"$f":"IF(Jogo!O102=Conferência!$O$2,Conferência!$O$2,\"\")","v":""},{"$f":"IF(Jogo!P102=Conferência!$P$2,Conferência!$P$2,\"\")","v":""},{"$f":"IF(Jogo!Q102=Conferência!$Q$2,Conferência!$Q$2,\"\")","v":24},""]
[{"$f":"IF(Jogo!A103=Conferência!$A$2,Conferência!$A$2,\"\")","v":""},{"$f":"IF(Jogo!B103=Conferência!$B$2,Conferência!$B$2,\"\")","v":"QUARTA-FEIRA"},{"$f":"IF(Jogo!C103=Conferência!$C$2,Conferência!$C$2,\"\")","v":1},{"$f":"IF(Jogo!D103=Conferência!$D$2,Conferência!$D$2,\"\")","v":""},{"$f":"IF(Jogo!E103=Conferência!$E$2,Conferência!$E$2,\"\")","v":""},{"$f":"IF(Jogo!F103=Conferência!$F$2,Conferência!$F$2,\"\")","v":""},{"$f":"IF(Jogo!G103=Conferência!$G$2,Conferência!$G$2,\"\")","v":""},{"$f":"IF(Jogo!H103=Conferência!$H$2,Conferência!$H$2,\"\")","v":""},{"$f":"IF(Jogo!I103=Conferência!$I$2,Conferência!$I$2,\"\")","v":""},{"$f":"IF(Jogo!J103=Conferência!$J$2,Conferência!$J$2,\"\")","v":""},{"$f":"IF(Jogo!K103=Conferência!$K$2,Conferência!$K$2,\"\")","v":""},{"$f":"IF(Jogo!L103=Conferência!$L$2,Conferência!$L$2,\"\")","v":""},{"$f":"IF(Jogo!M103=Conferência!$M$2,Conferência!$M$2,\"\")","v":""},{"$f":"IF(Jogo!N103=Conferência!$N$2,Conferência!$N$2,\"\")","v":""},{"$f":"IF(Jogo!O103=Conferência!$O$2,Conferência!$O$2,\"\")","v":""},{"$f":"IF(Jogo!P103=Conferência!$P$2,Conferência!$P$2,\"\")","v":""},{"$f":"IF(Jogo!Q103=Conferência!$Q$2,Conferência!$Q$2,\"\")","v":""},""]
[{"$f":"IF(Jogo!A104=Conferência!$A$2,Conferência!$A$2,\"\")","v":""},{"$f":"IF(Jogo!B104=Conferência!$B$2,Conferência!$B$2,\"\")","v":"QUARTA-FEIRA"},{"$f":"IF(Jogo!C104=Conferência!$C$2,Conferência!$C$2,\"\")","v":1},{"$f":"IF(Jogo!D104=Conferência!$D$2,Conferência!$D$2,\"\")","v":""},{"$f":"IF(Jogo!E104=Conferência!$E$2,Conferência!$E$2,\"\")","v":""},{"$f":"IF(Jogo!F104=Conferência!$F$2,Conferência!$F$2,\"\")","v":""},{"$f":"IF(Jogo!G104=Conferência!$G$2,Conferência!$G$2,\"\")","v":""},{"$f":"IF(Jogo!H104=Conferência!$H$2,Conferência!$H$2,\"\")","v":""},{"$f":"IF(Jogo!I104=Conferência!$I$2,Conferência!$I$2,\"\")","v":""},{"$f":"IF(Jogo!J104=Conferência!$J$2,Conferência!$J$2,\"\")","v":""},{"$f":"IF(Jogo!K104=Conferência!$K$2,Conferência!$K$2,\"\")","v":""},{"$f":"IF(Jogo!L104=Conferência!$L$2,Conferência!$L$2,\"\")","v":""},{"$f":"IF(Jogo!M104=Conferência!$M$2,Conferência!$M$2,\"\")","v":""},{"$f":"IF(Jogo!N104=Conferência!$N$2,Conferência!$N$2,\"\")","v":""},{"$f":"IF(Jogo!O104=Conferência!$O$2,Conferência!$O$2,\"\")","v":""},{"$f":"IF(Jogo!P104=Conferência!$P$2,Conferência!$P$2,\"\")","v":""},{"$f":"IF(Jogo!Q104=Conferência!$Q$2,Conferência!$Q$2,\"\")","v":""},""]
[{"$f":"IF(Jogo!A105=Conferência!$A$2,Conferência!$A$2,\"\")","v":""},{"$f":"IF(Jogo!B105=Conferência!$B$2,Conferência!$B$2,\"\")","v":"QUARTA-FEIRA"},{"$f":"IF(Jogo!C105=Conferência!$C$2,Conferência!$C$2,\"\")","v":""},{"$f":"IF(Jogo!D105=Conferência!$D$2,Conferência!$D$2,\"\")","v":""},{"$f":"IF(Jogo!E105=Conferência!$E$2,Conferência!$E$2,\"\")","v":""},{"$f":"IF(Jogo!F105=Conferência!$F$2,Conferência!$F$2,\"\")","v":""},{"$f":"IF(Jogo!G105=Conferência!$G$2,Conferência!$G$2,\"\")","v":""},{"$f":"IF(Jogo!H105=Conferência!$H$2,Conferência!$H$2,\"\")","v":""},{"$f":"IF(Jogo!I105=Conferência!$I$2,Conferência!$I$2,\"\")","v":""},{"$f":"IF(Jogo!J105=Conferência!$J$2,Conferência!$J$2,\"\")","v":""},{"$f":"IF(Jogo!K105=Conferência!$K$2,Conferência!$K$2,\"\")","v":""},{"$f":"IF(Jogo!L105=Conferência!$L$2,Conferência!$L$2,\"\")","v":""},{"$f":"IF(Jogo!M105=Conferência!$M$2,Conferência!$M$2,\"\")","v":""},{"$f":"IF(Jogo!N105=Conferência!$N$2,Conferência!$N$2,\"\")","v":""},{"$f":"IF(Jogo!O105=Conferência!$O$2,Conferência!$O$2,\"\")","v":19},{"$f":"IF(Jogo!P105=Conferência!$P$2,Conferência!$P$2,\"\")","v":""},{"$f":"IF(Jogo!Q105=Conferência!$Q$2,Conferência!$Q$2,\"\")","v":24},""]
[{"$f":"IF(Jogo!A106=Conferência!$A$2,Conferência!$A$2,\"\")","v":""},{"$f":"IF(Jogo!B106=Conferência!$B$2,Conferência!$B$2,\"\")","v":"QUARTA-FEIRA"},{"$f":"IF(Jogo!C106=Conferência!$C$2,Conferência!$C$2,\"\")","v":1},{"$f":"IF(Jogo!D106=Conferência!$D$2,Conferência!$D$2,\"\")","v":""},{"$f":"IF(Jogo!E106=Conferência!$E$2,Conferência!$E$2,\"\")","v":""},{"$f":"IF(Jogo!F106=Conferência!$F$2,Conferência!$F$2,\"\")","v":""},{"$f":"IF(Jogo!G106=Conferência!$G$2,Conferência!$G$2,\"\")","v":""},{"$f":"IF(Jogo!H106=Conferência!$H$2,Conferência!$H$2,\"\")","v":""},{"$f":"IF(Jogo!I106=Conferência!$I$2,Conferência!$I$2,\"\")","v":""},{"$f":"IF(Jogo!J106=Conferência!$J$2,Conferência!$J$2,\"\")","v":""},{"$f":"IF(Jogo!K106=Conferência!$K$2,Conferência!$K$2,\"\")","v":""},{"$f":"IF(Jogo!L106=Conferência!$L$2,Conferência!$L$2,\"\")","v":""},{"$f":"IF(Jogo!M106=Conferência!$M$2,Conferência!$M$2,\"\")","v":""},{"$f":"IF(Jogo!N106=Conferência!$N$2,Conferência!$N$2,\"\")","v":""},{"$f":"IF(Jogo!O106=Conferência!$O$2,Conferência!$O$2,\"\")","v":""},{"$f":"IF(Jogo!P106=Conferência!$P$2,Conferência!$P$2,\"\")","v":""},{"$f":"IF(Jogo!Q106=Conferência!$Q$2,Conferência!$Q$2,\"\")","v":""},""]
[{"$f":"IF(Jogo!A107=Conferência!$A$2,Conferência!$A$2,\"\")","v":""},{"$f":"IF(Jogo!B107=Conferência!$B$2,Conferência!$B$2,\"\")","v":"QUARTA-FEIRA"},{"$f":"IF(Jogo!C107=Conferência!$C$2,Conferência!$C$2,\"\")","v":1},{"$f":"IF(Jogo!D107=Conferência!$D$2,Conferência!$D$2,\"\")","v":""},{"$f":"IF(Jogo!E107=Conferência!$E$2,Conferência!$E$2,\"\")","v":4},{"$f":"IF(Jogo!F107=Conferência!$F$2,Conferência!$F$2,\"\")","v":""},{"$f":"IF(Jogo!G107=Conferência!$G$2,Conferência!$G$2,\"\")","v":""},{"$f":"IF(Jogo!H107=Conferência!$H$2,Conferência!$H$2,\"\")","v":""},{"$f":"IF(Jogo!I107=Conferência!$I$2,Conferência!$I$2,\"\")","v":""},{"$f":"IF(Jogo!J107=Conferência!$J$2,Conferência!$J$2,\"\")","v":""},{"$f":"IF(Jogo!K107=Conferência!$K$2,Conferência!$K$2,\"\")","v":""},{"$f":"IF(Jogo!L107=Conferência!$L$2,Conferência!$L$2,\"\")","v":""},{"$f":"IF(Jogo!M107=Conferência!$M$2,Conferência!$M$2,\"\")","v":""},{"$f":"IF(Jogo!N107=Conferência!$N$2,Conferência!$N$2,\"\")","v":""},{"$f":"IF(Jogo!O107=Conferência!$O$2,Conferência!$O$2,\"\")","v":""},{"$f":"IF(Jogo!P107=Conferência!$P$2,Conferência!$P$2,\"\")","v":""},{"$f":"IF(Jogo!Q107=Conferência!$Q$2,Conferência!$Q$2,\"\")","v":""},""]
[{"$f":"IF(Jogo!A108=Conferência!$A$2,Conferência!$A$2,\"\")","v":""},{"$f":"IF(Jogo!B108=Conferência!$B$2,Conferência!$B$2,\"\")","v":"QUARTA-FEIRA"},{"$f":"IF(Jogo!C108=Conferência!$C$2,Conferência!$C$2,\"\")","v":1},{"$f":"IF(Jogo!D108=Conferência!$D$2,Conferência!$D$2,\"\")","v":""},{"$f":"IF(Jogo!E108=Conferência!$E$2,Conferência!$E$2,\"\")","v":""},{"$f":"IF(Jogo!F108=Conferência!$F$2,Conferência!$F$2,\"\")","v":""},{"$f":"IF(Jogo!G108=Conferência!$G$2,Conferência!$G$2,\"\")","v":""},{"$f":"IF(Jogo!H108=Conferência!$H$2,Conferência!$H$2,\"\")","v":""},{"$f":"IF(Jogo!I108=Conferência!$I$2,Conferência!$I$2,\"\")","v":""},{"$f":"IF(Jogo!J108=Conferência!$J$2,Conferência!$J$2,\"\")","v":""},{"$f":"IF(Jogo!K108=Conferência!$K$2,Conferência!$K$2,\"\")","v":""},{"$f":"IF(Jogo!L108=Conferência!$L$2,Conferência!$L$2,\"\")","v":""},{"$f":"IF(Jogo!M108=Conferência!$M$2,Conferência!$M$2,\"\")","v":""},{"$f":"IF(Jogo!N108=Conferência!$N$2,Conferência!$N$2,\"\")","v":""},{"$f":"IF(Jogo!O108=Conferência!$O$2,Conferência!$O$2,\"\")","v":""},{"$f":"IF(Jogo!P108=Conferência!$P$2,Conferência!$P$2,\"\")","v":23},{"$f":"IF(Jogo!Q108=Conferência!$Q$2,Conferência!$Q$2,\"\")","v":24},""]
[{"$f":"IF(Jogo!A109=Conferência!$A$2,Conferência!$A$2,\"\")","v":""},{"$f":"IF(Jogo!B109=Conferência!$B$2,Conferência!$B$2,\"\")","v":"QUARTA-FEIRA"},{"$f":"IF(Jogo!C109=Conferência!$C$2,Conferência!$C$2,\"\")","v":1},{"$f":"IF(Jogo!D109=Conferência!$D$2,Conferência!$D$2,\"\")","v":""},{"$f":"IF(Jogo!E109=Conferência!$E$2,Conferência!$E$2,\"\")","v":""},{"$f":"IF(Jogo!F109=Conferência!$F$2,Conferência!$F$2,\"\")","v":6},{"$f":"IF(Jogo!G109=Conferência!$G$2,Conferência!$G$2,\"\")","v":""},{"$f":"IF(Jogo!H109=Conferência!$H$2,Conferência!$H$2,\"\")","v":""},{"$f":"IF(Jogo!I109=Conferência!$I$2,Conferência!$I$2,\"\")","v":""},{"$f":"IF(Jogo!J109=Conferência!$J$2,Conferência!$J$2,\"\")","v":""},{"$f":"IF(Jogo!K109=Conferência!$K$2,Conferência!$K$2,\"\")","v":""},{"$f":"IF(Jogo!L109=Conferência!$L$2,Conferência!$L$2,\"\")","v":""},{"$f":"IF(Jogo!M109=Conferência!$M$2,Conferência!$M$2,\"\")","v":""},{"$f":"IF(Jogo!N109=Conferência!$N$2,Conferência!$N$2,\"\")","v":""},{"$f":"IF(Jogo!O109=Conferência!$O$2,Conferência!$O$2,\"\")","v":""},{"$f":"IF(Jogo!P109=Conferência!$P$2,Conferência!$P$2,\"\")","v":""},{"$f":"IF(Jogo!Q109=Conferência!$Q$2,Conferência!$Q$2,\"\")","v":""},""]
[{"$f":"IF(Jogo!A110=Conferência!$A$2,Conferência!$A$2,\"\")","v":""},{"$f":"IF(Jogo!B110=Conferência!$B$2,Conferência!$B$2,\"\")","v":"QUARTA-FEIRA"},{"$f":"IF(Jogo!C110=Conferência!$C$2,Conferência!$C$2,\"\")","v":1},{"$f":"IF(Jogo!D110=Conferência!$D$2,Conferência!$D$2,\"\")","v":""},{"$f":"IF(Jogo!E110=Conferência!$E$2,Conferência!$E$2,\"\")","v":""},{"$f":"IF(Jogo!F110=Conferência!$F$2,Conferência!$F$2,\"\")","v":""},{"$f":"IF(Jogo!G110=Conferência!$G$2,Conferência!$G$2,\"\")","v":""},{"$f":"IF(Jogo!H110=Conferência!$H$2,Conferência!$H$2,\"\")","v":""},{"$f":"IF(Jogo!I110=Conferência!$I$2,Conferência!$I$2,\"\")","v":10},{"$f":"IF(Jogo!J110=Conferência!$J$2,Conferência!$J$2,\"\")","v":11},{"$f":"IF(Jogo!K110=Conferência!$K$2,Conferência!$K$2,\"\")","v":""},{"$f":"IF(Jogo!L110=Conferência!$L$2,Conferência!$L$2,\"\")","v":""},{"$f":"IF(Jogo!M110=Conferência!$M$2,Conferência!$M$2,\"\")","v":""},{"$f":"IF(Jogo!N110=Conferência!$N$2,Conferência!$N$2,\"\")","v":""},{"$f":"IF(Jogo!O110=Conferência!$O$2,Conferência!$O$2,\"\")","v":""},{"$f":"IF(Jogo!P110=Conferência!$P$2,Conferência!$P$2,\"\")","v":""},{"$f":"IF(Jogo!Q110=Conferência!$Q$2,Conferência!$Q$2,\"\")","v":""},""]
[{"$f":"IF(Jogo!A111=Conferência!$A$2,Conferência!$A$2,\"\")","v":""},{"$f":"IF(Jogo!B111=Conferência!$B$2,Conferência!$B$2,\"\")","v":"QUARTA-FEIRA"},{"$f":"IF(Jogo!C111=Conferência!$C$2,Conferência!$C$2,\"\")","v":""},{"$f":"IF(Jogo!D111=Conferência!$D$2,Conferência!$D$2,\"\")","v":""},{"$f":"IF(Jogo!E111=Conferência!$E$2,Conferência!$E$2,\"\")","v":""},{"$f":"IF(Jogo!F111=Conferência!$F$2,Conferência!$F$2,\"\")","v":""},{"$f":"IF(Jogo!G111=Conferência!$G$2,Conferência!$G$2,\"\")","v":""},{"$f":"IF(Jogo!H111=Conferência!$H$2,Conferência!$H$2,\"\")","v":""},{"$f":"IF(Jogo!I111=Conferência!$I$2,Conferência!$I$2,\"\")","v":""},{"$f":"IF(Jogo!J111=Conferência!$J$2,Conferência!$J$2,\"\")","v":""},{"$f":"IF(Jogo!K111=Conferência!$K$2,Conferência!$K$2,\"\")","v":""},{"$f":"IF(Jogo!L111=Conferência!$L$2,Conferência!$L$2,\"\")","v":""},{"$f":"IF(Jogo!M111=Conferência!$M$2,Conferência!$M$2,\"\")","v":""},{"$f":"IF(Jogo!N111=Conferência!$N$2,Conferência!$N$2,\"\")","v":""},{"$f":"IF(Jogo!O111=Conferência!$O$2,Conferência!$O$2,\"\")","v":""},{"$f":"IF(Jogo!P111=Conferência!$P$2,Conferência!$P$2,\"\")","v":23},{"$f":"IF(Jogo!Q111=Conferência!$Q$2,Conferência!$Q$2,\"\")","v":""},""]
[{"$f":"IF(Jogo!A112=Conferência!$A$2,Conferência!$A$2,\"\")","v":""},{"$f":"IF(Jogo!B112=Conferência!$B$2,Conferência!$B$2,\"\")","v":"QUARTA-FEIRA"},{"$f":"IF(Jogo!C112=Conferência!$C$2,Conferência!$C$2,\"\")","v":""},{"$f":"IF(Jogo!D112=Conferência!$D$2,Conferência!$D$2,\"\")","v":""},{"$f":"IF(Jogo!E112=Conferência!$E$2,Conferência!$E$2,\"\")","v":""},{"$f":"IF(Jogo!F112=Conferência!$F$2,Conferência!$F$2,\"\")","v":""},{"$f":"IF(Jogo!G112=Conferência!$G$2,Conferência!$G$2,\"\")","v":""},{"$f":"IF(Jogo!H112=Conferência!$H$2,Conferência!$H$2,\"\")","v":""},{"$f":"IF(Jogo!I112=Conferência!$I$2,Conferência!$I$2,\"\")","v":""},{"$f":"IF(Jogo!J112=Conferência!$J$2,Conferência!$J$2,\"\")","v":""},{"$f":"IF(Jogo!K112=Conferência!$K$2,Conferência!$K$2,\"\")","v":""},{"$f":"IF(Jogo!L112=Conferência!$L$2,Conferência!$L$2,\"\")","v":""},{"$f":"IF(Jogo!M112=Conferência!$M$2,Conferência!$M$2,\"\")","v":""},{"$f":"IF(Jogo!N112=Conferência!$N$2,Conferência!$N$2,\"\")","v":""},{"$f":"IF(Jogo!O112=Conferência!$O$2,Conferência!$O$2,\"\")","v":""},{"$f":"IF(Jogo!P112=Conferência!$P$2,Conferência!$P$2,\"\")","v":""},{"$f":"IF(Jogo!Q112=Conferência!$Q$2,Conferência!$Q$2,\"\")","v":""},""]
[{"$f":"IF(Jogo!A113=Conferência!$A$2,Conferência!$A$2,\"\")","v":""},{"$f":"IF(Jogo!B113=Conferência!$B$2,Conferência!$B$2,\"\")","v":"QUARTA-FEIRA"},{"$f":"IF(Jogo!C113=Conferência!$C$2,Conferência!$C$2,\"\")","v":1},{"$f":"IF(Jogo!D113=Conferência!$D$2,Conferência!$D$2,\"\")","v":3},{"$f":"IF(Jogo!E113=Conferência!$E$2,Conferência!$E$2,\"\")","v":""},{"$f":"IF(Jogo!F113=Conferência!$F$2,Conferência!$F$2,\"\")","v":""},{"$f":"IF(Jogo!G113=Conferência!$G$2,Conferência!$G$2,\"\")","v":""},{"$f":"IF(Jogo!H113=Conferência!$H$2,Conferência!$H$2,\"\")","v":""},{"$f":"IF(Jogo!I113=Conferência!$I$2,Conferência!$I$2,\"\")","v":""},{"$f":"IF(Jogo!J113=Conferência!$J$2,Conferência!$J$2,\"\")","v":""},{"$f":"IF(Jogo!K113=Conferência!$K$2,Conferência!$K$2,\"\")","v":""},{"$f":"IF(Jogo!L113=Conferência!$L$2,Conferência!$L$2,\"\")","v":""},{"$f":"IF(Jogo!M113=Conferência!$M$2,Conferência!$M$2,\"\")","v":""},{"$f":"IF(Jogo!N113=Conferência!$N$2,Conferência!$N$2,\"\")","v":""},{"$f":"IF(Jogo!O113=Conferência!$O$2,Conferência!$O$2,\"\")","v":""},{"$f":"IF(Jogo!P113=Conferência!$P$2,Conferência!$P$2,\"\")","v":""},{"$f":"IF(Jogo!Q113=Conferência!$Q$2,Conferência!$Q$2,\"\")","v":""},""]
[{"$f":"IF(Jogo!A114=Conferência!$A$2,Conferência!$A$2,\"\")","v":""},{"$f":"IF(Jogo!B114=Conferência!$B$2,Conferência!$B$2,\"\")","v":"QUARTA-FEIRA"},{"$f":"IF(Jogo!C114=Conferência!$C$2,Conferência!$C$2,\"\")","v":""},{"$f":"IF(Jogo!D114=Conferência!$D$2,Conferência!$D$2,\"\")","v":""},{"$f":"IF(Jogo!E114=Conferência!$E$2,Conferência!$E$2,\"\")","v":""},{"$f":"IF(Jogo!F114=Conferência!$F$2,Conferência!$F$2,\"\")","v":6},{"$f":"IF(Jogo!G114=Conferência!$G$2,Conferência!$G$2,\"\")","v":7},{"$f":"IF(Jogo!H114=Conferência!$H$2,Conferência!$H$2,\"\")","v":""},{"$f":"IF(Jogo!I114=Conferência!$I$2,Conferência!$I$2,\"\")","v":10},{"$f":"IF(Jogo!J114=Conferência!$J$2,Conferência!$J$2,\"\")","v":11},{"$f":"IF(Jogo!K114=Conferência!$K$2,Conferência!$K$2,\"\")","v":12},{"$f":"IF(Jogo!L114=Conferência!$L$2,Conferência!$L$2,\"\")","v":""},{"$f":"IF(Jogo!M114=Conferência!$M$2,Conferência!$M$2,\"\")","v":""},{"$f":"IF(Jogo!N114=Conferência!$N$2,Conferência!$N$2,\"\")","v":""},{"$f":"IF(Jogo!O114=Conferência!$O$2,Conferência!$O$2,\"\")","v":""},{"$f":"IF(Jogo!P114=Conferência!$P$2,Conferência!$P$2,\"\")","v":""},{"$f":"IF(Jogo!Q114=Conferência!$Q$2,Conferência!$Q$2,\"\")","v":""},""]
[{"$f":"IF(Jogo!A115=Conferência!$A$2,Conferência!$A$2,\"\")","v":""},{"$f":"IF(Jogo!B115=Conferência!$B$2,Conferência!$B$2,\"\")","v":"QUARTA-FEIRA"},{"$f":"IF(Jogo!C115=Conferência!$C$2,Conferência!$C$2,\"\")","v":""},{"$f":"IF(Jogo!D115=Conferência!$D$2,Conferência!$D$2,\"\")","v":""},{"$f":"IF(Jogo!E115=Conferência!$E$2,Conferência!$E$2,\"\")","v":""},{"$f":"IF(Jogo!F115=Conferência!$F$2,Conferência!$F$2,\"\")","v":""},{"$f":"IF(Jogo!G115=Conferência!$G$2,Conferência!$G$2,\"\")","v":""},{"$f":"IF(Jogo!H115=Conferência!$H$2,Conferência!$H$2,\"\")","v":""},{"$f":"IF(Jogo!I115=Conferência!$I$2,Conferência!$I$2,\"\")","v":""},{"$f":"IF(Jogo!J115=Conferência!$J$2,Conferência!$J$2,\"\")","v":""},{"$f":"IF(Jogo!K115=Conferência!$K$2,Conferência!$K$2,\"\")","v":""},{"$f":"IF(Jogo!L115=Conferência!$L$2,Conferência!$L$2,\"\")","v":""},{"$f":"IF(Jogo!M115=Conferência!$M$2,Conferência!$M$2,\"\")","v":""},{"$f":"IF(Jogo!N115=Conferência!$N$2,Conferência!$N$2,\"\")","v":""},{"$f":"IF(Jogo!O115=Conferência!$O$2,Conferência!$O$2,\"\")","v":""},{"$f":"IF(Jogo!P115=Conferência!$P$2,Conferência!$P$2,\"\")","v":23},{"$f":"IF(Jogo!Q115=Conferência!$Q$2,Conferência!$Q$2,\"\")","v":""},""]
[{"$f":"IF(Jogo!A116=Conferência!$A$2,Conferência!$A$2,\"\")","v":""},{"$f":"IF(Jogo!B116=Conferência!$B$2,Conferência!$B$2,\"\")","v":"QUARTA-FEIRA"},{"$f":"IF(Jogo!C116=Conferência!$C$2,Conferência!$C$2,\"\")","v":""},{"$f":"IF(Jogo!D116=Conferência!$D$2,Conferência!$D$2,\"\")","v":""},{"$f":"IF(Jogo!E116=Conferência!$E$2,Conferência!$E$2,\"\")","v":""},{"$f":"IF(Jogo!F116=Conferência!$F$2,Conferência!$F$2,\"\")","v":""},{"$f":"IF(Jogo!G116=Conferência!$G$2,Conferência!$G$2,\"\")","v":""},{"$f":"IF(Jogo!H116=Conferência!$H$2,Conferência!$H$2,\"\")","v":""},{"$f":"IF(Jogo!I116=Conferência!$I$2,Conferência!$I$2,\"\")","v":""},{"$f":"IF(Jogo!J116=Conferência!$J$2,Conferência!$J$2,\"\")","v":""},{"$f":"IF(Jogo!K116=Conferência!$K$2,Conferência!$K$2,\"\")","v":""},{"$f":"IF(Jogo!L116=Conferência!$L$2,Conferência!$L$2,\"\")","v":""},{"$f":"IF(Jogo!M116=Conferência!$M$2,Conferência!$M$2,\"\")","v":""},{"$f":"IF(Jogo!N116=Conferência!$N$2,Conferência!$N$2,\"\")","v":""},{"$f":"IF(Jogo!O116=Conferência!$O$2,Conferência!$O$2,\"\")","v":""},{"$f":"IF(Jogo!P116=Conferência!$P$2,Conferência!$P$2,\"\")","v":23},{"$f":"IF(Jogo!Q116=Conferência!$Q$2,Conferência!$Q$2,\"\")","v":""},""]
[{"$f":"IF(Jogo!A117=Conferência!$A$2,Conferência!$A$2,\"\")","v":""},{"$f":"IF(Jogo!B117=Conferência!$B$2,Conferência!$B$2,\"\")","v":"QUARTA-FEIRA"},{"$f":"IF(Jogo!C117=Conferência!$C$2,Conferência!$C$2,\"\")","v":1},{"$f":"IF(Jogo!D117=Conferência!$D$2,Conferência!$D$2,\"\")","v":3},{"$f":"IF(Jogo!E117=Conferência!$E$2,Conferência!$E$2,\"\")","v":4},{"$f":"IF(Jogo!F117=Conferência!$F$2,Conferência!$F$2,\"\")","v":""},{"$f":"IF(Jogo!G117=Conferência!$G$2,Conferência!$G$2,\"\")","v":""},{"$f":"IF(Jogo!H117=Conferência!$H$2,Conferência!$H$2,\"\")","v":""},{"$f":"IF(Jogo!I117=Conferência!$I$2,Conferência!$I$2,\"\")","v":10},{"$f":"IF(Jogo!J117=Conferência!$J$2,Conferência!$J$2,\"\")","v":11},{"$f":"IF(Jogo!K117=Conferência!$K$2,Conferência!$K$2,\"\")","v":""},{"$f":"IF(Jogo!L117=Conferência!$L$2,Conferência!$L$2,\"\")","v":""},{"$f":"IF(Jogo!M117=Conferência!$M$2,Conferência!$M$2,\"\")","v":""},{"$f":"IF(Jogo!N117=Conferência!$N$2,Conferência!$N$2,\"\")","v":""},{"$f":"IF(Jogo!O117=Conferência!$O$2,Conferência!$O$2,\"\")","v":""},{"$f":"IF(Jogo!P117=Conferência!$P$2,Conferência!$P$2,\"\")","v":23},{"$f":"IF(Jogo!Q117=Conferência!$Q$2,Conferência!$Q$2,\"\")","v":24},""]
[{"$f":"IF(Jogo!A118=Conferência!$A$2,Conferência!$A$2,\"\")","v":""},{"$f":"IF(Jogo!B118=Conferência!$B$2,Conferência!$B$2,\"\")","v":"QUARTA-FEIRA"},{"$f":"IF(Jogo!C118=Conferência!$C$2,Conferência!$C$2,\"\")","v":1},{"$f":"IF(Jogo!D118=Conferência!$D$2,Conferência!$D$2,\"\")","v":""},{"$f":"IF(Jogo!E118=Conferência!$E$2,Conferência!$E$2,\"\")","v":""},{"$f":"IF(Jogo!F118=Conferência!$F$2,Conferência!$F$2,\"\")","v":""},{"$f":"IF(Jogo!G118=Conferência!$G$2,Conferência!$G$2,\"\")","v":""},{"$f":"IF(Jogo!H118=Conferência!$H$2,Conferência!$H$2,\"\")","v":9},{"$f":"IF(Jogo!I118=Conferência!$I$2,Conferência!$I$2,\"\")","v":10},{"$f":"IF(Jogo!J118=Conferência!$J$2,Conferência!$J$2,\"\")","v":""},{"$f":"IF(Jogo!K118=Conferência!$K$2,Conferência!$K$2,\"\")","v":""},{"$f":"IF(Jogo!L118=Conferência!$L$2,Conferência!$L$2,\"\")","v":""},{"$f":"IF(Jogo!M118=Conferência!$M$2,Conferência!$M$2,\"\")","v":""},{"$f":"IF(Jogo!N118=Conferência!$N$2,Conferência!$N$2,\"\")","v":""},{"$f":"IF(Jogo!O118=Conferência!$O$2,Conferência!$O$2,\"\")","v":""},{"$f":"IF(Jogo!P118=Conferência!$P$2,Conferência!$P$2,\"\")","v":""},{"$f":"IF(Jogo!Q118=Conferência!$Q$2,Conferência!$Q$2,\"\")","v":""},""]
[{"$f":"IF(Jogo!A119=Conferência!$A$2,Conferência!$A$2,\"\")","v":""},{"$f":"IF(Jogo!B119=Conferência!$B$2,Conferência!$B$2,\"\")","v":"QUARTA-FEIRA"},{"$f":"IF(Jogo!C119=Conferência!$C$2,Conferência!$C$2,\"\")","v":""},{"$f":"IF(Jogo!D119=Conferência!$D$2,Conferência!$D$2,\"\")","v":""},{"$f":"IF(Jogo!E119=Conferência!$E$2,Conferência!$E$2,\"\")","v":""},{"$f":"IF(Jogo!F119=Conferência!$F$2,Conferência!$F$2,\"\")","v":""},{"$f":"IF(Jogo!G119=Conferência!$G$2,Conferência!$G$2,\"\")","v":""},{"$f":"IF(Jogo!H119=Conferência!$H$2,Conferência!$H$2,\"\")","v":""},{"$f":"IF(Jogo!I119=Conferência!$I$2,Conferência!$I$2,\"\")","v":""},{"$f":"IF(Jogo!J119=Conferência!$J$2,Conferência!$J$2,\"\")","v":""},{"$f":"IF(Jogo!K119=Conferência!$K$2,Conferência!$K$2,\"\")","v":""},{"$f":"IF(Jogo!L119=Conferência!$L$2,Conferência!$L$2,\"\")","v":""},{"$f":"IF(Jogo!M119=Conferência!$M$2,Conferência!$M$2,\"\")","v":""},{"$f":"IF(Jogo!N119=Conferência!$N$2,Conferência!$N$2,\"\")","v":""},{"$f":"IF(Jogo!O119=Conferência!$O$2,Conferência!$O$2,\"\")","v":""},{"$f":"IF(Jogo!P119=Conferência!$P$2,Conferência!$P$2,\"\")","v":""},{"$f":"IF(Jogo!Q119=Conferência!$Q$2,Conferência!$Q$2,\"\")","v":""},""]
[{"$f":"IF(Jogo!A120=Conferência!$A$2,Conferência!$A$2,\"\")","v":""},{"$f":"IF(Jogo!B120=Conferência!$B$2,Conferência!$B$2,\"\")","v":"QUARTA-FEIRA"},{"$f":"IF(Jogo!C120=Conferência!$C$2,Conferência!$C$2,\"\")","v":""},{"$f":"IF(Jogo!D120=Conferência!$D$2,Conferência!$D$2,\"\")","v":3},{"$f":"IF(Jogo!E120=Conferência!$E$2,Conferência!$E$2,\"\")","v":""},{"$f":"IF(Jogo!F120=Conferência!$F$2,Conferência!$F$2,\"\")","v":""},{"$f":"IF(Jogo!G120=Conferência!$G$2,Conferência!$G$2,\"\")","v":""},{"$f":"IF(Jogo!H120=Conferência!$H$2,Conferência!$H$2,\"\")","v":9},{"$f":"IF(Jogo!I120=Conferência!$I$2,Conferência!$I$2,\"\")","v":""},{"$f":"IF(Jogo!J120=Conferência!$J$2,Conferência!$J$2,\"\")","v":""},{"$f":"IF(Jogo!K120=Conferência!$K$2,Conferência!$K$2,\"\")","v":""},{"$f":"IF(Jogo!L120=Conferência!$L$2,Conferência!$L$2,\"\")","v":""},{"$f":"IF(Jogo!M120=Conferência!$M$2,Conferência!$M$2,\"\")","v":""},{"$f":"IF(Jogo!N120=Conferência!$N$2,Conferência!$N$2,\"\")","v":""},{"$f":"IF(Jogo!O120=Conferência!$O$2,Conferência!$O$2,\"\")","v":""},{"$f":"IF(Jogo!P120=Conferência!$P$2,Conferência!$P$2,\"\")","v":23},{"$f":"IF(Jogo!Q120=Conferência!$Q$2,Conferência!$Q$2,\"\")","v":24},""]
[{"$f":"IF(Jogo!A121=Conferência!$A$2,Conferência!$A$2,\"\")","v":""},{"$f":"IF(Jogo!B121=Conferência!$B$2,Conferência!$B$2,\"\")","v":"QUARTA-FEIRA"},{"$f":"IF(Jogo!C121=Conferência!$C$2,Conferência!$C$2,\"\")","v":""},{"$f":"IF(Jogo!D121=Conferência!$D$2,Conferência!$D$2,\"\")","v":3},{"$f":"IF(Jogo!E121=Conferência!$E$2,Conferência!$E$2,\"\")","v":""},{"$f":"IF(Jogo!F121=Conferência!$F$2,Conferência!$F$2,\"\")","v":""},{"$f":"IF(Jogo!G121=Conferência!$G$2,Conferência!$G$2,\"\")","v":""},{"$f":"IF(Jogo!H121=Conferência!$H$2,Conferência!$H$2,\"\")","v":""},{"$f":"IF(Jogo!I121=Conferência!$I$2,Conferência!$I$2,\"\")","v":""},{"$f":"IF(Jogo!J121=Conferência!$J$2,Conferência!$J$2,\"\")","v":""},{"$f":"IF(Jogo!K121=Conferência!$K$2,Conferência!$K$2,\"\")","v":""},{"$f":"IF(Jogo!L121=Conferência!$L$2,Conferência!$L$2,\"\")","v":""},{"$f":"IF(Jogo!M121=Conferência!$M$2,Conferência!$M$2,\"\")","v":""},{"$f":"IF(Jogo!N121=Conferência!$N$2,Conferência!$N$2,\"\")","v":""},{"$f":"IF(Jogo!O121=Conferência!$O$2,Conferência!$O$2,\"\")","v":""},{"$f":"IF(Jogo!P121=Conferência!$P$2,Conferência!$P$2,\"\")","v":""},{"$f":"IF(Jogo!Q121=Conferência!$Q$2,Conferência!$Q$2,\"\")","v":""},""]
[{"$f":"IF(Jogo!A122=Conferência!$A$2,Conferência!$A$2,\"\")","v":""},{"$f":"IF(Jogo!B122=Conferência!$B$2,Conferência!$B$2,\"\")","v":"QUARTA-FEIRA"},{"$f":"IF(Jogo!C122=Conferência!$C$2,Conferência!$C$2,\"\")","v":1},{"$f":"IF(Jogo!D122=Conferência!$D$2,Conferência!$D$2,\"\")","v":""},{"$f":"IF(Jogo!E122=Conferência!$E$2,Conferência!$E$2,\"\")","v":""},{"$f":"IF(Jogo!F122=Conferência!$F$2,Conferência!$F$2,\"\")","v":""},{"$f":"IF(Jogo!G122=Conferência!$G$2,Conferência!$G$2,\"\")","v":""},{"$f":"IF(Jogo!H122=Conferência!$H$2,Conferência!$H$2,\"\")","v":""},{"$f":"IF(Jogo!I122=Conferência!$I$2,Conferência!$I$2,\"\")","v":10},{"$f":"IF(Jogo!J122=Conferência!$J$2,Conferência!$J$2,\"\")","v":11},{"$f":"IF(Jogo!K122=Conferência!$K$2,Conferência!$K$2,\"\")","v":""},{"$f":"IF(Jogo!L122=Conferência!$L$2,Conferência!$L$2,\"\")","v":""},{"$f":"IF(Jogo!M122=Conferência!$M$2,Conferência!$M$2,\"\")","v":15},{"$f":"IF(Jogo!N122=Conferência!$N$2,Conferência!$N$2,\"\")","v":""},{"$f":"IF(Jogo!O122=Conferência!$O$2,Conferência!$O$2,\"\")","v":""},{"$f":"IF(Jogo!P122=Conferência!$P$2,Conferência!$P$2,\"\")","v":""},{"$f":"IF(Jogo!Q122=Conferência!$Q$2,Conferência!$Q$2,\"\")","v":""},""]
[{"$f":"IF(Jogo!A123=Conferência!$A$2,Conferência!$A$2,\"\")","v":""},{"$f":"IF(Jogo!B123=Conferência!$B$2,Conferência!$B$2,\"\")","v":"QUARTA-FEIRA"},{"$f":"IF(Jogo!C123=Conferência!$C$2,Conferência!$C$2,\"\")","v":""},{"$f":"IF(Jogo!D123=Conferência!$D$2,Conferência!$D$2,\"\")","v":""},{"$f":"IF(Jogo!E123=Conferência!$E$2,Conferência!$E$2,\"\")","v":""},{"$f":"IF(Jogo!F123=Conferência!$F$2,Conferência!$F$2,\"\")","v":""},{"$f":"IF(Jogo!G123=Conferência!$G$2,Conferência!$G$2,\"\")","v":""},{"$f":"IF(Jogo!H123=Conferência!$H$2,Conferência!$H$2,\"\")","v":""},{"$f":"IF(Jogo!I123=Conferência!$I$2,Conferência!$I$2,\"\")","v":""},{"$f":"IF(Jogo!J123=Conferência!$J$2,Conferência!$J$2,\"\")","v":""},{"$f":"IF(Jogo!K123=Conferência!$K$2,Conferência!$K$2,\"\")","v":""},{"$f":"IF(Jogo!L123=Conferência!$L$2,Conferência!$L$2,\"\")","v":""},{"$f":"IF(Jogo!M123=Conferência!$M$2,Conferência!$M$2,\"\")","v":""},{"$f":"IF(Jogo!N123=Conferência!$N$2,Conferência!$N$2,\"\")","v":""},{"$f":"IF(Jogo!O123=Conferência!$O$2,Conferência!$O$2,\"\")","v":""},{"$f":"IF(Jogo!P123=Conferência!$P$2,Conferência!$P$2,\"\")","v":""},{"$f":"IF(Jogo!Q123=Conferência!$Q$2,Conferência!$Q$2,\"\")","v":""},""]
[{"$f":"IF(Jogo!A124=Conferência!$A$2,Conferência!$A$2,\"\")","v":""},{"$f":"IF(Jogo!B124=Conferência!$B$2,Conferência!$B$2,\"\")","v":"QUARTA-FEIRA"},{"$f":"IF(Jogo!C124=Conferência!$C$2,Conferência!$C$2,\"\")","v":1},{"$f":"IF(Jogo!D124=Conferência!$D$2,Conferência!$D$2,\"\")","v":3},{"$f":"IF(Jogo!E124=Conferência!$E$2,Conferência!$E$2,\"\")","v":4},{"$f":"IF(Jogo!F124=Conferência!$F$2,Conferência!$F$2,\"\")","v":""},{"$f":"IF(Jogo!G124=Conferência!$G$2,Conferência!$G$2,\"\")","v":""},{"$f":"IF(Jogo!H124=Conferência!$H$2,Conferência!$H$2,\"\")","v":""},{"$f":"IF(Jogo!I124=Conferência!$I$2,Conferência!$I$2,\"\")","v":""},{"$f":"IF(Jogo!J124=Conferência!$J$2,Conferência!$J$2,\"\")","v":""},{"$f":"IF(Jogo!K124=Conferência!$K$2,Conferência!$K$2,\"\")","v":""},{"$f":"IF(Jogo!L124=Conferência!$L$2,Conferência!$L$2,\"\")","v":""},{"$f":"IF(Jogo!M124=Conferência!$M$2,Conferência!$M$2,\"\")","v":""},{"$f":"IF(Jogo!N124=Conferência!$N$2,Conferência!$N$2,\"\")","v":""},{"$f":"IF(Jogo!O124=Conferência!$O$2,Conferência!$O$2,\"\")","v":""},{"$f":"IF(Jogo!P124=Conferência!$P$2,Conferência!$P$2,\"\")","v":23},{"$f":"IF(Jogo!Q124=Conferência!$Q$2,Conferência!$Q$2,\"\")","v":24},""]
[{"$f":"IF(Jogo!A125=Conferência!$A$2,Conferência!$A$2,\"\")","v":""},{"$f":"IF(Jogo!B125=Conferência!$B$2,Conferência!$B$2,\"\")","v":"QUARTA-FEIRA"},{"$f":"IF(Jogo!C125=Conferência!$C$2,Conferência!$C$2,\"\")","v":""},{"$f":"IF(Jogo!D125=Conferência!$D$2,Conferência!$D$2,\"\")","v":""},{"$f":"IF(Jogo!E125=Conferência!$E$2,Conferência!$E$2,\"\")","v":""},{"$f":"IF(Jogo!F125=Conferência!$F$2,Conferência!$F$2,\"\")","v":""},{"$f":"IF(Jogo!G125=Conferência!$G$2,Conferência!$G$2,\"\")","v":""},{"$f":"IF(Jogo!H125=Conferência!$H$2,Conferência!$H$2,\"\")","v":""},{"$f":"IF(Jogo!I125=Conferência!$I$2,Conferência!$I$2,\"\")","v":""},{"$f":"IF(Jogo!J125=Conferência!$J$2,Conferência!$J$2,\"\")","v":""},{"$f":"IF(Jogo!K125=Conferência!$K$2,Conferência!$K$2,\"\")","v":""},{"$f":"IF(Jogo!L125=Conferência!$L$2,Conferência!$L$2,\"\")","v":""},{"$f":"IF(Jogo!M125=Conferência!$M$2,Conferência!$M$2,\"\")","v":""},{"$f":"IF(Jogo!N125=Conferência!$N$2,Conferência!$N$2,\"\")","v":""},{"$f":"IF(Jogo!O125=Conferência!$O$2,Conferência!$O$2,\"\")","v":""},{"$f":"IF(Jogo!P125=Conferência!$P$2,Conferência!$P$2,\"\")","v":""},{"$f":"IF(Jogo!Q125=Conferência!$Q$2,Conferência!$Q$2,\"\")","v":""},""]
[{"$f":"IF(Jogo!A126=Conferência!$A$2,Conferência!$A$2,\"\")","v":""},{"$f":"IF(Jogo!B126=Conferência!$B$2,Conferência!$B$2,\"\")","v":"QUARTA-FEIRA"},{"$f":"IF(Jogo!C126=Conferência!$C$2,Conferência!$C$2,\"\")","v":""},{"$f":"IF(Jogo!D126=Conferência!$D$2,Conferência!$D$2,\"\")","v":""},{"$f":"IF(Jogo!E126=Conferência!$E$2,Conferência!$E$2,\"\")","v":""},{"$f":"IF(Jogo!F126=Conferência!$F$2,Conferência!$F$2,\"\")","v":""},{"$f":"IF(Jogo!G126=Conferência!$G$2,Conferência!$G$2,\"\")","v":""},{"$f":"IF(Jogo!H126=Conferência!$H$2,Conferência!$H$2,\"\")","v":""},{"$f":"IF(Jogo!I126=Conferência!$I$2,Conferência!$I$2,\"\")","v":""},{"$f":"IF(Jogo!J126=Conferência!$J$2,Conferência!$J$2,\"\")","v":""},{"$f":"IF(Jogo!K126=Conferência!$K$2,Conferência!$K$2,\"\")","v":""},{"$f":"IF(Jogo!L126=Conferência!$L$2,Conferência!$L$2,\"\")","v":""},{"$f":"IF(Jogo!M126=Conferência!$M$2,Conferência!$M$2,\"\")","v":""},{"$f":"IF(Jogo!N126=Conferência!$N$2,Conferência!$N$2,\"\")","v":""},{"$f":"IF(Jogo!O126=Conferência!$O$2,Conferência!$O$2,\"\")","v":""},{"$f":"IF(Jogo!P126=Conferência!$P$2,Conferência!$P$2,\"\")","v":""},{"$f":"IF(Jogo!Q126=Conferência!$Q$2,Conferência!$Q$2,\"\")","v":24},""]
[{"$f":"IF(Jogo!A127=Conferência!$A$2,Conferência!$A$2,\"\")","v":""},{"$f":"IF(Jogo!B127=Conferência!$B$2,Conferência!$B$2,\"\")","v":"QUARTA-FEIRA"},{"$f":"IF(Jogo!C127=Conferência!$C$2,Conferência!$C$2,\"\")","v":""},{"$f":"IF(Jogo!D127=Conferência!$D$2,Conferência!$D$2,\"\")","v":""},{"$f":"IF(Jogo!E127=Conferência!$E$2,Conferência!$E$2,\"\")","v":""},{"$f":"IF(Jogo!F127=Conferência!$F$2,Conferência!$F$2,\"\")","v":""},{"$f":"IF(Jogo!G127=Conferência!$G$2,Conferência!$G$2,\"\")","v":""},{"$f":"IF(Jogo!H127=Conferência!$H$2,Conferência!$H$2,\"\")","v":""},{"$f":"IF(Jogo!I127=Conferência!$I$2,Conferência!$I$2,\"\")","v":""},{"$f":"IF(Jogo!J127=Conferência!$J$2,Conferência!$J$2,\"\")","v":""},{"$f":"IF(Jogo!K127=Conferência!$K$2,Conferência!$K$2,\"\")","v":""},{"$f":"IF(Jogo!L127=Conferência!$L$2,Conferência!$L$2,\"\")","v":""},{"$f":"IF(Jogo!M127=Conferência!$M$2,Conferência!$M$2,\"\")","v":""},{"$f":"IF(Jogo!N127=Conferência!$N$2,Conferência!$N$2,\"\")","v":""},{"$f":"IF(Jogo!O127=Conferência!$O$2,Conferência!$O$2,\"\")","v":""},{"$f":"IF(Jogo!P127=Conferência!$P$2,Conferência!$P$2,\"\")","v":23},{"$f":"IF(Jogo!Q127=Conferência!$Q$2,Conferência!$Q$2,\"\")","v":24},""]
[{"$f":"IF(Jogo!A128=Conferência!$A$2,Conferência!$A$2,\"\")","v":""},{"$f":"IF(Jogo!B128=Conferência!$B$2,Conferência!$B$2,\"\")","v":"QUARTA-FEIRA"},{"$f":"IF(Jogo!C128=Conferência!$C$2,Conferência!$C$2,\"\")","v":""},{"$f":"IF(Jogo!D128=Conferência!$D$2,Conferência!$D$2,\"\")","v":""},{"$f":"IF(Jogo!E128=Conferência!$E$2,Conferência!$E$2,\"\")","v":""},{"$f":"IF(Jogo!F128=Conferência!$F$2,Conferência!$F$2,\"\")","v":""},{"$f":"IF(Jogo!G128=Conferência!$G$2,Conferência!$G$2,\"\")","v":""},{"$f":"IF(Jogo!H128=Conferência!$H$2,Conferência!$H$2,\"\")","v":""},{"$f":"IF(Jogo!I128=Conferência!$I$2,Conferência!$I$2,\"\")","v":""},{"$f":"IF(Jogo!J128=Conferência!$J$2,Conferência!$J$2,\"\")","v":""},{"$f":"IF(Jogo!K128=Conferência!$K$2,Conferência!$K$2,\"\")","v":""},{"$f":"IF(Jogo!L128=Conferência!$L$2,Conferência!$L$2,\"\")","v":""},{"$f":"IF(Jogo!M128=Conferência!$M$2,Conferência!$M$2,\"\")","v":""},{"$f":"IF(Jogo!N128=Conferência!$N$2,Conferência!$N$2,\"\")","v":""},{"$f":"IF(Jogo!O128=Conferência!$O$2,Conferência!$O$2,\"\")","v":""},{"$f":"IF(Jogo!P128=Conferência!$P$2,Conferência!$P$2,\"\")","v":""},{"$f":"IF(Jogo!Q128=Conferência!$Q$2,Conferência!$Q$2,\"\")","v":""},""]
[{"$f":"IF(Jogo!A129=Conferência!$A$2,Conferência!$A$2,\"\")","v":""},{"$f":"IF(Jogo!B129=Conferência!$B$2,Conferência!$B$2,\"\")","v":"QUARTA-FEIRA"},{"$f":"IF(Jogo!C129=Conferência!$C$2,Conferência!$C$2,\"\")","v":1},{"$f":"IF(Jogo!D129=Conferência!$D$2,Conferência!$D$2,\"\")","v":""},{"$f":"IF(Jogo!E129=Conferência!$E$2,Conferência!$E$2,\"\")","v":""},{"$f":"IF(Jogo!F129=Conferência!$F$2,Conferência!$F$2,\"\")","v":""},{"$f":"IF(Jogo!G129=Conferência!$G$2,Conferência!$G$2,\"\")","v":""},{"$f":"IF(Jogo!H129=Conferência!$H$2,Conferência!$H$2,\"\")","v":""},{"$f":"IF(Jogo!I129=Conferência!$I$2,Conferência!$I$2,\"\")","v":""},{"$f":"IF(Jogo!J129=Conferência!$J$2,Conferência!$J$2,\"\")","v":""},{"$f":"IF(Jogo!K129=Conferência!$K$2,Conferência!$K$2,\"\")","v":12},{"$f":"IF(Jogo!L129=Conferência!$L$2,Conferência!$L$2,\"\")","v":13},{"$f":"IF(Jogo!M129=Conferência!$M$2,Conferência!$M$2,\"\")","v":""},{"$f":"IF(Jogo!N129=Conferência!$N$2,Conferência!$N$2,\"\")","v":""},{"$f":"IF(Jogo!O129=Conferência!$O$2,Conferência!$O$2,\"\")","v":""},{"$f":"IF(Jogo!P129=Conferência!$P$2,Conferência!$P$2,\"\")","v":""},{"$f":"IF(Jogo!Q129=Conferência!$Q$2,Conferência!$Q$2,\"\")","v":""},""]
[{"$f":"IF(Jogo!A130=Conferência!$A$2,Conferência!$A$2,\"\")","v":""},{"$f":"IF(Jogo!B130=Conferência!$B$2,Conferência!$B$2,\"\")","v":"QUARTA-FEIRA"},{"$f":"IF(Jogo!C130=Conferência!$C$2,Conferência!$C$2,\"\")","v":""},{"$f":"IF(Jogo!D130=Conferência!$D$2,Conferência!$D$2,\"\")","v":""},{"$f":"IF(Jogo!E130=Conferência!$E$2,Conferência!$E$2,\"\")","v":""},{"$f":"IF(Jogo!F130=Conferência!$F$2,Conferência!$F$2,\"\")","v":6},{"$f":"IF(Jogo!G130=Conferência!$G$2,Conferência!$G$2,\"\")","v":7},{"$f":"IF(Jogo!H130=Conferência!$H$2,Conferência!$H$2,\"\")","v":9},{"$f":"IF(Jogo!I130=Conferência!$I$2,Conferência!$I$2,\"\")","v":10},{"$f":"IF(Jogo!J130=Conferência!$J$2,Conferência!$J$2,\"\")","v":""},{"$f":"IF(Jogo!K130=Conferência!$K$2,Conferência!$K$2,\"\")","v":""},{"$f":"IF(Jogo!L130=Conferência!$L$2,Conferência!$L$2,\"\")","v":""},{"$f":"IF(Jogo!M130=Conferência!$M$2,Conferência!$M$2,\"\")","v":""},{"$f":"IF(Jogo!N130=Conferência!$N$2,Conferência!$N$2,\"\")","v":""},{"$f":"IF(Jogo!O130=Conferência!$O$2,Conferência!$O$2,\"\")","v":""},{"$f":"IF(Jogo!P130=Conferência!$P$2,Conferência!$P$2,\"\")","v":""},{"$f":"IF(Jogo!Q130=Conferência!$Q$2,Conferência!$Q$2,\"\")","v":""},""]
[{"$f":"IF(Jogo!A131=Conferência!$A$2,Conferência!$A$2,\"\")","v":""},{"$f":"IF(Jogo!B131=Conferência!$B$2,Conferência!$B$2,\"\")","v":"QUARTA-FEIRA"},{"$f":"IF(Jogo!C131=Conferência!$C$2,Conferência!$C$2,\"\")","v":1},{"$f":"IF(Jogo!D131=Conferência!$D$2,Conferência!$D$2,\"\")","v":""},{"$f":"IF(Jogo!E131=Conferência!$E$2,Conferência!$E$2,\"\")","v":""},{"$f":"IF(Jogo!F131=Conferência!$F$2,Conferência!$F$2,\"\")","v":""},{"$f":"IF(Jogo!G131=Conferência!$G$2,Conferência!$G$2,\"\")","v":""},{"$f":"IF(Jogo!H131=Conferência!$H$2,Conferência!$H$2,\"\")","v":""},{"$f":"IF(Jogo!I131=Conferência!$I$2,Conferência!$I$2,\"\")","v":""},{"$f":"IF(Jogo!J131=Conferência!$J$2,Conferência!$J$2,\"\")","v":""},{"$f":"IF(Jogo!K131=Conferência!$K$2,Conferência!$K$2,\"\")","v":""},{"$f":"IF(Jogo!L131=Conferência!$L$2,Conferência!$L$2,\"\")","v":""},{"$f":"IF(Jogo!M131=Conferência!$M$2,Conferência!$M$2,\"\")","v":""},{"$f":"IF(Jogo!N131=Conferência!$N$2,Conferência!$N$2,\"\")","v":16},{"$f":"IF(Jogo!O131=Conferência!$O$2,Conferência!$O$2,\"\")","v":19},{"$f":"IF(Jogo!P131=Conferência!$P$2,Conferência!$P$2,\"\")","v":""},{"$f":"IF(Jogo!Q131=Conferência!$Q$2,Conferência!$Q$2,\"\")","v":""},""]
[{"$f":"IF(Jogo!A132=Conferência!$A$2,Conferência!$A$2,\"\")","v":""},{"$f":"IF(Jogo!B132=Conferência!$B$2,Conferência!$B$2,\"\")","v":"QUARTA-FEIRA"},{"$f":"IF(Jogo!C132=Conferência!$C$2,Conferência!$C$2,\"\")","v":""},{"$f":"IF(Jogo!D132=Conferência!$D$2,Conferência!$D$2,\"\")","v":""},{"$f":"IF(Jogo!E132=Conferência!$E$2,Conferência!$E$2,\"\")","v":""},{"$f":"IF(Jogo!F132=Conferência!$F$2,Conferência!$F$2,\"\")","v":""},{"$f":"IF(Jogo!G132=Conferência!$G$2,Conferência!$G$2,\"\")","v":""},{"$f":"IF(Jogo!H132=Conferência!$H$2,Conferência!$H$2,\"\")","v":""},{"$f":"IF(Jogo!I132=Conferência!$I$2,Conferência!$I$2,\"\")","v":""},{"$f":"IF(Jogo!J132=Conferência!$J$2,Conferência!$J$2,\"\")","v":""},{"$f":"IF(Jogo!K132=Conferência!$K$2,Conferência!$K$2,\"\")","v":""},{"$f":"IF(Jogo!L132=Conferência!$L$2,Conferência!$L$2,\"\")","v":""},{"$f":"IF(Jogo!M132=Conferência!$M$2,Conferência!$M$2,\"\")","v":""},{"$f":"IF(Jogo!N132=Conferência!$N$2,Conferência!$N$2,\"\")","v":""},{"$f":"IF(Jogo!O132=Conferência!$O$2,Conferência!$O$2,\"\")","v":""},{"$f":"IF(Jogo!P132=Conferência!$P$2,Conferência!$P$2,\"\")","v":""},{"$f":"IF(Jogo!Q132=Conferência!$Q$2,Conferência!$Q$2,\"\")","v":""},""]
[{"$f":"IF(Jogo!A133=Conferência!$A$2,Conferência!$A$2,\"\")","v":""},{"$f":"IF(Jogo!B133=Conferência!$B$2,Conferência!$B$2,\"\")","v":"QUARTA-FEIRA"},{"$f":"IF(Jogo!C133=Conferência!$C$2,Conferência!$C$2,\"\")","v":""},{"$f":"IF(Jogo!D133=Conferência!$D$2,Conferência!$D$2,\"\")","v":""},{"$f":"IF(Jogo!E133=Conferência!$E$2,Conferência!$E$2,\"\")","v":""},{"$f":"IF(Jogo!F133=Conferência!$F$2,Conferência!$F$2,\"\")","v":""},{"$f":"IF(Jogo!G133=Conferência!$G$2,Conferência!$G$2,\"\")","v":""},{"$f":"IF(Jogo!H133=Conferência!$H$2,Conferência!$H$2,\"\")","v":""},{"$f":"IF(Jogo!I133=Conferência!$I$2,Conferência!$I$2,\"\")","v":""},{"$f":"IF(Jogo!J133=Conferência!$J$2,Conferência!$J$2,\"\")","v":""},{"$f":"IF(Jogo!K133=Conferência!$K$2,Conferência!$K$2,\"\")","v":""},{"$f":"IF(Jogo!L133=Conferência!$L$2,Conferência!$L$2,\"\")","v":""},{"$f":"IF(Jogo!M133=Conferência!$M$2,Conferência!$M$2,\"\")","v":""},{"$f":"IF(Jogo!N133=Conferência!$N$2,Conferência!$N$2,\"\")","v":""},{"$f":"IF(Jogo!O133=Conferência!$O$2,Conferência!$O$2,\"\")","v":""},{"$f":"IF(Jogo!P133=Conferência!$P$2,Conferência!$P$2,\"\")","v":23},{"$f":"IF(Jogo!Q133=Conferência!$Q$2,Conferência!$Q$2,\"\")","v":24},""]
[{"$f":"IF(Jogo!A134=Conferência!$A$2,Conferência!$A$2,\"\")","v":""},{"$f":"IF(Jogo!B134=Conferência!$B$2,Conferência!$B$2,\"\")","v":"QUARTA-FEIRA"},{"$f":"IF(Jogo!C134=Conferência!$C$2,Conferência!$C$2,\"\")","v":""},{"$f":"IF(Jogo!D134=Conferência!$D$2,Conferência!$D$2,\"\")","v":""},{"$f":"IF(Jogo!E134=Conferência!$E$2,Conferência!$E$2,\"\")","v":""},{"$f":"IF(Jogo!F134=Conferência!$F$2,Conferência!$F$2,\"\")","v":""},{"$f":"IF(Jogo!G134=Conferência!$G$2,Conferência!$G$2,\"\")","v":""},{"$f":"IF(Jogo!H134=Conferência!$H$2,Conferência!$H$2,\"\")","v":""},{"$f":"IF(Jogo!I134=Conferência!$I$2,Conferência!$I$2,\"\")","v":""},{"$f":"IF(Jogo!J134=Conferência!$J$2,Conferência!$J$2,\"\")","v":""},{"$f":"IF(Jogo!K134=Conferência!$K$2,Conferência!$K$2,\"\")","v":""},{"$f":"IF(Jogo!L134=Conferência!$L$2,Conferência!$L$2,\"\")","v":""},{"$f":"IF(Jogo!M134=Conferência!$M$2,Conferência!$M$2,\"\")","v":""},{"$f":"IF(Jogo!N134=Conferência!$N$2,Conferência!$N$2,\"\")","v":""},{"$f":"IF(Jogo!O134=Conferência!$O$2,Conferência!$O$2,\"\")","v":""},{"$f":"IF(Jogo!P134=Conferência!$P$2,Conferência!$P$2,\"\")","v":""},{"$f":"IF(Jogo!Q134=Conferência!$Q$2,Conferência!$Q$2,\"\")","v":""},""]
[{"$f":"IF(Jogo!A135=Conferência!$A$2,Conferência!$A$2,\"\")","v":""},{"$f":"IF(Jogo!B135=Conferência!$B$2,Conferência!$B$2,\"\")","v":"QUARTA-FEIRA"},{"$f":"IF(Jogo!C135=Conferência!$C$2,Conferência!$C$2,\"\")","v":1},{"$f":"IF(Jogo!D135=Conferência!$D$2,Conferência!$D$2,\"\")","v":""},{"$f":"IF(Jogo!E135=Conferência!$E$2,Conferência!$E$2,\"\")","v":4},{"$f":"IF(Jogo!F135=Conferência!$F$2,Conferência!$F$2,\"\")","v":""},{"$f":"IF(Jogo!G135=Conferência!$G$2,Conferência!$G$2,\"\")","v":""},{"$f":"IF(Jogo!H135=Conferência!$H$2,Conferência!$H$2,\"\")","v":""},{"$f":"IF(Jogo!I135=Conferência!$I$2,Conferência!$I$2,\"\")","v":""},{"$f":"IF(Jogo!J135=Conferência!$J$2,Conferência!$J$2,\"\")","v":""},{"$f":"IF(Jogo!K135=Conferência!$K$2,Conferência!$K$2,\"\")","v":""},{"$f":"IF(Jogo!L135=Conferência!$L$2,Conferência!$L$2,\"\")","v":""},{"$f":"IF(Jogo!M135=Conferência!$M$2,Conferência!$M$2,\"\")","v":""},{"$f":"IF(Jogo!N135=Conferência!$N$2,Conferência!$N$2,\"\")","v":""},{"$f":"IF(Jogo!O135=Conferência!$O$2,Conferência!$O$2,\"\")","v":""},{"$f":"IF(Jogo!P135=Conferência!$P$2,Conferência!$P$2,\"\")","v":""},{"$f":"IF(Jogo!Q135=Conferência!$Q$2,Conferência!$Q$2,\"\")","v":24},""]
[{"$f":"IF(Jogo!A136=Conferência!$A$2,Conferência!$A$2,\"\")","v":""},{"$f":"IF(Jogo!B136=Conferência!$B$2,Conferência!$B$2,\"\")","v":"QUARTA-FEIRA"},{"$f":"IF(Jogo!C136=Conferência!$C$2,Conferência!$C$2,\"\")","v":1},{"$f":"IF(Jogo!D136=Conferência!$D$2,Conferência!$D$2,\"\")","v":""},{"$f":"IF(Jogo!E136=Conferência!$E$2,Conferência!$E$2,\"\")","v":""},{"$f":"IF(Jogo!F136=Conferência!$F$2,Conferência!$F$2,\"\")","v":""},{"$f":"IF(Jogo!G136=Conferência!$G$2,Conferência!$G$2,\"\")","v":""},{"$f":"IF(Jogo!H136=Conferência!$H$2,Conferência!$H$2,\"\")","v":9},{"$f":"IF(Jogo!I136=Conferência!$I$2,Conferência!$I$2,\"\")","v":10},{"$f":"IF(Jogo!J136=Conferência!$J$2,Conferência!$J$2,\"\")","v":""},{"$f":"IF(Jogo!K136=Conferência!$K$2,Conferência!$K$2,\"\")","v":""},{"$f":"IF(Jogo!L136=Conferência!$L$2,Conferência!$L$2,\"\")","v":""},{"$f":"IF(Jogo!M136=Conferência!$M$2,Conferência!$M$2,\"\")","v":""},{"$f":"IF(Jogo!N136=Conferência!$N$2,Conferência!$N$2,\"\")","v":""},{"$f":"IF(Jogo!O136=Conferência!$O$2,Conferência!$O$2,\"\")","v":""},{"$f":"IF(Jogo!P136=Conferência!$P$2,Conferência!$P$2,\"\")","v":""},{"$f":"IF(Jogo!Q136=Conferência!$Q$2,Conferência!$Q$2,\"\")","v":""},""]
[{"$f":"IF(Jogo!A137=Conferência!$A$2,Conferência!$A$2,\"\")","v":""},{"$f":"IF(Jogo!B137=Conferência!$B$2,Conferência!$B$2,\"\")","v":"QUARTA-FEIRA"},{"$f":"IF(Jogo!C137=Conferência!$C$2,Conferência!$C$2,\"\")","v":1},{"$f":"IF(Jogo!D137=Conferência!$D$2,Conferência!$D$2,\"\")","v":3},{"$f":"IF(Jogo!E137=Conferência!$E$2,Conferência!$E$2,\"\")","v":""},{"$f":"IF(Jogo!F137=Conferência!$F$2,Conferência!$F$2,\"\")","v":""},{"$f":"IF(Jogo!G137=Conferência!$G$2,Conferência!$G$2,\"\")","v":""},{"$f":"IF(Jogo!H137=Conferência!$H$2,Conferência!$H$2,\"\")","v":""},{"$f":"IF(Jogo!I137=Conferência!$I$2,Conferência!$I$2,\"\")","v":""},{"$f":"IF(Jogo!J137=Conferência!$J$2,Conferência!$J$2,\"\")","v":""},{"$f":"IF(Jogo!K137=Conferência!$K$2,Conferência!$K$2,\"\")","v":""},{"$f":"IF(Jogo!L137=Conferência!$L$2,Conferência!$L$2,\"\")","v":""},{"$f":"IF(Jogo!M137=Conferência!$M$2,Conferência!$M$2,\"\")","v":""},{"$f":"IF(Jogo!N137=Conferência!$N$2,Conferência!$N$2,\"\")","v":""},{"$f":"IF(Jogo!O137=Conferência!$O$2,Conferência!$O$2,\"\")","v":""},{"$f":"IF(Jogo!P137=Conferência!$P$2,Conferência!$P$2,\"\")","v":""},{"$f":"IF(Jogo!Q137=Conferência!$Q$2,Conferência!$Q$2,\"\")","v":""},""]
[{"$f":"IF(Jogo!A138=Conferência!$A$2,Conferência!$A$2,\"\")","v":""},{"$f":"IF(Jogo!B138=Conferência!$B$2,Conferência!$B$2,\"\")","v":"QUARTA-FEIRA"},{"$f":"IF(Jogo!C138=Conferência!$C$2,Conferência!$C$2,\"\")","v":1},{"$f":"IF(Jogo!D138=Conferência!$D$2,Conferência!$D$2,\"\")","v":""},{"$f":"IF(Jogo!E138=Conferência!$E$2,Conferência!$E$2,\"\")","v":""},{"$f":"IF(Jogo!F138=Conferência!$F$2,Conferência!$F$2,\"\")","v":""},{"$f":"IF(Jogo!G138=Conferência!$G$2,Conferência!$G$2,\"\")","v":""},{"$f":"IF(Jogo!H138=Conferência!$H$2,Conferência!$H$2,\"\")","v":""},{"$f":"IF(Jogo!I138=Conferência!$I$2,Conferência!$I$2,\"\")","v":""},{"$f":"IF(Jogo!J138=Conferência!$J$2,Conferência!$J$2,\"\")","v":""},{"$f":"IF(Jogo!K138=Conferência!$K$2,Conferência!$K$2,\"\")","v":""},{"$f":"IF(Jogo!L138=Conferência!$L$2,Conferência!$L$2,\"\")","v":""},{"$f":"IF(Jogo!M138=Conferência!$M$2,Conferência!$M$2,\"\")","v":""},{"$f":"IF(Jogo!N138=Conferência!$N$2,Conferência!$N$2,\"\")","v":""},{"$f":"IF(Jogo!O138=Conferência!$O$2,Conferência!$O$2,\"\")","v":""},{"$f":"IF(Jogo!P138=Conferência!$P$2,Conferência!$P$2,\"\")","v":""},{"$f":"IF(Jogo!Q138=Conferência!$Q$2,Conferência!$Q$2,\"\")","v":""},""]
[{"$f":"IF(Jogo!A139=Conferência!$A$2,Conferência!$A$2,\"\")","v":""},{"$f":"IF(Jogo!B139=Conferência!$B$2,Conferência!$B$2,\"\")","v":"QUARTA-FEIRA"},{"$f":"IF(Jogo!C139=Conferência!$C$2,Conferência!$C$2,\"\")","v":1},{"$f":"IF(Jogo!D139=Conferência!$D$2,Conferência!$D$2,\"\")","v":""},{"$f":"IF(Jogo!E139=Conferência!$E$2,Conferência!$E$2,\"\")","v":""},{"$f":"IF(Jogo!F139=Conferência!$F$2,Conferência!$F$2,\"\")","v":""},{"$f":"IF(Jogo!G139=Conferência!$G$2,Conferência!$G$2,\"\")","v":""},{"$f":"IF(Jogo!H139=Conferência!$H$2,Conferência!$H$2,\"\")","v":""},{"$f":"IF(Jogo!I139=Conferência!$I$2,Conferência!$I$2,\"\")","v":""},{"$f":"IF(Jogo!J139=Conferência!$J$2,Conferência!$J$2,\"\")","v":""},{"$f":"IF(Jogo!K139=Conferência!$K$2,Conferência!$K$2,\"\")","v":12},{"$f":"IF(Jogo!L139=Conferência!$L$2,Conferência!$L$2,\"\")","v":""},{"$f":"IF(Jogo!M139=Conferência!$M$2,Conferência!$M$2,\"\")","v":15},{"$f":"IF(Jogo!N139=Conferência!$N$2,Conferência!$N$2,\"\")","v":""},{"$f":"IF(Jogo!O139=Conferência!$O$2,Conferência!$O$2,\"\")","v":""},{"$f":"IF(Jogo!P139=Conferência!$P$2,Conferência!$P$2,\"\")","v":""},{"$f":"IF(Jogo!Q139=Conferência!$Q$2,Conferência!$Q$2,\"\")","v":""},""]
[{"$f":"IF(Jogo!A140=Conferência!$A$2,Conferência!$A$2,\"\")","v":""},{"$f":"IF(Jogo!B140=Conferência!$B$2,Conferência!$B$2,\"\")","v":"QUARTA-FEIRA"},{"$f":"IF(Jogo!C140=Conferência!$C$2,Conferência!$C$2,\"\")","v":""},{"$f":"IF(Jogo!D140=Conferência!$D$2,Conferência!$D$2,\"\")","v":3},{"$f":"IF(Jogo!E140=Conferência!$E$2,Conferência!$E$2,\"\")","v":""},{"$f":"IF(Jogo!F140=Conferência!$F$2,Conferência!$F$2,\"\")","v":""},{"$f":"IF(Jogo!G140=Conferência!$G$2,Conferência!$G$2,\"\")","v":""},{"$f":"IF(Jogo!H140=Conferência!$H$2,Conferência!$H$2,\"\")","v":""},{"$f":"IF(Jogo!I140=Conferência!$I$2,Conferência!$I$2,\"\")","v":""},{"$f":"IF(Jogo!J140=Conferência!$J$2,Conferência!$J$2,\"\")","v":""},{"$f":"IF(Jogo!K140=Conferência!$K$2,Conferência!$K$2,\"\")","v":""},{"$f":"IF(Jogo!L140=Conferência!$L$2,Conferência!$L$2,\"\")","v":""},{"$f":"IF(Jogo!M140=Conferência!$M$2,Conferência!$M$2,\"\")","v":""},{"$f":"IF(Jogo!N140=Conferência!$N$2,Conferência!$N$2,\"\")","v":""},{"$f":"IF(Jogo!O140=Conferência!$O$2,Conferência!$O$2,\"\")","v":""},{"$f":"IF(Jogo!P140=Conferência!$P$2,Conferência!$P$2,\"\")","v":""},{"$f":"IF(Jogo!Q140=Conferência!$Q$2,Conferência!$Q$2,\"\")","v":""},""]
[{"$f":"IF(Jogo!A141=Conferência!$A$2,Conferência!$A$2,\"\")","v":""},{"$f":"IF(Jogo!B141=Conferência!$B$2,Conferência!$B$2,\"\")","v":"QUARTA-FEIRA"},{"$f":"IF(Jogo!C141=Conferência!$C$2,Conferência!$C$2,\"\")","v":1},{"$f":"IF(Jogo!D141=Conferência!$D$2,Conferência!$D$2,\"\")","v":3},{"$f":"IF(Jogo!E141=Conferência!$E$2,Conferência!$E$2,\"\")","v":4},{"$f":"IF(Jogo!F141=Conferência!$F$2,Conferência!$F$2,\"\")","v":6},{"$f":"IF(Jogo!G141=Conferência!$G$2,Conferência!$G$2,\"\")","v":""},{"$f":"IF(Jogo!H141=Conferência!$H$2,Conferência!$H$2,\"\")","v":""},{"$f":"IF(Jogo!I141=Conferência!$I$2,Conferência!$I$2,\"\")","v":""},{"$f":"IF(Jogo!J141=Conferência!$J$2,Conferência!$J$2,\"\")","v":""},{"$f":"IF(Jogo!K141=Conferência!$K$2,Conferência!$K$2,\"\")","v":""},{"$f":"IF(Jogo!L141=Conferência!$L$2,Conferência!$L$2,\"\")","v":""},{"$f":"IF(Jogo!M141=Conferência!$M$2,Conferência!$M$2,\"\")","v":""},{"$f":"IF(Jogo!N141=Conferência!$N$2,Conferência!$N$2,\"\")","v":""},{"$f":"IF(Jogo!O141=Conferência!$O$2,Conferência!$O$2,\"\")","v":""},{"$f":"IF(Jogo!P141=Conferência!$P$2,Conferência!$P$2,\"\")","v":""},{"$f":"IF(Jogo!Q141=Conferência!$Q$2,Conferência!$Q$2,\"\")","v":""},""]
[{"$f":"IF(Jogo!A142=Conferência!$A$2,Conferência!$A$2,\"\")","v":""},{"$f":"IF(Jogo!B142=Conferência!$B$2,Conferência!$B$2,\"\")","v":"QUARTA-FEIRA"},{"$f":"IF(Jogo!C142=Conferência!$C$2,Conferência!$C$2,\"\")","v":1},{"$f":"IF(Jogo!D142=Conferência!$D$2,Conferência!$D$2,\"\")","v":""},{"$f":"IF(Jogo!E142=Conferência!$E$2,Conferência!$E$2,\"\")","v":""},{"$f":"IF(Jogo!F142=Conferência!$F$2,Conferência!$F$2,\"\")","v":""},{"$f":"IF(Jogo!G142=Conferência!$G$2,Conferência!$G$2,\"\")","v":""},{"$f":"IF(Jogo!H142=Conferência!$H$2,Conferência!$H$2,\"\")","v":""},{"$f":"IF(Jogo!I142=Conferência!$I$2,Conferência!$I$2,\"\")","v":10},{"$f":"IF(Jogo!J142=Conferência!$J$2,Conferência!$J$2,\"\")","v":11},{"$f":"IF(Jogo!K142=Conferência!$K$2,Conferência!$K$2,\"\")","v":12},{"$f":"IF(Jogo!L142=Conferência!$L$2,Conferência!$L$2,\"\")","v":""},{"$f":"IF(Jogo!M142=Conferência!$M$2,Conferência!$M$2,\"\")","v":""},{"$f":"IF(Jogo!N142=Conferência!$N$2,Conferência!$N$2,\"\")","v":""},{"$f":"IF(Jogo!O142=Conferência!$O$2,Conferência!$O$2,\"\")","v":""},{"$f":"IF(Jogo!P142=Conferência!$P$2,Conferência!$P$2,\"\")","v":""},{"$f":"IF(Jogo!Q142=Conferência!$Q$2,Conferência!$Q$2,\"\")","v":""},""]
[{"$f":"IF(Jogo!A143=Conferência!$A$2,Conferência!$A$2,\"\")","v":""},{"$f":"IF(Jogo!B143=Conferência!$B$2,Conferência!$B$2,\"\")","v":"QUARTA-FEIRA"},{"$f":"IF(Jogo!C143=Conferência!$C$2,Conferência!$C$2,\"\")","v":""},{"$f":"IF(Jogo!D143=Conferência!$D$2,Conferência!$D$2,\"\")","v":3},{"$f":"IF(Jogo!E143=Conferência!$E$2,Conferência!$E$2,\"\")","v":4},{"$f":"IF(Jogo!F143=Conferência!$F$2,Conferência!$F$2,\"\")","v":6},{"$f":"IF(Jogo!G143=Conferência!$G$2,Conferência!$G$2,\"\")","v":""},{"$f":"IF(Jogo!H143=Conferência!$H$2,Conferência!$H$2,\"\")","v":""},{"$f":"IF(Jogo!I143=Conferência!$I$2,Conferência!$I$2,\"\")","v":""},{"$f":"IF(Jogo!J143=Conferência!$J$2,Conferência!$J$2,\"\")","v":""},{"$f":"IF(Jogo!K143=Conferência!$K$2,Conferência!$K$2,\"\")","v":""},{"$f":"IF(Jogo!L143=Conferência!$L$2,Conferência!$L$2,\"\")","v":""},{"$f":"IF(Jogo!M143=Conferência!$M$2,Conferência!$M$2,\"\")","v":""},{"$f":"IF(Jogo!N143=Conferência!$N$2,Conferência!$N$2,\"\")","v":""},{"$f":"IF(Jogo!O143=Conferência!$O$2,Conferência!$O$2,\"\")","v":""},{"$f":"IF(Jogo!P143=Conferência!$P$2,Conferência!$P$2,\"\")","v":""},{"$f":"IF(Jogo!Q143=Conferência!$Q$2,Conferência!$Q$2,\"\")","v":""},""]
[{"$f":"IF(Jogo!A144=Conferência!$A$2,Conferência!$A$2,\"\")","v":""},{"$f":"IF(Jogo!B144=Conferência!$B$2,Conferência!$B$2,\"\")","v":"QUARTA-FEIRA"},{"$f":"IF(Jogo!C144=Conferência!$C$2,Conferência!$C$2,\"\")","v":1},{"$f":"IF(Jogo!D144=Conferência!$D$2,Conferência!$D$2,\"\")","v":""},{"$f":"IF(Jogo!E144=Conferência!$E$2,Conferência!$E$2,\"\")","v":4},{"$f":"IF(Jogo!F144=Conferência!$F$2,Conferência!$F$2,\"\")","v":""},{"$f":"IF(Jogo!G144=Conferência!$G$2,Conferência!$G$2,\"\")","v":""},{"$f":"IF(Jogo!H144=Conferência!$H$2,Conferência!$H$2,\"\")","v":""},{"$f":"IF(Jogo!I144=Conferência!$I$2,Conferência!$I$2,\"\")","v":""},{"$f":"IF(Jogo!J144=Conferência!$J$2,Conferência!$J$2,\"\")","v":""},{"$f":"IF(Jogo!K144=Conferência!$K$2,Conferência!$K$2,\"\")","v":""},{"$f":"IF(Jogo!L144=Conferência!$L$2,Conferência!$L$2,\"\")","v":""},{"$f":"IF(Jogo!M144=Conferência!$M$2,Conferência!$M$2,\"\")","v":""},{"$f":"IF(Jogo!N144=Conferência!$N$2,Conferência!$N$2,\"\")","v":""},{"$f":"IF(Jogo!O144=Conferência!$O$2,Conferência!$O$2,\"\")","v":""},{"$f":"IF(Jogo!P144=Conferência!$P$2,Conferência!$P$2,\"\")","v":23},{"$f":"IF(Jogo!Q144=Conferência!$Q$2,Conferência!$Q$2,\"\")","v":""},""]
[{"$f":"IF(Jogo!A145=Conferência!$A$2,Conferência!$A$2,\"\")","v":""},{"$f":"IF(Jogo!B145=Conferência!$B$2,Conferência!$B$2,\"\")","v":"QUARTA-FEIRA"},{"$f":"IF(Jogo!C145=Conferência!$C$2,Conferência!$C$2,\"\")","v":""},{"$f":"IF(Jogo!D145=Conferência!$D$2,Conferência!$D$2,\"\")","v":""},{"$f":"IF(Jogo!E145=Conferência!$E$2,Conferência!$E$2,\"\")","v":""},{"$f":"IF(Jogo!F145=Conferência!$F$2,Conferência!$F$2,\"\")","v":""},{"$f":"IF(Jogo!G145=Conferência!$G$2,Conferência!$G$2,\"\")","v":""},{"$f":"IF(Jogo!H145=Conferência!$H$2,Conferência!$H$2,\"\")","v":9},{"$f":"IF(Jogo!I145=Conferência!$I$2,Conferência!$I$2,\"\")","v":10},{"$f":"IF(Jogo!J145=Conferência!$J$2,Conferência!$J$2,\"\")","v":11},{"$f":"IF(Jogo!K145=Conferência!$K$2,Conferência!$K$2,\"\")","v":12},{"$f":"IF(Jogo!L145=Conferência!$L$2,Conferência!$L$2,\"\")","v":""},{"$f":"IF(Jogo!M145=Conferência!$M$2,Conferência!$M$2,\"\")","v":""},{"$f":"IF(Jogo!N145=Conferência!$N$2,Conferência!$N$2,\"\")","v":""},{"$f":"IF(Jogo!O145=Conferência!$O$2,Conferência!$O$2,\"\")","v":""},{"$f":"IF(Jogo!P145=Conferência!$P$2,Conferência!$P$2,\"\")","v":23},{"$f":"IF(Jogo!Q145=Conferência!$Q$2,Conferência!$Q$2,\"\")","v":""},""]
[{"$f":"IF(Jogo!A146=Conferência!$A$2,Conferência!$A$2,\"\")","v":""},{"$f":"IF(Jogo!B146=Conferência!$B$2,Conferência!$B$2,\"\")","v":"QUARTA-FEIRA"},{"$f":"IF(Jogo!C146=Conferência!$C$2,Conferência!$C$2,\"\")","v":""},{"$f":"IF(Jogo!D146=Conferência!$D$2,Conferência!$D$2,\"\")","v":""},{"$f":"IF(Jogo!E146=Conferência!$E$2,Conferência!$E$2,\"\")","v":""},{"$f":"IF(Jogo!F146=Conferência!$F$2,Conferência!$F$2,\"\")","v":6},{"$f":"IF(Jogo!G146=Conferência!$G$2,Conferência!$G$2,\"\")","v":7},{"$f":"IF(Jogo!H146=Conferência!$H$2,Conferência!$H$2,\"\")","v":""},{"$f":"IF(Jogo!I146=Conferência!$I$2,Conferência!$I$2,\"\")","v":10},{"$f":"IF(Jogo!J146=Conferência!$J$2,Conferência!$J$2,\"\")","v":""},{"$f":"IF(Jogo!K146=Conferência!$K$2,Conferência!$K$2,\"\")","v":""},{"$f":"IF(Jogo!L146=Conferência!$L$2,Conferência!$L$2,\"\")","v":""},{"$f":"IF(Jogo!M146=Conferência!$M$2,Conferência!$M$2,\"\")","v":""},{"$f":"IF(Jogo!N146=Conferência!$N$2,Conferência!$N$2,\"\")","v":""},{"$f":"IF(Jogo!O146=Conferência!$O$2,Conferência!$O$2,\"\")","v":""},{"$f":"IF(Jogo!P146=Conferência!$P$2,Conferência!$P$2,\"\")","v":""},{"$f":"IF(Jogo!Q146=Conferência!$Q$2,Conferência!$Q$2,\"\")","v":""},{"$f":"IF(A146=\"\",\"\",\"OK\")","v":""}]
[{"$f":"IF(Jogo!A147=Conferência!$A$2,Conferência!$A$2,\"\")","v":""},{"$f":"IF(Jogo!B147=Conferência!$B$2,Conferência!$B$2,\"\")","v":"QUARTA-FEIRA"},{"$f":"IF(Jogo!C147=Conferência!$C$2,Conferência!$C$2,\"\")","v":1},{"$f":"IF(Jogo!D147=Conferência!$D$2,Conferência!$D$2,\"\")","v":3},{"$f":"IF(Jogo!E147=Conferência!$E$2,Conferência!$E$2,\"\")","v":4},{"$f":"IF(Jogo!F147=Conferência!$F$2,Conferência!$F$2,\"\")","v":6},{"$f":"IF(Jogo!G147=Conferência!$G$2,Conferência!$G$2,\"\")","v":""},{"$f":"IF(Jogo!H147=Conferência!$H$2,Conferência!$H$2,\"\")","v":""},{"$f":"IF(Jogo!I147=Conferência!$I$2,Conferência!$I$2,\"\")","v":""},{"$f":"IF(Jogo!J147=Conferência!$J$2,Conferência!$J$2,\"\")","v":""},{"$f":"IF(Jogo!K147=Conferência!$K$2,Conferência!$K$2,\"\")","v":""},{"$f":"IF(Jogo!L147=Conferência!$L$2,Conferência!$L$2,\"\")","v":""},{"$f":"IF(Jogo!M147=Conferência!$M$2,Conferência!$M$2,\"\")","v":""},{"$f":"IF(Jogo!N147=Conferência!$N$2,Conferência!$N$2,\"\")","v":""},{"$f":"IF(Jogo!O147=Conferência!$O$2,Conferência!$O$2,\"\")","v":""},{"$f":"IF(Jogo!P147=Conferência!$P$2,Conferência!$P$2,\"\")","v":""},{"$f":"IF(Jogo!Q147=Conferência!$Q$2,Conferência!$Q$2,\"\")","v":""},""]
[{"$f":"IF(Jogo!A148=Conferência!$A$2,Conferência!$A$2,\"\")","v":""},{"$f":"IF(Jogo!B148=Conferência!$B$2,Conferência!$B$2,\"\")","v":"QUARTA-FEIRA"},{"$f":"IF(Jogo!C148=Conferência!$C$2,Conferência!$C$2,\"\")","v":""},{"$f":"IF(Jogo!D148=Conferência!$D$2,Conferência!$D$2,\"\")","v":3},{"$f":"IF(Jogo!E148=Conferência!$E$2,Conferência!$E$2,\"\")","v":4},{"$f":"IF(Jogo!F148=Conferência!$F$2,Conferência!$F$2,\"\")","v":""},{"$f":"IF(Jogo!G148=Conferência!$G$2,Conferência!$G$2,\"\")","v":7},{"$f":"IF(Jogo!H148=Conferência!$H$2,Conferência!$H$2,\"\")","v":""},{"$f":"IF(Jogo!I148=Conferência!$I$2,Conferência!$I$2,\"\")","v":""},{"$f":"IF(Jogo!J148=Conferência!$J$2,Conferência!$J$2,\"\")","v":""},{"$f":"IF(Jogo!K148=Conferência!$K$2,Conferência!$K$2,\"\")","v":""},{"$f":"IF(Jogo!L148=Conferência!$L$2,Conferência!$L$2,\"\")","v":""},{"$f":"IF(Jogo!M148=Conferência!$M$2,Conferência!$M$2,\"\")","v":""},{"$f":"IF(Jogo!N148=Conferência!$N$2,Conferência!$N$2,\"\")","v":""},{"$f":"IF(Jogo!O148=Conferência!$O$2,Conferência!$O$2,\"\")","v":""},{"$f":"IF(Jogo!P148=Conferência!$P$2,Conferência!$P$2,\"\")","v":""},{"$f":"IF(Jogo!Q148=Conferência!$Q$2,Conferência!$Q$2,\"\")","v":""},""]
[{"$f":"IF(Jogo!A149=Conferência!$A$2,Conferência!$A$2,\"\")","v":""},{"$f":"IF(Jogo!B149=Conferência!$B$2,Conferência!$B$2,\"\")","v":"QUARTA-FEIRA"},{"$f":"IF(Jogo!C149=Conferência!$C$2,Conferência!$C$2,\"\")","v":1},{"$f":"IF(Jogo!D149=Conferência!$D$2,Conferência!$D$2,\"\")","v":""},{"$f":"IF(Jogo!E149=Conferência!$E$2,Conferência!$E$2,\"\")","v":""},{"$f":"IF(Jogo!F149=Conferência!$F$2,Conferência!$F$2,\"\")","v":6},{"$f":"IF(Jogo!G149=Conferência!$G$2,Conferência!$G$2,\"\")","v":7},{"$f":"IF(Jogo!H149=Conferência!$H$2,Conferência!$H$2,\"\")","v":""},{"$f":"IF(Jogo!I149=Conferência!$I$2,Conferência!$I$2,\"\")","v":10},{"$f":"IF(Jogo!J149=Conferência!$J$2,Conferência!$J$2,\"\")","v":""},{"$f":"IF(Jogo!K149=Conferência!$K$2,Conferência!$K$2,\"\")","v":""},{"$f":"IF(Jogo!L149=Conferência!$L$2,Conferência!$L$2,\"\")","v":""},{"$f":"IF(Jogo!M149=Conferência!$M$2,Conferência!$M$2,\"\")","v":""},{"$f":"IF(Jogo!N149=Conferência!$N$2,Conferência!$N$2,\"\")","v":""},{"$f":"IF(Jogo!O149=Conferência!$O$2,Conferência!$O$2,\"\")","v":""},{"$f":"IF(Jogo!P149=Conferência!$P$2,Conferência!$P$2,\"\")","v":""},{"$f":"IF(Jogo!Q149=Conferência!$Q$2,Conferência!$Q$2,\"\")","v":""},""]
[{"$f":"IF(Jogo!A150=Conferência!$A$2,Conferência!$A$2,\"\")","v":""},{"$f":"IF(Jogo!B150=Conferência!$B$2,Conferência!$B$2,\"\")","v":"QUARTA-FEIRA"},{"$f":"IF(Jogo!C150=Conferência!$C$2,Conferência!$C$2,\"\")","v":""},{"$f":"IF(Jogo!D150=Conferência!$D$2,Conferência!$D$2,\"\")","v":""},{"$f":"IF(Jogo!E150=Conferência!$E$2,Conferência!$E$2,\"\")","v":""},{"$f":"IF(Jogo!F150=Conferência!$F$2,Conferência!$F$2,\"\")","v":""},{"$f":"IF(Jogo!G150=Conferência!$G$2,Conferência!$G$2,\"\")","v":""},{"$f":"IF(Jogo!H150=Conferência!$H$2,Conferência!$H$2,\"\")","v":9},{"$f":"IF(Jogo!I150=Conferência!$I$2,Conferência!$I$2,\"\")","v":10},{"$f":"IF(Jogo!J150=Conferência!$J$2,Conferência!$J$2,\"\")","v":""},{"$f":"IF(Jogo!K150=Conferência!$K$2,Conferência!$K$2,\"\")","v":""},{"$f":"IF(Jogo!L150=Conferência!$L$2,Conferência!$L$2,\"\")","v":""},{"$f":"IF(Jogo!M150=Conferência!$M$2,Conferência!$M$2,\"\")","v":""},{"$f":"IF(Jogo!N150=Conferência!$N$2,Conferência!$N$2,\"\")","v":""},{"$f":"IF(Jogo!O150=Conferência!$O$2,Conferência!$O$2,\"\")","v":""},{"$f":"IF(Jogo!P150=Conferência!$P$2,Conferência!$P$2,\"\")","v":""},{"$f":"IF(Jogo!Q150=Conferência!$Q$2,Conferência!$Q$2,\"\")","v":""},""]
[{"$f":"IF(Jogo!A151=Conferência!$A$2,Conferência!$A$2,\"\")","v":""},{"$f":"IF(Jogo!B151=Conferência!$B$2,Conferência!$B$2,\"\")","v":"QUARTA-FEIRA"},{"$f":"IF(Jogo!C151=Conferência!$C$2,Conferência!$C$2,\"\")","v":1},{"$f":"IF(Jogo!D151=Conferência!$D$2,Conferência!$D$2,\"\")","v":""},{"$f":"IF(Jogo!E151=Conferência!$E$2,Conferência!$E$2,\"\")","v":""},{"$f":"IF(Jogo!F151=Conferência!$F$2,Conferência!$F$2,\"\")","v":""},{"$f":"IF(Jogo!G151=Conferência!$G$2,Conferência!$G$2,\"\")","v":""},{"$f":"IF(Jogo!H151=Conferência!$H$2,Conferência!$H$2,\"\")","v":9},{"$f":"IF(Jogo!I151=Conferência!$I$2,Conferência!$I$2,\"\")","v":""},{"$f":"IF(Jogo!J151=Conferência!$J$2,Conferência!$J$2,\"\")","v":""},{"$f":"IF(Jogo!K151=Conferência!$K$2,Conferência!$K$2,\"\")","v":""},{"$f":"IF(Jogo!L151=Conferência!$L$2,Conferência!$L$2,\"\")","v":""},{"$f":"IF(Jogo!M151=Conferência!$M$2,Conferência!$M$2,\"\")","v":""},{"$f":"IF(Jogo!N151=Conferência!$N$2,Conferência!$N$2,\"\")","v":""},{"$f":"IF(Jogo!O151=Conferência!$O$2,Conferência!$O$2,\"\")","v":""},{"$f":"IF(Jogo!P151=Conferência!$P$2,Conferência!$P$2,\"\")","v":""},{"$f":"IF(Jogo!Q151=Conferência!$Q$2,Conferência!$Q$2,\"\")","v":""},""]
[{"$f":"IF(Jogo!A152=Conferência!$A$2,Conferência!$A$2,\"\")","v":""},{"$f":"IF(Jogo!B152=Conferência!$B$2,Conferência!$B$2,\"\")","v":"QUARTA-FEIRA"},{"$f":"IF(Jogo!C152=Conferência!$C$2,Conferência!$C$2,\"\")","v":""},{"$f":"IF(Jogo!D152=Conferência!$D$2,Conferência!$D$2,\"\")","v":3},{"$f":"IF(Jogo!E152=Conferência!$E$2,Conferência!$E$2,\"\")","v":""},{"$f":"IF(Jogo!F152=Conferência!$F$2,Conferência!$F$2,\"\")","v":""},{"$f":"IF(Jogo!G152=Conferência!$G$2,Conferência!$G$2,\"\")","v":""},{"$f":"IF(Jogo!H152=Conferência!$H$2,Conferência!$H$2,\"\")","v":""},{"$f":"IF(Jogo!I152=Conferência!$I$2,Conferência!$I$2,\"\")","v":""},{"$f":"IF(Jogo!J152=Conferência!$J$2,Conferência!$J$2,\"\")","v":""},{"$f":"IF(Jogo!K152=Conferência!$K$2,Conferência!$K$2,\"\")","v":""},{"$f":"IF(Jogo!L152=Conferência!$L$2,Conferência!$L$2,\"\")","v":""},{"$f":"IF(Jogo!M152=Conferência!$M$2,Conferência!$M$2,\"\")","v":""},{"$f":"IF(Jogo!N152=Conferência!$N$2,Conferência!$N$2,\"\")","v":""},{"$f":"IF(Jogo!O152=Conferência!$O$2,Conferência!$O$2,\"\")","v":""},{"$f":"IF(Jogo!P152=Conferência!$P$2,Conferência!$P$2,\"\")","v":""},{"$f":"IF(Jogo!Q152=Conferência!$Q$2,Conferência!$Q$2,\"\")","v":""},""]
[{"$f":"IF(Jogo!A153=Conferência!$A$2,Conferência!$A$2,\"\")","v":""},{"$f":"IF(Jogo!B153=Conferência!$B$2,Conferência!$B$2,\"\")","v":"QUARTA-FEIRA"},{"$f":"IF(Jogo!C153=Conferência!$C$2,Conferência!$C$2,\"\")","v":1},{"$f":"IF(Jogo!D153=Conferência!$D$2,Conferência!$D$2,\"\")","v":""},{"$f":"IF(Jogo!E153=Conferência!$E$2,Conferência!$E$2,\"\")","v":4},{"$f":"IF(Jogo!F153=Conferência!$F$2,Conferência!$F$2,\"\")","v":""},{"$f":"IF(Jogo!G153=Conferência!$G$2,Conferência!$G$2,\"\")","v":""},{"$f":"IF(Jogo!H153=Conferência!$H$2,Conferência!$H$2,\"\")","v":""},{"$f":"IF(Jogo!I153=Conferência!$I$2,Conferência!$I$2,\"\")","v":10},{"$f":"IF(Jogo!J153=Conferência!$J$2,Conferência!$J$2,\"\")","v":11},{"$f":"IF(Jogo!K153=Conferência!$K$2,Conferência!$K$2,\"\")","v":""},{"$f":"IF(Jogo!L153=Conferência!$L$2,Conferência!$L$2,\"\")","v":""},{"$f":"IF(Jogo!M153=Conferência!$M$2,Conferência!$M$2,\"\")","v":""},{"$f":"IF(Jogo!N153=Conferência!$N$2,Conferência!$N$2,\"\")","v":""},{"$f":"IF(Jogo!O153=Conferência!$O$2,Conferência!$O$2,\"\")","v":""},{"$f":"IF(Jogo!P153=Conferência!$P$2,Conferência!$P$2,\"\")","v":""},{"$f":"IF(Jogo!Q153=Conferência!$Q$2,Conferência!$Q$2,\"\")","v":""},""]
[{"$f":"IF(Jogo!A154=Conferência!$A$2,Conferência!$A$2,\"\")","v":""},{"$f":"IF(Jogo!B154=Conferência!$B$2,Conferência!$B$2,\"\")","v":"QUARTA-FEIRA"},{"$f":"IF(Jogo!C154=Conferência!$C$2,Conferência!$C$2,\"\")","v":""},{"$f":"IF(Jogo!D154=Conferência!$D$2,Conferência!$D$2,\"\")","v":""},{"$f":"IF(Jogo!E154=Conferência!$E$2,Conferência!$E$2,\"\")","v":""},{"$f":"IF(Jogo!F154=Conferência!$F$2,Conferência!$F$2,\"\")","v":""},{"$f":"IF(Jogo!G154=Conferência!$G$2,Conferência!$G$2,\"\")","v":""},{"$f":"IF(Jogo!H154=Conferência!$H$2,Conferência!$H$2,\"\")","v":""},{"$f":"IF(Jogo!I154=Conferência!$I$2,Conferência!$I$2,\"\")","v":""},{"$f":"IF(Jogo!J154=Conferência!$J$2,Conferência!$J$2,\"\")","v":""},{"$f":"IF(Jogo!K154=Conferência!$K$2,Conferência!$K$2,\"\")","v":""},{"$f":"IF(Jogo!L154=Conferência!$L$2,Conferência!$L$2,\"\")","v":""},{"$f":"IF(Jogo!M154=Conferência!$M$2,Conferência!$M$2,\"\")","v":""},{"$f":"IF(Jogo!N154=Conferência!$N$2,Conferência!$N$2,\"\")","v":""},{"$f":"IF(Jogo!O154=Conferência!$O$2,Conferência!$O$2,\"\")","v":""},{"$f":"IF(Jogo!P154=Conferência!$P$2,Conferência!$P$2,\"\")","v":""},{"$f":"IF(Jogo!Q154=Conferência!$Q$2,Conferência!$Q$2,\"\")","v":""},""]
[{"$f":"IF(Jogo!A155=Conferência!$A$2,Conferência!$A$2,\"\")","v":""},{"$f":"IF(Jogo!B155=Conferência!$B$2,Conferência!$B$2,\"\")","v":"QUARTA-FEIRA"},{"$f":"IF(Jogo!C155=Conferência!$C$2,Conferência!$C$2,\"\")","v":1},{"$f":"IF(Jogo!D155=Conferência!$D$2,Conferência!$D$2,\"\")","v":""},{"$f":"IF(Jogo!E155=Conferência!$E$2,Conferência!$E$2,\"\")","v":4},{"$f":"IF(Jogo!F155=Conferência!$F$2,Conferência!$F$2,\"\")","v":""},{"$f":"IF(Jogo!G155=Conferência!$G$2,Conferência!$G$2,\"\")","v":7},{"$f":"IF(Jogo!H155=Conferência!$H$2,Conferência!$H$2,\"\")","v":""},{"$f":"IF(Jogo!I155=Conferência!$I$2,Conferência!$I$2,\"\")","v":""},{"$f":"IF(Jogo!J155=Conferência!$J$2,Conferência!$J$2,\"\")","v":11},{"$f":"IF(Jogo!K155=Conferência!$K$2,Conferência!$K$2,\"\")","v":12},{"$f":"IF(Jogo!L155=Conferência!$L$2,Conferência!$L$2,\"\")","v":""},{"$f":"IF(Jogo!M155=Conferência!$M$2,Conferência!$M$2,\"\")","v":15},{"$f":"IF(Jogo!N155=Conferência!$N$2,Conferência!$N$2,\"\")","v":16},{"$f":"IF(Jogo!O155=Conferência!$O$2,Conferência!$O$2,\"\")","v":""},{"$f":"IF(Jogo!P155=Conferência!$P$2,Conferência!$P$2,\"\")","v":""},{"$f":"IF(Jogo!Q155=Conferência!$Q$2,Conferência!$Q$2,\"\")","v":""},""]
[{"$f":"IF(Jogo!A156=Conferência!$A$2,Conferência!$A$2,\"\")","v":""},{"$f":"IF(Jogo!B156=Conferência!$B$2,Conferência!$B$2,\"\")","v":"QUARTA-FEIRA"},{"$f":"IF(Jogo!C156=Conferência!$C$2,Conferência!$C$2,\"\")","v":1},{"$f":"IF(Jogo!D156=Conferência!$D$2,Conferência!$D$2,\"\")","v":""},{"$f":"IF(Jogo!E156=Conferência!$E$2,Conferência!$E$2,\"\")","v":4},{"$f":"IF(Jogo!F156=Conferência!$F$2,Conferência!$F$2,\"\")","v":""},{"$f":"IF(Jogo!G156=Conferência!$G$2,Conferência!$G$2,\"\")","v":""},{"$f":"IF(Jogo!H156=Conferência!$H$2,Conferência!$H$2,\"\")","v":""},{"$f":"IF(Jogo!I156=Conferência!$I$2,Conferência!$I$2,\"\")","v":""},{"$f":"IF(Jogo!J156=Conferência!$J$2,Conferência!$J$2,\"\")","v":""},{"$f":"IF(Jogo!K156=Conferência!$K$2,Conferência!$K$2,\"\")","v":""},{"$f":"IF(Jogo!L156=Conferência!$L$2,Conferência!$L$2,\"\")","v":""},{"$f":"IF(Jogo!M156=Conferência!$M$2,Conferência!$M$2,\"\")","v":""},{"$f":"IF(Jogo!N156=Conferência!$N$2,Conferência!$N$2,\"\")","v":""},{"$f":"IF(Jogo!O156=Conferência!$O$2,Conferência!$O$2,\"\")","v":""},{"$f":"IF(Jogo!P156=Conferência!$P$2,Conferência!$P$2,\"\")","v":""},{"$f":"IF(Jogo!Q156=Conferência!$Q$2,Conferência!$Q$2,\"\")","v":""},""]
[{"$f":"IF(Jogo!A157=Conferência!$A$2,Conferência!$A$2,\"\")","v":""},{"$f":"IF(Jogo!B157=Conferência!$B$2,Conferência!$B$2,\"\")","v":"QUARTA-FEIRA"},{"$f":"IF(Jogo!C157=Conferência!$C$2,Conferência!$C$2,\"\")","v":""},{"$f":"IF(Jogo!D157=Conferência!$D$2,Conferência!$D$2,\"\")","v":""},{"$f":"IF(Jogo!E157=Conferência!$E$2,Conferência!$E$2,\"\")","v":""},{"$f":"IF(Jogo!F157=Conferência!$F$2,Conferência!$F$2,\"\")","v":""},{"$f":"IF(Jogo!G157=Conferência!$G$2,Conferência!$G$2,\"\")","v":""},{"$f":"IF(Jogo!H157=Conferência!$H$2,Conferência!$H$2,\"\")","v":""},{"$f":"IF(Jogo!I157=Conferência!$I$2,Conferência!$I$2,\"\")","v":""},{"$f":"IF(Jogo!J157=Conferência!$J$2,Conferência!$J$2,\"\")","v":""},{"$f":"IF(Jogo!K157=Conferência!$K$2,Conferência!$K$2,\"\")","v":""},{"$f":"IF(Jogo!L157=Conferência!$L$2,Conferência!$L$2,\"\")","v":""},{"$f":"IF(Jogo!M157=Conferência!$M$2,Conferência!$M$2,\"\")","v":""},{"$f":"IF(Jogo!N157=Conferência!$N$2,Conferência!$N$2,\"\")","v":""},{"$f":"IF(Jogo!O157=Conferência!$O$2,Conferência!$O$2,\"\")","v":""},{"$f":"IF(Jogo!P157=Conferência!$P$2,Conferência!$P$2,\"\")","v":""},{"$f":"IF(Jogo!Q157=Conferência!$Q$2,Conferência!$Q$2,\"\")","v":""},""]
[{"$f":"IF(Jogo!A158=Conferência!$A$2,Conferência!$A$2,\"\")","v":""},{"$f":"IF(Jogo!B158=Conferência!$B$2,Conferência!$B$2,\"\")","v":"QUARTA-FEIRA"},{"$f":"IF(Jogo!C158=Conferência!$C$2,Conferência!$C$2,\"\")","v":1},{"$f":"IF(Jogo!D158=Conferência!$D$2,Conferência!$D$2,\"\")","v":3},{"$f":"IF(Jogo!E158=Conferência!$E$2,Conferência!$E$2,\"\")","v":4},{"$f":"IF(Jogo!F158=Conferência!$F$2,Conferência!$F$2,\"\")","v":""},{"$f":"IF(Jogo!G158=Conferência!$G$2,Conferência!$G$2,\"\")","v":""},{"$f":"IF(Jogo!H158=Conferência!$H$2,Conferência!$H$2,\"\")","v":""},{"$f":"IF(Jogo!I158=Conferência!$I$2,Conferência!$I$2,\"\")","v":""},{"$f":"IF(Jogo!J158=Conferência!$J$2,Conferência!$J$2,\"\")","v":""},{"$f":"IF(Jogo!K158=Conferência!$K$2,Conferência!$K$2,\"\")","v":""},{"$f":"IF(Jogo!L158=Conferência!$L$2,Conferência!$L$2,\"\")","v":""},{"$f":"IF(Jogo!M158=Conferência!$M$2,Conferência!$M$2,\"\")","v":""},{"$f":"IF(Jogo!N158=Conferência!$N$2,Conferência!$N$2,\"\")","v":""},{"$f":"IF(Jogo!O158=Conferência!$O$2,Conferência!$O$2,\"\")","v":""},{"$f":"IF(Jogo!P158=Conferência!$P$2,Conferência!$P$2,\"\")","v":""},{"$f":"IF(Jogo!Q158=Conferência!$Q$2,Conferência!$Q$2,\"\")","v":""},""]
[{"$f":"IF(Jogo!A159=Conferência!$A$2,Conferência!$A$2,\"\")","v":""},{"$f":"IF(Jogo!B159=Conferência!$B$2,Conferência!$B$2,\"\")","v":"QUARTA-FEIRA"},{"$f":"IF(Jogo!C159=Conferência!$C$2,Conferência!$C$2,\"\")","v":1},{"$f":"IF(Jogo!D159=Conferência!$D$2,Conferência!$D$2,\"\")","v":""},{"$f":"IF(Jogo!E159=Conferência!$E$2,Conferência!$E$2,\"\")","v":""},{"$f":"IF(Jogo!F159=Conferência!$F$2,Conferência!$F$2,\"\")","v":""},{"$f":"IF(Jogo!G159=Conferência!$G$2,Conferência!$G$2,\"\")","v":""},{"$f":"IF(Jogo!H159=Conferência!$H$2,Conferência!$H$2,\"\")","v":""},{"$f":"IF(Jogo!I159=Conferência!$I$2,Conferência!$I$2,\"\")","v":""},{"$f":"IF(Jogo!J159=Conferência!$J$2,Conferência!$J$2,\"\")","v":""},{"$f":"IF(Jogo!K159=Conferência!$K$2,Conferência!$K$2,\"\")","v":""},{"$f":"IF(Jogo!L159=Conferência!$L$2,Conferência!$L$2,\"\")","v":""},{"$f":"IF(Jogo!M159=Conferência!$M$2,Conferência!$M$2,\"\")","v":""},{"$f":"IF(Jogo!N159=Conferência!$N$2,Conferência!$N$2,\"\")","v":""},{"$f":"IF(Jogo!O159=Conferência!$O$2,Conferência!$O$2,\"\")","v":""},{"$f":"IF(Jogo!P159=Conferência!$P$2,Conferência!$P$2,\"\")","v":23},{"$f":"IF(Jogo!Q159=Conferência!$Q$2,Conferência!$Q$2,\"\")","v":24},""]
[{"$f":"IF(Jogo!A160=Conferência!$A$2,Conferência!$A$2,\"\")","v":""},{"$f":"IF(Jogo!B160=Conferência!$B$2,Conferência!$B$2,\"\")","v":"QUARTA-FEIRA"},{"$f":"IF(Jogo!C160=Conferência!$C$2,Conferência!$C$2,\"\")","v":""},{"$f":"IF(Jogo!D160=Conferência!$D$2,Conferência!$D$2,\"\")","v":""},{"$f":"IF(Jogo!E160=Conferência!$E$2,Conferência!$E$2,\"\")","v":""},{"$f":"IF(Jogo!F160=Conferência!$F$2,Conferência!$F$2,\"\")","v":6},{"$f":"IF(Jogo!G160=Conferência!$G$2,Conferência!$G$2,\"\")","v":7},{"$f":"IF(Jogo!H160=Conferência!$H$2,Conferência!$H$2,\"\")","v":""},{"$f":"IF(Jogo!I160=Conferência!$I$2,Conferência!$I$2,\"\")","v":""},{"$f":"IF(Jogo!J160=Conferência!$J$2,Conferência!$J$2,\"\")","v":11},{"$f":"IF(Jogo!K160=Conferência!$K$2,Conferência!$K$2,\"\")","v":""},{"$f":"IF(Jogo!L160=Conferência!$L$2,Conferência!$L$2,\"\")","v":""},{"$f":"IF(Jogo!M160=Conferência!$M$2,Conferência!$M$2,\"\")","v":""},{"$f":"IF(Jogo!N160=Conferência!$N$2,Conferência!$N$2,\"\")","v":""},{"$f":"IF(Jogo!O160=Conferência!$O$2,Conferência!$O$2,\"\")","v":""},{"$f":"IF(Jogo!P160=Conferência!$P$2,Conferência!$P$2,\"\")","v":23},{"$f":"IF(Jogo!Q160=Conferência!$Q$2,Conferência!$Q$2,\"\")","v":24},""]
[{"$f":"IF(Jogo!A161=Conferência!$A$2,Conferência!$A$2,\"\")","v":""},{"$f":"IF(Jogo!B161=Conferência!$B$2,Conferência!$B$2,\"\")","v":"QUARTA-FEIRA"},{"$f":"IF(Jogo!C161=Conferência!$C$2,Conferência!$C$2,\"\")","v":""},{"$f":"IF(Jogo!D161=Conferência!$D$2,Conferência!$D$2,\"\")","v":""},{"$f":"IF(Jogo!E161=Conferência!$E$2,Conferência!$E$2,\"\")","v":""},{"$f":"IF(Jogo!F161=Conferência!$F$2,Conferência!$F$2,\"\")","v":""},{"$f":"IF(Jogo!G161=Conferência!$G$2,Conferência!$G$2,\"\")","v":""},{"$f":"IF(Jogo!H161=Conferência!$H$2,Conferência!$H$2,\"\")","v":""},{"$f":"IF(Jogo!I161=Conferência!$I$2,Conferência!$I$2,\"\")","v":""},{"$f":"IF(Jogo!J161=Conferência!$J$2,Conferência!$J$2,\"\")","v":""},{"$f":"IF(Jogo!K161=Conferência!$K$2,Conferência!$K$2,\"\")","v":""},{"$f":"IF(Jogo!L161=Conferência!$L$2,Conferência!$L$2,\"\")","v":""},{"$f":"IF(Jogo!M161=Conferência!$M$2,Conferência!$M$2,\"\")","v":""},{"$f":"IF(Jogo!N161=Conferência!$N$2,Conferência!$N$2,\"\")","v":""},{"$f":"IF(Jogo!O161=Conferência!$O$2,Conferência!$O$2,\"\")","v":""},{"$f":"IF(Jogo!P161=Conferência!$P$2,Conferência!$P$2,\"\")","v":""},{"$f":"IF(Jogo!Q161=Conferência!$Q$2,Conferência!$Q$2,\"\")","v":""},""]
[{"$f":"IF(Jogo!A162=Conferência!$A$2,Conferência!$A$2,\"\")","v":""},{"$f":"IF(Jogo!B162=Conferência!$B$2,Conferência!$B$2,\"\")","v":"QUARTA-FEIRA"},{"$f":"IF(Jogo!C162=Conferência!$C$2,Conferência!$C$2,\"\")","v":1},{"$f":"IF(Jogo!D162=Conferência!$D$2,Conferência!$D$2,\"\")","v":""},{"$f":"IF(Jogo!E162=Conferência!$E$2,Conferência!$E$2,\"\")","v":4},{"$f":"IF(Jogo!F162=Conferência!$F$2,Conferência!$F$2,\"\")","v":""},{"$f":"IF(Jogo!G162=Conferência!$G$2,Conferência!$G$2,\"\")","v":""},{"$f":"IF(Jogo!H162=Conferência!$H$2,Conferência!$H$2,\"\")","v":""},{"$f":"IF(Jogo!I162=Conferência!$I$2,Conferência!$I$2,\"\")","v":""},{"$f":"IF(Jogo!J162=Conferência!$J$2,Conferência!$J$2,\"\")","v":""},{"$f":"IF(Jogo!K162=Conferência!$K$2,Conferência!$K$2,\"\")","v":""},{"$f":"IF(Jogo!L162=Conferência!$L$2,Conferência!$L$2,\"\")","v":""},{"$f":"IF(Jogo!M162=Conferência!$M$2,Conferência!$M$2,\"\")","v":""},{"$f":"IF(Jogo!N162=Conferência!$N$2,Conferência!$N$2,\"\")","v":""},{"$f":"IF(Jogo!O162=Conferência!$O$2,Conferência!$O$2,\"\")","v":""},{"$f":"IF(Jogo!P162=Conferência!$P$2,Conferência!$P$2,\"\")","v":23},{"$f":"IF(Jogo!Q162=Conferência!$Q$2,Conferência!$Q$2,\"\")","v":""},""]
[{"$f":"IF(Jogo!A163=Conferência!$A$2,Conferência!$A$2,\"\")","v":""},{"$f":"IF(Jogo!B163=Conferência!$B$2,Conferência!$B$2,\"\")","v":"QUARTA-FEIRA"},{"$f":"IF(Jogo!C163=Conferência!$C$2,Conferência!$C$2,\"\")","v":""},{"$f":"IF(Jogo!D163=Conferência!$D$2,Conferência!$D$2,\"\")","v":3},{"$f":"IF(Jogo!E163=Conferência!$E$2,Conferência!$E$2,\"\")","v":4},{"$f":"IF(Jogo!F163=Conferência!$F$2,Conferência!$F$2,\"\")","v":6},{"$f":"IF(Jogo!G163=Conferência!$G$2,Conferência!$G$2,\"\")","v":""},{"$f":"IF(Jogo!H163=Conferência!$H$2,Conferência!$H$2,\"\")","v":""},{"$f":"IF(Jogo!I163=Conferência!$I$2,Conferência!$I$2,\"\")","v":""},{"$f":"IF(Jogo!J163=Conferência!$J$2,Conferência!$J$2,\"\")","v":""},{"$f":"IF(Jogo!K163=Conferência!$K$2,Conferência!$K$2,\"\")","v":""},{"$f":"IF(Jogo!L163=Conferência!$L$2,Conferência!$L$2,\"\")","v":""},{"$f":"IF(Jogo!M163=Conferência!$M$2,Conferência!$M$2,\"\")","v":""},{"$f":"IF(Jogo!N163=Conferência!$N$2,Conferência!$N$2,\"\")","v":""},{"$f":"IF(Jogo!O163=Conferência!$O$2,Conferência!$O$2,\"\")","v":""},{"$f":"IF(Jogo!P163=Conferência!$P$2,Conferência!$P$2,\"\")","v":23},{"$f":"IF(Jogo!Q163=Conferência!$Q$2,Conferência!$Q$2,\"\")","v":""},""]
[{"$f":"IF(Jogo!A164=Conferência!$A$2,Conferência!$A$2,\"\")","v":""},{"$f":"IF(Jogo!B164=Conferência!$B$2,Conferência!$B$2,\"\")","v":"QUARTA-FEIRA"},{"$f":"IF(Jogo!C164=Conferência!$C$2,Conferência!$C$2,\"\")","v":1},{"$f":"IF(Jogo!D164=Conferência!$D$2,Conferência!$D$2,\"\")","v":""},{"$f":"IF(Jogo!E164=Conferência!$E$2,Conferência!$E$2,\"\")","v":""},{"$f":"IF(Jogo!F164=Conferência!$F$2,Conferência!$F$2,\"\")","v":""},{"$f":"IF(Jogo!G164=Conferência!$G$2,Conferência!$G$2,\"\")","v":""},{"$f":"IF(Jogo!H164=Conferência!$H$2,Conferência!$H$2,\"\")","v":""},{"$f":"IF(Jogo!I164=Conferência!$I$2,Conferência!$I$2,\"\")","v":""},{"$f":"IF(Jogo!J164=Conferência!$J$2,Conferência!$J$2,\"\")","v":""},{"$f":"IF(Jogo!K164=Conferência!$K$2,Conferência!$K$2,\"\")","v":""},{"$f":"IF(Jogo!L164=Conferência!$L$2,Conferência!$L$2,\"\")","v":""},{"$f":"IF(Jogo!M164=Conferência!$M$2,Conferência!$M$2,\"\")","v":""},{"$f":"IF(Jogo!N164=Conferência!$N$2,Conferência!$N$2,\"\")","v":""},{"$f":"IF(Jogo!O164=Conferência!$O$2,Conferência!$O$2,\"\")","v":""},{"$f":"IF(Jogo!P164=Conferência!$P$2,Conferência!$P$2,\"\")","v":23},{"$f":"IF(Jogo!Q164=Conferência!$Q$2,Conferência!$Q$2,\"\")","v":""},""]
[{"$f":"IF(Jogo!A165=Conferência!$A$2,Conferência!$A$2,\"\")","v":""},{"$f":"IF(Jogo!B165=Conferência!$B$2,Conferência!$B$2,\"\")","v":"QUARTA-FEIRA"},{"$f":"IF(Jogo!C165=Conferência!$C$2,Conferência!$C$2,\"\")","v":1},{"$f":"IF(Jogo!D165=Conferência!$D$2,Conferência!$D$2,\"\")","v":""},{"$f":"IF(Jogo!E165=Conferência!$E$2,Conferência!$E$2,\"\")","v":4},{"$f":"IF(Jogo!F165=Conferência!$F$2,Conferência!$F$2,\"\")","v":6},{"$f":"IF(Jogo!G165=Conferência!$G$2,Conferência!$G$2,\"\")","v":7},{"$f":"IF(Jogo!H165=Conferência!$H$2,Conferência!$H$2,\"\")","v":""},{"$f":"IF(Jogo!I165=Conferência!$I$2,Conferência!$I$2,\"\")","v":""},{"$f":"IF(Jogo!J165=Conferência!$J$2,Conferência!$J$2,\"\")","v":11},{"$f":"IF(Jogo!K165=Conferência!$K$2,Conferência!$K$2,\"\")","v":12},{"$f":"IF(Jogo!L165=Conferência!$L$2,Conferência!$L$2,\"\")","v":""},{"$f":"IF(Jogo!M165=Conferência!$M$2,Conferência!$M$2,\"\")","v":""},{"$f":"IF(Jogo!N165=Conferência!$N$2,Conferência!$N$2,\"\")","v":""},{"$f":"IF(Jogo!O165=Conferência!$O$2,Conferência!$O$2,\"\")","v":19},{"$f":"IF(Jogo!P165=Conferência!$P$2,Conferência!$P$2,\"\")","v":""},{"$f":"IF(Jogo!Q165=Conferência!$Q$2,Conferência!$Q$2,\"\")","v":""},""]
[{"$f":"IF(Jogo!A166=Conferência!$A$2,Conferência!$A$2,\"\")","v":""},{"$f":"IF(Jogo!B166=Conferência!$B$2,Conferência!$B$2,\"\")","v":"QUARTA-FEIRA"},{"$f":"IF(Jogo!C166=Conferência!$C$2,Conferência!$C$2,\"\")","v":1},{"$f":"IF(Jogo!D166=Conferência!$D$2,Conferência!$D$2,\"\")","v":""},{"$f":"IF(Jogo!E166=Conferência!$E$2,Conferência!$E$2,\"\")","v":""},{"$f":"IF(Jogo!F166=Conferência!$F$2,Conferência!$F$2,\"\")","v":""},{"$f":"IF(Jogo!G166=Conferência!$G$2,Conferência!$G$2,\"\")","v":""},{"$f":"IF(Jogo!H166=Conferência!$H$2,Conferência!$H$2,\"\")","v":""},{"$f":"IF(Jogo!I166=Conferência!$I$2,Conferência!$I$2,\"\")","v":10},{"$f":"IF(Jogo!J166=Conferência!$J$2,Conferência!$J$2,\"\")","v":""},{"$f":"IF(Jogo!K166=Conferência!$K$2,Conferência!$K$2,\"\")","v":""},{"$f":"IF(Jogo!L166=Conferência!$L$2,Conferência!$L$2,\"\")","v":""},{"$f":"IF(Jogo!M166=Conferência!$M$2,Conferência!$M$2,\"\")","v":""},{"$f":"IF(Jogo!N166=Conferência!$N$2,Conferência!$N$2,\"\")","v":""},{"$f":"IF(Jogo!O166=Conferência!$O$2,Conferência!$O$2,\"\")","v":""},{"$f":"IF(Jogo!P166=Conferência!$P$2,Conferência!$P$2,\"\")","v":""},{"$f":"IF(Jogo!Q166=Conferência!$Q$2,Conferência!$Q$2,\"\")","v":""},""]
[{"$f":"IF(Jogo!A167=Conferência!$A$2,Conferência!$A$2,\"\")","v":""},{"$f":"IF(Jogo!B167=Conferência!$B$2,Conferência!$B$2,\"\")","v":"QUARTA-FEIRA"},{"$f":"IF(Jogo!C167=Conferência!$C$2,Conferência!$C$2,\"\")","v":""},{"$f":"IF(Jogo!D167=Conferência!$D$2,Conferência!$D$2,\"\")","v":3},{"$f":"IF(Jogo!E167=Conferência!$E$2,Conferência!$E$2,\"\")","v":4},{"$f":"IF(Jogo!F167=Conferência!$F$2,Conferência!$F$2,\"\")","v":""},{"$f":"IF(Jogo!G167=Conferência!$G$2,Conferência!$G$2,\"\")","v":""},{"$f":"IF(Jogo!H167=Conferência!$H$2,Conferência!$H$2,\"\")","v":""},{"$f":"IF(Jogo!I167=Conferência!$I$2,Conferência!$I$2,\"\")","v":""},{"$f":"IF(Jogo!J167=Conferência!$J$2,Conferência!$J$2,\"\")","v":""},{"$f":"IF(Jogo!K167=Conferência!$K$2,Conferência!$K$2,\"\")","v":""},{"$f":"IF(Jogo!L167=Conferência!$L$2,Conferência!$L$2,\"\")","v":""},{"$f":"IF(Jogo!M167=Conferência!$M$2,Conferência!$M$2,\"\")","v":""},{"$f":"IF(Jogo!N167=Conferência!$N$2,Conferência!$N$2,\"\")","v":""},{"$f":"IF(Jogo!O167=Conferência!$O$2,Conferência!$O$2,\"\")","v":""},{"$f":"IF(Jogo!P167=Conferência!$P$2,Conferência!$P$2,\"\")","v":""},{"$f":"IF(Jogo!Q167=Conferência!$Q$2,Conferência!$Q$2,\"\")","v":""},""]
[{"$f":"IF(Jogo!A168=Conferência!$A$2,Conferência!$A$2,\"\")","v":""},{"$f":"IF(Jogo!B168=Conferência!$B$2,Conferência!$B$2,\"\")","v":"QUARTA-FEIRA"},{"$f":"IF(Jogo!C168=Conferência!$C$2,Conferência!$C$2,\"\")","v":1},{"$f":"IF(Jogo!D168=Conferência!$D$2,Conferência!$D$2,\"\")","v":3},{"$f":"IF(Jogo!E168=Conferência!$E$2,Conferência!$E$2,\"\")","v":""},{"$f":"IF(Jogo!F168=Conferência!$F$2,Conferência!$F$2,\"\")","v":""},{"$f":"IF(Jogo!G168=Conferência!$G$2,Conferência!$G$2,\"\")","v":""},{"$f":"IF(Jogo!H168=Conferência!$H$2,Conferência!$H$2,\"\")","v":""},{"$f":"IF(Jogo!I168=Conferência!$I$2,Conferência!$I$2,\"\")","v":""},{"$f":"IF(Jogo!J168=Conferência!$J$2,Conferência!$J$2,\"\")","v":""},{"$f":"IF(Jogo!K168=Conferência!$K$2,Conferência!$K$2,\"\")","v":""},{"$f":"IF(Jogo!L168=Conferência!$L$2,Conferência!$L$2,\"\")","v":""},{"$f":"IF(Jogo!M168=Conferência!$M$2,Conferência!$M$2,\"\")","v":""},{"$f":"IF(Jogo!N168=Conferência!$N$2,Conferência!$N$2,\"\")","v":""},{"$f":"IF(Jogo!O168=Conferência!$O$2,Conferência!$O$2,\"\")","v":""},{"$f":"IF(Jogo!P168=Conferência!$P$2,Conferência!$P$2,\"\")","v":""},{"$f":"IF(Jogo!Q168=Conferência!$Q$2,Conferência!$Q$2,\"\")","v":""},""]
[{"$f":"IF(Jogo!A169=Conferência!$A$2,Conferência!$A$2,\"\")","v":""},{"$f":"IF(Jogo!B169=Conferência!$B$2,Conferência!$B$2,\"\")","v":"QUARTA-FEIRA"},{"$f":"IF(Jogo!C169=Conferência!$C$2,Conferência!$C$2,\"\")","v":1},{"$f":"IF(Jogo!D169=Conferência!$D$2,Conferência!$D$2,\"\")","v":""},{"$f":"IF(Jogo!E169=Conferência!$E$2,Conferência!$E$2,\"\")","v":""},{"$f":"IF(Jogo!F169=Conferência!$F$2,Conferência!$F$2,\"\")","v":""},{"$f":"IF(Jogo!G169=Conferência!$G$2,Conferência!$G$2,\"\")","v":""},{"$f":"IF(Jogo!H169=Conferência!$H$2,Conferência!$H$2,\"\")","v":""},{"$f":"IF(Jogo!I169=Conferência!$I$2,Conferência!$I$2,\"\")","v":""},{"$f":"IF(Jogo!J169=Conferência!$J$2,Conferência!$J$2,\"\")","v":""},{"$f":"IF(Jogo!K169=Conferência!$K$2,Conferência!$K$2,\"\")","v":""},{"$f":"IF(Jogo!L169=Conferência!$L$2,Conferência!$L$2,\"\")","v":""},{"$f":"IF(Jogo!M169=Conferência!$M$2,Conferência!$M$2,\"\")","v":""},{"$f":"IF(Jogo!N169=Conferência!$N$2,Conferência!$N$2,\"\")","v":""},{"$f":"IF(Jogo!O169=Conferência!$O$2,Conferência!$O$2,\"\")","v":""},{"$f":"IF(Jogo!P169=Conferência!$P$2,Conferência!$P$2,\"\")","v":""},{"$f":"IF(Jogo!Q169=Conferência!$Q$2,Conferência!$Q$2,\"\")","v":""},""]
[{"$f":"IF(Jogo!A170=Conferência!$A$2,Conferência!$A$2,\"\")","v":""},{"$f":"IF(Jogo!B170=Conferência!$B$2,Conferência!$B$2,\"\")","v":"QUARTA-FEIRA"},{"$f":"IF(Jogo!C170=Conferência!$C$2,Conferência!$C$2,\"\")","v":1},{"$f":"IF(Jogo!D170=Conferência!$D$2,Conferência!$D$2,\"\")","v":""},{"$f":"IF(Jogo!E170=Conferência!$E$2,Conferência!$E$2,\"\")","v":""},{"$f":"IF(Jogo!F170=Conferência!$F$2,Conferência!$F$2,\"\")","v":""},{"$f":"IF(Jogo!G170=Conferência!$G$2,Conferência!$G$2,\"\")","v":7},{"$f":"IF(Jogo!H170=Conferência!$H$2,Conferência!$H$2,\"\")","v":""},{"$f":"IF(Jogo!I170=Conferência!$I$2,Conferência!$I$2,\"\")","v":""},{"$f":"IF(Jogo!J170=Conferência!$J$2,Conferência!$J$2,\"\")","v":""},{"$f":"IF(Jogo!K170=Conferência!$K$2,Conferência!$K$2,\"\")","v":""},{"$f":"IF(Jogo!L170=Conferência!$L$2,Conferência!$L$2,\"\")","v":""},{"$f":"IF(Jogo!M170=Conferência!$M$2,Conferência!$M$2,\"\")","v":""},{"$f":"IF(Jogo!N170=Conferência!$N$2,Conferência!$N$2,\"\")","v":""},{"$f":"IF(Jogo!O170=Conferência!$O$2,Conferência!$O$2,\"\")","v":""},{"$f":"IF(Jogo!P170=Conferência!$P$2,Conferência!$P$2,\"\")","v":23},{"$f":"IF(Jogo!Q170=Conferência!$Q$2,Conferência!$Q$2,\"\")","v":24},""]
[{"$f":"IF(Jogo!A171=Conferência!$A$2,Conferência!$A$2,\"\")","v":""},{"$f":"IF(Jogo!B171=Conferência!$B$2,Conferência!$B$2,\"\")","v":"QUARTA-FEIRA"},{"$f":"IF(Jogo!C171=Conferência!$C$2,Conferência!$C$2,\"\")","v":1},{"$f":"IF(Jogo!D171=Conferência!$D$2,Conferência!$D$2,\"\")","v":""},{"$f":"IF(Jogo!E171=Conferência!$E$2,Conferência!$E$2,\"\")","v":""},{"$f":"IF(Jogo!F171=Conferência!$F$2,Conferência!$F$2,\"\")","v":""},{"$f":"IF(Jogo!G171=Conferência!$G$2,Conferência!$G$2,\"\")","v":""},{"$f":"IF(Jogo!H171=Conferência!$H$2,Conferência!$H$2,\"\")","v":""},{"$f":"IF(Jogo!I171=Conferência!$I$2,Conferência!$I$2,\"\")","v":""},{"$f":"IF(Jogo!J171=Conferência!$J$2,Conferência!$J$2,\"\")","v":""},{"$f":"IF(Jogo!K171=Conferência!$K$2,Conferência!$K$2,\"\")","v":""},{"$f":"IF(Jogo!L171=Conferência!$L$2,Conferência!$L$2,\"\")","v":""},{"$f":"IF(Jogo!M171=Conferência!$M$2,Conferência!$M$2,\"\")","v":""},{"$f":"IF(Jogo!N171=Conferência!$N$2,Conferência!$N$2,\"\")","v":""},{"$f":"IF(Jogo!O171=Conferência!$O$2,Conferência!$O$2,\"\")","v":""},{"$f":"IF(Jogo!P171=Conferência!$P$2,Conferência!$P$2,\"\")","v":""},{"$f":"IF(Jogo!Q171=Conferência!$Q$2,Conferência!$Q$2,\"\")","v":""},""]
[{"$f":"IF(Jogo!A172=Conferência!$A$2,Conferência!$A$2,\"\")","v":""},{"$f":"IF(Jogo!B172=Conferência!$B$2,Conferência!$B$2,\"\")","v":"QUARTA-FEIRA"},{"$f":"IF(Jogo!C172=Conferência!$C$2,Conferência!$C$2,\"\")","v":1},{"$f":"IF(Jogo!D172=Conferência!$D$2,Conferência!$D$2,\"\")","v":3},{"$f":"IF(Jogo!E172=Conferência!$E$2,Conferência!$E$2,\"\")","v":""},{"$f":"IF(Jogo!F172=Conferência!$F$2,Conferência!$F$2,\"\")","v":""},{"$f":"IF(Jogo!G172=Conferência!$G$2,Conferência!$G$2,\"\")","v":""},{"$f":"IF(Jogo!H172=Conferência!$H$2,Conferência!$H$2,\"\")","v":9},{"$f":"IF(Jogo!I172=Conferência!$I$2,Conferência!$I$2,\"\")","v":10},{"$f":"IF(Jogo!J172=Conferência!$J$2,Conferência!$J$2,\"\")","v":11},{"$f":"IF(Jogo!K172=Conferência!$K$2,Conferência!$K$2,\"\")","v":12},{"$f":"IF(Jogo!L172=Conferência!$L$2,Conferência!$L$2,\"\")","v":13},{"$f":"IF(Jogo!M172=Conferência!$M$2,Conferência!$M$2,\"\")","v":""},{"$f":"IF(Jogo!N172=Conferência!$N$2,Conferência!$N$2,\"\")","v":""},{"$f":"IF(Jogo!O172=Conferência!$O$2,Conferência!$O$2,\"\")","v":""},{"$f":"IF(Jogo!P172=Conferência!$P$2,Conferência!$P$2,\"\")","v":""},{"$f":"IF(Jogo!Q172=Conferência!$Q$2,Conferência!$Q$2,\"\")","v":""},""]
[{"$f":"IF(Jogo!A173=Conferência!$A$2,Conferência!$A$2,\"\")","v":""},{"$f":"IF(Jogo!B173=Conferência!$B$2,Conferência!$B$2,\"\")","v":"QUARTA-FEIRA"},{"$f":"IF(Jogo!C173=Conferência!$C$2,Conferência!$C$2,\"\")","v":""},{"$f":"IF(Jogo!D173=Conferência!$D$2,Conferência!$D$2,\"\")","v":3},{"$f":"IF(Jogo!E173=Conferência!$E$2,Conferência!$E$2,\"\")","v":4},{"$f":"IF(Jogo!F173=Conferência!$F$2,Conferência!$F$2,\"\")","v":""},{"$f":"IF(Jogo!G173=Conferência!$G$2,Conferência!$G$2,\"\")","v":""},{"$f":"IF(Jogo!H173=Conferência!$H$2,Conferência!$H$2,\"\")","v":""},{"$f":"IF(Jogo!I173=Conferência!$I$2,Conferência!$I$2,\"\")","v":""},{"$f":"IF(Jogo!J173=Conferência!$J$2,Conferência!$J$2,\"\")","v":""},{"$f":"IF(Jogo!K173=Conferência!$K$2,Conferência!$K$2,\"\")","v":""},{"$f":"IF(Jogo!L173=Conferência!$L$2,Conferência!$L$2,\"\")","v":""},{"$f":"IF(Jogo!M173=Conferência!$M$2,Conferência!$M$2,\"\")","v":""},{"$f":"IF(Jogo!N173=Conferência!$N$2,Conferência!$N$2,\"\")","v":""},{"$f":"IF(Jogo!O173=Conferência!$O$2,Conferência!$O$2,\"\")","v":""},{"$f":"IF(Jogo!P173=Conferência!$P$2,Conferência!$P$2,\"\")","v":23},{"$f":"IF(Jogo!Q173=Conferência!$Q$2,Conferência!$Q$2,\"\")","v":""},""]
[{"$f":"IF(Jogo!A174=Conferência!$A$2,Conferência!$A$2,\"\")","v":""},{"$f":"IF(Jogo!B174=Conferência!$B$2,Conferência!$B$2,\"\")","v":"QUARTA-FEIRA"},{"$f":"IF(Jogo!C174=Conferência!$C$2,Conferência!$C$2,\"\")","v":""},{"$f":"IF(Jogo!D174=Conferência!$D$2,Conferência!$D$2,\"\")","v":""},{"$f":"IF(Jogo!E174=Conferência!$E$2,Conferência!$E$2,\"\")","v":""},{"$f":"IF(Jogo!F174=Conferência!$F$2,Conferência!$F$2,\"\")","v":""},{"$f":"IF(Jogo!G174=Conferência!$G$2,Conferência!$G$2,\"\")","v":""},{"$f":"IF(Jogo!H174=Conferência!$H$2,Conferência!$H$2,\"\")","v":""},{"$f":"IF(Jogo!I174=Conferência!$I$2,Conferência!$I$2,\"\")","v":""},{"$f":"IF(Jogo!J174=Conferência!$J$2,Conferência!$J$2,\"\")","v":""},{"$f":"IF(Jogo!K174=Conferência!$K$2,Conferência!$K$2,\"\")","v":""},{"$f":"IF(Jogo!L174=Conferência!$L$2,Conferência!$L$2,\"\")","v":""},{"$f":"IF(Jogo!M174=Conferência!$M$2,Conferência!$M$2,\"\")","v":""},{"$f":"IF(Jogo!N174=Conferência!$N$2,Conferência!$N$2,\"\")","v":""},{"$f":"IF(Jogo!O174=Conferência!$O$2,Conferência!$O$2,\"\")","v":""},{"$f":"IF(Jogo!P174=Conferência!$P$2,Conferência!$P$2,\"\")","v":""},{"$f":"IF(Jogo!Q174=Conferência!$Q$2,Conferência!$Q$2,\"\")","v":""},""]
[{"$f":"IF(Jogo!A175=Conferência!$A$2,Conferência!$A$2,\"\")","v":""},{"$f":"IF(Jogo!B175=Conferência!$B$2,Conferência!$B$2,\"\")","v":"QUARTA-FEIRA"},{"$f":"IF(Jogo!C175=Conferência!$C$2,Conferência!$C$2,\"\")","v":1},{"$f":"IF(Jogo!D175=Conferência!$D$2,Conferência!$D$2,\"\")","v":3},{"$f":"IF(Jogo!E175=Conferência!$E$2,Conferência!$E$2,\"\")","v":""},{"$f":"IF(Jogo!F175=Conferência!$F$2,Conferência!$F$2,\"\")","v":""},{"$f":"IF(Jogo!G175=Conferência!$G$2,Conferência!$G$2,\"\")","v":""},{"$f":"IF(Jogo!H175=Conferência!$H$2,Conferência!$H$2,\"\")","v":""},{"$f":"IF(Jogo!I175=Conferência!$I$2,Conferência!$I$2,\"\")","v":""},{"$f":"IF(Jogo!J175=Conferência!$J$2,Conferência!$J$2,\"\")","v":""},{"$f":"IF(Jogo!K175=Conferência!$K$2,Conferência!$K$2,\"\")","v":""},{"$f":"IF(Jogo!L175=Conferência!$L$2,Conferência!$L$2,\"\")","v":""},{"$f":"IF(Jogo!M175=Conferência!$M$2,Conferência!$M$2,\"\")","v":""},{"$f":"IF(Jogo!N175=Conferência!$N$2,Conferência!$N$2,\"\")","v":""},{"$f":"IF(Jogo!O175=Conferência!$O$2,Conferência!$O$2,\"\")","v":""},{"$f":"IF(Jogo!P175=Conferência!$P$2,Conferência!$P$2,\"\")","v":23},{"$f":"IF(Jogo!Q175=Conferência!$Q$2,Conferência!$Q$2,\"\")","v":24},""]
[{"$f":"IF(Jogo!A176=Conferência!$A$2,Conferência!$A$2,\"\")","v":""},{"$f":"IF(Jogo!B176=Conferência!$B$2,Conferência!$B$2,\"\")","v":"QUARTA-FEIRA"},{"$f":"IF(Jogo!C176=Conferência!$C$2,Conferência!$C$2,\"\")","v":1},{"$f":"IF(Jogo!D176=Conferência!$D$2,Conferência!$D$2,\"\")","v":""},{"$f":"IF(Jogo!E176=Conferência!$E$2,Conferência!$E$2,\"\")","v":""},{"$f":"IF(Jogo!F176=Conferência!$F$2,Conferência!$F$2,\"\")","v":""},{"$f":"IF(Jogo!G176=Conferência!$G$2,Conferência!$G$2,\"\")","v":""},{"$f":"IF(Jogo!H176=Conferência!$H$2,Conferência!$H$2,\"\")","v":""},{"$f":"IF(Jogo!I176=Conferência!$I$2,Conferência!$I$2,\"\")","v":""},{"$f":"IF(Jogo!J176=Conferência!$J$2,Conferência!$J$2,\"\")","v":""},{"$f":"IF(Jogo!K176=Conferência!$K$2,Conferência!$K$2,\"\")","v":""},{"$f":"IF(Jogo!L176=Conferência!$L$2,Conferência!$L$2,\"\")","v":""},{"$f":"IF(Jogo!M176=Conferência!$M$2,Conferência!$M$2,\"\")","v":""},{"$f":"IF(Jogo!N176=Conferência!$N$2,Conferência!$N$2,\"\")","v":""},{"$f":"IF(Jogo!O176=Conferência!$O$2,Conferência!$O$2,\"\")","v":""},{"$f":"IF(Jogo!P176=Conferência!$P$2,Conferência!$P$2,\"\")","v":""},{"$f":"IF(Jogo!Q176=Conferência!$Q$2,Conferência!$Q$2,\"\")","v":""},""]
[{"$f":"IF(Jogo!A177=Conferência!$A$2,Conferência!$A$2,\"\")","v":""},{"$f":"IF(Jogo!B177=Conferência!$B$2,Conferência!$B$2,\"\")","v":"QUARTA-FEIRA"},{"$f":"IF(Jogo!C177=Conferência!$C$2,Conferência!$C$2,\"\")","v":""},{"$f":"IF(Jogo!D177=Conferência!$D$2,Conferência!$D$2,\"\")","v":3},{"$f":"IF(Jogo!E177=Conferência!$E$2,Conferência!$E$2,\"\")","v":""},{"$f":"IF(Jogo!F177=Conferência!$F$2,Conferência!$F$2,\"\")","v":6},{"$f":"IF(Jogo!G177=Conferência!$G$2,Conferência!$G$2,\"\")","v":""},{"$f":"IF(Jogo!H177=Conferência!$H$2,Conferência!$H$2,\"\")","v":""},{"$f":"IF(Jogo!I177=Conferência!$I$2,Conferência!$I$2,\"\")","v":""},{"$f":"IF(Jogo!J177=Conferência!$J$2,Conferência!$J$2,\"\")","v":""},{"$f":"IF(Jogo!K177=Conferência!$K$2,Conferência!$K$2,\"\")","v":""},{"$f":"IF(Jogo!L177=Conferência!$L$2,Conferência!$L$2,\"\")","v":""},{"$f":"IF(Jogo!M177=Conferência!$M$2,Conferência!$M$2,\"\")","v":""},{"$f":"IF(Jogo!N177=Conferência!$N$2,Conferência!$N$2,\"\")","v":""},{"$f":"IF(Jogo!O177=Conferência!$O$2,Conferência!$O$2,\"\")","v":""},{"$f":"IF(Jogo!P177=Conferência!$P$2,Conferência!$P$2,\"\")","v":""},{"$f":"IF(Jogo!Q177=Conferência!$Q$2,Conferência!$Q$2,\"\")","v":""},""]
[{"$f":"IF(Jogo!A178=Conferência!$A$2,Conferência!$A$2,\"\")","v":""},{"$f":"IF(Jogo!B178=Conferência!$B$2,Conferência!$B$2,\"\")","v":"QUARTA-FEIRA"},{"$f":"IF(Jogo!C178=Conferência!$C$2,Conferência!$C$2,\"\")","v":1},{"$f":"IF(Jogo!D178=Conferência!$D$2,Conferência!$D$2,\"\")","v":""},{"$f":"IF(Jogo!E178=Conferência!$E$2,Conferência!$E$2,\"\")","v":""},{"$f":"IF(Jogo!F178=Conferência!$F$2,Conferência!$F$2,\"\")","v":""},{"$f":"IF(Jogo!G178=Conferência!$G$2,Conferência!$G$2,\"\")","v":""},{"$f":"IF(Jogo!H178=Conferência!$H$2,Conferência!$H$2,\"\")","v":9},{"$f":"IF(Jogo!I178=Conferência!$I$2,Conferência!$I$2,\"\")","v":10},{"$f":"IF(Jogo!J178=Conferência!$J$2,Conferência!$J$2,\"\")","v":11},{"$f":"IF(Jogo!K178=Conferência!$K$2,Conferência!$K$2,\"\")","v":12},{"$f":"IF(Jogo!L178=Conferência!$L$2,Conferência!$L$2,\"\")","v":13},{"$f":"IF(Jogo!M178=Conferência!$M$2,Conferência!$M$2,\"\")","v":15},{"$f":"IF(Jogo!N178=Conferência!$N$2,Conferência!$N$2,\"\")","v":""},{"$f":"IF(Jogo!O178=Conferência!$O$2,Conferência!$O$2,\"\")","v":""},{"$f":"IF(Jogo!P178=Conferência!$P$2,Conferência!$P$2,\"\")","v":""},{"$f":"IF(Jogo!Q178=Conferência!$Q$2,Conferência!$Q$2,\"\")","v":24},""]
[{"$f":"IF(Jogo!A179=Conferência!$A$2,Conferência!$A$2,\"\")","v":""},{"$f":"IF(Jogo!B179=Conferência!$B$2,Conferência!$B$2,\"\")","v":"QUARTA-FEIRA"},{"$f":"IF(Jogo!C179=Conferência!$C$2,Conferência!$C$2,\"\")","v":""},{"$f":"IF(Jogo!D179=Conferência!$D$2,Conferência!$D$2,\"\")","v":3},{"$f":"IF(Jogo!E179=Conferência!$E$2,Conferência!$E$2,\"\")","v":""},{"$f":"IF(Jogo!F179=Conferência!$F$2,Conferência!$F$2,\"\")","v":""},{"$f":"IF(Jogo!G179=Conferência!$G$2,Conferência!$G$2,\"\")","v":""},{"$f":"IF(Jogo!H179=Conferência!$H$2,Conferência!$H$2,\"\")","v":9},{"$f":"IF(Jogo!I179=Conferência!$I$2,Conferência!$I$2,\"\")","v":""},{"$f":"IF(Jogo!J179=Conferência!$J$2,Conferência!$J$2,\"\")","v":""},{"$f":"IF(Jogo!K179=Conferência!$K$2,Conferência!$K$2,\"\")","v":""},{"$f":"IF(Jogo!L179=Conferência!$L$2,Conferência!$L$2,\"\")","v":""},{"$f":"IF(Jogo!M179=Conferência!$M$2,Conferência!$M$2,\"\")","v":""},{"$f":"IF(Jogo!N179=Conferência!$N$2,Conferência!$N$2,\"\")","v":""},{"$f":"IF(Jogo!O179=Conferência!$O$2,Conferência!$O$2,\"\")","v":""},{"$f":"IF(Jogo!P179=Conferência!$P$2,Conferência!$P$2,\"\")","v":""},{"$f":"IF(Jogo!Q179=Conferência!$Q$2,Conferência!$Q$2,\"\")","v":""},""]
[{"$f":"IF(Jogo!A180=Conferência!$A$2,Conferência!$A$2,\"\")","v":""},{"$f":"IF(Jogo!B180=Conferência!$B$2,Conferência!$B$2,\"\")","v":"QUARTA-FEIRA"},{"$f":"IF(Jogo!C180=Conferência!$C$2,Conferência!$C$2,\"\")","v":1},{"$f":"IF(Jogo!D180=Conferência!$D$2,Conferência!$D$2,\"\")","v":""},{"$f":"IF(Jogo!E180=Conferência!$E$2,Conferência!$E$2,\"\")","v":""},{"$f":"IF(Jogo!F180=Conferência!$F$2,Conferência!$F$2,\"\")","v":""},{"$f":"IF(Jogo!G180=Conferência!$G$2,Conferência!$G$2,\"\")","v":""},{"$f":"IF(Jogo!H180=Conferência!$H$2,Conferência!$H$2,\"\")","v":""},{"$f":"IF(Jogo!I180=Conferência!$I$2,Conferência!$I$2,\"\")","v":""},{"$f":"IF(Jogo!J180=Conferência!$J$2,Conferência!$J$2,\"\")","v":""},{"$f":"IF(Jogo!K180=Conferência!$K$2,Conferência!$K$2,\"\")","v":""},{"$f":"IF(Jogo!L180=Conferência!$L$2,Conferência!$L$2,\"\")","v":""},{"$f":"IF(Jogo!M180=Conferência!$M$2,Conferência!$M$2,\"\")","v":""},{"$f":"IF(Jogo!N180=Conferência!$N$2,Conferência!$N$2,\"\")","v":""},{"$f":"IF(Jogo!O180=Conferência!$O$2,Conferência!$O$2,\"\")","v":""},{"$f":"IF(Jogo!P180=Conferência!$P$2,Conferência!$P$2,\"\")","v":""},{"$f":"IF(Jogo!Q180=Conferência!$Q$2,Conferência!$Q$2,\"\")","v":""},""]
[{"$f":"IF(Jogo!A181=Conferência!$A$2,Conferência!$A$2,\"\")","v":""},{"$f":"IF(Jogo!B181=Conferência!$B$2,Conferência!$B$2,\"\")","v":"QUARTA-FEIRA"},{"$f":"IF(Jogo!C181=Conferência!$C$2,Conferência!$C$2,\"\")","v":1},{"$f":"IF(Jogo!D181=Conferência!$D$2,Conferência!$D$2,\"\")","v":3},{"$f":"IF(Jogo!E181=Conferência!$E$2,Conferência!$E$2,\"\")","v":""},{"$f":"IF(Jogo!F181=Conferência!$F$2,Conferência!$F$2,\"\")","v":""},{"$f":"IF(Jogo!G181=Conferência!$G$2,Conferência!$G$2,\"\")","v":""},{"$f":"IF(Jogo!H181=Conferência!$H$2,Conferência!$H$2,\"\")","v":""},{"$f":"IF(Jogo!I181=Conferência!$I$2,Conferência!$I$2,\"\")","v":""},{"$f":"IF(Jogo!J181=Conferência!$J$2,Conferência!$J$2,\"\")","v":""},{"$f":"IF(Jogo!K181=Conferência!$K$2,Conferência!$K$2,\"\")","v":""},{"$f":"IF(Jogo!L181=Conferência!$L$2,Conferência!$L$2,\"\")","v":""},{"$f":"IF(Jogo!M181=Conferência!$M$2,Conferência!$M$2,\"\")","v":""},{"$f":"IF(Jogo!N181=Conferência!$N$2,Conferência!$N$2,\"\")","v":""},{"$f":"IF(Jogo!O181=Conferência!$O$2,Conferência!$O$2,\"\")","v":""},{"$f":"IF(Jogo!P181=Conferência!$P$2,Conferência!$P$2,\"\")","v":23},{"$f":"IF(Jogo!Q181=Conferência!$Q$2,Conferência!$Q$2,\"\")","v":""},""]
[{"$f":"IF(Jogo!A182=Conferência!$A$2,Conferência!$A$2,\"\")","v":""},{"$f":"IF(Jogo!B182=Conferência!$B$2,Conferência!$B$2,\"\")","v":"QUARTA-FEIRA"},{"$f":"IF(Jogo!C182=Conferência!$C$2,Conferência!$C$2,\"\")","v":""},{"$f":"IF(Jogo!D182=Conferência!$D$2,Conferência!$D$2,\"\")","v":3},{"$f":"IF(Jogo!E182=Conferência!$E$2,Conferência!$E$2,\"\")","v":""},{"$f":"IF(Jogo!F182=Conferência!$F$2,Conferência!$F$2,\"\")","v":""},{"$f":"IF(Jogo!G182=Conferência!$G$2,Conferência!$G$2,\"\")","v":""},{"$f":"IF(Jogo!H182=Conferência!$H$2,Conferência!$H$2,\"\")","v":""},{"$f":"IF(Jogo!I182=Conferência!$I$2,Conferência!$I$2,\"\")","v":""},{"$f":"IF(Jogo!J182=Conferência!$J$2,Conferência!$J$2,\"\")","v":""},{"$f":"IF(Jogo!K182=Conferência!$K$2,Conferência!$K$2,\"\")","v":""},{"$f":"IF(Jogo!L182=Conferência!$L$2,Conferência!$L$2,\"\")","v":""},{"$f":"IF(Jogo!M182=Conferência!$M$2,Conferência!$M$2,\"\")","v":""},{"$f":"IF(Jogo!N182=Conferência!$N$2,Conferência!$N$2,\"\")","v":""},{"$f":"IF(Jogo!O182=Conferência!$O$2,Conferência!$O$2,\"\")","v":""},{"$f":"IF(Jogo!P182=Conferência!$P$2,Conferência!$P$2,\"\")","v":""},{"$f":"IF(Jogo!Q182=Conferência!$Q$2,Conferência!$Q$2,\"\")","v":""},""]
[{"$f":"IF(Jogo!A183=Conferência!$A$2,Conferência!$A$2,\"\")","v":""},{"$f":"IF(Jogo!B183=Conferência!$B$2,Conferência!$B$2,\"\")","v":"QUARTA-FEIRA"},{"$f":"IF(Jogo!C183=Conferência!$C$2,Conferência!$C$2,\"\")","v":""},{"$f":"IF(Jogo!D183=Conferência!$D$2,Conferência!$D$2,\"\")","v":3},{"$f":"IF(Jogo!E183=Conferência!$E$2,Conferência!$E$2,\"\")","v":4},{"$f":"IF(Jogo!F183=Conferência!$F$2,Conferência!$F$2,\"\")","v":""},{"$f":"IF(Jogo!G183=Conferência!$G$2,Conferência!$G$2,\"\")","v":7},{"$f":"IF(Jogo!H183=Conferência!$H$2,Conferência!$H$2,\"\")","v":9},{"$f":"IF(Jogo!I183=Conferência!$I$2,Conferência!$I$2,\"\")","v":10},{"$f":"IF(Jogo!J183=Conferência!$J$2,Conferência!$J$2,\"\")","v":""},{"$f":"IF(Jogo!K183=Conferência!$K$2,Conferência!$K$2,\"\")","v":""},{"$f":"IF(Jogo!L183=Conferência!$L$2,Conferência!$L$2,\"\")","v":""},{"$f":"IF(Jogo!M183=Conferência!$M$2,Conferência!$M$2,\"\")","v":""},{"$f":"IF(Jogo!N183=Conferência!$N$2,Conferência!$N$2,\"\")","v":""},{"$f":"IF(Jogo!O183=Conferência!$O$2,Conferência!$O$2,\"\")","v":""},{"$f":"IF(Jogo!P183=Conferência!$P$2,Conferência!$P$2,\"\")","v":""},{"$f":"IF(Jogo!Q183=Conferência!$Q$2,Conferência!$Q$2,\"\")","v":""},""]
[{"$f":"IF(Jogo!A184=Conferência!$A$2,Conferência!$A$2,\"\")","v":""},{"$f":"IF(Jogo!B184=Conferência!$B$2,Conferência!$B$2,\"\")","v":"QUARTA-FEIRA"},{"$f":"IF(Jogo!C184=Conferência!$C$2,Conferência!$C$2,\"\")","v":1},{"$f":"IF(Jogo!D184=Conferência!$D$2,Conferência!$D$2,\"\")","v":""},{"$f":"IF(Jogo!E184=Conferência!$E$2,Conferência!$E$2,\"\")","v":""},{"$f":"IF(Jogo!F184=Conferência!$F$2,Conferência!$F$2,\"\")","v":""},{"$f":"IF(Jogo!G184=Conferência!$G$2,Conferência!$G$2,\"\")","v":""},{"$f":"IF(Jogo!H184=Conferência!$H$2,Conferência!$H$2,\"\")","v":""},{"$f":"IF(Jogo!I184=Conferência!$I$2,Conferência!$I$2,\"\")","v":""},{"$f":"IF(Jogo!J184=Conferência!$J$2,Conferência!$J$2,\"\")","v":""},{"$f":"IF(Jogo!K184=Conferência!$K$2,Conferência!$K$2,\"\")","v":""},{"$f":"IF(Jogo!L184=Conferência!$L$2,Conferência!$L$2,\"\")","v":""},{"$f":"IF(Jogo!M184=Conferência!$M$2,Conferência!$M$2,\"\")","v":""},{"$f":"IF(Jogo!N184=Conferência!$N$2,Conferência!$N$2,\"\")","v":""},{"$f":"IF(Jogo!O184=Conferência!$O$2,Conferência!$O$2,\"\")","v":""},{"$f":"IF(Jogo!P184=Conferência!$P$2,Conferência!$P$2,\"\")","v":""},{"$f":"IF(Jogo!Q184=Conferência!$Q$2,Conferência!$Q$2,\"\")","v":""},""]
[{"$f":"IF(Jogo!A185=Conferência!$A$2,Conferência!$A$2,\"\")","v":""},{"$f":"IF(Jogo!B185=Conferência!$B$2,Conferência!$B$2,\"\")","v":"QUARTA-FEIRA"},{"$f":"IF(Jogo!C185=Conferência!$C$2,Conferência!$C$2,\"\")","v":1},{"$f":"IF(Jogo!D185=Conferência!$D$2,Conferência!$D$2,\"\")","v":""},{"$f":"IF(Jogo!E185=Conferência!$E$2,Conferência!$E$2,\"\")","v":""},{"$f":"IF(Jogo!F185=Conferência!$F$2,Conferência!$F$2,\"\")","v":""},{"$f":"IF(Jogo!G185=Conferência!$G$2,Conferência!$G$2,\"\")","v":""},{"$f":"IF(Jogo!H185=Conferência!$H$2,Conferência!$H$2,\"\")","v":""},{"$f":"IF(Jogo!I185=Conferência!$I$2,Conferência!$I$2,\"\")","v":""},{"$f":"IF(Jogo!J185=Conferência!$J$2,Conferência!$J$2,\"\")","v":""},{"$f":"IF(Jogo!K185=Conferência!$K$2,Conferência!$K$2,\"\")","v":""},{"$f":"IF(Jogo!L185=Conferência!$L$2,Conferência!$L$2,\"\")","v":""},{"$f":"IF(Jogo!M185=Conferência!$M$2,Conferência!$M$2,\"\")","v":""},{"$f":"IF(Jogo!N185=Conferência!$N$2,Conferência!$N$2,\"\")","v":""},{"$f":"IF(Jogo!O185=Conferência!$O$2,Conferência!$O$2,\"\")","v":19},{"$f":"IF(Jogo!P185=Conferência!$P$2,Conferência!$P$2,\"\")","v":""},{"$f":"IF(Jogo!Q185=Conferência!$Q$2,Conferência!$Q$2,\"\")","v":""},""]
[{"$f":"IF(Jogo!A186=Conferência!$A$2,Conferência!$A$2,\"\")","v":""},{"$f":"IF(Jogo!B186=Conferência!$B$2,Conferência!$B$2,\"\")","v":"QUARTA-FEIRA"},{"$f":"IF(Jogo!C186=Conferência!$C$2,Conferência!$C$2,\"\")","v":""},{"$f":"IF(Jogo!D186=Conferência!$D$2,Conferência!$D$2,\"\")","v":""},{"$f":"IF(Jogo!E186=Conferência!$E$2,Conferência!$E$2,\"\")","v":""},{"$f":"IF(Jogo!F186=Conferência!$F$2,Conferência!$F$2,\"\")","v":""},{"$f":"IF(Jogo!G186=Conferência!$G$2,Conferência!$G$2,\"\")","v":""},{"$f":"IF(Jogo!H186=Conferência!$H$2,Conferência!$H$2,\"\")","v":""},{"$f":"IF(Jogo!I186=Conferência!$I$2,Conferência!$I$2,\"\")","v":""},{"$f":"IF(Jogo!J186=Conferência!$J$2,Conferência!$J$2,\"\")","v":""},{"$f":"IF(Jogo!K186=Conferência!$K$2,Conferência!$K$2,\"\")","v":""},{"$f":"IF(Jogo!L186=Conferência!$L$2,Conferência!$L$2,\"\")","v":""},{"$f":"IF(Jogo!M186=Conferência!$M$2,Conferência!$M$2,\"\")","v":""},{"$f":"IF(Jogo!N186=Conferência!$N$2,Conferência!$N$2,\"\")","v":""},{"$f":"IF(Jogo!O186=Conferência!$O$2,Conferência!$O$2,\"\")","v":""},{"$f":"IF(Jogo!P186=Conferência!$P$2,Conferência!$P$2,\"\")","v":23},{"$f":"IF(Jogo!Q186=Conferência!$Q$2,Conferência!$Q$2,\"\")","v":""},""]
[{"$f":"IF(Jogo!A187=Conferência!$A$2,Conferência!$A$2,\"\")","v":""},{"$f":"IF(Jogo!B187=Conferência!$B$2,Conferência!$B$2,\"\")","v":"QUARTA-FEIRA"},{"$f":"IF(Jogo!C187=Conferência!$C$2,Conferência!$C$2,\"\")","v":1},{"$f":"IF(Jogo!D187=Conferência!$D$2,Conferência!$D$2,\"\")","v":3},{"$f":"IF(Jogo!E187=Conferência!$E$2,Conferência!$E$2,\"\")","v":4},{"$f":"IF(Jogo!F187=Conferência!$F$2,Conferência!$F$2,\"\")","v":6},{"$f":"IF(Jogo!G187=Conferência!$G$2,Conferência!$G$2,\"\")","v":""},{"$f":"IF(Jogo!H187=Conferência!$H$2,Conferência!$H$2,\"\")","v":""},{"$f":"IF(Jogo!I187=Conferência!$I$2,Conferência!$I$2,\"\")","v":""},{"$f":"IF(Jogo!J187=Conferência!$J$2,Conferência!$J$2,\"\")","v":""},{"$f":"IF(Jogo!K187=Conferência!$K$2,Conferência!$K$2,\"\")","v":""},{"$f":"IF(Jogo!L187=Conferência!$L$2,Conferência!$L$2,\"\")","v":""},{"$f":"IF(Jogo!M187=Conferência!$M$2,Conferência!$M$2,\"\")","v":""},{"$f":"IF(Jogo!N187=Conferência!$N$2,Conferência!$N$2,\"\")","v":""},{"$f":"IF(Jogo!O187=Conferência!$O$2,Conferência!$O$2,\"\")","v":""},{"$f":"IF(Jogo!P187=Conferência!$P$2,Conferência!$P$2,\"\")","v":23},{"$f":"IF(Jogo!Q187=Conferência!$Q$2,Conferência!$Q$2,\"\")","v":24},""]
[{"$f":"IF(Jogo!A188=Conferência!$A$2,Conferência!$A$2,\"\")","v":""},{"$f":"IF(Jogo!B188=Conferência!$B$2,Conferência!$B$2,\"\")","v":"QUARTA-FEIRA"},{"$f":"IF(Jogo!C188=Conferência!$C$2,Conferência!$C$2,\"\")","v":1},{"$f":"IF(Jogo!D188=Conferência!$D$2,Conferência!$D$2,\"\")","v":""},{"$f":"IF(Jogo!E188=Conferência!$E$2,Conferência!$E$2,\"\")","v":""},{"$f":"IF(Jogo!F188=Conferência!$F$2,Conferência!$F$2,\"\")","v":""},{"$f":"IF(Jogo!G188=Conferência!$G$2,Conferência!$G$2,\"\")","v":7},{"$f":"IF(Jogo!H188=Conferência!$H$2,Conferência!$H$2,\"\")","v":""},{"$f":"IF(Jogo!I188=Conferência!$I$2,Conferência!$I$2,\"\")","v":""},{"$f":"IF(Jogo!J188=Conferência!$J$2,Conferência!$J$2,\"\")","v":""},{"$f":"IF(Jogo!K188=Conferência!$K$2,Conferência!$K$2,\"\")","v":""},{"$f":"IF(Jogo!L188=Conferência!$L$2,Conferência!$L$2,\"\")","v":""},{"$f":"IF(Jogo!M188=Conferência!$M$2,Conferência!$M$2,\"\")","v":""},{"$f":"IF(Jogo!N188=Conferência!$N$2,Conferência!$N$2,\"\")","v":""},{"$f":"IF(Jogo!O188=Conferência!$O$2,Conferência!$O$2,\"\")","v":""},{"$f":"IF(Jogo!P188=Conferência!$P$2,Conferência!$P$2,\"\")","v":""},{"$f":"IF(Jogo!Q188=Conferência!$Q$2,Conferência!$Q$2,\"\")","v":""},""]
[{"$f":"IF(Jogo!A189=Conferência!$A$2,Conferência!$A$2,\"\")","v":""},{"$f":"IF(Jogo!B189=Conferência!$B$2,Conferência!$B$2,\"\")","v":"QUARTA-FEIRA"},{"$f":"IF(Jogo!C189=Conferência!$C$2,Conferência!$C$2,\"\")","v":1},{"$f":"IF(Jogo!D189=Conferência!$D$2,Conferência!$D$2,\"\")","v":""},{"$f":"IF(Jogo!E189=Conferência!$E$2,Conferência!$E$2,\"\")","v":""},{"$f":"IF(Jogo!F189=Conferência!$F$2,Conferência!$F$2,\"\")","v":6},{"$f":"IF(Jogo!G189=Conferência!$G$2,Conferência!$G$2,\"\")","v":7},{"$f":"IF(Jogo!H189=Conferência!$H$2,Conferência!$H$2,\"\")","v":""},{"$f":"IF(Jogo!I189=Conferência!$I$2,Conferência!$I$2,\"\")","v":""},{"$f":"IF(Jogo!J189=Conferência!$J$2,Conferência!$J$2,\"\")","v":""},{"$f":"IF(Jogo!K189=Conferência!$K$2,Conferência!$K$2,\"\")","v":""},{"$f":"IF(Jogo!L189=Conferência!$L$2,Conferência!$L$2,\"\")","v":""},{"$f":"IF(Jogo!M189=Conferência!$M$2,Conferência!$M$2,\"\")","v":""},{"$f":"IF(Jogo!N189=Conferência!$N$2,Conferência!$N$2,\"\")","v":""},{"$f":"IF(Jogo!O189=Conferência!$O$2,Conferência!$O$2,\"\")","v":""},{"$f":"IF(Jogo!P189=Conferência!$P$2,Conferência!$P$2,\"\")","v":""},{"$f":"IF(Jogo!Q189=Conferência!$Q$2,Conferência!$Q$2,\"\")","v":24},""]
[{"$f":"IF(Jogo!A190=Conferência!$A$2,Conferência!$A$2,\"\")","v":""},{"$f":"IF(Jogo!B190=Conferência!$B$2,Conferência!$B$2,\"\")","v":"QUARTA-FEIRA"},{"$f":"IF(Jogo!C190=Conferência!$C$2,Conferência!$C$2,\"\")","v":1},{"$f":"IF(Jogo!D190=Conferência!$D$2,Conferência!$D$2,\"\")","v":""},{"$f":"IF(Jogo!E190=Conferência!$E$2,Conferência!$E$2,\"\")","v":4},{"$f":"IF(Jogo!F190=Conferência!$F$2,Conferência!$F$2,\"\")","v":6},{"$f":"IF(Jogo!G190=Conferência!$G$2,Conferência!$G$2,\"\")","v":""},{"$f":"IF(Jogo!H190=Conferência!$H$2,Conferência!$H$2,\"\")","v":9},{"$f":"IF(Jogo!I190=Conferência!$I$2,Conferência!$I$2,\"\")","v":""},{"$f":"IF(Jogo!J190=Conferência!$J$2,Conferência!$J$2,\"\")","v":""},{"$f":"IF(Jogo!K190=Conferência!$K$2,Conferência!$K$2,\"\")","v":""},{"$f":"IF(Jogo!L190=Conferência!$L$2,Conferência!$L$2,\"\")","v":""},{"$f":"IF(Jogo!M190=Conferência!$M$2,Conferência!$M$2,\"\")","v":""},{"$f":"IF(Jogo!N190=Conferência!$N$2,Conferência!$N$2,\"\")","v":""},{"$f":"IF(Jogo!O190=Conferência!$O$2,Conferência!$O$2,\"\")","v":""},{"$f":"IF(Jogo!P190=Conferência!$P$2,Conferência!$P$2,\"\")","v":""},{"$f":"IF(Jogo!Q190=Conferência!$Q$2,Conferência!$Q$2,\"\")","v":""},""]
[{"$f":"IF(Jogo!A191=Conferência!$A$2,Conferência!$A$2,\"\")","v":""},{"$f":"IF(Jogo!B191=Conferência!$B$2,Conferência!$B$2,\"\")","v":"QUARTA-FEIRA"},{"$f":"IF(Jogo!C191=Conferência!$C$2,Conferência!$C$2,\"\")","v":1},{"$f":"IF(Jogo!D191=Conferência!$D$2,Conferência!$D$2,\"\")","v":3},{"$f":"IF(Jogo!E191=Conferência!$E$2,Conferência!$E$2,\"\")","v":""},{"$f":"IF(Jogo!F191=Conferência!$F$2,Conferência!$F$2,\"\")","v":""},{"$f":"IF(Jogo!G191=Conferência!$G$2,Conferência!$G$2,\"\")","v":""},{"$f":"IF(Jogo!H191=Conferência!$H$2,Conferência!$H$2,\"\")","v":""},{"$f":"IF(Jogo!I191=Conferência!$I$2,Conferência!$I$2,\"\")","v":""},{"$f":"IF(Jogo!J191=Conferência!$J$2,Conferência!$J$2,\"\")","v":""},{"$f":"IF(Jogo!K191=Conferência!$K$2,Conferência!$K$2,\"\")","v":""},{"$f":"IF(Jogo!L191=Conferência!$L$2,Conferência!$L$2,\"\")","v":""},{"$f":"IF(Jogo!M191=Conferência!$M$2,Conferência!$M$2,\"\")","v":""},{"$f":"IF(Jogo!N191=Conferência!$N$2,Conferência!$N$2,\"\")","v":""},{"$f":"IF(Jogo!O191=Conferência!$O$2,Conferência!$O$2,\"\")","v":""},{"$f":"IF(Jogo!P191=Conferência!$P$2,Conferência!$P$2,\"\")","v":""},{"$f":"IF(Jogo!Q191=Conferência!$Q$2,Conferência!$Q$2,\"\")","v":""},""]
[{"$f":"IF(Jogo!A192=Conferência!$A$2,Conferência!$A$2,\"\")","v":""},{"$f":"IF(Jogo!B192=Conferência!$B$2,Conferência!$B$2,\"\")","v":"QUARTA-FEIRA"},{"$f":"IF(Jogo!C192=Conferência!$C$2,Conferência!$C$2,\"\")","v":1},{"$f":"IF(Jogo!D192=Conferência!$D$2,Conferência!$D$2,\"\")","v":""},{"$f":"IF(Jogo!E192=Conferência!$E$2,Conferência!$E$2,\"\")","v":""},{"$f":"IF(Jogo!F192=Conferência!$F$2,Conferência!$F$2,\"\")","v":""},{"$f":"IF(Jogo!G192=Conferência!$G$2,Conferência!$G$2,\"\")","v":""},{"$f":"IF(Jogo!H192=Conferência!$H$2,Conferência!$H$2,\"\")","v":9},{"$f":"IF(Jogo!I192=Conferência!$I$2,Conferência!$I$2,\"\")","v":10},{"$f":"IF(Jogo!J192=Conferência!$J$2,Conferência!$J$2,\"\")","v":""},{"$f":"IF(Jogo!K192=Conferência!$K$2,Conferência!$K$2,\"\")","v":""},{"$f":"IF(Jogo!L192=Conferência!$L$2,Conferência!$L$2,\"\")","v":""},{"$f":"IF(Jogo!M192=Conferência!$M$2,Conferência!$M$2,\"\")","v":""},{"$f":"IF(Jogo!N192=Conferência!$N$2,Conferência!$N$2,\"\")","v":""},{"$f":"IF(Jogo!O192=Conferência!$O$2,Conferência!$O$2,\"\")","v":""},{"$f":"IF(Jogo!P192=Conferência!$P$2,Conferência!$P$2,\"\")","v":""},{"$f":"IF(Jogo!Q192=Conferência!$Q$2,Conferência!$Q$2,\"\")","v":""},""]
[{"$f":"IF(Jogo!A193=Conferência!$A$2,Conferência!$A$2,\"\")","v":""},{"$f":"IF(Jogo!B193=Conferência!$B$2,Conferência!$B$2,\"\")","v":"QUARTA-FEIRA"},{"$f":"IF(Jogo!C193=Conferência!$C$2,Conferência!$C$2,\"\")","v":1},{"$f":"IF(Jogo!D193=Conferência!$D$2,Conferência!$D$2,\"\")","v":3},{"$f":"IF(Jogo!E193=Conferência!$E$2,Conferência!$E$2,\"\")","v":4},{"$f":"IF(Jogo!F193=Conferência!$F$2,Conferência!$F$2,\"\")","v":""},{"$f":"IF(Jogo!G193=Conferência!$G$2,Conferência!$G$2,\"\")","v":7},{"$f":"IF(Jogo!H193=Conferência!$H$2,Conferência!$H$2,\"\")","v":9},{"$f":"IF(Jogo!I193=Conferência!$I$2,Conferência!$I$2,\"\")","v":""},{"$f":"IF(Jogo!J193=Conferência!$J$2,Conferência!$J$2,\"\")","v":""},{"$f":"IF(Jogo!K193=Conferência!$K$2,Conferência!$K$2,\"\")","v":""},{"$f":"IF(Jogo!L193=Conferência!$L$2,Conferência!$L$2,\"\")","v":""},{"$f":"IF(Jogo!M193=Conferência!$M$2,Conferência!$M$2,\"\")","v":""},{"$f":"IF(Jogo!N193=Conferência!$N$2,Conferência!$N$2,\"\")","v":""},{"$f":"IF(Jogo!O193=Conferência!$O$2,Conferência!$O$2,\"\")","v":""},{"$f":"IF(Jogo!P193=Conferência!$P$2,Conferência!$P$2,\"\")","v":""},{"$f":"IF(Jogo!Q193=Conferência!$Q$2,Conferência!$Q$2,\"\")","v":""},""]
[{"$f":"IF(Jogo!A194=Conferência!$A$2,Conferência!$A$2,\"\")","v":""},{"$f":"IF(Jogo!B194=Conferência!$B$2,Conferência!$B$2,\"\")","v":"QUARTA-FEIRA"},{"$f":"IF(Jogo!C194=Conferência!$C$2,Conferência!$C$2,\"\")","v":""},{"$f":"IF(Jogo!D194=Conferência!$D$2,Conferência!$D$2,\"\")","v":""},{"$f":"IF(Jogo!E194=Conferência!$E$2,Conferência!$E$2,\"\")","v":""},{"$f":"IF(Jogo!F194=Conferência!$F$2,Conferência!$F$2,\"\")","v":""},{"$f":"IF(Jogo!G194=Conferência!$G$2,Conferência!$G$2,\"\")","v":""},{"$f":"IF(Jogo!H194=Conferência!$H$2,Conferência!$H$2,\"\")","v":""},{"$f":"IF(Jogo!I194=Conferência!$I$2,Conferência!$I$2,\"\")","v":""},{"$f":"IF(Jogo!J194=Conferência!$J$2,Conferência!$J$2,\"\")","v":""},{"$f":"IF(Jogo!K194=Conferência!$K$2,Conferência!$K$2,\"\")","v":""},{"$f":"IF(Jogo!L194=Conferência!$L$2,Conferência!$L$2,\"\")","v":""},{"$f":"IF(Jogo!M194=Conferência!$M$2,Conferência!$M$2,\"\")","v":""},{"$f":"IF(Jogo!N194=Conferência!$N$2,Conferência!$N$2,\"\")","v":""},{"$f":"IF(Jogo!O194=Conferência!$O$2,Conferência!$O$2,\"\")","v":""},{"$f":"IF(Jogo!P194=Conferência!$P$2,Conferência!$P$2,\"\")","v":""},{"$f":"IF(Jogo!Q194=Conferência!$Q$2,Conferência!$Q$2,\"\")","v":""},""]
[{"$f":"IF(Jogo!A195=Conferência!$A$2,Conferência!$A$2,\"\")","v":""},{"$f":"IF(Jogo!B195=Conferência!$B$2,Conferência!$B$2,\"\")","v":"QUARTA-FEIRA"},{"$f":"IF(Jogo!C195=Conferência!$C$2,Conferência!$C$2,\"\")","v":1},{"$f":"IF(Jogo!D195=Conferência!$D$2,Conferência!$D$2,\"\")","v":3},{"$f":"IF(Jogo!E195=Conferência!$E$2,Conferência!$E$2,\"\")","v":4},{"$f":"IF(Jogo!F195=Conferência!$F$2,Conferência!$F$2,\"\")","v":""},{"$f":"IF(Jogo!G195=Conferência!$G$2,Conferência!$G$2,\"\")","v":7},{"$f":"IF(Jogo!H195=Conferência!$H$2,Conferência!$H$2,\"\")","v":""},{"$f":"IF(Jogo!I195=Conferência!$I$2,Conferência!$I$2,\"\")","v":""},{"$f":"IF(Jogo!J195=Conferência!$J$2,Conferência!$J$2,\"\")","v":""},{"$f":"IF(Jogo!K195=Conferência!$K$2,Conferência!$K$2,\"\")","v":""},{"$f":"IF(Jogo!L195=Conferência!$L$2,Conferência!$L$2,\"\")","v":""},{"$f":"IF(Jogo!M195=Conferência!$M$2,Conferência!$M$2,\"\")","v":""},{"$f":"IF(Jogo!N195=Conferência!$N$2,Conferência!$N$2,\"\")","v":""},{"$f":"IF(Jogo!O195=Conferência!$O$2,Conferência!$O$2,\"\")","v":""},{"$f":"IF(Jogo!P195=Conferência!$P$2,Conferência!$P$2,\"\")","v":23},{"$f":"IF(Jogo!Q195=Conferência!$Q$2,Conferência!$Q$2,\"\")","v":""},""]
[{"$f":"IF(Jogo!A196=Conferência!$A$2,Conferência!$A$2,\"\")","v":""},{"$f":"IF(Jogo!B196=Conferência!$B$2,Conferência!$B$2,\"\")","v":"QUARTA-FEIRA"},{"$f":"IF(Jogo!C196=Conferência!$C$2,Conferência!$C$2,\"\")","v":1},{"$f":"IF(Jogo!D196=Conferência!$D$2,Conferência!$D$2,\"\")","v":""},{"$f":"IF(Jogo!E196=Conferência!$E$2,Conferência!$E$2,\"\")","v":""},{"$f":"IF(Jogo!F196=Conferência!$F$2,Conferência!$F$2,\"\")","v":""},{"$f":"IF(Jogo!G196=Conferência!$G$2,Conferência!$G$2,\"\")","v":""},{"$f":"IF(Jogo!H196=Conferência!$H$2,Conferência!$H$2,\"\")","v":""},{"$f":"IF(Jogo!I196=Conferência!$I$2,Conferência!$I$2,\"\")","v":""},{"$f":"IF(Jogo!J196=Conferência!$J$2,Conferência!$J$2,\"\")","v":""},{"$f":"IF(Jogo!K196=Conferência!$K$2,Conferência!$K$2,\"\")","v":""},{"$f":"IF(Jogo!L196=Conferência!$L$2,Conferência!$L$2,\"\")","v":""},{"$f":"IF(Jogo!M196=Conferência!$M$2,Conferência!$M$2,\"\")","v":""},{"$f":"IF(Jogo!N196=Conferência!$N$2,Conferência!$N$2,\"\")","v":""},{"$f":"IF(Jogo!O196=Conferência!$O$2,Conferência!$O$2,\"\")","v":""},{"$f":"IF(Jogo!P196=Conferência!$P$2,Conferência!$P$2,\"\")","v":""},{"$f":"IF(Jogo!Q196=Conferência!$Q$2,Conferência!$Q$2,\"\")","v":""},""]
[{"$f":"IF(Jogo!A197=Conferência!$A$2,Conferência!$A$2,\"\")","v":""},{"$f":"IF(Jogo!B197=Conferência!$B$2,Conferência!$B$2,\"\")","v":"QUARTA-FEIRA"},{"$f":"IF(Jogo!C197=Conferência!$C$2,Conferência!$C$2,\"\")","v":1},{"$f":"IF(Jogo!D197=Conferência!$D$2,Conferência!$D$2,\"\")","v":""},{"$f":"IF(Jogo!E197=Conferência!$E$2,Conferência!$E$2,\"\")","v":""},{"$f":"IF(Jogo!F197=Conferência!$F$2,Conferência!$F$2,\"\")","v":""},{"$f":"IF(Jogo!G197=Conferência!$G$2,Conferência!$G$2,\"\")","v":""},{"$f":"IF(Jogo!H197=Conferência!$H$2,Conferência!$H$2,\"\")","v":""},{"$f":"IF(Jogo!I197=Conferência!$I$2,Conferência!$I$2,\"\")","v":""},{"$f":"IF(Jogo!J197=Conferência!$J$2,Conferência!$J$2,\"\")","v":""},{"$f":"IF(Jogo!K197=Conferência!$K$2,Conferência!$K$2,\"\")","v":""},{"$f":"IF(Jogo!L197=Conferência!$L$2,Conferência!$L$2,\"\")","v":""},{"$f":"IF(Jogo!M197=Conferência!$M$2,Conferência!$M$2,\"\")","v":""},{"$f":"IF(Jogo!N197=Conferência!$N$2,Conferência!$N$2,\"\")","v":""},{"$f":"IF(Jogo!O197=Conferência!$O$2,Conferência!$O$2,\"\")","v":""},{"$f":"IF(Jogo!P197=Conferência!$P$2,Conferência!$P$2,\"\")","v":""},{"$f":"IF(Jogo!Q197=Conferência!$Q$2,Conferência!$Q$2,\"\")","v":""},""]
[{"$f":"IF(Jogo!A198=Conferência!$A$2,Conferência!$A$2,\"\")","v":""},{"$f":"IF(Jogo!B198=Conferência!$B$2,Conferência!$B$2,\"\")","v":"QUARTA-FEIRA"},{"$f":"IF(Jogo!C198=Conferência!$C$2,Conferência!$C$2,\"\")","v":""},{"$f":"IF(Jogo!D198=Conferência!$D$2,Conferência!$D$2,\"\")","v":""},{"$f":"IF(Jogo!E198=Conferência!$E$2,Conferência!$E$2,\"\")","v":""},{"$f":"IF(Jogo!F198=Conferência!$F$2,Conferência!$F$2,\"\")","v":""},{"$f":"IF(Jogo!G198=Conferência!$G$2,Conferência!$G$2,\"\")","v":""},{"$f":"IF(Jogo!H198=Conferência!$H$2,Conferência!$H$2,\"\")","v":""},{"$f":"IF(Jogo!I198=Conferência!$I$2,Conferência!$I$2,\"\")","v":""},{"$f":"IF(Jogo!J198=Conferência!$J$2,Conferência!$J$2,\"\")","v":""},{"$f":"IF(Jogo!K198=Conferência!$K$2,Conferência!$K$2,\"\")","v":""},{"$f":"IF(Jogo!L198=Conferência!$L$2,Conferência!$L$2,\"\")","v":""},{"$f":"IF(Jogo!M198=Conferência!$M$2,Conferência!$M$2,\"\")","v":""},{"$f":"IF(Jogo!N198=Conferência!$N$2,Conferência!$N$2,\"\")","v":""},{"$f":"IF(Jogo!O198=Conferência!$O$2,Conferência!$O$2,\"\")","v":""},{"$f":"IF(Jogo!P198=Conferência!$P$2,Conferência!$P$2,\"\")","v":""},{"$f":"IF(Jogo!Q198=Conferência!$Q$2,Conferência!$Q$2,\"\")","v":""},""]
[{"$f":"IF(Jogo!A199=Conferência!$A$2,Conferência!$A$2,\"\")","v":""},{"$f":"IF(Jogo!B199=Conferência!$B$2,Conferência!$B$2,\"\")","v":"QUARTA-FEIRA"},{"$f":"IF(Jogo!C199=Conferência!$C$2,Conferência!$C$2,\"\")","v":""},{"$f":"IF(Jogo!D199=Conferência!$D$2,Conferência!$D$2,\"\")","v":3},{"$f":"IF(Jogo!E199=Conferência!$E$2,Conferência!$E$2,\"\")","v":4},{"$f":"IF(Jogo!F199=Conferência!$F$2,Conferência!$F$2,\"\")","v":6},{"$f":"IF(Jogo!G199=Conferência!$G$2,Conferência!$G$2,\"\")","v":7},{"$f":"IF(Jogo!H199=Conferência!$H$2,Conferência!$H$2,\"\")","v":9},{"$f":"IF(Jogo!I199=Conferência!$I$2,Conferência!$I$2,\"\")","v":""},{"$f":"IF(Jogo!J199=Conferência!$J$2,Conferência!$J$2,\"\")","v":""},{"$f":"IF(Jogo!K199=Conferência!$K$2,Conferência!$K$2,\"\")","v":""},{"$f":"IF(Jogo!L199=Conferência!$L$2,Conferência!$L$2,\"\")","v":""},{"$f":"IF(Jogo!M199=Conferência!$M$2,Conferência!$M$2,\"\")","v":""},{"$f":"IF(Jogo!N199=Conferência!$N$2,Conferência!$N$2,\"\")","v":""},{"$f":"IF(Jogo!O199=Conferência!$O$2,Conferência!$O$2,\"\")","v":""},{"$f":"IF(Jogo!P199=Conferência!$P$2,Conferência!$P$2,\"\")","v":""},{"$f":"IF(Jogo!Q199=Conferência!$Q$2,Conferência!$Q$2,\"\")","v":""},""]
[{"$f":"IF(Jogo!A200=Conferência!$A$2,Conferência!$A$2,\"\")","v":""},{"$f":"IF(Jogo!B200=Conferência!$B$2,Conferência!$B$2,\"\")","v":"QUARTA-FEIRA"},{"$f":"IF(Jogo!C200=Conferência!$C$2,Conferência!$C$2,\"\")","v":1},{"$f":"IF(Jogo!D200=Conferência!$D$2,Conferência!$D$2,\"\")","v":""},{"$f":"IF(Jogo!E200=Conferência!$E$2,Conferência!$E$2,\"\")","v":""},{"$f":"IF(Jogo!F200=Conferência!$F$2,Conferência!$F$2,\"\")","v":""},{"$f":"IF(Jogo!G200=Conferência!$G$2,Conferência!$G$2,\"\")","v":""},{"$f":"IF(Jogo!H200=Conferência!$H$2,Conferência!$H$2,\"\")","v":""},{"$f":"IF(Jogo!I200=Conferência!$I$2,Conferência!$I$2,\"\")","v":""},{"$f":"IF(Jogo!J200=Conferência!$J$2,Conferência!$J$2,\"\")","v":""},{"$f":"IF(Jogo!K200=Conferência!$K$2,Conferência!$K$2,\"\")","v":""},{"$f":"IF(Jogo!L200=Conferência!$L$2,Conferência!$L$2,\"\")","v":""},{"$f":"IF(Jogo!M200=Conferência!$M$2,Conferência!$M$2,\"\")","v":""},{"$f":"IF(Jogo!N200=Conferência!$N$2,Conferência!$N$2,\"\")","v":""},{"$f":"IF(Jogo!O200=Conferência!$O$2,Conferência!$O$2,\"\")","v":""},{"$f":"IF(Jogo!P200=Conferência!$P$2,Conferência!$P$2,\"\")","v":""},{"$f":"IF(Jogo!Q200=Conferência!$Q$2,Conferência!$Q$2,\"\")","v":""},""]
[{"$f":"IF(Jogo!A201=Conferência!$A$2,Conferência!$A$2,\"\")","v":""},{"$f":"IF(Jogo!B201=Conferência!$B$2,Conferência!$B$2,\"\")","v":"QUARTA-FEIRA"},{"$f":"IF(Jogo!C201=Conferência!$C$2,Conferência!$C$2,\"\")","v":1},{"$f":"IF(Jogo!D201=Conferência!$D$2,Conferência!$D$2,\"\")","v":""},{"$f":"IF(Jogo!E201=Conferência!$E$2,Conferência!$E$2,\"\")","v":""},{"$f":"IF(Jogo!F201=Conferência!$F$2,Conferência!$F$2,\"\")","v":""},{"$f":"IF(Jogo!G201=Conferência!$G$2,Conferência!$G$2,\"\")","v":""},{"$f":"IF(Jogo!H201=Conferência!$H$2,Conferência!$H$2,\"\")","v":""},{"$f":"IF(Jogo!I201=Conferência!$I$2,Conferência!$I$2,\"\")","v":""},{"$f":"IF(Jogo!J201=Conferência!$J$2,Conferência!$J$2,\"\")","v":""},{"$f":"IF(Jogo!K201=Conferência!$K$2,Conferência!$K$2,\"\")","v":""},{"$f":"IF(Jogo!L201=Conferência!$L$2,Conferência!$L$2,\"\")","v":""},{"$f":"IF(Jogo!M201=Conferência!$M$2,Conferência!$M$2,\"\")","v":""},{"$f":"IF(Jogo!N201=Conferência!$N$2,Conferência!$N$2,\"\")","v":""},{"$f":"IF(Jogo!O201=Conferência!$O$2,Conferência!$O$2,\"\")","v":""},{"$f":"IF(Jogo!P201=Conferência!$P$2,Conferência!$P$2,\"\")","v":""},{"$f":"IF(Jogo!Q201=Conferência!$Q$2,Conferência!$Q$2,\"\")","v":""},""]
[{"$f":"IF(Jogo!A202=Conferência!$A$2,Conferência!$A$2,\"\")","v":""},{"$f":"IF(Jogo!B202=Conferência!$B$2,Conferência!$B$2,\"\")","v":"QUARTA-FEIRA"},{"$f":"IF(Jogo!C202=Conferência!$C$2,Conferência!$C$2,\"\")","v":""},{"$f":"IF(Jogo!D202=Conferência!$D$2,Conferência!$D$2,\"\")","v":""},{"$f":"IF(Jogo!E202=Conferência!$E$2,Conferência!$E$2,\"\")","v":""},{"$f":"IF(Jogo!F202=Conferência!$F$2,Conferência!$F$2,\"\")","v":""},{"$f":"IF(Jogo!G202=Conferência!$G$2,Conferência!$G$2,\"\")","v":""},{"$f":"IF(Jogo!H202=Conferência!$H$2,Conferência!$H$2,\"\")","v":""},{"$f":"IF(Jogo!I202=Conferência!$I$2,Conferência!$I$2,\"\")","v":""},{"$f":"IF(Jogo!J202=Conferência!$J$2,Conferência!$J$2,\"\")","v":""},{"$f":"IF(Jogo!K202=Conferência!$K$2,Conferência!$K$2,\"\")","v":""},{"$f":"IF(Jogo!L202=Conferência!$L$2,Conferência!$L$2,\"\")","v":""},{"$f":"IF(Jogo!M202=Conferência!$M$2,Conferência!$M$2,\"\")","v":""},{"$f":"IF(Jogo!N202=Conferência!$N$2,Conferência!$N$2,\"\")","v":""},{"$f":"IF(Jogo!O202=Conferência!$O$2,Conferência!$O$2,\"\")","v":""},{"$f":"IF(Jogo!P202=Conferência!$P$2,Conferência!$P$2,\"\")","v":""},{"$f":"IF(Jogo!Q202=Conferência!$Q$2,Conferência!$Q$2,\"\")","v":""},""]
[{"$f":"IF(Jogo!A203=Conferência!$A$2,Conferência!$A$2,\"\")","v":""},{"$f":"IF(Jogo!B203=Conferência!$B$2,Conferência!$B$2,\"\")","v":"QUARTA-FEIRA"},{"$f":"IF(Jogo!C203=Conferência!$C$2,Conferência!$C$2,\"\")","v":1},{"$f":"IF(Jogo!D203=Conferência!$D$2,Conferência!$D$2,\"\")","v":""},{"$f":"IF(Jogo!E203=Conferência!$E$2,Conferência!$E$2,\"\")","v":""},{"$f":"IF(Jogo!F203=Conferência!$F$2,Conferência!$F$2,\"\")","v":""},{"$f":"IF(Jogo!G203=Conferência!$G$2,Conferência!$G$2,\"\")","v":""},{"$f":"IF(Jogo!H203=Conferência!$H$2,Conferência!$H$2,\"\")","v":""},{"$f":"IF(Jogo!I203=Conferência!$I$2,Conferência!$I$2,\"\")","v":""},{"$f":"IF(Jogo!J203=Conferência!$J$2,Conferência!$J$2,\"\")","v":""},{"$f":"IF(Jogo!K203=Conferência!$K$2,Conferência!$K$2,\"\")","v":""},{"$f":"IF(Jogo!L203=Conferência!$L$2,Conferência!$L$2,\"\")","v":""},{"$f":"IF(Jogo!M203=Conferência!$M$2,Conferência!$M$2,\"\")","v":""},{"$f":"IF(Jogo!N203=Conferência!$N$2,Conferência!$N$2,\"\")","v":""},{"$f":"IF(Jogo!O203=Conferência!$O$2,Conferência!$O$2,\"\")","v":19},{"$f":"IF(Jogo!P203=Conferência!$P$2,Conferência!$P$2,\"\")","v":""},{"$f":"IF(Jogo!Q203=Conferência!$Q$2,Conferência!$Q$2,\"\")","v":""},""]
[{"$f":"IF(Jogo!A204=Conferência!$A$2,Conferência!$A$2,\"\")","v":""},{"$f":"IF(Jogo!B204=Conferência!$B$2,Conferência!$B$2,\"\")","v":"QUARTA-FEIRA"},{"$f":"IF(Jogo!C204=Conferência!$C$2,Conferência!$C$2,\"\")","v":1},{"$f":"IF(Jogo!D204=Conferência!$D$2,Conferência!$D$2,\"\")","v":""},{"$f":"IF(Jogo!E204=Conferência!$E$2,Conferência!$E$2,\"\")","v":""},{"$f":"IF(Jogo!F204=Conferência!$F$2,Conferência!$F$2,\"\")","v":""},{"$f":"IF(Jogo!G204=Conferência!$G$2,Conferência!$G$2,\"\")","v":""},{"$f":"IF(Jogo!H204=Conferência!$H$2,Conferência!$H$2,\"\")","v":""},{"$f":"IF(Jogo!I204=Conferência!$I$2,Conferência!$I$2,\"\")","v":""},{"$f":"IF(Jogo!J204=Conferência!$J$2,Conferência!$J$2,\"\")","v":""},{"$f":"IF(Jogo!K204=Conferência!$K$2,Conferência!$K$2,\"\")","v":""},{"$f":"IF(Jogo!L204=Conferência!$L$2,Conferência!$L$2,\"\")","v":""},{"$f":"IF(Jogo!M204=Conferência!$M$2,Conferência!$M$2,\"\")","v":""},{"$f":"IF(Jogo!N204=Conferência!$N$2,Conferência!$N$2,\"\")","v":""},{"$f":"IF(Jogo!O204=Conferência!$O$2,Conferência!$O$2,\"\")","v":""},{"$f":"IF(Jogo!P204=Conferência!$P$2,Conferência!$P$2,\"\")","v":""},{"$f":"IF(Jogo!Q204=Conferência!$Q$2,Conferência!$Q$2,\"\")","v":""},""]
[{"$f":"IF(Jogo!A205=Conferência!$A$2,Conferência!$A$2,\"\")","v":""},{"$f":"IF(Jogo!B205=Conferência!$B$2,Conferência!$B$2,\"\")","v":"QUARTA-FEIRA"},{"$f":"IF(Jogo!C205=Conferência!$C$2,Conferência!$C$2,\"\")","v":1},{"$f":"IF(Jogo!D205=Conferência!$D$2,Conferência!$D$2,\"\")","v":""},{"$f":"IF(Jogo!E205=Conferência!$E$2,Conferência!$E$2,\"\")","v":""},{"$f":"IF(Jogo!F205=Conferência!$F$2,Conferência!$F$2,\"\")","v":""},{"$f":"IF(Jogo!G205=Conferência!$G$2,Conferência!$G$2,\"\")","v":""},{"$f":"IF(Jogo!H205=Conferência!$H$2,Conferência!$H$2,\"\")","v":""},{"$f":"IF(Jogo!I205=Conferência!$I$2,Conferência!$I$2,\"\")","v":""},{"$f":"IF(Jogo!J205=Conferência!$J$2,Conferência!$J$2,\"\")","v":""},{"$f":"IF(Jogo!K205=Conferência!$K$2,Conferência!$K$2,\"\")","v":""},{"$f":"IF(Jogo!L205=Conferência!$L$2,Conferência!$L$2,\"\")","v":""},{"$f":"IF(Jogo!M205=Conferência!$M$2,Conferência!$M$2,\"\")","v":""},{"$f":"IF(Jogo!N205=Conferência!$N$2,Conferência!$N$2,\"\")","v":""},{"$f":"IF(Jogo!O205=Conferência!$O$2,Conferência!$O$2,\"\")","v":""},{"$f":"IF(Jogo!P205=Conferência!$P$2,Conferência!$P$2,\"\")","v":""},{"$f":"IF(Jogo!Q205=Conferência!$Q$2,Conferência!$Q$2,\"\")","v":""},""]
[{"$f":"IF(Jogo!A206=Conferência!$A$2,Conferência!$A$2,\"\")","v":""},{"$f":"IF(Jogo!B206=Conferência!$B$2,Conferência!$B$2,\"\")","v":"QUARTA-FEIRA"},{"$f":"IF(Jogo!C206=Conferência!$C$2,Conferência!$C$2,\"\")","v":""},{"$f":"IF(Jogo!D206=Conferência!$D$2,Conferência!$D$2,\"\")","v":""},{"$f":"IF(Jogo!E206=Conferência!$E$2,Conferência!$E$2,\"\")","v":""},{"$f":"IF(Jogo!F206=Conferência!$F$2,Conferência!$F$2,\"\")","v":""},{"$f":"IF(Jogo!G206=Conferência!$G$2,Conferência!$G$2,\"\")","v":""},{"$f":"IF(Jogo!H206=Conferência!$H$2,Conferência!$H$2,\"\")","v":""},{"$f":"IF(Jogo!I206=Conferência!$I$2,Conferência!$I$2,\"\")","v":""},{"$f":"IF(Jogo!J206=Conferência!$J$2,Conferência!$J$2,\"\")","v":""},{"$f":"IF(Jogo!K206=Conferência!$K$2,Conferência!$K$2,\"\")","v":""},{"$f":"IF(Jogo!L206=Conferência!$L$2,Conferência!$L$2,\"\")","v":""},{"$f":"IF(Jogo!M206=Conferência!$M$2,Conferência!$M$2,\"\")","v":""},{"$f":"IF(Jogo!N206=Conferência!$N$2,Conferência!$N$2,\"\")","v":""},{"$f":"IF(Jogo!O206=Conferência!$O$2,Conferência!$O$2,\"\")","v":""},{"$f":"IF(Jogo!P206=Conferência!$P$2,Conferência!$P$2,\"\")","v":23},{"$f":"IF(Jogo!Q206=Conferência!$Q$2,Conferência!$Q$2,\"\")","v":""},""]
[{"$f":"IF(Jogo!A207=Conferência!$A$2,Conferência!$A$2,\"\")","v":""},{"$f":"IF(Jogo!B207=Conferência!$B$2,Conferência!$B$2,\"\")","v":"QUARTA-FEIRA"},{"$f":"IF(Jogo!C207=Conferência!$C$2,Conferência!$C$2,\"\")","v":""},{"$f":"IF(Jogo!D207=Conferência!$D$2,Conferência!$D$2,\"\")","v":3},{"$f":"IF(Jogo!E207=Conferência!$E$2,Conferência!$E$2,\"\")","v":4},{"$f":"IF(Jogo!F207=Conferência!$F$2,Conferência!$F$2,\"\")","v":6},{"$f":"IF(Jogo!G207=Conferência!$G$2,Conferência!$G$2,\"\")","v":7},{"$f":"IF(Jogo!H207=Conferência!$H$2,Conferência!$H$2,\"\")","v":9},{"$f":"IF(Jogo!I207=Conferência!$I$2,Conferência!$I$2,\"\")","v":10},{"$f":"IF(Jogo!J207=Conferência!$J$2,Conferência!$J$2,\"\")","v":11},{"$f":"IF(Jogo!K207=Conferência!$K$2,Conferência!$K$2,\"\")","v":""},{"$f":"IF(Jogo!L207=Conferência!$L$2,Conferência!$L$2,\"\")","v":""},{"$f":"IF(Jogo!M207=Conferência!$M$2,Conferência!$M$2,\"\")","v":""},{"$f":"IF(Jogo!N207=Conferência!$N$2,Conferência!$N$2,\"\")","v":""},{"$f":"IF(Jogo!O207=Conferência!$O$2,Conferência!$O$2,\"\")","v":""},{"$f":"IF(Jogo!P207=Conferência!$P$2,Conferência!$P$2,\"\")","v":23},{"$f":"IF(Jogo!Q207=Conferência!$Q$2,Conferência!$Q$2,\"\")","v":24},""]
[{"$f":"IF(Jogo!A208=Conferência!$A$2,Conferência!$A$2,\"\")","v":""},{"$f":"IF(Jogo!B208=Conferência!$B$2,Conferência!$B$2,\"\")","v":"QUARTA-FEIRA"},{"$f":"IF(Jogo!C208=Conferência!$C$2,Conferência!$C$2,\"\")","v":1},{"$f":"IF(Jogo!D208=Conferência!$D$2,Conferência!$D$2,\"\")","v":""},{"$f":"IF(Jogo!E208=Conferência!$E$2,Conferência!$E$2,\"\")","v":""},{"$f":"IF(Jogo!F208=Conferência!$F$2,Conferência!$F$2,\"\")","v":6},{"$f":"IF(Jogo!G208=Conferência!$G$2,Conferência!$G$2,\"\")","v":7},{"$f":"IF(Jogo!H208=Conferência!$H$2,Conferência!$H$2,\"\")","v":""},{"$f":"IF(Jogo!I208=Conferência!$I$2,Conferência!$I$2,\"\")","v":10},{"$f":"IF(Jogo!J208=Conferência!$J$2,Conferência!$J$2,\"\")","v":11},{"$f":"IF(Jogo!K208=Conferência!$K$2,Conferência!$K$2,\"\")","v":""},{"$f":"IF(Jogo!L208=Conferência!$L$2,Conferência!$L$2,\"\")","v":""},{"$f":"IF(Jogo!M208=Conferência!$M$2,Conferência!$M$2,\"\")","v":""},{"$f":"IF(Jogo!N208=Conferência!$N$2,Conferência!$N$2,\"\")","v":""},{"$f":"IF(Jogo!O208=Conferência!$O$2,Conferência!$O$2,\"\")","v":""},{"$f":"IF(Jogo!P208=Conferência!$P$2,Conferência!$P$2,\"\")","v":""},{"$f":"IF(Jogo!Q208=Conferência!$Q$2,Conferência!$Q$2,\"\")","v":""},""]
[{"$f":"IF(Jogo!A209=Conferência!$A$2,Conferência!$A$2,\"\")","v":""},{"$f":"IF(Jogo!B209=Conferência!$B$2,Conferência!$B$2,\"\")","v":"QUARTA-FEIRA"},{"$f":"IF(Jogo!C209=Conferência!$C$2,Conferência!$C$2,\"\")","v":1},{"$f":"IF(Jogo!D209=Conferência!$D$2,Conferência!$D$2,\"\")","v":3},{"$f":"IF(Jogo!E209=Conferência!$E$2,Conferência!$E$2,\"\")","v":4},{"$f":"IF(Jogo!F209=Conferência!$F$2,Conferência!$F$2,\"\")","v":""},{"$f":"IF(Jogo!G209=Conferência!$G$2,Conferência!$G$2,\"\")","v":7},{"$f":"IF(Jogo!H209=Conferência!$H$2,Conferência!$H$2,\"\")","v":""},{"$f":"IF(Jogo!I209=Conferência!$I$2,Conferência!$I$2,\"\")","v":""},{"$f":"IF(Jogo!J209=Conferência!$J$2,Conferência!$J$2,\"\")","v":""},{"$f":"IF(Jogo!K209=Conferência!$K$2,Conferência!$K$2,\"\")","v":""},{"$f":"IF(Jogo!L209=Conferência!$L$2,Conferência!$L$2,\"\")","v":""},{"$f":"IF(Jogo!M209=Conferência!$M$2,Conferência!$M$2,\"\")","v":""},{"$f":"IF(Jogo!N209=Conferência!$N$2,Conferência!$N$2,\"\")","v":""},{"$f":"IF(Jogo!O209=Conferência!$O$2,Conferência!$O$2,\"\")","v":""},{"$f":"IF(Jogo!P209=Conferência!$P$2,Conferência!$P$2,\"\")","v":23},{"$f":"IF(Jogo!Q209=Conferência!$Q$2,Conferência!$Q$2,\"\")","v":""},""]
[{"$f":"IF(Jogo!A210=Conferência!$A$2,Conferência!$A$2,\"\")","v":""},{"$f":"IF(Jogo!B210=Conferência!$B$2,Conferência!$B$2,\"\")","v":"QUARTA-FEIRA"},{"$f":"IF(Jogo!C210=Conferência!$C$2,Conferência!$C$2,\"\")","v":""},{"$f":"IF(Jogo!D210=Conferência!$D$2,Conferência!$D$2,\"\")","v":""},{"$f":"IF(Jogo!E210=Conferência!$E$2,Conferência!$E$2,\"\")","v":""},{"$f":"IF(Jogo!F210=Conferência!$F$2,Conferência!$F$2,\"\")","v":""},{"$f":"IF(Jogo!G210=Conferência!$G$2,Conferência!$G$2,\"\")","v":""},{"$f":"IF(Jogo!H210=Conferência!$H$2,Conferência!$H$2,\"\")","v":""},{"$f":"IF(Jogo!I210=Conferência!$I$2,Conferência!$I$2,\"\")","v":""},{"$f":"IF(Jogo!J210=Conferência!$J$2,Conferência!$J$2,\"\")","v":""},{"$f":"IF(Jogo!K210=Conferência!$K$2,Conferência!$K$2,\"\")","v":""},{"$f":"IF(Jogo!L210=Conferência!$L$2,Conferência!$L$2,\"\")","v":""},{"$f":"IF(Jogo!M210=Conferência!$M$2,Conferência!$M$2,\"\")","v":""},{"$f":"IF(Jogo!N210=Conferência!$N$2,Conferência!$N$2,\"\")","v":""},{"$f":"IF(Jogo!O210=Conferência!$O$2,Conferência!$O$2,\"\")","v":""},{"$f":"IF(Jogo!P210=Conferência!$P$2,Conferência!$P$2,\"\")","v":""},{"$f":"IF(Jogo!Q210=Conferência!$Q$2,Conferência!$Q$2,\"\")","v":""},{"$f":"IF(A210=\"\",\"\",\"OK\")","v":""}]
[{"$f":"IF(Jogo!A211=Conferência!$A$2,Conferência!$A$2,\"\")","v":""},{"$f":"IF(Jogo!B211=Conferência!$B$2,Conferência!$B$2,\"\")","v":"QUARTA-FEIRA"},{"$f":"IF(Jogo!C211=Conferência!$C$2,Conferência!$C$2,\"\")","v":""},{"$f":"IF(Jogo!D211=Conferência!$D$2,Conferência!$D$2,\"\")","v":""},{"$f":"IF(Jogo!E211=Conferência!$E$2,Conferência!$E$2,\"\")","v":""},{"$f":"IF(Jogo!F211=Conferência!$F$2,Conferência!$F$2,\"\")","v":""},{"$f":"IF(Jogo!G211=Conferência!$G$2,Conferência!$G$2,\"\")","v":""},{"$f":"IF(Jogo!H211=Conferência!$H$2,Conferência!$H$2,\"\")","v":9},{"$f":"IF(Jogo!I211=Conferência!$I$2,Conferência!$I$2,\"\")","v":10},{"$f":"IF(Jogo!J211=Conferência!$J$2,Conferência!$J$2,\"\")","v":11},{"$f":"IF(Jogo!K211=Conferência!$K$2,Conferência!$K$2,\"\")","v":12},{"$f":"IF(Jogo!L211=Conferência!$L$2,Conferência!$L$2,\"\")","v":""},{"$f":"IF(Jogo!M211=Conferência!$M$2,Conferência!$M$2,\"\")","v":""},{"$f":"IF(Jogo!N211=Conferência!$N$2,Conferência!$N$2,\"\")","v":""},{"$f":"IF(Jogo!O211=Conferência!$O$2,Conferência!$O$2,\"\")","v":""},{"$f":"IF(Jogo!P211=Conferência!$P$2,Conferência!$P$2,\"\")","v":""},{"$f":"IF(Jogo!Q211=Conferência!$Q$2,Conferência!$Q$2,\"\")","v":24},""]
[{"$f":"IF(Jogo!A212=Conferência!$A$2,Conferência!$A$2,\"\")","v":""},{"$f":"IF(Jogo!B212=Conferência!$B$2,Conferência!$B$2,\"\")","v":"QUARTA-FEIRA"},{"$f":"IF(Jogo!C212=Conferência!$C$2,Conferência!$C$2,\"\")","v":""},{"$f":"IF(Jogo!D212=Conferência!$D$2,Conferência!$D$2,\"\")","v":""},{"$f":"IF(Jogo!E212=Conferência!$E$2,Conferência!$E$2,\"\")","v":""},{"$f":"IF(Jogo!F212=Conferência!$F$2,Conferência!$F$2,\"\")","v":""},{"$f":"IF(Jogo!G212=Conferência!$G$2,Conferência!$G$2,\"\")","v":""},{"$f":"IF(Jogo!H212=Conferência!$H$2,Conferência!$H$2,\"\")","v":""},{"$f":"IF(Jogo!I212=Conferência!$I$2,Conferência!$I$2,\"\")","v":""},{"$f":"IF(Jogo!J212=Conferência!$J$2,Conferência!$J$2,\"\")","v":""},{"$f":"IF(Jogo!K212=Conferência!$K$2,Conferência!$K$2,\"\")","v":""},{"$f":"IF(Jogo!L212=Conferência!$L$2,Conferência!$L$2,\"\")","v":""},{"$f":"IF(Jogo!M212=Conferência!$M$2,Conferência!$M$2,\"\")","v":""},{"$f":"IF(Jogo!N212=Conferência!$N$2,Conferência!$N$2,\"\")","v":""},{"$f":"IF(Jogo!O212=Conferência!$O$2,Conferência!$O$2,\"\")","v":""},{"$f":"IF(Jogo!P212=Conferência!$P$2,Conferência!$P$2,\"\")","v":""},{"$f":"IF(Jogo!Q212=Conferência!$Q$2,Conferência!$Q$2,\"\")","v":24},""]
[{"$f":"IF(Jogo!A213=Conferência!$A$2,Conferência!$A$2,\"\")","v":""},{"$f":"IF(Jogo!B213=Conferência!$B$2,Conferência!$B$2,\"\")","v":"QUARTA-FEIRA"},{"$f":"IF(Jogo!C213=Conferência!$C$2,Conferência!$C$2,\"\")","v":""},{"$f":"IF(Jogo!D213=Conferência!$D$2,Conferência!$D$2,\"\")","v":3},{"$f":"IF(Jogo!E213=Conferência!$E$2,Conferência!$E$2,\"\")","v":4},{"$f":"IF(Jogo!F213=Conferência!$F$2,Conferência!$F$2,\"\")","v":""},{"$f":"IF(Jogo!G213=Conferência!$G$2,Conferência!$G$2,\"\")","v":""},{"$f":"IF(Jogo!H213=Conferência!$H$2,Conferência!$H$2,\"\")","v":""},{"$f":"IF(Jogo!I213=Conferência!$I$2,Conferência!$I$2,\"\")","v":""},{"$f":"IF(Jogo!J213=Conferência!$J$2,Conferência!$J$2,\"\")","v":11},{"$f":"IF(Jogo!K213=Conferência!$K$2,Conferência!$K$2,\"\")","v":""},{"$f":"IF(Jogo!L213=Conferência!$L$2,Conferência!$L$2,\"\")","v":""},{"$f":"IF(Jogo!M213=Conferência!$M$2,Conferência!$M$2,\"\")","v":""},{"$f":"IF(Jogo!N213=Conferência!$N$2,Conferência!$N$2,\"\")","v":""},{"$f":"IF(Jogo!O213=Conferência!$O$2,Conferência!$O$2,\"\")","v":""},{"$f":"IF(Jogo!P213=Conferência!$P$2,Conferência!$P$2,\"\")","v":23},{"$f":"IF(Jogo!Q213=Conferência!$Q$2,Conferência!$Q$2,\"\")","v":24},""]
[{"$f":"IF(Jogo!A214=Conferência!$A$2,Conferência!$A$2,\"\")","v":""},{"$f":"IF(Jogo!B214=Conferência!$B$2,Conferência!$B$2,\"\")","v":"QUARTA-FEIRA"},{"$f":"IF(Jogo!C214=Conferência!$C$2,Conferência!$C$2,\"\")","v":1},{"$f":"IF(Jogo!D214=Conferência!$D$2,Conferência!$D$2,\"\")","v":""},{"$f":"IF(Jogo!E214=Conferência!$E$2,Conferência!$E$2,\"\")","v":""},{"$f":"IF(Jogo!F214=Conferência!$F$2,Conferência!$F$2,\"\")","v":""},{"$f":"IF(Jogo!G214=Conferência!$G$2,Conferência!$G$2,\"\")","v":""},{"$f":"IF(Jogo!H214=Conferência!$H$2,Conferência!$H$2,\"\")","v":""},{"$f":"IF(Jogo!I214=Conferência!$I$2,Conferência!$I$2,\"\")","v":""},{"$f":"IF(Jogo!J214=Conferência!$J$2,Conferência!$J$2,\"\")","v":""},{"$f":"IF(Jogo!K214=Conferência!$K$2,Conferência!$K$2,\"\")","v":""},{"$f":"IF(Jogo!L214=Conferência!$L$2,Conferência!$L$2,\"\")","v":""},{"$f":"IF(Jogo!M214=Conferência!$M$2,Conferência!$M$2,\"\")","v":""},{"$f":"IF(Jogo!N214=Conferência!$N$2,Conferência!$N$2,\"\")","v":""},{"$f":"IF(Jogo!O214=Conferência!$O$2,Conferência!$O$2,\"\")","v":""},{"$f":"IF(Jogo!P214=Conferência!$P$2,Conferência!$P$2,\"\")","v":""},{"$f":"IF(Jogo!Q214=Conferência!$Q$2,Conferência!$Q$2,\"\")","v":""},""]
[{"$f":"IF(Jogo!A215=Conferência!$A$2,Conferência!$A$2,\"\")","v":""},{"$f":"IF(Jogo!B215=Conferência!$B$2,Conferência!$B$2,\"\")","v":"QUARTA-FEIRA"},{"$f":"IF(Jogo!C215=Conferência!$C$2,Conferência!$C$2,\"\")","v":1},{"$f":"IF(Jogo!D215=Conferência!$D$2,Conferência!$D$2,\"\")","v":3},{"$f":"IF(Jogo!E215=Conferência!$E$2,Conferência!$E$2,\"\")","v":""},{"$f":"IF(Jogo!F215=Conferência!$F$2,Conferência!$F$2,\"\")","v":""},{"$f":"IF(Jogo!G215=Conferência!$G$2,Conferência!$G$2,\"\")","v":""},{"$f":"IF(Jogo!H215=Conferência!$H$2,Conferência!$H$2,\"\")","v":""},{"$f":"IF(Jogo!I215=Conferência!$I$2,Conferência!$I$2,\"\")","v":""},{"$f":"IF(Jogo!J215=Conferência!$J$2,Conferência!$J$2,\"\")","v":""},{"$f":"IF(Jogo!K215=Conferência!$K$2,Conferência!$K$2,\"\")","v":""},{"$f":"IF(Jogo!L215=Conferência!$L$2,Conferência!$L$2,\"\")","v":""},{"$f":"IF(Jogo!M215=Conferência!$M$2,Conferência!$M$2,\"\")","v":""},{"$f":"IF(Jogo!N215=Conferência!$N$2,Conferência!$N$2,\"\")","v":""},{"$f":"IF(Jogo!O215=Conferência!$O$2,Conferência!$O$2,\"\")","v":""},{"$f":"IF(Jogo!P215=Conferência!$P$2,Conferência!$P$2,\"\")","v":""},{"$f":"IF(Jogo!Q215=Conferência!$Q$2,Conferência!$Q$2,\"\")","v":""},""]
[{"$f":"IF(Jogo!A216=Conferência!$A$2,Conferência!$A$2,\"\")","v":""},{"$f":"IF(Jogo!B216=Conferência!$B$2,Conferência!$B$2,\"\")","v":"QUARTA-FEIRA"},{"$f":"IF(Jogo!C216=Conferência!$C$2,Conferência!$C$2,\"\")","v":1},{"$f":"IF(Jogo!D216=Conferência!$D$2,Conferência!$D$2,\"\")","v":""},{"$f":"IF(Jogo!E216=Conferência!$E$2,Conferência!$E$2,\"\")","v":""},{"$f":"IF(Jogo!F216=Conferência!$F$2,Conferência!$F$2,\"\")","v":""},{"$f":"IF(Jogo!G216=Conferência!$G$2,Conferência!$G$2,\"\")","v":""},{"$f":"IF(Jogo!H216=Conferência!$H$2,Conferência!$H$2,\"\")","v":9},{"$f":"IF(Jogo!I216=Conferência!$I$2,Conferência!$I$2,\"\")","v":10},{"$f":"IF(Jogo!J216=Conferência!$J$2,Conferência!$J$2,\"\")","v":""},{"$f":"IF(Jogo!K216=Conferência!$K$2,Conferência!$K$2,\"\")","v":""},{"$f":"IF(Jogo!L216=Conferência!$L$2,Conferência!$L$2,\"\")","v":""},{"$f":"IF(Jogo!M216=Conferência!$M$2,Conferência!$M$2,\"\")","v":""},{"$f":"IF(Jogo!N216=Conferência!$N$2,Conferência!$N$2,\"\")","v":""},{"$f":"IF(Jogo!O216=Conferência!$O$2,Conferência!$O$2,\"\")","v":""},{"$f":"IF(Jogo!P216=Conferência!$P$2,Conferência!$P$2,\"\")","v":""},{"$f":"IF(Jogo!Q216=Conferência!$Q$2,Conferência!$Q$2,\"\")","v":""},""]
[{"$f":"IF(Jogo!A217=Conferência!$A$2,Conferência!$A$2,\"\")","v":""},{"$f":"IF(Jogo!B217=Conferência!$B$2,Conferência!$B$2,\"\")","v":"QUARTA-FEIRA"},{"$f":"IF(Jogo!C217=Conferência!$C$2,Conferência!$C$2,\"\")","v":""},{"$f":"IF(Jogo!D217=Conferência!$D$2,Conferência!$D$2,\"\")","v":""},{"$f":"IF(Jogo!E217=Conferência!$E$2,Conferência!$E$2,\"\")","v":""},{"$f":"IF(Jogo!F217=Conferência!$F$2,Conferência!$F$2,\"\")","v":""},{"$f":"IF(Jogo!G217=Conferência!$G$2,Conferência!$G$2,\"\")","v":""},{"$f":"IF(Jogo!H217=Conferência!$H$2,Conferência!$H$2,\"\")","v":""},{"$f":"IF(Jogo!I217=Conferência!$I$2,Conferência!$I$2,\"\")","v":""},{"$f":"IF(Jogo!J217=Conferência!$J$2,Conferência!$J$2,\"\")","v":""},{"$f":"IF(Jogo!K217=Conferência!$K$2,Conferência!$K$2,\"\")","v":""},{"$f":"IF(Jogo!L217=Conferência!$L$2,Conferência!$L$2,\"\")","v":""},{"$f":"IF(Jogo!M217=Conferência!$M$2,Conferência!$M$2,\"\")","v":""},{"$f":"IF(Jogo!N217=Conferência!$N$2,Conferência!$N$2,\"\")","v":""},{"$f":"IF(Jogo!O217=Conferência!$O$2,Conferência!$O$2,\"\")","v":""},{"$f":"IF(Jogo!P217=Conferência!$P$2,Conferência!$P$2,\"\")","v":""},{"$f":"IF(Jogo!Q217=Conferência!$Q$2,Conferência!$Q$2,\"\")","v":""},""]
[{"$f":"IF(Jogo!A218=Conferência!$A$2,Conferência!$A$2,\"\")","v":""},{"$f":"IF(Jogo!B218=Conferência!$B$2,Conferência!$B$2,\"\")","v":"QUARTA-FEIRA"},{"$f":"IF(Jogo!C218=Conferência!$C$2,Conferência!$C$2,\"\")","v":1},{"$f":"IF(Jogo!D218=Conferência!$D$2,Conferência!$D$2,\"\")","v":""},{"$f":"IF(Jogo!E218=Conferência!$E$2,Conferência!$E$2,\"\")","v":""},{"$f":"IF(Jogo!F218=Conferência!$F$2,Conferência!$F$2,\"\")","v":""},{"$f":"IF(Jogo!G218=Conferência!$G$2,Conferência!$G$2,\"\")","v":7},{"$f":"IF(Jogo!H218=Conferência!$H$2,Conferência!$H$2,\"\")","v":9},{"$f":"IF(Jogo!I218=Conferência!$I$2,Conferência!$I$2,\"\")","v":""},{"$f":"IF(Jogo!J218=Conferência!$J$2,Conferência!$J$2,\"\")","v":""},{"$f":"IF(Jogo!K218=Conferência!$K$2,Conferência!$K$2,\"\")","v":""},{"$f":"IF(Jogo!L218=Conferência!$L$2,Conferência!$L$2,\"\")","v":""},{"$f":"IF(Jogo!M218=Conferência!$M$2,Conferência!$M$2,\"\")","v":15},{"$f":"IF(Jogo!N218=Conferência!$N$2,Conferência!$N$2,\"\")","v":""},{"$f":"IF(Jogo!O218=Conferência!$O$2,Conferência!$O$2,\"\")","v":""},{"$f":"IF(Jogo!P218=Conferência!$P$2,Conferência!$P$2,\"\")","v":""},{"$f":"IF(Jogo!Q218=Conferência!$Q$2,Conferência!$Q$2,\"\")","v":24},""]
[{"$f":"IF(Jogo!A219=Conferência!$A$2,Conferência!$A$2,\"\")","v":""},{"$f":"IF(Jogo!B219=Conferência!$B$2,Conferência!$B$2,\"\")","v":"QUARTA-FEIRA"},{"$f":"IF(Jogo!C219=Conferência!$C$2,Conferência!$C$2,\"\")","v":""},{"$f":"IF(Jogo!D219=Conferência!$D$2,Conferência!$D$2,\"\")","v":""},{"$f":"IF(Jogo!E219=Conferência!$E$2,Conferência!$E$2,\"\")","v":""},{"$f":"IF(Jogo!F219=Conferência!$F$2,Conferência!$F$2,\"\")","v":""},{"$f":"IF(Jogo!G219=Conferência!$G$2,Conferência!$G$2,\"\")","v":""},{"$f":"IF(Jogo!H219=Conferência!$H$2,Conferência!$H$2,\"\")","v":""},{"$f":"IF(Jogo!I219=Conferência!$I$2,Conferência!$I$2,\"\")","v":""},{"$f":"IF(Jogo!J219=Conferência!$J$2,Conferência!$J$2,\"\")","v":""},{"$f":"IF(Jogo!K219=Conferência!$K$2,Conferência!$K$2,\"\")","v":""},{"$f":"IF(Jogo!L219=Conferência!$L$2,Conferência!$L$2,\"\")","v":""},{"$f":"IF(Jogo!M219=Conferência!$M$2,Conferência!$M$2,\"\")","v":""},{"$f":"IF(Jogo!N219=Conferência!$N$2,Conferência!$N$2,\"\")","v":""},{"$f":"IF(Jogo!O219=Conferência!$O$2,Conferência!$O$2,\"\")","v":""},{"$f":"IF(Jogo!P219=Conferência!$P$2,Conferência!$P$2,\"\")","v":""},{"$f":"IF(Jogo!Q219=Conferência!$Q$2,Conferência!$Q$2,\"\")","v":""},""]
[{"$f":"IF(Jogo!A220=Conferência!$A$2,Conferência!$A$2,\"\")","v":""},{"$f":"IF(Jogo!B220=Conferência!$B$2,Conferência!$B$2,\"\")","v":"QUARTA-FEIRA"},{"$f":"IF(Jogo!C220=Conferência!$C$2,Conferência!$C$2,\"\")","v":1},{"$f":"IF(Jogo!D220=Conferência!$D$2,Conferência!$D$2,\"\")","v":""},{"$f":"IF(Jogo!E220=Conferência!$E$2,Conferência!$E$2,\"\")","v":""},{"$f":"IF(Jogo!F220=Conferência!$F$2,Conferência!$F$2,\"\")","v":""},{"$f":"IF(Jogo!G220=Conferência!$G$2,Conferência!$G$2,\"\")","v":""},{"$f":"IF(Jogo!H220=Conferência!$H$2,Conferência!$H$2,\"\")","v":""},{"$f":"IF(Jogo!I220=Conferência!$I$2,Conferência!$I$2,\"\")","v":""},{"$f":"IF(Jogo!J220=Conferência!$J$2,Conferência!$J$2,\"\")","v":""},{"$f":"IF(Jogo!K220=Conferência!$K$2,Conferência!$K$2,\"\")","v":""},{"$f":"IF(Jogo!L220=Conferência!$L$2,Conferência!$L$2,\"\")","v":""},{"$f":"IF(Jogo!M220=Conferência!$M$2,Conferência!$M$2,\"\")","v":""},{"$f":"IF(Jogo!N220=Conferência!$N$2,Conferência!$N$2,\"\")","v":""},{"$f":"IF(Jogo!O220=Conferência!$O$2,Conferência!$O$2,\"\")","v":""},{"$f":"IF(Jogo!P220=Conferência!$P$2,Conferência!$P$2,\"\")","v":23},{"$f":"IF(Jogo!Q220=Conferência!$Q$2,Conferência!$Q$2,\"\")","v":24},""]
[{"$f":"IF(Jogo!A221=Conferência!$A$2,Conferência!$A$2,\"\")","v":""},{"$f":"IF(Jogo!B221=Conferência!$B$2,Conferência!$B$2,\"\")","v":"QUARTA-FEIRA"},{"$f":"IF(Jogo!C221=Conferência!$C$2,Conferência!$C$2,\"\")","v":""},{"$f":"IF(Jogo!D221=Conferência!$D$2,Conferência!$D$2,\"\")","v":""},{"$f":"IF(Jogo!E221=Conferência!$E$2,Conferência!$E$2,\"\")","v":""},{"$f":"IF(Jogo!F221=Conferência!$F$2,Conferência!$F$2,\"\")","v":""},{"$f":"IF(Jogo!G221=Conferência!$G$2,Conferência!$G$2,\"\")","v":""},{"$f":"IF(Jogo!H221=Conferência!$H$2,Conferência!$H$2,\"\")","v":""},{"$f":"IF(Jogo!I221=Conferência!$I$2,Conferência!$I$2,\"\")","v":""},{"$f":"IF(Jogo!J221=Conferência!$J$2,Conferência!$J$2,\"\")","v":""},{"$f":"IF(Jogo!K221=Conferência!$K$2,Conferência!$K$2,\"\")","v":""},{"$f":"IF(Jogo!L221=Conferência!$L$2,Conferência!$L$2,\"\")","v":""},{"$f":"IF(Jogo!M221=Conferência!$M$2,Conferência!$M$2,\"\")","v":""},{"$f":"IF(Jogo!N221=Conferência!$N$2,Conferência!$N$2,\"\")","v":""},{"$f":"IF(Jogo!O221=Conferência!$O$2,Conferência!$O$2,\"\")","v":""},{"$f":"IF(Jogo!P221=Conferência!$P$2,Conferência!$P$2,\"\")","v":""},{"$f":"IF(Jogo!Q221=Conferência!$Q$2,Conferência!$Q$2,\"\")","v":""},""]
[{"$f":"IF(Jogo!A222=Conferência!$A$2,Conferência!$A$2,\"\")","v":""},{"$f":"IF(Jogo!B222=Conferência!$B$2,Conferência!$B$2,\"\")","v":"QUARTA-FEIRA"},{"$f":"IF(Jogo!C222=Conferência!$C$2,Conferência!$C$2,\"\")","v":""},{"$f":"IF(Jogo!D222=Conferência!$D$2,Conferência!$D$2,\"\")","v":""},{"$f":"IF(Jogo!E222=Conferência!$E$2,Conferência!$E$2,\"\")","v":""},{"$f":"IF(Jogo!F222=Conferência!$F$2,Conferência!$F$2,\"\")","v":""},{"$f":"IF(Jogo!G222=Conferência!$G$2,Conferência!$G$2,\"\")","v":""},{"$f":"IF(Jogo!H222=Conferência!$H$2,Conferência!$H$2,\"\")","v":""},{"$f":"IF(Jogo!I222=Conferência!$I$2,Conferência!$I$2,\"\")","v":""},{"$f":"IF(Jogo!J222=Conferência!$J$2,Conferência!$J$2,\"\")","v":""},{"$f":"IF(Jogo!K222=Conferência!$K$2,Conferência!$K$2,\"\")","v":""},{"$f":"IF(Jogo!L222=Conferência!$L$2,Conferência!$L$2,\"\")","v":""},{"$f":"IF(Jogo!M222=Conferência!$M$2,Conferência!$M$2,\"\")","v":""},{"$f":"IF(Jogo!N222=Conferência!$N$2,Conferência!$N$2,\"\")","v":""},{"$f":"IF(Jogo!O222=Conferência!$O$2,Conferência!$O$2,\"\")","v":""},{"$f":"IF(Jogo!P222=Conferência!$P$2,Conferência!$P$2,\"\")","v":""},{"$f":"IF(Jogo!Q222=Conferência!$Q$2,Conferência!$Q$2,\"\")","v":""},""]
[{"$f":"IF(Jogo!A223=Conferência!$A$2,Conferência!$A$2,\"\")","v":""},{"$f":"IF(Jogo!B223=Conferência!$B$2,Conferência!$B$2,\"\")","v":"QUARTA-FEIRA"},{"$f":"IF(Jogo!C223=Conferência!$C$2,Conferência!$C$2,\"\")","v":""},{"$f":"IF(Jogo!D223=Conferência!$D$2,Conferência!$D$2,\"\")","v":""},{"$f":"IF(Jogo!E223=Conferência!$E$2,Conferência!$E$2,\"\")","v":""},{"$f":"IF(Jogo!F223=Conferência!$F$2,Conferência!$F$2,\"\")","v":""},{"$f":"IF(Jogo!G223=Conferência!$G$2,Conferência!$G$2,\"\")","v":""},{"$f":"IF(Jogo!H223=Conferência!$H$2,Conferência!$H$2,\"\")","v":""},{"$f":"IF(Jogo!I223=Conferência!$I$2,Conferência!$I$2,\"\")","v":""},{"$f":"IF(Jogo!J223=Conferência!$J$2,Conferência!$J$2,\"\")","v":""},{"$f":"IF(Jogo!K223=Conferência!$K$2,Conferência!$K$2,\"\")","v":""},{"$f":"IF(Jogo!L223=Conferência!$L$2,Conferência!$L$2,\"\")","v":""},{"$f":"IF(Jogo!M223=Conferência!$M$2,Conferência!$M$2,\"\")","v":""},{"$f":"IF(Jogo!N223=Conferência!$N$2,Conferência!$N$2,\"\")","v":""},{"$f":"IF(Jogo!O223=Conferência!$O$2,Conferência!$O$2,\"\")","v":""},{"$f":"IF(Jogo!P223=Conferência!$P$2,Conferência!$P$2,\"\")","v":""},{"$f":"IF(Jogo!Q223=Conferência!$Q$2,Conferência!$Q$2,\"\")","v":24},""]
[{"$f":"IF(Jogo!A224=Conferência!$A$2,Conferência!$A$2,\"\")","v":""},{"$f":"IF(Jogo!B224=Conferência!$B$2,Conferência!$B$2,\"\")","v":"QUARTA-FEIRA"},{"$f":"IF(Jogo!C224=Conferência!$C$2,Conferência!$C$2,\"\")","v":1},{"$f":"IF(Jogo!D224=Conferência!$D$2,Conferência!$D$2,\"\")","v":""},{"$f":"IF(Jogo!E224=Conferência!$E$2,Conferência!$E$2,\"\")","v":""},{"$f":"IF(Jogo!F224=Conferência!$F$2,Conferência!$F$2,\"\")","v":""},{"$f":"IF(Jogo!G224=Conferência!$G$2,Conferência!$G$2,\"\")","v":7},{"$f":"IF(Jogo!H224=Conferência!$H$2,Conferência!$H$2,\"\")","v":9},{"$f":"IF(Jogo!I224=Conferência!$I$2,Conferência!$I$2,\"\")","v":10},{"$f":"IF(Jogo!J224=Conferência!$J$2,Conferência!$J$2,\"\")","v":""},{"$f":"IF(Jogo!K224=Conferência!$K$2,Conferência!$K$2,\"\")","v":""},{"$f":"IF(Jogo!L224=Conferência!$L$2,Conferência!$L$2,\"\")","v":""},{"$f":"IF(Jogo!M224=Conferência!$M$2,Conferência!$M$2,\"\")","v":""},{"$f":"IF(Jogo!N224=Conferência!$N$2,Conferência!$N$2,\"\")","v":""},{"$f":"IF(Jogo!O224=Conferência!$O$2,Conferência!$O$2,\"\")","v":""},{"$f":"IF(Jogo!P224=Conferência!$P$2,Conferência!$P$2,\"\")","v":23},{"$f":"IF(Jogo!Q224=Conferência!$Q$2,Conferência!$Q$2,\"\")","v":""},""]
[{"$f":"IF(Jogo!A225=Conferência!$A$2,Conferência!$A$2,\"\")","v":""},{"$f":"IF(Jogo!B225=Conferência!$B$2,Conferência!$B$2,\"\")","v":"QUARTA-FEIRA"},{"$f":"IF(Jogo!C225=Conferência!$C$2,Conferência!$C$2,\"\")","v":1},{"$f":"IF(Jogo!D225=Conferência!$D$2,Conferência!$D$2,\"\")","v":""},{"$f":"IF(Jogo!E225=Conferência!$E$2,Conferência!$E$2,\"\")","v":""},{"$f":"IF(Jogo!F225=Conferência!$F$2,Conferência!$F$2,\"\")","v":""},{"$f":"IF(Jogo!G225=Conferência!$G$2,Conferência!$G$2,\"\")","v":""},{"$f":"IF(Jogo!H225=Conferência!$H$2,Conferência!$H$2,\"\")","v":""},{"$f":"IF(Jogo!I225=Conferência!$I$2,Conferência!$I$2,\"\")","v":""},{"$f":"IF(Jogo!J225=Conferência!$J$2,Conferência!$J$2,\"\")","v":""},{"$f":"IF(Jogo!K225=Conferência!$K$2,Conferência!$K$2,\"\")","v":""},{"$f":"IF(Jogo!L225=Conferência!$L$2,Conferência!$L$2,\"\")","v":""},{"$f":"IF(Jogo!M225=Conferência!$M$2,Conferência!$M$2,\"\")","v":""},{"$f":"IF(Jogo!N225=Conferência!$N$2,Conferência!$N$2,\"\")","v":""},{"$f":"IF(Jogo!O225=Conferência!$O$2,Conferência!$O$2,\"\")","v":""},{"$f":"IF(Jogo!P225=Conferência!$P$2,Conferência!$P$2,\"\")","v":""},{"$f":"IF(Jogo!Q225=Conferência!$Q$2,Conferência!$Q$2,\"\")","v":""},""]
[{"$f":"IF(Jogo!A226=Conferência!$A$2,Conferência!$A$2,\"\")","v":""},{"$f":"IF(Jogo!B226=Conferência!$B$2,Conferência!$B$2,\"\")","v":"QUARTA-FEIRA"},{"$f":"IF(Jogo!C226=Conferência!$C$2,Conferência!$C$2,\"\")","v":1},{"$f":"IF(Jogo!D226=Conferência!$D$2,Conferência!$D$2,\"\")","v":""},{"$f":"IF(Jogo!E226=Conferência!$E$2,Conferência!$E$2,\"\")","v":""},{"$f":"IF(Jogo!F226=Conferência!$F$2,Conferência!$F$2,\"\")","v":6},{"$f":"IF(Jogo!G226=Conferência!$G$2,Conferência!$G$2,\"\")","v":""},{"$f":"IF(Jogo!H226=Conferência!$H$2,Conferência!$H$2,\"\")","v":""},{"$f":"IF(Jogo!I226=Conferência!$I$2,Conferência!$I$2,\"\")","v":""},{"$f":"IF(Jogo!J226=Conferência!$J$2,Conferência!$J$2,\"\")","v":""},{"$f":"IF(Jogo!K226=Conferência!$K$2,Conferência!$K$2,\"\")","v":""},{"$f":"IF(Jogo!L226=Conferência!$L$2,Conferência!$L$2,\"\")","v":""},{"$f":"IF(Jogo!M226=Conferência!$M$2,Conferência!$M$2,\"\")","v":""},{"$f":"IF(Jogo!N226=Conferência!$N$2,Conferência!$N$2,\"\")","v":""},{"$f":"IF(Jogo!O226=Conferência!$O$2,Conferência!$O$2,\"\")","v":""},{"$f":"IF(Jogo!P226=Conferência!$P$2,Conferência!$P$2,\"\")","v":""},{"$f":"IF(Jogo!Q226=Conferência!$Q$2,Conferência!$Q$2,\"\")","v":""},""]
[{"$f":"IF(Jogo!A227=Conferência!$A$2,Conferência!$A$2,\"\")","v":""},{"$f":"IF(Jogo!B227=Conferência!$B$2,Conferência!$B$2,\"\")","v":"QUARTA-FEIRA"},{"$f":"IF(Jogo!C227=Conferência!$C$2,Conferência!$C$2,\"\")","v":1},{"$f":"IF(Jogo!D227=Conferência!$D$2,Conferência!$D$2,\"\")","v":""},{"$f":"IF(Jogo!E227=Conferência!$E$2,Conferência!$E$2,\"\")","v":""},{"$f":"IF(Jogo!F227=Conferência!$F$2,Conferência!$F$2,\"\")","v":""},{"$f":"IF(Jogo!G227=Conferência!$G$2,Conferência!$G$2,\"\")","v":""},{"$f":"IF(Jogo!H227=Conferência!$H$2,Conferência!$H$2,\"\")","v":""},{"$f":"IF(Jogo!I227=Conferência!$I$2,Conferência!$I$2,\"\")","v":""},{"$f":"IF(Jogo!J227=Conferência!$J$2,Conferência!$J$2,\"\")","v":""},{"$f":"IF(Jogo!K227=Conferência!$K$2,Conferência!$K$2,\"\")","v":""},{"$f":"IF(Jogo!L227=Conferência!$L$2,Conferência!$L$2,\"\")","v":""},{"$f":"IF(Jogo!M227=Conferência!$M$2,Conferência!$M$2,\"\")","v":""},{"$f":"IF(Jogo!N227=Conferência!$N$2,Conferência!$N$2,\"\")","v":""},{"$f":"IF(Jogo!O227=Conferência!$O$2,Conferência!$O$2,\"\")","v":19},{"$f":"IF(Jogo!P227=Conferência!$P$2,Conferência!$P$2,\"\")","v":""},{"$f":"IF(Jogo!Q227=Conferência!$Q$2,Conferência!$Q$2,\"\")","v":""},""]
[{"$f":"IF(Jogo!A228=Conferência!$A$2,Conferência!$A$2,\"\")","v":""},{"$f":"IF(Jogo!B228=Conferência!$B$2,Conferência!$B$2,\"\")","v":"QUARTA-FEIRA"},{"$f":"IF(Jogo!C228=Conferência!$C$2,Conferência!$C$2,\"\")","v":""},{"$f":"IF(Jogo!D228=Conferência!$D$2,Conferência!$D$2,\"\")","v":""},{"$f":"IF(Jogo!E228=Conferência!$E$2,Conferência!$E$2,\"\")","v":""},{"$f":"IF(Jogo!F228=Conferência!$F$2,Conferência!$F$2,\"\")","v":""},{"$f":"IF(Jogo!G228=Conferência!$G$2,Conferência!$G$2,\"\")","v":""},{"$f":"IF(Jogo!H228=Conferência!$H$2,Conferência!$H$2,\"\")","v":""},{"$f":"IF(Jogo!I228=Conferência!$I$2,Conferência!$I$2,\"\")","v":""},{"$f":"IF(Jogo!J228=Conferência!$J$2,Conferência!$J$2,\"\")","v":""},{"$f":"IF(Jogo!K228=Conferência!$K$2,Conferência!$K$2,\"\")","v":""},{"$f":"IF(Jogo!L228=Conferência!$L$2,Conferência!$L$2,\"\")","v":""},{"$f":"IF(Jogo!M228=Conferência!$M$2,Conferência!$M$2,\"\")","v":""},{"$f":"IF(Jogo!N228=Conferência!$N$2,Conferência!$N$2,\"\")","v":""},{"$f":"IF(Jogo!O228=Conferência!$O$2,Conferência!$O$2,\"\")","v":""},{"$f":"IF(Jogo!P228=Conferência!$P$2,Conferência!$P$2,\"\")","v":""},{"$f":"IF(Jogo!Q228=Conferência!$Q$2,Conferência!$Q$2,\"\")","v":""},""]
[{"$f":"IF(Jogo!A229=Conferência!$A$2,Conferência!$A$2,\"\")","v":""},{"$f":"IF(Jogo!B229=Conferência!$B$2,Conferência!$B$2,\"\")","v":"QUARTA-FEIRA"},{"$f":"IF(Jogo!C229=Conferência!$C$2,Conferência!$C$2,\"\")","v":1},{"$f":"IF(Jogo!D229=Conferência!$D$2,Conferência!$D$2,\"\")","v":3},{"$f":"IF(Jogo!E229=Conferência!$E$2,Conferência!$E$2,\"\")","v":4},{"$f":"IF(Jogo!F229=Conferência!$F$2,Conferência!$F$2,\"\")","v":""},{"$f":"IF(Jogo!G229=Conferência!$G$2,Conferência!$G$2,\"\")","v":""},{"$f":"IF(Jogo!H229=Conferência!$H$2,Conferência!$H$2,\"\")","v":""},{"$f":"IF(Jogo!I229=Conferência!$I$2,Conferência!$I$2,\"\")","v":""},{"$f":"IF(Jogo!J229=Conferência!$J$2,Conferência!$J$2,\"\")","v":11},{"$f":"IF(Jogo!K229=Conferência!$K$2,Conferência!$K$2,\"\")","v":12},{"$f":"IF(Jogo!L229=Conferência!$L$2,Conferência!$L$2,\"\")","v":13},{"$f":"IF(Jogo!M229=Conferência!$M$2,Conferência!$M$2,\"\")","v":""},{"$f":"IF(Jogo!N229=Conferência!$N$2,Conferência!$N$2,\"\")","v":""},{"$f":"IF(Jogo!O229=Conferência!$O$2,Conferência!$O$2,\"\")","v":""},{"$f":"IF(Jogo!P229=Conferência!$P$2,Conferência!$P$2,\"\")","v":""},{"$f":"IF(Jogo!Q229=Conferência!$Q$2,Conferência!$Q$2,\"\")","v":24},""]
[{"$f":"IF(Jogo!A230=Conferência!$A$2,Conferência!$A$2,\"\")","v":""},{"$f":"IF(Jogo!B230=Conferência!$B$2,Conferência!$B$2,\"\")","v":"QUARTA-FEIRA"},{"$f":"IF(Jogo!C230=Conferência!$C$2,Conferência!$C$2,\"\")","v":""},{"$f":"IF(Jogo!D230=Conferência!$D$2,Conferência!$D$2,\"\")","v":""},{"$f":"IF(Jogo!E230=Conferência!$E$2,Conferência!$E$2,\"\")","v":""},{"$f":"IF(Jogo!F230=Conferência!$F$2,Conferência!$F$2,\"\")","v":""},{"$f":"IF(Jogo!G230=Conferência!$G$2,Conferência!$G$2,\"\")","v":""},{"$f":"IF(Jogo!H230=Conferência!$H$2,Conferência!$H$2,\"\")","v":""},{"$f":"IF(Jogo!I230=Conferência!$I$2,Conferência!$I$2,\"\")","v":""},{"$f":"IF(Jogo!J230=Conferência!$J$2,Conferência!$J$2,\"\")","v":""},{"$f":"IF(Jogo!K230=Conferência!$K$2,Conferência!$K$2,\"\")","v":""},{"$f":"IF(Jogo!L230=Conferência!$L$2,Conferência!$L$2,\"\")","v":""},{"$f":"IF(Jogo!M230=Conferência!$M$2,Conferência!$M$2,\"\")","v":""},{"$f":"IF(Jogo!N230=Conferência!$N$2,Conferência!$N$2,\"\")","v":""},{"$f":"IF(Jogo!O230=Conferência!$O$2,Conferência!$O$2,\"\")","v":""},{"$f":"IF(Jogo!P230=Conferência!$P$2,Conferência!$P$2,\"\")","v":""},{"$f":"IF(Jogo!Q230=Conferência!$Q$2,Conferência!$Q$2,\"\")","v":""},""]
[{"$f":"IF(Jogo!A231=Conferência!$A$2,Conferência!$A$2,\"\")","v":""},{"$f":"IF(Jogo!B231=Conferência!$B$2,Conferência!$B$2,\"\")","v":"QUARTA-FEIRA"},{"$f":"IF(Jogo!C231=Conferência!$C$2,Conferência!$C$2,\"\")","v":""},{"$f":"IF(Jogo!D231=Conferência!$D$2,Conferência!$D$2,\"\")","v":""},{"$f":"IF(Jogo!E231=Conferência!$E$2,Conferência!$E$2,\"\")","v":""},{"$f":"IF(Jogo!F231=Conferência!$F$2,Conferência!$F$2,\"\")","v":""},{"$f":"IF(Jogo!G231=Conferência!$G$2,Conferência!$G$2,\"\")","v":""},{"$f":"IF(Jogo!H231=Conferência!$H$2,Conferência!$H$2,\"\")","v":""},{"$f":"IF(Jogo!I231=Conferência!$I$2,Conferência!$I$2,\"\")","v":""},{"$f":"IF(Jogo!J231=Conferência!$J$2,Conferência!$J$2,\"\")","v":""},{"$f":"IF(Jogo!K231=Conferência!$K$2,Conferência!$K$2,\"\")","v":""},{"$f":"IF(Jogo!L231=Conferência!$L$2,Conferência!$L$2,\"\")","v":""},{"$f":"IF(Jogo!M231=Conferência!$M$2,Conferência!$M$2,\"\")","v":""},{"$f":"IF(Jogo!N231=Conferência!$N$2,Conferência!$N$2,\"\")","v":""},{"$f":"IF(Jogo!O231=Conferência!$O$2,Conferência!$O$2,\"\")","v":""},{"$f":"IF(Jogo!P231=Conferência!$P$2,Conferência!$P$2,\"\")","v":""},{"$f":"IF(Jogo!Q231=Conferência!$Q$2,Conferência!$Q$2,\"\")","v":""},""]
[{"$f":"IF(Jogo!A232=Conferência!$A$2,Conferência!$A$2,\"\")","v":""},{"$f":"IF(Jogo!B232=Conferência!$B$2,Conferência!$B$2,\"\")","v":"QUARTA-FEIRA"},{"$f":"IF(Jogo!C232=Conferência!$C$2,Conferência!$C$2,\"\")","v":""},{"$f":"IF(Jogo!D232=Conferência!$D$2,Conferência!$D$2,\"\")","v":""},{"$f":"IF(Jogo!E232=Conferência!$E$2,Conferência!$E$2,\"\")","v":""},{"$f":"IF(Jogo!F232=Conferência!$F$2,Conferência!$F$2,\"\")","v":""},{"$f":"IF(Jogo!G232=Conferência!$G$2,Conferência!$G$2,\"\")","v":""},{"$f":"IF(Jogo!H232=Conferência!$H$2,Conferência!$H$2,\"\")","v":""},{"$f":"IF(Jogo!I232=Conferência!$I$2,Conferência!$I$2,\"\")","v":""},{"$f":"IF(Jogo!J232=Conferência!$J$2,Conferência!$J$2,\"\")","v":""},{"$f":"IF(Jogo!K232=Conferência!$K$2,Conferência!$K$2,\"\")","v":""},{"$f":"IF(Jogo!L232=Conferência!$L$2,Conferência!$L$2,\"\")","v":""},{"$f":"IF(Jogo!M232=Conferência!$M$2,Conferência!$M$2,\"\")","v":""},{"$f":"IF(Jogo!N232=Conferência!$N$2,Conferência!$N$2,\"\")","v":""},{"$f":"IF(Jogo!O232=Conferência!$O$2,Conferência!$O$2,\"\")","v":""},{"$f":"IF(Jogo!P232=Conferência!$P$2,Conferência!$P$2,\"\")","v":""},{"$f":"IF(Jogo!Q232=Conferência!$Q$2,Conferência!$Q$2,\"\")","v":""},""]
[{"$f":"IF(Jogo!A233=Conferência!$A$2,Conferência!$A$2,\"\")","v":""},{"$f":"IF(Jogo!B233=Conferência!$B$2,Conferência!$B$2,\"\")","v":"QUARTA-FEIRA"},{"$f":"IF(Jogo!C233=Conferência!$C$2,Conferência!$C$2,\"\")","v":""},{"$f":"IF(Jogo!D233=Conferência!$D$2,Conferência!$D$2,\"\")","v":""},{"$f":"IF(Jogo!E233=Conferência!$E$2,Conferência!$E$2,\"\")","v":""},{"$f":"IF(Jogo!F233=Conferência!$F$2,Conferência!$F$2,\"\")","v":""},{"$f":"IF(Jogo!G233=Conferência!$G$2,Conferência!$G$2,\"\")","v":""},{"$f":"IF(Jogo!H233=Conferência!$H$2,Conferência!$H$2,\"\")","v":""},{"$f":"IF(Jogo!I233=Conferência!$I$2,Conferência!$I$2,\"\")","v":""},{"$f":"IF(Jogo!J233=Conferência!$J$2,Conferência!$J$2,\"\")","v":""},{"$f":"IF(Jogo!K233=Conferência!$K$2,Conferência!$K$2,\"\")","v":""},{"$f":"IF(Jogo!L233=Conferência!$L$2,Conferência!$L$2,\"\")","v":""},{"$f":"IF(Jogo!M233=Conferência!$M$2,Conferência!$M$2,\"\")","v":""},{"$f":"IF(Jogo!N233=Conferência!$N$2,Conferência!$N$2,\"\")","v":""},{"$f":"IF(Jogo!O233=Conferência!$O$2,Conferência!$O$2,\"\")","v":""},{"$f":"IF(Jogo!P233=Conferência!$P$2,Conferência!$P$2,\"\")","v":""},{"$f":"IF(Jogo!Q233=Conferência!$Q$2,Conferência!$Q$2,\"\")","v":""},""]
[{"$f":"IF(Jogo!A234=Conferência!$A$2,Conferência!$A$2,\"\")","v":""},{"$f":"IF(Jogo!B234=Conferência!$B$2,Conferência!$B$2,\"\")","v":"QUARTA-FEIRA"},{"$f":"IF(Jogo!C234=Conferência!$C$2,Conferência!$C$2,\"\")","v":""},{"$f":"IF(Jogo!D234=Conferência!$D$2,Conferência!$D$2,\"\")","v":3},{"$f":"IF(Jogo!E234=Conferência!$E$2,Conferência!$E$2,\"\")","v":4},{"$f":"IF(Jogo!F234=Conferência!$F$2,Conferência!$F$2,\"\")","v":""},{"$f":"IF(Jogo!G234=Conferência!$G$2,Conferência!$G$2,\"\")","v":""},{"$f":"IF(Jogo!H234=Conferência!$H$2,Conferência!$H$2,\"\")","v":9},{"$f":"IF(Jogo!I234=Conferência!$I$2,Conferência!$I$2,\"\")","v":""},{"$f":"IF(Jogo!J234=Conferência!$J$2,Conferência!$J$2,\"\")","v":""},{"$f":"IF(Jogo!K234=Conferência!$K$2,Conferência!$K$2,\"\")","v":""},{"$f":"IF(Jogo!L234=Conferência!$L$2,Conferência!$L$2,\"\")","v":""},{"$f":"IF(Jogo!M234=Conferência!$M$2,Conferência!$M$2,\"\")","v":""},{"$f":"IF(Jogo!N234=Conferência!$N$2,Conferência!$N$2,\"\")","v":""},{"$f":"IF(Jogo!O234=Conferência!$O$2,Conferência!$O$2,\"\")","v":""},{"$f":"IF(Jogo!P234=Conferência!$P$2,Conferência!$P$2,\"\")","v":""},{"$f":"IF(Jogo!Q234=Conferência!$Q$2,Conferência!$Q$2,\"\")","v":""},""]
[{"$f":"IF(Jogo!A235=Conferência!$A$2,Conferência!$A$2,\"\")","v":""},{"$f":"IF(Jogo!B235=Conferência!$B$2,Conferência!$B$2,\"\")","v":"QUARTA-FEIRA"},{"$f":"IF(Jogo!C235=Conferência!$C$2,Conferência!$C$2,\"\")","v":""},{"$f":"IF(Jogo!D235=Conferência!$D$2,Conferência!$D$2,\"\")","v":3},{"$f":"IF(Jogo!E235=Conferência!$E$2,Conferência!$E$2,\"\")","v":4},{"$f":"IF(Jogo!F235=Conferência!$F$2,Conferência!$F$2,\"\")","v":""},{"$f":"IF(Jogo!G235=Conferência!$G$2,Conferência!$G$2,\"\")","v":""},{"$f":"IF(Jogo!H235=Conferência!$H$2,Conferência!$H$2,\"\")","v":""},{"$f":"IF(Jogo!I235=Conferência!$I$2,Conferência!$I$2,\"\")","v":""},{"$f":"IF(Jogo!J235=Conferência!$J$2,Conferência!$J$2,\"\")","v":""},{"$f":"IF(Jogo!K235=Conferência!$K$2,Conferência!$K$2,\"\")","v":""},{"$f":"IF(Jogo!L235=Conferência!$L$2,Conferência!$L$2,\"\")","v":""},{"$f":"IF(Jogo!M235=Conferência!$M$2,Conferência!$M$2,\"\")","v":""},{"$f":"IF(Jogo!N235=Conferência!$N$2,Conferência!$N$2,\"\")","v":""},{"$f":"IF(Jogo!O235=Conferência!$O$2,Conferência!$O$2,\"\")","v":""},{"$f":"IF(Jogo!P235=Conferência!$P$2,Conferência!$P$2,\"\")","v":23},{"$f":"IF(Jogo!Q235=Conferência!$Q$2,Conferência!$Q$2,\"\")","v":24},""]
[{"$f":"IF(Jogo!A236=Conferência!$A$2,Conferência!$A$2,\"\")","v":""},{"$f":"IF(Jogo!B236=Conferência!$B$2,Conferência!$B$2,\"\")","v":"QUARTA-FEIRA"},{"$f":"IF(Jogo!C236=Conferência!$C$2,Conferência!$C$2,\"\")","v":1},{"$f":"IF(Jogo!D236=Conferência!$D$2,Conferência!$D$2,\"\")","v":""},{"$f":"IF(Jogo!E236=Conferência!$E$2,Conferência!$E$2,\"\")","v":""},{"$f":"IF(Jogo!F236=Conferência!$F$2,Conferência!$F$2,\"\")","v":""},{"$f":"IF(Jogo!G236=Conferência!$G$2,Conferência!$G$2,\"\")","v":""},{"$f":"IF(Jogo!H236=Conferência!$H$2,Conferência!$H$2,\"\")","v":9},{"$f":"IF(Jogo!I236=Conferência!$I$2,Conferência!$I$2,\"\")","v":10},{"$f":"IF(Jogo!J236=Conferência!$J$2,Conferência!$J$2,\"\")","v":""},{"$f":"IF(Jogo!K236=Conferência!$K$2,Conferência!$K$2,\"\")","v":""},{"$f":"IF(Jogo!L236=Conferência!$L$2,Conferência!$L$2,\"\")","v":""},{"$f":"IF(Jogo!M236=Conferência!$M$2,Conferência!$M$2,\"\")","v":15},{"$f":"IF(Jogo!N236=Conferência!$N$2,Conferência!$N$2,\"\")","v":16},{"$f":"IF(Jogo!O236=Conferência!$O$2,Conferência!$O$2,\"\")","v":""},{"$f":"IF(Jogo!P236=Conferência!$P$2,Conferência!$P$2,\"\")","v":""},{"$f":"IF(Jogo!Q236=Conferência!$Q$2,Conferência!$Q$2,\"\")","v":""},""]
[{"$f":"IF(Jogo!A237=Conferência!$A$2,Conferência!$A$2,\"\")","v":""},{"$f":"IF(Jogo!B237=Conferência!$B$2,Conferência!$B$2,\"\")","v":"QUARTA-FEIRA"},{"$f":"IF(Jogo!C237=Conferência!$C$2,Conferência!$C$2,\"\")","v":""},{"$f":"IF(Jogo!D237=Conferência!$D$2,Conferência!$D$2,\"\")","v":3},{"$f":"IF(Jogo!E237=Conferência!$E$2,Conferência!$E$2,\"\")","v":4},{"$f":"IF(Jogo!F237=Conferência!$F$2,Conferência!$F$2,\"\")","v":""},{"$f":"IF(Jogo!G237=Conferência!$G$2,Conferência!$G$2,\"\")","v":7},{"$f":"IF(Jogo!H237=Conferência!$H$2,Conferência!$H$2,\"\")","v":9},{"$f":"IF(Jogo!I237=Conferência!$I$2,Conferência!$I$2,\"\")","v":10},{"$f":"IF(Jogo!J237=Conferência!$J$2,Conferência!$J$2,\"\")","v":11},{"$f":"IF(Jogo!K237=Conferência!$K$2,Conferência!$K$2,\"\")","v":""},{"$f":"IF(Jogo!L237=Conferência!$L$2,Conferência!$L$2,\"\")","v":""},{"$f":"IF(Jogo!M237=Conferência!$M$2,Conferência!$M$2,\"\")","v":""},{"$f":"IF(Jogo!N237=Conferência!$N$2,Conferência!$N$2,\"\")","v":""},{"$f":"IF(Jogo!O237=Conferência!$O$2,Conferência!$O$2,\"\")","v":""},{"$f":"IF(Jogo!P237=Conferência!$P$2,Conferência!$P$2,\"\")","v":""},{"$f":"IF(Jogo!Q237=Conferência!$Q$2,Conferência!$Q$2,\"\")","v":""},""]
[{"$f":"IF(Jogo!A238=Conferência!$A$2,Conferência!$A$2,\"\")","v":""},{"$f":"IF(Jogo!B238=Conferência!$B$2,Conferência!$B$2,\"\")","v":"QUARTA-FEIRA"},{"$f":"IF(Jogo!C238=Conferência!$C$2,Conferência!$C$2,\"\")","v":1},{"$f":"IF(Jogo!D238=Conferência!$D$2,Conferência!$D$2,\"\")","v":""},{"$f":"IF(Jogo!E238=Conferência!$E$2,Conferência!$E$2,\"\")","v":""},{"$f":"IF(Jogo!F238=Conferência!$F$2,Conferência!$F$2,\"\")","v":""},{"$f":"IF(Jogo!G238=Conferência!$G$2,Conferência!$G$2,\"\")","v":""},{"$f":"IF(Jogo!H238=Conferência!$H$2,Conferência!$H$2,\"\")","v":""},{"$f":"IF(Jogo!I238=Conferência!$I$2,Conferência!$I$2,\"\")","v":""},{"$f":"IF(Jogo!J238=Conferência!$J$2,Conferência!$J$2,\"\")","v":11},{"$f":"IF(Jogo!K238=Conferência!$K$2,Conferência!$K$2,\"\")","v":""},{"$f":"IF(Jogo!L238=Conferência!$L$2,Conferência!$L$2,\"\")","v":""},{"$f":"IF(Jogo!M238=Conferência!$M$2,Conferência!$M$2,\"\")","v":15},{"$f":"IF(Jogo!N238=Conferência!$N$2,Conferência!$N$2,\"\")","v":""},{"$f":"IF(Jogo!O238=Conferência!$O$2,Conferência!$O$2,\"\")","v":19},{"$f":"IF(Jogo!P238=Conferência!$P$2,Conferência!$P$2,\"\")","v":""},{"$f":"IF(Jogo!Q238=Conferência!$Q$2,Conferência!$Q$2,\"\")","v":""},""]
[{"$f":"IF(Jogo!A239=Conferência!$A$2,Conferência!$A$2,\"\")","v":""},{"$f":"IF(Jogo!B239=Conferência!$B$2,Conferência!$B$2,\"\")","v":"QUARTA-FEIRA"},{"$f":"IF(Jogo!C239=Conferência!$C$2,Conferência!$C$2,\"\")","v":1},{"$f":"IF(Jogo!D239=Conferência!$D$2,Conferência!$D$2,\"\")","v":""},{"$f":"IF(Jogo!E239=Conferência!$E$2,Conferência!$E$2,\"\")","v":""},{"$f":"IF(Jogo!F239=Conferência!$F$2,Conferência!$F$2,\"\")","v":""},{"$f":"IF(Jogo!G239=Conferência!$G$2,Conferência!$G$2,\"\")","v":""},{"$f":"IF(Jogo!H239=Conferência!$H$2,Conferência!$H$2,\"\")","v":""},{"$f":"IF(Jogo!I239=Conferência!$I$2,Conferência!$I$2,\"\")","v":""},{"$f":"IF(Jogo!J239=Conferência!$J$2,Conferência!$J$2,\"\")","v":""},{"$f":"IF(Jogo!K239=Conferência!$K$2,Conferência!$K$2,\"\")","v":""},{"$f":"IF(Jogo!L239=Conferência!$L$2,Conferência!$L$2,\"\")","v":""},{"$f":"IF(Jogo!M239=Conferência!$M$2,Conferência!$M$2,\"\")","v":""},{"$f":"IF(Jogo!N239=Conferência!$N$2,Conferência!$N$2,\"\")","v":""},{"$f":"IF(Jogo!O239=Conferência!$O$2,Conferência!$O$2,\"\")","v":""},{"$f":"IF(Jogo!P239=Conferência!$P$2,Conferência!$P$2,\"\")","v":23},{"$f":"IF(Jogo!Q239=Conferência!$Q$2,Conferência!$Q$2,\"\")","v":""},""]
[{"$f":"IF(Jogo!A240=Conferência!$A$2,Conferência!$A$2,\"\")","v":""},{"$f":"IF(Jogo!B240=Conferência!$B$2,Conferência!$B$2,\"\")","v":"QUARTA-FEIRA"},{"$f":"IF(Jogo!C240=Conferência!$C$2,Conferência!$C$2,\"\")","v":1},{"$f":"IF(Jogo!D240=Conferência!$D$2,Conferência!$D$2,\"\")","v":3},{"$f":"IF(Jogo!E240=Conferência!$E$2,Conferência!$E$2,\"\")","v":4},{"$f":"IF(Jogo!F240=Conferência!$F$2,Conferência!$F$2,\"\")","v":""},{"$f":"IF(Jogo!G240=Conferência!$G$2,Conferência!$G$2,\"\")","v":""},{"$f":"IF(Jogo!H240=Conferência!$H$2,Conferência!$H$2,\"\")","v":9},{"$f":"IF(Jogo!I240=Conferência!$I$2,Conferência!$I$2,\"\")","v":""},{"$f":"IF(Jogo!J240=Conferência!$J$2,Conferência!$J$2,\"\")","v":""},{"$f":"IF(Jogo!K240=Conferência!$K$2,Conferência!$K$2,\"\")","v":""},{"$f":"IF(Jogo!L240=Conferência!$L$2,Conferência!$L$2,\"\")","v":""},{"$f":"IF(Jogo!M240=Conferência!$M$2,Conferência!$M$2,\"\")","v":""},{"$f":"IF(Jogo!N240=Conferência!$N$2,Conferência!$N$2,\"\")","v":""},{"$f":"IF(Jogo!O240=Conferência!$O$2,Conferência!$O$2,\"\")","v":""},{"$f":"IF(Jogo!P240=Conferência!$P$2,Conferência!$P$2,\"\")","v":""},{"$f":"IF(Jogo!Q240=Conferência!$Q$2,Conferência!$Q$2,\"\")","v":""},""]
[{"$f":"IF(Jogo!A241=Conferência!$A$2,Conferência!$A$2,\"\")","v":""},{"$f":"IF(Jogo!B241=Conferência!$B$2,Conferência!$B$2,\"\")","v":"QUARTA-FEIRA"},{"$f":"IF(Jogo!C241=Conferência!$C$2,Conferência!$C$2,\"\")","v":""},{"$f":"IF(Jogo!D241=Conferência!$D$2,Conferência!$D$2,\"\")","v":3},{"$f":"IF(Jogo!E241=Conferência!$E$2,Conferência!$E$2,\"\")","v":4},{"$f":"IF(Jogo!F241=Conferência!$F$2,Conferência!$F$2,\"\")","v":""},{"$f":"IF(Jogo!G241=Conferência!$G$2,Conferência!$G$2,\"\")","v":""},{"$f":"IF(Jogo!H241=Conferência!$H$2,Conferência!$H$2,\"\")","v":""},{"$f":"IF(Jogo!I241=Conferência!$I$2,Conferência!$I$2,\"\")","v":""},{"$f":"IF(Jogo!J241=Conferência!$J$2,Conferência!$J$2,\"\")","v":""},{"$f":"IF(Jogo!K241=Conferência!$K$2,Conferência!$K$2,\"\")","v":""},{"$f":"IF(Jogo!L241=Conferência!$L$2,Conferência!$L$2,\"\")","v":""},{"$f":"IF(Jogo!M241=Conferência!$M$2,Conferência!$M$2,\"\")","v":""},{"$f":"IF(Jogo!N241=Conferência!$N$2,Conferência!$N$2,\"\")","v":""},{"$f":"IF(Jogo!O241=Conferência!$O$2,Conferência!$O$2,\"\")","v":""},{"$f":"IF(Jogo!P241=Conferência!$P$2,Conferência!$P$2,\"\")","v":""},{"$f":"IF(Jogo!Q241=Conferência!$Q$2,Conferência!$Q$2,\"\")","v":""},""]
[{"$f":"IF(Jogo!A242=Conferência!$A$2,Conferência!$A$2,\"\")","v":""},{"$f":"IF(Jogo!B242=Conferência!$B$2,Conferência!$B$2,\"\")","v":"QUARTA-FEIRA"},{"$f":"IF(Jogo!C242=Conferência!$C$2,Conferência!$C$2,\"\")","v":""},{"$f":"IF(Jogo!D242=Conferência!$D$2,Conferência!$D$2,\"\")","v":""},{"$f":"IF(Jogo!E242=Conferência!$E$2,Conferência!$E$2,\"\")","v":""},{"$f":"IF(Jogo!F242=Conferência!$F$2,Conferência!$F$2,\"\")","v":""},{"$f":"IF(Jogo!G242=Conferência!$G$2,Conferência!$G$2,\"\")","v":""},{"$f":"IF(Jogo!H242=Conferência!$H$2,Conferência!$H$2,\"\")","v":""},{"$f":"IF(Jogo!I242=Conferência!$I$2,Conferência!$I$2,\"\")","v":""},{"$f":"IF(Jogo!J242=Conferência!$J$2,Conferência!$J$2,\"\")","v":""},{"$f":"IF(Jogo!K242=Conferência!$K$2,Conferência!$K$2,\"\")","v":""},{"$f":"IF(Jogo!L242=Conferência!$L$2,Conferência!$L$2,\"\")","v":""},{"$f":"IF(Jogo!M242=Conferência!$M$2,Conferência!$M$2,\"\")","v":""},{"$f":"IF(Jogo!N242=Conferência!$N$2,Conferência!$N$2,\"\")","v":""},{"$f":"IF(Jogo!O242=Conferência!$O$2,Conferência!$O$2,\"\")","v":""},{"$f":"IF(Jogo!P242=Conferência!$P$2,Conferência!$P$2,\"\")","v":""},{"$f":"IF(Jogo!Q242=Conferência!$Q$2,Conferência!$Q$2,\"\")","v":""},""]
[{"$f":"IF(Jogo!A243=Conferência!$A$2,Conferência!$A$2,\"\")","v":""},{"$f":"IF(Jogo!B243=Conferência!$B$2,Conferência!$B$2,\"\")","v":"QUARTA-FEIRA"},{"$f":"IF(Jogo!C243=Conferência!$C$2,Conferência!$C$2,\"\")","v":1},{"$f":"IF(Jogo!D243=Conferência!$D$2,Conferência!$D$2,\"\")","v":""},{"$f":"IF(Jogo!E243=Conferência!$E$2,Conferência!$E$2,\"\")","v":""},{"$f":"IF(Jogo!F243=Conferência!$F$2,Conferência!$F$2,\"\")","v":""},{"$f":"IF(Jogo!G243=Conferência!$G$2,Conferência!$G$2,\"\")","v":""},{"$f":"IF(Jogo!H243=Conferência!$H$2,Conferência!$H$2,\"\")","v":""},{"$f":"IF(Jogo!I243=Conferência!$I$2,Conferência!$I$2,\"\")","v":""},{"$f":"IF(Jogo!J243=Conferência!$J$2,Conferência!$J$2,\"\")","v":""},{"$f":"IF(Jogo!K243=Conferência!$K$2,Conferência!$K$2,\"\")","v":""},{"$f":"IF(Jogo!L243=Conferência!$L$2,Conferência!$L$2,\"\")","v":""},{"$f":"IF(Jogo!M243=Conferência!$M$2,Conferência!$M$2,\"\")","v":""},{"$f":"IF(Jogo!N243=Conferência!$N$2,Conferência!$N$2,\"\")","v":""},{"$f":"IF(Jogo!O243=Conferência!$O$2,Conferência!$O$2,\"\")","v":""},{"$f":"IF(Jogo!P243=Conferência!$P$2,Conferência!$P$2,\"\")","v":23},{"$f":"IF(Jogo!Q243=Conferência!$Q$2,Conferência!$Q$2,\"\")","v":24},""]
[{"$f":"IF(Jogo!A244=Conferência!$A$2,Conferência!$A$2,\"\")","v":""},{"$f":"IF(Jogo!B244=Conferência!$B$2,Conferência!$B$2,\"\")","v":"QUARTA-FEIRA"},{"$f":"IF(Jogo!C244=Conferência!$C$2,Conferência!$C$2,\"\")","v":1},{"$f":"IF(Jogo!D244=Conferência!$D$2,Conferência!$D$2,\"\")","v":""},{"$f":"IF(Jogo!E244=Conferência!$E$2,Conferência!$E$2,\"\")","v":""},{"$f":"IF(Jogo!F244=Conferência!$F$2,Conferência!$F$2,\"\")","v":""},{"$f":"IF(Jogo!G244=Conferência!$G$2,Conferência!$G$2,\"\")","v":""},{"$f":"IF(Jogo!H244=Conferência!$H$2,Conferência!$H$2,\"\")","v":""},{"$f":"IF(Jogo!I244=Conferência!$I$2,Conferência!$I$2,\"\")","v":""},{"$f":"IF(Jogo!J244=Conferência!$J$2,Conferência!$J$2,\"\")","v":""},{"$f":"IF(Jogo!K244=Conferência!$K$2,Conferência!$K$2,\"\")","v":""},{"$f":"IF(Jogo!L244=Conferência!$L$2,Conferência!$L$2,\"\")","v":""},{"$f":"IF(Jogo!M244=Conferência!$M$2,Conferência!$M$2,\"\")","v":""},{"$f":"IF(Jogo!N244=Conferência!$N$2,Conferência!$N$2,\"\")","v":""},{"$f":"IF(Jogo!O244=Conferência!$O$2,Conferência!$O$2,\"\")","v":19},{"$f":"IF(Jogo!P244=Conferência!$P$2,Conferência!$P$2,\"\")","v":""},{"$f":"IF(Jogo!Q244=Conferência!$Q$2,Conferência!$Q$2,\"\")","v":24},""]
[{"$f":"IF(Jogo!A245=Conferência!$A$2,Conferência!$A$2,\"\")","v":""},{"$f":"IF(Jogo!B245=Conferência!$B$2,Conferência!$B$2,\"\")","v":"QUARTA-FEIRA"},{"$f":"IF(Jogo!C245=Conferência!$C$2,Conferência!$C$2,\"\")","v":1},{"$f":"IF(Jogo!D245=Conferência!$D$2,Conferência!$D$2,\"\")","v":""},{"$f":"IF(Jogo!E245=Conferência!$E$2,Conferência!$E$2,\"\")","v":""},{"$f":"IF(Jogo!F245=Conferência!$F$2,Conferência!$F$2,\"\")","v":""},{"$f":"IF(Jogo!G245=Conferência!$G$2,Conferência!$G$2,\"\")","v":7},{"$f":"IF(Jogo!H245=Conferência!$H$2,Conferência!$H$2,\"\")","v":9},{"$f":"IF(Jogo!I245=Conferência!$I$2,Conferência!$I$2,\"\")","v":""},{"$f":"IF(Jogo!J245=Conferência!$J$2,Conferência!$J$2,\"\")","v":""},{"$f":"IF(Jogo!K245=Conferência!$K$2,Conferência!$K$2,\"\")","v":""},{"$f":"IF(Jogo!L245=Conferência!$L$2,Conferência!$L$2,\"\")","v":""},{"$f":"IF(Jogo!M245=Conferência!$M$2,Conferência!$M$2,\"\")","v":""},{"$f":"IF(Jogo!N245=Conferência!$N$2,Conferência!$N$2,\"\")","v":""},{"$f":"IF(Jogo!O245=Conferência!$O$2,Conferência!$O$2,\"\")","v":19},{"$f":"IF(Jogo!P245=Conferência!$P$2,Conferência!$P$2,\"\")","v":""},{"$f":"IF(Jogo!Q245=Conferência!$Q$2,Conferência!$Q$2,\"\")","v":""},""]
[{"$f":"IF(Jogo!A246=Conferência!$A$2,Conferência!$A$2,\"\")","v":""},{"$f":"IF(Jogo!B246=Conferência!$B$2,Conferência!$B$2,\"\")","v":"QUARTA-FEIRA"},{"$f":"IF(Jogo!C246=Conferência!$C$2,Conferência!$C$2,\"\")","v":1},{"$f":"IF(Jogo!D246=Conferência!$D$2,Conferência!$D$2,\"\")","v":""},{"$f":"IF(Jogo!E246=Conferência!$E$2,Conferência!$E$2,\"\")","v":""},{"$f":"IF(Jogo!F246=Conferência!$F$2,Conferência!$F$2,\"\")","v":6},{"$f":"IF(Jogo!G246=Conferência!$G$2,Conferência!$G$2,\"\")","v":""},{"$f":"IF(Jogo!H246=Conferência!$H$2,Conferência!$H$2,\"\")","v":""},{"$f":"IF(Jogo!I246=Conferência!$I$2,Conferência!$I$2,\"\")","v":""},{"$f":"IF(Jogo!J246=Conferência!$J$2,Conferência!$J$2,\"\")","v":""},{"$f":"IF(Jogo!K246=Conferência!$K$2,Conferência!$K$2,\"\")","v":""},{"$f":"IF(Jogo!L246=Conferência!$L$2,Conferência!$L$2,\"\")","v":""},{"$f":"IF(Jogo!M246=Conferência!$M$2,Conferência!$M$2,\"\")","v":""},{"$f":"IF(Jogo!N246=Conferência!$N$2,Conferência!$N$2,\"\")","v":""},{"$f":"IF(Jogo!O246=Conferência!$O$2,Conferência!$O$2,\"\")","v":""},{"$f":"IF(Jogo!P246=Conferência!$P$2,Conferência!$P$2,\"\")","v":23},{"$f":"IF(Jogo!Q246=Conferência!$Q$2,Conferência!$Q$2,\"\")","v":""},""]
[{"$f":"IF(Jogo!A247=Conferência!$A$2,Conferência!$A$2,\"\")","v":""},{"$f":"IF(Jogo!B247=Conferência!$B$2,Conferência!$B$2,\"\")","v":"QUARTA-FEIRA"},{"$f":"IF(Jogo!C247=Conferência!$C$2,Conferência!$C$2,\"\")","v":1},{"$f":"IF(Jogo!D247=Conferência!$D$2,Conferência!$D$2,\"\")","v":3},{"$f":"IF(Jogo!E247=Conferência!$E$2,Conferência!$E$2,\"\")","v":4},{"$f":"IF(Jogo!F247=Conferência!$F$2,Conferência!$F$2,\"\")","v":""},{"$f":"IF(Jogo!G247=Conferência!$G$2,Conferência!$G$2,\"\")","v":""},{"$f":"IF(Jogo!H247=Conferência!$H$2,Conferência!$H$2,\"\")","v":""},{"$f":"IF(Jogo!I247=Conferência!$I$2,Conferência!$I$2,\"\")","v":""},{"$f":"IF(Jogo!J247=Conferência!$J$2,Conferência!$J$2,\"\")","v":""},{"$f":"IF(Jogo!K247=Conferência!$K$2,Conferência!$K$2,\"\")","v":""},{"$f":"IF(Jogo!L247=Conferência!$L$2,Conferência!$L$2,\"\")","v":""},{"$f":"IF(Jogo!M247=Conferência!$M$2,Conferência!$M$2,\"\")","v":""},{"$f":"IF(Jogo!N247=Conferência!$N$2,Conferência!$N$2,\"\")","v":""},{"$f":"IF(Jogo!O247=Conferência!$O$2,Conferência!$O$2,\"\")","v":""},{"$f":"IF(Jogo!P247=Conferência!$P$2,Conferência!$P$2,\"\")","v":23},{"$f":"IF(Jogo!Q247=Conferência!$Q$2,Conferência!$Q$2,\"\")","v":24},""]
[{"$f":"IF(Jogo!A248=Conferência!$A$2,Conferência!$A$2,\"\")","v":""},{"$f":"IF(Jogo!B248=Conferência!$B$2,Conferência!$B$2,\"\")","v":"QUARTA-FEIRA"},{"$f":"IF(Jogo!C248=Conferência!$C$2,Conferência!$C$2,\"\")","v":1},{"$f":"IF(Jogo!D248=Conferência!$D$2,Conferência!$D$2,\"\")","v":""},{"$f":"IF(Jogo!E248=Conferência!$E$2,Conferência!$E$2,\"\")","v":""},{"$f":"IF(Jogo!F248=Conferência!$F$2,Conferência!$F$2,\"\")","v":""},{"$f":"IF(Jogo!G248=Conferência!$G$2,Conferência!$G$2,\"\")","v":""},{"$f":"IF(Jogo!H248=Conferência!$H$2,Conferência!$H$2,\"\")","v":""},{"$f":"IF(Jogo!I248=Conferência!$I$2,Conferência!$I$2,\"\")","v":""},{"$f":"IF(Jogo!J248=Conferência!$J$2,Conferência!$J$2,\"\")","v":""},{"$f":"IF(Jogo!K248=Conferência!$K$2,Conferência!$K$2,\"\")","v":""},{"$f":"IF(Jogo!L248=Conferência!$L$2,Conferência!$L$2,\"\")","v":""},{"$f":"IF(Jogo!M248=Conferência!$M$2,Conferência!$M$2,\"\")","v":""},{"$f":"IF(Jogo!N248=Conferência!$N$2,Conferência!$N$2,\"\")","v":""},{"$f":"IF(Jogo!O248=Conferência!$O$2,Conferência!$O$2,\"\")","v":""},{"$f":"IF(Jogo!P248=Conferência!$P$2,Conferência!$P$2,\"\")","v":""},{"$f":"IF(Jogo!Q248=Conferência!$Q$2,Conferência!$Q$2,\"\")","v":""},""]
[{"$f":"IF(Jogo!A249=Conferência!$A$2,Conferência!$A$2,\"\")","v":""},{"$f":"IF(Jogo!B249=Conferência!$B$2,Conferência!$B$2,\"\")","v":"QUARTA-FEIRA"},{"$f":"IF(Jogo!C249=Conferência!$C$2,Conferência!$C$2,\"\")","v":1},{"$f":"IF(Jogo!D249=Conferência!$D$2,Conferência!$D$2,\"\")","v":3},{"$f":"IF(Jogo!E249=Conferência!$E$2,Conferência!$E$2,\"\")","v":4},{"$f":"IF(Jogo!F249=Conferência!$F$2,Conferência!$F$2,\"\")","v":""},{"$f":"IF(Jogo!G249=Conferência!$G$2,Conferência!$G$2,\"\")","v":""},{"$f":"IF(Jogo!H249=Conferência!$H$2,Conferência!$H$2,\"\")","v":""},{"$f":"IF(Jogo!I249=Conferência!$I$2,Conferência!$I$2,\"\")","v":""},{"$f":"IF(Jogo!J249=Conferência!$J$2,Conferência!$J$2,\"\")","v":""},{"$f":"IF(Jogo!K249=Conferência!$K$2,Conferência!$K$2,\"\")","v":""},{"$f":"IF(Jogo!L249=Conferência!$L$2,Conferência!$L$2,\"\")","v":""},{"$f":"IF(Jogo!M249=Conferência!$M$2,Conferência!$M$2,\"\")","v":""},{"$f":"IF(Jogo!N249=Conferência!$N$2,Conferência!$N$2,\"\")","v":""},{"$f":"IF(Jogo!O249=Conferência!$O$2,Conferência!$O$2,\"\")","v":""},{"$f":"IF(Jogo!P249=Conferência!$P$2,Conferência!$P$2,\"\")","v":23},{"$f":"IF(Jogo!Q249=Conferência!$Q$2,Conferência!$Q$2,\"\")","v":""},""]
[{"$f":"IF(Jogo!A250=Conferência!$A$2,Conferência!$A$2,\"\")","v":""},{"$f":"IF(Jogo!B250=Conferência!$B$2,Conferência!$B$2,\"\")","v":"QUARTA-FEIRA"},{"$f":"IF(Jogo!C250=Conferência!$C$2,Conferência!$C$2,\"\")","v":1},{"$f":"IF(Jogo!D250=Conferência!$D$2,Conferência!$D$2,\"\")","v":""},{"$f":"IF(Jogo!E250=Conferência!$E$2,Conferência!$E$2,\"\")","v":""},{"$f":"IF(Jogo!F250=Conferência!$F$2,Conferência!$F$2,\"\")","v":""},{"$f":"IF(Jogo!G250=Conferência!$G$2,Conferência!$G$2,\"\")","v":7},{"$f":"IF(Jogo!H250=Conferência!$H$2,Conferência!$H$2,\"\")","v":""},{"$f":"IF(Jogo!I250=Conferência!$I$2,Conferência!$I$2,\"\")","v":""},{"$f":"IF(Jogo!J250=Conferência!$J$2,Conferência!$J$2,\"\")","v":""},{"$f":"IF(Jogo!K250=Conferência!$K$2,Conferência!$K$2,\"\")","v":""},{"$f":"IF(Jogo!L250=Conferência!$L$2,Conferência!$L$2,\"\")","v":13},{"$f":"IF(Jogo!M250=Conferência!$M$2,Conferência!$M$2,\"\")","v":""},{"$f":"IF(Jogo!N250=Conferência!$N$2,Conferência!$N$2,\"\")","v":""},{"$f":"IF(Jogo!O250=Conferência!$O$2,Conferência!$O$2,\"\")","v":""},{"$f":"IF(Jogo!P250=Conferência!$P$2,Conferência!$P$2,\"\")","v":23},{"$f":"IF(Jogo!Q250=Conferência!$Q$2,Conferência!$Q$2,\"\")","v":24},""]
[{"$f":"IF(Jogo!A251=Conferência!$A$2,Conferência!$A$2,\"\")","v":""},{"$f":"IF(Jogo!B251=Conferência!$B$2,Conferência!$B$2,\"\")","v":"QUARTA-FEIRA"},{"$f":"IF(Jogo!C251=Conferência!$C$2,Conferência!$C$2,\"\")","v":1},{"$f":"IF(Jogo!D251=Conferência!$D$2,Conferência!$D$2,\"\")","v":3},{"$f":"IF(Jogo!E251=Conferência!$E$2,Conferência!$E$2,\"\")","v":""},{"$f":"IF(Jogo!F251=Conferência!$F$2,Conferência!$F$2,\"\")","v":""},{"$f":"IF(Jogo!G251=Conferência!$G$2,Conferência!$G$2,\"\")","v":""},{"$f":"IF(Jogo!H251=Conferência!$H$2,Conferência!$H$2,\"\")","v":""},{"$f":"IF(Jogo!I251=Conferência!$I$2,Conferência!$I$2,\"\")","v":""},{"$f":"IF(Jogo!J251=Conferência!$J$2,Conferência!$J$2,\"\")","v":""},{"$f":"IF(Jogo!K251=Conferência!$K$2,Conferência!$K$2,\"\")","v":""},{"$f":"IF(Jogo!L251=Conferência!$L$2,Conferência!$L$2,\"\")","v":""},{"$f":"IF(Jogo!M251=Conferência!$M$2,Conferência!$M$2,\"\")","v":""},{"$f":"IF(Jogo!N251=Conferência!$N$2,Conferência!$N$2,\"\")","v":""},{"$f":"IF(Jogo!O251=Conferência!$O$2,Conferência!$O$2,\"\")","v":""},{"$f":"IF(Jogo!P251=Conferência!$P$2,Conferência!$P$2,\"\")","v":""},{"$f":"IF(Jogo!Q251=Conferência!$Q$2,Conferência!$Q$2,\"\")","v":""},""]
[{"$f":"IF(Jogo!A252=Conferência!$A$2,Conferência!$A$2,\"\")","v":""},{"$f":"IF(Jogo!B252=Conferência!$B$2,Conferência!$B$2,\"\")","v":"QUARTA-FEIRA"},{"$f":"IF(Jogo!C252=Conferência!$C$2,Conferência!$C$2,\"\")","v":""},{"$f":"IF(Jogo!D252=Conferência!$D$2,Conferência!$D$2,\"\")","v":""},{"$f":"IF(Jogo!E252=Conferência!$E$2,Conferência!$E$2,\"\")","v":""},{"$f":"IF(Jogo!F252=Conferência!$F$2,Conferência!$F$2,\"\")","v":""},{"$f":"IF(Jogo!G252=Conferência!$G$2,Conferência!$G$2,\"\")","v":""},{"$f":"IF(Jogo!H252=Conferência!$H$2,Conferência!$H$2,\"\")","v":""},{"$f":"IF(Jogo!I252=Conferência!$I$2,Conferência!$I$2,\"\")","v":""},{"$f":"IF(Jogo!J252=Conferência!$J$2,Conferência!$J$2,\"\")","v":""},{"$f":"IF(Jogo!K252=Conferência!$K$2,Conferência!$K$2,\"\")","v":""},{"$f":"IF(Jogo!L252=Conferência!$L$2,Conferência!$L$2,\"\")","v":""},{"$f":"IF(Jogo!M252=Conferência!$M$2,Conferência!$M$2,\"\")","v":""},{"$f":"IF(Jogo!N252=Conferência!$N$2,Conferência!$N$2,\"\")","v":""},{"$f":"IF(Jogo!O252=Conferência!$O$2,Conferência!$O$2,\"\")","v":""},{"$f":"IF(Jogo!P252=Conferência!$P$2,Conferência!$P$2,\"\")","v":23},{"$f":"IF(Jogo!Q252=Conferência!$Q$2,Conferência!$Q$2,\"\")","v":24},""]
[{"$f":"IF(Jogo!A253=Conferência!$A$2,Conferência!$A$2,\"\")","v":""},{"$f":"IF(Jogo!B253=Conferência!$B$2,Conferência!$B$2,\"\")","v":"QUARTA-FEIRA"},{"$f":"IF(Jogo!C253=Conferência!$C$2,Conferência!$C$2,\"\")","v":""},{"$f":"IF(Jogo!D253=Conferência!$D$2,Conferência!$D$2,\"\")","v":3},{"$f":"IF(Jogo!E253=Conferência!$E$2,Conferência!$E$2,\"\")","v":4},{"$f":"IF(Jogo!F253=Conferência!$F$2,Conferência!$F$2,\"\")","v":6},{"$f":"IF(Jogo!G253=Conferência!$G$2,Conferência!$G$2,\"\")","v":""},{"$f":"IF(Jogo!H253=Conferência!$H$2,Conferência!$H$2,\"\")","v":""},{"$f":"IF(Jogo!I253=Conferência!$I$2,Conferência!$I$2,\"\")","v":""},{"$f":"IF(Jogo!J253=Conferência!$J$2,Conferência!$J$2,\"\")","v":""},{"$f":"IF(Jogo!K253=Conferência!$K$2,Conferência!$K$2,\"\")","v":""},{"$f":"IF(Jogo!L253=Conferência!$L$2,Conferência!$L$2,\"\")","v":""},{"$f":"IF(Jogo!M253=Conferência!$M$2,Conferência!$M$2,\"\")","v":""},{"$f":"IF(Jogo!N253=Conferência!$N$2,Conferência!$N$2,\"\")","v":""},{"$f":"IF(Jogo!O253=Conferência!$O$2,Conferência!$O$2,\"\")","v":""},{"$f":"IF(Jogo!P253=Conferência!$P$2,Conferência!$P$2,\"\")","v":""},{"$f":"IF(Jogo!Q253=Conferência!$Q$2,Conferência!$Q$2,\"\")","v":""},""]
[{"$f":"IF(Jogo!A254=Conferência!$A$2,Conferência!$A$2,\"\")","v":""},{"$f":"IF(Jogo!B254=Conferência!$B$2,Conferência!$B$2,\"\")","v":"QUARTA-FEIRA"},{"$f":"IF(Jogo!C254=Conferência!$C$2,Conferência!$C$2,\"\")","v":1},{"$f":"IF(Jogo!D254=Conferência!$D$2,Conferência!$D$2,\"\")","v":""},{"$f":"IF(Jogo!E254=Conferência!$E$2,Conferência!$E$2,\"\")","v":""},{"$f":"IF(Jogo!F254=Conferência!$F$2,Conferência!$F$2,\"\")","v":""},{"$f":"IF(Jogo!G254=Conferência!$G$2,Conferência!$G$2,\"\")","v":""},{"$f":"IF(Jogo!H254=Conferência!$H$2,Conferência!$H$2,\"\")","v":""},{"$f":"IF(Jogo!I254=Conferência!$I$2,Conferência!$I$2,\"\")","v":""},{"$f":"IF(Jogo!J254=Conferência!$J$2,Conferência!$J$2,\"\")","v":""},{"$f":"IF(Jogo!K254=Conferência!$K$2,Conferência!$K$2,\"\")","v":""},{"$f":"IF(Jogo!L254=Conferência!$L$2,Conferência!$L$2,\"\")","v":13},{"$f":"IF(Jogo!M254=Conferência!$M$2,Conferência!$M$2,\"\")","v":""},{"$f":"IF(Jogo!N254=Conferência!$N$2,Conferência!$N$2,\"\")","v":""},{"$f":"IF(Jogo!O254=Conferência!$O$2,Conferência!$O$2,\"\")","v":""},{"$f":"IF(Jogo!P254=Conferência!$P$2,Conferência!$P$2,\"\")","v":""},{"$f":"IF(Jogo!Q254=Conferência!$Q$2,Conferência!$Q$2,\"\")","v":""},""]
[{"$f":"IF(Jogo!A255=Conferência!$A$2,Conferência!$A$2,\"\")","v":""},{"$f":"IF(Jogo!B255=Conferência!$B$2,Conferência!$B$2,\"\")","v":"QUARTA-FEIRA"},{"$f":"IF(Jogo!C255=Conferência!$C$2,Conferência!$C$2,\"\")","v":""},{"$f":"IF(Jogo!D255=Conferência!$D$2,Conferência!$D$2,\"\")","v":3},{"$f":"IF(Jogo!E255=Conferência!$E$2,Conferência!$E$2,\"\")","v":4},{"$f":"IF(Jogo!F255=Conferência!$F$2,Conferência!$F$2,\"\")","v":""},{"$f":"IF(Jogo!G255=Conferência!$G$2,Conferência!$G$2,\"\")","v":7},{"$f":"IF(Jogo!H255=Conferência!$H$2,Conferência!$H$2,\"\")","v":""},{"$f":"IF(Jogo!I255=Conferência!$I$2,Conferência!$I$2,\"\")","v":10},{"$f":"IF(Jogo!J255=Conferência!$J$2,Conferência!$J$2,\"\")","v":""},{"$f":"IF(Jogo!K255=Conferência!$K$2,Conferência!$K$2,\"\")","v":""},{"$f":"IF(Jogo!L255=Conferência!$L$2,Conferência!$L$2,\"\")","v":""},{"$f":"IF(Jogo!M255=Conferência!$M$2,Conferência!$M$2,\"\")","v":""},{"$f":"IF(Jogo!N255=Conferência!$N$2,Conferência!$N$2,\"\")","v":""},{"$f":"IF(Jogo!O255=Conferência!$O$2,Conferência!$O$2,\"\")","v":""},{"$f":"IF(Jogo!P255=Conferência!$P$2,Conferência!$P$2,\"\")","v":23},{"$f":"IF(Jogo!Q255=Conferência!$Q$2,Conferência!$Q$2,\"\")","v":24},""]
[{"$f":"IF(Jogo!A256=Conferência!$A$2,Conferência!$A$2,\"\")","v":""},{"$f":"IF(Jogo!B256=Conferência!$B$2,Conferência!$B$2,\"\")","v":"QUARTA-FEIRA"},{"$f":"IF(Jogo!C256=Conferência!$C$2,Conferência!$C$2,\"\")","v":1},{"$f":"IF(Jogo!D256=Conferência!$D$2,Conferência!$D$2,\"\")","v":""},{"$f":"IF(Jogo!E256=Conferência!$E$2,Conferência!$E$2,\"\")","v":""},{"$f":"IF(Jogo!F256=Conferência!$F$2,Conferência!$F$2,\"\")","v":""},{"$f":"IF(Jogo!G256=Conferência!$G$2,Conferência!$G$2,\"\")","v":""},{"$f":"IF(Jogo!H256=Conferência!$H$2,Conferência!$H$2,\"\")","v":9},{"$f":"IF(Jogo!I256=Conferência!$I$2,Conferência!$I$2,\"\")","v":10},{"$f":"IF(Jogo!J256=Conferência!$J$2,Conferência!$J$2,\"\")","v":""},{"$f":"IF(Jogo!K256=Conferência!$K$2,Conferência!$K$2,\"\")","v":""},{"$f":"IF(Jogo!L256=Conferência!$L$2,Conferência!$L$2,\"\")","v":""},{"$f":"IF(Jogo!M256=Conferência!$M$2,Conferência!$M$2,\"\")","v":""},{"$f":"IF(Jogo!N256=Conferência!$N$2,Conferência!$N$2,\"\")","v":""},{"$f":"IF(Jogo!O256=Conferência!$O$2,Conferência!$O$2,\"\")","v":""},{"$f":"IF(Jogo!P256=Conferência!$P$2,Conferência!$P$2,\"\")","v":""},{"$f":"IF(Jogo!Q256=Conferência!$Q$2,Conferência!$Q$2,\"\")","v":""},""]
[{"$f":"IF(Jogo!A257=Conferência!$A$2,Conferência!$A$2,\"\")","v":""},{"$f":"IF(Jogo!B257=Conferência!$B$2,Conferência!$B$2,\"\")","v":"QUARTA-FEIRA"},{"$f":"IF(Jogo!C257=Conferência!$C$2,Conferência!$C$2,\"\")","v":""},{"$f":"IF(Jogo!D257=Conferência!$D$2,Conferência!$D$2,\"\")","v":""},{"$f":"IF(Jogo!E257=Conferência!$E$2,Conferência!$E$2,\"\")","v":""},{"$f":"IF(Jogo!F257=Conferência!$F$2,Conferência!$F$2,\"\")","v":""},{"$f":"IF(Jogo!G257=Conferência!$G$2,Conferência!$G$2,\"\")","v":""},{"$f":"IF(Jogo!H257=Conferência!$H$2,Conferência!$H$2,\"\")","v":""},{"$f":"IF(Jogo!I257=Conferência!$I$2,Conferência!$I$2,\"\")","v":""},{"$f":"IF(Jogo!J257=Conferência!$J$2,Conferência!$J$2,\"\")","v":""},{"$f":"IF(Jogo!K257=Conferência!$K$2,Conferência!$K$2,\"\")","v":""},{"$f":"IF(Jogo!L257=Conferência!$L$2,Conferência!$L$2,\"\")","v":""},{"$f":"IF(Jogo!M257=Conferência!$M$2,Conferência!$M$2,\"\")","v":""},{"$f":"IF(Jogo!N257=Conferência!$N$2,Conferência!$N$2,\"\")","v":""},{"$f":"IF(Jogo!O257=Conferência!$O$2,Conferência!$O$2,\"\")","v":""},{"$f":"IF(Jogo!P257=Conferência!$P$2,Conferência!$P$2,\"\")","v":""},{"$f":"IF(Jogo!Q257=Conferência!$Q$2,Conferência!$Q$2,\"\")","v":""},""]
[{"$f":"IF(Jogo!A258=Conferência!$A$2,Conferência!$A$2,\"\")","v":""},{"$f":"IF(Jogo!B258=Conferência!$B$2,Conferência!$B$2,\"\")","v":"QUARTA-FEIRA"},{"$f":"IF(Jogo!C258=Conferência!$C$2,Conferência!$C$2,\"\")","v":1},{"$f":"IF(Jogo!D258=Conferência!$D$2,Conferência!$D$2,\"\")","v":""},{"$f":"IF(Jogo!E258=Conferência!$E$2,Conferência!$E$2,\"\")","v":""},{"$f":"IF(Jogo!F258=Conferência!$F$2,Conferência!$F$2,\"\")","v":""},{"$f":"IF(Jogo!G258=Conferência!$G$2,Conferência!$G$2,\"\")","v":""},{"$f":"IF(Jogo!H258=Conferência!$H$2,Conferência!$H$2,\"\")","v":""},{"$f":"IF(Jogo!I258=Conferência!$I$2,Conferência!$I$2,\"\")","v":""},{"$f":"IF(Jogo!J258=Conferência!$J$2,Conferência!$J$2,\"\")","v":""},{"$f":"IF(Jogo!K258=Conferência!$K$2,Conferência!$K$2,\"\")","v":""},{"$f":"IF(Jogo!L258=Conferência!$L$2,Conferência!$L$2,\"\")","v":""},{"$f":"IF(Jogo!M258=Conferência!$M$2,Conferência!$M$2,\"\")","v":""},{"$f":"IF(Jogo!N258=Conferência!$N$2,Conferência!$N$2,\"\")","v":""},{"$f":"IF(Jogo!O258=Conferência!$O$2,Conferência!$O$2,\"\")","v":""},{"$f":"IF(Jogo!P258=Conferência!$P$2,Conferência!$P$2,\"\")","v":""},{"$f":"IF(Jogo!Q258=Conferência!$Q$2,Conferência!$Q$2,\"\")","v":""},""]
[{"$f":"IF(Jogo!A259=Conferência!$A$2,Conferência!$A$2,\"\")","v":""},{"$f":"IF(Jogo!B259=Conferência!$B$2,Conferência!$B$2,\"\")","v":"QUARTA-FEIRA"},{"$f":"IF(Jogo!C259=Conferência!$C$2,Conferência!$C$2,\"\")","v":""},{"$f":"IF(Jogo!D259=Conferência!$D$2,Conferência!$D$2,\"\")","v":""},{"$f":"IF(Jogo!E259=Conferência!$E$2,Conferência!$E$2,\"\")","v":""},{"$f":"IF(Jogo!F259=Conferência!$F$2,Conferência!$F$2,\"\")","v":6},{"$f":"IF(Jogo!G259=Conferência!$G$2,Conferência!$G$2,\"\")","v":7},{"$f":"IF(Jogo!H259=Conferência!$H$2,Conferência!$H$2,\"\")","v":9},{"$f":"IF(Jogo!I259=Conferência!$I$2,Conferência!$I$2,\"\")","v":""},{"$f":"IF(Jogo!J259=Conferência!$J$2,Conferência!$J$2,\"\")","v":""},{"$f":"IF(Jogo!K259=Conferência!$K$2,Conferência!$K$2,\"\")","v":""},{"$f":"IF(Jogo!L259=Conferência!$L$2,Conferência!$L$2,\"\")","v":""},{"$f":"IF(Jogo!M259=Conferência!$M$2,Conferência!$M$2,\"\")","v":""},{"$f":"IF(Jogo!N259=Conferência!$N$2,Conferência!$N$2,\"\")","v":""},{"$f":"IF(Jogo!O259=Conferência!$O$2,Conferência!$O$2,\"\")","v":""},{"$f":"IF(Jogo!P259=Conferência!$P$2,Conferência!$P$2,\"\")","v":""},{"$f":"IF(Jogo!Q259=Conferência!$Q$2,Conferência!$Q$2,\"\")","v":""},""]
[{"$f":"IF(Jogo!A260=Conferência!$A$2,Conferência!$A$2,\"\")","v":""},{"$f":"IF(Jogo!B260=Conferência!$B$2,Conferência!$B$2,\"\")","v":"QUARTA-FEIRA"},{"$f":"IF(Jogo!C260=Conferência!$C$2,Conferência!$C$2,\"\")","v":""},{"$f":"IF(Jogo!D260=Conferência!$D$2,Conferência!$D$2,\"\")","v":""},{"$f":"IF(Jogo!E260=Conferência!$E$2,Conferência!$E$2,\"\")","v":""},{"$f":"IF(Jogo!F260=Conferência!$F$2,Conferência!$F$2,\"\")","v":""},{"$f":"IF(Jogo!G260=Conferência!$G$2,Conferência!$G$2,\"\")","v":""},{"$f":"IF(Jogo!H260=Conferência!$H$2,Conferência!$H$2,\"\")","v":""},{"$f":"IF(Jogo!I260=Conferência!$I$2,Conferência!$I$2,\"\")","v":""},{"$f":"IF(Jogo!J260=Conferência!$J$2,Conferência!$J$2,\"\")","v":""},{"$f":"IF(Jogo!K260=Conferência!$K$2,Conferência!$K$2,\"\")","v":""},{"$f":"IF(Jogo!L260=Conferência!$L$2,Conferência!$L$2,\"\")","v":""},{"$f":"IF(Jogo!M260=Conferência!$M$2,Conferência!$M$2,\"\")","v":""},{"$f":"IF(Jogo!N260=Conferência!$N$2,Conferência!$N$2,\"\")","v":""},{"$f":"IF(Jogo!O260=Conferência!$O$2,Conferência!$O$2,\"\")","v":""},{"$f":"IF(Jogo!P260=Conferência!$P$2,Conferência!$P$2,\"\")","v":23},{"$f":"IF(Jogo!Q260=Conferência!$Q$2,Conferência!$Q$2,\"\")","v":""},""]
[{"$f":"IF(Jogo!A261=Conferência!$A$2,Conferência!$A$2,\"\")","v":""},{"$f":"IF(Jogo!B261=Conferência!$B$2,Conferência!$B$2,\"\")","v":"QUARTA-FEIRA"},{"$f":"IF(Jogo!C261=Conferência!$C$2,Conferência!$C$2,\"\")","v":""},{"$f":"IF(Jogo!D261=Conferência!$D$2,Conferência!$D$2,\"\")","v":""},{"$f":"IF(Jogo!E261=Conferência!$E$2,Conferência!$E$2,\"\")","v":""},{"$f":"IF(Jogo!F261=Conferência!$F$2,Conferência!$F$2,\"\")","v":""},{"$f":"IF(Jogo!G261=Conferência!$G$2,Conferência!$G$2,\"\")","v":""},{"$f":"IF(Jogo!H261=Conferência!$H$2,Conferência!$H$2,\"\")","v":""},{"$f":"IF(Jogo!I261=Conferência!$I$2,Conferência!$I$2,\"\")","v":""},{"$f":"IF(Jogo!J261=Conferência!$J$2,Conferência!$J$2,\"\")","v":""},{"$f":"IF(Jogo!K261=Conferência!$K$2,Conferência!$K$2,\"\")","v":""},{"$f":"IF(Jogo!L261=Conferência!$L$2,Conferência!$L$2,\"\")","v":""},{"$f":"IF(Jogo!M261=Conferência!$M$2,Conferência!$M$2,\"\")","v":""},{"$f":"IF(Jogo!N261=Conferência!$N$2,Conferência!$N$2,\"\")","v":""},{"$f":"IF(Jogo!O261=Conferência!$O$2,Conferência!$O$2,\"\")","v":""},{"$f":"IF(Jogo!P261=Conferência!$P$2,Conferência!$P$2,\"\")","v":23},{"$f":"IF(Jogo!Q261=Conferência!$Q$2,Conferência!$Q$2,\"\")","v":""},""]
[{"$f":"IF(Jogo!A262=Conferência!$A$2,Conferência!$A$2,\"\")","v":""},{"$f":"IF(Jogo!B262=Conferência!$B$2,Conferência!$B$2,\"\")","v":"QUARTA-FEIRA"},{"$f":"IF(Jogo!C262=Conferência!$C$2,Conferência!$C$2,\"\")","v":""},{"$f":"IF(Jogo!D262=Conferência!$D$2,Conferência!$D$2,\"\")","v":3},{"$f":"IF(Jogo!E262=Conferência!$E$2,Conferência!$E$2,\"\")","v":4},{"$f":"IF(Jogo!F262=Conferência!$F$2,Conferência!$F$2,\"\")","v":""},{"$f":"IF(Jogo!G262=Conferência!$G$2,Conferência!$G$2,\"\")","v":7},{"$f":"IF(Jogo!H262=Conferência!$H$2,Conferência!$H$2,\"\")","v":""},{"$f":"IF(Jogo!I262=Conferência!$I$2,Conferência!$I$2,\"\")","v":10},{"$f":"IF(Jogo!J262=Conferência!$J$2,Conferência!$J$2,\"\")","v":""},{"$f":"IF(Jogo!K262=Conferência!$K$2,Conferência!$K$2,\"\")","v":""},{"$f":"IF(Jogo!L262=Conferência!$L$2,Conferência!$L$2,\"\")","v":""},{"$f":"IF(Jogo!M262=Conferência!$M$2,Conferência!$M$2,\"\")","v":""},{"$f":"IF(Jogo!N262=Conferência!$N$2,Conferência!$N$2,\"\")","v":""},{"$f":"IF(Jogo!O262=Conferência!$O$2,Conferência!$O$2,\"\")","v":19},{"$f":"IF(Jogo!P262=Conferência!$P$2,Conferência!$P$2,\"\")","v":""},{"$f":"IF(Jogo!Q262=Conferência!$Q$2,Conferência!$Q$2,\"\")","v":""},""]
[{"$f":"IF(Jogo!A263=Conferência!$A$2,Conferência!$A$2,\"\")","v":""},{"$f":"IF(Jogo!B263=Conferência!$B$2,Conferência!$B$2,\"\")","v":"QUARTA-FEIRA"},{"$f":"IF(Jogo!C263=Conferência!$C$2,Conferência!$C$2,\"\")","v":1},{"$f":"IF(Jogo!D263=Conferência!$D$2,Conferência!$D$2,\"\")","v":""},{"$f":"IF(Jogo!E263=Conferência!$E$2,Conferência!$E$2,\"\")","v":""},{"$f":"IF(Jogo!F263=Conferência!$F$2,Conferência!$F$2,\"\")","v":""},{"$f":"IF(Jogo!G263=Conferência!$G$2,Conferência!$G$2,\"\")","v":""},{"$f":"IF(Jogo!H263=Conferência!$H$2,Conferência!$H$2,\"\")","v":""},{"$f":"IF(Jogo!I263=Conferência!$I$2,Conferência!$I$2,\"\")","v":10},{"$f":"IF(Jogo!J263=Conferência!$J$2,Conferência!$J$2,\"\")","v":""},{"$f":"IF(Jogo!K263=Conferência!$K$2,Conferência!$K$2,\"\")","v":""},{"$f":"IF(Jogo!L263=Conferência!$L$2,Conferência!$L$2,\"\")","v":""},{"$f":"IF(Jogo!M263=Conferência!$M$2,Conferência!$M$2,\"\")","v":""},{"$f":"IF(Jogo!N263=Conferência!$N$2,Conferência!$N$2,\"\")","v":""},{"$f":"IF(Jogo!O263=Conferência!$O$2,Conferência!$O$2,\"\")","v":""},{"$f":"IF(Jogo!P263=Conferência!$P$2,Conferência!$P$2,\"\")","v":""},{"$f":"IF(Jogo!Q263=Conferência!$Q$2,Conferência!$Q$2,\"\")","v":""},""]
[{"$f":"IF(Jogo!A264=Conferência!$A$2,Conferência!$A$2,\"\")","v":""},{"$f":"IF(Jogo!B264=Conferência!$B$2,Conferência!$B$2,\"\")","v":"QUARTA-FEIRA"},{"$f":"IF(Jogo!C264=Conferência!$C$2,Conferência!$C$2,\"\")","v":""},{"$f":"IF(Jogo!D264=Conferência!$D$2,Conferência!$D$2,\"\")","v":""},{"$f":"IF(Jogo!E264=Conferência!$E$2,Conferência!$E$2,\"\")","v":""},{"$f":"IF(Jogo!F264=Conferência!$F$2,Conferência!$F$2,\"\")","v":""},{"$f":"IF(Jogo!G264=Conferência!$G$2,Conferência!$G$2,\"\")","v":""},{"$f":"IF(Jogo!H264=Conferência!$H$2,Conferência!$H$2,\"\")","v":""},{"$f":"IF(Jogo!I264=Conferência!$I$2,Conferência!$I$2,\"\")","v":""},{"$f":"IF(Jogo!J264=Conferência!$J$2,Conferência!$J$2,\"\")","v":""},{"$f":"IF(Jogo!K264=Conferência!$K$2,Conferência!$K$2,\"\")","v":""},{"$f":"IF(Jogo!L264=Conferência!$L$2,Conferência!$L$2,\"\")","v":""},{"$f":"IF(Jogo!M264=Conferência!$M$2,Conferência!$M$2,\"\")","v":""},{"$f":"IF(Jogo!N264=Conferência!$N$2,Conferência!$N$2,\"\")","v":""},{"$f":"IF(Jogo!O264=Conferência!$O$2,Conferência!$O$2,\"\")","v":""},{"$f":"IF(Jogo!P264=Conferência!$P$2,Conferência!$P$2,\"\")","v":""},{"$f":"IF(Jogo!Q264=Conferência!$Q$2,Conferência!$Q$2,\"\")","v":""},""]
[{"$f":"IF(Jogo!A265=Conferência!$A$2,Conferência!$A$2,\"\")","v":""},{"$f":"IF(Jogo!B265=Conferência!$B$2,Conferência!$B$2,\"\")","v":"QUARTA-FEIRA"},{"$f":"IF(Jogo!C265=Conferência!$C$2,Conferência!$C$2,\"\")","v":1},{"$f":"IF(Jogo!D265=Conferência!$D$2,Conferência!$D$2,\"\")","v":""},{"$f":"IF(Jogo!E265=Conferência!$E$2,Conferência!$E$2,\"\")","v":""},{"$f":"IF(Jogo!F265=Conferência!$F$2,Conferência!$F$2,\"\")","v":""},{"$f":"IF(Jogo!G265=Conferência!$G$2,Conferência!$G$2,\"\")","v":""},{"$f":"IF(Jogo!H265=Conferência!$H$2,Conferência!$H$2,\"\")","v":""},{"$f":"IF(Jogo!I265=Conferência!$I$2,Conferência!$I$2,\"\")","v":""},{"$f":"IF(Jogo!J265=Conferência!$J$2,Conferência!$J$2,\"\")","v":""},{"$f":"IF(Jogo!K265=Conferência!$K$2,Conferência!$K$2,\"\")","v":""},{"$f":"IF(Jogo!L265=Conferência!$L$2,Conferência!$L$2,\"\")","v":""},{"$f":"IF(Jogo!M265=Conferência!$M$2,Conferência!$M$2,\"\")","v":""},{"$f":"IF(Jogo!N265=Conferência!$N$2,Conferência!$N$2,\"\")","v":""},{"$f":"IF(Jogo!O265=Conferência!$O$2,Conferência!$O$2,\"\")","v":""},{"$f":"IF(Jogo!P265=Conferência!$P$2,Conferência!$P$2,\"\")","v":""},{"$f":"IF(Jogo!Q265=Conferência!$Q$2,Conferência!$Q$2,\"\")","v":""},""]
[{"$f":"IF(Jogo!A266=Conferência!$A$2,Conferência!$A$2,\"\")","v":""},{"$f":"IF(Jogo!B266=Conferência!$B$2,Conferência!$B$2,\"\")","v":"QUARTA-FEIRA"},{"$f":"IF(Jogo!C266=Conferência!$C$2,Conferência!$C$2,\"\")","v":1},{"$f":"IF(Jogo!D266=Conferência!$D$2,Conferência!$D$2,\"\")","v":""},{"$f":"IF(Jogo!E266=Conferência!$E$2,Conferência!$E$2,\"\")","v":""},{"$f":"IF(Jogo!F266=Conferência!$F$2,Conferência!$F$2,\"\")","v":""},{"$f":"IF(Jogo!G266=Conferência!$G$2,Conferência!$G$2,\"\")","v":""},{"$f":"IF(Jogo!H266=Conferência!$H$2,Conferência!$H$2,\"\")","v":""},{"$f":"IF(Jogo!I266=Conferência!$I$2,Conferência!$I$2,\"\")","v":""},{"$f":"IF(Jogo!J266=Conferência!$J$2,Conferência!$J$2,\"\")","v":""},{"$f":"IF(Jogo!K266=Conferência!$K$2,Conferência!$K$2,\"\")","v":""},{"$f":"IF(Jogo!L266=Conferência!$L$2,Conferência!$L$2,\"\")","v":""},{"$f":"IF(Jogo!M266=Conferência!$M$2,Conferência!$M$2,\"\")","v":""},{"$f":"IF(Jogo!N266=Conferência!$N$2,Conferência!$N$2,\"\")","v":""},{"$f":"IF(Jogo!O266=Conferência!$O$2,Conferência!$O$2,\"\")","v":""},{"$f":"IF(Jogo!P266=Conferência!$P$2,Conferência!$P$2,\"\")","v":""},{"$f":"IF(Jogo!Q266=Conferência!$Q$2,Conferência!$Q$2,\"\")","v":""},""]
[{"$f":"IF(Jogo!A267=Conferência!$A$2,Conferência!$A$2,\"\")","v":""},{"$f":"IF(Jogo!B267=Conferência!$B$2,Conferência!$B$2,\"\")","v":"QUARTA-FEIRA"},{"$f":"IF(Jogo!C267=Conferência!$C$2,Conferência!$C$2,\"\")","v":""},{"$f":"IF(Jogo!D267=Conferência!$D$2,Conferência!$D$2,\"\")","v":""},{"$f":"IF(Jogo!E267=Conferência!$E$2,Conferência!$E$2,\"\")","v":""},{"$f":"IF(Jogo!F267=Conferência!$F$2,Conferência!$F$2,\"\")","v":""},{"$f":"IF(Jogo!G267=Conferência!$G$2,Conferência!$G$2,\"\")","v":""},{"$f":"IF(Jogo!H267=Conferência!$H$2,Conferência!$H$2,\"\")","v":""},{"$f":"IF(Jogo!I267=Conferência!$I$2,Conferência!$I$2,\"\")","v":""},{"$f":"IF(Jogo!J267=Conferência!$J$2,Conferência!$J$2,\"\")","v":""},{"$f":"IF(Jogo!K267=Conferência!$K$2,Conferência!$K$2,\"\")","v":""},{"$f":"IF(Jogo!L267=Conferência!$L$2,Conferência!$L$2,\"\")","v":""},{"$f":"IF(Jogo!M267=Conferência!$M$2,Conferência!$M$2,\"\")","v":""},{"$f":"IF(Jogo!N267=Conferência!$N$2,Conferência!$N$2,\"\")","v":""},{"$f":"IF(Jogo!O267=Conferência!$O$2,Conferência!$O$2,\"\")","v":""},{"$f":"IF(Jogo!P267=Conferência!$P$2,Conferência!$P$2,\"\")","v":""},{"$f":"IF(Jogo!Q267=Conferência!$Q$2,Conferência!$Q$2,\"\")","v":24},""]
[{"$f":"IF(Jogo!A268=Conferência!$A$2,Conferência!$A$2,\"\")","v":""},{"$f":"IF(Jogo!B268=Conferência!$B$2,Conferência!$B$2,\"\")","v":"QUARTA-FEIRA"},{"$f":"IF(Jogo!C268=Conferência!$C$2,Conferência!$C$2,\"\")","v":1},{"$f":"IF(Jogo!D268=Conferência!$D$2,Conferência!$D$2,\"\")","v":""},{"$f":"IF(Jogo!E268=Conferência!$E$2,Conferência!$E$2,\"\")","v":""},{"$f":"IF(Jogo!F268=Conferência!$F$2,Conferência!$F$2,\"\")","v":6},{"$f":"IF(Jogo!G268=Conferência!$G$2,Conferência!$G$2,\"\")","v":7},{"$f":"IF(Jogo!H268=Conferência!$H$2,Conferência!$H$2,\"\")","v":""},{"$f":"IF(Jogo!I268=Conferência!$I$2,Conferência!$I$2,\"\")","v":""},{"$f":"IF(Jogo!J268=Conferência!$J$2,Conferência!$J$2,\"\")","v":""},{"$f":"IF(Jogo!K268=Conferência!$K$2,Conferência!$K$2,\"\")","v":""},{"$f":"IF(Jogo!L268=Conferência!$L$2,Conferência!$L$2,\"\")","v":""},{"$f":"IF(Jogo!M268=Conferência!$M$2,Conferência!$M$2,\"\")","v":""},{"$f":"IF(Jogo!N268=Conferência!$N$2,Conferência!$N$2,\"\")","v":""},{"$f":"IF(Jogo!O268=Conferência!$O$2,Conferência!$O$2,\"\")","v":19},{"$f":"IF(Jogo!P268=Conferência!$P$2,Conferência!$P$2,\"\")","v":""},{"$f":"IF(Jogo!Q268=Conferência!$Q$2,Conferência!$Q$2,\"\")","v":24},""]
[{"$f":"IF(Jogo!A269=Conferência!$A$2,Conferência!$A$2,\"\")","v":""},{"$f":"IF(Jogo!B269=Conferência!$B$2,Conferência!$B$2,\"\")","v":"QUARTA-FEIRA"},{"$f":"IF(Jogo!C269=Conferência!$C$2,Conferência!$C$2,\"\")","v":""},{"$f":"IF(Jogo!D269=Conferência!$D$2,Conferência!$D$2,\"\")","v":3},{"$f":"IF(Jogo!E269=Conferência!$E$2,Conferência!$E$2,\"\")","v":4},{"$f":"IF(Jogo!F269=Conferência!$F$2,Conferência!$F$2,\"\")","v":6},{"$f":"IF(Jogo!G269=Conferência!$G$2,Conferência!$G$2,\"\")","v":""},{"$f":"IF(Jogo!H269=Conferência!$H$2,Conferência!$H$2,\"\")","v":""},{"$f":"IF(Jogo!I269=Conferência!$I$2,Conferência!$I$2,\"\")","v":""},{"$f":"IF(Jogo!J269=Conferência!$J$2,Conferência!$J$2,\"\")","v":""},{"$f":"IF(Jogo!K269=Conferência!$K$2,Conferência!$K$2,\"\")","v":""},{"$f":"IF(Jogo!L269=Conferência!$L$2,Conferência!$L$2,\"\")","v":""},{"$f":"IF(Jogo!M269=Conferência!$M$2,Conferência!$M$2,\"\")","v":""},{"$f":"IF(Jogo!N269=Conferência!$N$2,Conferência!$N$2,\"\")","v":""},{"$f":"IF(Jogo!O269=Conferência!$O$2,Conferência!$O$2,\"\")","v":""},{"$f":"IF(Jogo!P269=Conferência!$P$2,Conferência!$P$2,\"\")","v":""},{"$f":"IF(Jogo!Q269=Conferência!$Q$2,Conferência!$Q$2,\"\")","v":24},""]
[{"$f":"IF(Jogo!A270=Conferência!$A$2,Conferência!$A$2,\"\")","v":""},{"$f":"IF(Jogo!B270=Conferência!$B$2,Conferência!$B$2,\"\")","v":"QUARTA-FEIRA"},{"$f":"IF(Jogo!C270=Conferência!$C$2,Conferência!$C$2,\"\")","v":1},{"$f":"IF(Jogo!D270=Conferência!$D$2,Conferência!$D$2,\"\")","v":""},{"$f":"IF(Jogo!E270=Conferência!$E$2,Conferência!$E$2,\"\")","v":""},{"$f":"IF(Jogo!F270=Conferência!$F$2,Conferência!$F$2,\"\")","v":""},{"$f":"IF(Jogo!G270=Conferência!$G$2,Conferência!$G$2,\"\")","v":""},{"$f":"IF(Jogo!H270=Conferência!$H$2,Conferência!$H$2,\"\")","v":9},{"$f":"IF(Jogo!I270=Conferência!$I$2,Conferência!$I$2,\"\")","v":""},{"$f":"IF(Jogo!J270=Conferência!$J$2,Conferência!$J$2,\"\")","v":""},{"$f":"IF(Jogo!K270=Conferência!$K$2,Conferência!$K$2,\"\")","v":""},{"$f":"IF(Jogo!L270=Conferência!$L$2,Conferência!$L$2,\"\")","v":""},{"$f":"IF(Jogo!M270=Conferência!$M$2,Conferência!$M$2,\"\")","v":""},{"$f":"IF(Jogo!N270=Conferência!$N$2,Conferência!$N$2,\"\")","v":""},{"$f":"IF(Jogo!O270=Conferência!$O$2,Conferência!$O$2,\"\")","v":19},{"$f":"IF(Jogo!P270=Conferência!$P$2,Conferência!$P$2,\"\")","v":""},{"$f":"IF(Jogo!Q270=Conferência!$Q$2,Conferência!$Q$2,\"\")","v":""},""]
[{"$f":"IF(Jogo!A271=Conferência!$A$2,Conferência!$A$2,\"\")","v":""},{"$f":"IF(Jogo!B271=Conferência!$B$2,Conferência!$B$2,\"\")","v":"QUARTA-FEIRA"},{"$f":"IF(Jogo!C271=Conferência!$C$2,Conferência!$C$2,\"\")","v":""},{"$f":"IF(Jogo!D271=Conferência!$D$2,Conferência!$D$2,\"\")","v":3},{"$f":"IF(Jogo!E271=Conferência!$E$2,Conferência!$E$2,\"\")","v":4},{"$f":"IF(Jogo!F271=Conferência!$F$2,Conferência!$F$2,\"\")","v":""},{"$f":"IF(Jogo!G271=Conferência!$G$2,Conferência!$G$2,\"\")","v":7},{"$f":"IF(Jogo!H271=Conferência!$H$2,Conferência!$H$2,\"\")","v":""},{"$f":"IF(Jogo!I271=Conferência!$I$2,Conferência!$I$2,\"\")","v":""},{"$f":"IF(Jogo!J271=Conferência!$J$2,Conferência!$J$2,\"\")","v":""},{"$f":"IF(Jogo!K271=Conferência!$K$2,Conferência!$K$2,\"\")","v":""},{"$f":"IF(Jogo!L271=Conferência!$L$2,Conferência!$L$2,\"\")","v":""},{"$f":"IF(Jogo!M271=Conferência!$M$2,Conferência!$M$2,\"\")","v":""},{"$f":"IF(Jogo!N271=Conferência!$N$2,Conferência!$N$2,\"\")","v":""},{"$f":"IF(Jogo!O271=Conferência!$O$2,Conferência!$O$2,\"\")","v":""},{"$f":"IF(Jogo!P271=Conferência!$P$2,Conferência!$P$2,\"\")","v":""},{"$f":"IF(Jogo!Q271=Conferência!$Q$2,Conferência!$Q$2,\"\")","v":""},""]
[{"$f":"IF(Jogo!A272=Conferência!$A$2,Conferência!$A$2,\"\")","v":""},{"$f":"IF(Jogo!B272=Conferência!$B$2,Conferência!$B$2,\"\")","v":"QUARTA-FEIRA"},{"$f":"IF(Jogo!C272=Conferência!$C$2,Conferência!$C$2,\"\")","v":1},{"$f":"IF(Jogo!D272=Conferência!$D$2,Conferência!$D$2,\"\")","v":""},{"$f":"IF(Jogo!E272=Conferência!$E$2,Conferência!$E$2,\"\")","v":""},{"$f":"IF(Jogo!F272=Conferência!$F$2,Conferência!$F$2,\"\")","v":""},{"$f":"IF(Jogo!G272=Conferência!$G$2,Conferência!$G$2,\"\")","v":""},{"$f":"IF(Jogo!H272=Conferência!$H$2,Conferência!$H$2,\"\")","v":""},{"$f":"IF(Jogo!I272=Conferência!$I$2,Conferência!$I$2,\"\")","v":""},{"$f":"IF(Jogo!J272=Conferência!$J$2,Conferência!$J$2,\"\")","v":""},{"$f":"IF(Jogo!K272=Conferência!$K$2,Conferência!$K$2,\"\")","v":""},{"$f":"IF(Jogo!L272=Conferência!$L$2,Conferência!$L$2,\"\")","v":""},{"$f":"IF(Jogo!M272=Conferência!$M$2,Conferência!$M$2,\"\")","v":""},{"$f":"IF(Jogo!N272=Conferência!$N$2,Conferência!$N$2,\"\")","v":""},{"$f":"IF(Jogo!O272=Conferência!$O$2,Conferência!$O$2,\"\")","v":""},{"$f":"IF(Jogo!P272=Conferência!$P$2,Conferência!$P$2,\"\")","v":23},{"$f":"IF(Jogo!Q272=Conferência!$Q$2,Conferência!$Q$2,\"\")","v":24},""]
[{"$f":"IF(Jogo!A273=Conferência!$A$2,Conferência!$A$2,\"\")","v":""},{"$f":"IF(Jogo!B273=Conferência!$B$2,Conferência!$B$2,\"\")","v":"QUARTA-FEIRA"},{"$f":"IF(Jogo!C273=Conferência!$C$2,Conferência!$C$2,\"\")","v":1},{"$f":"IF(Jogo!D273=Conferência!$D$2,Conferência!$D$2,\"\")","v":3},{"$f":"IF(Jogo!E273=Conferência!$E$2,Conferência!$E$2,\"\")","v":""},{"$f":"IF(Jogo!F273=Conferência!$F$2,Conferência!$F$2,\"\")","v":6},{"$f":"IF(Jogo!G273=Conferência!$G$2,Conferência!$G$2,\"\")","v":7},{"$f":"IF(Jogo!H273=Conferência!$H$2,Conferência!$H$2,\"\")","v":""},{"$f":"IF(Jogo!I273=Conferência!$I$2,Conferência!$I$2,\"\")","v":""},{"$f":"IF(Jogo!J273=Conferência!$J$2,Conferência!$J$2,\"\")","v":""},{"$f":"IF(Jogo!K273=Conferência!$K$2,Conferência!$K$2,\"\")","v":""},{"$f":"IF(Jogo!L273=Conferência!$L$2,Conferência!$L$2,\"\")","v":""},{"$f":"IF(Jogo!M273=Conferência!$M$2,Conferência!$M$2,\"\")","v":""},{"$f":"IF(Jogo!N273=Conferência!$N$2,Conferência!$N$2,\"\")","v":""},{"$f":"IF(Jogo!O273=Conferência!$O$2,Conferência!$O$2,\"\")","v":""},{"$f":"IF(Jogo!P273=Conferência!$P$2,Conferência!$P$2,\"\")","v":""},{"$f":"IF(Jogo!Q273=Conferência!$Q$2,Conferência!$Q$2,\"\")","v":""},""]
[{"$f":"IF(Jogo!A274=Conferência!$A$2,Conferência!$A$2,\"\")","v":""},{"$f":"IF(Jogo!B274=Conferência!$B$2,Conferência!$B$2,\"\")","v":"QUARTA-FEIRA"},{"$f":"IF(Jogo!C274=Conferência!$C$2,Conferência!$C$2,\"\")","v":1},{"$f":"IF(Jogo!D274=Conferência!$D$2,Conferência!$D$2,\"\")","v":""},{"$f":"IF(Jogo!E274=Conferência!$E$2,Conferência!$E$2,\"\")","v":""},{"$f":"IF(Jogo!F274=Conferência!$F$2,Conferência!$F$2,\"\")","v":""},{"$f":"IF(Jogo!G274=Conferência!$G$2,Conferência!$G$2,\"\")","v":""},{"$f":"IF(Jogo!H274=Conferência!$H$2,Conferência!$H$2,\"\")","v":""},{"$f":"IF(Jogo!I274=Conferência!$I$2,Conferência!$I$2,\"\")","v":""},{"$f":"IF(Jogo!J274=Conferência!$J$2,Conferência!$J$2,\"\")","v":""},{"$f":"IF(Jogo!K274=Conferência!$K$2,Conferência!$K$2,\"\")","v":""},{"$f":"IF(Jogo!L274=Conferência!$L$2,Conferência!$L$2,\"\")","v":""},{"$f":"IF(Jogo!M274=Conferência!$M$2,Conferência!$M$2,\"\")","v":""},{"$f":"IF(Jogo!N274=Conferência!$N$2,Conferência!$N$2,\"\")","v":""},{"$f":"IF(Jogo!O274=Conferência!$O$2,Conferência!$O$2,\"\")","v":""},{"$f":"IF(Jogo!P274=Conferência!$P$2,Conferência!$P$2,\"\")","v":""},{"$f":"IF(Jogo!Q274=Conferência!$Q$2,Conferência!$Q$2,\"\")","v":""},{"$f":"IF(A274=\"\",\"\",\"OK\")","v":""}]
[{"$f":"IF(Jogo!A275=Conferência!$A$2,Conferência!$A$2,\"\")","v":""},{"$f":"IF(Jogo!B275=Conferência!$B$2,Conferência!$B$2,\"\")","v":"QUARTA-FEIRA"},{"$f":"IF(Jogo!C275=Conferência!$C$2,Conferência!$C$2,\"\")","v":""},{"$f":"IF(Jogo!D275=Conferência!$D$2,Conferência!$D$2,\"\")","v":""},{"$f":"IF(Jogo!E275=Conferência!$E$2,Conferência!$E$2,\"\")","v":""},{"$f":"IF(Jogo!F275=Conferência!$F$2,Conferência!$F$2,\"\")","v":""},{"$f":"IF(Jogo!G275=Conferência!$G$2,Conferência!$G$2,\"\")","v":""},{"$f":"IF(Jogo!H275=Conferência!$H$2,Conferência!$H$2,\"\")","v":""},{"$f":"IF(Jogo!I275=Conferência!$I$2,Conferência!$I$2,\"\")","v":""},{"$f":"IF(Jogo!J275=Conferência!$J$2,Conferência!$J$2,\"\")","v":""},{"$f":"IF(Jogo!K275=Conferência!$K$2,Conferência!$K$2,\"\")","v":""},{"$f":"IF(Jogo!L275=Conferência!$L$2,Conferência!$L$2,\"\")","v":""},{"$f":"IF(Jogo!M275=Conferência!$M$2,Conferência!$M$2,\"\")","v":""},{"$f":"IF(Jogo!N275=Conferência!$N$2,Conferência!$N$2,\"\")","v":""},{"$f":"IF(Jogo!O275=Conferência!$O$2,Conferência!$O$2,\"\")","v":""},{"$f":"IF(Jogo!P275=Conferência!$P$2,Conferência!$P$2,\"\")","v":23},{"$f":"IF(Jogo!Q275=Conferência!$Q$2,Conferência!$Q$2,\"\")","v":24},""]
[{"$f":"IF(Jogo!A276=Conferência!$A$2,Conferência!$A$2,\"\")","v":""},{"$f":"IF(Jogo!B276=Conferência!$B$2,Conferência!$B$2,\"\")","v":"QUARTA-FEIRA"},{"$f":"IF(Jogo!C276=Conferência!$C$2,Conferência!$C$2,\"\")","v":1},{"$f":"IF(Jogo!D276=Conferência!$D$2,Conferência!$D$2,\"\")","v":3},{"$f":"IF(Jogo!E276=Conferência!$E$2,Conferência!$E$2,\"\")","v":4},{"$f":"IF(Jogo!F276=Conferência!$F$2,Conferência!$F$2,\"\")","v":6},{"$f":"IF(Jogo!G276=Conferência!$G$2,Conferência!$G$2,\"\")","v":7},{"$f":"IF(Jogo!H276=Conferência!$H$2,Conferência!$H$2,\"\")","v":""},{"$f":"IF(Jogo!I276=Conferência!$I$2,Conferência!$I$2,\"\")","v":""},{"$f":"IF(Jogo!J276=Conferência!$J$2,Conferência!$J$2,\"\")","v":""},{"$f":"IF(Jogo!K276=Conferência!$K$2,Conferência!$K$2,\"\")","v":""},{"$f":"IF(Jogo!L276=Conferência!$L$2,Conferência!$L$2,\"\")","v":""},{"$f":"IF(Jogo!M276=Conferência!$M$2,Conferência!$M$2,\"\")","v":""},{"$f":"IF(Jogo!N276=Conferência!$N$2,Conferência!$N$2,\"\")","v":""},{"$f":"IF(Jogo!O276=Conferência!$O$2,Conferência!$O$2,\"\")","v":""},{"$f":"IF(Jogo!P276=Conferência!$P$2,Conferência!$P$2,\"\")","v":""},{"$f":"IF(Jogo!Q276=Conferência!$Q$2,Conferência!$Q$2,\"\")","v":24},""]
[{"$f":"IF(Jogo!A277=Conferência!$A$2,Conferência!$A$2,\"\")","v":""},{"$f":"IF(Jogo!B277=Conferência!$B$2,Conferência!$B$2,\"\")","v":"QUARTA-FEIRA"},{"$f":"IF(Jogo!C277=Conferência!$C$2,Conferência!$C$2,\"\")","v":1},{"$f":"IF(Jogo!D277=Conferência!$D$2,Conferência!$D$2,\"\")","v":3},{"$f":"IF(Jogo!E277=Conferência!$E$2,Conferência!$E$2,\"\")","v":""},{"$f":"IF(Jogo!F277=Conferência!$F$2,Conferência!$F$2,\"\")","v":6},{"$f":"IF(Jogo!G277=Conferência!$G$2,Conferência!$G$2,\"\")","v":7},{"$f":"IF(Jogo!H277=Conferência!$H$2,Conferência!$H$2,\"\")","v":""},{"$f":"IF(Jogo!I277=Conferência!$I$2,Conferência!$I$2,\"\")","v":""},{"$f":"IF(Jogo!J277=Conferência!$J$2,Conferência!$J$2,\"\")","v":""},{"$f":"IF(Jogo!K277=Conferência!$K$2,Conferência!$K$2,\"\")","v":""},{"$f":"IF(Jogo!L277=Conferência!$L$2,Conferência!$L$2,\"\")","v":""},{"$f":"IF(Jogo!M277=Conferência!$M$2,Conferência!$M$2,\"\")","v":""},{"$f":"IF(Jogo!N277=Conferência!$N$2,Conferência!$N$2,\"\")","v":""},{"$f":"IF(Jogo!O277=Conferência!$O$2,Conferência!$O$2,\"\")","v":""},{"$f":"IF(Jogo!P277=Conferência!$P$2,Conferência!$P$2,\"\")","v":23},{"$f":"IF(Jogo!Q277=Conferência!$Q$2,Conferência!$Q$2,\"\")","v":""},""]
[{"$f":"IF(Jogo!A278=Conferência!$A$2,Conferência!$A$2,\"\")","v":""},{"$f":"IF(Jogo!B278=Conferência!$B$2,Conferência!$B$2,\"\")","v":"QUARTA-FEIRA"},{"$f":"IF(Jogo!C278=Conferência!$C$2,Conferência!$C$2,\"\")","v":1},{"$f":"IF(Jogo!D278=Conferência!$D$2,Conferência!$D$2,\"\")","v":3},{"$f":"IF(Jogo!E278=Conferência!$E$2,Conferência!$E$2,\"\")","v":4},{"$f":"IF(Jogo!F278=Conferência!$F$2,Conferência!$F$2,\"\")","v":""},{"$f":"IF(Jogo!G278=Conferência!$G$2,Conferência!$G$2,\"\")","v":""},{"$f":"IF(Jogo!H278=Conferência!$H$2,Conferência!$H$2,\"\")","v":""},{"$f":"IF(Jogo!I278=Conferência!$I$2,Conferência!$I$2,\"\")","v":""},{"$f":"IF(Jogo!J278=Conferência!$J$2,Conferência!$J$2,\"\")","v":""},{"$f":"IF(Jogo!K278=Conferência!$K$2,Conferência!$K$2,\"\")","v":""},{"$f":"IF(Jogo!L278=Conferência!$L$2,Conferência!$L$2,\"\")","v":""},{"$f":"IF(Jogo!M278=Conferência!$M$2,Conferência!$M$2,\"\")","v":""},{"$f":"IF(Jogo!N278=Conferência!$N$2,Conferência!$N$2,\"\")","v":""},{"$f":"IF(Jogo!O278=Conferência!$O$2,Conferência!$O$2,\"\")","v":""},{"$f":"IF(Jogo!P278=Conferência!$P$2,Conferência!$P$2,\"\")","v":""},{"$f":"IF(Jogo!Q278=Conferência!$Q$2,Conferência!$Q$2,\"\")","v":""},""]
[{"$f":"IF(Jogo!A279=Conferência!$A$2,Conferência!$A$2,\"\")","v":""},{"$f":"IF(Jogo!B279=Conferência!$B$2,Conferência!$B$2,\"\")","v":"QUARTA-FEIRA"},{"$f":"IF(Jogo!C279=Conferência!$C$2,Conferência!$C$2,\"\")","v":""},{"$f":"IF(Jogo!D279=Conferência!$D$2,Conferência!$D$2,\"\")","v":3},{"$f":"IF(Jogo!E279=Conferência!$E$2,Conferência!$E$2,\"\")","v":""},{"$f":"IF(Jogo!F279=Conferência!$F$2,Conferência!$F$2,\"\")","v":""},{"$f":"IF(Jogo!G279=Conferência!$G$2,Conferência!$G$2,\"\")","v":""},{"$f":"IF(Jogo!H279=Conferência!$H$2,Conferência!$H$2,\"\")","v":""},{"$f":"IF(Jogo!I279=Conferência!$I$2,Conferência!$I$2,\"\")","v":""},{"$f":"IF(Jogo!J279=Conferência!$J$2,Conferência!$J$2,\"\")","v":""},{"$f":"IF(Jogo!K279=Conferência!$K$2,Conferência!$K$2,\"\")","v":""},{"$f":"IF(Jogo!L279=Conferência!$L$2,Conferência!$L$2,\"\")","v":""},{"$f":"IF(Jogo!M279=Conferência!$M$2,Conferência!$M$2,\"\")","v":""},{"$f":"IF(Jogo!N279=Conferência!$N$2,Conferência!$N$2,\"\")","v":""},{"$f":"IF(Jogo!O279=Conferência!$O$2,Conferência!$O$2,\"\")","v":""},{"$f":"IF(Jogo!P279=Conferência!$P$2,Conferência!$P$2,\"\")","v":""},{"$f":"IF(Jogo!Q279=Conferência!$Q$2,Conferência!$Q$2,\"\")","v":24},""]
[{"$f":"IF(Jogo!A280=Conferência!$A$2,Conferência!$A$2,\"\")","v":""},{"$f":"IF(Jogo!B280=Conferência!$B$2,Conferência!$B$2,\"\")","v":"QUARTA-FEIRA"},{"$f":"IF(Jogo!C280=Conferência!$C$2,Conferência!$C$2,\"\")","v":""},{"$f":"IF(Jogo!D280=Conferência!$D$2,Conferência!$D$2,\"\")","v":""},{"$f":"IF(Jogo!E280=Conferência!$E$2,Conferência!$E$2,\"\")","v":""},{"$f":"IF(Jogo!F280=Conferência!$F$2,Conferência!$F$2,\"\")","v":""},{"$f":"IF(Jogo!G280=Conferência!$G$2,Conferência!$G$2,\"\")","v":""},{"$f":"IF(Jogo!H280=Conferência!$H$2,Conferência!$H$2,\"\")","v":""},{"$f":"IF(Jogo!I280=Conferência!$I$2,Conferência!$I$2,\"\")","v":""},{"$f":"IF(Jogo!J280=Conferência!$J$2,Conferência!$J$2,\"\")","v":""},{"$f":"IF(Jogo!K280=Conferência!$K$2,Conferência!$K$2,\"\")","v":""},{"$f":"IF(Jogo!L280=Conferência!$L$2,Conferência!$L$2,\"\")","v":""},{"$f":"IF(Jogo!M280=Conferência!$M$2,Conferência!$M$2,\"\")","v":""},{"$f":"IF(Jogo!N280=Conferência!$N$2,Conferência!$N$2,\"\")","v":""},{"$f":"IF(Jogo!O280=Conferência!$O$2,Conferência!$O$2,\"\")","v":""},{"$f":"IF(Jogo!P280=Conferência!$P$2,Conferência!$P$2,\"\")","v":""},{"$f":"IF(Jogo!Q280=Conferência!$Q$2,Conferência!$Q$2,\"\")","v":""},""]
[{"$f":"IF(Jogo!A281=Conferência!$A$2,Conferência!$A$2,\"\")","v":""},{"$f":"IF(Jogo!B281=Conferência!$B$2,Conferência!$B$2,\"\")","v":"QUARTA-FEIRA"},{"$f":"IF(Jogo!C281=Conferência!$C$2,Conferência!$C$2,\"\")","v":""},{"$f":"IF(Jogo!D281=Conferência!$D$2,Conferência!$D$2,\"\")","v":3},{"$f":"IF(Jogo!E281=Conferência!$E$2,Conferência!$E$2,\"\")","v":4},{"$f":"IF(Jogo!F281=Conferência!$F$2,Conferência!$F$2,\"\")","v":""},{"$f":"IF(Jogo!G281=Conferência!$G$2,Conferência!$G$2,\"\")","v":""},{"$f":"IF(Jogo!H281=Conferência!$H$2,Conferência!$H$2,\"\")","v":""},{"$f":"IF(Jogo!I281=Conferência!$I$2,Conferência!$I$2,\"\")","v":""},{"$f":"IF(Jogo!J281=Conferência!$J$2,Conferência!$J$2,\"\")","v":""},{"$f":"IF(Jogo!K281=Conferência!$K$2,Conferência!$K$2,\"\")","v":""},{"$f":"IF(Jogo!L281=Conferência!$L$2,Conferência!$L$2,\"\")","v":""},{"$f":"IF(Jogo!M281=Conferência!$M$2,Conferência!$M$2,\"\")","v":""},{"$f":"IF(Jogo!N281=Conferência!$N$2,Conferência!$N$2,\"\")","v":""},{"$f":"IF(Jogo!O281=Conferência!$O$2,Conferência!$O$2,\"\")","v":""},{"$f":"IF(Jogo!P281=Conferência!$P$2,Conferência!$P$2,\"\")","v":""},{"$f":"IF(Jogo!Q281=Conferência!$Q$2,Conferência!$Q$2,\"\")","v":""},""]
[{"$f":"IF(Jogo!A282=Conferência!$A$2,Conferência!$A$2,\"\")","v":""},{"$f":"IF(Jogo!B282=Conferência!$B$2,Conferência!$B$2,\"\")","v":"QUARTA-FEIRA"},{"$f":"IF(Jogo!C282=Conferência!$C$2,Conferência!$C$2,\"\")","v":1},{"$f":"IF(Jogo!D282=Conferência!$D$2,Conferência!$D$2,\"\")","v":3},{"$f":"IF(Jogo!E282=Conferência!$E$2,Conferência!$E$2,\"\")","v":""},{"$f":"IF(Jogo!F282=Conferência!$F$2,Conferência!$F$2,\"\")","v":""},{"$f":"IF(Jogo!G282=Conferência!$G$2,Conferência!$G$2,\"\")","v":""},{"$f":"IF(Jogo!H282=Conferência!$H$2,Conferência!$H$2,\"\")","v":""},{"$f":"IF(Jogo!I282=Conferência!$I$2,Conferência!$I$2,\"\")","v":""},{"$f":"IF(Jogo!J282=Conferência!$J$2,Conferência!$J$2,\"\")","v":""},{"$f":"IF(Jogo!K282=Conferência!$K$2,Conferência!$K$2,\"\")","v":""},{"$f":"IF(Jogo!L282=Conferência!$L$2,Conferência!$L$2,\"\")","v":""},{"$f":"IF(Jogo!M282=Conferência!$M$2,Conferência!$M$2,\"\")","v":""},{"$f":"IF(Jogo!N282=Conferência!$N$2,Conferência!$N$2,\"\")","v":""},{"$f":"IF(Jogo!O282=Conferência!$O$2,Conferência!$O$2,\"\")","v":""},{"$f":"IF(Jogo!P282=Conferência!$P$2,Conferência!$P$2,\"\")","v":23},{"$f":"IF(Jogo!Q282=Conferência!$Q$2,Conferência!$Q$2,\"\")","v":""},""]
[{"$f":"IF(Jogo!A283=Conferência!$A$2,Conferência!$A$2,\"\")","v":""},{"$f":"IF(Jogo!B283=Conferência!$B$2,Conferência!$B$2,\"\")","v":"QUARTA-FEIRA"},{"$f":"IF(Jogo!C283=Conferência!$C$2,Conferência!$C$2,\"\")","v":1},{"$f":"IF(Jogo!D283=Conferência!$D$2,Conferência!$D$2,\"\")","v":3},{"$f":"IF(Jogo!E283=Conferência!$E$2,Conferência!$E$2,\"\")","v":4},{"$f":"IF(Jogo!F283=Conferência!$F$2,Conferência!$F$2,\"\")","v":""},{"$f":"IF(Jogo!G283=Conferência!$G$2,Conferência!$G$2,\"\")","v":7},{"$f":"IF(Jogo!H283=Conferência!$H$2,Conferência!$H$2,\"\")","v":""},{"$f":"IF(Jogo!I283=Conferência!$I$2,Conferência!$I$2,\"\")","v":""},{"$f":"IF(Jogo!J283=Conferência!$J$2,Conferência!$J$2,\"\")","v":""},{"$f":"IF(Jogo!K283=Conferência!$K$2,Conferência!$K$2,\"\")","v":""},{"$f":"IF(Jogo!L283=Conferência!$L$2,Conferência!$L$2,\"\")","v":""},{"$f":"IF(Jogo!M283=Conferência!$M$2,Conferência!$M$2,\"\")","v":""},{"$f":"IF(Jogo!N283=Conferência!$N$2,Conferência!$N$2,\"\")","v":""},{"$f":"IF(Jogo!O283=Conferência!$O$2,Conferência!$O$2,\"\")","v":19},{"$f":"IF(Jogo!P283=Conferência!$P$2,Conferência!$P$2,\"\")","v":""},{"$f":"IF(Jogo!Q283=Conferência!$Q$2,Conferência!$Q$2,\"\")","v":""},""]
[{"$f":"IF(Jogo!A284=Conferência!$A$2,Conferência!$A$2,\"\")","v":""},{"$f":"IF(Jogo!B284=Conferência!$B$2,Conferência!$B$2,\"\")","v":"QUARTA-FEIRA"},{"$f":"IF(Jogo!C284=Conferência!$C$2,Conferência!$C$2,\"\")","v":""},{"$f":"IF(Jogo!D284=Conferência!$D$2,Conferência!$D$2,\"\")","v":""},{"$f":"IF(Jogo!E284=Conferência!$E$2,Conferência!$E$2,\"\")","v":""},{"$f":"IF(Jogo!F284=Conferência!$F$2,Conferência!$F$2,\"\")","v":6},{"$f":"IF(Jogo!G284=Conferência!$G$2,Conferência!$G$2,\"\")","v":7},{"$f":"IF(Jogo!H284=Conferência!$H$2,Conferência!$H$2,\"\")","v":9},{"$f":"IF(Jogo!I284=Conferência!$I$2,Conferência!$I$2,\"\")","v":10},{"$f":"IF(Jogo!J284=Conferência!$J$2,Conferência!$J$2,\"\")","v":11},{"$f":"IF(Jogo!K284=Conferência!$K$2,Conferência!$K$2,\"\")","v":""},{"$f":"IF(Jogo!L284=Conferência!$L$2,Conferência!$L$2,\"\")","v":""},{"$f":"IF(Jogo!M284=Conferência!$M$2,Conferência!$M$2,\"\")","v":""},{"$f":"IF(Jogo!N284=Conferência!$N$2,Conferência!$N$2,\"\")","v":""},{"$f":"IF(Jogo!O284=Conferência!$O$2,Conferência!$O$2,\"\")","v":""},{"$f":"IF(Jogo!P284=Conferência!$P$2,Conferência!$P$2,\"\")","v":23},{"$f":"IF(Jogo!Q284=Conferência!$Q$2,Conferência!$Q$2,\"\")","v":""},""]
[{"$f":"IF(Jogo!A285=Conferência!$A$2,Conferência!$A$2,\"\")","v":""},{"$f":"IF(Jogo!B285=Conferência!$B$2,Conferência!$B$2,\"\")","v":"QUARTA-FEIRA"},{"$f":"IF(Jogo!C285=Conferência!$C$2,Conferência!$C$2,\"\")","v":1},{"$f":"IF(Jogo!D285=Conferência!$D$2,Conferência!$D$2,\"\")","v":""},{"$f":"IF(Jogo!E285=Conferência!$E$2,Conferência!$E$2,\"\")","v":""},{"$f":"IF(Jogo!F285=Conferência!$F$2,Conferência!$F$2,\"\")","v":""},{"$f":"IF(Jogo!G285=Conferência!$G$2,Conferência!$G$2,\"\")","v":""},{"$f":"IF(Jogo!H285=Conferência!$H$2,Conferência!$H$2,\"\")","v":""},{"$f":"IF(Jogo!I285=Conferência!$I$2,Conferência!$I$2,\"\")","v":""},{"$f":"IF(Jogo!J285=Conferência!$J$2,Conferência!$J$2,\"\")","v":""},{"$f":"IF(Jogo!K285=Conferência!$K$2,Conferência!$K$2,\"\")","v":""},{"$f":"IF(Jogo!L285=Conferência!$L$2,Conferência!$L$2,\"\")","v":""},{"$f":"IF(Jogo!M285=Conferência!$M$2,Conferência!$M$2,\"\")","v":""},{"$f":"IF(Jogo!N285=Conferência!$N$2,Conferência!$N$2,\"\")","v":""},{"$f":"IF(Jogo!O285=Conferência!$O$2,Conferência!$O$2,\"\")","v":""},{"$f":"IF(Jogo!P285=Conferência!$P$2,Conferência!$P$2,\"\")","v":""},{"$f":"IF(Jogo!Q285=Conferência!$Q$2,Conferência!$Q$2,\"\")","v":""},""]
[{"$f":"IF(Jogo!A286=Conferência!$A$2,Conferência!$A$2,\"\")","v":""},{"$f":"IF(Jogo!B286=Conferência!$B$2,Conferência!$B$2,\"\")","v":"QUARTA-FEIRA"},{"$f":"IF(Jogo!C286=Conferência!$C$2,Conferência!$C$2,\"\")","v":1},{"$f":"IF(Jogo!D286=Conferência!$D$2,Conferência!$D$2,\"\")","v":3},{"$f":"IF(Jogo!E286=Conferência!$E$2,Conferência!$E$2,\"\")","v":""},{"$f":"IF(Jogo!F286=Conferência!$F$2,Conferência!$F$2,\"\")","v":""},{"$f":"IF(Jogo!G286=Conferência!$G$2,Conferência!$G$2,\"\")","v":""},{"$f":"IF(Jogo!H286=Conferência!$H$2,Conferência!$H$2,\"\")","v":9},{"$f":"IF(Jogo!I286=Conferência!$I$2,Conferência!$I$2,\"\")","v":10},{"$f":"IF(Jogo!J286=Conferência!$J$2,Conferência!$J$2,\"\")","v":11},{"$f":"IF(Jogo!K286=Conferência!$K$2,Conferência!$K$2,\"\")","v":12},{"$f":"IF(Jogo!L286=Conferência!$L$2,Conferência!$L$2,\"\")","v":13},{"$f":"IF(Jogo!M286=Conferência!$M$2,Conferência!$M$2,\"\")","v":15},{"$f":"IF(Jogo!N286=Conferência!$N$2,Conferência!$N$2,\"\")","v":""},{"$f":"IF(Jogo!O286=Conferência!$O$2,Conferência!$O$2,\"\")","v":""},{"$f":"IF(Jogo!P286=Conferência!$P$2,Conferência!$P$2,\"\")","v":""},{"$f":"IF(Jogo!Q286=Conferência!$Q$2,Conferência!$Q$2,\"\")","v":""},""]
[{"$f":"IF(Jogo!A287=Conferência!$A$2,Conferência!$A$2,\"\")","v":""},{"$f":"IF(Jogo!B287=Conferência!$B$2,Conferência!$B$2,\"\")","v":"QUARTA-FEIRA"},{"$f":"IF(Jogo!C287=Conferência!$C$2,Conferência!$C$2,\"\")","v":1},{"$f":"IF(Jogo!D287=Conferência!$D$2,Conferência!$D$2,\"\")","v":""},{"$f":"IF(Jogo!E287=Conferência!$E$2,Conferência!$E$2,\"\")","v":""},{"$f":"IF(Jogo!F287=Conferência!$F$2,Conferência!$F$2,\"\")","v":""},{"$f":"IF(Jogo!G287=Conferência!$G$2,Conferência!$G$2,\"\")","v":""},{"$f":"IF(Jogo!H287=Conferência!$H$2,Conferência!$H$2,\"\")","v":""},{"$f":"IF(Jogo!I287=Conferência!$I$2,Conferência!$I$2,\"\")","v":10},{"$f":"IF(Jogo!J287=Conferência!$J$2,Conferência!$J$2,\"\")","v":11},{"$f":"IF(Jogo!K287=Conferência!$K$2,Conferência!$K$2,\"\")","v":""},{"$f":"IF(Jogo!L287=Conferência!$L$2,Conferência!$L$2,\"\")","v":""},{"$f":"IF(Jogo!M287=Conferência!$M$2,Conferência!$M$2,\"\")","v":""},{"$f":"IF(Jogo!N287=Conferência!$N$2,Conferência!$N$2,\"\")","v":""},{"$f":"IF(Jogo!O287=Conferência!$O$2,Conferência!$O$2,\"\")","v":""},{"$f":"IF(Jogo!P287=Conferência!$P$2,Conferência!$P$2,\"\")","v":""},{"$f":"IF(Jogo!Q287=Conferência!$Q$2,Conferência!$Q$2,\"\")","v":24},""]
[{"$f":"IF(Jogo!A288=Conferência!$A$2,Conferência!$A$2,\"\")","v":""},{"$f":"IF(Jogo!B288=Conferência!$B$2,Conferência!$B$2,\"\")","v":"QUARTA-FEIRA"},{"$f":"IF(Jogo!C288=Conferência!$C$2,Conferência!$C$2,\"\")","v":1},{"$f":"IF(Jogo!D288=Conferência!$D$2,Conferência!$D$2,\"\")","v":3},{"$f":"IF(Jogo!E288=Conferência!$E$2,Conferência!$E$2,\"\")","v":4},{"$f":"IF(Jogo!F288=Conferência!$F$2,Conferência!$F$2,\"\")","v":""},{"$f":"IF(Jogo!G288=Conferência!$G$2,Conferência!$G$2,\"\")","v":""},{"$f":"IF(Jogo!H288=Conferência!$H$2,Conferência!$H$2,\"\")","v":""},{"$f":"IF(Jogo!I288=Conferência!$I$2,Conferência!$I$2,\"\")","v":""},{"$f":"IF(Jogo!J288=Conferência!$J$2,Conferência!$J$2,\"\")","v":""},{"$f":"IF(Jogo!K288=Conferência!$K$2,Conferência!$K$2,\"\")","v":""},{"$f":"IF(Jogo!L288=Conferência!$L$2,Conferência!$L$2,\"\")","v":""},{"$f":"IF(Jogo!M288=Conferência!$M$2,Conferência!$M$2,\"\")","v":""},{"$f":"IF(Jogo!N288=Conferência!$N$2,Conferência!$N$2,\"\")","v":""},{"$f":"IF(Jogo!O288=Conferência!$O$2,Conferência!$O$2,\"\")","v":""},{"$f":"IF(Jogo!P288=Conferência!$P$2,Conferência!$P$2,\"\")","v":""},{"$f":"IF(Jogo!Q288=Conferência!$Q$2,Conferência!$Q$2,\"\")","v":""},""]
[{"$f":"IF(Jogo!A289=Conferência!$A$2,Conferência!$A$2,\"\")","v":""},{"$f":"IF(Jogo!B289=Conferência!$B$2,Conferência!$B$2,\"\")","v":"QUARTA-FEIRA"},{"$f":"IF(Jogo!C289=Conferência!$C$2,Conferência!$C$2,\"\")","v":1},{"$f":"IF(Jogo!D289=Conferência!$D$2,Conferência!$D$2,\"\")","v":""},{"$f":"IF(Jogo!E289=Conferência!$E$2,Conferência!$E$2,\"\")","v":""},{"$f":"IF(Jogo!F289=Conferência!$F$2,Conferência!$F$2,\"\")","v":""},{"$f":"IF(Jogo!G289=Conferência!$G$2,Conferência!$G$2,\"\")","v":""},{"$f":"IF(Jogo!H289=Conferência!$H$2,Conferência!$H$2,\"\")","v":""},{"$f":"IF(Jogo!I289=Conferência!$I$2,Conferência!$I$2,\"\")","v":10},{"$f":"IF(Jogo!J289=Conferência!$J$2,Conferência!$J$2,\"\")","v":11},{"$f":"IF(Jogo!K289=Conferência!$K$2,Conferência!$K$2,\"\")","v":12},{"$f":"IF(Jogo!L289=Conferência!$L$2,Conferência!$L$2,\"\")","v":""},{"$f":"IF(Jogo!M289=Conferência!$M$2,Conferência!$M$2,\"\")","v":15},{"$f":"IF(Jogo!N289=Conferência!$N$2,Conferência!$N$2,\"\")","v":""},{"$f":"IF(Jogo!O289=Conferência!$O$2,Conferência!$O$2,\"\")","v":""},{"$f":"IF(Jogo!P289=Conferência!$P$2,Conferência!$P$2,\"\")","v":""},{"$f":"IF(Jogo!Q289=Conferência!$Q$2,Conferência!$Q$2,\"\")","v":""},""]
[{"$f":"IF(Jogo!A290=Conferência!$A$2,Conferência!$A$2,\"\")","v":""},{"$f":"IF(Jogo!B290=Conferência!$B$2,Conferência!$B$2,\"\")","v":"QUARTA-FEIRA"},{"$f":"IF(Jogo!C290=Conferência!$C$2,Conferência!$C$2,\"\")","v":""},{"$f":"IF(Jogo!D290=Conferência!$D$2,Conferência!$D$2,\"\")","v":""},{"$f":"IF(Jogo!E290=Conferência!$E$2,Conferência!$E$2,\"\")","v":""},{"$f":"IF(Jogo!F290=Conferência!$F$2,Conferência!$F$2,\"\")","v":""},{"$f":"IF(Jogo!G290=Conferência!$G$2,Conferência!$G$2,\"\")","v":""},{"$f":"IF(Jogo!H290=Conferência!$H$2,Conferência!$H$2,\"\")","v":""},{"$f":"IF(Jogo!I290=Conferência!$I$2,Conferência!$I$2,\"\")","v":""},{"$f":"IF(Jogo!J290=Conferência!$J$2,Conferência!$J$2,\"\")","v":""},{"$f":"IF(Jogo!K290=Conferência!$K$2,Conferência!$K$2,\"\")","v":""},{"$f":"IF(Jogo!L290=Conferência!$L$2,Conferência!$L$2,\"\")","v":""},{"$f":"IF(Jogo!M290=Conferência!$M$2,Conferência!$M$2,\"\")","v":""},{"$f":"IF(Jogo!N290=Conferência!$N$2,Conferência!$N$2,\"\")","v":""},{"$f":"IF(Jogo!O290=Conferência!$O$2,Conferência!$O$2,\"\")","v":19},{"$f":"IF(Jogo!P290=Conferência!$P$2,Conferência!$P$2,\"\")","v":""},{"$f":"IF(Jogo!Q290=Conferência!$Q$2,Conferência!$Q$2,\"\")","v":24},""]
[{"$f":"IF(Jogo!A291=Conferência!$A$2,Conferência!$A$2,\"\")","v":""},{"$f":"IF(Jogo!B291=Conferência!$B$2,Conferência!$B$2,\"\")","v":"QUARTA-FEIRA"},{"$f":"IF(Jogo!C291=Conferência!$C$2,Conferência!$C$2,\"\")","v":""},{"$f":"IF(Jogo!D291=Conferência!$D$2,Conferência!$D$2,\"\")","v":""},{"$f":"IF(Jogo!E291=Conferência!$E$2,Conferência!$E$2,\"\")","v":""},{"$f":"IF(Jogo!F291=Conferência!$F$2,Conferência!$F$2,\"\")","v":""},{"$f":"IF(Jogo!G291=Conferência!$G$2,Conferência!$G$2,\"\")","v":""},{"$f":"IF(Jogo!H291=Conferência!$H$2,Conferência!$H$2,\"\")","v":""},{"$f":"IF(Jogo!I291=Conferência!$I$2,Conferência!$I$2,\"\")","v":""},{"$f":"IF(Jogo!J291=Conferência!$J$2,Conferência!$J$2,\"\")","v":""},{"$f":"IF(Jogo!K291=Conferência!$K$2,Conferência!$K$2,\"\")","v":""},{"$f":"IF(Jogo!L291=Conferência!$L$2,Conferência!$L$2,\"\")","v":""},{"$f":"IF(Jogo!M291=Conferência!$M$2,Conferência!$M$2,\"\")","v":""},{"$f":"IF(Jogo!N291=Conferência!$N$2,Conferência!$N$2,\"\")","v":""},{"$f":"IF(Jogo!O291=Conferência!$O$2,Conferência!$O$2,\"\")","v":""},{"$f":"IF(Jogo!P291=Conferência!$P$2,Conferência!$P$2,\"\")","v":23},{"$f":"IF(Jogo!Q291=Conferência!$Q$2,Conferência!$Q$2,\"\")","v":""},""]
[{"$f":"IF(Jogo!A292=Conferência!$A$2,Conferência!$A$2,\"\")","v":""},{"$f":"IF(Jogo!B292=Conferência!$B$2,Conferência!$B$2,\"\")","v":"QUARTA-FEIRA"},{"$f":"IF(Jogo!C292=Conferência!$C$2,Conferência!$C$2,\"\")","v":""},{"$f":"IF(Jogo!D292=Conferência!$D$2,Conferência!$D$2,\"\")","v":3},{"$f":"IF(Jogo!E292=Conferência!$E$2,Conferência!$E$2,\"\")","v":4},{"$f":"IF(Jogo!F292=Conferência!$F$2,Conferência!$F$2,\"\")","v":6},{"$f":"IF(Jogo!G292=Conferência!$G$2,Conferência!$G$2,\"\")","v":7},{"$f":"IF(Jogo!H292=Conferência!$H$2,Conferência!$H$2,\"\")","v":9},{"$f":"IF(Jogo!I292=Conferência!$I$2,Conferência!$I$2,\"\")","v":10},{"$f":"IF(Jogo!J292=Conferência!$J$2,Conferência!$J$2,\"\")","v":""},{"$f":"IF(Jogo!K292=Conferência!$K$2,Conferência!$K$2,\"\")","v":""},{"$f":"IF(Jogo!L292=Conferência!$L$2,Conferência!$L$2,\"\")","v":""},{"$f":"IF(Jogo!M292=Conferência!$M$2,Conferência!$M$2,\"\")","v":""},{"$f":"IF(Jogo!N292=Conferência!$N$2,Conferência!$N$2,\"\")","v":""},{"$f":"IF(Jogo!O292=Conferência!$O$2,Conferência!$O$2,\"\")","v":""},{"$f":"IF(Jogo!P292=Conferência!$P$2,Conferência!$P$2,\"\")","v":23},{"$f":"IF(Jogo!Q292=Conferência!$Q$2,Conferência!$Q$2,\"\")","v":""},""]
[{"$f":"IF(Jogo!A293=Conferência!$A$2,Conferência!$A$2,\"\")","v":""},{"$f":"IF(Jogo!B293=Conferência!$B$2,Conferência!$B$2,\"\")","v":"QUARTA-FEIRA"},{"$f":"IF(Jogo!C293=Conferência!$C$2,Conferência!$C$2,\"\")","v":1},{"$f":"IF(Jogo!D293=Conferência!$D$2,Conferência!$D$2,\"\")","v":""},{"$f":"IF(Jogo!E293=Conferência!$E$2,Conferência!$E$2,\"\")","v":""},{"$f":"IF(Jogo!F293=Conferência!$F$2,Conferência!$F$2,\"\")","v":""},{"$f":"IF(Jogo!G293=Conferência!$G$2,Conferência!$G$2,\"\")","v":""},{"$f":"IF(Jogo!H293=Conferência!$H$2,Conferência!$H$2,\"\")","v":""},{"$f":"IF(Jogo!I293=Conferência!$I$2,Conferência!$I$2,\"\")","v":""},{"$f":"IF(Jogo!J293=Conferência!$J$2,Conferência!$J$2,\"\")","v":""},{"$f":"IF(Jogo!K293=Conferência!$K$2,Conferência!$K$2,\"\")","v":""},{"$f":"IF(Jogo!L293=Conferência!$L$2,Conferência!$L$2,\"\")","v":""},{"$f":"IF(Jogo!M293=Conferência!$M$2,Conferência!$M$2,\"\")","v":""},{"$f":"IF(Jogo!N293=Conferência!$N$2,Conferência!$N$2,\"\")","v":""},{"$f":"IF(Jogo!O293=Conferência!$O$2,Conferência!$O$2,\"\")","v":""},{"$f":"IF(Jogo!P293=Conferência!$P$2,Conferência!$P$2,\"\")","v":""},{"$f":"IF(Jogo!Q293=Conferência!$Q$2,Conferência!$Q$2,\"\")","v":""},""]
[{"$f":"IF(Jogo!A294=Conferência!$A$2,Conferência!$A$2,\"\")","v":""},{"$f":"IF(Jogo!B294=Conferência!$B$2,Conferência!$B$2,\"\")","v":"QUARTA-FEIRA"},{"$f":"IF(Jogo!C294=Conferência!$C$2,Conferência!$C$2,\"\")","v":1},{"$f":"IF(Jogo!D294=Conferência!$D$2,Conferência!$D$2,\"\")","v":""},{"$f":"IF(Jogo!E294=Conferência!$E$2,Conferência!$E$2,\"\")","v":""},{"$f":"IF(Jogo!F294=Conferência!$F$2,Conferência!$F$2,\"\")","v":""},{"$f":"IF(Jogo!G294=Conferência!$G$2,Conferência!$G$2,\"\")","v":""},{"$f":"IF(Jogo!H294=Conferência!$H$2,Conferência!$H$2,\"\")","v":""},{"$f":"IF(Jogo!I294=Conferência!$I$2,Conferência!$I$2,\"\")","v":""},{"$f":"IF(Jogo!J294=Conferência!$J$2,Conferência!$J$2,\"\")","v":""},{"$f":"IF(Jogo!K294=Conferência!$K$2,Conferência!$K$2,\"\")","v":""},{"$f":"IF(Jogo!L294=Conferência!$L$2,Conferência!$L$2,\"\")","v":""},{"$f":"IF(Jogo!M294=Conferência!$M$2,Conferência!$M$2,\"\")","v":""},{"$f":"IF(Jogo!N294=Conferência!$N$2,Conferência!$N$2,\"\")","v":""},{"$f":"IF(Jogo!O294=Conferência!$O$2,Conferência!$O$2,\"\")","v":""},{"$f":"IF(Jogo!P294=Conferência!$P$2,Conferência!$P$2,\"\")","v":""},{"$f":"IF(Jogo!Q294=Conferência!$Q$2,Conferência!$Q$2,\"\")","v":""},""]
[{"$f":"IF(Jogo!A295=Conferência!$A$2,Conferência!$A$2,\"\")","v":""},{"$f":"IF(Jogo!B295=Conferência!$B$2,Conferência!$B$2,\"\")","v":"QUARTA-FEIRA"},{"$f":"IF(Jogo!C295=Conferência!$C$2,Conferência!$C$2,\"\")","v":1},{"$f":"IF(Jogo!D295=Conferência!$D$2,Conferência!$D$2,\"\")","v":""},{"$f":"IF(Jogo!E295=Conferência!$E$2,Conferência!$E$2,\"\")","v":""},{"$f":"IF(Jogo!F295=Conferência!$F$2,Conferência!$F$2,\"\")","v":""},{"$f":"IF(Jogo!G295=Conferência!$G$2,Conferência!$G$2,\"\")","v":""},{"$f":"IF(Jogo!H295=Conferência!$H$2,Conferência!$H$2,\"\")","v":""},{"$f":"IF(Jogo!I295=Conferência!$I$2,Conferência!$I$2,\"\")","v":""},{"$f":"IF(Jogo!J295=Conferência!$J$2,Conferência!$J$2,\"\")","v":""},{"$f":"IF(Jogo!K295=Conferência!$K$2,Conferência!$K$2,\"\")","v":""},{"$f":"IF(Jogo!L295=Conferência!$L$2,Conferência!$L$2,\"\")","v":13},{"$f":"IF(Jogo!M295=Conferência!$M$2,Conferência!$M$2,\"\")","v":""},{"$f":"IF(Jogo!N295=Conferência!$N$2,Conferência!$N$2,\"\")","v":""},{"$f":"IF(Jogo!O295=Conferência!$O$2,Conferência!$O$2,\"\")","v":""},{"$f":"IF(Jogo!P295=Conferência!$P$2,Conferência!$P$2,\"\")","v":""},{"$f":"IF(Jogo!Q295=Conferência!$Q$2,Conferência!$Q$2,\"\")","v":""},""]
[{"$f":"IF(Jogo!A296=Conferência!$A$2,Conferência!$A$2,\"\")","v":""},{"$f":"IF(Jogo!B296=Conferência!$B$2,Conferência!$B$2,\"\")","v":"QUARTA-FEIRA"},{"$f":"IF(Jogo!C296=Conferência!$C$2,Conferência!$C$2,\"\")","v":""},{"$f":"IF(Jogo!D296=Conferência!$D$2,Conferência!$D$2,\"\")","v":""},{"$f":"IF(Jogo!E296=Conferência!$E$2,Conferência!$E$2,\"\")","v":""},{"$f":"IF(Jogo!F296=Conferência!$F$2,Conferência!$F$2,\"\")","v":""},{"$f":"IF(Jogo!G296=Conferência!$G$2,Conferência!$G$2,\"\")","v":""},{"$f":"IF(Jogo!H296=Conferência!$H$2,Conferência!$H$2,\"\")","v":""},{"$f":"IF(Jogo!I296=Conferência!$I$2,Conferência!$I$2,\"\")","v":""},{"$f":"IF(Jogo!J296=Conferência!$J$2,Conferência!$J$2,\"\")","v":""},{"$f":"IF(Jogo!K296=Conferência!$K$2,Conferência!$K$2,\"\")","v":""},{"$f":"IF(Jogo!L296=Conferência!$L$2,Conferência!$L$2,\"\")","v":""},{"$f":"IF(Jogo!M296=Conferência!$M$2,Conferência!$M$2,\"\")","v":""},{"$f":"IF(Jogo!N296=Conferência!$N$2,Conferência!$N$2,\"\")","v":""},{"$f":"IF(Jogo!O296=Conferência!$O$2,Conferência!$O$2,\"\")","v":""},{"$f":"IF(Jogo!P296=Conferência!$P$2,Conferência!$P$2,\"\")","v":""},{"$f":"IF(Jogo!Q296=Conferência!$Q$2,Conferência!$Q$2,\"\")","v":24},""]
[{"$f":"IF(Jogo!A297=Conferência!$A$2,Conferência!$A$2,\"\")","v":""},{"$f":"IF(Jogo!B297=Conferência!$B$2,Conferência!$B$2,\"\")","v":"QUARTA-FEIRA"},{"$f":"IF(Jogo!C297=Conferência!$C$2,Conferência!$C$2,\"\")","v":""},{"$f":"IF(Jogo!D297=Conferência!$D$2,Conferência!$D$2,\"\")","v":""},{"$f":"IF(Jogo!E297=Conferência!$E$2,Conferência!$E$2,\"\")","v":""},{"$f":"IF(Jogo!F297=Conferência!$F$2,Conferência!$F$2,\"\")","v":""},{"$f":"IF(Jogo!G297=Conferência!$G$2,Conferência!$G$2,\"\")","v":""},{"$f":"IF(Jogo!H297=Conferência!$H$2,Conferência!$H$2,\"\")","v":""},{"$f":"IF(Jogo!I297=Conferência!$I$2,Conferência!$I$2,\"\")","v":""},{"$f":"IF(Jogo!J297=Conferência!$J$2,Conferência!$J$2,\"\")","v":""},{"$f":"IF(Jogo!K297=Conferência!$K$2,Conferência!$K$2,\"\")","v":""},{"$f":"IF(Jogo!L297=Conferência!$L$2,Conferência!$L$2,\"\")","v":""},{"$f":"IF(Jogo!M297=Conferência!$M$2,Conferência!$M$2,\"\")","v":15},{"$f":"IF(Jogo!N297=Conferência!$N$2,Conferência!$N$2,\"\")","v":""},{"$f":"IF(Jogo!O297=Conferência!$O$2,Conferência!$O$2,\"\")","v":""},{"$f":"IF(Jogo!P297=Conferência!$P$2,Conferência!$P$2,\"\")","v":""},{"$f":"IF(Jogo!Q297=Conferência!$Q$2,Conferência!$Q$2,\"\")","v":""},""]
[{"$f":"IF(Jogo!A298=Conferência!$A$2,Conferência!$A$2,\"\")","v":""},{"$f":"IF(Jogo!B298=Conferência!$B$2,Conferência!$B$2,\"\")","v":"QUARTA-FEIRA"},{"$f":"IF(Jogo!C298=Conferência!$C$2,Conferência!$C$2,\"\")","v":""},{"$f":"IF(Jogo!D298=Conferência!$D$2,Conferência!$D$2,\"\")","v":""},{"$f":"IF(Jogo!E298=Conferência!$E$2,Conferência!$E$2,\"\")","v":""},{"$f":"IF(Jogo!F298=Conferência!$F$2,Conferência!$F$2,\"\")","v":6},{"$f":"IF(Jogo!G298=Conferência!$G$2,Conferência!$G$2,\"\")","v":7},{"$f":"IF(Jogo!H298=Conferência!$H$2,Conferência!$H$2,\"\")","v":""},{"$f":"IF(Jogo!I298=Conferência!$I$2,Conferência!$I$2,\"\")","v":""},{"$f":"IF(Jogo!J298=Conferência!$J$2,Conferência!$J$2,\"\")","v":""},{"$f":"IF(Jogo!K298=Conferência!$K$2,Conferência!$K$2,\"\")","v":12},{"$f":"IF(Jogo!L298=Conferência!$L$2,Conferência!$L$2,\"\")","v":13},{"$f":"IF(Jogo!M298=Conferência!$M$2,Conferência!$M$2,\"\")","v":15},{"$f":"IF(Jogo!N298=Conferência!$N$2,Conferência!$N$2,\"\")","v":""},{"$f":"IF(Jogo!O298=Conferência!$O$2,Conferência!$O$2,\"\")","v":""},{"$f":"IF(Jogo!P298=Conferência!$P$2,Conferência!$P$2,\"\")","v":""},{"$f":"IF(Jogo!Q298=Conferência!$Q$2,Conferência!$Q$2,\"\")","v":24},""]
[{"$f":"IF(Jogo!A299=Conferência!$A$2,Conferência!$A$2,\"\")","v":""},{"$f":"IF(Jogo!B299=Conferência!$B$2,Conferência!$B$2,\"\")","v":"QUARTA-FEIRA"},{"$f":"IF(Jogo!C299=Conferência!$C$2,Conferência!$C$2,\"\")","v":1},{"$f":"IF(Jogo!D299=Conferência!$D$2,Conferência!$D$2,\"\")","v":""},{"$f":"IF(Jogo!E299=Conferência!$E$2,Conferência!$E$2,\"\")","v":""},{"$f":"IF(Jogo!F299=Conferência!$F$2,Conferência!$F$2,\"\")","v":6},{"$f":"IF(Jogo!G299=Conferência!$G$2,Conferência!$G$2,\"\")","v":7},{"$f":"IF(Jogo!H299=Conferência!$H$2,Conferência!$H$2,\"\")","v":""},{"$f":"IF(Jogo!I299=Conferência!$I$2,Conferência!$I$2,\"\")","v":""},{"$f":"IF(Jogo!J299=Conferência!$J$2,Conferência!$J$2,\"\")","v":11},{"$f":"IF(Jogo!K299=Conferência!$K$2,Conferência!$K$2,\"\")","v":12},{"$f":"IF(Jogo!L299=Conferência!$L$2,Conferência!$L$2,\"\")","v":13},{"$f":"IF(Jogo!M299=Conferência!$M$2,Conferência!$M$2,\"\")","v":""},{"$f":"IF(Jogo!N299=Conferência!$N$2,Conferência!$N$2,\"\")","v":""},{"$f":"IF(Jogo!O299=Conferência!$O$2,Conferência!$O$2,\"\")","v":""},{"$f":"IF(Jogo!P299=Conferência!$P$2,Conferência!$P$2,\"\")","v":""},{"$f":"IF(Jogo!Q299=Conferência!$Q$2,Conferência!$Q$2,\"\")","v":24},""]
[{"$f":"IF(Jogo!A300=Conferência!$A$2,Conferência!$A$2,\"\")","v":""},{"$f":"IF(Jogo!B300=Conferência!$B$2,Conferência!$B$2,\"\")","v":"QUARTA-FEIRA"},{"$f":"IF(Jogo!C300=Conferência!$C$2,Conferência!$C$2,\"\")","v":""},{"$f":"IF(Jogo!D300=Conferência!$D$2,Conferência!$D$2,\"\")","v":""},{"$f":"IF(Jogo!E300=Conferência!$E$2,Conferência!$E$2,\"\")","v":""},{"$f":"IF(Jogo!F300=Conferência!$F$2,Conferência!$F$2,\"\")","v":""},{"$f":"IF(Jogo!G300=Conferência!$G$2,Conferência!$G$2,\"\")","v":""},{"$f":"IF(Jogo!H300=Conferência!$H$2,Conferência!$H$2,\"\")","v":""},{"$f":"IF(Jogo!I300=Conferência!$I$2,Conferência!$I$2,\"\")","v":""},{"$f":"IF(Jogo!J300=Conferência!$J$2,Conferência!$J$2,\"\")","v":""},{"$f":"IF(Jogo!K300=Conferência!$K$2,Conferência!$K$2,\"\")","v":""},{"$f":"IF(Jogo!L300=Conferência!$L$2,Conferência!$L$2,\"\")","v":""},{"$f":"IF(Jogo!M300=Conferência!$M$2,Conferência!$M$2,\"\")","v":""},{"$f":"IF(Jogo!N300=Conferência!$N$2,Conferência!$N$2,\"\")","v":""},{"$f":"IF(Jogo!O300=Conferência!$O$2,Conferência!$O$2,\"\")","v":""},{"$f":"IF(Jogo!P300=Conferência!$P$2,Conferência!$P$2,\"\")","v":""},{"$f":"IF(Jogo!Q300=Conferência!$Q$2,Conferência!$Q$2,\"\")","v":24},""]
[{"$f":"IF(Jogo!A301=Conferência!$A$2,Conferência!$A$2,\"\")","v":""},{"$f":"IF(Jogo!B301=Conferência!$B$2,Conferência!$B$2,\"\")","v":"QUARTA-FEIRA"},{"$f":"IF(Jogo!C301=Conferência!$C$2,Conferência!$C$2,\"\")","v":1},{"$f":"IF(Jogo!D301=Conferência!$D$2,Conferência!$D$2,\"\")","v":""},{"$f":"IF(Jogo!E301=Conferência!$E$2,Conferência!$E$2,\"\")","v":""},{"$f":"IF(Jogo!F301=Conferência!$F$2,Conferência!$F$2,\"\")","v":""},{"$f":"IF(Jogo!G301=Conferência!$G$2,Conferência!$G$2,\"\")","v":""},{"$f":"IF(Jogo!H301=Conferência!$H$2,Conferência!$H$2,\"\")","v":""},{"$f":"IF(Jogo!I301=Conferência!$I$2,Conferência!$I$2,\"\")","v":""},{"$f":"IF(Jogo!J301=Conferência!$J$2,Conferência!$J$2,\"\")","v":""},{"$f":"IF(Jogo!K301=Conferência!$K$2,Conferência!$K$2,\"\")","v":""},{"$f":"IF(Jogo!L301=Conferência!$L$2,Conferência!$L$2,\"\")","v":""},{"$f":"IF(Jogo!M301=Conferência!$M$2,Conferência!$M$2,\"\")","v":""},{"$f":"IF(Jogo!N301=Conferência!$N$2,Conferência!$N$2,\"\")","v":""},{"$f":"IF(Jogo!O301=Conferência!$O$2,Conferência!$O$2,\"\")","v":""},{"$f":"IF(Jogo!P301=Conferência!$P$2,Conferência!$P$2,\"\")","v":""},{"$f":"IF(Jogo!Q301=Conferência!$Q$2,Conferência!$Q$2,\"\")","v":""},""]
[{"$f":"IF(Jogo!A302=Conferência!$A$2,Conferência!$A$2,\"\")","v":""},{"$f":"IF(Jogo!B302=Conferência!$B$2,Conferência!$B$2,\"\")","v":"QUARTA-FEIRA"},{"$f":"IF(Jogo!C302=Conferência!$C$2,Conferência!$C$2,\"\")","v":1},{"$f":"IF(Jogo!D302=Conferência!$D$2,Conferência!$D$2,\"\")","v":""},{"$f":"IF(Jogo!E302=Conferência!$E$2,Conferência!$E$2,\"\")","v":4},{"$f":"IF(Jogo!F302=Conferência!$F$2,Conferência!$F$2,\"\")","v":""},{"$f":"IF(Jogo!G302=Conferência!$G$2,Conferência!$G$2,\"\")","v":""},{"$f":"IF(Jogo!H302=Conferência!$H$2,Conferência!$H$2,\"\")","v":""},{"$f":"IF(Jogo!I302=Conferência!$I$2,Conferência!$I$2,\"\")","v":""},{"$f":"IF(Jogo!J302=Conferência!$J$2,Conferência!$J$2,\"\")","v":""},{"$f":"IF(Jogo!K302=Conferência!$K$2,Conferência!$K$2,\"\")","v":""},{"$f":"IF(Jogo!L302=Conferência!$L$2,Conferência!$L$2,\"\")","v":""},{"$f":"IF(Jogo!M302=Conferência!$M$2,Conferência!$M$2,\"\")","v":""},{"$f":"IF(Jogo!N302=Conferência!$N$2,Conferência!$N$2,\"\")","v":""},{"$f":"IF(Jogo!O302=Conferência!$O$2,Conferência!$O$2,\"\")","v":""},{"$f":"IF(Jogo!P302=Conferência!$P$2,Conferência!$P$2,\"\")","v":23},{"$f":"IF(Jogo!Q302=Conferência!$Q$2,Conferência!$Q$2,\"\")","v":24},""]
[{"$f":"IF(Jogo!A303=Conferência!$A$2,Conferência!$A$2,\"\")","v":""},{"$f":"IF(Jogo!B303=Conferência!$B$2,Conferência!$B$2,\"\")","v":"QUARTA-FEIRA"},{"$f":"IF(Jogo!C303=Conferência!$C$2,Conferência!$C$2,\"\")","v":""},{"$f":"IF(Jogo!D303=Conferência!$D$2,Conferência!$D$2,\"\")","v":""},{"$f":"IF(Jogo!E303=Conferência!$E$2,Conferência!$E$2,\"\")","v":""},{"$f":"IF(Jogo!F303=Conferência!$F$2,Conferência!$F$2,\"\")","v":""},{"$f":"IF(Jogo!G303=Conferência!$G$2,Conferência!$G$2,\"\")","v":""},{"$f":"IF(Jogo!H303=Conferência!$H$2,Conferência!$H$2,\"\")","v":""},{"$f":"IF(Jogo!I303=Conferência!$I$2,Conferência!$I$2,\"\")","v":""},{"$f":"IF(Jogo!J303=Conferência!$J$2,Conferência!$J$2,\"\")","v":""},{"$f":"IF(Jogo!K303=Conferência!$K$2,Conferência!$K$2,\"\")","v":""},{"$f":"IF(Jogo!L303=Conferência!$L$2,Conferência!$L$2,\"\")","v":""},{"$f":"IF(Jogo!M303=Conferência!$M$2,Conferência!$M$2,\"\")","v":""},{"$f":"IF(Jogo!N303=Conferência!$N$2,Conferência!$N$2,\"\")","v":""},{"$f":"IF(Jogo!O303=Conferência!$O$2,Conferência!$O$2,\"\")","v":""},{"$f":"IF(Jogo!P303=Conferência!$P$2,Conferência!$P$2,\"\")","v":""},{"$f":"IF(Jogo!Q303=Conferência!$Q$2,Conferência!$Q$2,\"\")","v":""},""]
[{"$f":"IF(Jogo!A304=Conferência!$A$2,Conferência!$A$2,\"\")","v":""},{"$f":"IF(Jogo!B304=Conferência!$B$2,Conferência!$B$2,\"\")","v":"QUARTA-FEIRA"},{"$f":"IF(Jogo!C304=Conferência!$C$2,Conferência!$C$2,\"\")","v":1},{"$f":"IF(Jogo!D304=Conferência!$D$2,Conferência!$D$2,\"\")","v":""},{"$f":"IF(Jogo!E304=Conferência!$E$2,Conferência!$E$2,\"\")","v":""},{"$f":"IF(Jogo!F304=Conferência!$F$2,Conferência!$F$2,\"\")","v":""},{"$f":"IF(Jogo!G304=Conferência!$G$2,Conferência!$G$2,\"\")","v":""},{"$f":"IF(Jogo!H304=Conferência!$H$2,Conferência!$H$2,\"\")","v":9},{"$f":"IF(Jogo!I304=Conferência!$I$2,Conferência!$I$2,\"\")","v":""},{"$f":"IF(Jogo!J304=Conferência!$J$2,Conferência!$J$2,\"\")","v":""},{"$f":"IF(Jogo!K304=Conferência!$K$2,Conferência!$K$2,\"\")","v":""},{"$f":"IF(Jogo!L304=Conferência!$L$2,Conferência!$L$2,\"\")","v":""},{"$f":"IF(Jogo!M304=Conferência!$M$2,Conferência!$M$2,\"\")","v":""},{"$f":"IF(Jogo!N304=Conferência!$N$2,Conferência!$N$2,\"\")","v":""},{"$f":"IF(Jogo!O304=Conferência!$O$2,Conferência!$O$2,\"\")","v":""},{"$f":"IF(Jogo!P304=Conferência!$P$2,Conferência!$P$2,\"\")","v":""},{"$f":"IF(Jogo!Q304=Conferência!$Q$2,Conferência!$Q$2,\"\")","v":""},""]
[{"$f":"IF(Jogo!A305=Conferência!$A$2,Conferência!$A$2,\"\")","v":""},{"$f":"IF(Jogo!B305=Conferência!$B$2,Conferência!$B$2,\"\")","v":"QUARTA-FEIRA"},{"$f":"IF(Jogo!C305=Conferência!$C$2,Conferência!$C$2,\"\")","v":1},{"$f":"IF(Jogo!D305=Conferência!$D$2,Conferência!$D$2,\"\")","v":""},{"$f":"IF(Jogo!E305=Conferência!$E$2,Conferência!$E$2,\"\")","v":""},{"$f":"IF(Jogo!F305=Conferência!$F$2,Conferência!$F$2,\"\")","v":""},{"$f":"IF(Jogo!G305=Conferência!$G$2,Conferência!$G$2,\"\")","v":""},{"$f":"IF(Jogo!H305=Conferência!$H$2,Conferência!$H$2,\"\")","v":9},{"$f":"IF(Jogo!I305=Conferência!$I$2,Conferência!$I$2,\"\")","v":""},{"$f":"IF(Jogo!J305=Conferência!$J$2,Conferência!$J$2,\"\")","v":""},{"$f":"IF(Jogo!K305=Conferência!$K$2,Conferência!$K$2,\"\")","v":""},{"$f":"IF(Jogo!L305=Conferência!$L$2,Conferência!$L$2,\"\")","v":""},{"$f":"IF(Jogo!M305=Conferência!$M$2,Conferência!$M$2,\"\")","v":""},{"$f":"IF(Jogo!N305=Conferência!$N$2,Conferência!$N$2,\"\")","v":""},{"$f":"IF(Jogo!O305=Conferência!$O$2,Conferência!$O$2,\"\")","v":""},{"$f":"IF(Jogo!P305=Conferência!$P$2,Conferência!$P$2,\"\")","v":23},{"$f":"IF(Jogo!Q305=Conferência!$Q$2,Conferência!$Q$2,\"\")","v":24},""]
[{"$f":"IF(Jogo!A306=Conferência!$A$2,Conferência!$A$2,\"\")","v":""},{"$f":"IF(Jogo!B306=Conferência!$B$2,Conferência!$B$2,\"\")","v":"QUARTA-FEIRA"},{"$f":"IF(Jogo!C306=Conferência!$C$2,Conferência!$C$2,\"\")","v":""},{"$f":"IF(Jogo!D306=Conferência!$D$2,Conferência!$D$2,\"\")","v":3},{"$f":"IF(Jogo!E306=Conferência!$E$2,Conferência!$E$2,\"\")","v":4},{"$f":"IF(Jogo!F306=Conferência!$F$2,Conferência!$F$2,\"\")","v":6},{"$f":"IF(Jogo!G306=Conferência!$G$2,Conferência!$G$2,\"\")","v":""},{"$f":"IF(Jogo!H306=Conferência!$H$2,Conferência!$H$2,\"\")","v":9},{"$f":"IF(Jogo!I306=Conferência!$I$2,Conferência!$I$2,\"\")","v":""},{"$f":"IF(Jogo!J306=Conferência!$J$2,Conferência!$J$2,\"\")","v":""},{"$f":"IF(Jogo!K306=Conferência!$K$2,Conferência!$K$2,\"\")","v":""},{"$f":"IF(Jogo!L306=Conferência!$L$2,Conferência!$L$2,\"\")","v":""},{"$f":"IF(Jogo!M306=Conferência!$M$2,Conferência!$M$2,\"\")","v":15},{"$f":"IF(Jogo!N306=Conferência!$N$2,Conferência!$N$2,\"\")","v":""},{"$f":"IF(Jogo!O306=Conferência!$O$2,Conferência!$O$2,\"\")","v":""},{"$f":"IF(Jogo!P306=Conferência!$P$2,Conferência!$P$2,\"\")","v":""},{"$f":"IF(Jogo!Q306=Conferência!$Q$2,Conferência!$Q$2,\"\")","v":24},""]
[{"$f":"IF(Jogo!A307=Conferência!$A$2,Conferência!$A$2,\"\")","v":""},{"$f":"IF(Jogo!B307=Conferência!$B$2,Conferência!$B$2,\"\")","v":"QUARTA-FEIRA"},{"$f":"IF(Jogo!C307=Conferência!$C$2,Conferência!$C$2,\"\")","v":""},{"$f":"IF(Jogo!D307=Conferência!$D$2,Conferência!$D$2,\"\")","v":""},{"$f":"IF(Jogo!E307=Conferência!$E$2,Conferência!$E$2,\"\")","v":""},{"$f":"IF(Jogo!F307=Conferência!$F$2,Conferência!$F$2,\"\")","v":""},{"$f":"IF(Jogo!G307=Conferência!$G$2,Conferência!$G$2,\"\")","v":""},{"$f":"IF(Jogo!H307=Conferência!$H$2,Conferência!$H$2,\"\")","v":""},{"$f":"IF(Jogo!I307=Conferência!$I$2,Conferência!$I$2,\"\")","v":""},{"$f":"IF(Jogo!J307=Conferência!$J$2,Conferência!$J$2,\"\")","v":""},{"$f":"IF(Jogo!K307=Conferência!$K$2,Conferência!$K$2,\"\")","v":""},{"$f":"IF(Jogo!L307=Conferência!$L$2,Conferência!$L$2,\"\")","v":""},{"$f":"IF(Jogo!M307=Conferência!$M$2,Conferência!$M$2,\"\")","v":""},{"$f":"IF(Jogo!N307=Conferência!$N$2,Conferência!$N$2,\"\")","v":""},{"$f":"IF(Jogo!O307=Conferência!$O$2,Conferência!$O$2,\"\")","v":""},{"$f":"IF(Jogo!P307=Conferência!$P$2,Conferência!$P$2,\"\")","v":23},{"$f":"IF(Jogo!Q307=Conferência!$Q$2,Conferência!$Q$2,\"\")","v":""},""]
[{"$f":"IF(Jogo!A308=Conferência!$A$2,Conferência!$A$2,\"\")","v":""},{"$f":"IF(Jogo!B308=Conferência!$B$2,Conferência!$B$2,\"\")","v":"QUARTA-FEIRA"},{"$f":"IF(Jogo!C308=Conferência!$C$2,Conferência!$C$2,\"\")","v":1},{"$f":"IF(Jogo!D308=Conferência!$D$2,Conferência!$D$2,\"\")","v":""},{"$f":"IF(Jogo!E308=Conferência!$E$2,Conferência!$E$2,\"\")","v":""},{"$f":"IF(Jogo!F308=Conferência!$F$2,Conferência!$F$2,\"\")","v":""},{"$f":"IF(Jogo!G308=Conferência!$G$2,Conferência!$G$2,\"\")","v":""},{"$f":"IF(Jogo!H308=Conferência!$H$2,Conferência!$H$2,\"\")","v":""},{"$f":"IF(Jogo!I308=Conferência!$I$2,Conferência!$I$2,\"\")","v":""},{"$f":"IF(Jogo!J308=Conferência!$J$2,Conferência!$J$2,\"\")","v":""},{"$f":"IF(Jogo!K308=Conferência!$K$2,Conferência!$K$2,\"\")","v":""},{"$f":"IF(Jogo!L308=Conferência!$L$2,Conferência!$L$2,\"\")","v":""},{"$f":"IF(Jogo!M308=Conferência!$M$2,Conferência!$M$2,\"\")","v":""},{"$f":"IF(Jogo!N308=Conferência!$N$2,Conferência!$N$2,\"\")","v":""},{"$f":"IF(Jogo!O308=Conferência!$O$2,Conferência!$O$2,\"\")","v":""},{"$f":"IF(Jogo!P308=Conferência!$P$2,Conferência!$P$2,\"\")","v":""},{"$f":"IF(Jogo!Q308=Conferência!$Q$2,Conferência!$Q$2,\"\")","v":""},""]
[{"$f":"IF(Jogo!A309=Conferência!$A$2,Conferência!$A$2,\"\")","v":""},{"$f":"IF(Jogo!B309=Conferência!$B$2,Conferência!$B$2,\"\")","v":"QUARTA-FEIRA"},{"$f":"IF(Jogo!C309=Conferência!$C$2,Conferência!$C$2,\"\")","v":""},{"$f":"IF(Jogo!D309=Conferência!$D$2,Conferência!$D$2,\"\")","v":3},{"$f":"IF(Jogo!E309=Conferência!$E$2,Conferência!$E$2,\"\")","v":""},{"$f":"IF(Jogo!F309=Conferência!$F$2,Conferência!$F$2,\"\")","v":""},{"$f":"IF(Jogo!G309=Conferência!$G$2,Conferência!$G$2,\"\")","v":""},{"$f":"IF(Jogo!H309=Conferência!$H$2,Conferência!$H$2,\"\")","v":9},{"$f":"IF(Jogo!I309=Conferência!$I$2,Conferência!$I$2,\"\")","v":""},{"$f":"IF(Jogo!J309=Conferência!$J$2,Conferência!$J$2,\"\")","v":""},{"$f":"IF(Jogo!K309=Conferência!$K$2,Conferência!$K$2,\"\")","v":""},{"$f":"IF(Jogo!L309=Conferência!$L$2,Conferência!$L$2,\"\")","v":""},{"$f":"IF(Jogo!M309=Conferência!$M$2,Conferência!$M$2,\"\")","v":""},{"$f":"IF(Jogo!N309=Conferência!$N$2,Conferência!$N$2,\"\")","v":""},{"$f":"IF(Jogo!O309=Conferência!$O$2,Conferência!$O$2,\"\")","v":""},{"$f":"IF(Jogo!P309=Conferência!$P$2,Conferência!$P$2,\"\")","v":""},{"$f":"IF(Jogo!Q309=Conferência!$Q$2,Conferência!$Q$2,\"\")","v":""},""]
[{"$f":"IF(Jogo!A310=Conferência!$A$2,Conferência!$A$2,\"\")","v":""},{"$f":"IF(Jogo!B310=Conferência!$B$2,Conferência!$B$2,\"\")","v":"QUARTA-FEIRA"},{"$f":"IF(Jogo!C310=Conferência!$C$2,Conferência!$C$2,\"\")","v":1},{"$f":"IF(Jogo!D310=Conferência!$D$2,Conferência!$D$2,\"\")","v":3},{"$f":"IF(Jogo!E310=Conferência!$E$2,Conferência!$E$2,\"\")","v":""},{"$f":"IF(Jogo!F310=Conferência!$F$2,Conferência!$F$2,\"\")","v":6},{"$f":"IF(Jogo!G310=Conferência!$G$2,Conferência!$G$2,\"\")","v":7},{"$f":"IF(Jogo!H310=Conferência!$H$2,Conferência!$H$2,\"\")","v":""},{"$f":"IF(Jogo!I310=Conferência!$I$2,Conferência!$I$2,\"\")","v":""},{"$f":"IF(Jogo!J310=Conferência!$J$2,Conferência!$J$2,\"\")","v":""},{"$f":"IF(Jogo!K310=Conferência!$K$2,Conferência!$K$2,\"\")","v":""},{"$f":"IF(Jogo!L310=Conferência!$L$2,Conferência!$L$2,\"\")","v":""},{"$f":"IF(Jogo!M310=Conferência!$M$2,Conferência!$M$2,\"\")","v":15},{"$f":"IF(Jogo!N310=Conferência!$N$2,Conferência!$N$2,\"\")","v":""},{"$f":"IF(Jogo!O310=Conferência!$O$2,Conferência!$O$2,\"\")","v":""},{"$f":"IF(Jogo!P310=Conferência!$P$2,Conferência!$P$2,\"\")","v":""},{"$f":"IF(Jogo!Q310=Conferência!$Q$2,Conferência!$Q$2,\"\")","v":""},""]
[{"$f":"IF(Jogo!A311=Conferência!$A$2,Conferência!$A$2,\"\")","v":""},{"$f":"IF(Jogo!B311=Conferência!$B$2,Conferência!$B$2,\"\")","v":"QUARTA-FEIRA"},{"$f":"IF(Jogo!C311=Conferência!$C$2,Conferência!$C$2,\"\")","v":""},{"$f":"IF(Jogo!D311=Conferência!$D$2,Conferência!$D$2,\"\")","v":""},{"$f":"IF(Jogo!E311=Conferência!$E$2,Conferência!$E$2,\"\")","v":""},{"$f":"IF(Jogo!F311=Conferência!$F$2,Conferência!$F$2,\"\")","v":""},{"$f":"IF(Jogo!G311=Conferência!$G$2,Conferência!$G$2,\"\")","v":""},{"$f":"IF(Jogo!H311=Conferência!$H$2,Conferência!$H$2,\"\")","v":""},{"$f":"IF(Jogo!I311=Conferência!$I$2,Conferência!$I$2,\"\")","v":""},{"$f":"IF(Jogo!J311=Conferência!$J$2,Conferência!$J$2,\"\")","v":""},{"$f":"IF(Jogo!K311=Conferência!$K$2,Conferência!$K$2,\"\")","v":""},{"$f":"IF(Jogo!L311=Conferência!$L$2,Conferência!$L$2,\"\")","v":""},{"$f":"IF(Jogo!M311=Conferência!$M$2,Conferência!$M$2,\"\")","v":""},{"$f":"IF(Jogo!N311=Conferência!$N$2,Conferência!$N$2,\"\")","v":""},{"$f":"IF(Jogo!O311=Conferência!$O$2,Conferência!$O$2,\"\")","v":""},{"$f":"IF(Jogo!P311=Conferência!$P$2,Conferência!$P$2,\"\")","v":""},{"$f":"IF(Jogo!Q311=Conferência!$Q$2,Conferência!$Q$2,\"\")","v":""},""]
[{"$f":"IF(Jogo!A312=Conferência!$A$2,Conferência!$A$2,\"\")","v":""},{"$f":"IF(Jogo!B312=Conferência!$B$2,Conferência!$B$2,\"\")","v":"QUARTA-FEIRA"},{"$f":"IF(Jogo!C312=Conferência!$C$2,Conferência!$C$2,\"\")","v":""},{"$f":"IF(Jogo!D312=Conferência!$D$2,Conferência!$D$2,\"\")","v":3},{"$f":"IF(Jogo!E312=Conferência!$E$2,Conferência!$E$2,\"\")","v":4},{"$f":"IF(Jogo!F312=Conferência!$F$2,Conferência!$F$2,\"\")","v":""},{"$f":"IF(Jogo!G312=Conferência!$G$2,Conferência!$G$2,\"\")","v":""},{"$f":"IF(Jogo!H312=Conferência!$H$2,Conferência!$H$2,\"\")","v":9},{"$f":"IF(Jogo!I312=Conferência!$I$2,Conferência!$I$2,\"\")","v":10},{"$f":"IF(Jogo!J312=Conferência!$J$2,Conferência!$J$2,\"\")","v":""},{"$f":"IF(Jogo!K312=Conferência!$K$2,Conferência!$K$2,\"\")","v":""},{"$f":"IF(Jogo!L312=Conferência!$L$2,Conferência!$L$2,\"\")","v":""},{"$f":"IF(Jogo!M312=Conferência!$M$2,Conferência!$M$2,\"\")","v":""},{"$f":"IF(Jogo!N312=Conferência!$N$2,Conferência!$N$2,\"\")","v":""},{"$f":"IF(Jogo!O312=Conferência!$O$2,Conferência!$O$2,\"\")","v":""},{"$f":"IF(Jogo!P312=Conferência!$P$2,Conferência!$P$2,\"\")","v":23},{"$f":"IF(Jogo!Q312=Conferência!$Q$2,Conferência!$Q$2,\"\")","v":""},""]
[{"$f":"IF(Jogo!A313=Conferência!$A$2,Conferência!$A$2,\"\")","v":""},{"$f":"IF(Jogo!B313=Conferência!$B$2,Conferência!$B$2,\"\")","v":"QUARTA-FEIRA"},{"$f":"IF(Jogo!C313=Conferência!$C$2,Conferência!$C$2,\"\")","v":""},{"$f":"IF(Jogo!D313=Conferência!$D$2,Conferência!$D$2,\"\")","v":""},{"$f":"IF(Jogo!E313=Conferência!$E$2,Conferência!$E$2,\"\")","v":""},{"$f":"IF(Jogo!F313=Conferência!$F$2,Conferência!$F$2,\"\")","v":""},{"$f":"IF(Jogo!G313=Conferência!$G$2,Conferência!$G$2,\"\")","v":""},{"$f":"IF(Jogo!H313=Conferência!$H$2,Conferência!$H$2,\"\")","v":""},{"$f":"IF(Jogo!I313=Conferência!$I$2,Conferência!$I$2,\"\")","v":""},{"$f":"IF(Jogo!J313=Conferência!$J$2,Conferência!$J$2,\"\")","v":""},{"$f":"IF(Jogo!K313=Conferência!$K$2,Conferência!$K$2,\"\")","v":""},{"$f":"IF(Jogo!L313=Conferência!$L$2,Conferência!$L$2,\"\")","v":""},{"$f":"IF(Jogo!M313=Conferência!$M$2,Conferência!$M$2,\"\")","v":""},{"$f":"IF(Jogo!N313=Conferência!$N$2,Conferência!$N$2,\"\")","v":""},{"$f":"IF(Jogo!O313=Conferência!$O$2,Conferência!$O$2,\"\")","v":""},{"$f":"IF(Jogo!P313=Conferência!$P$2,Conferência!$P$2,\"\")","v":""},{"$f":"IF(Jogo!Q313=Conferência!$Q$2,Conferência!$Q$2,\"\")","v":""},""]
[{"$f":"IF(Jogo!A314=Conferência!$A$2,Conferência!$A$2,\"\")","v":""},{"$f":"IF(Jogo!B314=Conferência!$B$2,Conferência!$B$2,\"\")","v":"QUARTA-FEIRA"},{"$f":"IF(Jogo!C314=Conferência!$C$2,Conferência!$C$2,\"\")","v":1},{"$f":"IF(Jogo!D314=Conferência!$D$2,Conferência!$D$2,\"\")","v":""},{"$f":"IF(Jogo!E314=Conferência!$E$2,Conferência!$E$2,\"\")","v":""},{"$f":"IF(Jogo!F314=Conferência!$F$2,Conferência!$F$2,\"\")","v":""},{"$f":"IF(Jogo!G314=Conferência!$G$2,Conferência!$G$2,\"\")","v":""},{"$f":"IF(Jogo!H314=Conferência!$H$2,Conferência!$H$2,\"\")","v":""},{"$f":"IF(Jogo!I314=Conferência!$I$2,Conferência!$I$2,\"\")","v":""},{"$f":"IF(Jogo!J314=Conferência!$J$2,Conferência!$J$2,\"\")","v":""},{"$f":"IF(Jogo!K314=Conferência!$K$2,Conferência!$K$2,\"\")","v":""},{"$f":"IF(Jogo!L314=Conferência!$L$2,Conferência!$L$2,\"\")","v":""},{"$f":"IF(Jogo!M314=Conferência!$M$2,Conferência!$M$2,\"\")","v":""},{"$f":"IF(Jogo!N314=Conferência!$N$2,Conferência!$N$2,\"\")","v":""},{"$f":"IF(Jogo!O314=Conferência!$O$2,Conferência!$O$2,\"\")","v":""},{"$f":"IF(Jogo!P314=Conferência!$P$2,Conferência!$P$2,\"\")","v":""},{"$f":"IF(Jogo!Q314=Conferência!$Q$2,Conferência!$Q$2,\"\")","v":24},""]
[{"$f":"IF(Jogo!A315=Conferência!$A$2,Conferência!$A$2,\"\")","v":""},{"$f":"IF(Jogo!B315=Conferência!$B$2,Conferência!$B$2,\"\")","v":"QUARTA-FEIRA"},{"$f":"IF(Jogo!C315=Conferência!$C$2,Conferência!$C$2,\"\")","v":1},{"$f":"IF(Jogo!D315=Conferência!$D$2,Conferência!$D$2,\"\")","v":""},{"$f":"IF(Jogo!E315=Conferência!$E$2,Conferência!$E$2,\"\")","v":""},{"$f":"IF(Jogo!F315=Conferência!$F$2,Conferência!$F$2,\"\")","v":""},{"$f":"IF(Jogo!G315=Conferência!$G$2,Conferência!$G$2,\"\")","v":""},{"$f":"IF(Jogo!H315=Conferência!$H$2,Conferência!$H$2,\"\")","v":""},{"$f":"IF(Jogo!I315=Conferência!$I$2,Conferência!$I$2,\"\")","v":""},{"$f":"IF(Jogo!J315=Conferência!$J$2,Conferência!$J$2,\"\")","v":""},{"$f":"IF(Jogo!K315=Conferência!$K$2,Conferência!$K$2,\"\")","v":""},{"$f":"IF(Jogo!L315=Conferência!$L$2,Conferência!$L$2,\"\")","v":""},{"$f":"IF(Jogo!M315=Conferência!$M$2,Conferência!$M$2,\"\")","v":""},{"$f":"IF(Jogo!N315=Conferência!$N$2,Conferência!$N$2,\"\")","v":""},{"$f":"IF(Jogo!O315=Conferência!$O$2,Conferência!$O$2,\"\")","v":""},{"$f":"IF(Jogo!P315=Conferência!$P$2,Conferência!$P$2,\"\")","v":23},{"$f":"IF(Jogo!Q315=Conferência!$Q$2,Conferência!$Q$2,\"\")","v":""},""]
[{"$f":"IF(Jogo!A316=Conferência!$A$2,Conferência!$A$2,\"\")","v":""},{"$f":"IF(Jogo!B316=Conferência!$B$2,Conferência!$B$2,\"\")","v":"QUARTA-FEIRA"},{"$f":"IF(Jogo!C316=Conferência!$C$2,Conferência!$C$2,\"\")","v":""},{"$f":"IF(Jogo!D316=Conferência!$D$2,Conferência!$D$2,\"\")","v":""},{"$f":"IF(Jogo!E316=Conferência!$E$2,Conferência!$E$2,\"\")","v":""},{"$f":"IF(Jogo!F316=Conferência!$F$2,Conferência!$F$2,\"\")","v":""},{"$f":"IF(Jogo!G316=Conferência!$G$2,Conferência!$G$2,\"\")","v":""},{"$f":"IF(Jogo!H316=Conferência!$H$2,Conferência!$H$2,\"\")","v":""},{"$f":"IF(Jogo!I316=Conferência!$I$2,Conferência!$I$2,\"\")","v":""},{"$f":"IF(Jogo!J316=Conferência!$J$2,Conferência!$J$2,\"\")","v":""},{"$f":"IF(Jogo!K316=Conferência!$K$2,Conferência!$K$2,\"\")","v":""},{"$f":"IF(Jogo!L316=Conferência!$L$2,Conferência!$L$2,\"\")","v":""},{"$f":"IF(Jogo!M316=Conferência!$M$2,Conferência!$M$2,\"\")","v":""},{"$f":"IF(Jogo!N316=Conferência!$N$2,Conferência!$N$2,\"\")","v":""},{"$f":"IF(Jogo!O316=Conferência!$O$2,Conferência!$O$2,\"\")","v":""},{"$f":"IF(Jogo!P316=Conferência!$P$2,Conferência!$P$2,\"\")","v":23},{"$f":"IF(Jogo!Q316=Conferência!$Q$2,Conferência!$Q$2,\"\")","v":24},""]
[{"$f":"IF(Jogo!A317=Conferência!$A$2,Conferência!$A$2,\"\")","v":""},{"$f":"IF(Jogo!B317=Conferência!$B$2,Conferência!$B$2,\"\")","v":"QUARTA-FEIRA"},{"$f":"IF(Jogo!C317=Conferência!$C$2,Conferência!$C$2,\"\")","v":1},{"$f":"IF(Jogo!D317=Conferência!$D$2,Conferência!$D$2,\"\")","v":""},{"$f":"IF(Jogo!E317=Conferência!$E$2,Conferência!$E$2,\"\")","v":""},{"$f":"IF(Jogo!F317=Conferência!$F$2,Conferência!$F$2,\"\")","v":""},{"$f":"IF(Jogo!G317=Conferência!$G$2,Conferência!$G$2,\"\")","v":""},{"$f":"IF(Jogo!H317=Conferência!$H$2,Conferência!$H$2,\"\")","v":""},{"$f":"IF(Jogo!I317=Conferência!$I$2,Conferência!$I$2,\"\")","v":""},{"$f":"IF(Jogo!J317=Conferência!$J$2,Conferência!$J$2,\"\")","v":""},{"$f":"IF(Jogo!K317=Conferência!$K$2,Conferência!$K$2,\"\")","v":""},{"$f":"IF(Jogo!L317=Conferência!$L$2,Conferência!$L$2,\"\")","v":""},{"$f":"IF(Jogo!M317=Conferência!$M$2,Conferência!$M$2,\"\")","v":""},{"$f":"IF(Jogo!N317=Conferência!$N$2,Conferência!$N$2,\"\")","v":""},{"$f":"IF(Jogo!O317=Conferência!$O$2,Conferência!$O$2,\"\")","v":""},{"$f":"IF(Jogo!P317=Conferência!$P$2,Conferência!$P$2,\"\")","v":""},{"$f":"IF(Jogo!Q317=Conferência!$Q$2,Conferência!$Q$2,\"\")","v":""},""]
[{"$f":"IF(Jogo!A318=Conferência!$A$2,Conferência!$A$2,\"\")","v":""},{"$f":"IF(Jogo!B318=Conferência!$B$2,Conferência!$B$2,\"\")","v":"QUARTA-FEIRA"},{"$f":"IF(Jogo!C318=Conferência!$C$2,Conferência!$C$2,\"\")","v":1},{"$f":"IF(Jogo!D318=Conferência!$D$2,Conferência!$D$2,\"\")","v":""},{"$f":"IF(Jogo!E318=Conferência!$E$2,Conferência!$E$2,\"\")","v":""},{"$f":"IF(Jogo!F318=Conferência!$F$2,Conferência!$F$2,\"\")","v":""},{"$f":"IF(Jogo!G318=Conferência!$G$2,Conferência!$G$2,\"\")","v":""},{"$f":"IF(Jogo!H318=Conferência!$H$2,Conferência!$H$2,\"\")","v":""},{"$f":"IF(Jogo!I318=Conferência!$I$2,Conferência!$I$2,\"\")","v":""},{"$f":"IF(Jogo!J318=Conferência!$J$2,Conferência!$J$2,\"\")","v":11},{"$f":"IF(Jogo!K318=Conferência!$K$2,Conferência!$K$2,\"\")","v":12},{"$f":"IF(Jogo!L318=Conferência!$L$2,Conferência!$L$2,\"\")","v":13},{"$f":"IF(Jogo!M318=Conferência!$M$2,Conferência!$M$2,\"\")","v":""},{"$f":"IF(Jogo!N318=Conferência!$N$2,Conferência!$N$2,\"\")","v":""},{"$f":"IF(Jogo!O318=Conferência!$O$2,Conferência!$O$2,\"\")","v":""},{"$f":"IF(Jogo!P318=Conferência!$P$2,Conferência!$P$2,\"\")","v":""},{"$f":"IF(Jogo!Q318=Conferência!$Q$2,Conferência!$Q$2,\"\")","v":""},""]
[{"$f":"IF(Jogo!A319=Conferência!$A$2,Conferência!$A$2,\"\")","v":""},{"$f":"IF(Jogo!B319=Conferência!$B$2,Conferência!$B$2,\"\")","v":"QUARTA-FEIRA"},{"$f":"IF(Jogo!C319=Conferência!$C$2,Conferência!$C$2,\"\")","v":1},{"$f":"IF(Jogo!D319=Conferência!$D$2,Conferência!$D$2,\"\")","v":""},{"$f":"IF(Jogo!E319=Conferência!$E$2,Conferência!$E$2,\"\")","v":""},{"$f":"IF(Jogo!F319=Conferência!$F$2,Conferência!$F$2,\"\")","v":6},{"$f":"IF(Jogo!G319=Conferência!$G$2,Conferência!$G$2,\"\")","v":""},{"$f":"IF(Jogo!H319=Conferência!$H$2,Conferência!$H$2,\"\")","v":9},{"$f":"IF(Jogo!I319=Conferência!$I$2,Conferência!$I$2,\"\")","v":10},{"$f":"IF(Jogo!J319=Conferência!$J$2,Conferência!$J$2,\"\")","v":""},{"$f":"IF(Jogo!K319=Conferência!$K$2,Conferência!$K$2,\"\")","v":""},{"$f":"IF(Jogo!L319=Conferência!$L$2,Conferência!$L$2,\"\")","v":""},{"$f":"IF(Jogo!M319=Conferência!$M$2,Conferência!$M$2,\"\")","v":""},{"$f":"IF(Jogo!N319=Conferência!$N$2,Conferência!$N$2,\"\")","v":""},{"$f":"IF(Jogo!O319=Conferência!$O$2,Conferência!$O$2,\"\")","v":""},{"$f":"IF(Jogo!P319=Conferência!$P$2,Conferência!$P$2,\"\")","v":""},{"$f":"IF(Jogo!Q319=Conferência!$Q$2,Conferência!$Q$2,\"\")","v":""},""]
[{"$f":"IF(Jogo!A320=Conferência!$A$2,Conferência!$A$2,\"\")","v":""},{"$f":"IF(Jogo!B320=Conferência!$B$2,Conferência!$B$2,\"\")","v":"QUARTA-FEIRA"},{"$f":"IF(Jogo!C320=Conferência!$C$2,Conferência!$C$2,\"\")","v":1},{"$f":"IF(Jogo!D320=Conferência!$D$2,Conferência!$D$2,\"\")","v":""},{"$f":"IF(Jogo!E320=Conferência!$E$2,Conferência!$E$2,\"\")","v":""},{"$f":"IF(Jogo!F320=Conferência!$F$2,Conferência!$F$2,\"\")","v":""},{"$f":"IF(Jogo!G320=Conferência!$G$2,Conferência!$G$2,\"\")","v":""},{"$f":"IF(Jogo!H320=Conferência!$H$2,Conferência!$H$2,\"\")","v":""},{"$f":"IF(Jogo!I320=Conferência!$I$2,Conferência!$I$2,\"\")","v":""},{"$f":"IF(Jogo!J320=Conferência!$J$2,Conferência!$J$2,\"\")","v":""},{"$f":"IF(Jogo!K320=Conferência!$K$2,Conferência!$K$2,\"\")","v":12},{"$f":"IF(Jogo!L320=Conferência!$L$2,Conferência!$L$2,\"\")","v":""},{"$f":"IF(Jogo!M320=Conferência!$M$2,Conferência!$M$2,\"\")","v":""},{"$f":"IF(Jogo!N320=Conferência!$N$2,Conferência!$N$2,\"\")","v":""},{"$f":"IF(Jogo!O320=Conferência!$O$2,Conferência!$O$2,\"\")","v":""},{"$f":"IF(Jogo!P320=Conferência!$P$2,Conferência!$P$2,\"\")","v":23},{"$f":"IF(Jogo!Q320=Conferência!$Q$2,Conferência!$Q$2,\"\")","v":""},""]
[{"$f":"IF(Jogo!A321=Conferência!$A$2,Conferência!$A$2,\"\")","v":""},{"$f":"IF(Jogo!B321=Conferência!$B$2,Conferência!$B$2,\"\")","v":"QUARTA-FEIRA"},{"$f":"IF(Jogo!C321=Conferência!$C$2,Conferência!$C$2,\"\")","v":""},{"$f":"IF(Jogo!D321=Conferência!$D$2,Conferência!$D$2,\"\")","v":3},{"$f":"IF(Jogo!E321=Conferência!$E$2,Conferência!$E$2,\"\")","v":""},{"$f":"IF(Jogo!F321=Conferência!$F$2,Conferência!$F$2,\"\")","v":6},{"$f":"IF(Jogo!G321=Conferência!$G$2,Conferência!$G$2,\"\")","v":""},{"$f":"IF(Jogo!H321=Conferência!$H$2,Conferência!$H$2,\"\")","v":9},{"$f":"IF(Jogo!I321=Conferência!$I$2,Conferência!$I$2,\"\")","v":""},{"$f":"IF(Jogo!J321=Conferência!$J$2,Conferência!$J$2,\"\")","v":""},{"$f":"IF(Jogo!K321=Conferência!$K$2,Conferência!$K$2,\"\")","v":""},{"$f":"IF(Jogo!L321=Conferência!$L$2,Conferência!$L$2,\"\")","v":""},{"$f":"IF(Jogo!M321=Conferência!$M$2,Conferência!$M$2,\"\")","v":""},{"$f":"IF(Jogo!N321=Conferência!$N$2,Conferência!$N$2,\"\")","v":""},{"$f":"IF(Jogo!O321=Conferência!$O$2,Conferência!$O$2,\"\")","v":""},{"$f":"IF(Jogo!P321=Conferência!$P$2,Conferência!$P$2,\"\")","v":""},{"$f":"IF(Jogo!Q321=Conferência!$Q$2,Conferência!$Q$2,\"\")","v":""},""]
[{"$f":"IF(Jogo!A322=Conferência!$A$2,Conferência!$A$2,\"\")","v":""},{"$f":"IF(Jogo!B322=Conferência!$B$2,Conferência!$B$2,\"\")","v":"QUARTA-FEIRA"},{"$f":"IF(Jogo!C322=Conferência!$C$2,Conferência!$C$2,\"\")","v":1},{"$f":"IF(Jogo!D322=Conferência!$D$2,Conferência!$D$2,\"\")","v":""},{"$f":"IF(Jogo!E322=Conferência!$E$2,Conferência!$E$2,\"\")","v":""},{"$f":"IF(Jogo!F322=Conferência!$F$2,Conferência!$F$2,\"\")","v":""},{"$f":"IF(Jogo!G322=Conferência!$G$2,Conferência!$G$2,\"\")","v":7},{"$f":"IF(Jogo!H322=Conferência!$H$2,Conferência!$H$2,\"\")","v":""},{"$f":"IF(Jogo!I322=Conferência!$I$2,Conferência!$I$2,\"\")","v":""},{"$f":"IF(Jogo!J322=Conferência!$J$2,Conferência!$J$2,\"\")","v":""},{"$f":"IF(Jogo!K322=Conferência!$K$2,Conferência!$K$2,\"\")","v":""},{"$f":"IF(Jogo!L322=Conferência!$L$2,Conferência!$L$2,\"\")","v":""},{"$f":"IF(Jogo!M322=Conferência!$M$2,Conferência!$M$2,\"\")","v":""},{"$f":"IF(Jogo!N322=Conferência!$N$2,Conferência!$N$2,\"\")","v":""},{"$f":"IF(Jogo!O322=Conferência!$O$2,Conferência!$O$2,\"\")","v":""},{"$f":"IF(Jogo!P322=Conferência!$P$2,Conferência!$P$2,\"\")","v":23},{"$f":"IF(Jogo!Q322=Conferência!$Q$2,Conferência!$Q$2,\"\")","v":""},""]
[{"$f":"IF(Jogo!A323=Conferência!$A$2,Conferência!$A$2,\"\")","v":""},{"$f":"IF(Jogo!B323=Conferência!$B$2,Conferência!$B$2,\"\")","v":"QUARTA-FEIRA"},{"$f":"IF(Jogo!C323=Conferência!$C$2,Conferência!$C$2,\"\")","v":1},{"$f":"IF(Jogo!D323=Conferência!$D$2,Conferência!$D$2,\"\")","v":3},{"$f":"IF(Jogo!E323=Conferência!$E$2,Conferência!$E$2,\"\")","v":4},{"$f":"IF(Jogo!F323=Conferência!$F$2,Conferência!$F$2,\"\")","v":""},{"$f":"IF(Jogo!G323=Conferência!$G$2,Conferência!$G$2,\"\")","v":""},{"$f":"IF(Jogo!H323=Conferência!$H$2,Conferência!$H$2,\"\")","v":""},{"$f":"IF(Jogo!I323=Conferência!$I$2,Conferência!$I$2,\"\")","v":""},{"$f":"IF(Jogo!J323=Conferência!$J$2,Conferência!$J$2,\"\")","v":""},{"$f":"IF(Jogo!K323=Conferência!$K$2,Conferência!$K$2,\"\")","v":""},{"$f":"IF(Jogo!L323=Conferência!$L$2,Conferência!$L$2,\"\")","v":""},{"$f":"IF(Jogo!M323=Conferência!$M$2,Conferência!$M$2,\"\")","v":""},{"$f":"IF(Jogo!N323=Conferência!$N$2,Conferência!$N$2,\"\")","v":""},{"$f":"IF(Jogo!O323=Conferência!$O$2,Conferência!$O$2,\"\")","v":""},{"$f":"IF(Jogo!P323=Conferência!$P$2,Conferência!$P$2,\"\")","v":23},{"$f":"IF(Jogo!Q323=Conferência!$Q$2,Conferência!$Q$2,\"\")","v":24},""]
[{"$f":"IF(Jogo!A324=Conferência!$A$2,Conferência!$A$2,\"\")","v":""},{"$f":"IF(Jogo!B324=Conferência!$B$2,Conferência!$B$2,\"\")","v":"QUARTA-FEIRA"},{"$f":"IF(Jogo!C324=Conferência!$C$2,Conferência!$C$2,\"\")","v":1},{"$f":"IF(Jogo!D324=Conferência!$D$2,Conferência!$D$2,\"\")","v":""},{"$f":"IF(Jogo!E324=Conferência!$E$2,Conferência!$E$2,\"\")","v":""},{"$f":"IF(Jogo!F324=Conferência!$F$2,Conferência!$F$2,\"\")","v":""},{"$f":"IF(Jogo!G324=Conferência!$G$2,Conferência!$G$2,\"\")","v":""},{"$f":"IF(Jogo!H324=Conferência!$H$2,Conferência!$H$2,\"\")","v":""},{"$f":"IF(Jogo!I324=Conferência!$I$2,Conferência!$I$2,\"\")","v":""},{"$f":"IF(Jogo!J324=Conferência!$J$2,Conferência!$J$2,\"\")","v":""},{"$f":"IF(Jogo!K324=Conferência!$K$2,Conferência!$K$2,\"\")","v":""},{"$f":"IF(Jogo!L324=Conferência!$L$2,Conferência!$L$2,\"\")","v":""},{"$f":"IF(Jogo!M324=Conferência!$M$2,Conferência!$M$2,\"\")","v":""},{"$f":"IF(Jogo!N324=Conferência!$N$2,Conferência!$N$2,\"\")","v":""},{"$f":"IF(Jogo!O324=Conferência!$O$2,Conferência!$O$2,\"\")","v":""},{"$f":"IF(Jogo!P324=Conferência!$P$2,Conferência!$P$2,\"\")","v":23},{"$f":"IF(Jogo!Q324=Conferência!$Q$2,Conferência!$Q$2,\"\")","v":""},""]
[{"$f":"IF(Jogo!A325=Conferência!$A$2,Conferência!$A$2,\"\")","v":""},{"$f":"IF(Jogo!B325=Conferência!$B$2,Conferência!$B$2,\"\")","v":"QUARTA-FEIRA"},{"$f":"IF(Jogo!C325=Conferência!$C$2,Conferência!$C$2,\"\")","v":""},{"$f":"IF(Jogo!D325=Conferência!$D$2,Conferência!$D$2,\"\")","v":""},{"$f":"IF(Jogo!E325=Conferência!$E$2,Conferência!$E$2,\"\")","v":""},{"$f":"IF(Jogo!F325=Conferência!$F$2,Conferência!$F$2,\"\")","v":""},{"$f":"IF(Jogo!G325=Conferência!$G$2,Conferência!$G$2,\"\")","v":""},{"$f":"IF(Jogo!H325=Conferência!$H$2,Conferência!$H$2,\"\")","v":""},{"$f":"IF(Jogo!I325=Conferência!$I$2,Conferência!$I$2,\"\")","v":""},{"$f":"IF(Jogo!J325=Conferência!$J$2,Conferência!$J$2,\"\")","v":""},{"$f":"IF(Jogo!K325=Conferência!$K$2,Conferência!$K$2,\"\")","v":""},{"$f":"IF(Jogo!L325=Conferência!$L$2,Conferência!$L$2,\"\")","v":""},{"$f":"IF(Jogo!M325=Conferência!$M$2,Conferência!$M$2,\"\")","v":""},{"$f":"IF(Jogo!N325=Conferência!$N$2,Conferência!$N$2,\"\")","v":""},{"$f":"IF(Jogo!O325=Conferência!$O$2,Conferência!$O$2,\"\")","v":""},{"$f":"IF(Jogo!P325=Conferência!$P$2,Conferência!$P$2,\"\")","v":""},{"$f":"IF(Jogo!Q325=Conferência!$Q$2,Conferência!$Q$2,\"\")","v":""},""]
[{"$f":"IF(Jogo!A326=Conferência!$A$2,Conferência!$A$2,\"\")","v":""},{"$f":"IF(Jogo!B326=Conferência!$B$2,Conferência!$B$2,\"\")","v":"QUARTA-FEIRA"},{"$f":"IF(Jogo!C326=Conferência!$C$2,Conferência!$C$2,\"\")","v":1},{"$f":"IF(Jogo!D326=Conferência!$D$2,Conferência!$D$2,\"\")","v":""},{"$f":"IF(Jogo!E326=Conferência!$E$2,Conferência!$E$2,\"\")","v":""},{"$f":"IF(Jogo!F326=Conferência!$F$2,Conferência!$F$2,\"\")","v":""},{"$f":"IF(Jogo!G326=Conferência!$G$2,Conferência!$G$2,\"\")","v":""},{"$f":"IF(Jogo!H326=Conferência!$H$2,Conferência!$H$2,\"\")","v":""},{"$f":"IF(Jogo!I326=Conferência!$I$2,Conferência!$I$2,\"\")","v":""},{"$f":"IF(Jogo!J326=Conferência!$J$2,Conferência!$J$2,\"\")","v":""},{"$f":"IF(Jogo!K326=Conferência!$K$2,Conferência!$K$2,\"\")","v":""},{"$f":"IF(Jogo!L326=Conferência!$L$2,Conferência!$L$2,\"\")","v":""},{"$f":"IF(Jogo!M326=Conferência!$M$2,Conferência!$M$2,\"\")","v":""},{"$f":"IF(Jogo!N326=Conferência!$N$2,Conferência!$N$2,\"\")","v":""},{"$f":"IF(Jogo!O326=Conferência!$O$2,Conferência!$O$2,\"\")","v":19},{"$f":"IF(Jogo!P326=Conferência!$P$2,Conferência!$P$2,\"\")","v":""},{"$f":"IF(Jogo!Q326=Conferência!$Q$2,Conferência!$Q$2,\"\")","v":24},""]
[{"$f":"IF(Jogo!A327=Conferência!$A$2,Conferência!$A$2,\"\")","v":""},{"$f":"IF(Jogo!B327=Conferência!$B$2,Conferência!$B$2,\"\")","v":"QUARTA-FEIRA"},{"$f":"IF(Jogo!C327=Conferência!$C$2,Conferência!$C$2,\"\")","v":1},{"$f":"IF(Jogo!D327=Conferência!$D$2,Conferência!$D$2,\"\")","v":""},{"$f":"IF(Jogo!E327=Conferência!$E$2,Conferência!$E$2,\"\")","v":4},{"$f":"IF(Jogo!F327=Conferência!$F$2,Conferência!$F$2,\"\")","v":""},{"$f":"IF(Jogo!G327=Conferência!$G$2,Conferência!$G$2,\"\")","v":7},{"$f":"IF(Jogo!H327=Conferência!$H$2,Conferência!$H$2,\"\")","v":""},{"$f":"IF(Jogo!I327=Conferência!$I$2,Conferência!$I$2,\"\")","v":10},{"$f":"IF(Jogo!J327=Conferência!$J$2,Conferência!$J$2,\"\")","v":""},{"$f":"IF(Jogo!K327=Conferência!$K$2,Conferência!$K$2,\"\")","v":""},{"$f":"IF(Jogo!L327=Conferência!$L$2,Conferência!$L$2,\"\")","v":""},{"$f":"IF(Jogo!M327=Conferência!$M$2,Conferência!$M$2,\"\")","v":""},{"$f":"IF(Jogo!N327=Conferência!$N$2,Conferência!$N$2,\"\")","v":""},{"$f":"IF(Jogo!O327=Conferência!$O$2,Conferência!$O$2,\"\")","v":""},{"$f":"IF(Jogo!P327=Conferência!$P$2,Conferência!$P$2,\"\")","v":23},{"$f":"IF(Jogo!Q327=Conferência!$Q$2,Conferência!$Q$2,\"\")","v":""},""]
[{"$f":"IF(Jogo!A328=Conferência!$A$2,Conferência!$A$2,\"\")","v":""},{"$f":"IF(Jogo!B328=Conferência!$B$2,Conferência!$B$2,\"\")","v":"QUARTA-FEIRA"},{"$f":"IF(Jogo!C328=Conferência!$C$2,Conferência!$C$2,\"\")","v":1},{"$f":"IF(Jogo!D328=Conferência!$D$2,Conferência!$D$2,\"\")","v":3},{"$f":"IF(Jogo!E328=Conferência!$E$2,Conferência!$E$2,\"\")","v":4},{"$f":"IF(Jogo!F328=Conferência!$F$2,Conferência!$F$2,\"\")","v":6},{"$f":"IF(Jogo!G328=Conferência!$G$2,Conferência!$G$2,\"\")","v":7},{"$f":"IF(Jogo!H328=Conferência!$H$2,Conferência!$H$2,\"\")","v":""},{"$f":"IF(Jogo!I328=Conferência!$I$2,Conferência!$I$2,\"\")","v":""},{"$f":"IF(Jogo!J328=Conferência!$J$2,Conferência!$J$2,\"\")","v":""},{"$f":"IF(Jogo!K328=Conferência!$K$2,Conferência!$K$2,\"\")","v":""},{"$f":"IF(Jogo!L328=Conferência!$L$2,Conferência!$L$2,\"\")","v":""},{"$f":"IF(Jogo!M328=Conferência!$M$2,Conferência!$M$2,\"\")","v":""},{"$f":"IF(Jogo!N328=Conferência!$N$2,Conferência!$N$2,\"\")","v":""},{"$f":"IF(Jogo!O328=Conferência!$O$2,Conferência!$O$2,\"\")","v":""},{"$f":"IF(Jogo!P328=Conferência!$P$2,Conferência!$P$2,\"\")","v":""},{"$f":"IF(Jogo!Q328=Conferência!$Q$2,Conferência!$Q$2,\"\")","v":""},""]
[{"$f":"IF(Jogo!A329=Conferência!$A$2,Conferência!$A$2,\"\")","v":""},{"$f":"IF(Jogo!B329=Conferência!$B$2,Conferência!$B$2,\"\")","v":"QUARTA-FEIRA"},{"$f":"IF(Jogo!C329=Conferência!$C$2,Conferência!$C$2,\"\")","v":""},{"$f":"IF(Jogo!D329=Conferência!$D$2,Conferência!$D$2,\"\")","v":""},{"$f":"IF(Jogo!E329=Conferência!$E$2,Conferência!$E$2,\"\")","v":""},{"$f":"IF(Jogo!F329=Conferência!$F$2,Conferência!$F$2,\"\")","v":""},{"$f":"IF(Jogo!G329=Conferência!$G$2,Conferência!$G$2,\"\")","v":""},{"$f":"IF(Jogo!H329=Conferência!$H$2,Conferência!$H$2,\"\")","v":""},{"$f":"IF(Jogo!I329=Conferência!$I$2,Conferência!$I$2,\"\")","v":""},{"$f":"IF(Jogo!J329=Conferência!$J$2,Conferência!$J$2,\"\")","v":""},{"$f":"IF(Jogo!K329=Conferência!$K$2,Conferência!$K$2,\"\")","v":""},{"$f":"IF(Jogo!L329=Conferência!$L$2,Conferência!$L$2,\"\")","v":""},{"$f":"IF(Jogo!M329=Conferência!$M$2,Conferência!$M$2,\"\")","v":""},{"$f":"IF(Jogo!N329=Conferência!$N$2,Conferência!$N$2,\"\")","v":""},{"$f":"IF(Jogo!O329=Conferência!$O$2,Conferência!$O$2,\"\")","v":19},{"$f":"IF(Jogo!P329=Conferência!$P$2,Conferência!$P$2,\"\")","v":23},{"$f":"IF(Jogo!Q329=Conferência!$Q$2,Conferência!$Q$2,\"\")","v":24},""]
[{"$f":"IF(Jogo!A330=Conferência!$A$2,Conferência!$A$2,\"\")","v":""},{"$f":"IF(Jogo!B330=Conferência!$B$2,Conferência!$B$2,\"\")","v":"QUARTA-FEIRA"},{"$f":"IF(Jogo!C330=Conferência!$C$2,Conferência!$C$2,\"\")","v":""},{"$f":"IF(Jogo!D330=Conferência!$D$2,Conferência!$D$2,\"\")","v":""},{"$f":"IF(Jogo!E330=Conferência!$E$2,Conferência!$E$2,\"\")","v":""},{"$f":"IF(Jogo!F330=Conferência!$F$2,Conferência!$F$2,\"\")","v":""},{"$f":"IF(Jogo!G330=Conferência!$G$2,Conferência!$G$2,\"\")","v":""},{"$f":"IF(Jogo!H330=Conferência!$H$2,Conferência!$H$2,\"\")","v":""},{"$f":"IF(Jogo!I330=Conferência!$I$2,Conferência!$I$2,\"\")","v":""},{"$f":"IF(Jogo!J330=Conferência!$J$2,Conferência!$J$2,\"\")","v":""},{"$f":"IF(Jogo!K330=Conferência!$K$2,Conferência!$K$2,\"\")","v":""},{"$f":"IF(Jogo!L330=Conferência!$L$2,Conferência!$L$2,\"\")","v":""},{"$f":"IF(Jogo!M330=Conferência!$M$2,Conferência!$M$2,\"\")","v":""},{"$f":"IF(Jogo!N330=Conferência!$N$2,Conferência!$N$2,\"\")","v":""},{"$f":"IF(Jogo!O330=Conferência!$O$2,Conferência!$O$2,\"\")","v":""},{"$f":"IF(Jogo!P330=Conferência!$P$2,Conferência!$P$2,\"\")","v":""},{"$f":"IF(Jogo!Q330=Conferência!$Q$2,Conferência!$Q$2,\"\")","v":""},""]
[{"$f":"IF(Jogo!A331=Conferência!$A$2,Conferência!$A$2,\"\")","v":""},{"$f":"IF(Jogo!B331=Conferência!$B$2,Conferência!$B$2,\"\")","v":"QUARTA-FEIRA"},{"$f":"IF(Jogo!C331=Conferência!$C$2,Conferência!$C$2,\"\")","v":""},{"$f":"IF(Jogo!D331=Conferência!$D$2,Conferência!$D$2,\"\")","v":""},{"$f":"IF(Jogo!E331=Conferência!$E$2,Conferência!$E$2,\"\")","v":""},{"$f":"IF(Jogo!F331=Conferência!$F$2,Conferência!$F$2,\"\")","v":""},{"$f":"IF(Jogo!G331=Conferência!$G$2,Conferência!$G$2,\"\")","v":""},{"$f":"IF(Jogo!H331=Conferência!$H$2,Conferência!$H$2,\"\")","v":""},{"$f":"IF(Jogo!I331=Conferência!$I$2,Conferência!$I$2,\"\")","v":""},{"$f":"IF(Jogo!J331=Conferência!$J$2,Conferência!$J$2,\"\")","v":""},{"$f":"IF(Jogo!K331=Conferência!$K$2,Conferência!$K$2,\"\")","v":""},{"$f":"IF(Jogo!L331=Conferência!$L$2,Conferência!$L$2,\"\")","v":""},{"$f":"IF(Jogo!M331=Conferência!$M$2,Conferência!$M$2,\"\")","v":""},{"$f":"IF(Jogo!N331=Conferência!$N$2,Conferência!$N$2,\"\")","v":""},{"$f":"IF(Jogo!O331=Conferência!$O$2,Conferência!$O$2,\"\")","v":19},{"$f":"IF(Jogo!P331=Conferência!$P$2,Conferência!$P$2,\"\")","v":""},{"$f":"IF(Jogo!Q331=Conferência!$Q$2,Conferência!$Q$2,\"\")","v":""},""]
[{"$f":"IF(Jogo!A332=Conferência!$A$2,Conferência!$A$2,\"\")","v":""},{"$f":"IF(Jogo!B332=Conferência!$B$2,Conferência!$B$2,\"\")","v":"QUARTA-FEIRA"},{"$f":"IF(Jogo!C332=Conferência!$C$2,Conferência!$C$2,\"\")","v":""},{"$f":"IF(Jogo!D332=Conferência!$D$2,Conferência!$D$2,\"\")","v":3},{"$f":"IF(Jogo!E332=Conferência!$E$2,Conferência!$E$2,\"\")","v":4},{"$f":"IF(Jogo!F332=Conferência!$F$2,Conferência!$F$2,\"\")","v":""},{"$f":"IF(Jogo!G332=Conferência!$G$2,Conferência!$G$2,\"\")","v":""},{"$f":"IF(Jogo!H332=Conferência!$H$2,Conferência!$H$2,\"\")","v":""},{"$f":"IF(Jogo!I332=Conferência!$I$2,Conferência!$I$2,\"\")","v":""},{"$f":"IF(Jogo!J332=Conferência!$J$2,Conferência!$J$2,\"\")","v":""},{"$f":"IF(Jogo!K332=Conferência!$K$2,Conferência!$K$2,\"\")","v":""},{"$f":"IF(Jogo!L332=Conferência!$L$2,Conferência!$L$2,\"\")","v":""},{"$f":"IF(Jogo!M332=Conferência!$M$2,Conferência!$M$2,\"\")","v":""},{"$f":"IF(Jogo!N332=Conferência!$N$2,Conferência!$N$2,\"\")","v":""},{"$f":"IF(Jogo!O332=Conferência!$O$2,Conferência!$O$2,\"\")","v":""},{"$f":"IF(Jogo!P332=Conferência!$P$2,Conferência!$P$2,\"\")","v":23},{"$f":"IF(Jogo!Q332=Conferência!$Q$2,Conferência!$Q$2,\"\")","v":24},""]
[{"$f":"IF(Jogo!A333=Conferência!$A$2,Conferência!$A$2,\"\")","v":""},{"$f":"IF(Jogo!B333=Conferência!$B$2,Conferência!$B$2,\"\")","v":"QUARTA-FEIRA"},{"$f":"IF(Jogo!C333=Conferência!$C$2,Conferência!$C$2,\"\")","v":""},{"$f":"IF(Jogo!D333=Conferência!$D$2,Conferência!$D$2,\"\")","v":""},{"$f":"IF(Jogo!E333=Conferência!$E$2,Conferência!$E$2,\"\")","v":""},{"$f":"IF(Jogo!F333=Conferência!$F$2,Conferência!$F$2,\"\")","v":6},{"$f":"IF(Jogo!G333=Conferência!$G$2,Conferência!$G$2,\"\")","v":7},{"$f":"IF(Jogo!H333=Conferência!$H$2,Conferência!$H$2,\"\")","v":9},{"$f":"IF(Jogo!I333=Conferência!$I$2,Conferência!$I$2,\"\")","v":10},{"$f":"IF(Jogo!J333=Conferência!$J$2,Conferência!$J$2,\"\")","v":11},{"$f":"IF(Jogo!K333=Conferência!$K$2,Conferência!$K$2,\"\")","v":12},{"$f":"IF(Jogo!L333=Conferência!$L$2,Conferência!$L$2,\"\")","v":""},{"$f":"IF(Jogo!M333=Conferência!$M$2,Conferência!$M$2,\"\")","v":""},{"$f":"IF(Jogo!N333=Conferência!$N$2,Conferência!$N$2,\"\")","v":""},{"$f":"IF(Jogo!O333=Conferência!$O$2,Conferência!$O$2,\"\")","v":""},{"$f":"IF(Jogo!P333=Conferência!$P$2,Conferência!$P$2,\"\")","v":""},{"$f":"IF(Jogo!Q333=Conferência!$Q$2,Conferência!$Q$2,\"\")","v":""},""]
[{"$f":"IF(Jogo!A334=Conferência!$A$2,Conferência!$A$2,\"\")","v":""},{"$f":"IF(Jogo!B334=Conferência!$B$2,Conferência!$B$2,\"\")","v":"QUARTA-FEIRA"},{"$f":"IF(Jogo!C334=Conferência!$C$2,Conferência!$C$2,\"\")","v":1},{"$f":"IF(Jogo!D334=Conferência!$D$2,Conferência!$D$2,\"\")","v":""},{"$f":"IF(Jogo!E334=Conferência!$E$2,Conferência!$E$2,\"\")","v":""},{"$f":"IF(Jogo!F334=Conferência!$F$2,Conferência!$F$2,\"\")","v":""},{"$f":"IF(Jogo!G334=Conferência!$G$2,Conferência!$G$2,\"\")","v":""},{"$f":"IF(Jogo!H334=Conferência!$H$2,Conferência!$H$2,\"\")","v":""},{"$f":"IF(Jogo!I334=Conferência!$I$2,Conferência!$I$2,\"\")","v":""},{"$f":"IF(Jogo!J334=Conferência!$J$2,Conferência!$J$2,\"\")","v":""},{"$f":"IF(Jogo!K334=Conferência!$K$2,Conferência!$K$2,\"\")","v":""},{"$f":"IF(Jogo!L334=Conferência!$L$2,Conferência!$L$2,\"\")","v":""},{"$f":"IF(Jogo!M334=Conferência!$M$2,Conferência!$M$2,\"\")","v":""},{"$f":"IF(Jogo!N334=Conferência!$N$2,Conferência!$N$2,\"\")","v":""},{"$f":"IF(Jogo!O334=Conferência!$O$2,Conferência!$O$2,\"\")","v":""},{"$f":"IF(Jogo!P334=Conferência!$P$2,Conferência!$P$2,\"\")","v":23},{"$f":"IF(Jogo!Q334=Conferência!$Q$2,Conferência!$Q$2,\"\")","v":24},""]
[{"$f":"IF(Jogo!A335=Conferência!$A$2,Conferência!$A$2,\"\")","v":""},{"$f":"IF(Jogo!B335=Conferência!$B$2,Conferência!$B$2,\"\")","v":"QUARTA-FEIRA"},{"$f":"IF(Jogo!C335=Conferência!$C$2,Conferência!$C$2,\"\")","v":1},{"$f":"IF(Jogo!D335=Conferência!$D$2,Conferência!$D$2,\"\")","v":3},{"$f":"IF(Jogo!E335=Conferência!$E$2,Conferência!$E$2,\"\")","v":4},{"$f":"IF(Jogo!F335=Conferência!$F$2,Conferência!$F$2,\"\")","v":""},{"$f":"IF(Jogo!G335=Conferência!$G$2,Conferência!$G$2,\"\")","v":7},{"$f":"IF(Jogo!H335=Conferência!$H$2,Conferência!$H$2,\"\")","v":""},{"$f":"IF(Jogo!I335=Conferência!$I$2,Conferência!$I$2,\"\")","v":""},{"$f":"IF(Jogo!J335=Conferência!$J$2,Conferência!$J$2,\"\")","v":""},{"$f":"IF(Jogo!K335=Conferência!$K$2,Conferência!$K$2,\"\")","v":""},{"$f":"IF(Jogo!L335=Conferência!$L$2,Conferência!$L$2,\"\")","v":""},{"$f":"IF(Jogo!M335=Conferência!$M$2,Conferência!$M$2,\"\")","v":""},{"$f":"IF(Jogo!N335=Conferência!$N$2,Conferência!$N$2,\"\")","v":""},{"$f":"IF(Jogo!O335=Conferência!$O$2,Conferência!$O$2,\"\")","v":""},{"$f":"IF(Jogo!P335=Conferência!$P$2,Conferência!$P$2,\"\")","v":""},{"$f":"IF(Jogo!Q335=Conferência!$Q$2,Conferência!$Q$2,\"\")","v":""},""]
[{"$f":"IF(Jogo!A336=Conferência!$A$2,Conferência!$A$2,\"\")","v":""},{"$f":"IF(Jogo!B336=Conferência!$B$2,Conferência!$B$2,\"\")","v":"QUARTA-FEIRA"},{"$f":"IF(Jogo!C336=Conferência!$C$2,Conferência!$C$2,\"\")","v":""},{"$f":"IF(Jogo!D336=Conferência!$D$2,Conferência!$D$2,\"\")","v":3},{"$f":"IF(Jogo!E336=Conferência!$E$2,Conferência!$E$2,\"\")","v":4},{"$f":"IF(Jogo!F336=Conferência!$F$2,Conferência!$F$2,\"\")","v":6},{"$f":"IF(Jogo!G336=Conferência!$G$2,Conferência!$G$2,\"\")","v":""},{"$f":"IF(Jogo!H336=Conferência!$H$2,Conferência!$H$2,\"\")","v":""},{"$f":"IF(Jogo!I336=Conferência!$I$2,Conferência!$I$2,\"\")","v":""},{"$f":"IF(Jogo!J336=Conferência!$J$2,Conferência!$J$2,\"\")","v":""},{"$f":"IF(Jogo!K336=Conferência!$K$2,Conferência!$K$2,\"\")","v":""},{"$f":"IF(Jogo!L336=Conferência!$L$2,Conferência!$L$2,\"\")","v":""},{"$f":"IF(Jogo!M336=Conferência!$M$2,Conferência!$M$2,\"\")","v":""},{"$f":"IF(Jogo!N336=Conferência!$N$2,Conferência!$N$2,\"\")","v":""},{"$f":"IF(Jogo!O336=Conferência!$O$2,Conferência!$O$2,\"\")","v":""},{"$f":"IF(Jogo!P336=Conferência!$P$2,Conferência!$P$2,\"\")","v":""},{"$f":"IF(Jogo!Q336=Conferência!$Q$2,Conferência!$Q$2,\"\")","v":""},""]
[{"$f":"IF(Jogo!A337=Conferência!$A$2,Conferência!$A$2,\"\")","v":""},{"$f":"IF(Jogo!B337=Conferência!$B$2,Conferência!$B$2,\"\")","v":"QUARTA-FEIRA"},{"$f":"IF(Jogo!C337=Conferência!$C$2,Conferência!$C$2,\"\")","v":""},{"$f":"IF(Jogo!D337=Conferência!$D$2,Conferência!$D$2,\"\")","v":""},{"$f":"IF(Jogo!E337=Conferência!$E$2,Conferência!$E$2,\"\")","v":""},{"$f":"IF(Jogo!F337=Conferência!$F$2,Conferência!$F$2,\"\")","v":""},{"$f":"IF(Jogo!G337=Conferência!$G$2,Conferência!$G$2,\"\")","v":""},{"$f":"IF(Jogo!H337=Conferência!$H$2,Conferência!$H$2,\"\")","v":""},{"$f":"IF(Jogo!I337=Conferência!$I$2,Conferência!$I$2,\"\")","v":""},{"$f":"IF(Jogo!J337=Conferência!$J$2,Conferência!$J$2,\"\")","v":""},{"$f":"IF(Jogo!K337=Conferência!$K$2,Conferência!$K$2,\"\")","v":""},{"$f":"IF(Jogo!L337=Conferência!$L$2,Conferência!$L$2,\"\")","v":""},{"$f":"IF(Jogo!M337=Conferência!$M$2,Conferência!$M$2,\"\")","v":""},{"$f":"IF(Jogo!N337=Conferência!$N$2,Conferência!$N$2,\"\")","v":""},{"$f":"IF(Jogo!O337=Conferência!$O$2,Conferência!$O$2,\"\")","v":""},{"$f":"IF(Jogo!P337=Conferência!$P$2,Conferência!$P$2,\"\")","v":23},{"$f":"IF(Jogo!Q337=Conferência!$Q$2,Conferência!$Q$2,\"\")","v":""},""]
[{"$f":"IF(Jogo!A338=Conferência!$A$2,Conferência!$A$2,\"\")","v":""},{"$f":"IF(Jogo!B338=Conferência!$B$2,Conferência!$B$2,\"\")","v":"QUARTA-FEIRA"},{"$f":"IF(Jogo!C338=Conferência!$C$2,Conferência!$C$2,\"\")","v":1},{"$f":"IF(Jogo!D338=Conferência!$D$2,Conferência!$D$2,\"\")","v":""},{"$f":"IF(Jogo!E338=Conferência!$E$2,Conferência!$E$2,\"\")","v":""},{"$f":"IF(Jogo!F338=Conferência!$F$2,Conferência!$F$2,\"\")","v":""},{"$f":"IF(Jogo!G338=Conferência!$G$2,Conferência!$G$2,\"\")","v":""},{"$f":"IF(Jogo!H338=Conferência!$H$2,Conferência!$H$2,\"\")","v":""},{"$f":"IF(Jogo!I338=Conferência!$I$2,Conferência!$I$2,\"\")","v":""},{"$f":"IF(Jogo!J338=Conferência!$J$2,Conferência!$J$2,\"\")","v":""},{"$f":"IF(Jogo!K338=Conferência!$K$2,Conferência!$K$2,\"\")","v":""},{"$f":"IF(Jogo!L338=Conferência!$L$2,Conferência!$L$2,\"\")","v":""},{"$f":"IF(Jogo!M338=Conferência!$M$2,Conferência!$M$2,\"\")","v":""},{"$f":"IF(Jogo!N338=Conferência!$N$2,Conferência!$N$2,\"\")","v":""},{"$f":"IF(Jogo!O338=Conferência!$O$2,Conferência!$O$2,\"\")","v":""},{"$f":"IF(Jogo!P338=Conferência!$P$2,Conferência!$P$2,\"\")","v":""},{"$f":"IF(Jogo!Q338=Conferência!$Q$2,Conferência!$Q$2,\"\")","v":""},{"$f":"IF(A338=\"\",\"\",\"OK\")","v":""}]
[{"$f":"IF(Jogo!A339=Conferência!$A$2,Conferência!$A$2,\"\")","v":""},{"$f":"IF(Jogo!B339=Conferência!$B$2,Conferência!$B$2,\"\")","v":"QUARTA-FEIRA"},{"$f":"IF(Jogo!C339=Conferência!$C$2,Conferência!$C$2,\"\")","v":""},{"$f":"IF(Jogo!D339=Conferência!$D$2,Conferência!$D$2,\"\")","v":3},{"$f":"IF(Jogo!E339=Conferência!$E$2,Conferência!$E$2,\"\")","v":""},{"$f":"IF(Jogo!F339=Conferência!$F$2,Conferência!$F$2,\"\")","v":6},{"$f":"IF(Jogo!G339=Conferência!$G$2,Conferência!$G$2,\"\")","v":7},{"$f":"IF(Jogo!H339=Conferência!$H$2,Conferência!$H$2,\"\")","v":""},{"$f":"IF(Jogo!I339=Conferência!$I$2,Conferência!$I$2,\"\")","v":""},{"$f":"IF(Jogo!J339=Conferência!$J$2,Conferência!$J$2,\"\")","v":""},{"$f":"IF(Jogo!K339=Conferência!$K$2,Conferência!$K$2,\"\")","v":""},{"$f":"IF(Jogo!L339=Conferência!$L$2,Conferência!$L$2,\"\")","v":""},{"$f":"IF(Jogo!M339=Conferência!$M$2,Conferência!$M$2,\"\")","v":""},{"$f":"IF(Jogo!N339=Conferência!$N$2,Conferência!$N$2,\"\")","v":""},{"$f":"IF(Jogo!O339=Conferência!$O$2,Conferência!$O$2,\"\")","v":""},{"$f":"IF(Jogo!P339=Conferência!$P$2,Conferência!$P$2,\"\")","v":""},{"$f":"IF(Jogo!Q339=Conferência!$Q$2,Conferência!$Q$2,\"\")","v":""},""]
[{"$f":"IF(Jogo!A340=Conferência!$A$2,Conferência!$A$2,\"\")","v":""},{"$f":"IF(Jogo!B340=Conferência!$B$2,Conferência!$B$2,\"\")","v":"QUARTA-FEIRA"},{"$f":"IF(Jogo!C340=Conferência!$C$2,Conferência!$C$2,\"\")","v":1},{"$f":"IF(Jogo!D340=Conferência!$D$2,Conferência!$D$2,\"\")","v":3},{"$f":"IF(Jogo!E340=Conferência!$E$2,Conferência!$E$2,\"\")","v":""},{"$f":"IF(Jogo!F340=Conferência!$F$2,Conferência!$F$2,\"\")","v":""},{"$f":"IF(Jogo!G340=Conferência!$G$2,Conferência!$G$2,\"\")","v":""},{"$f":"IF(Jogo!H340=Conferência!$H$2,Conferência!$H$2,\"\")","v":9},{"$f":"IF(Jogo!I340=Conferência!$I$2,Conferência!$I$2,\"\")","v":10},{"$f":"IF(Jogo!J340=Conferência!$J$2,Conferência!$J$2,\"\")","v":""},{"$f":"IF(Jogo!K340=Conferência!$K$2,Conferência!$K$2,\"\")","v":""},{"$f":"IF(Jogo!L340=Conferência!$L$2,Conferência!$L$2,\"\")","v":""},{"$f":"IF(Jogo!M340=Conferência!$M$2,Conferência!$M$2,\"\")","v":""},{"$f":"IF(Jogo!N340=Conferência!$N$2,Conferência!$N$2,\"\")","v":""},{"$f":"IF(Jogo!O340=Conferência!$O$2,Conferência!$O$2,\"\")","v":""},{"$f":"IF(Jogo!P340=Conferência!$P$2,Conferência!$P$2,\"\")","v":""},{"$f":"IF(Jogo!Q340=Conferência!$Q$2,Conferência!$Q$2,\"\")","v":""},""]
[{"$f":"IF(Jogo!A341=Conferência!$A$2,Conferência!$A$2,\"\")","v":""},{"$f":"IF(Jogo!B341=Conferência!$B$2,Conferência!$B$2,\"\")","v":"QUARTA-FEIRA"},{"$f":"IF(Jogo!C341=Conferência!$C$2,Conferência!$C$2,\"\")","v":1},{"$f":"IF(Jogo!D341=Conferência!$D$2,Conferência!$D$2,\"\")","v":""},{"$f":"IF(Jogo!E341=Conferência!$E$2,Conferência!$E$2,\"\")","v":""},{"$f":"IF(Jogo!F341=Conferência!$F$2,Conferência!$F$2,\"\")","v":6},{"$f":"IF(Jogo!G341=Conferência!$G$2,Conferência!$G$2,\"\")","v":7},{"$f":"IF(Jogo!H341=Conferência!$H$2,Conferência!$H$2,\"\")","v":""},{"$f":"IF(Jogo!I341=Conferência!$I$2,Conferência!$I$2,\"\")","v":10},{"$f":"IF(Jogo!J341=Conferência!$J$2,Conferência!$J$2,\"\")","v":11},{"$f":"IF(Jogo!K341=Conferência!$K$2,Conferência!$K$2,\"\")","v":""},{"$f":"IF(Jogo!L341=Conferência!$L$2,Conferência!$L$2,\"\")","v":""},{"$f":"IF(Jogo!M341=Conferência!$M$2,Conferência!$M$2,\"\")","v":""},{"$f":"IF(Jogo!N341=Conferência!$N$2,Conferência!$N$2,\"\")","v":""},{"$f":"IF(Jogo!O341=Conferência!$O$2,Conferência!$O$2,\"\")","v":""},{"$f":"IF(Jogo!P341=Conferência!$P$2,Conferência!$P$2,\"\")","v":""},{"$f":"IF(Jogo!Q341=Conferência!$Q$2,Conferência!$Q$2,\"\")","v":""},""]
[{"$f":"IF(Jogo!A342=Conferência!$A$2,Conferência!$A$2,\"\")","v":""},{"$f":"IF(Jogo!B342=Conferência!$B$2,Conferência!$B$2,\"\")","v":"QUARTA-FEIRA"},{"$f":"IF(Jogo!C342=Conferência!$C$2,Conferência!$C$2,\"\")","v":""},{"$f":"IF(Jogo!D342=Conferência!$D$2,Conferência!$D$2,\"\")","v":""},{"$f":"IF(Jogo!E342=Conferência!$E$2,Conferência!$E$2,\"\")","v":""},{"$f":"IF(Jogo!F342=Conferência!$F$2,Conferência!$F$2,\"\")","v":6},{"$f":"IF(Jogo!G342=Conferência!$G$2,Conferência!$G$2,\"\")","v":""},{"$f":"IF(Jogo!H342=Conferência!$H$2,Conferência!$H$2,\"\")","v":""},{"$f":"IF(Jogo!I342=Conferência!$I$2,Conferência!$I$2,\"\")","v":""},{"$f":"IF(Jogo!J342=Conferência!$J$2,Conferência!$J$2,\"\")","v":""},{"$f":"IF(Jogo!K342=Conferência!$K$2,Conferência!$K$2,\"\")","v":""},{"$f":"IF(Jogo!L342=Conferência!$L$2,Conferência!$L$2,\"\")","v":""},{"$f":"IF(Jogo!M342=Conferência!$M$2,Conferência!$M$2,\"\")","v":""},{"$f":"IF(Jogo!N342=Conferência!$N$2,Conferência!$N$2,\"\")","v":""},{"$f":"IF(Jogo!O342=Conferência!$O$2,Conferência!$O$2,\"\")","v":""},{"$f":"IF(Jogo!P342=Conferência!$P$2,Conferência!$P$2,\"\")","v":""},{"$f":"IF(Jogo!Q342=Conferência!$Q$2,Conferência!$Q$2,\"\")","v":""},""]
[{"$f":"IF(Jogo!A343=Conferência!$A$2,Conferência!$A$2,\"\")","v":""},{"$f":"IF(Jogo!B343=Conferência!$B$2,Conferência!$B$2,\"\")","v":"QUARTA-FEIRA"},{"$f":"IF(Jogo!C343=Conferência!$C$2,Conferência!$C$2,\"\")","v":1},{"$f":"IF(Jogo!D343=Conferência!$D$2,Conferência!$D$2,\"\")","v":""},{"$f":"IF(Jogo!E343=Conferência!$E$2,Conferência!$E$2,\"\")","v":""},{"$f":"IF(Jogo!F343=Conferência!$F$2,Conferência!$F$2,\"\")","v":""},{"$f":"IF(Jogo!G343=Conferência!$G$2,Conferência!$G$2,\"\")","v":""},{"$f":"IF(Jogo!H343=Conferência!$H$2,Conferência!$H$2,\"\")","v":""},{"$f":"IF(Jogo!I343=Conferência!$I$2,Conferência!$I$2,\"\")","v":""},{"$f":"IF(Jogo!J343=Conferência!$J$2,Conferência!$J$2,\"\")","v":""},{"$f":"IF(Jogo!K343=Conferência!$K$2,Conferência!$K$2,\"\")","v":""},{"$f":"IF(Jogo!L343=Conferência!$L$2,Conferência!$L$2,\"\")","v":""},{"$f":"IF(Jogo!M343=Conferência!$M$2,Conferência!$M$2,\"\")","v":""},{"$f":"IF(Jogo!N343=Conferência!$N$2,Conferência!$N$2,\"\")","v":""},{"$f":"IF(Jogo!O343=Conferência!$O$2,Conferência!$O$2,\"\")","v":19},{"$f":"IF(Jogo!P343=Conferência!$P$2,Conferência!$P$2,\"\")","v":""},{"$f":"IF(Jogo!Q343=Conferência!$Q$2,Conferência!$Q$2,\"\")","v":24},""]
[{"$f":"IF(Jogo!A344=Conferência!$A$2,Conferência!$A$2,\"\")","v":""},{"$f":"IF(Jogo!B344=Conferência!$B$2,Conferência!$B$2,\"\")","v":"QUARTA-FEIRA"},{"$f":"IF(Jogo!C344=Conferência!$C$2,Conferência!$C$2,\"\")","v":""},{"$f":"IF(Jogo!D344=Conferência!$D$2,Conferência!$D$2,\"\")","v":""},{"$f":"IF(Jogo!E344=Conferência!$E$2,Conferência!$E$2,\"\")","v":""},{"$f":"IF(Jogo!F344=Conferência!$F$2,Conferência!$F$2,\"\")","v":""},{"$f":"IF(Jogo!G344=Conferência!$G$2,Conferência!$G$2,\"\")","v":""},{"$f":"IF(Jogo!H344=Conferência!$H$2,Conferência!$H$2,\"\")","v":""},{"$f":"IF(Jogo!I344=Conferência!$I$2,Conferência!$I$2,\"\")","v":""},{"$f":"IF(Jogo!J344=Conferência!$J$2,Conferência!$J$2,\"\")","v":""},{"$f":"IF(Jogo!K344=Conferência!$K$2,Conferência!$K$2,\"\")","v":""},{"$f":"IF(Jogo!L344=Conferência!$L$2,Conferência!$L$2,\"\")","v":""},{"$f":"IF(Jogo!M344=Conferência!$M$2,Conferência!$M$2,\"\")","v":""},{"$f":"IF(Jogo!N344=Conferência!$N$2,Conferência!$N$2,\"\")","v":""},{"$f":"IF(Jogo!O344=Conferência!$O$2,Conferência!$O$2,\"\")","v":""},{"$f":"IF(Jogo!P344=Conferência!$P$2,Conferência!$P$2,\"\")","v":""},{"$f":"IF(Jogo!Q344=Conferência!$Q$2,Conferência!$Q$2,\"\")","v":""},""]
[{"$f":"IF(Jogo!A345=Conferência!$A$2,Conferência!$A$2,\"\")","v":""},{"$f":"IF(Jogo!B345=Conferência!$B$2,Conferência!$B$2,\"\")","v":"QUARTA-FEIRA"},{"$f":"IF(Jogo!C345=Conferência!$C$2,Conferência!$C$2,\"\")","v":""},{"$f":"IF(Jogo!D345=Conferência!$D$2,Conferência!$D$2,\"\")","v":""},{"$f":"IF(Jogo!E345=Conferência!$E$2,Conferência!$E$2,\"\")","v":""},{"$f":"IF(Jogo!F345=Conferência!$F$2,Conferência!$F$2,\"\")","v":""},{"$f":"IF(Jogo!G345=Conferência!$G$2,Conferência!$G$2,\"\")","v":""},{"$f":"IF(Jogo!H345=Conferência!$H$2,Conferência!$H$2,\"\")","v":9},{"$f":"IF(Jogo!I345=Conferência!$I$2,Conferência!$I$2,\"\")","v":10},{"$f":"IF(Jogo!J345=Conferência!$J$2,Conferência!$J$2,\"\")","v":11},{"$f":"IF(Jogo!K345=Conferência!$K$2,Conferência!$K$2,\"\")","v":12},{"$f":"IF(Jogo!L345=Conferência!$L$2,Conferência!$L$2,\"\")","v":""},{"$f":"IF(Jogo!M345=Conferência!$M$2,Conferência!$M$2,\"\")","v":""},{"$f":"IF(Jogo!N345=Conferência!$N$2,Conferência!$N$2,\"\")","v":""},{"$f":"IF(Jogo!O345=Conferência!$O$2,Conferência!$O$2,\"\")","v":""},{"$f":"IF(Jogo!P345=Conferência!$P$2,Conferência!$P$2,\"\")","v":23},{"$f":"IF(Jogo!Q345=Conferência!$Q$2,Conferência!$Q$2,\"\")","v":""},""]
[{"$f":"IF(Jogo!A346=Conferência!$A$2,Conferência!$A$2,\"\")","v":""},{"$f":"IF(Jogo!B346=Conferência!$B$2,Conferência!$B$2,\"\")","v":"QUARTA-FEIRA"},{"$f":"IF(Jogo!C346=Conferência!$C$2,Conferência!$C$2,\"\")","v":""},{"$f":"IF(Jogo!D346=Conferência!$D$2,Conferência!$D$2,\"\")","v":""},{"$f":"IF(Jogo!E346=Conferência!$E$2,Conferência!$E$2,\"\")","v":""},{"$f":"IF(Jogo!F346=Conferência!$F$2,Conferência!$F$2,\"\")","v":""},{"$f":"IF(Jogo!G346=Conferência!$G$2,Conferência!$G$2,\"\")","v":""},{"$f":"IF(Jogo!H346=Conferência!$H$2,Conferência!$H$2,\"\")","v":""},{"$f":"IF(Jogo!I346=Conferência!$I$2,Conferência!$I$2,\"\")","v":""},{"$f":"IF(Jogo!J346=Conferência!$J$2,Conferência!$J$2,\"\")","v":""},{"$f":"IF(Jogo!K346=Conferência!$K$2,Conferência!$K$2,\"\")","v":""},{"$f":"IF(Jogo!L346=Conferência!$L$2,Conferência!$L$2,\"\")","v":""},{"$f":"IF(Jogo!M346=Conferência!$M$2,Conferência!$M$2,\"\")","v":""},{"$f":"IF(Jogo!N346=Conferência!$N$2,Conferência!$N$2,\"\")","v":""},{"$f":"IF(Jogo!O346=Conferência!$O$2,Conferência!$O$2,\"\")","v":""},{"$f":"IF(Jogo!P346=Conferência!$P$2,Conferência!$P$2,\"\")","v":""},{"$f":"IF(Jogo!Q346=Conferência!$Q$2,Conferência!$Q$2,\"\")","v":""},""]
[{"$f":"IF(Jogo!A347=Conferência!$A$2,Conferência!$A$2,\"\")","v":""},{"$f":"IF(Jogo!B347=Conferência!$B$2,Conferência!$B$2,\"\")","v":"QUARTA-FEIRA"},{"$f":"IF(Jogo!C347=Conferência!$C$2,Conferência!$C$2,\"\")","v":1},{"$f":"IF(Jogo!D347=Conferência!$D$2,Conferência!$D$2,\"\")","v":3},{"$f":"IF(Jogo!E347=Conferência!$E$2,Conferência!$E$2,\"\")","v":4},{"$f":"IF(Jogo!F347=Conferência!$F$2,Conferência!$F$2,\"\")","v":6},{"$f":"IF(Jogo!G347=Conferência!$G$2,Conferência!$G$2,\"\")","v":7},{"$f":"IF(Jogo!H347=Conferência!$H$2,Conferência!$H$2,\"\")","v":""},{"$f":"IF(Jogo!I347=Conferência!$I$2,Conferência!$I$2,\"\")","v":""},{"$f":"IF(Jogo!J347=Conferência!$J$2,Conferência!$J$2,\"\")","v":""},{"$f":"IF(Jogo!K347=Conferência!$K$2,Conferência!$K$2,\"\")","v":""},{"$f":"IF(Jogo!L347=Conferência!$L$2,Conferência!$L$2,\"\")","v":""},{"$f":"IF(Jogo!M347=Conferência!$M$2,Conferência!$M$2,\"\")","v":""},{"$f":"IF(Jogo!N347=Conferência!$N$2,Conferência!$N$2,\"\")","v":""},{"$f":"IF(Jogo!O347=Conferência!$O$2,Conferência!$O$2,\"\")","v":""},{"$f":"IF(Jogo!P347=Conferência!$P$2,Conferência!$P$2,\"\")","v":""},{"$f":"IF(Jogo!Q347=Conferência!$Q$2,Conferência!$Q$2,\"\")","v":""},""]
[{"$f":"IF(Jogo!A348=Conferência!$A$2,Conferência!$A$2,\"\")","v":""},{"$f":"IF(Jogo!B348=Conferência!$B$2,Conferência!$B$2,\"\")","v":"QUARTA-FEIRA"},{"$f":"IF(Jogo!C348=Conferência!$C$2,Conferência!$C$2,\"\")","v":1},{"$f":"IF(Jogo!D348=Conferência!$D$2,Conferência!$D$2,\"\")","v":""},{"$f":"IF(Jogo!E348=Conferência!$E$2,Conferência!$E$2,\"\")","v":""},{"$f":"IF(Jogo!F348=Conferência!$F$2,Conferência!$F$2,\"\")","v":""},{"$f":"IF(Jogo!G348=Conferência!$G$2,Conferência!$G$2,\"\")","v":""},{"$f":"IF(Jogo!H348=Conferência!$H$2,Conferência!$H$2,\"\")","v":""},{"$f":"IF(Jogo!I348=Conferência!$I$2,Conferência!$I$2,\"\")","v":""},{"$f":"IF(Jogo!J348=Conferência!$J$2,Conferência!$J$2,\"\")","v":""},{"$f":"IF(Jogo!K348=Conferência!$K$2,Conferência!$K$2,\"\")","v":""},{"$f":"IF(Jogo!L348=Conferência!$L$2,Conferência!$L$2,\"\")","v":""},{"$f":"IF(Jogo!M348=Conferência!$M$2,Conferência!$M$2,\"\")","v":""},{"$f":"IF(Jogo!N348=Conferência!$N$2,Conferência!$N$2,\"\")","v":""},{"$f":"IF(Jogo!O348=Conferência!$O$2,Conferência!$O$2,\"\")","v":""},{"$f":"IF(Jogo!P348=Conferência!$P$2,Conferência!$P$2,\"\")","v":23},{"$f":"IF(Jogo!Q348=Conferência!$Q$2,Conferência!$Q$2,\"\")","v":""},""]
[{"$f":"IF(Jogo!A349=Conferência!$A$2,Conferência!$A$2,\"\")","v":""},{"$f":"IF(Jogo!B349=Conferência!$B$2,Conferência!$B$2,\"\")","v":"QUARTA-FEIRA"},{"$f":"IF(Jogo!C349=Conferência!$C$2,Conferência!$C$2,\"\")","v":1},{"$f":"IF(Jogo!D349=Conferência!$D$2,Conferência!$D$2,\"\")","v":""},{"$f":"IF(Jogo!E349=Conferência!$E$2,Conferência!$E$2,\"\")","v":4},{"$f":"IF(Jogo!F349=Conferência!$F$2,Conferência!$F$2,\"\")","v":""},{"$f":"IF(Jogo!G349=Conferência!$G$2,Conferência!$G$2,\"\")","v":""},{"$f":"IF(Jogo!H349=Conferência!$H$2,Conferência!$H$2,\"\")","v":9},{"$f":"IF(Jogo!I349=Conferência!$I$2,Conferência!$I$2,\"\")","v":10},{"$f":"IF(Jogo!J349=Conferência!$J$2,Conferência!$J$2,\"\")","v":""},{"$f":"IF(Jogo!K349=Conferência!$K$2,Conferência!$K$2,\"\")","v":""},{"$f":"IF(Jogo!L349=Conferência!$L$2,Conferência!$L$2,\"\")","v":""},{"$f":"IF(Jogo!M349=Conferência!$M$2,Conferência!$M$2,\"\")","v":""},{"$f":"IF(Jogo!N349=Conferência!$N$2,Conferência!$N$2,\"\")","v":""},{"$f":"IF(Jogo!O349=Conferência!$O$2,Conferência!$O$2,\"\")","v":""},{"$f":"IF(Jogo!P349=Conferência!$P$2,Conferência!$P$2,\"\")","v":""},{"$f":"IF(Jogo!Q349=Conferência!$Q$2,Conferência!$Q$2,\"\")","v":""},""]
[{"$f":"IF(Jogo!A350=Conferência!$A$2,Conferência!$A$2,\"\")","v":""},{"$f":"IF(Jogo!B350=Conferência!$B$2,Conferência!$B$2,\"\")","v":"QUARTA-FEIRA"},{"$f":"IF(Jogo!C350=Conferência!$C$2,Conferência!$C$2,\"\")","v":1},{"$f":"IF(Jogo!D350=Conferência!$D$2,Conferência!$D$2,\"\")","v":""},{"$f":"IF(Jogo!E350=Conferência!$E$2,Conferência!$E$2,\"\")","v":""},{"$f":"IF(Jogo!F350=Conferência!$F$2,Conferência!$F$2,\"\")","v":""},{"$f":"IF(Jogo!G350=Conferência!$G$2,Conferência!$G$2,\"\")","v":""},{"$f":"IF(Jogo!H350=Conferência!$H$2,Conferência!$H$2,\"\")","v":9},{"$f":"IF(Jogo!I350=Conferência!$I$2,Conferência!$I$2,\"\")","v":10},{"$f":"IF(Jogo!J350=Conferência!$J$2,Conferência!$J$2,\"\")","v":11},{"$f":"IF(Jogo!K350=Conferência!$K$2,Conferência!$K$2,\"\")","v":""},{"$f":"IF(Jogo!L350=Conferência!$L$2,Conferência!$L$2,\"\")","v":""},{"$f":"IF(Jogo!M350=Conferência!$M$2,Conferência!$M$2,\"\")","v":""},{"$f":"IF(Jogo!N350=Conferência!$N$2,Conferência!$N$2,\"\")","v":""},{"$f":"IF(Jogo!O350=Conferência!$O$2,Conferência!$O$2,\"\")","v":""},{"$f":"IF(Jogo!P350=Conferência!$P$2,Conferência!$P$2,\"\")","v":""},{"$f":"IF(Jogo!Q350=Conferência!$Q$2,Conferência!$Q$2,\"\")","v":""},""]
[{"$f":"IF(Jogo!A351=Conferência!$A$2,Conferência!$A$2,\"\")","v":""},{"$f":"IF(Jogo!B351=Conferência!$B$2,Conferência!$B$2,\"\")","v":"QUARTA-FEIRA"},{"$f":"IF(Jogo!C351=Conferência!$C$2,Conferência!$C$2,\"\")","v":1},{"$f":"IF(Jogo!D351=Conferência!$D$2,Conferência!$D$2,\"\")","v":""},{"$f":"IF(Jogo!E351=Conferência!$E$2,Conferência!$E$2,\"\")","v":4},{"$f":"IF(Jogo!F351=Conferência!$F$2,Conferência!$F$2,\"\")","v":6},{"$f":"IF(Jogo!G351=Conferência!$G$2,Conferência!$G$2,\"\")","v":7},{"$f":"IF(Jogo!H351=Conferência!$H$2,Conferência!$H$2,\"\")","v":""},{"$f":"IF(Jogo!I351=Conferência!$I$2,Conferência!$I$2,\"\")","v":""},{"$f":"IF(Jogo!J351=Conferência!$J$2,Conferência!$J$2,\"\")","v":""},{"$f":"IF(Jogo!K351=Conferência!$K$2,Conferência!$K$2,\"\")","v":""},{"$f":"IF(Jogo!L351=Conferência!$L$2,Conferência!$L$2,\"\")","v":""},{"$f":"IF(Jogo!M351=Conferência!$M$2,Conferência!$M$2,\"\")","v":""},{"$f":"IF(Jogo!N351=Conferência!$N$2,Conferência!$N$2,\"\")","v":""},{"$f":"IF(Jogo!O351=Conferência!$O$2,Conferência!$O$2,\"\")","v":""},{"$f":"IF(Jogo!P351=Conferência!$P$2,Conferência!$P$2,\"\")","v":23},{"$f":"IF(Jogo!Q351=Conferência!$Q$2,Conferência!$Q$2,\"\")","v":""},""]
[{"$f":"IF(Jogo!A352=Conferência!$A$2,Conferência!$A$2,\"\")","v":""},{"$f":"IF(Jogo!B352=Conferência!$B$2,Conferência!$B$2,\"\")","v":"QUARTA-FEIRA"},{"$f":"IF(Jogo!C352=Conferência!$C$2,Conferência!$C$2,\"\")","v":""},{"$f":"IF(Jogo!D352=Conferência!$D$2,Conferência!$D$2,\"\")","v":""},{"$f":"IF(Jogo!E352=Conferência!$E$2,Conferência!$E$2,\"\")","v":""},{"$f":"IF(Jogo!F352=Conferência!$F$2,Conferência!$F$2,\"\")","v":6},{"$f":"IF(Jogo!G352=Conferência!$G$2,Conferência!$G$2,\"\")","v":7},{"$f":"IF(Jogo!H352=Conferência!$H$2,Conferência!$H$2,\"\")","v":9},{"$f":"IF(Jogo!I352=Conferência!$I$2,Conferência!$I$2,\"\")","v":10},{"$f":"IF(Jogo!J352=Conferência!$J$2,Conferência!$J$2,\"\")","v":11},{"$f":"IF(Jogo!K352=Conferência!$K$2,Conferência!$K$2,\"\")","v":""},{"$f":"IF(Jogo!L352=Conferência!$L$2,Conferência!$L$2,\"\")","v":""},{"$f":"IF(Jogo!M352=Conferência!$M$2,Conferência!$M$2,\"\")","v":""},{"$f":"IF(Jogo!N352=Conferência!$N$2,Conferência!$N$2,\"\")","v":""},{"$f":"IF(Jogo!O352=Conferência!$O$2,Conferência!$O$2,\"\")","v":""},{"$f":"IF(Jogo!P352=Conferência!$P$2,Conferência!$P$2,\"\")","v":""},{"$f":"IF(Jogo!Q352=Conferência!$Q$2,Conferência!$Q$2,\"\")","v":""},""]
[{"$f":"IF(Jogo!A353=Conferência!$A$2,Conferência!$A$2,\"\")","v":""},{"$f":"IF(Jogo!B353=Conferência!$B$2,Conferência!$B$2,\"\")","v":"QUARTA-FEIRA"},{"$f":"IF(Jogo!C353=Conferência!$C$2,Conferência!$C$2,\"\")","v":""},{"$f":"IF(Jogo!D353=Conferência!$D$2,Conferência!$D$2,\"\")","v":""},{"$f":"IF(Jogo!E353=Conferência!$E$2,Conferência!$E$2,\"\")","v":""},{"$f":"IF(Jogo!F353=Conferência!$F$2,Conferência!$F$2,\"\")","v":""},{"$f":"IF(Jogo!G353=Conferência!$G$2,Conferência!$G$2,\"\")","v":""},{"$f":"IF(Jogo!H353=Conferência!$H$2,Conferência!$H$2,\"\")","v":""},{"$f":"IF(Jogo!I353=Conferência!$I$2,Conferência!$I$2,\"\")","v":""},{"$f":"IF(Jogo!J353=Conferência!$J$2,Conferência!$J$2,\"\")","v":""},{"$f":"IF(Jogo!K353=Conferência!$K$2,Conferência!$K$2,\"\")","v":""},{"$f":"IF(Jogo!L353=Conferência!$L$2,Conferência!$L$2,\"\")","v":""},{"$f":"IF(Jogo!M353=Conferência!$M$2,Conferência!$M$2,\"\")","v":""},{"$f":"IF(Jogo!N353=Conferência!$N$2,Conferência!$N$2,\"\")","v":""},{"$f":"IF(Jogo!O353=Conferência!$O$2,Conferência!$O$2,\"\")","v":""},{"$f":"IF(Jogo!P353=Conferência!$P$2,Conferência!$P$2,\"\")","v":23},{"$f":"IF(Jogo!Q353=Conferência!$Q$2,Conferência!$Q$2,\"\")","v":""},""]
[{"$f":"IF(Jogo!A354=Conferência!$A$2,Conferência!$A$2,\"\")","v":""},{"$f":"IF(Jogo!B354=Conferência!$B$2,Conferência!$B$2,\"\")","v":"QUARTA-FEIRA"},{"$f":"IF(Jogo!C354=Conferência!$C$2,Conferência!$C$2,\"\")","v":1},{"$f":"IF(Jogo!D354=Conferência!$D$2,Conferência!$D$2,\"\")","v":""},{"$f":"IF(Jogo!E354=Conferência!$E$2,Conferência!$E$2,\"\")","v":""},{"$f":"IF(Jogo!F354=Conferência!$F$2,Conferência!$F$2,\"\")","v":""},{"$f":"IF(Jogo!G354=Conferência!$G$2,Conferência!$G$2,\"\")","v":""},{"$f":"IF(Jogo!H354=Conferência!$H$2,Conferência!$H$2,\"\")","v":""},{"$f":"IF(Jogo!I354=Conferência!$I$2,Conferência!$I$2,\"\")","v":""},{"$f":"IF(Jogo!J354=Conferência!$J$2,Conferência!$J$2,\"\")","v":""},{"$f":"IF(Jogo!K354=Conferência!$K$2,Conferência!$K$2,\"\")","v":""},{"$f":"IF(Jogo!L354=Conferência!$L$2,Conferência!$L$2,\"\")","v":""},{"$f":"IF(Jogo!M354=Conferência!$M$2,Conferência!$M$2,\"\")","v":""},{"$f":"IF(Jogo!N354=Conferência!$N$2,Conferência!$N$2,\"\")","v":""},{"$f":"IF(Jogo!O354=Conferência!$O$2,Conferência!$O$2,\"\")","v":""},{"$f":"IF(Jogo!P354=Conferência!$P$2,Conferência!$P$2,\"\")","v":""},{"$f":"IF(Jogo!Q354=Conferência!$Q$2,Conferência!$Q$2,\"\")","v":""},""]
[{"$f":"IF(Jogo!A355=Conferência!$A$2,Conferência!$A$2,\"\")","v":""},{"$f":"IF(Jogo!B355=Conferência!$B$2,Conferência!$B$2,\"\")","v":"QUARTA-FEIRA"},{"$f":"IF(Jogo!C355=Conferência!$C$2,Conferência!$C$2,\"\")","v":""},{"$f":"IF(Jogo!D355=Conferência!$D$2,Conferência!$D$2,\"\")","v":3},{"$f":"IF(Jogo!E355=Conferência!$E$2,Conferência!$E$2,\"\")","v":4},{"$f":"IF(Jogo!F355=Conferência!$F$2,Conferência!$F$2,\"\")","v":6},{"$f":"IF(Jogo!G355=Conferência!$G$2,Conferência!$G$2,\"\")","v":7},{"$f":"IF(Jogo!H355=Conferência!$H$2,Conferência!$H$2,\"\")","v":""},{"$f":"IF(Jogo!I355=Conferência!$I$2,Conferência!$I$2,\"\")","v":""},{"$f":"IF(Jogo!J355=Conferência!$J$2,Conferência!$J$2,\"\")","v":""},{"$f":"IF(Jogo!K355=Conferência!$K$2,Conferência!$K$2,\"\")","v":""},{"$f":"IF(Jogo!L355=Conferência!$L$2,Conferência!$L$2,\"\")","v":""},{"$f":"IF(Jogo!M355=Conferência!$M$2,Conferência!$M$2,\"\")","v":""},{"$f":"IF(Jogo!N355=Conferência!$N$2,Conferência!$N$2,\"\")","v":""},{"$f":"IF(Jogo!O355=Conferência!$O$2,Conferência!$O$2,\"\")","v":""},{"$f":"IF(Jogo!P355=Conferência!$P$2,Conferência!$P$2,\"\")","v":""},{"$f":"IF(Jogo!Q355=Conferência!$Q$2,Conferência!$Q$2,\"\")","v":""},""]
[{"$f":"IF(Jogo!A356=Conferência!$A$2,Conferência!$A$2,\"\")","v":""},{"$f":"IF(Jogo!B356=Conferência!$B$2,Conferência!$B$2,\"\")","v":"QUARTA-FEIRA"},{"$f":"IF(Jogo!C356=Conferência!$C$2,Conferência!$C$2,\"\")","v":""},{"$f":"IF(Jogo!D356=Conferência!$D$2,Conferência!$D$2,\"\")","v":3},{"$f":"IF(Jogo!E356=Conferência!$E$2,Conferência!$E$2,\"\")","v":4},{"$f":"IF(Jogo!F356=Conferência!$F$2,Conferência!$F$2,\"\")","v":6},{"$f":"IF(Jogo!G356=Conferência!$G$2,Conferência!$G$2,\"\")","v":""},{"$f":"IF(Jogo!H356=Conferência!$H$2,Conferência!$H$2,\"\")","v":9},{"$f":"IF(Jogo!I356=Conferência!$I$2,Conferência!$I$2,\"\")","v":""},{"$f":"IF(Jogo!J356=Conferência!$J$2,Conferência!$J$2,\"\")","v":""},{"$f":"IF(Jogo!K356=Conferência!$K$2,Conferência!$K$2,\"\")","v":""},{"$f":"IF(Jogo!L356=Conferência!$L$2,Conferência!$L$2,\"\")","v":""},{"$f":"IF(Jogo!M356=Conferência!$M$2,Conferência!$M$2,\"\")","v":""},{"$f":"IF(Jogo!N356=Conferência!$N$2,Conferência!$N$2,\"\")","v":""},{"$f":"IF(Jogo!O356=Conferência!$O$2,Conferência!$O$2,\"\")","v":""},{"$f":"IF(Jogo!P356=Conferência!$P$2,Conferência!$P$2,\"\")","v":""},{"$f":"IF(Jogo!Q356=Conferência!$Q$2,Conferência!$Q$2,\"\")","v":""},""]
[{"$f":"IF(Jogo!A357=Conferência!$A$2,Conferência!$A$2,\"\")","v":""},{"$f":"IF(Jogo!B357=Conferência!$B$2,Conferência!$B$2,\"\")","v":"QUARTA-FEIRA"},{"$f":"IF(Jogo!C357=Conferência!$C$2,Conferência!$C$2,\"\")","v":1},{"$f":"IF(Jogo!D357=Conferência!$D$2,Conferência!$D$2,\"\")","v":""},{"$f":"IF(Jogo!E357=Conferência!$E$2,Conferência!$E$2,\"\")","v":""},{"$f":"IF(Jogo!F357=Conferência!$F$2,Conferência!$F$2,\"\")","v":""},{"$f":"IF(Jogo!G357=Conferência!$G$2,Conferência!$G$2,\"\")","v":""},{"$f":"IF(Jogo!H357=Conferência!$H$2,Conferência!$H$2,\"\")","v":""},{"$f":"IF(Jogo!I357=Conferência!$I$2,Conferência!$I$2,\"\")","v":""},{"$f":"IF(Jogo!J357=Conferência!$J$2,Conferência!$J$2,\"\")","v":""},{"$f":"IF(Jogo!K357=Conferência!$K$2,Conferência!$K$2,\"\")","v":""},{"$f":"IF(Jogo!L357=Conferência!$L$2,Conferência!$L$2,\"\")","v":""},{"$f":"IF(Jogo!M357=Conferência!$M$2,Conferência!$M$2,\"\")","v":""},{"$f":"IF(Jogo!N357=Conferência!$N$2,Conferência!$N$2,\"\")","v":""},{"$f":"IF(Jogo!O357=Conferência!$O$2,Conferência!$O$2,\"\")","v":""},{"$f":"IF(Jogo!P357=Conferência!$P$2,Conferência!$P$2,\"\")","v":""},{"$f":"IF(Jogo!Q357=Conferência!$Q$2,Conferência!$Q$2,\"\")","v":""},""]
[{"$f":"IF(Jogo!A358=Conferência!$A$2,Conferência!$A$2,\"\")","v":""},{"$f":"IF(Jogo!B358=Conferência!$B$2,Conferência!$B$2,\"\")","v":"QUARTA-FEIRA"},{"$f":"IF(Jogo!C358=Conferência!$C$2,Conferência!$C$2,\"\")","v":1},{"$f":"IF(Jogo!D358=Conferência!$D$2,Conferência!$D$2,\"\")","v":3},{"$f":"IF(Jogo!E358=Conferência!$E$2,Conferência!$E$2,\"\")","v":4},{"$f":"IF(Jogo!F358=Conferência!$F$2,Conferência!$F$2,\"\")","v":""},{"$f":"IF(Jogo!G358=Conferência!$G$2,Conferência!$G$2,\"\")","v":""},{"$f":"IF(Jogo!H358=Conferência!$H$2,Conferência!$H$2,\"\")","v":""},{"$f":"IF(Jogo!I358=Conferência!$I$2,Conferência!$I$2,\"\")","v":""},{"$f":"IF(Jogo!J358=Conferência!$J$2,Conferência!$J$2,\"\")","v":""},{"$f":"IF(Jogo!K358=Conferência!$K$2,Conferência!$K$2,\"\")","v":""},{"$f":"IF(Jogo!L358=Conferência!$L$2,Conferência!$L$2,\"\")","v":""},{"$f":"IF(Jogo!M358=Conferência!$M$2,Conferência!$M$2,\"\")","v":""},{"$f":"IF(Jogo!N358=Conferência!$N$2,Conferência!$N$2,\"\")","v":""},{"$f":"IF(Jogo!O358=Conferência!$O$2,Conferência!$O$2,\"\")","v":""},{"$f":"IF(Jogo!P358=Conferência!$P$2,Conferência!$P$2,\"\")","v":23},{"$f":"IF(Jogo!Q358=Conferência!$Q$2,Conferência!$Q$2,\"\")","v":""},""]
[{"$f":"IF(Jogo!A359=Conferência!$A$2,Conferência!$A$2,\"\")","v":""},{"$f":"IF(Jogo!B359=Conferência!$B$2,Conferência!$B$2,\"\")","v":"QUARTA-FEIRA"},{"$f":"IF(Jogo!C359=Conferência!$C$2,Conferência!$C$2,\"\")","v":1},{"$f":"IF(Jogo!D359=Conferência!$D$2,Conferência!$D$2,\"\")","v":""},{"$f":"IF(Jogo!E359=Conferência!$E$2,Conferência!$E$2,\"\")","v":4},{"$f":"IF(Jogo!F359=Conferência!$F$2,Conferência!$F$2,\"\")","v":6},{"$f":"IF(Jogo!G359=Conferência!$G$2,Conferência!$G$2,\"\")","v":7},{"$f":"IF(Jogo!H359=Conferência!$H$2,Conferência!$H$2,\"\")","v":""},{"$f":"IF(Jogo!I359=Conferência!$I$2,Conferência!$I$2,\"\")","v":""},{"$f":"IF(Jogo!J359=Conferência!$J$2,Conferência!$J$2,\"\")","v":""},{"$f":"IF(Jogo!K359=Conferência!$K$2,Conferência!$K$2,\"\")","v":""},{"$f":"IF(Jogo!L359=Conferência!$L$2,Conferência!$L$2,\"\")","v":""},{"$f":"IF(Jogo!M359=Conferência!$M$2,Conferência!$M$2,\"\")","v":""},{"$f":"IF(Jogo!N359=Conferência!$N$2,Conferência!$N$2,\"\")","v":""},{"$f":"IF(Jogo!O359=Conferência!$O$2,Conferência!$O$2,\"\")","v":""},{"$f":"IF(Jogo!P359=Conferência!$P$2,Conferência!$P$2,\"\")","v":23},{"$f":"IF(Jogo!Q359=Conferência!$Q$2,Conferência!$Q$2,\"\")","v":""},""]
[{"$f":"IF(Jogo!A360=Conferência!$A$2,Conferência!$A$2,\"\")","v":""},{"$f":"IF(Jogo!B360=Conferência!$B$2,Conferência!$B$2,\"\")","v":"QUARTA-FEIRA"},{"$f":"IF(Jogo!C360=Conferência!$C$2,Conferência!$C$2,\"\")","v":1},{"$f":"IF(Jogo!D360=Conferência!$D$2,Conferência!$D$2,\"\")","v":""},{"$f":"IF(Jogo!E360=Conferência!$E$2,Conferência!$E$2,\"\")","v":""},{"$f":"IF(Jogo!F360=Conferência!$F$2,Conferência!$F$2,\"\")","v":6},{"$f":"IF(Jogo!G360=Conferência!$G$2,Conferência!$G$2,\"\")","v":""},{"$f":"IF(Jogo!H360=Conferência!$H$2,Conferência!$H$2,\"\")","v":""},{"$f":"IF(Jogo!I360=Conferência!$I$2,Conferência!$I$2,\"\")","v":""},{"$f":"IF(Jogo!J360=Conferência!$J$2,Conferência!$J$2,\"\")","v":""},{"$f":"IF(Jogo!K360=Conferência!$K$2,Conferência!$K$2,\"\")","v":""},{"$f":"IF(Jogo!L360=Conferência!$L$2,Conferência!$L$2,\"\")","v":""},{"$f":"IF(Jogo!M360=Conferência!$M$2,Conferência!$M$2,\"\")","v":""},{"$f":"IF(Jogo!N360=Conferência!$N$2,Conferência!$N$2,\"\")","v":""},{"$f":"IF(Jogo!O360=Conferência!$O$2,Conferência!$O$2,\"\")","v":""},{"$f":"IF(Jogo!P360=Conferência!$P$2,Conferência!$P$2,\"\")","v":""},{"$f":"IF(Jogo!Q360=Conferência!$Q$2,Conferência!$Q$2,\"\")","v":""},""]
[{"$f":"IF(Jogo!A361=Conferência!$A$2,Conferência!$A$2,\"\")","v":""},{"$f":"IF(Jogo!B361=Conferência!$B$2,Conferência!$B$2,\"\")","v":"QUARTA-FEIRA"},{"$f":"IF(Jogo!C361=Conferência!$C$2,Conferência!$C$2,\"\")","v":1},{"$f":"IF(Jogo!D361=Conferência!$D$2,Conferência!$D$2,\"\")","v":""},{"$f":"IF(Jogo!E361=Conferência!$E$2,Conferência!$E$2,\"\")","v":""},{"$f":"IF(Jogo!F361=Conferência!$F$2,Conferência!$F$2,\"\")","v":""},{"$f":"IF(Jogo!G361=Conferência!$G$2,Conferência!$G$2,\"\")","v":""},{"$f":"IF(Jogo!H361=Conferência!$H$2,Conferência!$H$2,\"\")","v":""},{"$f":"IF(Jogo!I361=Conferência!$I$2,Conferência!$I$2,\"\")","v":""},{"$f":"IF(Jogo!J361=Conferência!$J$2,Conferência!$J$2,\"\")","v":""},{"$f":"IF(Jogo!K361=Conferência!$K$2,Conferência!$K$2,\"\")","v":""},{"$f":"IF(Jogo!L361=Conferência!$L$2,Conferência!$L$2,\"\")","v":""},{"$f":"IF(Jogo!M361=Conferência!$M$2,Conferência!$M$2,\"\")","v":""},{"$f":"IF(Jogo!N361=Conferência!$N$2,Conferência!$N$2,\"\")","v":""},{"$f":"IF(Jogo!O361=Conferência!$O$2,Conferência!$O$2,\"\")","v":""},{"$f":"IF(Jogo!P361=Conferência!$P$2,Conferência!$P$2,\"\")","v":23},{"$f":"IF(Jogo!Q361=Conferência!$Q$2,Conferência!$Q$2,\"\")","v":24},""]
[{"$f":"IF(Jogo!A362=Conferência!$A$2,Conferência!$A$2,\"\")","v":""},{"$f":"IF(Jogo!B362=Conferência!$B$2,Conferência!$B$2,\"\")","v":"QUARTA-FEIRA"},{"$f":"IF(Jogo!C362=Conferência!$C$2,Conferência!$C$2,\"\")","v":1},{"$f":"IF(Jogo!D362=Conferência!$D$2,Conferência!$D$2,\"\")","v":3},{"$f":"IF(Jogo!E362=Conferência!$E$2,Conferência!$E$2,\"\")","v":""},{"$f":"IF(Jogo!F362=Conferência!$F$2,Conferência!$F$2,\"\")","v":""},{"$f":"IF(Jogo!G362=Conferência!$G$2,Conferência!$G$2,\"\")","v":""},{"$f":"IF(Jogo!H362=Conferência!$H$2,Conferência!$H$2,\"\")","v":""},{"$f":"IF(Jogo!I362=Conferência!$I$2,Conferência!$I$2,\"\")","v":""},{"$f":"IF(Jogo!J362=Conferência!$J$2,Conferência!$J$2,\"\")","v":""},{"$f":"IF(Jogo!K362=Conferência!$K$2,Conferência!$K$2,\"\")","v":""},{"$f":"IF(Jogo!L362=Conferência!$L$2,Conferência!$L$2,\"\")","v":""},{"$f":"IF(Jogo!M362=Conferência!$M$2,Conferência!$M$2,\"\")","v":""},{"$f":"IF(Jogo!N362=Conferência!$N$2,Conferência!$N$2,\"\")","v":""},{"$f":"IF(Jogo!O362=Conferência!$O$2,Conferência!$O$2,\"\")","v":""},{"$f":"IF(Jogo!P362=Conferência!$P$2,Conferência!$P$2,\"\")","v":""},{"$f":"IF(Jogo!Q362=Conferência!$Q$2,Conferência!$Q$2,\"\")","v":""},""]
[{"$f":"IF(Jogo!A363=Conferência!$A$2,Conferência!$A$2,\"\")","v":""},{"$f":"IF(Jogo!B363=Conferência!$B$2,Conferência!$B$2,\"\")","v":"QUARTA-FEIRA"},{"$f":"IF(Jogo!C363=Conferência!$C$2,Conferência!$C$2,\"\")","v":""},{"$f":"IF(Jogo!D363=Conferência!$D$2,Conferência!$D$2,\"\")","v":3},{"$f":"IF(Jogo!E363=Conferência!$E$2,Conferência!$E$2,\"\")","v":4},{"$f":"IF(Jogo!F363=Conferência!$F$2,Conferência!$F$2,\"\")","v":""},{"$f":"IF(Jogo!G363=Conferência!$G$2,Conferência!$G$2,\"\")","v":""},{"$f":"IF(Jogo!H363=Conferência!$H$2,Conferência!$H$2,\"\")","v":""},{"$f":"IF(Jogo!I363=Conferência!$I$2,Conferência!$I$2,\"\")","v":""},{"$f":"IF(Jogo!J363=Conferência!$J$2,Conferência!$J$2,\"\")","v":""},{"$f":"IF(Jogo!K363=Conferência!$K$2,Conferência!$K$2,\"\")","v":""},{"$f":"IF(Jogo!L363=Conferência!$L$2,Conferência!$L$2,\"\")","v":""},{"$f":"IF(Jogo!M363=Conferência!$M$2,Conferência!$M$2,\"\")","v":""},{"$f":"IF(Jogo!N363=Conferência!$N$2,Conferência!$N$2,\"\")","v":""},{"$f":"IF(Jogo!O363=Conferência!$O$2,Conferência!$O$2,\"\")","v":""},{"$f":"IF(Jogo!P363=Conferência!$P$2,Conferência!$P$2,\"\")","v":""},{"$f":"IF(Jogo!Q363=Conferência!$Q$2,Conferência!$Q$2,\"\")","v":""},""]
[{"$f":"IF(Jogo!A364=Conferência!$A$2,Conferência!$A$2,\"\")","v":""},{"$f":"IF(Jogo!B364=Conferência!$B$2,Conferência!$B$2,\"\")","v":"QUARTA-FEIRA"},{"$f":"IF(Jogo!C364=Conferência!$C$2,Conferência!$C$2,\"\")","v":1},{"$f":"IF(Jogo!D364=Conferência!$D$2,Conferência!$D$2,\"\")","v":""},{"$f":"IF(Jogo!E364=Conferência!$E$2,Conferência!$E$2,\"\")","v":""},{"$f":"IF(Jogo!F364=Conferência!$F$2,Conferência!$F$2,\"\")","v":""},{"$f":"IF(Jogo!G364=Conferência!$G$2,Conferência!$G$2,\"\")","v":""},{"$f":"IF(Jogo!H364=Conferência!$H$2,Conferência!$H$2,\"\")","v":""},{"$f":"IF(Jogo!I364=Conferência!$I$2,Conferência!$I$2,\"\")","v":""},{"$f":"IF(Jogo!J364=Conferência!$J$2,Conferência!$J$2,\"\")","v":""},{"$f":"IF(Jogo!K364=Conferência!$K$2,Conferência!$K$2,\"\")","v":""},{"$f":"IF(Jogo!L364=Conferência!$L$2,Conferência!$L$2,\"\")","v":""},{"$f":"IF(Jogo!M364=Conferência!$M$2,Conferência!$M$2,\"\")","v":""},{"$f":"IF(Jogo!N364=Conferência!$N$2,Conferência!$N$2,\"\")","v":""},{"$f":"IF(Jogo!O364=Conferência!$O$2,Conferência!$O$2,\"\")","v":""},{"$f":"IF(Jogo!P364=Conferência!$P$2,Conferência!$P$2,\"\")","v":""},{"$f":"IF(Jogo!Q364=Conferência!$Q$2,Conferência!$Q$2,\"\")","v":""},""]
[{"$f":"IF(Jogo!A365=Conferência!$A$2,Conferência!$A$2,\"\")","v":""},{"$f":"IF(Jogo!B365=Conferência!$B$2,Conferência!$B$2,\"\")","v":"QUARTA-FEIRA"},{"$f":"IF(Jogo!C365=Conferência!$C$2,Conferência!$C$2,\"\")","v":1},{"$f":"IF(Jogo!D365=Conferência!$D$2,Conferência!$D$2,\"\")","v":""},{"$f":"IF(Jogo!E365=Conferência!$E$2,Conferência!$E$2,\"\")","v":4},{"$f":"IF(Jogo!F365=Conferência!$F$2,Conferência!$F$2,\"\")","v":""},{"$f":"IF(Jogo!G365=Conferência!$G$2,Conferência!$G$2,\"\")","v":""},{"$f":"IF(Jogo!H365=Conferência!$H$2,Conferência!$H$2,\"\")","v":9},{"$f":"IF(Jogo!I365=Conferência!$I$2,Conferência!$I$2,\"\")","v":10},{"$f":"IF(Jogo!J365=Conferência!$J$2,Conferência!$J$2,\"\")","v":""},{"$f":"IF(Jogo!K365=Conferência!$K$2,Conferência!$K$2,\"\")","v":""},{"$f":"IF(Jogo!L365=Conferência!$L$2,Conferência!$L$2,\"\")","v":""},{"$f":"IF(Jogo!M365=Conferência!$M$2,Conferência!$M$2,\"\")","v":""},{"$f":"IF(Jogo!N365=Conferência!$N$2,Conferência!$N$2,\"\")","v":""},{"$f":"IF(Jogo!O365=Conferência!$O$2,Conferência!$O$2,\"\")","v":""},{"$f":"IF(Jogo!P365=Conferência!$P$2,Conferência!$P$2,\"\")","v":23},{"$f":"IF(Jogo!Q365=Conferência!$Q$2,Conferência!$Q$2,\"\")","v":24},""]
[{"$f":"IF(Jogo!A366=Conferência!$A$2,Conferência!$A$2,\"\")","v":""},{"$f":"IF(Jogo!B366=Conferência!$B$2,Conferência!$B$2,\"\")","v":"QUARTA-FEIRA"},{"$f":"IF(Jogo!C366=Conferência!$C$2,Conferência!$C$2,\"\")","v":""},{"$f":"IF(Jogo!D366=Conferência!$D$2,Conferência!$D$2,\"\")","v":3},{"$f":"IF(Jogo!E366=Conferência!$E$2,Conferência!$E$2,\"\")","v":4},{"$f":"IF(Jogo!F366=Conferência!$F$2,Conferência!$F$2,\"\")","v":""},{"$f":"IF(Jogo!G366=Conferência!$G$2,Conferência!$G$2,\"\")","v":""},{"$f":"IF(Jogo!H366=Conferência!$H$2,Conferência!$H$2,\"\")","v":""},{"$f":"IF(Jogo!I366=Conferência!$I$2,Conferência!$I$2,\"\")","v":""},{"$f":"IF(Jogo!J366=Conferência!$J$2,Conferência!$J$2,\"\")","v":""},{"$f":"IF(Jogo!K366=Conferência!$K$2,Conferência!$K$2,\"\")","v":12},{"$f":"IF(Jogo!L366=Conferência!$L$2,Conferência!$L$2,\"\")","v":13},{"$f":"IF(Jogo!M366=Conferência!$M$2,Conferência!$M$2,\"\")","v":""},{"$f":"IF(Jogo!N366=Conferência!$N$2,Conferência!$N$2,\"\")","v":""},{"$f":"IF(Jogo!O366=Conferência!$O$2,Conferência!$O$2,\"\")","v":""},{"$f":"IF(Jogo!P366=Conferência!$P$2,Conferência!$P$2,\"\")","v":""},{"$f":"IF(Jogo!Q366=Conferência!$Q$2,Conferência!$Q$2,\"\")","v":24},""]
[{"$f":"IF(Jogo!A367=Conferência!$A$2,Conferência!$A$2,\"\")","v":""},{"$f":"IF(Jogo!B367=Conferência!$B$2,Conferência!$B$2,\"\")","v":"QUARTA-FEIRA"},{"$f":"IF(Jogo!C367=Conferência!$C$2,Conferência!$C$2,\"\")","v":1},{"$f":"IF(Jogo!D367=Conferência!$D$2,Conferência!$D$2,\"\")","v":""},{"$f":"IF(Jogo!E367=Conferência!$E$2,Conferência!$E$2,\"\")","v":""},{"$f":"IF(Jogo!F367=Conferência!$F$2,Conferência!$F$2,\"\")","v":""},{"$f":"IF(Jogo!G367=Conferência!$G$2,Conferência!$G$2,\"\")","v":7},{"$f":"IF(Jogo!H367=Conferência!$H$2,Conferência!$H$2,\"\")","v":""},{"$f":"IF(Jogo!I367=Conferência!$I$2,Conferência!$I$2,\"\")","v":""},{"$f":"IF(Jogo!J367=Conferência!$J$2,Conferência!$J$2,\"\")","v":""},{"$f":"IF(Jogo!K367=Conferência!$K$2,Conferência!$K$2,\"\")","v":""},{"$f":"IF(Jogo!L367=Conferência!$L$2,Conferência!$L$2,\"\")","v":""},{"$f":"IF(Jogo!M367=Conferência!$M$2,Conferência!$M$2,\"\")","v":""},{"$f":"IF(Jogo!N367=Conferência!$N$2,Conferência!$N$2,\"\")","v":""},{"$f":"IF(Jogo!O367=Conferência!$O$2,Conferência!$O$2,\"\")","v":""},{"$f":"IF(Jogo!P367=Conferência!$P$2,Conferência!$P$2,\"\")","v":""},{"$f":"IF(Jogo!Q367=Conferência!$Q$2,Conferência!$Q$2,\"\")","v":""},""]
[{"$f":"IF(Jogo!A368=Conferência!$A$2,Conferência!$A$2,\"\")","v":""},{"$f":"IF(Jogo!B368=Conferência!$B$2,Conferência!$B$2,\"\")","v":"QUARTA-FEIRA"},{"$f":"IF(Jogo!C368=Conferência!$C$2,Conferência!$C$2,\"\")","v":1},{"$f":"IF(Jogo!D368=Conferência!$D$2,Conferência!$D$2,\"\")","v":""},{"$f":"IF(Jogo!E368=Conferência!$E$2,Conferência!$E$2,\"\")","v":""},{"$f":"IF(Jogo!F368=Conferência!$F$2,Conferência!$F$2,\"\")","v":""},{"$f":"IF(Jogo!G368=Conferência!$G$2,Conferência!$G$2,\"\")","v":""},{"$f":"IF(Jogo!H368=Conferência!$H$2,Conferência!$H$2,\"\")","v":""},{"$f":"IF(Jogo!I368=Conferência!$I$2,Conferência!$I$2,\"\")","v":""},{"$f":"IF(Jogo!J368=Conferência!$J$2,Conferência!$J$2,\"\")","v":""},{"$f":"IF(Jogo!K368=Conferência!$K$2,Conferência!$K$2,\"\")","v":""},{"$f":"IF(Jogo!L368=Conferência!$L$2,Conferência!$L$2,\"\")","v":""},{"$f":"IF(Jogo!M368=Conferência!$M$2,Conferência!$M$2,\"\")","v":""},{"$f":"IF(Jogo!N368=Conferência!$N$2,Conferência!$N$2,\"\")","v":""},{"$f":"IF(Jogo!O368=Conferência!$O$2,Conferência!$O$2,\"\")","v":""},{"$f":"IF(Jogo!P368=Conferência!$P$2,Conferência!$P$2,\"\")","v":23},{"$f":"IF(Jogo!Q368=Conferência!$Q$2,Conferência!$Q$2,\"\")","v":24},""]
[{"$f":"IF(Jogo!A369=Conferência!$A$2,Conferência!$A$2,\"\")","v":""},{"$f":"IF(Jogo!B369=Conferência!$B$2,Conferência!$B$2,\"\")","v":"QUARTA-FEIRA"},{"$f":"IF(Jogo!C369=Conferência!$C$2,Conferência!$C$2,\"\")","v":1},{"$f":"IF(Jogo!D369=Conferência!$D$2,Conferência!$D$2,\"\")","v":""},{"$f":"IF(Jogo!E369=Conferência!$E$2,Conferência!$E$2,\"\")","v":""},{"$f":"IF(Jogo!F369=Conferência!$F$2,Conferência!$F$2,\"\")","v":""},{"$f":"IF(Jogo!G369=Conferência!$G$2,Conferência!$G$2,\"\")","v":""},{"$f":"IF(Jogo!H369=Conferência!$H$2,Conferência!$H$2,\"\")","v":""},{"$f":"IF(Jogo!I369=Conferência!$I$2,Conferência!$I$2,\"\")","v":""},{"$f":"IF(Jogo!J369=Conferência!$J$2,Conferência!$J$2,\"\")","v":""},{"$f":"IF(Jogo!K369=Conferência!$K$2,Conferência!$K$2,\"\")","v":""},{"$f":"IF(Jogo!L369=Conferência!$L$2,Conferência!$L$2,\"\")","v":""},{"$f":"IF(Jogo!M369=Conferência!$M$2,Conferência!$M$2,\"\")","v":""},{"$f":"IF(Jogo!N369=Conferência!$N$2,Conferência!$N$2,\"\")","v":""},{"$f":"IF(Jogo!O369=Conferência!$O$2,Conferência!$O$2,\"\")","v":""},{"$f":"IF(Jogo!P369=Conferência!$P$2,Conferência!$P$2,\"\")","v":""},{"$f":"IF(Jogo!Q369=Conferência!$Q$2,Conferência!$Q$2,\"\")","v":""},""]
[{"$f":"IF(Jogo!A370=Conferência!$A$2,Conferência!$A$2,\"\")","v":""},{"$f":"IF(Jogo!B370=Conferência!$B$2,Conferência!$B$2,\"\")","v":"QUARTA-FEIRA"},{"$f":"IF(Jogo!C370=Conferência!$C$2,Conferência!$C$2,\"\")","v":""},{"$f":"IF(Jogo!D370=Conferência!$D$2,Conferência!$D$2,\"\")","v":""},{"$f":"IF(Jogo!E370=Conferência!$E$2,Conferência!$E$2,\"\")","v":""},{"$f":"IF(Jogo!F370=Conferência!$F$2,Conferência!$F$2,\"\")","v":""},{"$f":"IF(Jogo!G370=Conferência!$G$2,Conferência!$G$2,\"\")","v":""},{"$f":"IF(Jogo!H370=Conferência!$H$2,Conferência!$H$2,\"\")","v":9},{"$f":"IF(Jogo!I370=Conferência!$I$2,Conferência!$I$2,\"\")","v":10},{"$f":"IF(Jogo!J370=Conferência!$J$2,Conferência!$J$2,\"\")","v":""},{"$f":"IF(Jogo!K370=Conferência!$K$2,Conferência!$K$2,\"\")","v":""},{"$f":"IF(Jogo!L370=Conferência!$L$2,Conferência!$L$2,\"\")","v":""},{"$f":"IF(Jogo!M370=Conferência!$M$2,Conferência!$M$2,\"\")","v":""},{"$f":"IF(Jogo!N370=Conferência!$N$2,Conferência!$N$2,\"\")","v":""},{"$f":"IF(Jogo!O370=Conferência!$O$2,Conferência!$O$2,\"\")","v":""},{"$f":"IF(Jogo!P370=Conferência!$P$2,Conferência!$P$2,\"\")","v":""},{"$f":"IF(Jogo!Q370=Conferência!$Q$2,Conferência!$Q$2,\"\")","v":""},""]
[{"$f":"IF(Jogo!A371=Conferência!$A$2,Conferência!$A$2,\"\")","v":""},{"$f":"IF(Jogo!B371=Conferência!$B$2,Conferência!$B$2,\"\")","v":"QUARTA-FEIRA"},{"$f":"IF(Jogo!C371=Conferência!$C$2,Conferência!$C$2,\"\")","v":1},{"$f":"IF(Jogo!D371=Conferência!$D$2,Conferência!$D$2,\"\")","v":""},{"$f":"IF(Jogo!E371=Conferência!$E$2,Conferência!$E$2,\"\")","v":""},{"$f":"IF(Jogo!F371=Conferência!$F$2,Conferência!$F$2,\"\")","v":""},{"$f":"IF(Jogo!G371=Conferência!$G$2,Conferência!$G$2,\"\")","v":""},{"$f":"IF(Jogo!H371=Conferência!$H$2,Conferência!$H$2,\"\")","v":9},{"$f":"IF(Jogo!I371=Conferência!$I$2,Conferência!$I$2,\"\")","v":10},{"$f":"IF(Jogo!J371=Conferência!$J$2,Conferência!$J$2,\"\")","v":11},{"$f":"IF(Jogo!K371=Conferência!$K$2,Conferência!$K$2,\"\")","v":12},{"$f":"IF(Jogo!L371=Conferência!$L$2,Conferência!$L$2,\"\")","v":13},{"$f":"IF(Jogo!M371=Conferência!$M$2,Conferência!$M$2,\"\")","v":""},{"$f":"IF(Jogo!N371=Conferência!$N$2,Conferência!$N$2,\"\")","v":""},{"$f":"IF(Jogo!O371=Conferência!$O$2,Conferência!$O$2,\"\")","v":""},{"$f":"IF(Jogo!P371=Conferência!$P$2,Conferência!$P$2,\"\")","v":""},{"$f":"IF(Jogo!Q371=Conferência!$Q$2,Conferência!$Q$2,\"\")","v":""},""]
[{"$f":"IF(Jogo!A372=Conferência!$A$2,Conferência!$A$2,\"\")","v":""},{"$f":"IF(Jogo!B372=Conferência!$B$2,Conferência!$B$2,\"\")","v":"QUARTA-FEIRA"},{"$f":"IF(Jogo!C372=Conferência!$C$2,Conferência!$C$2,\"\")","v":""},{"$f":"IF(Jogo!D372=Conferência!$D$2,Conferência!$D$2,\"\")","v":3},{"$f":"IF(Jogo!E372=Conferência!$E$2,Conferência!$E$2,\"\")","v":4},{"$f":"IF(Jogo!F372=Conferência!$F$2,Conferência!$F$2,\"\")","v":""},{"$f":"IF(Jogo!G372=Conferência!$G$2,Conferência!$G$2,\"\")","v":7},{"$f":"IF(Jogo!H372=Conferência!$H$2,Conferência!$H$2,\"\")","v":""},{"$f":"IF(Jogo!I372=Conferência!$I$2,Conferência!$I$2,\"\")","v":""},{"$f":"IF(Jogo!J372=Conferência!$J$2,Conferência!$J$2,\"\")","v":""},{"$f":"IF(Jogo!K372=Conferência!$K$2,Conferência!$K$2,\"\")","v":""},{"$f":"IF(Jogo!L372=Conferência!$L$2,Conferência!$L$2,\"\")","v":""},{"$f":"IF(Jogo!M372=Conferência!$M$2,Conferência!$M$2,\"\")","v":""},{"$f":"IF(Jogo!N372=Conferência!$N$2,Conferência!$N$2,\"\")","v":""},{"$f":"IF(Jogo!O372=Conferência!$O$2,Conferência!$O$2,\"\")","v":""},{"$f":"IF(Jogo!P372=Conferência!$P$2,Conferência!$P$2,\"\")","v":23},{"$f":"IF(Jogo!Q372=Conferência!$Q$2,Conferência!$Q$2,\"\")","v":24},""]
[{"$f":"IF(Jogo!A373=Conferência!$A$2,Conferência!$A$2,\"\")","v":""},{"$f":"IF(Jogo!B373=Conferência!$B$2,Conferência!$B$2,\"\")","v":"QUARTA-FEIRA"},{"$f":"IF(Jogo!C373=Conferência!$C$2,Conferência!$C$2,\"\")","v":""},{"$f":"IF(Jogo!D373=Conferência!$D$2,Conferência!$D$2,\"\")","v":""},{"$f":"IF(Jogo!E373=Conferência!$E$2,Conferência!$E$2,\"\")","v":""},{"$f":"IF(Jogo!F373=Conferência!$F$2,Conferência!$F$2,\"\")","v":""},{"$f":"IF(Jogo!G373=Conferência!$G$2,Conferência!$G$2,\"\")","v":""},{"$f":"IF(Jogo!H373=Conferência!$H$2,Conferência!$H$2,\"\")","v":""},{"$f":"IF(Jogo!I373=Conferência!$I$2,Conferência!$I$2,\"\")","v":""},{"$f":"IF(Jogo!J373=Conferência!$J$2,Conferência!$J$2,\"\")","v":""},{"$f":"IF(Jogo!K373=Conferência!$K$2,Conferência!$K$2,\"\")","v":""},{"$f":"IF(Jogo!L373=Conferência!$L$2,Conferência!$L$2,\"\")","v":""},{"$f":"IF(Jogo!M373=Conferência!$M$2,Conferência!$M$2,\"\")","v":""},{"$f":"IF(Jogo!N373=Conferência!$N$2,Conferência!$N$2,\"\")","v":""},{"$f":"IF(Jogo!O373=Conferência!$O$2,Conferência!$O$2,\"\")","v":""},{"$f":"IF(Jogo!P373=Conferência!$P$2,Conferência!$P$2,\"\")","v":""},{"$f":"IF(Jogo!Q373=Conferência!$Q$2,Conferência!$Q$2,\"\")","v":""},""]
[{"$f":"IF(Jogo!A374=Conferência!$A$2,Conferência!$A$2,\"\")","v":""},{"$f":"IF(Jogo!B374=Conferência!$B$2,Conferência!$B$2,\"\")","v":"QUARTA-FEIRA"},{"$f":"IF(Jogo!C374=Conferência!$C$2,Conferência!$C$2,\"\")","v":1},{"$f":"IF(Jogo!D374=Conferência!$D$2,Conferência!$D$2,\"\")","v":""},{"$f":"IF(Jogo!E374=Conferência!$E$2,Conferência!$E$2,\"\")","v":""},{"$f":"IF(Jogo!F374=Conferência!$F$2,Conferência!$F$2,\"\")","v":""},{"$f":"IF(Jogo!G374=Conferência!$G$2,Conferência!$G$2,\"\")","v":""},{"$f":"IF(Jogo!H374=Conferência!$H$2,Conferência!$H$2,\"\")","v":""},{"$f":"IF(Jogo!I374=Conferência!$I$2,Conferência!$I$2,\"\")","v":""},{"$f":"IF(Jogo!J374=Conferência!$J$2,Conferência!$J$2,\"\")","v":""},{"$f":"IF(Jogo!K374=Conferência!$K$2,Conferência!$K$2,\"\")","v":""},{"$f":"IF(Jogo!L374=Conferência!$L$2,Conferência!$L$2,\"\")","v":""},{"$f":"IF(Jogo!M374=Conferência!$M$2,Conferência!$M$2,\"\")","v":""},{"$f":"IF(Jogo!N374=Conferência!$N$2,Conferência!$N$2,\"\")","v":""},{"$f":"IF(Jogo!O374=Conferência!$O$2,Conferência!$O$2,\"\")","v":""},{"$f":"IF(Jogo!P374=Conferência!$P$2,Conferência!$P$2,\"\")","v":23},{"$f":"IF(Jogo!Q374=Conferência!$Q$2,Conferência!$Q$2,\"\")","v":24},""]
[{"$f":"IF(Jogo!A375=Conferência!$A$2,Conferência!$A$2,\"\")","v":""},{"$f":"IF(Jogo!B375=Conferência!$B$2,Conferência!$B$2,\"\")","v":"QUARTA-FEIRA"},{"$f":"IF(Jogo!C375=Conferência!$C$2,Conferência!$C$2,\"\")","v":1},{"$f":"IF(Jogo!D375=Conferência!$D$2,Conferência!$D$2,\"\")","v":3},{"$f":"IF(Jogo!E375=Conferência!$E$2,Conferência!$E$2,\"\")","v":""},{"$f":"IF(Jogo!F375=Conferência!$F$2,Conferência!$F$2,\"\")","v":""},{"$f":"IF(Jogo!G375=Conferência!$G$2,Conferência!$G$2,\"\")","v":""},{"$f":"IF(Jogo!H375=Conferência!$H$2,Conferência!$H$2,\"\")","v":""},{"$f":"IF(Jogo!I375=Conferência!$I$2,Conferência!$I$2,\"\")","v":""},{"$f":"IF(Jogo!J375=Conferência!$J$2,Conferência!$J$2,\"\")","v":""},{"$f":"IF(Jogo!K375=Conferência!$K$2,Conferência!$K$2,\"\")","v":""},{"$f":"IF(Jogo!L375=Conferência!$L$2,Conferência!$L$2,\"\")","v":""},{"$f":"IF(Jogo!M375=Conferência!$M$2,Conferência!$M$2,\"\")","v":""},{"$f":"IF(Jogo!N375=Conferência!$N$2,Conferência!$N$2,\"\")","v":""},{"$f":"IF(Jogo!O375=Conferência!$O$2,Conferência!$O$2,\"\")","v":""},{"$f":"IF(Jogo!P375=Conferência!$P$2,Conferência!$P$2,\"\")","v":23},{"$f":"IF(Jogo!Q375=Conferência!$Q$2,Conferência!$Q$2,\"\")","v":""},""]
[{"$f":"IF(Jogo!A376=Conferência!$A$2,Conferência!$A$2,\"\")","v":""},{"$f":"IF(Jogo!B376=Conferência!$B$2,Conferência!$B$2,\"\")","v":"QUARTA-FEIRA"},{"$f":"IF(Jogo!C376=Conferência!$C$2,Conferência!$C$2,\"\")","v":1},{"$f":"IF(Jogo!D376=Conferência!$D$2,Conferência!$D$2,\"\")","v":""},{"$f":"IF(Jogo!E376=Conferência!$E$2,Conferência!$E$2,\"\")","v":""},{"$f":"IF(Jogo!F376=Conferência!$F$2,Conferência!$F$2,\"\")","v":""},{"$f":"IF(Jogo!G376=Conferência!$G$2,Conferência!$G$2,\"\")","v":""},{"$f":"IF(Jogo!H376=Conferência!$H$2,Conferência!$H$2,\"\")","v":""},{"$f":"IF(Jogo!I376=Conferência!$I$2,Conferência!$I$2,\"\")","v":""},{"$f":"IF(Jogo!J376=Conferência!$J$2,Conferência!$J$2,\"\")","v":11},{"$f":"IF(Jogo!K376=Conferência!$K$2,Conferência!$K$2,\"\")","v":12},{"$f":"IF(Jogo!L376=Conferência!$L$2,Conferência!$L$2,\"\")","v":13},{"$f":"IF(Jogo!M376=Conferência!$M$2,Conferência!$M$2,\"\")","v":""},{"$f":"IF(Jogo!N376=Conferência!$N$2,Conferência!$N$2,\"\")","v":""},{"$f":"IF(Jogo!O376=Conferência!$O$2,Conferência!$O$2,\"\")","v":""},{"$f":"IF(Jogo!P376=Conferência!$P$2,Conferência!$P$2,\"\")","v":""},{"$f":"IF(Jogo!Q376=Conferência!$Q$2,Conferência!$Q$2,\"\")","v":""},""]
[{"$f":"IF(Jogo!A377=Conferência!$A$2,Conferência!$A$2,\"\")","v":""},{"$f":"IF(Jogo!B377=Conferência!$B$2,Conferência!$B$2,\"\")","v":"QUARTA-FEIRA"},{"$f":"IF(Jogo!C377=Conferência!$C$2,Conferência!$C$2,\"\")","v":1},{"$f":"IF(Jogo!D377=Conferência!$D$2,Conferência!$D$2,\"\")","v":3},{"$f":"IF(Jogo!E377=Conferência!$E$2,Conferência!$E$2,\"\")","v":""},{"$f":"IF(Jogo!F377=Conferência!$F$2,Conferência!$F$2,\"\")","v":6},{"$f":"IF(Jogo!G377=Conferência!$G$2,Conferência!$G$2,\"\")","v":7},{"$f":"IF(Jogo!H377=Conferência!$H$2,Conferência!$H$2,\"\")","v":""},{"$f":"IF(Jogo!I377=Conferência!$I$2,Conferência!$I$2,\"\")","v":""},{"$f":"IF(Jogo!J377=Conferência!$J$2,Conferência!$J$2,\"\")","v":""},{"$f":"IF(Jogo!K377=Conferência!$K$2,Conferência!$K$2,\"\")","v":""},{"$f":"IF(Jogo!L377=Conferência!$L$2,Conferência!$L$2,\"\")","v":""},{"$f":"IF(Jogo!M377=Conferência!$M$2,Conferência!$M$2,\"\")","v":""},{"$f":"IF(Jogo!N377=Conferência!$N$2,Conferência!$N$2,\"\")","v":""},{"$f":"IF(Jogo!O377=Conferência!$O$2,Conferência!$O$2,\"\")","v":""},{"$f":"IF(Jogo!P377=Conferência!$P$2,Conferência!$P$2,\"\")","v":23},{"$f":"IF(Jogo!Q377=Conferência!$Q$2,Conferência!$Q$2,\"\")","v":""},""]
[{"$f":"IF(Jogo!A378=Conferência!$A$2,Conferência!$A$2,\"\")","v":""},{"$f":"IF(Jogo!B378=Conferência!$B$2,Conferência!$B$2,\"\")","v":"QUARTA-FEIRA"},{"$f":"IF(Jogo!C378=Conferência!$C$2,Conferência!$C$2,\"\")","v":1},{"$f":"IF(Jogo!D378=Conferência!$D$2,Conferência!$D$2,\"\")","v":""},{"$f":"IF(Jogo!E378=Conferência!$E$2,Conferência!$E$2,\"\")","v":""},{"$f":"IF(Jogo!F378=Conferência!$F$2,Conferência!$F$2,\"\")","v":""},{"$f":"IF(Jogo!G378=Conferência!$G$2,Conferência!$G$2,\"\")","v":7},{"$f":"IF(Jogo!H378=Conferência!$H$2,Conferência!$H$2,\"\")","v":""},{"$f":"IF(Jogo!I378=Conferência!$I$2,Conferência!$I$2,\"\")","v":""},{"$f":"IF(Jogo!J378=Conferência!$J$2,Conferência!$J$2,\"\")","v":""},{"$f":"IF(Jogo!K378=Conferência!$K$2,Conferência!$K$2,\"\")","v":""},{"$f":"IF(Jogo!L378=Conferência!$L$2,Conferência!$L$2,\"\")","v":""},{"$f":"IF(Jogo!M378=Conferência!$M$2,Conferência!$M$2,\"\")","v":""},{"$f":"IF(Jogo!N378=Conferência!$N$2,Conferência!$N$2,\"\")","v":""},{"$f":"IF(Jogo!O378=Conferência!$O$2,Conferência!$O$2,\"\")","v":""},{"$f":"IF(Jogo!P378=Conferência!$P$2,Conferência!$P$2,\"\")","v":23},{"$f":"IF(Jogo!Q378=Conferência!$Q$2,Conferência!$Q$2,\"\")","v":24},""]
[{"$f":"IF(Jogo!A379=Conferência!$A$2,Conferência!$A$2,\"\")","v":""},{"$f":"IF(Jogo!B379=Conferência!$B$2,Conferência!$B$2,\"\")","v":"QUARTA-FEIRA"},{"$f":"IF(Jogo!C379=Conferência!$C$2,Conferência!$C$2,\"\")","v":""},{"$f":"IF(Jogo!D379=Conferência!$D$2,Conferência!$D$2,\"\")","v":""},{"$f":"IF(Jogo!E379=Conferência!$E$2,Conferência!$E$2,\"\")","v":""},{"$f":"IF(Jogo!F379=Conferência!$F$2,Conferência!$F$2,\"\")","v":""},{"$f":"IF(Jogo!G379=Conferência!$G$2,Conferência!$G$2,\"\")","v":""},{"$f":"IF(Jogo!H379=Conferência!$H$2,Conferência!$H$2,\"\")","v":""},{"$f":"IF(Jogo!I379=Conferência!$I$2,Conferência!$I$2,\"\")","v":""},{"$f":"IF(Jogo!J379=Conferência!$J$2,Conferência!$J$2,\"\")","v":""},{"$f":"IF(Jogo!K379=Conferência!$K$2,Conferência!$K$2,\"\")","v":""},{"$f":"IF(Jogo!L379=Conferência!$L$2,Conferência!$L$2,\"\")","v":""},{"$f":"IF(Jogo!M379=Conferência!$M$2,Conferência!$M$2,\"\")","v":""},{"$f":"IF(Jogo!N379=Conferência!$N$2,Conferência!$N$2,\"\")","v":""},{"$f":"IF(Jogo!O379=Conferência!$O$2,Conferência!$O$2,\"\")","v":""},{"$f":"IF(Jogo!P379=Conferência!$P$2,Conferência!$P$2,\"\")","v":""},{"$f":"IF(Jogo!Q379=Conferência!$Q$2,Conferência!$Q$2,\"\")","v":""},""]
[{"$f":"IF(Jogo!A380=Conferência!$A$2,Conferência!$A$2,\"\")","v":""},{"$f":"IF(Jogo!B380=Conferência!$B$2,Conferência!$B$2,\"\")","v":"QUARTA-FEIRA"},{"$f":"IF(Jogo!C380=Conferência!$C$2,Conferência!$C$2,\"\")","v":1},{"$f":"IF(Jogo!D380=Conferência!$D$2,Conferência!$D$2,\"\")","v":3},{"$f":"IF(Jogo!E380=Conferência!$E$2,Conferência!$E$2,\"\")","v":""},{"$f":"IF(Jogo!F380=Conferência!$F$2,Conferência!$F$2,\"\")","v":""},{"$f":"IF(Jogo!G380=Conferência!$G$2,Conferência!$G$2,\"\")","v":""},{"$f":"IF(Jogo!H380=Conferência!$H$2,Conferência!$H$2,\"\")","v":""},{"$f":"IF(Jogo!I380=Conferência!$I$2,Conferência!$I$2,\"\")","v":""},{"$f":"IF(Jogo!J380=Conferência!$J$2,Conferência!$J$2,\"\")","v":""},{"$f":"IF(Jogo!K380=Conferência!$K$2,Conferência!$K$2,\"\")","v":""},{"$f":"IF(Jogo!L380=Conferência!$L$2,Conferência!$L$2,\"\")","v":""},{"$f":"IF(Jogo!M380=Conferência!$M$2,Conferência!$M$2,\"\")","v":""},{"$f":"IF(Jogo!N380=Conferência!$N$2,Conferência!$N$2,\"\")","v":""},{"$f":"IF(Jogo!O380=Conferência!$O$2,Conferência!$O$2,\"\")","v":""},{"$f":"IF(Jogo!P380=Conferência!$P$2,Conferência!$P$2,\"\")","v":23},{"$f":"IF(Jogo!Q380=Conferência!$Q$2,Conferência!$Q$2,\"\")","v":24},""]
[{"$f":"IF(Jogo!A381=Conferência!$A$2,Conferência!$A$2,\"\")","v":""},{"$f":"IF(Jogo!B381=Conferência!$B$2,Conferência!$B$2,\"\")","v":"QUARTA-FEIRA"},{"$f":"IF(Jogo!C381=Conferência!$C$2,Conferência!$C$2,\"\")","v":1},{"$f":"IF(Jogo!D381=Conferência!$D$2,Conferência!$D$2,\"\")","v":3},{"$f":"IF(Jogo!E381=Conferência!$E$2,Conferência!$E$2,\"\")","v":4},{"$f":"IF(Jogo!F381=Conferência!$F$2,Conferência!$F$2,\"\")","v":""},{"$f":"IF(Jogo!G381=Conferência!$G$2,Conferência!$G$2,\"\")","v":""},{"$f":"IF(Jogo!H381=Conferência!$H$2,Conferência!$H$2,\"\")","v":""},{"$f":"IF(Jogo!I381=Conferência!$I$2,Conferência!$I$2,\"\")","v":""},{"$f":"IF(Jogo!J381=Conferência!$J$2,Conferência!$J$2,\"\")","v":""},{"$f":"IF(Jogo!K381=Conferência!$K$2,Conferência!$K$2,\"\")","v":""},{"$f":"IF(Jogo!L381=Conferência!$L$2,Conferência!$L$2,\"\")","v":""},{"$f":"IF(Jogo!M381=Conferência!$M$2,Conferência!$M$2,\"\")","v":""},{"$f":"IF(Jogo!N381=Conferência!$N$2,Conferência!$N$2,\"\")","v":""},{"$f":"IF(Jogo!O381=Conferência!$O$2,Conferência!$O$2,\"\")","v":""},{"$f":"IF(Jogo!P381=Conferência!$P$2,Conferência!$P$2,\"\")","v":""},{"$f":"IF(Jogo!Q381=Conferência!$Q$2,Conferência!$Q$2,\"\")","v":""},""]
[{"$f":"IF(Jogo!A382=Conferência!$A$2,Conferência!$A$2,\"\")","v":""},{"$f":"IF(Jogo!B382=Conferência!$B$2,Conferência!$B$2,\"\")","v":"QUARTA-FEIRA"},{"$f":"IF(Jogo!C382=Conferência!$C$2,Conferência!$C$2,\"\")","v":""},{"$f":"IF(Jogo!D382=Conferência!$D$2,Conferência!$D$2,\"\")","v":""},{"$f":"IF(Jogo!E382=Conferência!$E$2,Conferência!$E$2,\"\")","v":""},{"$f":"IF(Jogo!F382=Conferência!$F$2,Conferência!$F$2,\"\")","v":""},{"$f":"IF(Jogo!G382=Conferência!$G$2,Conferência!$G$2,\"\")","v":""},{"$f":"IF(Jogo!H382=Conferência!$H$2,Conferência!$H$2,\"\")","v":""},{"$f":"IF(Jogo!I382=Conferência!$I$2,Conferência!$I$2,\"\")","v":""},{"$f":"IF(Jogo!J382=Conferência!$J$2,Conferência!$J$2,\"\")","v":""},{"$f":"IF(Jogo!K382=Conferência!$K$2,Conferência!$K$2,\"\")","v":""},{"$f":"IF(Jogo!L382=Conferência!$L$2,Conferência!$L$2,\"\")","v":""},{"$f":"IF(Jogo!M382=Conferência!$M$2,Conferência!$M$2,\"\")","v":""},{"$f":"IF(Jogo!N382=Conferência!$N$2,Conferência!$N$2,\"\")","v":""},{"$f":"IF(Jogo!O382=Conferência!$O$2,Conferência!$O$2,\"\")","v":""},{"$f":"IF(Jogo!P382=Conferência!$P$2,Conferência!$P$2,\"\")","v":""},{"$f":"IF(Jogo!Q382=Conferência!$Q$2,Conferência!$Q$2,\"\")","v":""},""]
[{"$f":"IF(Jogo!A383=Conferência!$A$2,Conferência!$A$2,\"\")","v":""},{"$f":"IF(Jogo!B383=Conferência!$B$2,Conferência!$B$2,\"\")","v":"QUARTA-FEIRA"},{"$f":"IF(Jogo!C383=Conferência!$C$2,Conferência!$C$2,\"\")","v":""},{"$f":"IF(Jogo!D383=Conferência!$D$2,Conferência!$D$2,\"\")","v":3},{"$f":"IF(Jogo!E383=Conferência!$E$2,Conferência!$E$2,\"\")","v":4},{"$f":"IF(Jogo!F383=Conferência!$F$2,Conferência!$F$2,\"\")","v":""},{"$f":"IF(Jogo!G383=Conferência!$G$2,Conferência!$G$2,\"\")","v":""},{"$f":"IF(Jogo!H383=Conferência!$H$2,Conferência!$H$2,\"\")","v":""},{"$f":"IF(Jogo!I383=Conferência!$I$2,Conferência!$I$2,\"\")","v":""},{"$f":"IF(Jogo!J383=Conferência!$J$2,Conferência!$J$2,\"\")","v":""},{"$f":"IF(Jogo!K383=Conferência!$K$2,Conferência!$K$2,\"\")","v":""},{"$f":"IF(Jogo!L383=Conferência!$L$2,Conferência!$L$2,\"\")","v":""},{"$f":"IF(Jogo!M383=Conferência!$M$2,Conferência!$M$2,\"\")","v":""},{"$f":"IF(Jogo!N383=Conferência!$N$2,Conferência!$N$2,\"\")","v":""},{"$f":"IF(Jogo!O383=Conferência!$O$2,Conferência!$O$2,\"\")","v":""},{"$f":"IF(Jogo!P383=Conferência!$P$2,Conferência!$P$2,\"\")","v":""},{"$f":"IF(Jogo!Q383=Conferência!$Q$2,Conferência!$Q$2,\"\")","v":""},""]
[{"$f":"IF(Jogo!A384=Conferência!$A$2,Conferência!$A$2,\"\")","v":""},{"$f":"IF(Jogo!B384=Conferência!$B$2,Conferência!$B$2,\"\")","v":"QUARTA-FEIRA"},{"$f":"IF(Jogo!C384=Conferência!$C$2,Conferência!$C$2,\"\")","v":1},{"$f":"IF(Jogo!D384=Conferência!$D$2,Conferência!$D$2,\"\")","v":""},{"$f":"IF(Jogo!E384=Conferência!$E$2,Conferência!$E$2,\"\")","v":""},{"$f":"IF(Jogo!F384=Conferência!$F$2,Conferência!$F$2,\"\")","v":""},{"$f":"IF(Jogo!G384=Conferência!$G$2,Conferência!$G$2,\"\")","v":""},{"$f":"IF(Jogo!H384=Conferência!$H$2,Conferência!$H$2,\"\")","v":""},{"$f":"IF(Jogo!I384=Conferência!$I$2,Conferência!$I$2,\"\")","v":""},{"$f":"IF(Jogo!J384=Conferência!$J$2,Conferência!$J$2,\"\")","v":""},{"$f":"IF(Jogo!K384=Conferência!$K$2,Conferência!$K$2,\"\")","v":""},{"$f":"IF(Jogo!L384=Conferência!$L$2,Conferência!$L$2,\"\")","v":""},{"$f":"IF(Jogo!M384=Conferência!$M$2,Conferência!$M$2,\"\")","v":""},{"$f":"IF(Jogo!N384=Conferência!$N$2,Conferência!$N$2,\"\")","v":""},{"$f":"IF(Jogo!O384=Conferência!$O$2,Conferência!$O$2,\"\")","v":""},{"$f":"IF(Jogo!P384=Conferência!$P$2,Conferência!$P$2,\"\")","v":23},{"$f":"IF(Jogo!Q384=Conferência!$Q$2,Conferência!$Q$2,\"\")","v":""},""]
[{"$f":"IF(Jogo!A385=Conferência!$A$2,Conferência!$A$2,\"\")","v":""},{"$f":"IF(Jogo!B385=Conferência!$B$2,Conferência!$B$2,\"\")","v":"QUARTA-FEIRA"},{"$f":"IF(Jogo!C385=Conferência!$C$2,Conferência!$C$2,\"\")","v":1},{"$f":"IF(Jogo!D385=Conferência!$D$2,Conferência!$D$2,\"\")","v":""},{"$f":"IF(Jogo!E385=Conferência!$E$2,Conferência!$E$2,\"\")","v":4},{"$f":"IF(Jogo!F385=Conferência!$F$2,Conferência!$F$2,\"\")","v":""},{"$f":"IF(Jogo!G385=Conferência!$G$2,Conferência!$G$2,\"\")","v":""},{"$f":"IF(Jogo!H385=Conferência!$H$2,Conferência!$H$2,\"\")","v":""},{"$f":"IF(Jogo!I385=Conferência!$I$2,Conferência!$I$2,\"\")","v":""},{"$f":"IF(Jogo!J385=Conferência!$J$2,Conferência!$J$2,\"\")","v":""},{"$f":"IF(Jogo!K385=Conferência!$K$2,Conferência!$K$2,\"\")","v":""},{"$f":"IF(Jogo!L385=Conferência!$L$2,Conferência!$L$2,\"\")","v":""},{"$f":"IF(Jogo!M385=Conferência!$M$2,Conferência!$M$2,\"\")","v":""},{"$f":"IF(Jogo!N385=Conferência!$N$2,Conferência!$N$2,\"\")","v":""},{"$f":"IF(Jogo!O385=Conferência!$O$2,Conferência!$O$2,\"\")","v":""},{"$f":"IF(Jogo!P385=Conferência!$P$2,Conferência!$P$2,\"\")","v":""},{"$f":"IF(Jogo!Q385=Conferência!$Q$2,Conferência!$Q$2,\"\")","v":""},""]
[{"$f":"IF(Jogo!A386=Conferência!$A$2,Conferência!$A$2,\"\")","v":""},{"$f":"IF(Jogo!B386=Conferência!$B$2,Conferência!$B$2,\"\")","v":"QUARTA-FEIRA"},{"$f":"IF(Jogo!C386=Conferência!$C$2,Conferência!$C$2,\"\")","v":1},{"$f":"IF(Jogo!D386=Conferência!$D$2,Conferência!$D$2,\"\")","v":""},{"$f":"IF(Jogo!E386=Conferência!$E$2,Conferência!$E$2,\"\")","v":""},{"$f":"IF(Jogo!F386=Conferência!$F$2,Conferência!$F$2,\"\")","v":""},{"$f":"IF(Jogo!G386=Conferência!$G$2,Conferência!$G$2,\"\")","v":""},{"$f":"IF(Jogo!H386=Conferência!$H$2,Conferência!$H$2,\"\")","v":""},{"$f":"IF(Jogo!I386=Conferência!$I$2,Conferência!$I$2,\"\")","v":""},{"$f":"IF(Jogo!J386=Conferência!$J$2,Conferência!$J$2,\"\")","v":""},{"$f":"IF(Jogo!K386=Conferência!$K$2,Conferência!$K$2,\"\")","v":""},{"$f":"IF(Jogo!L386=Conferência!$L$2,Conferência!$L$2,\"\")","v":""},{"$f":"IF(Jogo!M386=Conferência!$M$2,Conferência!$M$2,\"\")","v":""},{"$f":"IF(Jogo!N386=Conferência!$N$2,Conferência!$N$2,\"\")","v":""},{"$f":"IF(Jogo!O386=Conferência!$O$2,Conferência!$O$2,\"\")","v":""},{"$f":"IF(Jogo!P386=Conferência!$P$2,Conferência!$P$2,\"\")","v":23},{"$f":"IF(Jogo!Q386=Conferência!$Q$2,Conferência!$Q$2,\"\")","v":""},""]
[{"$f":"IF(Jogo!A387=Conferência!$A$2,Conferência!$A$2,\"\")","v":""},{"$f":"IF(Jogo!B387=Conferência!$B$2,Conferência!$B$2,\"\")","v":"QUARTA-FEIRA"},{"$f":"IF(Jogo!C387=Conferência!$C$2,Conferência!$C$2,\"\")","v":1},{"$f":"IF(Jogo!D387=Conferência!$D$2,Conferência!$D$2,\"\")","v":3},{"$f":"IF(Jogo!E387=Conferência!$E$2,Conferência!$E$2,\"\")","v":4},{"$f":"IF(Jogo!F387=Conferência!$F$2,Conferência!$F$2,\"\")","v":""},{"$f":"IF(Jogo!G387=Conferência!$G$2,Conferência!$G$2,\"\")","v":7},{"$f":"IF(Jogo!H387=Conferência!$H$2,Conferência!$H$2,\"\")","v":""},{"$f":"IF(Jogo!I387=Conferência!$I$2,Conferência!$I$2,\"\")","v":""},{"$f":"IF(Jogo!J387=Conferência!$J$2,Conferência!$J$2,\"\")","v":""},{"$f":"IF(Jogo!K387=Conferência!$K$2,Conferência!$K$2,\"\")","v":""},{"$f":"IF(Jogo!L387=Conferência!$L$2,Conferência!$L$2,\"\")","v":""},{"$f":"IF(Jogo!M387=Conferência!$M$2,Conferência!$M$2,\"\")","v":""},{"$f":"IF(Jogo!N387=Conferência!$N$2,Conferência!$N$2,\"\")","v":""},{"$f":"IF(Jogo!O387=Conferência!$O$2,Conferência!$O$2,\"\")","v":""},{"$f":"IF(Jogo!P387=Conferência!$P$2,Conferência!$P$2,\"\")","v":23},{"$f":"IF(Jogo!Q387=Conferência!$Q$2,Conferência!$Q$2,\"\")","v":24},""]
[{"$f":"IF(Jogo!A388=Conferência!$A$2,Conferência!$A$2,\"\")","v":""},{"$f":"IF(Jogo!B388=Conferência!$B$2,Conferência!$B$2,\"\")","v":"QUARTA-FEIRA"},{"$f":"IF(Jogo!C388=Conferência!$C$2,Conferência!$C$2,\"\")","v":1},{"$f":"IF(Jogo!D388=Conferência!$D$2,Conferência!$D$2,\"\")","v":""},{"$f":"IF(Jogo!E388=Conferência!$E$2,Conferência!$E$2,\"\")","v":""},{"$f":"IF(Jogo!F388=Conferência!$F$2,Conferência!$F$2,\"\")","v":""},{"$f":"IF(Jogo!G388=Conferência!$G$2,Conferência!$G$2,\"\")","v":""},{"$f":"IF(Jogo!H388=Conferência!$H$2,Conferência!$H$2,\"\")","v":""},{"$f":"IF(Jogo!I388=Conferência!$I$2,Conferência!$I$2,\"\")","v":""},{"$f":"IF(Jogo!J388=Conferência!$J$2,Conferência!$J$2,\"\")","v":""},{"$f":"IF(Jogo!K388=Conferência!$K$2,Conferência!$K$2,\"\")","v":12},{"$f":"IF(Jogo!L388=Conferência!$L$2,Conferência!$L$2,\"\")","v":""},{"$f":"IF(Jogo!M388=Conferência!$M$2,Conferência!$M$2,\"\")","v":""},{"$f":"IF(Jogo!N388=Conferência!$N$2,Conferência!$N$2,\"\")","v":""},{"$f":"IF(Jogo!O388=Conferência!$O$2,Conferência!$O$2,\"\")","v":""},{"$f":"IF(Jogo!P388=Conferência!$P$2,Conferência!$P$2,\"\")","v":""},{"$f":"IF(Jogo!Q388=Conferência!$Q$2,Conferência!$Q$2,\"\")","v":""},""]
[{"$f":"IF(Jogo!A389=Conferência!$A$2,Conferência!$A$2,\"\")","v":""},{"$f":"IF(Jogo!B389=Conferência!$B$2,Conferência!$B$2,\"\")","v":"QUARTA-FEIRA"},{"$f":"IF(Jogo!C389=Conferência!$C$2,Conferência!$C$2,\"\")","v":1},{"$f":"IF(Jogo!D389=Conferência!$D$2,Conferência!$D$2,\"\")","v":3},{"$f":"IF(Jogo!E389=Conferência!$E$2,Conferência!$E$2,\"\")","v":4},{"$f":"IF(Jogo!F389=Conferência!$F$2,Conferência!$F$2,\"\")","v":""},{"$f":"IF(Jogo!G389=Conferência!$G$2,Conferência!$G$2,\"\")","v":""},{"$f":"IF(Jogo!H389=Conferência!$H$2,Conferência!$H$2,\"\")","v":""},{"$f":"IF(Jogo!I389=Conferência!$I$2,Conferência!$I$2,\"\")","v":""},{"$f":"IF(Jogo!J389=Conferência!$J$2,Conferência!$J$2,\"\")","v":""},{"$f":"IF(Jogo!K389=Conferência!$K$2,Conferência!$K$2,\"\")","v":""},{"$f":"IF(Jogo!L389=Conferência!$L$2,Conferência!$L$2,\"\")","v":""},{"$f":"IF(Jogo!M389=Conferência!$M$2,Conferência!$M$2,\"\")","v":""},{"$f":"IF(Jogo!N389=Conferência!$N$2,Conferência!$N$2,\"\")","v":""},{"$f":"IF(Jogo!O389=Conferência!$O$2,Conferência!$O$2,\"\")","v":""},{"$f":"IF(Jogo!P389=Conferência!$P$2,Conferência!$P$2,\"\")","v":""},{"$f":"IF(Jogo!Q389=Conferência!$Q$2,Conferência!$Q$2,\"\")","v":""},""]
[{"$f":"IF(Jogo!A390=Conferência!$A$2,Conferência!$A$2,\"\")","v":""},{"$f":"IF(Jogo!B390=Conferência!$B$2,Conferência!$B$2,\"\")","v":"QUARTA-FEIRA"},{"$f":"IF(Jogo!C390=Conferência!$C$2,Conferência!$C$2,\"\")","v":1},{"$f":"IF(Jogo!D390=Conferência!$D$2,Conferência!$D$2,\"\")","v":""},{"$f":"IF(Jogo!E390=Conferência!$E$2,Conferência!$E$2,\"\")","v":""},{"$f":"IF(Jogo!F390=Conferência!$F$2,Conferência!$F$2,\"\")","v":""},{"$f":"IF(Jogo!G390=Conferência!$G$2,Conferência!$G$2,\"\")","v":""},{"$f":"IF(Jogo!H390=Conferência!$H$2,Conferência!$H$2,\"\")","v":""},{"$f":"IF(Jogo!I390=Conferência!$I$2,Conferência!$I$2,\"\")","v":""},{"$f":"IF(Jogo!J390=Conferência!$J$2,Conferência!$J$2,\"\")","v":""},{"$f":"IF(Jogo!K390=Conferência!$K$2,Conferência!$K$2,\"\")","v":""},{"$f":"IF(Jogo!L390=Conferência!$L$2,Conferência!$L$2,\"\")","v":""},{"$f":"IF(Jogo!M390=Conferência!$M$2,Conferência!$M$2,\"\")","v":""},{"$f":"IF(Jogo!N390=Conferência!$N$2,Conferência!$N$2,\"\")","v":16},{"$f":"IF(Jogo!O390=Conferência!$O$2,Conferência!$O$2,\"\")","v":""},{"$f":"IF(Jogo!P390=Conferência!$P$2,Conferência!$P$2,\"\")","v":23},{"$f":"IF(Jogo!Q390=Conferência!$Q$2,Conferência!$Q$2,\"\")","v":""},""]
[{"$f":"IF(Jogo!A391=Conferência!$A$2,Conferência!$A$2,\"\")","v":""},{"$f":"IF(Jogo!B391=Conferência!$B$2,Conferência!$B$2,\"\")","v":"QUARTA-FEIRA"},{"$f":"IF(Jogo!C391=Conferência!$C$2,Conferência!$C$2,\"\")","v":1},{"$f":"IF(Jogo!D391=Conferência!$D$2,Conferência!$D$2,\"\")","v":3},{"$f":"IF(Jogo!E391=Conferência!$E$2,Conferência!$E$2,\"\")","v":4},{"$f":"IF(Jogo!F391=Conferência!$F$2,Conferência!$F$2,\"\")","v":6},{"$f":"IF(Jogo!G391=Conferência!$G$2,Conferência!$G$2,\"\")","v":7},{"$f":"IF(Jogo!H391=Conferência!$H$2,Conferência!$H$2,\"\")","v":""},{"$f":"IF(Jogo!I391=Conferência!$I$2,Conferência!$I$2,\"\")","v":""},{"$f":"IF(Jogo!J391=Conferência!$J$2,Conferência!$J$2,\"\")","v":""},{"$f":"IF(Jogo!K391=Conferência!$K$2,Conferência!$K$2,\"\")","v":""},{"$f":"IF(Jogo!L391=Conferência!$L$2,Conferência!$L$2,\"\")","v":""},{"$f":"IF(Jogo!M391=Conferência!$M$2,Conferência!$M$2,\"\")","v":""},{"$f":"IF(Jogo!N391=Conferência!$N$2,Conferência!$N$2,\"\")","v":16},{"$f":"IF(Jogo!O391=Conferência!$O$2,Conferência!$O$2,\"\")","v":""},{"$f":"IF(Jogo!P391=Conferência!$P$2,Conferência!$P$2,\"\")","v":""},{"$f":"IF(Jogo!Q391=Conferência!$Q$2,Conferência!$Q$2,\"\")","v":""},""]
[{"$f":"IF(Jogo!A392=Conferência!$A$2,Conferência!$A$2,\"\")","v":""},{"$f":"IF(Jogo!B392=Conferência!$B$2,Conferência!$B$2,\"\")","v":"QUARTA-FEIRA"},{"$f":"IF(Jogo!C392=Conferência!$C$2,Conferência!$C$2,\"\")","v":1},{"$f":"IF(Jogo!D392=Conferência!$D$2,Conferência!$D$2,\"\")","v":""},{"$f":"IF(Jogo!E392=Conferência!$E$2,Conferência!$E$2,\"\")","v":4},{"$f":"IF(Jogo!F392=Conferência!$F$2,Conferência!$F$2,\"\")","v":""},{"$f":"IF(Jogo!G392=Conferência!$G$2,Conferência!$G$2,\"\")","v":7},{"$f":"IF(Jogo!H392=Conferência!$H$2,Conferência!$H$2,\"\")","v":""},{"$f":"IF(Jogo!I392=Conferência!$I$2,Conferência!$I$2,\"\")","v":""},{"$f":"IF(Jogo!J392=Conferência!$J$2,Conferência!$J$2,\"\")","v":""},{"$f":"IF(Jogo!K392=Conferência!$K$2,Conferência!$K$2,\"\")","v":""},{"$f":"IF(Jogo!L392=Conferência!$L$2,Conferência!$L$2,\"\")","v":13},{"$f":"IF(Jogo!M392=Conferência!$M$2,Conferência!$M$2,\"\")","v":15},{"$f":"IF(Jogo!N392=Conferência!$N$2,Conferência!$N$2,\"\")","v":16},{"$f":"IF(Jogo!O392=Conferência!$O$2,Conferência!$O$2,\"\")","v":""},{"$f":"IF(Jogo!P392=Conferência!$P$2,Conferência!$P$2,\"\")","v":""},{"$f":"IF(Jogo!Q392=Conferência!$Q$2,Conferência!$Q$2,\"\")","v":""},""]
[{"$f":"IF(Jogo!A393=Conferência!$A$2,Conferência!$A$2,\"\")","v":""},{"$f":"IF(Jogo!B393=Conferência!$B$2,Conferência!$B$2,\"\")","v":"QUARTA-FEIRA"},{"$f":"IF(Jogo!C393=Conferência!$C$2,Conferência!$C$2,\"\")","v":1},{"$f":"IF(Jogo!D393=Conferência!$D$2,Conferência!$D$2,\"\")","v":""},{"$f":"IF(Jogo!E393=Conferência!$E$2,Conferência!$E$2,\"\")","v":""},{"$f":"IF(Jogo!F393=Conferência!$F$2,Conferência!$F$2,\"\")","v":6},{"$f":"IF(Jogo!G393=Conferência!$G$2,Conferência!$G$2,\"\")","v":""},{"$f":"IF(Jogo!H393=Conferência!$H$2,Conferência!$H$2,\"\")","v":9},{"$f":"IF(Jogo!I393=Conferência!$I$2,Conferência!$I$2,\"\")","v":""},{"$f":"IF(Jogo!J393=Conferência!$J$2,Conferência!$J$2,\"\")","v":""},{"$f":"IF(Jogo!K393=Conferência!$K$2,Conferência!$K$2,\"\")","v":""},{"$f":"IF(Jogo!L393=Conferência!$L$2,Conferência!$L$2,\"\")","v":""},{"$f":"IF(Jogo!M393=Conferência!$M$2,Conferência!$M$2,\"\")","v":""},{"$f":"IF(Jogo!N393=Conferência!$N$2,Conferência!$N$2,\"\")","v":""},{"$f":"IF(Jogo!O393=Conferência!$O$2,Conferência!$O$2,\"\")","v":""},{"$f":"IF(Jogo!P393=Conferência!$P$2,Conferência!$P$2,\"\")","v":""},{"$f":"IF(Jogo!Q393=Conferência!$Q$2,Conferência!$Q$2,\"\")","v":24},""]
[{"$f":"IF(Jogo!A394=Conferência!$A$2,Conferência!$A$2,\"\")","v":""},{"$f":"IF(Jogo!B394=Conferência!$B$2,Conferência!$B$2,\"\")","v":"QUARTA-FEIRA"},{"$f":"IF(Jogo!C394=Conferência!$C$2,Conferência!$C$2,\"\")","v":1},{"$f":"IF(Jogo!D394=Conferência!$D$2,Conferência!$D$2,\"\")","v":3},{"$f":"IF(Jogo!E394=Conferência!$E$2,Conferência!$E$2,\"\")","v":""},{"$f":"IF(Jogo!F394=Conferência!$F$2,Conferência!$F$2,\"\")","v":6},{"$f":"IF(Jogo!G394=Conferência!$G$2,Conferência!$G$2,\"\")","v":""},{"$f":"IF(Jogo!H394=Conferência!$H$2,Conferência!$H$2,\"\")","v":""},{"$f":"IF(Jogo!I394=Conferência!$I$2,Conferência!$I$2,\"\")","v":""},{"$f":"IF(Jogo!J394=Conferência!$J$2,Conferência!$J$2,\"\")","v":""},{"$f":"IF(Jogo!K394=Conferência!$K$2,Conferência!$K$2,\"\")","v":""},{"$f":"IF(Jogo!L394=Conferência!$L$2,Conferência!$L$2,\"\")","v":""},{"$f":"IF(Jogo!M394=Conferência!$M$2,Conferência!$M$2,\"\")","v":""},{"$f":"IF(Jogo!N394=Conferência!$N$2,Conferência!$N$2,\"\")","v":""},{"$f":"IF(Jogo!O394=Conferência!$O$2,Conferência!$O$2,\"\")","v":19},{"$f":"IF(Jogo!P394=Conferência!$P$2,Conferência!$P$2,\"\")","v":""},{"$f":"IF(Jogo!Q394=Conferência!$Q$2,Conferência!$Q$2,\"\")","v":""},""]
[{"$f":"IF(Jogo!A395=Conferência!$A$2,Conferência!$A$2,\"\")","v":""},{"$f":"IF(Jogo!B395=Conferência!$B$2,Conferência!$B$2,\"\")","v":"QUARTA-FEIRA"},{"$f":"IF(Jogo!C395=Conferência!$C$2,Conferência!$C$2,\"\")","v":1},{"$f":"IF(Jogo!D395=Conferência!$D$2,Conferência!$D$2,\"\")","v":""},{"$f":"IF(Jogo!E395=Conferência!$E$2,Conferência!$E$2,\"\")","v":4},{"$f":"IF(Jogo!F395=Conferência!$F$2,Conferência!$F$2,\"\")","v":""},{"$f":"IF(Jogo!G395=Conferência!$G$2,Conferência!$G$2,\"\")","v":""},{"$f":"IF(Jogo!H395=Conferência!$H$2,Conferência!$H$2,\"\")","v":""},{"$f":"IF(Jogo!I395=Conferência!$I$2,Conferência!$I$2,\"\")","v":""},{"$f":"IF(Jogo!J395=Conferência!$J$2,Conferência!$J$2,\"\")","v":11},{"$f":"IF(Jogo!K395=Conferência!$K$2,Conferência!$K$2,\"\")","v":12},{"$f":"IF(Jogo!L395=Conferência!$L$2,Conferência!$L$2,\"\")","v":""},{"$f":"IF(Jogo!M395=Conferência!$M$2,Conferência!$M$2,\"\")","v":""},{"$f":"IF(Jogo!N395=Conferência!$N$2,Conferência!$N$2,\"\")","v":""},{"$f":"IF(Jogo!O395=Conferência!$O$2,Conferência!$O$2,\"\")","v":""},{"$f":"IF(Jogo!P395=Conferência!$P$2,Conferência!$P$2,\"\")","v":23},{"$f":"IF(Jogo!Q395=Conferência!$Q$2,Conferência!$Q$2,\"\")","v":""},""]
[{"$f":"IF(Jogo!A396=Conferência!$A$2,Conferência!$A$2,\"\")","v":""},{"$f":"IF(Jogo!B396=Conferência!$B$2,Conferência!$B$2,\"\")","v":"QUARTA-FEIRA"},{"$f":"IF(Jogo!C396=Conferência!$C$2,Conferência!$C$2,\"\")","v":1},{"$f":"IF(Jogo!D396=Conferência!$D$2,Conferência!$D$2,\"\")","v":3},{"$f":"IF(Jogo!E396=Conferência!$E$2,Conferência!$E$2,\"\")","v":""},{"$f":"IF(Jogo!F396=Conferência!$F$2,Conferência!$F$2,\"\")","v":""},{"$f":"IF(Jogo!G396=Conferência!$G$2,Conferência!$G$2,\"\")","v":""},{"$f":"IF(Jogo!H396=Conferência!$H$2,Conferência!$H$2,\"\")","v":""},{"$f":"IF(Jogo!I396=Conferência!$I$2,Conferência!$I$2,\"\")","v":""},{"$f":"IF(Jogo!J396=Conferência!$J$2,Conferência!$J$2,\"\")","v":""},{"$f":"IF(Jogo!K396=Conferência!$K$2,Conferência!$K$2,\"\")","v":""},{"$f":"IF(Jogo!L396=Conferência!$L$2,Conferência!$L$2,\"\")","v":""},{"$f":"IF(Jogo!M396=Conferência!$M$2,Conferência!$M$2,\"\")","v":""},{"$f":"IF(Jogo!N396=Conferência!$N$2,Conferência!$N$2,\"\")","v":""},{"$f":"IF(Jogo!O396=Conferência!$O$2,Conferência!$O$2,\"\")","v":""},{"$f":"IF(Jogo!P396=Conferência!$P$2,Conferência!$P$2,\"\")","v":23},{"$f":"IF(Jogo!Q396=Conferência!$Q$2,Conferência!$Q$2,\"\")","v":24},""]
[{"$f":"IF(Jogo!A397=Conferência!$A$2,Conferência!$A$2,\"\")","v":""},{"$f":"IF(Jogo!B397=Conferência!$B$2,Conferência!$B$2,\"\")","v":"QUARTA-FEIRA"},{"$f":"IF(Jogo!C397=Conferência!$C$2,Conferência!$C$2,\"\")","v":""},{"$f":"IF(Jogo!D397=Conferência!$D$2,Conferência!$D$2,\"\")","v":""},{"$f":"IF(Jogo!E397=Conferência!$E$2,Conferência!$E$2,\"\")","v":""},{"$f":"IF(Jogo!F397=Conferência!$F$2,Conferência!$F$2,\"\")","v":""},{"$f":"IF(Jogo!G397=Conferência!$G$2,Conferência!$G$2,\"\")","v":""},{"$f":"IF(Jogo!H397=Conferência!$H$2,Conferência!$H$2,\"\")","v":9},{"$f":"IF(Jogo!I397=Conferência!$I$2,Conferência!$I$2,\"\")","v":10},{"$f":"IF(Jogo!J397=Conferência!$J$2,Conferência!$J$2,\"\")","v":11},{"$f":"IF(Jogo!K397=Conferência!$K$2,Conferência!$K$2,\"\")","v":12},{"$f":"IF(Jogo!L397=Conferência!$L$2,Conferência!$L$2,\"\")","v":""},{"$f":"IF(Jogo!M397=Conferência!$M$2,Conferência!$M$2,\"\")","v":""},{"$f":"IF(Jogo!N397=Conferência!$N$2,Conferência!$N$2,\"\")","v":""},{"$f":"IF(Jogo!O397=Conferência!$O$2,Conferência!$O$2,\"\")","v":""},{"$f":"IF(Jogo!P397=Conferência!$P$2,Conferência!$P$2,\"\")","v":""},{"$f":"IF(Jogo!Q397=Conferência!$Q$2,Conferência!$Q$2,\"\")","v":""},""]
[{"$f":"IF(Jogo!A398=Conferência!$A$2,Conferência!$A$2,\"\")","v":""},{"$f":"IF(Jogo!B398=Conferência!$B$2,Conferência!$B$2,\"\")","v":"QUARTA-FEIRA"},{"$f":"IF(Jogo!C398=Conferência!$C$2,Conferência!$C$2,\"\")","v":""},{"$f":"IF(Jogo!D398=Conferência!$D$2,Conferência!$D$2,\"\")","v":""},{"$f":"IF(Jogo!E398=Conferência!$E$2,Conferência!$E$2,\"\")","v":""},{"$f":"IF(Jogo!F398=Conferência!$F$2,Conferência!$F$2,\"\")","v":""},{"$f":"IF(Jogo!G398=Conferência!$G$2,Conferência!$G$2,\"\")","v":""},{"$f":"IF(Jogo!H398=Conferência!$H$2,Conferência!$H$2,\"\")","v":""},{"$f":"IF(Jogo!I398=Conferência!$I$2,Conferência!$I$2,\"\")","v":""},{"$f":"IF(Jogo!J398=Conferência!$J$2,Conferência!$J$2,\"\")","v":""},{"$f":"IF(Jogo!K398=Conferência!$K$2,Conferência!$K$2,\"\")","v":""},{"$f":"IF(Jogo!L398=Conferência!$L$2,Conferência!$L$2,\"\")","v":""},{"$f":"IF(Jogo!M398=Conferência!$M$2,Conferência!$M$2,\"\")","v":""},{"$f":"IF(Jogo!N398=Conferência!$N$2,Conferência!$N$2,\"\")","v":""},{"$f":"IF(Jogo!O398=Conferência!$O$2,Conferência!$O$2,\"\")","v":""},{"$f":"IF(Jogo!P398=Conferência!$P$2,Conferência!$P$2,\"\")","v":""},{"$f":"IF(Jogo!Q398=Conferência!$Q$2,Conferência!$Q$2,\"\")","v":""},""]
[{"$f":"IF(Jogo!A399=Conferência!$A$2,Conferência!$A$2,\"\")","v":""},{"$f":"IF(Jogo!B399=Conferência!$B$2,Conferência!$B$2,\"\")","v":"QUARTA-FEIRA"},{"$f":"IF(Jogo!C399=Conferência!$C$2,Conferência!$C$2,\"\")","v":1},{"$f":"IF(Jogo!D399=Conferência!$D$2,Conferência!$D$2,\"\")","v":""},{"$f":"IF(Jogo!E399=Conferência!$E$2,Conferência!$E$2,\"\")","v":""},{"$f":"IF(Jogo!F399=Conferência!$F$2,Conferência!$F$2,\"\")","v":""},{"$f":"IF(Jogo!G399=Conferência!$G$2,Conferência!$G$2,\"\")","v":""},{"$f":"IF(Jogo!H399=Conferência!$H$2,Conferência!$H$2,\"\")","v":9},{"$f":"IF(Jogo!I399=Conferência!$I$2,Conferência!$I$2,\"\")","v":10},{"$f":"IF(Jogo!J399=Conferência!$J$2,Conferência!$J$2,\"\")","v":11},{"$f":"IF(Jogo!K399=Conferência!$K$2,Conferência!$K$2,\"\")","v":""},{"$f":"IF(Jogo!L399=Conferência!$L$2,Conferência!$L$2,\"\")","v":""},{"$f":"IF(Jogo!M399=Conferência!$M$2,Conferência!$M$2,\"\")","v":""},{"$f":"IF(Jogo!N399=Conferência!$N$2,Conferência!$N$2,\"\")","v":""},{"$f":"IF(Jogo!O399=Conferência!$O$2,Conferência!$O$2,\"\")","v":""},{"$f":"IF(Jogo!P399=Conferência!$P$2,Conferência!$P$2,\"\")","v":23},{"$f":"IF(Jogo!Q399=Conferência!$Q$2,Conferência!$Q$2,\"\")","v":24},""]
[{"$f":"IF(Jogo!A400=Conferência!$A$2,Conferência!$A$2,\"\")","v":""},{"$f":"IF(Jogo!B400=Conferência!$B$2,Conferência!$B$2,\"\")","v":"QUARTA-FEIRA"},{"$f":"IF(Jogo!C400=Conferência!$C$2,Conferência!$C$2,\"\")","v":""},{"$f":"IF(Jogo!D400=Conferência!$D$2,Conferência!$D$2,\"\")","v":3},{"$f":"IF(Jogo!E400=Conferência!$E$2,Conferência!$E$2,\"\")","v":4},{"$f":"IF(Jogo!F400=Conferência!$F$2,Conferência!$F$2,\"\")","v":""},{"$f":"IF(Jogo!G400=Conferência!$G$2,Conferência!$G$2,\"\")","v":""},{"$f":"IF(Jogo!H400=Conferência!$H$2,Conferência!$H$2,\"\")","v":""},{"$f":"IF(Jogo!I400=Conferência!$I$2,Conferência!$I$2,\"\")","v":""},{"$f":"IF(Jogo!J400=Conferência!$J$2,Conferência!$J$2,\"\")","v":""},{"$f":"IF(Jogo!K400=Conferência!$K$2,Conferência!$K$2,\"\")","v":12},{"$f":"IF(Jogo!L400=Conferência!$L$2,Conferência!$L$2,\"\")","v":""},{"$f":"IF(Jogo!M400=Conferência!$M$2,Conferência!$M$2,\"\")","v":""},{"$f":"IF(Jogo!N400=Conferência!$N$2,Conferência!$N$2,\"\")","v":""},{"$f":"IF(Jogo!O400=Conferência!$O$2,Conferência!$O$2,\"\")","v":19},{"$f":"IF(Jogo!P400=Conferência!$P$2,Conferência!$P$2,\"\")","v":23},{"$f":"IF(Jogo!Q400=Conferência!$Q$2,Conferência!$Q$2,\"\")","v":""},""]
[{"$f":"IF(Jogo!A401=Conferência!$A$2,Conferência!$A$2,\"\")","v":""},{"$f":"IF(Jogo!B401=Conferência!$B$2,Conferência!$B$2,\"\")","v":"QUARTA-FEIRA"},{"$f":"IF(Jogo!C401=Conferência!$C$2,Conferência!$C$2,\"\")","v":1},{"$f":"IF(Jogo!D401=Conferência!$D$2,Conferência!$D$2,\"\")","v":""},{"$f":"IF(Jogo!E401=Conferência!$E$2,Conferência!$E$2,\"\")","v":""},{"$f":"IF(Jogo!F401=Conferência!$F$2,Conferência!$F$2,\"\")","v":""},{"$f":"IF(Jogo!G401=Conferência!$G$2,Conferência!$G$2,\"\")","v":""},{"$f":"IF(Jogo!H401=Conferência!$H$2,Conferência!$H$2,\"\")","v":""},{"$f":"IF(Jogo!I401=Conferência!$I$2,Conferência!$I$2,\"\")","v":""},{"$f":"IF(Jogo!J401=Conferência!$J$2,Conferência!$J$2,\"\")","v":""},{"$f":"IF(Jogo!K401=Conferência!$K$2,Conferência!$K$2,\"\")","v":""},{"$f":"IF(Jogo!L401=Conferência!$L$2,Conferência!$L$2,\"\")","v":""},{"$f":"IF(Jogo!M401=Conferência!$M$2,Conferência!$M$2,\"\")","v":""},{"$f":"IF(Jogo!N401=Conferência!$N$2,Conferência!$N$2,\"\")","v":""},{"$f":"IF(Jogo!O401=Conferência!$O$2,Conferência!$O$2,\"\")","v":""},{"$f":"IF(Jogo!P401=Conferência!$P$2,Conferência!$P$2,\"\")","v":""},{"$f":"IF(Jogo!Q401=Conferência!$Q$2,Conferência!$Q$2,\"\")","v":""},""]
[{"$f":"IF(Jogo!A402=Conferência!$A$2,Conferência!$A$2,\"\")","v":""},{"$f":"IF(Jogo!B402=Conferência!$B$2,Conferência!$B$2,\"\")","v":"QUARTA-FEIRA"},{"$f":"IF(Jogo!C402=Conferência!$C$2,Conferência!$C$2,\"\")","v":1},{"$f":"IF(Jogo!D402=Conferência!$D$2,Conferência!$D$2,\"\")","v":""},{"$f":"IF(Jogo!E402=Conferência!$E$2,Conferência!$E$2,\"\")","v":""},{"$f":"IF(Jogo!F402=Conferência!$F$2,Conferência!$F$2,\"\")","v":""},{"$f":"IF(Jogo!G402=Conferência!$G$2,Conferência!$G$2,\"\")","v":""},{"$f":"IF(Jogo!H402=Conferência!$H$2,Conferência!$H$2,\"\")","v":""},{"$f":"IF(Jogo!I402=Conferência!$I$2,Conferência!$I$2,\"\")","v":""},{"$f":"IF(Jogo!J402=Conferência!$J$2,Conferência!$J$2,\"\")","v":""},{"$f":"IF(Jogo!K402=Conferência!$K$2,Conferência!$K$2,\"\")","v":""},{"$f":"IF(Jogo!L402=Conferência!$L$2,Conferência!$L$2,\"\")","v":""},{"$f":"IF(Jogo!M402=Conferência!$M$2,Conferência!$M$2,\"\")","v":""},{"$f":"IF(Jogo!N402=Conferência!$N$2,Conferência!$N$2,\"\")","v":""},{"$f":"IF(Jogo!O402=Conferência!$O$2,Conferência!$O$2,\"\")","v":""},{"$f":"IF(Jogo!P402=Conferência!$P$2,Conferência!$P$2,\"\")","v":""},{"$f":"IF(Jogo!Q402=Conferência!$Q$2,Conferência!$Q$2,\"\")","v":""},{"$f":"IF(A402=\"\",\"\",\"OK\")","v":""}]
[{"$f":"IF(Jogo!A403=Conferência!$A$2,Conferência!$A$2,\"\")","v":""},{"$f":"IF(Jogo!B403=Conferência!$B$2,Conferência!$B$2,\"\")","v":"QUARTA-FEIRA"},{"$f":"IF(Jogo!C403=Conferência!$C$2,Conferência!$C$2,\"\")","v":""},{"$f":"IF(Jogo!D403=Conferência!$D$2,Conferência!$D$2,\"\")","v":""},{"$f":"IF(Jogo!E403=Conferência!$E$2,Conferência!$E$2,\"\")","v":""},{"$f":"IF(Jogo!F403=Conferência!$F$2,Conferência!$F$2,\"\")","v":6},{"$f":"IF(Jogo!G403=Conferência!$G$2,Conferência!$G$2,\"\")","v":7},{"$f":"IF(Jogo!H403=Conferência!$H$2,Conferência!$H$2,\"\")","v":9},{"$f":"IF(Jogo!I403=Conferência!$I$2,Conferência!$I$2,\"\")","v":10},{"$f":"IF(Jogo!J403=Conferência!$J$2,Conferência!$J$2,\"\")","v":11},{"$f":"IF(Jogo!K403=Conferência!$K$2,Conferência!$K$2,\"\")","v":12},{"$f":"IF(Jogo!L403=Conferência!$L$2,Conferência!$L$2,\"\")","v":""},{"$f":"IF(Jogo!M403=Conferência!$M$2,Conferência!$M$2,\"\")","v":""},{"$f":"IF(Jogo!N403=Conferência!$N$2,Conferência!$N$2,\"\")","v":""},{"$f":"IF(Jogo!O403=Conferência!$O$2,Conferência!$O$2,\"\")","v":19},{"$f":"IF(Jogo!P403=Conferência!$P$2,Conferência!$P$2,\"\")","v":""},{"$f":"IF(Jogo!Q403=Conferência!$Q$2,Conferência!$Q$2,\"\")","v":""},""]
[{"$f":"IF(Jogo!A404=Conferência!$A$2,Conferência!$A$2,\"\")","v":""},{"$f":"IF(Jogo!B404=Conferência!$B$2,Conferência!$B$2,\"\")","v":"QUARTA-FEIRA"},{"$f":"IF(Jogo!C404=Conferência!$C$2,Conferência!$C$2,\"\")","v":1},{"$f":"IF(Jogo!D404=Conferência!$D$2,Conferência!$D$2,\"\")","v":""},{"$f":"IF(Jogo!E404=Conferência!$E$2,Conferência!$E$2,\"\")","v":""},{"$f":"IF(Jogo!F404=Conferência!$F$2,Conferência!$F$2,\"\")","v":""},{"$f":"IF(Jogo!G404=Conferência!$G$2,Conferência!$G$2,\"\")","v":""},{"$f":"IF(Jogo!H404=Conferência!$H$2,Conferência!$H$2,\"\")","v":""},{"$f":"IF(Jogo!I404=Conferência!$I$2,Conferência!$I$2,\"\")","v":""},{"$f":"IF(Jogo!J404=Conferência!$J$2,Conferência!$J$2,\"\")","v":""},{"$f":"IF(Jogo!K404=Conferência!$K$2,Conferência!$K$2,\"\")","v":""},{"$f":"IF(Jogo!L404=Conferência!$L$2,Conferência!$L$2,\"\")","v":""},{"$f":"IF(Jogo!M404=Conferência!$M$2,Conferência!$M$2,\"\")","v":""},{"$f":"IF(Jogo!N404=Conferência!$N$2,Conferência!$N$2,\"\")","v":""},{"$f":"IF(Jogo!O404=Conferência!$O$2,Conferência!$O$2,\"\")","v":""},{"$f":"IF(Jogo!P404=Conferência!$P$2,Conferência!$P$2,\"\")","v":""},{"$f":"IF(Jogo!Q404=Conferência!$Q$2,Conferência!$Q$2,\"\")","v":""},""]
[{"$f":"IF(Jogo!A405=Conferência!$A$2,Conferência!$A$2,\"\")","v":""},{"$f":"IF(Jogo!B405=Conferência!$B$2,Conferência!$B$2,\"\")","v":"QUARTA-FEIRA"},{"$f":"IF(Jogo!C405=Conferência!$C$2,Conferência!$C$2,\"\")","v":""},{"$f":"IF(Jogo!D405=Conferência!$D$2,Conferência!$D$2,\"\")","v":3},{"$f":"IF(Jogo!E405=Conferência!$E$2,Conferência!$E$2,\"\")","v":4},{"$f":"IF(Jogo!F405=Conferência!$F$2,Conferência!$F$2,\"\")","v":""},{"$f":"IF(Jogo!G405=Conferência!$G$2,Conferência!$G$2,\"\")","v":""},{"$f":"IF(Jogo!H405=Conferência!$H$2,Conferência!$H$2,\"\")","v":""},{"$f":"IF(Jogo!I405=Conferência!$I$2,Conferência!$I$2,\"\")","v":""},{"$f":"IF(Jogo!J405=Conferência!$J$2,Conferência!$J$2,\"\")","v":""},{"$f":"IF(Jogo!K405=Conferência!$K$2,Conferência!$K$2,\"\")","v":""},{"$f":"IF(Jogo!L405=Conferência!$L$2,Conferência!$L$2,\"\")","v":""},{"$f":"IF(Jogo!M405=Conferência!$M$2,Conferência!$M$2,\"\")","v":""},{"$f":"IF(Jogo!N405=Conferência!$N$2,Conferência!$N$2,\"\")","v":""},{"$f":"IF(Jogo!O405=Conferência!$O$2,Conferência!$O$2,\"\")","v":""},{"$f":"IF(Jogo!P405=Conferência!$P$2,Conferência!$P$2,\"\")","v":""},{"$f":"IF(Jogo!Q405=Conferência!$Q$2,Conferência!$Q$2,\"\")","v":""},""]
[{"$f":"IF(Jogo!A406=Conferência!$A$2,Conferência!$A$2,\"\")","v":""},{"$f":"IF(Jogo!B406=Conferência!$B$2,Conferência!$B$2,\"\")","v":"QUARTA-FEIRA"},{"$f":"IF(Jogo!C406=Conferência!$C$2,Conferência!$C$2,\"\")","v":""},{"$f":"IF(Jogo!D406=Conferência!$D$2,Conferência!$D$2,\"\")","v":3},{"$f":"IF(Jogo!E406=Conferência!$E$2,Conferência!$E$2,\"\")","v":4},{"$f":"IF(Jogo!F406=Conferência!$F$2,Conferência!$F$2,\"\")","v":6},{"$f":"IF(Jogo!G406=Conferência!$G$2,Conferência!$G$2,\"\")","v":7},{"$f":"IF(Jogo!H406=Conferência!$H$2,Conferência!$H$2,\"\")","v":9},{"$f":"IF(Jogo!I406=Conferência!$I$2,Conferência!$I$2,\"\")","v":10},{"$f":"IF(Jogo!J406=Conferência!$J$2,Conferência!$J$2,\"\")","v":11},{"$f":"IF(Jogo!K406=Conferência!$K$2,Conferência!$K$2,\"\")","v":12},{"$f":"IF(Jogo!L406=Conferência!$L$2,Conferência!$L$2,\"\")","v":13},{"$f":"IF(Jogo!M406=Conferência!$M$2,Conferência!$M$2,\"\")","v":""},{"$f":"IF(Jogo!N406=Conferência!$N$2,Conferência!$N$2,\"\")","v":""},{"$f":"IF(Jogo!O406=Conferência!$O$2,Conferência!$O$2,\"\")","v":""},{"$f":"IF(Jogo!P406=Conferência!$P$2,Conferência!$P$2,\"\")","v":23},{"$f":"IF(Jogo!Q406=Conferência!$Q$2,Conferência!$Q$2,\"\")","v":24},""]
[{"$f":"IF(Jogo!A407=Conferência!$A$2,Conferência!$A$2,\"\")","v":""},{"$f":"IF(Jogo!B407=Conferência!$B$2,Conferência!$B$2,\"\")","v":"QUARTA-FEIRA"},{"$f":"IF(Jogo!C407=Conferência!$C$2,Conferência!$C$2,\"\")","v":1},{"$f":"IF(Jogo!D407=Conferência!$D$2,Conferência!$D$2,\"\")","v":""},{"$f":"IF(Jogo!E407=Conferência!$E$2,Conferência!$E$2,\"\")","v":""},{"$f":"IF(Jogo!F407=Conferência!$F$2,Conferência!$F$2,\"\")","v":""},{"$f":"IF(Jogo!G407=Conferência!$G$2,Conferência!$G$2,\"\")","v":7},{"$f":"IF(Jogo!H407=Conferência!$H$2,Conferência!$H$2,\"\")","v":""},{"$f":"IF(Jogo!I407=Conferência!$I$2,Conferência!$I$2,\"\")","v":10},{"$f":"IF(Jogo!J407=Conferência!$J$2,Conferência!$J$2,\"\")","v":11},{"$f":"IF(Jogo!K407=Conferência!$K$2,Conferência!$K$2,\"\")","v":12},{"$f":"IF(Jogo!L407=Conferência!$L$2,Conferência!$L$2,\"\")","v":13},{"$f":"IF(Jogo!M407=Conferência!$M$2,Conferência!$M$2,\"\")","v":15},{"$f":"IF(Jogo!N407=Conferência!$N$2,Conferência!$N$2,\"\")","v":""},{"$f":"IF(Jogo!O407=Conferência!$O$2,Conferência!$O$2,\"\")","v":""},{"$f":"IF(Jogo!P407=Conferência!$P$2,Conferência!$P$2,\"\")","v":""},{"$f":"IF(Jogo!Q407=Conferência!$Q$2,Conferência!$Q$2,\"\")","v":""},""]
[{"$f":"IF(Jogo!A408=Conferência!$A$2,Conferência!$A$2,\"\")","v":""},{"$f":"IF(Jogo!B408=Conferência!$B$2,Conferência!$B$2,\"\")","v":"QUARTA-FEIRA"},{"$f":"IF(Jogo!C408=Conferência!$C$2,Conferência!$C$2,\"\")","v":""},{"$f":"IF(Jogo!D408=Conferência!$D$2,Conferência!$D$2,\"\")","v":""},{"$f":"IF(Jogo!E408=Conferência!$E$2,Conferência!$E$2,\"\")","v":""},{"$f":"IF(Jogo!F408=Conferência!$F$2,Conferência!$F$2,\"\")","v":""},{"$f":"IF(Jogo!G408=Conferência!$G$2,Conferência!$G$2,\"\")","v":""},{"$f":"IF(Jogo!H408=Conferência!$H$2,Conferência!$H$2,\"\")","v":""},{"$f":"IF(Jogo!I408=Conferência!$I$2,Conferência!$I$2,\"\")","v":""},{"$f":"IF(Jogo!J408=Conferência!$J$2,Conferência!$J$2,\"\")","v":""},{"$f":"IF(Jogo!K408=Conferência!$K$2,Conferência!$K$2,\"\")","v":""},{"$f":"IF(Jogo!L408=Conferência!$L$2,Conferência!$L$2,\"\")","v":""},{"$f":"IF(Jogo!M408=Conferência!$M$2,Conferência!$M$2,\"\")","v":""},{"$f":"IF(Jogo!N408=Conferência!$N$2,Conferência!$N$2,\"\")","v":""},{"$f":"IF(Jogo!O408=Conferência!$O$2,Conferência!$O$2,\"\")","v":""},{"$f":"IF(Jogo!P408=Conferência!$P$2,Conferência!$P$2,\"\")","v":""},{"$f":"IF(Jogo!Q408=Conferência!$Q$2,Conferência!$Q$2,\"\")","v":""},""]
[{"$f":"IF(Jogo!A409=Conferência!$A$2,Conferência!$A$2,\"\")","v":""},{"$f":"IF(Jogo!B409=Conferência!$B$2,Conferência!$B$2,\"\")","v":"QUARTA-FEIRA"},{"$f":"IF(Jogo!C409=Conferência!$C$2,Conferência!$C$2,\"\")","v":1},{"$f":"IF(Jogo!D409=Conferência!$D$2,Conferência!$D$2,\"\")","v":3},{"$f":"IF(Jogo!E409=Conferência!$E$2,Conferência!$E$2,\"\")","v":""},{"$f":"IF(Jogo!F409=Conferência!$F$2,Conferência!$F$2,\"\")","v":""},{"$f":"IF(Jogo!G409=Conferência!$G$2,Conferência!$G$2,\"\")","v":""},{"$f":"IF(Jogo!H409=Conferência!$H$2,Conferência!$H$2,\"\")","v":""},{"$f":"IF(Jogo!I409=Conferência!$I$2,Conferência!$I$2,\"\")","v":""},{"$f":"IF(Jogo!J409=Conferência!$J$2,Conferência!$J$2,\"\")","v":""},{"$f":"IF(Jogo!K409=Conferência!$K$2,Conferência!$K$2,\"\")","v":""},{"$f":"IF(Jogo!L409=Conferência!$L$2,Conferência!$L$2,\"\")","v":""},{"$f":"IF(Jogo!M409=Conferência!$M$2,Conferência!$M$2,\"\")","v":""},{"$f":"IF(Jogo!N409=Conferência!$N$2,Conferência!$N$2,\"\")","v":""},{"$f":"IF(Jogo!O409=Conferência!$O$2,Conferência!$O$2,\"\")","v":""},{"$f":"IF(Jogo!P409=Conferência!$P$2,Conferência!$P$2,\"\")","v":""},{"$f":"IF(Jogo!Q409=Conferência!$Q$2,Conferência!$Q$2,\"\")","v":24},""]
[{"$f":"IF(Jogo!A410=Conferência!$A$2,Conferência!$A$2,\"\")","v":""},{"$f":"IF(Jogo!B410=Conferência!$B$2,Conferência!$B$2,\"\")","v":"QUARTA-FEIRA"},{"$f":"IF(Jogo!C410=Conferência!$C$2,Conferência!$C$2,\"\")","v":""},{"$f":"IF(Jogo!D410=Conferência!$D$2,Conferência!$D$2,\"\")","v":""},{"$f":"IF(Jogo!E410=Conferência!$E$2,Conferência!$E$2,\"\")","v":""},{"$f":"IF(Jogo!F410=Conferência!$F$2,Conferência!$F$2,\"\")","v":""},{"$f":"IF(Jogo!G410=Conferência!$G$2,Conferência!$G$2,\"\")","v":""},{"$f":"IF(Jogo!H410=Conferência!$H$2,Conferência!$H$2,\"\")","v":""},{"$f":"IF(Jogo!I410=Conferência!$I$2,Conferência!$I$2,\"\")","v":""},{"$f":"IF(Jogo!J410=Conferência!$J$2,Conferência!$J$2,\"\")","v":""},{"$f":"IF(Jogo!K410=Conferência!$K$2,Conferência!$K$2,\"\")","v":""},{"$f":"IF(Jogo!L410=Conferência!$L$2,Conferência!$L$2,\"\")","v":""},{"$f":"IF(Jogo!M410=Conferência!$M$2,Conferência!$M$2,\"\")","v":""},{"$f":"IF(Jogo!N410=Conferência!$N$2,Conferência!$N$2,\"\")","v":""},{"$f":"IF(Jogo!O410=Conferência!$O$2,Conferência!$O$2,\"\")","v":""},{"$f":"IF(Jogo!P410=Conferência!$P$2,Conferência!$P$2,\"\")","v":23},{"$f":"IF(Jogo!Q410=Conferência!$Q$2,Conferência!$Q$2,\"\")","v":""},""]
[{"$f":"IF(Jogo!A411=Conferência!$A$2,Conferência!$A$2,\"\")","v":""},{"$f":"IF(Jogo!B411=Conferência!$B$2,Conferência!$B$2,\"\")","v":"QUARTA-FEIRA"},{"$f":"IF(Jogo!C411=Conferência!$C$2,Conferência!$C$2,\"\")","v":""},{"$f":"IF(Jogo!D411=Conferência!$D$2,Conferência!$D$2,\"\")","v":3},{"$f":"IF(Jogo!E411=Conferência!$E$2,Conferência!$E$2,\"\")","v":4},{"$f":"IF(Jogo!F411=Conferência!$F$2,Conferência!$F$2,\"\")","v":6},{"$f":"IF(Jogo!G411=Conferência!$G$2,Conferência!$G$2,\"\")","v":7},{"$f":"IF(Jogo!H411=Conferência!$H$2,Conferência!$H$2,\"\")","v":""},{"$f":"IF(Jogo!I411=Conferência!$I$2,Conferência!$I$2,\"\")","v":10},{"$f":"IF(Jogo!J411=Conferência!$J$2,Conferência!$J$2,\"\")","v":""},{"$f":"IF(Jogo!K411=Conferência!$K$2,Conferência!$K$2,\"\")","v":""},{"$f":"IF(Jogo!L411=Conferência!$L$2,Conferência!$L$2,\"\")","v":""},{"$f":"IF(Jogo!M411=Conferência!$M$2,Conferência!$M$2,\"\")","v":""},{"$f":"IF(Jogo!N411=Conferência!$N$2,Conferência!$N$2,\"\")","v":""},{"$f":"IF(Jogo!O411=Conferência!$O$2,Conferência!$O$2,\"\")","v":""},{"$f":"IF(Jogo!P411=Conferência!$P$2,Conferência!$P$2,\"\")","v":""},{"$f":"IF(Jogo!Q411=Conferência!$Q$2,Conferência!$Q$2,\"\")","v":""},""]
[{"$f":"IF(Jogo!A412=Conferência!$A$2,Conferência!$A$2,\"\")","v":""},{"$f":"IF(Jogo!B412=Conferência!$B$2,Conferência!$B$2,\"\")","v":"QUARTA-FEIRA"},{"$f":"IF(Jogo!C412=Conferência!$C$2,Conferência!$C$2,\"\")","v":1},{"$f":"IF(Jogo!D412=Conferência!$D$2,Conferência!$D$2,\"\")","v":""},{"$f":"IF(Jogo!E412=Conferência!$E$2,Conferência!$E$2,\"\")","v":""},{"$f":"IF(Jogo!F412=Conferência!$F$2,Conferência!$F$2,\"\")","v":""},{"$f":"IF(Jogo!G412=Conferência!$G$2,Conferência!$G$2,\"\")","v":""},{"$f":"IF(Jogo!H412=Conferência!$H$2,Conferência!$H$2,\"\")","v":""},{"$f":"IF(Jogo!I412=Conferência!$I$2,Conferência!$I$2,\"\")","v":""},{"$f":"IF(Jogo!J412=Conferência!$J$2,Conferência!$J$2,\"\")","v":""},{"$f":"IF(Jogo!K412=Conferência!$K$2,Conferência!$K$2,\"\")","v":""},{"$f":"IF(Jogo!L412=Conferência!$L$2,Conferência!$L$2,\"\")","v":""},{"$f":"IF(Jogo!M412=Conferência!$M$2,Conferência!$M$2,\"\")","v":""},{"$f":"IF(Jogo!N412=Conferência!$N$2,Conferência!$N$2,\"\")","v":""},{"$f":"IF(Jogo!O412=Conferência!$O$2,Conferência!$O$2,\"\")","v":""},{"$f":"IF(Jogo!P412=Conferência!$P$2,Conferência!$P$2,\"\")","v":23},{"$f":"IF(Jogo!Q412=Conferência!$Q$2,Conferência!$Q$2,\"\")","v":""},""]
[{"$f":"IF(Jogo!A413=Conferência!$A$2,Conferência!$A$2,\"\")","v":""},{"$f":"IF(Jogo!B413=Conferência!$B$2,Conferência!$B$2,\"\")","v":"QUARTA-FEIRA"},{"$f":"IF(Jogo!C413=Conferência!$C$2,Conferência!$C$2,\"\")","v":""},{"$f":"IF(Jogo!D413=Conferência!$D$2,Conferência!$D$2,\"\")","v":3},{"$f":"IF(Jogo!E413=Conferência!$E$2,Conferência!$E$2,\"\")","v":""},{"$f":"IF(Jogo!F413=Conferência!$F$2,Conferência!$F$2,\"\")","v":""},{"$f":"IF(Jogo!G413=Conferência!$G$2,Conferência!$G$2,\"\")","v":""},{"$f":"IF(Jogo!H413=Conferência!$H$2,Conferência!$H$2,\"\")","v":""},{"$f":"IF(Jogo!I413=Conferência!$I$2,Conferência!$I$2,\"\")","v":""},{"$f":"IF(Jogo!J413=Conferência!$J$2,Conferência!$J$2,\"\")","v":""},{"$f":"IF(Jogo!K413=Conferência!$K$2,Conferência!$K$2,\"\")","v":""},{"$f":"IF(Jogo!L413=Conferência!$L$2,Conferência!$L$2,\"\")","v":""},{"$f":"IF(Jogo!M413=Conferência!$M$2,Conferência!$M$2,\"\")","v":""},{"$f":"IF(Jogo!N413=Conferência!$N$2,Conferência!$N$2,\"\")","v":""},{"$f":"IF(Jogo!O413=Conferência!$O$2,Conferência!$O$2,\"\")","v":""},{"$f":"IF(Jogo!P413=Conferência!$P$2,Conferência!$P$2,\"\")","v":""},{"$f":"IF(Jogo!Q413=Conferência!$Q$2,Conferência!$Q$2,\"\")","v":""},""]
[{"$f":"IF(Jogo!A414=Conferência!$A$2,Conferência!$A$2,\"\")","v":""},{"$f":"IF(Jogo!B414=Conferência!$B$2,Conferência!$B$2,\"\")","v":"QUARTA-FEIRA"},{"$f":"IF(Jogo!C414=Conferência!$C$2,Conferência!$C$2,\"\")","v":""},{"$f":"IF(Jogo!D414=Conferência!$D$2,Conferência!$D$2,\"\")","v":""},{"$f":"IF(Jogo!E414=Conferência!$E$2,Conferência!$E$2,\"\")","v":""},{"$f":"IF(Jogo!F414=Conferência!$F$2,Conferência!$F$2,\"\")","v":""},{"$f":"IF(Jogo!G414=Conferência!$G$2,Conferência!$G$2,\"\")","v":""},{"$f":"IF(Jogo!H414=Conferência!$H$2,Conferência!$H$2,\"\")","v":""},{"$f":"IF(Jogo!I414=Conferência!$I$2,Conferência!$I$2,\"\")","v":""},{"$f":"IF(Jogo!J414=Conferência!$J$2,Conferência!$J$2,\"\")","v":""},{"$f":"IF(Jogo!K414=Conferência!$K$2,Conferência!$K$2,\"\")","v":""},{"$f":"IF(Jogo!L414=Conferência!$L$2,Conferência!$L$2,\"\")","v":""},{"$f":"IF(Jogo!M414=Conferência!$M$2,Conferência!$M$2,\"\")","v":15},{"$f":"IF(Jogo!N414=Conferência!$N$2,Conferência!$N$2,\"\")","v":""},{"$f":"IF(Jogo!O414=Conferência!$O$2,Conferência!$O$2,\"\")","v":""},{"$f":"IF(Jogo!P414=Conferência!$P$2,Conferência!$P$2,\"\")","v":""},{"$f":"IF(Jogo!Q414=Conferência!$Q$2,Conferência!$Q$2,\"\")","v":""},""]
[{"$f":"IF(Jogo!A415=Conferência!$A$2,Conferência!$A$2,\"\")","v":""},{"$f":"IF(Jogo!B415=Conferência!$B$2,Conferência!$B$2,\"\")","v":"QUARTA-FEIRA"},{"$f":"IF(Jogo!C415=Conferência!$C$2,Conferência!$C$2,\"\")","v":1},{"$f":"IF(Jogo!D415=Conferência!$D$2,Conferência!$D$2,\"\")","v":3},{"$f":"IF(Jogo!E415=Conferência!$E$2,Conferência!$E$2,\"\")","v":4},{"$f":"IF(Jogo!F415=Conferência!$F$2,Conferência!$F$2,\"\")","v":""},{"$f":"IF(Jogo!G415=Conferência!$G$2,Conferência!$G$2,\"\")","v":""},{"$f":"IF(Jogo!H415=Conferência!$H$2,Conferência!$H$2,\"\")","v":""},{"$f":"IF(Jogo!I415=Conferência!$I$2,Conferência!$I$2,\"\")","v":""},{"$f":"IF(Jogo!J415=Conferência!$J$2,Conferência!$J$2,\"\")","v":""},{"$f":"IF(Jogo!K415=Conferência!$K$2,Conferência!$K$2,\"\")","v":""},{"$f":"IF(Jogo!L415=Conferência!$L$2,Conferência!$L$2,\"\")","v":""},{"$f":"IF(Jogo!M415=Conferência!$M$2,Conferência!$M$2,\"\")","v":15},{"$f":"IF(Jogo!N415=Conferência!$N$2,Conferência!$N$2,\"\")","v":16},{"$f":"IF(Jogo!O415=Conferência!$O$2,Conferência!$O$2,\"\")","v":""},{"$f":"IF(Jogo!P415=Conferência!$P$2,Conferência!$P$2,\"\")","v":""},{"$f":"IF(Jogo!Q415=Conferência!$Q$2,Conferência!$Q$2,\"\")","v":24},""]
[{"$f":"IF(Jogo!A416=Conferência!$A$2,Conferência!$A$2,\"\")","v":""},{"$f":"IF(Jogo!B416=Conferência!$B$2,Conferência!$B$2,\"\")","v":"QUARTA-FEIRA"},{"$f":"IF(Jogo!C416=Conferência!$C$2,Conferência!$C$2,\"\")","v":""},{"$f":"IF(Jogo!D416=Conferência!$D$2,Conferência!$D$2,\"\")","v":""},{"$f":"IF(Jogo!E416=Conferência!$E$2,Conferência!$E$2,\"\")","v":""},{"$f":"IF(Jogo!F416=Conferência!$F$2,Conferência!$F$2,\"\")","v":""},{"$f":"IF(Jogo!G416=Conferência!$G$2,Conferência!$G$2,\"\")","v":""},{"$f":"IF(Jogo!H416=Conferência!$H$2,Conferência!$H$2,\"\")","v":""},{"$f":"IF(Jogo!I416=Conferência!$I$2,Conferência!$I$2,\"\")","v":""},{"$f":"IF(Jogo!J416=Conferência!$J$2,Conferência!$J$2,\"\")","v":""},{"$f":"IF(Jogo!K416=Conferência!$K$2,Conferência!$K$2,\"\")","v":""},{"$f":"IF(Jogo!L416=Conferência!$L$2,Conferência!$L$2,\"\")","v":""},{"$f":"IF(Jogo!M416=Conferência!$M$2,Conferência!$M$2,\"\")","v":""},{"$f":"IF(Jogo!N416=Conferência!$N$2,Conferência!$N$2,\"\")","v":""},{"$f":"IF(Jogo!O416=Conferência!$O$2,Conferência!$O$2,\"\")","v":""},{"$f":"IF(Jogo!P416=Conferência!$P$2,Conferência!$P$2,\"\")","v":23},{"$f":"IF(Jogo!Q416=Conferência!$Q$2,Conferência!$Q$2,\"\")","v":24},""]
[{"$f":"IF(Jogo!A417=Conferência!$A$2,Conferência!$A$2,\"\")","v":""},{"$f":"IF(Jogo!B417=Conferência!$B$2,Conferência!$B$2,\"\")","v":"QUARTA-FEIRA"},{"$f":"IF(Jogo!C417=Conferência!$C$2,Conferência!$C$2,\"\")","v":""},{"$f":"IF(Jogo!D417=Conferência!$D$2,Conferência!$D$2,\"\")","v":""},{"$f":"IF(Jogo!E417=Conferência!$E$2,Conferência!$E$2,\"\")","v":""},{"$f":"IF(Jogo!F417=Conferência!$F$2,Conferência!$F$2,\"\")","v":""},{"$f":"IF(Jogo!G417=Conferência!$G$2,Conferência!$G$2,\"\")","v":""},{"$f":"IF(Jogo!H417=Conferência!$H$2,Conferência!$H$2,\"\")","v":""},{"$f":"IF(Jogo!I417=Conferência!$I$2,Conferência!$I$2,\"\")","v":""},{"$f":"IF(Jogo!J417=Conferência!$J$2,Conferência!$J$2,\"\")","v":""},{"$f":"IF(Jogo!K417=Conferência!$K$2,Conferência!$K$2,\"\")","v":""},{"$f":"IF(Jogo!L417=Conferência!$L$2,Conferência!$L$2,\"\")","v":""},{"$f":"IF(Jogo!M417=Conferência!$M$2,Conferência!$M$2,\"\")","v":""},{"$f":"IF(Jogo!N417=Conferência!$N$2,Conferência!$N$2,\"\")","v":""},{"$f":"IF(Jogo!O417=Conferência!$O$2,Conferência!$O$2,\"\")","v":""},{"$f":"IF(Jogo!P417=Conferência!$P$2,Conferência!$P$2,\"\")","v":23},{"$f":"IF(Jogo!Q417=Conferência!$Q$2,Conferência!$Q$2,\"\")","v":""},""]
[{"$f":"IF(Jogo!A418=Conferência!$A$2,Conferência!$A$2,\"\")","v":""},{"$f":"IF(Jogo!B418=Conferência!$B$2,Conferência!$B$2,\"\")","v":"QUARTA-FEIRA"},{"$f":"IF(Jogo!C418=Conferência!$C$2,Conferência!$C$2,\"\")","v":""},{"$f":"IF(Jogo!D418=Conferência!$D$2,Conferência!$D$2,\"\")","v":""},{"$f":"IF(Jogo!E418=Conferência!$E$2,Conferência!$E$2,\"\")","v":""},{"$f":"IF(Jogo!F418=Conferência!$F$2,Conferência!$F$2,\"\")","v":""},{"$f":"IF(Jogo!G418=Conferência!$G$2,Conferência!$G$2,\"\")","v":""},{"$f":"IF(Jogo!H418=Conferência!$H$2,Conferência!$H$2,\"\")","v":""},{"$f":"IF(Jogo!I418=Conferência!$I$2,Conferência!$I$2,\"\")","v":""},{"$f":"IF(Jogo!J418=Conferência!$J$2,Conferência!$J$2,\"\")","v":""},{"$f":"IF(Jogo!K418=Conferência!$K$2,Conferência!$K$2,\"\")","v":""},{"$f":"IF(Jogo!L418=Conferência!$L$2,Conferência!$L$2,\"\")","v":""},{"$f":"IF(Jogo!M418=Conferência!$M$2,Conferência!$M$2,\"\")","v":""},{"$f":"IF(Jogo!N418=Conferência!$N$2,Conferência!$N$2,\"\")","v":""},{"$f":"IF(Jogo!O418=Conferência!$O$2,Conferência!$O$2,\"\")","v":""},{"$f":"IF(Jogo!P418=Conferência!$P$2,Conferência!$P$2,\"\")","v":23},{"$f":"IF(Jogo!Q418=Conferência!$Q$2,Conferência!$Q$2,\"\")","v":""},""]
[{"$f":"IF(Jogo!A419=Conferência!$A$2,Conferência!$A$2,\"\")","v":""},{"$f":"IF(Jogo!B419=Conferência!$B$2,Conferência!$B$2,\"\")","v":"QUARTA-FEIRA"},{"$f":"IF(Jogo!C419=Conferência!$C$2,Conferência!$C$2,\"\")","v":1},{"$f":"IF(Jogo!D419=Conferência!$D$2,Conferência!$D$2,\"\")","v":""},{"$f":"IF(Jogo!E419=Conferência!$E$2,Conferência!$E$2,\"\")","v":""},{"$f":"IF(Jogo!F419=Conferência!$F$2,Conferência!$F$2,\"\")","v":6},{"$f":"IF(Jogo!G419=Conferência!$G$2,Conferência!$G$2,\"\")","v":7},{"$f":"IF(Jogo!H419=Conferência!$H$2,Conferência!$H$2,\"\")","v":""},{"$f":"IF(Jogo!I419=Conferência!$I$2,Conferência!$I$2,\"\")","v":""},{"$f":"IF(Jogo!J419=Conferência!$J$2,Conferência!$J$2,\"\")","v":""},{"$f":"IF(Jogo!K419=Conferência!$K$2,Conferência!$K$2,\"\")","v":12},{"$f":"IF(Jogo!L419=Conferência!$L$2,Conferência!$L$2,\"\")","v":13},{"$f":"IF(Jogo!M419=Conferência!$M$2,Conferência!$M$2,\"\")","v":15},{"$f":"IF(Jogo!N419=Conferência!$N$2,Conferência!$N$2,\"\")","v":16},{"$f":"IF(Jogo!O419=Conferência!$O$2,Conferência!$O$2,\"\")","v":""},{"$f":"IF(Jogo!P419=Conferência!$P$2,Conferência!$P$2,\"\")","v":23},{"$f":"IF(Jogo!Q419=Conferência!$Q$2,Conferência!$Q$2,\"\")","v":24},""]
[{"$f":"IF(Jogo!A420=Conferência!$A$2,Conferência!$A$2,\"\")","v":""},{"$f":"IF(Jogo!B420=Conferência!$B$2,Conferência!$B$2,\"\")","v":"QUARTA-FEIRA"},{"$f":"IF(Jogo!C420=Conferência!$C$2,Conferência!$C$2,\"\")","v":1},{"$f":"IF(Jogo!D420=Conferência!$D$2,Conferência!$D$2,\"\")","v":""},{"$f":"IF(Jogo!E420=Conferência!$E$2,Conferência!$E$2,\"\")","v":""},{"$f":"IF(Jogo!F420=Conferência!$F$2,Conferência!$F$2,\"\")","v":""},{"$f":"IF(Jogo!G420=Conferência!$G$2,Conferência!$G$2,\"\")","v":""},{"$f":"IF(Jogo!H420=Conferência!$H$2,Conferência!$H$2,\"\")","v":""},{"$f":"IF(Jogo!I420=Conferência!$I$2,Conferência!$I$2,\"\")","v":""},{"$f":"IF(Jogo!J420=Conferência!$J$2,Conferência!$J$2,\"\")","v":""},{"$f":"IF(Jogo!K420=Conferência!$K$2,Conferência!$K$2,\"\")","v":""},{"$f":"IF(Jogo!L420=Conferência!$L$2,Conferência!$L$2,\"\")","v":""},{"$f":"IF(Jogo!M420=Conferência!$M$2,Conferência!$M$2,\"\")","v":""},{"$f":"IF(Jogo!N420=Conferência!$N$2,Conferência!$N$2,\"\")","v":""},{"$f":"IF(Jogo!O420=Conferência!$O$2,Conferência!$O$2,\"\")","v":""},{"$f":"IF(Jogo!P420=Conferência!$P$2,Conferência!$P$2,\"\")","v":""},{"$f":"IF(Jogo!Q420=Conferência!$Q$2,Conferência!$Q$2,\"\")","v":""},""]
[{"$f":"IF(Jogo!A421=Conferência!$A$2,Conferência!$A$2,\"\")","v":""},{"$f":"IF(Jogo!B421=Conferência!$B$2,Conferência!$B$2,\"\")","v":"QUARTA-FEIRA"},{"$f":"IF(Jogo!C421=Conferência!$C$2,Conferência!$C$2,\"\")","v":""},{"$f":"IF(Jogo!D421=Conferência!$D$2,Conferência!$D$2,\"\")","v":""},{"$f":"IF(Jogo!E421=Conferência!$E$2,Conferência!$E$2,\"\")","v":""},{"$f":"IF(Jogo!F421=Conferência!$F$2,Conferência!$F$2,\"\")","v":""},{"$f":"IF(Jogo!G421=Conferência!$G$2,Conferência!$G$2,\"\")","v":""},{"$f":"IF(Jogo!H421=Conferência!$H$2,Conferência!$H$2,\"\")","v":""},{"$f":"IF(Jogo!I421=Conferência!$I$2,Conferência!$I$2,\"\")","v":""},{"$f":"IF(Jogo!J421=Conferência!$J$2,Conferência!$J$2,\"\")","v":""},{"$f":"IF(Jogo!K421=Conferência!$K$2,Conferência!$K$2,\"\")","v":""},{"$f":"IF(Jogo!L421=Conferência!$L$2,Conferência!$L$2,\"\")","v":""},{"$f":"IF(Jogo!M421=Conferência!$M$2,Conferência!$M$2,\"\")","v":""},{"$f":"IF(Jogo!N421=Conferência!$N$2,Conferência!$N$2,\"\")","v":""},{"$f":"IF(Jogo!O421=Conferência!$O$2,Conferência!$O$2,\"\")","v":""},{"$f":"IF(Jogo!P421=Conferência!$P$2,Conferência!$P$2,\"\")","v":""},{"$f":"IF(Jogo!Q421=Conferência!$Q$2,Conferência!$Q$2,\"\")","v":""},""]
[{"$f":"IF(Jogo!A422=Conferência!$A$2,Conferência!$A$2,\"\")","v":""},{"$f":"IF(Jogo!B422=Conferência!$B$2,Conferência!$B$2,\"\")","v":"QUARTA-FEIRA"},{"$f":"IF(Jogo!C422=Conferência!$C$2,Conferência!$C$2,\"\")","v":""},{"$f":"IF(Jogo!D422=Conferência!$D$2,Conferência!$D$2,\"\")","v":3},{"$f":"IF(Jogo!E422=Conferência!$E$2,Conferência!$E$2,\"\")","v":4},{"$f":"IF(Jogo!F422=Conferência!$F$2,Conferência!$F$2,\"\")","v":""},{"$f":"IF(Jogo!G422=Conferência!$G$2,Conferência!$G$2,\"\")","v":""},{"$f":"IF(Jogo!H422=Conferência!$H$2,Conferência!$H$2,\"\")","v":""},{"$f":"IF(Jogo!I422=Conferência!$I$2,Conferência!$I$2,\"\")","v":""},{"$f":"IF(Jogo!J422=Conferência!$J$2,Conferência!$J$2,\"\")","v":""},{"$f":"IF(Jogo!K422=Conferência!$K$2,Conferência!$K$2,\"\")","v":""},{"$f":"IF(Jogo!L422=Conferência!$L$2,Conferência!$L$2,\"\")","v":""},{"$f":"IF(Jogo!M422=Conferência!$M$2,Conferência!$M$2,\"\")","v":""},{"$f":"IF(Jogo!N422=Conferência!$N$2,Conferência!$N$2,\"\")","v":""},{"$f":"IF(Jogo!O422=Conferência!$O$2,Conferência!$O$2,\"\")","v":19},{"$f":"IF(Jogo!P422=Conferência!$P$2,Conferência!$P$2,\"\")","v":""},{"$f":"IF(Jogo!Q422=Conferência!$Q$2,Conferência!$Q$2,\"\")","v":""},""]
[{"$f":"IF(Jogo!A423=Conferência!$A$2,Conferência!$A$2,\"\")","v":""},{"$f":"IF(Jogo!B423=Conferência!$B$2,Conferência!$B$2,\"\")","v":"QUARTA-FEIRA"},{"$f":"IF(Jogo!C423=Conferência!$C$2,Conferência!$C$2,\"\")","v":""},{"$f":"IF(Jogo!D423=Conferência!$D$2,Conferência!$D$2,\"\")","v":""},{"$f":"IF(Jogo!E423=Conferência!$E$2,Conferência!$E$2,\"\")","v":""},{"$f":"IF(Jogo!F423=Conferência!$F$2,Conferência!$F$2,\"\")","v":""},{"$f":"IF(Jogo!G423=Conferência!$G$2,Conferência!$G$2,\"\")","v":""},{"$f":"IF(Jogo!H423=Conferência!$H$2,Conferência!$H$2,\"\")","v":""},{"$f":"IF(Jogo!I423=Conferência!$I$2,Conferência!$I$2,\"\")","v":""},{"$f":"IF(Jogo!J423=Conferência!$J$2,Conferência!$J$2,\"\")","v":""},{"$f":"IF(Jogo!K423=Conferência!$K$2,Conferência!$K$2,\"\")","v":""},{"$f":"IF(Jogo!L423=Conferência!$L$2,Conferência!$L$2,\"\")","v":""},{"$f":"IF(Jogo!M423=Conferência!$M$2,Conferência!$M$2,\"\")","v":""},{"$f":"IF(Jogo!N423=Conferência!$N$2,Conferência!$N$2,\"\")","v":""},{"$f":"IF(Jogo!O423=Conferência!$O$2,Conferência!$O$2,\"\")","v":""},{"$f":"IF(Jogo!P423=Conferência!$P$2,Conferência!$P$2,\"\")","v":""},{"$f":"IF(Jogo!Q423=Conferência!$Q$2,Conferência!$Q$2,\"\")","v":""},""]
[{"$f":"IF(Jogo!A424=Conferência!$A$2,Conferência!$A$2,\"\")","v":""},{"$f":"IF(Jogo!B424=Conferência!$B$2,Conferência!$B$2,\"\")","v":"QUARTA-FEIRA"},{"$f":"IF(Jogo!C424=Conferência!$C$2,Conferência!$C$2,\"\")","v":1},{"$f":"IF(Jogo!D424=Conferência!$D$2,Conferência!$D$2,\"\")","v":3},{"$f":"IF(Jogo!E424=Conferência!$E$2,Conferência!$E$2,\"\")","v":4},{"$f":"IF(Jogo!F424=Conferência!$F$2,Conferência!$F$2,\"\")","v":""},{"$f":"IF(Jogo!G424=Conferência!$G$2,Conferência!$G$2,\"\")","v":""},{"$f":"IF(Jogo!H424=Conferência!$H$2,Conferência!$H$2,\"\")","v":""},{"$f":"IF(Jogo!I424=Conferência!$I$2,Conferência!$I$2,\"\")","v":""},{"$f":"IF(Jogo!J424=Conferência!$J$2,Conferência!$J$2,\"\")","v":""},{"$f":"IF(Jogo!K424=Conferência!$K$2,Conferência!$K$2,\"\")","v":""},{"$f":"IF(Jogo!L424=Conferência!$L$2,Conferência!$L$2,\"\")","v":""},{"$f":"IF(Jogo!M424=Conferência!$M$2,Conferência!$M$2,\"\")","v":""},{"$f":"IF(Jogo!N424=Conferência!$N$2,Conferência!$N$2,\"\")","v":""},{"$f":"IF(Jogo!O424=Conferência!$O$2,Conferência!$O$2,\"\")","v":""},{"$f":"IF(Jogo!P424=Conferência!$P$2,Conferência!$P$2,\"\")","v":""},{"$f":"IF(Jogo!Q424=Conferência!$Q$2,Conferência!$Q$2,\"\")","v":""},""]
[{"$f":"IF(Jogo!A425=Conferência!$A$2,Conferência!$A$2,\"\")","v":""},{"$f":"IF(Jogo!B425=Conferência!$B$2,Conferência!$B$2,\"\")","v":"QUARTA-FEIRA"},{"$f":"IF(Jogo!C425=Conferência!$C$2,Conferência!$C$2,\"\")","v":""},{"$f":"IF(Jogo!D425=Conferência!$D$2,Conferência!$D$2,\"\")","v":""},{"$f":"IF(Jogo!E425=Conferência!$E$2,Conferência!$E$2,\"\")","v":""},{"$f":"IF(Jogo!F425=Conferência!$F$2,Conferência!$F$2,\"\")","v":""},{"$f":"IF(Jogo!G425=Conferência!$G$2,Conferência!$G$2,\"\")","v":""},{"$f":"IF(Jogo!H425=Conferência!$H$2,Conferência!$H$2,\"\")","v":9},{"$f":"IF(Jogo!I425=Conferência!$I$2,Conferência!$I$2,\"\")","v":10},{"$f":"IF(Jogo!J425=Conferência!$J$2,Conferência!$J$2,\"\")","v":11},{"$f":"IF(Jogo!K425=Conferência!$K$2,Conferência!$K$2,\"\")","v":12},{"$f":"IF(Jogo!L425=Conferência!$L$2,Conferência!$L$2,\"\")","v":13},{"$f":"IF(Jogo!M425=Conferência!$M$2,Conferência!$M$2,\"\")","v":""},{"$f":"IF(Jogo!N425=Conferência!$N$2,Conferência!$N$2,\"\")","v":""},{"$f":"IF(Jogo!O425=Conferência!$O$2,Conferência!$O$2,\"\")","v":""},{"$f":"IF(Jogo!P425=Conferência!$P$2,Conferência!$P$2,\"\")","v":""},{"$f":"IF(Jogo!Q425=Conferência!$Q$2,Conferência!$Q$2,\"\")","v":""},""]
[{"$f":"IF(Jogo!A426=Conferência!$A$2,Conferência!$A$2,\"\")","v":""},{"$f":"IF(Jogo!B426=Conferência!$B$2,Conferência!$B$2,\"\")","v":"QUARTA-FEIRA"},{"$f":"IF(Jogo!C426=Conferência!$C$2,Conferência!$C$2,\"\")","v":""},{"$f":"IF(Jogo!D426=Conferência!$D$2,Conferência!$D$2,\"\")","v":""},{"$f":"IF(Jogo!E426=Conferência!$E$2,Conferência!$E$2,\"\")","v":""},{"$f":"IF(Jogo!F426=Conferência!$F$2,Conferência!$F$2,\"\")","v":""},{"$f":"IF(Jogo!G426=Conferência!$G$2,Conferência!$G$2,\"\")","v":""},{"$f":"IF(Jogo!H426=Conferência!$H$2,Conferência!$H$2,\"\")","v":9},{"$f":"IF(Jogo!I426=Conferência!$I$2,Conferência!$I$2,\"\")","v":""},{"$f":"IF(Jogo!J426=Conferência!$J$2,Conferência!$J$2,\"\")","v":""},{"$f":"IF(Jogo!K426=Conferência!$K$2,Conferência!$K$2,\"\")","v":""},{"$f":"IF(Jogo!L426=Conferência!$L$2,Conferência!$L$2,\"\")","v":""},{"$f":"IF(Jogo!M426=Conferência!$M$2,Conferência!$M$2,\"\")","v":""},{"$f":"IF(Jogo!N426=Conferência!$N$2,Conferência!$N$2,\"\")","v":""},{"$f":"IF(Jogo!O426=Conferência!$O$2,Conferência!$O$2,\"\")","v":""},{"$f":"IF(Jogo!P426=Conferência!$P$2,Conferência!$P$2,\"\")","v":""},{"$f":"IF(Jogo!Q426=Conferência!$Q$2,Conferência!$Q$2,\"\")","v":""},""]
[{"$f":"IF(Jogo!A427=Conferência!$A$2,Conferência!$A$2,\"\")","v":""},{"$f":"IF(Jogo!B427=Conferência!$B$2,Conferência!$B$2,\"\")","v":"QUARTA-FEIRA"},{"$f":"IF(Jogo!C427=Conferência!$C$2,Conferência!$C$2,\"\")","v":1},{"$f":"IF(Jogo!D427=Conferência!$D$2,Conferência!$D$2,\"\")","v":""},{"$f":"IF(Jogo!E427=Conferência!$E$2,Conferência!$E$2,\"\")","v":""},{"$f":"IF(Jogo!F427=Conferência!$F$2,Conferência!$F$2,\"\")","v":""},{"$f":"IF(Jogo!G427=Conferência!$G$2,Conferência!$G$2,\"\")","v":""},{"$f":"IF(Jogo!H427=Conferência!$H$2,Conferência!$H$2,\"\")","v":9},{"$f":"IF(Jogo!I427=Conferência!$I$2,Conferência!$I$2,\"\")","v":10},{"$f":"IF(Jogo!J427=Conferência!$J$2,Conferência!$J$2,\"\")","v":11},{"$f":"IF(Jogo!K427=Conferência!$K$2,Conferência!$K$2,\"\")","v":12},{"$f":"IF(Jogo!L427=Conferência!$L$2,Conferência!$L$2,\"\")","v":""},{"$f":"IF(Jogo!M427=Conferência!$M$2,Conferência!$M$2,\"\")","v":""},{"$f":"IF(Jogo!N427=Conferência!$N$2,Conferência!$N$2,\"\")","v":""},{"$f":"IF(Jogo!O427=Conferência!$O$2,Conferência!$O$2,\"\")","v":""},{"$f":"IF(Jogo!P427=Conferência!$P$2,Conferência!$P$2,\"\")","v":""},{"$f":"IF(Jogo!Q427=Conferência!$Q$2,Conferência!$Q$2,\"\")","v":""},""]
[{"$f":"IF(Jogo!A428=Conferência!$A$2,Conferência!$A$2,\"\")","v":""},{"$f":"IF(Jogo!B428=Conferência!$B$2,Conferência!$B$2,\"\")","v":"QUARTA-FEIRA"},{"$f":"IF(Jogo!C428=Conferência!$C$2,Conferência!$C$2,\"\")","v":1},{"$f":"IF(Jogo!D428=Conferência!$D$2,Conferência!$D$2,\"\")","v":""},{"$f":"IF(Jogo!E428=Conferência!$E$2,Conferência!$E$2,\"\")","v":""},{"$f":"IF(Jogo!F428=Conferência!$F$2,Conferência!$F$2,\"\")","v":""},{"$f":"IF(Jogo!G428=Conferência!$G$2,Conferência!$G$2,\"\")","v":""},{"$f":"IF(Jogo!H428=Conferência!$H$2,Conferência!$H$2,\"\")","v":""},{"$f":"IF(Jogo!I428=Conferência!$I$2,Conferência!$I$2,\"\")","v":""},{"$f":"IF(Jogo!J428=Conferência!$J$2,Conferência!$J$2,\"\")","v":""},{"$f":"IF(Jogo!K428=Conferência!$K$2,Conferência!$K$2,\"\")","v":""},{"$f":"IF(Jogo!L428=Conferência!$L$2,Conferência!$L$2,\"\")","v":""},{"$f":"IF(Jogo!M428=Conferência!$M$2,Conferência!$M$2,\"\")","v":""},{"$f":"IF(Jogo!N428=Conferência!$N$2,Conferência!$N$2,\"\")","v":""},{"$f":"IF(Jogo!O428=Conferência!$O$2,Conferência!$O$2,\"\")","v":""},{"$f":"IF(Jogo!P428=Conferência!$P$2,Conferência!$P$2,\"\")","v":""},{"$f":"IF(Jogo!Q428=Conferência!$Q$2,Conferência!$Q$2,\"\")","v":24},""]
[{"$f":"IF(Jogo!A429=Conferência!$A$2,Conferência!$A$2,\"\")","v":""},{"$f":"IF(Jogo!B429=Conferência!$B$2,Conferência!$B$2,\"\")","v":"QUARTA-FEIRA"},{"$f":"IF(Jogo!C429=Conferência!$C$2,Conferência!$C$2,\"\")","v":""},{"$f":"IF(Jogo!D429=Conferência!$D$2,Conferência!$D$2,\"\")","v":3},{"$f":"IF(Jogo!E429=Conferência!$E$2,Conferência!$E$2,\"\")","v":4},{"$f":"IF(Jogo!F429=Conferência!$F$2,Conferência!$F$2,\"\")","v":""},{"$f":"IF(Jogo!G429=Conferência!$G$2,Conferência!$G$2,\"\")","v":""},{"$f":"IF(Jogo!H429=Conferência!$H$2,Conferência!$H$2,\"\")","v":""},{"$f":"IF(Jogo!I429=Conferência!$I$2,Conferência!$I$2,\"\")","v":""},{"$f":"IF(Jogo!J429=Conferência!$J$2,Conferência!$J$2,\"\")","v":11},{"$f":"IF(Jogo!K429=Conferência!$K$2,Conferência!$K$2,\"\")","v":""},{"$f":"IF(Jogo!L429=Conferência!$L$2,Conferência!$L$2,\"\")","v":""},{"$f":"IF(Jogo!M429=Conferência!$M$2,Conferência!$M$2,\"\")","v":""},{"$f":"IF(Jogo!N429=Conferência!$N$2,Conferência!$N$2,\"\")","v":""},{"$f":"IF(Jogo!O429=Conferência!$O$2,Conferência!$O$2,\"\")","v":""},{"$f":"IF(Jogo!P429=Conferência!$P$2,Conferência!$P$2,\"\")","v":23},{"$f":"IF(Jogo!Q429=Conferência!$Q$2,Conferência!$Q$2,\"\")","v":""},""]
[{"$f":"IF(Jogo!A430=Conferência!$A$2,Conferência!$A$2,\"\")","v":""},{"$f":"IF(Jogo!B430=Conferência!$B$2,Conferência!$B$2,\"\")","v":"QUARTA-FEIRA"},{"$f":"IF(Jogo!C430=Conferência!$C$2,Conferência!$C$2,\"\")","v":1},{"$f":"IF(Jogo!D430=Conferência!$D$2,Conferência!$D$2,\"\")","v":""},{"$f":"IF(Jogo!E430=Conferência!$E$2,Conferência!$E$2,\"\")","v":""},{"$f":"IF(Jogo!F430=Conferência!$F$2,Conferência!$F$2,\"\")","v":""},{"$f":"IF(Jogo!G430=Conferência!$G$2,Conferência!$G$2,\"\")","v":""},{"$f":"IF(Jogo!H430=Conferência!$H$2,Conferência!$H$2,\"\")","v":""},{"$f":"IF(Jogo!I430=Conferência!$I$2,Conferência!$I$2,\"\")","v":""},{"$f":"IF(Jogo!J430=Conferência!$J$2,Conferência!$J$2,\"\")","v":""},{"$f":"IF(Jogo!K430=Conferência!$K$2,Conferência!$K$2,\"\")","v":12},{"$f":"IF(Jogo!L430=Conferência!$L$2,Conferência!$L$2,\"\")","v":""},{"$f":"IF(Jogo!M430=Conferência!$M$2,Conferência!$M$2,\"\")","v":""},{"$f":"IF(Jogo!N430=Conferência!$N$2,Conferência!$N$2,\"\")","v":""},{"$f":"IF(Jogo!O430=Conferência!$O$2,Conferência!$O$2,\"\")","v":""},{"$f":"IF(Jogo!P430=Conferência!$P$2,Conferência!$P$2,\"\")","v":23},{"$f":"IF(Jogo!Q430=Conferência!$Q$2,Conferência!$Q$2,\"\")","v":24},""]
[{"$f":"IF(Jogo!A431=Conferência!$A$2,Conferência!$A$2,\"\")","v":""},{"$f":"IF(Jogo!B431=Conferência!$B$2,Conferência!$B$2,\"\")","v":"QUARTA-FEIRA"},{"$f":"IF(Jogo!C431=Conferência!$C$2,Conferência!$C$2,\"\")","v":1},{"$f":"IF(Jogo!D431=Conferência!$D$2,Conferência!$D$2,\"\")","v":""},{"$f":"IF(Jogo!E431=Conferência!$E$2,Conferência!$E$2,\"\")","v":""},{"$f":"IF(Jogo!F431=Conferência!$F$2,Conferência!$F$2,\"\")","v":6},{"$f":"IF(Jogo!G431=Conferência!$G$2,Conferência!$G$2,\"\")","v":7},{"$f":"IF(Jogo!H431=Conferência!$H$2,Conferência!$H$2,\"\")","v":9},{"$f":"IF(Jogo!I431=Conferência!$I$2,Conferência!$I$2,\"\")","v":""},{"$f":"IF(Jogo!J431=Conferência!$J$2,Conferência!$J$2,\"\")","v":""},{"$f":"IF(Jogo!K431=Conferência!$K$2,Conferência!$K$2,\"\")","v":""},{"$f":"IF(Jogo!L431=Conferência!$L$2,Conferência!$L$2,\"\")","v":""},{"$f":"IF(Jogo!M431=Conferência!$M$2,Conferência!$M$2,\"\")","v":""},{"$f":"IF(Jogo!N431=Conferência!$N$2,Conferência!$N$2,\"\")","v":""},{"$f":"IF(Jogo!O431=Conferência!$O$2,Conferência!$O$2,\"\")","v":""},{"$f":"IF(Jogo!P431=Conferência!$P$2,Conferência!$P$2,\"\")","v":""},{"$f":"IF(Jogo!Q431=Conferência!$Q$2,Conferência!$Q$2,\"\")","v":""},""]
[{"$f":"IF(Jogo!A432=Conferência!$A$2,Conferência!$A$2,\"\")","v":""},{"$f":"IF(Jogo!B432=Conferência!$B$2,Conferência!$B$2,\"\")","v":"QUARTA-FEIRA"},{"$f":"IF(Jogo!C432=Conferência!$C$2,Conferência!$C$2,\"\")","v":1},{"$f":"IF(Jogo!D432=Conferência!$D$2,Conferência!$D$2,\"\")","v":""},{"$f":"IF(Jogo!E432=Conferência!$E$2,Conferência!$E$2,\"\")","v":""},{"$f":"IF(Jogo!F432=Conferência!$F$2,Conferência!$F$2,\"\")","v":6},{"$f":"IF(Jogo!G432=Conferência!$G$2,Conferência!$G$2,\"\")","v":""},{"$f":"IF(Jogo!H432=Conferência!$H$2,Conferência!$H$2,\"\")","v":""},{"$f":"IF(Jogo!I432=Conferência!$I$2,Conferência!$I$2,\"\")","v":""},{"$f":"IF(Jogo!J432=Conferência!$J$2,Conferência!$J$2,\"\")","v":""},{"$f":"IF(Jogo!K432=Conferência!$K$2,Conferência!$K$2,\"\")","v":""},{"$f":"IF(Jogo!L432=Conferência!$L$2,Conferência!$L$2,\"\")","v":""},{"$f":"IF(Jogo!M432=Conferência!$M$2,Conferência!$M$2,\"\")","v":""},{"$f":"IF(Jogo!N432=Conferência!$N$2,Conferência!$N$2,\"\")","v":""},{"$f":"IF(Jogo!O432=Conferência!$O$2,Conferência!$O$2,\"\")","v":""},{"$f":"IF(Jogo!P432=Conferência!$P$2,Conferência!$P$2,\"\")","v":""},{"$f":"IF(Jogo!Q432=Conferência!$Q$2,Conferência!$Q$2,\"\")","v":""},""]
[{"$f":"IF(Jogo!A433=Conferência!$A$2,Conferência!$A$2,\"\")","v":""},{"$f":"IF(Jogo!B433=Conferência!$B$2,Conferência!$B$2,\"\")","v":"QUARTA-FEIRA"},{"$f":"IF(Jogo!C433=Conferência!$C$2,Conferência!$C$2,\"\")","v":1},{"$f":"IF(Jogo!D433=Conferência!$D$2,Conferência!$D$2,\"\")","v":""},{"$f":"IF(Jogo!E433=Conferência!$E$2,Conferência!$E$2,\"\")","v":""},{"$f":"IF(Jogo!F433=Conferência!$F$2,Conferência!$F$2,\"\")","v":""},{"$f":"IF(Jogo!G433=Conferência!$G$2,Conferência!$G$2,\"\")","v":""},{"$f":"IF(Jogo!H433=Conferência!$H$2,Conferência!$H$2,\"\")","v":""},{"$f":"IF(Jogo!I433=Conferência!$I$2,Conferência!$I$2,\"\")","v":10},{"$f":"IF(Jogo!J433=Conferência!$J$2,Conferência!$J$2,\"\")","v":11},{"$f":"IF(Jogo!K433=Conferência!$K$2,Conferência!$K$2,\"\")","v":""},{"$f":"IF(Jogo!L433=Conferência!$L$2,Conferência!$L$2,\"\")","v":""},{"$f":"IF(Jogo!M433=Conferência!$M$2,Conferência!$M$2,\"\")","v":""},{"$f":"IF(Jogo!N433=Conferência!$N$2,Conferência!$N$2,\"\")","v":""},{"$f":"IF(Jogo!O433=Conferência!$O$2,Conferência!$O$2,\"\")","v":""},{"$f":"IF(Jogo!P433=Conferência!$P$2,Conferência!$P$2,\"\")","v":""},{"$f":"IF(Jogo!Q433=Conferência!$Q$2,Conferência!$Q$2,\"\")","v":""},""]
[{"$f":"IF(Jogo!A434=Conferência!$A$2,Conferência!$A$2,\"\")","v":""},{"$f":"IF(Jogo!B434=Conferência!$B$2,Conferência!$B$2,\"\")","v":"QUARTA-FEIRA"},{"$f":"IF(Jogo!C434=Conferência!$C$2,Conferência!$C$2,\"\")","v":1},{"$f":"IF(Jogo!D434=Conferência!$D$2,Conferência!$D$2,\"\")","v":3},{"$f":"IF(Jogo!E434=Conferência!$E$2,Conferência!$E$2,\"\")","v":""},{"$f":"IF(Jogo!F434=Conferência!$F$2,Conferência!$F$2,\"\")","v":""},{"$f":"IF(Jogo!G434=Conferência!$G$2,Conferência!$G$2,\"\")","v":""},{"$f":"IF(Jogo!H434=Conferência!$H$2,Conferência!$H$2,\"\")","v":""},{"$f":"IF(Jogo!I434=Conferência!$I$2,Conferência!$I$2,\"\")","v":""},{"$f":"IF(Jogo!J434=Conferência!$J$2,Conferência!$J$2,\"\")","v":""},{"$f":"IF(Jogo!K434=Conferência!$K$2,Conferência!$K$2,\"\")","v":""},{"$f":"IF(Jogo!L434=Conferência!$L$2,Conferência!$L$2,\"\")","v":""},{"$f":"IF(Jogo!M434=Conferência!$M$2,Conferência!$M$2,\"\")","v":""},{"$f":"IF(Jogo!N434=Conferência!$N$2,Conferência!$N$2,\"\")","v":""},{"$f":"IF(Jogo!O434=Conferência!$O$2,Conferência!$O$2,\"\")","v":""},{"$f":"IF(Jogo!P434=Conferência!$P$2,Conferência!$P$2,\"\")","v":""},{"$f":"IF(Jogo!Q434=Conferência!$Q$2,Conferência!$Q$2,\"\")","v":""},""]
[{"$f":"IF(Jogo!A435=Conferência!$A$2,Conferência!$A$2,\"\")","v":""},{"$f":"IF(Jogo!B435=Conferência!$B$2,Conferência!$B$2,\"\")","v":"QUARTA-FEIRA"},{"$f":"IF(Jogo!C435=Conferência!$C$2,Conferência!$C$2,\"\")","v":1},{"$f":"IF(Jogo!D435=Conferência!$D$2,Conferência!$D$2,\"\")","v":""},{"$f":"IF(Jogo!E435=Conferência!$E$2,Conferência!$E$2,\"\")","v":""},{"$f":"IF(Jogo!F435=Conferência!$F$2,Conferência!$F$2,\"\")","v":""},{"$f":"IF(Jogo!G435=Conferência!$G$2,Conferência!$G$2,\"\")","v":7},{"$f":"IF(Jogo!H435=Conferência!$H$2,Conferência!$H$2,\"\")","v":9},{"$f":"IF(Jogo!I435=Conferência!$I$2,Conferência!$I$2,\"\")","v":10},{"$f":"IF(Jogo!J435=Conferência!$J$2,Conferência!$J$2,\"\")","v":""},{"$f":"IF(Jogo!K435=Conferência!$K$2,Conferência!$K$2,\"\")","v":""},{"$f":"IF(Jogo!L435=Conferência!$L$2,Conferência!$L$2,\"\")","v":""},{"$f":"IF(Jogo!M435=Conferência!$M$2,Conferência!$M$2,\"\")","v":""},{"$f":"IF(Jogo!N435=Conferência!$N$2,Conferência!$N$2,\"\")","v":""},{"$f":"IF(Jogo!O435=Conferência!$O$2,Conferência!$O$2,\"\")","v":""},{"$f":"IF(Jogo!P435=Conferência!$P$2,Conferência!$P$2,\"\")","v":23},{"$f":"IF(Jogo!Q435=Conferência!$Q$2,Conferência!$Q$2,\"\")","v":""},""]
[{"$f":"IF(Jogo!A436=Conferência!$A$2,Conferência!$A$2,\"\")","v":""},{"$f":"IF(Jogo!B436=Conferência!$B$2,Conferência!$B$2,\"\")","v":"QUARTA-FEIRA"},{"$f":"IF(Jogo!C436=Conferência!$C$2,Conferência!$C$2,\"\")","v":1},{"$f":"IF(Jogo!D436=Conferência!$D$2,Conferência!$D$2,\"\")","v":3},{"$f":"IF(Jogo!E436=Conferência!$E$2,Conferência!$E$2,\"\")","v":4},{"$f":"IF(Jogo!F436=Conferência!$F$2,Conferência!$F$2,\"\")","v":""},{"$f":"IF(Jogo!G436=Conferência!$G$2,Conferência!$G$2,\"\")","v":""},{"$f":"IF(Jogo!H436=Conferência!$H$2,Conferência!$H$2,\"\")","v":9},{"$f":"IF(Jogo!I436=Conferência!$I$2,Conferência!$I$2,\"\")","v":10},{"$f":"IF(Jogo!J436=Conferência!$J$2,Conferência!$J$2,\"\")","v":""},{"$f":"IF(Jogo!K436=Conferência!$K$2,Conferência!$K$2,\"\")","v":""},{"$f":"IF(Jogo!L436=Conferência!$L$2,Conferência!$L$2,\"\")","v":""},{"$f":"IF(Jogo!M436=Conferência!$M$2,Conferência!$M$2,\"\")","v":""},{"$f":"IF(Jogo!N436=Conferência!$N$2,Conferência!$N$2,\"\")","v":""},{"$f":"IF(Jogo!O436=Conferência!$O$2,Conferência!$O$2,\"\")","v":19},{"$f":"IF(Jogo!P436=Conferência!$P$2,Conferência!$P$2,\"\")","v":""},{"$f":"IF(Jogo!Q436=Conferência!$Q$2,Conferência!$Q$2,\"\")","v":""},""]
[{"$f":"IF(Jogo!A437=Conferência!$A$2,Conferência!$A$2,\"\")","v":""},{"$f":"IF(Jogo!B437=Conferência!$B$2,Conferência!$B$2,\"\")","v":"QUARTA-FEIRA"},{"$f":"IF(Jogo!C437=Conferência!$C$2,Conferência!$C$2,\"\")","v":""},{"$f":"IF(Jogo!D437=Conferência!$D$2,Conferência!$D$2,\"\")","v":""},{"$f":"IF(Jogo!E437=Conferência!$E$2,Conferência!$E$2,\"\")","v":""},{"$f":"IF(Jogo!F437=Conferência!$F$2,Conferência!$F$2,\"\")","v":""},{"$f":"IF(Jogo!G437=Conferência!$G$2,Conferência!$G$2,\"\")","v":""},{"$f":"IF(Jogo!H437=Conferência!$H$2,Conferência!$H$2,\"\")","v":9},{"$f":"IF(Jogo!I437=Conferência!$I$2,Conferência!$I$2,\"\")","v":10},{"$f":"IF(Jogo!J437=Conferência!$J$2,Conferência!$J$2,\"\")","v":""},{"$f":"IF(Jogo!K437=Conferência!$K$2,Conferência!$K$2,\"\")","v":""},{"$f":"IF(Jogo!L437=Conferência!$L$2,Conferência!$L$2,\"\")","v":""},{"$f":"IF(Jogo!M437=Conferência!$M$2,Conferência!$M$2,\"\")","v":""},{"$f":"IF(Jogo!N437=Conferência!$N$2,Conferência!$N$2,\"\")","v":""},{"$f":"IF(Jogo!O437=Conferência!$O$2,Conferência!$O$2,\"\")","v":""},{"$f":"IF(Jogo!P437=Conferência!$P$2,Conferência!$P$2,\"\")","v":23},{"$f":"IF(Jogo!Q437=Conferência!$Q$2,Conferência!$Q$2,\"\")","v":24},""]
[{"$f":"IF(Jogo!A438=Conferência!$A$2,Conferência!$A$2,\"\")","v":""},{"$f":"IF(Jogo!B438=Conferência!$B$2,Conferência!$B$2,\"\")","v":"QUARTA-FEIRA"},{"$f":"IF(Jogo!C438=Conferência!$C$2,Conferência!$C$2,\"\")","v":1},{"$f":"IF(Jogo!D438=Conferência!$D$2,Conferência!$D$2,\"\")","v":""},{"$f":"IF(Jogo!E438=Conferência!$E$2,Conferência!$E$2,\"\")","v":""},{"$f":"IF(Jogo!F438=Conferência!$F$2,Conferência!$F$2,\"\")","v":""},{"$f":"IF(Jogo!G438=Conferência!$G$2,Conferência!$G$2,\"\")","v":""},{"$f":"IF(Jogo!H438=Conferência!$H$2,Conferência!$H$2,\"\")","v":""},{"$f":"IF(Jogo!I438=Conferência!$I$2,Conferência!$I$2,\"\")","v":""},{"$f":"IF(Jogo!J438=Conferência!$J$2,Conferência!$J$2,\"\")","v":""},{"$f":"IF(Jogo!K438=Conferência!$K$2,Conferência!$K$2,\"\")","v":""},{"$f":"IF(Jogo!L438=Conferência!$L$2,Conferência!$L$2,\"\")","v":""},{"$f":"IF(Jogo!M438=Conferência!$M$2,Conferência!$M$2,\"\")","v":""},{"$f":"IF(Jogo!N438=Conferência!$N$2,Conferência!$N$2,\"\")","v":""},{"$f":"IF(Jogo!O438=Conferência!$O$2,Conferência!$O$2,\"\")","v":""},{"$f":"IF(Jogo!P438=Conferência!$P$2,Conferência!$P$2,\"\")","v":""},{"$f":"IF(Jogo!Q438=Conferência!$Q$2,Conferência!$Q$2,\"\")","v":""},""]
[{"$f":"IF(Jogo!A439=Conferência!$A$2,Conferência!$A$2,\"\")","v":""},{"$f":"IF(Jogo!B439=Conferência!$B$2,Conferência!$B$2,\"\")","v":"QUARTA-FEIRA"},{"$f":"IF(Jogo!C439=Conferência!$C$2,Conferência!$C$2,\"\")","v":""},{"$f":"IF(Jogo!D439=Conferência!$D$2,Conferência!$D$2,\"\")","v":""},{"$f":"IF(Jogo!E439=Conferência!$E$2,Conferência!$E$2,\"\")","v":""},{"$f":"IF(Jogo!F439=Conferência!$F$2,Conferência!$F$2,\"\")","v":""},{"$f":"IF(Jogo!G439=Conferência!$G$2,Conferência!$G$2,\"\")","v":""},{"$f":"IF(Jogo!H439=Conferência!$H$2,Conferência!$H$2,\"\")","v":""},{"$f":"IF(Jogo!I439=Conferência!$I$2,Conferência!$I$2,\"\")","v":""},{"$f":"IF(Jogo!J439=Conferência!$J$2,Conferência!$J$2,\"\")","v":""},{"$f":"IF(Jogo!K439=Conferência!$K$2,Conferência!$K$2,\"\")","v":""},{"$f":"IF(Jogo!L439=Conferência!$L$2,Conferência!$L$2,\"\")","v":""},{"$f":"IF(Jogo!M439=Conferência!$M$2,Conferência!$M$2,\"\")","v":""},{"$f":"IF(Jogo!N439=Conferência!$N$2,Conferência!$N$2,\"\")","v":""},{"$f":"IF(Jogo!O439=Conferência!$O$2,Conferência!$O$2,\"\")","v":""},{"$f":"IF(Jogo!P439=Conferência!$P$2,Conferência!$P$2,\"\")","v":""},{"$f":"IF(Jogo!Q439=Conferência!$Q$2,Conferência!$Q$2,\"\")","v":""},""]
[{"$f":"IF(Jogo!A440=Conferência!$A$2,Conferência!$A$2,\"\")","v":""},{"$f":"IF(Jogo!B440=Conferência!$B$2,Conferência!$B$2,\"\")","v":"QUARTA-FEIRA"},{"$f":"IF(Jogo!C440=Conferência!$C$2,Conferência!$C$2,\"\")","v":1},{"$f":"IF(Jogo!D440=Conferência!$D$2,Conferência!$D$2,\"\")","v":""},{"$f":"IF(Jogo!E440=Conferência!$E$2,Conferência!$E$2,\"\")","v":""},{"$f":"IF(Jogo!F440=Conferência!$F$2,Conferência!$F$2,\"\")","v":6},{"$f":"IF(Jogo!G440=Conferência!$G$2,Conferência!$G$2,\"\")","v":""},{"$f":"IF(Jogo!H440=Conferência!$H$2,Conferência!$H$2,\"\")","v":""},{"$f":"IF(Jogo!I440=Conferência!$I$2,Conferência!$I$2,\"\")","v":""},{"$f":"IF(Jogo!J440=Conferência!$J$2,Conferência!$J$2,\"\")","v":""},{"$f":"IF(Jogo!K440=Conferência!$K$2,Conferência!$K$2,\"\")","v":""},{"$f":"IF(Jogo!L440=Conferência!$L$2,Conferência!$L$2,\"\")","v":""},{"$f":"IF(Jogo!M440=Conferência!$M$2,Conferência!$M$2,\"\")","v":""},{"$f":"IF(Jogo!N440=Conferência!$N$2,Conferência!$N$2,\"\")","v":""},{"$f":"IF(Jogo!O440=Conferência!$O$2,Conferência!$O$2,\"\")","v":""},{"$f":"IF(Jogo!P440=Conferência!$P$2,Conferência!$P$2,\"\")","v":""},{"$f":"IF(Jogo!Q440=Conferência!$Q$2,Conferência!$Q$2,\"\")","v":""},""]
[{"$f":"IF(Jogo!A441=Conferência!$A$2,Conferência!$A$2,\"\")","v":""},{"$f":"IF(Jogo!B441=Conferência!$B$2,Conferência!$B$2,\"\")","v":"QUARTA-FEIRA"},{"$f":"IF(Jogo!C441=Conferência!$C$2,Conferência!$C$2,\"\")","v":1},{"$f":"IF(Jogo!D441=Conferência!$D$2,Conferência!$D$2,\"\")","v":""},{"$f":"IF(Jogo!E441=Conferência!$E$2,Conferência!$E$2,\"\")","v":""},{"$f":"IF(Jogo!F441=Conferência!$F$2,Conferência!$F$2,\"\")","v":""},{"$f":"IF(Jogo!G441=Conferência!$G$2,Conferência!$G$2,\"\")","v":""},{"$f":"IF(Jogo!H441=Conferência!$H$2,Conferência!$H$2,\"\")","v":""},{"$f":"IF(Jogo!I441=Conferência!$I$2,Conferência!$I$2,\"\")","v":""},{"$f":"IF(Jogo!J441=Conferência!$J$2,Conferência!$J$2,\"\")","v":""},{"$f":"IF(Jogo!K441=Conferência!$K$2,Conferência!$K$2,\"\")","v":""},{"$f":"IF(Jogo!L441=Conferência!$L$2,Conferência!$L$2,\"\")","v":""},{"$f":"IF(Jogo!M441=Conferência!$M$2,Conferência!$M$2,\"\")","v":""},{"$f":"IF(Jogo!N441=Conferência!$N$2,Conferência!$N$2,\"\")","v":""},{"$f":"IF(Jogo!O441=Conferência!$O$2,Conferência!$O$2,\"\")","v":""},{"$f":"IF(Jogo!P441=Conferência!$P$2,Conferência!$P$2,\"\")","v":""},{"$f":"IF(Jogo!Q441=Conferência!$Q$2,Conferência!$Q$2,\"\")","v":""},""]
[{"$f":"IF(Jogo!A442=Conferência!$A$2,Conferência!$A$2,\"\")","v":""},{"$f":"IF(Jogo!B442=Conferência!$B$2,Conferência!$B$2,\"\")","v":"QUARTA-FEIRA"},{"$f":"IF(Jogo!C442=Conferência!$C$2,Conferência!$C$2,\"\")","v":""},{"$f":"IF(Jogo!D442=Conferência!$D$2,Conferência!$D$2,\"\")","v":3},{"$f":"IF(Jogo!E442=Conferência!$E$2,Conferência!$E$2,\"\")","v":4},{"$f":"IF(Jogo!F442=Conferência!$F$2,Conferência!$F$2,\"\")","v":""},{"$f":"IF(Jogo!G442=Conferência!$G$2,Conferência!$G$2,\"\")","v":""},{"$f":"IF(Jogo!H442=Conferência!$H$2,Conferência!$H$2,\"\")","v":""},{"$f":"IF(Jogo!I442=Conferência!$I$2,Conferência!$I$2,\"\")","v":""},{"$f":"IF(Jogo!J442=Conferência!$J$2,Conferência!$J$2,\"\")","v":""},{"$f":"IF(Jogo!K442=Conferência!$K$2,Conferência!$K$2,\"\")","v":""},{"$f":"IF(Jogo!L442=Conferência!$L$2,Conferência!$L$2,\"\")","v":""},{"$f":"IF(Jogo!M442=Conferência!$M$2,Conferência!$M$2,\"\")","v":""},{"$f":"IF(Jogo!N442=Conferência!$N$2,Conferência!$N$2,\"\")","v":""},{"$f":"IF(Jogo!O442=Conferência!$O$2,Conferência!$O$2,\"\")","v":19},{"$f":"IF(Jogo!P442=Conferência!$P$2,Conferência!$P$2,\"\")","v":""},{"$f":"IF(Jogo!Q442=Conferência!$Q$2,Conferência!$Q$2,\"\")","v":24},""]
[{"$f":"IF(Jogo!A443=Conferência!$A$2,Conferência!$A$2,\"\")","v":""},{"$f":"IF(Jogo!B443=Conferência!$B$2,Conferência!$B$2,\"\")","v":"QUARTA-FEIRA"},{"$f":"IF(Jogo!C443=Conferência!$C$2,Conferência!$C$2,\"\")","v":""},{"$f":"IF(Jogo!D443=Conferência!$D$2,Conferência!$D$2,\"\")","v":3},{"$f":"IF(Jogo!E443=Conferência!$E$2,Conferência!$E$2,\"\")","v":""},{"$f":"IF(Jogo!F443=Conferência!$F$2,Conferência!$F$2,\"\")","v":""},{"$f":"IF(Jogo!G443=Conferência!$G$2,Conferência!$G$2,\"\")","v":""},{"$f":"IF(Jogo!H443=Conferência!$H$2,Conferência!$H$2,\"\")","v":""},{"$f":"IF(Jogo!I443=Conferência!$I$2,Conferência!$I$2,\"\")","v":""},{"$f":"IF(Jogo!J443=Conferência!$J$2,Conferência!$J$2,\"\")","v":""},{"$f":"IF(Jogo!K443=Conferência!$K$2,Conferência!$K$2,\"\")","v":""},{"$f":"IF(Jogo!L443=Conferência!$L$2,Conferência!$L$2,\"\")","v":""},{"$f":"IF(Jogo!M443=Conferência!$M$2,Conferência!$M$2,\"\")","v":""},{"$f":"IF(Jogo!N443=Conferência!$N$2,Conferência!$N$2,\"\")","v":""},{"$f":"IF(Jogo!O443=Conferência!$O$2,Conferência!$O$2,\"\")","v":""},{"$f":"IF(Jogo!P443=Conferência!$P$2,Conferência!$P$2,\"\")","v":23},{"$f":"IF(Jogo!Q443=Conferência!$Q$2,Conferência!$Q$2,\"\")","v":24},""]
[{"$f":"IF(Jogo!A444=Conferência!$A$2,Conferência!$A$2,\"\")","v":""},{"$f":"IF(Jogo!B444=Conferência!$B$2,Conferência!$B$2,\"\")","v":"QUARTA-FEIRA"},{"$f":"IF(Jogo!C444=Conferência!$C$2,Conferência!$C$2,\"\")","v":1},{"$f":"IF(Jogo!D444=Conferência!$D$2,Conferência!$D$2,\"\")","v":""},{"$f":"IF(Jogo!E444=Conferência!$E$2,Conferência!$E$2,\"\")","v":""},{"$f":"IF(Jogo!F444=Conferência!$F$2,Conferência!$F$2,\"\")","v":""},{"$f":"IF(Jogo!G444=Conferência!$G$2,Conferência!$G$2,\"\")","v":""},{"$f":"IF(Jogo!H444=Conferência!$H$2,Conferência!$H$2,\"\")","v":""},{"$f":"IF(Jogo!I444=Conferência!$I$2,Conferência!$I$2,\"\")","v":""},{"$f":"IF(Jogo!J444=Conferência!$J$2,Conferência!$J$2,\"\")","v":""},{"$f":"IF(Jogo!K444=Conferência!$K$2,Conferência!$K$2,\"\")","v":""},{"$f":"IF(Jogo!L444=Conferência!$L$2,Conferência!$L$2,\"\")","v":""},{"$f":"IF(Jogo!M444=Conferência!$M$2,Conferência!$M$2,\"\")","v":""},{"$f":"IF(Jogo!N444=Conferência!$N$2,Conferência!$N$2,\"\")","v":""},{"$f":"IF(Jogo!O444=Conferência!$O$2,Conferência!$O$2,\"\")","v":""},{"$f":"IF(Jogo!P444=Conferência!$P$2,Conferência!$P$2,\"\")","v":""},{"$f":"IF(Jogo!Q444=Conferência!$Q$2,Conferência!$Q$2,\"\")","v":""},""]
[{"$f":"IF(Jogo!A445=Conferência!$A$2,Conferência!$A$2,\"\")","v":""},{"$f":"IF(Jogo!B445=Conferência!$B$2,Conferência!$B$2,\"\")","v":"QUARTA-FEIRA"},{"$f":"IF(Jogo!C445=Conferência!$C$2,Conferência!$C$2,\"\")","v":""},{"$f":"IF(Jogo!D445=Conferência!$D$2,Conferência!$D$2,\"\")","v":""},{"$f":"IF(Jogo!E445=Conferência!$E$2,Conferência!$E$2,\"\")","v":""},{"$f":"IF(Jogo!F445=Conferência!$F$2,Conferência!$F$2,\"\")","v":""},{"$f":"IF(Jogo!G445=Conferência!$G$2,Conferência!$G$2,\"\")","v":""},{"$f":"IF(Jogo!H445=Conferência!$H$2,Conferência!$H$2,\"\")","v":""},{"$f":"IF(Jogo!I445=Conferência!$I$2,Conferência!$I$2,\"\")","v":""},{"$f":"IF(Jogo!J445=Conferência!$J$2,Conferência!$J$2,\"\")","v":""},{"$f":"IF(Jogo!K445=Conferência!$K$2,Conferência!$K$2,\"\")","v":""},{"$f":"IF(Jogo!L445=Conferência!$L$2,Conferência!$L$2,\"\")","v":""},{"$f":"IF(Jogo!M445=Conferência!$M$2,Conferência!$M$2,\"\")","v":""},{"$f":"IF(Jogo!N445=Conferência!$N$2,Conferência!$N$2,\"\")","v":""},{"$f":"IF(Jogo!O445=Conferência!$O$2,Conferência!$O$2,\"\")","v":""},{"$f":"IF(Jogo!P445=Conferência!$P$2,Conferência!$P$2,\"\")","v":""},{"$f":"IF(Jogo!Q445=Conferência!$Q$2,Conferência!$Q$2,\"\")","v":""},""]
[{"$f":"IF(Jogo!A446=Conferência!$A$2,Conferência!$A$2,\"\")","v":""},{"$f":"IF(Jogo!B446=Conferência!$B$2,Conferência!$B$2,\"\")","v":"QUARTA-FEIRA"},{"$f":"IF(Jogo!C446=Conferência!$C$2,Conferência!$C$2,\"\")","v":""},{"$f":"IF(Jogo!D446=Conferência!$D$2,Conferência!$D$2,\"\")","v":""},{"$f":"IF(Jogo!E446=Conferência!$E$2,Conferência!$E$2,\"\")","v":""},{"$f":"IF(Jogo!F446=Conferência!$F$2,Conferência!$F$2,\"\")","v":""},{"$f":"IF(Jogo!G446=Conferência!$G$2,Conferência!$G$2,\"\")","v":""},{"$f":"IF(Jogo!H446=Conferência!$H$2,Conferência!$H$2,\"\")","v":""},{"$f":"IF(Jogo!I446=Conferência!$I$2,Conferência!$I$2,\"\")","v":""},{"$f":"IF(Jogo!J446=Conferência!$J$2,Conferência!$J$2,\"\")","v":""},{"$f":"IF(Jogo!K446=Conferência!$K$2,Conferência!$K$2,\"\")","v":""},{"$f":"IF(Jogo!L446=Conferência!$L$2,Conferência!$L$2,\"\")","v":""},{"$f":"IF(Jogo!M446=Conferência!$M$2,Conferência!$M$2,\"\")","v":""},{"$f":"IF(Jogo!N446=Conferência!$N$2,Conferência!$N$2,\"\")","v":""},{"$f":"IF(Jogo!O446=Conferência!$O$2,Conferência!$O$2,\"\")","v":""},{"$f":"IF(Jogo!P446=Conferência!$P$2,Conferência!$P$2,\"\")","v":""},{"$f":"IF(Jogo!Q446=Conferência!$Q$2,Conferência!$Q$2,\"\")","v":""},""]
[{"$f":"IF(Jogo!A447=Conferência!$A$2,Conferência!$A$2,\"\")","v":""},{"$f":"IF(Jogo!B447=Conferência!$B$2,Conferência!$B$2,\"\")","v":"QUARTA-FEIRA"},{"$f":"IF(Jogo!C447=Conferência!$C$2,Conferência!$C$2,\"\")","v":""},{"$f":"IF(Jogo!D447=Conferência!$D$2,Conferência!$D$2,\"\")","v":""},{"$f":"IF(Jogo!E447=Conferência!$E$2,Conferência!$E$2,\"\")","v":""},{"$f":"IF(Jogo!F447=Conferência!$F$2,Conferência!$F$2,\"\")","v":""},{"$f":"IF(Jogo!G447=Conferência!$G$2,Conferência!$G$2,\"\")","v":""},{"$f":"IF(Jogo!H447=Conferência!$H$2,Conferência!$H$2,\"\")","v":""},{"$f":"IF(Jogo!I447=Conferência!$I$2,Conferência!$I$2,\"\")","v":""},{"$f":"IF(Jogo!J447=Conferência!$J$2,Conferência!$J$2,\"\")","v":""},{"$f":"IF(Jogo!K447=Conferência!$K$2,Conferência!$K$2,\"\")","v":""},{"$f":"IF(Jogo!L447=Conferência!$L$2,Conferência!$L$2,\"\")","v":""},{"$f":"IF(Jogo!M447=Conferência!$M$2,Conferência!$M$2,\"\")","v":""},{"$f":"IF(Jogo!N447=Conferência!$N$2,Conferência!$N$2,\"\")","v":""},{"$f":"IF(Jogo!O447=Conferência!$O$2,Conferência!$O$2,\"\")","v":""},{"$f":"IF(Jogo!P447=Conferência!$P$2,Conferência!$P$2,\"\")","v":23},{"$f":"IF(Jogo!Q447=Conferência!$Q$2,Conferência!$Q$2,\"\")","v":""},""]
[{"$f":"IF(Jogo!A448=Conferência!$A$2,Conferência!$A$2,\"\")","v":""},{"$f":"IF(Jogo!B448=Conferência!$B$2,Conferência!$B$2,\"\")","v":"QUARTA-FEIRA"},{"$f":"IF(Jogo!C448=Conferência!$C$2,Conferência!$C$2,\"\")","v":1},{"$f":"IF(Jogo!D448=Conferência!$D$2,Conferência!$D$2,\"\")","v":""},{"$f":"IF(Jogo!E448=Conferência!$E$2,Conferência!$E$2,\"\")","v":""},{"$f":"IF(Jogo!F448=Conferência!$F$2,Conferência!$F$2,\"\")","v":""},{"$f":"IF(Jogo!G448=Conferência!$G$2,Conferência!$G$2,\"\")","v":""},{"$f":"IF(Jogo!H448=Conferência!$H$2,Conferência!$H$2,\"\")","v":""},{"$f":"IF(Jogo!I448=Conferência!$I$2,Conferência!$I$2,\"\")","v":""},{"$f":"IF(Jogo!J448=Conferência!$J$2,Conferência!$J$2,\"\")","v":""},{"$f":"IF(Jogo!K448=Conferência!$K$2,Conferência!$K$2,\"\")","v":""},{"$f":"IF(Jogo!L448=Conferência!$L$2,Conferência!$L$2,\"\")","v":""},{"$f":"IF(Jogo!M448=Conferência!$M$2,Conferência!$M$2,\"\")","v":""},{"$f":"IF(Jogo!N448=Conferência!$N$2,Conferência!$N$2,\"\")","v":""},{"$f":"IF(Jogo!O448=Conferência!$O$2,Conferência!$O$2,\"\")","v":""},{"$f":"IF(Jogo!P448=Conferência!$P$2,Conferência!$P$2,\"\")","v":""},{"$f":"IF(Jogo!Q448=Conferência!$Q$2,Conferência!$Q$2,\"\")","v":""},""]
[{"$f":"IF(Jogo!A449=Conferência!$A$2,Conferência!$A$2,\"\")","v":""},{"$f":"IF(Jogo!B449=Conferência!$B$2,Conferência!$B$2,\"\")","v":"QUARTA-FEIRA"},{"$f":"IF(Jogo!C449=Conferência!$C$2,Conferência!$C$2,\"\")","v":1},{"$f":"IF(Jogo!D449=Conferência!$D$2,Conferência!$D$2,\"\")","v":""},{"$f":"IF(Jogo!E449=Conferência!$E$2,Conferência!$E$2,\"\")","v":""},{"$f":"IF(Jogo!F449=Conferência!$F$2,Conferência!$F$2,\"\")","v":""},{"$f":"IF(Jogo!G449=Conferência!$G$2,Conferência!$G$2,\"\")","v":""},{"$f":"IF(Jogo!H449=Conferência!$H$2,Conferência!$H$2,\"\")","v":9},{"$f":"IF(Jogo!I449=Conferência!$I$2,Conferência!$I$2,\"\")","v":10},{"$f":"IF(Jogo!J449=Conferência!$J$2,Conferência!$J$2,\"\")","v":11},{"$f":"IF(Jogo!K449=Conferência!$K$2,Conferência!$K$2,\"\")","v":""},{"$f":"IF(Jogo!L449=Conferência!$L$2,Conferência!$L$2,\"\")","v":""},{"$f":"IF(Jogo!M449=Conferência!$M$2,Conferência!$M$2,\"\")","v":""},{"$f":"IF(Jogo!N449=Conferência!$N$2,Conferência!$N$2,\"\")","v":""},{"$f":"IF(Jogo!O449=Conferência!$O$2,Conferência!$O$2,\"\")","v":19},{"$f":"IF(Jogo!P449=Conferência!$P$2,Conferência!$P$2,\"\")","v":23},{"$f":"IF(Jogo!Q449=Conferência!$Q$2,Conferência!$Q$2,\"\")","v":""},""]
[{"$f":"IF(Jogo!A450=Conferência!$A$2,Conferência!$A$2,\"\")","v":""},{"$f":"IF(Jogo!B450=Conferência!$B$2,Conferência!$B$2,\"\")","v":"QUARTA-FEIRA"},{"$f":"IF(Jogo!C450=Conferência!$C$2,Conferência!$C$2,\"\")","v":""},{"$f":"IF(Jogo!D450=Conferência!$D$2,Conferência!$D$2,\"\")","v":""},{"$f":"IF(Jogo!E450=Conferência!$E$2,Conferência!$E$2,\"\")","v":""},{"$f":"IF(Jogo!F450=Conferência!$F$2,Conferência!$F$2,\"\")","v":""},{"$f":"IF(Jogo!G450=Conferência!$G$2,Conferência!$G$2,\"\")","v":""},{"$f":"IF(Jogo!H450=Conferência!$H$2,Conferência!$H$2,\"\")","v":""},{"$f":"IF(Jogo!I450=Conferência!$I$2,Conferência!$I$2,\"\")","v":""},{"$f":"IF(Jogo!J450=Conferência!$J$2,Conferência!$J$2,\"\")","v":""},{"$f":"IF(Jogo!K450=Conferência!$K$2,Conferência!$K$2,\"\")","v":""},{"$f":"IF(Jogo!L450=Conferência!$L$2,Conferência!$L$2,\"\")","v":""},{"$f":"IF(Jogo!M450=Conferência!$M$2,Conferência!$M$2,\"\")","v":""},{"$f":"IF(Jogo!N450=Conferência!$N$2,Conferência!$N$2,\"\")","v":""},{"$f":"IF(Jogo!O450=Conferência!$O$2,Conferência!$O$2,\"\")","v":""},{"$f":"IF(Jogo!P450=Conferência!$P$2,Conferência!$P$2,\"\")","v":""},{"$f":"IF(Jogo!Q450=Conferência!$Q$2,Conferência!$Q$2,\"\")","v":""},""]
[{"$f":"IF(Jogo!A451=Conferência!$A$2,Conferência!$A$2,\"\")","v":""},{"$f":"IF(Jogo!B451=Conferência!$B$2,Conferência!$B$2,\"\")","v":"QUARTA-FEIRA"},{"$f":"IF(Jogo!C451=Conferência!$C$2,Conferência!$C$2,\"\")","v":1},{"$f":"IF(Jogo!D451=Conferência!$D$2,Conferência!$D$2,\"\")","v":""},{"$f":"IF(Jogo!E451=Conferência!$E$2,Conferência!$E$2,\"\")","v":""},{"$f":"IF(Jogo!F451=Conferência!$F$2,Conferência!$F$2,\"\")","v":6},{"$f":"IF(Jogo!G451=Conferência!$G$2,Conferência!$G$2,\"\")","v":""},{"$f":"IF(Jogo!H451=Conferência!$H$2,Conferência!$H$2,\"\")","v":""},{"$f":"IF(Jogo!I451=Conferência!$I$2,Conferência!$I$2,\"\")","v":""},{"$f":"IF(Jogo!J451=Conferência!$J$2,Conferência!$J$2,\"\")","v":""},{"$f":"IF(Jogo!K451=Conferência!$K$2,Conferência!$K$2,\"\")","v":""},{"$f":"IF(Jogo!L451=Conferência!$L$2,Conferência!$L$2,\"\")","v":""},{"$f":"IF(Jogo!M451=Conferência!$M$2,Conferência!$M$2,\"\")","v":""},{"$f":"IF(Jogo!N451=Conferência!$N$2,Conferência!$N$2,\"\")","v":""},{"$f":"IF(Jogo!O451=Conferência!$O$2,Conferência!$O$2,\"\")","v":""},{"$f":"IF(Jogo!P451=Conferência!$P$2,Conferência!$P$2,\"\")","v":23},{"$f":"IF(Jogo!Q451=Conferência!$Q$2,Conferência!$Q$2,\"\")","v":""},""]
[{"$f":"IF(Jogo!A452=Conferência!$A$2,Conferência!$A$2,\"\")","v":""},{"$f":"IF(Jogo!B452=Conferência!$B$2,Conferência!$B$2,\"\")","v":"QUARTA-FEIRA"},{"$f":"IF(Jogo!C452=Conferência!$C$2,Conferência!$C$2,\"\")","v":1},{"$f":"IF(Jogo!D452=Conferência!$D$2,Conferência!$D$2,\"\")","v":""},{"$f":"IF(Jogo!E452=Conferência!$E$2,Conferência!$E$2,\"\")","v":4},{"$f":"IF(Jogo!F452=Conferência!$F$2,Conferência!$F$2,\"\")","v":""},{"$f":"IF(Jogo!G452=Conferência!$G$2,Conferência!$G$2,\"\")","v":""},{"$f":"IF(Jogo!H452=Conferência!$H$2,Conferência!$H$2,\"\")","v":""},{"$f":"IF(Jogo!I452=Conferência!$I$2,Conferência!$I$2,\"\")","v":""},{"$f":"IF(Jogo!J452=Conferência!$J$2,Conferência!$J$2,\"\")","v":""},{"$f":"IF(Jogo!K452=Conferência!$K$2,Conferência!$K$2,\"\")","v":""},{"$f":"IF(Jogo!L452=Conferência!$L$2,Conferência!$L$2,\"\")","v":""},{"$f":"IF(Jogo!M452=Conferência!$M$2,Conferência!$M$2,\"\")","v":""},{"$f":"IF(Jogo!N452=Conferência!$N$2,Conferência!$N$2,\"\")","v":""},{"$f":"IF(Jogo!O452=Conferência!$O$2,Conferência!$O$2,\"\")","v":""},{"$f":"IF(Jogo!P452=Conferência!$P$2,Conferência!$P$2,\"\")","v":""},{"$f":"IF(Jogo!Q452=Conferência!$Q$2,Conferência!$Q$2,\"\")","v":""},""]
[{"$f":"IF(Jogo!A453=Conferência!$A$2,Conferência!$A$2,\"\")","v":""},{"$f":"IF(Jogo!B453=Conferência!$B$2,Conferência!$B$2,\"\")","v":"QUARTA-FEIRA"},{"$f":"IF(Jogo!C453=Conferência!$C$2,Conferência!$C$2,\"\")","v":1},{"$f":"IF(Jogo!D453=Conferência!$D$2,Conferência!$D$2,\"\")","v":""},{"$f":"IF(Jogo!E453=Conferência!$E$2,Conferência!$E$2,\"\")","v":""},{"$f":"IF(Jogo!F453=Conferência!$F$2,Conferência!$F$2,\"\")","v":""},{"$f":"IF(Jogo!G453=Conferência!$G$2,Conferência!$G$2,\"\")","v":""},{"$f":"IF(Jogo!H453=Conferência!$H$2,Conferência!$H$2,\"\")","v":9},{"$f":"IF(Jogo!I453=Conferência!$I$2,Conferência!$I$2,\"\")","v":""},{"$f":"IF(Jogo!J453=Conferência!$J$2,Conferência!$J$2,\"\")","v":""},{"$f":"IF(Jogo!K453=Conferência!$K$2,Conferência!$K$2,\"\")","v":""},{"$f":"IF(Jogo!L453=Conferência!$L$2,Conferência!$L$2,\"\")","v":""},{"$f":"IF(Jogo!M453=Conferência!$M$2,Conferência!$M$2,\"\")","v":""},{"$f":"IF(Jogo!N453=Conferência!$N$2,Conferência!$N$2,\"\")","v":""},{"$f":"IF(Jogo!O453=Conferência!$O$2,Conferência!$O$2,\"\")","v":""},{"$f":"IF(Jogo!P453=Conferência!$P$2,Conferência!$P$2,\"\")","v":""},{"$f":"IF(Jogo!Q453=Conferência!$Q$2,Conferência!$Q$2,\"\")","v":""},""]
[{"$f":"IF(Jogo!A454=Conferência!$A$2,Conferência!$A$2,\"\")","v":""},{"$f":"IF(Jogo!B454=Conferência!$B$2,Conferência!$B$2,\"\")","v":"QUARTA-FEIRA"},{"$f":"IF(Jogo!C454=Conferência!$C$2,Conferência!$C$2,\"\")","v":1},{"$f":"IF(Jogo!D454=Conferência!$D$2,Conferência!$D$2,\"\")","v":""},{"$f":"IF(Jogo!E454=Conferência!$E$2,Conferência!$E$2,\"\")","v":4},{"$f":"IF(Jogo!F454=Conferência!$F$2,Conferência!$F$2,\"\")","v":""},{"$f":"IF(Jogo!G454=Conferência!$G$2,Conferência!$G$2,\"\")","v":7},{"$f":"IF(Jogo!H454=Conferência!$H$2,Conferência!$H$2,\"\")","v":""},{"$f":"IF(Jogo!I454=Conferência!$I$2,Conferência!$I$2,\"\")","v":""},{"$f":"IF(Jogo!J454=Conferência!$J$2,Conferência!$J$2,\"\")","v":""},{"$f":"IF(Jogo!K454=Conferência!$K$2,Conferência!$K$2,\"\")","v":""},{"$f":"IF(Jogo!L454=Conferência!$L$2,Conferência!$L$2,\"\")","v":""},{"$f":"IF(Jogo!M454=Conferência!$M$2,Conferência!$M$2,\"\")","v":""},{"$f":"IF(Jogo!N454=Conferência!$N$2,Conferência!$N$2,\"\")","v":""},{"$f":"IF(Jogo!O454=Conferência!$O$2,Conferência!$O$2,\"\")","v":""},{"$f":"IF(Jogo!P454=Conferência!$P$2,Conferência!$P$2,\"\")","v":""},{"$f":"IF(Jogo!Q454=Conferência!$Q$2,Conferência!$Q$2,\"\")","v":""},""]
[{"$f":"IF(Jogo!A455=Conferência!$A$2,Conferência!$A$2,\"\")","v":""},{"$f":"IF(Jogo!B455=Conferência!$B$2,Conferência!$B$2,\"\")","v":"QUARTA-FEIRA"},{"$f":"IF(Jogo!C455=Conferência!$C$2,Conferência!$C$2,\"\")","v":1},{"$f":"IF(Jogo!D455=Conferência!$D$2,Conferência!$D$2,\"\")","v":3},{"$f":"IF(Jogo!E455=Conferência!$E$2,Conferência!$E$2,\"\")","v":""},{"$f":"IF(Jogo!F455=Conferência!$F$2,Conferência!$F$2,\"\")","v":6},{"$f":"IF(Jogo!G455=Conferência!$G$2,Conferência!$G$2,\"\")","v":""},{"$f":"IF(Jogo!H455=Conferência!$H$2,Conferência!$H$2,\"\")","v":""},{"$f":"IF(Jogo!I455=Conferência!$I$2,Conferência!$I$2,\"\")","v":""},{"$f":"IF(Jogo!J455=Conferência!$J$2,Conferência!$J$2,\"\")","v":""},{"$f":"IF(Jogo!K455=Conferência!$K$2,Conferência!$K$2,\"\")","v":""},{"$f":"IF(Jogo!L455=Conferência!$L$2,Conferência!$L$2,\"\")","v":""},{"$f":"IF(Jogo!M455=Conferência!$M$2,Conferência!$M$2,\"\")","v":""},{"$f":"IF(Jogo!N455=Conferência!$N$2,Conferência!$N$2,\"\")","v":""},{"$f":"IF(Jogo!O455=Conferência!$O$2,Conferência!$O$2,\"\")","v":""},{"$f":"IF(Jogo!P455=Conferência!$P$2,Conferência!$P$2,\"\")","v":""},{"$f":"IF(Jogo!Q455=Conferência!$Q$2,Conferência!$Q$2,\"\")","v":""},""]
[{"$f":"IF(Jogo!A456=Conferência!$A$2,Conferência!$A$2,\"\")","v":""},{"$f":"IF(Jogo!B456=Conferência!$B$2,Conferência!$B$2,\"\")","v":"QUARTA-FEIRA"},{"$f":"IF(Jogo!C456=Conferência!$C$2,Conferência!$C$2,\"\")","v":1},{"$f":"IF(Jogo!D456=Conferência!$D$2,Conferência!$D$2,\"\")","v":""},{"$f":"IF(Jogo!E456=Conferência!$E$2,Conferência!$E$2,\"\")","v":""},{"$f":"IF(Jogo!F456=Conferência!$F$2,Conferência!$F$2,\"\")","v":""},{"$f":"IF(Jogo!G456=Conferência!$G$2,Conferência!$G$2,\"\")","v":""},{"$f":"IF(Jogo!H456=Conferência!$H$2,Conferência!$H$2,\"\")","v":""},{"$f":"IF(Jogo!I456=Conferência!$I$2,Conferência!$I$2,\"\")","v":""},{"$f":"IF(Jogo!J456=Conferência!$J$2,Conferência!$J$2,\"\")","v":""},{"$f":"IF(Jogo!K456=Conferência!$K$2,Conferência!$K$2,\"\")","v":""},{"$f":"IF(Jogo!L456=Conferência!$L$2,Conferência!$L$2,\"\")","v":""},{"$f":"IF(Jogo!M456=Conferência!$M$2,Conferência!$M$2,\"\")","v":""},{"$f":"IF(Jogo!N456=Conferência!$N$2,Conferência!$N$2,\"\")","v":""},{"$f":"IF(Jogo!O456=Conferência!$O$2,Conferência!$O$2,\"\")","v":""},{"$f":"IF(Jogo!P456=Conferência!$P$2,Conferência!$P$2,\"\")","v":""},{"$f":"IF(Jogo!Q456=Conferência!$Q$2,Conferência!$Q$2,\"\")","v":""},""]
[{"$f":"IF(Jogo!A457=Conferência!$A$2,Conferência!$A$2,\"\")","v":""},{"$f":"IF(Jogo!B457=Conferência!$B$2,Conferência!$B$2,\"\")","v":"QUARTA-FEIRA"},{"$f":"IF(Jogo!C457=Conferência!$C$2,Conferência!$C$2,\"\")","v":1},{"$f":"IF(Jogo!D457=Conferência!$D$2,Conferência!$D$2,\"\")","v":3},{"$f":"IF(Jogo!E457=Conferência!$E$2,Conferência!$E$2,\"\")","v":4},{"$f":"IF(Jogo!F457=Conferência!$F$2,Conferência!$F$2,\"\")","v":""},{"$f":"IF(Jogo!G457=Conferência!$G$2,Conferência!$G$2,\"\")","v":""},{"$f":"IF(Jogo!H457=Conferência!$H$2,Conferência!$H$2,\"\")","v":""},{"$f":"IF(Jogo!I457=Conferência!$I$2,Conferência!$I$2,\"\")","v":""},{"$f":"IF(Jogo!J457=Conferência!$J$2,Conferência!$J$2,\"\")","v":""},{"$f":"IF(Jogo!K457=Conferência!$K$2,Conferência!$K$2,\"\")","v":""},{"$f":"IF(Jogo!L457=Conferência!$L$2,Conferência!$L$2,\"\")","v":""},{"$f":"IF(Jogo!M457=Conferência!$M$2,Conferência!$M$2,\"\")","v":""},{"$f":"IF(Jogo!N457=Conferência!$N$2,Conferência!$N$2,\"\")","v":""},{"$f":"IF(Jogo!O457=Conferência!$O$2,Conferência!$O$2,\"\")","v":""},{"$f":"IF(Jogo!P457=Conferência!$P$2,Conferência!$P$2,\"\")","v":""},{"$f":"IF(Jogo!Q457=Conferência!$Q$2,Conferência!$Q$2,\"\")","v":24},""]
[{"$f":"IF(Jogo!A458=Conferência!$A$2,Conferência!$A$2,\"\")","v":""},{"$f":"IF(Jogo!B458=Conferência!$B$2,Conferência!$B$2,\"\")","v":"QUARTA-FEIRA"},{"$f":"IF(Jogo!C458=Conferência!$C$2,Conferência!$C$2,\"\")","v":1},{"$f":"IF(Jogo!D458=Conferência!$D$2,Conferência!$D$2,\"\")","v":""},{"$f":"IF(Jogo!E458=Conferência!$E$2,Conferência!$E$2,\"\")","v":4},{"$f":"IF(Jogo!F458=Conferência!$F$2,Conferência!$F$2,\"\")","v":6},{"$f":"IF(Jogo!G458=Conferência!$G$2,Conferência!$G$2,\"\")","v":""},{"$f":"IF(Jogo!H458=Conferência!$H$2,Conferência!$H$2,\"\")","v":""},{"$f":"IF(Jogo!I458=Conferência!$I$2,Conferência!$I$2,\"\")","v":""},{"$f":"IF(Jogo!J458=Conferência!$J$2,Conferência!$J$2,\"\")","v":""},{"$f":"IF(Jogo!K458=Conferência!$K$2,Conferência!$K$2,\"\")","v":""},{"$f":"IF(Jogo!L458=Conferência!$L$2,Conferência!$L$2,\"\")","v":""},{"$f":"IF(Jogo!M458=Conferência!$M$2,Conferência!$M$2,\"\")","v":""},{"$f":"IF(Jogo!N458=Conferência!$N$2,Conferência!$N$2,\"\")","v":""},{"$f":"IF(Jogo!O458=Conferência!$O$2,Conferência!$O$2,\"\")","v":""},{"$f":"IF(Jogo!P458=Conferência!$P$2,Conferência!$P$2,\"\")","v":""},{"$f":"IF(Jogo!Q458=Conferência!$Q$2,Conferência!$Q$2,\"\")","v":""},""]
[{"$f":"IF(Jogo!A459=Conferência!$A$2,Conferência!$A$2,\"\")","v":""},{"$f":"IF(Jogo!B459=Conferência!$B$2,Conferência!$B$2,\"\")","v":"QUARTA-FEIRA"},{"$f":"IF(Jogo!C459=Conferência!$C$2,Conferência!$C$2,\"\")","v":1},{"$f":"IF(Jogo!D459=Conferência!$D$2,Conferência!$D$2,\"\")","v":3},{"$f":"IF(Jogo!E459=Conferência!$E$2,Conferência!$E$2,\"\")","v":4},{"$f":"IF(Jogo!F459=Conferência!$F$2,Conferência!$F$2,\"\")","v":""},{"$f":"IF(Jogo!G459=Conferência!$G$2,Conferência!$G$2,\"\")","v":""},{"$f":"IF(Jogo!H459=Conferência!$H$2,Conferência!$H$2,\"\")","v":""},{"$f":"IF(Jogo!I459=Conferência!$I$2,Conferência!$I$2,\"\")","v":10},{"$f":"IF(Jogo!J459=Conferência!$J$2,Conferência!$J$2,\"\")","v":11},{"$f":"IF(Jogo!K459=Conferência!$K$2,Conferência!$K$2,\"\")","v":""},{"$f":"IF(Jogo!L459=Conferência!$L$2,Conferência!$L$2,\"\")","v":""},{"$f":"IF(Jogo!M459=Conferência!$M$2,Conferência!$M$2,\"\")","v":""},{"$f":"IF(Jogo!N459=Conferência!$N$2,Conferência!$N$2,\"\")","v":""},{"$f":"IF(Jogo!O459=Conferência!$O$2,Conferência!$O$2,\"\")","v":19},{"$f":"IF(Jogo!P459=Conferência!$P$2,Conferência!$P$2,\"\")","v":""},{"$f":"IF(Jogo!Q459=Conferência!$Q$2,Conferência!$Q$2,\"\")","v":24},""]
[{"$f":"IF(Jogo!A460=Conferência!$A$2,Conferência!$A$2,\"\")","v":""},{"$f":"IF(Jogo!B460=Conferência!$B$2,Conferência!$B$2,\"\")","v":"QUARTA-FEIRA"},{"$f":"IF(Jogo!C460=Conferência!$C$2,Conferência!$C$2,\"\")","v":""},{"$f":"IF(Jogo!D460=Conferência!$D$2,Conferência!$D$2,\"\")","v":3},{"$f":"IF(Jogo!E460=Conferência!$E$2,Conferência!$E$2,\"\")","v":""},{"$f":"IF(Jogo!F460=Conferência!$F$2,Conferência!$F$2,\"\")","v":""},{"$f":"IF(Jogo!G460=Conferência!$G$2,Conferência!$G$2,\"\")","v":""},{"$f":"IF(Jogo!H460=Conferência!$H$2,Conferência!$H$2,\"\")","v":9},{"$f":"IF(Jogo!I460=Conferência!$I$2,Conferência!$I$2,\"\")","v":""},{"$f":"IF(Jogo!J460=Conferência!$J$2,Conferência!$J$2,\"\")","v":""},{"$f":"IF(Jogo!K460=Conferência!$K$2,Conferência!$K$2,\"\")","v":""},{"$f":"IF(Jogo!L460=Conferência!$L$2,Conferência!$L$2,\"\")","v":""},{"$f":"IF(Jogo!M460=Conferência!$M$2,Conferência!$M$2,\"\")","v":""},{"$f":"IF(Jogo!N460=Conferência!$N$2,Conferência!$N$2,\"\")","v":""},{"$f":"IF(Jogo!O460=Conferência!$O$2,Conferência!$O$2,\"\")","v":""},{"$f":"IF(Jogo!P460=Conferência!$P$2,Conferência!$P$2,\"\")","v":""},{"$f":"IF(Jogo!Q460=Conferência!$Q$2,Conferência!$Q$2,\"\")","v":""},""]
[{"$f":"IF(Jogo!A461=Conferência!$A$2,Conferência!$A$2,\"\")","v":""},{"$f":"IF(Jogo!B461=Conferência!$B$2,Conferência!$B$2,\"\")","v":"QUARTA-FEIRA"},{"$f":"IF(Jogo!C461=Conferência!$C$2,Conferência!$C$2,\"\")","v":1},{"$f":"IF(Jogo!D461=Conferência!$D$2,Conferência!$D$2,\"\")","v":""},{"$f":"IF(Jogo!E461=Conferência!$E$2,Conferência!$E$2,\"\")","v":4},{"$f":"IF(Jogo!F461=Conferência!$F$2,Conferência!$F$2,\"\")","v":6},{"$f":"IF(Jogo!G461=Conferência!$G$2,Conferência!$G$2,\"\")","v":""},{"$f":"IF(Jogo!H461=Conferência!$H$2,Conferência!$H$2,\"\")","v":9},{"$f":"IF(Jogo!I461=Conferência!$I$2,Conferência!$I$2,\"\")","v":10},{"$f":"IF(Jogo!J461=Conferência!$J$2,Conferência!$J$2,\"\")","v":11},{"$f":"IF(Jogo!K461=Conferência!$K$2,Conferência!$K$2,\"\")","v":""},{"$f":"IF(Jogo!L461=Conferência!$L$2,Conferência!$L$2,\"\")","v":""},{"$f":"IF(Jogo!M461=Conferência!$M$2,Conferência!$M$2,\"\")","v":""},{"$f":"IF(Jogo!N461=Conferência!$N$2,Conferência!$N$2,\"\")","v":""},{"$f":"IF(Jogo!O461=Conferência!$O$2,Conferência!$O$2,\"\")","v":19},{"$f":"IF(Jogo!P461=Conferência!$P$2,Conferência!$P$2,\"\")","v":23},{"$f":"IF(Jogo!Q461=Conferência!$Q$2,Conferência!$Q$2,\"\")","v":""},""]
[{"$f":"IF(Jogo!A462=Conferência!$A$2,Conferência!$A$2,\"\")","v":""},{"$f":"IF(Jogo!B462=Conferência!$B$2,Conferência!$B$2,\"\")","v":"QUARTA-FEIRA"},{"$f":"IF(Jogo!C462=Conferência!$C$2,Conferência!$C$2,\"\")","v":1},{"$f":"IF(Jogo!D462=Conferência!$D$2,Conferência!$D$2,\"\")","v":""},{"$f":"IF(Jogo!E462=Conferência!$E$2,Conferência!$E$2,\"\")","v":""},{"$f":"IF(Jogo!F462=Conferência!$F$2,Conferência!$F$2,\"\")","v":""},{"$f":"IF(Jogo!G462=Conferência!$G$2,Conferência!$G$2,\"\")","v":""},{"$f":"IF(Jogo!H462=Conferência!$H$2,Conferência!$H$2,\"\")","v":""},{"$f":"IF(Jogo!I462=Conferência!$I$2,Conferência!$I$2,\"\")","v":""},{"$f":"IF(Jogo!J462=Conferência!$J$2,Conferência!$J$2,\"\")","v":""},{"$f":"IF(Jogo!K462=Conferência!$K$2,Conferência!$K$2,\"\")","v":""},{"$f":"IF(Jogo!L462=Conferência!$L$2,Conferência!$L$2,\"\")","v":""},{"$f":"IF(Jogo!M462=Conferência!$M$2,Conferência!$M$2,\"\")","v":""},{"$f":"IF(Jogo!N462=Conferência!$N$2,Conferência!$N$2,\"\")","v":""},{"$f":"IF(Jogo!O462=Conferência!$O$2,Conferência!$O$2,\"\")","v":""},{"$f":"IF(Jogo!P462=Conferência!$P$2,Conferência!$P$2,\"\")","v":23},{"$f":"IF(Jogo!Q462=Conferência!$Q$2,Conferência!$Q$2,\"\")","v":""},""]
[{"$f":"IF(Jogo!A463=Conferência!$A$2,Conferência!$A$2,\"\")","v":""},{"$f":"IF(Jogo!B463=Conferência!$B$2,Conferência!$B$2,\"\")","v":"QUARTA-FEIRA"},{"$f":"IF(Jogo!C463=Conferência!$C$2,Conferência!$C$2,\"\")","v":1},{"$f":"IF(Jogo!D463=Conferência!$D$2,Conferência!$D$2,\"\")","v":""},{"$f":"IF(Jogo!E463=Conferência!$E$2,Conferência!$E$2,\"\")","v":""},{"$f":"IF(Jogo!F463=Conferência!$F$2,Conferência!$F$2,\"\")","v":""},{"$f":"IF(Jogo!G463=Conferência!$G$2,Conferência!$G$2,\"\")","v":""},{"$f":"IF(Jogo!H463=Conferência!$H$2,Conferência!$H$2,\"\")","v":""},{"$f":"IF(Jogo!I463=Conferência!$I$2,Conferência!$I$2,\"\")","v":""},{"$f":"IF(Jogo!J463=Conferência!$J$2,Conferência!$J$2,\"\")","v":""},{"$f":"IF(Jogo!K463=Conferência!$K$2,Conferência!$K$2,\"\")","v":""},{"$f":"IF(Jogo!L463=Conferência!$L$2,Conferência!$L$2,\"\")","v":""},{"$f":"IF(Jogo!M463=Conferência!$M$2,Conferência!$M$2,\"\")","v":""},{"$f":"IF(Jogo!N463=Conferência!$N$2,Conferência!$N$2,\"\")","v":""},{"$f":"IF(Jogo!O463=Conferência!$O$2,Conferência!$O$2,\"\")","v":""},{"$f":"IF(Jogo!P463=Conferência!$P$2,Conferência!$P$2,\"\")","v":23},{"$f":"IF(Jogo!Q463=Conferência!$Q$2,Conferência!$Q$2,\"\")","v":""},""]
[{"$f":"IF(Jogo!A464=Conferência!$A$2,Conferência!$A$2,\"\")","v":""},{"$f":"IF(Jogo!B464=Conferência!$B$2,Conferência!$B$2,\"\")","v":"QUARTA-FEIRA"},{"$f":"IF(Jogo!C464=Conferência!$C$2,Conferência!$C$2,\"\")","v":""},{"$f":"IF(Jogo!D464=Conferência!$D$2,Conferência!$D$2,\"\")","v":""},{"$f":"IF(Jogo!E464=Conferência!$E$2,Conferência!$E$2,\"\")","v":""},{"$f":"IF(Jogo!F464=Conferência!$F$2,Conferência!$F$2,\"\")","v":6},{"$f":"IF(Jogo!G464=Conferência!$G$2,Conferência!$G$2,\"\")","v":7},{"$f":"IF(Jogo!H464=Conferência!$H$2,Conferência!$H$2,\"\")","v":""},{"$f":"IF(Jogo!I464=Conferência!$I$2,Conferência!$I$2,\"\")","v":""},{"$f":"IF(Jogo!J464=Conferência!$J$2,Conferência!$J$2,\"\")","v":""},{"$f":"IF(Jogo!K464=Conferência!$K$2,Conferência!$K$2,\"\")","v":12},{"$f":"IF(Jogo!L464=Conferência!$L$2,Conferência!$L$2,\"\")","v":13},{"$f":"IF(Jogo!M464=Conferência!$M$2,Conferência!$M$2,\"\")","v":""},{"$f":"IF(Jogo!N464=Conferência!$N$2,Conferência!$N$2,\"\")","v":""},{"$f":"IF(Jogo!O464=Conferência!$O$2,Conferência!$O$2,\"\")","v":""},{"$f":"IF(Jogo!P464=Conferência!$P$2,Conferência!$P$2,\"\")","v":23},{"$f":"IF(Jogo!Q464=Conferência!$Q$2,Conferência!$Q$2,\"\")","v":24},""]
[{"$f":"IF(Jogo!A465=Conferência!$A$2,Conferência!$A$2,\"\")","v":""},{"$f":"IF(Jogo!B465=Conferência!$B$2,Conferência!$B$2,\"\")","v":"QUARTA-FEIRA"},{"$f":"IF(Jogo!C465=Conferência!$C$2,Conferência!$C$2,\"\")","v":1},{"$f":"IF(Jogo!D465=Conferência!$D$2,Conferência!$D$2,\"\")","v":""},{"$f":"IF(Jogo!E465=Conferência!$E$2,Conferência!$E$2,\"\")","v":""},{"$f":"IF(Jogo!F465=Conferência!$F$2,Conferência!$F$2,\"\")","v":6},{"$f":"IF(Jogo!G465=Conferência!$G$2,Conferência!$G$2,\"\")","v":7},{"$f":"IF(Jogo!H465=Conferência!$H$2,Conferência!$H$2,\"\")","v":""},{"$f":"IF(Jogo!I465=Conferência!$I$2,Conferência!$I$2,\"\")","v":""},{"$f":"IF(Jogo!J465=Conferência!$J$2,Conferência!$J$2,\"\")","v":""},{"$f":"IF(Jogo!K465=Conferência!$K$2,Conferência!$K$2,\"\")","v":""},{"$f":"IF(Jogo!L465=Conferência!$L$2,Conferência!$L$2,\"\")","v":""},{"$f":"IF(Jogo!M465=Conferência!$M$2,Conferência!$M$2,\"\")","v":""},{"$f":"IF(Jogo!N465=Conferência!$N$2,Conferência!$N$2,\"\")","v":""},{"$f":"IF(Jogo!O465=Conferência!$O$2,Conferência!$O$2,\"\")","v":""},{"$f":"IF(Jogo!P465=Conferência!$P$2,Conferência!$P$2,\"\")","v":""},{"$f":"IF(Jogo!Q465=Conferência!$Q$2,Conferência!$Q$2,\"\")","v":""},""]
[{"$f":"IF(Jogo!A466=Conferência!$A$2,Conferência!$A$2,\"\")","v":""},{"$f":"IF(Jogo!B466=Conferência!$B$2,Conferência!$B$2,\"\")","v":"QUARTA-FEIRA"},{"$f":"IF(Jogo!C466=Conferência!$C$2,Conferência!$C$2,\"\")","v":1},{"$f":"IF(Jogo!D466=Conferência!$D$2,Conferência!$D$2,\"\")","v":""},{"$f":"IF(Jogo!E466=Conferência!$E$2,Conferência!$E$2,\"\")","v":""},{"$f":"IF(Jogo!F466=Conferência!$F$2,Conferência!$F$2,\"\")","v":6},{"$f":"IF(Jogo!G466=Conferência!$G$2,Conferência!$G$2,\"\")","v":7},{"$f":"IF(Jogo!H466=Conferência!$H$2,Conferência!$H$2,\"\")","v":""},{"$f":"IF(Jogo!I466=Conferência!$I$2,Conferência!$I$2,\"\")","v":""},{"$f":"IF(Jogo!J466=Conferência!$J$2,Conferência!$J$2,\"\")","v":""},{"$f":"IF(Jogo!K466=Conferência!$K$2,Conferência!$K$2,\"\")","v":""},{"$f":"IF(Jogo!L466=Conferência!$L$2,Conferência!$L$2,\"\")","v":""},{"$f":"IF(Jogo!M466=Conferência!$M$2,Conferência!$M$2,\"\")","v":""},{"$f":"IF(Jogo!N466=Conferência!$N$2,Conferência!$N$2,\"\")","v":""},{"$f":"IF(Jogo!O466=Conferência!$O$2,Conferência!$O$2,\"\")","v":""},{"$f":"IF(Jogo!P466=Conferência!$P$2,Conferência!$P$2,\"\")","v":""},{"$f":"IF(Jogo!Q466=Conferência!$Q$2,Conferência!$Q$2,\"\")","v":""},{"$f":"IF(A466=\"\",\"\",\"OK\")","v":""}]
[{"$f":"IF(Jogo!A467=Conferência!$A$2,Conferência!$A$2,\"\")","v":""},{"$f":"IF(Jogo!B467=Conferência!$B$2,Conferência!$B$2,\"\")","v":"QUARTA-FEIRA"},{"$f":"IF(Jogo!C467=Conferência!$C$2,Conferência!$C$2,\"\")","v":""},{"$f":"IF(Jogo!D467=Conferência!$D$2,Conferência!$D$2,\"\")","v":3},{"$f":"IF(Jogo!E467=Conferência!$E$2,Conferência!$E$2,\"\")","v":4},{"$f":"IF(Jogo!F467=Conferência!$F$2,Conferência!$F$2,\"\")","v":6},{"$f":"IF(Jogo!G467=Conferência!$G$2,Conferência!$G$2,\"\")","v":7},{"$f":"IF(Jogo!H467=Conferência!$H$2,Conferência!$H$2,\"\")","v":9},{"$f":"IF(Jogo!I467=Conferência!$I$2,Conferência!$I$2,\"\")","v":""},{"$f":"IF(Jogo!J467=Conferência!$J$2,Conferência!$J$2,\"\")","v":""},{"$f":"IF(Jogo!K467=Conferência!$K$2,Conferência!$K$2,\"\")","v":""},{"$f":"IF(Jogo!L467=Conferência!$L$2,Conferência!$L$2,\"\")","v":""},{"$f":"IF(Jogo!M467=Conferência!$M$2,Conferência!$M$2,\"\")","v":""},{"$f":"IF(Jogo!N467=Conferência!$N$2,Conferência!$N$2,\"\")","v":""},{"$f":"IF(Jogo!O467=Conferência!$O$2,Conferência!$O$2,\"\")","v":19},{"$f":"IF(Jogo!P467=Conferência!$P$2,Conferência!$P$2,\"\")","v":""},{"$f":"IF(Jogo!Q467=Conferência!$Q$2,Conferência!$Q$2,\"\")","v":""},""]
[{"$f":"IF(Jogo!A468=Conferência!$A$2,Conferência!$A$2,\"\")","v":""},{"$f":"IF(Jogo!B468=Conferência!$B$2,Conferência!$B$2,\"\")","v":"QUARTA-FEIRA"},{"$f":"IF(Jogo!C468=Conferência!$C$2,Conferência!$C$2,\"\")","v":""},{"$f":"IF(Jogo!D468=Conferência!$D$2,Conferência!$D$2,\"\")","v":3},{"$f":"IF(Jogo!E468=Conferência!$E$2,Conferência!$E$2,\"\")","v":4},{"$f":"IF(Jogo!F468=Conferência!$F$2,Conferência!$F$2,\"\")","v":""},{"$f":"IF(Jogo!G468=Conferência!$G$2,Conferência!$G$2,\"\")","v":7},{"$f":"IF(Jogo!H468=Conferência!$H$2,Conferência!$H$2,\"\")","v":""},{"$f":"IF(Jogo!I468=Conferência!$I$2,Conferência!$I$2,\"\")","v":10},{"$f":"IF(Jogo!J468=Conferência!$J$2,Conferência!$J$2,\"\")","v":11},{"$f":"IF(Jogo!K468=Conferência!$K$2,Conferência!$K$2,\"\")","v":12},{"$f":"IF(Jogo!L468=Conferência!$L$2,Conferência!$L$2,\"\")","v":13},{"$f":"IF(Jogo!M468=Conferência!$M$2,Conferência!$M$2,\"\")","v":""},{"$f":"IF(Jogo!N468=Conferência!$N$2,Conferência!$N$2,\"\")","v":""},{"$f":"IF(Jogo!O468=Conferência!$O$2,Conferência!$O$2,\"\")","v":""},{"$f":"IF(Jogo!P468=Conferência!$P$2,Conferência!$P$2,\"\")","v":""},{"$f":"IF(Jogo!Q468=Conferência!$Q$2,Conferência!$Q$2,\"\")","v":""},""]
[{"$f":"IF(Jogo!A469=Conferência!$A$2,Conferência!$A$2,\"\")","v":""},{"$f":"IF(Jogo!B469=Conferência!$B$2,Conferência!$B$2,\"\")","v":"QUARTA-FEIRA"},{"$f":"IF(Jogo!C469=Conferência!$C$2,Conferência!$C$2,\"\")","v":""},{"$f":"IF(Jogo!D469=Conferência!$D$2,Conferência!$D$2,\"\")","v":""},{"$f":"IF(Jogo!E469=Conferência!$E$2,Conferência!$E$2,\"\")","v":""},{"$f":"IF(Jogo!F469=Conferência!$F$2,Conferência!$F$2,\"\")","v":""},{"$f":"IF(Jogo!G469=Conferência!$G$2,Conferência!$G$2,\"\")","v":""},{"$f":"IF(Jogo!H469=Conferência!$H$2,Conferência!$H$2,\"\")","v":""},{"$f":"IF(Jogo!I469=Conferência!$I$2,Conferência!$I$2,\"\")","v":""},{"$f":"IF(Jogo!J469=Conferência!$J$2,Conferência!$J$2,\"\")","v":""},{"$f":"IF(Jogo!K469=Conferência!$K$2,Conferência!$K$2,\"\")","v":""},{"$f":"IF(Jogo!L469=Conferência!$L$2,Conferência!$L$2,\"\")","v":""},{"$f":"IF(Jogo!M469=Conferência!$M$2,Conferência!$M$2,\"\")","v":""},{"$f":"IF(Jogo!N469=Conferência!$N$2,Conferência!$N$2,\"\")","v":""},{"$f":"IF(Jogo!O469=Conferência!$O$2,Conferência!$O$2,\"\")","v":""},{"$f":"IF(Jogo!P469=Conferência!$P$2,Conferência!$P$2,\"\")","v":23},{"$f":"IF(Jogo!Q469=Conferência!$Q$2,Conferência!$Q$2,\"\")","v":24},""]
[{"$f":"IF(Jogo!A470=Conferência!$A$2,Conferência!$A$2,\"\")","v":""},{"$f":"IF(Jogo!B470=Conferência!$B$2,Conferência!$B$2,\"\")","v":"QUARTA-FEIRA"},{"$f":"IF(Jogo!C470=Conferência!$C$2,Conferência!$C$2,\"\")","v":1},{"$f":"IF(Jogo!D470=Conferência!$D$2,Conferência!$D$2,\"\")","v":""},{"$f":"IF(Jogo!E470=Conferência!$E$2,Conferência!$E$2,\"\")","v":""},{"$f":"IF(Jogo!F470=Conferência!$F$2,Conferência!$F$2,\"\")","v":6},{"$f":"IF(Jogo!G470=Conferência!$G$2,Conferência!$G$2,\"\")","v":7},{"$f":"IF(Jogo!H470=Conferência!$H$2,Conferência!$H$2,\"\")","v":""},{"$f":"IF(Jogo!I470=Conferência!$I$2,Conferência!$I$2,\"\")","v":""},{"$f":"IF(Jogo!J470=Conferência!$J$2,Conferência!$J$2,\"\")","v":11},{"$f":"IF(Jogo!K470=Conferência!$K$2,Conferência!$K$2,\"\")","v":12},{"$f":"IF(Jogo!L470=Conferência!$L$2,Conferência!$L$2,\"\")","v":13},{"$f":"IF(Jogo!M470=Conferência!$M$2,Conferência!$M$2,\"\")","v":15},{"$f":"IF(Jogo!N470=Conferência!$N$2,Conferência!$N$2,\"\")","v":""},{"$f":"IF(Jogo!O470=Conferência!$O$2,Conferência!$O$2,\"\")","v":""},{"$f":"IF(Jogo!P470=Conferência!$P$2,Conferência!$P$2,\"\")","v":""},{"$f":"IF(Jogo!Q470=Conferência!$Q$2,Conferência!$Q$2,\"\")","v":24},""]
[{"$f":"IF(Jogo!A471=Conferência!$A$2,Conferência!$A$2,\"\")","v":""},{"$f":"IF(Jogo!B471=Conferência!$B$2,Conferência!$B$2,\"\")","v":"QUARTA-FEIRA"},{"$f":"IF(Jogo!C471=Conferência!$C$2,Conferência!$C$2,\"\")","v":1},{"$f":"IF(Jogo!D471=Conferência!$D$2,Conferência!$D$2,\"\")","v":""},{"$f":"IF(Jogo!E471=Conferência!$E$2,Conferência!$E$2,\"\")","v":""},{"$f":"IF(Jogo!F471=Conferência!$F$2,Conferência!$F$2,\"\")","v":""},{"$f":"IF(Jogo!G471=Conferência!$G$2,Conferência!$G$2,\"\")","v":""},{"$f":"IF(Jogo!H471=Conferência!$H$2,Conferência!$H$2,\"\")","v":""},{"$f":"IF(Jogo!I471=Conferência!$I$2,Conferência!$I$2,\"\")","v":""},{"$f":"IF(Jogo!J471=Conferência!$J$2,Conferência!$J$2,\"\")","v":""},{"$f":"IF(Jogo!K471=Conferência!$K$2,Conferência!$K$2,\"\")","v":""},{"$f":"IF(Jogo!L471=Conferência!$L$2,Conferência!$L$2,\"\")","v":""},{"$f":"IF(Jogo!M471=Conferência!$M$2,Conferência!$M$2,\"\")","v":""},{"$f":"IF(Jogo!N471=Conferência!$N$2,Conferência!$N$2,\"\")","v":""},{"$f":"IF(Jogo!O471=Conferência!$O$2,Conferência!$O$2,\"\")","v":""},{"$f":"IF(Jogo!P471=Conferência!$P$2,Conferência!$P$2,\"\")","v":23},{"$f":"IF(Jogo!Q471=Conferência!$Q$2,Conferência!$Q$2,\"\")","v":""},""]
[{"$f":"IF(Jogo!A472=Conferência!$A$2,Conferência!$A$2,\"\")","v":""},{"$f":"IF(Jogo!B472=Conferência!$B$2,Conferência!$B$2,\"\")","v":"QUARTA-FEIRA"},{"$f":"IF(Jogo!C472=Conferência!$C$2,Conferência!$C$2,\"\")","v":""},{"$f":"IF(Jogo!D472=Conferência!$D$2,Conferência!$D$2,\"\")","v":3},{"$f":"IF(Jogo!E472=Conferência!$E$2,Conferência!$E$2,\"\")","v":4},{"$f":"IF(Jogo!F472=Conferência!$F$2,Conferência!$F$2,\"\")","v":""},{"$f":"IF(Jogo!G472=Conferência!$G$2,Conferência!$G$2,\"\")","v":7},{"$f":"IF(Jogo!H472=Conferência!$H$2,Conferência!$H$2,\"\")","v":9},{"$f":"IF(Jogo!I472=Conferência!$I$2,Conferência!$I$2,\"\")","v":10},{"$f":"IF(Jogo!J472=Conferência!$J$2,Conferência!$J$2,\"\")","v":11},{"$f":"IF(Jogo!K472=Conferência!$K$2,Conferência!$K$2,\"\")","v":""},{"$f":"IF(Jogo!L472=Conferência!$L$2,Conferência!$L$2,\"\")","v":""},{"$f":"IF(Jogo!M472=Conferência!$M$2,Conferência!$M$2,\"\")","v":""},{"$f":"IF(Jogo!N472=Conferência!$N$2,Conferência!$N$2,\"\")","v":""},{"$f":"IF(Jogo!O472=Conferência!$O$2,Conferência!$O$2,\"\")","v":""},{"$f":"IF(Jogo!P472=Conferência!$P$2,Conferência!$P$2,\"\")","v":""},{"$f":"IF(Jogo!Q472=Conferência!$Q$2,Conferência!$Q$2,\"\")","v":""},""]
[{"$f":"IF(Jogo!A473=Conferência!$A$2,Conferência!$A$2,\"\")","v":""},{"$f":"IF(Jogo!B473=Conferência!$B$2,Conferência!$B$2,\"\")","v":"QUARTA-FEIRA"},{"$f":"IF(Jogo!C473=Conferência!$C$2,Conferência!$C$2,\"\")","v":1},{"$f":"IF(Jogo!D473=Conferência!$D$2,Conferência!$D$2,\"\")","v":""},{"$f":"IF(Jogo!E473=Conferência!$E$2,Conferência!$E$2,\"\")","v":4},{"$f":"IF(Jogo!F473=Conferência!$F$2,Conferência!$F$2,\"\")","v":""},{"$f":"IF(Jogo!G473=Conferência!$G$2,Conferência!$G$2,\"\")","v":7},{"$f":"IF(Jogo!H473=Conferência!$H$2,Conferência!$H$2,\"\")","v":""},{"$f":"IF(Jogo!I473=Conferência!$I$2,Conferência!$I$2,\"\")","v":""},{"$f":"IF(Jogo!J473=Conferência!$J$2,Conferência!$J$2,\"\")","v":""},{"$f":"IF(Jogo!K473=Conferência!$K$2,Conferência!$K$2,\"\")","v":""},{"$f":"IF(Jogo!L473=Conferência!$L$2,Conferência!$L$2,\"\")","v":""},{"$f":"IF(Jogo!M473=Conferência!$M$2,Conferência!$M$2,\"\")","v":15},{"$f":"IF(Jogo!N473=Conferência!$N$2,Conferência!$N$2,\"\")","v":16},{"$f":"IF(Jogo!O473=Conferência!$O$2,Conferência!$O$2,\"\")","v":19},{"$f":"IF(Jogo!P473=Conferência!$P$2,Conferência!$P$2,\"\")","v":""},{"$f":"IF(Jogo!Q473=Conferência!$Q$2,Conferência!$Q$2,\"\")","v":""},""]
[{"$f":"IF(Jogo!A474=Conferência!$A$2,Conferência!$A$2,\"\")","v":""},{"$f":"IF(Jogo!B474=Conferência!$B$2,Conferência!$B$2,\"\")","v":"QUARTA-FEIRA"},{"$f":"IF(Jogo!C474=Conferência!$C$2,Conferência!$C$2,\"\")","v":""},{"$f":"IF(Jogo!D474=Conferência!$D$2,Conferência!$D$2,\"\")","v":3},{"$f":"IF(Jogo!E474=Conferência!$E$2,Conferência!$E$2,\"\")","v":""},{"$f":"IF(Jogo!F474=Conferência!$F$2,Conferência!$F$2,\"\")","v":6},{"$f":"IF(Jogo!G474=Conferência!$G$2,Conferência!$G$2,\"\")","v":7},{"$f":"IF(Jogo!H474=Conferência!$H$2,Conferência!$H$2,\"\")","v":9},{"$f":"IF(Jogo!I474=Conferência!$I$2,Conferência!$I$2,\"\")","v":10},{"$f":"IF(Jogo!J474=Conferência!$J$2,Conferência!$J$2,\"\")","v":11},{"$f":"IF(Jogo!K474=Conferência!$K$2,Conferência!$K$2,\"\")","v":""},{"$f":"IF(Jogo!L474=Conferência!$L$2,Conferência!$L$2,\"\")","v":""},{"$f":"IF(Jogo!M474=Conferência!$M$2,Conferência!$M$2,\"\")","v":""},{"$f":"IF(Jogo!N474=Conferência!$N$2,Conferência!$N$2,\"\")","v":""},{"$f":"IF(Jogo!O474=Conferência!$O$2,Conferência!$O$2,\"\")","v":""},{"$f":"IF(Jogo!P474=Conferência!$P$2,Conferência!$P$2,\"\")","v":""},{"$f":"IF(Jogo!Q474=Conferência!$Q$2,Conferência!$Q$2,\"\")","v":""},""]
[{"$f":"IF(Jogo!A475=Conferência!$A$2,Conferência!$A$2,\"\")","v":""},{"$f":"IF(Jogo!B475=Conferência!$B$2,Conferência!$B$2,\"\")","v":"QUARTA-FEIRA"},{"$f":"IF(Jogo!C475=Conferência!$C$2,Conferência!$C$2,\"\")","v":1},{"$f":"IF(Jogo!D475=Conferência!$D$2,Conferência!$D$2,\"\")","v":3},{"$f":"IF(Jogo!E475=Conferência!$E$2,Conferência!$E$2,\"\")","v":4},{"$f":"IF(Jogo!F475=Conferência!$F$2,Conferência!$F$2,\"\")","v":6},{"$f":"IF(Jogo!G475=Conferência!$G$2,Conferência!$G$2,\"\")","v":7},{"$f":"IF(Jogo!H475=Conferência!$H$2,Conferência!$H$2,\"\")","v":9},{"$f":"IF(Jogo!I475=Conferência!$I$2,Conferência!$I$2,\"\")","v":10},{"$f":"IF(Jogo!J475=Conferência!$J$2,Conferência!$J$2,\"\")","v":11},{"$f":"IF(Jogo!K475=Conferência!$K$2,Conferência!$K$2,\"\")","v":12},{"$f":"IF(Jogo!L475=Conferência!$L$2,Conferência!$L$2,\"\")","v":""},{"$f":"IF(Jogo!M475=Conferência!$M$2,Conferência!$M$2,\"\")","v":""},{"$f":"IF(Jogo!N475=Conferência!$N$2,Conferência!$N$2,\"\")","v":""},{"$f":"IF(Jogo!O475=Conferência!$O$2,Conferência!$O$2,\"\")","v":""},{"$f":"IF(Jogo!P475=Conferência!$P$2,Conferência!$P$2,\"\")","v":""},{"$f":"IF(Jogo!Q475=Conferência!$Q$2,Conferência!$Q$2,\"\")","v":""},""]
[{"$f":"IF(Jogo!A476=Conferência!$A$2,Conferência!$A$2,\"\")","v":""},{"$f":"IF(Jogo!B476=Conferência!$B$2,Conferência!$B$2,\"\")","v":"QUARTA-FEIRA"},{"$f":"IF(Jogo!C476=Conferência!$C$2,Conferência!$C$2,\"\")","v":1},{"$f":"IF(Jogo!D476=Conferência!$D$2,Conferência!$D$2,\"\")","v":""},{"$f":"IF(Jogo!E476=Conferência!$E$2,Conferência!$E$2,\"\")","v":4},{"$f":"IF(Jogo!F476=Conferência!$F$2,Conferência!$F$2,\"\")","v":""},{"$f":"IF(Jogo!G476=Conferência!$G$2,Conferência!$G$2,\"\")","v":""},{"$f":"IF(Jogo!H476=Conferência!$H$2,Conferência!$H$2,\"\")","v":9},{"$f":"IF(Jogo!I476=Conferência!$I$2,Conferência!$I$2,\"\")","v":""},{"$f":"IF(Jogo!J476=Conferência!$J$2,Conferência!$J$2,\"\")","v":""},{"$f":"IF(Jogo!K476=Conferência!$K$2,Conferência!$K$2,\"\")","v":""},{"$f":"IF(Jogo!L476=Conferência!$L$2,Conferência!$L$2,\"\")","v":""},{"$f":"IF(Jogo!M476=Conferência!$M$2,Conferência!$M$2,\"\")","v":""},{"$f":"IF(Jogo!N476=Conferência!$N$2,Conferência!$N$2,\"\")","v":""},{"$f":"IF(Jogo!O476=Conferência!$O$2,Conferência!$O$2,\"\")","v":""},{"$f":"IF(Jogo!P476=Conferência!$P$2,Conferência!$P$2,\"\")","v":""},{"$f":"IF(Jogo!Q476=Conferência!$Q$2,Conferência!$Q$2,\"\")","v":""},""]
[{"$f":"IF(Jogo!A477=Conferência!$A$2,Conferência!$A$2,\"\")","v":""},{"$f":"IF(Jogo!B477=Conferência!$B$2,Conferência!$B$2,\"\")","v":"QUARTA-FEIRA"},{"$f":"IF(Jogo!C477=Conferência!$C$2,Conferência!$C$2,\"\")","v":1},{"$f":"IF(Jogo!D477=Conferência!$D$2,Conferência!$D$2,\"\")","v":3},{"$f":"IF(Jogo!E477=Conferência!$E$2,Conferência!$E$2,\"\")","v":""},{"$f":"IF(Jogo!F477=Conferência!$F$2,Conferência!$F$2,\"\")","v":""},{"$f":"IF(Jogo!G477=Conferência!$G$2,Conferência!$G$2,\"\")","v":""},{"$f":"IF(Jogo!H477=Conferência!$H$2,Conferência!$H$2,\"\")","v":9},{"$f":"IF(Jogo!I477=Conferência!$I$2,Conferência!$I$2,\"\")","v":""},{"$f":"IF(Jogo!J477=Conferência!$J$2,Conferência!$J$2,\"\")","v":""},{"$f":"IF(Jogo!K477=Conferência!$K$2,Conferência!$K$2,\"\")","v":""},{"$f":"IF(Jogo!L477=Conferência!$L$2,Conferência!$L$2,\"\")","v":""},{"$f":"IF(Jogo!M477=Conferência!$M$2,Conferência!$M$2,\"\")","v":""},{"$f":"IF(Jogo!N477=Conferência!$N$2,Conferência!$N$2,\"\")","v":""},{"$f":"IF(Jogo!O477=Conferência!$O$2,Conferência!$O$2,\"\")","v":""},{"$f":"IF(Jogo!P477=Conferência!$P$2,Conferência!$P$2,\"\")","v":23},{"$f":"IF(Jogo!Q477=Conferência!$Q$2,Conferência!$Q$2,\"\")","v":""},""]
[{"$f":"IF(Jogo!A478=Conferência!$A$2,Conferência!$A$2,\"\")","v":""},{"$f":"IF(Jogo!B478=Conferência!$B$2,Conferência!$B$2,\"\")","v":"QUARTA-FEIRA"},{"$f":"IF(Jogo!C478=Conferência!$C$2,Conferência!$C$2,\"\")","v":1},{"$f":"IF(Jogo!D478=Conferência!$D$2,Conferência!$D$2,\"\")","v":""},{"$f":"IF(Jogo!E478=Conferência!$E$2,Conferência!$E$2,\"\")","v":""},{"$f":"IF(Jogo!F478=Conferência!$F$2,Conferência!$F$2,\"\")","v":""},{"$f":"IF(Jogo!G478=Conferência!$G$2,Conferência!$G$2,\"\")","v":""},{"$f":"IF(Jogo!H478=Conferência!$H$2,Conferência!$H$2,\"\")","v":""},{"$f":"IF(Jogo!I478=Conferência!$I$2,Conferência!$I$2,\"\")","v":""},{"$f":"IF(Jogo!J478=Conferência!$J$2,Conferência!$J$2,\"\")","v":""},{"$f":"IF(Jogo!K478=Conferência!$K$2,Conferência!$K$2,\"\")","v":""},{"$f":"IF(Jogo!L478=Conferência!$L$2,Conferência!$L$2,\"\")","v":""},{"$f":"IF(Jogo!M478=Conferência!$M$2,Conferência!$M$2,\"\")","v":""},{"$f":"IF(Jogo!N478=Conferência!$N$2,Conferência!$N$2,\"\")","v":""},{"$f":"IF(Jogo!O478=Conferência!$O$2,Conferência!$O$2,\"\")","v":""},{"$f":"IF(Jogo!P478=Conferência!$P$2,Conferência!$P$2,\"\")","v":""},{"$f":"IF(Jogo!Q478=Conferência!$Q$2,Conferência!$Q$2,\"\")","v":""},""]
[{"$f":"IF(Jogo!A479=Conferência!$A$2,Conferência!$A$2,\"\")","v":""},{"$f":"IF(Jogo!B479=Conferência!$B$2,Conferência!$B$2,\"\")","v":"QUARTA-FEIRA"},{"$f":"IF(Jogo!C479=Conferência!$C$2,Conferência!$C$2,\"\")","v":1},{"$f":"IF(Jogo!D479=Conferência!$D$2,Conferência!$D$2,\"\")","v":3},{"$f":"IF(Jogo!E479=Conferência!$E$2,Conferência!$E$2,\"\")","v":4},{"$f":"IF(Jogo!F479=Conferência!$F$2,Conferência!$F$2,\"\")","v":""},{"$f":"IF(Jogo!G479=Conferência!$G$2,Conferência!$G$2,\"\")","v":""},{"$f":"IF(Jogo!H479=Conferência!$H$2,Conferência!$H$2,\"\")","v":""},{"$f":"IF(Jogo!I479=Conferência!$I$2,Conferência!$I$2,\"\")","v":""},{"$f":"IF(Jogo!J479=Conferência!$J$2,Conferência!$J$2,\"\")","v":""},{"$f":"IF(Jogo!K479=Conferência!$K$2,Conferência!$K$2,\"\")","v":""},{"$f":"IF(Jogo!L479=Conferência!$L$2,Conferência!$L$2,\"\")","v":""},{"$f":"IF(Jogo!M479=Conferência!$M$2,Conferência!$M$2,\"\")","v":""},{"$f":"IF(Jogo!N479=Conferência!$N$2,Conferência!$N$2,\"\")","v":""},{"$f":"IF(Jogo!O479=Conferência!$O$2,Conferência!$O$2,\"\")","v":""},{"$f":"IF(Jogo!P479=Conferência!$P$2,Conferência!$P$2,\"\")","v":""},{"$f":"IF(Jogo!Q479=Conferência!$Q$2,Conferência!$Q$2,\"\")","v":""},""]
[{"$f":"IF(Jogo!A480=Conferência!$A$2,Conferência!$A$2,\"\")","v":""},{"$f":"IF(Jogo!B480=Conferência!$B$2,Conferência!$B$2,\"\")","v":"QUARTA-FEIRA"},{"$f":"IF(Jogo!C480=Conferência!$C$2,Conferência!$C$2,\"\")","v":1},{"$f":"IF(Jogo!D480=Conferência!$D$2,Conferência!$D$2,\"\")","v":""},{"$f":"IF(Jogo!E480=Conferência!$E$2,Conferência!$E$2,\"\")","v":""},{"$f":"IF(Jogo!F480=Conferência!$F$2,Conferência!$F$2,\"\")","v":""},{"$f":"IF(Jogo!G480=Conferência!$G$2,Conferência!$G$2,\"\")","v":""},{"$f":"IF(Jogo!H480=Conferência!$H$2,Conferência!$H$2,\"\")","v":""},{"$f":"IF(Jogo!I480=Conferência!$I$2,Conferência!$I$2,\"\")","v":""},{"$f":"IF(Jogo!J480=Conferência!$J$2,Conferência!$J$2,\"\")","v":""},{"$f":"IF(Jogo!K480=Conferência!$K$2,Conferência!$K$2,\"\")","v":""},{"$f":"IF(Jogo!L480=Conferência!$L$2,Conferência!$L$2,\"\")","v":""},{"$f":"IF(Jogo!M480=Conferência!$M$2,Conferência!$M$2,\"\")","v":""},{"$f":"IF(Jogo!N480=Conferência!$N$2,Conferência!$N$2,\"\")","v":""},{"$f":"IF(Jogo!O480=Conferência!$O$2,Conferência!$O$2,\"\")","v":""},{"$f":"IF(Jogo!P480=Conferência!$P$2,Conferência!$P$2,\"\")","v":23},{"$f":"IF(Jogo!Q480=Conferência!$Q$2,Conferência!$Q$2,\"\")","v":""},""]
[{"$f":"IF(Jogo!A481=Conferência!$A$2,Conferência!$A$2,\"\")","v":""},{"$f":"IF(Jogo!B481=Conferência!$B$2,Conferência!$B$2,\"\")","v":"QUARTA-FEIRA"},{"$f":"IF(Jogo!C481=Conferência!$C$2,Conferência!$C$2,\"\")","v":1},{"$f":"IF(Jogo!D481=Conferência!$D$2,Conferência!$D$2,\"\")","v":""},{"$f":"IF(Jogo!E481=Conferência!$E$2,Conferência!$E$2,\"\")","v":""},{"$f":"IF(Jogo!F481=Conferência!$F$2,Conferência!$F$2,\"\")","v":""},{"$f":"IF(Jogo!G481=Conferência!$G$2,Conferência!$G$2,\"\")","v":""},{"$f":"IF(Jogo!H481=Conferência!$H$2,Conferência!$H$2,\"\")","v":""},{"$f":"IF(Jogo!I481=Conferência!$I$2,Conferência!$I$2,\"\")","v":""},{"$f":"IF(Jogo!J481=Conferência!$J$2,Conferência!$J$2,\"\")","v":""},{"$f":"IF(Jogo!K481=Conferência!$K$2,Conferência!$K$2,\"\")","v":""},{"$f":"IF(Jogo!L481=Conferência!$L$2,Conferência!$L$2,\"\")","v":""},{"$f":"IF(Jogo!M481=Conferência!$M$2,Conferência!$M$2,\"\")","v":""},{"$f":"IF(Jogo!N481=Conferência!$N$2,Conferência!$N$2,\"\")","v":""},{"$f":"IF(Jogo!O481=Conferência!$O$2,Conferência!$O$2,\"\")","v":""},{"$f":"IF(Jogo!P481=Conferência!$P$2,Conferência!$P$2,\"\")","v":""},{"$f":"IF(Jogo!Q481=Conferência!$Q$2,Conferência!$Q$2,\"\")","v":""},""]
[{"$f":"IF(Jogo!A482=Conferência!$A$2,Conferência!$A$2,\"\")","v":""},{"$f":"IF(Jogo!B482=Conferência!$B$2,Conferência!$B$2,\"\")","v":"QUARTA-FEIRA"},{"$f":"IF(Jogo!C482=Conferência!$C$2,Conferência!$C$2,\"\")","v":1},{"$f":"IF(Jogo!D482=Conferência!$D$2,Conferência!$D$2,\"\")","v":3},{"$f":"IF(Jogo!E482=Conferência!$E$2,Conferência!$E$2,\"\")","v":4},{"$f":"IF(Jogo!F482=Conferência!$F$2,Conferência!$F$2,\"\")","v":""},{"$f":"IF(Jogo!G482=Conferência!$G$2,Conferência!$G$2,\"\")","v":""},{"$f":"IF(Jogo!H482=Conferência!$H$2,Conferência!$H$2,\"\")","v":""},{"$f":"IF(Jogo!I482=Conferência!$I$2,Conferência!$I$2,\"\")","v":""},{"$f":"IF(Jogo!J482=Conferência!$J$2,Conferência!$J$2,\"\")","v":""},{"$f":"IF(Jogo!K482=Conferência!$K$2,Conferência!$K$2,\"\")","v":""},{"$f":"IF(Jogo!L482=Conferência!$L$2,Conferência!$L$2,\"\")","v":""},{"$f":"IF(Jogo!M482=Conferência!$M$2,Conferência!$M$2,\"\")","v":""},{"$f":"IF(Jogo!N482=Conferência!$N$2,Conferência!$N$2,\"\")","v":""},{"$f":"IF(Jogo!O482=Conferência!$O$2,Conferência!$O$2,\"\")","v":19},{"$f":"IF(Jogo!P482=Conferência!$P$2,Conferência!$P$2,\"\")","v":""},{"$f":"IF(Jogo!Q482=Conferência!$Q$2,Conferência!$Q$2,\"\")","v":24},""]
[{"$f":"IF(Jogo!A483=Conferência!$A$2,Conferência!$A$2,\"\")","v":""},{"$f":"IF(Jogo!B483=Conferência!$B$2,Conferência!$B$2,\"\")","v":"QUARTA-FEIRA"},{"$f":"IF(Jogo!C483=Conferência!$C$2,Conferência!$C$2,\"\")","v":""},{"$f":"IF(Jogo!D483=Conferência!$D$2,Conferência!$D$2,\"\")","v":""},{"$f":"IF(Jogo!E483=Conferência!$E$2,Conferência!$E$2,\"\")","v":""},{"$f":"IF(Jogo!F483=Conferência!$F$2,Conferência!$F$2,\"\")","v":""},{"$f":"IF(Jogo!G483=Conferência!$G$2,Conferência!$G$2,\"\")","v":""},{"$f":"IF(Jogo!H483=Conferência!$H$2,Conferência!$H$2,\"\")","v":""},{"$f":"IF(Jogo!I483=Conferência!$I$2,Conferência!$I$2,\"\")","v":""},{"$f":"IF(Jogo!J483=Conferência!$J$2,Conferência!$J$2,\"\")","v":""},{"$f":"IF(Jogo!K483=Conferência!$K$2,Conferência!$K$2,\"\")","v":""},{"$f":"IF(Jogo!L483=Conferência!$L$2,Conferência!$L$2,\"\")","v":""},{"$f":"IF(Jogo!M483=Conferência!$M$2,Conferência!$M$2,\"\")","v":""},{"$f":"IF(Jogo!N483=Conferência!$N$2,Conferência!$N$2,\"\")","v":""},{"$f":"IF(Jogo!O483=Conferência!$O$2,Conferência!$O$2,\"\")","v":""},{"$f":"IF(Jogo!P483=Conferência!$P$2,Conferência!$P$2,\"\")","v":""},{"$f":"IF(Jogo!Q483=Conferência!$Q$2,Conferência!$Q$2,\"\")","v":""},""]
[{"$f":"IF(Jogo!A484=Conferência!$A$2,Conferência!$A$2,\"\")","v":""},{"$f":"IF(Jogo!B484=Conferência!$B$2,Conferência!$B$2,\"\")","v":"QUARTA-FEIRA"},{"$f":"IF(Jogo!C484=Conferência!$C$2,Conferência!$C$2,\"\")","v":""},{"$f":"IF(Jogo!D484=Conferência!$D$2,Conferência!$D$2,\"\")","v":3},{"$f":"IF(Jogo!E484=Conferência!$E$2,Conferência!$E$2,\"\")","v":""},{"$f":"IF(Jogo!F484=Conferência!$F$2,Conferência!$F$2,\"\")","v":""},{"$f":"IF(Jogo!G484=Conferência!$G$2,Conferência!$G$2,\"\")","v":""},{"$f":"IF(Jogo!H484=Conferência!$H$2,Conferência!$H$2,\"\")","v":""},{"$f":"IF(Jogo!I484=Conferência!$I$2,Conferência!$I$2,\"\")","v":""},{"$f":"IF(Jogo!J484=Conferência!$J$2,Conferência!$J$2,\"\")","v":""},{"$f":"IF(Jogo!K484=Conferência!$K$2,Conferência!$K$2,\"\")","v":""},{"$f":"IF(Jogo!L484=Conferência!$L$2,Conferência!$L$2,\"\")","v":""},{"$f":"IF(Jogo!M484=Conferência!$M$2,Conferência!$M$2,\"\")","v":15},{"$f":"IF(Jogo!N484=Conferência!$N$2,Conferência!$N$2,\"\")","v":""},{"$f":"IF(Jogo!O484=Conferência!$O$2,Conferência!$O$2,\"\")","v":""},{"$f":"IF(Jogo!P484=Conferência!$P$2,Conferência!$P$2,\"\")","v":""},{"$f":"IF(Jogo!Q484=Conferência!$Q$2,Conferência!$Q$2,\"\")","v":""},""]
[{"$f":"IF(Jogo!A485=Conferência!$A$2,Conferência!$A$2,\"\")","v":""},{"$f":"IF(Jogo!B485=Conferência!$B$2,Conferência!$B$2,\"\")","v":"QUARTA-FEIRA"},{"$f":"IF(Jogo!C485=Conferência!$C$2,Conferência!$C$2,\"\")","v":1},{"$f":"IF(Jogo!D485=Conferência!$D$2,Conferência!$D$2,\"\")","v":3},{"$f":"IF(Jogo!E485=Conferência!$E$2,Conferência!$E$2,\"\")","v":""},{"$f":"IF(Jogo!F485=Conferência!$F$2,Conferência!$F$2,\"\")","v":""},{"$f":"IF(Jogo!G485=Conferência!$G$2,Conferência!$G$2,\"\")","v":""},{"$f":"IF(Jogo!H485=Conferência!$H$2,Conferência!$H$2,\"\")","v":""},{"$f":"IF(Jogo!I485=Conferência!$I$2,Conferência!$I$2,\"\")","v":""},{"$f":"IF(Jogo!J485=Conferência!$J$2,Conferência!$J$2,\"\")","v":""},{"$f":"IF(Jogo!K485=Conferência!$K$2,Conferência!$K$2,\"\")","v":""},{"$f":"IF(Jogo!L485=Conferência!$L$2,Conferência!$L$2,\"\")","v":""},{"$f":"IF(Jogo!M485=Conferência!$M$2,Conferência!$M$2,\"\")","v":""},{"$f":"IF(Jogo!N485=Conferência!$N$2,Conferência!$N$2,\"\")","v":""},{"$f":"IF(Jogo!O485=Conferência!$O$2,Conferência!$O$2,\"\")","v":""},{"$f":"IF(Jogo!P485=Conferência!$P$2,Conferência!$P$2,\"\")","v":23},{"$f":"IF(Jogo!Q485=Conferência!$Q$2,Conferência!$Q$2,\"\")","v":""},""]
[{"$f":"IF(Jogo!A486=Conferência!$A$2,Conferência!$A$2,\"\")","v":""},{"$f":"IF(Jogo!B486=Conferência!$B$2,Conferência!$B$2,\"\")","v":"QUARTA-FEIRA"},{"$f":"IF(Jogo!C486=Conferência!$C$2,Conferência!$C$2,\"\")","v":1},{"$f":"IF(Jogo!D486=Conferência!$D$2,Conferência!$D$2,\"\")","v":3},{"$f":"IF(Jogo!E486=Conferência!$E$2,Conferência!$E$2,\"\")","v":""},{"$f":"IF(Jogo!F486=Conferência!$F$2,Conferência!$F$2,\"\")","v":6},{"$f":"IF(Jogo!G486=Conferência!$G$2,Conferência!$G$2,\"\")","v":7},{"$f":"IF(Jogo!H486=Conferência!$H$2,Conferência!$H$2,\"\")","v":9},{"$f":"IF(Jogo!I486=Conferência!$I$2,Conferência!$I$2,\"\")","v":10},{"$f":"IF(Jogo!J486=Conferência!$J$2,Conferência!$J$2,\"\")","v":11},{"$f":"IF(Jogo!K486=Conferência!$K$2,Conferência!$K$2,\"\")","v":""},{"$f":"IF(Jogo!L486=Conferência!$L$2,Conferência!$L$2,\"\")","v":""},{"$f":"IF(Jogo!M486=Conferência!$M$2,Conferência!$M$2,\"\")","v":15},{"$f":"IF(Jogo!N486=Conferência!$N$2,Conferência!$N$2,\"\")","v":""},{"$f":"IF(Jogo!O486=Conferência!$O$2,Conferência!$O$2,\"\")","v":""},{"$f":"IF(Jogo!P486=Conferência!$P$2,Conferência!$P$2,\"\")","v":""},{"$f":"IF(Jogo!Q486=Conferência!$Q$2,Conferência!$Q$2,\"\")","v":24},""]
[{"$f":"IF(Jogo!A487=Conferência!$A$2,Conferência!$A$2,\"\")","v":""},{"$f":"IF(Jogo!B487=Conferência!$B$2,Conferência!$B$2,\"\")","v":"QUARTA-FEIRA"},{"$f":"IF(Jogo!C487=Conferência!$C$2,Conferência!$C$2,\"\")","v":""},{"$f":"IF(Jogo!D487=Conferência!$D$2,Conferência!$D$2,\"\")","v":3},{"$f":"IF(Jogo!E487=Conferência!$E$2,Conferência!$E$2,\"\")","v":""},{"$f":"IF(Jogo!F487=Conferência!$F$2,Conferência!$F$2,\"\")","v":""},{"$f":"IF(Jogo!G487=Conferência!$G$2,Conferência!$G$2,\"\")","v":""},{"$f":"IF(Jogo!H487=Conferência!$H$2,Conferência!$H$2,\"\")","v":""},{"$f":"IF(Jogo!I487=Conferência!$I$2,Conferência!$I$2,\"\")","v":""},{"$f":"IF(Jogo!J487=Conferência!$J$2,Conferência!$J$2,\"\")","v":""},{"$f":"IF(Jogo!K487=Conferência!$K$2,Conferência!$K$2,\"\")","v":""},{"$f":"IF(Jogo!L487=Conferência!$L$2,Conferência!$L$2,\"\")","v":""},{"$f":"IF(Jogo!M487=Conferência!$M$2,Conferência!$M$2,\"\")","v":""},{"$f":"IF(Jogo!N487=Conferência!$N$2,Conferência!$N$2,\"\")","v":""},{"$f":"IF(Jogo!O487=Conferência!$O$2,Conferência!$O$2,\"\")","v":""},{"$f":"IF(Jogo!P487=Conferência!$P$2,Conferência!$P$2,\"\")","v":23},{"$f":"IF(Jogo!Q487=Conferência!$Q$2,Conferência!$Q$2,\"\")","v":24},""]
[{"$f":"IF(Jogo!A488=Conferência!$A$2,Conferência!$A$2,\"\")","v":""},{"$f":"IF(Jogo!B488=Conferência!$B$2,Conferência!$B$2,\"\")","v":"QUARTA-FEIRA"},{"$f":"IF(Jogo!C488=Conferência!$C$2,Conferência!$C$2,\"\")","v":1},{"$f":"IF(Jogo!D488=Conferência!$D$2,Conferência!$D$2,\"\")","v":""},{"$f":"IF(Jogo!E488=Conferência!$E$2,Conferência!$E$2,\"\")","v":""},{"$f":"IF(Jogo!F488=Conferência!$F$2,Conferência!$F$2,\"\")","v":6},{"$f":"IF(Jogo!G488=Conferência!$G$2,Conferência!$G$2,\"\")","v":""},{"$f":"IF(Jogo!H488=Conferência!$H$2,Conferência!$H$2,\"\")","v":""},{"$f":"IF(Jogo!I488=Conferência!$I$2,Conferência!$I$2,\"\")","v":""},{"$f":"IF(Jogo!J488=Conferência!$J$2,Conferência!$J$2,\"\")","v":""},{"$f":"IF(Jogo!K488=Conferência!$K$2,Conferência!$K$2,\"\")","v":""},{"$f":"IF(Jogo!L488=Conferência!$L$2,Conferência!$L$2,\"\")","v":""},{"$f":"IF(Jogo!M488=Conferência!$M$2,Conferência!$M$2,\"\")","v":""},{"$f":"IF(Jogo!N488=Conferência!$N$2,Conferência!$N$2,\"\")","v":""},{"$f":"IF(Jogo!O488=Conferência!$O$2,Conferência!$O$2,\"\")","v":""},{"$f":"IF(Jogo!P488=Conferência!$P$2,Conferência!$P$2,\"\")","v":""},{"$f":"IF(Jogo!Q488=Conferência!$Q$2,Conferência!$Q$2,\"\")","v":""},""]
[{"$f":"IF(Jogo!A489=Conferência!$A$2,Conferência!$A$2,\"\")","v":""},{"$f":"IF(Jogo!B489=Conferência!$B$2,Conferência!$B$2,\"\")","v":"QUARTA-FEIRA"},{"$f":"IF(Jogo!C489=Conferência!$C$2,Conferência!$C$2,\"\")","v":""},{"$f":"IF(Jogo!D489=Conferência!$D$2,Conferência!$D$2,\"\")","v":3},{"$f":"IF(Jogo!E489=Conferência!$E$2,Conferência!$E$2,\"\")","v":4},{"$f":"IF(Jogo!F489=Conferência!$F$2,Conferência!$F$2,\"\")","v":""},{"$f":"IF(Jogo!G489=Conferência!$G$2,Conferência!$G$2,\"\")","v":""},{"$f":"IF(Jogo!H489=Conferência!$H$2,Conferência!$H$2,\"\")","v":9},{"$f":"IF(Jogo!I489=Conferência!$I$2,Conferência!$I$2,\"\")","v":10},{"$f":"IF(Jogo!J489=Conferência!$J$2,Conferência!$J$2,\"\")","v":""},{"$f":"IF(Jogo!K489=Conferência!$K$2,Conferência!$K$2,\"\")","v":""},{"$f":"IF(Jogo!L489=Conferência!$L$2,Conferência!$L$2,\"\")","v":""},{"$f":"IF(Jogo!M489=Conferência!$M$2,Conferência!$M$2,\"\")","v":15},{"$f":"IF(Jogo!N489=Conferência!$N$2,Conferência!$N$2,\"\")","v":""},{"$f":"IF(Jogo!O489=Conferência!$O$2,Conferência!$O$2,\"\")","v":""},{"$f":"IF(Jogo!P489=Conferência!$P$2,Conferência!$P$2,\"\")","v":23},{"$f":"IF(Jogo!Q489=Conferência!$Q$2,Conferência!$Q$2,\"\")","v":""},""]
[{"$f":"IF(Jogo!A490=Conferência!$A$2,Conferência!$A$2,\"\")","v":""},{"$f":"IF(Jogo!B490=Conferência!$B$2,Conferência!$B$2,\"\")","v":"QUARTA-FEIRA"},{"$f":"IF(Jogo!C490=Conferência!$C$2,Conferência!$C$2,\"\")","v":1},{"$f":"IF(Jogo!D490=Conferência!$D$2,Conferência!$D$2,\"\")","v":""},{"$f":"IF(Jogo!E490=Conferência!$E$2,Conferência!$E$2,\"\")","v":""},{"$f":"IF(Jogo!F490=Conferência!$F$2,Conferência!$F$2,\"\")","v":""},{"$f":"IF(Jogo!G490=Conferência!$G$2,Conferência!$G$2,\"\")","v":""},{"$f":"IF(Jogo!H490=Conferência!$H$2,Conferência!$H$2,\"\")","v":""},{"$f":"IF(Jogo!I490=Conferência!$I$2,Conferência!$I$2,\"\")","v":10},{"$f":"IF(Jogo!J490=Conferência!$J$2,Conferência!$J$2,\"\")","v":11},{"$f":"IF(Jogo!K490=Conferência!$K$2,Conferência!$K$2,\"\")","v":12},{"$f":"IF(Jogo!L490=Conferência!$L$2,Conferência!$L$2,\"\")","v":""},{"$f":"IF(Jogo!M490=Conferência!$M$2,Conferência!$M$2,\"\")","v":15},{"$f":"IF(Jogo!N490=Conferência!$N$2,Conferência!$N$2,\"\")","v":""},{"$f":"IF(Jogo!O490=Conferência!$O$2,Conferência!$O$2,\"\")","v":""},{"$f":"IF(Jogo!P490=Conferência!$P$2,Conferência!$P$2,\"\")","v":""},{"$f":"IF(Jogo!Q490=Conferência!$Q$2,Conferência!$Q$2,\"\")","v":""},""]
[{"$f":"IF(Jogo!A491=Conferência!$A$2,Conferência!$A$2,\"\")","v":""},{"$f":"IF(Jogo!B491=Conferência!$B$2,Conferência!$B$2,\"\")","v":"QUARTA-FEIRA"},{"$f":"IF(Jogo!C491=Conferência!$C$2,Conferência!$C$2,\"\")","v":1},{"$f":"IF(Jogo!D491=Conferência!$D$2,Conferência!$D$2,\"\")","v":""},{"$f":"IF(Jogo!E491=Conferência!$E$2,Conferência!$E$2,\"\")","v":""},{"$f":"IF(Jogo!F491=Conferência!$F$2,Conferência!$F$2,\"\")","v":6},{"$f":"IF(Jogo!G491=Conferência!$G$2,Conferência!$G$2,\"\")","v":7},{"$f":"IF(Jogo!H491=Conferência!$H$2,Conferência!$H$2,\"\")","v":""},{"$f":"IF(Jogo!I491=Conferência!$I$2,Conferência!$I$2,\"\")","v":""},{"$f":"IF(Jogo!J491=Conferência!$J$2,Conferência!$J$2,\"\")","v":""},{"$f":"IF(Jogo!K491=Conferência!$K$2,Conferência!$K$2,\"\")","v":12},{"$f":"IF(Jogo!L491=Conferência!$L$2,Conferência!$L$2,\"\")","v":""},{"$f":"IF(Jogo!M491=Conferência!$M$2,Conferência!$M$2,\"\")","v":""},{"$f":"IF(Jogo!N491=Conferência!$N$2,Conferência!$N$2,\"\")","v":""},{"$f":"IF(Jogo!O491=Conferência!$O$2,Conferência!$O$2,\"\")","v":""},{"$f":"IF(Jogo!P491=Conferência!$P$2,Conferência!$P$2,\"\")","v":""},{"$f":"IF(Jogo!Q491=Conferência!$Q$2,Conferência!$Q$2,\"\")","v":""},""]
[{"$f":"IF(Jogo!A492=Conferência!$A$2,Conferência!$A$2,\"\")","v":""},{"$f":"IF(Jogo!B492=Conferência!$B$2,Conferência!$B$2,\"\")","v":"QUARTA-FEIRA"},{"$f":"IF(Jogo!C492=Conferência!$C$2,Conferência!$C$2,\"\")","v":""},{"$f":"IF(Jogo!D492=Conferência!$D$2,Conferência!$D$2,\"\")","v":""},{"$f":"IF(Jogo!E492=Conferência!$E$2,Conferência!$E$2,\"\")","v":""},{"$f":"IF(Jogo!F492=Conferência!$F$2,Conferência!$F$2,\"\")","v":6},{"$f":"IF(Jogo!G492=Conferência!$G$2,Conferência!$G$2,\"\")","v":7},{"$f":"IF(Jogo!H492=Conferência!$H$2,Conferência!$H$2,\"\")","v":""},{"$f":"IF(Jogo!I492=Conferência!$I$2,Conferência!$I$2,\"\")","v":""},{"$f":"IF(Jogo!J492=Conferência!$J$2,Conferência!$J$2,\"\")","v":""},{"$f":"IF(Jogo!K492=Conferência!$K$2,Conferência!$K$2,\"\")","v":""},{"$f":"IF(Jogo!L492=Conferência!$L$2,Conferência!$L$2,\"\")","v":13},{"$f":"IF(Jogo!M492=Conferência!$M$2,Conferência!$M$2,\"\")","v":""},{"$f":"IF(Jogo!N492=Conferência!$N$2,Conferência!$N$2,\"\")","v":""},{"$f":"IF(Jogo!O492=Conferência!$O$2,Conferência!$O$2,\"\")","v":19},{"$f":"IF(Jogo!P492=Conferência!$P$2,Conferência!$P$2,\"\")","v":""},{"$f":"IF(Jogo!Q492=Conferência!$Q$2,Conferência!$Q$2,\"\")","v":24},""]
[{"$f":"IF(Jogo!A493=Conferência!$A$2,Conferência!$A$2,\"\")","v":""},{"$f":"IF(Jogo!B493=Conferência!$B$2,Conferência!$B$2,\"\")","v":"QUARTA-FEIRA"},{"$f":"IF(Jogo!C493=Conferência!$C$2,Conferência!$C$2,\"\")","v":""},{"$f":"IF(Jogo!D493=Conferência!$D$2,Conferência!$D$2,\"\")","v":""},{"$f":"IF(Jogo!E493=Conferência!$E$2,Conferência!$E$2,\"\")","v":""},{"$f":"IF(Jogo!F493=Conferência!$F$2,Conferência!$F$2,\"\")","v":""},{"$f":"IF(Jogo!G493=Conferência!$G$2,Conferência!$G$2,\"\")","v":""},{"$f":"IF(Jogo!H493=Conferência!$H$2,Conferência!$H$2,\"\")","v":""},{"$f":"IF(Jogo!I493=Conferência!$I$2,Conferência!$I$2,\"\")","v":""},{"$f":"IF(Jogo!J493=Conferência!$J$2,Conferência!$J$2,\"\")","v":""},{"$f":"IF(Jogo!K493=Conferência!$K$2,Conferência!$K$2,\"\")","v":""},{"$f":"IF(Jogo!L493=Conferência!$L$2,Conferência!$L$2,\"\")","v":""},{"$f":"IF(Jogo!M493=Conferência!$M$2,Conferência!$M$2,\"\")","v":""},{"$f":"IF(Jogo!N493=Conferência!$N$2,Conferência!$N$2,\"\")","v":""},{"$f":"IF(Jogo!O493=Conferência!$O$2,Conferência!$O$2,\"\")","v":""},{"$f":"IF(Jogo!P493=Conferência!$P$2,Conferência!$P$2,\"\")","v":""},{"$f":"IF(Jogo!Q493=Conferência!$Q$2,Conferência!$Q$2,\"\")","v":""},""]
[{"$f":"IF(Jogo!A494=Conferência!$A$2,Conferência!$A$2,\"\")","v":""},{"$f":"IF(Jogo!B494=Conferência!$B$2,Conferência!$B$2,\"\")","v":""},{"$f":"IF(Jogo!C494=Conferência!$C$2,Conferência!$C$2,\"\")","v":""},{"$f":"IF(Jogo!D494=Conferência!$D$2,Conferência!$D$2,\"\")","v":""},{"$f":"IF(Jogo!E494=Conferência!$E$2,Conferência!$E$2,\"\")","v":""},{"$f":"IF(Jogo!F494=Conferência!$F$2,Conferência!$F$2,\"\")","v":""},{"$f":"IF(Jogo!G494=Conferência!$G$2,Conferência!$G$2,\"\")","v":""},{"$f":"IF(Jogo!H494=Conferência!$H$2,Conferência!$H$2,\"\")","v":""},{"$f":"IF(Jogo!I494=Conferência!$I$2,Conferência!$I$2,\"\")","v":""},{"$f":"IF(Jogo!J494=Conferência!$J$2,Conferência!$J$2,\"\")","v":""},{"$f":"IF(Jogo!K494=Conferência!$K$2,Conferência!$K$2,\"\")","v":""},{"$f":"IF(Jogo!L494=Conferência!$L$2,Conferência!$L$2,\"\")","v":""},{"$f":"IF(Jogo!M494=Conferência!$M$2,Conferência!$M$2,\"\")","v":""},{"$f":"IF(Jogo!N494=Conferência!$N$2,Conferência!$N$2,\"\")","v":""},{"$f":"IF(Jogo!O494=Conferência!$O$2,Conferência!$O$2,\"\")","v":""},{"$f":"IF(Jogo!P494=Conferência!$P$2,Conferência!$P$2,\"\")","v":""},{"$f":"IF(Jogo!Q494=Conferência!$Q$2,Conferência!$Q$2,\"\")","v":""},""]
[{"$f":"IF(Jogo!A495=Conferência!$A$2,Conferência!$A$2,\"\")","v":""},{"$f":"IF(Jogo!B495=Conferência!$B$2,Conferência!$B$2,\"\")","v":""},{"$f":"IF(Jogo!C495=Conferência!$C$2,Conferência!$C$2,\"\")","v":""},{"$f":"IF(Jogo!D495=Conferência!$D$2,Conferência!$D$2,\"\")","v":""},{"$f":"IF(Jogo!E495=Conferência!$E$2,Conferência!$E$2,\"\")","v":""},{"$f":"IF(Jogo!F495=Conferência!$F$2,Conferência!$F$2,\"\")","v":""},{"$f":"IF(Jogo!G495=Conferência!$G$2,Conferência!$G$2,\"\")","v":""},{"$f":"IF(Jogo!H495=Conferência!$H$2,Conferência!$H$2,\"\")","v":""},{"$f":"IF(Jogo!I495=Conferência!$I$2,Conferência!$I$2,\"\")","v":""},{"$f":"IF(Jogo!J495=Conferência!$J$2,Conferência!$J$2,\"\")","v":""},{"$f":"IF(Jogo!K495=Conferência!$K$2,Conferência!$K$2,\"\")","v":""},{"$f":"IF(Jogo!L495=Conferência!$L$2,Conferência!$L$2,\"\")","v":""},{"$f":"IF(Jogo!M495=Conferência!$M$2,Conferência!$M$2,\"\")","v":""},{"$f":"IF(Jogo!N495=Conferência!$N$2,Conferência!$N$2,\"\")","v":""},{"$f":"IF(Jogo!O495=Conferência!$O$2,Conferência!$O$2,\"\")","v":""},{"$f":"IF(Jogo!P495=Conferência!$P$2,Conferência!$P$2,\"\")","v":""},{"$f":"IF(Jogo!Q495=Conferência!$Q$2,Conferência!$Q$2,\"\")","v":""},""]
[{"$f":"IF(Jogo!A496=Conferência!$A$2,Conferência!$A$2,\"\")","v":""},{"$f":"IF(Jogo!B496=Conferência!$B$2,Conferência!$B$2,\"\")","v":""},{"$f":"IF(Jogo!C496=Conferência!$C$2,Conferência!$C$2,\"\")","v":""},{"$f":"IF(Jogo!D496=Conferência!$D$2,Conferência!$D$2,\"\")","v":""},{"$f":"IF(Jogo!E496=Conferência!$E$2,Conferência!$E$2,\"\")","v":""},{"$f":"IF(Jogo!F496=Conferência!$F$2,Conferência!$F$2,\"\")","v":""},{"$f":"IF(Jogo!G496=Conferência!$G$2,Conferência!$G$2,\"\")","v":""},{"$f":"IF(Jogo!H496=Conferência!$H$2,Conferência!$H$2,\"\")","v":""},{"$f":"IF(Jogo!I496=Conferência!$I$2,Conferência!$I$2,\"\")","v":""},{"$f":"IF(Jogo!J496=Conferência!$J$2,Conferência!$J$2,\"\")","v":""},{"$f":"IF(Jogo!K496=Conferência!$K$2,Conferência!$K$2,\"\")","v":""},{"$f":"IF(Jogo!L496=Conferência!$L$2,Conferência!$L$2,\"\")","v":""},{"$f":"IF(Jogo!M496=Conferência!$M$2,Conferência!$M$2,\"\")","v":""},{"$f":"IF(Jogo!N496=Conferência!$N$2,Conferência!$N$2,\"\")","v":""},{"$f":"IF(Jogo!O496=Conferência!$O$2,Conferência!$O$2,\"\")","v":""},{"$f":"IF(Jogo!P496=Conferência!$P$2,Conferência!$P$2,\"\")","v":""},{"$f":"IF(Jogo!Q496=Conferência!$Q$2,Conferência!$Q$2,\"\")","v":""},""]
[{"$f":"IF(Jogo!A497=Conferência!$A$2,Conferência!$A$2,\"\")","v":""},{"$f":"IF(Jogo!B497=Conferência!$B$2,Conferência!$B$2,\"\")","v":""},{"$f":"IF(Jogo!C497=Conferência!$C$2,Conferência!$C$2,\"\")","v":""},{"$f":"IF(Jogo!D497=Conferência!$D$2,Conferência!$D$2,\"\")","v":""},{"$f":"IF(Jogo!E497=Conferência!$E$2,Conferência!$E$2,\"\")","v":""},{"$f":"IF(Jogo!F497=Conferência!$F$2,Conferência!$F$2,\"\")","v":""},{"$f":"IF(Jogo!G497=Conferência!$G$2,Conferência!$G$2,\"\")","v":""},{"$f":"IF(Jogo!H497=Conferência!$H$2,Conferência!$H$2,\"\")","v":""},{"$f":"IF(Jogo!I497=Conferência!$I$2,Conferência!$I$2,\"\")","v":""},{"$f":"IF(Jogo!J497=Conferência!$J$2,Conferência!$J$2,\"\")","v":""},{"$f":"IF(Jogo!K497=Conferência!$K$2,Conferência!$K$2,\"\")","v":""},{"$f":"IF(Jogo!L497=Conferência!$L$2,Conferência!$L$2,\"\")","v":""},{"$f":"IF(Jogo!M497=Conferência!$M$2,Conferência!$M$2,\"\")","v":""},{"$f":"IF(Jogo!N497=Conferência!$N$2,Conferência!$N$2,\"\")","v":""},{"$f":"IF(Jogo!O497=Conferência!$O$2,Conferência!$O$2,\"\")","v":""},{"$f":"IF(Jogo!P497=Conferência!$P$2,Conferência!$P$2,\"\")","v":""},{"$f":"IF(Jogo!Q497=Conferência!$Q$2,Conferência!$Q$2,\"\")","v":""},""]
[{"$f":"IF(Jogo!A498=Conferência!$A$2,Conferência!$A$2,\"\")","v":""},{"$f":"IF(Jogo!B498=Conferência!$B$2,Conferência!$B$2,\"\")","v":""},{"$f":"IF(Jogo!C498=Conferência!$C$2,Conferência!$C$2,\"\")","v":""},{"$f":"IF(Jogo!D498=Conferência!$D$2,Conferência!$D$2,\"\")","v":""},{"$f":"IF(Jogo!E498=Conferência!$E$2,Conferência!$E$2,\"\")","v":""},{"$f":"IF(Jogo!F498=Conferência!$F$2,Conferência!$F$2,\"\")","v":""},{"$f":"IF(Jogo!G498=Conferência!$G$2,Conferência!$G$2,\"\")","v":""},{"$f":"IF(Jogo!H498=Conferência!$H$2,Conferência!$H$2,\"\")","v":""},{"$f":"IF(Jogo!I498=Conferência!$I$2,Conferência!$I$2,\"\")","v":""},{"$f":"IF(Jogo!J498=Conferência!$J$2,Conferência!$J$2,\"\")","v":""},{"$f":"IF(Jogo!K498=Conferência!$K$2,Conferência!$K$2,\"\")","v":""},{"$f":"IF(Jogo!L498=Conferência!$L$2,Conferência!$L$2,\"\")","v":""},{"$f":"IF(Jogo!M498=Conferência!$M$2,Conferência!$M$2,\"\")","v":""},{"$f":"IF(Jogo!N498=Conferência!$N$2,Conferência!$N$2,\"\")","v":""},{"$f":"IF(Jogo!O498=Conferência!$O$2,Conferência!$O$2,\"\")","v":""},{"$f":"IF(Jogo!P498=Conferência!$P$2,Conferência!$P$2,\"\")","v":""},{"$f":"IF(Jogo!Q498=Conferência!$Q$2,Conferência!$Q$2,\"\")","v":""},""]
[{"$f":"IF(Jogo!A499=Conferência!$A$2,Conferência!$A$2,\"\")","v":""},{"$f":"IF(Jogo!B499=Conferência!$B$2,Conferência!$B$2,\"\")","v":""},{"$f":"IF(Jogo!C499=Conferência!$C$2,Conferência!$C$2,\"\")","v":""},{"$f":"IF(Jogo!D499=Conferência!$D$2,Conferência!$D$2,\"\")","v":""},{"$f":"IF(Jogo!E499=Conferência!$E$2,Conferência!$E$2,\"\")","v":""},{"$f":"IF(Jogo!F499=Conferência!$F$2,Conferência!$F$2,\"\")","v":""},{"$f":"IF(Jogo!G499=Conferência!$G$2,Conferência!$G$2,\"\")","v":""},{"$f":"IF(Jogo!H499=Conferência!$H$2,Conferência!$H$2,\"\")","v":""},{"$f":"IF(Jogo!I499=Conferência!$I$2,Conferência!$I$2,\"\")","v":""},{"$f":"IF(Jogo!J499=Conferência!$J$2,Conferência!$J$2,\"\")","v":""},{"$f":"IF(Jogo!K499=Conferência!$K$2,Conferência!$K$2,\"\")","v":""},{"$f":"IF(Jogo!L499=Conferência!$L$2,Conferência!$L$2,\"\")","v":""},{"$f":"IF(Jogo!M499=Conferência!$M$2,Conferência!$M$2,\"\")","v":""},{"$f":"IF(Jogo!N499=Conferência!$N$2,Conferência!$N$2,\"\")","v":""},{"$f":"IF(Jogo!O499=Conferência!$O$2,Conferência!$O$2,\"\")","v":""},{"$f":"IF(Jogo!P499=Conferência!$P$2,Conferência!$P$2,\"\")","v":""},{"$f":"IF(Jogo!Q499=Conferência!$Q$2,Conferência!$Q$2,\"\")","v":""},""]
[{"$f":"IF(Jogo!A500=Conferência!$A$2,Conferência!$A$2,\"\")","v":""},{"$f":"IF(Jogo!B500=Conferência!$B$2,Conferência!$B$2,\"\")","v":""},{"$f":"IF(Jogo!C500=Conferência!$C$2,Conferência!$C$2,\"\")","v":""},{"$f":"IF(Jogo!D500=Conferência!$D$2,Conferência!$D$2,\"\")","v":""},{"$f":"IF(Jogo!E500=Conferência!$E$2,Conferência!$E$2,\"\")","v":""},{"$f":"IF(Jogo!F500=Conferência!$F$2,Conferência!$F$2,\"\")","v":""},{"$f":"IF(Jogo!G500=Conferência!$G$2,Conferência!$G$2,\"\")","v":""},{"$f":"IF(Jogo!H500=Conferência!$H$2,Conferência!$H$2,\"\")","v":""},{"$f":"IF(Jogo!I500=Conferência!$I$2,Conferência!$I$2,\"\")","v":""},{"$f":"IF(Jogo!J500=Conferência!$J$2,Conferência!$J$2,\"\")","v":""},{"$f":"IF(Jogo!K500=Conferência!$K$2,Conferência!$K$2,\"\")","v":""},{"$f":"IF(Jogo!L500=Conferência!$L$2,Conferência!$L$2,\"\")","v":""},{"$f":"IF(Jogo!M500=Conferência!$M$2,Conferência!$M$2,\"\")","v":""},{"$f":"IF(Jogo!N500=Conferência!$N$2,Conferência!$N$2,\"\")","v":""},{"$f":"IF(Jogo!O500=Conferência!$O$2,Conferência!$O$2,\"\")","v":""},{"$f":"IF(Jogo!P500=Conferência!$P$2,Conferência!$P$2,\"\")","v":""},{"$f":"IF(Jogo!Q500=Conferência!$Q$2,Conferência!$Q$2,\"\")","v":""},""]
[{"$f":"IF(Jogo!A501=Conferência!$A$2,Conferência!$A$2,\"\")","v":""},{"$f":"IF(Jogo!B501=Conferência!$B$2,Conferência!$B$2,\"\")","v":""},{"$f":"IF(Jogo!C501=Conferência!$C$2,Conferência!$C$2,\"\")","v":""},{"$f":"IF(Jogo!D501=Conferência!$D$2,Conferência!$D$2,\"\")","v":""},{"$f":"IF(Jogo!E501=Conferência!$E$2,Conferência!$E$2,\"\")","v":""},{"$f":"IF(Jogo!F501=Conferência!$F$2,Conferência!$F$2,\"\")","v":""},{"$f":"IF(Jogo!G501=Conferência!$G$2,Conferência!$G$2,\"\")","v":""},{"$f":"IF(Jogo!H501=Conferência!$H$2,Conferência!$H$2,\"\")","v":""},{"$f":"IF(Jogo!I501=Conferência!$I$2,Conferência!$I$2,\"\")","v":""},{"$f":"IF(Jogo!J501=Conferência!$J$2,Conferência!$J$2,\"\")","v":""},{"$f":"IF(Jogo!K501=Conferência!$K$2,Conferência!$K$2,\"\")","v":""},{"$f":"IF(Jogo!L501=Conferência!$L$2,Conferência!$L$2,\"\")","v":""},{"$f":"IF(Jogo!M501=Conferência!$M$2,Conferência!$M$2,\"\")","v":""},{"$f":"IF(Jogo!N501=Conferência!$N$2,Conferência!$N$2,\"\")","v":""},{"$f":"IF(Jogo!O501=Conferência!$O$2,Conferência!$O$2,\"\")","v":""},{"$f":"IF(Jogo!P501=Conferência!$P$2,Conferência!$P$2,\"\")","v":""},{"$f":"IF(Jogo!Q501=Conferência!$Q$2,Conferência!$Q$2,\"\")","v":""},""]
[{"$f":"IF(Jogo!A502=Conferência!$A$2,Conferência!$A$2,\"\")","v":""},{"$f":"IF(Jogo!B502=Conferência!$B$2,Conferência!$B$2,\"\")","v":""},{"$f":"IF(Jogo!C502=Conferência!$C$2,Conferência!$C$2,\"\")","v":""},{"$f":"IF(Jogo!D502=Conferência!$D$2,Conferência!$D$2,\"\")","v":""},{"$f":"IF(Jogo!E502=Conferência!$E$2,Conferência!$E$2,\"\")","v":""},{"$f":"IF(Jogo!F502=Conferência!$F$2,Conferência!$F$2,\"\")","v":""},{"$f":"IF(Jogo!G502=Conferência!$G$2,Conferência!$G$2,\"\")","v":""},{"$f":"IF(Jogo!H502=Conferência!$H$2,Conferência!$H$2,\"\")","v":""},{"$f":"IF(Jogo!I502=Conferência!$I$2,Conferência!$I$2,\"\")","v":""},{"$f":"IF(Jogo!J502=Conferência!$J$2,Conferência!$J$2,\"\")","v":""},{"$f":"IF(Jogo!K502=Conferência!$K$2,Conferência!$K$2,\"\")","v":""},{"$f":"IF(Jogo!L502=Conferência!$L$2,Conferência!$L$2,\"\")","v":""},{"$f":"IF(Jogo!M502=Conferência!$M$2,Conferência!$M$2,\"\")","v":""},{"$f":"IF(Jogo!N502=Conferência!$N$2,Conferência!$N$2,\"\")","v":""},{"$f":"IF(Jogo!O502=Conferência!$O$2,Conferência!$O$2,\"\")","v":""},{"$f":"IF(Jogo!P502=Conferência!$P$2,Conferência!$P$2,\"\")","v":""},{"$f":"IF(Jogo!Q502=Conferência!$Q$2,Conferência!$Q$2,\"\")","v":""},""]
[{"$f":"IF(Jogo!A503=Conferência!$A$2,Conferência!$A$2,\"\")","v":""},{"$f":"IF(Jogo!B503=Conferência!$B$2,Conferência!$B$2,\"\")","v":""},{"$f":"IF(Jogo!C503=Conferência!$C$2,Conferência!$C$2,\"\")","v":""},{"$f":"IF(Jogo!D503=Conferência!$D$2,Conferência!$D$2,\"\")","v":""},{"$f":"IF(Jogo!E503=Conferência!$E$2,Conferência!$E$2,\"\")","v":""},{"$f":"IF(Jogo!F503=Conferência!$F$2,Conferência!$F$2,\"\")","v":""},{"$f":"IF(Jogo!G503=Conferência!$G$2,Conferência!$G$2,\"\")","v":""},{"$f":"IF(Jogo!H503=Conferência!$H$2,Conferência!$H$2,\"\")","v":""},{"$f":"IF(Jogo!I503=Conferência!$I$2,Conferência!$I$2,\"\")","v":""},{"$f":"IF(Jogo!J503=Conferência!$J$2,Conferência!$J$2,\"\")","v":""},{"$f":"IF(Jogo!K503=Conferência!$K$2,Conferência!$K$2,\"\")","v":""},{"$f":"IF(Jogo!L503=Conferência!$L$2,Conferência!$L$2,\"\")","v":""},{"$f":"IF(Jogo!M503=Conferência!$M$2,Conferência!$M$2,\"\")","v":""},{"$f":"IF(Jogo!N503=Conferência!$N$2,Conferência!$N$2,\"\")","v":""},{"$f":"IF(Jogo!O503=Conferência!$O$2,Conferência!$O$2,\"\")","v":""},{"$f":"IF(Jogo!P503=Conferência!$P$2,Conferência!$P$2,\"\")","v":""},{"$f":"IF(Jogo!Q503=Conferência!$Q$2,Conferência!$Q$2,\"\")","v":""},""]
[{"$f":"IF(Jogo!A504=Conferência!$A$2,Conferência!$A$2,\"\")","v":""},{"$f":"IF(Jogo!B504=Conferência!$B$2,Conferência!$B$2,\"\")","v":""},{"$f":"IF(Jogo!C504=Conferência!$C$2,Conferência!$C$2,\"\")","v":""},{"$f":"IF(Jogo!D504=Conferência!$D$2,Conferência!$D$2,\"\")","v":""},{"$f":"IF(Jogo!E504=Conferência!$E$2,Conferência!$E$2,\"\")","v":""},{"$f":"IF(Jogo!F504=Conferência!$F$2,Conferência!$F$2,\"\")","v":""},{"$f":"IF(Jogo!G504=Conferência!$G$2,Conferência!$G$2,\"\")","v":""},{"$f":"IF(Jogo!H504=Conferência!$H$2,Conferência!$H$2,\"\")","v":""},{"$f":"IF(Jogo!I504=Conferência!$I$2,Conferência!$I$2,\"\")","v":""},{"$f":"IF(Jogo!J504=Conferência!$J$2,Conferência!$J$2,\"\")","v":""},{"$f":"IF(Jogo!K504=Conferência!$K$2,Conferência!$K$2,\"\")","v":""},{"$f":"IF(Jogo!L504=Conferência!$L$2,Conferência!$L$2,\"\")","v":""},{"$f":"IF(Jogo!M504=Conferência!$M$2,Conferência!$M$2,\"\")","v":""},{"$f":"IF(Jogo!N504=Conferência!$N$2,Conferência!$N$2,\"\")","v":""},{"$f":"IF(Jogo!O504=Conferência!$O$2,Conferência!$O$2,\"\")","v":""},{"$f":"IF(Jogo!P504=Conferência!$P$2,Conferência!$P$2,\"\")","v":""},{"$f":"IF(Jogo!Q504=Conferência!$Q$2,Conferência!$Q$2,\"\")","v":""},""]
[{"$f":"IF(Jogo!A505=Conferência!$A$2,Conferência!$A$2,\"\")","v":""},{"$f":"IF(Jogo!B505=Conferência!$B$2,Conferência!$B$2,\"\")","v":""},{"$f":"IF(Jogo!C505=Conferência!$C$2,Conferência!$C$2,\"\")","v":""},{"$f":"IF(Jogo!D505=Conferência!$D$2,Conferência!$D$2,\"\")","v":""},{"$f":"IF(Jogo!E505=Conferência!$E$2,Conferência!$E$2,\"\")","v":""},{"$f":"IF(Jogo!F505=Conferência!$F$2,Conferência!$F$2,\"\")","v":""},{"$f":"IF(Jogo!G505=Conferência!$G$2,Conferência!$G$2,\"\")","v":""},{"$f":"IF(Jogo!H505=Conferência!$H$2,Conferência!$H$2,\"\")","v":""},{"$f":"IF(Jogo!I505=Conferência!$I$2,Conferência!$I$2,\"\")","v":""},{"$f":"IF(Jogo!J505=Conferência!$J$2,Conferência!$J$2,\"\")","v":""},{"$f":"IF(Jogo!K505=Conferência!$K$2,Conferência!$K$2,\"\")","v":""},{"$f":"IF(Jogo!L505=Conferência!$L$2,Conferência!$L$2,\"\")","v":""},{"$f":"IF(Jogo!M505=Conferência!$M$2,Conferência!$M$2,\"\")","v":""},{"$f":"IF(Jogo!N505=Conferência!$N$2,Conferência!$N$2,\"\")","v":""},{"$f":"IF(Jogo!O505=Conferência!$O$2,Conferência!$O$2,\"\")","v":""},{"$f":"IF(Jogo!P505=Conferência!$P$2,Conferência!$P$2,\"\")","v":""},{"$f":"IF(Jogo!Q505=Conferência!$Q$2,Conferência!$Q$2,\"\")","v":""},""]
[{"$f":"IF(Jogo!A506=Conferência!$A$2,Conferência!$A$2,\"\")","v":""},{"$f":"IF(Jogo!B506=Conferência!$B$2,Conferência!$B$2,\"\")","v":""},{"$f":"IF(Jogo!C506=Conferência!$C$2,Conferência!$C$2,\"\")","v":""},{"$f":"IF(Jogo!D506=Conferência!$D$2,Conferência!$D$2,\"\")","v":""},{"$f":"IF(Jogo!E506=Conferência!$E$2,Conferência!$E$2,\"\")","v":""},{"$f":"IF(Jogo!F506=Conferência!$F$2,Conferência!$F$2,\"\")","v":""},{"$f":"IF(Jogo!G506=Conferência!$G$2,Conferência!$G$2,\"\")","v":""},{"$f":"IF(Jogo!H506=Conferência!$H$2,Conferência!$H$2,\"\")","v":""},{"$f":"IF(Jogo!I506=Conferência!$I$2,Conferência!$I$2,\"\")","v":""},{"$f":"IF(Jogo!J506=Conferência!$J$2,Conferência!$J$2,\"\")","v":""},{"$f":"IF(Jogo!K506=Conferência!$K$2,Conferência!$K$2,\"\")","v":""},{"$f":"IF(Jogo!L506=Conferência!$L$2,Conferência!$L$2,\"\")","v":""},{"$f":"IF(Jogo!M506=Conferência!$M$2,Conferência!$M$2,\"\")","v":""},{"$f":"IF(Jogo!N506=Conferência!$N$2,Conferência!$N$2,\"\")","v":""},{"$f":"IF(Jogo!O506=Conferência!$O$2,Conferência!$O$2,\"\")","v":""},{"$f":"IF(Jogo!P506=Conferência!$P$2,Conferência!$P$2,\"\")","v":""},{"$f":"IF(Jogo!Q506=Conferência!$Q$2,Conferência!$Q$2,\"\")","v":""},""]
[{"$f":"IF(Jogo!A507=Conferência!$A$2,Conferência!$A$2,\"\")","v":""},{"$f":"IF(Jogo!B507=Conferência!$B$2,Conferência!$B$2,\"\")","v":""},{"$f":"IF(Jogo!C507=Conferência!$C$2,Conferência!$C$2,\"\")","v":""},{"$f":"IF(Jogo!D507=Conferência!$D$2,Conferência!$D$2,\"\")","v":""},{"$f":"IF(Jogo!E507=Conferência!$E$2,Conferência!$E$2,\"\")","v":""},{"$f":"IF(Jogo!F507=Conferência!$F$2,Conferência!$F$2,\"\")","v":""},{"$f":"IF(Jogo!G507=Conferência!$G$2,Conferência!$G$2,\"\")","v":""},{"$f":"IF(Jogo!H507=Conferência!$H$2,Conferência!$H$2,\"\")","v":""},{"$f":"IF(Jogo!I507=Conferência!$I$2,Conferência!$I$2,\"\")","v":""},{"$f":"IF(Jogo!J507=Conferência!$J$2,Conferência!$J$2,\"\")","v":""},{"$f":"IF(Jogo!K507=Conferência!$K$2,Conferência!$K$2,\"\")","v":""},{"$f":"IF(Jogo!L507=Conferência!$L$2,Conferência!$L$2,\"\")","v":""},{"$f":"IF(Jogo!M507=Conferência!$M$2,Conferência!$M$2,\"\")","v":""},{"$f":"IF(Jogo!N507=Conferência!$N$2,Conferência!$N$2,\"\")","v":""},{"$f":"IF(Jogo!O507=Conferência!$O$2,Conferência!$O$2,\"\")","v":""},{"$f":"IF(Jogo!P507=Conferência!$P$2,Conferência!$P$2,\"\")","v":""},{"$f":"IF(Jogo!Q507=Conferência!$Q$2,Conferência!$Q$2,\"\")","v":""},""]
[{"$f":"IF(Jogo!A508=Conferência!$A$2,Conferência!$A$2,\"\")","v":""},{"$f":"IF(Jogo!B508=Conferência!$B$2,Conferência!$B$2,\"\")","v":""},{"$f":"IF(Jogo!C508=Conferência!$C$2,Conferência!$C$2,\"\")","v":""},{"$f":"IF(Jogo!D508=Conferência!$D$2,Conferência!$D$2,\"\")","v":""},{"$f":"IF(Jogo!E508=Conferência!$E$2,Conferência!$E$2,\"\")","v":""},{"$f":"IF(Jogo!F508=Conferência!$F$2,Conferência!$F$2,\"\")","v":""},{"$f":"IF(Jogo!G508=Conferência!$G$2,Conferência!$G$2,\"\")","v":""},{"$f":"IF(Jogo!H508=Conferência!$H$2,Conferência!$H$2,\"\")","v":""},{"$f":"IF(Jogo!I508=Conferência!$I$2,Conferência!$I$2,\"\")","v":""},{"$f":"IF(Jogo!J508=Conferência!$J$2,Conferência!$J$2,\"\")","v":""},{"$f":"IF(Jogo!K508=Conferência!$K$2,Conferência!$K$2,\"\")","v":""},{"$f":"IF(Jogo!L508=Conferência!$L$2,Conferência!$L$2,\"\")","v":""},{"$f":"IF(Jogo!M508=Conferência!$M$2,Conferência!$M$2,\"\")","v":""},{"$f":"IF(Jogo!N508=Conferência!$N$2,Conferência!$N$2,\"\")","v":""},{"$f":"IF(Jogo!O508=Conferência!$O$2,Conferência!$O$2,\"\")","v":""},{"$f":"IF(Jogo!P508=Conferência!$P$2,Conferência!$P$2,\"\")","v":""},{"$f":"IF(Jogo!Q508=Conferência!$Q$2,Conferência!$Q$2,\"\")","v":""},""]
[{"$f":"IF(Jogo!A509=Conferência!$A$2,Conferência!$A$2,\"\")","v":""},{"$f":"IF(Jogo!B509=Conferência!$B$2,Conferência!$B$2,\"\")","v":""},{"$f":"IF(Jogo!C509=Conferência!$C$2,Conferência!$C$2,\"\")","v":""},{"$f":"IF(Jogo!D509=Conferência!$D$2,Conferência!$D$2,\"\")","v":""},{"$f":"IF(Jogo!E509=Conferência!$E$2,Conferência!$E$2,\"\")","v":""},{"$f":"IF(Jogo!F509=Conferência!$F$2,Conferência!$F$2,\"\")","v":""},{"$f":"IF(Jogo!G509=Conferência!$G$2,Conferência!$G$2,\"\")","v":""},{"$f":"IF(Jogo!H509=Conferência!$H$2,Conferência!$H$2,\"\")","v":""},{"$f":"IF(Jogo!I509=Conferência!$I$2,Conferência!$I$2,\"\")","v":""},{"$f":"IF(Jogo!J509=Conferência!$J$2,Conferência!$J$2,\"\")","v":""},{"$f":"IF(Jogo!K509=Conferência!$K$2,Conferência!$K$2,\"\")","v":""},{"$f":"IF(Jogo!L509=Conferência!$L$2,Conferência!$L$2,\"\")","v":""},{"$f":"IF(Jogo!M509=Conferência!$M$2,Conferência!$M$2,\"\")","v":""},{"$f":"IF(Jogo!N509=Conferência!$N$2,Conferência!$N$2,\"\")","v":""},{"$f":"IF(Jogo!O509=Conferência!$O$2,Conferência!$O$2,\"\")","v":""},{"$f":"IF(Jogo!P509=Conferência!$P$2,Conferência!$P$2,\"\")","v":""},{"$f":"IF(Jogo!Q509=Conferência!$Q$2,Conferência!$Q$2,\"\")","v":""},""]
[{"$f":"IF(Jogo!A510=Conferência!$A$2,Conferência!$A$2,\"\")","v":""},{"$f":"IF(Jogo!B510=Conferência!$B$2,Conferência!$B$2,\"\")","v":""},{"$f":"IF(Jogo!C510=Conferência!$C$2,Conferência!$C$2,\"\")","v":""},{"$f":"IF(Jogo!D510=Conferência!$D$2,Conferência!$D$2,\"\")","v":""},{"$f":"IF(Jogo!E510=Conferência!$E$2,Conferência!$E$2,\"\")","v":""},{"$f":"IF(Jogo!F510=Conferência!$F$2,Conferência!$F$2,\"\")","v":""},{"$f":"IF(Jogo!G510=Conferência!$G$2,Conferência!$G$2,\"\")","v":""},{"$f":"IF(Jogo!H510=Conferência!$H$2,Conferência!$H$2,\"\")","v":""},{"$f":"IF(Jogo!I510=Conferência!$I$2,Conferência!$I$2,\"\")","v":""},{"$f":"IF(Jogo!J510=Conferência!$J$2,Conferência!$J$2,\"\")","v":""},{"$f":"IF(Jogo!K510=Conferência!$K$2,Conferência!$K$2,\"\")","v":""},{"$f":"IF(Jogo!L510=Conferência!$L$2,Conferência!$L$2,\"\")","v":""},{"$f":"IF(Jogo!M510=Conferência!$M$2,Conferência!$M$2,\"\")","v":""},{"$f":"IF(Jogo!N510=Conferência!$N$2,Conferência!$N$2,\"\")","v":""},{"$f":"IF(Jogo!O510=Conferência!$O$2,Conferência!$O$2,\"\")","v":""},{"$f":"IF(Jogo!P510=Conferência!$P$2,Conferência!$P$2,\"\")","v":""},{"$f":"IF(Jogo!Q510=Conferência!$Q$2,Conferência!$Q$2,\"\")","v":""},""]
[{"$f":"IF(Jogo!A511=Conferência!$A$2,Conferência!$A$2,\"\")","v":""},{"$f":"IF(Jogo!B511=Conferência!$B$2,Conferência!$B$2,\"\")","v":""},{"$f":"IF(Jogo!C511=Conferência!$C$2,Conferência!$C$2,\"\")","v":""},{"$f":"IF(Jogo!D511=Conferência!$D$2,Conferência!$D$2,\"\")","v":""},{"$f":"IF(Jogo!E511=Conferência!$E$2,Conferência!$E$2,\"\")","v":""},{"$f":"IF(Jogo!F511=Conferência!$F$2,Conferência!$F$2,\"\")","v":""},{"$f":"IF(Jogo!G511=Conferência!$G$2,Conferência!$G$2,\"\")","v":""},{"$f":"IF(Jogo!H511=Conferência!$H$2,Conferência!$H$2,\"\")","v":""},{"$f":"IF(Jogo!I511=Conferência!$I$2,Conferência!$I$2,\"\")","v":""},{"$f":"IF(Jogo!J511=Conferência!$J$2,Conferência!$J$2,\"\")","v":""},{"$f":"IF(Jogo!K511=Conferência!$K$2,Conferência!$K$2,\"\")","v":""},{"$f":"IF(Jogo!L511=Conferência!$L$2,Conferência!$L$2,\"\")","v":""},{"$f":"IF(Jogo!M511=Conferência!$M$2,Conferência!$M$2,\"\")","v":""},{"$f":"IF(Jogo!N511=Conferência!$N$2,Conferência!$N$2,\"\")","v":""},{"$f":"IF(Jogo!O511=Conferência!$O$2,Conferência!$O$2,\"\")","v":""},{"$f":"IF(Jogo!P511=Conferência!$P$2,Conferência!$P$2,\"\")","v":""},{"$f":"IF(Jogo!Q511=Conferência!$Q$2,Conferência!$Q$2,\"\")","v":""},""]
[{"$f":"IF(Jogo!A512=Conferência!$A$2,Conferência!$A$2,\"\")","v":""},{"$f":"IF(Jogo!B512=Conferência!$B$2,Conferência!$B$2,\"\")","v":""},{"$f":"IF(Jogo!C512=Conferência!$C$2,Conferência!$C$2,\"\")","v":""},{"$f":"IF(Jogo!D512=Conferência!$D$2,Conferência!$D$2,\"\")","v":""},{"$f":"IF(Jogo!E512=Conferência!$E$2,Conferência!$E$2,\"\")","v":""},{"$f":"IF(Jogo!F512=Conferência!$F$2,Conferência!$F$2,\"\")","v":""},{"$f":"IF(Jogo!G512=Conferência!$G$2,Conferência!$G$2,\"\")","v":""},{"$f":"IF(Jogo!H512=Conferência!$H$2,Conferência!$H$2,\"\")","v":""},{"$f":"IF(Jogo!I512=Conferência!$I$2,Conferência!$I$2,\"\")","v":""},{"$f":"IF(Jogo!J512=Conferência!$J$2,Conferência!$J$2,\"\")","v":""},{"$f":"IF(Jogo!K512=Conferência!$K$2,Conferência!$K$2,\"\")","v":""},{"$f":"IF(Jogo!L512=Conferência!$L$2,Conferência!$L$2,\"\")","v":""},{"$f":"IF(Jogo!M512=Conferência!$M$2,Conferência!$M$2,\"\")","v":""},{"$f":"IF(Jogo!N512=Conferência!$N$2,Conferência!$N$2,\"\")","v":""},{"$f":"IF(Jogo!O512=Conferência!$O$2,Conferência!$O$2,\"\")","v":""},{"$f":"IF(Jogo!P512=Conferência!$P$2,Conferência!$P$2,\"\")","v":""},{"$f":"IF(Jogo!Q512=Conferência!$Q$2,Conferência!$Q$2,\"\")","v":""},""]
[{"$f":"IF(Jogo!A513=Conferência!$A$2,Conferência!$A$2,\"\")","v":""},{"$f":"IF(Jogo!B513=Conferência!$B$2,Conferência!$B$2,\"\")","v":""},{"$f":"IF(Jogo!C513=Conferência!$C$2,Conferência!$C$2,\"\")","v":""},{"$f":"IF(Jogo!D513=Conferência!$D$2,Conferência!$D$2,\"\")","v":""},{"$f":"IF(Jogo!E513=Conferência!$E$2,Conferência!$E$2,\"\")","v":""},{"$f":"IF(Jogo!F513=Conferência!$F$2,Conferência!$F$2,\"\")","v":""},{"$f":"IF(Jogo!G513=Conferência!$G$2,Conferência!$G$2,\"\")","v":""},{"$f":"IF(Jogo!H513=Conferência!$H$2,Conferência!$H$2,\"\")","v":""},{"$f":"IF(Jogo!I513=Conferência!$I$2,Conferência!$I$2,\"\")","v":""},{"$f":"IF(Jogo!J513=Conferência!$J$2,Conferência!$J$2,\"\")","v":""},{"$f":"IF(Jogo!K513=Conferência!$K$2,Conferência!$K$2,\"\")","v":""},{"$f":"IF(Jogo!L513=Conferência!$L$2,Conferência!$L$2,\"\")","v":""},{"$f":"IF(Jogo!M513=Conferência!$M$2,Conferência!$M$2,\"\")","v":""},{"$f":"IF(Jogo!N513=Conferência!$N$2,Conferência!$N$2,\"\")","v":""},{"$f":"IF(Jogo!O513=Conferência!$O$2,Conferência!$O$2,\"\")","v":""},{"$f":"IF(Jogo!P513=Conferência!$P$2,Conferência!$P$2,\"\")","v":""},{"$f":"IF(Jogo!Q513=Conferência!$Q$2,Conferência!$Q$2,\"\")","v":""},""]
[{"$f":"IF(Jogo!A514=Conferência!$A$2,Conferência!$A$2,\"\")","v":""},{"$f":"IF(Jogo!B514=Conferência!$B$2,Conferência!$B$2,\"\")","v":""},{"$f":"IF(Jogo!C514=Conferência!$C$2,Conferência!$C$2,\"\")","v":""},{"$f":"IF(Jogo!D514=Conferência!$D$2,Conferência!$D$2,\"\")","v":""},{"$f":"IF(Jogo!E514=Conferência!$E$2,Conferência!$E$2,\"\")","v":""},{"$f":"IF(Jogo!F514=Conferência!$F$2,Conferência!$F$2,\"\")","v":""},{"$f":"IF(Jogo!G514=Conferência!$G$2,Conferência!$G$2,\"\")","v":""},{"$f":"IF(Jogo!H514=Conferência!$H$2,Conferência!$H$2,\"\")","v":""},{"$f":"IF(Jogo!I514=Conferência!$I$2,Conferência!$I$2,\"\")","v":""},{"$f":"IF(Jogo!J514=Conferência!$J$2,Conferência!$J$2,\"\")","v":""},{"$f":"IF(Jogo!K514=Conferência!$K$2,Conferência!$K$2,\"\")","v":""},{"$f":"IF(Jogo!L514=Conferência!$L$2,Conferência!$L$2,\"\")","v":""},{"$f":"IF(Jogo!M514=Conferência!$M$2,Conferência!$M$2,\"\")","v":""},{"$f":"IF(Jogo!N514=Conferência!$N$2,Conferência!$N$2,\"\")","v":""},{"$f":"IF(Jogo!O514=Conferência!$O$2,Conferência!$O$2,\"\")","v":""},{"$f":"IF(Jogo!P514=Conferência!$P$2,Conferência!$P$2,\"\")","v":""},{"$f":"IF(Jogo!Q514=Conferência!$Q$2,Conferência!$Q$2,\"\")","v":""},""]
[{"$f":"IF(Jogo!A515=Conferência!$A$2,Conferência!$A$2,\"\")","v":""},{"$f":"IF(Jogo!B515=Conferência!$B$2,Conferência!$B$2,\"\")","v":""},{"$f":"IF(Jogo!C515=Conferência!$C$2,Conferência!$C$2,\"\")","v":""},{"$f":"IF(Jogo!D515=Conferência!$D$2,Conferência!$D$2,\"\")","v":""},{"$f":"IF(Jogo!E515=Conferência!$E$2,Conferência!$E$2,\"\")","v":""},{"$f":"IF(Jogo!F515=Conferência!$F$2,Conferência!$F$2,\"\")","v":""},{"$f":"IF(Jogo!G515=Conferência!$G$2,Conferência!$G$2,\"\")","v":""},{"$f":"IF(Jogo!H515=Conferência!$H$2,Conferência!$H$2,\"\")","v":""},{"$f":"IF(Jogo!I515=Conferência!$I$2,Conferência!$I$2,\"\")","v":""},{"$f":"IF(Jogo!J515=Conferência!$J$2,Conferência!$J$2,\"\")","v":""},{"$f":"IF(Jogo!K515=Conferência!$K$2,Conferência!$K$2,\"\")","v":""},{"$f":"IF(Jogo!L515=Conferência!$L$2,Conferência!$L$2,\"\")","v":""},{"$f":"IF(Jogo!M515=Conferência!$M$2,Conferência!$M$2,\"\")","v":""},{"$f":"IF(Jogo!N515=Conferência!$N$2,Conferência!$N$2,\"\")","v":""},{"$f":"IF(Jogo!O515=Conferência!$O$2,Conferência!$O$2,\"\")","v":""},{"$f":"IF(Jogo!P515=Conferência!$P$2,Conferência!$P$2,\"\")","v":""},{"$f":"IF(Jogo!Q515=Conferência!$Q$2,Conferência!$Q$2,\"\")","v":""},""]
[{"$f":"IF(Jogo!A516=Conferência!$A$2,Conferência!$A$2,\"\")","v":""},{"$f":"IF(Jogo!B516=Conferência!$B$2,Conferência!$B$2,\"\")","v":""},{"$f":"IF(Jogo!C516=Conferência!$C$2,Conferência!$C$2,\"\")","v":""},{"$f":"IF(Jogo!D516=Conferência!$D$2,Conferência!$D$2,\"\")","v":""},{"$f":"IF(Jogo!E516=Conferência!$E$2,Conferência!$E$2,\"\")","v":""},{"$f":"IF(Jogo!F516=Conferência!$F$2,Conferência!$F$2,\"\")","v":""},{"$f":"IF(Jogo!G516=Conferência!$G$2,Conferência!$G$2,\"\")","v":""},{"$f":"IF(Jogo!H516=Conferência!$H$2,Conferência!$H$2,\"\")","v":""},{"$f":"IF(Jogo!I516=Conferência!$I$2,Conferência!$I$2,\"\")","v":""},{"$f":"IF(Jogo!J516=Conferência!$J$2,Conferência!$J$2,\"\")","v":""},{"$f":"IF(Jogo!K516=Conferência!$K$2,Conferência!$K$2,\"\")","v":""},{"$f":"IF(Jogo!L516=Conferência!$L$2,Conferência!$L$2,\"\")","v":""},{"$f":"IF(Jogo!M516=Conferência!$M$2,Conferência!$M$2,\"\")","v":""},{"$f":"IF(Jogo!N516=Conferência!$N$2,Conferência!$N$2,\"\")","v":""},{"$f":"IF(Jogo!O516=Conferência!$O$2,Conferência!$O$2,\"\")","v":""},{"$f":"IF(Jogo!P516=Conferência!$P$2,Conferência!$P$2,\"\")","v":""},{"$f":"IF(Jogo!Q516=Conferência!$Q$2,Conferência!$Q$2,\"\")","v":""},""]
[{"$f":"IF(Jogo!A517=Conferência!$A$2,Conferência!$A$2,\"\")","v":""},{"$f":"IF(Jogo!B517=Conferência!$B$2,Conferência!$B$2,\"\")","v":""},{"$f":"IF(Jogo!C517=Conferência!$C$2,Conferência!$C$2,\"\")","v":""},{"$f":"IF(Jogo!D517=Conferência!$D$2,Conferência!$D$2,\"\")","v":""},{"$f":"IF(Jogo!E517=Conferência!$E$2,Conferência!$E$2,\"\")","v":""},{"$f":"IF(Jogo!F517=Conferência!$F$2,Conferência!$F$2,\"\")","v":""},{"$f":"IF(Jogo!G517=Conferência!$G$2,Conferência!$G$2,\"\")","v":""},{"$f":"IF(Jogo!H517=Conferência!$H$2,Conferência!$H$2,\"\")","v":""},{"$f":"IF(Jogo!I517=Conferência!$I$2,Conferência!$I$2,\"\")","v":""},{"$f":"IF(Jogo!J517=Conferência!$J$2,Conferência!$J$2,\"\")","v":""},{"$f":"IF(Jogo!K517=Conferência!$K$2,Conferência!$K$2,\"\")","v":""},{"$f":"IF(Jogo!L517=Conferência!$L$2,Conferência!$L$2,\"\")","v":""},{"$f":"IF(Jogo!M517=Conferência!$M$2,Conferência!$M$2,\"\")","v":""},{"$f":"IF(Jogo!N517=Conferência!$N$2,Conferência!$N$2,\"\")","v":""},{"$f":"IF(Jogo!O517=Conferência!$O$2,Conferência!$O$2,\"\")","v":""},{"$f":"IF(Jogo!P517=Conferência!$P$2,Conferência!$P$2,\"\")","v":""},{"$f":"IF(Jogo!Q517=Conferência!$Q$2,Conferência!$Q$2,\"\")","v":""},""]
[{"$f":"IF(Jogo!A518=Conferência!$A$2,Conferência!$A$2,\"\")","v":""},{"$f":"IF(Jogo!B518=Conferência!$B$2,Conferência!$B$2,\"\")","v":""},{"$f":"IF(Jogo!C518=Conferência!$C$2,Conferência!$C$2,\"\")","v":""},{"$f":"IF(Jogo!D518=Conferência!$D$2,Conferência!$D$2,\"\")","v":""},{"$f":"IF(Jogo!E518=Conferência!$E$2,Conferência!$E$2,\"\")","v":""},{"$f":"IF(Jogo!F518=Conferência!$F$2,Conferência!$F$2,\"\")","v":""},{"$f":"IF(Jogo!G518=Conferência!$G$2,Conferência!$G$2,\"\")","v":""},{"$f":"IF(Jogo!H518=Conferência!$H$2,Conferência!$H$2,\"\")","v":""},{"$f":"IF(Jogo!I518=Conferência!$I$2,Conferência!$I$2,\"\")","v":""},{"$f":"IF(Jogo!J518=Conferência!$J$2,Conferência!$J$2,\"\")","v":""},{"$f":"IF(Jogo!K518=Conferência!$K$2,Conferência!$K$2,\"\")","v":""},{"$f":"IF(Jogo!L518=Conferência!$L$2,Conferência!$L$2,\"\")","v":""},{"$f":"IF(Jogo!M518=Conferência!$M$2,Conferência!$M$2,\"\")","v":""},{"$f":"IF(Jogo!N518=Conferência!$N$2,Conferência!$N$2,\"\")","v":""},{"$f":"IF(Jogo!O518=Conferência!$O$2,Conferência!$O$2,\"\")","v":""},{"$f":"IF(Jogo!P518=Conferência!$P$2,Conferência!$P$2,\"\")","v":""},{"$f":"IF(Jogo!Q518=Conferência!$Q$2,Conferência!$Q$2,\"\")","v":""},""]
[{"$f":"IF(Jogo!A519=Conferência!$A$2,Conferência!$A$2,\"\")","v":""},{"$f":"IF(Jogo!B519=Conferência!$B$2,Conferência!$B$2,\"\")","v":""},{"$f":"IF(Jogo!C519=Conferência!$C$2,Conferência!$C$2,\"\")","v":""},{"$f":"IF(Jogo!D519=Conferência!$D$2,Conferência!$D$2,\"\")","v":""},{"$f":"IF(Jogo!E519=Conferência!$E$2,Conferência!$E$2,\"\")","v":""},{"$f":"IF(Jogo!F519=Conferência!$F$2,Conferência!$F$2,\"\")","v":""},{"$f":"IF(Jogo!G519=Conferência!$G$2,Conferência!$G$2,\"\")","v":""},{"$f":"IF(Jogo!H519=Conferência!$H$2,Conferência!$H$2,\"\")","v":""},{"$f":"IF(Jogo!I519=Conferência!$I$2,Conferência!$I$2,\"\")","v":""},{"$f":"IF(Jogo!J519=Conferência!$J$2,Conferência!$J$2,\"\")","v":""},{"$f":"IF(Jogo!K519=Conferência!$K$2,Conferência!$K$2,\"\")","v":""},{"$f":"IF(Jogo!L519=Conferência!$L$2,Conferência!$L$2,\"\")","v":""},{"$f":"IF(Jogo!M519=Conferência!$M$2,Conferência!$M$2,\"\")","v":""},{"$f":"IF(Jogo!N519=Conferência!$N$2,Conferência!$N$2,\"\")","v":""},{"$f":"IF(Jogo!O519=Conferência!$O$2,Conferência!$O$2,\"\")","v":""},{"$f":"IF(Jogo!P519=Conferência!$P$2,Conferência!$P$2,\"\")","v":""},{"$f":"IF(Jogo!Q519=Conferência!$Q$2,Conferência!$Q$2,\"\")","v":""},""]
[{"$f":"IF(Jogo!A520=Conferência!$A$2,Conferência!$A$2,\"\")","v":""},{"$f":"IF(Jogo!B520=Conferência!$B$2,Conferência!$B$2,\"\")","v":""},{"$f":"IF(Jogo!C520=Conferência!$C$2,Conferência!$C$2,\"\")","v":""},{"$f":"IF(Jogo!D520=Conferência!$D$2,Conferência!$D$2,\"\")","v":""},{"$f":"IF(Jogo!E520=Conferência!$E$2,Conferência!$E$2,\"\")","v":""},{"$f":"IF(Jogo!F520=Conferência!$F$2,Conferência!$F$2,\"\")","v":""},{"$f":"IF(Jogo!G520=Conferência!$G$2,Conferência!$G$2,\"\")","v":""},{"$f":"IF(Jogo!H520=Conferência!$H$2,Conferência!$H$2,\"\")","v":""},{"$f":"IF(Jogo!I520=Conferência!$I$2,Conferência!$I$2,\"\")","v":""},{"$f":"IF(Jogo!J520=Conferência!$J$2,Conferência!$J$2,\"\")","v":""},{"$f":"IF(Jogo!K520=Conferência!$K$2,Conferência!$K$2,\"\")","v":""},{"$f":"IF(Jogo!L520=Conferência!$L$2,Conferência!$L$2,\"\")","v":""},{"$f":"IF(Jogo!M520=Conferência!$M$2,Conferência!$M$2,\"\")","v":""},{"$f":"IF(Jogo!N520=Conferência!$N$2,Conferência!$N$2,\"\")","v":""},{"$f":"IF(Jogo!O520=Conferência!$O$2,Conferência!$O$2,\"\")","v":""},{"$f":"IF(Jogo!P520=Conferência!$P$2,Conferência!$P$2,\"\")","v":""},{"$f":"IF(Jogo!Q520=Conferência!$Q$2,Conferência!$Q$2,\"\")","v":""},""]
[{"$f":"IF(Jogo!A521=Conferência!$A$2,Conferência!$A$2,\"\")","v":""},{"$f":"IF(Jogo!B521=Conferência!$B$2,Conferência!$B$2,\"\")","v":""},{"$f":"IF(Jogo!C521=Conferência!$C$2,Conferência!$C$2,\"\")","v":""},{"$f":"IF(Jogo!D521=Conferência!$D$2,Conferência!$D$2,\"\")","v":""},{"$f":"IF(Jogo!E521=Conferência!$E$2,Conferência!$E$2,\"\")","v":""},{"$f":"IF(Jogo!F521=Conferência!$F$2,Conferência!$F$2,\"\")","v":""},{"$f":"IF(Jogo!G521=Conferência!$G$2,Conferência!$G$2,\"\")","v":""},{"$f":"IF(Jogo!H521=Conferência!$H$2,Conferência!$H$2,\"\")","v":""},{"$f":"IF(Jogo!I521=Conferência!$I$2,Conferência!$I$2,\"\")","v":""},{"$f":"IF(Jogo!J521=Conferência!$J$2,Conferência!$J$2,\"\")","v":""},{"$f":"IF(Jogo!K521=Conferência!$K$2,Conferência!$K$2,\"\")","v":""},{"$f":"IF(Jogo!L521=Conferência!$L$2,Conferência!$L$2,\"\")","v":""},{"$f":"IF(Jogo!M521=Conferência!$M$2,Conferência!$M$2,\"\")","v":""},{"$f":"IF(Jogo!N521=Conferência!$N$2,Conferência!$N$2,\"\")","v":""},{"$f":"IF(Jogo!O521=Conferência!$O$2,Conferência!$O$2,\"\")","v":""},{"$f":"IF(Jogo!P521=Conferência!$P$2,Conferência!$P$2,\"\")","v":""},{"$f":"IF(Jogo!Q521=Conferência!$Q$2,Conferência!$Q$2,\"\")","v":""},""]
[{"$f":"IF(Jogo!A522=Conferência!$A$2,Conferência!$A$2,\"\")","v":""},{"$f":"IF(Jogo!B522=Conferência!$B$2,Conferência!$B$2,\"\")","v":""},{"$f":"IF(Jogo!C522=Conferência!$C$2,Conferência!$C$2,\"\")","v":""},{"$f":"IF(Jogo!D522=Conferência!$D$2,Conferência!$D$2,\"\")","v":""},{"$f":"IF(Jogo!E522=Conferência!$E$2,Conferência!$E$2,\"\")","v":""},{"$f":"IF(Jogo!F522=Conferência!$F$2,Conferência!$F$2,\"\")","v":""},{"$f":"IF(Jogo!G522=Conferência!$G$2,Conferência!$G$2,\"\")","v":""},{"$f":"IF(Jogo!H522=Conferência!$H$2,Conferência!$H$2,\"\")","v":""},{"$f":"IF(Jogo!I522=Conferência!$I$2,Conferência!$I$2,\"\")","v":""},{"$f":"IF(Jogo!J522=Conferência!$J$2,Conferência!$J$2,\"\")","v":""},{"$f":"IF(Jogo!K522=Conferência!$K$2,Conferência!$K$2,\"\")","v":""},{"$f":"IF(Jogo!L522=Conferência!$L$2,Conferência!$L$2,\"\")","v":""},{"$f":"IF(Jogo!M522=Conferência!$M$2,Conferência!$M$2,\"\")","v":""},{"$f":"IF(Jogo!N522=Conferência!$N$2,Conferência!$N$2,\"\")","v":""},{"$f":"IF(Jogo!O522=Conferência!$O$2,Conferência!$O$2,\"\")","v":""},{"$f":"IF(Jogo!P522=Conferência!$P$2,Conferência!$P$2,\"\")","v":""},{"$f":"IF(Jogo!Q522=Conferência!$Q$2,Conferência!$Q$2,\"\")","v":""},""]
[{"$f":"IF(Jogo!A523=Conferência!$A$2,Conferência!$A$2,\"\")","v":""},{"$f":"IF(Jogo!B523=Conferência!$B$2,Conferência!$B$2,\"\")","v":""},{"$f":"IF(Jogo!C523=Conferência!$C$2,Conferência!$C$2,\"\")","v":""},{"$f":"IF(Jogo!D523=Conferência!$D$2,Conferência!$D$2,\"\")","v":""},{"$f":"IF(Jogo!E523=Conferência!$E$2,Conferência!$E$2,\"\")","v":""},{"$f":"IF(Jogo!F523=Conferência!$F$2,Conferência!$F$2,\"\")","v":""},{"$f":"IF(Jogo!G523=Conferência!$G$2,Conferência!$G$2,\"\")","v":""},{"$f":"IF(Jogo!H523=Conferência!$H$2,Conferência!$H$2,\"\")","v":""},{"$f":"IF(Jogo!I523=Conferência!$I$2,Conferência!$I$2,\"\")","v":""},{"$f":"IF(Jogo!J523=Conferência!$J$2,Conferência!$J$2,\"\")","v":""},{"$f":"IF(Jogo!K523=Conferência!$K$2,Conferência!$K$2,\"\")","v":""},{"$f":"IF(Jogo!L523=Conferência!$L$2,Conferência!$L$2,\"\")","v":""},{"$f":"IF(Jogo!M523=Conferência!$M$2,Conferência!$M$2,\"\")","v":""},{"$f":"IF(Jogo!N523=Conferência!$N$2,Conferência!$N$2,\"\")","v":""},{"$f":"IF(Jogo!O523=Conferência!$O$2,Conferência!$O$2,\"\")","v":""},{"$f":"IF(Jogo!P523=Conferência!$P$2,Conferência!$P$2,\"\")","v":""},{"$f":"IF(Jogo!Q523=Conferência!$Q$2,Conferência!$Q$2,\"\")","v":""},""]
[{"$f":"IF(Jogo!A524=Conferência!$A$2,Conferência!$A$2,\"\")","v":""},{"$f":"IF(Jogo!B524=Conferência!$B$2,Conferência!$B$2,\"\")","v":""},{"$f":"IF(Jogo!C524=Conferência!$C$2,Conferência!$C$2,\"\")","v":""},{"$f":"IF(Jogo!D524=Conferência!$D$2,Conferência!$D$2,\"\")","v":""},{"$f":"IF(Jogo!E524=Conferência!$E$2,Conferência!$E$2,\"\")","v":""},{"$f":"IF(Jogo!F524=Conferência!$F$2,Conferência!$F$2,\"\")","v":""},{"$f":"IF(Jogo!G524=Conferência!$G$2,Conferência!$G$2,\"\")","v":""},{"$f":"IF(Jogo!H524=Conferência!$H$2,Conferência!$H$2,\"\")","v":""},{"$f":"IF(Jogo!I524=Conferência!$I$2,Conferência!$I$2,\"\")","v":""},{"$f":"IF(Jogo!J524=Conferência!$J$2,Conferência!$J$2,\"\")","v":""},{"$f":"IF(Jogo!K524=Conferência!$K$2,Conferência!$K$2,\"\")","v":""},{"$f":"IF(Jogo!L524=Conferência!$L$2,Conferência!$L$2,\"\")","v":""},{"$f":"IF(Jogo!M524=Conferência!$M$2,Conferência!$M$2,\"\")","v":""},{"$f":"IF(Jogo!N524=Conferência!$N$2,Conferência!$N$2,\"\")","v":""},{"$f":"IF(Jogo!O524=Conferência!$O$2,Conferência!$O$2,\"\")","v":""},{"$f":"IF(Jogo!P524=Conferência!$P$2,Conferência!$P$2,\"\")","v":""},{"$f":"IF(Jogo!Q524=Conferência!$Q$2,Conferência!$Q$2,\"\")","v":""},""]
[{"$f":"IF(Jogo!A525=Conferência!$A$2,Conferência!$A$2,\"\")","v":""},{"$f":"IF(Jogo!B525=Conferência!$B$2,Conferência!$B$2,\"\")","v":""},{"$f":"IF(Jogo!C525=Conferência!$C$2,Conferência!$C$2,\"\")","v":""},{"$f":"IF(Jogo!D525=Conferência!$D$2,Conferência!$D$2,\"\")","v":""},{"$f":"IF(Jogo!E525=Conferência!$E$2,Conferência!$E$2,\"\")","v":""},{"$f":"IF(Jogo!F525=Conferência!$F$2,Conferência!$F$2,\"\")","v":""},{"$f":"IF(Jogo!G525=Conferência!$G$2,Conferência!$G$2,\"\")","v":""},{"$f":"IF(Jogo!H525=Conferência!$H$2,Conferência!$H$2,\"\")","v":""},{"$f":"IF(Jogo!I525=Conferência!$I$2,Conferência!$I$2,\"\")","v":""},{"$f":"IF(Jogo!J525=Conferência!$J$2,Conferência!$J$2,\"\")","v":""},{"$f":"IF(Jogo!K525=Conferência!$K$2,Conferência!$K$2,\"\")","v":""},{"$f":"IF(Jogo!L525=Conferência!$L$2,Conferência!$L$2,\"\")","v":""},{"$f":"IF(Jogo!M525=Conferência!$M$2,Conferência!$M$2,\"\")","v":""},{"$f":"IF(Jogo!N525=Conferência!$N$2,Conferência!$N$2,\"\")","v":""},{"$f":"IF(Jogo!O525=Conferência!$O$2,Conferência!$O$2,\"\")","v":""},{"$f":"IF(Jogo!P525=Conferência!$P$2,Conferência!$P$2,\"\")","v":""},{"$f":"IF(Jogo!Q525=Conferência!$Q$2,Conferência!$Q$2,\"\")","v":""},""]
[{"$f":"IF(Jogo!A526=Conferência!$A$2,Conferência!$A$2,\"\")","v":""},{"$f":"IF(Jogo!B526=Conferência!$B$2,Conferência!$B$2,\"\")","v":""},{"$f":"IF(Jogo!C526=Conferência!$C$2,Conferência!$C$2,\"\")","v":""},{"$f":"IF(Jogo!D526=Conferência!$D$2,Conferência!$D$2,\"\")","v":""},{"$f":"IF(Jogo!E526=Conferência!$E$2,Conferência!$E$2,\"\")","v":""},{"$f":"IF(Jogo!F526=Conferência!$F$2,Conferência!$F$2,\"\")","v":""},{"$f":"IF(Jogo!G526=Conferência!$G$2,Conferência!$G$2,\"\")","v":""},{"$f":"IF(Jogo!H526=Conferência!$H$2,Conferência!$H$2,\"\")","v":""},{"$f":"IF(Jogo!I526=Conferência!$I$2,Conferência!$I$2,\"\")","v":""},{"$f":"IF(Jogo!J526=Conferência!$J$2,Conferência!$J$2,\"\")","v":""},{"$f":"IF(Jogo!K526=Conferência!$K$2,Conferência!$K$2,\"\")","v":""},{"$f":"IF(Jogo!L526=Conferência!$L$2,Conferência!$L$2,\"\")","v":""},{"$f":"IF(Jogo!M526=Conferência!$M$2,Conferência!$M$2,\"\")","v":""},{"$f":"IF(Jogo!N526=Conferência!$N$2,Conferência!$N$2,\"\")","v":""},{"$f":"IF(Jogo!O526=Conferência!$O$2,Conferência!$O$2,\"\")","v":""},{"$f":"IF(Jogo!P526=Conferência!$P$2,Conferência!$P$2,\"\")","v":""},{"$f":"IF(Jogo!Q526=Conferência!$Q$2,Conferência!$Q$2,\"\")","v":""},""]
[{"$f":"IF(Jogo!A527=Conferência!$A$2,Conferência!$A$2,\"\")","v":""},{"$f":"IF(Jogo!B527=Conferência!$B$2,Conferência!$B$2,\"\")","v":""},{"$f":"IF(Jogo!C527=Conferência!$C$2,Conferência!$C$2,\"\")","v":""},{"$f":"IF(Jogo!D527=Conferência!$D$2,Conferência!$D$2,\"\")","v":""},{"$f":"IF(Jogo!E527=Conferência!$E$2,Conferência!$E$2,\"\")","v":""},{"$f":"IF(Jogo!F527=Conferência!$F$2,Conferência!$F$2,\"\")","v":""},{"$f":"IF(Jogo!G527=Conferência!$G$2,Conferência!$G$2,\"\")","v":""},{"$f":"IF(Jogo!H527=Conferência!$H$2,Conferência!$H$2,\"\")","v":""},{"$f":"IF(Jogo!I527=Conferência!$I$2,Conferência!$I$2,\"\")","v":""},{"$f":"IF(Jogo!J527=Conferência!$J$2,Conferência!$J$2,\"\")","v":""},{"$f":"IF(Jogo!K527=Conferência!$K$2,Conferência!$K$2,\"\")","v":""},{"$f":"IF(Jogo!L527=Conferência!$L$2,Conferência!$L$2,\"\")","v":""},{"$f":"IF(Jogo!M527=Conferência!$M$2,Conferência!$M$2,\"\")","v":""},{"$f":"IF(Jogo!N527=Conferência!$N$2,Conferência!$N$2,\"\")","v":""},{"$f":"IF(Jogo!O527=Conferência!$O$2,Conferência!$O$2,\"\")","v":""},{"$f":"IF(Jogo!P527=Conferência!$P$2,Conferência!$P$2,\"\")","v":""},{"$f":"IF(Jogo!Q527=Conferência!$Q$2,Conferência!$Q$2,\"\")","v":""},""]
[{"$f":"IF(Jogo!A528=Conferência!$A$2,Conferência!$A$2,\"\")","v":""},{"$f":"IF(Jogo!B528=Conferência!$B$2,Conferência!$B$2,\"\")","v":""},{"$f":"IF(Jogo!C528=Conferência!$C$2,Conferência!$C$2,\"\")","v":""},{"$f":"IF(Jogo!D528=Conferência!$D$2,Conferência!$D$2,\"\")","v":""},{"$f":"IF(Jogo!E528=Conferência!$E$2,Conferência!$E$2,\"\")","v":""},{"$f":"IF(Jogo!F528=Conferência!$F$2,Conferência!$F$2,\"\")","v":""},{"$f":"IF(Jogo!G528=Conferência!$G$2,Conferência!$G$2,\"\")","v":""},{"$f":"IF(Jogo!H528=Conferência!$H$2,Conferência!$H$2,\"\")","v":""},{"$f":"IF(Jogo!I528=Conferência!$I$2,Conferência!$I$2,\"\")","v":""},{"$f":"IF(Jogo!J528=Conferência!$J$2,Conferência!$J$2,\"\")","v":""},{"$f":"IF(Jogo!K528=Conferência!$K$2,Conferência!$K$2,\"\")","v":""},{"$f":"IF(Jogo!L528=Conferência!$L$2,Conferência!$L$2,\"\")","v":""},{"$f":"IF(Jogo!M528=Conferência!$M$2,Conferência!$M$2,\"\")","v":""},{"$f":"IF(Jogo!N528=Conferência!$N$2,Conferência!$N$2,\"\")","v":""},{"$f":"IF(Jogo!O528=Conferência!$O$2,Conferência!$O$2,\"\")","v":""},{"$f":"IF(Jogo!P528=Conferência!$P$2,Conferência!$P$2,\"\")","v":""},{"$f":"IF(Jogo!Q528=Conferência!$Q$2,Conferência!$Q$2,\"\")","v":""},""]
[{"$f":"IF(Jogo!A529=Conferência!$A$2,Conferência!$A$2,\"\")","v":""},{"$f":"IF(Jogo!B529=Conferência!$B$2,Conferência!$B$2,\"\")","v":""},{"$f":"IF(Jogo!C529=Conferência!$C$2,Conferência!$C$2,\"\")","v":""},{"$f":"IF(Jogo!D529=Conferência!$D$2,Conferência!$D$2,\"\")","v":""},{"$f":"IF(Jogo!E529=Conferência!$E$2,Conferência!$E$2,\"\")","v":""},{"$f":"IF(Jogo!F529=Conferência!$F$2,Conferência!$F$2,\"\")","v":""},{"$f":"IF(Jogo!G529=Conferência!$G$2,Conferência!$G$2,\"\")","v":""},{"$f":"IF(Jogo!H529=Conferência!$H$2,Conferência!$H$2,\"\")","v":""},{"$f":"IF(Jogo!I529=Conferência!$I$2,Conferência!$I$2,\"\")","v":""},{"$f":"IF(Jogo!J529=Conferência!$J$2,Conferência!$J$2,\"\")","v":""},{"$f":"IF(Jogo!K529=Conferência!$K$2,Conferência!$K$2,\"\")","v":""},{"$f":"IF(Jogo!L529=Conferência!$L$2,Conferência!$L$2,\"\")","v":""},{"$f":"IF(Jogo!M529=Conferência!$M$2,Conferência!$M$2,\"\")","v":""},{"$f":"IF(Jogo!N529=Conferência!$N$2,Conferência!$N$2,\"\")","v":""},{"$f":"IF(Jogo!O529=Conferência!$O$2,Conferência!$O$2,\"\")","v":""},{"$f":"IF(Jogo!P529=Conferência!$P$2,Conferência!$P$2,\"\")","v":""},{"$f":"IF(Jogo!Q529=Conferência!$Q$2,Conferência!$Q$2,\"\")","v":""},""]
[{"$f":"IF(Jogo!A530=Conferência!$A$2,Conferência!$A$2,\"\")","v":""},{"$f":"IF(Jogo!B530=Conferência!$B$2,Conferência!$B$2,\"\")","v":""},{"$f":"IF(Jogo!C530=Conferência!$C$2,Conferência!$C$2,\"\")","v":""},{"$f":"IF(Jogo!D530=Conferência!$D$2,Conferência!$D$2,\"\")","v":""},{"$f":"IF(Jogo!E530=Conferência!$E$2,Conferência!$E$2,\"\")","v":""},{"$f":"IF(Jogo!F530=Conferência!$F$2,Conferência!$F$2,\"\")","v":""},{"$f":"IF(Jogo!G530=Conferência!$G$2,Conferência!$G$2,\"\")","v":""},{"$f":"IF(Jogo!H530=Conferência!$H$2,Conferência!$H$2,\"\")","v":""},{"$f":"IF(Jogo!I530=Conferência!$I$2,Conferência!$I$2,\"\")","v":""},{"$f":"IF(Jogo!J530=Conferência!$J$2,Conferência!$J$2,\"\")","v":""},{"$f":"IF(Jogo!K530=Conferência!$K$2,Conferência!$K$2,\"\")","v":""},{"$f":"IF(Jogo!L530=Conferência!$L$2,Conferência!$L$2,\"\")","v":""},{"$f":"IF(Jogo!M530=Conferência!$M$2,Conferência!$M$2,\"\")","v":""},{"$f":"IF(Jogo!N530=Conferência!$N$2,Conferência!$N$2,\"\")","v":""},{"$f":"IF(Jogo!O530=Conferência!$O$2,Conferência!$O$2,\"\")","v":""},{"$f":"IF(Jogo!P530=Conferência!$P$2,Conferência!$P$2,\"\")","v":""},{"$f":"IF(Jogo!Q530=Conferência!$Q$2,Conferência!$Q$2,\"\")","v":""},{"$f":"IF(A530=\"\",\"\",\"OK\")","v":""}]
[{"$f":"IF(Jogo!A531=Conferência!$A$2,Conferência!$A$2,\"\")","v":""},{"$f":"IF(Jogo!B531=Conferência!$B$2,Conferência!$B$2,\"\")","v":""},{"$f":"IF(Jogo!C531=Conferência!$C$2,Conferência!$C$2,\"\")","v":""},{"$f":"IF(Jogo!D531=Conferência!$D$2,Conferência!$D$2,\"\")","v":""},{"$f":"IF(Jogo!E531=Conferência!$E$2,Conferência!$E$2,\"\")","v":""},{"$f":"IF(Jogo!F531=Conferência!$F$2,Conferência!$F$2,\"\")","v":""},{"$f":"IF(Jogo!G531=Conferência!$G$2,Conferência!$G$2,\"\")","v":""},{"$f":"IF(Jogo!H531=Conferência!$H$2,Conferência!$H$2,\"\")","v":""},{"$f":"IF(Jogo!I531=Conferência!$I$2,Conferência!$I$2,\"\")","v":""},{"$f":"IF(Jogo!J531=Conferência!$J$2,Conferência!$J$2,\"\")","v":""},{"$f":"IF(Jogo!K531=Conferência!$K$2,Conferência!$K$2,\"\")","v":""},{"$f":"IF(Jogo!L531=Conferência!$L$2,Conferência!$L$2,\"\")","v":""},{"$f":"IF(Jogo!M531=Conferência!$M$2,Conferência!$M$2,\"\")","v":""},{"$f":"IF(Jogo!N531=Conferência!$N$2,Conferência!$N$2,\"\")","v":""},{"$f":"IF(Jogo!O531=Conferência!$O$2,Conferência!$O$2,\"\")","v":""},{"$f":"IF(Jogo!P531=Conferência!$P$2,Conferência!$P$2,\"\")","v":""},{"$f":"IF(Jogo!Q531=Conferência!$Q$2,Conferência!$Q$2,\"\")","v":""},""]
[{"$f":"IF(Jogo!A532=Conferência!$A$2,Conferência!$A$2,\"\")","v":""},{"$f":"IF(Jogo!B532=Conferência!$B$2,Conferência!$B$2,\"\")","v":""},{"$f":"IF(Jogo!C532=Conferência!$C$2,Conferência!$C$2,\"\")","v":""},{"$f":"IF(Jogo!D532=Conferência!$D$2,Conferência!$D$2,\"\")","v":""},{"$f":"IF(Jogo!E532=Conferência!$E$2,Conferência!$E$2,\"\")","v":""},{"$f":"IF(Jogo!F532=Conferência!$F$2,Conferência!$F$2,\"\")","v":""},{"$f":"IF(Jogo!G532=Conferência!$G$2,Conferência!$G$2,\"\")","v":""},{"$f":"IF(Jogo!H532=Conferência!$H$2,Conferência!$H$2,\"\")","v":""},{"$f":"IF(Jogo!I532=Conferência!$I$2,Conferência!$I$2,\"\")","v":""},{"$f":"IF(Jogo!J532=Conferência!$J$2,Conferência!$J$2,\"\")","v":""},{"$f":"IF(Jogo!K532=Conferência!$K$2,Conferência!$K$2,\"\")","v":""},{"$f":"IF(Jogo!L532=Conferência!$L$2,Conferência!$L$2,\"\")","v":""},{"$f":"IF(Jogo!M532=Conferência!$M$2,Conferência!$M$2,\"\")","v":""},{"$f":"IF(Jogo!N532=Conferência!$N$2,Conferência!$N$2,\"\")","v":""},{"$f":"IF(Jogo!O532=Conferência!$O$2,Conferência!$O$2,\"\")","v":""},{"$f":"IF(Jogo!P532=Conferência!$P$2,Conferência!$P$2,\"\")","v":""},{"$f":"IF(Jogo!Q532=Conferência!$Q$2,Conferência!$Q$2,\"\")","v":""},""]
[{"$f":"IF(Jogo!A533=Conferência!$A$2,Conferência!$A$2,\"\")","v":""},{"$f":"IF(Jogo!B533=Conferência!$B$2,Conferência!$B$2,\"\")","v":""},{"$f":"IF(Jogo!C533=Conferência!$C$2,Conferência!$C$2,\"\")","v":""},{"$f":"IF(Jogo!D533=Conferência!$D$2,Conferência!$D$2,\"\")","v":""},{"$f":"IF(Jogo!E533=Conferência!$E$2,Conferência!$E$2,\"\")","v":""},{"$f":"IF(Jogo!F533=Conferência!$F$2,Conferência!$F$2,\"\")","v":""},{"$f":"IF(Jogo!G533=Conferência!$G$2,Conferência!$G$2,\"\")","v":""},{"$f":"IF(Jogo!H533=Conferência!$H$2,Conferência!$H$2,\"\")","v":""},{"$f":"IF(Jogo!I533=Conferência!$I$2,Conferência!$I$2,\"\")","v":""},{"$f":"IF(Jogo!J533=Conferência!$J$2,Conferência!$J$2,\"\")","v":""},{"$f":"IF(Jogo!K533=Conferência!$K$2,Conferência!$K$2,\"\")","v":""},{"$f":"IF(Jogo!L533=Conferência!$L$2,Conferência!$L$2,\"\")","v":""},{"$f":"IF(Jogo!M533=Conferência!$M$2,Conferência!$M$2,\"\")","v":""},{"$f":"IF(Jogo!N533=Conferência!$N$2,Conferência!$N$2,\"\")","v":""},{"$f":"IF(Jogo!O533=Conferência!$O$2,Conferência!$O$2,\"\")","v":""},{"$f":"IF(Jogo!P533=Conferência!$P$2,Conferência!$P$2,\"\")","v":""},{"$f":"IF(Jogo!Q533=Conferência!$Q$2,Conferência!$Q$2,\"\")","v":""},""]
[{"$f":"IF(Jogo!A534=Conferência!$A$2,Conferência!$A$2,\"\")","v":""},{"$f":"IF(Jogo!B534=Conferência!$B$2,Conferência!$B$2,\"\")","v":""},{"$f":"IF(Jogo!C534=Conferência!$C$2,Conferência!$C$2,\"\")","v":""},{"$f":"IF(Jogo!D534=Conferência!$D$2,Conferência!$D$2,\"\")","v":""},{"$f":"IF(Jogo!E534=Conferência!$E$2,Conferência!$E$2,\"\")","v":""},{"$f":"IF(Jogo!F534=Conferência!$F$2,Conferência!$F$2,\"\")","v":""},{"$f":"IF(Jogo!G534=Conferência!$G$2,Conferência!$G$2,\"\")","v":""},{"$f":"IF(Jogo!H534=Conferência!$H$2,Conferência!$H$2,\"\")","v":""},{"$f":"IF(Jogo!I534=Conferência!$I$2,Conferência!$I$2,\"\")","v":""},{"$f":"IF(Jogo!J534=Conferência!$J$2,Conferência!$J$2,\"\")","v":""},{"$f":"IF(Jogo!K534=Conferência!$K$2,Conferência!$K$2,\"\")","v":""},{"$f":"IF(Jogo!L534=Conferência!$L$2,Conferência!$L$2,\"\")","v":""},{"$f":"IF(Jogo!M534=Conferência!$M$2,Conferência!$M$2,\"\")","v":""},{"$f":"IF(Jogo!N534=Conferência!$N$2,Conferência!$N$2,\"\")","v":""},{"$f":"IF(Jogo!O534=Conferência!$O$2,Conferência!$O$2,\"\")","v":""},{"$f":"IF(Jogo!P534=Conferência!$P$2,Conferência!$P$2,\"\")","v":""},{"$f":"IF(Jogo!Q534=Conferência!$Q$2,Conferência!$Q$2,\"\")","v":""},""]
[{"$f":"IF(Jogo!A535=Conferência!$A$2,Conferência!$A$2,\"\")","v":""},{"$f":"IF(Jogo!B535=Conferência!$B$2,Conferência!$B$2,\"\")","v":""},{"$f":"IF(Jogo!C535=Conferência!$C$2,Conferência!$C$2,\"\")","v":""},{"$f":"IF(Jogo!D535=Conferência!$D$2,Conferência!$D$2,\"\")","v":""},{"$f":"IF(Jogo!E535=Conferência!$E$2,Conferência!$E$2,\"\")","v":""},{"$f":"IF(Jogo!F535=Conferência!$F$2,Conferência!$F$2,\"\")","v":""},{"$f":"IF(Jogo!G535=Conferência!$G$2,Conferência!$G$2,\"\")","v":""},{"$f":"IF(Jogo!H535=Conferência!$H$2,Conferência!$H$2,\"\")","v":""},{"$f":"IF(Jogo!I535=Conferência!$I$2,Conferência!$I$2,\"\")","v":""},{"$f":"IF(Jogo!J535=Conferência!$J$2,Conferência!$J$2,\"\")","v":""},{"$f":"IF(Jogo!K535=Conferência!$K$2,Conferência!$K$2,\"\")","v":""},{"$f":"IF(Jogo!L535=Conferência!$L$2,Conferência!$L$2,\"\")","v":""},{"$f":"IF(Jogo!M535=Conferência!$M$2,Conferência!$M$2,\"\")","v":""},{"$f":"IF(Jogo!N535=Conferência!$N$2,Conferência!$N$2,\"\")","v":""},{"$f":"IF(Jogo!O535=Conferência!$O$2,Conferência!$O$2,\"\")","v":""},{"$f":"IF(Jogo!P535=Conferência!$P$2,Conferência!$P$2,\"\")","v":""},{"$f":"IF(Jogo!Q535=Conferência!$Q$2,Conferência!$Q$2,\"\")","v":""},""]
[{"$f":"IF(Jogo!A536=Conferência!$A$2,Conferência!$A$2,\"\")","v":""},{"$f":"IF(Jogo!B536=Conferência!$B$2,Conferência!$B$2,\"\")","v":""},{"$f":"IF(Jogo!C536=Conferência!$C$2,Conferência!$C$2,\"\")","v":""},{"$f":"IF(Jogo!D536=Conferência!$D$2,Conferência!$D$2,\"\")","v":""},{"$f":"IF(Jogo!E536=Conferência!$E$2,Conferência!$E$2,\"\")","v":""},{"$f":"IF(Jogo!F536=Conferência!$F$2,Conferência!$F$2,\"\")","v":""},{"$f":"IF(Jogo!G536=Conferência!$G$2,Conferência!$G$2,\"\")","v":""},{"$f":"IF(Jogo!H536=Conferência!$H$2,Conferência!$H$2,\"\")","v":""},{"$f":"IF(Jogo!I536=Conferência!$I$2,Conferência!$I$2,\"\")","v":""},{"$f":"IF(Jogo!J536=Conferência!$J$2,Conferência!$J$2,\"\")","v":""},{"$f":"IF(Jogo!K536=Conferência!$K$2,Conferência!$K$2,\"\")","v":""},{"$f":"IF(Jogo!L536=Conferência!$L$2,Conferência!$L$2,\"\")","v":""},{"$f":"IF(Jogo!M536=Conferência!$M$2,Conferência!$M$2,\"\")","v":""},{"$f":"IF(Jogo!N536=Conferência!$N$2,Conferência!$N$2,\"\")","v":""},{"$f":"IF(Jogo!O536=Conferência!$O$2,Conferência!$O$2,\"\")","v":""},{"$f":"IF(Jogo!P536=Conferência!$P$2,Conferência!$P$2,\"\")","v":""},{"$f":"IF(Jogo!Q536=Conferência!$Q$2,Conferência!$Q$2,\"\")","v":""},""]
[{"$f":"IF(Jogo!A537=Conferência!$A$2,Conferência!$A$2,\"\")","v":""},{"$f":"IF(Jogo!B537=Conferência!$B$2,Conferência!$B$2,\"\")","v":""},{"$f":"IF(Jogo!C537=Conferência!$C$2,Conferência!$C$2,\"\")","v":""},{"$f":"IF(Jogo!D537=Conferência!$D$2,Conferência!$D$2,\"\")","v":""},{"$f":"IF(Jogo!E537=Conferência!$E$2,Conferência!$E$2,\"\")","v":""},{"$f":"IF(Jogo!F537=Conferência!$F$2,Conferência!$F$2,\"\")","v":""},{"$f":"IF(Jogo!G537=Conferência!$G$2,Conferência!$G$2,\"\")","v":""},{"$f":"IF(Jogo!H537=Conferência!$H$2,Conferência!$H$2,\"\")","v":""},{"$f":"IF(Jogo!I537=Conferência!$I$2,Conferência!$I$2,\"\")","v":""},{"$f":"IF(Jogo!J537=Conferência!$J$2,Conferência!$J$2,\"\")","v":""},{"$f":"IF(Jogo!K537=Conferência!$K$2,Conferência!$K$2,\"\")","v":""},{"$f":"IF(Jogo!L537=Conferência!$L$2,Conferência!$L$2,\"\")","v":""},{"$f":"IF(Jogo!M537=Conferência!$M$2,Conferência!$M$2,\"\")","v":""},{"$f":"IF(Jogo!N537=Conferência!$N$2,Conferência!$N$2,\"\")","v":""},{"$f":"IF(Jogo!O537=Conferência!$O$2,Conferência!$O$2,\"\")","v":""},{"$f":"IF(Jogo!P537=Conferência!$P$2,Conferência!$P$2,\"\")","v":""},{"$f":"IF(Jogo!Q537=Conferência!$Q$2,Conferência!$Q$2,\"\")","v":""},""]
[{"$f":"IF(Jogo!A538=Conferência!$A$2,Conferência!$A$2,\"\")","v":""},{"$f":"IF(Jogo!B538=Conferência!$B$2,Conferência!$B$2,\"\")","v":""},{"$f":"IF(Jogo!C538=Conferência!$C$2,Conferência!$C$2,\"\")","v":""},{"$f":"IF(Jogo!D538=Conferência!$D$2,Conferência!$D$2,\"\")","v":""},{"$f":"IF(Jogo!E538=Conferência!$E$2,Conferência!$E$2,\"\")","v":""},{"$f":"IF(Jogo!F538=Conferência!$F$2,Conferência!$F$2,\"\")","v":""},{"$f":"IF(Jogo!G538=Conferência!$G$2,Conferência!$G$2,\"\")","v":""},{"$f":"IF(Jogo!H538=Conferência!$H$2,Conferência!$H$2,\"\")","v":""},{"$f":"IF(Jogo!I538=Conferência!$I$2,Conferência!$I$2,\"\")","v":""},{"$f":"IF(Jogo!J538=Conferência!$J$2,Conferência!$J$2,\"\")","v":""},{"$f":"IF(Jogo!K538=Conferência!$K$2,Conferência!$K$2,\"\")","v":""},{"$f":"IF(Jogo!L538=Conferência!$L$2,Conferência!$L$2,\"\")","v":""},{"$f":"IF(Jogo!M538=Conferência!$M$2,Conferência!$M$2,\"\")","v":""},{"$f":"IF(Jogo!N538=Conferência!$N$2,Conferência!$N$2,\"\")","v":""},{"$f":"IF(Jogo!O538=Conferência!$O$2,Conferência!$O$2,\"\")","v":""},{"$f":"IF(Jogo!P538=Conferência!$P$2,Conferência!$P$2,\"\")","v":""},{"$f":"IF(Jogo!Q538=Conferência!$Q$2,Conferência!$Q$2,\"\")","v":""},""]
[{"$f":"IF(Jogo!A539=Conferência!$A$2,Conferência!$A$2,\"\")","v":""},{"$f":"IF(Jogo!B539=Conferência!$B$2,Conferência!$B$2,\"\")","v":""},{"$f":"IF(Jogo!C539=Conferência!$C$2,Conferência!$C$2,\"\")","v":""},{"$f":"IF(Jogo!D539=Conferência!$D$2,Conferência!$D$2,\"\")","v":""},{"$f":"IF(Jogo!E539=Conferência!$E$2,Conferência!$E$2,\"\")","v":""},{"$f":"IF(Jogo!F539=Conferência!$F$2,Conferência!$F$2,\"\")","v":""},{"$f":"IF(Jogo!G539=Conferência!$G$2,Conferência!$G$2,\"\")","v":""},{"$f":"IF(Jogo!H539=Conferência!$H$2,Conferência!$H$2,\"\")","v":""},{"$f":"IF(Jogo!I539=Conferência!$I$2,Conferência!$I$2,\"\")","v":""},{"$f":"IF(Jogo!J539=Conferência!$J$2,Conferência!$J$2,\"\")","v":""},{"$f":"IF(Jogo!K539=Conferência!$K$2,Conferência!$K$2,\"\")","v":""},{"$f":"IF(Jogo!L539=Conferência!$L$2,Conferência!$L$2,\"\")","v":""},{"$f":"IF(Jogo!M539=Conferência!$M$2,Conferência!$M$2,\"\")","v":""},{"$f":"IF(Jogo!N539=Conferência!$N$2,Conferência!$N$2,\"\")","v":""},{"$f":"IF(Jogo!O539=Conferência!$O$2,Conferência!$O$2,\"\")","v":""},{"$f":"IF(Jogo!P539=Conferência!$P$2,Conferência!$P$2,\"\")","v":""},{"$f":"IF(Jogo!Q539=Conferência!$Q$2,Conferência!$Q$2,\"\")","v":""},""]
[{"$f":"IF(Jogo!A540=Conferência!$A$2,Conferência!$A$2,\"\")","v":""},{"$f":"IF(Jogo!B540=Conferência!$B$2,Conferência!$B$2,\"\")","v":""},{"$f":"IF(Jogo!C540=Conferência!$C$2,Conferência!$C$2,\"\")","v":""},{"$f":"IF(Jogo!D540=Conferência!$D$2,Conferência!$D$2,\"\")","v":""},{"$f":"IF(Jogo!E540=Conferência!$E$2,Conferência!$E$2,\"\")","v":""},{"$f":"IF(Jogo!F540=Conferência!$F$2,Conferência!$F$2,\"\")","v":""},{"$f":"IF(Jogo!G540=Conferência!$G$2,Conferência!$G$2,\"\")","v":""},{"$f":"IF(Jogo!H540=Conferência!$H$2,Conferência!$H$2,\"\")","v":""},{"$f":"IF(Jogo!I540=Conferência!$I$2,Conferência!$I$2,\"\")","v":""},{"$f":"IF(Jogo!J540=Conferência!$J$2,Conferência!$J$2,\"\")","v":""},{"$f":"IF(Jogo!K540=Conferência!$K$2,Conferência!$K$2,\"\")","v":""},{"$f":"IF(Jogo!L540=Conferência!$L$2,Conferência!$L$2,\"\")","v":""},{"$f":"IF(Jogo!M540=Conferência!$M$2,Conferência!$M$2,\"\")","v":""},{"$f":"IF(Jogo!N540=Conferência!$N$2,Conferência!$N$2,\"\")","v":""},{"$f":"IF(Jogo!O540=Conferência!$O$2,Conferência!$O$2,\"\")","v":""},{"$f":"IF(Jogo!P540=Conferência!$P$2,Conferência!$P$2,\"\")","v":""},{"$f":"IF(Jogo!Q540=Conferência!$Q$2,Conferência!$Q$2,\"\")","v":""},""]
[{"$f":"IF(Jogo!A541=Conferência!$A$2,Conferência!$A$2,\"\")","v":""},{"$f":"IF(Jogo!B541=Conferência!$B$2,Conferência!$B$2,\"\")","v":""},{"$f":"IF(Jogo!C541=Conferência!$C$2,Conferência!$C$2,\"\")","v":""},{"$f":"IF(Jogo!D541=Conferência!$D$2,Conferência!$D$2,\"\")","v":""},{"$f":"IF(Jogo!E541=Conferência!$E$2,Conferência!$E$2,\"\")","v":""},{"$f":"IF(Jogo!F541=Conferência!$F$2,Conferência!$F$2,\"\")","v":""},{"$f":"IF(Jogo!G541=Conferência!$G$2,Conferência!$G$2,\"\")","v":""},{"$f":"IF(Jogo!H541=Conferência!$H$2,Conferência!$H$2,\"\")","v":""},{"$f":"IF(Jogo!I541=Conferência!$I$2,Conferência!$I$2,\"\")","v":""},{"$f":"IF(Jogo!J541=Conferência!$J$2,Conferência!$J$2,\"\")","v":""},{"$f":"IF(Jogo!K541=Conferência!$K$2,Conferência!$K$2,\"\")","v":""},{"$f":"IF(Jogo!L541=Conferência!$L$2,Conferência!$L$2,\"\")","v":""},{"$f":"IF(Jogo!M541=Conferência!$M$2,Conferência!$M$2,\"\")","v":""},{"$f":"IF(Jogo!N541=Conferência!$N$2,Conferência!$N$2,\"\")","v":""},{"$f":"IF(Jogo!O541=Conferência!$O$2,Conferência!$O$2,\"\")","v":""},{"$f":"IF(Jogo!P541=Conferência!$P$2,Conferência!$P$2,\"\")","v":""},{"$f":"IF(Jogo!Q541=Conferência!$Q$2,Conferência!$Q$2,\"\")","v":""},""]
[{"$f":"IF(Jogo!A542=Conferência!$A$2,Conferência!$A$2,\"\")","v":""},{"$f":"IF(Jogo!B542=Conferência!$B$2,Conferência!$B$2,\"\")","v":""},{"$f":"IF(Jogo!C542=Conferência!$C$2,Conferência!$C$2,\"\")","v":""},{"$f":"IF(Jogo!D542=Conferência!$D$2,Conferência!$D$2,\"\")","v":""},{"$f":"IF(Jogo!E542=Conferência!$E$2,Conferência!$E$2,\"\")","v":""},{"$f":"IF(Jogo!F542=Conferência!$F$2,Conferência!$F$2,\"\")","v":""},{"$f":"IF(Jogo!G542=Conferência!$G$2,Conferência!$G$2,\"\")","v":""},{"$f":"IF(Jogo!H542=Conferência!$H$2,Conferência!$H$2,\"\")","v":""},{"$f":"IF(Jogo!I542=Conferência!$I$2,Conferência!$I$2,\"\")","v":""},{"$f":"IF(Jogo!J542=Conferência!$J$2,Conferência!$J$2,\"\")","v":""},{"$f":"IF(Jogo!K542=Conferência!$K$2,Conferência!$K$2,\"\")","v":""},{"$f":"IF(Jogo!L542=Conferência!$L$2,Conferência!$L$2,\"\")","v":""},{"$f":"IF(Jogo!M542=Conferência!$M$2,Conferência!$M$2,\"\")","v":""},{"$f":"IF(Jogo!N542=Conferência!$N$2,Conferência!$N$2,\"\")","v":""},{"$f":"IF(Jogo!O542=Conferência!$O$2,Conferência!$O$2,\"\")","v":""},{"$f":"IF(Jogo!P542=Conferência!$P$2,Conferência!$P$2,\"\")","v":""},{"$f":"IF(Jogo!Q542=Conferência!$Q$2,Conferência!$Q$2,\"\")","v":""},""]
[{"$f":"IF(Jogo!A543=Conferência!$A$2,Conferência!$A$2,\"\")","v":""},{"$f":"IF(Jogo!B543=Conferência!$B$2,Conferência!$B$2,\"\")","v":""},{"$f":"IF(Jogo!C543=Conferência!$C$2,Conferência!$C$2,\"\")","v":""},{"$f":"IF(Jogo!D543=Conferência!$D$2,Conferência!$D$2,\"\")","v":""},{"$f":"IF(Jogo!E543=Conferência!$E$2,Conferência!$E$2,\"\")","v":""},{"$f":"IF(Jogo!F543=Conferência!$F$2,Conferência!$F$2,\"\")","v":""},{"$f":"IF(Jogo!G543=Conferência!$G$2,Conferência!$G$2,\"\")","v":""},{"$f":"IF(Jogo!H543=Conferência!$H$2,Conferência!$H$2,\"\")","v":""},{"$f":"IF(Jogo!I543=Conferência!$I$2,Conferência!$I$2,\"\")","v":""},{"$f":"IF(Jogo!J543=Conferência!$J$2,Conferência!$J$2,\"\")","v":""},{"$f":"IF(Jogo!K543=Conferência!$K$2,Conferência!$K$2,\"\")","v":""},{"$f":"IF(Jogo!L543=Conferência!$L$2,Conferência!$L$2,\"\")","v":""},{"$f":"IF(Jogo!M543=Conferência!$M$2,Conferência!$M$2,\"\")","v":""},{"$f":"IF(Jogo!N543=Conferência!$N$2,Conferência!$N$2,\"\")","v":""},{"$f":"IF(Jogo!O543=Conferência!$O$2,Conferência!$O$2,\"\")","v":""},{"$f":"IF(Jogo!P543=Conferência!$P$2,Conferência!$P$2,\"\")","v":""},{"$f":"IF(Jogo!Q543=Conferência!$Q$2,Conferência!$Q$2,\"\")","v":""},""]
[{"$f":"IF(Jogo!A544=Conferência!$A$2,Conferência!$A$2,\"\")","v":""},{"$f":"IF(Jogo!B544=Conferência!$B$2,Conferência!$B$2,\"\")","v":""},{"$f":"IF(Jogo!C544=Conferência!$C$2,Conferência!$C$2,\"\")","v":""},{"$f":"IF(Jogo!D544=Conferência!$D$2,Conferência!$D$2,\"\")","v":""},{"$f":"IF(Jogo!E544=Conferência!$E$2,Conferência!$E$2,\"\")","v":""},{"$f":"IF(Jogo!F544=Conferência!$F$2,Conferência!$F$2,\"\")","v":""},{"$f":"IF(Jogo!G544=Conferência!$G$2,Conferência!$G$2,\"\")","v":""},{"$f":"IF(Jogo!H544=Conferência!$H$2,Conferência!$H$2,\"\")","v":""},{"$f":"IF(Jogo!I544=Conferência!$I$2,Conferência!$I$2,\"\")","v":""},{"$f":"IF(Jogo!J544=Conferência!$J$2,Conferência!$J$2,\"\")","v":""},{"$f":"IF(Jogo!K544=Conferência!$K$2,Conferência!$K$2,\"\")","v":""},{"$f":"IF(Jogo!L544=Conferência!$L$2,Conferência!$L$2,\"\")","v":""},{"$f":"IF(Jogo!M544=Conferência!$M$2,Conferência!$M$2,\"\")","v":""},{"$f":"IF(Jogo!N544=Conferência!$N$2,Conferência!$N$2,\"\")","v":""},{"$f":"IF(Jogo!O544=Conferência!$O$2,Conferência!$O$2,\"\")","v":""},{"$f":"IF(Jogo!P544=Conferência!$P$2,Conferência!$P$2,\"\")","v":""},{"$f":"IF(Jogo!Q544=Conferência!$Q$2,Conferência!$Q$2,\"\")","v":""},""]
[{"$f":"IF(Jogo!A545=Conferência!$A$2,Conferência!$A$2,\"\")","v":""},{"$f":"IF(Jogo!B545=Conferência!$B$2,Conferência!$B$2,\"\")","v":""},{"$f":"IF(Jogo!C545=Conferência!$C$2,Conferência!$C$2,\"\")","v":""},{"$f":"IF(Jogo!D545=Conferência!$D$2,Conferência!$D$2,\"\")","v":""},{"$f":"IF(Jogo!E545=Conferência!$E$2,Conferência!$E$2,\"\")","v":""},{"$f":"IF(Jogo!F545=Conferência!$F$2,Conferência!$F$2,\"\")","v":""},{"$f":"IF(Jogo!G545=Conferência!$G$2,Conferência!$G$2,\"\")","v":""},{"$f":"IF(Jogo!H545=Conferência!$H$2,Conferência!$H$2,\"\")","v":""},{"$f":"IF(Jogo!I545=Conferência!$I$2,Conferência!$I$2,\"\")","v":""},{"$f":"IF(Jogo!J545=Conferência!$J$2,Conferência!$J$2,\"\")","v":""},{"$f":"IF(Jogo!K545=Conferência!$K$2,Conferência!$K$2,\"\")","v":""},{"$f":"IF(Jogo!L545=Conferência!$L$2,Conferência!$L$2,\"\")","v":""},{"$f":"IF(Jogo!M545=Conferência!$M$2,Conferência!$M$2,\"\")","v":""},{"$f":"IF(Jogo!N545=Conferência!$N$2,Conferência!$N$2,\"\")","v":""},{"$f":"IF(Jogo!O545=Conferência!$O$2,Conferência!$O$2,\"\")","v":""},{"$f":"IF(Jogo!P545=Conferência!$P$2,Conferência!$P$2,\"\")","v":""},{"$f":"IF(Jogo!Q545=Conferência!$Q$2,Conferência!$Q$2,\"\")","v":""},""]
[{"$f":"IF(Jogo!A546=Conferência!$A$2,Conferência!$A$2,\"\")","v":""},{"$f":"IF(Jogo!B546=Conferência!$B$2,Conferência!$B$2,\"\")","v":""},{"$f":"IF(Jogo!C546=Conferência!$C$2,Conferência!$C$2,\"\")","v":""},{"$f":"IF(Jogo!D546=Conferência!$D$2,Conferência!$D$2,\"\")","v":""},{"$f":"IF(Jogo!E546=Conferência!$E$2,Conferência!$E$2,\"\")","v":""},{"$f":"IF(Jogo!F546=Conferência!$F$2,Conferência!$F$2,\"\")","v":""},{"$f":"IF(Jogo!G546=Conferência!$G$2,Conferência!$G$2,\"\")","v":""},{"$f":"IF(Jogo!H546=Conferência!$H$2,Conferência!$H$2,\"\")","v":""},{"$f":"IF(Jogo!I546=Conferência!$I$2,Conferência!$I$2,\"\")","v":""},{"$f":"IF(Jogo!J546=Conferência!$J$2,Conferência!$J$2,\"\")","v":""},{"$f":"IF(Jogo!K546=Conferência!$K$2,Conferência!$K$2,\"\")","v":""},{"$f":"IF(Jogo!L546=Conferência!$L$2,Conferência!$L$2,\"\")","v":""},{"$f":"IF(Jogo!M546=Conferência!$M$2,Conferência!$M$2,\"\")","v":""},{"$f":"IF(Jogo!N546=Conferência!$N$2,Conferência!$N$2,\"\")","v":""},{"$f":"IF(Jogo!O546=Conferência!$O$2,Conferência!$O$2,\"\")","v":""},{"$f":"IF(Jogo!P546=Conferência!$P$2,Conferência!$P$2,\"\")","v":""},{"$f":"IF(Jogo!Q546=Conferência!$Q$2,Conferência!$Q$2,\"\")","v":""},""]
[{"$f":"IF(Jogo!A547=Conferência!$A$2,Conferência!$A$2,\"\")","v":""},{"$f":"IF(Jogo!B547=Conferência!$B$2,Conferência!$B$2,\"\")","v":""},{"$f":"IF(Jogo!C547=Conferência!$C$2,Conferência!$C$2,\"\")","v":""},{"$f":"IF(Jogo!D547=Conferência!$D$2,Conferência!$D$2,\"\")","v":""},{"$f":"IF(Jogo!E547=Conferência!$E$2,Conferência!$E$2,\"\")","v":""},{"$f":"IF(Jogo!F547=Conferência!$F$2,Conferência!$F$2,\"\")","v":""},{"$f":"IF(Jogo!G547=Conferência!$G$2,Conferência!$G$2,\"\")","v":""},{"$f":"IF(Jogo!H547=Conferência!$H$2,Conferência!$H$2,\"\")","v":""},{"$f":"IF(Jogo!I547=Conferência!$I$2,Conferência!$I$2,\"\")","v":""},{"$f":"IF(Jogo!J547=Conferência!$J$2,Conferência!$J$2,\"\")","v":""},{"$f":"IF(Jogo!K547=Conferência!$K$2,Conferência!$K$2,\"\")","v":""},{"$f":"IF(Jogo!L547=Conferência!$L$2,Conferência!$L$2,\"\")","v":""},{"$f":"IF(Jogo!M547=Conferência!$M$2,Conferência!$M$2,\"\")","v":""},{"$f":"IF(Jogo!N547=Conferência!$N$2,Conferência!$N$2,\"\")","v":""},{"$f":"IF(Jogo!O547=Conferência!$O$2,Conferência!$O$2,\"\")","v":""},{"$f":"IF(Jogo!P547=Conferência!$P$2,Conferência!$P$2,\"\")","v":""},{"$f":"IF(Jogo!Q547=Conferência!$Q$2,Conferência!$Q$2,\"\")","v":""},""]
[{"$f":"IF(Jogo!A548=Conferência!$A$2,Conferência!$A$2,\"\")","v":""},{"$f":"IF(Jogo!B548=Conferência!$B$2,Conferência!$B$2,\"\")","v":""},{"$f":"IF(Jogo!C548=Conferência!$C$2,Conferência!$C$2,\"\")","v":""},{"$f":"IF(Jogo!D548=Conferência!$D$2,Conferência!$D$2,\"\")","v":""},{"$f":"IF(Jogo!E548=Conferência!$E$2,Conferência!$E$2,\"\")","v":""},{"$f":"IF(Jogo!F548=Conferência!$F$2,Conferência!$F$2,\"\")","v":""},{"$f":"IF(Jogo!G548=Conferência!$G$2,Conferência!$G$2,\"\")","v":""},{"$f":"IF(Jogo!H548=Conferência!$H$2,Conferência!$H$2,\"\")","v":""},{"$f":"IF(Jogo!I548=Conferência!$I$2,Conferência!$I$2,\"\")","v":""},{"$f":"IF(Jogo!J548=Conferência!$J$2,Conferência!$J$2,\"\")","v":""},{"$f":"IF(Jogo!K548=Conferência!$K$2,Conferência!$K$2,\"\")","v":""},{"$f":"IF(Jogo!L548=Conferência!$L$2,Conferência!$L$2,\"\")","v":""},{"$f":"IF(Jogo!M548=Conferência!$M$2,Conferência!$M$2,\"\")","v":""},{"$f":"IF(Jogo!N548=Conferência!$N$2,Conferência!$N$2,\"\")","v":""},{"$f":"IF(Jogo!O548=Conferência!$O$2,Conferência!$O$2,\"\")","v":""},{"$f":"IF(Jogo!P548=Conferência!$P$2,Conferência!$P$2,\"\")","v":""},{"$f":"IF(Jogo!Q548=Conferência!$Q$2,Conferência!$Q$2,\"\")","v":""},""]
[{"$f":"IF(Jogo!A549=Conferência!$A$2,Conferência!$A$2,\"\")","v":""},{"$f":"IF(Jogo!B549=Conferência!$B$2,Conferência!$B$2,\"\")","v":""},{"$f":"IF(Jogo!C549=Conferência!$C$2,Conferência!$C$2,\"\")","v":""},{"$f":"IF(Jogo!D549=Conferência!$D$2,Conferência!$D$2,\"\")","v":""},{"$f":"IF(Jogo!E549=Conferência!$E$2,Conferência!$E$2,\"\")","v":""},{"$f":"IF(Jogo!F549=Conferência!$F$2,Conferência!$F$2,\"\")","v":""},{"$f":"IF(Jogo!G549=Conferência!$G$2,Conferência!$G$2,\"\")","v":""},{"$f":"IF(Jogo!H549=Conferência!$H$2,Conferência!$H$2,\"\")","v":""},{"$f":"IF(Jogo!I549=Conferência!$I$2,Conferência!$I$2,\"\")","v":""},{"$f":"IF(Jogo!J549=Conferência!$J$2,Conferência!$J$2,\"\")","v":""},{"$f":"IF(Jogo!K549=Conferência!$K$2,Conferência!$K$2,\"\")","v":""},{"$f":"IF(Jogo!L549=Conferência!$L$2,Conferência!$L$2,\"\")","v":""},{"$f":"IF(Jogo!M549=Conferência!$M$2,Conferência!$M$2,\"\")","v":""},{"$f":"IF(Jogo!N549=Conferência!$N$2,Conferência!$N$2,\"\")","v":""},{"$f":"IF(Jogo!O549=Conferência!$O$2,Conferência!$O$2,\"\")","v":""},{"$f":"IF(Jogo!P549=Conferência!$P$2,Conferência!$P$2,\"\")","v":""},{"$f":"IF(Jogo!Q549=Conferência!$Q$2,Conferência!$Q$2,\"\")","v":""},""]
[{"$f":"IF(Jogo!A550=Conferência!$A$2,Conferência!$A$2,\"\")","v":""},{"$f":"IF(Jogo!B550=Conferência!$B$2,Conferência!$B$2,\"\")","v":""},{"$f":"IF(Jogo!C550=Conferência!$C$2,Conferência!$C$2,\"\")","v":""},{"$f":"IF(Jogo!D550=Conferência!$D$2,Conferência!$D$2,\"\")","v":""},{"$f":"IF(Jogo!E550=Conferência!$E$2,Conferência!$E$2,\"\")","v":""},{"$f":"IF(Jogo!F550=Conferência!$F$2,Conferência!$F$2,\"\")","v":""},{"$f":"IF(Jogo!G550=Conferência!$G$2,Conferência!$G$2,\"\")","v":""},{"$f":"IF(Jogo!H550=Conferência!$H$2,Conferência!$H$2,\"\")","v":""},{"$f":"IF(Jogo!I550=Conferência!$I$2,Conferência!$I$2,\"\")","v":""},{"$f":"IF(Jogo!J550=Conferência!$J$2,Conferência!$J$2,\"\")","v":""},{"$f":"IF(Jogo!K550=Conferência!$K$2,Conferência!$K$2,\"\")","v":""},{"$f":"IF(Jogo!L550=Conferência!$L$2,Conferência!$L$2,\"\")","v":""},{"$f":"IF(Jogo!M550=Conferência!$M$2,Conferência!$M$2,\"\")","v":""},{"$f":"IF(Jogo!N550=Conferência!$N$2,Conferência!$N$2,\"\")","v":""},{"$f":"IF(Jogo!O550=Conferência!$O$2,Conferência!$O$2,\"\")","v":""},{"$f":"IF(Jogo!P550=Conferência!$P$2,Conferência!$P$2,\"\")","v":""},{"$f":"IF(Jogo!Q550=Conferência!$Q$2,Conferência!$Q$2,\"\")","v":""},""]
[{"$f":"IF(Jogo!A551=Conferência!$A$2,Conferência!$A$2,\"\")","v":""},{"$f":"IF(Jogo!B551=Conferência!$B$2,Conferência!$B$2,\"\")","v":""},{"$f":"IF(Jogo!C551=Conferência!$C$2,Conferência!$C$2,\"\")","v":""},{"$f":"IF(Jogo!D551=Conferência!$D$2,Conferência!$D$2,\"\")","v":""},{"$f":"IF(Jogo!E551=Conferência!$E$2,Conferência!$E$2,\"\")","v":""},{"$f":"IF(Jogo!F551=Conferência!$F$2,Conferência!$F$2,\"\")","v":""},{"$f":"IF(Jogo!G551=Conferência!$G$2,Conferência!$G$2,\"\")","v":""},{"$f":"IF(Jogo!H551=Conferência!$H$2,Conferência!$H$2,\"\")","v":""},{"$f":"IF(Jogo!I551=Conferência!$I$2,Conferência!$I$2,\"\")","v":""},{"$f":"IF(Jogo!J551=Conferência!$J$2,Conferência!$J$2,\"\")","v":""},{"$f":"IF(Jogo!K551=Conferência!$K$2,Conferência!$K$2,\"\")","v":""},{"$f":"IF(Jogo!L551=Conferência!$L$2,Conferência!$L$2,\"\")","v":""},{"$f":"IF(Jogo!M551=Conferência!$M$2,Conferência!$M$2,\"\")","v":""},{"$f":"IF(Jogo!N551=Conferência!$N$2,Conferência!$N$2,\"\")","v":""},{"$f":"IF(Jogo!O551=Conferência!$O$2,Conferência!$O$2,\"\")","v":""},{"$f":"IF(Jogo!P551=Conferência!$P$2,Conferência!$P$2,\"\")","v":""},{"$f":"IF(Jogo!Q551=Conferência!$Q$2,Conferência!$Q$2,\"\")","v":""},""]
[{"$f":"IF(Jogo!A552=Conferência!$A$2,Conferência!$A$2,\"\")","v":""},{"$f":"IF(Jogo!B552=Conferência!$B$2,Conferência!$B$2,\"\")","v":""},{"$f":"IF(Jogo!C552=Conferência!$C$2,Conferência!$C$2,\"\")","v":""},{"$f":"IF(Jogo!D552=Conferência!$D$2,Conferência!$D$2,\"\")","v":""},{"$f":"IF(Jogo!E552=Conferência!$E$2,Conferência!$E$2,\"\")","v":""},{"$f":"IF(Jogo!F552=Conferência!$F$2,Conferência!$F$2,\"\")","v":""},{"$f":"IF(Jogo!G552=Conferência!$G$2,Conferência!$G$2,\"\")","v":""},{"$f":"IF(Jogo!H552=Conferência!$H$2,Conferência!$H$2,\"\")","v":""},{"$f":"IF(Jogo!I552=Conferência!$I$2,Conferência!$I$2,\"\")","v":""},{"$f":"IF(Jogo!J552=Conferência!$J$2,Conferência!$J$2,\"\")","v":""},{"$f":"IF(Jogo!K552=Conferência!$K$2,Conferência!$K$2,\"\")","v":""},{"$f":"IF(Jogo!L552=Conferência!$L$2,Conferência!$L$2,\"\")","v":""},{"$f":"IF(Jogo!M552=Conferência!$M$2,Conferência!$M$2,\"\")","v":""},{"$f":"IF(Jogo!N552=Conferência!$N$2,Conferência!$N$2,\"\")","v":""},{"$f":"IF(Jogo!O552=Conferência!$O$2,Conferência!$O$2,\"\")","v":""},{"$f":"IF(Jogo!P552=Conferência!$P$2,Conferência!$P$2,\"\")","v":""},{"$f":"IF(Jogo!Q552=Conferência!$Q$2,Conferência!$Q$2,\"\")","v":""},""]
[{"$f":"IF(Jogo!A553=Conferência!$A$2,Conferência!$A$2,\"\")","v":""},{"$f":"IF(Jogo!B553=Conferência!$B$2,Conferência!$B$2,\"\")","v":""},{"$f":"IF(Jogo!C553=Conferência!$C$2,Conferência!$C$2,\"\")","v":""},{"$f":"IF(Jogo!D553=Conferência!$D$2,Conferência!$D$2,\"\")","v":""},{"$f":"IF(Jogo!E553=Conferência!$E$2,Conferência!$E$2,\"\")","v":""},{"$f":"IF(Jogo!F553=Conferência!$F$2,Conferência!$F$2,\"\")","v":""},{"$f":"IF(Jogo!G553=Conferência!$G$2,Conferência!$G$2,\"\")","v":""},{"$f":"IF(Jogo!H553=Conferência!$H$2,Conferência!$H$2,\"\")","v":""},{"$f":"IF(Jogo!I553=Conferência!$I$2,Conferência!$I$2,\"\")","v":""},{"$f":"IF(Jogo!J553=Conferência!$J$2,Conferência!$J$2,\"\")","v":""},{"$f":"IF(Jogo!K553=Conferência!$K$2,Conferência!$K$2,\"\")","v":""},{"$f":"IF(Jogo!L553=Conferência!$L$2,Conferência!$L$2,\"\")","v":""},{"$f":"IF(Jogo!M553=Conferência!$M$2,Conferência!$M$2,\"\")","v":""},{"$f":"IF(Jogo!N553=Conferência!$N$2,Conferência!$N$2,\"\")","v":""},{"$f":"IF(Jogo!O553=Conferência!$O$2,Conferência!$O$2,\"\")","v":""},{"$f":"IF(Jogo!P553=Conferência!$P$2,Conferência!$P$2,\"\")","v":""},{"$f":"IF(Jogo!Q553=Conferência!$Q$2,Conferência!$Q$2,\"\")","v":""},""]
[{"$f":"IF(Jogo!A554=Conferência!$A$2,Conferência!$A$2,\"\")","v":""},{"$f":"IF(Jogo!B554=Conferência!$B$2,Conferência!$B$2,\"\")","v":""},{"$f":"IF(Jogo!C554=Conferência!$C$2,Conferência!$C$2,\"\")","v":""},{"$f":"IF(Jogo!D554=Conferência!$D$2,Conferência!$D$2,\"\")","v":""},{"$f":"IF(Jogo!E554=Conferência!$E$2,Conferência!$E$2,\"\")","v":""},{"$f":"IF(Jogo!F554=Conferência!$F$2,Conferência!$F$2,\"\")","v":""},{"$f":"IF(Jogo!G554=Conferência!$G$2,Conferência!$G$2,\"\")","v":""},{"$f":"IF(Jogo!H554=Conferência!$H$2,Conferência!$H$2,\"\")","v":""},{"$f":"IF(Jogo!I554=Conferência!$I$2,Conferência!$I$2,\"\")","v":""},{"$f":"IF(Jogo!J554=Conferência!$J$2,Conferência!$J$2,\"\")","v":""},{"$f":"IF(Jogo!K554=Conferência!$K$2,Conferência!$K$2,\"\")","v":""},{"$f":"IF(Jogo!L554=Conferência!$L$2,Conferência!$L$2,\"\")","v":""},{"$f":"IF(Jogo!M554=Conferência!$M$2,Conferência!$M$2,\"\")","v":""},{"$f":"IF(Jogo!N554=Conferência!$N$2,Conferência!$N$2,\"\")","v":""},{"$f":"IF(Jogo!O554=Conferência!$O$2,Conferência!$O$2,\"\")","v":""},{"$f":"IF(Jogo!P554=Conferência!$P$2,Conferência!$P$2,\"\")","v":""},{"$f":"IF(Jogo!Q554=Conferência!$Q$2,Conferência!$Q$2,\"\")","v":""},""]
[{"$f":"IF(Jogo!A555=Conferência!$A$2,Conferência!$A$2,\"\")","v":""},{"$f":"IF(Jogo!B555=Conferência!$B$2,Conferência!$B$2,\"\")","v":""},{"$f":"IF(Jogo!C555=Conferência!$C$2,Conferência!$C$2,\"\")","v":""},{"$f":"IF(Jogo!D555=Conferência!$D$2,Conferência!$D$2,\"\")","v":""},{"$f":"IF(Jogo!E555=Conferência!$E$2,Conferência!$E$2,\"\")","v":""},{"$f":"IF(Jogo!F555=Conferência!$F$2,Conferência!$F$2,\"\")","v":""},{"$f":"IF(Jogo!G555=Conferência!$G$2,Conferência!$G$2,\"\")","v":""},{"$f":"IF(Jogo!H555=Conferência!$H$2,Conferência!$H$2,\"\")","v":""},{"$f":"IF(Jogo!I555=Conferência!$I$2,Conferência!$I$2,\"\")","v":""},{"$f":"IF(Jogo!J555=Conferência!$J$2,Conferência!$J$2,\"\")","v":""},{"$f":"IF(Jogo!K555=Conferência!$K$2,Conferência!$K$2,\"\")","v":""},{"$f":"IF(Jogo!L555=Conferência!$L$2,Conferência!$L$2,\"\")","v":""},{"$f":"IF(Jogo!M555=Conferência!$M$2,Conferência!$M$2,\"\")","v":""},{"$f":"IF(Jogo!N555=Conferência!$N$2,Conferência!$N$2,\"\")","v":""},{"$f":"IF(Jogo!O555=Conferência!$O$2,Conferência!$O$2,\"\")","v":""},{"$f":"IF(Jogo!P555=Conferência!$P$2,Conferência!$P$2,\"\")","v":""},{"$f":"IF(Jogo!Q555=Conferência!$Q$2,Conferência!$Q$2,\"\")","v":""},""]
[{"$f":"IF(Jogo!A556=Conferência!$A$2,Conferência!$A$2,\"\")","v":""},{"$f":"IF(Jogo!B556=Conferência!$B$2,Conferência!$B$2,\"\")","v":""},{"$f":"IF(Jogo!C556=Conferência!$C$2,Conferência!$C$2,\"\")","v":""},{"$f":"IF(Jogo!D556=Conferência!$D$2,Conferência!$D$2,\"\")","v":""},{"$f":"IF(Jogo!E556=Conferência!$E$2,Conferência!$E$2,\"\")","v":""},{"$f":"IF(Jogo!F556=Conferência!$F$2,Conferência!$F$2,\"\")","v":""},{"$f":"IF(Jogo!G556=Conferência!$G$2,Conferência!$G$2,\"\")","v":""},{"$f":"IF(Jogo!H556=Conferência!$H$2,Conferência!$H$2,\"\")","v":""},{"$f":"IF(Jogo!I556=Conferência!$I$2,Conferência!$I$2,\"\")","v":""},{"$f":"IF(Jogo!J556=Conferência!$J$2,Conferência!$J$2,\"\")","v":""},{"$f":"IF(Jogo!K556=Conferência!$K$2,Conferência!$K$2,\"\")","v":""},{"$f":"IF(Jogo!L556=Conferência!$L$2,Conferência!$L$2,\"\")","v":""},{"$f":"IF(Jogo!M556=Conferência!$M$2,Conferência!$M$2,\"\")","v":""},{"$f":"IF(Jogo!N556=Conferência!$N$2,Conferência!$N$2,\"\")","v":""},{"$f":"IF(Jogo!O556=Conferência!$O$2,Conferência!$O$2,\"\")","v":""},{"$f":"IF(Jogo!P556=Conferência!$P$2,Conferência!$P$2,\"\")","v":""},{"$f":"IF(Jogo!Q556=Conferência!$Q$2,Conferência!$Q$2,\"\")","v":""},""]
[{"$f":"IF(Jogo!A557=Conferência!$A$2,Conferência!$A$2,\"\")","v":""},{"$f":"IF(Jogo!B557=Conferência!$B$2,Conferência!$B$2,\"\")","v":""},{"$f":"IF(Jogo!C557=Conferência!$C$2,Conferência!$C$2,\"\")","v":""},{"$f":"IF(Jogo!D557=Conferência!$D$2,Conferência!$D$2,\"\")","v":""},{"$f":"IF(Jogo!E557=Conferência!$E$2,Conferência!$E$2,\"\")","v":""},{"$f":"IF(Jogo!F557=Conferência!$F$2,Conferência!$F$2,\"\")","v":""},{"$f":"IF(Jogo!G557=Conferência!$G$2,Conferência!$G$2,\"\")","v":""},{"$f":"IF(Jogo!H557=Conferência!$H$2,Conferência!$H$2,\"\")","v":""},{"$f":"IF(Jogo!I557=Conferência!$I$2,Conferência!$I$2,\"\")","v":""},{"$f":"IF(Jogo!J557=Conferência!$J$2,Conferência!$J$2,\"\")","v":""},{"$f":"IF(Jogo!K557=Conferência!$K$2,Conferência!$K$2,\"\")","v":""},{"$f":"IF(Jogo!L557=Conferência!$L$2,Conferência!$L$2,\"\")","v":""},{"$f":"IF(Jogo!M557=Conferência!$M$2,Conferência!$M$2,\"\")","v":""},{"$f":"IF(Jogo!N557=Conferência!$N$2,Conferência!$N$2,\"\")","v":""},{"$f":"IF(Jogo!O557=Conferência!$O$2,Conferência!$O$2,\"\")","v":""},{"$f":"IF(Jogo!P557=Conferência!$P$2,Conferência!$P$2,\"\")","v":""},{"$f":"IF(Jogo!Q557=Conferência!$Q$2,Conferência!$Q$2,\"\")","v":""},""]
[{"$f":"IF(Jogo!A558=Conferência!$A$2,Conferência!$A$2,\"\")","v":""},{"$f":"IF(Jogo!B558=Conferência!$B$2,Conferência!$B$2,\"\")","v":""},{"$f":"IF(Jogo!C558=Conferência!$C$2,Conferência!$C$2,\"\")","v":""},{"$f":"IF(Jogo!D558=Conferência!$D$2,Conferência!$D$2,\"\")","v":""},{"$f":"IF(Jogo!E558=Conferência!$E$2,Conferência!$E$2,\"\")","v":""},{"$f":"IF(Jogo!F558=Conferência!$F$2,Conferência!$F$2,\"\")","v":""},{"$f":"IF(Jogo!G558=Conferência!$G$2,Conferência!$G$2,\"\")","v":""},{"$f":"IF(Jogo!H558=Conferência!$H$2,Conferência!$H$2,\"\")","v":""},{"$f":"IF(Jogo!I558=Conferência!$I$2,Conferência!$I$2,\"\")","v":""},{"$f":"IF(Jogo!J558=Conferência!$J$2,Conferência!$J$2,\"\")","v":""},{"$f":"IF(Jogo!K558=Conferência!$K$2,Conferência!$K$2,\"\")","v":""},{"$f":"IF(Jogo!L558=Conferência!$L$2,Conferência!$L$2,\"\")","v":""},{"$f":"IF(Jogo!M558=Conferência!$M$2,Conferência!$M$2,\"\")","v":""},{"$f":"IF(Jogo!N558=Conferência!$N$2,Conferência!$N$2,\"\")","v":""},{"$f":"IF(Jogo!O558=Conferência!$O$2,Conferência!$O$2,\"\")","v":""},{"$f":"IF(Jogo!P558=Conferência!$P$2,Conferência!$P$2,\"\")","v":""},{"$f":"IF(Jogo!Q558=Conferência!$Q$2,Conferência!$Q$2,\"\")","v":""},""]
[{"$f":"IF(Jogo!A559=Conferência!$A$2,Conferência!$A$2,\"\")","v":""},{"$f":"IF(Jogo!B559=Conferência!$B$2,Conferência!$B$2,\"\")","v":""},{"$f":"IF(Jogo!C559=Conferência!$C$2,Conferência!$C$2,\"\")","v":""},{"$f":"IF(Jogo!D559=Conferência!$D$2,Conferência!$D$2,\"\")","v":""},{"$f":"IF(Jogo!E559=Conferência!$E$2,Conferência!$E$2,\"\")","v":""},{"$f":"IF(Jogo!F559=Conferência!$F$2,Conferência!$F$2,\"\")","v":""},{"$f":"IF(Jogo!G559=Conferência!$G$2,Conferência!$G$2,\"\")","v":""},{"$f":"IF(Jogo!H559=Conferência!$H$2,Conferência!$H$2,\"\")","v":""},{"$f":"IF(Jogo!I559=Conferência!$I$2,Conferência!$I$2,\"\")","v":""},{"$f":"IF(Jogo!J559=Conferência!$J$2,Conferência!$J$2,\"\")","v":""},{"$f":"IF(Jogo!K559=Conferência!$K$2,Conferência!$K$2,\"\")","v":""},{"$f":"IF(Jogo!L559=Conferência!$L$2,Conferência!$L$2,\"\")","v":""},{"$f":"IF(Jogo!M559=Conferência!$M$2,Conferência!$M$2,\"\")","v":""},{"$f":"IF(Jogo!N559=Conferência!$N$2,Conferência!$N$2,\"\")","v":""},{"$f":"IF(Jogo!O559=Conferência!$O$2,Conferência!$O$2,\"\")","v":""},{"$f":"IF(Jogo!P559=Conferência!$P$2,Conferência!$P$2,\"\")","v":""},{"$f":"IF(Jogo!Q559=Conferência!$Q$2,Conferência!$Q$2,\"\")","v":""},""]
[{"$f":"IF(Jogo!A560=Conferência!$A$2,Conferência!$A$2,\"\")","v":""},{"$f":"IF(Jogo!B560=Conferência!$B$2,Conferência!$B$2,\"\")","v":""},{"$f":"IF(Jogo!C560=Conferência!$C$2,Conferência!$C$2,\"\")","v":""},{"$f":"IF(Jogo!D560=Conferência!$D$2,Conferência!$D$2,\"\")","v":""},{"$f":"IF(Jogo!E560=Conferência!$E$2,Conferência!$E$2,\"\")","v":""},{"$f":"IF(Jogo!F560=Conferência!$F$2,Conferência!$F$2,\"\")","v":""},{"$f":"IF(Jogo!G560=Conferência!$G$2,Conferência!$G$2,\"\")","v":""},{"$f":"IF(Jogo!H560=Conferência!$H$2,Conferência!$H$2,\"\")","v":""},{"$f":"IF(Jogo!I560=Conferência!$I$2,Conferência!$I$2,\"\")","v":""},{"$f":"IF(Jogo!J560=Conferência!$J$2,Conferência!$J$2,\"\")","v":""},{"$f":"IF(Jogo!K560=Conferência!$K$2,Conferência!$K$2,\"\")","v":""},{"$f":"IF(Jogo!L560=Conferência!$L$2,Conferência!$L$2,\"\")","v":""},{"$f":"IF(Jogo!M560=Conferência!$M$2,Conferência!$M$2,\"\")","v":""},{"$f":"IF(Jogo!N560=Conferência!$N$2,Conferência!$N$2,\"\")","v":""},{"$f":"IF(Jogo!O560=Conferência!$O$2,Conferência!$O$2,\"\")","v":""},{"$f":"IF(Jogo!P560=Conferência!$P$2,Conferência!$P$2,\"\")","v":""},{"$f":"IF(Jogo!Q560=Conferência!$Q$2,Conferência!$Q$2,\"\")","v":""},""]
[{"$f":"IF(Jogo!A561=Conferência!$A$2,Conferência!$A$2,\"\")","v":""},{"$f":"IF(Jogo!B561=Conferência!$B$2,Conferência!$B$2,\"\")","v":""},{"$f":"IF(Jogo!C561=Conferência!$C$2,Conferência!$C$2,\"\")","v":""},{"$f":"IF(Jogo!D561=Conferência!$D$2,Conferência!$D$2,\"\")","v":""},{"$f":"IF(Jogo!E561=Conferência!$E$2,Conferência!$E$2,\"\")","v":""},{"$f":"IF(Jogo!F561=Conferência!$F$2,Conferência!$F$2,\"\")","v":""},{"$f":"IF(Jogo!G561=Conferência!$G$2,Conferência!$G$2,\"\")","v":""},{"$f":"IF(Jogo!H561=Conferência!$H$2,Conferência!$H$2,\"\")","v":""},{"$f":"IF(Jogo!I561=Conferência!$I$2,Conferência!$I$2,\"\")","v":""},{"$f":"IF(Jogo!J561=Conferência!$J$2,Conferência!$J$2,\"\")","v":""},{"$f":"IF(Jogo!K561=Conferência!$K$2,Conferência!$K$2,\"\")","v":""},{"$f":"IF(Jogo!L561=Conferência!$L$2,Conferência!$L$2,\"\")","v":""},{"$f":"IF(Jogo!M561=Conferência!$M$2,Conferência!$M$2,\"\")","v":""},{"$f":"IF(Jogo!N561=Conferência!$N$2,Conferência!$N$2,\"\")","v":""},{"$f":"IF(Jogo!O561=Conferência!$O$2,Conferência!$O$2,\"\")","v":""},{"$f":"IF(Jogo!P561=Conferência!$P$2,Conferência!$P$2,\"\")","v":""},{"$f":"IF(Jogo!Q561=Conferência!$Q$2,Conferência!$Q$2,\"\")","v":""},""]
[{"$f":"IF(Jogo!A562=Conferência!$A$2,Conferência!$A$2,\"\")","v":""},{"$f":"IF(Jogo!B562=Conferência!$B$2,Conferência!$B$2,\"\")","v":""},{"$f":"IF(Jogo!C562=Conferência!$C$2,Conferência!$C$2,\"\")","v":""},{"$f":"IF(Jogo!D562=Conferência!$D$2,Conferência!$D$2,\"\")","v":""},{"$f":"IF(Jogo!E562=Conferência!$E$2,Conferência!$E$2,\"\")","v":""},{"$f":"IF(Jogo!F562=Conferência!$F$2,Conferência!$F$2,\"\")","v":""},{"$f":"IF(Jogo!G562=Conferência!$G$2,Conferência!$G$2,\"\")","v":""},{"$f":"IF(Jogo!H562=Conferência!$H$2,Conferência!$H$2,\"\")","v":""},{"$f":"IF(Jogo!I562=Conferência!$I$2,Conferência!$I$2,\"\")","v":""},{"$f":"IF(Jogo!J562=Conferência!$J$2,Conferência!$J$2,\"\")","v":""},{"$f":"IF(Jogo!K562=Conferência!$K$2,Conferência!$K$2,\"\")","v":""},{"$f":"IF(Jogo!L562=Conferência!$L$2,Conferência!$L$2,\"\")","v":""},{"$f":"IF(Jogo!M562=Conferência!$M$2,Conferência!$M$2,\"\")","v":""},{"$f":"IF(Jogo!N562=Conferência!$N$2,Conferência!$N$2,\"\")","v":""},{"$f":"IF(Jogo!O562=Conferência!$O$2,Conferência!$O$2,\"\")","v":""},{"$f":"IF(Jogo!P562=Conferência!$P$2,Conferência!$P$2,\"\")","v":""},{"$f":"IF(Jogo!Q562=Conferência!$Q$2,Conferência!$Q$2,\"\")","v":""},""]
[{"$f":"IF(Jogo!A563=Conferência!$A$2,Conferência!$A$2,\"\")","v":""},{"$f":"IF(Jogo!B563=Conferência!$B$2,Conferência!$B$2,\"\")","v":""},{"$f":"IF(Jogo!C563=Conferência!$C$2,Conferência!$C$2,\"\")","v":""},{"$f":"IF(Jogo!D563=Conferência!$D$2,Conferência!$D$2,\"\")","v":""},{"$f":"IF(Jogo!E563=Conferência!$E$2,Conferência!$E$2,\"\")","v":""},{"$f":"IF(Jogo!F563=Conferência!$F$2,Conferência!$F$2,\"\")","v":""},{"$f":"IF(Jogo!G563=Conferência!$G$2,Conferência!$G$2,\"\")","v":""},{"$f":"IF(Jogo!H563=Conferência!$H$2,Conferência!$H$2,\"\")","v":""},{"$f":"IF(Jogo!I563=Conferência!$I$2,Conferência!$I$2,\"\")","v":""},{"$f":"IF(Jogo!J563=Conferência!$J$2,Conferência!$J$2,\"\")","v":""},{"$f":"IF(Jogo!K563=Conferência!$K$2,Conferência!$K$2,\"\")","v":""},{"$f":"IF(Jogo!L563=Conferência!$L$2,Conferência!$L$2,\"\")","v":""},{"$f":"IF(Jogo!M563=Conferência!$M$2,Conferência!$M$2,\"\")","v":""},{"$f":"IF(Jogo!N563=Conferência!$N$2,Conferência!$N$2,\"\")","v":""},{"$f":"IF(Jogo!O563=Conferência!$O$2,Conferência!$O$2,\"\")","v":""},{"$f":"IF(Jogo!P563=Conferência!$P$2,Conferência!$P$2,\"\")","v":""},{"$f":"IF(Jogo!Q563=Conferência!$Q$2,Conferência!$Q$2,\"\")","v":""},""]
[{"$f":"IF(Jogo!A564=Conferência!$A$2,Conferência!$A$2,\"\")","v":""},{"$f":"IF(Jogo!B564=Conferência!$B$2,Conferência!$B$2,\"\")","v":""},{"$f":"IF(Jogo!C564=Conferência!$C$2,Conferência!$C$2,\"\")","v":""},{"$f":"IF(Jogo!D564=Conferência!$D$2,Conferência!$D$2,\"\")","v":""},{"$f":"IF(Jogo!E564=Conferência!$E$2,Conferência!$E$2,\"\")","v":""},{"$f":"IF(Jogo!F564=Conferência!$F$2,Conferência!$F$2,\"\")","v":""},{"$f":"IF(Jogo!G564=Conferência!$G$2,Conferência!$G$2,\"\")","v":""},{"$f":"IF(Jogo!H564=Conferência!$H$2,Conferência!$H$2,\"\")","v":""},{"$f":"IF(Jogo!I564=Conferência!$I$2,Conferência!$I$2,\"\")","v":""},{"$f":"IF(Jogo!J564=Conferência!$J$2,Conferência!$J$2,\"\")","v":""},{"$f":"IF(Jogo!K564=Conferência!$K$2,Conferência!$K$2,\"\")","v":""},{"$f":"IF(Jogo!L564=Conferência!$L$2,Conferência!$L$2,\"\")","v":""},{"$f":"IF(Jogo!M564=Conferência!$M$2,Conferência!$M$2,\"\")","v":""},{"$f":"IF(Jogo!N564=Conferência!$N$2,Conferência!$N$2,\"\")","v":""},{"$f":"IF(Jogo!O564=Conferência!$O$2,Conferência!$O$2,\"\")","v":""},{"$f":"IF(Jogo!P564=Conferência!$P$2,Conferência!$P$2,\"\")","v":""},{"$f":"IF(Jogo!Q564=Conferência!$Q$2,Conferência!$Q$2,\"\")","v":""},""]
[{"$f":"IF(Jogo!A565=Conferência!$A$2,Conferência!$A$2,\"\")","v":""},{"$f":"IF(Jogo!B565=Conferência!$B$2,Conferência!$B$2,\"\")","v":""},{"$f":"IF(Jogo!C565=Conferência!$C$2,Conferência!$C$2,\"\")","v":""},{"$f":"IF(Jogo!D565=Conferência!$D$2,Conferência!$D$2,\"\")","v":""},{"$f":"IF(Jogo!E565=Conferência!$E$2,Conferência!$E$2,\"\")","v":""},{"$f":"IF(Jogo!F565=Conferência!$F$2,Conferência!$F$2,\"\")","v":""},{"$f":"IF(Jogo!G565=Conferência!$G$2,Conferência!$G$2,\"\")","v":""},{"$f":"IF(Jogo!H565=Conferência!$H$2,Conferência!$H$2,\"\")","v":""},{"$f":"IF(Jogo!I565=Conferência!$I$2,Conferência!$I$2,\"\")","v":""},{"$f":"IF(Jogo!J565=Conferência!$J$2,Conferência!$J$2,\"\")","v":""},{"$f":"IF(Jogo!K565=Conferência!$K$2,Conferência!$K$2,\"\")","v":""},{"$f":"IF(Jogo!L565=Conferência!$L$2,Conferência!$L$2,\"\")","v":""},{"$f":"IF(Jogo!M565=Conferência!$M$2,Conferência!$M$2,\"\")","v":""},{"$f":"IF(Jogo!N565=Conferência!$N$2,Conferência!$N$2,\"\")","v":""},{"$f":"IF(Jogo!O565=Conferência!$O$2,Conferência!$O$2,\"\")","v":""},{"$f":"IF(Jogo!P565=Conferência!$P$2,Conferência!$P$2,\"\")","v":""},{"$f":"IF(Jogo!Q565=Conferência!$Q$2,Conferência!$Q$2,\"\")","v":""},""]
[{"$f":"IF(Jogo!A566=Conferência!$A$2,Conferência!$A$2,\"\")","v":""},{"$f":"IF(Jogo!B566=Conferência!$B$2,Conferência!$B$2,\"\")","v":""},{"$f":"IF(Jogo!C566=Conferência!$C$2,Conferência!$C$2,\"\")","v":""},{"$f":"IF(Jogo!D566=Conferência!$D$2,Conferência!$D$2,\"\")","v":""},{"$f":"IF(Jogo!E566=Conferência!$E$2,Conferência!$E$2,\"\")","v":""},{"$f":"IF(Jogo!F566=Conferência!$F$2,Conferência!$F$2,\"\")","v":""},{"$f":"IF(Jogo!G566=Conferência!$G$2,Conferência!$G$2,\"\")","v":""},{"$f":"IF(Jogo!H566=Conferência!$H$2,Conferência!$H$2,\"\")","v":""},{"$f":"IF(Jogo!I566=Conferência!$I$2,Conferência!$I$2,\"\")","v":""},{"$f":"IF(Jogo!J566=Conferência!$J$2,Conferência!$J$2,\"\")","v":""},{"$f":"IF(Jogo!K566=Conferência!$K$2,Conferência!$K$2,\"\")","v":""},{"$f":"IF(Jogo!L566=Conferência!$L$2,Conferência!$L$2,\"\")","v":""},{"$f":"IF(Jogo!M566=Conferência!$M$2,Conferência!$M$2,\"\")","v":""},{"$f":"IF(Jogo!N566=Conferência!$N$2,Conferência!$N$2,\"\")","v":""},{"$f":"IF(Jogo!O566=Conferência!$O$2,Conferência!$O$2,\"\")","v":""},{"$f":"IF(Jogo!P566=Conferência!$P$2,Conferência!$P$2,\"\")","v":""},{"$f":"IF(Jogo!Q566=Conferência!$Q$2,Conferência!$Q$2,\"\")","v":""},""]
[{"$f":"IF(Jogo!A567=Conferência!$A$2,Conferência!$A$2,\"\")","v":""},{"$f":"IF(Jogo!B567=Conferência!$B$2,Conferência!$B$2,\"\")","v":""},{"$f":"IF(Jogo!C567=Conferência!$C$2,Conferência!$C$2,\"\")","v":""},{"$f":"IF(Jogo!D567=Conferência!$D$2,Conferência!$D$2,\"\")","v":""},{"$f":"IF(Jogo!E567=Conferência!$E$2,Conferência!$E$2,\"\")","v":""},{"$f":"IF(Jogo!F567=Conferência!$F$2,Conferência!$F$2,\"\")","v":""},{"$f":"IF(Jogo!G567=Conferência!$G$2,Conferência!$G$2,\"\")","v":""},{"$f":"IF(Jogo!H567=Conferência!$H$2,Conferência!$H$2,\"\")","v":""},{"$f":"IF(Jogo!I567=Conferência!$I$2,Conferência!$I$2,\"\")","v":""},{"$f":"IF(Jogo!J567=Conferência!$J$2,Conferência!$J$2,\"\")","v":""},{"$f":"IF(Jogo!K567=Conferência!$K$2,Conferência!$K$2,\"\")","v":""},{"$f":"IF(Jogo!L567=Conferência!$L$2,Conferência!$L$2,\"\")","v":""},{"$f":"IF(Jogo!M567=Conferência!$M$2,Conferência!$M$2,\"\")","v":""},{"$f":"IF(Jogo!N567=Conferência!$N$2,Conferência!$N$2,\"\")","v":""},{"$f":"IF(Jogo!O567=Conferência!$O$2,Conferência!$O$2,\"\")","v":""},{"$f":"IF(Jogo!P567=Conferência!$P$2,Conferência!$P$2,\"\")","v":""},{"$f":"IF(Jogo!Q567=Conferência!$Q$2,Conferência!$Q$2,\"\")","v":""},""]
[{"$f":"IF(Jogo!A568=Conferência!$A$2,Conferência!$A$2,\"\")","v":""},{"$f":"IF(Jogo!B568=Conferência!$B$2,Conferência!$B$2,\"\")","v":""},{"$f":"IF(Jogo!C568=Conferência!$C$2,Conferência!$C$2,\"\")","v":""},{"$f":"IF(Jogo!D568=Conferência!$D$2,Conferência!$D$2,\"\")","v":""},{"$f":"IF(Jogo!E568=Conferência!$E$2,Conferência!$E$2,\"\")","v":""},{"$f":"IF(Jogo!F568=Conferência!$F$2,Conferência!$F$2,\"\")","v":""},{"$f":"IF(Jogo!G568=Conferência!$G$2,Conferência!$G$2,\"\")","v":""},{"$f":"IF(Jogo!H568=Conferência!$H$2,Conferência!$H$2,\"\")","v":""},{"$f":"IF(Jogo!I568=Conferência!$I$2,Conferência!$I$2,\"\")","v":""},{"$f":"IF(Jogo!J568=Conferência!$J$2,Conferência!$J$2,\"\")","v":""},{"$f":"IF(Jogo!K568=Conferência!$K$2,Conferência!$K$2,\"\")","v":""},{"$f":"IF(Jogo!L568=Conferência!$L$2,Conferência!$L$2,\"\")","v":""},{"$f":"IF(Jogo!M568=Conferência!$M$2,Conferência!$M$2,\"\")","v":""},{"$f":"IF(Jogo!N568=Conferência!$N$2,Conferência!$N$2,\"\")","v":""},{"$f":"IF(Jogo!O568=Conferência!$O$2,Conferência!$O$2,\"\")","v":""},{"$f":"IF(Jogo!P568=Conferência!$P$2,Conferência!$P$2,\"\")","v":""},{"$f":"IF(Jogo!Q568=Conferência!$Q$2,Conferência!$Q$2,\"\")","v":""},""]
[{"$f":"IF(Jogo!A569=Conferência!$A$2,Conferência!$A$2,\"\")","v":""},{"$f":"IF(Jogo!B569=Conferência!$B$2,Conferência!$B$2,\"\")","v":""},{"$f":"IF(Jogo!C569=Conferência!$C$2,Conferência!$C$2,\"\")","v":""},{"$f":"IF(Jogo!D569=Conferência!$D$2,Conferência!$D$2,\"\")","v":""},{"$f":"IF(Jogo!E569=Conferência!$E$2,Conferência!$E$2,\"\")","v":""},{"$f":"IF(Jogo!F569=Conferência!$F$2,Conferência!$F$2,\"\")","v":""},{"$f":"IF(Jogo!G569=Conferência!$G$2,Conferência!$G$2,\"\")","v":""},{"$f":"IF(Jogo!H569=Conferência!$H$2,Conferência!$H$2,\"\")","v":""},{"$f":"IF(Jogo!I569=Conferência!$I$2,Conferência!$I$2,\"\")","v":""},{"$f":"IF(Jogo!J569=Conferência!$J$2,Conferência!$J$2,\"\")","v":""},{"$f":"IF(Jogo!K569=Conferência!$K$2,Conferência!$K$2,\"\")","v":""},{"$f":"IF(Jogo!L569=Conferência!$L$2,Conferência!$L$2,\"\")","v":""},{"$f":"IF(Jogo!M569=Conferência!$M$2,Conferência!$M$2,\"\")","v":""},{"$f":"IF(Jogo!N569=Conferência!$N$2,Conferência!$N$2,\"\")","v":""},{"$f":"IF(Jogo!O569=Conferência!$O$2,Conferência!$O$2,\"\")","v":""},{"$f":"IF(Jogo!P569=Conferência!$P$2,Conferência!$P$2,\"\")","v":""},{"$f":"IF(Jogo!Q569=Conferência!$Q$2,Conferência!$Q$2,\"\")","v":""},""]
[{"$f":"IF(Jogo!A570=Conferência!$A$2,Conferência!$A$2,\"\")","v":""},{"$f":"IF(Jogo!B570=Conferência!$B$2,Conferência!$B$2,\"\")","v":""},{"$f":"IF(Jogo!C570=Conferência!$C$2,Conferência!$C$2,\"\")","v":""},{"$f":"IF(Jogo!D570=Conferência!$D$2,Conferência!$D$2,\"\")","v":""},{"$f":"IF(Jogo!E570=Conferência!$E$2,Conferência!$E$2,\"\")","v":""},{"$f":"IF(Jogo!F570=Conferência!$F$2,Conferência!$F$2,\"\")","v":""},{"$f":"IF(Jogo!G570=Conferência!$G$2,Conferência!$G$2,\"\")","v":""},{"$f":"IF(Jogo!H570=Conferência!$H$2,Conferência!$H$2,\"\")","v":""},{"$f":"IF(Jogo!I570=Conferência!$I$2,Conferência!$I$2,\"\")","v":""},{"$f":"IF(Jogo!J570=Conferência!$J$2,Conferência!$J$2,\"\")","v":""},{"$f":"IF(Jogo!K570=Conferência!$K$2,Conferência!$K$2,\"\")","v":""},{"$f":"IF(Jogo!L570=Conferência!$L$2,Conferência!$L$2,\"\")","v":""},{"$f":"IF(Jogo!M570=Conferência!$M$2,Conferência!$M$2,\"\")","v":""},{"$f":"IF(Jogo!N570=Conferência!$N$2,Conferência!$N$2,\"\")","v":""},{"$f":"IF(Jogo!O570=Conferência!$O$2,Conferência!$O$2,\"\")","v":""},{"$f":"IF(Jogo!P570=Conferência!$P$2,Conferência!$P$2,\"\")","v":""},{"$f":"IF(Jogo!Q570=Conferência!$Q$2,Conferência!$Q$2,\"\")","v":""},""]
[{"$f":"IF(Jogo!A571=Conferência!$A$2,Conferência!$A$2,\"\")","v":""},{"$f":"IF(Jogo!B571=Conferência!$B$2,Conferência!$B$2,\"\")","v":""},{"$f":"IF(Jogo!C571=Conferência!$C$2,Conferência!$C$2,\"\")","v":""},{"$f":"IF(Jogo!D571=Conferência!$D$2,Conferência!$D$2,\"\")","v":""},{"$f":"IF(Jogo!E571=Conferência!$E$2,Conferência!$E$2,\"\")","v":""},{"$f":"IF(Jogo!F571=Conferência!$F$2,Conferência!$F$2,\"\")","v":""},{"$f":"IF(Jogo!G571=Conferência!$G$2,Conferência!$G$2,\"\")","v":""},{"$f":"IF(Jogo!H571=Conferência!$H$2,Conferência!$H$2,\"\")","v":""},{"$f":"IF(Jogo!I571=Conferência!$I$2,Conferência!$I$2,\"\")","v":""},{"$f":"IF(Jogo!J571=Conferência!$J$2,Conferência!$J$2,\"\")","v":""},{"$f":"IF(Jogo!K571=Conferência!$K$2,Conferência!$K$2,\"\")","v":""},{"$f":"IF(Jogo!L571=Conferência!$L$2,Conferência!$L$2,\"\")","v":""},{"$f":"IF(Jogo!M571=Conferência!$M$2,Conferência!$M$2,\"\")","v":""},{"$f":"IF(Jogo!N571=Conferência!$N$2,Conferência!$N$2,\"\")","v":""},{"$f":"IF(Jogo!O571=Conferência!$O$2,Conferência!$O$2,\"\")","v":""},{"$f":"IF(Jogo!P571=Conferência!$P$2,Conferência!$P$2,\"\")","v":""},{"$f":"IF(Jogo!Q571=Conferência!$Q$2,Conferência!$Q$2,\"\")","v":""},""]
[{"$f":"IF(Jogo!A572=Conferência!$A$2,Conferência!$A$2,\"\")","v":""},{"$f":"IF(Jogo!B572=Conferência!$B$2,Conferência!$B$2,\"\")","v":""},{"$f":"IF(Jogo!C572=Conferência!$C$2,Conferência!$C$2,\"\")","v":""},{"$f":"IF(Jogo!D572=Conferência!$D$2,Conferência!$D$2,\"\")","v":""},{"$f":"IF(Jogo!E572=Conferência!$E$2,Conferência!$E$2,\"\")","v":""},{"$f":"IF(Jogo!F572=Conferência!$F$2,Conferência!$F$2,\"\")","v":""},{"$f":"IF(Jogo!G572=Conferência!$G$2,Conferência!$G$2,\"\")","v":""},{"$f":"IF(Jogo!H572=Conferência!$H$2,Conferência!$H$2,\"\")","v":""},{"$f":"IF(Jogo!I572=Conferência!$I$2,Conferência!$I$2,\"\")","v":""},{"$f":"IF(Jogo!J572=Conferência!$J$2,Conferência!$J$2,\"\")","v":""},{"$f":"IF(Jogo!K572=Conferência!$K$2,Conferência!$K$2,\"\")","v":""},{"$f":"IF(Jogo!L572=Conferência!$L$2,Conferência!$L$2,\"\")","v":""},{"$f":"IF(Jogo!M572=Conferência!$M$2,Conferência!$M$2,\"\")","v":""},{"$f":"IF(Jogo!N572=Conferência!$N$2,Conferência!$N$2,\"\")","v":""},{"$f":"IF(Jogo!O572=Conferência!$O$2,Conferência!$O$2,\"\")","v":""},{"$f":"IF(Jogo!P572=Conferência!$P$2,Conferência!$P$2,\"\")","v":""},{"$f":"IF(Jogo!Q572=Conferência!$Q$2,Conferência!$Q$2,\"\")","v":""},""]
[{"$f":"IF(Jogo!A573=Conferência!$A$2,Conferência!$A$2,\"\")","v":""},{"$f":"IF(Jogo!B573=Conferência!$B$2,Conferência!$B$2,\"\")","v":""},{"$f":"IF(Jogo!C573=Conferência!$C$2,Conferência!$C$2,\"\")","v":""},{"$f":"IF(Jogo!D573=Conferência!$D$2,Conferência!$D$2,\"\")","v":""},{"$f":"IF(Jogo!E573=Conferência!$E$2,Conferência!$E$2,\"\")","v":""},{"$f":"IF(Jogo!F573=Conferência!$F$2,Conferência!$F$2,\"\")","v":""},{"$f":"IF(Jogo!G573=Conferência!$G$2,Conferência!$G$2,\"\")","v":""},{"$f":"IF(Jogo!H573=Conferência!$H$2,Conferência!$H$2,\"\")","v":""},{"$f":"IF(Jogo!I573=Conferência!$I$2,Conferência!$I$2,\"\")","v":""},{"$f":"IF(Jogo!J573=Conferência!$J$2,Conferência!$J$2,\"\")","v":""},{"$f":"IF(Jogo!K573=Conferência!$K$2,Conferência!$K$2,\"\")","v":""},{"$f":"IF(Jogo!L573=Conferência!$L$2,Conferência!$L$2,\"\")","v":""},{"$f":"IF(Jogo!M573=Conferência!$M$2,Conferência!$M$2,\"\")","v":""},{"$f":"IF(Jogo!N573=Conferência!$N$2,Conferência!$N$2,\"\")","v":""},{"$f":"IF(Jogo!O573=Conferência!$O$2,Conferência!$O$2,\"\")","v":""},{"$f":"IF(Jogo!P573=Conferência!$P$2,Conferência!$P$2,\"\")","v":""},{"$f":"IF(Jogo!Q573=Conferência!$Q$2,Conferência!$Q$2,\"\")","v":""},""]
[{"$f":"IF(Jogo!A574=Conferência!$A$2,Conferência!$A$2,\"\")","v":""},{"$f":"IF(Jogo!B574=Conferência!$B$2,Conferência!$B$2,\"\")","v":""},{"$f":"IF(Jogo!C574=Conferência!$C$2,Conferência!$C$2,\"\")","v":""},{"$f":"IF(Jogo!D574=Conferência!$D$2,Conferência!$D$2,\"\")","v":""},{"$f":"IF(Jogo!E574=Conferência!$E$2,Conferência!$E$2,\"\")","v":""},{"$f":"IF(Jogo!F574=Conferência!$F$2,Conferência!$F$2,\"\")","v":""},{"$f":"IF(Jogo!G574=Conferência!$G$2,Conferência!$G$2,\"\")","v":""},{"$f":"IF(Jogo!H574=Conferência!$H$2,Conferência!$H$2,\"\")","v":""},{"$f":"IF(Jogo!I574=Conferência!$I$2,Conferência!$I$2,\"\")","v":""},{"$f":"IF(Jogo!J574=Conferência!$J$2,Conferência!$J$2,\"\")","v":""},{"$f":"IF(Jogo!K574=Conferência!$K$2,Conferência!$K$2,\"\")","v":""},{"$f":"IF(Jogo!L574=Conferência!$L$2,Conferência!$L$2,\"\")","v":""},{"$f":"IF(Jogo!M574=Conferência!$M$2,Conferência!$M$2,\"\")","v":""},{"$f":"IF(Jogo!N574=Conferência!$N$2,Conferência!$N$2,\"\")","v":""},{"$f":"IF(Jogo!O574=Conferência!$O$2,Conferência!$O$2,\"\")","v":""},{"$f":"IF(Jogo!P574=Conferência!$P$2,Conferência!$P$2,\"\")","v":""},{"$f":"IF(Jogo!Q574=Conferência!$Q$2,Conferência!$Q$2,\"\")","v":""},""]
[{"$f":"IF(Jogo!A575=Conferência!$A$2,Conferência!$A$2,\"\")","v":""},{"$f":"IF(Jogo!B575=Conferência!$B$2,Conferência!$B$2,\"\")","v":""},{"$f":"IF(Jogo!C575=Conferência!$C$2,Conferência!$C$2,\"\")","v":""},{"$f":"IF(Jogo!D575=Conferência!$D$2,Conferência!$D$2,\"\")","v":""},{"$f":"IF(Jogo!E575=Conferência!$E$2,Conferência!$E$2,\"\")","v":""},{"$f":"IF(Jogo!F575=Conferência!$F$2,Conferência!$F$2,\"\")","v":""},{"$f":"IF(Jogo!G575=Conferência!$G$2,Conferência!$G$2,\"\")","v":""},{"$f":"IF(Jogo!H575=Conferência!$H$2,Conferência!$H$2,\"\")","v":""},{"$f":"IF(Jogo!I575=Conferência!$I$2,Conferência!$I$2,\"\")","v":""},{"$f":"IF(Jogo!J575=Conferência!$J$2,Conferência!$J$2,\"\")","v":""},{"$f":"IF(Jogo!K575=Conferência!$K$2,Conferência!$K$2,\"\")","v":""},{"$f":"IF(Jogo!L575=Conferência!$L$2,Conferência!$L$2,\"\")","v":""},{"$f":"IF(Jogo!M575=Conferência!$M$2,Conferência!$M$2,\"\")","v":""},{"$f":"IF(Jogo!N575=Conferência!$N$2,Conferência!$N$2,\"\")","v":""},{"$f":"IF(Jogo!O575=Conferência!$O$2,Conferência!$O$2,\"\")","v":""},{"$f":"IF(Jogo!P575=Conferência!$P$2,Conferência!$P$2,\"\")","v":""},{"$f":"IF(Jogo!Q575=Conferência!$Q$2,Conferência!$Q$2,\"\")","v":""},""]
[{"$f":"IF(Jogo!A576=Conferência!$A$2,Conferência!$A$2,\"\")","v":""},{"$f":"IF(Jogo!B576=Conferência!$B$2,Conferência!$B$2,\"\")","v":""},{"$f":"IF(Jogo!C576=Conferência!$C$2,Conferência!$C$2,\"\")","v":""},{"$f":"IF(Jogo!D576=Conferência!$D$2,Conferência!$D$2,\"\")","v":""},{"$f":"IF(Jogo!E576=Conferência!$E$2,Conferência!$E$2,\"\")","v":""},{"$f":"IF(Jogo!F576=Conferência!$F$2,Conferência!$F$2,\"\")","v":""},{"$f":"IF(Jogo!G576=Conferência!$G$2,Conferência!$G$2,\"\")","v":""},{"$f":"IF(Jogo!H576=Conferência!$H$2,Conferência!$H$2,\"\")","v":""},{"$f":"IF(Jogo!I576=Conferência!$I$2,Conferência!$I$2,\"\")","v":""},{"$f":"IF(Jogo!J576=Conferência!$J$2,Conferência!$J$2,\"\")","v":""},{"$f":"IF(Jogo!K576=Conferência!$K$2,Conferência!$K$2,\"\")","v":""},{"$f":"IF(Jogo!L576=Conferência!$L$2,Conferência!$L$2,\"\")","v":""},{"$f":"IF(Jogo!M576=Conferência!$M$2,Conferência!$M$2,\"\")","v":""},{"$f":"IF(Jogo!N576=Conferência!$N$2,Conferência!$N$2,\"\")","v":""},{"$f":"IF(Jogo!O576=Conferência!$O$2,Conferência!$O$2,\"\")","v":""},{"$f":"IF(Jogo!P576=Conferência!$P$2,Conferência!$P$2,\"\")","v":""},{"$f":"IF(Jogo!Q576=Conferência!$Q$2,Conferência!$Q$2,\"\")","v":""},""]
[{"$f":"IF(Jogo!A577=Conferência!$A$2,Conferência!$A$2,\"\")","v":""},{"$f":"IF(Jogo!B577=Conferência!$B$2,Conferência!$B$2,\"\")","v":""},{"$f":"IF(Jogo!C577=Conferência!$C$2,Conferência!$C$2,\"\")","v":""},{"$f":"IF(Jogo!D577=Conferência!$D$2,Conferência!$D$2,\"\")","v":""},{"$f":"IF(Jogo!E577=Conferência!$E$2,Conferência!$E$2,\"\")","v":""},{"$f":"IF(Jogo!F577=Conferência!$F$2,Conferência!$F$2,\"\")","v":""},{"$f":"IF(Jogo!G577=Conferência!$G$2,Conferência!$G$2,\"\")","v":""},{"$f":"IF(Jogo!H577=Conferência!$H$2,Conferência!$H$2,\"\")","v":""},{"$f":"IF(Jogo!I577=Conferência!$I$2,Conferência!$I$2,\"\")","v":""},{"$f":"IF(Jogo!J577=Conferência!$J$2,Conferência!$J$2,\"\")","v":""},{"$f":"IF(Jogo!K577=Conferência!$K$2,Conferência!$K$2,\"\")","v":""},{"$f":"IF(Jogo!L577=Conferência!$L$2,Conferência!$L$2,\"\")","v":""},{"$f":"IF(Jogo!M577=Conferência!$M$2,Conferência!$M$2,\"\")","v":""},{"$f":"IF(Jogo!N577=Conferência!$N$2,Conferência!$N$2,\"\")","v":""},{"$f":"IF(Jogo!O577=Conferência!$O$2,Conferência!$O$2,\"\")","v":""},{"$f":"IF(Jogo!P577=Conferência!$P$2,Conferência!$P$2,\"\")","v":""},{"$f":"IF(Jogo!Q577=Conferência!$Q$2,Conferência!$Q$2,\"\")","v":""},""]
[{"$f":"IF(Jogo!A578=Conferência!$A$2,Conferência!$A$2,\"\")","v":""},{"$f":"IF(Jogo!B578=Conferência!$B$2,Conferência!$B$2,\"\")","v":""},{"$f":"IF(Jogo!C578=Conferência!$C$2,Conferência!$C$2,\"\")","v":""},{"$f":"IF(Jogo!D578=Conferência!$D$2,Conferência!$D$2,\"\")","v":""},{"$f":"IF(Jogo!E578=Conferência!$E$2,Conferência!$E$2,\"\")","v":""},{"$f":"IF(Jogo!F578=Conferência!$F$2,Conferência!$F$2,\"\")","v":""},{"$f":"IF(Jogo!G578=Conferência!$G$2,Conferência!$G$2,\"\")","v":""},{"$f":"IF(Jogo!H578=Conferência!$H$2,Conferência!$H$2,\"\")","v":""},{"$f":"IF(Jogo!I578=Conferência!$I$2,Conferência!$I$2,\"\")","v":""},{"$f":"IF(Jogo!J578=Conferência!$J$2,Conferência!$J$2,\"\")","v":""},{"$f":"IF(Jogo!K578=Conferência!$K$2,Conferência!$K$2,\"\")","v":""},{"$f":"IF(Jogo!L578=Conferência!$L$2,Conferência!$L$2,\"\")","v":""},{"$f":"IF(Jogo!M578=Conferência!$M$2,Conferência!$M$2,\"\")","v":""},{"$f":"IF(Jogo!N578=Conferência!$N$2,Conferência!$N$2,\"\")","v":""},{"$f":"IF(Jogo!O578=Conferência!$O$2,Conferência!$O$2,\"\")","v":""},{"$f":"IF(Jogo!P578=Conferência!$P$2,Conferência!$P$2,\"\")","v":""},{"$f":"IF(Jogo!Q578=Conferência!$Q$2,Conferência!$Q$2,\"\")","v":""},""]
[{"$f":"IF(Jogo!A579=Conferência!$A$2,Conferência!$A$2,\"\")","v":""},{"$f":"IF(Jogo!B579=Conferência!$B$2,Conferência!$B$2,\"\")","v":""},{"$f":"IF(Jogo!C579=Conferência!$C$2,Conferência!$C$2,\"\")","v":""},{"$f":"IF(Jogo!D579=Conferência!$D$2,Conferência!$D$2,\"\")","v":""},{"$f":"IF(Jogo!E579=Conferência!$E$2,Conferência!$E$2,\"\")","v":""},{"$f":"IF(Jogo!F579=Conferência!$F$2,Conferência!$F$2,\"\")","v":""},{"$f":"IF(Jogo!G579=Conferência!$G$2,Conferência!$G$2,\"\")","v":""},{"$f":"IF(Jogo!H579=Conferência!$H$2,Conferência!$H$2,\"\")","v":""},{"$f":"IF(Jogo!I579=Conferência!$I$2,Conferência!$I$2,\"\")","v":""},{"$f":"IF(Jogo!J579=Conferência!$J$2,Conferência!$J$2,\"\")","v":""},{"$f":"IF(Jogo!K579=Conferência!$K$2,Conferência!$K$2,\"\")","v":""},{"$f":"IF(Jogo!L579=Conferência!$L$2,Conferência!$L$2,\"\")","v":""},{"$f":"IF(Jogo!M579=Conferência!$M$2,Conferência!$M$2,\"\")","v":""},{"$f":"IF(Jogo!N579=Conferência!$N$2,Conferência!$N$2,\"\")","v":""},{"$f":"IF(Jogo!O579=Conferência!$O$2,Conferência!$O$2,\"\")","v":""},{"$f":"IF(Jogo!P579=Conferência!$P$2,Conferência!$P$2,\"\")","v":""},{"$f":"IF(Jogo!Q579=Conferência!$Q$2,Conferência!$Q$2,\"\")","v":""},""]
[{"$f":"IF(Jogo!A580=Conferência!$A$2,Conferência!$A$2,\"\")","v":""},{"$f":"IF(Jogo!B580=Conferência!$B$2,Conferência!$B$2,\"\")","v":""},{"$f":"IF(Jogo!C580=Conferência!$C$2,Conferência!$C$2,\"\")","v":""},{"$f":"IF(Jogo!D580=Conferência!$D$2,Conferência!$D$2,\"\")","v":""},{"$f":"IF(Jogo!E580=Conferência!$E$2,Conferência!$E$2,\"\")","v":""},{"$f":"IF(Jogo!F580=Conferência!$F$2,Conferência!$F$2,\"\")","v":""},{"$f":"IF(Jogo!G580=Conferência!$G$2,Conferência!$G$2,\"\")","v":""},{"$f":"IF(Jogo!H580=Conferência!$H$2,Conferência!$H$2,\"\")","v":""},{"$f":"IF(Jogo!I580=Conferência!$I$2,Conferência!$I$2,\"\")","v":""},{"$f":"IF(Jogo!J580=Conferência!$J$2,Conferência!$J$2,\"\")","v":""},{"$f":"IF(Jogo!K580=Conferência!$K$2,Conferência!$K$2,\"\")","v":""},{"$f":"IF(Jogo!L580=Conferência!$L$2,Conferência!$L$2,\"\")","v":""},{"$f":"IF(Jogo!M580=Conferência!$M$2,Conferência!$M$2,\"\")","v":""},{"$f":"IF(Jogo!N580=Conferência!$N$2,Conferência!$N$2,\"\")","v":""},{"$f":"IF(Jogo!O580=Conferência!$O$2,Conferência!$O$2,\"\")","v":""},{"$f":"IF(Jogo!P580=Conferência!$P$2,Conferência!$P$2,\"\")","v":""},{"$f":"IF(Jogo!Q580=Conferência!$Q$2,Conferência!$Q$2,\"\")","v":""},""]
[{"$f":"IF(Jogo!A581=Conferência!$A$2,Conferência!$A$2,\"\")","v":""},{"$f":"IF(Jogo!B581=Conferência!$B$2,Conferência!$B$2,\"\")","v":""},{"$f":"IF(Jogo!C581=Conferência!$C$2,Conferência!$C$2,\"\")","v":""},{"$f":"IF(Jogo!D581=Conferência!$D$2,Conferência!$D$2,\"\")","v":""},{"$f":"IF(Jogo!E581=Conferência!$E$2,Conferência!$E$2,\"\")","v":""},{"$f":"IF(Jogo!F581=Conferência!$F$2,Conferência!$F$2,\"\")","v":""},{"$f":"IF(Jogo!G581=Conferência!$G$2,Conferência!$G$2,\"\")","v":""},{"$f":"IF(Jogo!H581=Conferência!$H$2,Conferência!$H$2,\"\")","v":""},{"$f":"IF(Jogo!I581=Conferência!$I$2,Conferência!$I$2,\"\")","v":""},{"$f":"IF(Jogo!J581=Conferência!$J$2,Conferência!$J$2,\"\")","v":""},{"$f":"IF(Jogo!K581=Conferência!$K$2,Conferência!$K$2,\"\")","v":""},{"$f":"IF(Jogo!L581=Conferência!$L$2,Conferência!$L$2,\"\")","v":""},{"$f":"IF(Jogo!M581=Conferência!$M$2,Conferência!$M$2,\"\")","v":""},{"$f":"IF(Jogo!N581=Conferência!$N$2,Conferência!$N$2,\"\")","v":""},{"$f":"IF(Jogo!O581=Conferência!$O$2,Conferência!$O$2,\"\")","v":""},{"$f":"IF(Jogo!P581=Conferência!$P$2,Conferência!$P$2,\"\")","v":""},{"$f":"IF(Jogo!Q581=Conferência!$Q$2,Conferência!$Q$2,\"\")","v":""},""]
[{"$f":"IF(Jogo!A582=Conferência!$A$2,Conferência!$A$2,\"\")","v":""},{"$f":"IF(Jogo!B582=Conferência!$B$2,Conferência!$B$2,\"\")","v":""},{"$f":"IF(Jogo!C582=Conferência!$C$2,Conferência!$C$2,\"\")","v":""},{"$f":"IF(Jogo!D582=Conferência!$D$2,Conferência!$D$2,\"\")","v":""},{"$f":"IF(Jogo!E582=Conferência!$E$2,Conferência!$E$2,\"\")","v":""},{"$f":"IF(Jogo!F582=Conferência!$F$2,Conferência!$F$2,\"\")","v":""},{"$f":"IF(Jogo!G582=Conferência!$G$2,Conferência!$G$2,\"\")","v":""},{"$f":"IF(Jogo!H582=Conferência!$H$2,Conferência!$H$2,\"\")","v":""},{"$f":"IF(Jogo!I582=Conferência!$I$2,Conferência!$I$2,\"\")","v":""},{"$f":"IF(Jogo!J582=Conferência!$J$2,Conferência!$J$2,\"\")","v":""},{"$f":"IF(Jogo!K582=Conferência!$K$2,Conferência!$K$2,\"\")","v":""},{"$f":"IF(Jogo!L582=Conferência!$L$2,Conferência!$L$2,\"\")","v":""},{"$f":"IF(Jogo!M582=Conferência!$M$2,Conferência!$M$2,\"\")","v":""},{"$f":"IF(Jogo!N582=Conferência!$N$2,Conferência!$N$2,\"\")","v":""},{"$f":"IF(Jogo!O582=Conferência!$O$2,Conferência!$O$2,\"\")","v":""},{"$f":"IF(Jogo!P582=Conferência!$P$2,Conferência!$P$2,\"\")","v":""},{"$f":"IF(Jogo!Q582=Conferência!$Q$2,Conferência!$Q$2,\"\")","v":""},""]
[{"$f":"IF(Jogo!A583=Conferência!$A$2,Conferência!$A$2,\"\")","v":""},{"$f":"IF(Jogo!B583=Conferência!$B$2,Conferência!$B$2,\"\")","v":""},{"$f":"IF(Jogo!C583=Conferência!$C$2,Conferência!$C$2,\"\")","v":""},{"$f":"IF(Jogo!D583=Conferência!$D$2,Conferência!$D$2,\"\")","v":""},{"$f":"IF(Jogo!E583=Conferência!$E$2,Conferência!$E$2,\"\")","v":""},{"$f":"IF(Jogo!F583=Conferência!$F$2,Conferência!$F$2,\"\")","v":""},{"$f":"IF(Jogo!G583=Conferência!$G$2,Conferência!$G$2,\"\")","v":""},{"$f":"IF(Jogo!H583=Conferência!$H$2,Conferência!$H$2,\"\")","v":""},{"$f":"IF(Jogo!I583=Conferência!$I$2,Conferência!$I$2,\"\")","v":""},{"$f":"IF(Jogo!J583=Conferência!$J$2,Conferência!$J$2,\"\")","v":""},{"$f":"IF(Jogo!K583=Conferência!$K$2,Conferência!$K$2,\"\")","v":""},{"$f":"IF(Jogo!L583=Conferência!$L$2,Conferência!$L$2,\"\")","v":""},{"$f":"IF(Jogo!M583=Conferência!$M$2,Conferência!$M$2,\"\")","v":""},{"$f":"IF(Jogo!N583=Conferência!$N$2,Conferência!$N$2,\"\")","v":""},{"$f":"IF(Jogo!O583=Conferência!$O$2,Conferência!$O$2,\"\")","v":""},{"$f":"IF(Jogo!P583=Conferência!$P$2,Conferência!$P$2,\"\")","v":""},{"$f":"IF(Jogo!Q583=Conferência!$Q$2,Conferência!$Q$2,\"\")","v":""},""]
[{"$f":"IF(Jogo!A584=Conferência!$A$2,Conferência!$A$2,\"\")","v":""},{"$f":"IF(Jogo!B584=Conferência!$B$2,Conferência!$B$2,\"\")","v":""},{"$f":"IF(Jogo!C584=Conferência!$C$2,Conferência!$C$2,\"\")","v":""},{"$f":"IF(Jogo!D584=Conferência!$D$2,Conferência!$D$2,\"\")","v":""},{"$f":"IF(Jogo!E584=Conferência!$E$2,Conferência!$E$2,\"\")","v":""},{"$f":"IF(Jogo!F584=Conferência!$F$2,Conferência!$F$2,\"\")","v":""},{"$f":"IF(Jogo!G584=Conferência!$G$2,Conferência!$G$2,\"\")","v":""},{"$f":"IF(Jogo!H584=Conferência!$H$2,Conferência!$H$2,\"\")","v":""},{"$f":"IF(Jogo!I584=Conferência!$I$2,Conferência!$I$2,\"\")","v":""},{"$f":"IF(Jogo!J584=Conferência!$J$2,Conferência!$J$2,\"\")","v":""},{"$f":"IF(Jogo!K584=Conferência!$K$2,Conferência!$K$2,\"\")","v":""},{"$f":"IF(Jogo!L584=Conferência!$L$2,Conferência!$L$2,\"\")","v":""},{"$f":"IF(Jogo!M584=Conferência!$M$2,Conferência!$M$2,\"\")","v":""},{"$f":"IF(Jogo!N584=Conferência!$N$2,Conferência!$N$2,\"\")","v":""},{"$f":"IF(Jogo!O584=Conferência!$O$2,Conferência!$O$2,\"\")","v":""},{"$f":"IF(Jogo!P584=Conferência!$P$2,Conferência!$P$2,\"\")","v":""},{"$f":"IF(Jogo!Q584=Conferência!$Q$2,Conferência!$Q$2,\"\")","v":""},""]
[{"$f":"IF(Jogo!A585=Conferência!$A$2,Conferência!$A$2,\"\")","v":""},{"$f":"IF(Jogo!B585=Conferência!$B$2,Conferência!$B$2,\"\")","v":""},{"$f":"IF(Jogo!C585=Conferência!$C$2,Conferência!$C$2,\"\")","v":""},{"$f":"IF(Jogo!D585=Conferência!$D$2,Conferência!$D$2,\"\")","v":""},{"$f":"IF(Jogo!E585=Conferência!$E$2,Conferência!$E$2,\"\")","v":""},{"$f":"IF(Jogo!F585=Conferência!$F$2,Conferência!$F$2,\"\")","v":""},{"$f":"IF(Jogo!G585=Conferência!$G$2,Conferência!$G$2,\"\")","v":""},{"$f":"IF(Jogo!H585=Conferência!$H$2,Conferência!$H$2,\"\")","v":""},{"$f":"IF(Jogo!I585=Conferência!$I$2,Conferência!$I$2,\"\")","v":""},{"$f":"IF(Jogo!J585=Conferência!$J$2,Conferência!$J$2,\"\")","v":""},{"$f":"IF(Jogo!K585=Conferência!$K$2,Conferência!$K$2,\"\")","v":""},{"$f":"IF(Jogo!L585=Conferência!$L$2,Conferência!$L$2,\"\")","v":""},{"$f":"IF(Jogo!M585=Conferência!$M$2,Conferência!$M$2,\"\")","v":""},{"$f":"IF(Jogo!N585=Conferência!$N$2,Conferência!$N$2,\"\")","v":""},{"$f":"IF(Jogo!O585=Conferência!$O$2,Conferência!$O$2,\"\")","v":""},{"$f":"IF(Jogo!P585=Conferência!$P$2,Conferência!$P$2,\"\")","v":""},{"$f":"IF(Jogo!Q585=Conferência!$Q$2,Conferência!$Q$2,\"\")","v":""},""]
[{"$f":"IF(Jogo!A586=Conferência!$A$2,Conferência!$A$2,\"\")","v":""},{"$f":"IF(Jogo!B586=Conferência!$B$2,Conferência!$B$2,\"\")","v":""},{"$f":"IF(Jogo!C586=Conferência!$C$2,Conferência!$C$2,\"\")","v":""},{"$f":"IF(Jogo!D586=Conferência!$D$2,Conferência!$D$2,\"\")","v":""},{"$f":"IF(Jogo!E586=Conferência!$E$2,Conferência!$E$2,\"\")","v":""},{"$f":"IF(Jogo!F586=Conferência!$F$2,Conferência!$F$2,\"\")","v":""},{"$f":"IF(Jogo!G586=Conferência!$G$2,Conferência!$G$2,\"\")","v":""},{"$f":"IF(Jogo!H586=Conferência!$H$2,Conferência!$H$2,\"\")","v":""},{"$f":"IF(Jogo!I586=Conferência!$I$2,Conferência!$I$2,\"\")","v":""},{"$f":"IF(Jogo!J586=Conferência!$J$2,Conferência!$J$2,\"\")","v":""},{"$f":"IF(Jogo!K586=Conferência!$K$2,Conferência!$K$2,\"\")","v":""},{"$f":"IF(Jogo!L586=Conferência!$L$2,Conferência!$L$2,\"\")","v":""},{"$f":"IF(Jogo!M586=Conferência!$M$2,Conferência!$M$2,\"\")","v":""},{"$f":"IF(Jogo!N586=Conferência!$N$2,Conferência!$N$2,\"\")","v":""},{"$f":"IF(Jogo!O586=Conferência!$O$2,Conferência!$O$2,\"\")","v":""},{"$f":"IF(Jogo!P586=Conferência!$P$2,Conferência!$P$2,\"\")","v":""},{"$f":"IF(Jogo!Q586=Conferência!$Q$2,Conferência!$Q$2,\"\")","v":""},""]
[{"$f":"IF(Jogo!A587=Conferência!$A$2,Conferência!$A$2,\"\")","v":""},{"$f":"IF(Jogo!B587=Conferência!$B$2,Conferência!$B$2,\"\")","v":""},{"$f":"IF(Jogo!C587=Conferência!$C$2,Conferência!$C$2,\"\")","v":""},{"$f":"IF(Jogo!D587=Conferência!$D$2,Conferência!$D$2,\"\")","v":""},{"$f":"IF(Jogo!E587=Conferência!$E$2,Conferência!$E$2,\"\")","v":""},{"$f":"IF(Jogo!F587=Conferência!$F$2,Conferência!$F$2,\"\")","v":""},{"$f":"IF(Jogo!G587=Conferência!$G$2,Conferência!$G$2,\"\")","v":""},{"$f":"IF(Jogo!H587=Conferência!$H$2,Conferência!$H$2,\"\")","v":""},{"$f":"IF(Jogo!I587=Conferência!$I$2,Conferência!$I$2,\"\")","v":""},{"$f":"IF(Jogo!J587=Conferência!$J$2,Conferência!$J$2,\"\")","v":""},{"$f":"IF(Jogo!K587=Conferência!$K$2,Conferência!$K$2,\"\")","v":""},{"$f":"IF(Jogo!L587=Conferência!$L$2,Conferência!$L$2,\"\")","v":""},{"$f":"IF(Jogo!M587=Conferência!$M$2,Conferência!$M$2,\"\")","v":""},{"$f":"IF(Jogo!N587=Conferência!$N$2,Conferência!$N$2,\"\")","v":""},{"$f":"IF(Jogo!O587=Conferência!$O$2,Conferência!$O$2,\"\")","v":""},{"$f":"IF(Jogo!P587=Conferência!$P$2,Conferência!$P$2,\"\")","v":""},{"$f":"IF(Jogo!Q587=Conferência!$Q$2,Conferência!$Q$2,\"\")","v":""},""]
[{"$f":"IF(Jogo!A588=Conferência!$A$2,Conferência!$A$2,\"\")","v":""},{"$f":"IF(Jogo!B588=Conferência!$B$2,Conferência!$B$2,\"\")","v":""},{"$f":"IF(Jogo!C588=Conferência!$C$2,Conferência!$C$2,\"\")","v":""},{"$f":"IF(Jogo!D588=Conferência!$D$2,Conferência!$D$2,\"\")","v":""},{"$f":"IF(Jogo!E588=Conferência!$E$2,Conferência!$E$2,\"\")","v":""},{"$f":"IF(Jogo!F588=Conferência!$F$2,Conferência!$F$2,\"\")","v":""},{"$f":"IF(Jogo!G588=Conferência!$G$2,Conferência!$G$2,\"\")","v":""},{"$f":"IF(Jogo!H588=Conferência!$H$2,Conferência!$H$2,\"\")","v":""},{"$f":"IF(Jogo!I588=Conferência!$I$2,Conferência!$I$2,\"\")","v":""},{"$f":"IF(Jogo!J588=Conferência!$J$2,Conferência!$J$2,\"\")","v":""},{"$f":"IF(Jogo!K588=Conferência!$K$2,Conferência!$K$2,\"\")","v":""},{"$f":"IF(Jogo!L588=Conferência!$L$2,Conferência!$L$2,\"\")","v":""},{"$f":"IF(Jogo!M588=Conferência!$M$2,Conferência!$M$2,\"\")","v":""},{"$f":"IF(Jogo!N588=Conferência!$N$2,Conferência!$N$2,\"\")","v":""},{"$f":"IF(Jogo!O588=Conferência!$O$2,Conferência!$O$2,\"\")","v":""},{"$f":"IF(Jogo!P588=Conferência!$P$2,Conferência!$P$2,\"\")","v":""},{"$f":"IF(Jogo!Q588=Conferência!$Q$2,Conferência!$Q$2,\"\")","v":""},""]
[{"$f":"IF(Jogo!A589=Conferência!$A$2,Conferência!$A$2,\"\")","v":""},{"$f":"IF(Jogo!B589=Conferência!$B$2,Conferência!$B$2,\"\")","v":""},{"$f":"IF(Jogo!C589=Conferência!$C$2,Conferência!$C$2,\"\")","v":""},{"$f":"IF(Jogo!D589=Conferência!$D$2,Conferência!$D$2,\"\")","v":""},{"$f":"IF(Jogo!E589=Conferência!$E$2,Conferência!$E$2,\"\")","v":""},{"$f":"IF(Jogo!F589=Conferência!$F$2,Conferência!$F$2,\"\")","v":""},{"$f":"IF(Jogo!G589=Conferência!$G$2,Conferência!$G$2,\"\")","v":""},{"$f":"IF(Jogo!H589=Conferência!$H$2,Conferência!$H$2,\"\")","v":""},{"$f":"IF(Jogo!I589=Conferência!$I$2,Conferência!$I$2,\"\")","v":""},{"$f":"IF(Jogo!J589=Conferência!$J$2,Conferência!$J$2,\"\")","v":""},{"$f":"IF(Jogo!K589=Conferência!$K$2,Conferência!$K$2,\"\")","v":""},{"$f":"IF(Jogo!L589=Conferência!$L$2,Conferência!$L$2,\"\")","v":""},{"$f":"IF(Jogo!M589=Conferência!$M$2,Conferência!$M$2,\"\")","v":""},{"$f":"IF(Jogo!N589=Conferência!$N$2,Conferência!$N$2,\"\")","v":""},{"$f":"IF(Jogo!O589=Conferência!$O$2,Conferência!$O$2,\"\")","v":""},{"$f":"IF(Jogo!P589=Conferência!$P$2,Conferência!$P$2,\"\")","v":""},{"$f":"IF(Jogo!Q589=Conferência!$Q$2,Conferência!$Q$2,\"\")","v":""},""]
[{"$f":"IF(Jogo!A590=Conferência!$A$2,Conferência!$A$2,\"\")","v":""},{"$f":"IF(Jogo!B590=Conferência!$B$2,Conferência!$B$2,\"\")","v":""},{"$f":"IF(Jogo!C590=Conferência!$C$2,Conferência!$C$2,\"\")","v":""},{"$f":"IF(Jogo!D590=Conferência!$D$2,Conferência!$D$2,\"\")","v":""},{"$f":"IF(Jogo!E590=Conferência!$E$2,Conferência!$E$2,\"\")","v":""},{"$f":"IF(Jogo!F590=Conferência!$F$2,Conferência!$F$2,\"\")","v":""},{"$f":"IF(Jogo!G590=Conferência!$G$2,Conferência!$G$2,\"\")","v":""},{"$f":"IF(Jogo!H590=Conferência!$H$2,Conferência!$H$2,\"\")","v":""},{"$f":"IF(Jogo!I590=Conferência!$I$2,Conferência!$I$2,\"\")","v":""},{"$f":"IF(Jogo!J590=Conferência!$J$2,Conferência!$J$2,\"\")","v":""},{"$f":"IF(Jogo!K590=Conferência!$K$2,Conferência!$K$2,\"\")","v":""},{"$f":"IF(Jogo!L590=Conferência!$L$2,Conferência!$L$2,\"\")","v":""},{"$f":"IF(Jogo!M590=Conferência!$M$2,Conferência!$M$2,\"\")","v":""},{"$f":"IF(Jogo!N590=Conferência!$N$2,Conferência!$N$2,\"\")","v":""},{"$f":"IF(Jogo!O590=Conferência!$O$2,Conferência!$O$2,\"\")","v":""},{"$f":"IF(Jogo!P590=Conferência!$P$2,Conferência!$P$2,\"\")","v":""},{"$f":"IF(Jogo!Q590=Conferência!$Q$2,Conferência!$Q$2,\"\")","v":""},""]
[{"$f":"IF(Jogo!A591=Conferência!$A$2,Conferência!$A$2,\"\")","v":""},{"$f":"IF(Jogo!B591=Conferência!$B$2,Conferência!$B$2,\"\")","v":""},{"$f":"IF(Jogo!C591=Conferência!$C$2,Conferência!$C$2,\"\")","v":""},{"$f":"IF(Jogo!D591=Conferência!$D$2,Conferência!$D$2,\"\")","v":""},{"$f":"IF(Jogo!E591=Conferência!$E$2,Conferência!$E$2,\"\")","v":""},{"$f":"IF(Jogo!F591=Conferência!$F$2,Conferência!$F$2,\"\")","v":""},{"$f":"IF(Jogo!G591=Conferência!$G$2,Conferência!$G$2,\"\")","v":""},{"$f":"IF(Jogo!H591=Conferência!$H$2,Conferência!$H$2,\"\")","v":""},{"$f":"IF(Jogo!I591=Conferência!$I$2,Conferência!$I$2,\"\")","v":""},{"$f":"IF(Jogo!J591=Conferência!$J$2,Conferência!$J$2,\"\")","v":""},{"$f":"IF(Jogo!K591=Conferência!$K$2,Conferência!$K$2,\"\")","v":""},{"$f":"IF(Jogo!L591=Conferência!$L$2,Conferência!$L$2,\"\")","v":""},{"$f":"IF(Jogo!M591=Conferência!$M$2,Conferência!$M$2,\"\")","v":""},{"$f":"IF(Jogo!N591=Conferência!$N$2,Conferência!$N$2,\"\")","v":""},{"$f":"IF(Jogo!O591=Conferência!$O$2,Conferência!$O$2,\"\")","v":""},{"$f":"IF(Jogo!P591=Conferência!$P$2,Conferência!$P$2,\"\")","v":""},{"$f":"IF(Jogo!Q591=Conferência!$Q$2,Conferência!$Q$2,\"\")","v":""},""]
[{"$f":"IF(Jogo!A592=Conferência!$A$2,Conferência!$A$2,\"\")","v":""},{"$f":"IF(Jogo!B592=Conferência!$B$2,Conferência!$B$2,\"\")","v":""},{"$f":"IF(Jogo!C592=Conferência!$C$2,Conferência!$C$2,\"\")","v":""},{"$f":"IF(Jogo!D592=Conferência!$D$2,Conferência!$D$2,\"\")","v":""},{"$f":"IF(Jogo!E592=Conferência!$E$2,Conferência!$E$2,\"\")","v":""},{"$f":"IF(Jogo!F592=Conferência!$F$2,Conferência!$F$2,\"\")","v":""},{"$f":"IF(Jogo!G592=Conferência!$G$2,Conferência!$G$2,\"\")","v":""},{"$f":"IF(Jogo!H592=Conferência!$H$2,Conferência!$H$2,\"\")","v":""},{"$f":"IF(Jogo!I592=Conferência!$I$2,Conferência!$I$2,\"\")","v":""},{"$f":"IF(Jogo!J592=Conferência!$J$2,Conferência!$J$2,\"\")","v":""},{"$f":"IF(Jogo!K592=Conferência!$K$2,Conferência!$K$2,\"\")","v":""},{"$f":"IF(Jogo!L592=Conferência!$L$2,Conferência!$L$2,\"\")","v":""},{"$f":"IF(Jogo!M592=Conferência!$M$2,Conferência!$M$2,\"\")","v":""},{"$f":"IF(Jogo!N592=Conferência!$N$2,Conferência!$N$2,\"\")","v":""},{"$f":"IF(Jogo!O592=Conferência!$O$2,Conferência!$O$2,\"\")","v":""},{"$f":"IF(Jogo!P592=Conferência!$P$2,Conferência!$P$2,\"\")","v":""},{"$f":"IF(Jogo!Q592=Conferência!$Q$2,Conferência!$Q$2,\"\")","v":""},""]
[{"$f":"IF(Jogo!A593=Conferência!$A$2,Conferência!$A$2,\"\")","v":""},{"$f":"IF(Jogo!B593=Conferência!$B$2,Conferência!$B$2,\"\")","v":""},{"$f":"IF(Jogo!C593=Conferência!$C$2,Conferência!$C$2,\"\")","v":""},{"$f":"IF(Jogo!D593=Conferência!$D$2,Conferência!$D$2,\"\")","v":""},{"$f":"IF(Jogo!E593=Conferência!$E$2,Conferência!$E$2,\"\")","v":""},{"$f":"IF(Jogo!F593=Conferência!$F$2,Conferência!$F$2,\"\")","v":""},{"$f":"IF(Jogo!G593=Conferência!$G$2,Conferência!$G$2,\"\")","v":""},{"$f":"IF(Jogo!H593=Conferência!$H$2,Conferência!$H$2,\"\")","v":""},{"$f":"IF(Jogo!I593=Conferência!$I$2,Conferência!$I$2,\"\")","v":""},{"$f":"IF(Jogo!J593=Conferência!$J$2,Conferência!$J$2,\"\")","v":""},{"$f":"IF(Jogo!K593=Conferência!$K$2,Conferência!$K$2,\"\")","v":""},{"$f":"IF(Jogo!L593=Conferência!$L$2,Conferência!$L$2,\"\")","v":""},{"$f":"IF(Jogo!M593=Conferência!$M$2,Conferência!$M$2,\"\")","v":""},{"$f":"IF(Jogo!N593=Conferência!$N$2,Conferência!$N$2,\"\")","v":""},{"$f":"IF(Jogo!O593=Conferência!$O$2,Conferência!$O$2,\"\")","v":""},{"$f":"IF(Jogo!P593=Conferência!$P$2,Conferência!$P$2,\"\")","v":""},{"$f":"IF(Jogo!Q593=Conferência!$Q$2,Conferência!$Q$2,\"\")","v":""},""]
[{"$f":"IF(Jogo!A594=Conferência!$A$2,Conferência!$A$2,\"\")","v":""},{"$f":"IF(Jogo!B594=Conferência!$B$2,Conferência!$B$2,\"\")","v":""},{"$f":"IF(Jogo!C594=Conferência!$C$2,Conferência!$C$2,\"\")","v":""},{"$f":"IF(Jogo!D594=Conferência!$D$2,Conferência!$D$2,\"\")","v":""},{"$f":"IF(Jogo!E594=Conferência!$E$2,Conferência!$E$2,\"\")","v":""},{"$f":"IF(Jogo!F594=Conferência!$F$2,Conferência!$F$2,\"\")","v":""},{"$f":"IF(Jogo!G594=Conferência!$G$2,Conferência!$G$2,\"\")","v":""},{"$f":"IF(Jogo!H594=Conferência!$H$2,Conferência!$H$2,\"\")","v":""},{"$f":"IF(Jogo!I594=Conferência!$I$2,Conferência!$I$2,\"\")","v":""},{"$f":"IF(Jogo!J594=Conferência!$J$2,Conferência!$J$2,\"\")","v":""},{"$f":"IF(Jogo!K594=Conferência!$K$2,Conferência!$K$2,\"\")","v":""},{"$f":"IF(Jogo!L594=Conferência!$L$2,Conferência!$L$2,\"\")","v":""},{"$f":"IF(Jogo!M594=Conferência!$M$2,Conferência!$M$2,\"\")","v":""},{"$f":"IF(Jogo!N594=Conferência!$N$2,Conferência!$N$2,\"\")","v":""},{"$f":"IF(Jogo!O594=Conferência!$O$2,Conferência!$O$2,\"\")","v":""},{"$f":"IF(Jogo!P594=Conferência!$P$2,Conferência!$P$2,\"\")","v":""},{"$f":"IF(Jogo!Q594=Conferência!$Q$2,Conferência!$Q$2,\"\")","v":""},{"$f":"IF(A594=\"\",\"\",\"OK\")","v":""}]
[{"$f":"IF(Jogo!A595=Conferência!$A$2,Conferência!$A$2,\"\")","v":""},{"$f":"IF(Jogo!B595=Conferência!$B$2,Conferência!$B$2,\"\")","v":""},{"$f":"IF(Jogo!C595=Conferência!$C$2,Conferência!$C$2,\"\")","v":""},{"$f":"IF(Jogo!D595=Conferência!$D$2,Conferência!$D$2,\"\")","v":""},{"$f":"IF(Jogo!E595=Conferência!$E$2,Conferência!$E$2,\"\")","v":""},{"$f":"IF(Jogo!F595=Conferência!$F$2,Conferência!$F$2,\"\")","v":""},{"$f":"IF(Jogo!G595=Conferência!$G$2,Conferência!$G$2,\"\")","v":""},{"$f":"IF(Jogo!H595=Conferência!$H$2,Conferência!$H$2,\"\")","v":""},{"$f":"IF(Jogo!I595=Conferência!$I$2,Conferência!$I$2,\"\")","v":""},{"$f":"IF(Jogo!J595=Conferência!$J$2,Conferência!$J$2,\"\")","v":""},{"$f":"IF(Jogo!K595=Conferência!$K$2,Conferência!$K$2,\"\")","v":""},{"$f":"IF(Jogo!L595=Conferência!$L$2,Conferência!$L$2,\"\")","v":""},{"$f":"IF(Jogo!M595=Conferência!$M$2,Conferência!$M$2,\"\")","v":""},{"$f":"IF(Jogo!N595=Conferência!$N$2,Conferência!$N$2,\"\")","v":""},{"$f":"IF(Jogo!O595=Conferência!$O$2,Conferência!$O$2,\"\")","v":""},{"$f":"IF(Jogo!P595=Conferência!$P$2,Conferência!$P$2,\"\")","v":""},{"$f":"IF(Jogo!Q595=Conferência!$Q$2,Conferência!$Q$2,\"\")","v":""},""]
[{"$f":"IF(Jogo!A596=Conferência!$A$2,Conferência!$A$2,\"\")","v":""},{"$f":"IF(Jogo!B596=Conferência!$B$2,Conferência!$B$2,\"\")","v":""},{"$f":"IF(Jogo!C596=Conferência!$C$2,Conferência!$C$2,\"\")","v":""},{"$f":"IF(Jogo!D596=Conferência!$D$2,Conferência!$D$2,\"\")","v":""},{"$f":"IF(Jogo!E596=Conferência!$E$2,Conferência!$E$2,\"\")","v":""},{"$f":"IF(Jogo!F596=Conferência!$F$2,Conferência!$F$2,\"\")","v":""},{"$f":"IF(Jogo!G596=Conferência!$G$2,Conferência!$G$2,\"\")","v":""},{"$f":"IF(Jogo!H596=Conferência!$H$2,Conferência!$H$2,\"\")","v":""},{"$f":"IF(Jogo!I596=Conferência!$I$2,Conferência!$I$2,\"\")","v":""},{"$f":"IF(Jogo!J596=Conferência!$J$2,Conferência!$J$2,\"\")","v":""},{"$f":"IF(Jogo!K596=Conferência!$K$2,Conferência!$K$2,\"\")","v":""},{"$f":"IF(Jogo!L596=Conferência!$L$2,Conferência!$L$2,\"\")","v":""},{"$f":"IF(Jogo!M596=Conferência!$M$2,Conferência!$M$2,\"\")","v":""},{"$f":"IF(Jogo!N596=Conferência!$N$2,Conferência!$N$2,\"\")","v":""},{"$f":"IF(Jogo!O596=Conferência!$O$2,Conferência!$O$2,\"\")","v":""},{"$f":"IF(Jogo!P596=Conferência!$P$2,Conferência!$P$2,\"\")","v":""},{"$f":"IF(Jogo!Q596=Conferência!$Q$2,Conferência!$Q$2,\"\")","v":""},""]
[{"$f":"IF(Jogo!A597=Conferência!$A$2,Conferência!$A$2,\"\")","v":""},{"$f":"IF(Jogo!B597=Conferência!$B$2,Conferência!$B$2,\"\")","v":""},{"$f":"IF(Jogo!C597=Conferência!$C$2,Conferência!$C$2,\"\")","v":""},{"$f":"IF(Jogo!D597=Conferência!$D$2,Conferência!$D$2,\"\")","v":""},{"$f":"IF(Jogo!E597=Conferência!$E$2,Conferência!$E$2,\"\")","v":""},{"$f":"IF(Jogo!F597=Conferência!$F$2,Conferência!$F$2,\"\")","v":""},{"$f":"IF(Jogo!G597=Conferência!$G$2,Conferência!$G$2,\"\")","v":""},{"$f":"IF(Jogo!H597=Conferência!$H$2,Conferência!$H$2,\"\")","v":""},{"$f":"IF(Jogo!I597=Conferência!$I$2,Conferência!$I$2,\"\")","v":""},{"$f":"IF(Jogo!J597=Conferência!$J$2,Conferência!$J$2,\"\")","v":""},{"$f":"IF(Jogo!K597=Conferência!$K$2,Conferência!$K$2,\"\")","v":""},{"$f":"IF(Jogo!L597=Conferência!$L$2,Conferência!$L$2,\"\")","v":""},{"$f":"IF(Jogo!M597=Conferência!$M$2,Conferência!$M$2,\"\")","v":""},{"$f":"IF(Jogo!N597=Conferência!$N$2,Conferência!$N$2,\"\")","v":""},{"$f":"IF(Jogo!O597=Conferência!$O$2,Conferência!$O$2,\"\")","v":""},{"$f":"IF(Jogo!P597=Conferência!$P$2,Conferência!$P$2,\"\")","v":""},{"$f":"IF(Jogo!Q597=Conferência!$Q$2,Conferência!$Q$2,\"\")","v":""},""]
[{"$f":"IF(Jogo!A598=Conferência!$A$2,Conferência!$A$2,\"\")","v":""},{"$f":"IF(Jogo!B598=Conferência!$B$2,Conferência!$B$2,\"\")","v":""},{"$f":"IF(Jogo!C598=Conferência!$C$2,Conferência!$C$2,\"\")","v":""},{"$f":"IF(Jogo!D598=Conferência!$D$2,Conferência!$D$2,\"\")","v":""},{"$f":"IF(Jogo!E598=Conferência!$E$2,Conferência!$E$2,\"\")","v":""},{"$f":"IF(Jogo!F598=Conferência!$F$2,Conferência!$F$2,\"\")","v":""},{"$f":"IF(Jogo!G598=Conferência!$G$2,Conferência!$G$2,\"\")","v":""},{"$f":"IF(Jogo!H598=Conferência!$H$2,Conferência!$H$2,\"\")","v":""},{"$f":"IF(Jogo!I598=Conferência!$I$2,Conferência!$I$2,\"\")","v":""},{"$f":"IF(Jogo!J598=Conferência!$J$2,Conferência!$J$2,\"\")","v":""},{"$f":"IF(Jogo!K598=Conferência!$K$2,Conferência!$K$2,\"\")","v":""},{"$f":"IF(Jogo!L598=Conferência!$L$2,Conferência!$L$2,\"\")","v":""},{"$f":"IF(Jogo!M598=Conferência!$M$2,Conferência!$M$2,\"\")","v":""},{"$f":"IF(Jogo!N598=Conferência!$N$2,Conferência!$N$2,\"\")","v":""},{"$f":"IF(Jogo!O598=Conferência!$O$2,Conferência!$O$2,\"\")","v":""},{"$f":"IF(Jogo!P598=Conferência!$P$2,Conferência!$P$2,\"\")","v":""},{"$f":"IF(Jogo!Q598=Conferência!$Q$2,Conferência!$Q$2,\"\")","v":""},""]
[{"$f":"IF(Jogo!A599=Conferência!$A$2,Conferência!$A$2,\"\")","v":""},{"$f":"IF(Jogo!B599=Conferência!$B$2,Conferência!$B$2,\"\")","v":""},{"$f":"IF(Jogo!C599=Conferência!$C$2,Conferência!$C$2,\"\")","v":""},{"$f":"IF(Jogo!D599=Conferência!$D$2,Conferência!$D$2,\"\")","v":""},{"$f":"IF(Jogo!E599=Conferência!$E$2,Conferência!$E$2,\"\")","v":""},{"$f":"IF(Jogo!F599=Conferência!$F$2,Conferência!$F$2,\"\")","v":""},{"$f":"IF(Jogo!G599=Conferência!$G$2,Conferência!$G$2,\"\")","v":""},{"$f":"IF(Jogo!H599=Conferência!$H$2,Conferência!$H$2,\"\")","v":""},{"$f":"IF(Jogo!I599=Conferência!$I$2,Conferência!$I$2,\"\")","v":""},{"$f":"IF(Jogo!J599=Conferência!$J$2,Conferência!$J$2,\"\")","v":""},{"$f":"IF(Jogo!K599=Conferência!$K$2,Conferência!$K$2,\"\")","v":""},{"$f":"IF(Jogo!L599=Conferência!$L$2,Conferência!$L$2,\"\")","v":""},{"$f":"IF(Jogo!M599=Conferência!$M$2,Conferência!$M$2,\"\")","v":""},{"$f":"IF(Jogo!N599=Conferência!$N$2,Conferência!$N$2,\"\")","v":""},{"$f":"IF(Jogo!O599=Conferência!$O$2,Conferência!$O$2,\"\")","v":""},{"$f":"IF(Jogo!P599=Conferência!$P$2,Conferência!$P$2,\"\")","v":""},{"$f":"IF(Jogo!Q599=Conferência!$Q$2,Conferência!$Q$2,\"\")","v":""},""]
[{"$f":"IF(Jogo!A600=Conferência!$A$2,Conferência!$A$2,\"\")","v":""},{"$f":"IF(Jogo!B600=Conferência!$B$2,Conferência!$B$2,\"\")","v":""},{"$f":"IF(Jogo!C600=Conferência!$C$2,Conferência!$C$2,\"\")","v":""},{"$f":"IF(Jogo!D600=Conferência!$D$2,Conferência!$D$2,\"\")","v":""},{"$f":"IF(Jogo!E600=Conferência!$E$2,Conferência!$E$2,\"\")","v":""},{"$f":"IF(Jogo!F600=Conferência!$F$2,Conferência!$F$2,\"\")","v":""},{"$f":"IF(Jogo!G600=Conferência!$G$2,Conferência!$G$2,\"\")","v":""},{"$f":"IF(Jogo!H600=Conferência!$H$2,Conferência!$H$2,\"\")","v":""},{"$f":"IF(Jogo!I600=Conferência!$I$2,Conferência!$I$2,\"\")","v":""},{"$f":"IF(Jogo!J600=Conferência!$J$2,Conferência!$J$2,\"\")","v":""},{"$f":"IF(Jogo!K600=Conferência!$K$2,Conferência!$K$2,\"\")","v":""},{"$f":"IF(Jogo!L600=Conferência!$L$2,Conferência!$L$2,\"\")","v":""},{"$f":"IF(Jogo!M600=Conferência!$M$2,Conferência!$M$2,\"\")","v":""},{"$f":"IF(Jogo!N600=Conferência!$N$2,Conferência!$N$2,\"\")","v":""},{"$f":"IF(Jogo!O600=Conferência!$O$2,Conferência!$O$2,\"\")","v":""},{"$f":"IF(Jogo!P600=Conferência!$P$2,Conferência!$P$2,\"\")","v":""},{"$f":"IF(Jogo!Q600=Conferência!$Q$2,Conferência!$Q$2,\"\")","v":""},""]
[{"$f":"IF(Jogo!A601=Conferência!$A$2,Conferência!$A$2,\"\")","v":""},{"$f":"IF(Jogo!B601=Conferência!$B$2,Conferência!$B$2,\"\")","v":""},{"$f":"IF(Jogo!C601=Conferência!$C$2,Conferência!$C$2,\"\")","v":""},{"$f":"IF(Jogo!D601=Conferência!$D$2,Conferência!$D$2,\"\")","v":""},{"$f":"IF(Jogo!E601=Conferência!$E$2,Conferência!$E$2,\"\")","v":""},{"$f":"IF(Jogo!F601=Conferência!$F$2,Conferência!$F$2,\"\")","v":""},{"$f":"IF(Jogo!G601=Conferência!$G$2,Conferência!$G$2,\"\")","v":""},{"$f":"IF(Jogo!H601=Conferência!$H$2,Conferência!$H$2,\"\")","v":""},{"$f":"IF(Jogo!I601=Conferência!$I$2,Conferência!$I$2,\"\")","v":""},{"$f":"IF(Jogo!J601=Conferência!$J$2,Conferência!$J$2,\"\")","v":""},{"$f":"IF(Jogo!K601=Conferência!$K$2,Conferência!$K$2,\"\")","v":""},{"$f":"IF(Jogo!L601=Conferência!$L$2,Conferência!$L$2,\"\")","v":""},{"$f":"IF(Jogo!M601=Conferência!$M$2,Conferência!$M$2,\"\")","v":""},{"$f":"IF(Jogo!N601=Conferência!$N$2,Conferência!$N$2,\"\")","v":""},{"$f":"IF(Jogo!O601=Conferência!$O$2,Conferência!$O$2,\"\")","v":""},{"$f":"IF(Jogo!P601=Conferência!$P$2,Conferência!$P$2,\"\")","v":""},{"$f":"IF(Jogo!Q601=Conferência!$Q$2,Conferência!$Q$2,\"\")","v":""},""]
[{"$f":"IF(Jogo!A602=Conferência!$A$2,Conferência!$A$2,\"\")","v":""},{"$f":"IF(Jogo!B602=Conferência!$B$2,Conferência!$B$2,\"\")","v":""},{"$f":"IF(Jogo!C602=Conferência!$C$2,Conferência!$C$2,\"\")","v":""},{"$f":"IF(Jogo!D602=Conferência!$D$2,Conferência!$D$2,\"\")","v":""},{"$f":"IF(Jogo!E602=Conferência!$E$2,Conferência!$E$2,\"\")","v":""},{"$f":"IF(Jogo!F602=Conferência!$F$2,Conferência!$F$2,\"\")","v":""},{"$f":"IF(Jogo!G602=Conferência!$G$2,Conferência!$G$2,\"\")","v":""},{"$f":"IF(Jogo!H602=Conferência!$H$2,Conferência!$H$2,\"\")","v":""},{"$f":"IF(Jogo!I602=Conferência!$I$2,Conferência!$I$2,\"\")","v":""},{"$f":"IF(Jogo!J602=Conferência!$J$2,Conferência!$J$2,\"\")","v":""},{"$f":"IF(Jogo!K602=Conferência!$K$2,Conferência!$K$2,\"\")","v":""},{"$f":"IF(Jogo!L602=Conferência!$L$2,Conferência!$L$2,\"\")","v":""},{"$f":"IF(Jogo!M602=Conferência!$M$2,Conferência!$M$2,\"\")","v":""},{"$f":"IF(Jogo!N602=Conferência!$N$2,Conferência!$N$2,\"\")","v":""},{"$f":"IF(Jogo!O602=Conferência!$O$2,Conferência!$O$2,\"\")","v":""},{"$f":"IF(Jogo!P602=Conferência!$P$2,Conferência!$P$2,\"\")","v":""},{"$f":"IF(Jogo!Q602=Conferência!$Q$2,Conferência!$Q$2,\"\")","v":""},""]
[{"$f":"IF(Jogo!A603=Conferência!$A$2,Conferência!$A$2,\"\")","v":""},{"$f":"IF(Jogo!B603=Conferência!$B$2,Conferência!$B$2,\"\")","v":""},{"$f":"IF(Jogo!C603=Conferência!$C$2,Conferência!$C$2,\"\")","v":""},{"$f":"IF(Jogo!D603=Conferência!$D$2,Conferência!$D$2,\"\")","v":""},{"$f":"IF(Jogo!E603=Conferência!$E$2,Conferência!$E$2,\"\")","v":""},{"$f":"IF(Jogo!F603=Conferência!$F$2,Conferência!$F$2,\"\")","v":""},{"$f":"IF(Jogo!G603=Conferência!$G$2,Conferência!$G$2,\"\")","v":""},{"$f":"IF(Jogo!H603=Conferência!$H$2,Conferência!$H$2,\"\")","v":""},{"$f":"IF(Jogo!I603=Conferência!$I$2,Conferência!$I$2,\"\")","v":""},{"$f":"IF(Jogo!J603=Conferência!$J$2,Conferência!$J$2,\"\")","v":""},{"$f":"IF(Jogo!K603=Conferência!$K$2,Conferência!$K$2,\"\")","v":""},{"$f":"IF(Jogo!L603=Conferência!$L$2,Conferência!$L$2,\"\")","v":""},{"$f":"IF(Jogo!M603=Conferência!$M$2,Conferência!$M$2,\"\")","v":""},{"$f":"IF(Jogo!N603=Conferência!$N$2,Conferência!$N$2,\"\")","v":""},{"$f":"IF(Jogo!O603=Conferência!$O$2,Conferência!$O$2,\"\")","v":""},{"$f":"IF(Jogo!P603=Conferência!$P$2,Conferência!$P$2,\"\")","v":""},{"$f":"IF(Jogo!Q603=Conferência!$Q$2,Conferência!$Q$2,\"\")","v":""},""]
[{"$f":"IF(Jogo!A604=Conferência!$A$2,Conferência!$A$2,\"\")","v":""},{"$f":"IF(Jogo!B604=Conferência!$B$2,Conferência!$B$2,\"\")","v":""},{"$f":"IF(Jogo!C604=Conferência!$C$2,Conferência!$C$2,\"\")","v":""},{"$f":"IF(Jogo!D604=Conferência!$D$2,Conferência!$D$2,\"\")","v":""},{"$f":"IF(Jogo!E604=Conferência!$E$2,Conferência!$E$2,\"\")","v":""},{"$f":"IF(Jogo!F604=Conferência!$F$2,Conferência!$F$2,\"\")","v":""},{"$f":"IF(Jogo!G604=Conferência!$G$2,Conferência!$G$2,\"\")","v":""},{"$f":"IF(Jogo!H604=Conferência!$H$2,Conferência!$H$2,\"\")","v":""},{"$f":"IF(Jogo!I604=Conferência!$I$2,Conferência!$I$2,\"\")","v":""},{"$f":"IF(Jogo!J604=Conferência!$J$2,Conferência!$J$2,\"\")","v":""},{"$f":"IF(Jogo!K604=Conferência!$K$2,Conferência!$K$2,\"\")","v":""},{"$f":"IF(Jogo!L604=Conferência!$L$2,Conferência!$L$2,\"\")","v":""},{"$f":"IF(Jogo!M604=Conferência!$M$2,Conferência!$M$2,\"\")","v":""},{"$f":"IF(Jogo!N604=Conferência!$N$2,Conferência!$N$2,\"\")","v":""},{"$f":"IF(Jogo!O604=Conferência!$O$2,Conferência!$O$2,\"\")","v":""},{"$f":"IF(Jogo!P604=Conferência!$P$2,Conferência!$P$2,\"\")","v":""},{"$f":"IF(Jogo!Q604=Conferência!$Q$2,Conferência!$Q$2,\"\")","v":""},""]
[{"$f":"IF(Jogo!A605=Conferência!$A$2,Conferência!$A$2,\"\")","v":""},{"$f":"IF(Jogo!B605=Conferência!$B$2,Conferência!$B$2,\"\")","v":""},{"$f":"IF(Jogo!C605=Conferência!$C$2,Conferência!$C$2,\"\")","v":""},{"$f":"IF(Jogo!D605=Conferência!$D$2,Conferência!$D$2,\"\")","v":""},{"$f":"IF(Jogo!E605=Conferência!$E$2,Conferência!$E$2,\"\")","v":""},{"$f":"IF(Jogo!F605=Conferência!$F$2,Conferência!$F$2,\"\")","v":""},{"$f":"IF(Jogo!G605=Conferência!$G$2,Conferência!$G$2,\"\")","v":""},{"$f":"IF(Jogo!H605=Conferência!$H$2,Conferência!$H$2,\"\")","v":""},{"$f":"IF(Jogo!I605=Conferência!$I$2,Conferência!$I$2,\"\")","v":""},{"$f":"IF(Jogo!J605=Conferência!$J$2,Conferência!$J$2,\"\")","v":""},{"$f":"IF(Jogo!K605=Conferência!$K$2,Conferência!$K$2,\"\")","v":""},{"$f":"IF(Jogo!L605=Conferência!$L$2,Conferência!$L$2,\"\")","v":""},{"$f":"IF(Jogo!M605=Conferência!$M$2,Conferência!$M$2,\"\")","v":""},{"$f":"IF(Jogo!N605=Conferência!$N$2,Conferência!$N$2,\"\")","v":""},{"$f":"IF(Jogo!O605=Conferência!$O$2,Conferência!$O$2,\"\")","v":""},{"$f":"IF(Jogo!P605=Conferência!$P$2,Conferência!$P$2,\"\")","v":""},{"$f":"IF(Jogo!Q605=Conferência!$Q$2,Conferência!$Q$2,\"\")","v":""},""]
[{"$f":"IF(Jogo!A606=Conferência!$A$2,Conferência!$A$2,\"\")","v":""},{"$f":"IF(Jogo!B606=Conferência!$B$2,Conferência!$B$2,\"\")","v":""},{"$f":"IF(Jogo!C606=Conferência!$C$2,Conferência!$C$2,\"\")","v":""},{"$f":"IF(Jogo!D606=Conferência!$D$2,Conferência!$D$2,\"\")","v":""},{"$f":"IF(Jogo!E606=Conferência!$E$2,Conferência!$E$2,\"\")","v":""},{"$f":"IF(Jogo!F606=Conferência!$F$2,Conferência!$F$2,\"\")","v":""},{"$f":"IF(Jogo!G606=Conferência!$G$2,Conferência!$G$2,\"\")","v":""},{"$f":"IF(Jogo!H606=Conferência!$H$2,Conferência!$H$2,\"\")","v":""},{"$f":"IF(Jogo!I606=Conferência!$I$2,Conferência!$I$2,\"\")","v":""},{"$f":"IF(Jogo!J606=Conferência!$J$2,Conferência!$J$2,\"\")","v":""},{"$f":"IF(Jogo!K606=Conferência!$K$2,Conferência!$K$2,\"\")","v":""},{"$f":"IF(Jogo!L606=Conferência!$L$2,Conferência!$L$2,\"\")","v":""},{"$f":"IF(Jogo!M606=Conferência!$M$2,Conferência!$M$2,\"\")","v":""},{"$f":"IF(Jogo!N606=Conferência!$N$2,Conferência!$N$2,\"\")","v":""},{"$f":"IF(Jogo!O606=Conferência!$O$2,Conferência!$O$2,\"\")","v":""},{"$f":"IF(Jogo!P606=Conferência!$P$2,Conferência!$P$2,\"\")","v":""},{"$f":"IF(Jogo!Q606=Conferência!$Q$2,Conferência!$Q$2,\"\")","v":""},""]
[{"$f":"IF(Jogo!A607=Conferência!$A$2,Conferência!$A$2,\"\")","v":""},{"$f":"IF(Jogo!B607=Conferência!$B$2,Conferência!$B$2,\"\")","v":""},{"$f":"IF(Jogo!C607=Conferência!$C$2,Conferência!$C$2,\"\")","v":""},{"$f":"IF(Jogo!D607=Conferência!$D$2,Conferência!$D$2,\"\")","v":""},{"$f":"IF(Jogo!E607=Conferência!$E$2,Conferência!$E$2,\"\")","v":""},{"$f":"IF(Jogo!F607=Conferência!$F$2,Conferência!$F$2,\"\")","v":""},{"$f":"IF(Jogo!G607=Conferência!$G$2,Conferência!$G$2,\"\")","v":""},{"$f":"IF(Jogo!H607=Conferência!$H$2,Conferência!$H$2,\"\")","v":""},{"$f":"IF(Jogo!I607=Conferência!$I$2,Conferência!$I$2,\"\")","v":""},{"$f":"IF(Jogo!J607=Conferência!$J$2,Conferência!$J$2,\"\")","v":""},{"$f":"IF(Jogo!K607=Conferência!$K$2,Conferência!$K$2,\"\")","v":""},{"$f":"IF(Jogo!L607=Conferência!$L$2,Conferência!$L$2,\"\")","v":""},{"$f":"IF(Jogo!M607=Conferência!$M$2,Conferência!$M$2,\"\")","v":""},{"$f":"IF(Jogo!N607=Conferência!$N$2,Conferência!$N$2,\"\")","v":""},{"$f":"IF(Jogo!O607=Conferência!$O$2,Conferência!$O$2,\"\")","v":""},{"$f":"IF(Jogo!P607=Conferência!$P$2,Conferência!$P$2,\"\")","v":""},{"$f":"IF(Jogo!Q607=Conferência!$Q$2,Conferência!$Q$2,\"\")","v":""},""]
[{"$f":"IF(Jogo!A608=Conferência!$A$2,Conferência!$A$2,\"\")","v":""},{"$f":"IF(Jogo!B608=Conferência!$B$2,Conferência!$B$2,\"\")","v":""},{"$f":"IF(Jogo!C608=Conferência!$C$2,Conferência!$C$2,\"\")","v":""},{"$f":"IF(Jogo!D608=Conferência!$D$2,Conferência!$D$2,\"\")","v":""},{"$f":"IF(Jogo!E608=Conferência!$E$2,Conferência!$E$2,\"\")","v":""},{"$f":"IF(Jogo!F608=Conferência!$F$2,Conferência!$F$2,\"\")","v":""},{"$f":"IF(Jogo!G608=Conferência!$G$2,Conferência!$G$2,\"\")","v":""},{"$f":"IF(Jogo!H608=Conferência!$H$2,Conferência!$H$2,\"\")","v":""},{"$f":"IF(Jogo!I608=Conferência!$I$2,Conferência!$I$2,\"\")","v":""},{"$f":"IF(Jogo!J608=Conferência!$J$2,Conferência!$J$2,\"\")","v":""},{"$f":"IF(Jogo!K608=Conferência!$K$2,Conferência!$K$2,\"\")","v":""},{"$f":"IF(Jogo!L608=Conferência!$L$2,Conferência!$L$2,\"\")","v":""},{"$f":"IF(Jogo!M608=Conferência!$M$2,Conferência!$M$2,\"\")","v":""},{"$f":"IF(Jogo!N608=Conferência!$N$2,Conferência!$N$2,\"\")","v":""},{"$f":"IF(Jogo!O608=Conferência!$O$2,Conferência!$O$2,\"\")","v":""},{"$f":"IF(Jogo!P608=Conferência!$P$2,Conferência!$P$2,\"\")","v":""},{"$f":"IF(Jogo!Q608=Conferência!$Q$2,Conferência!$Q$2,\"\")","v":""},""]
[{"$f":"IF(Jogo!A609=Conferência!$A$2,Conferência!$A$2,\"\")","v":""},{"$f":"IF(Jogo!B609=Conferência!$B$2,Conferência!$B$2,\"\")","v":""},{"$f":"IF(Jogo!C609=Conferência!$C$2,Conferência!$C$2,\"\")","v":""},{"$f":"IF(Jogo!D609=Conferência!$D$2,Conferência!$D$2,\"\")","v":""},{"$f":"IF(Jogo!E609=Conferência!$E$2,Conferência!$E$2,\"\")","v":""},{"$f":"IF(Jogo!F609=Conferência!$F$2,Conferência!$F$2,\"\")","v":""},{"$f":"IF(Jogo!G609=Conferência!$G$2,Conferência!$G$2,\"\")","v":""},{"$f":"IF(Jogo!H609=Conferência!$H$2,Conferência!$H$2,\"\")","v":""},{"$f":"IF(Jogo!I609=Conferência!$I$2,Conferência!$I$2,\"\")","v":""},{"$f":"IF(Jogo!J609=Conferência!$J$2,Conferência!$J$2,\"\")","v":""},{"$f":"IF(Jogo!K609=Conferência!$K$2,Conferência!$K$2,\"\")","v":""},{"$f":"IF(Jogo!L609=Conferência!$L$2,Conferência!$L$2,\"\")","v":""},{"$f":"IF(Jogo!M609=Conferência!$M$2,Conferência!$M$2,\"\")","v":""},{"$f":"IF(Jogo!N609=Conferência!$N$2,Conferência!$N$2,\"\")","v":""},{"$f":"IF(Jogo!O609=Conferência!$O$2,Conferência!$O$2,\"\")","v":""},{"$f":"IF(Jogo!P609=Conferência!$P$2,Conferência!$P$2,\"\")","v":""},{"$f":"IF(Jogo!Q609=Conferência!$Q$2,Conferência!$Q$2,\"\")","v":""},""]
[{"$f":"IF(Jogo!A610=Conferência!$A$2,Conferência!$A$2,\"\")","v":""},{"$f":"IF(Jogo!B610=Conferência!$B$2,Conferência!$B$2,\"\")","v":""},{"$f":"IF(Jogo!C610=Conferência!$C$2,Conferência!$C$2,\"\")","v":""},{"$f":"IF(Jogo!D610=Conferência!$D$2,Conferência!$D$2,\"\")","v":""},{"$f":"IF(Jogo!E610=Conferência!$E$2,Conferência!$E$2,\"\")","v":""},{"$f":"IF(Jogo!F610=Conferência!$F$2,Conferência!$F$2,\"\")","v":""},{"$f":"IF(Jogo!G610=Conferência!$G$2,Conferência!$G$2,\"\")","v":""},{"$f":"IF(Jogo!H610=Conferência!$H$2,Conferência!$H$2,\"\")","v":""},{"$f":"IF(Jogo!I610=Conferência!$I$2,Conferência!$I$2,\"\")","v":""},{"$f":"IF(Jogo!J610=Conferência!$J$2,Conferência!$J$2,\"\")","v":""},{"$f":"IF(Jogo!K610=Conferência!$K$2,Conferência!$K$2,\"\")","v":""},{"$f":"IF(Jogo!L610=Conferência!$L$2,Conferência!$L$2,\"\")","v":""},{"$f":"IF(Jogo!M610=Conferência!$M$2,Conferência!$M$2,\"\")","v":""},{"$f":"IF(Jogo!N610=Conferência!$N$2,Conferência!$N$2,\"\")","v":""},{"$f":"IF(Jogo!O610=Conferência!$O$2,Conferência!$O$2,\"\")","v":""},{"$f":"IF(Jogo!P610=Conferência!$P$2,Conferência!$P$2,\"\")","v":""},{"$f":"IF(Jogo!Q610=Conferência!$Q$2,Conferência!$Q$2,\"\")","v":""},""]
[{"$f":"IF(Jogo!A611=Conferência!$A$2,Conferência!$A$2,\"\")","v":""},{"$f":"IF(Jogo!B611=Conferência!$B$2,Conferência!$B$2,\"\")","v":""},{"$f":"IF(Jogo!C611=Conferência!$C$2,Conferência!$C$2,\"\")","v":""},{"$f":"IF(Jogo!D611=Conferência!$D$2,Conferência!$D$2,\"\")","v":""},{"$f":"IF(Jogo!E611=Conferência!$E$2,Conferência!$E$2,\"\")","v":""},{"$f":"IF(Jogo!F611=Conferência!$F$2,Conferência!$F$2,\"\")","v":""},{"$f":"IF(Jogo!G611=Conferência!$G$2,Conferência!$G$2,\"\")","v":""},{"$f":"IF(Jogo!H611=Conferência!$H$2,Conferência!$H$2,\"\")","v":""},{"$f":"IF(Jogo!I611=Conferência!$I$2,Conferência!$I$2,\"\")","v":""},{"$f":"IF(Jogo!J611=Conferência!$J$2,Conferência!$J$2,\"\")","v":""},{"$f":"IF(Jogo!K611=Conferência!$K$2,Conferência!$K$2,\"\")","v":""},{"$f":"IF(Jogo!L611=Conferência!$L$2,Conferência!$L$2,\"\")","v":""},{"$f":"IF(Jogo!M611=Conferência!$M$2,Conferência!$M$2,\"\")","v":""},{"$f":"IF(Jogo!N611=Conferência!$N$2,Conferência!$N$2,\"\")","v":""},{"$f":"IF(Jogo!O611=Conferência!$O$2,Conferência!$O$2,\"\")","v":""},{"$f":"IF(Jogo!P611=Conferência!$P$2,Conferência!$P$2,\"\")","v":""},{"$f":"IF(Jogo!Q611=Conferência!$Q$2,Conferência!$Q$2,\"\")","v":""},""]
[{"$f":"IF(Jogo!A612=Conferência!$A$2,Conferência!$A$2,\"\")","v":""},{"$f":"IF(Jogo!B612=Conferência!$B$2,Conferência!$B$2,\"\")","v":""},{"$f":"IF(Jogo!C612=Conferência!$C$2,Conferência!$C$2,\"\")","v":""},{"$f":"IF(Jogo!D612=Conferência!$D$2,Conferência!$D$2,\"\")","v":""},{"$f":"IF(Jogo!E612=Conferência!$E$2,Conferência!$E$2,\"\")","v":""},{"$f":"IF(Jogo!F612=Conferência!$F$2,Conferência!$F$2,\"\")","v":""},{"$f":"IF(Jogo!G612=Conferência!$G$2,Conferência!$G$2,\"\")","v":""},{"$f":"IF(Jogo!H612=Conferência!$H$2,Conferência!$H$2,\"\")","v":""},{"$f":"IF(Jogo!I612=Conferência!$I$2,Conferência!$I$2,\"\")","v":""},{"$f":"IF(Jogo!J612=Conferência!$J$2,Conferência!$J$2,\"\")","v":""},{"$f":"IF(Jogo!K612=Conferência!$K$2,Conferência!$K$2,\"\")","v":""},{"$f":"IF(Jogo!L612=Conferência!$L$2,Conferência!$L$2,\"\")","v":""},{"$f":"IF(Jogo!M612=Conferência!$M$2,Conferência!$M$2,\"\")","v":""},{"$f":"IF(Jogo!N612=Conferência!$N$2,Conferência!$N$2,\"\")","v":""},{"$f":"IF(Jogo!O612=Conferência!$O$2,Conferência!$O$2,\"\")","v":""},{"$f":"IF(Jogo!P612=Conferência!$P$2,Conferência!$P$2,\"\")","v":""},{"$f":"IF(Jogo!Q612=Conferência!$Q$2,Conferência!$Q$2,\"\")","v":""},""]
[{"$f":"IF(Jogo!A613=Conferência!$A$2,Conferência!$A$2,\"\")","v":""},{"$f":"IF(Jogo!B613=Conferência!$B$2,Conferência!$B$2,\"\")","v":""},{"$f":"IF(Jogo!C613=Conferência!$C$2,Conferência!$C$2,\"\")","v":""},{"$f":"IF(Jogo!D613=Conferência!$D$2,Conferência!$D$2,\"\")","v":""},{"$f":"IF(Jogo!E613=Conferência!$E$2,Conferência!$E$2,\"\")","v":""},{"$f":"IF(Jogo!F613=Conferência!$F$2,Conferência!$F$2,\"\")","v":""},{"$f":"IF(Jogo!G613=Conferência!$G$2,Conferência!$G$2,\"\")","v":""},{"$f":"IF(Jogo!H613=Conferência!$H$2,Conferência!$H$2,\"\")","v":""},{"$f":"IF(Jogo!I613=Conferência!$I$2,Conferência!$I$2,\"\")","v":""},{"$f":"IF(Jogo!J613=Conferência!$J$2,Conferência!$J$2,\"\")","v":""},{"$f":"IF(Jogo!K613=Conferência!$K$2,Conferência!$K$2,\"\")","v":""},{"$f":"IF(Jogo!L613=Conferência!$L$2,Conferência!$L$2,\"\")","v":""},{"$f":"IF(Jogo!M613=Conferência!$M$2,Conferência!$M$2,\"\")","v":""},{"$f":"IF(Jogo!N613=Conferência!$N$2,Conferência!$N$2,\"\")","v":""},{"$f":"IF(Jogo!O613=Conferência!$O$2,Conferência!$O$2,\"\")","v":""},{"$f":"IF(Jogo!P613=Conferência!$P$2,Conferência!$P$2,\"\")","v":""},{"$f":"IF(Jogo!Q613=Conferência!$Q$2,Conferência!$Q$2,\"\")","v":""},""]
[{"$f":"IF(Jogo!A614=Conferência!$A$2,Conferência!$A$2,\"\")","v":""},{"$f":"IF(Jogo!B614=Conferência!$B$2,Conferência!$B$2,\"\")","v":""},{"$f":"IF(Jogo!C614=Conferência!$C$2,Conferência!$C$2,\"\")","v":""},{"$f":"IF(Jogo!D614=Conferência!$D$2,Conferência!$D$2,\"\")","v":""},{"$f":"IF(Jogo!E614=Conferência!$E$2,Conferência!$E$2,\"\")","v":""},{"$f":"IF(Jogo!F614=Conferência!$F$2,Conferência!$F$2,\"\")","v":""},{"$f":"IF(Jogo!G614=Conferência!$G$2,Conferência!$G$2,\"\")","v":""},{"$f":"IF(Jogo!H614=Conferência!$H$2,Conferência!$H$2,\"\")","v":""},{"$f":"IF(Jogo!I614=Conferência!$I$2,Conferência!$I$2,\"\")","v":""},{"$f":"IF(Jogo!J614=Conferência!$J$2,Conferência!$J$2,\"\")","v":""},{"$f":"IF(Jogo!K614=Conferência!$K$2,Conferência!$K$2,\"\")","v":""},{"$f":"IF(Jogo!L614=Conferência!$L$2,Conferência!$L$2,\"\")","v":""},{"$f":"IF(Jogo!M614=Conferência!$M$2,Conferência!$M$2,\"\")","v":""},{"$f":"IF(Jogo!N614=Conferência!$N$2,Conferência!$N$2,\"\")","v":""},{"$f":"IF(Jogo!O614=Conferência!$O$2,Conferência!$O$2,\"\")","v":""},{"$f":"IF(Jogo!P614=Conferência!$P$2,Conferência!$P$2,\"\")","v":""},{"$f":"IF(Jogo!Q614=Conferência!$Q$2,Conferência!$Q$2,\"\")","v":""},""]
[{"$f":"IF(Jogo!A615=Conferência!$A$2,Conferência!$A$2,\"\")","v":""},{"$f":"IF(Jogo!B615=Conferência!$B$2,Conferência!$B$2,\"\")","v":""},{"$f":"IF(Jogo!C615=Conferência!$C$2,Conferência!$C$2,\"\")","v":""},{"$f":"IF(Jogo!D615=Conferência!$D$2,Conferência!$D$2,\"\")","v":""},{"$f":"IF(Jogo!E615=Conferência!$E$2,Conferência!$E$2,\"\")","v":""},{"$f":"IF(Jogo!F615=Conferência!$F$2,Conferência!$F$2,\"\")","v":""},{"$f":"IF(Jogo!G615=Conferência!$G$2,Conferência!$G$2,\"\")","v":""},{"$f":"IF(Jogo!H615=Conferência!$H$2,Conferência!$H$2,\"\")","v":""},{"$f":"IF(Jogo!I615=Conferência!$I$2,Conferência!$I$2,\"\")","v":""},{"$f":"IF(Jogo!J615=Conferência!$J$2,Conferência!$J$2,\"\")","v":""},{"$f":"IF(Jogo!K615=Conferência!$K$2,Conferência!$K$2,\"\")","v":""},{"$f":"IF(Jogo!L615=Conferência!$L$2,Conferência!$L$2,\"\")","v":""},{"$f":"IF(Jogo!M615=Conferência!$M$2,Conferência!$M$2,\"\")","v":""},{"$f":"IF(Jogo!N615=Conferência!$N$2,Conferência!$N$2,\"\")","v":""},{"$f":"IF(Jogo!O615=Conferência!$O$2,Conferência!$O$2,\"\")","v":""},{"$f":"IF(Jogo!P615=Conferência!$P$2,Conferência!$P$2,\"\")","v":""},{"$f":"IF(Jogo!Q615=Conferência!$Q$2,Conferência!$Q$2,\"\")","v":""},""]
[{"$f":"IF(Jogo!A616=Conferência!$A$2,Conferência!$A$2,\"\")","v":""},{"$f":"IF(Jogo!B616=Conferência!$B$2,Conferência!$B$2,\"\")","v":""},{"$f":"IF(Jogo!C616=Conferência!$C$2,Conferência!$C$2,\"\")","v":""},{"$f":"IF(Jogo!D616=Conferência!$D$2,Conferência!$D$2,\"\")","v":""},{"$f":"IF(Jogo!E616=Conferência!$E$2,Conferência!$E$2,\"\")","v":""},{"$f":"IF(Jogo!F616=Conferência!$F$2,Conferência!$F$2,\"\")","v":""},{"$f":"IF(Jogo!G616=Conferência!$G$2,Conferência!$G$2,\"\")","v":""},{"$f":"IF(Jogo!H616=Conferência!$H$2,Conferência!$H$2,\"\")","v":""},{"$f":"IF(Jogo!I616=Conferência!$I$2,Conferência!$I$2,\"\")","v":""},{"$f":"IF(Jogo!J616=Conferência!$J$2,Conferência!$J$2,\"\")","v":""},{"$f":"IF(Jogo!K616=Conferência!$K$2,Conferência!$K$2,\"\")","v":""},{"$f":"IF(Jogo!L616=Conferência!$L$2,Conferência!$L$2,\"\")","v":""},{"$f":"IF(Jogo!M616=Conferência!$M$2,Conferência!$M$2,\"\")","v":""},{"$f":"IF(Jogo!N616=Conferência!$N$2,Conferência!$N$2,\"\")","v":""},{"$f":"IF(Jogo!O616=Conferência!$O$2,Conferência!$O$2,\"\")","v":""},{"$f":"IF(Jogo!P616=Conferência!$P$2,Conferência!$P$2,\"\")","v":""},{"$f":"IF(Jogo!Q616=Conferência!$Q$2,Conferência!$Q$2,\"\")","v":""},""]
[{"$f":"IF(Jogo!A617=Conferência!$A$2,Conferência!$A$2,\"\")","v":""},{"$f":"IF(Jogo!B617=Conferência!$B$2,Conferência!$B$2,\"\")","v":""},{"$f":"IF(Jogo!C617=Conferência!$C$2,Conferência!$C$2,\"\")","v":""},{"$f":"IF(Jogo!D617=Conferência!$D$2,Conferência!$D$2,\"\")","v":""},{"$f":"IF(Jogo!E617=Conferência!$E$2,Conferência!$E$2,\"\")","v":""},{"$f":"IF(Jogo!F617=Conferência!$F$2,Conferência!$F$2,\"\")","v":""},{"$f":"IF(Jogo!G617=Conferência!$G$2,Conferência!$G$2,\"\")","v":""},{"$f":"IF(Jogo!H617=Conferência!$H$2,Conferência!$H$2,\"\")","v":""},{"$f":"IF(Jogo!I617=Conferência!$I$2,Conferência!$I$2,\"\")","v":""},{"$f":"IF(Jogo!J617=Conferência!$J$2,Conferência!$J$2,\"\")","v":""},{"$f":"IF(Jogo!K617=Conferência!$K$2,Conferência!$K$2,\"\")","v":""},{"$f":"IF(Jogo!L617=Conferência!$L$2,Conferência!$L$2,\"\")","v":""},{"$f":"IF(Jogo!M617=Conferência!$M$2,Conferência!$M$2,\"\")","v":""},{"$f":"IF(Jogo!N617=Conferência!$N$2,Conferência!$N$2,\"\")","v":""},{"$f":"IF(Jogo!O617=Conferência!$O$2,Conferência!$O$2,\"\")","v":""},{"$f":"IF(Jogo!P617=Conferência!$P$2,Conferência!$P$2,\"\")","v":""},{"$f":"IF(Jogo!Q617=Conferência!$Q$2,Conferência!$Q$2,\"\")","v":""},""]
[{"$f":"IF(Jogo!A618=Conferência!$A$2,Conferência!$A$2,\"\")","v":""},{"$f":"IF(Jogo!B618=Conferência!$B$2,Conferência!$B$2,\"\")","v":""},{"$f":"IF(Jogo!C618=Conferência!$C$2,Conferência!$C$2,\"\")","v":""},{"$f":"IF(Jogo!D618=Conferência!$D$2,Conferência!$D$2,\"\")","v":""},{"$f":"IF(Jogo!E618=Conferência!$E$2,Conferência!$E$2,\"\")","v":""},{"$f":"IF(Jogo!F618=Conferência!$F$2,Conferência!$F$2,\"\")","v":""},{"$f":"IF(Jogo!G618=Conferência!$G$2,Conferência!$G$2,\"\")","v":""},{"$f":"IF(Jogo!H618=Conferência!$H$2,Conferência!$H$2,\"\")","v":""},{"$f":"IF(Jogo!I618=Conferência!$I$2,Conferência!$I$2,\"\")","v":""},{"$f":"IF(Jogo!J618=Conferência!$J$2,Conferência!$J$2,\"\")","v":""},{"$f":"IF(Jogo!K618=Conferência!$K$2,Conferência!$K$2,\"\")","v":""},{"$f":"IF(Jogo!L618=Conferência!$L$2,Conferência!$L$2,\"\")","v":""},{"$f":"IF(Jogo!M618=Conferência!$M$2,Conferência!$M$2,\"\")","v":""},{"$f":"IF(Jogo!N618=Conferência!$N$2,Conferência!$N$2,\"\")","v":""},{"$f":"IF(Jogo!O618=Conferência!$O$2,Conferência!$O$2,\"\")","v":""},{"$f":"IF(Jogo!P618=Conferência!$P$2,Conferência!$P$2,\"\")","v":""},{"$f":"IF(Jogo!Q618=Conferência!$Q$2,Conferência!$Q$2,\"\")","v":""},""]
[{"$f":"IF(Jogo!A619=Conferência!$A$2,Conferência!$A$2,\"\")","v":""},{"$f":"IF(Jogo!B619=Conferência!$B$2,Conferência!$B$2,\"\")","v":""},{"$f":"IF(Jogo!C619=Conferência!$C$2,Conferência!$C$2,\"\")","v":""},{"$f":"IF(Jogo!D619=Conferência!$D$2,Conferência!$D$2,\"\")","v":""},{"$f":"IF(Jogo!E619=Conferência!$E$2,Conferência!$E$2,\"\")","v":""},{"$f":"IF(Jogo!F619=Conferência!$F$2,Conferência!$F$2,\"\")","v":""},{"$f":"IF(Jogo!G619=Conferência!$G$2,Conferência!$G$2,\"\")","v":""},{"$f":"IF(Jogo!H619=Conferência!$H$2,Conferência!$H$2,\"\")","v":""},{"$f":"IF(Jogo!I619=Conferência!$I$2,Conferência!$I$2,\"\")","v":""},{"$f":"IF(Jogo!J619=Conferência!$J$2,Conferência!$J$2,\"\")","v":""},{"$f":"IF(Jogo!K619=Conferência!$K$2,Conferência!$K$2,\"\")","v":""},{"$f":"IF(Jogo!L619=Conferência!$L$2,Conferência!$L$2,\"\")","v":""},{"$f":"IF(Jogo!M619=Conferência!$M$2,Conferência!$M$2,\"\")","v":""},{"$f":"IF(Jogo!N619=Conferência!$N$2,Conferência!$N$2,\"\")","v":""},{"$f":"IF(Jogo!O619=Conferência!$O$2,Conferência!$O$2,\"\")","v":""},{"$f":"IF(Jogo!P619=Conferência!$P$2,Conferência!$P$2,\"\")","v":""},{"$f":"IF(Jogo!Q619=Conferência!$Q$2,Conferência!$Q$2,\"\")","v":""},""]
[{"$f":"IF(Jogo!A620=Conferência!$A$2,Conferência!$A$2,\"\")","v":""},{"$f":"IF(Jogo!B620=Conferência!$B$2,Conferência!$B$2,\"\")","v":""},{"$f":"IF(Jogo!C620=Conferência!$C$2,Conferência!$C$2,\"\")","v":""},{"$f":"IF(Jogo!D620=Conferência!$D$2,Conferência!$D$2,\"\")","v":""},{"$f":"IF(Jogo!E620=Conferência!$E$2,Conferência!$E$2,\"\")","v":""},{"$f":"IF(Jogo!F620=Conferência!$F$2,Conferência!$F$2,\"\")","v":""},{"$f":"IF(Jogo!G620=Conferência!$G$2,Conferência!$G$2,\"\")","v":""},{"$f":"IF(Jogo!H620=Conferência!$H$2,Conferência!$H$2,\"\")","v":""},{"$f":"IF(Jogo!I620=Conferência!$I$2,Conferência!$I$2,\"\")","v":""},{"$f":"IF(Jogo!J620=Conferência!$J$2,Conferência!$J$2,\"\")","v":""},{"$f":"IF(Jogo!K620=Conferência!$K$2,Conferência!$K$2,\"\")","v":""},{"$f":"IF(Jogo!L620=Conferência!$L$2,Conferência!$L$2,\"\")","v":""},{"$f":"IF(Jogo!M620=Conferência!$M$2,Conferência!$M$2,\"\")","v":""},{"$f":"IF(Jogo!N620=Conferência!$N$2,Conferência!$N$2,\"\")","v":""},{"$f":"IF(Jogo!O620=Conferência!$O$2,Conferência!$O$2,\"\")","v":""},{"$f":"IF(Jogo!P620=Conferência!$P$2,Conferência!$P$2,\"\")","v":""},{"$f":"IF(Jogo!Q620=Conferência!$Q$2,Conferência!$Q$2,\"\")","v":""},""]
[{"$f":"IF(Jogo!A621=Conferência!$A$2,Conferência!$A$2,\"\")","v":""},{"$f":"IF(Jogo!B621=Conferência!$B$2,Conferência!$B$2,\"\")","v":""},{"$f":"IF(Jogo!C621=Conferência!$C$2,Conferência!$C$2,\"\")","v":""},{"$f":"IF(Jogo!D621=Conferência!$D$2,Conferência!$D$2,\"\")","v":""},{"$f":"IF(Jogo!E621=Conferência!$E$2,Conferência!$E$2,\"\")","v":""},{"$f":"IF(Jogo!F621=Conferência!$F$2,Conferência!$F$2,\"\")","v":""},{"$f":"IF(Jogo!G621=Conferência!$G$2,Conferência!$G$2,\"\")","v":""},{"$f":"IF(Jogo!H621=Conferência!$H$2,Conferência!$H$2,\"\")","v":""},{"$f":"IF(Jogo!I621=Conferência!$I$2,Conferência!$I$2,\"\")","v":""},{"$f":"IF(Jogo!J621=Conferência!$J$2,Conferência!$J$2,\"\")","v":""},{"$f":"IF(Jogo!K621=Conferência!$K$2,Conferência!$K$2,\"\")","v":""},{"$f":"IF(Jogo!L621=Conferência!$L$2,Conferência!$L$2,\"\")","v":""},{"$f":"IF(Jogo!M621=Conferência!$M$2,Conferência!$M$2,\"\")","v":""},{"$f":"IF(Jogo!N621=Conferência!$N$2,Conferência!$N$2,\"\")","v":""},{"$f":"IF(Jogo!O621=Conferência!$O$2,Conferência!$O$2,\"\")","v":""},{"$f":"IF(Jogo!P621=Conferência!$P$2,Conferência!$P$2,\"\")","v":""},{"$f":"IF(Jogo!Q621=Conferência!$Q$2,Conferência!$Q$2,\"\")","v":""},""]
[{"$f":"IF(Jogo!A622=Conferência!$A$2,Conferência!$A$2,\"\")","v":""},{"$f":"IF(Jogo!B622=Conferência!$B$2,Conferência!$B$2,\"\")","v":""},{"$f":"IF(Jogo!C622=Conferência!$C$2,Conferência!$C$2,\"\")","v":""},{"$f":"IF(Jogo!D622=Conferência!$D$2,Conferência!$D$2,\"\")","v":""},{"$f":"IF(Jogo!E622=Conferência!$E$2,Conferência!$E$2,\"\")","v":""},{"$f":"IF(Jogo!F622=Conferência!$F$2,Conferência!$F$2,\"\")","v":""},{"$f":"IF(Jogo!G622=Conferência!$G$2,Conferência!$G$2,\"\")","v":""},{"$f":"IF(Jogo!H622=Conferência!$H$2,Conferência!$H$2,\"\")","v":""},{"$f":"IF(Jogo!I622=Conferência!$I$2,Conferência!$I$2,\"\")","v":""},{"$f":"IF(Jogo!J622=Conferência!$J$2,Conferência!$J$2,\"\")","v":""},{"$f":"IF(Jogo!K622=Conferência!$K$2,Conferência!$K$2,\"\")","v":""},{"$f":"IF(Jogo!L622=Conferência!$L$2,Conferência!$L$2,\"\")","v":""},{"$f":"IF(Jogo!M622=Conferência!$M$2,Conferência!$M$2,\"\")","v":""},{"$f":"IF(Jogo!N622=Conferência!$N$2,Conferência!$N$2,\"\")","v":""},{"$f":"IF(Jogo!O622=Conferência!$O$2,Conferência!$O$2,\"\")","v":""},{"$f":"IF(Jogo!P622=Conferência!$P$2,Conferência!$P$2,\"\")","v":""},{"$f":"IF(Jogo!Q622=Conferência!$Q$2,Conferência!$Q$2,\"\")","v":""},""]
[{"$f":"IF(Jogo!A623=Conferência!$A$2,Conferência!$A$2,\"\")","v":""},{"$f":"IF(Jogo!B623=Conferência!$B$2,Conferência!$B$2,\"\")","v":""},{"$f":"IF(Jogo!C623=Conferência!$C$2,Conferência!$C$2,\"\")","v":""},{"$f":"IF(Jogo!D623=Conferência!$D$2,Conferência!$D$2,\"\")","v":""},{"$f":"IF(Jogo!E623=Conferência!$E$2,Conferência!$E$2,\"\")","v":""},{"$f":"IF(Jogo!F623=Conferência!$F$2,Conferência!$F$2,\"\")","v":""},{"$f":"IF(Jogo!G623=Conferência!$G$2,Conferência!$G$2,\"\")","v":""},{"$f":"IF(Jogo!H623=Conferência!$H$2,Conferência!$H$2,\"\")","v":""},{"$f":"IF(Jogo!I623=Conferência!$I$2,Conferência!$I$2,\"\")","v":""},{"$f":"IF(Jogo!J623=Conferência!$J$2,Conferência!$J$2,\"\")","v":""},{"$f":"IF(Jogo!K623=Conferência!$K$2,Conferência!$K$2,\"\")","v":""},{"$f":"IF(Jogo!L623=Conferência!$L$2,Conferência!$L$2,\"\")","v":""},{"$f":"IF(Jogo!M623=Conferência!$M$2,Conferência!$M$2,\"\")","v":""},{"$f":"IF(Jogo!N623=Conferência!$N$2,Conferência!$N$2,\"\")","v":""},{"$f":"IF(Jogo!O623=Conferência!$O$2,Conferência!$O$2,\"\")","v":""},{"$f":"IF(Jogo!P623=Conferência!$P$2,Conferência!$P$2,\"\")","v":""},{"$f":"IF(Jogo!Q623=Conferência!$Q$2,Conferência!$Q$2,\"\")","v":""},""]
[{"$f":"IF(Jogo!A624=Conferência!$A$2,Conferência!$A$2,\"\")","v":""},{"$f":"IF(Jogo!B624=Conferência!$B$2,Conferência!$B$2,\"\")","v":""},{"$f":"IF(Jogo!C624=Conferência!$C$2,Conferência!$C$2,\"\")","v":""},{"$f":"IF(Jogo!D624=Conferência!$D$2,Conferência!$D$2,\"\")","v":""},{"$f":"IF(Jogo!E624=Conferência!$E$2,Conferência!$E$2,\"\")","v":""},{"$f":"IF(Jogo!F624=Conferência!$F$2,Conferência!$F$2,\"\")","v":""},{"$f":"IF(Jogo!G624=Conferência!$G$2,Conferência!$G$2,\"\")","v":""},{"$f":"IF(Jogo!H624=Conferência!$H$2,Conferência!$H$2,\"\")","v":""},{"$f":"IF(Jogo!I624=Conferência!$I$2,Conferência!$I$2,\"\")","v":""},{"$f":"IF(Jogo!J624=Conferência!$J$2,Conferência!$J$2,\"\")","v":""},{"$f":"IF(Jogo!K624=Conferência!$K$2,Conferência!$K$2,\"\")","v":""},{"$f":"IF(Jogo!L624=Conferência!$L$2,Conferência!$L$2,\"\")","v":""},{"$f":"IF(Jogo!M624=Conferência!$M$2,Conferência!$M$2,\"\")","v":""},{"$f":"IF(Jogo!N624=Conferência!$N$2,Conferência!$N$2,\"\")","v":""},{"$f":"IF(Jogo!O624=Conferência!$O$2,Conferência!$O$2,\"\")","v":""},{"$f":"IF(Jogo!P624=Conferência!$P$2,Conferência!$P$2,\"\")","v":""},{"$f":"IF(Jogo!Q624=Conferência!$Q$2,Conferência!$Q$2,\"\")","v":""},""]
[{"$f":"IF(Jogo!A625=Conferência!$A$2,Conferência!$A$2,\"\")","v":""},{"$f":"IF(Jogo!B625=Conferência!$B$2,Conferência!$B$2,\"\")","v":""},{"$f":"IF(Jogo!C625=Conferência!$C$2,Conferência!$C$2,\"\")","v":""},{"$f":"IF(Jogo!D625=Conferência!$D$2,Conferência!$D$2,\"\")","v":""},{"$f":"IF(Jogo!E625=Conferência!$E$2,Conferência!$E$2,\"\")","v":""},{"$f":"IF(Jogo!F625=Conferência!$F$2,Conferência!$F$2,\"\")","v":""},{"$f":"IF(Jogo!G625=Conferência!$G$2,Conferência!$G$2,\"\")","v":""},{"$f":"IF(Jogo!H625=Conferência!$H$2,Conferência!$H$2,\"\")","v":""},{"$f":"IF(Jogo!I625=Conferência!$I$2,Conferência!$I$2,\"\")","v":""},{"$f":"IF(Jogo!J625=Conferência!$J$2,Conferência!$J$2,\"\")","v":""},{"$f":"IF(Jogo!K625=Conferência!$K$2,Conferência!$K$2,\"\")","v":""},{"$f":"IF(Jogo!L625=Conferência!$L$2,Conferência!$L$2,\"\")","v":""},{"$f":"IF(Jogo!M625=Conferência!$M$2,Conferência!$M$2,\"\")","v":""},{"$f":"IF(Jogo!N625=Conferência!$N$2,Conferência!$N$2,\"\")","v":""},{"$f":"IF(Jogo!O625=Conferência!$O$2,Conferência!$O$2,\"\")","v":""},{"$f":"IF(Jogo!P625=Conferência!$P$2,Conferência!$P$2,\"\")","v":""},{"$f":"IF(Jogo!Q625=Conferência!$Q$2,Conferência!$Q$2,\"\")","v":""},""]
[{"$f":"IF(Jogo!A626=Conferência!$A$2,Conferência!$A$2,\"\")","v":""},{"$f":"IF(Jogo!B626=Conferência!$B$2,Conferência!$B$2,\"\")","v":""},{"$f":"IF(Jogo!C626=Conferência!$C$2,Conferência!$C$2,\"\")","v":""},{"$f":"IF(Jogo!D626=Conferência!$D$2,Conferência!$D$2,\"\")","v":""},{"$f":"IF(Jogo!E626=Conferência!$E$2,Conferência!$E$2,\"\")","v":""},{"$f":"IF(Jogo!F626=Conferência!$F$2,Conferência!$F$2,\"\")","v":""},{"$f":"IF(Jogo!G626=Conferência!$G$2,Conferência!$G$2,\"\")","v":""},{"$f":"IF(Jogo!H626=Conferência!$H$2,Conferência!$H$2,\"\")","v":""},{"$f":"IF(Jogo!I626=Conferência!$I$2,Conferência!$I$2,\"\")","v":""},{"$f":"IF(Jogo!J626=Conferência!$J$2,Conferência!$J$2,\"\")","v":""},{"$f":"IF(Jogo!K626=Conferência!$K$2,Conferência!$K$2,\"\")","v":""},{"$f":"IF(Jogo!L626=Conferência!$L$2,Conferência!$L$2,\"\")","v":""},{"$f":"IF(Jogo!M626=Conferência!$M$2,Conferência!$M$2,\"\")","v":""},{"$f":"IF(Jogo!N626=Conferência!$N$2,Conferência!$N$2,\"\")","v":""},{"$f":"IF(Jogo!O626=Conferência!$O$2,Conferência!$O$2,\"\")","v":""},{"$f":"IF(Jogo!P626=Conferência!$P$2,Conferência!$P$2,\"\")","v":""},{"$f":"IF(Jogo!Q626=Conferência!$Q$2,Conferência!$Q$2,\"\")","v":""},""]
[{"$f":"IF(Jogo!A627=Conferência!$A$2,Conferência!$A$2,\"\")","v":""},{"$f":"IF(Jogo!B627=Conferência!$B$2,Conferência!$B$2,\"\")","v":""},{"$f":"IF(Jogo!C627=Conferência!$C$2,Conferência!$C$2,\"\")","v":""},{"$f":"IF(Jogo!D627=Conferência!$D$2,Conferência!$D$2,\"\")","v":""},{"$f":"IF(Jogo!E627=Conferência!$E$2,Conferência!$E$2,\"\")","v":""},{"$f":"IF(Jogo!F627=Conferência!$F$2,Conferência!$F$2,\"\")","v":""},{"$f":"IF(Jogo!G627=Conferência!$G$2,Conferência!$G$2,\"\")","v":""},{"$f":"IF(Jogo!H627=Conferência!$H$2,Conferência!$H$2,\"\")","v":""},{"$f":"IF(Jogo!I627=Conferência!$I$2,Conferência!$I$2,\"\")","v":""},{"$f":"IF(Jogo!J627=Conferência!$J$2,Conferência!$J$2,\"\")","v":""},{"$f":"IF(Jogo!K627=Conferência!$K$2,Conferência!$K$2,\"\")","v":""},{"$f":"IF(Jogo!L627=Conferência!$L$2,Conferência!$L$2,\"\")","v":""},{"$f":"IF(Jogo!M627=Conferência!$M$2,Conferência!$M$2,\"\")","v":""},{"$f":"IF(Jogo!N627=Conferência!$N$2,Conferência!$N$2,\"\")","v":""},{"$f":"IF(Jogo!O627=Conferência!$O$2,Conferência!$O$2,\"\")","v":""},{"$f":"IF(Jogo!P627=Conferência!$P$2,Conferência!$P$2,\"\")","v":""},{"$f":"IF(Jogo!Q627=Conferência!$Q$2,Conferência!$Q$2,\"\")","v":""},""]
[{"$f":"IF(Jogo!A628=Conferência!$A$2,Conferência!$A$2,\"\")","v":""},{"$f":"IF(Jogo!B628=Conferência!$B$2,Conferência!$B$2,\"\")","v":""},{"$f":"IF(Jogo!C628=Conferência!$C$2,Conferência!$C$2,\"\")","v":""},{"$f":"IF(Jogo!D628=Conferência!$D$2,Conferência!$D$2,\"\")","v":""},{"$f":"IF(Jogo!E628=Conferência!$E$2,Conferência!$E$2,\"\")","v":""},{"$f":"IF(Jogo!F628=Conferência!$F$2,Conferência!$F$2,\"\")","v":""},{"$f":"IF(Jogo!G628=Conferência!$G$2,Conferência!$G$2,\"\")","v":""},{"$f":"IF(Jogo!H628=Conferência!$H$2,Conferência!$H$2,\"\")","v":""},{"$f":"IF(Jogo!I628=Conferência!$I$2,Conferência!$I$2,\"\")","v":""},{"$f":"IF(Jogo!J628=Conferência!$J$2,Conferência!$J$2,\"\")","v":""},{"$f":"IF(Jogo!K628=Conferência!$K$2,Conferência!$K$2,\"\")","v":""},{"$f":"IF(Jogo!L628=Conferência!$L$2,Conferência!$L$2,\"\")","v":""},{"$f":"IF(Jogo!M628=Conferência!$M$2,Conferência!$M$2,\"\")","v":""},{"$f":"IF(Jogo!N628=Conferência!$N$2,Conferência!$N$2,\"\")","v":""},{"$f":"IF(Jogo!O628=Conferência!$O$2,Conferência!$O$2,\"\")","v":""},{"$f":"IF(Jogo!P628=Conferência!$P$2,Conferência!$P$2,\"\")","v":""},{"$f":"IF(Jogo!Q628=Conferência!$Q$2,Conferência!$Q$2,\"\")","v":""},""]
[{"$f":"IF(Jogo!A629=Conferência!$A$2,Conferência!$A$2,\"\")","v":""},{"$f":"IF(Jogo!B629=Conferência!$B$2,Conferência!$B$2,\"\")","v":""},{"$f":"IF(Jogo!C629=Conferência!$C$2,Conferência!$C$2,\"\")","v":""},{"$f":"IF(Jogo!D629=Conferência!$D$2,Conferência!$D$2,\"\")","v":""},{"$f":"IF(Jogo!E629=Conferência!$E$2,Conferência!$E$2,\"\")","v":""},{"$f":"IF(Jogo!F629=Conferência!$F$2,Conferência!$F$2,\"\")","v":""},{"$f":"IF(Jogo!G629=Conferência!$G$2,Conferência!$G$2,\"\")","v":""},{"$f":"IF(Jogo!H629=Conferência!$H$2,Conferência!$H$2,\"\")","v":""},{"$f":"IF(Jogo!I629=Conferência!$I$2,Conferência!$I$2,\"\")","v":""},{"$f":"IF(Jogo!J629=Conferência!$J$2,Conferência!$J$2,\"\")","v":""},{"$f":"IF(Jogo!K629=Conferência!$K$2,Conferência!$K$2,\"\")","v":""},{"$f":"IF(Jogo!L629=Conferência!$L$2,Conferência!$L$2,\"\")","v":""},{"$f":"IF(Jogo!M629=Conferência!$M$2,Conferência!$M$2,\"\")","v":""},{"$f":"IF(Jogo!N629=Conferência!$N$2,Conferência!$N$2,\"\")","v":""},{"$f":"IF(Jogo!O629=Conferência!$O$2,Conferência!$O$2,\"\")","v":""},{"$f":"IF(Jogo!P629=Conferência!$P$2,Conferência!$P$2,\"\")","v":""},{"$f":"IF(Jogo!Q629=Conferência!$Q$2,Conferência!$Q$2,\"\")","v":""},""]
[{"$f":"IF(Jogo!A630=Conferência!$A$2,Conferência!$A$2,\"\")","v":""},{"$f":"IF(Jogo!B630=Conferência!$B$2,Conferência!$B$2,\"\")","v":""},{"$f":"IF(Jogo!C630=Conferência!$C$2,Conferência!$C$2,\"\")","v":""},{"$f":"IF(Jogo!D630=Conferência!$D$2,Conferência!$D$2,\"\")","v":""},{"$f":"IF(Jogo!E630=Conferência!$E$2,Conferência!$E$2,\"\")","v":""},{"$f":"IF(Jogo!F630=Conferência!$F$2,Conferência!$F$2,\"\")","v":""},{"$f":"IF(Jogo!G630=Conferência!$G$2,Conferência!$G$2,\"\")","v":""},{"$f":"IF(Jogo!H630=Conferência!$H$2,Conferência!$H$2,\"\")","v":""},{"$f":"IF(Jogo!I630=Conferência!$I$2,Conferência!$I$2,\"\")","v":""},{"$f":"IF(Jogo!J630=Conferência!$J$2,Conferência!$J$2,\"\")","v":""},{"$f":"IF(Jogo!K630=Conferência!$K$2,Conferência!$K$2,\"\")","v":""},{"$f":"IF(Jogo!L630=Conferência!$L$2,Conferência!$L$2,\"\")","v":""},{"$f":"IF(Jogo!M630=Conferência!$M$2,Conferência!$M$2,\"\")","v":""},{"$f":"IF(Jogo!N630=Conferência!$N$2,Conferência!$N$2,\"\")","v":""},{"$f":"IF(Jogo!O630=Conferência!$O$2,Conferência!$O$2,\"\")","v":""},{"$f":"IF(Jogo!P630=Conferência!$P$2,Conferência!$P$2,\"\")","v":""},{"$f":"IF(Jogo!Q630=Conferência!$Q$2,Conferência!$Q$2,\"\")","v":""},""]
[{"$f":"IF(Jogo!A631=Conferência!$A$2,Conferência!$A$2,\"\")","v":""},{"$f":"IF(Jogo!B631=Conferência!$B$2,Conferência!$B$2,\"\")","v":""},{"$f":"IF(Jogo!C631=Conferência!$C$2,Conferência!$C$2,\"\")","v":""},{"$f":"IF(Jogo!D631=Conferência!$D$2,Conferência!$D$2,\"\")","v":""},{"$f":"IF(Jogo!E631=Conferência!$E$2,Conferência!$E$2,\"\")","v":""},{"$f":"IF(Jogo!F631=Conferência!$F$2,Conferência!$F$2,\"\")","v":""},{"$f":"IF(Jogo!G631=Conferência!$G$2,Conferência!$G$2,\"\")","v":""},{"$f":"IF(Jogo!H631=Conferência!$H$2,Conferência!$H$2,\"\")","v":""},{"$f":"IF(Jogo!I631=Conferência!$I$2,Conferência!$I$2,\"\")","v":""},{"$f":"IF(Jogo!J631=Conferência!$J$2,Conferência!$J$2,\"\")","v":""},{"$f":"IF(Jogo!K631=Conferência!$K$2,Conferência!$K$2,\"\")","v":""},{"$f":"IF(Jogo!L631=Conferência!$L$2,Conferência!$L$2,\"\")","v":""},{"$f":"IF(Jogo!M631=Conferência!$M$2,Conferência!$M$2,\"\")","v":""},{"$f":"IF(Jogo!N631=Conferência!$N$2,Conferência!$N$2,\"\")","v":""},{"$f":"IF(Jogo!O631=Conferência!$O$2,Conferência!$O$2,\"\")","v":""},{"$f":"IF(Jogo!P631=Conferência!$P$2,Conferência!$P$2,\"\")","v":""},{"$f":"IF(Jogo!Q631=Conferência!$Q$2,Conferência!$Q$2,\"\")","v":""},""]
[{"$f":"IF(Jogo!A632=Conferência!$A$2,Conferência!$A$2,\"\")","v":""},{"$f":"IF(Jogo!B632=Conferência!$B$2,Conferência!$B$2,\"\")","v":""},{"$f":"IF(Jogo!C632=Conferência!$C$2,Conferência!$C$2,\"\")","v":""},{"$f":"IF(Jogo!D632=Conferência!$D$2,Conferência!$D$2,\"\")","v":""},{"$f":"IF(Jogo!E632=Conferência!$E$2,Conferência!$E$2,\"\")","v":""},{"$f":"IF(Jogo!F632=Conferência!$F$2,Conferência!$F$2,\"\")","v":""},{"$f":"IF(Jogo!G632=Conferência!$G$2,Conferência!$G$2,\"\")","v":""},{"$f":"IF(Jogo!H632=Conferência!$H$2,Conferência!$H$2,\"\")","v":""},{"$f":"IF(Jogo!I632=Conferência!$I$2,Conferência!$I$2,\"\")","v":""},{"$f":"IF(Jogo!J632=Conferência!$J$2,Conferência!$J$2,\"\")","v":""},{"$f":"IF(Jogo!K632=Conferência!$K$2,Conferência!$K$2,\"\")","v":""},{"$f":"IF(Jogo!L632=Conferência!$L$2,Conferência!$L$2,\"\")","v":""},{"$f":"IF(Jogo!M632=Conferência!$M$2,Conferência!$M$2,\"\")","v":""},{"$f":"IF(Jogo!N632=Conferência!$N$2,Conferência!$N$2,\"\")","v":""},{"$f":"IF(Jogo!O632=Conferência!$O$2,Conferência!$O$2,\"\")","v":""},{"$f":"IF(Jogo!P632=Conferência!$P$2,Conferência!$P$2,\"\")","v":""},{"$f":"IF(Jogo!Q632=Conferência!$Q$2,Conferência!$Q$2,\"\")","v":""},""]
[{"$f":"IF(Jogo!A633=Conferência!$A$2,Conferência!$A$2,\"\")","v":""},{"$f":"IF(Jogo!B633=Conferência!$B$2,Conferência!$B$2,\"\")","v":""},{"$f":"IF(Jogo!C633=Conferência!$C$2,Conferência!$C$2,\"\")","v":""},{"$f":"IF(Jogo!D633=Conferência!$D$2,Conferência!$D$2,\"\")","v":""},{"$f":"IF(Jogo!E633=Conferência!$E$2,Conferência!$E$2,\"\")","v":""},{"$f":"IF(Jogo!F633=Conferência!$F$2,Conferência!$F$2,\"\")","v":""},{"$f":"IF(Jogo!G633=Conferência!$G$2,Conferência!$G$2,\"\")","v":""},{"$f":"IF(Jogo!H633=Conferência!$H$2,Conferência!$H$2,\"\")","v":""},{"$f":"IF(Jogo!I633=Conferência!$I$2,Conferência!$I$2,\"\")","v":""},{"$f":"IF(Jogo!J633=Conferência!$J$2,Conferência!$J$2,\"\")","v":""},{"$f":"IF(Jogo!K633=Conferência!$K$2,Conferência!$K$2,\"\")","v":""},{"$f":"IF(Jogo!L633=Conferência!$L$2,Conferência!$L$2,\"\")","v":""},{"$f":"IF(Jogo!M633=Conferência!$M$2,Conferência!$M$2,\"\")","v":""},{"$f":"IF(Jogo!N633=Conferência!$N$2,Conferência!$N$2,\"\")","v":""},{"$f":"IF(Jogo!O633=Conferência!$O$2,Conferência!$O$2,\"\")","v":""},{"$f":"IF(Jogo!P633=Conferência!$P$2,Conferência!$P$2,\"\")","v":""},{"$f":"IF(Jogo!Q633=Conferência!$Q$2,Conferência!$Q$2,\"\")","v":""},""]
[{"$f":"IF(Jogo!A634=Conferência!$A$2,Conferência!$A$2,\"\")","v":""},{"$f":"IF(Jogo!B634=Conferência!$B$2,Conferência!$B$2,\"\")","v":""},{"$f":"IF(Jogo!C634=Conferência!$C$2,Conferência!$C$2,\"\")","v":""},{"$f":"IF(Jogo!D634=Conferência!$D$2,Conferência!$D$2,\"\")","v":""},{"$f":"IF(Jogo!E634=Conferência!$E$2,Conferência!$E$2,\"\")","v":""},{"$f":"IF(Jogo!F634=Conferência!$F$2,Conferência!$F$2,\"\")","v":""},{"$f":"IF(Jogo!G634=Conferência!$G$2,Conferência!$G$2,\"\")","v":""},{"$f":"IF(Jogo!H634=Conferência!$H$2,Conferência!$H$2,\"\")","v":""},{"$f":"IF(Jogo!I634=Conferência!$I$2,Conferência!$I$2,\"\")","v":""},{"$f":"IF(Jogo!J634=Conferência!$J$2,Conferência!$J$2,\"\")","v":""},{"$f":"IF(Jogo!K634=Conferência!$K$2,Conferência!$K$2,\"\")","v":""},{"$f":"IF(Jogo!L634=Conferência!$L$2,Conferência!$L$2,\"\")","v":""},{"$f":"IF(Jogo!M634=Conferência!$M$2,Conferência!$M$2,\"\")","v":""},{"$f":"IF(Jogo!N634=Conferência!$N$2,Conferência!$N$2,\"\")","v":""},{"$f":"IF(Jogo!O634=Conferência!$O$2,Conferência!$O$2,\"\")","v":""},{"$f":"IF(Jogo!P634=Conferência!$P$2,Conferência!$P$2,\"\")","v":""},{"$f":"IF(Jogo!Q634=Conferência!$Q$2,Conferência!$Q$2,\"\")","v":""},""]
[{"$f":"IF(Jogo!A635=Conferência!$A$2,Conferência!$A$2,\"\")","v":""},{"$f":"IF(Jogo!B635=Conferência!$B$2,Conferência!$B$2,\"\")","v":""},{"$f":"IF(Jogo!C635=Conferência!$C$2,Conferência!$C$2,\"\")","v":""},{"$f":"IF(Jogo!D635=Conferência!$D$2,Conferência!$D$2,\"\")","v":""},{"$f":"IF(Jogo!E635=Conferência!$E$2,Conferência!$E$2,\"\")","v":""},{"$f":"IF(Jogo!F635=Conferência!$F$2,Conferência!$F$2,\"\")","v":""},{"$f":"IF(Jogo!G635=Conferência!$G$2,Conferência!$G$2,\"\")","v":""},{"$f":"IF(Jogo!H635=Conferência!$H$2,Conferência!$H$2,\"\")","v":""},{"$f":"IF(Jogo!I635=Conferência!$I$2,Conferência!$I$2,\"\")","v":""},{"$f":"IF(Jogo!J635=Conferência!$J$2,Conferência!$J$2,\"\")","v":""},{"$f":"IF(Jogo!K635=Conferência!$K$2,Conferência!$K$2,\"\")","v":""},{"$f":"IF(Jogo!L635=Conferência!$L$2,Conferência!$L$2,\"\")","v":""},{"$f":"IF(Jogo!M635=Conferência!$M$2,Conferência!$M$2,\"\")","v":""},{"$f":"IF(Jogo!N635=Conferência!$N$2,Conferência!$N$2,\"\")","v":""},{"$f":"IF(Jogo!O635=Conferência!$O$2,Conferência!$O$2,\"\")","v":""},{"$f":"IF(Jogo!P635=Conferência!$P$2,Conferência!$P$2,\"\")","v":""},{"$f":"IF(Jogo!Q635=Conferência!$Q$2,Conferência!$Q$2,\"\")","v":""},""]
[{"$f":"IF(Jogo!A636=Conferência!$A$2,Conferência!$A$2,\"\")","v":""},{"$f":"IF(Jogo!B636=Conferência!$B$2,Conferência!$B$2,\"\")","v":""},{"$f":"IF(Jogo!C636=Conferência!$C$2,Conferência!$C$2,\"\")","v":""},{"$f":"IF(Jogo!D636=Conferência!$D$2,Conferência!$D$2,\"\")","v":""},{"$f":"IF(Jogo!E636=Conferência!$E$2,Conferência!$E$2,\"\")","v":""},{"$f":"IF(Jogo!F636=Conferência!$F$2,Conferência!$F$2,\"\")","v":""},{"$f":"IF(Jogo!G636=Conferência!$G$2,Conferência!$G$2,\"\")","v":""},{"$f":"IF(Jogo!H636=Conferência!$H$2,Conferência!$H$2,\"\")","v":""},{"$f":"IF(Jogo!I636=Conferência!$I$2,Conferência!$I$2,\"\")","v":""},{"$f":"IF(Jogo!J636=Conferência!$J$2,Conferência!$J$2,\"\")","v":""},{"$f":"IF(Jogo!K636=Conferência!$K$2,Conferência!$K$2,\"\")","v":""},{"$f":"IF(Jogo!L636=Conferência!$L$2,Conferência!$L$2,\"\")","v":""},{"$f":"IF(Jogo!M636=Conferência!$M$2,Conferência!$M$2,\"\")","v":""},{"$f":"IF(Jogo!N636=Conferência!$N$2,Conferência!$N$2,\"\")","v":""},{"$f":"IF(Jogo!O636=Conferência!$O$2,Conferência!$O$2,\"\")","v":""},{"$f":"IF(Jogo!P636=Conferência!$P$2,Conferência!$P$2,\"\")","v":""},{"$f":"IF(Jogo!Q636=Conferência!$Q$2,Conferência!$Q$2,\"\")","v":""},""]
[{"$f":"IF(Jogo!A637=Conferência!$A$2,Conferência!$A$2,\"\")","v":""},{"$f":"IF(Jogo!B637=Conferência!$B$2,Conferência!$B$2,\"\")","v":""},{"$f":"IF(Jogo!C637=Conferência!$C$2,Conferência!$C$2,\"\")","v":""},{"$f":"IF(Jogo!D637=Conferência!$D$2,Conferência!$D$2,\"\")","v":""},{"$f":"IF(Jogo!E637=Conferência!$E$2,Conferência!$E$2,\"\")","v":""},{"$f":"IF(Jogo!F637=Conferência!$F$2,Conferência!$F$2,\"\")","v":""},{"$f":"IF(Jogo!G637=Conferência!$G$2,Conferência!$G$2,\"\")","v":""},{"$f":"IF(Jogo!H637=Conferência!$H$2,Conferência!$H$2,\"\")","v":""},{"$f":"IF(Jogo!I637=Conferência!$I$2,Conferência!$I$2,\"\")","v":""},{"$f":"IF(Jogo!J637=Conferência!$J$2,Conferência!$J$2,\"\")","v":""},{"$f":"IF(Jogo!K637=Conferência!$K$2,Conferência!$K$2,\"\")","v":""},{"$f":"IF(Jogo!L637=Conferência!$L$2,Conferência!$L$2,\"\")","v":""},{"$f":"IF(Jogo!M637=Conferência!$M$2,Conferência!$M$2,\"\")","v":""},{"$f":"IF(Jogo!N637=Conferência!$N$2,Conferência!$N$2,\"\")","v":""},{"$f":"IF(Jogo!O637=Conferência!$O$2,Conferência!$O$2,\"\")","v":""},{"$f":"IF(Jogo!P637=Conferência!$P$2,Conferência!$P$2,\"\")","v":""},{"$f":"IF(Jogo!Q637=Conferência!$Q$2,Conferência!$Q$2,\"\")","v":""},""]
[{"$f":"IF(Jogo!A638=Conferência!$A$2,Conferência!$A$2,\"\")","v":""},{"$f":"IF(Jogo!B638=Conferência!$B$2,Conferência!$B$2,\"\")","v":""},{"$f":"IF(Jogo!C638=Conferência!$C$2,Conferência!$C$2,\"\")","v":""},{"$f":"IF(Jogo!D638=Conferência!$D$2,Conferência!$D$2,\"\")","v":""},{"$f":"IF(Jogo!E638=Conferência!$E$2,Conferência!$E$2,\"\")","v":""},{"$f":"IF(Jogo!F638=Conferência!$F$2,Conferência!$F$2,\"\")","v":""},{"$f":"IF(Jogo!G638=Conferência!$G$2,Conferência!$G$2,\"\")","v":""},{"$f":"IF(Jogo!H638=Conferência!$H$2,Conferência!$H$2,\"\")","v":""},{"$f":"IF(Jogo!I638=Conferência!$I$2,Conferência!$I$2,\"\")","v":""},{"$f":"IF(Jogo!J638=Conferência!$J$2,Conferência!$J$2,\"\")","v":""},{"$f":"IF(Jogo!K638=Conferência!$K$2,Conferência!$K$2,\"\")","v":""},{"$f":"IF(Jogo!L638=Conferência!$L$2,Conferência!$L$2,\"\")","v":""},{"$f":"IF(Jogo!M638=Conferência!$M$2,Conferência!$M$2,\"\")","v":""},{"$f":"IF(Jogo!N638=Conferência!$N$2,Conferência!$N$2,\"\")","v":""},{"$f":"IF(Jogo!O638=Conferência!$O$2,Conferência!$O$2,\"\")","v":""},{"$f":"IF(Jogo!P638=Conferência!$P$2,Conferência!$P$2,\"\")","v":""},{"$f":"IF(Jogo!Q638=Conferência!$Q$2,Conferência!$Q$2,\"\")","v":""},""]
[{"$f":"IF(Jogo!A639=Conferência!$A$2,Conferência!$A$2,\"\")","v":""},{"$f":"IF(Jogo!B639=Conferência!$B$2,Conferência!$B$2,\"\")","v":""},{"$f":"IF(Jogo!C639=Conferência!$C$2,Conferência!$C$2,\"\")","v":""},{"$f":"IF(Jogo!D639=Conferência!$D$2,Conferência!$D$2,\"\")","v":""},{"$f":"IF(Jogo!E639=Conferência!$E$2,Conferência!$E$2,\"\")","v":""},{"$f":"IF(Jogo!F639=Conferência!$F$2,Conferência!$F$2,\"\")","v":""},{"$f":"IF(Jogo!G639=Conferência!$G$2,Conferência!$G$2,\"\")","v":""},{"$f":"IF(Jogo!H639=Conferência!$H$2,Conferência!$H$2,\"\")","v":""},{"$f":"IF(Jogo!I639=Conferência!$I$2,Conferência!$I$2,\"\")","v":""},{"$f":"IF(Jogo!J639=Conferência!$J$2,Conferência!$J$2,\"\")","v":""},{"$f":"IF(Jogo!K639=Conferência!$K$2,Conferência!$K$2,\"\")","v":""},{"$f":"IF(Jogo!L639=Conferência!$L$2,Conferência!$L$2,\"\")","v":""},{"$f":"IF(Jogo!M639=Conferência!$M$2,Conferência!$M$2,\"\")","v":""},{"$f":"IF(Jogo!N639=Conferência!$N$2,Conferência!$N$2,\"\")","v":""},{"$f":"IF(Jogo!O639=Conferência!$O$2,Conferência!$O$2,\"\")","v":""},{"$f":"IF(Jogo!P639=Conferência!$P$2,Conferência!$P$2,\"\")","v":""},{"$f":"IF(Jogo!Q639=Conferência!$Q$2,Conferência!$Q$2,\"\")","v":""},""]
[{"$f":"IF(Jogo!A640=Conferência!$A$2,Conferência!$A$2,\"\")","v":""},{"$f":"IF(Jogo!B640=Conferência!$B$2,Conferência!$B$2,\"\")","v":""},{"$f":"IF(Jogo!C640=Conferência!$C$2,Conferência!$C$2,\"\")","v":""},{"$f":"IF(Jogo!D640=Conferência!$D$2,Conferência!$D$2,\"\")","v":""},{"$f":"IF(Jogo!E640=Conferência!$E$2,Conferência!$E$2,\"\")","v":""},{"$f":"IF(Jogo!F640=Conferência!$F$2,Conferência!$F$2,\"\")","v":""},{"$f":"IF(Jogo!G640=Conferência!$G$2,Conferência!$G$2,\"\")","v":""},{"$f":"IF(Jogo!H640=Conferência!$H$2,Conferência!$H$2,\"\")","v":""},{"$f":"IF(Jogo!I640=Conferência!$I$2,Conferência!$I$2,\"\")","v":""},{"$f":"IF(Jogo!J640=Conferência!$J$2,Conferência!$J$2,\"\")","v":""},{"$f":"IF(Jogo!K640=Conferência!$K$2,Conferência!$K$2,\"\")","v":""},{"$f":"IF(Jogo!L640=Conferência!$L$2,Conferência!$L$2,\"\")","v":""},{"$f":"IF(Jogo!M640=Conferência!$M$2,Conferência!$M$2,\"\")","v":""},{"$f":"IF(Jogo!N640=Conferência!$N$2,Conferência!$N$2,\"\")","v":""},{"$f":"IF(Jogo!O640=Conferência!$O$2,Conferência!$O$2,\"\")","v":""},{"$f":"IF(Jogo!P640=Conferência!$P$2,Conferência!$P$2,\"\")","v":""},{"$f":"IF(Jogo!Q640=Conferência!$Q$2,Conferência!$Q$2,\"\")","v":""},""]
[{"$f":"IF(Jogo!A641=Conferência!$A$2,Conferência!$A$2,\"\")","v":""},{"$f":"IF(Jogo!B641=Conferência!$B$2,Conferência!$B$2,\"\")","v":""},{"$f":"IF(Jogo!C641=Conferência!$C$2,Conferência!$C$2,\"\")","v":""},{"$f":"IF(Jogo!D641=Conferência!$D$2,Conferência!$D$2,\"\")","v":""},{"$f":"IF(Jogo!E641=Conferência!$E$2,Conferência!$E$2,\"\")","v":""},{"$f":"IF(Jogo!F641=Conferência!$F$2,Conferência!$F$2,\"\")","v":""},{"$f":"IF(Jogo!G641=Conferência!$G$2,Conferência!$G$2,\"\")","v":""},{"$f":"IF(Jogo!H641=Conferência!$H$2,Conferência!$H$2,\"\")","v":""},{"$f":"IF(Jogo!I641=Conferência!$I$2,Conferência!$I$2,\"\")","v":""},{"$f":"IF(Jogo!J641=Conferência!$J$2,Conferência!$J$2,\"\")","v":""},{"$f":"IF(Jogo!K641=Conferência!$K$2,Conferência!$K$2,\"\")","v":""},{"$f":"IF(Jogo!L641=Conferência!$L$2,Conferência!$L$2,\"\")","v":""},{"$f":"IF(Jogo!M641=Conferência!$M$2,Conferência!$M$2,\"\")","v":""},{"$f":"IF(Jogo!N641=Conferência!$N$2,Conferência!$N$2,\"\")","v":""},{"$f":"IF(Jogo!O641=Conferência!$O$2,Conferência!$O$2,\"\")","v":""},{"$f":"IF(Jogo!P641=Conferência!$P$2,Conferência!$P$2,\"\")","v":""},{"$f":"IF(Jogo!Q641=Conferência!$Q$2,Conferência!$Q$2,\"\")","v":""},""]
[{"$f":"IF(Jogo!A642=Conferência!$A$2,Conferência!$A$2,\"\")","v":""},{"$f":"IF(Jogo!B642=Conferência!$B$2,Conferência!$B$2,\"\")","v":""},{"$f":"IF(Jogo!C642=Conferência!$C$2,Conferência!$C$2,\"\")","v":""},{"$f":"IF(Jogo!D642=Conferência!$D$2,Conferência!$D$2,\"\")","v":""},{"$f":"IF(Jogo!E642=Conferência!$E$2,Conferência!$E$2,\"\")","v":""},{"$f":"IF(Jogo!F642=Conferência!$F$2,Conferência!$F$2,\"\")","v":""},{"$f":"IF(Jogo!G642=Conferência!$G$2,Conferência!$G$2,\"\")","v":""},{"$f":"IF(Jogo!H642=Conferência!$H$2,Conferência!$H$2,\"\")","v":""},{"$f":"IF(Jogo!I642=Conferência!$I$2,Conferência!$I$2,\"\")","v":""},{"$f":"IF(Jogo!J642=Conferência!$J$2,Conferência!$J$2,\"\")","v":""},{"$f":"IF(Jogo!K642=Conferência!$K$2,Conferência!$K$2,\"\")","v":""},{"$f":"IF(Jogo!L642=Conferência!$L$2,Conferência!$L$2,\"\")","v":""},{"$f":"IF(Jogo!M642=Conferência!$M$2,Conferência!$M$2,\"\")","v":""},{"$f":"IF(Jogo!N642=Conferência!$N$2,Conferência!$N$2,\"\")","v":""},{"$f":"IF(Jogo!O642=Conferência!$O$2,Conferência!$O$2,\"\")","v":""},{"$f":"IF(Jogo!P642=Conferência!$P$2,Conferência!$P$2,\"\")","v":""},{"$f":"IF(Jogo!Q642=Conferência!$Q$2,Conferência!$Q$2,\"\")","v":""},""]
[{"$f":"IF(Jogo!A643=Conferência!$A$2,Conferência!$A$2,\"\")","v":""},{"$f":"IF(Jogo!B643=Conferência!$B$2,Conferência!$B$2,\"\")","v":""},{"$f":"IF(Jogo!C643=Conferência!$C$2,Conferência!$C$2,\"\")","v":""},{"$f":"IF(Jogo!D643=Conferência!$D$2,Conferência!$D$2,\"\")","v":""},{"$f":"IF(Jogo!E643=Conferência!$E$2,Conferência!$E$2,\"\")","v":""},{"$f":"IF(Jogo!F643=Conferência!$F$2,Conferência!$F$2,\"\")","v":""},{"$f":"IF(Jogo!G643=Conferência!$G$2,Conferência!$G$2,\"\")","v":""},{"$f":"IF(Jogo!H643=Conferência!$H$2,Conferência!$H$2,\"\")","v":""},{"$f":"IF(Jogo!I643=Conferência!$I$2,Conferência!$I$2,\"\")","v":""},{"$f":"IF(Jogo!J643=Conferência!$J$2,Conferência!$J$2,\"\")","v":""},{"$f":"IF(Jogo!K643=Conferência!$K$2,Conferência!$K$2,\"\")","v":""},{"$f":"IF(Jogo!L643=Conferência!$L$2,Conferência!$L$2,\"\")","v":""},{"$f":"IF(Jogo!M643=Conferência!$M$2,Conferência!$M$2,\"\")","v":""},{"$f":"IF(Jogo!N643=Conferência!$N$2,Conferência!$N$2,\"\")","v":""},{"$f":"IF(Jogo!O643=Conferência!$O$2,Conferência!$O$2,\"\")","v":""},{"$f":"IF(Jogo!P643=Conferência!$P$2,Conferência!$P$2,\"\")","v":""},{"$f":"IF(Jogo!Q643=Conferência!$Q$2,Conferência!$Q$2,\"\")","v":""},""]
[{"$f":"IF(Jogo!A644=Conferência!$A$2,Conferência!$A$2,\"\")","v":""},{"$f":"IF(Jogo!B644=Conferência!$B$2,Conferência!$B$2,\"\")","v":""},{"$f":"IF(Jogo!C644=Conferência!$C$2,Conferência!$C$2,\"\")","v":""},{"$f":"IF(Jogo!D644=Conferência!$D$2,Conferência!$D$2,\"\")","v":""},{"$f":"IF(Jogo!E644=Conferência!$E$2,Conferência!$E$2,\"\")","v":""},{"$f":"IF(Jogo!F644=Conferência!$F$2,Conferência!$F$2,\"\")","v":""},{"$f":"IF(Jogo!G644=Conferência!$G$2,Conferência!$G$2,\"\")","v":""},{"$f":"IF(Jogo!H644=Conferência!$H$2,Conferência!$H$2,\"\")","v":""},{"$f":"IF(Jogo!I644=Conferência!$I$2,Conferência!$I$2,\"\")","v":""},{"$f":"IF(Jogo!J644=Conferência!$J$2,Conferência!$J$2,\"\")","v":""},{"$f":"IF(Jogo!K644=Conferência!$K$2,Conferência!$K$2,\"\")","v":""},{"$f":"IF(Jogo!L644=Conferência!$L$2,Conferência!$L$2,\"\")","v":""},{"$f":"IF(Jogo!M644=Conferência!$M$2,Conferência!$M$2,\"\")","v":""},{"$f":"IF(Jogo!N644=Conferência!$N$2,Conferência!$N$2,\"\")","v":""},{"$f":"IF(Jogo!O644=Conferência!$O$2,Conferência!$O$2,\"\")","v":""},{"$f":"IF(Jogo!P644=Conferência!$P$2,Conferência!$P$2,\"\")","v":""},{"$f":"IF(Jogo!Q644=Conferência!$Q$2,Conferência!$Q$2,\"\")","v":""},""]
[{"$f":"IF(Jogo!A645=Conferência!$A$2,Conferência!$A$2,\"\")","v":""},{"$f":"IF(Jogo!B645=Conferência!$B$2,Conferência!$B$2,\"\")","v":""},{"$f":"IF(Jogo!C645=Conferência!$C$2,Conferência!$C$2,\"\")","v":""},{"$f":"IF(Jogo!D645=Conferência!$D$2,Conferência!$D$2,\"\")","v":""},{"$f":"IF(Jogo!E645=Conferência!$E$2,Conferência!$E$2,\"\")","v":""},{"$f":"IF(Jogo!F645=Conferência!$F$2,Conferência!$F$2,\"\")","v":""},{"$f":"IF(Jogo!G645=Conferência!$G$2,Conferência!$G$2,\"\")","v":""},{"$f":"IF(Jogo!H645=Conferência!$H$2,Conferência!$H$2,\"\")","v":""},{"$f":"IF(Jogo!I645=Conferência!$I$2,Conferência!$I$2,\"\")","v":""},{"$f":"IF(Jogo!J645=Conferência!$J$2,Conferência!$J$2,\"\")","v":""},{"$f":"IF(Jogo!K645=Conferência!$K$2,Conferência!$K$2,\"\")","v":""},{"$f":"IF(Jogo!L645=Conferência!$L$2,Conferência!$L$2,\"\")","v":""},{"$f":"IF(Jogo!M645=Conferência!$M$2,Conferência!$M$2,\"\")","v":""},{"$f":"IF(Jogo!N645=Conferência!$N$2,Conferência!$N$2,\"\")","v":""},{"$f":"IF(Jogo!O645=Conferência!$O$2,Conferência!$O$2,\"\")","v":""},{"$f":"IF(Jogo!P645=Conferência!$P$2,Conferência!$P$2,\"\")","v":""},{"$f":"IF(Jogo!Q645=Conferência!$Q$2,Conferência!$Q$2,\"\")","v":""},""]
[{"$f":"IF(Jogo!A646=Conferência!$A$2,Conferência!$A$2,\"\")","v":""},{"$f":"IF(Jogo!B646=Conferência!$B$2,Conferência!$B$2,\"\")","v":""},{"$f":"IF(Jogo!C646=Conferência!$C$2,Conferência!$C$2,\"\")","v":""},{"$f":"IF(Jogo!D646=Conferência!$D$2,Conferência!$D$2,\"\")","v":""},{"$f":"IF(Jogo!E646=Conferência!$E$2,Conferência!$E$2,\"\")","v":""},{"$f":"IF(Jogo!F646=Conferência!$F$2,Conferência!$F$2,\"\")","v":""},{"$f":"IF(Jogo!G646=Conferência!$G$2,Conferência!$G$2,\"\")","v":""},{"$f":"IF(Jogo!H646=Conferência!$H$2,Conferência!$H$2,\"\")","v":""},{"$f":"IF(Jogo!I646=Conferência!$I$2,Conferência!$I$2,\"\")","v":""},{"$f":"IF(Jogo!J646=Conferência!$J$2,Conferência!$J$2,\"\")","v":""},{"$f":"IF(Jogo!K646=Conferência!$K$2,Conferência!$K$2,\"\")","v":""},{"$f":"IF(Jogo!L646=Conferência!$L$2,Conferência!$L$2,\"\")","v":""},{"$f":"IF(Jogo!M646=Conferência!$M$2,Conferência!$M$2,\"\")","v":""},{"$f":"IF(Jogo!N646=Conferência!$N$2,Conferência!$N$2,\"\")","v":""},{"$f":"IF(Jogo!O646=Conferência!$O$2,Conferência!$O$2,\"\")","v":""},{"$f":"IF(Jogo!P646=Conferência!$P$2,Conferência!$P$2,\"\")","v":""},{"$f":"IF(Jogo!Q646=Conferência!$Q$2,Conferência!$Q$2,\"\")","v":""},""]
[{"$f":"IF(Jogo!A647=Conferência!$A$2,Conferência!$A$2,\"\")","v":""},{"$f":"IF(Jogo!B647=Conferência!$B$2,Conferência!$B$2,\"\")","v":""},{"$f":"IF(Jogo!C647=Conferência!$C$2,Conferência!$C$2,\"\")","v":""},{"$f":"IF(Jogo!D647=Conferência!$D$2,Conferência!$D$2,\"\")","v":""},{"$f":"IF(Jogo!E647=Conferência!$E$2,Conferência!$E$2,\"\")","v":""},{"$f":"IF(Jogo!F647=Conferência!$F$2,Conferência!$F$2,\"\")","v":""},{"$f":"IF(Jogo!G647=Conferência!$G$2,Conferência!$G$2,\"\")","v":""},{"$f":"IF(Jogo!H647=Conferência!$H$2,Conferência!$H$2,\"\")","v":""},{"$f":"IF(Jogo!I647=Conferência!$I$2,Conferência!$I$2,\"\")","v":""},{"$f":"IF(Jogo!J647=Conferência!$J$2,Conferência!$J$2,\"\")","v":""},{"$f":"IF(Jogo!K647=Conferência!$K$2,Conferência!$K$2,\"\")","v":""},{"$f":"IF(Jogo!L647=Conferência!$L$2,Conferência!$L$2,\"\")","v":""},{"$f":"IF(Jogo!M647=Conferência!$M$2,Conferência!$M$2,\"\")","v":""},{"$f":"IF(Jogo!N647=Conferência!$N$2,Conferência!$N$2,\"\")","v":""},{"$f":"IF(Jogo!O647=Conferência!$O$2,Conferência!$O$2,\"\")","v":""},{"$f":"IF(Jogo!P647=Conferência!$P$2,Conferência!$P$2,\"\")","v":""},{"$f":"IF(Jogo!Q647=Conferência!$Q$2,Conferência!$Q$2,\"\")","v":""},""]
[{"$f":"IF(Jogo!A648=Conferência!$A$2,Conferência!$A$2,\"\")","v":""},{"$f":"IF(Jogo!B648=Conferência!$B$2,Conferência!$B$2,\"\")","v":""},{"$f":"IF(Jogo!C648=Conferência!$C$2,Conferência!$C$2,\"\")","v":""},{"$f":"IF(Jogo!D648=Conferência!$D$2,Conferência!$D$2,\"\")","v":""},{"$f":"IF(Jogo!E648=Conferência!$E$2,Conferência!$E$2,\"\")","v":""},{"$f":"IF(Jogo!F648=Conferência!$F$2,Conferência!$F$2,\"\")","v":""},{"$f":"IF(Jogo!G648=Conferência!$G$2,Conferência!$G$2,\"\")","v":""},{"$f":"IF(Jogo!H648=Conferência!$H$2,Conferência!$H$2,\"\")","v":""},{"$f":"IF(Jogo!I648=Conferência!$I$2,Conferência!$I$2,\"\")","v":""},{"$f":"IF(Jogo!J648=Conferência!$J$2,Conferência!$J$2,\"\")","v":""},{"$f":"IF(Jogo!K648=Conferência!$K$2,Conferência!$K$2,\"\")","v":""},{"$f":"IF(Jogo!L648=Conferência!$L$2,Conferência!$L$2,\"\")","v":""},{"$f":"IF(Jogo!M648=Conferência!$M$2,Conferência!$M$2,\"\")","v":""},{"$f":"IF(Jogo!N648=Conferência!$N$2,Conferência!$N$2,\"\")","v":""},{"$f":"IF(Jogo!O648=Conferência!$O$2,Conferência!$O$2,\"\")","v":""},{"$f":"IF(Jogo!P648=Conferência!$P$2,Conferência!$P$2,\"\")","v":""},{"$f":"IF(Jogo!Q648=Conferência!$Q$2,Conferência!$Q$2,\"\")","v":""},""]
[{"$f":"IF(Jogo!A649=Conferência!$A$2,Conferência!$A$2,\"\")","v":""},{"$f":"IF(Jogo!B649=Conferência!$B$2,Conferência!$B$2,\"\")","v":""},{"$f":"IF(Jogo!C649=Conferência!$C$2,Conferência!$C$2,\"\")","v":""},{"$f":"IF(Jogo!D649=Conferência!$D$2,Conferência!$D$2,\"\")","v":""},{"$f":"IF(Jogo!E649=Conferência!$E$2,Conferência!$E$2,\"\")","v":""},{"$f":"IF(Jogo!F649=Conferência!$F$2,Conferência!$F$2,\"\")","v":""},{"$f":"IF(Jogo!G649=Conferência!$G$2,Conferência!$G$2,\"\")","v":""},{"$f":"IF(Jogo!H649=Conferência!$H$2,Conferência!$H$2,\"\")","v":""},{"$f":"IF(Jogo!I649=Conferência!$I$2,Conferência!$I$2,\"\")","v":""},{"$f":"IF(Jogo!J649=Conferência!$J$2,Conferência!$J$2,\"\")","v":""},{"$f":"IF(Jogo!K649=Conferência!$K$2,Conferência!$K$2,\"\")","v":""},{"$f":"IF(Jogo!L649=Conferência!$L$2,Conferência!$L$2,\"\")","v":""},{"$f":"IF(Jogo!M649=Conferência!$M$2,Conferência!$M$2,\"\")","v":""},{"$f":"IF(Jogo!N649=Conferência!$N$2,Conferência!$N$2,\"\")","v":""},{"$f":"IF(Jogo!O649=Conferência!$O$2,Conferência!$O$2,\"\")","v":""},{"$f":"IF(Jogo!P649=Conferência!$P$2,Conferência!$P$2,\"\")","v":""},{"$f":"IF(Jogo!Q649=Conferência!$Q$2,Conferência!$Q$2,\"\")","v":""},""]
[{"$f":"IF(Jogo!A650=Conferência!$A$2,Conferência!$A$2,\"\")","v":""},{"$f":"IF(Jogo!B650=Conferência!$B$2,Conferência!$B$2,\"\")","v":""},{"$f":"IF(Jogo!C650=Conferência!$C$2,Conferência!$C$2,\"\")","v":""},{"$f":"IF(Jogo!D650=Conferência!$D$2,Conferência!$D$2,\"\")","v":""},{"$f":"IF(Jogo!E650=Conferência!$E$2,Conferência!$E$2,\"\")","v":""},{"$f":"IF(Jogo!F650=Conferência!$F$2,Conferência!$F$2,\"\")","v":""},{"$f":"IF(Jogo!G650=Conferência!$G$2,Conferência!$G$2,\"\")","v":""},{"$f":"IF(Jogo!H650=Conferência!$H$2,Conferência!$H$2,\"\")","v":""},{"$f":"IF(Jogo!I650=Conferência!$I$2,Conferência!$I$2,\"\")","v":""},{"$f":"IF(Jogo!J650=Conferência!$J$2,Conferência!$J$2,\"\")","v":""},{"$f":"IF(Jogo!K650=Conferência!$K$2,Conferência!$K$2,\"\")","v":""},{"$f":"IF(Jogo!L650=Conferência!$L$2,Conferência!$L$2,\"\")","v":""},{"$f":"IF(Jogo!M650=Conferência!$M$2,Conferência!$M$2,\"\")","v":""},{"$f":"IF(Jogo!N650=Conferência!$N$2,Conferência!$N$2,\"\")","v":""},{"$f":"IF(Jogo!O650=Conferência!$O$2,Conferência!$O$2,\"\")","v":""},{"$f":"IF(Jogo!P650=Conferência!$P$2,Conferência!$P$2,\"\")","v":""},{"$f":"IF(Jogo!Q650=Conferência!$Q$2,Conferência!$Q$2,\"\")","v":""},""]
[{"$f":"IF(Jogo!A651=Conferência!$A$2,Conferência!$A$2,\"\")","v":""},{"$f":"IF(Jogo!B651=Conferência!$B$2,Conferência!$B$2,\"\")","v":""},{"$f":"IF(Jogo!C651=Conferência!$C$2,Conferência!$C$2,\"\")","v":""},{"$f":"IF(Jogo!D651=Conferência!$D$2,Conferência!$D$2,\"\")","v":""},{"$f":"IF(Jogo!E651=Conferência!$E$2,Conferência!$E$2,\"\")","v":""},{"$f":"IF(Jogo!F651=Conferência!$F$2,Conferência!$F$2,\"\")","v":""},{"$f":"IF(Jogo!G651=Conferência!$G$2,Conferência!$G$2,\"\")","v":""},{"$f":"IF(Jogo!H651=Conferência!$H$2,Conferência!$H$2,\"\")","v":""},{"$f":"IF(Jogo!I651=Conferência!$I$2,Conferência!$I$2,\"\")","v":""},{"$f":"IF(Jogo!J651=Conferência!$J$2,Conferência!$J$2,\"\")","v":""},{"$f":"IF(Jogo!K651=Conferência!$K$2,Conferência!$K$2,\"\")","v":""},{"$f":"IF(Jogo!L651=Conferência!$L$2,Conferência!$L$2,\"\")","v":""},{"$f":"IF(Jogo!M651=Conferência!$M$2,Conferência!$M$2,\"\")","v":""},{"$f":"IF(Jogo!N651=Conferência!$N$2,Conferência!$N$2,\"\")","v":""},{"$f":"IF(Jogo!O651=Conferência!$O$2,Conferência!$O$2,\"\")","v":""},{"$f":"IF(Jogo!P651=Conferência!$P$2,Conferência!$P$2,\"\")","v":""},{"$f":"IF(Jogo!Q651=Conferência!$Q$2,Conferência!$Q$2,\"\")","v":""},""]
[{"$f":"IF(Jogo!A652=Conferência!$A$2,Conferência!$A$2,\"\")","v":""},{"$f":"IF(Jogo!B652=Conferência!$B$2,Conferência!$B$2,\"\")","v":""},{"$f":"IF(Jogo!C652=Conferência!$C$2,Conferência!$C$2,\"\")","v":""},{"$f":"IF(Jogo!D652=Conferência!$D$2,Conferência!$D$2,\"\")","v":""},{"$f":"IF(Jogo!E652=Conferência!$E$2,Conferência!$E$2,\"\")","v":""},{"$f":"IF(Jogo!F652=Conferência!$F$2,Conferência!$F$2,\"\")","v":""},{"$f":"IF(Jogo!G652=Conferência!$G$2,Conferência!$G$2,\"\")","v":""},{"$f":"IF(Jogo!H652=Conferência!$H$2,Conferência!$H$2,\"\")","v":""},{"$f":"IF(Jogo!I652=Conferência!$I$2,Conferência!$I$2,\"\")","v":""},{"$f":"IF(Jogo!J652=Conferência!$J$2,Conferência!$J$2,\"\")","v":""},{"$f":"IF(Jogo!K652=Conferência!$K$2,Conferência!$K$2,\"\")","v":""},{"$f":"IF(Jogo!L652=Conferência!$L$2,Conferência!$L$2,\"\")","v":""},{"$f":"IF(Jogo!M652=Conferência!$M$2,Conferência!$M$2,\"\")","v":""},{"$f":"IF(Jogo!N652=Conferência!$N$2,Conferência!$N$2,\"\")","v":""},{"$f":"IF(Jogo!O652=Conferência!$O$2,Conferência!$O$2,\"\")","v":""},{"$f":"IF(Jogo!P652=Conferência!$P$2,Conferência!$P$2,\"\")","v":""},{"$f":"IF(Jogo!Q652=Conferência!$Q$2,Conferência!$Q$2,\"\")","v":""},""]
[{"$f":"IF(Jogo!A653=Conferência!$A$2,Conferência!$A$2,\"\")","v":""},{"$f":"IF(Jogo!B653=Conferência!$B$2,Conferência!$B$2,\"\")","v":""},{"$f":"IF(Jogo!C653=Conferência!$C$2,Conferência!$C$2,\"\")","v":""},{"$f":"IF(Jogo!D653=Conferência!$D$2,Conferência!$D$2,\"\")","v":""},{"$f":"IF(Jogo!E653=Conferência!$E$2,Conferência!$E$2,\"\")","v":""},{"$f":"IF(Jogo!F653=Conferência!$F$2,Conferência!$F$2,\"\")","v":""},{"$f":"IF(Jogo!G653=Conferência!$G$2,Conferência!$G$2,\"\")","v":""},{"$f":"IF(Jogo!H653=Conferência!$H$2,Conferência!$H$2,\"\")","v":""},{"$f":"IF(Jogo!I653=Conferência!$I$2,Conferência!$I$2,\"\")","v":""},{"$f":"IF(Jogo!J653=Conferência!$J$2,Conferência!$J$2,\"\")","v":""},{"$f":"IF(Jogo!K653=Conferência!$K$2,Conferência!$K$2,\"\")","v":""},{"$f":"IF(Jogo!L653=Conferência!$L$2,Conferência!$L$2,\"\")","v":""},{"$f":"IF(Jogo!M653=Conferência!$M$2,Conferência!$M$2,\"\")","v":""},{"$f":"IF(Jogo!N653=Conferência!$N$2,Conferência!$N$2,\"\")","v":""},{"$f":"IF(Jogo!O653=Conferência!$O$2,Conferência!$O$2,\"\")","v":""},{"$f":"IF(Jogo!P653=Conferência!$P$2,Conferência!$P$2,\"\")","v":""},{"$f":"IF(Jogo!Q653=Conferência!$Q$2,Conferência!$Q$2,\"\")","v":""},""]
[{"$f":"IF(Jogo!A654=Conferência!$A$2,Conferência!$A$2,\"\")","v":""},{"$f":"IF(Jogo!B654=Conferência!$B$2,Conferência!$B$2,\"\")","v":""},{"$f":"IF(Jogo!C654=Conferência!$C$2,Conferência!$C$2,\"\")","v":""},{"$f":"IF(Jogo!D654=Conferência!$D$2,Conferência!$D$2,\"\")","v":""},{"$f":"IF(Jogo!E654=Conferência!$E$2,Conferência!$E$2,\"\")","v":""},{"$f":"IF(Jogo!F654=Conferência!$F$2,Conferência!$F$2,\"\")","v":""},{"$f":"IF(Jogo!G654=Conferência!$G$2,Conferência!$G$2,\"\")","v":""},{"$f":"IF(Jogo!H654=Conferência!$H$2,Conferência!$H$2,\"\")","v":""},{"$f":"IF(Jogo!I654=Conferência!$I$2,Conferência!$I$2,\"\")","v":""},{"$f":"IF(Jogo!J654=Conferência!$J$2,Conferência!$J$2,\"\")","v":""},{"$f":"IF(Jogo!K654=Conferência!$K$2,Conferência!$K$2,\"\")","v":""},{"$f":"IF(Jogo!L654=Conferência!$L$2,Conferência!$L$2,\"\")","v":""},{"$f":"IF(Jogo!M654=Conferência!$M$2,Conferência!$M$2,\"\")","v":""},{"$f":"IF(Jogo!N654=Conferência!$N$2,Conferência!$N$2,\"\")","v":""},{"$f":"IF(Jogo!O654=Conferência!$O$2,Conferência!$O$2,\"\")","v":""},{"$f":"IF(Jogo!P654=Conferência!$P$2,Conferência!$P$2,\"\")","v":""},{"$f":"IF(Jogo!Q654=Conferência!$Q$2,Conferência!$Q$2,\"\")","v":""},""]
[{"$f":"IF(Jogo!A655=Conferência!$A$2,Conferência!$A$2,\"\")","v":""},{"$f":"IF(Jogo!B655=Conferência!$B$2,Conferência!$B$2,\"\")","v":""},{"$f":"IF(Jogo!C655=Conferência!$C$2,Conferência!$C$2,\"\")","v":""},{"$f":"IF(Jogo!D655=Conferência!$D$2,Conferência!$D$2,\"\")","v":""},{"$f":"IF(Jogo!E655=Conferência!$E$2,Conferência!$E$2,\"\")","v":""},{"$f":"IF(Jogo!F655=Conferência!$F$2,Conferência!$F$2,\"\")","v":""},{"$f":"IF(Jogo!G655=Conferência!$G$2,Conferência!$G$2,\"\")","v":""},{"$f":"IF(Jogo!H655=Conferência!$H$2,Conferência!$H$2,\"\")","v":""},{"$f":"IF(Jogo!I655=Conferência!$I$2,Conferência!$I$2,\"\")","v":""},{"$f":"IF(Jogo!J655=Conferência!$J$2,Conferência!$J$2,\"\")","v":""},{"$f":"IF(Jogo!K655=Conferência!$K$2,Conferência!$K$2,\"\")","v":""},{"$f":"IF(Jogo!L655=Conferência!$L$2,Conferência!$L$2,\"\")","v":""},{"$f":"IF(Jogo!M655=Conferência!$M$2,Conferência!$M$2,\"\")","v":""},{"$f":"IF(Jogo!N655=Conferência!$N$2,Conferência!$N$2,\"\")","v":""},{"$f":"IF(Jogo!O655=Conferência!$O$2,Conferência!$O$2,\"\")","v":""},{"$f":"IF(Jogo!P655=Conferência!$P$2,Conferência!$P$2,\"\")","v":""},{"$f":"IF(Jogo!Q655=Conferência!$Q$2,Conferência!$Q$2,\"\")","v":""},""]
[{"$f":"IF(Jogo!A656=Conferência!$A$2,Conferência!$A$2,\"\")","v":""},{"$f":"IF(Jogo!B656=Conferência!$B$2,Conferência!$B$2,\"\")","v":""},{"$f":"IF(Jogo!C656=Conferência!$C$2,Conferência!$C$2,\"\")","v":""},{"$f":"IF(Jogo!D656=Conferência!$D$2,Conferência!$D$2,\"\")","v":""},{"$f":"IF(Jogo!E656=Conferência!$E$2,Conferência!$E$2,\"\")","v":""},{"$f":"IF(Jogo!F656=Conferência!$F$2,Conferência!$F$2,\"\")","v":""},{"$f":"IF(Jogo!G656=Conferência!$G$2,Conferência!$G$2,\"\")","v":""},{"$f":"IF(Jogo!H656=Conferência!$H$2,Conferência!$H$2,\"\")","v":""},{"$f":"IF(Jogo!I656=Conferência!$I$2,Conferência!$I$2,\"\")","v":""},{"$f":"IF(Jogo!J656=Conferência!$J$2,Conferência!$J$2,\"\")","v":""},{"$f":"IF(Jogo!K656=Conferência!$K$2,Conferência!$K$2,\"\")","v":""},{"$f":"IF(Jogo!L656=Conferência!$L$2,Conferência!$L$2,\"\")","v":""},{"$f":"IF(Jogo!M656=Conferência!$M$2,Conferência!$M$2,\"\")","v":""},{"$f":"IF(Jogo!N656=Conferência!$N$2,Conferência!$N$2,\"\")","v":""},{"$f":"IF(Jogo!O656=Conferência!$O$2,Conferência!$O$2,\"\")","v":""},{"$f":"IF(Jogo!P656=Conferência!$P$2,Conferência!$P$2,\"\")","v":""},{"$f":"IF(Jogo!Q656=Conferência!$Q$2,Conferência!$Q$2,\"\")","v":""},""]
[{"$f":"IF(Jogo!A657=Conferência!$A$2,Conferência!$A$2,\"\")","v":""},{"$f":"IF(Jogo!B657=Conferência!$B$2,Conferência!$B$2,\"\")","v":""},{"$f":"IF(Jogo!C657=Conferência!$C$2,Conferência!$C$2,\"\")","v":""},{"$f":"IF(Jogo!D657=Conferência!$D$2,Conferência!$D$2,\"\")","v":""},{"$f":"IF(Jogo!E657=Conferência!$E$2,Conferência!$E$2,\"\")","v":""},{"$f":"IF(Jogo!F657=Conferência!$F$2,Conferência!$F$2,\"\")","v":""},{"$f":"IF(Jogo!G657=Conferência!$G$2,Conferência!$G$2,\"\")","v":""},{"$f":"IF(Jogo!H657=Conferência!$H$2,Conferência!$H$2,\"\")","v":""},{"$f":"IF(Jogo!I657=Conferência!$I$2,Conferência!$I$2,\"\")","v":""},{"$f":"IF(Jogo!J657=Conferência!$J$2,Conferência!$J$2,\"\")","v":""},{"$f":"IF(Jogo!K657=Conferência!$K$2,Conferência!$K$2,\"\")","v":""},{"$f":"IF(Jogo!L657=Conferência!$L$2,Conferência!$L$2,\"\")","v":""},{"$f":"IF(Jogo!M657=Conferência!$M$2,Conferência!$M$2,\"\")","v":""},{"$f":"IF(Jogo!N657=Conferência!$N$2,Conferência!$N$2,\"\")","v":""},{"$f":"IF(Jogo!O657=Conferência!$O$2,Conferência!$O$2,\"\")","v":""},{"$f":"IF(Jogo!P657=Conferência!$P$2,Conferência!$P$2,\"\")","v":""},{"$f":"IF(Jogo!Q657=Conferência!$Q$2,Conferência!$Q$2,\"\")","v":""},""]
[{"$f":"IF(Jogo!A658=Conferência!$A$2,Conferência!$A$2,\"\")","v":""},{"$f":"IF(Jogo!B658=Conferência!$B$2,Conferência!$B$2,\"\")","v":""},{"$f":"IF(Jogo!C658=Conferência!$C$2,Conferência!$C$2,\"\")","v":""},{"$f":"IF(Jogo!D658=Conferência!$D$2,Conferência!$D$2,\"\")","v":""},{"$f":"IF(Jogo!E658=Conferência!$E$2,Conferência!$E$2,\"\")","v":""},{"$f":"IF(Jogo!F658=Conferência!$F$2,Conferência!$F$2,\"\")","v":""},{"$f":"IF(Jogo!G658=Conferência!$G$2,Conferência!$G$2,\"\")","v":""},{"$f":"IF(Jogo!H658=Conferência!$H$2,Conferência!$H$2,\"\")","v":""},{"$f":"IF(Jogo!I658=Conferência!$I$2,Conferência!$I$2,\"\")","v":""},{"$f":"IF(Jogo!J658=Conferência!$J$2,Conferência!$J$2,\"\")","v":""},{"$f":"IF(Jogo!K658=Conferência!$K$2,Conferência!$K$2,\"\")","v":""},{"$f":"IF(Jogo!L658=Conferência!$L$2,Conferência!$L$2,\"\")","v":""},{"$f":"IF(Jogo!M658=Conferência!$M$2,Conferência!$M$2,\"\")","v":""},{"$f":"IF(Jogo!N658=Conferência!$N$2,Conferência!$N$2,\"\")","v":""},{"$f":"IF(Jogo!O658=Conferência!$O$2,Conferência!$O$2,\"\")","v":""},{"$f":"IF(Jogo!P658=Conferência!$P$2,Conferência!$P$2,\"\")","v":""},{"$f":"IF(Jogo!Q658=Conferência!$Q$2,Conferência!$Q$2,\"\")","v":""},{"$f":"IF(A658=\"\",\"\",\"OK\")","v":""}]
[{"$f":"IF(Jogo!A659=Conferência!$A$2,Conferência!$A$2,\"\")","v":""},{"$f":"IF(Jogo!B659=Conferência!$B$2,Conferência!$B$2,\"\")","v":""},{"$f":"IF(Jogo!C659=Conferência!$C$2,Conferência!$C$2,\"\")","v":""},{"$f":"IF(Jogo!D659=Conferência!$D$2,Conferência!$D$2,\"\")","v":""},{"$f":"IF(Jogo!E659=Conferência!$E$2,Conferência!$E$2,\"\")","v":""},{"$f":"IF(Jogo!F659=Conferência!$F$2,Conferência!$F$2,\"\")","v":""},{"$f":"IF(Jogo!G659=Conferência!$G$2,Conferência!$G$2,\"\")","v":""},{"$f":"IF(Jogo!H659=Conferência!$H$2,Conferência!$H$2,\"\")","v":""},{"$f":"IF(Jogo!I659=Conferência!$I$2,Conferência!$I$2,\"\")","v":""},{"$f":"IF(Jogo!J659=Conferência!$J$2,Conferência!$J$2,\"\")","v":""},{"$f":"IF(Jogo!K659=Conferência!$K$2,Conferência!$K$2,\"\")","v":""},{"$f":"IF(Jogo!L659=Conferência!$L$2,Conferência!$L$2,\"\")","v":""},{"$f":"IF(Jogo!M659=Conferência!$M$2,Conferência!$M$2,\"\")","v":""},{"$f":"IF(Jogo!N659=Conferência!$N$2,Conferência!$N$2,\"\")","v":""},{"$f":"IF(Jogo!O659=Conferência!$O$2,Conferência!$O$2,\"\")","v":""},{"$f":"IF(Jogo!P659=Conferência!$P$2,Conferência!$P$2,\"\")","v":""},{"$f":"IF(Jogo!Q659=Conferência!$Q$2,Conferência!$Q$2,\"\")","v":""},""]
[{"$f":"IF(Jogo!A660=Conferência!$A$2,Conferência!$A$2,\"\")","v":""},{"$f":"IF(Jogo!B660=Conferência!$B$2,Conferência!$B$2,\"\")","v":""},{"$f":"IF(Jogo!C660=Conferência!$C$2,Conferência!$C$2,\"\")","v":""},{"$f":"IF(Jogo!D660=Conferência!$D$2,Conferência!$D$2,\"\")","v":""},{"$f":"IF(Jogo!E660=Conferência!$E$2,Conferência!$E$2,\"\")","v":""},{"$f":"IF(Jogo!F660=Conferência!$F$2,Conferência!$F$2,\"\")","v":""},{"$f":"IF(Jogo!G660=Conferência!$G$2,Conferência!$G$2,\"\")","v":""},{"$f":"IF(Jogo!H660=Conferência!$H$2,Conferência!$H$2,\"\")","v":""},{"$f":"IF(Jogo!I660=Conferência!$I$2,Conferência!$I$2,\"\")","v":""},{"$f":"IF(Jogo!J660=Conferência!$J$2,Conferência!$J$2,\"\")","v":""},{"$f":"IF(Jogo!K660=Conferência!$K$2,Conferência!$K$2,\"\")","v":""},{"$f":"IF(Jogo!L660=Conferência!$L$2,Conferência!$L$2,\"\")","v":""},{"$f":"IF(Jogo!M660=Conferência!$M$2,Conferência!$M$2,\"\")","v":""},{"$f":"IF(Jogo!N660=Conferência!$N$2,Conferência!$N$2,\"\")","v":""},{"$f":"IF(Jogo!O660=Conferência!$O$2,Conferência!$O$2,\"\")","v":""},{"$f":"IF(Jogo!P660=Conferência!$P$2,Conferência!$P$2,\"\")","v":""},{"$f":"IF(Jogo!Q660=Conferência!$Q$2,Conferência!$Q$2,\"\")","v":""},""]
[{"$f":"IF(Jogo!A661=Conferência!$A$2,Conferência!$A$2,\"\")","v":""},{"$f":"IF(Jogo!B661=Conferência!$B$2,Conferência!$B$2,\"\")","v":""},{"$f":"IF(Jogo!C661=Conferência!$C$2,Conferência!$C$2,\"\")","v":""},{"$f":"IF(Jogo!D661=Conferência!$D$2,Conferência!$D$2,\"\")","v":""},{"$f":"IF(Jogo!E661=Conferência!$E$2,Conferência!$E$2,\"\")","v":""},{"$f":"IF(Jogo!F661=Conferência!$F$2,Conferência!$F$2,\"\")","v":""},{"$f":"IF(Jogo!G661=Conferência!$G$2,Conferência!$G$2,\"\")","v":""},{"$f":"IF(Jogo!H661=Conferência!$H$2,Conferência!$H$2,\"\")","v":""},{"$f":"IF(Jogo!I661=Conferência!$I$2,Conferência!$I$2,\"\")","v":""},{"$f":"IF(Jogo!J661=Conferência!$J$2,Conferência!$J$2,\"\")","v":""},{"$f":"IF(Jogo!K661=Conferência!$K$2,Conferência!$K$2,\"\")","v":""},{"$f":"IF(Jogo!L661=Conferência!$L$2,Conferência!$L$2,\"\")","v":""},{"$f":"IF(Jogo!M661=Conferência!$M$2,Conferência!$M$2,\"\")","v":""},{"$f":"IF(Jogo!N661=Conferência!$N$2,Conferência!$N$2,\"\")","v":""},{"$f":"IF(Jogo!O661=Conferência!$O$2,Conferência!$O$2,\"\")","v":""},{"$f":"IF(Jogo!P661=Conferência!$P$2,Conferência!$P$2,\"\")","v":""},{"$f":"IF(Jogo!Q661=Conferência!$Q$2,Conferência!$Q$2,\"\")","v":""},""]
[{"$f":"IF(Jogo!A662=Conferência!$A$2,Conferência!$A$2,\"\")","v":""},{"$f":"IF(Jogo!B662=Conferência!$B$2,Conferência!$B$2,\"\")","v":""},{"$f":"IF(Jogo!C662=Conferência!$C$2,Conferência!$C$2,\"\")","v":""},{"$f":"IF(Jogo!D662=Conferência!$D$2,Conferência!$D$2,\"\")","v":""},{"$f":"IF(Jogo!E662=Conferência!$E$2,Conferência!$E$2,\"\")","v":""},{"$f":"IF(Jogo!F662=Conferência!$F$2,Conferência!$F$2,\"\")","v":""},{"$f":"IF(Jogo!G662=Conferência!$G$2,Conferência!$G$2,\"\")","v":""},{"$f":"IF(Jogo!H662=Conferência!$H$2,Conferência!$H$2,\"\")","v":""},{"$f":"IF(Jogo!I662=Conferência!$I$2,Conferência!$I$2,\"\")","v":""},{"$f":"IF(Jogo!J662=Conferência!$J$2,Conferência!$J$2,\"\")","v":""},{"$f":"IF(Jogo!K662=Conferência!$K$2,Conferência!$K$2,\"\")","v":""},{"$f":"IF(Jogo!L662=Conferência!$L$2,Conferência!$L$2,\"\")","v":""},{"$f":"IF(Jogo!M662=Conferência!$M$2,Conferência!$M$2,\"\")","v":""},{"$f":"IF(Jogo!N662=Conferência!$N$2,Conferência!$N$2,\"\")","v":""},{"$f":"IF(Jogo!O662=Conferência!$O$2,Conferência!$O$2,\"\")","v":""},{"$f":"IF(Jogo!P662=Conferência!$P$2,Conferência!$P$2,\"\")","v":""},{"$f":"IF(Jogo!Q662=Conferência!$Q$2,Conferência!$Q$2,\"\")","v":""},""]
[{"$f":"IF(Jogo!A663=Conferência!$A$2,Conferência!$A$2,\"\")","v":""},{"$f":"IF(Jogo!B663=Conferência!$B$2,Conferência!$B$2,\"\")","v":""},{"$f":"IF(Jogo!C663=Conferência!$C$2,Conferência!$C$2,\"\")","v":""},{"$f":"IF(Jogo!D663=Conferência!$D$2,Conferência!$D$2,\"\")","v":""},{"$f":"IF(Jogo!E663=Conferência!$E$2,Conferência!$E$2,\"\")","v":""},{"$f":"IF(Jogo!F663=Conferência!$F$2,Conferência!$F$2,\"\")","v":""},{"$f":"IF(Jogo!G663=Conferência!$G$2,Conferência!$G$2,\"\")","v":""},{"$f":"IF(Jogo!H663=Conferência!$H$2,Conferência!$H$2,\"\")","v":""},{"$f":"IF(Jogo!I663=Conferência!$I$2,Conferência!$I$2,\"\")","v":""},{"$f":"IF(Jogo!J663=Conferência!$J$2,Conferência!$J$2,\"\")","v":""},{"$f":"IF(Jogo!K663=Conferência!$K$2,Conferência!$K$2,\"\")","v":""},{"$f":"IF(Jogo!L663=Conferência!$L$2,Conferência!$L$2,\"\")","v":""},{"$f":"IF(Jogo!M663=Conferência!$M$2,Conferência!$M$2,\"\")","v":""},{"$f":"IF(Jogo!N663=Conferência!$N$2,Conferência!$N$2,\"\")","v":""},{"$f":"IF(Jogo!O663=Conferência!$O$2,Conferência!$O$2,\"\")","v":""},{"$f":"IF(Jogo!P663=Conferência!$P$2,Conferência!$P$2,\"\")","v":""},{"$f":"IF(Jogo!Q663=Conferência!$Q$2,Conferência!$Q$2,\"\")","v":""},""]
[{"$f":"IF(Jogo!A664=Conferência!$A$2,Conferência!$A$2,\"\")","v":""},{"$f":"IF(Jogo!B664=Conferência!$B$2,Conferência!$B$2,\"\")","v":""},{"$f":"IF(Jogo!C664=Conferência!$C$2,Conferência!$C$2,\"\")","v":""},{"$f":"IF(Jogo!D664=Conferência!$D$2,Conferência!$D$2,\"\")","v":""},{"$f":"IF(Jogo!E664=Conferência!$E$2,Conferência!$E$2,\"\")","v":""},{"$f":"IF(Jogo!F664=Conferência!$F$2,Conferência!$F$2,\"\")","v":""},{"$f":"IF(Jogo!G664=Conferência!$G$2,Conferência!$G$2,\"\")","v":""},{"$f":"IF(Jogo!H664=Conferência!$H$2,Conferência!$H$2,\"\")","v":""},{"$f":"IF(Jogo!I664=Conferência!$I$2,Conferência!$I$2,\"\")","v":""},{"$f":"IF(Jogo!J664=Conferência!$J$2,Conferência!$J$2,\"\")","v":""},{"$f":"IF(Jogo!K664=Conferência!$K$2,Conferência!$K$2,\"\")","v":""},{"$f":"IF(Jogo!L664=Conferência!$L$2,Conferência!$L$2,\"\")","v":""},{"$f":"IF(Jogo!M664=Conferência!$M$2,Conferência!$M$2,\"\")","v":""},{"$f":"IF(Jogo!N664=Conferência!$N$2,Conferência!$N$2,\"\")","v":""},{"$f":"IF(Jogo!O664=Conferência!$O$2,Conferência!$O$2,\"\")","v":""},{"$f":"IF(Jogo!P664=Conferência!$P$2,Conferência!$P$2,\"\")","v":""},{"$f":"IF(Jogo!Q664=Conferência!$Q$2,Conferência!$Q$2,\"\")","v":""},""]
[{"$f":"IF(Jogo!A665=Conferência!$A$2,Conferência!$A$2,\"\")","v":""},{"$f":"IF(Jogo!B665=Conferência!$B$2,Conferência!$B$2,\"\")","v":""},{"$f":"IF(Jogo!C665=Conferência!$C$2,Conferência!$C$2,\"\")","v":""},{"$f":"IF(Jogo!D665=Conferência!$D$2,Conferência!$D$2,\"\")","v":""},{"$f":"IF(Jogo!E665=Conferência!$E$2,Conferência!$E$2,\"\")","v":""},{"$f":"IF(Jogo!F665=Conferência!$F$2,Conferência!$F$2,\"\")","v":""},{"$f":"IF(Jogo!G665=Conferência!$G$2,Conferência!$G$2,\"\")","v":""},{"$f":"IF(Jogo!H665=Conferência!$H$2,Conferência!$H$2,\"\")","v":""},{"$f":"IF(Jogo!I665=Conferência!$I$2,Conferência!$I$2,\"\")","v":""},{"$f":"IF(Jogo!J665=Conferência!$J$2,Conferência!$J$2,\"\")","v":""},{"$f":"IF(Jogo!K665=Conferência!$K$2,Conferência!$K$2,\"\")","v":""},{"$f":"IF(Jogo!L665=Conferência!$L$2,Conferência!$L$2,\"\")","v":""},{"$f":"IF(Jogo!M665=Conferência!$M$2,Conferência!$M$2,\"\")","v":""},{"$f":"IF(Jogo!N665=Conferência!$N$2,Conferência!$N$2,\"\")","v":""},{"$f":"IF(Jogo!O665=Conferência!$O$2,Conferência!$O$2,\"\")","v":""},{"$f":"IF(Jogo!P665=Conferência!$P$2,Conferência!$P$2,\"\")","v":""},{"$f":"IF(Jogo!Q665=Conferência!$Q$2,Conferência!$Q$2,\"\")","v":""},""]
[{"$f":"IF(Jogo!A666=Conferência!$A$2,Conferência!$A$2,\"\")","v":""},{"$f":"IF(Jogo!B666=Conferência!$B$2,Conferência!$B$2,\"\")","v":""},{"$f":"IF(Jogo!C666=Conferência!$C$2,Conferência!$C$2,\"\")","v":""},{"$f":"IF(Jogo!D666=Conferência!$D$2,Conferência!$D$2,\"\")","v":""},{"$f":"IF(Jogo!E666=Conferência!$E$2,Conferência!$E$2,\"\")","v":""},{"$f":"IF(Jogo!F666=Conferência!$F$2,Conferência!$F$2,\"\")","v":""},{"$f":"IF(Jogo!G666=Conferência!$G$2,Conferência!$G$2,\"\")","v":""},{"$f":"IF(Jogo!H666=Conferência!$H$2,Conferência!$H$2,\"\")","v":""},{"$f":"IF(Jogo!I666=Conferência!$I$2,Conferência!$I$2,\"\")","v":""},{"$f":"IF(Jogo!J666=Conferência!$J$2,Conferência!$J$2,\"\")","v":""},{"$f":"IF(Jogo!K666=Conferência!$K$2,Conferência!$K$2,\"\")","v":""},{"$f":"IF(Jogo!L666=Conferência!$L$2,Conferência!$L$2,\"\")","v":""},{"$f":"IF(Jogo!M666=Conferência!$M$2,Conferência!$M$2,\"\")","v":""},{"$f":"IF(Jogo!N666=Conferência!$N$2,Conferência!$N$2,\"\")","v":""},{"$f":"IF(Jogo!O666=Conferência!$O$2,Conferência!$O$2,\"\")","v":""},{"$f":"IF(Jogo!P666=Conferência!$P$2,Conferência!$P$2,\"\")","v":""},{"$f":"IF(Jogo!Q666=Conferência!$Q$2,Conferência!$Q$2,\"\")","v":""},""]
[{"$f":"IF(Jogo!A667=Conferência!$A$2,Conferência!$A$2,\"\")","v":""},{"$f":"IF(Jogo!B667=Conferência!$B$2,Conferência!$B$2,\"\")","v":""},{"$f":"IF(Jogo!C667=Conferência!$C$2,Conferência!$C$2,\"\")","v":""},{"$f":"IF(Jogo!D667=Conferência!$D$2,Conferência!$D$2,\"\")","v":""},{"$f":"IF(Jogo!E667=Conferência!$E$2,Conferência!$E$2,\"\")","v":""},{"$f":"IF(Jogo!F667=Conferência!$F$2,Conferência!$F$2,\"\")","v":""},{"$f":"IF(Jogo!G667=Conferência!$G$2,Conferência!$G$2,\"\")","v":""},{"$f":"IF(Jogo!H667=Conferência!$H$2,Conferência!$H$2,\"\")","v":""},{"$f":"IF(Jogo!I667=Conferência!$I$2,Conferência!$I$2,\"\")","v":""},{"$f":"IF(Jogo!J667=Conferência!$J$2,Conferência!$J$2,\"\")","v":""},{"$f":"IF(Jogo!K667=Conferência!$K$2,Conferência!$K$2,\"\")","v":""},{"$f":"IF(Jogo!L667=Conferência!$L$2,Conferência!$L$2,\"\")","v":""},{"$f":"IF(Jogo!M667=Conferência!$M$2,Conferência!$M$2,\"\")","v":""},{"$f":"IF(Jogo!N667=Conferência!$N$2,Conferência!$N$2,\"\")","v":""},{"$f":"IF(Jogo!O667=Conferência!$O$2,Conferência!$O$2,\"\")","v":""},{"$f":"IF(Jogo!P667=Conferência!$P$2,Conferência!$P$2,\"\")","v":""},{"$f":"IF(Jogo!Q667=Conferência!$Q$2,Conferência!$Q$2,\"\")","v":""},""]
[{"$f":"IF(Jogo!A668=Conferência!$A$2,Conferência!$A$2,\"\")","v":""},{"$f":"IF(Jogo!B668=Conferência!$B$2,Conferência!$B$2,\"\")","v":""},{"$f":"IF(Jogo!C668=Conferência!$C$2,Conferência!$C$2,\"\")","v":""},{"$f":"IF(Jogo!D668=Conferência!$D$2,Conferência!$D$2,\"\")","v":""},{"$f":"IF(Jogo!E668=Conferência!$E$2,Conferência!$E$2,\"\")","v":""},{"$f":"IF(Jogo!F668=Conferência!$F$2,Conferência!$F$2,\"\")","v":""},{"$f":"IF(Jogo!G668=Conferência!$G$2,Conferência!$G$2,\"\")","v":""},{"$f":"IF(Jogo!H668=Conferência!$H$2,Conferência!$H$2,\"\")","v":""},{"$f":"IF(Jogo!I668=Conferência!$I$2,Conferência!$I$2,\"\")","v":""},{"$f":"IF(Jogo!J668=Conferência!$J$2,Conferência!$J$2,\"\")","v":""},{"$f":"IF(Jogo!K668=Conferência!$K$2,Conferência!$K$2,\"\")","v":""},{"$f":"IF(Jogo!L668=Conferência!$L$2,Conferência!$L$2,\"\")","v":""},{"$f":"IF(Jogo!M668=Conferência!$M$2,Conferência!$M$2,\"\")","v":""},{"$f":"IF(Jogo!N668=Conferência!$N$2,Conferência!$N$2,\"\")","v":""},{"$f":"IF(Jogo!O668=Conferência!$O$2,Conferência!$O$2,\"\")","v":""},{"$f":"IF(Jogo!P668=Conferência!$P$2,Conferência!$P$2,\"\")","v":""},{"$f":"IF(Jogo!Q668=Conferência!$Q$2,Conferência!$Q$2,\"\")","v":""},""]
[{"$f":"IF(Jogo!A669=Conferência!$A$2,Conferência!$A$2,\"\")","v":""},{"$f":"IF(Jogo!B669=Conferência!$B$2,Conferência!$B$2,\"\")","v":""},{"$f":"IF(Jogo!C669=Conferência!$C$2,Conferência!$C$2,\"\")","v":""},{"$f":"IF(Jogo!D669=Conferência!$D$2,Conferência!$D$2,\"\")","v":""},{"$f":"IF(Jogo!E669=Conferência!$E$2,Conferência!$E$2,\"\")","v":""},{"$f":"IF(Jogo!F669=Conferência!$F$2,Conferência!$F$2,\"\")","v":""},{"$f":"IF(Jogo!G669=Conferência!$G$2,Conferência!$G$2,\"\")","v":""},{"$f":"IF(Jogo!H669=Conferência!$H$2,Conferência!$H$2,\"\")","v":""},{"$f":"IF(Jogo!I669=Conferência!$I$2,Conferência!$I$2,\"\")","v":""},{"$f":"IF(Jogo!J669=Conferência!$J$2,Conferência!$J$2,\"\")","v":""},{"$f":"IF(Jogo!K669=Conferência!$K$2,Conferência!$K$2,\"\")","v":""},{"$f":"IF(Jogo!L669=Conferência!$L$2,Conferência!$L$2,\"\")","v":""},{"$f":"IF(Jogo!M669=Conferência!$M$2,Conferência!$M$2,\"\")","v":""},{"$f":"IF(Jogo!N669=Conferência!$N$2,Conferência!$N$2,\"\")","v":""},{"$f":"IF(Jogo!O669=Conferência!$O$2,Conferência!$O$2,\"\")","v":""},{"$f":"IF(Jogo!P669=Conferência!$P$2,Conferência!$P$2,\"\")","v":""},{"$f":"IF(Jogo!Q669=Conferência!$Q$2,Conferência!$Q$2,\"\")","v":""},""]
[{"$f":"IF(Jogo!A670=Conferência!$A$2,Conferência!$A$2,\"\")","v":""},{"$f":"IF(Jogo!B670=Conferência!$B$2,Conferência!$B$2,\"\")","v":""},{"$f":"IF(Jogo!C670=Conferência!$C$2,Conferência!$C$2,\"\")","v":""},{"$f":"IF(Jogo!D670=Conferência!$D$2,Conferência!$D$2,\"\")","v":""},{"$f":"IF(Jogo!E670=Conferência!$E$2,Conferência!$E$2,\"\")","v":""},{"$f":"IF(Jogo!F670=Conferência!$F$2,Conferência!$F$2,\"\")","v":""},{"$f":"IF(Jogo!G670=Conferência!$G$2,Conferência!$G$2,\"\")","v":""},{"$f":"IF(Jogo!H670=Conferência!$H$2,Conferência!$H$2,\"\")","v":""},{"$f":"IF(Jogo!I670=Conferência!$I$2,Conferência!$I$2,\"\")","v":""},{"$f":"IF(Jogo!J670=Conferência!$J$2,Conferência!$J$2,\"\")","v":""},{"$f":"IF(Jogo!K670=Conferência!$K$2,Conferência!$K$2,\"\")","v":""},{"$f":"IF(Jogo!L670=Conferência!$L$2,Conferência!$L$2,\"\")","v":""},{"$f":"IF(Jogo!M670=Conferência!$M$2,Conferência!$M$2,\"\")","v":""},{"$f":"IF(Jogo!N670=Conferência!$N$2,Conferência!$N$2,\"\")","v":""},{"$f":"IF(Jogo!O670=Conferência!$O$2,Conferência!$O$2,\"\")","v":""},{"$f":"IF(Jogo!P670=Conferência!$P$2,Conferência!$P$2,\"\")","v":""},{"$f":"IF(Jogo!Q670=Conferência!$Q$2,Conferência!$Q$2,\"\")","v":""},""]
[{"$f":"IF(Jogo!A671=Conferência!$A$2,Conferência!$A$2,\"\")","v":""},{"$f":"IF(Jogo!B671=Conferência!$B$2,Conferência!$B$2,\"\")","v":""},{"$f":"IF(Jogo!C671=Conferência!$C$2,Conferência!$C$2,\"\")","v":""},{"$f":"IF(Jogo!D671=Conferência!$D$2,Conferência!$D$2,\"\")","v":""},{"$f":"IF(Jogo!E671=Conferência!$E$2,Conferência!$E$2,\"\")","v":""},{"$f":"IF(Jogo!F671=Conferência!$F$2,Conferência!$F$2,\"\")","v":""},{"$f":"IF(Jogo!G671=Conferência!$G$2,Conferência!$G$2,\"\")","v":""},{"$f":"IF(Jogo!H671=Conferência!$H$2,Conferência!$H$2,\"\")","v":""},{"$f":"IF(Jogo!I671=Conferência!$I$2,Conferência!$I$2,\"\")","v":""},{"$f":"IF(Jogo!J671=Conferência!$J$2,Conferência!$J$2,\"\")","v":""},{"$f":"IF(Jogo!K671=Conferência!$K$2,Conferência!$K$2,\"\")","v":""},{"$f":"IF(Jogo!L671=Conferência!$L$2,Conferência!$L$2,\"\")","v":""},{"$f":"IF(Jogo!M671=Conferência!$M$2,Conferência!$M$2,\"\")","v":""},{"$f":"IF(Jogo!N671=Conferência!$N$2,Conferência!$N$2,\"\")","v":""},{"$f":"IF(Jogo!O671=Conferência!$O$2,Conferência!$O$2,\"\")","v":""},{"$f":"IF(Jogo!P671=Conferência!$P$2,Conferência!$P$2,\"\")","v":""},{"$f":"IF(Jogo!Q671=Conferência!$Q$2,Conferência!$Q$2,\"\")","v":""},""]
[{"$f":"IF(Jogo!A672=Conferência!$A$2,Conferência!$A$2,\"\")","v":""},{"$f":"IF(Jogo!B672=Conferência!$B$2,Conferência!$B$2,\"\")","v":""},{"$f":"IF(Jogo!C672=Conferência!$C$2,Conferência!$C$2,\"\")","v":""},{"$f":"IF(Jogo!D672=Conferência!$D$2,Conferência!$D$2,\"\")","v":""},{"$f":"IF(Jogo!E672=Conferência!$E$2,Conferência!$E$2,\"\")","v":""},{"$f":"IF(Jogo!F672=Conferência!$F$2,Conferência!$F$2,\"\")","v":""},{"$f":"IF(Jogo!G672=Conferência!$G$2,Conferência!$G$2,\"\")","v":""},{"$f":"IF(Jogo!H672=Conferência!$H$2,Conferência!$H$2,\"\")","v":""},{"$f":"IF(Jogo!I672=Conferência!$I$2,Conferência!$I$2,\"\")","v":""},{"$f":"IF(Jogo!J672=Conferência!$J$2,Conferência!$J$2,\"\")","v":""},{"$f":"IF(Jogo!K672=Conferência!$K$2,Conferência!$K$2,\"\")","v":""},{"$f":"IF(Jogo!L672=Conferência!$L$2,Conferência!$L$2,\"\")","v":""},{"$f":"IF(Jogo!M672=Conferência!$M$2,Conferência!$M$2,\"\")","v":""},{"$f":"IF(Jogo!N672=Conferência!$N$2,Conferência!$N$2,\"\")","v":""},{"$f":"IF(Jogo!O672=Conferência!$O$2,Conferência!$O$2,\"\")","v":""},{"$f":"IF(Jogo!P672=Conferência!$P$2,Conferência!$P$2,\"\")","v":""},{"$f":"IF(Jogo!Q672=Conferência!$Q$2,Conferência!$Q$2,\"\")","v":""},""]
[{"$f":"IF(Jogo!A673=Conferência!$A$2,Conferência!$A$2,\"\")","v":""},{"$f":"IF(Jogo!B673=Conferência!$B$2,Conferência!$B$2,\"\")","v":""},{"$f":"IF(Jogo!C673=Conferência!$C$2,Conferência!$C$2,\"\")","v":""},{"$f":"IF(Jogo!D673=Conferência!$D$2,Conferência!$D$2,\"\")","v":""},{"$f":"IF(Jogo!E673=Conferência!$E$2,Conferência!$E$2,\"\")","v":""},{"$f":"IF(Jogo!F673=Conferência!$F$2,Conferência!$F$2,\"\")","v":""},{"$f":"IF(Jogo!G673=Conferência!$G$2,Conferência!$G$2,\"\")","v":""},{"$f":"IF(Jogo!H673=Conferência!$H$2,Conferência!$H$2,\"\")","v":""},{"$f":"IF(Jogo!I673=Conferência!$I$2,Conferência!$I$2,\"\")","v":""},{"$f":"IF(Jogo!J673=Conferência!$J$2,Conferência!$J$2,\"\")","v":""},{"$f":"IF(Jogo!K673=Conferência!$K$2,Conferência!$K$2,\"\")","v":""},{"$f":"IF(Jogo!L673=Conferência!$L$2,Conferência!$L$2,\"\")","v":""},{"$f":"IF(Jogo!M673=Conferência!$M$2,Conferência!$M$2,\"\")","v":""},{"$f":"IF(Jogo!N673=Conferência!$N$2,Conferência!$N$2,\"\")","v":""},{"$f":"IF(Jogo!O673=Conferência!$O$2,Conferência!$O$2,\"\")","v":""},{"$f":"IF(Jogo!P673=Conferência!$P$2,Conferência!$P$2,\"\")","v":""},{"$f":"IF(Jogo!Q673=Conferência!$Q$2,Conferência!$Q$2,\"\")","v":""},""]
[{"$f":"IF(Jogo!A674=Conferência!$A$2,Conferência!$A$2,\"\")","v":""},{"$f":"IF(Jogo!B674=Conferência!$B$2,Conferência!$B$2,\"\")","v":""},{"$f":"IF(Jogo!C674=Conferência!$C$2,Conferência!$C$2,\"\")","v":""},{"$f":"IF(Jogo!D674=Conferência!$D$2,Conferência!$D$2,\"\")","v":""},{"$f":"IF(Jogo!E674=Conferência!$E$2,Conferência!$E$2,\"\")","v":""},{"$f":"IF(Jogo!F674=Conferência!$F$2,Conferência!$F$2,\"\")","v":""},{"$f":"IF(Jogo!G674=Conferência!$G$2,Conferência!$G$2,\"\")","v":""},{"$f":"IF(Jogo!H674=Conferência!$H$2,Conferência!$H$2,\"\")","v":""},{"$f":"IF(Jogo!I674=Conferência!$I$2,Conferência!$I$2,\"\")","v":""},{"$f":"IF(Jogo!J674=Conferência!$J$2,Conferência!$J$2,\"\")","v":""},{"$f":"IF(Jogo!K674=Conferência!$K$2,Conferência!$K$2,\"\")","v":""},{"$f":"IF(Jogo!L674=Conferência!$L$2,Conferência!$L$2,\"\")","v":""},{"$f":"IF(Jogo!M674=Conferência!$M$2,Conferência!$M$2,\"\")","v":""},{"$f":"IF(Jogo!N674=Conferência!$N$2,Conferência!$N$2,\"\")","v":""},{"$f":"IF(Jogo!O674=Conferência!$O$2,Conferência!$O$2,\"\")","v":""},{"$f":"IF(Jogo!P674=Conferência!$P$2,Conferência!$P$2,\"\")","v":""},{"$f":"IF(Jogo!Q674=Conferência!$Q$2,Conferência!$Q$2,\"\")","v":""},""]
[{"$f":"IF(Jogo!A675=Conferência!$A$2,Conferência!$A$2,\"\")","v":""},{"$f":"IF(Jogo!B675=Conferência!$B$2,Conferência!$B$2,\"\")","v":""},{"$f":"IF(Jogo!C675=Conferência!$C$2,Conferência!$C$2,\"\")","v":""},{"$f":"IF(Jogo!D675=Conferência!$D$2,Conferência!$D$2,\"\")","v":""},{"$f":"IF(Jogo!E675=Conferência!$E$2,Conferência!$E$2,\"\")","v":""},{"$f":"IF(Jogo!F675=Conferência!$F$2,Conferência!$F$2,\"\")","v":""},{"$f":"IF(Jogo!G675=Conferência!$G$2,Conferência!$G$2,\"\")","v":""},{"$f":"IF(Jogo!H675=Conferência!$H$2,Conferência!$H$2,\"\")","v":""},{"$f":"IF(Jogo!I675=Conferência!$I$2,Conferência!$I$2,\"\")","v":""},{"$f":"IF(Jogo!J675=Conferência!$J$2,Conferência!$J$2,\"\")","v":""},{"$f":"IF(Jogo!K675=Conferência!$K$2,Conferência!$K$2,\"\")","v":""},{"$f":"IF(Jogo!L675=Conferência!$L$2,Conferência!$L$2,\"\")","v":""},{"$f":"IF(Jogo!M675=Conferência!$M$2,Conferência!$M$2,\"\")","v":""},{"$f":"IF(Jogo!N675=Conferência!$N$2,Conferência!$N$2,\"\")","v":""},{"$f":"IF(Jogo!O675=Conferência!$O$2,Conferência!$O$2,\"\")","v":""},{"$f":"IF(Jogo!P675=Conferência!$P$2,Conferência!$P$2,\"\")","v":""},{"$f":"IF(Jogo!Q675=Conferência!$Q$2,Conferência!$Q$2,\"\")","v":""},""]
[{"$f":"IF(Jogo!A676=Conferência!$A$2,Conferência!$A$2,\"\")","v":""},{"$f":"IF(Jogo!B676=Conferência!$B$2,Conferência!$B$2,\"\")","v":""},{"$f":"IF(Jogo!C676=Conferência!$C$2,Conferência!$C$2,\"\")","v":""},{"$f":"IF(Jogo!D676=Conferência!$D$2,Conferência!$D$2,\"\")","v":""},{"$f":"IF(Jogo!E676=Conferência!$E$2,Conferência!$E$2,\"\")","v":""},{"$f":"IF(Jogo!F676=Conferência!$F$2,Conferência!$F$2,\"\")","v":""},{"$f":"IF(Jogo!G676=Conferência!$G$2,Conferência!$G$2,\"\")","v":""},{"$f":"IF(Jogo!H676=Conferência!$H$2,Conferência!$H$2,\"\")","v":""},{"$f":"IF(Jogo!I676=Conferência!$I$2,Conferência!$I$2,\"\")","v":""},{"$f":"IF(Jogo!J676=Conferência!$J$2,Conferência!$J$2,\"\")","v":""},{"$f":"IF(Jogo!K676=Conferência!$K$2,Conferência!$K$2,\"\")","v":""},{"$f":"IF(Jogo!L676=Conferência!$L$2,Conferência!$L$2,\"\")","v":""},{"$f":"IF(Jogo!M676=Conferência!$M$2,Conferência!$M$2,\"\")","v":""},{"$f":"IF(Jogo!N676=Conferência!$N$2,Conferência!$N$2,\"\")","v":""},{"$f":"IF(Jogo!O676=Conferência!$O$2,Conferência!$O$2,\"\")","v":""},{"$f":"IF(Jogo!P676=Conferência!$P$2,Conferência!$P$2,\"\")","v":""},{"$f":"IF(Jogo!Q676=Conferência!$Q$2,Conferência!$Q$2,\"\")","v":""},""]
[{"$f":"IF(Jogo!A677=Conferência!$A$2,Conferência!$A$2,\"\")","v":""},{"$f":"IF(Jogo!B677=Conferência!$B$2,Conferência!$B$2,\"\")","v":""},{"$f":"IF(Jogo!C677=Conferência!$C$2,Conferência!$C$2,\"\")","v":""},{"$f":"IF(Jogo!D677=Conferência!$D$2,Conferência!$D$2,\"\")","v":""},{"$f":"IF(Jogo!E677=Conferência!$E$2,Conferência!$E$2,\"\")","v":""},{"$f":"IF(Jogo!F677=Conferência!$F$2,Conferência!$F$2,\"\")","v":""},{"$f":"IF(Jogo!G677=Conferência!$G$2,Conferência!$G$2,\"\")","v":""},{"$f":"IF(Jogo!H677=Conferência!$H$2,Conferência!$H$2,\"\")","v":""},{"$f":"IF(Jogo!I677=Conferência!$I$2,Conferência!$I$2,\"\")","v":""},{"$f":"IF(Jogo!J677=Conferência!$J$2,Conferência!$J$2,\"\")","v":""},{"$f":"IF(Jogo!K677=Conferência!$K$2,Conferência!$K$2,\"\")","v":""},{"$f":"IF(Jogo!L677=Conferência!$L$2,Conferência!$L$2,\"\")","v":""},{"$f":"IF(Jogo!M677=Conferência!$M$2,Conferência!$M$2,\"\")","v":""},{"$f":"IF(Jogo!N677=Conferência!$N$2,Conferência!$N$2,\"\")","v":""},{"$f":"IF(Jogo!O677=Conferência!$O$2,Conferência!$O$2,\"\")","v":""},{"$f":"IF(Jogo!P677=Conferência!$P$2,Conferência!$P$2,\"\")","v":""},{"$f":"IF(Jogo!Q677=Conferência!$Q$2,Conferência!$Q$2,\"\")","v":""},""]
[{"$f":"IF(Jogo!A678=Conferência!$A$2,Conferência!$A$2,\"\")","v":""},{"$f":"IF(Jogo!B678=Conferência!$B$2,Conferência!$B$2,\"\")","v":""},{"$f":"IF(Jogo!C678=Conferência!$C$2,Conferência!$C$2,\"\")","v":""},{"$f":"IF(Jogo!D678=Conferência!$D$2,Conferência!$D$2,\"\")","v":""},{"$f":"IF(Jogo!E678=Conferência!$E$2,Conferência!$E$2,\"\")","v":""},{"$f":"IF(Jogo!F678=Conferência!$F$2,Conferência!$F$2,\"\")","v":""},{"$f":"IF(Jogo!G678=Conferência!$G$2,Conferência!$G$2,\"\")","v":""},{"$f":"IF(Jogo!H678=Conferência!$H$2,Conferência!$H$2,\"\")","v":""},{"$f":"IF(Jogo!I678=Conferência!$I$2,Conferência!$I$2,\"\")","v":""},{"$f":"IF(Jogo!J678=Conferência!$J$2,Conferência!$J$2,\"\")","v":""},{"$f":"IF(Jogo!K678=Conferência!$K$2,Conferência!$K$2,\"\")","v":""},{"$f":"IF(Jogo!L678=Conferência!$L$2,Conferência!$L$2,\"\")","v":""},{"$f":"IF(Jogo!M678=Conferência!$M$2,Conferência!$M$2,\"\")","v":""},{"$f":"IF(Jogo!N678=Conferência!$N$2,Conferência!$N$2,\"\")","v":""},{"$f":"IF(Jogo!O678=Conferência!$O$2,Conferência!$O$2,\"\")","v":""},{"$f":"IF(Jogo!P678=Conferência!$P$2,Conferência!$P$2,\"\")","v":""},{"$f":"IF(Jogo!Q678=Conferência!$Q$2,Conferência!$Q$2,\"\")","v":""},""]
[{"$f":"IF(Jogo!A679=Conferência!$A$2,Conferência!$A$2,\"\")","v":""},{"$f":"IF(Jogo!B679=Conferência!$B$2,Conferência!$B$2,\"\")","v":""},{"$f":"IF(Jogo!C679=Conferência!$C$2,Conferência!$C$2,\"\")","v":""},{"$f":"IF(Jogo!D679=Conferência!$D$2,Conferência!$D$2,\"\")","v":""},{"$f":"IF(Jogo!E679=Conferência!$E$2,Conferência!$E$2,\"\")","v":""},{"$f":"IF(Jogo!F679=Conferência!$F$2,Conferência!$F$2,\"\")","v":""},{"$f":"IF(Jogo!G679=Conferência!$G$2,Conferência!$G$2,\"\")","v":""},{"$f":"IF(Jogo!H679=Conferência!$H$2,Conferência!$H$2,\"\")","v":""},{"$f":"IF(Jogo!I679=Conferência!$I$2,Conferência!$I$2,\"\")","v":""},{"$f":"IF(Jogo!J679=Conferência!$J$2,Conferência!$J$2,\"\")","v":""},{"$f":"IF(Jogo!K679=Conferência!$K$2,Conferência!$K$2,\"\")","v":""},{"$f":"IF(Jogo!L679=Conferência!$L$2,Conferência!$L$2,\"\")","v":""},{"$f":"IF(Jogo!M679=Conferência!$M$2,Conferência!$M$2,\"\")","v":""},{"$f":"IF(Jogo!N679=Conferência!$N$2,Conferência!$N$2,\"\")","v":""},{"$f":"IF(Jogo!O679=Conferência!$O$2,Conferência!$O$2,\"\")","v":""},{"$f":"IF(Jogo!P679=Conferência!$P$2,Conferência!$P$2,\"\")","v":""},{"$f":"IF(Jogo!Q679=Conferência!$Q$2,Conferência!$Q$2,\"\")","v":""},""]
[{"$f":"IF(Jogo!A680=Conferência!$A$2,Conferência!$A$2,\"\")","v":""},{"$f":"IF(Jogo!B680=Conferência!$B$2,Conferência!$B$2,\"\")","v":""},{"$f":"IF(Jogo!C680=Conferência!$C$2,Conferência!$C$2,\"\")","v":""},{"$f":"IF(Jogo!D680=Conferência!$D$2,Conferência!$D$2,\"\")","v":""},{"$f":"IF(Jogo!E680=Conferência!$E$2,Conferência!$E$2,\"\")","v":""},{"$f":"IF(Jogo!F680=Conferência!$F$2,Conferência!$F$2,\"\")","v":""},{"$f":"IF(Jogo!G680=Conferência!$G$2,Conferência!$G$2,\"\")","v":""},{"$f":"IF(Jogo!H680=Conferência!$H$2,Conferência!$H$2,\"\")","v":""},{"$f":"IF(Jogo!I680=Conferência!$I$2,Conferência!$I$2,\"\")","v":""},{"$f":"IF(Jogo!J680=Conferência!$J$2,Conferência!$J$2,\"\")","v":""},{"$f":"IF(Jogo!K680=Conferência!$K$2,Conferência!$K$2,\"\")","v":""},{"$f":"IF(Jogo!L680=Conferência!$L$2,Conferência!$L$2,\"\")","v":""},{"$f":"IF(Jogo!M680=Conferência!$M$2,Conferência!$M$2,\"\")","v":""},{"$f":"IF(Jogo!N680=Conferência!$N$2,Conferência!$N$2,\"\")","v":""},{"$f":"IF(Jogo!O680=Conferência!$O$2,Conferência!$O$2,\"\")","v":""},{"$f":"IF(Jogo!P680=Conferência!$P$2,Conferência!$P$2,\"\")","v":""},{"$f":"IF(Jogo!Q680=Conferência!$Q$2,Conferência!$Q$2,\"\")","v":""},""]
[{"$f":"IF(Jogo!A681=Conferência!$A$2,Conferência!$A$2,\"\")","v":""},{"$f":"IF(Jogo!B681=Conferência!$B$2,Conferência!$B$2,\"\")","v":""},{"$f":"IF(Jogo!C681=Conferência!$C$2,Conferência!$C$2,\"\")","v":""},{"$f":"IF(Jogo!D681=Conferência!$D$2,Conferência!$D$2,\"\")","v":""},{"$f":"IF(Jogo!E681=Conferência!$E$2,Conferência!$E$2,\"\")","v":""},{"$f":"IF(Jogo!F681=Conferência!$F$2,Conferência!$F$2,\"\")","v":""},{"$f":"IF(Jogo!G681=Conferência!$G$2,Conferência!$G$2,\"\")","v":""},{"$f":"IF(Jogo!H681=Conferência!$H$2,Conferência!$H$2,\"\")","v":""},{"$f":"IF(Jogo!I681=Conferência!$I$2,Conferência!$I$2,\"\")","v":""},{"$f":"IF(Jogo!J681=Conferência!$J$2,Conferência!$J$2,\"\")","v":""},{"$f":"IF(Jogo!K681=Conferência!$K$2,Conferência!$K$2,\"\")","v":""},{"$f":"IF(Jogo!L681=Conferência!$L$2,Conferência!$L$2,\"\")","v":""},{"$f":"IF(Jogo!M681=Conferência!$M$2,Conferência!$M$2,\"\")","v":""},{"$f":"IF(Jogo!N681=Conferência!$N$2,Conferência!$N$2,\"\")","v":""},{"$f":"IF(Jogo!O681=Conferência!$O$2,Conferência!$O$2,\"\")","v":""},{"$f":"IF(Jogo!P681=Conferência!$P$2,Conferência!$P$2,\"\")","v":""},{"$f":"IF(Jogo!Q681=Conferência!$Q$2,Conferência!$Q$2,\"\")","v":""},""]
[{"$f":"IF(Jogo!A682=Conferência!$A$2,Conferência!$A$2,\"\")","v":""},{"$f":"IF(Jogo!B682=Conferência!$B$2,Conferência!$B$2,\"\")","v":""},{"$f":"IF(Jogo!C682=Conferência!$C$2,Conferência!$C$2,\"\")","v":""},{"$f":"IF(Jogo!D682=Conferência!$D$2,Conferência!$D$2,\"\")","v":""},{"$f":"IF(Jogo!E682=Conferência!$E$2,Conferência!$E$2,\"\")","v":""},{"$f":"IF(Jogo!F682=Conferência!$F$2,Conferência!$F$2,\"\")","v":""},{"$f":"IF(Jogo!G682=Conferência!$G$2,Conferência!$G$2,\"\")","v":""},{"$f":"IF(Jogo!H682=Conferência!$H$2,Conferência!$H$2,\"\")","v":""},{"$f":"IF(Jogo!I682=Conferência!$I$2,Conferência!$I$2,\"\")","v":""},{"$f":"IF(Jogo!J682=Conferência!$J$2,Conferência!$J$2,\"\")","v":""},{"$f":"IF(Jogo!K682=Conferência!$K$2,Conferência!$K$2,\"\")","v":""},{"$f":"IF(Jogo!L682=Conferência!$L$2,Conferência!$L$2,\"\")","v":""},{"$f":"IF(Jogo!M682=Conferência!$M$2,Conferência!$M$2,\"\")","v":""},{"$f":"IF(Jogo!N682=Conferência!$N$2,Conferência!$N$2,\"\")","v":""},{"$f":"IF(Jogo!O682=Conferência!$O$2,Conferência!$O$2,\"\")","v":""},{"$f":"IF(Jogo!P682=Conferência!$P$2,Conferência!$P$2,\"\")","v":""},{"$f":"IF(Jogo!Q682=Conferência!$Q$2,Conferência!$Q$2,\"\")","v":""},""]
[{"$f":"IF(Jogo!A683=Conferência!$A$2,Conferência!$A$2,\"\")","v":""},{"$f":"IF(Jogo!B683=Conferência!$B$2,Conferência!$B$2,\"\")","v":""},{"$f":"IF(Jogo!C683=Conferência!$C$2,Conferência!$C$2,\"\")","v":""},{"$f":"IF(Jogo!D683=Conferência!$D$2,Conferência!$D$2,\"\")","v":""},{"$f":"IF(Jogo!E683=Conferência!$E$2,Conferência!$E$2,\"\")","v":""},{"$f":"IF(Jogo!F683=Conferência!$F$2,Conferência!$F$2,\"\")","v":""},{"$f":"IF(Jogo!G683=Conferência!$G$2,Conferência!$G$2,\"\")","v":""},{"$f":"IF(Jogo!H683=Conferência!$H$2,Conferência!$H$2,\"\")","v":""},{"$f":"IF(Jogo!I683=Conferência!$I$2,Conferência!$I$2,\"\")","v":""},{"$f":"IF(Jogo!J683=Conferência!$J$2,Conferência!$J$2,\"\")","v":""},{"$f":"IF(Jogo!K683=Conferência!$K$2,Conferência!$K$2,\"\")","v":""},{"$f":"IF(Jogo!L683=Conferência!$L$2,Conferência!$L$2,\"\")","v":""},{"$f":"IF(Jogo!M683=Conferência!$M$2,Conferência!$M$2,\"\")","v":""},{"$f":"IF(Jogo!N683=Conferência!$N$2,Conferência!$N$2,\"\")","v":""},{"$f":"IF(Jogo!O683=Conferência!$O$2,Conferência!$O$2,\"\")","v":""},{"$f":"IF(Jogo!P683=Conferência!$P$2,Conferência!$P$2,\"\")","v":""},{"$f":"IF(Jogo!Q683=Conferência!$Q$2,Conferência!$Q$2,\"\")","v":""},""]
[{"$f":"IF(Jogo!A684=Conferência!$A$2,Conferência!$A$2,\"\")","v":""},{"$f":"IF(Jogo!B684=Conferência!$B$2,Conferência!$B$2,\"\")","v":""},{"$f":"IF(Jogo!C684=Conferência!$C$2,Conferência!$C$2,\"\")","v":""},{"$f":"IF(Jogo!D684=Conferência!$D$2,Conferência!$D$2,\"\")","v":""},{"$f":"IF(Jogo!E684=Conferência!$E$2,Conferência!$E$2,\"\")","v":""},{"$f":"IF(Jogo!F684=Conferência!$F$2,Conferência!$F$2,\"\")","v":""},{"$f":"IF(Jogo!G684=Conferência!$G$2,Conferência!$G$2,\"\")","v":""},{"$f":"IF(Jogo!H684=Conferência!$H$2,Conferência!$H$2,\"\")","v":""},{"$f":"IF(Jogo!I684=Conferência!$I$2,Conferência!$I$2,\"\")","v":""},{"$f":"IF(Jogo!J684=Conferência!$J$2,Conferência!$J$2,\"\")","v":""},{"$f":"IF(Jogo!K684=Conferência!$K$2,Conferência!$K$2,\"\")","v":""},{"$f":"IF(Jogo!L684=Conferência!$L$2,Conferência!$L$2,\"\")","v":""},{"$f":"IF(Jogo!M684=Conferência!$M$2,Conferência!$M$2,\"\")","v":""},{"$f":"IF(Jogo!N684=Conferência!$N$2,Conferência!$N$2,\"\")","v":""},{"$f":"IF(Jogo!O684=Conferência!$O$2,Conferência!$O$2,\"\")","v":""},{"$f":"IF(Jogo!P684=Conferência!$P$2,Conferência!$P$2,\"\")","v":""},{"$f":"IF(Jogo!Q684=Conferência!$Q$2,Conferência!$Q$2,\"\")","v":""},""]
[{"$f":"IF(Jogo!A685=Conferência!$A$2,Conferência!$A$2,\"\")","v":""},{"$f":"IF(Jogo!B685=Conferência!$B$2,Conferência!$B$2,\"\")","v":""},{"$f":"IF(Jogo!C685=Conferência!$C$2,Conferência!$C$2,\"\")","v":""},{"$f":"IF(Jogo!D685=Conferência!$D$2,Conferência!$D$2,\"\")","v":""},{"$f":"IF(Jogo!E685=Conferência!$E$2,Conferência!$E$2,\"\")","v":""},{"$f":"IF(Jogo!F685=Conferência!$F$2,Conferência!$F$2,\"\")","v":""},{"$f":"IF(Jogo!G685=Conferência!$G$2,Conferência!$G$2,\"\")","v":""},{"$f":"IF(Jogo!H685=Conferência!$H$2,Conferência!$H$2,\"\")","v":""},{"$f":"IF(Jogo!I685=Conferência!$I$2,Conferência!$I$2,\"\")","v":""},{"$f":"IF(Jogo!J685=Conferência!$J$2,Conferência!$J$2,\"\")","v":""},{"$f":"IF(Jogo!K685=Conferência!$K$2,Conferência!$K$2,\"\")","v":""},{"$f":"IF(Jogo!L685=Conferência!$L$2,Conferência!$L$2,\"\")","v":""},{"$f":"IF(Jogo!M685=Conferência!$M$2,Conferência!$M$2,\"\")","v":""},{"$f":"IF(Jogo!N685=Conferência!$N$2,Conferência!$N$2,\"\")","v":""},{"$f":"IF(Jogo!O685=Conferência!$O$2,Conferência!$O$2,\"\")","v":""},{"$f":"IF(Jogo!P685=Conferência!$P$2,Conferência!$P$2,\"\")","v":""},{"$f":"IF(Jogo!Q685=Conferência!$Q$2,Conferência!$Q$2,\"\")","v":""},""]
[{"$f":"IF(Jogo!A686=Conferência!$A$2,Conferência!$A$2,\"\")","v":""},{"$f":"IF(Jogo!B686=Conferência!$B$2,Conferência!$B$2,\"\")","v":""},{"$f":"IF(Jogo!C686=Conferência!$C$2,Conferência!$C$2,\"\")","v":""},{"$f":"IF(Jogo!D686=Conferência!$D$2,Conferência!$D$2,\"\")","v":""},{"$f":"IF(Jogo!E686=Conferência!$E$2,Conferência!$E$2,\"\")","v":""},{"$f":"IF(Jogo!F686=Conferência!$F$2,Conferência!$F$2,\"\")","v":""},{"$f":"IF(Jogo!G686=Conferência!$G$2,Conferência!$G$2,\"\")","v":""},{"$f":"IF(Jogo!H686=Conferência!$H$2,Conferência!$H$2,\"\")","v":""},{"$f":"IF(Jogo!I686=Conferência!$I$2,Conferência!$I$2,\"\")","v":""},{"$f":"IF(Jogo!J686=Conferência!$J$2,Conferência!$J$2,\"\")","v":""},{"$f":"IF(Jogo!K686=Conferência!$K$2,Conferência!$K$2,\"\")","v":""},{"$f":"IF(Jogo!L686=Conferência!$L$2,Conferência!$L$2,\"\")","v":""},{"$f":"IF(Jogo!M686=Conferência!$M$2,Conferência!$M$2,\"\")","v":""},{"$f":"IF(Jogo!N686=Conferência!$N$2,Conferência!$N$2,\"\")","v":""},{"$f":"IF(Jogo!O686=Conferência!$O$2,Conferência!$O$2,\"\")","v":""},{"$f":"IF(Jogo!P686=Conferência!$P$2,Conferência!$P$2,\"\")","v":""},{"$f":"IF(Jogo!Q686=Conferência!$Q$2,Conferência!$Q$2,\"\")","v":""},""]
[{"$f":"IF(Jogo!A687=Conferência!$A$2,Conferência!$A$2,\"\")","v":""},{"$f":"IF(Jogo!B687=Conferência!$B$2,Conferência!$B$2,\"\")","v":""},{"$f":"IF(Jogo!C687=Conferência!$C$2,Conferência!$C$2,\"\")","v":""},{"$f":"IF(Jogo!D687=Conferência!$D$2,Conferência!$D$2,\"\")","v":""},{"$f":"IF(Jogo!E687=Conferência!$E$2,Conferência!$E$2,\"\")","v":""},{"$f":"IF(Jogo!F687=Conferência!$F$2,Conferência!$F$2,\"\")","v":""},{"$f":"IF(Jogo!G687=Conferência!$G$2,Conferência!$G$2,\"\")","v":""},{"$f":"IF(Jogo!H687=Conferência!$H$2,Conferência!$H$2,\"\")","v":""},{"$f":"IF(Jogo!I687=Conferência!$I$2,Conferência!$I$2,\"\")","v":""},{"$f":"IF(Jogo!J687=Conferência!$J$2,Conferência!$J$2,\"\")","v":""},{"$f":"IF(Jogo!K687=Conferência!$K$2,Conferência!$K$2,\"\")","v":""},{"$f":"IF(Jogo!L687=Conferência!$L$2,Conferência!$L$2,\"\")","v":""},{"$f":"IF(Jogo!M687=Conferência!$M$2,Conferência!$M$2,\"\")","v":""},{"$f":"IF(Jogo!N687=Conferência!$N$2,Conferência!$N$2,\"\")","v":""},{"$f":"IF(Jogo!O687=Conferência!$O$2,Conferência!$O$2,\"\")","v":""},{"$f":"IF(Jogo!P687=Conferência!$P$2,Conferência!$P$2,\"\")","v":""},{"$f":"IF(Jogo!Q687=Conferência!$Q$2,Conferência!$Q$2,\"\")","v":""},""]
[{"$f":"IF(Jogo!A688=Conferência!$A$2,Conferência!$A$2,\"\")","v":""},{"$f":"IF(Jogo!B688=Conferência!$B$2,Conferência!$B$2,\"\")","v":""},{"$f":"IF(Jogo!C688=Conferência!$C$2,Conferência!$C$2,\"\")","v":""},{"$f":"IF(Jogo!D688=Conferência!$D$2,Conferência!$D$2,\"\")","v":""},{"$f":"IF(Jogo!E688=Conferência!$E$2,Conferência!$E$2,\"\")","v":""},{"$f":"IF(Jogo!F688=Conferência!$F$2,Conferência!$F$2,\"\")","v":""},{"$f":"IF(Jogo!G688=Conferência!$G$2,Conferência!$G$2,\"\")","v":""},{"$f":"IF(Jogo!H688=Conferência!$H$2,Conferência!$H$2,\"\")","v":""},{"$f":"IF(Jogo!I688=Conferência!$I$2,Conferência!$I$2,\"\")","v":""},{"$f":"IF(Jogo!J688=Conferência!$J$2,Conferência!$J$2,\"\")","v":""},{"$f":"IF(Jogo!K688=Conferência!$K$2,Conferência!$K$2,\"\")","v":""},{"$f":"IF(Jogo!L688=Conferência!$L$2,Conferência!$L$2,\"\")","v":""},{"$f":"IF(Jogo!M688=Conferência!$M$2,Conferência!$M$2,\"\")","v":""},{"$f":"IF(Jogo!N688=Conferência!$N$2,Conferência!$N$2,\"\")","v":""},{"$f":"IF(Jogo!O688=Conferência!$O$2,Conferência!$O$2,\"\")","v":""},{"$f":"IF(Jogo!P688=Conferência!$P$2,Conferência!$P$2,\"\")","v":""},{"$f":"IF(Jogo!Q688=Conferência!$Q$2,Conferência!$Q$2,\"\")","v":""},""]
[{"$f":"IF(Jogo!A689=Conferência!$A$2,Conferência!$A$2,\"\")","v":""},{"$f":"IF(Jogo!B689=Conferência!$B$2,Conferência!$B$2,\"\")","v":""},{"$f":"IF(Jogo!C689=Conferência!$C$2,Conferência!$C$2,\"\")","v":""},{"$f":"IF(Jogo!D689=Conferência!$D$2,Conferência!$D$2,\"\")","v":""},{"$f":"IF(Jogo!E689=Conferência!$E$2,Conferência!$E$2,\"\")","v":""},{"$f":"IF(Jogo!F689=Conferência!$F$2,Conferência!$F$2,\"\")","v":""},{"$f":"IF(Jogo!G689=Conferência!$G$2,Conferência!$G$2,\"\")","v":""},{"$f":"IF(Jogo!H689=Conferência!$H$2,Conferência!$H$2,\"\")","v":""},{"$f":"IF(Jogo!I689=Conferência!$I$2,Conferência!$I$2,\"\")","v":""},{"$f":"IF(Jogo!J689=Conferência!$J$2,Conferência!$J$2,\"\")","v":""},{"$f":"IF(Jogo!K689=Conferência!$K$2,Conferência!$K$2,\"\")","v":""},{"$f":"IF(Jogo!L689=Conferência!$L$2,Conferência!$L$2,\"\")","v":""},{"$f":"IF(Jogo!M689=Conferência!$M$2,Conferência!$M$2,\"\")","v":""},{"$f":"IF(Jogo!N689=Conferência!$N$2,Conferência!$N$2,\"\")","v":""},{"$f":"IF(Jogo!O689=Conferência!$O$2,Conferência!$O$2,\"\")","v":""},{"$f":"IF(Jogo!P689=Conferência!$P$2,Conferência!$P$2,\"\")","v":""},{"$f":"IF(Jogo!Q689=Conferência!$Q$2,Conferência!$Q$2,\"\")","v":""},""]
[{"$f":"IF(Jogo!A690=Conferência!$A$2,Conferência!$A$2,\"\")","v":""},{"$f":"IF(Jogo!B690=Conferência!$B$2,Conferência!$B$2,\"\")","v":""},{"$f":"IF(Jogo!C690=Conferência!$C$2,Conferência!$C$2,\"\")","v":""},{"$f":"IF(Jogo!D690=Conferência!$D$2,Conferência!$D$2,\"\")","v":""},{"$f":"IF(Jogo!E690=Conferência!$E$2,Conferência!$E$2,\"\")","v":""},{"$f":"IF(Jogo!F690=Conferência!$F$2,Conferência!$F$2,\"\")","v":""},{"$f":"IF(Jogo!G690=Conferência!$G$2,Conferência!$G$2,\"\")","v":""},{"$f":"IF(Jogo!H690=Conferência!$H$2,Conferência!$H$2,\"\")","v":""},{"$f":"IF(Jogo!I690=Conferência!$I$2,Conferência!$I$2,\"\")","v":""},{"$f":"IF(Jogo!J690=Conferência!$J$2,Conferência!$J$2,\"\")","v":""},{"$f":"IF(Jogo!K690=Conferência!$K$2,Conferência!$K$2,\"\")","v":""},{"$f":"IF(Jogo!L690=Conferência!$L$2,Conferência!$L$2,\"\")","v":""},{"$f":"IF(Jogo!M690=Conferência!$M$2,Conferência!$M$2,\"\")","v":""},{"$f":"IF(Jogo!N690=Conferência!$N$2,Conferência!$N$2,\"\")","v":""},{"$f":"IF(Jogo!O690=Conferência!$O$2,Conferência!$O$2,\"\")","v":""},{"$f":"IF(Jogo!P690=Conferência!$P$2,Conferência!$P$2,\"\")","v":""},{"$f":"IF(Jogo!Q690=Conferência!$Q$2,Conferência!$Q$2,\"\")","v":""},""]
[{"$f":"IF(Jogo!A691=Conferência!$A$2,Conferência!$A$2,\"\")","v":""},{"$f":"IF(Jogo!B691=Conferência!$B$2,Conferência!$B$2,\"\")","v":""},{"$f":"IF(Jogo!C691=Conferência!$C$2,Conferência!$C$2,\"\")","v":""},{"$f":"IF(Jogo!D691=Conferência!$D$2,Conferência!$D$2,\"\")","v":""},{"$f":"IF(Jogo!E691=Conferência!$E$2,Conferência!$E$2,\"\")","v":""},{"$f":"IF(Jogo!F691=Conferência!$F$2,Conferência!$F$2,\"\")","v":""},{"$f":"IF(Jogo!G691=Conferência!$G$2,Conferência!$G$2,\"\")","v":""},{"$f":"IF(Jogo!H691=Conferência!$H$2,Conferência!$H$2,\"\")","v":""},{"$f":"IF(Jogo!I691=Conferência!$I$2,Conferência!$I$2,\"\")","v":""},{"$f":"IF(Jogo!J691=Conferência!$J$2,Conferência!$J$2,\"\")","v":""},{"$f":"IF(Jogo!K691=Conferência!$K$2,Conferência!$K$2,\"\")","v":""},{"$f":"IF(Jogo!L691=Conferência!$L$2,Conferência!$L$2,\"\")","v":""},{"$f":"IF(Jogo!M691=Conferência!$M$2,Conferência!$M$2,\"\")","v":""},{"$f":"IF(Jogo!N691=Conferência!$N$2,Conferência!$N$2,\"\")","v":""},{"$f":"IF(Jogo!O691=Conferência!$O$2,Conferência!$O$2,\"\")","v":""},{"$f":"IF(Jogo!P691=Conferência!$P$2,Conferência!$P$2,\"\")","v":""},{"$f":"IF(Jogo!Q691=Conferência!$Q$2,Conferência!$Q$2,\"\")","v":""},""]
[{"$f":"IF(Jogo!A692=Conferência!$A$2,Conferência!$A$2,\"\")","v":""},{"$f":"IF(Jogo!B692=Conferência!$B$2,Conferência!$B$2,\"\")","v":""},{"$f":"IF(Jogo!C692=Conferência!$C$2,Conferência!$C$2,\"\")","v":""},{"$f":"IF(Jogo!D692=Conferência!$D$2,Conferência!$D$2,\"\")","v":""},{"$f":"IF(Jogo!E692=Conferência!$E$2,Conferência!$E$2,\"\")","v":""},{"$f":"IF(Jogo!F692=Conferência!$F$2,Conferência!$F$2,\"\")","v":""},{"$f":"IF(Jogo!G692=Conferência!$G$2,Conferência!$G$2,\"\")","v":""},{"$f":"IF(Jogo!H692=Conferência!$H$2,Conferência!$H$2,\"\")","v":""},{"$f":"IF(Jogo!I692=Conferência!$I$2,Conferência!$I$2,\"\")","v":""},{"$f":"IF(Jogo!J692=Conferência!$J$2,Conferência!$J$2,\"\")","v":""},{"$f":"IF(Jogo!K692=Conferência!$K$2,Conferência!$K$2,\"\")","v":""},{"$f":"IF(Jogo!L692=Conferência!$L$2,Conferência!$L$2,\"\")","v":""},{"$f":"IF(Jogo!M692=Conferência!$M$2,Conferência!$M$2,\"\")","v":""},{"$f":"IF(Jogo!N692=Conferência!$N$2,Conferência!$N$2,\"\")","v":""},{"$f":"IF(Jogo!O692=Conferência!$O$2,Conferência!$O$2,\"\")","v":""},{"$f":"IF(Jogo!P692=Conferência!$P$2,Conferência!$P$2,\"\")","v":""},{"$f":"IF(Jogo!Q692=Conferência!$Q$2,Conferência!$Q$2,\"\")","v":""},""]
[{"$f":"IF(Jogo!A693=Conferência!$A$2,Conferência!$A$2,\"\")","v":""},{"$f":"IF(Jogo!B693=Conferência!$B$2,Conferência!$B$2,\"\")","v":""},{"$f":"IF(Jogo!C693=Conferência!$C$2,Conferência!$C$2,\"\")","v":""},{"$f":"IF(Jogo!D693=Conferência!$D$2,Conferência!$D$2,\"\")","v":""},{"$f":"IF(Jogo!E693=Conferência!$E$2,Conferência!$E$2,\"\")","v":""},{"$f":"IF(Jogo!F693=Conferência!$F$2,Conferência!$F$2,\"\")","v":""},{"$f":"IF(Jogo!G693=Conferência!$G$2,Conferência!$G$2,\"\")","v":""},{"$f":"IF(Jogo!H693=Conferência!$H$2,Conferência!$H$2,\"\")","v":""},{"$f":"IF(Jogo!I693=Conferência!$I$2,Conferência!$I$2,\"\")","v":""},{"$f":"IF(Jogo!J693=Conferência!$J$2,Conferência!$J$2,\"\")","v":""},{"$f":"IF(Jogo!K693=Conferência!$K$2,Conferência!$K$2,\"\")","v":""},{"$f":"IF(Jogo!L693=Conferência!$L$2,Conferência!$L$2,\"\")","v":""},{"$f":"IF(Jogo!M693=Conferência!$M$2,Conferência!$M$2,\"\")","v":""},{"$f":"IF(Jogo!N693=Conferência!$N$2,Conferência!$N$2,\"\")","v":""},{"$f":"IF(Jogo!O693=Conferência!$O$2,Conferência!$O$2,\"\")","v":""},{"$f":"IF(Jogo!P693=Conferência!$P$2,Conferência!$P$2,\"\")","v":""},{"$f":"IF(Jogo!Q693=Conferência!$Q$2,Conferência!$Q$2,\"\")","v":""},""]
[{"$f":"IF(Jogo!A694=Conferência!$A$2,Conferência!$A$2,\"\")","v":""},{"$f":"IF(Jogo!B694=Conferência!$B$2,Conferência!$B$2,\"\")","v":""},{"$f":"IF(Jogo!C694=Conferência!$C$2,Conferência!$C$2,\"\")","v":""},{"$f":"IF(Jogo!D694=Conferência!$D$2,Conferência!$D$2,\"\")","v":""},{"$f":"IF(Jogo!E694=Conferência!$E$2,Conferência!$E$2,\"\")","v":""},{"$f":"IF(Jogo!F694=Conferência!$F$2,Conferência!$F$2,\"\")","v":""},{"$f":"IF(Jogo!G694=Conferência!$G$2,Conferência!$G$2,\"\")","v":""},{"$f":"IF(Jogo!H694=Conferência!$H$2,Conferência!$H$2,\"\")","v":""},{"$f":"IF(Jogo!I694=Conferência!$I$2,Conferência!$I$2,\"\")","v":""},{"$f":"IF(Jogo!J694=Conferência!$J$2,Conferência!$J$2,\"\")","v":""},{"$f":"IF(Jogo!K694=Conferência!$K$2,Conferência!$K$2,\"\")","v":""},{"$f":"IF(Jogo!L694=Conferência!$L$2,Conferência!$L$2,\"\")","v":""},{"$f":"IF(Jogo!M694=Conferência!$M$2,Conferência!$M$2,\"\")","v":""},{"$f":"IF(Jogo!N694=Conferência!$N$2,Conferência!$N$2,\"\")","v":""},{"$f":"IF(Jogo!O694=Conferência!$O$2,Conferência!$O$2,\"\")","v":""},{"$f":"IF(Jogo!P694=Conferência!$P$2,Conferência!$P$2,\"\")","v":""},{"$f":"IF(Jogo!Q694=Conferência!$Q$2,Conferência!$Q$2,\"\")","v":""},""]
[{"$f":"IF(Jogo!A695=Conferência!$A$2,Conferência!$A$2,\"\")","v":""},{"$f":"IF(Jogo!B695=Conferência!$B$2,Conferência!$B$2,\"\")","v":""},{"$f":"IF(Jogo!C695=Conferência!$C$2,Conferência!$C$2,\"\")","v":""},{"$f":"IF(Jogo!D695=Conferência!$D$2,Conferência!$D$2,\"\")","v":""},{"$f":"IF(Jogo!E695=Conferência!$E$2,Conferência!$E$2,\"\")","v":""},{"$f":"IF(Jogo!F695=Conferência!$F$2,Conferência!$F$2,\"\")","v":""},{"$f":"IF(Jogo!G695=Conferência!$G$2,Conferência!$G$2,\"\")","v":""},{"$f":"IF(Jogo!H695=Conferência!$H$2,Conferência!$H$2,\"\")","v":""},{"$f":"IF(Jogo!I695=Conferência!$I$2,Conferência!$I$2,\"\")","v":""},{"$f":"IF(Jogo!J695=Conferência!$J$2,Conferência!$J$2,\"\")","v":""},{"$f":"IF(Jogo!K695=Conferência!$K$2,Conferência!$K$2,\"\")","v":""},{"$f":"IF(Jogo!L695=Conferência!$L$2,Conferência!$L$2,\"\")","v":""},{"$f":"IF(Jogo!M695=Conferência!$M$2,Conferência!$M$2,\"\")","v":""},{"$f":"IF(Jogo!N695=Conferência!$N$2,Conferência!$N$2,\"\")","v":""},{"$f":"IF(Jogo!O695=Conferência!$O$2,Conferência!$O$2,\"\")","v":""},{"$f":"IF(Jogo!P695=Conferência!$P$2,Conferência!$P$2,\"\")","v":""},{"$f":"IF(Jogo!Q695=Conferência!$Q$2,Conferência!$Q$2,\"\")","v":""},""]
[{"$f":"IF(Jogo!A696=Conferência!$A$2,Conferência!$A$2,\"\")","v":""},{"$f":"IF(Jogo!B696=Conferência!$B$2,Conferência!$B$2,\"\")","v":""},{"$f":"IF(Jogo!C696=Conferência!$C$2,Conferência!$C$2,\"\")","v":""},{"$f":"IF(Jogo!D696=Conferência!$D$2,Conferência!$D$2,\"\")","v":""},{"$f":"IF(Jogo!E696=Conferência!$E$2,Conferência!$E$2,\"\")","v":""},{"$f":"IF(Jogo!F696=Conferência!$F$2,Conferência!$F$2,\"\")","v":""},{"$f":"IF(Jogo!G696=Conferência!$G$2,Conferência!$G$2,\"\")","v":""},{"$f":"IF(Jogo!H696=Conferência!$H$2,Conferência!$H$2,\"\")","v":""},{"$f":"IF(Jogo!I696=Conferência!$I$2,Conferência!$I$2,\"\")","v":""},{"$f":"IF(Jogo!J696=Conferência!$J$2,Conferência!$J$2,\"\")","v":""},{"$f":"IF(Jogo!K696=Conferência!$K$2,Conferência!$K$2,\"\")","v":""},{"$f":"IF(Jogo!L696=Conferência!$L$2,Conferência!$L$2,\"\")","v":""},{"$f":"IF(Jogo!M696=Conferência!$M$2,Conferência!$M$2,\"\")","v":""},{"$f":"IF(Jogo!N696=Conferência!$N$2,Conferência!$N$2,\"\")","v":""},{"$f":"IF(Jogo!O696=Conferência!$O$2,Conferência!$O$2,\"\")","v":""},{"$f":"IF(Jogo!P696=Conferência!$P$2,Conferência!$P$2,\"\")","v":""},{"$f":"IF(Jogo!Q696=Conferência!$Q$2,Conferência!$Q$2,\"\")","v":""},""]
[{"$f":"IF(Jogo!A697=Conferência!$A$2,Conferência!$A$2,\"\")","v":""},{"$f":"IF(Jogo!B697=Conferência!$B$2,Conferência!$B$2,\"\")","v":""},{"$f":"IF(Jogo!C697=Conferência!$C$2,Conferência!$C$2,\"\")","v":""},{"$f":"IF(Jogo!D697=Conferência!$D$2,Conferência!$D$2,\"\")","v":""},{"$f":"IF(Jogo!E697=Conferência!$E$2,Conferência!$E$2,\"\")","v":""},{"$f":"IF(Jogo!F697=Conferência!$F$2,Conferência!$F$2,\"\")","v":""},{"$f":"IF(Jogo!G697=Conferência!$G$2,Conferência!$G$2,\"\")","v":""},{"$f":"IF(Jogo!H697=Conferência!$H$2,Conferência!$H$2,\"\")","v":""},{"$f":"IF(Jogo!I697=Conferência!$I$2,Conferência!$I$2,\"\")","v":""},{"$f":"IF(Jogo!J697=Conferência!$J$2,Conferência!$J$2,\"\")","v":""},{"$f":"IF(Jogo!K697=Conferência!$K$2,Conferência!$K$2,\"\")","v":""},{"$f":"IF(Jogo!L697=Conferência!$L$2,Conferência!$L$2,\"\")","v":""},{"$f":"IF(Jogo!M697=Conferência!$M$2,Conferência!$M$2,\"\")","v":""},{"$f":"IF(Jogo!N697=Conferência!$N$2,Conferência!$N$2,\"\")","v":""},{"$f":"IF(Jogo!O697=Conferência!$O$2,Conferência!$O$2,\"\")","v":""},{"$f":"IF(Jogo!P697=Conferência!$P$2,Conferência!$P$2,\"\")","v":""},{"$f":"IF(Jogo!Q697=Conferência!$Q$2,Conferência!$Q$2,\"\")","v":""},""]
[{"$f":"IF(Jogo!A698=Conferência!$A$2,Conferência!$A$2,\"\")","v":""},{"$f":"IF(Jogo!B698=Conferência!$B$2,Conferência!$B$2,\"\")","v":""},{"$f":"IF(Jogo!C698=Conferência!$C$2,Conferência!$C$2,\"\")","v":""},{"$f":"IF(Jogo!D698=Conferência!$D$2,Conferência!$D$2,\"\")","v":""},{"$f":"IF(Jogo!E698=Conferência!$E$2,Conferência!$E$2,\"\")","v":""},{"$f":"IF(Jogo!F698=Conferência!$F$2,Conferência!$F$2,\"\")","v":""},{"$f":"IF(Jogo!G698=Conferência!$G$2,Conferência!$G$2,\"\")","v":""},{"$f":"IF(Jogo!H698=Conferência!$H$2,Conferência!$H$2,\"\")","v":""},{"$f":"IF(Jogo!I698=Conferência!$I$2,Conferência!$I$2,\"\")","v":""},{"$f":"IF(Jogo!J698=Conferência!$J$2,Conferência!$J$2,\"\")","v":""},{"$f":"IF(Jogo!K698=Conferência!$K$2,Conferência!$K$2,\"\")","v":""},{"$f":"IF(Jogo!L698=Conferência!$L$2,Conferência!$L$2,\"\")","v":""},{"$f":"IF(Jogo!M698=Conferência!$M$2,Conferência!$M$2,\"\")","v":""},{"$f":"IF(Jogo!N698=Conferência!$N$2,Conferência!$N$2,\"\")","v":""},{"$f":"IF(Jogo!O698=Conferência!$O$2,Conferência!$O$2,\"\")","v":""},{"$f":"IF(Jogo!P698=Conferência!$P$2,Conferência!$P$2,\"\")","v":""},{"$f":"IF(Jogo!Q698=Conferência!$Q$2,Conferência!$Q$2,\"\")","v":""},""]
[{"$f":"IF(Jogo!A699=Conferência!$A$2,Conferência!$A$2,\"\")","v":""},{"$f":"IF(Jogo!B699=Conferência!$B$2,Conferência!$B$2,\"\")","v":""},{"$f":"IF(Jogo!C699=Conferência!$C$2,Conferência!$C$2,\"\")","v":""},{"$f":"IF(Jogo!D699=Conferência!$D$2,Conferência!$D$2,\"\")","v":""},{"$f":"IF(Jogo!E699=Conferência!$E$2,Conferência!$E$2,\"\")","v":""},{"$f":"IF(Jogo!F699=Conferência!$F$2,Conferência!$F$2,\"\")","v":""},{"$f":"IF(Jogo!G699=Conferência!$G$2,Conferência!$G$2,\"\")","v":""},{"$f":"IF(Jogo!H699=Conferência!$H$2,Conferência!$H$2,\"\")","v":""},{"$f":"IF(Jogo!I699=Conferência!$I$2,Conferência!$I$2,\"\")","v":""},{"$f":"IF(Jogo!J699=Conferência!$J$2,Conferência!$J$2,\"\")","v":""},{"$f":"IF(Jogo!K699=Conferência!$K$2,Conferência!$K$2,\"\")","v":""},{"$f":"IF(Jogo!L699=Conferência!$L$2,Conferência!$L$2,\"\")","v":""},{"$f":"IF(Jogo!M699=Conferência!$M$2,Conferência!$M$2,\"\")","v":""},{"$f":"IF(Jogo!N699=Conferência!$N$2,Conferência!$N$2,\"\")","v":""},{"$f":"IF(Jogo!O699=Conferência!$O$2,Conferência!$O$2,\"\")","v":""},{"$f":"IF(Jogo!P699=Conferência!$P$2,Conferência!$P$2,\"\")","v":""},{"$f":"IF(Jogo!Q699=Conferência!$Q$2,Conferência!$Q$2,\"\")","v":""},""]
[{"$f":"IF(Jogo!A700=Conferência!$A$2,Conferência!$A$2,\"\")","v":""},{"$f":"IF(Jogo!B700=Conferência!$B$2,Conferência!$B$2,\"\")","v":""},{"$f":"IF(Jogo!C700=Conferência!$C$2,Conferência!$C$2,\"\")","v":""},{"$f":"IF(Jogo!D700=Conferência!$D$2,Conferência!$D$2,\"\")","v":""},{"$f":"IF(Jogo!E700=Conferência!$E$2,Conferência!$E$2,\"\")","v":""},{"$f":"IF(Jogo!F700=Conferência!$F$2,Conferência!$F$2,\"\")","v":""},{"$f":"IF(Jogo!G700=Conferência!$G$2,Conferência!$G$2,\"\")","v":""},{"$f":"IF(Jogo!H700=Conferência!$H$2,Conferência!$H$2,\"\")","v":""},{"$f":"IF(Jogo!I700=Conferência!$I$2,Conferência!$I$2,\"\")","v":""},{"$f":"IF(Jogo!J700=Conferência!$J$2,Conferência!$J$2,\"\")","v":""},{"$f":"IF(Jogo!K700=Conferência!$K$2,Conferência!$K$2,\"\")","v":""},{"$f":"IF(Jogo!L700=Conferência!$L$2,Conferência!$L$2,\"\")","v":""},{"$f":"IF(Jogo!M700=Conferência!$M$2,Conferência!$M$2,\"\")","v":""},{"$f":"IF(Jogo!N700=Conferência!$N$2,Conferência!$N$2,\"\")","v":""},{"$f":"IF(Jogo!O700=Conferência!$O$2,Conferência!$O$2,\"\")","v":""},{"$f":"IF(Jogo!P700=Conferência!$P$2,Conferência!$P$2,\"\")","v":""},{"$f":"IF(Jogo!Q700=Conferência!$Q$2,Conferência!$Q$2,\"\")","v":""},""]
[{"$f":"IF(Jogo!A701=Conferência!$A$2,Conferência!$A$2,\"\")","v":""},{"$f":"IF(Jogo!B701=Conferência!$B$2,Conferência!$B$2,\"\")","v":""},{"$f":"IF(Jogo!C701=Conferência!$C$2,Conferência!$C$2,\"\")","v":""},{"$f":"IF(Jogo!D701=Conferência!$D$2,Conferência!$D$2,\"\")","v":""},{"$f":"IF(Jogo!E701=Conferência!$E$2,Conferência!$E$2,\"\")","v":""},{"$f":"IF(Jogo!F701=Conferência!$F$2,Conferência!$F$2,\"\")","v":""},{"$f":"IF(Jogo!G701=Conferência!$G$2,Conferência!$G$2,\"\")","v":""},{"$f":"IF(Jogo!H701=Conferência!$H$2,Conferência!$H$2,\"\")","v":""},{"$f":"IF(Jogo!I701=Conferência!$I$2,Conferência!$I$2,\"\")","v":""},{"$f":"IF(Jogo!J701=Conferência!$J$2,Conferência!$J$2,\"\")","v":""},{"$f":"IF(Jogo!K701=Conferência!$K$2,Conferência!$K$2,\"\")","v":""},{"$f":"IF(Jogo!L701=Conferência!$L$2,Conferência!$L$2,\"\")","v":""},{"$f":"IF(Jogo!M701=Conferência!$M$2,Conferência!$M$2,\"\")","v":""},{"$f":"IF(Jogo!N701=Conferência!$N$2,Conferência!$N$2,\"\")","v":""},{"$f":"IF(Jogo!O701=Conferência!$O$2,Conferência!$O$2,\"\")","v":""},{"$f":"IF(Jogo!P701=Conferência!$P$2,Conferência!$P$2,\"\")","v":""},{"$f":"IF(Jogo!Q701=Conferência!$Q$2,Conferência!$Q$2,\"\")","v":""},""]
[{"$f":"IF(Jogo!A702=Conferência!$A$2,Conferência!$A$2,\"\")","v":""},{"$f":"IF(Jogo!B702=Conferência!$B$2,Conferência!$B$2,\"\")","v":""},{"$f":"IF(Jogo!C702=Conferência!$C$2,Conferência!$C$2,\"\")","v":""},{"$f":"IF(Jogo!D702=Conferência!$D$2,Conferência!$D$2,\"\")","v":""},{"$f":"IF(Jogo!E702=Conferência!$E$2,Conferência!$E$2,\"\")","v":""},{"$f":"IF(Jogo!F702=Conferência!$F$2,Conferência!$F$2,\"\")","v":""},{"$f":"IF(Jogo!G702=Conferência!$G$2,Conferência!$G$2,\"\")","v":""},{"$f":"IF(Jogo!H702=Conferência!$H$2,Conferência!$H$2,\"\")","v":""},{"$f":"IF(Jogo!I702=Conferência!$I$2,Conferência!$I$2,\"\")","v":""},{"$f":"IF(Jogo!J702=Conferência!$J$2,Conferência!$J$2,\"\")","v":""},{"$f":"IF(Jogo!K702=Conferência!$K$2,Conferência!$K$2,\"\")","v":""},{"$f":"IF(Jogo!L702=Conferência!$L$2,Conferência!$L$2,\"\")","v":""},{"$f":"IF(Jogo!M702=Conferência!$M$2,Conferência!$M$2,\"\")","v":""},{"$f":"IF(Jogo!N702=Conferência!$N$2,Conferência!$N$2,\"\")","v":""},{"$f":"IF(Jogo!O702=Conferência!$O$2,Conferência!$O$2,\"\")","v":""},{"$f":"IF(Jogo!P702=Conferência!$P$2,Conferência!$P$2,\"\")","v":""},{"$f":"IF(Jogo!Q702=Conferência!$Q$2,Conferência!$Q$2,\"\")","v":""},""]
[{"$f":"IF(Jogo!A703=Conferência!$A$2,Conferência!$A$2,\"\")","v":""},{"$f":"IF(Jogo!B703=Conferência!$B$2,Conferência!$B$2,\"\")","v":""},{"$f":"IF(Jogo!C703=Conferência!$C$2,Conferência!$C$2,\"\")","v":""},{"$f":"IF(Jogo!D703=Conferência!$D$2,Conferência!$D$2,\"\")","v":""},{"$f":"IF(Jogo!E703=Conferência!$E$2,Conferência!$E$2,\"\")","v":""},{"$f":"IF(Jogo!F703=Conferência!$F$2,Conferência!$F$2,\"\")","v":""},{"$f":"IF(Jogo!G703=Conferência!$G$2,Conferência!$G$2,\"\")","v":""},{"$f":"IF(Jogo!H703=Conferência!$H$2,Conferência!$H$2,\"\")","v":""},{"$f":"IF(Jogo!I703=Conferência!$I$2,Conferência!$I$2,\"\")","v":""},{"$f":"IF(Jogo!J703=Conferência!$J$2,Conferência!$J$2,\"\")","v":""},{"$f":"IF(Jogo!K703=Conferência!$K$2,Conferência!$K$2,\"\")","v":""},{"$f":"IF(Jogo!L703=Conferência!$L$2,Conferência!$L$2,\"\")","v":""},{"$f":"IF(Jogo!M703=Conferência!$M$2,Conferência!$M$2,\"\")","v":""},{"$f":"IF(Jogo!N703=Conferência!$N$2,Conferência!$N$2,\"\")","v":""},{"$f":"IF(Jogo!O703=Conferência!$O$2,Conferência!$O$2,\"\")","v":""},{"$f":"IF(Jogo!P703=Conferência!$P$2,Conferência!$P$2,\"\")","v":""},{"$f":"IF(Jogo!Q703=Conferência!$Q$2,Conferência!$Q$2,\"\")","v":""},""]
[{"$f":"IF(Jogo!A704=Conferência!$A$2,Conferência!$A$2,\"\")","v":""},{"$f":"IF(Jogo!B704=Conferência!$B$2,Conferência!$B$2,\"\")","v":""},{"$f":"IF(Jogo!C704=Conferência!$C$2,Conferência!$C$2,\"\")","v":""},{"$f":"IF(Jogo!D704=Conferência!$D$2,Conferência!$D$2,\"\")","v":""},{"$f":"IF(Jogo!E704=Conferência!$E$2,Conferência!$E$2,\"\")","v":""},{"$f":"IF(Jogo!F704=Conferência!$F$2,Conferência!$F$2,\"\")","v":""},{"$f":"IF(Jogo!G704=Conferência!$G$2,Conferência!$G$2,\"\")","v":""},{"$f":"IF(Jogo!H704=Conferência!$H$2,Conferência!$H$2,\"\")","v":""},{"$f":"IF(Jogo!I704=Conferência!$I$2,Conferência!$I$2,\"\")","v":""},{"$f":"IF(Jogo!J704=Conferência!$J$2,Conferência!$J$2,\"\")","v":""},{"$f":"IF(Jogo!K704=Conferência!$K$2,Conferência!$K$2,\"\")","v":""},{"$f":"IF(Jogo!L704=Conferência!$L$2,Conferência!$L$2,\"\")","v":""},{"$f":"IF(Jogo!M704=Conferência!$M$2,Conferência!$M$2,\"\")","v":""},{"$f":"IF(Jogo!N704=Conferência!$N$2,Conferência!$N$2,\"\")","v":""},{"$f":"IF(Jogo!O704=Conferência!$O$2,Conferência!$O$2,\"\")","v":""},{"$f":"IF(Jogo!P704=Conferência!$P$2,Conferência!$P$2,\"\")","v":""},{"$f":"IF(Jogo!Q704=Conferência!$Q$2,Conferência!$Q$2,\"\")","v":""},""]
[{"$f":"IF(Jogo!A705=Conferência!$A$2,Conferência!$A$2,\"\")","v":""},{"$f":"IF(Jogo!B705=Conferência!$B$2,Conferência!$B$2,\"\")","v":""},{"$f":"IF(Jogo!C705=Conferência!$C$2,Conferência!$C$2,\"\")","v":""},{"$f":"IF(Jogo!D705=Conferência!$D$2,Conferência!$D$2,\"\")","v":""},{"$f":"IF(Jogo!E705=Conferência!$E$2,Conferência!$E$2,\"\")","v":""},{"$f":"IF(Jogo!F705=Conferência!$F$2,Conferência!$F$2,\"\")","v":""},{"$f":"IF(Jogo!G705=Conferência!$G$2,Conferência!$G$2,\"\")","v":""},{"$f":"IF(Jogo!H705=Conferência!$H$2,Conferência!$H$2,\"\")","v":""},{"$f":"IF(Jogo!I705=Conferência!$I$2,Conferência!$I$2,\"\")","v":""},{"$f":"IF(Jogo!J705=Conferência!$J$2,Conferência!$J$2,\"\")","v":""},{"$f":"IF(Jogo!K705=Conferência!$K$2,Conferência!$K$2,\"\")","v":""},{"$f":"IF(Jogo!L705=Conferência!$L$2,Conferência!$L$2,\"\")","v":""},{"$f":"IF(Jogo!M705=Conferência!$M$2,Conferência!$M$2,\"\")","v":""},{"$f":"IF(Jogo!N705=Conferência!$N$2,Conferência!$N$2,\"\")","v":""},{"$f":"IF(Jogo!O705=Conferência!$O$2,Conferência!$O$2,\"\")","v":""},{"$f":"IF(Jogo!P705=Conferência!$P$2,Conferência!$P$2,\"\")","v":""},{"$f":"IF(Jogo!Q705=Conferência!$Q$2,Conferência!$Q$2,\"\")","v":""},""]
[{"$f":"IF(Jogo!A706=Conferência!$A$2,Conferência!$A$2,\"\")","v":""},{"$f":"IF(Jogo!B706=Conferência!$B$2,Conferência!$B$2,\"\")","v":""},{"$f":"IF(Jogo!C706=Conferência!$C$2,Conferência!$C$2,\"\")","v":""},{"$f":"IF(Jogo!D706=Conferência!$D$2,Conferência!$D$2,\"\")","v":""},{"$f":"IF(Jogo!E706=Conferência!$E$2,Conferência!$E$2,\"\")","v":""},{"$f":"IF(Jogo!F706=Conferência!$F$2,Conferência!$F$2,\"\")","v":""},{"$f":"IF(Jogo!G706=Conferência!$G$2,Conferência!$G$2,\"\")","v":""},{"$f":"IF(Jogo!H706=Conferência!$H$2,Conferência!$H$2,\"\")","v":""},{"$f":"IF(Jogo!I706=Conferência!$I$2,Conferência!$I$2,\"\")","v":""},{"$f":"IF(Jogo!J706=Conferência!$J$2,Conferência!$J$2,\"\")","v":""},{"$f":"IF(Jogo!K706=Conferência!$K$2,Conferência!$K$2,\"\")","v":""},{"$f":"IF(Jogo!L706=Conferência!$L$2,Conferência!$L$2,\"\")","v":""},{"$f":"IF(Jogo!M706=Conferência!$M$2,Conferência!$M$2,\"\")","v":""},{"$f":"IF(Jogo!N706=Conferência!$N$2,Conferência!$N$2,\"\")","v":""},{"$f":"IF(Jogo!O706=Conferência!$O$2,Conferência!$O$2,\"\")","v":""},{"$f":"IF(Jogo!P706=Conferência!$P$2,Conferência!$P$2,\"\")","v":""},{"$f":"IF(Jogo!Q706=Conferência!$Q$2,Conferência!$Q$2,\"\")","v":""},""]
[{"$f":"IF(Jogo!A707=Conferência!$A$2,Conferência!$A$2,\"\")","v":""},{"$f":"IF(Jogo!B707=Conferência!$B$2,Conferência!$B$2,\"\")","v":""},{"$f":"IF(Jogo!C707=Conferência!$C$2,Conferência!$C$2,\"\")","v":""},{"$f":"IF(Jogo!D707=Conferência!$D$2,Conferência!$D$2,\"\")","v":""},{"$f":"IF(Jogo!E707=Conferência!$E$2,Conferência!$E$2,\"\")","v":""},{"$f":"IF(Jogo!F707=Conferência!$F$2,Conferência!$F$2,\"\")","v":""},{"$f":"IF(Jogo!G707=Conferência!$G$2,Conferência!$G$2,\"\")","v":""},{"$f":"IF(Jogo!H707=Conferência!$H$2,Conferência!$H$2,\"\")","v":""},{"$f":"IF(Jogo!I707=Conferência!$I$2,Conferência!$I$2,\"\")","v":""},{"$f":"IF(Jogo!J707=Conferência!$J$2,Conferência!$J$2,\"\")","v":""},{"$f":"IF(Jogo!K707=Conferência!$K$2,Conferência!$K$2,\"\")","v":""},{"$f":"IF(Jogo!L707=Conferência!$L$2,Conferência!$L$2,\"\")","v":""},{"$f":"IF(Jogo!M707=Conferência!$M$2,Conferência!$M$2,\"\")","v":""},{"$f":"IF(Jogo!N707=Conferência!$N$2,Conferência!$N$2,\"\")","v":""},{"$f":"IF(Jogo!O707=Conferência!$O$2,Conferência!$O$2,\"\")","v":""},{"$f":"IF(Jogo!P707=Conferência!$P$2,Conferência!$P$2,\"\")","v":""},{"$f":"IF(Jogo!Q707=Conferência!$Q$2,Conferência!$Q$2,\"\")","v":""},""]
[{"$f":"IF(Jogo!A708=Conferência!$A$2,Conferência!$A$2,\"\")","v":""},{"$f":"IF(Jogo!B708=Conferência!$B$2,Conferência!$B$2,\"\")","v":""},{"$f":"IF(Jogo!C708=Conferência!$C$2,Conferência!$C$2,\"\")","v":""},{"$f":"IF(Jogo!D708=Conferência!$D$2,Conferência!$D$2,\"\")","v":""},{"$f":"IF(Jogo!E708=Conferência!$E$2,Conferência!$E$2,\"\")","v":""},{"$f":"IF(Jogo!F708=Conferência!$F$2,Conferência!$F$2,\"\")","v":""},{"$f":"IF(Jogo!G708=Conferência!$G$2,Conferência!$G$2,\"\")","v":""},{"$f":"IF(Jogo!H708=Conferência!$H$2,Conferência!$H$2,\"\")","v":""},{"$f":"IF(Jogo!I708=Conferência!$I$2,Conferência!$I$2,\"\")","v":""},{"$f":"IF(Jogo!J708=Conferência!$J$2,Conferência!$J$2,\"\")","v":""},{"$f":"IF(Jogo!K708=Conferência!$K$2,Conferência!$K$2,\"\")","v":""},{"$f":"IF(Jogo!L708=Conferência!$L$2,Conferência!$L$2,\"\")","v":""},{"$f":"IF(Jogo!M708=Conferência!$M$2,Conferência!$M$2,\"\")","v":""},{"$f":"IF(Jogo!N708=Conferência!$N$2,Conferência!$N$2,\"\")","v":""},{"$f":"IF(Jogo!O708=Conferência!$O$2,Conferência!$O$2,\"\")","v":""},{"$f":"IF(Jogo!P708=Conferência!$P$2,Conferência!$P$2,\"\")","v":""},{"$f":"IF(Jogo!Q708=Conferência!$Q$2,Conferência!$Q$2,\"\")","v":""},""]
[{"$f":"IF(Jogo!A709=Conferência!$A$2,Conferência!$A$2,\"\")","v":""},{"$f":"IF(Jogo!B709=Conferência!$B$2,Conferência!$B$2,\"\")","v":""},{"$f":"IF(Jogo!C709=Conferência!$C$2,Conferência!$C$2,\"\")","v":""},{"$f":"IF(Jogo!D709=Conferência!$D$2,Conferência!$D$2,\"\")","v":""},{"$f":"IF(Jogo!E709=Conferência!$E$2,Conferência!$E$2,\"\")","v":""},{"$f":"IF(Jogo!F709=Conferência!$F$2,Conferência!$F$2,\"\")","v":""},{"$f":"IF(Jogo!G709=Conferência!$G$2,Conferência!$G$2,\"\")","v":""},{"$f":"IF(Jogo!H709=Conferência!$H$2,Conferência!$H$2,\"\")","v":""},{"$f":"IF(Jogo!I709=Conferência!$I$2,Conferência!$I$2,\"\")","v":""},{"$f":"IF(Jogo!J709=Conferência!$J$2,Conferência!$J$2,\"\")","v":""},{"$f":"IF(Jogo!K709=Conferência!$K$2,Conferência!$K$2,\"\")","v":""},{"$f":"IF(Jogo!L709=Conferência!$L$2,Conferência!$L$2,\"\")","v":""},{"$f":"IF(Jogo!M709=Conferência!$M$2,Conferência!$M$2,\"\")","v":""},{"$f":"IF(Jogo!N709=Conferência!$N$2,Conferência!$N$2,\"\")","v":""},{"$f":"IF(Jogo!O709=Conferência!$O$2,Conferência!$O$2,\"\")","v":""},{"$f":"IF(Jogo!P709=Conferência!$P$2,Conferência!$P$2,\"\")","v":""},{"$f":"IF(Jogo!Q709=Conferência!$Q$2,Conferência!$Q$2,\"\")","v":""},""]
[{"$f":"IF(Jogo!A710=Conferência!$A$2,Conferência!$A$2,\"\")","v":""},{"$f":"IF(Jogo!B710=Conferência!$B$2,Conferência!$B$2,\"\")","v":""},{"$f":"IF(Jogo!C710=Conferência!$C$2,Conferência!$C$2,\"\")","v":""},{"$f":"IF(Jogo!D710=Conferência!$D$2,Conferência!$D$2,\"\")","v":""},{"$f":"IF(Jogo!E710=Conferência!$E$2,Conferência!$E$2,\"\")","v":""},{"$f":"IF(Jogo!F710=Conferência!$F$2,Conferência!$F$2,\"\")","v":""},{"$f":"IF(Jogo!G710=Conferência!$G$2,Conferência!$G$2,\"\")","v":""},{"$f":"IF(Jogo!H710=Conferência!$H$2,Conferência!$H$2,\"\")","v":""},{"$f":"IF(Jogo!I710=Conferência!$I$2,Conferência!$I$2,\"\")","v":""},{"$f":"IF(Jogo!J710=Conferência!$J$2,Conferência!$J$2,\"\")","v":""},{"$f":"IF(Jogo!K710=Conferência!$K$2,Conferência!$K$2,\"\")","v":""},{"$f":"IF(Jogo!L710=Conferência!$L$2,Conferência!$L$2,\"\")","v":""},{"$f":"IF(Jogo!M710=Conferência!$M$2,Conferência!$M$2,\"\")","v":""},{"$f":"IF(Jogo!N710=Conferência!$N$2,Conferência!$N$2,\"\")","v":""},{"$f":"IF(Jogo!O710=Conferência!$O$2,Conferência!$O$2,\"\")","v":""},{"$f":"IF(Jogo!P710=Conferência!$P$2,Conferência!$P$2,\"\")","v":""},{"$f":"IF(Jogo!Q710=Conferência!$Q$2,Conferência!$Q$2,\"\")","v":""},""]
[{"$f":"IF(Jogo!A711=Conferência!$A$2,Conferência!$A$2,\"\")","v":""},{"$f":"IF(Jogo!B711=Conferência!$B$2,Conferência!$B$2,\"\")","v":""},{"$f":"IF(Jogo!C711=Conferência!$C$2,Conferência!$C$2,\"\")","v":""},{"$f":"IF(Jogo!D711=Conferência!$D$2,Conferência!$D$2,\"\")","v":""},{"$f":"IF(Jogo!E711=Conferência!$E$2,Conferência!$E$2,\"\")","v":""},{"$f":"IF(Jogo!F711=Conferência!$F$2,Conferência!$F$2,\"\")","v":""},{"$f":"IF(Jogo!G711=Conferência!$G$2,Conferência!$G$2,\"\")","v":""},{"$f":"IF(Jogo!H711=Conferência!$H$2,Conferência!$H$2,\"\")","v":""},{"$f":"IF(Jogo!I711=Conferência!$I$2,Conferência!$I$2,\"\")","v":""},{"$f":"IF(Jogo!J711=Conferência!$J$2,Conferência!$J$2,\"\")","v":""},{"$f":"IF(Jogo!K711=Conferência!$K$2,Conferência!$K$2,\"\")","v":""},{"$f":"IF(Jogo!L711=Conferência!$L$2,Conferência!$L$2,\"\")","v":""},{"$f":"IF(Jogo!M711=Conferência!$M$2,Conferência!$M$2,\"\")","v":""},{"$f":"IF(Jogo!N711=Conferência!$N$2,Conferência!$N$2,\"\")","v":""},{"$f":"IF(Jogo!O711=Conferência!$O$2,Conferência!$O$2,\"\")","v":""},{"$f":"IF(Jogo!P711=Conferência!$P$2,Conferência!$P$2,\"\")","v":""},{"$f":"IF(Jogo!Q711=Conferência!$Q$2,Conferência!$Q$2,\"\")","v":""},""]
[{"$f":"IF(Jogo!A712=Conferência!$A$2,Conferência!$A$2,\"\")","v":""},{"$f":"IF(Jogo!B712=Conferência!$B$2,Conferência!$B$2,\"\")","v":""},{"$f":"IF(Jogo!C712=Conferência!$C$2,Conferência!$C$2,\"\")","v":""},{"$f":"IF(Jogo!D712=Conferência!$D$2,Conferência!$D$2,\"\")","v":""},{"$f":"IF(Jogo!E712=Conferência!$E$2,Conferência!$E$2,\"\")","v":""},{"$f":"IF(Jogo!F712=Conferência!$F$2,Conferência!$F$2,\"\")","v":""},{"$f":"IF(Jogo!G712=Conferência!$G$2,Conferência!$G$2,\"\")","v":""},{"$f":"IF(Jogo!H712=Conferência!$H$2,Conferência!$H$2,\"\")","v":""},{"$f":"IF(Jogo!I712=Conferência!$I$2,Conferência!$I$2,\"\")","v":""},{"$f":"IF(Jogo!J712=Conferência!$J$2,Conferência!$J$2,\"\")","v":""},{"$f":"IF(Jogo!K712=Conferência!$K$2,Conferência!$K$2,\"\")","v":""},{"$f":"IF(Jogo!L712=Conferência!$L$2,Conferência!$L$2,\"\")","v":""},{"$f":"IF(Jogo!M712=Conferência!$M$2,Conferência!$M$2,\"\")","v":""},{"$f":"IF(Jogo!N712=Conferência!$N$2,Conferência!$N$2,\"\")","v":""},{"$f":"IF(Jogo!O712=Conferência!$O$2,Conferência!$O$2,\"\")","v":""},{"$f":"IF(Jogo!P712=Conferência!$P$2,Conferência!$P$2,\"\")","v":""},{"$f":"IF(Jogo!Q712=Conferência!$Q$2,Conferência!$Q$2,\"\")","v":""},""]
[{"$f":"IF(Jogo!A713=Conferência!$A$2,Conferência!$A$2,\"\")","v":""},{"$f":"IF(Jogo!B713=Conferência!$B$2,Conferência!$B$2,\"\")","v":""},{"$f":"IF(Jogo!C713=Conferência!$C$2,Conferência!$C$2,\"\")","v":""},{"$f":"IF(Jogo!D713=Conferência!$D$2,Conferência!$D$2,\"\")","v":""},{"$f":"IF(Jogo!E713=Conferência!$E$2,Conferência!$E$2,\"\")","v":""},{"$f":"IF(Jogo!F713=Conferência!$F$2,Conferência!$F$2,\"\")","v":""},{"$f":"IF(Jogo!G713=Conferência!$G$2,Conferência!$G$2,\"\")","v":""},{"$f":"IF(Jogo!H713=Conferência!$H$2,Conferência!$H$2,\"\")","v":""},{"$f":"IF(Jogo!I713=Conferência!$I$2,Conferência!$I$2,\"\")","v":""},{"$f":"IF(Jogo!J713=Conferência!$J$2,Conferência!$J$2,\"\")","v":""},{"$f":"IF(Jogo!K713=Conferência!$K$2,Conferência!$K$2,\"\")","v":""},{"$f":"IF(Jogo!L713=Conferência!$L$2,Conferência!$L$2,\"\")","v":""},{"$f":"IF(Jogo!M713=Conferência!$M$2,Conferência!$M$2,\"\")","v":""},{"$f":"IF(Jogo!N713=Conferência!$N$2,Conferência!$N$2,\"\")","v":""},{"$f":"IF(Jogo!O713=Conferência!$O$2,Conferência!$O$2,\"\")","v":""},{"$f":"IF(Jogo!P713=Conferência!$P$2,Conferência!$P$2,\"\")","v":""},{"$f":"IF(Jogo!Q713=Conferência!$Q$2,Conferência!$Q$2,\"\")","v":""},""]
[{"$f":"IF(Jogo!A714=Conferência!$A$2,Conferência!$A$2,\"\")","v":""},{"$f":"IF(Jogo!B714=Conferência!$B$2,Conferência!$B$2,\"\")","v":""},{"$f":"IF(Jogo!C714=Conferência!$C$2,Conferência!$C$2,\"\")","v":""},{"$f":"IF(Jogo!D714=Conferência!$D$2,Conferência!$D$2,\"\")","v":""},{"$f":"IF(Jogo!E714=Conferência!$E$2,Conferência!$E$2,\"\")","v":""},{"$f":"IF(Jogo!F714=Conferência!$F$2,Conferência!$F$2,\"\")","v":""},{"$f":"IF(Jogo!G714=Conferência!$G$2,Conferência!$G$2,\"\")","v":""},{"$f":"IF(Jogo!H714=Conferência!$H$2,Conferência!$H$2,\"\")","v":""},{"$f":"IF(Jogo!I714=Conferência!$I$2,Conferência!$I$2,\"\")","v":""},{"$f":"IF(Jogo!J714=Conferência!$J$2,Conferência!$J$2,\"\")","v":""},{"$f":"IF(Jogo!K714=Conferência!$K$2,Conferência!$K$2,\"\")","v":""},{"$f":"IF(Jogo!L714=Conferência!$L$2,Conferência!$L$2,\"\")","v":""},{"$f":"IF(Jogo!M714=Conferência!$M$2,Conferência!$M$2,\"\")","v":""},{"$f":"IF(Jogo!N714=Conferência!$N$2,Conferência!$N$2,\"\")","v":""},{"$f":"IF(Jogo!O714=Conferência!$O$2,Conferência!$O$2,\"\")","v":""},{"$f":"IF(Jogo!P714=Conferência!$P$2,Conferência!$P$2,\"\")","v":""},{"$f":"IF(Jogo!Q714=Conferência!$Q$2,Conferência!$Q$2,\"\")","v":""},""]
[{"$f":"IF(Jogo!A715=Conferência!$A$2,Conferência!$A$2,\"\")","v":""},{"$f":"IF(Jogo!B715=Conferência!$B$2,Conferência!$B$2,\"\")","v":""},{"$f":"IF(Jogo!C715=Conferência!$C$2,Conferência!$C$2,\"\")","v":""},{"$f":"IF(Jogo!D715=Conferência!$D$2,Conferência!$D$2,\"\")","v":""},{"$f":"IF(Jogo!E715=Conferência!$E$2,Conferência!$E$2,\"\")","v":""},{"$f":"IF(Jogo!F715=Conferência!$F$2,Conferência!$F$2,\"\")","v":""},{"$f":"IF(Jogo!G715=Conferência!$G$2,Conferência!$G$2,\"\")","v":""},{"$f":"IF(Jogo!H715=Conferência!$H$2,Conferência!$H$2,\"\")","v":""},{"$f":"IF(Jogo!I715=Conferência!$I$2,Conferência!$I$2,\"\")","v":""},{"$f":"IF(Jogo!J715=Conferência!$J$2,Conferência!$J$2,\"\")","v":""},{"$f":"IF(Jogo!K715=Conferência!$K$2,Conferência!$K$2,\"\")","v":""},{"$f":"IF(Jogo!L715=Conferência!$L$2,Conferência!$L$2,\"\")","v":""},{"$f":"IF(Jogo!M715=Conferência!$M$2,Conferência!$M$2,\"\")","v":""},{"$f":"IF(Jogo!N715=Conferência!$N$2,Conferência!$N$2,\"\")","v":""},{"$f":"IF(Jogo!O715=Conferência!$O$2,Conferência!$O$2,\"\")","v":""},{"$f":"IF(Jogo!P715=Conferência!$P$2,Conferência!$P$2,\"\")","v":""},{"$f":"IF(Jogo!Q715=Conferência!$Q$2,Conferência!$Q$2,\"\")","v":""},""]
[{"$f":"IF(Jogo!A716=Conferência!$A$2,Conferência!$A$2,\"\")","v":""},{"$f":"IF(Jogo!B716=Conferência!$B$2,Conferência!$B$2,\"\")","v":""},{"$f":"IF(Jogo!C716=Conferência!$C$2,Conferência!$C$2,\"\")","v":""},{"$f":"IF(Jogo!D716=Conferência!$D$2,Conferência!$D$2,\"\")","v":""},{"$f":"IF(Jogo!E716=Conferência!$E$2,Conferência!$E$2,\"\")","v":""},{"$f":"IF(Jogo!F716=Conferência!$F$2,Conferência!$F$2,\"\")","v":""},{"$f":"IF(Jogo!G716=Conferência!$G$2,Conferência!$G$2,\"\")","v":""},{"$f":"IF(Jogo!H716=Conferência!$H$2,Conferência!$H$2,\"\")","v":""},{"$f":"IF(Jogo!I716=Conferência!$I$2,Conferência!$I$2,\"\")","v":""},{"$f":"IF(Jogo!J716=Conferência!$J$2,Conferência!$J$2,\"\")","v":""},{"$f":"IF(Jogo!K716=Conferência!$K$2,Conferência!$K$2,\"\")","v":""},{"$f":"IF(Jogo!L716=Conferência!$L$2,Conferência!$L$2,\"\")","v":""},{"$f":"IF(Jogo!M716=Conferência!$M$2,Conferência!$M$2,\"\")","v":""},{"$f":"IF(Jogo!N716=Conferência!$N$2,Conferência!$N$2,\"\")","v":""},{"$f":"IF(Jogo!O716=Conferência!$O$2,Conferência!$O$2,\"\")","v":""},{"$f":"IF(Jogo!P716=Conferência!$P$2,Conferência!$P$2,\"\")","v":""},{"$f":"IF(Jogo!Q716=Conferência!$Q$2,Conferência!$Q$2,\"\")","v":""},""]
[{"$f":"IF(Jogo!A717=Conferência!$A$2,Conferência!$A$2,\"\")","v":""},{"$f":"IF(Jogo!B717=Conferência!$B$2,Conferência!$B$2,\"\")","v":""},{"$f":"IF(Jogo!C717=Conferência!$C$2,Conferência!$C$2,\"\")","v":""},{"$f":"IF(Jogo!D717=Conferência!$D$2,Conferência!$D$2,\"\")","v":""},{"$f":"IF(Jogo!E717=Conferência!$E$2,Conferência!$E$2,\"\")","v":""},{"$f":"IF(Jogo!F717=Conferência!$F$2,Conferência!$F$2,\"\")","v":""},{"$f":"IF(Jogo!G717=Conferência!$G$2,Conferência!$G$2,\"\")","v":""},{"$f":"IF(Jogo!H717=Conferência!$H$2,Conferência!$H$2,\"\")","v":""},{"$f":"IF(Jogo!I717=Conferência!$I$2,Conferência!$I$2,\"\")","v":""},{"$f":"IF(Jogo!J717=Conferência!$J$2,Conferência!$J$2,\"\")","v":""},{"$f":"IF(Jogo!K717=Conferência!$K$2,Conferência!$K$2,\"\")","v":""},{"$f":"IF(Jogo!L717=Conferência!$L$2,Conferência!$L$2,\"\")","v":""},{"$f":"IF(Jogo!M717=Conferência!$M$2,Conferência!$M$2,\"\")","v":""},{"$f":"IF(Jogo!N717=Conferência!$N$2,Conferência!$N$2,\"\")","v":""},{"$f":"IF(Jogo!O717=Conferência!$O$2,Conferência!$O$2,\"\")","v":""},{"$f":"IF(Jogo!P717=Conferência!$P$2,Conferência!$P$2,\"\")","v":""},{"$f":"IF(Jogo!Q717=Conferência!$Q$2,Conferência!$Q$2,\"\")","v":""},""]
[{"$f":"IF(Jogo!A718=Conferência!$A$2,Conferência!$A$2,\"\")","v":""},{"$f":"IF(Jogo!B718=Conferência!$B$2,Conferência!$B$2,\"\")","v":""},{"$f":"IF(Jogo!C718=Conferência!$C$2,Conferência!$C$2,\"\")","v":""},{"$f":"IF(Jogo!D718=Conferência!$D$2,Conferência!$D$2,\"\")","v":""},{"$f":"IF(Jogo!E718=Conferência!$E$2,Conferência!$E$2,\"\")","v":""},{"$f":"IF(Jogo!F718=Conferência!$F$2,Conferência!$F$2,\"\")","v":""},{"$f":"IF(Jogo!G718=Conferência!$G$2,Conferência!$G$2,\"\")","v":""},{"$f":"IF(Jogo!H718=Conferência!$H$2,Conferência!$H$2,\"\")","v":""},{"$f":"IF(Jogo!I718=Conferência!$I$2,Conferência!$I$2,\"\")","v":""},{"$f":"IF(Jogo!J718=Conferência!$J$2,Conferência!$J$2,\"\")","v":""},{"$f":"IF(Jogo!K718=Conferência!$K$2,Conferência!$K$2,\"\")","v":""},{"$f":"IF(Jogo!L718=Conferência!$L$2,Conferência!$L$2,\"\")","v":""},{"$f":"IF(Jogo!M718=Conferência!$M$2,Conferência!$M$2,\"\")","v":""},{"$f":"IF(Jogo!N718=Conferência!$N$2,Conferência!$N$2,\"\")","v":""},{"$f":"IF(Jogo!O718=Conferência!$O$2,Conferência!$O$2,\"\")","v":""},{"$f":"IF(Jogo!P718=Conferência!$P$2,Conferência!$P$2,\"\")","v":""},{"$f":"IF(Jogo!Q718=Conferência!$Q$2,Conferência!$Q$2,\"\")","v":""},""]
[{"$f":"IF(Jogo!A719=Conferência!$A$2,Conferência!$A$2,\"\")","v":""},{"$f":"IF(Jogo!B719=Conferência!$B$2,Conferência!$B$2,\"\")","v":""},{"$f":"IF(Jogo!C719=Conferência!$C$2,Conferência!$C$2,\"\")","v":""},{"$f":"IF(Jogo!D719=Conferência!$D$2,Conferência!$D$2,\"\")","v":""},{"$f":"IF(Jogo!E719=Conferência!$E$2,Conferência!$E$2,\"\")","v":""},{"$f":"IF(Jogo!F719=Conferência!$F$2,Conferência!$F$2,\"\")","v":""},{"$f":"IF(Jogo!G719=Conferência!$G$2,Conferência!$G$2,\"\")","v":""},{"$f":"IF(Jogo!H719=Conferência!$H$2,Conferência!$H$2,\"\")","v":""},{"$f":"IF(Jogo!I719=Conferência!$I$2,Conferência!$I$2,\"\")","v":""},{"$f":"IF(Jogo!J719=Conferência!$J$2,Conferência!$J$2,\"\")","v":""},{"$f":"IF(Jogo!K719=Conferência!$K$2,Conferência!$K$2,\"\")","v":""},{"$f":"IF(Jogo!L719=Conferência!$L$2,Conferência!$L$2,\"\")","v":""},{"$f":"IF(Jogo!M719=Conferência!$M$2,Conferência!$M$2,\"\")","v":""},{"$f":"IF(Jogo!N719=Conferência!$N$2,Conferência!$N$2,\"\")","v":""},{"$f":"IF(Jogo!O719=Conferência!$O$2,Conferência!$O$2,\"\")","v":""},{"$f":"IF(Jogo!P719=Conferência!$P$2,Conferência!$P$2,\"\")","v":""},{"$f":"IF(Jogo!Q719=Conferência!$Q$2,Conferência!$Q$2,\"\")","v":""},""]
[{"$f":"IF(Jogo!A720=Conferência!$A$2,Conferência!$A$2,\"\")","v":""},{"$f":"IF(Jogo!B720=Conferência!$B$2,Conferência!$B$2,\"\")","v":""},{"$f":"IF(Jogo!C720=Conferência!$C$2,Conferência!$C$2,\"\")","v":""},{"$f":"IF(Jogo!D720=Conferência!$D$2,Conferência!$D$2,\"\")","v":""},{"$f":"IF(Jogo!E720=Conferência!$E$2,Conferência!$E$2,\"\")","v":""},{"$f":"IF(Jogo!F720=Conferência!$F$2,Conferência!$F$2,\"\")","v":""},{"$f":"IF(Jogo!G720=Conferência!$G$2,Conferência!$G$2,\"\")","v":""},{"$f":"IF(Jogo!H720=Conferência!$H$2,Conferência!$H$2,\"\")","v":""},{"$f":"IF(Jogo!I720=Conferência!$I$2,Conferência!$I$2,\"\")","v":""},{"$f":"IF(Jogo!J720=Conferência!$J$2,Conferência!$J$2,\"\")","v":""},{"$f":"IF(Jogo!K720=Conferência!$K$2,Conferência!$K$2,\"\")","v":""},{"$f":"IF(Jogo!L720=Conferência!$L$2,Conferência!$L$2,\"\")","v":""},{"$f":"IF(Jogo!M720=Conferência!$M$2,Conferência!$M$2,\"\")","v":""},{"$f":"IF(Jogo!N720=Conferência!$N$2,Conferência!$N$2,\"\")","v":""},{"$f":"IF(Jogo!O720=Conferência!$O$2,Conferência!$O$2,\"\")","v":""},{"$f":"IF(Jogo!P720=Conferência!$P$2,Conferência!$P$2,\"\")","v":""},{"$f":"IF(Jogo!Q720=Conferência!$Q$2,Conferência!$Q$2,\"\")","v":""},""]
[{"$f":"IF(Jogo!A721=Conferência!$A$2,Conferência!$A$2,\"\")","v":""},{"$f":"IF(Jogo!B721=Conferência!$B$2,Conferência!$B$2,\"\")","v":""},{"$f":"IF(Jogo!C721=Conferência!$C$2,Conferência!$C$2,\"\")","v":""},{"$f":"IF(Jogo!D721=Conferência!$D$2,Conferência!$D$2,\"\")","v":""},{"$f":"IF(Jogo!E721=Conferência!$E$2,Conferência!$E$2,\"\")","v":""},{"$f":"IF(Jogo!F721=Conferência!$F$2,Conferência!$F$2,\"\")","v":""},{"$f":"IF(Jogo!G721=Conferência!$G$2,Conferência!$G$2,\"\")","v":""},{"$f":"IF(Jogo!H721=Conferência!$H$2,Conferência!$H$2,\"\")","v":""},{"$f":"IF(Jogo!I721=Conferência!$I$2,Conferência!$I$2,\"\")","v":""},{"$f":"IF(Jogo!J721=Conferência!$J$2,Conferência!$J$2,\"\")","v":""},{"$f":"IF(Jogo!K721=Conferência!$K$2,Conferência!$K$2,\"\")","v":""},{"$f":"IF(Jogo!L721=Conferência!$L$2,Conferência!$L$2,\"\")","v":""},{"$f":"IF(Jogo!M721=Conferência!$M$2,Conferência!$M$2,\"\")","v":""},{"$f":"IF(Jogo!N721=Conferência!$N$2,Conferência!$N$2,\"\")","v":""},{"$f":"IF(Jogo!O721=Conferência!$O$2,Conferência!$O$2,\"\")","v":""},{"$f":"IF(Jogo!P721=Conferência!$P$2,Conferência!$P$2,\"\")","v":""},{"$f":"IF(Jogo!Q721=Conferência!$Q$2,Conferência!$Q$2,\"\")","v":""},""]
[{"$f":"IF(Jogo!A722=Conferência!$A$2,Conferência!$A$2,\"\")","v":""},{"$f":"IF(Jogo!B722=Conferência!$B$2,Conferência!$B$2,\"\")","v":""},{"$f":"IF(Jogo!C722=Conferência!$C$2,Conferência!$C$2,\"\")","v":""},{"$f":"IF(Jogo!D722=Conferência!$D$2,Conferência!$D$2,\"\")","v":""},{"$f":"IF(Jogo!E722=Conferência!$E$2,Conferência!$E$2,\"\")","v":""},{"$f":"IF(Jogo!F722=Conferência!$F$2,Conferência!$F$2,\"\")","v":""},{"$f":"IF(Jogo!G722=Conferência!$G$2,Conferência!$G$2,\"\")","v":""},{"$f":"IF(Jogo!H722=Conferência!$H$2,Conferência!$H$2,\"\")","v":""},{"$f":"IF(Jogo!I722=Conferência!$I$2,Conferência!$I$2,\"\")","v":""},{"$f":"IF(Jogo!J722=Conferência!$J$2,Conferência!$J$2,\"\")","v":""},{"$f":"IF(Jogo!K722=Conferência!$K$2,Conferência!$K$2,\"\")","v":""},{"$f":"IF(Jogo!L722=Conferência!$L$2,Conferência!$L$2,\"\")","v":""},{"$f":"IF(Jogo!M722=Conferência!$M$2,Conferência!$M$2,\"\")","v":""},{"$f":"IF(Jogo!N722=Conferência!$N$2,Conferência!$N$2,\"\")","v":""},{"$f":"IF(Jogo!O722=Conferência!$O$2,Conferência!$O$2,\"\")","v":""},{"$f":"IF(Jogo!P722=Conferência!$P$2,Conferência!$P$2,\"\")","v":""},{"$f":"IF(Jogo!Q722=Conferência!$Q$2,Conferência!$Q$2,\"\")","v":""},{"$f":"IF(A722=\"\",\"\",\"OK\")","v":""}]
[{"$f":"IF(Jogo!A723=Conferência!$A$2,Conferência!$A$2,\"\")","v":""},{"$f":"IF(Jogo!B723=Conferência!$B$2,Conferência!$B$2,\"\")","v":""},{"$f":"IF(Jogo!C723=Conferência!$C$2,Conferência!$C$2,\"\")","v":""},{"$f":"IF(Jogo!D723=Conferência!$D$2,Conferência!$D$2,\"\")","v":""},{"$f":"IF(Jogo!E723=Conferência!$E$2,Conferência!$E$2,\"\")","v":""},{"$f":"IF(Jogo!F723=Conferência!$F$2,Conferência!$F$2,\"\")","v":""},{"$f":"IF(Jogo!G723=Conferência!$G$2,Conferência!$G$2,\"\")","v":""},{"$f":"IF(Jogo!H723=Conferência!$H$2,Conferência!$H$2,\"\")","v":""},{"$f":"IF(Jogo!I723=Conferência!$I$2,Conferência!$I$2,\"\")","v":""},{"$f":"IF(Jogo!J723=Conferência!$J$2,Conferência!$J$2,\"\")","v":""},{"$f":"IF(Jogo!K723=Conferência!$K$2,Conferência!$K$2,\"\")","v":""},{"$f":"IF(Jogo!L723=Conferência!$L$2,Conferência!$L$2,\"\")","v":""},{"$f":"IF(Jogo!M723=Conferência!$M$2,Conferência!$M$2,\"\")","v":""},{"$f":"IF(Jogo!N723=Conferência!$N$2,Conferência!$N$2,\"\")","v":""},{"$f":"IF(Jogo!O723=Conferência!$O$2,Conferência!$O$2,\"\")","v":""},{"$f":"IF(Jogo!P723=Conferência!$P$2,Conferência!$P$2,\"\")","v":""},{"$f":"IF(Jogo!Q723=Conferência!$Q$2,Conferência!$Q$2,\"\")","v":""},""]
[{"$f":"IF(Jogo!A724=Conferência!$A$2,Conferência!$A$2,\"\")","v":""},{"$f":"IF(Jogo!B724=Conferência!$B$2,Conferência!$B$2,\"\")","v":""},{"$f":"IF(Jogo!C724=Conferência!$C$2,Conferência!$C$2,\"\")","v":""},{"$f":"IF(Jogo!D724=Conferência!$D$2,Conferência!$D$2,\"\")","v":""},{"$f":"IF(Jogo!E724=Conferência!$E$2,Conferência!$E$2,\"\")","v":""},{"$f":"IF(Jogo!F724=Conferência!$F$2,Conferência!$F$2,\"\")","v":""},{"$f":"IF(Jogo!G724=Conferência!$G$2,Conferência!$G$2,\"\")","v":""},{"$f":"IF(Jogo!H724=Conferência!$H$2,Conferência!$H$2,\"\")","v":""},{"$f":"IF(Jogo!I724=Conferência!$I$2,Conferência!$I$2,\"\")","v":""},{"$f":"IF(Jogo!J724=Conferência!$J$2,Conferência!$J$2,\"\")","v":""},{"$f":"IF(Jogo!K724=Conferência!$K$2,Conferência!$K$2,\"\")","v":""},{"$f":"IF(Jogo!L724=Conferência!$L$2,Conferência!$L$2,\"\")","v":""},{"$f":"IF(Jogo!M724=Conferência!$M$2,Conferência!$M$2,\"\")","v":""},{"$f":"IF(Jogo!N724=Conferência!$N$2,Conferência!$N$2,\"\")","v":""},{"$f":"IF(Jogo!O724=Conferência!$O$2,Conferência!$O$2,\"\")","v":""},{"$f":"IF(Jogo!P724=Conferência!$P$2,Conferência!$P$2,\"\")","v":""},{"$f":"IF(Jogo!Q724=Conferência!$Q$2,Conferência!$Q$2,\"\")","v":""},""]
[{"$f":"IF(Jogo!A725=Conferência!$A$2,Conferência!$A$2,\"\")","v":""},{"$f":"IF(Jogo!B725=Conferência!$B$2,Conferência!$B$2,\"\")","v":""},{"$f":"IF(Jogo!C725=Conferência!$C$2,Conferência!$C$2,\"\")","v":""},{"$f":"IF(Jogo!D725=Conferência!$D$2,Conferência!$D$2,\"\")","v":""},{"$f":"IF(Jogo!E725=Conferência!$E$2,Conferência!$E$2,\"\")","v":""},{"$f":"IF(Jogo!F725=Conferência!$F$2,Conferência!$F$2,\"\")","v":""},{"$f":"IF(Jogo!G725=Conferência!$G$2,Conferência!$G$2,\"\")","v":""},{"$f":"IF(Jogo!H725=Conferência!$H$2,Conferência!$H$2,\"\")","v":""},{"$f":"IF(Jogo!I725=Conferência!$I$2,Conferência!$I$2,\"\")","v":""},{"$f":"IF(Jogo!J725=Conferência!$J$2,Conferência!$J$2,\"\")","v":""},{"$f":"IF(Jogo!K725=Conferência!$K$2,Conferência!$K$2,\"\")","v":""},{"$f":"IF(Jogo!L725=Conferência!$L$2,Conferência!$L$2,\"\")","v":""},{"$f":"IF(Jogo!M725=Conferência!$M$2,Conferência!$M$2,\"\")","v":""},{"$f":"IF(Jogo!N725=Conferência!$N$2,Conferência!$N$2,\"\")","v":""},{"$f":"IF(Jogo!O725=Conferência!$O$2,Conferência!$O$2,\"\")","v":""},{"$f":"IF(Jogo!P725=Conferência!$P$2,Conferência!$P$2,\"\")","v":""},{"$f":"IF(Jogo!Q725=Conferência!$Q$2,Conferência!$Q$2,\"\")","v":""},""]
[{"$f":"IF(Jogo!A726=Conferência!$A$2,Conferência!$A$2,\"\")","v":""},{"$f":"IF(Jogo!B726=Conferência!$B$2,Conferência!$B$2,\"\")","v":""},{"$f":"IF(Jogo!C726=Conferência!$C$2,Conferência!$C$2,\"\")","v":""},{"$f":"IF(Jogo!D726=Conferência!$D$2,Conferência!$D$2,\"\")","v":""},{"$f":"IF(Jogo!E726=Conferência!$E$2,Conferência!$E$2,\"\")","v":""},{"$f":"IF(Jogo!F726=Conferência!$F$2,Conferência!$F$2,\"\")","v":""},{"$f":"IF(Jogo!G726=Conferência!$G$2,Conferência!$G$2,\"\")","v":""},{"$f":"IF(Jogo!H726=Conferência!$H$2,Conferência!$H$2,\"\")","v":""},{"$f":"IF(Jogo!I726=Conferência!$I$2,Conferência!$I$2,\"\")","v":""},{"$f":"IF(Jogo!J726=Conferência!$J$2,Conferência!$J$2,\"\")","v":""},{"$f":"IF(Jogo!K726=Conferência!$K$2,Conferência!$K$2,\"\")","v":""},{"$f":"IF(Jogo!L726=Conferência!$L$2,Conferência!$L$2,\"\")","v":""},{"$f":"IF(Jogo!M726=Conferência!$M$2,Conferência!$M$2,\"\")","v":""},{"$f":"IF(Jogo!N726=Conferência!$N$2,Conferência!$N$2,\"\")","v":""},{"$f":"IF(Jogo!O726=Conferência!$O$2,Conferência!$O$2,\"\")","v":""},{"$f":"IF(Jogo!P726=Conferência!$P$2,Conferência!$P$2,\"\")","v":""},{"$f":"IF(Jogo!Q726=Conferência!$Q$2,Conferência!$Q$2,\"\")","v":""},""]
[{"$f":"IF(Jogo!A727=Conferência!$A$2,Conferência!$A$2,\"\")","v":""},{"$f":"IF(Jogo!B727=Conferência!$B$2,Conferência!$B$2,\"\")","v":""},{"$f":"IF(Jogo!C727=Conferência!$C$2,Conferência!$C$2,\"\")","v":""},{"$f":"IF(Jogo!D727=Conferência!$D$2,Conferência!$D$2,\"\")","v":""},{"$f":"IF(Jogo!E727=Conferência!$E$2,Conferência!$E$2,\"\")","v":""},{"$f":"IF(Jogo!F727=Conferência!$F$2,Conferência!$F$2,\"\")","v":""},{"$f":"IF(Jogo!G727=Conferência!$G$2,Conferência!$G$2,\"\")","v":""},{"$f":"IF(Jogo!H727=Conferência!$H$2,Conferência!$H$2,\"\")","v":""},{"$f":"IF(Jogo!I727=Conferência!$I$2,Conferência!$I$2,\"\")","v":""},{"$f":"IF(Jogo!J727=Conferência!$J$2,Conferência!$J$2,\"\")","v":""},{"$f":"IF(Jogo!K727=Conferência!$K$2,Conferência!$K$2,\"\")","v":""},{"$f":"IF(Jogo!L727=Conferência!$L$2,Conferência!$L$2,\"\")","v":""},{"$f":"IF(Jogo!M727=Conferência!$M$2,Conferência!$M$2,\"\")","v":""},{"$f":"IF(Jogo!N727=Conferência!$N$2,Conferência!$N$2,\"\")","v":""},{"$f":"IF(Jogo!O727=Conferência!$O$2,Conferência!$O$2,\"\")","v":""},{"$f":"IF(Jogo!P727=Conferência!$P$2,Conferência!$P$2,\"\")","v":""},{"$f":"IF(Jogo!Q727=Conferência!$Q$2,Conferência!$Q$2,\"\")","v":""},""]
[{"$f":"IF(Jogo!A728=Conferência!$A$2,Conferência!$A$2,\"\")","v":""},{"$f":"IF(Jogo!B728=Conferência!$B$2,Conferência!$B$2,\"\")","v":""},{"$f":"IF(Jogo!C728=Conferência!$C$2,Conferência!$C$2,\"\")","v":""},{"$f":"IF(Jogo!D728=Conferência!$D$2,Conferência!$D$2,\"\")","v":""},{"$f":"IF(Jogo!E728=Conferência!$E$2,Conferência!$E$2,\"\")","v":""},{"$f":"IF(Jogo!F728=Conferência!$F$2,Conferência!$F$2,\"\")","v":""},{"$f":"IF(Jogo!G728=Conferência!$G$2,Conferência!$G$2,\"\")","v":""},{"$f":"IF(Jogo!H728=Conferência!$H$2,Conferência!$H$2,\"\")","v":""},{"$f":"IF(Jogo!I728=Conferência!$I$2,Conferência!$I$2,\"\")","v":""},{"$f":"IF(Jogo!J728=Conferência!$J$2,Conferência!$J$2,\"\")","v":""},{"$f":"IF(Jogo!K728=Conferência!$K$2,Conferência!$K$2,\"\")","v":""},{"$f":"IF(Jogo!L728=Conferência!$L$2,Conferência!$L$2,\"\")","v":""},{"$f":"IF(Jogo!M728=Conferência!$M$2,Conferência!$M$2,\"\")","v":""},{"$f":"IF(Jogo!N728=Conferência!$N$2,Conferência!$N$2,\"\")","v":""},{"$f":"IF(Jogo!O728=Conferência!$O$2,Conferência!$O$2,\"\")","v":""},{"$f":"IF(Jogo!P728=Conferência!$P$2,Conferência!$P$2,\"\")","v":""},{"$f":"IF(Jogo!Q728=Conferência!$Q$2,Conferência!$Q$2,\"\")","v":""},""]
[{"$f":"IF(Jogo!A729=Conferência!$A$2,Conferência!$A$2,\"\")","v":""},{"$f":"IF(Jogo!B729=Conferência!$B$2,Conferência!$B$2,\"\")","v":""},{"$f":"IF(Jogo!C729=Conferência!$C$2,Conferência!$C$2,\"\")","v":""},{"$f":"IF(Jogo!D729=Conferência!$D$2,Conferência!$D$2,\"\")","v":""},{"$f":"IF(Jogo!E729=Conferência!$E$2,Conferência!$E$2,\"\")","v":""},{"$f":"IF(Jogo!F729=Conferência!$F$2,Conferência!$F$2,\"\")","v":""},{"$f":"IF(Jogo!G729=Conferência!$G$2,Conferência!$G$2,\"\")","v":""},{"$f":"IF(Jogo!H729=Conferência!$H$2,Conferência!$H$2,\"\")","v":""},{"$f":"IF(Jogo!I729=Conferência!$I$2,Conferência!$I$2,\"\")","v":""},{"$f":"IF(Jogo!J729=Conferência!$J$2,Conferência!$J$2,\"\")","v":""},{"$f":"IF(Jogo!K729=Conferência!$K$2,Conferência!$K$2,\"\")","v":""},{"$f":"IF(Jogo!L729=Conferência!$L$2,Conferência!$L$2,\"\")","v":""},{"$f":"IF(Jogo!M729=Conferência!$M$2,Conferência!$M$2,\"\")","v":""},{"$f":"IF(Jogo!N729=Conferência!$N$2,Conferência!$N$2,\"\")","v":""},{"$f":"IF(Jogo!O729=Conferência!$O$2,Conferência!$O$2,\"\")","v":""},{"$f":"IF(Jogo!P729=Conferência!$P$2,Conferência!$P$2,\"\")","v":""},{"$f":"IF(Jogo!Q729=Conferência!$Q$2,Conferência!$Q$2,\"\")","v":""},""]
[{"$f":"IF(Jogo!A730=Conferência!$A$2,Conferência!$A$2,\"\")","v":""},{"$f":"IF(Jogo!B730=Conferência!$B$2,Conferência!$B$2,\"\")","v":""},{"$f":"IF(Jogo!C730=Conferência!$C$2,Conferência!$C$2,\"\")","v":""},{"$f":"IF(Jogo!D730=Conferência!$D$2,Conferência!$D$2,\"\")","v":""},{"$f":"IF(Jogo!E730=Conferência!$E$2,Conferência!$E$2,\"\")","v":""},{"$f":"IF(Jogo!F730=Conferência!$F$2,Conferência!$F$2,\"\")","v":""},{"$f":"IF(Jogo!G730=Conferência!$G$2,Conferência!$G$2,\"\")","v":""},{"$f":"IF(Jogo!H730=Conferência!$H$2,Conferência!$H$2,\"\")","v":""},{"$f":"IF(Jogo!I730=Conferência!$I$2,Conferência!$I$2,\"\")","v":""},{"$f":"IF(Jogo!J730=Conferência!$J$2,Conferência!$J$2,\"\")","v":""},{"$f":"IF(Jogo!K730=Conferência!$K$2,Conferência!$K$2,\"\")","v":""},{"$f":"IF(Jogo!L730=Conferência!$L$2,Conferência!$L$2,\"\")","v":""},{"$f":"IF(Jogo!M730=Conferência!$M$2,Conferência!$M$2,\"\")","v":""},{"$f":"IF(Jogo!N730=Conferência!$N$2,Conferência!$N$2,\"\")","v":""},{"$f":"IF(Jogo!O730=Conferência!$O$2,Conferência!$O$2,\"\")","v":""},{"$f":"IF(Jogo!P730=Conferência!$P$2,Conferência!$P$2,\"\")","v":""},{"$f":"IF(Jogo!Q730=Conferência!$Q$2,Conferência!$Q$2,\"\")","v":""},""]
[{"$f":"IF(Jogo!A731=Conferência!$A$2,Conferência!$A$2,\"\")","v":""},{"$f":"IF(Jogo!B731=Conferência!$B$2,Conferência!$B$2,\"\")","v":""},{"$f":"IF(Jogo!C731=Conferência!$C$2,Conferência!$C$2,\"\")","v":""},{"$f":"IF(Jogo!D731=Conferência!$D$2,Conferência!$D$2,\"\")","v":""},{"$f":"IF(Jogo!E731=Conferência!$E$2,Conferência!$E$2,\"\")","v":""},{"$f":"IF(Jogo!F731=Conferência!$F$2,Conferência!$F$2,\"\")","v":""},{"$f":"IF(Jogo!G731=Conferência!$G$2,Conferência!$G$2,\"\")","v":""},{"$f":"IF(Jogo!H731=Conferência!$H$2,Conferência!$H$2,\"\")","v":""},{"$f":"IF(Jogo!I731=Conferência!$I$2,Conferência!$I$2,\"\")","v":""},{"$f":"IF(Jogo!J731=Conferência!$J$2,Conferência!$J$2,\"\")","v":""},{"$f":"IF(Jogo!K731=Conferência!$K$2,Conferência!$K$2,\"\")","v":""},{"$f":"IF(Jogo!L731=Conferência!$L$2,Conferência!$L$2,\"\")","v":""},{"$f":"IF(Jogo!M731=Conferência!$M$2,Conferência!$M$2,\"\")","v":""},{"$f":"IF(Jogo!N731=Conferência!$N$2,Conferência!$N$2,\"\")","v":""},{"$f":"IF(Jogo!O731=Conferência!$O$2,Conferência!$O$2,\"\")","v":""},{"$f":"IF(Jogo!P731=Conferência!$P$2,Conferência!$P$2,\"\")","v":""},{"$f":"IF(Jogo!Q731=Conferência!$Q$2,Conferência!$Q$2,\"\")","v":""},""]
[{"$f":"IF(Jogo!A732=Conferência!$A$2,Conferência!$A$2,\"\")","v":""},{"$f":"IF(Jogo!B732=Conferência!$B$2,Conferência!$B$2,\"\")","v":""},{"$f":"IF(Jogo!C732=Conferência!$C$2,Conferência!$C$2,\"\")","v":""},{"$f":"IF(Jogo!D732=Conferência!$D$2,Conferência!$D$2,\"\")","v":""},{"$f":"IF(Jogo!E732=Conferência!$E$2,Conferência!$E$2,\"\")","v":""},{"$f":"IF(Jogo!F732=Conferência!$F$2,Conferência!$F$2,\"\")","v":""},{"$f":"IF(Jogo!G732=Conferência!$G$2,Conferência!$G$2,\"\")","v":""},{"$f":"IF(Jogo!H732=Conferência!$H$2,Conferência!$H$2,\"\")","v":""},{"$f":"IF(Jogo!I732=Conferência!$I$2,Conferência!$I$2,\"\")","v":""},{"$f":"IF(Jogo!J732=Conferência!$J$2,Conferência!$J$2,\"\")","v":""},{"$f":"IF(Jogo!K732=Conferência!$K$2,Conferência!$K$2,\"\")","v":""},{"$f":"IF(Jogo!L732=Conferência!$L$2,Conferência!$L$2,\"\")","v":""},{"$f":"IF(Jogo!M732=Conferência!$M$2,Conferência!$M$2,\"\")","v":""},{"$f":"IF(Jogo!N732=Conferência!$N$2,Conferência!$N$2,\"\")","v":""},{"$f":"IF(Jogo!O732=Conferência!$O$2,Conferência!$O$2,\"\")","v":""},{"$f":"IF(Jogo!P732=Conferência!$P$2,Conferência!$P$2,\"\")","v":""},{"$f":"IF(Jogo!Q732=Conferência!$Q$2,Conferência!$Q$2,\"\")","v":""},""]
[{"$f":"IF(Jogo!A733=Conferência!$A$2,Conferência!$A$2,\"\")","v":""},{"$f":"IF(Jogo!B733=Conferência!$B$2,Conferência!$B$2,\"\")","v":""},{"$f":"IF(Jogo!C733=Conferência!$C$2,Conferência!$C$2,\"\")","v":""},{"$f":"IF(Jogo!D733=Conferência!$D$2,Conferência!$D$2,\"\")","v":""},{"$f":"IF(Jogo!E733=Conferência!$E$2,Conferência!$E$2,\"\")","v":""},{"$f":"IF(Jogo!F733=Conferência!$F$2,Conferência!$F$2,\"\")","v":""},{"$f":"IF(Jogo!G733=Conferência!$G$2,Conferência!$G$2,\"\")","v":""},{"$f":"IF(Jogo!H733=Conferência!$H$2,Conferência!$H$2,\"\")","v":""},{"$f":"IF(Jogo!I733=Conferência!$I$2,Conferência!$I$2,\"\")","v":""},{"$f":"IF(Jogo!J733=Conferência!$J$2,Conferência!$J$2,\"\")","v":""},{"$f":"IF(Jogo!K733=Conferência!$K$2,Conferência!$K$2,\"\")","v":""},{"$f":"IF(Jogo!L733=Conferência!$L$2,Conferência!$L$2,\"\")","v":""},{"$f":"IF(Jogo!M733=Conferência!$M$2,Conferência!$M$2,\"\")","v":""},{"$f":"IF(Jogo!N733=Conferência!$N$2,Conferência!$N$2,\"\")","v":""},{"$f":"IF(Jogo!O733=Conferência!$O$2,Conferência!$O$2,\"\")","v":""},{"$f":"IF(Jogo!P733=Conferência!$P$2,Conferência!$P$2,\"\")","v":""},{"$f":"IF(Jogo!Q733=Conferência!$Q$2,Conferência!$Q$2,\"\")","v":""},""]
[{"$f":"IF(Jogo!A734=Conferência!$A$2,Conferência!$A$2,\"\")","v":""},{"$f":"IF(Jogo!B734=Conferência!$B$2,Conferência!$B$2,\"\")","v":""},{"$f":"IF(Jogo!C734=Conferência!$C$2,Conferência!$C$2,\"\")","v":""},{"$f":"IF(Jogo!D734=Conferência!$D$2,Conferência!$D$2,\"\")","v":""},{"$f":"IF(Jogo!E734=Conferência!$E$2,Conferência!$E$2,\"\")","v":""},{"$f":"IF(Jogo!F734=Conferência!$F$2,Conferência!$F$2,\"\")","v":""},{"$f":"IF(Jogo!G734=Conferência!$G$2,Conferência!$G$2,\"\")","v":""},{"$f":"IF(Jogo!H734=Conferência!$H$2,Conferência!$H$2,\"\")","v":""},{"$f":"IF(Jogo!I734=Conferência!$I$2,Conferência!$I$2,\"\")","v":""},{"$f":"IF(Jogo!J734=Conferência!$J$2,Conferência!$J$2,\"\")","v":""},{"$f":"IF(Jogo!K734=Conferência!$K$2,Conferência!$K$2,\"\")","v":""},{"$f":"IF(Jogo!L734=Conferência!$L$2,Conferência!$L$2,\"\")","v":""},{"$f":"IF(Jogo!M734=Conferência!$M$2,Conferência!$M$2,\"\")","v":""},{"$f":"IF(Jogo!N734=Conferência!$N$2,Conferência!$N$2,\"\")","v":""},{"$f":"IF(Jogo!O734=Conferência!$O$2,Conferência!$O$2,\"\")","v":""},{"$f":"IF(Jogo!P734=Conferência!$P$2,Conferência!$P$2,\"\")","v":""},{"$f":"IF(Jogo!Q734=Conferência!$Q$2,Conferência!$Q$2,\"\")","v":""},""]
[{"$f":"IF(Jogo!A735=Conferência!$A$2,Conferência!$A$2,\"\")","v":""},{"$f":"IF(Jogo!B735=Conferência!$B$2,Conferência!$B$2,\"\")","v":""},{"$f":"IF(Jogo!C735=Conferência!$C$2,Conferência!$C$2,\"\")","v":""},{"$f":"IF(Jogo!D735=Conferência!$D$2,Conferência!$D$2,\"\")","v":""},{"$f":"IF(Jogo!E735=Conferência!$E$2,Conferência!$E$2,\"\")","v":""},{"$f":"IF(Jogo!F735=Conferência!$F$2,Conferência!$F$2,\"\")","v":""},{"$f":"IF(Jogo!G735=Conferência!$G$2,Conferência!$G$2,\"\")","v":""},{"$f":"IF(Jogo!H735=Conferência!$H$2,Conferência!$H$2,\"\")","v":""},{"$f":"IF(Jogo!I735=Conferência!$I$2,Conferência!$I$2,\"\")","v":""},{"$f":"IF(Jogo!J735=Conferência!$J$2,Conferência!$J$2,\"\")","v":""},{"$f":"IF(Jogo!K735=Conferência!$K$2,Conferência!$K$2,\"\")","v":""},{"$f":"IF(Jogo!L735=Conferência!$L$2,Conferência!$L$2,\"\")","v":""},{"$f":"IF(Jogo!M735=Conferência!$M$2,Conferência!$M$2,\"\")","v":""},{"$f":"IF(Jogo!N735=Conferência!$N$2,Conferência!$N$2,\"\")","v":""},{"$f":"IF(Jogo!O735=Conferência!$O$2,Conferência!$O$2,\"\")","v":""},{"$f":"IF(Jogo!P735=Conferência!$P$2,Conferência!$P$2,\"\")","v":""},{"$f":"IF(Jogo!Q735=Conferência!$Q$2,Conferência!$Q$2,\"\")","v":""},""]
[{"$f":"IF(Jogo!A736=Conferência!$A$2,Conferência!$A$2,\"\")","v":""},{"$f":"IF(Jogo!B736=Conferência!$B$2,Conferência!$B$2,\"\")","v":""},{"$f":"IF(Jogo!C736=Conferência!$C$2,Conferência!$C$2,\"\")","v":""},{"$f":"IF(Jogo!D736=Conferência!$D$2,Conferência!$D$2,\"\")","v":""},{"$f":"IF(Jogo!E736=Conferência!$E$2,Conferência!$E$2,\"\")","v":""},{"$f":"IF(Jogo!F736=Conferência!$F$2,Conferência!$F$2,\"\")","v":""},{"$f":"IF(Jogo!G736=Conferência!$G$2,Conferência!$G$2,\"\")","v":""},{"$f":"IF(Jogo!H736=Conferência!$H$2,Conferência!$H$2,\"\")","v":""},{"$f":"IF(Jogo!I736=Conferência!$I$2,Conferência!$I$2,\"\")","v":""},{"$f":"IF(Jogo!J736=Conferência!$J$2,Conferência!$J$2,\"\")","v":""},{"$f":"IF(Jogo!K736=Conferência!$K$2,Conferência!$K$2,\"\")","v":""},{"$f":"IF(Jogo!L736=Conferência!$L$2,Conferência!$L$2,\"\")","v":""},{"$f":"IF(Jogo!M736=Conferência!$M$2,Conferência!$M$2,\"\")","v":""},{"$f":"IF(Jogo!N736=Conferência!$N$2,Conferência!$N$2,\"\")","v":""},{"$f":"IF(Jogo!O736=Conferência!$O$2,Conferência!$O$2,\"\")","v":""},{"$f":"IF(Jogo!P736=Conferência!$P$2,Conferência!$P$2,\"\")","v":""},{"$f":"IF(Jogo!Q736=Conferência!$Q$2,Conferência!$Q$2,\"\")","v":""},""]
[{"$f":"IF(Jogo!A737=Conferência!$A$2,Conferência!$A$2,\"\")","v":""},{"$f":"IF(Jogo!B737=Conferência!$B$2,Conferência!$B$2,\"\")","v":""},{"$f":"IF(Jogo!C737=Conferência!$C$2,Conferência!$C$2,\"\")","v":""},{"$f":"IF(Jogo!D737=Conferência!$D$2,Conferência!$D$2,\"\")","v":""},{"$f":"IF(Jogo!E737=Conferência!$E$2,Conferência!$E$2,\"\")","v":""},{"$f":"IF(Jogo!F737=Conferência!$F$2,Conferência!$F$2,\"\")","v":""},{"$f":"IF(Jogo!G737=Conferência!$G$2,Conferência!$G$2,\"\")","v":""},{"$f":"IF(Jogo!H737=Conferência!$H$2,Conferência!$H$2,\"\")","v":""},{"$f":"IF(Jogo!I737=Conferência!$I$2,Conferência!$I$2,\"\")","v":""},{"$f":"IF(Jogo!J737=Conferência!$J$2,Conferência!$J$2,\"\")","v":""},{"$f":"IF(Jogo!K737=Conferência!$K$2,Conferência!$K$2,\"\")","v":""},{"$f":"IF(Jogo!L737=Conferência!$L$2,Conferência!$L$2,\"\")","v":""},{"$f":"IF(Jogo!M737=Conferência!$M$2,Conferência!$M$2,\"\")","v":""},{"$f":"IF(Jogo!N737=Conferência!$N$2,Conferência!$N$2,\"\")","v":""},{"$f":"IF(Jogo!O737=Conferência!$O$2,Conferência!$O$2,\"\")","v":""},{"$f":"IF(Jogo!P737=Conferência!$P$2,Conferência!$P$2,\"\")","v":""},{"$f":"IF(Jogo!Q737=Conferência!$Q$2,Conferência!$Q$2,\"\")","v":""},""]
[{"$f":"IF(Jogo!A738=Conferência!$A$2,Conferência!$A$2,\"\")","v":""},{"$f":"IF(Jogo!B738=Conferência!$B$2,Conferência!$B$2,\"\")","v":""},{"$f":"IF(Jogo!C738=Conferência!$C$2,Conferência!$C$2,\"\")","v":""},{"$f":"IF(Jogo!D738=Conferência!$D$2,Conferência!$D$2,\"\")","v":""},{"$f":"IF(Jogo!E738=Conferência!$E$2,Conferência!$E$2,\"\")","v":""},{"$f":"IF(Jogo!F738=Conferência!$F$2,Conferência!$F$2,\"\")","v":""},{"$f":"IF(Jogo!G738=Conferência!$G$2,Conferência!$G$2,\"\")","v":""},{"$f":"IF(Jogo!H738=Conferência!$H$2,Conferência!$H$2,\"\")","v":""},{"$f":"IF(Jogo!I738=Conferência!$I$2,Conferência!$I$2,\"\")","v":""},{"$f":"IF(Jogo!J738=Conferência!$J$2,Conferência!$J$2,\"\")","v":""},{"$f":"IF(Jogo!K738=Conferência!$K$2,Conferência!$K$2,\"\")","v":""},{"$f":"IF(Jogo!L738=Conferência!$L$2,Conferência!$L$2,\"\")","v":""},{"$f":"IF(Jogo!M738=Conferência!$M$2,Conferência!$M$2,\"\")","v":""},{"$f":"IF(Jogo!N738=Conferência!$N$2,Conferência!$N$2,\"\")","v":""},{"$f":"IF(Jogo!O738=Conferência!$O$2,Conferência!$O$2,\"\")","v":""},{"$f":"IF(Jogo!P738=Conferência!$P$2,Conferência!$P$2,\"\")","v":""},{"$f":"IF(Jogo!Q738=Conferência!$Q$2,Conferência!$Q$2,\"\")","v":""},""]
[{"$f":"IF(Jogo!A739=Conferência!$A$2,Conferência!$A$2,\"\")","v":""},{"$f":"IF(Jogo!B739=Conferência!$B$2,Conferência!$B$2,\"\")","v":""},{"$f":"IF(Jogo!C739=Conferência!$C$2,Conferência!$C$2,\"\")","v":""},{"$f":"IF(Jogo!D739=Conferência!$D$2,Conferência!$D$2,\"\")","v":""},{"$f":"IF(Jogo!E739=Conferência!$E$2,Conferência!$E$2,\"\")","v":""},{"$f":"IF(Jogo!F739=Conferência!$F$2,Conferência!$F$2,\"\")","v":""},{"$f":"IF(Jogo!G739=Conferência!$G$2,Conferência!$G$2,\"\")","v":""},{"$f":"IF(Jogo!H739=Conferência!$H$2,Conferência!$H$2,\"\")","v":""},{"$f":"IF(Jogo!I739=Conferência!$I$2,Conferência!$I$2,\"\")","v":""},{"$f":"IF(Jogo!J739=Conferência!$J$2,Conferência!$J$2,\"\")","v":""},{"$f":"IF(Jogo!K739=Conferência!$K$2,Conferência!$K$2,\"\")","v":""},{"$f":"IF(Jogo!L739=Conferência!$L$2,Conferência!$L$2,\"\")","v":""},{"$f":"IF(Jogo!M739=Conferência!$M$2,Conferência!$M$2,\"\")","v":""},{"$f":"IF(Jogo!N739=Conferência!$N$2,Conferência!$N$2,\"\")","v":""},{"$f":"IF(Jogo!O739=Conferência!$O$2,Conferência!$O$2,\"\")","v":""},{"$f":"IF(Jogo!P739=Conferência!$P$2,Conferência!$P$2,\"\")","v":""},{"$f":"IF(Jogo!Q739=Conferência!$Q$2,Conferência!$Q$2,\"\")","v":""},""]
[{"$f":"IF(Jogo!A740=Conferência!$A$2,Conferência!$A$2,\"\")","v":""},{"$f":"IF(Jogo!B740=Conferência!$B$2,Conferência!$B$2,\"\")","v":""},{"$f":"IF(Jogo!C740=Conferência!$C$2,Conferência!$C$2,\"\")","v":""},{"$f":"IF(Jogo!D740=Conferência!$D$2,Conferência!$D$2,\"\")","v":""},{"$f":"IF(Jogo!E740=Conferência!$E$2,Conferência!$E$2,\"\")","v":""},{"$f":"IF(Jogo!F740=Conferência!$F$2,Conferência!$F$2,\"\")","v":""},{"$f":"IF(Jogo!G740=Conferência!$G$2,Conferência!$G$2,\"\")","v":""},{"$f":"IF(Jogo!H740=Conferência!$H$2,Conferência!$H$2,\"\")","v":""},{"$f":"IF(Jogo!I740=Conferência!$I$2,Conferência!$I$2,\"\")","v":""},{"$f":"IF(Jogo!J740=Conferência!$J$2,Conferência!$J$2,\"\")","v":""},{"$f":"IF(Jogo!K740=Conferência!$K$2,Conferência!$K$2,\"\")","v":""},{"$f":"IF(Jogo!L740=Conferência!$L$2,Conferência!$L$2,\"\")","v":""},{"$f":"IF(Jogo!M740=Conferência!$M$2,Conferência!$M$2,\"\")","v":""},{"$f":"IF(Jogo!N740=Conferência!$N$2,Conferência!$N$2,\"\")","v":""},{"$f":"IF(Jogo!O740=Conferência!$O$2,Conferência!$O$2,\"\")","v":""},{"$f":"IF(Jogo!P740=Conferência!$P$2,Conferência!$P$2,\"\")","v":""},{"$f":"IF(Jogo!Q740=Conferência!$Q$2,Conferência!$Q$2,\"\")","v":""},""]
[{"$f":"IF(Jogo!A741=Conferência!$A$2,Conferência!$A$2,\"\")","v":""},{"$f":"IF(Jogo!B741=Conferência!$B$2,Conferência!$B$2,\"\")","v":""},{"$f":"IF(Jogo!C741=Conferência!$C$2,Conferência!$C$2,\"\")","v":""},{"$f":"IF(Jogo!D741=Conferência!$D$2,Conferência!$D$2,\"\")","v":""},{"$f":"IF(Jogo!E741=Conferência!$E$2,Conferência!$E$2,\"\")","v":""},{"$f":"IF(Jogo!F741=Conferência!$F$2,Conferência!$F$2,\"\")","v":""},{"$f":"IF(Jogo!G741=Conferência!$G$2,Conferência!$G$2,\"\")","v":""},{"$f":"IF(Jogo!H741=Conferência!$H$2,Conferência!$H$2,\"\")","v":""},{"$f":"IF(Jogo!I741=Conferência!$I$2,Conferência!$I$2,\"\")","v":""},{"$f":"IF(Jogo!J741=Conferência!$J$2,Conferência!$J$2,\"\")","v":""},{"$f":"IF(Jogo!K741=Conferência!$K$2,Conferência!$K$2,\"\")","v":""},{"$f":"IF(Jogo!L741=Conferência!$L$2,Conferência!$L$2,\"\")","v":""},{"$f":"IF(Jogo!M741=Conferência!$M$2,Conferência!$M$2,\"\")","v":""},{"$f":"IF(Jogo!N741=Conferência!$N$2,Conferência!$N$2,\"\")","v":""},{"$f":"IF(Jogo!O741=Conferência!$O$2,Conferência!$O$2,\"\")","v":""},{"$f":"IF(Jogo!P741=Conferência!$P$2,Conferência!$P$2,\"\")","v":""},{"$f":"IF(Jogo!Q741=Conferência!$Q$2,Conferência!$Q$2,\"\")","v":""},""]
[{"$f":"IF(Jogo!A742=Conferência!$A$2,Conferência!$A$2,\"\")","v":""},{"$f":"IF(Jogo!B742=Conferência!$B$2,Conferência!$B$2,\"\")","v":""},{"$f":"IF(Jogo!C742=Conferência!$C$2,Conferência!$C$2,\"\")","v":""},{"$f":"IF(Jogo!D742=Conferência!$D$2,Conferência!$D$2,\"\")","v":""},{"$f":"IF(Jogo!E742=Conferência!$E$2,Conferência!$E$2,\"\")","v":""},{"$f":"IF(Jogo!F742=Conferência!$F$2,Conferência!$F$2,\"\")","v":""},{"$f":"IF(Jogo!G742=Conferência!$G$2,Conferência!$G$2,\"\")","v":""},{"$f":"IF(Jogo!H742=Conferência!$H$2,Conferência!$H$2,\"\")","v":""},{"$f":"IF(Jogo!I742=Conferência!$I$2,Conferência!$I$2,\"\")","v":""},{"$f":"IF(Jogo!J742=Conferência!$J$2,Conferência!$J$2,\"\")","v":""},{"$f":"IF(Jogo!K742=Conferência!$K$2,Conferência!$K$2,\"\")","v":""},{"$f":"IF(Jogo!L742=Conferência!$L$2,Conferência!$L$2,\"\")","v":""},{"$f":"IF(Jogo!M742=Conferência!$M$2,Conferência!$M$2,\"\")","v":""},{"$f":"IF(Jogo!N742=Conferência!$N$2,Conferência!$N$2,\"\")","v":""},{"$f":"IF(Jogo!O742=Conferência!$O$2,Conferência!$O$2,\"\")","v":""},{"$f":"IF(Jogo!P742=Conferência!$P$2,Conferência!$P$2,\"\")","v":""},{"$f":"IF(Jogo!Q742=Conferência!$Q$2,Conferência!$Q$2,\"\")","v":""},""]
[{"$f":"IF(Jogo!A743=Conferência!$A$2,Conferência!$A$2,\"\")","v":""},{"$f":"IF(Jogo!B743=Conferência!$B$2,Conferência!$B$2,\"\")","v":""},{"$f":"IF(Jogo!C743=Conferência!$C$2,Conferência!$C$2,\"\")","v":""},{"$f":"IF(Jogo!D743=Conferência!$D$2,Conferência!$D$2,\"\")","v":""},{"$f":"IF(Jogo!E743=Conferência!$E$2,Conferência!$E$2,\"\")","v":""},{"$f":"IF(Jogo!F743=Conferência!$F$2,Conferência!$F$2,\"\")","v":""},{"$f":"IF(Jogo!G743=Conferência!$G$2,Conferência!$G$2,\"\")","v":""},{"$f":"IF(Jogo!H743=Conferência!$H$2,Conferência!$H$2,\"\")","v":""},{"$f":"IF(Jogo!I743=Conferência!$I$2,Conferência!$I$2,\"\")","v":""},{"$f":"IF(Jogo!J743=Conferência!$J$2,Conferência!$J$2,\"\")","v":""},{"$f":"IF(Jogo!K743=Conferência!$K$2,Conferência!$K$2,\"\")","v":""},{"$f":"IF(Jogo!L743=Conferência!$L$2,Conferência!$L$2,\"\")","v":""},{"$f":"IF(Jogo!M743=Conferência!$M$2,Conferência!$M$2,\"\")","v":""},{"$f":"IF(Jogo!N743=Conferência!$N$2,Conferência!$N$2,\"\")","v":""},{"$f":"IF(Jogo!O743=Conferência!$O$2,Conferência!$O$2,\"\")","v":""},{"$f":"IF(Jogo!P743=Conferência!$P$2,Conferência!$P$2,\"\")","v":""},{"$f":"IF(Jogo!Q743=Conferência!$Q$2,Conferência!$Q$2,\"\")","v":""},""]
[{"$f":"IF(Jogo!A744=Conferência!$A$2,Conferência!$A$2,\"\")","v":""},{"$f":"IF(Jogo!B744=Conferência!$B$2,Conferência!$B$2,\"\")","v":""},{"$f":"IF(Jogo!C744=Conferência!$C$2,Conferência!$C$2,\"\")","v":""},{"$f":"IF(Jogo!D744=Conferência!$D$2,Conferência!$D$2,\"\")","v":""},{"$f":"IF(Jogo!E744=Conferência!$E$2,Conferência!$E$2,\"\")","v":""},{"$f":"IF(Jogo!F744=Conferência!$F$2,Conferência!$F$2,\"\")","v":""},{"$f":"IF(Jogo!G744=Conferência!$G$2,Conferência!$G$2,\"\")","v":""},{"$f":"IF(Jogo!H744=Conferência!$H$2,Conferência!$H$2,\"\")","v":""},{"$f":"IF(Jogo!I744=Conferência!$I$2,Conferência!$I$2,\"\")","v":""},{"$f":"IF(Jogo!J744=Conferência!$J$2,Conferência!$J$2,\"\")","v":""},{"$f":"IF(Jogo!K744=Conferência!$K$2,Conferência!$K$2,\"\")","v":""},{"$f":"IF(Jogo!L744=Conferência!$L$2,Conferência!$L$2,\"\")","v":""},{"$f":"IF(Jogo!M744=Conferência!$M$2,Conferência!$M$2,\"\")","v":""},{"$f":"IF(Jogo!N744=Conferência!$N$2,Conferência!$N$2,\"\")","v":""},{"$f":"IF(Jogo!O744=Conferência!$O$2,Conferência!$O$2,\"\")","v":""},{"$f":"IF(Jogo!P744=Conferência!$P$2,Conferência!$P$2,\"\")","v":""},{"$f":"IF(Jogo!Q744=Conferência!$Q$2,Conferência!$Q$2,\"\")","v":""},""]
[{"$f":"IF(Jogo!A745=Conferência!$A$2,Conferência!$A$2,\"\")","v":""},{"$f":"IF(Jogo!B745=Conferência!$B$2,Conferência!$B$2,\"\")","v":""},{"$f":"IF(Jogo!C745=Conferência!$C$2,Conferência!$C$2,\"\")","v":""},{"$f":"IF(Jogo!D745=Conferência!$D$2,Conferência!$D$2,\"\")","v":""},{"$f":"IF(Jogo!E745=Conferência!$E$2,Conferência!$E$2,\"\")","v":""},{"$f":"IF(Jogo!F745=Conferência!$F$2,Conferência!$F$2,\"\")","v":""},{"$f":"IF(Jogo!G745=Conferência!$G$2,Conferência!$G$2,\"\")","v":""},{"$f":"IF(Jogo!H745=Conferência!$H$2,Conferência!$H$2,\"\")","v":""},{"$f":"IF(Jogo!I745=Conferência!$I$2,Conferência!$I$2,\"\")","v":""},{"$f":"IF(Jogo!J745=Conferência!$J$2,Conferência!$J$2,\"\")","v":""},{"$f":"IF(Jogo!K745=Conferência!$K$2,Conferência!$K$2,\"\")","v":""},{"$f":"IF(Jogo!L745=Conferência!$L$2,Conferência!$L$2,\"\")","v":""},{"$f":"IF(Jogo!M745=Conferência!$M$2,Conferência!$M$2,\"\")","v":""},{"$f":"IF(Jogo!N745=Conferência!$N$2,Conferência!$N$2,\"\")","v":""},{"$f":"IF(Jogo!O745=Conferência!$O$2,Conferência!$O$2,\"\")","v":""},{"$f":"IF(Jogo!P745=Conferência!$P$2,Conferência!$P$2,\"\")","v":""},{"$f":"IF(Jogo!Q745=Conferência!$Q$2,Conferência!$Q$2,\"\")","v":""},""]
[{"$f":"IF(Jogo!A746=Conferência!$A$2,Conferência!$A$2,\"\")","v":""},{"$f":"IF(Jogo!B746=Conferência!$B$2,Conferência!$B$2,\"\")","v":""},{"$f":"IF(Jogo!C746=Conferência!$C$2,Conferência!$C$2,\"\")","v":""},{"$f":"IF(Jogo!D746=Conferência!$D$2,Conferência!$D$2,\"\")","v":""},{"$f":"IF(Jogo!E746=Conferência!$E$2,Conferência!$E$2,\"\")","v":""},{"$f":"IF(Jogo!F746=Conferência!$F$2,Conferência!$F$2,\"\")","v":""},{"$f":"IF(Jogo!G746=Conferência!$G$2,Conferência!$G$2,\"\")","v":""},{"$f":"IF(Jogo!H746=Conferência!$H$2,Conferência!$H$2,\"\")","v":""},{"$f":"IF(Jogo!I746=Conferência!$I$2,Conferência!$I$2,\"\")","v":""},{"$f":"IF(Jogo!J746=Conferência!$J$2,Conferência!$J$2,\"\")","v":""},{"$f":"IF(Jogo!K746=Conferência!$K$2,Conferência!$K$2,\"\")","v":""},{"$f":"IF(Jogo!L746=Conferência!$L$2,Conferência!$L$2,\"\")","v":""},{"$f":"IF(Jogo!M746=Conferência!$M$2,Conferência!$M$2,\"\")","v":""},{"$f":"IF(Jogo!N746=Conferência!$N$2,Conferência!$N$2,\"\")","v":""},{"$f":"IF(Jogo!O746=Conferência!$O$2,Conferência!$O$2,\"\")","v":""},{"$f":"IF(Jogo!P746=Conferência!$P$2,Conferência!$P$2,\"\")","v":""},{"$f":"IF(Jogo!Q746=Conferência!$Q$2,Conferência!$Q$2,\"\")","v":""},""]
[{"$f":"IF(Jogo!A747=Conferência!$A$2,Conferência!$A$2,\"\")","v":""},{"$f":"IF(Jogo!B747=Conferência!$B$2,Conferência!$B$2,\"\")","v":""},{"$f":"IF(Jogo!C747=Conferência!$C$2,Conferência!$C$2,\"\")","v":""},{"$f":"IF(Jogo!D747=Conferência!$D$2,Conferência!$D$2,\"\")","v":""},{"$f":"IF(Jogo!E747=Conferência!$E$2,Conferência!$E$2,\"\")","v":""},{"$f":"IF(Jogo!F747=Conferência!$F$2,Conferência!$F$2,\"\")","v":""},{"$f":"IF(Jogo!G747=Conferência!$G$2,Conferência!$G$2,\"\")","v":""},{"$f":"IF(Jogo!H747=Conferência!$H$2,Conferência!$H$2,\"\")","v":""},{"$f":"IF(Jogo!I747=Conferência!$I$2,Conferência!$I$2,\"\")","v":""},{"$f":"IF(Jogo!J747=Conferência!$J$2,Conferência!$J$2,\"\")","v":""},{"$f":"IF(Jogo!K747=Conferência!$K$2,Conferência!$K$2,\"\")","v":""},{"$f":"IF(Jogo!L747=Conferência!$L$2,Conferência!$L$2,\"\")","v":""},{"$f":"IF(Jogo!M747=Conferência!$M$2,Conferência!$M$2,\"\")","v":""},{"$f":"IF(Jogo!N747=Conferência!$N$2,Conferência!$N$2,\"\")","v":""},{"$f":"IF(Jogo!O747=Conferência!$O$2,Conferência!$O$2,\"\")","v":""},{"$f":"IF(Jogo!P747=Conferência!$P$2,Conferência!$P$2,\"\")","v":""},{"$f":"IF(Jogo!Q747=Conferência!$Q$2,Conferência!$Q$2,\"\")","v":""},""]
[{"$f":"IF(Jogo!A748=Conferência!$A$2,Conferência!$A$2,\"\")","v":""},{"$f":"IF(Jogo!B748=Conferência!$B$2,Conferência!$B$2,\"\")","v":""},{"$f":"IF(Jogo!C748=Conferência!$C$2,Conferência!$C$2,\"\")","v":""},{"$f":"IF(Jogo!D748=Conferência!$D$2,Conferência!$D$2,\"\")","v":""},{"$f":"IF(Jogo!E748=Conferência!$E$2,Conferência!$E$2,\"\")","v":""},{"$f":"IF(Jogo!F748=Conferência!$F$2,Conferência!$F$2,\"\")","v":""},{"$f":"IF(Jogo!G748=Conferência!$G$2,Conferência!$G$2,\"\")","v":""},{"$f":"IF(Jogo!H748=Conferência!$H$2,Conferência!$H$2,\"\")","v":""},{"$f":"IF(Jogo!I748=Conferência!$I$2,Conferência!$I$2,\"\")","v":""},{"$f":"IF(Jogo!J748=Conferência!$J$2,Conferência!$J$2,\"\")","v":""},{"$f":"IF(Jogo!K748=Conferência!$K$2,Conferência!$K$2,\"\")","v":""},{"$f":"IF(Jogo!L748=Conferência!$L$2,Conferência!$L$2,\"\")","v":""},{"$f":"IF(Jogo!M748=Conferência!$M$2,Conferência!$M$2,\"\")","v":""},{"$f":"IF(Jogo!N748=Conferência!$N$2,Conferência!$N$2,\"\")","v":""},{"$f":"IF(Jogo!O748=Conferência!$O$2,Conferência!$O$2,\"\")","v":""},{"$f":"IF(Jogo!P748=Conferência!$P$2,Conferência!$P$2,\"\")","v":""},{"$f":"IF(Jogo!Q748=Conferência!$Q$2,Conferência!$Q$2,\"\")","v":""},""]
[{"$f":"IF(Jogo!A749=Conferência!$A$2,Conferência!$A$2,\"\")","v":""},{"$f":"IF(Jogo!B749=Conferência!$B$2,Conferência!$B$2,\"\")","v":""},{"$f":"IF(Jogo!C749=Conferência!$C$2,Conferência!$C$2,\"\")","v":""},{"$f":"IF(Jogo!D749=Conferência!$D$2,Conferência!$D$2,\"\")","v":""},{"$f":"IF(Jogo!E749=Conferência!$E$2,Conferência!$E$2,\"\")","v":""},{"$f":"IF(Jogo!F749=Conferência!$F$2,Conferência!$F$2,\"\")","v":""},{"$f":"IF(Jogo!G749=Conferência!$G$2,Conferência!$G$2,\"\")","v":""},{"$f":"IF(Jogo!H749=Conferência!$H$2,Conferência!$H$2,\"\")","v":""},{"$f":"IF(Jogo!I749=Conferência!$I$2,Conferência!$I$2,\"\")","v":""},{"$f":"IF(Jogo!J749=Conferência!$J$2,Conferência!$J$2,\"\")","v":""},{"$f":"IF(Jogo!K749=Conferência!$K$2,Conferência!$K$2,\"\")","v":""},{"$f":"IF(Jogo!L749=Conferência!$L$2,Conferência!$L$2,\"\")","v":""},{"$f":"IF(Jogo!M749=Conferência!$M$2,Conferência!$M$2,\"\")","v":""},{"$f":"IF(Jogo!N749=Conferência!$N$2,Conferência!$N$2,\"\")","v":""},{"$f":"IF(Jogo!O749=Conferência!$O$2,Conferência!$O$2,\"\")","v":""},{"$f":"IF(Jogo!P749=Conferência!$P$2,Conferência!$P$2,\"\")","v":""},{"$f":"IF(Jogo!Q749=Conferência!$Q$2,Conferência!$Q$2,\"\")","v":""},""]
[{"$f":"IF(Jogo!A750=Conferência!$A$2,Conferência!$A$2,\"\")","v":""},{"$f":"IF(Jogo!B750=Conferência!$B$2,Conferência!$B$2,\"\")","v":""},{"$f":"IF(Jogo!C750=Conferência!$C$2,Conferência!$C$2,\"\")","v":""},{"$f":"IF(Jogo!D750=Conferência!$D$2,Conferência!$D$2,\"\")","v":""},{"$f":"IF(Jogo!E750=Conferência!$E$2,Conferência!$E$2,\"\")","v":""},{"$f":"IF(Jogo!F750=Conferência!$F$2,Conferência!$F$2,\"\")","v":""},{"$f":"IF(Jogo!G750=Conferência!$G$2,Conferência!$G$2,\"\")","v":""},{"$f":"IF(Jogo!H750=Conferência!$H$2,Conferência!$H$2,\"\")","v":""},{"$f":"IF(Jogo!I750=Conferência!$I$2,Conferência!$I$2,\"\")","v":""},{"$f":"IF(Jogo!J750=Conferência!$J$2,Conferência!$J$2,\"\")","v":""},{"$f":"IF(Jogo!K750=Conferência!$K$2,Conferência!$K$2,\"\")","v":""},{"$f":"IF(Jogo!L750=Conferência!$L$2,Conferência!$L$2,\"\")","v":""},{"$f":"IF(Jogo!M750=Conferência!$M$2,Conferência!$M$2,\"\")","v":""},{"$f":"IF(Jogo!N750=Conferência!$N$2,Conferência!$N$2,\"\")","v":""},{"$f":"IF(Jogo!O750=Conferência!$O$2,Conferência!$O$2,\"\")","v":""},{"$f":"IF(Jogo!P750=Conferência!$P$2,Conferência!$P$2,\"\")","v":""},{"$f":"IF(Jogo!Q750=Conferência!$Q$2,Conferência!$Q$2,\"\")","v":""},""]
[{"$f":"IF(Jogo!A751=Conferência!$A$2,Conferência!$A$2,\"\")","v":""},{"$f":"IF(Jogo!B751=Conferência!$B$2,Conferência!$B$2,\"\")","v":""},{"$f":"IF(Jogo!C751=Conferência!$C$2,Conferência!$C$2,\"\")","v":""},{"$f":"IF(Jogo!D751=Conferência!$D$2,Conferência!$D$2,\"\")","v":""},{"$f":"IF(Jogo!E751=Conferência!$E$2,Conferência!$E$2,\"\")","v":""},{"$f":"IF(Jogo!F751=Conferência!$F$2,Conferência!$F$2,\"\")","v":""},{"$f":"IF(Jogo!G751=Conferência!$G$2,Conferência!$G$2,\"\")","v":""},{"$f":"IF(Jogo!H751=Conferência!$H$2,Conferência!$H$2,\"\")","v":""},{"$f":"IF(Jogo!I751=Conferência!$I$2,Conferência!$I$2,\"\")","v":""},{"$f":"IF(Jogo!J751=Conferência!$J$2,Conferência!$J$2,\"\")","v":""},{"$f":"IF(Jogo!K751=Conferência!$K$2,Conferência!$K$2,\"\")","v":""},{"$f":"IF(Jogo!L751=Conferência!$L$2,Conferência!$L$2,\"\")","v":""},{"$f":"IF(Jogo!M751=Conferência!$M$2,Conferência!$M$2,\"\")","v":""},{"$f":"IF(Jogo!N751=Conferência!$N$2,Conferência!$N$2,\"\")","v":""},{"$f":"IF(Jogo!O751=Conferência!$O$2,Conferência!$O$2,\"\")","v":""},{"$f":"IF(Jogo!P751=Conferência!$P$2,Conferência!$P$2,\"\")","v":""},{"$f":"IF(Jogo!Q751=Conferência!$Q$2,Conferência!$Q$2,\"\")","v":""},""]
[{"$f":"IF(Jogo!A752=Conferência!$A$2,Conferência!$A$2,\"\")","v":""},{"$f":"IF(Jogo!B752=Conferência!$B$2,Conferência!$B$2,\"\")","v":""},{"$f":"IF(Jogo!C752=Conferência!$C$2,Conferência!$C$2,\"\")","v":""},{"$f":"IF(Jogo!D752=Conferência!$D$2,Conferência!$D$2,\"\")","v":""},{"$f":"IF(Jogo!E752=Conferência!$E$2,Conferência!$E$2,\"\")","v":""},{"$f":"IF(Jogo!F752=Conferência!$F$2,Conferência!$F$2,\"\")","v":""},{"$f":"IF(Jogo!G752=Conferência!$G$2,Conferência!$G$2,\"\")","v":""},{"$f":"IF(Jogo!H752=Conferência!$H$2,Conferência!$H$2,\"\")","v":""},{"$f":"IF(Jogo!I752=Conferência!$I$2,Conferência!$I$2,\"\")","v":""},{"$f":"IF(Jogo!J752=Conferência!$J$2,Conferência!$J$2,\"\")","v":""},{"$f":"IF(Jogo!K752=Conferência!$K$2,Conferência!$K$2,\"\")","v":""},{"$f":"IF(Jogo!L752=Conferência!$L$2,Conferência!$L$2,\"\")","v":""},{"$f":"IF(Jogo!M752=Conferência!$M$2,Conferência!$M$2,\"\")","v":""},{"$f":"IF(Jogo!N752=Conferência!$N$2,Conferência!$N$2,\"\")","v":""},{"$f":"IF(Jogo!O752=Conferência!$O$2,Conferência!$O$2,\"\")","v":""},{"$f":"IF(Jogo!P752=Conferência!$P$2,Conferência!$P$2,\"\")","v":""},{"$f":"IF(Jogo!Q752=Conferência!$Q$2,Conferência!$Q$2,\"\")","v":""},""]
[{"$f":"IF(Jogo!A753=Conferência!$A$2,Conferência!$A$2,\"\")","v":""},{"$f":"IF(Jogo!B753=Conferência!$B$2,Conferência!$B$2,\"\")","v":""},{"$f":"IF(Jogo!C753=Conferência!$C$2,Conferência!$C$2,\"\")","v":""},{"$f":"IF(Jogo!D753=Conferência!$D$2,Conferência!$D$2,\"\")","v":""},{"$f":"IF(Jogo!E753=Conferência!$E$2,Conferência!$E$2,\"\")","v":""},{"$f":"IF(Jogo!F753=Conferência!$F$2,Conferência!$F$2,\"\")","v":""},{"$f":"IF(Jogo!G753=Conferência!$G$2,Conferência!$G$2,\"\")","v":""},{"$f":"IF(Jogo!H753=Conferência!$H$2,Conferência!$H$2,\"\")","v":""},{"$f":"IF(Jogo!I753=Conferência!$I$2,Conferência!$I$2,\"\")","v":""},{"$f":"IF(Jogo!J753=Conferência!$J$2,Conferência!$J$2,\"\")","v":""},{"$f":"IF(Jogo!K753=Conferência!$K$2,Conferência!$K$2,\"\")","v":""},{"$f":"IF(Jogo!L753=Conferência!$L$2,Conferência!$L$2,\"\")","v":""},{"$f":"IF(Jogo!M753=Conferência!$M$2,Conferência!$M$2,\"\")","v":""},{"$f":"IF(Jogo!N753=Conferência!$N$2,Conferência!$N$2,\"\")","v":""},{"$f":"IF(Jogo!O753=Conferência!$O$2,Conferência!$O$2,\"\")","v":""},{"$f":"IF(Jogo!P753=Conferência!$P$2,Conferência!$P$2,\"\")","v":""},{"$f":"IF(Jogo!Q753=Conferência!$Q$2,Conferência!$Q$2,\"\")","v":""},""]
[{"$f":"IF(Jogo!A754=Conferência!$A$2,Conferência!$A$2,\"\")","v":""},{"$f":"IF(Jogo!B754=Conferência!$B$2,Conferência!$B$2,\"\")","v":""},{"$f":"IF(Jogo!C754=Conferência!$C$2,Conferência!$C$2,\"\")","v":""},{"$f":"IF(Jogo!D754=Conferência!$D$2,Conferência!$D$2,\"\")","v":""},{"$f":"IF(Jogo!E754=Conferência!$E$2,Conferência!$E$2,\"\")","v":""},{"$f":"IF(Jogo!F754=Conferência!$F$2,Conferência!$F$2,\"\")","v":""},{"$f":"IF(Jogo!G754=Conferência!$G$2,Conferência!$G$2,\"\")","v":""},{"$f":"IF(Jogo!H754=Conferência!$H$2,Conferência!$H$2,\"\")","v":""},{"$f":"IF(Jogo!I754=Conferência!$I$2,Conferência!$I$2,\"\")","v":""},{"$f":"IF(Jogo!J754=Conferência!$J$2,Conferência!$J$2,\"\")","v":""},{"$f":"IF(Jogo!K754=Conferência!$K$2,Conferência!$K$2,\"\")","v":""},{"$f":"IF(Jogo!L754=Conferência!$L$2,Conferência!$L$2,\"\")","v":""},{"$f":"IF(Jogo!M754=Conferência!$M$2,Conferência!$M$2,\"\")","v":""},{"$f":"IF(Jogo!N754=Conferência!$N$2,Conferência!$N$2,\"\")","v":""},{"$f":"IF(Jogo!O754=Conferência!$O$2,Conferência!$O$2,\"\")","v":""},{"$f":"IF(Jogo!P754=Conferência!$P$2,Conferência!$P$2,\"\")","v":""},{"$f":"IF(Jogo!Q754=Conferência!$Q$2,Conferência!$Q$2,\"\")","v":""},""]
[{"$f":"IF(Jogo!A755=Conferência!$A$2,Conferência!$A$2,\"\")","v":""},{"$f":"IF(Jogo!B755=Conferência!$B$2,Conferência!$B$2,\"\")","v":""},{"$f":"IF(Jogo!C755=Conferência!$C$2,Conferência!$C$2,\"\")","v":""},{"$f":"IF(Jogo!D755=Conferência!$D$2,Conferência!$D$2,\"\")","v":""},{"$f":"IF(Jogo!E755=Conferência!$E$2,Conferência!$E$2,\"\")","v":""},{"$f":"IF(Jogo!F755=Conferência!$F$2,Conferência!$F$2,\"\")","v":""},{"$f":"IF(Jogo!G755=Conferência!$G$2,Conferência!$G$2,\"\")","v":""},{"$f":"IF(Jogo!H755=Conferência!$H$2,Conferência!$H$2,\"\")","v":""},{"$f":"IF(Jogo!I755=Conferência!$I$2,Conferência!$I$2,\"\")","v":""},{"$f":"IF(Jogo!J755=Conferência!$J$2,Conferência!$J$2,\"\")","v":""},{"$f":"IF(Jogo!K755=Conferência!$K$2,Conferência!$K$2,\"\")","v":""},{"$f":"IF(Jogo!L755=Conferência!$L$2,Conferência!$L$2,\"\")","v":""},{"$f":"IF(Jogo!M755=Conferência!$M$2,Conferência!$M$2,\"\")","v":""},{"$f":"IF(Jogo!N755=Conferência!$N$2,Conferência!$N$2,\"\")","v":""},{"$f":"IF(Jogo!O755=Conferência!$O$2,Conferência!$O$2,\"\")","v":""},{"$f":"IF(Jogo!P755=Conferência!$P$2,Conferência!$P$2,\"\")","v":""},{"$f":"IF(Jogo!Q755=Conferência!$Q$2,Conferência!$Q$2,\"\")","v":""},""]
[{"$f":"IF(Jogo!A756=Conferência!$A$2,Conferência!$A$2,\"\")","v":""},{"$f":"IF(Jogo!B756=Conferência!$B$2,Conferência!$B$2,\"\")","v":""},{"$f":"IF(Jogo!C756=Conferência!$C$2,Conferência!$C$2,\"\")","v":""},{"$f":"IF(Jogo!D756=Conferência!$D$2,Conferência!$D$2,\"\")","v":""},{"$f":"IF(Jogo!E756=Conferência!$E$2,Conferência!$E$2,\"\")","v":""},{"$f":"IF(Jogo!F756=Conferência!$F$2,Conferência!$F$2,\"\")","v":""},{"$f":"IF(Jogo!G756=Conferência!$G$2,Conferência!$G$2,\"\")","v":""},{"$f":"IF(Jogo!H756=Conferência!$H$2,Conferência!$H$2,\"\")","v":""},{"$f":"IF(Jogo!I756=Conferência!$I$2,Conferência!$I$2,\"\")","v":""},{"$f":"IF(Jogo!J756=Conferência!$J$2,Conferência!$J$2,\"\")","v":""},{"$f":"IF(Jogo!K756=Conferência!$K$2,Conferência!$K$2,\"\")","v":""},{"$f":"IF(Jogo!L756=Conferência!$L$2,Conferência!$L$2,\"\")","v":""},{"$f":"IF(Jogo!M756=Conferência!$M$2,Conferência!$M$2,\"\")","v":""},{"$f":"IF(Jogo!N756=Conferência!$N$2,Conferência!$N$2,\"\")","v":""},{"$f":"IF(Jogo!O756=Conferência!$O$2,Conferência!$O$2,\"\")","v":""},{"$f":"IF(Jogo!P756=Conferência!$P$2,Conferência!$P$2,\"\")","v":""},{"$f":"IF(Jogo!Q756=Conferência!$Q$2,Conferência!$Q$2,\"\")","v":""},""]
[{"$f":"IF(Jogo!A757=Conferência!$A$2,Conferência!$A$2,\"\")","v":""},{"$f":"IF(Jogo!B757=Conferência!$B$2,Conferência!$B$2,\"\")","v":""},{"$f":"IF(Jogo!C757=Conferência!$C$2,Conferência!$C$2,\"\")","v":""},{"$f":"IF(Jogo!D757=Conferência!$D$2,Conferência!$D$2,\"\")","v":""},{"$f":"IF(Jogo!E757=Conferência!$E$2,Conferência!$E$2,\"\")","v":""},{"$f":"IF(Jogo!F757=Conferência!$F$2,Conferência!$F$2,\"\")","v":""},{"$f":"IF(Jogo!G757=Conferência!$G$2,Conferência!$G$2,\"\")","v":""},{"$f":"IF(Jogo!H757=Conferência!$H$2,Conferência!$H$2,\"\")","v":""},{"$f":"IF(Jogo!I757=Conferência!$I$2,Conferência!$I$2,\"\")","v":""},{"$f":"IF(Jogo!J757=Conferência!$J$2,Conferência!$J$2,\"\")","v":""},{"$f":"IF(Jogo!K757=Conferência!$K$2,Conferência!$K$2,\"\")","v":""},{"$f":"IF(Jogo!L757=Conferência!$L$2,Conferência!$L$2,\"\")","v":""},{"$f":"IF(Jogo!M757=Conferência!$M$2,Conferência!$M$2,\"\")","v":""},{"$f":"IF(Jogo!N757=Conferência!$N$2,Conferência!$N$2,\"\")","v":""},{"$f":"IF(Jogo!O757=Conferência!$O$2,Conferência!$O$2,\"\")","v":""},{"$f":"IF(Jogo!P757=Conferência!$P$2,Conferência!$P$2,\"\")","v":""},{"$f":"IF(Jogo!Q757=Conferência!$Q$2,Conferência!$Q$2,\"\")","v":""},""]
[{"$f":"IF(Jogo!A758=Conferência!$A$2,Conferência!$A$2,\"\")","v":""},{"$f":"IF(Jogo!B758=Conferência!$B$2,Conferência!$B$2,\"\")","v":""},{"$f":"IF(Jogo!C758=Conferência!$C$2,Conferência!$C$2,\"\")","v":""},{"$f":"IF(Jogo!D758=Conferência!$D$2,Conferência!$D$2,\"\")","v":""},{"$f":"IF(Jogo!E758=Conferência!$E$2,Conferência!$E$2,\"\")","v":""},{"$f":"IF(Jogo!F758=Conferência!$F$2,Conferência!$F$2,\"\")","v":""},{"$f":"IF(Jogo!G758=Conferência!$G$2,Conferência!$G$2,\"\")","v":""},{"$f":"IF(Jogo!H758=Conferência!$H$2,Conferência!$H$2,\"\")","v":""},{"$f":"IF(Jogo!I758=Conferência!$I$2,Conferência!$I$2,\"\")","v":""},{"$f":"IF(Jogo!J758=Conferência!$J$2,Conferência!$J$2,\"\")","v":""},{"$f":"IF(Jogo!K758=Conferência!$K$2,Conferência!$K$2,\"\")","v":""},{"$f":"IF(Jogo!L758=Conferência!$L$2,Conferência!$L$2,\"\")","v":""},{"$f":"IF(Jogo!M758=Conferência!$M$2,Conferência!$M$2,\"\")","v":""},{"$f":"IF(Jogo!N758=Conferência!$N$2,Conferência!$N$2,\"\")","v":""},{"$f":"IF(Jogo!O758=Conferência!$O$2,Conferência!$O$2,\"\")","v":""},{"$f":"IF(Jogo!P758=Conferência!$P$2,Conferência!$P$2,\"\")","v":""},{"$f":"IF(Jogo!Q758=Conferência!$Q$2,Conferência!$Q$2,\"\")","v":""},""]
[{"$f":"IF(Jogo!A759=Conferência!$A$2,Conferência!$A$2,\"\")","v":""},{"$f":"IF(Jogo!B759=Conferência!$B$2,Conferência!$B$2,\"\")","v":""},{"$f":"IF(Jogo!C759=Conferência!$C$2,Conferência!$C$2,\"\")","v":""},{"$f":"IF(Jogo!D759=Conferência!$D$2,Conferência!$D$2,\"\")","v":""},{"$f":"IF(Jogo!E759=Conferência!$E$2,Conferência!$E$2,\"\")","v":""},{"$f":"IF(Jogo!F759=Conferência!$F$2,Conferência!$F$2,\"\")","v":""},{"$f":"IF(Jogo!G759=Conferência!$G$2,Conferência!$G$2,\"\")","v":""},{"$f":"IF(Jogo!H759=Conferência!$H$2,Conferência!$H$2,\"\")","v":""},{"$f":"IF(Jogo!I759=Conferência!$I$2,Conferência!$I$2,\"\")","v":""},{"$f":"IF(Jogo!J759=Conferência!$J$2,Conferência!$J$2,\"\")","v":""},{"$f":"IF(Jogo!K759=Conferência!$K$2,Conferência!$K$2,\"\")","v":""},{"$f":"IF(Jogo!L759=Conferência!$L$2,Conferência!$L$2,\"\")","v":""},{"$f":"IF(Jogo!M759=Conferência!$M$2,Conferência!$M$2,\"\")","v":""},{"$f":"IF(Jogo!N759=Conferência!$N$2,Conferência!$N$2,\"\")","v":""},{"$f":"IF(Jogo!O759=Conferência!$O$2,Conferência!$O$2,\"\")","v":""},{"$f":"IF(Jogo!P759=Conferência!$P$2,Conferência!$P$2,\"\")","v":""},{"$f":"IF(Jogo!Q759=Conferência!$Q$2,Conferência!$Q$2,\"\")","v":""},""]
[{"$f":"IF(Jogo!A760=Conferência!$A$2,Conferência!$A$2,\"\")","v":""},{"$f":"IF(Jogo!B760=Conferência!$B$2,Conferência!$B$2,\"\")","v":""},{"$f":"IF(Jogo!C760=Conferência!$C$2,Conferência!$C$2,\"\")","v":""},{"$f":"IF(Jogo!D760=Conferência!$D$2,Conferência!$D$2,\"\")","v":""},{"$f":"IF(Jogo!E760=Conferência!$E$2,Conferência!$E$2,\"\")","v":""},{"$f":"IF(Jogo!F760=Conferência!$F$2,Conferência!$F$2,\"\")","v":""},{"$f":"IF(Jogo!G760=Conferência!$G$2,Conferência!$G$2,\"\")","v":""},{"$f":"IF(Jogo!H760=Conferência!$H$2,Conferência!$H$2,\"\")","v":""},{"$f":"IF(Jogo!I760=Conferência!$I$2,Conferência!$I$2,\"\")","v":""},{"$f":"IF(Jogo!J760=Conferência!$J$2,Conferência!$J$2,\"\")","v":""},{"$f":"IF(Jogo!K760=Conferência!$K$2,Conferência!$K$2,\"\")","v":""},{"$f":"IF(Jogo!L760=Conferência!$L$2,Conferência!$L$2,\"\")","v":""},{"$f":"IF(Jogo!M760=Conferência!$M$2,Conferência!$M$2,\"\")","v":""},{"$f":"IF(Jogo!N760=Conferência!$N$2,Conferência!$N$2,\"\")","v":""},{"$f":"IF(Jogo!O760=Conferência!$O$2,Conferência!$O$2,\"\")","v":""},{"$f":"IF(Jogo!P760=Conferência!$P$2,Conferência!$P$2,\"\")","v":""},{"$f":"IF(Jogo!Q760=Conferência!$Q$2,Conferência!$Q$2,\"\")","v":""},""]
[{"$f":"IF(Jogo!A761=Conferência!$A$2,Conferência!$A$2,\"\")","v":""},{"$f":"IF(Jogo!B761=Conferência!$B$2,Conferência!$B$2,\"\")","v":""},{"$f":"IF(Jogo!C761=Conferência!$C$2,Conferência!$C$2,\"\")","v":""},{"$f":"IF(Jogo!D761=Conferência!$D$2,Conferência!$D$2,\"\")","v":""},{"$f":"IF(Jogo!E761=Conferência!$E$2,Conferência!$E$2,\"\")","v":""},{"$f":"IF(Jogo!F761=Conferência!$F$2,Conferência!$F$2,\"\")","v":""},{"$f":"IF(Jogo!G761=Conferência!$G$2,Conferência!$G$2,\"\")","v":""},{"$f":"IF(Jogo!H761=Conferência!$H$2,Conferência!$H$2,\"\")","v":""},{"$f":"IF(Jogo!I761=Conferência!$I$2,Conferência!$I$2,\"\")","v":""},{"$f":"IF(Jogo!J761=Conferência!$J$2,Conferência!$J$2,\"\")","v":""},{"$f":"IF(Jogo!K761=Conferência!$K$2,Conferência!$K$2,\"\")","v":""},{"$f":"IF(Jogo!L761=Conferência!$L$2,Conferência!$L$2,\"\")","v":""},{"$f":"IF(Jogo!M761=Conferência!$M$2,Conferência!$M$2,\"\")","v":""},{"$f":"IF(Jogo!N761=Conferência!$N$2,Conferência!$N$2,\"\")","v":""},{"$f":"IF(Jogo!O761=Conferência!$O$2,Conferência!$O$2,\"\")","v":""},{"$f":"IF(Jogo!P761=Conferência!$P$2,Conferência!$P$2,\"\")","v":""},{"$f":"IF(Jogo!Q761=Conferência!$Q$2,Conferência!$Q$2,\"\")","v":""},""]
[{"$f":"IF(Jogo!A762=Conferência!$A$2,Conferência!$A$2,\"\")","v":""},{"$f":"IF(Jogo!B762=Conferência!$B$2,Conferência!$B$2,\"\")","v":""},{"$f":"IF(Jogo!C762=Conferência!$C$2,Conferência!$C$2,\"\")","v":""},{"$f":"IF(Jogo!D762=Conferência!$D$2,Conferência!$D$2,\"\")","v":""},{"$f":"IF(Jogo!E762=Conferência!$E$2,Conferência!$E$2,\"\")","v":""},{"$f":"IF(Jogo!F762=Conferência!$F$2,Conferência!$F$2,\"\")","v":""},{"$f":"IF(Jogo!G762=Conferência!$G$2,Conferência!$G$2,\"\")","v":""},{"$f":"IF(Jogo!H762=Conferência!$H$2,Conferência!$H$2,\"\")","v":""},{"$f":"IF(Jogo!I762=Conferência!$I$2,Conferência!$I$2,\"\")","v":""},{"$f":"IF(Jogo!J762=Conferência!$J$2,Conferência!$J$2,\"\")","v":""},{"$f":"IF(Jogo!K762=Conferência!$K$2,Conferência!$K$2,\"\")","v":""},{"$f":"IF(Jogo!L762=Conferência!$L$2,Conferência!$L$2,\"\")","v":""},{"$f":"IF(Jogo!M762=Conferência!$M$2,Conferência!$M$2,\"\")","v":""},{"$f":"IF(Jogo!N762=Conferência!$N$2,Conferência!$N$2,\"\")","v":""},{"$f":"IF(Jogo!O762=Conferência!$O$2,Conferência!$O$2,\"\")","v":""},{"$f":"IF(Jogo!P762=Conferência!$P$2,Conferência!$P$2,\"\")","v":""},{"$f":"IF(Jogo!Q762=Conferência!$Q$2,Conferência!$Q$2,\"\")","v":""},""]
[{"$f":"IF(Jogo!A763=Conferência!$A$2,Conferência!$A$2,\"\")","v":""},{"$f":"IF(Jogo!B763=Conferência!$B$2,Conferência!$B$2,\"\")","v":""},{"$f":"IF(Jogo!C763=Conferência!$C$2,Conferência!$C$2,\"\")","v":""},{"$f":"IF(Jogo!D763=Conferência!$D$2,Conferência!$D$2,\"\")","v":""},{"$f":"IF(Jogo!E763=Conferência!$E$2,Conferência!$E$2,\"\")","v":""},{"$f":"IF(Jogo!F763=Conferência!$F$2,Conferência!$F$2,\"\")","v":""},{"$f":"IF(Jogo!G763=Conferência!$G$2,Conferência!$G$2,\"\")","v":""},{"$f":"IF(Jogo!H763=Conferência!$H$2,Conferência!$H$2,\"\")","v":""},{"$f":"IF(Jogo!I763=Conferência!$I$2,Conferência!$I$2,\"\")","v":""},{"$f":"IF(Jogo!J763=Conferência!$J$2,Conferência!$J$2,\"\")","v":""},{"$f":"IF(Jogo!K763=Conferência!$K$2,Conferência!$K$2,\"\")","v":""},{"$f":"IF(Jogo!L763=Conferência!$L$2,Conferência!$L$2,\"\")","v":""},{"$f":"IF(Jogo!M763=Conferência!$M$2,Conferência!$M$2,\"\")","v":""},{"$f":"IF(Jogo!N763=Conferência!$N$2,Conferência!$N$2,\"\")","v":""},{"$f":"IF(Jogo!O763=Conferência!$O$2,Conferência!$O$2,\"\")","v":""},{"$f":"IF(Jogo!P763=Conferência!$P$2,Conferência!$P$2,\"\")","v":""},{"$f":"IF(Jogo!Q763=Conferência!$Q$2,Conferência!$Q$2,\"\")","v":""},""]
[{"$f":"IF(Jogo!A764=Conferência!$A$2,Conferência!$A$2,\"\")","v":""},{"$f":"IF(Jogo!B764=Conferência!$B$2,Conferência!$B$2,\"\")","v":""},{"$f":"IF(Jogo!C764=Conferência!$C$2,Conferência!$C$2,\"\")","v":""},{"$f":"IF(Jogo!D764=Conferência!$D$2,Conferência!$D$2,\"\")","v":""},{"$f":"IF(Jogo!E764=Conferência!$E$2,Conferência!$E$2,\"\")","v":""},{"$f":"IF(Jogo!F764=Conferência!$F$2,Conferência!$F$2,\"\")","v":""},{"$f":"IF(Jogo!G764=Conferência!$G$2,Conferência!$G$2,\"\")","v":""},{"$f":"IF(Jogo!H764=Conferência!$H$2,Conferência!$H$2,\"\")","v":""},{"$f":"IF(Jogo!I764=Conferência!$I$2,Conferência!$I$2,\"\")","v":""},{"$f":"IF(Jogo!J764=Conferência!$J$2,Conferência!$J$2,\"\")","v":""},{"$f":"IF(Jogo!K764=Conferência!$K$2,Conferência!$K$2,\"\")","v":""},{"$f":"IF(Jogo!L764=Conferência!$L$2,Conferência!$L$2,\"\")","v":""},{"$f":"IF(Jogo!M764=Conferência!$M$2,Conferência!$M$2,\"\")","v":""},{"$f":"IF(Jogo!N764=Conferência!$N$2,Conferência!$N$2,\"\")","v":""},{"$f":"IF(Jogo!O764=Conferência!$O$2,Conferência!$O$2,\"\")","v":""},{"$f":"IF(Jogo!P764=Conferência!$P$2,Conferência!$P$2,\"\")","v":""},{"$f":"IF(Jogo!Q764=Conferência!$Q$2,Conferência!$Q$2,\"\")","v":""},""]
[{"$f":"IF(Jogo!A765=Conferência!$A$2,Conferência!$A$2,\"\")","v":""},{"$f":"IF(Jogo!B765=Conferência!$B$2,Conferência!$B$2,\"\")","v":""},{"$f":"IF(Jogo!C765=Conferência!$C$2,Conferência!$C$2,\"\")","v":""},{"$f":"IF(Jogo!D765=Conferência!$D$2,Conferência!$D$2,\"\")","v":""},{"$f":"IF(Jogo!E765=Conferência!$E$2,Conferência!$E$2,\"\")","v":""},{"$f":"IF(Jogo!F765=Conferência!$F$2,Conferência!$F$2,\"\")","v":""},{"$f":"IF(Jogo!G765=Conferência!$G$2,Conferência!$G$2,\"\")","v":""},{"$f":"IF(Jogo!H765=Conferência!$H$2,Conferência!$H$2,\"\")","v":""},{"$f":"IF(Jogo!I765=Conferência!$I$2,Conferência!$I$2,\"\")","v":""},{"$f":"IF(Jogo!J765=Conferência!$J$2,Conferência!$J$2,\"\")","v":""},{"$f":"IF(Jogo!K765=Conferência!$K$2,Conferência!$K$2,\"\")","v":""},{"$f":"IF(Jogo!L765=Conferência!$L$2,Conferência!$L$2,\"\")","v":""},{"$f":"IF(Jogo!M765=Conferência!$M$2,Conferência!$M$2,\"\")","v":""},{"$f":"IF(Jogo!N765=Conferência!$N$2,Conferência!$N$2,\"\")","v":""},{"$f":"IF(Jogo!O765=Conferência!$O$2,Conferência!$O$2,\"\")","v":""},{"$f":"IF(Jogo!P765=Conferência!$P$2,Conferência!$P$2,\"\")","v":""},{"$f":"IF(Jogo!Q765=Conferência!$Q$2,Conferência!$Q$2,\"\")","v":""},""]
[{"$f":"IF(Jogo!A766=Conferência!$A$2,Conferência!$A$2,\"\")","v":""},{"$f":"IF(Jogo!B766=Conferência!$B$2,Conferência!$B$2,\"\")","v":""},{"$f":"IF(Jogo!C766=Conferência!$C$2,Conferência!$C$2,\"\")","v":""},{"$f":"IF(Jogo!D766=Conferência!$D$2,Conferência!$D$2,\"\")","v":""},{"$f":"IF(Jogo!E766=Conferência!$E$2,Conferência!$E$2,\"\")","v":""},{"$f":"IF(Jogo!F766=Conferência!$F$2,Conferência!$F$2,\"\")","v":""},{"$f":"IF(Jogo!G766=Conferência!$G$2,Conferência!$G$2,\"\")","v":""},{"$f":"IF(Jogo!H766=Conferência!$H$2,Conferência!$H$2,\"\")","v":""},{"$f":"IF(Jogo!I766=Conferência!$I$2,Conferência!$I$2,\"\")","v":""},{"$f":"IF(Jogo!J766=Conferência!$J$2,Conferência!$J$2,\"\")","v":""},{"$f":"IF(Jogo!K766=Conferência!$K$2,Conferência!$K$2,\"\")","v":""},{"$f":"IF(Jogo!L766=Conferência!$L$2,Conferência!$L$2,\"\")","v":""},{"$f":"IF(Jogo!M766=Conferência!$M$2,Conferência!$M$2,\"\")","v":""},{"$f":"IF(Jogo!N766=Conferência!$N$2,Conferência!$N$2,\"\")","v":""},{"$f":"IF(Jogo!O766=Conferência!$O$2,Conferência!$O$2,\"\")","v":""},{"$f":"IF(Jogo!P766=Conferência!$P$2,Conferência!$P$2,\"\")","v":""},{"$f":"IF(Jogo!Q766=Conferência!$Q$2,Conferência!$Q$2,\"\")","v":""},""]
[{"$f":"IF(Jogo!A767=Conferência!$A$2,Conferência!$A$2,\"\")","v":""},{"$f":"IF(Jogo!B767=Conferência!$B$2,Conferência!$B$2,\"\")","v":""},{"$f":"IF(Jogo!C767=Conferência!$C$2,Conferência!$C$2,\"\")","v":""},{"$f":"IF(Jogo!D767=Conferência!$D$2,Conferência!$D$2,\"\")","v":""},{"$f":"IF(Jogo!E767=Conferência!$E$2,Conferência!$E$2,\"\")","v":""},{"$f":"IF(Jogo!F767=Conferência!$F$2,Conferência!$F$2,\"\")","v":""},{"$f":"IF(Jogo!G767=Conferência!$G$2,Conferência!$G$2,\"\")","v":""},{"$f":"IF(Jogo!H767=Conferência!$H$2,Conferência!$H$2,\"\")","v":""},{"$f":"IF(Jogo!I767=Conferência!$I$2,Conferência!$I$2,\"\")","v":""},{"$f":"IF(Jogo!J767=Conferência!$J$2,Conferência!$J$2,\"\")","v":""},{"$f":"IF(Jogo!K767=Conferência!$K$2,Conferência!$K$2,\"\")","v":""},{"$f":"IF(Jogo!L767=Conferência!$L$2,Conferência!$L$2,\"\")","v":""},{"$f":"IF(Jogo!M767=Conferência!$M$2,Conferência!$M$2,\"\")","v":""},{"$f":"IF(Jogo!N767=Conferência!$N$2,Conferência!$N$2,\"\")","v":""},{"$f":"IF(Jogo!O767=Conferência!$O$2,Conferência!$O$2,\"\")","v":""},{"$f":"IF(Jogo!P767=Conferência!$P$2,Conferência!$P$2,\"\")","v":""},{"$f":"IF(Jogo!Q767=Conferência!$Q$2,Conferência!$Q$2,\"\")","v":""},""]
[{"$f":"IF(Jogo!A768=Conferência!$A$2,Conferência!$A$2,\"\")","v":""},{"$f":"IF(Jogo!B768=Conferência!$B$2,Conferência!$B$2,\"\")","v":""},{"$f":"IF(Jogo!C768=Conferência!$C$2,Conferência!$C$2,\"\")","v":""},{"$f":"IF(Jogo!D768=Conferência!$D$2,Conferência!$D$2,\"\")","v":""},{"$f":"IF(Jogo!E768=Conferência!$E$2,Conferência!$E$2,\"\")","v":""},{"$f":"IF(Jogo!F768=Conferência!$F$2,Conferência!$F$2,\"\")","v":""},{"$f":"IF(Jogo!G768=Conferência!$G$2,Conferência!$G$2,\"\")","v":""},{"$f":"IF(Jogo!H768=Conferência!$H$2,Conferência!$H$2,\"\")","v":""},{"$f":"IF(Jogo!I768=Conferência!$I$2,Conferência!$I$2,\"\")","v":""},{"$f":"IF(Jogo!J768=Conferência!$J$2,Conferência!$J$2,\"\")","v":""},{"$f":"IF(Jogo!K768=Conferência!$K$2,Conferência!$K$2,\"\")","v":""},{"$f":"IF(Jogo!L768=Conferência!$L$2,Conferência!$L$2,\"\")","v":""},{"$f":"IF(Jogo!M768=Conferência!$M$2,Conferência!$M$2,\"\")","v":""},{"$f":"IF(Jogo!N768=Conferência!$N$2,Conferência!$N$2,\"\")","v":""},{"$f":"IF(Jogo!O768=Conferência!$O$2,Conferência!$O$2,\"\")","v":""},{"$f":"IF(Jogo!P768=Conferência!$P$2,Conferência!$P$2,\"\")","v":""},{"$f":"IF(Jogo!Q768=Conferência!$Q$2,Conferência!$Q$2,\"\")","v":""},""]
[{"$f":"IF(Jogo!A769=Conferência!$A$2,Conferência!$A$2,\"\")","v":""},{"$f":"IF(Jogo!B769=Conferência!$B$2,Conferência!$B$2,\"\")","v":""},{"$f":"IF(Jogo!C769=Conferência!$C$2,Conferência!$C$2,\"\")","v":""},{"$f":"IF(Jogo!D769=Conferência!$D$2,Conferência!$D$2,\"\")","v":""},{"$f":"IF(Jogo!E769=Conferência!$E$2,Conferência!$E$2,\"\")","v":""},{"$f":"IF(Jogo!F769=Conferência!$F$2,Conferência!$F$2,\"\")","v":""},{"$f":"IF(Jogo!G769=Conferência!$G$2,Conferência!$G$2,\"\")","v":""},{"$f":"IF(Jogo!H769=Conferência!$H$2,Conferência!$H$2,\"\")","v":""},{"$f":"IF(Jogo!I769=Conferência!$I$2,Conferência!$I$2,\"\")","v":""},{"$f":"IF(Jogo!J769=Conferência!$J$2,Conferência!$J$2,\"\")","v":""},{"$f":"IF(Jogo!K769=Conferência!$K$2,Conferência!$K$2,\"\")","v":""},{"$f":"IF(Jogo!L769=Conferência!$L$2,Conferência!$L$2,\"\")","v":""},{"$f":"IF(Jogo!M769=Conferência!$M$2,Conferência!$M$2,\"\")","v":""},{"$f":"IF(Jogo!N769=Conferência!$N$2,Conferência!$N$2,\"\")","v":""},{"$f":"IF(Jogo!O769=Conferência!$O$2,Conferência!$O$2,\"\")","v":""},{"$f":"IF(Jogo!P769=Conferência!$P$2,Conferência!$P$2,\"\")","v":""},{"$f":"IF(Jogo!Q769=Conferência!$Q$2,Conferência!$Q$2,\"\")","v":""},""]
[{"$f":"IF(Jogo!A770=Conferência!$A$2,Conferência!$A$2,\"\")","v":""},{"$f":"IF(Jogo!B770=Conferência!$B$2,Conferência!$B$2,\"\")","v":""},{"$f":"IF(Jogo!C770=Conferência!$C$2,Conferência!$C$2,\"\")","v":""},{"$f":"IF(Jogo!D770=Conferência!$D$2,Conferência!$D$2,\"\")","v":""},{"$f":"IF(Jogo!E770=Conferência!$E$2,Conferência!$E$2,\"\")","v":""},{"$f":"IF(Jogo!F770=Conferência!$F$2,Conferência!$F$2,\"\")","v":""},{"$f":"IF(Jogo!G770=Conferência!$G$2,Conferência!$G$2,\"\")","v":""},{"$f":"IF(Jogo!H770=Conferência!$H$2,Conferência!$H$2,\"\")","v":""},{"$f":"IF(Jogo!I770=Conferência!$I$2,Conferência!$I$2,\"\")","v":""},{"$f":"IF(Jogo!J770=Conferência!$J$2,Conferência!$J$2,\"\")","v":""},{"$f":"IF(Jogo!K770=Conferência!$K$2,Conferência!$K$2,\"\")","v":""},{"$f":"IF(Jogo!L770=Conferência!$L$2,Conferência!$L$2,\"\")","v":""},{"$f":"IF(Jogo!M770=Conferência!$M$2,Conferência!$M$2,\"\")","v":""},{"$f":"IF(Jogo!N770=Conferência!$N$2,Conferência!$N$2,\"\")","v":""},{"$f":"IF(Jogo!O770=Conferência!$O$2,Conferência!$O$2,\"\")","v":""},{"$f":"IF(Jogo!P770=Conferência!$P$2,Conferência!$P$2,\"\")","v":""},{"$f":"IF(Jogo!Q770=Conferência!$Q$2,Conferência!$Q$2,\"\")","v":""},""]
[{"$f":"IF(Jogo!A771=Conferência!$A$2,Conferência!$A$2,\"\")","v":""},{"$f":"IF(Jogo!B771=Conferência!$B$2,Conferência!$B$2,\"\")","v":""},{"$f":"IF(Jogo!C771=Conferência!$C$2,Conferência!$C$2,\"\")","v":""},{"$f":"IF(Jogo!D771=Conferência!$D$2,Conferência!$D$2,\"\")","v":""},{"$f":"IF(Jogo!E771=Conferência!$E$2,Conferência!$E$2,\"\")","v":""},{"$f":"IF(Jogo!F771=Conferência!$F$2,Conferência!$F$2,\"\")","v":""},{"$f":"IF(Jogo!G771=Conferência!$G$2,Conferência!$G$2,\"\")","v":""},{"$f":"IF(Jogo!H771=Conferência!$H$2,Conferência!$H$2,\"\")","v":""},{"$f":"IF(Jogo!I771=Conferência!$I$2,Conferência!$I$2,\"\")","v":""},{"$f":"IF(Jogo!J771=Conferência!$J$2,Conferência!$J$2,\"\")","v":""},{"$f":"IF(Jogo!K771=Conferência!$K$2,Conferência!$K$2,\"\")","v":""},{"$f":"IF(Jogo!L771=Conferência!$L$2,Conferência!$L$2,\"\")","v":""},{"$f":"IF(Jogo!M771=Conferência!$M$2,Conferência!$M$2,\"\")","v":""},{"$f":"IF(Jogo!N771=Conferência!$N$2,Conferência!$N$2,\"\")","v":""},{"$f":"IF(Jogo!O771=Conferência!$O$2,Conferência!$O$2,\"\")","v":""},{"$f":"IF(Jogo!P771=Conferência!$P$2,Conferência!$P$2,\"\")","v":""},{"$f":"IF(Jogo!Q771=Conferência!$Q$2,Conferência!$Q$2,\"\")","v":""},""]
[{"$f":"IF(Jogo!A772=Conferência!$A$2,Conferência!$A$2,\"\")","v":""},{"$f":"IF(Jogo!B772=Conferência!$B$2,Conferência!$B$2,\"\")","v":""},{"$f":"IF(Jogo!C772=Conferência!$C$2,Conferência!$C$2,\"\")","v":""},{"$f":"IF(Jogo!D772=Conferência!$D$2,Conferência!$D$2,\"\")","v":""},{"$f":"IF(Jogo!E772=Conferência!$E$2,Conferência!$E$2,\"\")","v":""},{"$f":"IF(Jogo!F772=Conferência!$F$2,Conferência!$F$2,\"\")","v":""},{"$f":"IF(Jogo!G772=Conferência!$G$2,Conferência!$G$2,\"\")","v":""},{"$f":"IF(Jogo!H772=Conferência!$H$2,Conferência!$H$2,\"\")","v":""},{"$f":"IF(Jogo!I772=Conferência!$I$2,Conferência!$I$2,\"\")","v":""},{"$f":"IF(Jogo!J772=Conferência!$J$2,Conferência!$J$2,\"\")","v":""},{"$f":"IF(Jogo!K772=Conferência!$K$2,Conferência!$K$2,\"\")","v":""},{"$f":"IF(Jogo!L772=Conferência!$L$2,Conferência!$L$2,\"\")","v":""},{"$f":"IF(Jogo!M772=Conferência!$M$2,Conferência!$M$2,\"\")","v":""},{"$f":"IF(Jogo!N772=Conferência!$N$2,Conferência!$N$2,\"\")","v":""},{"$f":"IF(Jogo!O772=Conferência!$O$2,Conferência!$O$2,\"\")","v":""},{"$f":"IF(Jogo!P772=Conferência!$P$2,Conferência!$P$2,\"\")","v":""},{"$f":"IF(Jogo!Q772=Conferência!$Q$2,Conferência!$Q$2,\"\")","v":""},""]
[{"$f":"IF(Jogo!A773=Conferência!$A$2,Conferência!$A$2,\"\")","v":""},{"$f":"IF(Jogo!B773=Conferência!$B$2,Conferência!$B$2,\"\")","v":""},{"$f":"IF(Jogo!C773=Conferência!$C$2,Conferência!$C$2,\"\")","v":""},{"$f":"IF(Jogo!D773=Conferência!$D$2,Conferência!$D$2,\"\")","v":""},{"$f":"IF(Jogo!E773=Conferência!$E$2,Conferência!$E$2,\"\")","v":""},{"$f":"IF(Jogo!F773=Conferência!$F$2,Conferência!$F$2,\"\")","v":""},{"$f":"IF(Jogo!G773=Conferência!$G$2,Conferência!$G$2,\"\")","v":""},{"$f":"IF(Jogo!H773=Conferência!$H$2,Conferência!$H$2,\"\")","v":""},{"$f":"IF(Jogo!I773=Conferência!$I$2,Conferência!$I$2,\"\")","v":""},{"$f":"IF(Jogo!J773=Conferência!$J$2,Conferência!$J$2,\"\")","v":""},{"$f":"IF(Jogo!K773=Conferência!$K$2,Conferência!$K$2,\"\")","v":""},{"$f":"IF(Jogo!L773=Conferência!$L$2,Conferência!$L$2,\"\")","v":""},{"$f":"IF(Jogo!M773=Conferência!$M$2,Conferência!$M$2,\"\")","v":""},{"$f":"IF(Jogo!N773=Conferência!$N$2,Conferência!$N$2,\"\")","v":""},{"$f":"IF(Jogo!O773=Conferência!$O$2,Conferência!$O$2,\"\")","v":""},{"$f":"IF(Jogo!P773=Conferência!$P$2,Conferência!$P$2,\"\")","v":""},{"$f":"IF(Jogo!Q773=Conferência!$Q$2,Conferência!$Q$2,\"\")","v":""},""]
[{"$f":"IF(Jogo!A774=Conferência!$A$2,Conferência!$A$2,\"\")","v":""},{"$f":"IF(Jogo!B774=Conferência!$B$2,Conferência!$B$2,\"\")","v":""},{"$f":"IF(Jogo!C774=Conferência!$C$2,Conferência!$C$2,\"\")","v":""},{"$f":"IF(Jogo!D774=Conferência!$D$2,Conferência!$D$2,\"\")","v":""},{"$f":"IF(Jogo!E774=Conferência!$E$2,Conferência!$E$2,\"\")","v":""},{"$f":"IF(Jogo!F774=Conferência!$F$2,Conferência!$F$2,\"\")","v":""},{"$f":"IF(Jogo!G774=Conferência!$G$2,Conferência!$G$2,\"\")","v":""},{"$f":"IF(Jogo!H774=Conferência!$H$2,Conferência!$H$2,\"\")","v":""},{"$f":"IF(Jogo!I774=Conferência!$I$2,Conferência!$I$2,\"\")","v":""},{"$f":"IF(Jogo!J774=Conferência!$J$2,Conferência!$J$2,\"\")","v":""},{"$f":"IF(Jogo!K774=Conferência!$K$2,Conferência!$K$2,\"\")","v":""},{"$f":"IF(Jogo!L774=Conferência!$L$2,Conferência!$L$2,\"\")","v":""},{"$f":"IF(Jogo!M774=Conferência!$M$2,Conferência!$M$2,\"\")","v":""},{"$f":"IF(Jogo!N774=Conferência!$N$2,Conferência!$N$2,\"\")","v":""},{"$f":"IF(Jogo!O774=Conferência!$O$2,Conferência!$O$2,\"\")","v":""},{"$f":"IF(Jogo!P774=Conferência!$P$2,Conferência!$P$2,\"\")","v":""},{"$f":"IF(Jogo!Q774=Conferência!$Q$2,Conferência!$Q$2,\"\")","v":""},""]
[{"$f":"IF(Jogo!A775=Conferência!$A$2,Conferência!$A$2,\"\")","v":""},{"$f":"IF(Jogo!B775=Conferência!$B$2,Conferência!$B$2,\"\")","v":""},{"$f":"IF(Jogo!C775=Conferência!$C$2,Conferência!$C$2,\"\")","v":""},{"$f":"IF(Jogo!D775=Conferência!$D$2,Conferência!$D$2,\"\")","v":""},{"$f":"IF(Jogo!E775=Conferência!$E$2,Conferência!$E$2,\"\")","v":""},{"$f":"IF(Jogo!F775=Conferência!$F$2,Conferência!$F$2,\"\")","v":""},{"$f":"IF(Jogo!G775=Conferência!$G$2,Conferência!$G$2,\"\")","v":""},{"$f":"IF(Jogo!H775=Conferência!$H$2,Conferência!$H$2,\"\")","v":""},{"$f":"IF(Jogo!I775=Conferência!$I$2,Conferência!$I$2,\"\")","v":""},{"$f":"IF(Jogo!J775=Conferência!$J$2,Conferência!$J$2,\"\")","v":""},{"$f":"IF(Jogo!K775=Conferência!$K$2,Conferência!$K$2,\"\")","v":""},{"$f":"IF(Jogo!L775=Conferência!$L$2,Conferência!$L$2,\"\")","v":""},{"$f":"IF(Jogo!M775=Conferência!$M$2,Conferência!$M$2,\"\")","v":""},{"$f":"IF(Jogo!N775=Conferência!$N$2,Conferência!$N$2,\"\")","v":""},{"$f":"IF(Jogo!O775=Conferência!$O$2,Conferência!$O$2,\"\")","v":""},{"$f":"IF(Jogo!P775=Conferência!$P$2,Conferência!$P$2,\"\")","v":""},{"$f":"IF(Jogo!Q775=Conferência!$Q$2,Conferência!$Q$2,\"\")","v":""},""]
[{"$f":"IF(Jogo!A776=Conferência!$A$2,Conferência!$A$2,\"\")","v":""},{"$f":"IF(Jogo!B776=Conferência!$B$2,Conferência!$B$2,\"\")","v":""},{"$f":"IF(Jogo!C776=Conferência!$C$2,Conferência!$C$2,\"\")","v":""},{"$f":"IF(Jogo!D776=Conferência!$D$2,Conferência!$D$2,\"\")","v":""},{"$f":"IF(Jogo!E776=Conferência!$E$2,Conferência!$E$2,\"\")","v":""},{"$f":"IF(Jogo!F776=Conferência!$F$2,Conferência!$F$2,\"\")","v":""},{"$f":"IF(Jogo!G776=Conferência!$G$2,Conferência!$G$2,\"\")","v":""},{"$f":"IF(Jogo!H776=Conferência!$H$2,Conferência!$H$2,\"\")","v":""},{"$f":"IF(Jogo!I776=Conferência!$I$2,Conferência!$I$2,\"\")","v":""},{"$f":"IF(Jogo!J776=Conferência!$J$2,Conferência!$J$2,\"\")","v":""},{"$f":"IF(Jogo!K776=Conferência!$K$2,Conferência!$K$2,\"\")","v":""},{"$f":"IF(Jogo!L776=Conferência!$L$2,Conferência!$L$2,\"\")","v":""},{"$f":"IF(Jogo!M776=Conferência!$M$2,Conferência!$M$2,\"\")","v":""},{"$f":"IF(Jogo!N776=Conferência!$N$2,Conferência!$N$2,\"\")","v":""},{"$f":"IF(Jogo!O776=Conferência!$O$2,Conferência!$O$2,\"\")","v":""},{"$f":"IF(Jogo!P776=Conferência!$P$2,Conferência!$P$2,\"\")","v":""},{"$f":"IF(Jogo!Q776=Conferência!$Q$2,Conferência!$Q$2,\"\")","v":""},""]
[{"$f":"IF(Jogo!A777=Conferência!$A$2,Conferência!$A$2,\"\")","v":""},{"$f":"IF(Jogo!B777=Conferência!$B$2,Conferência!$B$2,\"\")","v":""},{"$f":"IF(Jogo!C777=Conferência!$C$2,Conferência!$C$2,\"\")","v":""},{"$f":"IF(Jogo!D777=Conferência!$D$2,Conferência!$D$2,\"\")","v":""},{"$f":"IF(Jogo!E777=Conferência!$E$2,Conferência!$E$2,\"\")","v":""},{"$f":"IF(Jogo!F777=Conferência!$F$2,Conferência!$F$2,\"\")","v":""},{"$f":"IF(Jogo!G777=Conferência!$G$2,Conferência!$G$2,\"\")","v":""},{"$f":"IF(Jogo!H777=Conferência!$H$2,Conferência!$H$2,\"\")","v":""},{"$f":"IF(Jogo!I777=Conferência!$I$2,Conferência!$I$2,\"\")","v":""},{"$f":"IF(Jogo!J777=Conferência!$J$2,Conferência!$J$2,\"\")","v":""},{"$f":"IF(Jogo!K777=Conferência!$K$2,Conferência!$K$2,\"\")","v":""},{"$f":"IF(Jogo!L777=Conferência!$L$2,Conferência!$L$2,\"\")","v":""},{"$f":"IF(Jogo!M777=Conferência!$M$2,Conferência!$M$2,\"\")","v":""},{"$f":"IF(Jogo!N777=Conferência!$N$2,Conferência!$N$2,\"\")","v":""},{"$f":"IF(Jogo!O777=Conferência!$O$2,Conferência!$O$2,\"\")","v":""},{"$f":"IF(Jogo!P777=Conferência!$P$2,Conferência!$P$2,\"\")","v":""},{"$f":"IF(Jogo!Q777=Conferência!$Q$2,Conferência!$Q$2,\"\")","v":""},""]
[{"$f":"IF(Jogo!A778=Conferência!$A$2,Conferência!$A$2,\"\")","v":""},{"$f":"IF(Jogo!B778=Conferência!$B$2,Conferência!$B$2,\"\")","v":""},{"$f":"IF(Jogo!C778=Conferência!$C$2,Conferência!$C$2,\"\")","v":""},{"$f":"IF(Jogo!D778=Conferência!$D$2,Conferência!$D$2,\"\")","v":""},{"$f":"IF(Jogo!E778=Conferência!$E$2,Conferência!$E$2,\"\")","v":""},{"$f":"IF(Jogo!F778=Conferência!$F$2,Conferência!$F$2,\"\")","v":""},{"$f":"IF(Jogo!G778=Conferência!$G$2,Conferência!$G$2,\"\")","v":""},{"$f":"IF(Jogo!H778=Conferência!$H$2,Conferência!$H$2,\"\")","v":""},{"$f":"IF(Jogo!I778=Conferência!$I$2,Conferência!$I$2,\"\")","v":""},{"$f":"IF(Jogo!J778=Conferência!$J$2,Conferência!$J$2,\"\")","v":""},{"$f":"IF(Jogo!K778=Conferência!$K$2,Conferência!$K$2,\"\")","v":""},{"$f":"IF(Jogo!L778=Conferência!$L$2,Conferência!$L$2,\"\")","v":""},{"$f":"IF(Jogo!M778=Conferência!$M$2,Conferência!$M$2,\"\")","v":""},{"$f":"IF(Jogo!N778=Conferência!$N$2,Conferência!$N$2,\"\")","v":""},{"$f":"IF(Jogo!O778=Conferência!$O$2,Conferência!$O$2,\"\")","v":""},{"$f":"IF(Jogo!P778=Conferência!$P$2,Conferência!$P$2,\"\")","v":""},{"$f":"IF(Jogo!Q778=Conferência!$Q$2,Conferência!$Q$2,\"\")","v":""},""]
[{"$f":"IF(Jogo!A779=Conferência!$A$2,Conferência!$A$2,\"\")","v":""},{"$f":"IF(Jogo!B779=Conferência!$B$2,Conferência!$B$2,\"\")","v":""},{"$f":"IF(Jogo!C779=Conferência!$C$2,Conferência!$C$2,\"\")","v":""},{"$f":"IF(Jogo!D779=Conferência!$D$2,Conferência!$D$2,\"\")","v":""},{"$f":"IF(Jogo!E779=Conferência!$E$2,Conferência!$E$2,\"\")","v":""},{"$f":"IF(Jogo!F779=Conferência!$F$2,Conferência!$F$2,\"\")","v":""},{"$f":"IF(Jogo!G779=Conferência!$G$2,Conferência!$G$2,\"\")","v":""},{"$f":"IF(Jogo!H779=Conferência!$H$2,Conferência!$H$2,\"\")","v":""},{"$f":"IF(Jogo!I779=Conferência!$I$2,Conferência!$I$2,\"\")","v":""},{"$f":"IF(Jogo!J779=Conferência!$J$2,Conferência!$J$2,\"\")","v":""},{"$f":"IF(Jogo!K779=Conferência!$K$2,Conferência!$K$2,\"\")","v":""},{"$f":"IF(Jogo!L779=Conferência!$L$2,Conferência!$L$2,\"\")","v":""},{"$f":"IF(Jogo!M779=Conferência!$M$2,Conferência!$M$2,\"\")","v":""},{"$f":"IF(Jogo!N779=Conferência!$N$2,Conferência!$N$2,\"\")","v":""},{"$f":"IF(Jogo!O779=Conferência!$O$2,Conferência!$O$2,\"\")","v":""},{"$f":"IF(Jogo!P779=Conferência!$P$2,Conferência!$P$2,\"\")","v":""},{"$f":"IF(Jogo!Q779=Conferência!$Q$2,Conferência!$Q$2,\"\")","v":""},""]
[{"$f":"IF(Jogo!A780=Conferência!$A$2,Conferência!$A$2,\"\")","v":""},{"$f":"IF(Jogo!B780=Conferência!$B$2,Conferência!$B$2,\"\")","v":""},{"$f":"IF(Jogo!C780=Conferência!$C$2,Conferência!$C$2,\"\")","v":""},{"$f":"IF(Jogo!D780=Conferência!$D$2,Conferência!$D$2,\"\")","v":""},{"$f":"IF(Jogo!E780=Conferência!$E$2,Conferência!$E$2,\"\")","v":""},{"$f":"IF(Jogo!F780=Conferência!$F$2,Conferência!$F$2,\"\")","v":""},{"$f":"IF(Jogo!G780=Conferência!$G$2,Conferência!$G$2,\"\")","v":""},{"$f":"IF(Jogo!H780=Conferência!$H$2,Conferência!$H$2,\"\")","v":""},{"$f":"IF(Jogo!I780=Conferência!$I$2,Conferência!$I$2,\"\")","v":""},{"$f":"IF(Jogo!J780=Conferência!$J$2,Conferência!$J$2,\"\")","v":""},{"$f":"IF(Jogo!K780=Conferência!$K$2,Conferência!$K$2,\"\")","v":""},{"$f":"IF(Jogo!L780=Conferência!$L$2,Conferência!$L$2,\"\")","v":""},{"$f":"IF(Jogo!M780=Conferência!$M$2,Conferência!$M$2,\"\")","v":""},{"$f":"IF(Jogo!N780=Conferência!$N$2,Conferência!$N$2,\"\")","v":""},{"$f":"IF(Jogo!O780=Conferência!$O$2,Conferência!$O$2,\"\")","v":""},{"$f":"IF(Jogo!P780=Conferência!$P$2,Conferência!$P$2,\"\")","v":""},{"$f":"IF(Jogo!Q780=Conferência!$Q$2,Conferência!$Q$2,\"\")","v":""},""]
[{"$f":"IF(Jogo!A781=Conferência!$A$2,Conferência!$A$2,\"\")","v":""},{"$f":"IF(Jogo!B781=Conferência!$B$2,Conferência!$B$2,\"\")","v":""},{"$f":"IF(Jogo!C781=Conferência!$C$2,Conferência!$C$2,\"\")","v":""},{"$f":"IF(Jogo!D781=Conferência!$D$2,Conferência!$D$2,\"\")","v":""},{"$f":"IF(Jogo!E781=Conferência!$E$2,Conferência!$E$2,\"\")","v":""},{"$f":"IF(Jogo!F781=Conferência!$F$2,Conferência!$F$2,\"\")","v":""},{"$f":"IF(Jogo!G781=Conferência!$G$2,Conferência!$G$2,\"\")","v":""},{"$f":"IF(Jogo!H781=Conferência!$H$2,Conferência!$H$2,\"\")","v":""},{"$f":"IF(Jogo!I781=Conferência!$I$2,Conferência!$I$2,\"\")","v":""},{"$f":"IF(Jogo!J781=Conferência!$J$2,Conferência!$J$2,\"\")","v":""},{"$f":"IF(Jogo!K781=Conferência!$K$2,Conferência!$K$2,\"\")","v":""},{"$f":"IF(Jogo!L781=Conferência!$L$2,Conferência!$L$2,\"\")","v":""},{"$f":"IF(Jogo!M781=Conferência!$M$2,Conferência!$M$2,\"\")","v":""},{"$f":"IF(Jogo!N781=Conferência!$N$2,Conferência!$N$2,\"\")","v":""},{"$f":"IF(Jogo!O781=Conferência!$O$2,Conferência!$O$2,\"\")","v":""},{"$f":"IF(Jogo!P781=Conferência!$P$2,Conferência!$P$2,\"\")","v":""},{"$f":"IF(Jogo!Q781=Conferência!$Q$2,Conferência!$Q$2,\"\")","v":""},""]
[{"$f":"IF(Jogo!A782=Conferência!$A$2,Conferência!$A$2,\"\")","v":""},{"$f":"IF(Jogo!B782=Conferência!$B$2,Conferência!$B$2,\"\")","v":""},{"$f":"IF(Jogo!C782=Conferência!$C$2,Conferência!$C$2,\"\")","v":""},{"$f":"IF(Jogo!D782=Conferência!$D$2,Conferência!$D$2,\"\")","v":""},{"$f":"IF(Jogo!E782=Conferência!$E$2,Conferência!$E$2,\"\")","v":""},{"$f":"IF(Jogo!F782=Conferência!$F$2,Conferência!$F$2,\"\")","v":""},{"$f":"IF(Jogo!G782=Conferência!$G$2,Conferência!$G$2,\"\")","v":""},{"$f":"IF(Jogo!H782=Conferência!$H$2,Conferência!$H$2,\"\")","v":""},{"$f":"IF(Jogo!I782=Conferência!$I$2,Conferência!$I$2,\"\")","v":""},{"$f":"IF(Jogo!J782=Conferência!$J$2,Conferência!$J$2,\"\")","v":""},{"$f":"IF(Jogo!K782=Conferência!$K$2,Conferência!$K$2,\"\")","v":""},{"$f":"IF(Jogo!L782=Conferência!$L$2,Conferência!$L$2,\"\")","v":""},{"$f":"IF(Jogo!M782=Conferência!$M$2,Conferência!$M$2,\"\")","v":""},{"$f":"IF(Jogo!N782=Conferência!$N$2,Conferência!$N$2,\"\")","v":""},{"$f":"IF(Jogo!O782=Conferência!$O$2,Conferência!$O$2,\"\")","v":""},{"$f":"IF(Jogo!P782=Conferência!$P$2,Conferência!$P$2,\"\")","v":""},{"$f":"IF(Jogo!Q782=Conferência!$Q$2,Conferência!$Q$2,\"\")","v":""},""]
[{"$f":"IF(Jogo!A783=Conferência!$A$2,Conferência!$A$2,\"\")","v":""},{"$f":"IF(Jogo!B783=Conferência!$B$2,Conferência!$B$2,\"\")","v":""},{"$f":"IF(Jogo!C783=Conferência!$C$2,Conferência!$C$2,\"\")","v":""},{"$f":"IF(Jogo!D783=Conferência!$D$2,Conferência!$D$2,\"\")","v":""},{"$f":"IF(Jogo!E783=Conferência!$E$2,Conferência!$E$2,\"\")","v":""},{"$f":"IF(Jogo!F783=Conferência!$F$2,Conferência!$F$2,\"\")","v":""},{"$f":"IF(Jogo!G783=Conferência!$G$2,Conferência!$G$2,\"\")","v":""},{"$f":"IF(Jogo!H783=Conferência!$H$2,Conferência!$H$2,\"\")","v":""},{"$f":"IF(Jogo!I783=Conferência!$I$2,Conferência!$I$2,\"\")","v":""},{"$f":"IF(Jogo!J783=Conferência!$J$2,Conferência!$J$2,\"\")","v":""},{"$f":"IF(Jogo!K783=Conferência!$K$2,Conferência!$K$2,\"\")","v":""},{"$f":"IF(Jogo!L783=Conferência!$L$2,Conferência!$L$2,\"\")","v":""},{"$f":"IF(Jogo!M783=Conferência!$M$2,Conferência!$M$2,\"\")","v":""},{"$f":"IF(Jogo!N783=Conferência!$N$2,Conferência!$N$2,\"\")","v":""},{"$f":"IF(Jogo!O783=Conferência!$O$2,Conferência!$O$2,\"\")","v":""},{"$f":"IF(Jogo!P783=Conferência!$P$2,Conferência!$P$2,\"\")","v":""},{"$f":"IF(Jogo!Q783=Conferência!$Q$2,Conferência!$Q$2,\"\")","v":""},""]
[{"$f":"IF(Jogo!A784=Conferência!$A$2,Conferência!$A$2,\"\")","v":""},{"$f":"IF(Jogo!B784=Conferência!$B$2,Conferência!$B$2,\"\")","v":""},{"$f":"IF(Jogo!C784=Conferência!$C$2,Conferência!$C$2,\"\")","v":""},{"$f":"IF(Jogo!D784=Conferência!$D$2,Conferência!$D$2,\"\")","v":""},{"$f":"IF(Jogo!E784=Conferência!$E$2,Conferência!$E$2,\"\")","v":""},{"$f":"IF(Jogo!F784=Conferência!$F$2,Conferência!$F$2,\"\")","v":""},{"$f":"IF(Jogo!G784=Conferência!$G$2,Conferência!$G$2,\"\")","v":""},{"$f":"IF(Jogo!H784=Conferência!$H$2,Conferência!$H$2,\"\")","v":""},{"$f":"IF(Jogo!I784=Conferência!$I$2,Conferência!$I$2,\"\")","v":""},{"$f":"IF(Jogo!J784=Conferência!$J$2,Conferência!$J$2,\"\")","v":""},{"$f":"IF(Jogo!K784=Conferência!$K$2,Conferência!$K$2,\"\")","v":""},{"$f":"IF(Jogo!L784=Conferência!$L$2,Conferência!$L$2,\"\")","v":""},{"$f":"IF(Jogo!M784=Conferência!$M$2,Conferência!$M$2,\"\")","v":""},{"$f":"IF(Jogo!N784=Conferência!$N$2,Conferência!$N$2,\"\")","v":""},{"$f":"IF(Jogo!O784=Conferência!$O$2,Conferência!$O$2,\"\")","v":""},{"$f":"IF(Jogo!P784=Conferência!$P$2,Conferência!$P$2,\"\")","v":""},{"$f":"IF(Jogo!Q784=Conferência!$Q$2,Conferência!$Q$2,\"\")","v":""},""]
[{"$f":"IF(Jogo!A785=Conferência!$A$2,Conferência!$A$2,\"\")","v":""},{"$f":"IF(Jogo!B785=Conferência!$B$2,Conferência!$B$2,\"\")","v":""},{"$f":"IF(Jogo!C785=Conferência!$C$2,Conferência!$C$2,\"\")","v":""},{"$f":"IF(Jogo!D785=Conferência!$D$2,Conferência!$D$2,\"\")","v":""},{"$f":"IF(Jogo!E785=Conferência!$E$2,Conferência!$E$2,\"\")","v":""},{"$f":"IF(Jogo!F785=Conferência!$F$2,Conferência!$F$2,\"\")","v":""},{"$f":"IF(Jogo!G785=Conferência!$G$2,Conferência!$G$2,\"\")","v":""},{"$f":"IF(Jogo!H785=Conferência!$H$2,Conferência!$H$2,\"\")","v":""},{"$f":"IF(Jogo!I785=Conferência!$I$2,Conferência!$I$2,\"\")","v":""},{"$f":"IF(Jogo!J785=Conferência!$J$2,Conferência!$J$2,\"\")","v":""},{"$f":"IF(Jogo!K785=Conferência!$K$2,Conferência!$K$2,\"\")","v":""},{"$f":"IF(Jogo!L785=Conferência!$L$2,Conferência!$L$2,\"\")","v":""},{"$f":"IF(Jogo!M785=Conferência!$M$2,Conferência!$M$2,\"\")","v":""},{"$f":"IF(Jogo!N785=Conferência!$N$2,Conferência!$N$2,\"\")","v":""},{"$f":"IF(Jogo!O785=Conferência!$O$2,Conferência!$O$2,\"\")","v":""},{"$f":"IF(Jogo!P785=Conferência!$P$2,Conferência!$P$2,\"\")","v":""},{"$f":"IF(Jogo!Q785=Conferência!$Q$2,Conferência!$Q$2,\"\")","v":""},""]
[{"$f":"IF(Jogo!A786=Conferência!$A$2,Conferência!$A$2,\"\")","v":""},{"$f":"IF(Jogo!B786=Conferência!$B$2,Conferência!$B$2,\"\")","v":""},{"$f":"IF(Jogo!C786=Conferência!$C$2,Conferência!$C$2,\"\")","v":""},{"$f":"IF(Jogo!D786=Conferência!$D$2,Conferência!$D$2,\"\")","v":""},{"$f":"IF(Jogo!E786=Conferência!$E$2,Conferência!$E$2,\"\")","v":""},{"$f":"IF(Jogo!F786=Conferência!$F$2,Conferência!$F$2,\"\")","v":""},{"$f":"IF(Jogo!G786=Conferência!$G$2,Conferência!$G$2,\"\")","v":""},{"$f":"IF(Jogo!H786=Conferência!$H$2,Conferência!$H$2,\"\")","v":""},{"$f":"IF(Jogo!I786=Conferência!$I$2,Conferência!$I$2,\"\")","v":""},{"$f":"IF(Jogo!J786=Conferência!$J$2,Conferência!$J$2,\"\")","v":""},{"$f":"IF(Jogo!K786=Conferência!$K$2,Conferência!$K$2,\"\")","v":""},{"$f":"IF(Jogo!L786=Conferência!$L$2,Conferência!$L$2,\"\")","v":""},{"$f":"IF(Jogo!M786=Conferência!$M$2,Conferência!$M$2,\"\")","v":""},{"$f":"IF(Jogo!N786=Conferência!$N$2,Conferência!$N$2,\"\")","v":""},{"$f":"IF(Jogo!O786=Conferência!$O$2,Conferência!$O$2,\"\")","v":""},{"$f":"IF(Jogo!P786=Conferência!$P$2,Conferência!$P$2,\"\")","v":""},{"$f":"IF(Jogo!Q786=Conferência!$Q$2,Conferência!$Q$2,\"\")","v":""},{"$f":"IF(A786=\"\",\"\",\"OK\")","v":""}]
[{"$f":"IF(Jogo!A787=Conferência!$A$2,Conferência!$A$2,\"\")","v":""},{"$f":"IF(Jogo!B787=Conferência!$B$2,Conferência!$B$2,\"\")","v":""},{"$f":"IF(Jogo!C787=Conferência!$C$2,Conferência!$C$2,\"\")","v":""},{"$f":"IF(Jogo!D787=Conferência!$D$2,Conferência!$D$2,\"\")","v":""},{"$f":"IF(Jogo!E787=Conferência!$E$2,Conferência!$E$2,\"\")","v":""},{"$f":"IF(Jogo!F787=Conferência!$F$2,Conferência!$F$2,\"\")","v":""},{"$f":"IF(Jogo!G787=Conferência!$G$2,Conferência!$G$2,\"\")","v":""},{"$f":"IF(Jogo!H787=Conferência!$H$2,Conferência!$H$2,\"\")","v":""},{"$f":"IF(Jogo!I787=Conferência!$I$2,Conferência!$I$2,\"\")","v":""},{"$f":"IF(Jogo!J787=Conferência!$J$2,Conferência!$J$2,\"\")","v":""},{"$f":"IF(Jogo!K787=Conferência!$K$2,Conferência!$K$2,\"\")","v":""},{"$f":"IF(Jogo!L787=Conferência!$L$2,Conferência!$L$2,\"\")","v":""},{"$f":"IF(Jogo!M787=Conferência!$M$2,Conferência!$M$2,\"\")","v":""},{"$f":"IF(Jogo!N787=Conferência!$N$2,Conferência!$N$2,\"\")","v":""},{"$f":"IF(Jogo!O787=Conferência!$O$2,Conferência!$O$2,\"\")","v":""},{"$f":"IF(Jogo!P787=Conferência!$P$2,Conferência!$P$2,\"\")","v":""},{"$f":"IF(Jogo!Q787=Conferência!$Q$2,Conferência!$Q$2,\"\")","v":""},""]
[{"$f":"IF(Jogo!A788=Conferência!$A$2,Conferência!$A$2,\"\")","v":""},{"$f":"IF(Jogo!B788=Conferência!$B$2,Conferência!$B$2,\"\")","v":""},{"$f":"IF(Jogo!C788=Conferência!$C$2,Conferência!$C$2,\"\")","v":""},{"$f":"IF(Jogo!D788=Conferência!$D$2,Conferência!$D$2,\"\")","v":""},{"$f":"IF(Jogo!E788=Conferência!$E$2,Conferência!$E$2,\"\")","v":""},{"$f":"IF(Jogo!F788=Conferência!$F$2,Conferência!$F$2,\"\")","v":""},{"$f":"IF(Jogo!G788=Conferência!$G$2,Conferência!$G$2,\"\")","v":""},{"$f":"IF(Jogo!H788=Conferência!$H$2,Conferência!$H$2,\"\")","v":""},{"$f":"IF(Jogo!I788=Conferência!$I$2,Conferência!$I$2,\"\")","v":""},{"$f":"IF(Jogo!J788=Conferência!$J$2,Conferência!$J$2,\"\")","v":""},{"$f":"IF(Jogo!K788=Conferência!$K$2,Conferência!$K$2,\"\")","v":""},{"$f":"IF(Jogo!L788=Conferência!$L$2,Conferência!$L$2,\"\")","v":""},{"$f":"IF(Jogo!M788=Conferência!$M$2,Conferência!$M$2,\"\")","v":""},{"$f":"IF(Jogo!N788=Conferência!$N$2,Conferência!$N$2,\"\")","v":""},{"$f":"IF(Jogo!O788=Conferência!$O$2,Conferência!$O$2,\"\")","v":""},{"$f":"IF(Jogo!P788=Conferência!$P$2,Conferência!$P$2,\"\")","v":""},{"$f":"IF(Jogo!Q788=Conferência!$Q$2,Conferência!$Q$2,\"\")","v":""},""]
[{"$f":"IF(Jogo!A789=Conferência!$A$2,Conferência!$A$2,\"\")","v":""},{"$f":"IF(Jogo!B789=Conferência!$B$2,Conferência!$B$2,\"\")","v":""},{"$f":"IF(Jogo!C789=Conferência!$C$2,Conferência!$C$2,\"\")","v":""},{"$f":"IF(Jogo!D789=Conferência!$D$2,Conferência!$D$2,\"\")","v":""},{"$f":"IF(Jogo!E789=Conferência!$E$2,Conferência!$E$2,\"\")","v":""},{"$f":"IF(Jogo!F789=Conferência!$F$2,Conferência!$F$2,\"\")","v":""},{"$f":"IF(Jogo!G789=Conferência!$G$2,Conferência!$G$2,\"\")","v":""},{"$f":"IF(Jogo!H789=Conferência!$H$2,Conferência!$H$2,\"\")","v":""},{"$f":"IF(Jogo!I789=Conferência!$I$2,Conferência!$I$2,\"\")","v":""},{"$f":"IF(Jogo!J789=Conferência!$J$2,Conferência!$J$2,\"\")","v":""},{"$f":"IF(Jogo!K789=Conferência!$K$2,Conferência!$K$2,\"\")","v":""},{"$f":"IF(Jogo!L789=Conferência!$L$2,Conferência!$L$2,\"\")","v":""},{"$f":"IF(Jogo!M789=Conferência!$M$2,Conferência!$M$2,\"\")","v":""},{"$f":"IF(Jogo!N789=Conferência!$N$2,Conferência!$N$2,\"\")","v":""},{"$f":"IF(Jogo!O789=Conferência!$O$2,Conferência!$O$2,\"\")","v":""},{"$f":"IF(Jogo!P789=Conferência!$P$2,Conferência!$P$2,\"\")","v":""},{"$f":"IF(Jogo!Q789=Conferência!$Q$2,Conferência!$Q$2,\"\")","v":""},""]
[{"$f":"IF(Jogo!A790=Conferência!$A$2,Conferência!$A$2,\"\")","v":""},{"$f":"IF(Jogo!B790=Conferência!$B$2,Conferência!$B$2,\"\")","v":""},{"$f":"IF(Jogo!C790=Conferência!$C$2,Conferência!$C$2,\"\")","v":""},{"$f":"IF(Jogo!D790=Conferência!$D$2,Conferência!$D$2,\"\")","v":""},{"$f":"IF(Jogo!E790=Conferência!$E$2,Conferência!$E$2,\"\")","v":""},{"$f":"IF(Jogo!F790=Conferência!$F$2,Conferência!$F$2,\"\")","v":""},{"$f":"IF(Jogo!G790=Conferência!$G$2,Conferência!$G$2,\"\")","v":""},{"$f":"IF(Jogo!H790=Conferência!$H$2,Conferência!$H$2,\"\")","v":""},{"$f":"IF(Jogo!I790=Conferência!$I$2,Conferência!$I$2,\"\")","v":""},{"$f":"IF(Jogo!J790=Conferência!$J$2,Conferência!$J$2,\"\")","v":""},{"$f":"IF(Jogo!K790=Conferência!$K$2,Conferência!$K$2,\"\")","v":""},{"$f":"IF(Jogo!L790=Conferência!$L$2,Conferência!$L$2,\"\")","v":""},{"$f":"IF(Jogo!M790=Conferência!$M$2,Conferência!$M$2,\"\")","v":""},{"$f":"IF(Jogo!N790=Conferência!$N$2,Conferência!$N$2,\"\")","v":""},{"$f":"IF(Jogo!O790=Conferência!$O$2,Conferência!$O$2,\"\")","v":""},{"$f":"IF(Jogo!P790=Conferência!$P$2,Conferência!$P$2,\"\")","v":""},{"$f":"IF(Jogo!Q790=Conferência!$Q$2,Conferência!$Q$2,\"\")","v":""},""]
[{"$f":"IF(Jogo!A791=Conferência!$A$2,Conferência!$A$2,\"\")","v":""},{"$f":"IF(Jogo!B791=Conferência!$B$2,Conferência!$B$2,\"\")","v":""},{"$f":"IF(Jogo!C791=Conferência!$C$2,Conferência!$C$2,\"\")","v":""},{"$f":"IF(Jogo!D791=Conferência!$D$2,Conferência!$D$2,\"\")","v":""},{"$f":"IF(Jogo!E791=Conferência!$E$2,Conferência!$E$2,\"\")","v":""},{"$f":"IF(Jogo!F791=Conferência!$F$2,Conferência!$F$2,\"\")","v":""},{"$f":"IF(Jogo!G791=Conferência!$G$2,Conferência!$G$2,\"\")","v":""},{"$f":"IF(Jogo!H791=Conferência!$H$2,Conferência!$H$2,\"\")","v":""},{"$f":"IF(Jogo!I791=Conferência!$I$2,Conferência!$I$2,\"\")","v":""},{"$f":"IF(Jogo!J791=Conferência!$J$2,Conferência!$J$2,\"\")","v":""},{"$f":"IF(Jogo!K791=Conferência!$K$2,Conferência!$K$2,\"\")","v":""},{"$f":"IF(Jogo!L791=Conferência!$L$2,Conferência!$L$2,\"\")","v":""},{"$f":"IF(Jogo!M791=Conferência!$M$2,Conferência!$M$2,\"\")","v":""},{"$f":"IF(Jogo!N791=Conferência!$N$2,Conferência!$N$2,\"\")","v":""},{"$f":"IF(Jogo!O791=Conferência!$O$2,Conferência!$O$2,\"\")","v":""},{"$f":"IF(Jogo!P791=Conferência!$P$2,Conferência!$P$2,\"\")","v":""},{"$f":"IF(Jogo!Q791=Conferência!$Q$2,Conferência!$Q$2,\"\")","v":""},""]
[{"$f":"IF(Jogo!A792=Conferência!$A$2,Conferência!$A$2,\"\")","v":""},{"$f":"IF(Jogo!B792=Conferência!$B$2,Conferência!$B$2,\"\")","v":""},{"$f":"IF(Jogo!C792=Conferência!$C$2,Conferência!$C$2,\"\")","v":""},{"$f":"IF(Jogo!D792=Conferência!$D$2,Conferência!$D$2,\"\")","v":""},{"$f":"IF(Jogo!E792=Conferência!$E$2,Conferência!$E$2,\"\")","v":""},{"$f":"IF(Jogo!F792=Conferência!$F$2,Conferência!$F$2,\"\")","v":""},{"$f":"IF(Jogo!G792=Conferência!$G$2,Conferência!$G$2,\"\")","v":""},{"$f":"IF(Jogo!H792=Conferência!$H$2,Conferência!$H$2,\"\")","v":""},{"$f":"IF(Jogo!I792=Conferência!$I$2,Conferência!$I$2,\"\")","v":""},{"$f":"IF(Jogo!J792=Conferência!$J$2,Conferência!$J$2,\"\")","v":""},{"$f":"IF(Jogo!K792=Conferência!$K$2,Conferência!$K$2,\"\")","v":""},{"$f":"IF(Jogo!L792=Conferência!$L$2,Conferência!$L$2,\"\")","v":""},{"$f":"IF(Jogo!M792=Conferência!$M$2,Conferência!$M$2,\"\")","v":""},{"$f":"IF(Jogo!N792=Conferência!$N$2,Conferência!$N$2,\"\")","v":""},{"$f":"IF(Jogo!O792=Conferência!$O$2,Conferência!$O$2,\"\")","v":""},{"$f":"IF(Jogo!P792=Conferência!$P$2,Conferência!$P$2,\"\")","v":""},{"$f":"IF(Jogo!Q792=Conferência!$Q$2,Conferência!$Q$2,\"\")","v":""},""]
[{"$f":"IF(Jogo!A793=Conferência!$A$2,Conferência!$A$2,\"\")","v":""},{"$f":"IF(Jogo!B793=Conferência!$B$2,Conferência!$B$2,\"\")","v":""},{"$f":"IF(Jogo!C793=Conferência!$C$2,Conferência!$C$2,\"\")","v":""},{"$f":"IF(Jogo!D793=Conferência!$D$2,Conferência!$D$2,\"\")","v":""},{"$f":"IF(Jogo!E793=Conferência!$E$2,Conferência!$E$2,\"\")","v":""},{"$f":"IF(Jogo!F793=Conferência!$F$2,Conferência!$F$2,\"\")","v":""},{"$f":"IF(Jogo!G793=Conferência!$G$2,Conferência!$G$2,\"\")","v":""},{"$f":"IF(Jogo!H793=Conferência!$H$2,Conferência!$H$2,\"\")","v":""},{"$f":"IF(Jogo!I793=Conferência!$I$2,Conferência!$I$2,\"\")","v":""},{"$f":"IF(Jogo!J793=Conferência!$J$2,Conferência!$J$2,\"\")","v":""},{"$f":"IF(Jogo!K793=Conferência!$K$2,Conferência!$K$2,\"\")","v":""},{"$f":"IF(Jogo!L793=Conferência!$L$2,Conferência!$L$2,\"\")","v":""},{"$f":"IF(Jogo!M793=Conferência!$M$2,Conferência!$M$2,\"\")","v":""},{"$f":"IF(Jogo!N793=Conferência!$N$2,Conferência!$N$2,\"\")","v":""},{"$f":"IF(Jogo!O793=Conferência!$O$2,Conferência!$O$2,\"\")","v":""},{"$f":"IF(Jogo!P793=Conferência!$P$2,Conferência!$P$2,\"\")","v":""},{"$f":"IF(Jogo!Q793=Conferência!$Q$2,Conferência!$Q$2,\"\")","v":""},""]
[{"$f":"IF(Jogo!A794=Conferência!$A$2,Conferência!$A$2,\"\")","v":""},{"$f":"IF(Jogo!B794=Conferência!$B$2,Conferência!$B$2,\"\")","v":""},{"$f":"IF(Jogo!C794=Conferência!$C$2,Conferência!$C$2,\"\")","v":""},{"$f":"IF(Jogo!D794=Conferência!$D$2,Conferência!$D$2,\"\")","v":""},{"$f":"IF(Jogo!E794=Conferência!$E$2,Conferência!$E$2,\"\")","v":""},{"$f":"IF(Jogo!F794=Conferência!$F$2,Conferência!$F$2,\"\")","v":""},{"$f":"IF(Jogo!G794=Conferência!$G$2,Conferência!$G$2,\"\")","v":""},{"$f":"IF(Jogo!H794=Conferência!$H$2,Conferência!$H$2,\"\")","v":""},{"$f":"IF(Jogo!I794=Conferência!$I$2,Conferência!$I$2,\"\")","v":""},{"$f":"IF(Jogo!J794=Conferência!$J$2,Conferência!$J$2,\"\")","v":""},{"$f":"IF(Jogo!K794=Conferência!$K$2,Conferência!$K$2,\"\")","v":""},{"$f":"IF(Jogo!L794=Conferência!$L$2,Conferência!$L$2,\"\")","v":""},{"$f":"IF(Jogo!M794=Conferência!$M$2,Conferência!$M$2,\"\")","v":""},{"$f":"IF(Jogo!N794=Conferência!$N$2,Conferência!$N$2,\"\")","v":""},{"$f":"IF(Jogo!O794=Conferência!$O$2,Conferência!$O$2,\"\")","v":""},{"$f":"IF(Jogo!P794=Conferência!$P$2,Conferência!$P$2,\"\")","v":""},{"$f":"IF(Jogo!Q794=Conferência!$Q$2,Conferência!$Q$2,\"\")","v":""},""]
[{"$f":"IF(Jogo!A795=Conferência!$A$2,Conferência!$A$2,\"\")","v":""},{"$f":"IF(Jogo!B795=Conferência!$B$2,Conferência!$B$2,\"\")","v":""},{"$f":"IF(Jogo!C795=Conferência!$C$2,Conferência!$C$2,\"\")","v":""},{"$f":"IF(Jogo!D795=Conferência!$D$2,Conferência!$D$2,\"\")","v":""},{"$f":"IF(Jogo!E795=Conferência!$E$2,Conferência!$E$2,\"\")","v":""},{"$f":"IF(Jogo!F795=Conferência!$F$2,Conferência!$F$2,\"\")","v":""},{"$f":"IF(Jogo!G795=Conferência!$G$2,Conferência!$G$2,\"\")","v":""},{"$f":"IF(Jogo!H795=Conferência!$H$2,Conferência!$H$2,\"\")","v":""},{"$f":"IF(Jogo!I795=Conferência!$I$2,Conferência!$I$2,\"\")","v":""},{"$f":"IF(Jogo!J795=Conferência!$J$2,Conferência!$J$2,\"\")","v":""},{"$f":"IF(Jogo!K795=Conferência!$K$2,Conferência!$K$2,\"\")","v":""},{"$f":"IF(Jogo!L795=Conferência!$L$2,Conferência!$L$2,\"\")","v":""},{"$f":"IF(Jogo!M795=Conferência!$M$2,Conferência!$M$2,\"\")","v":""},{"$f":"IF(Jogo!N795=Conferência!$N$2,Conferência!$N$2,\"\")","v":""},{"$f":"IF(Jogo!O795=Conferência!$O$2,Conferência!$O$2,\"\")","v":""},{"$f":"IF(Jogo!P795=Conferência!$P$2,Conferência!$P$2,\"\")","v":""},{"$f":"IF(Jogo!Q795=Conferência!$Q$2,Conferência!$Q$2,\"\")","v":""},""]
[{"$f":"IF(Jogo!A796=Conferência!$A$2,Conferência!$A$2,\"\")","v":""},{"$f":"IF(Jogo!B796=Conferência!$B$2,Conferência!$B$2,\"\")","v":""},{"$f":"IF(Jogo!C796=Conferência!$C$2,Conferência!$C$2,\"\")","v":""},{"$f":"IF(Jogo!D796=Conferência!$D$2,Conferência!$D$2,\"\")","v":""},{"$f":"IF(Jogo!E796=Conferência!$E$2,Conferência!$E$2,\"\")","v":""},{"$f":"IF(Jogo!F796=Conferência!$F$2,Conferência!$F$2,\"\")","v":""},{"$f":"IF(Jogo!G796=Conferência!$G$2,Conferência!$G$2,\"\")","v":""},{"$f":"IF(Jogo!H796=Conferência!$H$2,Conferência!$H$2,\"\")","v":""},{"$f":"IF(Jogo!I796=Conferência!$I$2,Conferência!$I$2,\"\")","v":""},{"$f":"IF(Jogo!J796=Conferência!$J$2,Conferência!$J$2,\"\")","v":""},{"$f":"IF(Jogo!K796=Conferência!$K$2,Conferência!$K$2,\"\")","v":""},{"$f":"IF(Jogo!L796=Conferência!$L$2,Conferência!$L$2,\"\")","v":""},{"$f":"IF(Jogo!M796=Conferência!$M$2,Conferência!$M$2,\"\")","v":""},{"$f":"IF(Jogo!N796=Conferência!$N$2,Conferência!$N$2,\"\")","v":""},{"$f":"IF(Jogo!O796=Conferência!$O$2,Conferência!$O$2,\"\")","v":""},{"$f":"IF(Jogo!P796=Conferência!$P$2,Conferência!$P$2,\"\")","v":""},{"$f":"IF(Jogo!Q796=Conferência!$Q$2,Conferência!$Q$2,\"\")","v":""},""]
[{"$f":"IF(Jogo!A797=Conferência!$A$2,Conferência!$A$2,\"\")","v":""},{"$f":"IF(Jogo!B797=Conferência!$B$2,Conferência!$B$2,\"\")","v":""},{"$f":"IF(Jogo!C797=Conferência!$C$2,Conferência!$C$2,\"\")","v":""},{"$f":"IF(Jogo!D797=Conferência!$D$2,Conferência!$D$2,\"\")","v":""},{"$f":"IF(Jogo!E797=Conferência!$E$2,Conferência!$E$2,\"\")","v":""},{"$f":"IF(Jogo!F797=Conferência!$F$2,Conferência!$F$2,\"\")","v":""},{"$f":"IF(Jogo!G797=Conferência!$G$2,Conferência!$G$2,\"\")","v":""},{"$f":"IF(Jogo!H797=Conferência!$H$2,Conferência!$H$2,\"\")","v":""},{"$f":"IF(Jogo!I797=Conferência!$I$2,Conferência!$I$2,\"\")","v":""},{"$f":"IF(Jogo!J797=Conferência!$J$2,Conferência!$J$2,\"\")","v":""},{"$f":"IF(Jogo!K797=Conferência!$K$2,Conferência!$K$2,\"\")","v":""},{"$f":"IF(Jogo!L797=Conferência!$L$2,Conferência!$L$2,\"\")","v":""},{"$f":"IF(Jogo!M797=Conferência!$M$2,Conferência!$M$2,\"\")","v":""},{"$f":"IF(Jogo!N797=Conferência!$N$2,Conferência!$N$2,\"\")","v":""},{"$f":"IF(Jogo!O797=Conferência!$O$2,Conferência!$O$2,\"\")","v":""},{"$f":"IF(Jogo!P797=Conferência!$P$2,Conferência!$P$2,\"\")","v":""},{"$f":"IF(Jogo!Q797=Conferência!$Q$2,Conferência!$Q$2,\"\")","v":""},""]
[{"$f":"IF(Jogo!A798=Conferência!$A$2,Conferência!$A$2,\"\")","v":""},{"$f":"IF(Jogo!B798=Conferência!$B$2,Conferência!$B$2,\"\")","v":""},{"$f":"IF(Jogo!C798=Conferência!$C$2,Conferência!$C$2,\"\")","v":""},{"$f":"IF(Jogo!D798=Conferência!$D$2,Conferência!$D$2,\"\")","v":""},{"$f":"IF(Jogo!E798=Conferência!$E$2,Conferência!$E$2,\"\")","v":""},{"$f":"IF(Jogo!F798=Conferência!$F$2,Conferência!$F$2,\"\")","v":""},{"$f":"IF(Jogo!G798=Conferência!$G$2,Conferência!$G$2,\"\")","v":""},{"$f":"IF(Jogo!H798=Conferência!$H$2,Conferência!$H$2,\"\")","v":""},{"$f":"IF(Jogo!I798=Conferência!$I$2,Conferência!$I$2,\"\")","v":""},{"$f":"IF(Jogo!J798=Conferência!$J$2,Conferência!$J$2,\"\")","v":""},{"$f":"IF(Jogo!K798=Conferência!$K$2,Conferência!$K$2,\"\")","v":""},{"$f":"IF(Jogo!L798=Conferência!$L$2,Conferência!$L$2,\"\")","v":""},{"$f":"IF(Jogo!M798=Conferência!$M$2,Conferência!$M$2,\"\")","v":""},{"$f":"IF(Jogo!N798=Conferência!$N$2,Conferência!$N$2,\"\")","v":""},{"$f":"IF(Jogo!O798=Conferência!$O$2,Conferência!$O$2,\"\")","v":""},{"$f":"IF(Jogo!P798=Conferência!$P$2,Conferência!$P$2,\"\")","v":""},{"$f":"IF(Jogo!Q798=Conferência!$Q$2,Conferência!$Q$2,\"\")","v":""},""]
[{"$f":"IF(Jogo!A799=Conferência!$A$2,Conferência!$A$2,\"\")","v":""},{"$f":"IF(Jogo!B799=Conferência!$B$2,Conferência!$B$2,\"\")","v":""},{"$f":"IF(Jogo!C799=Conferência!$C$2,Conferência!$C$2,\"\")","v":""},{"$f":"IF(Jogo!D799=Conferência!$D$2,Conferência!$D$2,\"\")","v":""},{"$f":"IF(Jogo!E799=Conferência!$E$2,Conferência!$E$2,\"\")","v":""},{"$f":"IF(Jogo!F799=Conferência!$F$2,Conferência!$F$2,\"\")","v":""},{"$f":"IF(Jogo!G799=Conferência!$G$2,Conferência!$G$2,\"\")","v":""},{"$f":"IF(Jogo!H799=Conferência!$H$2,Conferência!$H$2,\"\")","v":""},{"$f":"IF(Jogo!I799=Conferência!$I$2,Conferência!$I$2,\"\")","v":""},{"$f":"IF(Jogo!J799=Conferência!$J$2,Conferência!$J$2,\"\")","v":""},{"$f":"IF(Jogo!K799=Conferência!$K$2,Conferência!$K$2,\"\")","v":""},{"$f":"IF(Jogo!L799=Conferência!$L$2,Conferência!$L$2,\"\")","v":""},{"$f":"IF(Jogo!M799=Conferência!$M$2,Conferência!$M$2,\"\")","v":""},{"$f":"IF(Jogo!N799=Conferência!$N$2,Conferência!$N$2,\"\")","v":""},{"$f":"IF(Jogo!O799=Conferência!$O$2,Conferência!$O$2,\"\")","v":""},{"$f":"IF(Jogo!P799=Conferência!$P$2,Conferência!$P$2,\"\")","v":""},{"$f":"IF(Jogo!Q799=Conferência!$Q$2,Conferência!$Q$2,\"\")","v":""},""]
[{"$f":"IF(Jogo!A800=Conferência!$A$2,Conferência!$A$2,\"\")","v":""},{"$f":"IF(Jogo!B800=Conferência!$B$2,Conferência!$B$2,\"\")","v":""},{"$f":"IF(Jogo!C800=Conferência!$C$2,Conferência!$C$2,\"\")","v":""},{"$f":"IF(Jogo!D800=Conferência!$D$2,Conferência!$D$2,\"\")","v":""},{"$f":"IF(Jogo!E800=Conferência!$E$2,Conferência!$E$2,\"\")","v":""},{"$f":"IF(Jogo!F800=Conferência!$F$2,Conferência!$F$2,\"\")","v":""},{"$f":"IF(Jogo!G800=Conferência!$G$2,Conferência!$G$2,\"\")","v":""},{"$f":"IF(Jogo!H800=Conferência!$H$2,Conferência!$H$2,\"\")","v":""},{"$f":"IF(Jogo!I800=Conferência!$I$2,Conferência!$I$2,\"\")","v":""},{"$f":"IF(Jogo!J800=Conferência!$J$2,Conferência!$J$2,\"\")","v":""},{"$f":"IF(Jogo!K800=Conferência!$K$2,Conferência!$K$2,\"\")","v":""},{"$f":"IF(Jogo!L800=Conferência!$L$2,Conferência!$L$2,\"\")","v":""},{"$f":"IF(Jogo!M800=Conferência!$M$2,Conferência!$M$2,\"\")","v":""},{"$f":"IF(Jogo!N800=Conferência!$N$2,Conferência!$N$2,\"\")","v":""},{"$f":"IF(Jogo!O800=Conferência!$O$2,Conferência!$O$2,\"\")","v":""},{"$f":"IF(Jogo!P800=Conferência!$P$2,Conferência!$P$2,\"\")","v":""},{"$f":"IF(Jogo!Q800=Conferência!$Q$2,Conferência!$Q$2,\"\")","v":""},""]
[{"$f":"IF(Jogo!A801=Conferência!$A$2,Conferência!$A$2,\"\")","v":""},{"$f":"IF(Jogo!B801=Conferência!$B$2,Conferência!$B$2,\"\")","v":""},{"$f":"IF(Jogo!C801=Conferência!$C$2,Conferência!$C$2,\"\")","v":""},{"$f":"IF(Jogo!D801=Conferência!$D$2,Conferência!$D$2,\"\")","v":""},{"$f":"IF(Jogo!E801=Conferência!$E$2,Conferência!$E$2,\"\")","v":""},{"$f":"IF(Jogo!F801=Conferência!$F$2,Conferência!$F$2,\"\")","v":""},{"$f":"IF(Jogo!G801=Conferência!$G$2,Conferência!$G$2,\"\")","v":""},{"$f":"IF(Jogo!H801=Conferência!$H$2,Conferência!$H$2,\"\")","v":""},{"$f":"IF(Jogo!I801=Conferência!$I$2,Conferência!$I$2,\"\")","v":""},{"$f":"IF(Jogo!J801=Conferência!$J$2,Conferência!$J$2,\"\")","v":""},{"$f":"IF(Jogo!K801=Conferência!$K$2,Conferência!$K$2,\"\")","v":""},{"$f":"IF(Jogo!L801=Conferência!$L$2,Conferência!$L$2,\"\")","v":""},{"$f":"IF(Jogo!M801=Conferência!$M$2,Conferência!$M$2,\"\")","v":""},{"$f":"IF(Jogo!N801=Conferência!$N$2,Conferência!$N$2,\"\")","v":""},{"$f":"IF(Jogo!O801=Conferência!$O$2,Conferência!$O$2,\"\")","v":""},{"$f":"IF(Jogo!P801=Conferência!$P$2,Conferência!$P$2,\"\")","v":""},{"$f":"IF(Jogo!Q801=Conferência!$Q$2,Conferência!$Q$2,\"\")","v":""},""]
[{"$f":"IF(Jogo!A802=Conferência!$A$2,Conferência!$A$2,\"\")","v":""},{"$f":"IF(Jogo!B802=Conferência!$B$2,Conferência!$B$2,\"\")","v":""},{"$f":"IF(Jogo!C802=Conferência!$C$2,Conferência!$C$2,\"\")","v":""},{"$f":"IF(Jogo!D802=Conferência!$D$2,Conferência!$D$2,\"\")","v":""},{"$f":"IF(Jogo!E802=Conferência!$E$2,Conferência!$E$2,\"\")","v":""},{"$f":"IF(Jogo!F802=Conferência!$F$2,Conferência!$F$2,\"\")","v":""},{"$f":"IF(Jogo!G802=Conferência!$G$2,Conferência!$G$2,\"\")","v":""},{"$f":"IF(Jogo!H802=Conferência!$H$2,Conferência!$H$2,\"\")","v":""},{"$f":"IF(Jogo!I802=Conferência!$I$2,Conferência!$I$2,\"\")","v":""},{"$f":"IF(Jogo!J802=Conferência!$J$2,Conferência!$J$2,\"\")","v":""},{"$f":"IF(Jogo!K802=Conferência!$K$2,Conferência!$K$2,\"\")","v":""},{"$f":"IF(Jogo!L802=Conferência!$L$2,Conferência!$L$2,\"\")","v":""},{"$f":"IF(Jogo!M802=Conferência!$M$2,Conferência!$M$2,\"\")","v":""},{"$f":"IF(Jogo!N802=Conferência!$N$2,Conferência!$N$2,\"\")","v":""},{"$f":"IF(Jogo!O802=Conferência!$O$2,Conferência!$O$2,\"\")","v":""},{"$f":"IF(Jogo!P802=Conferência!$P$2,Conferência!$P$2,\"\")","v":""},{"$f":"IF(Jogo!Q802=Conferência!$Q$2,Conferência!$Q$2,\"\")","v":""},""]
[{"$f":"IF(Jogo!A803=Conferência!$A$2,Conferência!$A$2,\"\")","v":""},{"$f":"IF(Jogo!B803=Conferência!$B$2,Conferência!$B$2,\"\")","v":""},{"$f":"IF(Jogo!C803=Conferência!$C$2,Conferência!$C$2,\"\")","v":""},{"$f":"IF(Jogo!D803=Conferência!$D$2,Conferência!$D$2,\"\")","v":""},{"$f":"IF(Jogo!E803=Conferência!$E$2,Conferência!$E$2,\"\")","v":""},{"$f":"IF(Jogo!F803=Conferência!$F$2,Conferência!$F$2,\"\")","v":""},{"$f":"IF(Jogo!G803=Conferência!$G$2,Conferência!$G$2,\"\")","v":""},{"$f":"IF(Jogo!H803=Conferência!$H$2,Conferência!$H$2,\"\")","v":""},{"$f":"IF(Jogo!I803=Conferência!$I$2,Conferência!$I$2,\"\")","v":""},{"$f":"IF(Jogo!J803=Conferência!$J$2,Conferência!$J$2,\"\")","v":""},{"$f":"IF(Jogo!K803=Conferência!$K$2,Conferência!$K$2,\"\")","v":""},{"$f":"IF(Jogo!L803=Conferência!$L$2,Conferência!$L$2,\"\")","v":""},{"$f":"IF(Jogo!M803=Conferência!$M$2,Conferência!$M$2,\"\")","v":""},{"$f":"IF(Jogo!N803=Conferência!$N$2,Conferência!$N$2,\"\")","v":""},{"$f":"IF(Jogo!O803=Conferência!$O$2,Conferência!$O$2,\"\")","v":""},{"$f":"IF(Jogo!P803=Conferência!$P$2,Conferência!$P$2,\"\")","v":""},{"$f":"IF(Jogo!Q803=Conferência!$Q$2,Conferência!$Q$2,\"\")","v":""},""]
[{"$f":"IF(Jogo!A804=Conferência!$A$2,Conferência!$A$2,\"\")","v":""},{"$f":"IF(Jogo!B804=Conferência!$B$2,Conferência!$B$2,\"\")","v":""},{"$f":"IF(Jogo!C804=Conferência!$C$2,Conferência!$C$2,\"\")","v":""},{"$f":"IF(Jogo!D804=Conferência!$D$2,Conferência!$D$2,\"\")","v":""},{"$f":"IF(Jogo!E804=Conferência!$E$2,Conferência!$E$2,\"\")","v":""},{"$f":"IF(Jogo!F804=Conferência!$F$2,Conferência!$F$2,\"\")","v":""},{"$f":"IF(Jogo!G804=Conferência!$G$2,Conferência!$G$2,\"\")","v":""},{"$f":"IF(Jogo!H804=Conferência!$H$2,Conferência!$H$2,\"\")","v":""},{"$f":"IF(Jogo!I804=Conferência!$I$2,Conferência!$I$2,\"\")","v":""},{"$f":"IF(Jogo!J804=Conferência!$J$2,Conferência!$J$2,\"\")","v":""},{"$f":"IF(Jogo!K804=Conferência!$K$2,Conferência!$K$2,\"\")","v":""},{"$f":"IF(Jogo!L804=Conferência!$L$2,Conferência!$L$2,\"\")","v":""},{"$f":"IF(Jogo!M804=Conferência!$M$2,Conferência!$M$2,\"\")","v":""},{"$f":"IF(Jogo!N804=Conferência!$N$2,Conferência!$N$2,\"\")","v":""},{"$f":"IF(Jogo!O804=Conferência!$O$2,Conferência!$O$2,\"\")","v":""},{"$f":"IF(Jogo!P804=Conferência!$P$2,Conferência!$P$2,\"\")","v":""},{"$f":"IF(Jogo!Q804=Conferência!$Q$2,Conferência!$Q$2,\"\")","v":""},""]
[{"$f":"IF(Jogo!A805=Conferência!$A$2,Conferência!$A$2,\"\")","v":""},{"$f":"IF(Jogo!B805=Conferência!$B$2,Conferência!$B$2,\"\")","v":""},{"$f":"IF(Jogo!C805=Conferência!$C$2,Conferência!$C$2,\"\")","v":""},{"$f":"IF(Jogo!D805=Conferência!$D$2,Conferência!$D$2,\"\")","v":""},{"$f":"IF(Jogo!E805=Conferência!$E$2,Conferência!$E$2,\"\")","v":""},{"$f":"IF(Jogo!F805=Conferência!$F$2,Conferência!$F$2,\"\")","v":""},{"$f":"IF(Jogo!G805=Conferência!$G$2,Conferência!$G$2,\"\")","v":""},{"$f":"IF(Jogo!H805=Conferência!$H$2,Conferência!$H$2,\"\")","v":""},{"$f":"IF(Jogo!I805=Conferência!$I$2,Conferência!$I$2,\"\")","v":""},{"$f":"IF(Jogo!J805=Conferência!$J$2,Conferência!$J$2,\"\")","v":""},{"$f":"IF(Jogo!K805=Conferência!$K$2,Conferência!$K$2,\"\")","v":""},{"$f":"IF(Jogo!L805=Conferência!$L$2,Conferência!$L$2,\"\")","v":""},{"$f":"IF(Jogo!M805=Conferência!$M$2,Conferência!$M$2,\"\")","v":""},{"$f":"IF(Jogo!N805=Conferência!$N$2,Conferência!$N$2,\"\")","v":""},{"$f":"IF(Jogo!O805=Conferência!$O$2,Conferência!$O$2,\"\")","v":""},{"$f":"IF(Jogo!P805=Conferência!$P$2,Conferência!$P$2,\"\")","v":""},{"$f":"IF(Jogo!Q805=Conferência!$Q$2,Conferência!$Q$2,\"\")","v":""},""]
[{"$f":"IF(Jogo!A806=Conferência!$A$2,Conferência!$A$2,\"\")","v":""},{"$f":"IF(Jogo!B806=Conferência!$B$2,Conferência!$B$2,\"\")","v":""},{"$f":"IF(Jogo!C806=Conferência!$C$2,Conferência!$C$2,\"\")","v":""},{"$f":"IF(Jogo!D806=Conferência!$D$2,Conferência!$D$2,\"\")","v":""},{"$f":"IF(Jogo!E806=Conferência!$E$2,Conferência!$E$2,\"\")","v":""},{"$f":"IF(Jogo!F806=Conferência!$F$2,Conferência!$F$2,\"\")","v":""},{"$f":"IF(Jogo!G806=Conferência!$G$2,Conferência!$G$2,\"\")","v":""},{"$f":"IF(Jogo!H806=Conferência!$H$2,Conferência!$H$2,\"\")","v":""},{"$f":"IF(Jogo!I806=Conferência!$I$2,Conferência!$I$2,\"\")","v":""},{"$f":"IF(Jogo!J806=Conferência!$J$2,Conferência!$J$2,\"\")","v":""},{"$f":"IF(Jogo!K806=Conferência!$K$2,Conferência!$K$2,\"\")","v":""},{"$f":"IF(Jogo!L806=Conferência!$L$2,Conferência!$L$2,\"\")","v":""},{"$f":"IF(Jogo!M806=Conferência!$M$2,Conferência!$M$2,\"\")","v":""},{"$f":"IF(Jogo!N806=Conferência!$N$2,Conferência!$N$2,\"\")","v":""},{"$f":"IF(Jogo!O806=Conferência!$O$2,Conferência!$O$2,\"\")","v":""},{"$f":"IF(Jogo!P806=Conferência!$P$2,Conferência!$P$2,\"\")","v":""},{"$f":"IF(Jogo!Q806=Conferência!$Q$2,Conferência!$Q$2,\"\")","v":""},""]
[{"$f":"IF(Jogo!A807=Conferência!$A$2,Conferência!$A$2,\"\")","v":""},{"$f":"IF(Jogo!B807=Conferência!$B$2,Conferência!$B$2,\"\")","v":""},{"$f":"IF(Jogo!C807=Conferência!$C$2,Conferência!$C$2,\"\")","v":""},{"$f":"IF(Jogo!D807=Conferência!$D$2,Conferência!$D$2,\"\")","v":""},{"$f":"IF(Jogo!E807=Conferência!$E$2,Conferência!$E$2,\"\")","v":""},{"$f":"IF(Jogo!F807=Conferência!$F$2,Conferência!$F$2,\"\")","v":""},{"$f":"IF(Jogo!G807=Conferência!$G$2,Conferência!$G$2,\"\")","v":""},{"$f":"IF(Jogo!H807=Conferência!$H$2,Conferência!$H$2,\"\")","v":""},{"$f":"IF(Jogo!I807=Conferência!$I$2,Conferência!$I$2,\"\")","v":""},{"$f":"IF(Jogo!J807=Conferência!$J$2,Conferência!$J$2,\"\")","v":""},{"$f":"IF(Jogo!K807=Conferência!$K$2,Conferência!$K$2,\"\")","v":""},{"$f":"IF(Jogo!L807=Conferência!$L$2,Conferência!$L$2,\"\")","v":""},{"$f":"IF(Jogo!M807=Conferência!$M$2,Conferência!$M$2,\"\")","v":""},{"$f":"IF(Jogo!N807=Conferência!$N$2,Conferência!$N$2,\"\")","v":""},{"$f":"IF(Jogo!O807=Conferência!$O$2,Conferência!$O$2,\"\")","v":""},{"$f":"IF(Jogo!P807=Conferência!$P$2,Conferência!$P$2,\"\")","v":""},{"$f":"IF(Jogo!Q807=Conferência!$Q$2,Conferência!$Q$2,\"\")","v":""},""]
[{"$f":"IF(Jogo!A808=Conferência!$A$2,Conferência!$A$2,\"\")","v":""},{"$f":"IF(Jogo!B808=Conferência!$B$2,Conferência!$B$2,\"\")","v":""},{"$f":"IF(Jogo!C808=Conferência!$C$2,Conferência!$C$2,\"\")","v":""},{"$f":"IF(Jogo!D808=Conferência!$D$2,Conferência!$D$2,\"\")","v":""},{"$f":"IF(Jogo!E808=Conferência!$E$2,Conferência!$E$2,\"\")","v":""},{"$f":"IF(Jogo!F808=Conferência!$F$2,Conferência!$F$2,\"\")","v":""},{"$f":"IF(Jogo!G808=Conferência!$G$2,Conferência!$G$2,\"\")","v":""},{"$f":"IF(Jogo!H808=Conferência!$H$2,Conferência!$H$2,\"\")","v":""},{"$f":"IF(Jogo!I808=Conferência!$I$2,Conferência!$I$2,\"\")","v":""},{"$f":"IF(Jogo!J808=Conferência!$J$2,Conferência!$J$2,\"\")","v":""},{"$f":"IF(Jogo!K808=Conferência!$K$2,Conferência!$K$2,\"\")","v":""},{"$f":"IF(Jogo!L808=Conferência!$L$2,Conferência!$L$2,\"\")","v":""},{"$f":"IF(Jogo!M808=Conferência!$M$2,Conferência!$M$2,\"\")","v":""},{"$f":"IF(Jogo!N808=Conferência!$N$2,Conferência!$N$2,\"\")","v":""},{"$f":"IF(Jogo!O808=Conferência!$O$2,Conferência!$O$2,\"\")","v":""},{"$f":"IF(Jogo!P808=Conferência!$P$2,Conferência!$P$2,\"\")","v":""},{"$f":"IF(Jogo!Q808=Conferência!$Q$2,Conferência!$Q$2,\"\")","v":""},""]
[{"$f":"IF(Jogo!A809=Conferência!$A$2,Conferência!$A$2,\"\")","v":""},{"$f":"IF(Jogo!B809=Conferência!$B$2,Conferência!$B$2,\"\")","v":""},{"$f":"IF(Jogo!C809=Conferência!$C$2,Conferência!$C$2,\"\")","v":""},{"$f":"IF(Jogo!D809=Conferência!$D$2,Conferência!$D$2,\"\")","v":""},{"$f":"IF(Jogo!E809=Conferência!$E$2,Conferência!$E$2,\"\")","v":""},{"$f":"IF(Jogo!F809=Conferência!$F$2,Conferência!$F$2,\"\")","v":""},{"$f":"IF(Jogo!G809=Conferência!$G$2,Conferência!$G$2,\"\")","v":""},{"$f":"IF(Jogo!H809=Conferência!$H$2,Conferência!$H$2,\"\")","v":""},{"$f":"IF(Jogo!I809=Conferência!$I$2,Conferência!$I$2,\"\")","v":""},{"$f":"IF(Jogo!J809=Conferência!$J$2,Conferência!$J$2,\"\")","v":""},{"$f":"IF(Jogo!K809=Conferência!$K$2,Conferência!$K$2,\"\")","v":""},{"$f":"IF(Jogo!L809=Conferência!$L$2,Conferência!$L$2,\"\")","v":""},{"$f":"IF(Jogo!M809=Conferência!$M$2,Conferência!$M$2,\"\")","v":""},{"$f":"IF(Jogo!N809=Conferência!$N$2,Conferência!$N$2,\"\")","v":""},{"$f":"IF(Jogo!O809=Conferência!$O$2,Conferência!$O$2,\"\")","v":""},{"$f":"IF(Jogo!P809=Conferência!$P$2,Conferência!$P$2,\"\")","v":""},{"$f":"IF(Jogo!Q809=Conferência!$Q$2,Conferência!$Q$2,\"\")","v":""},""]
[{"$f":"IF(Jogo!A810=Conferência!$A$2,Conferência!$A$2,\"\")","v":""},{"$f":"IF(Jogo!B810=Conferência!$B$2,Conferência!$B$2,\"\")","v":""},{"$f":"IF(Jogo!C810=Conferência!$C$2,Conferência!$C$2,\"\")","v":""},{"$f":"IF(Jogo!D810=Conferência!$D$2,Conferência!$D$2,\"\")","v":""},{"$f":"IF(Jogo!E810=Conferência!$E$2,Conferência!$E$2,\"\")","v":""},{"$f":"IF(Jogo!F810=Conferência!$F$2,Conferência!$F$2,\"\")","v":""},{"$f":"IF(Jogo!G810=Conferência!$G$2,Conferência!$G$2,\"\")","v":""},{"$f":"IF(Jogo!H810=Conferência!$H$2,Conferência!$H$2,\"\")","v":""},{"$f":"IF(Jogo!I810=Conferência!$I$2,Conferência!$I$2,\"\")","v":""},{"$f":"IF(Jogo!J810=Conferência!$J$2,Conferência!$J$2,\"\")","v":""},{"$f":"IF(Jogo!K810=Conferência!$K$2,Conferência!$K$2,\"\")","v":""},{"$f":"IF(Jogo!L810=Conferência!$L$2,Conferência!$L$2,\"\")","v":""},{"$f":"IF(Jogo!M810=Conferência!$M$2,Conferência!$M$2,\"\")","v":""},{"$f":"IF(Jogo!N810=Conferência!$N$2,Conferência!$N$2,\"\")","v":""},{"$f":"IF(Jogo!O810=Conferência!$O$2,Conferência!$O$2,\"\")","v":""},{"$f":"IF(Jogo!P810=Conferência!$P$2,Conferência!$P$2,\"\")","v":""},{"$f":"IF(Jogo!Q810=Conferência!$Q$2,Conferência!$Q$2,\"\")","v":""},""]
[{"$f":"IF(Jogo!A811=Conferência!$A$2,Conferência!$A$2,\"\")","v":""},{"$f":"IF(Jogo!B811=Conferência!$B$2,Conferência!$B$2,\"\")","v":""},{"$f":"IF(Jogo!C811=Conferência!$C$2,Conferência!$C$2,\"\")","v":""},{"$f":"IF(Jogo!D811=Conferência!$D$2,Conferência!$D$2,\"\")","v":""},{"$f":"IF(Jogo!E811=Conferência!$E$2,Conferência!$E$2,\"\")","v":""},{"$f":"IF(Jogo!F811=Conferência!$F$2,Conferência!$F$2,\"\")","v":""},{"$f":"IF(Jogo!G811=Conferência!$G$2,Conferência!$G$2,\"\")","v":""},{"$f":"IF(Jogo!H811=Conferência!$H$2,Conferência!$H$2,\"\")","v":""},{"$f":"IF(Jogo!I811=Conferência!$I$2,Conferência!$I$2,\"\")","v":""},{"$f":"IF(Jogo!J811=Conferência!$J$2,Conferência!$J$2,\"\")","v":""},{"$f":"IF(Jogo!K811=Conferência!$K$2,Conferência!$K$2,\"\")","v":""},{"$f":"IF(Jogo!L811=Conferência!$L$2,Conferência!$L$2,\"\")","v":""},{"$f":"IF(Jogo!M811=Conferência!$M$2,Conferência!$M$2,\"\")","v":""},{"$f":"IF(Jogo!N811=Conferência!$N$2,Conferência!$N$2,\"\")","v":""},{"$f":"IF(Jogo!O811=Conferência!$O$2,Conferência!$O$2,\"\")","v":""},{"$f":"IF(Jogo!P811=Conferência!$P$2,Conferência!$P$2,\"\")","v":""},{"$f":"IF(Jogo!Q811=Conferência!$Q$2,Conferência!$Q$2,\"\")","v":""},""]
[{"$f":"IF(Jogo!A812=Conferência!$A$2,Conferência!$A$2,\"\")","v":""},{"$f":"IF(Jogo!B812=Conferência!$B$2,Conferência!$B$2,\"\")","v":""},{"$f":"IF(Jogo!C812=Conferência!$C$2,Conferência!$C$2,\"\")","v":""},{"$f":"IF(Jogo!D812=Conferência!$D$2,Conferência!$D$2,\"\")","v":""},{"$f":"IF(Jogo!E812=Conferência!$E$2,Conferência!$E$2,\"\")","v":""},{"$f":"IF(Jogo!F812=Conferência!$F$2,Conferência!$F$2,\"\")","v":""},{"$f":"IF(Jogo!G812=Conferência!$G$2,Conferência!$G$2,\"\")","v":""},{"$f":"IF(Jogo!H812=Conferência!$H$2,Conferência!$H$2,\"\")","v":""},{"$f":"IF(Jogo!I812=Conferência!$I$2,Conferência!$I$2,\"\")","v":""},{"$f":"IF(Jogo!J812=Conferência!$J$2,Conferência!$J$2,\"\")","v":""},{"$f":"IF(Jogo!K812=Conferência!$K$2,Conferência!$K$2,\"\")","v":""},{"$f":"IF(Jogo!L812=Conferência!$L$2,Conferência!$L$2,\"\")","v":""},{"$f":"IF(Jogo!M812=Conferência!$M$2,Conferência!$M$2,\"\")","v":""},{"$f":"IF(Jogo!N812=Conferência!$N$2,Conferência!$N$2,\"\")","v":""},{"$f":"IF(Jogo!O812=Conferência!$O$2,Conferência!$O$2,\"\")","v":""},{"$f":"IF(Jogo!P812=Conferência!$P$2,Conferência!$P$2,\"\")","v":""},{"$f":"IF(Jogo!Q812=Conferência!$Q$2,Conferência!$Q$2,\"\")","v":""},""]
[{"$f":"IF(Jogo!A813=Conferência!$A$2,Conferência!$A$2,\"\")","v":""},{"$f":"IF(Jogo!B813=Conferência!$B$2,Conferência!$B$2,\"\")","v":""},{"$f":"IF(Jogo!C813=Conferência!$C$2,Conferência!$C$2,\"\")","v":""},{"$f":"IF(Jogo!D813=Conferência!$D$2,Conferência!$D$2,\"\")","v":""},{"$f":"IF(Jogo!E813=Conferência!$E$2,Conferência!$E$2,\"\")","v":""},{"$f":"IF(Jogo!F813=Conferência!$F$2,Conferência!$F$2,\"\")","v":""},{"$f":"IF(Jogo!G813=Conferência!$G$2,Conferência!$G$2,\"\")","v":""},{"$f":"IF(Jogo!H813=Conferência!$H$2,Conferência!$H$2,\"\")","v":""},{"$f":"IF(Jogo!I813=Conferência!$I$2,Conferência!$I$2,\"\")","v":""},{"$f":"IF(Jogo!J813=Conferência!$J$2,Conferência!$J$2,\"\")","v":""},{"$f":"IF(Jogo!K813=Conferência!$K$2,Conferência!$K$2,\"\")","v":""},{"$f":"IF(Jogo!L813=Conferência!$L$2,Conferência!$L$2,\"\")","v":""},{"$f":"IF(Jogo!M813=Conferência!$M$2,Conferência!$M$2,\"\")","v":""},{"$f":"IF(Jogo!N813=Conferência!$N$2,Conferência!$N$2,\"\")","v":""},{"$f":"IF(Jogo!O813=Conferência!$O$2,Conferência!$O$2,\"\")","v":""},{"$f":"IF(Jogo!P813=Conferência!$P$2,Conferência!$P$2,\"\")","v":""},{"$f":"IF(Jogo!Q813=Conferência!$Q$2,Conferência!$Q$2,\"\")","v":""},""]
[{"$f":"IF(Jogo!A814=Conferência!$A$2,Conferência!$A$2,\"\")","v":""},{"$f":"IF(Jogo!B814=Conferência!$B$2,Conferência!$B$2,\"\")","v":""},{"$f":"IF(Jogo!C814=Conferência!$C$2,Conferência!$C$2,\"\")","v":""},{"$f":"IF(Jogo!D814=Conferência!$D$2,Conferência!$D$2,\"\")","v":""},{"$f":"IF(Jogo!E814=Conferência!$E$2,Conferência!$E$2,\"\")","v":""},{"$f":"IF(Jogo!F814=Conferência!$F$2,Conferência!$F$2,\"\")","v":""},{"$f":"IF(Jogo!G814=Conferência!$G$2,Conferência!$G$2,\"\")","v":""},{"$f":"IF(Jogo!H814=Conferência!$H$2,Conferência!$H$2,\"\")","v":""},{"$f":"IF(Jogo!I814=Conferência!$I$2,Conferência!$I$2,\"\")","v":""},{"$f":"IF(Jogo!J814=Conferência!$J$2,Conferência!$J$2,\"\")","v":""},{"$f":"IF(Jogo!K814=Conferência!$K$2,Conferência!$K$2,\"\")","v":""},{"$f":"IF(Jogo!L814=Conferência!$L$2,Conferência!$L$2,\"\")","v":""},{"$f":"IF(Jogo!M814=Conferência!$M$2,Conferência!$M$2,\"\")","v":""},{"$f":"IF(Jogo!N814=Conferência!$N$2,Conferência!$N$2,\"\")","v":""},{"$f":"IF(Jogo!O814=Conferência!$O$2,Conferência!$O$2,\"\")","v":""},{"$f":"IF(Jogo!P814=Conferência!$P$2,Conferência!$P$2,\"\")","v":""},{"$f":"IF(Jogo!Q814=Conferência!$Q$2,Conferência!$Q$2,\"\")","v":""},""]
[{"$f":"IF(Jogo!A815=Conferência!$A$2,Conferência!$A$2,\"\")","v":""},{"$f":"IF(Jogo!B815=Conferência!$B$2,Conferência!$B$2,\"\")","v":""},{"$f":"IF(Jogo!C815=Conferência!$C$2,Conferência!$C$2,\"\")","v":""},{"$f":"IF(Jogo!D815=Conferência!$D$2,Conferência!$D$2,\"\")","v":""},{"$f":"IF(Jogo!E815=Conferência!$E$2,Conferência!$E$2,\"\")","v":""},{"$f":"IF(Jogo!F815=Conferência!$F$2,Conferência!$F$2,\"\")","v":""},{"$f":"IF(Jogo!G815=Conferência!$G$2,Conferência!$G$2,\"\")","v":""},{"$f":"IF(Jogo!H815=Conferência!$H$2,Conferência!$H$2,\"\")","v":""},{"$f":"IF(Jogo!I815=Conferência!$I$2,Conferência!$I$2,\"\")","v":""},{"$f":"IF(Jogo!J815=Conferência!$J$2,Conferência!$J$2,\"\")","v":""},{"$f":"IF(Jogo!K815=Conferência!$K$2,Conferência!$K$2,\"\")","v":""},{"$f":"IF(Jogo!L815=Conferência!$L$2,Conferência!$L$2,\"\")","v":""},{"$f":"IF(Jogo!M815=Conferência!$M$2,Conferência!$M$2,\"\")","v":""},{"$f":"IF(Jogo!N815=Conferência!$N$2,Conferência!$N$2,\"\")","v":""},{"$f":"IF(Jogo!O815=Conferência!$O$2,Conferência!$O$2,\"\")","v":""},{"$f":"IF(Jogo!P815=Conferência!$P$2,Conferência!$P$2,\"\")","v":""},{"$f":"IF(Jogo!Q815=Conferência!$Q$2,Conferência!$Q$2,\"\")","v":""},""]
[{"$f":"IF(Jogo!A816=Conferência!$A$2,Conferência!$A$2,\"\")","v":""},{"$f":"IF(Jogo!B816=Conferência!$B$2,Conferência!$B$2,\"\")","v":""},{"$f":"IF(Jogo!C816=Conferência!$C$2,Conferência!$C$2,\"\")","v":""},{"$f":"IF(Jogo!D816=Conferência!$D$2,Conferência!$D$2,\"\")","v":""},{"$f":"IF(Jogo!E816=Conferência!$E$2,Conferência!$E$2,\"\")","v":""},{"$f":"IF(Jogo!F816=Conferência!$F$2,Conferência!$F$2,\"\")","v":""},{"$f":"IF(Jogo!G816=Conferência!$G$2,Conferência!$G$2,\"\")","v":""},{"$f":"IF(Jogo!H816=Conferência!$H$2,Conferência!$H$2,\"\")","v":""},{"$f":"IF(Jogo!I816=Conferência!$I$2,Conferência!$I$2,\"\")","v":""},{"$f":"IF(Jogo!J816=Conferência!$J$2,Conferência!$J$2,\"\")","v":""},{"$f":"IF(Jogo!K816=Conferência!$K$2,Conferência!$K$2,\"\")","v":""},{"$f":"IF(Jogo!L816=Conferência!$L$2,Conferência!$L$2,\"\")","v":""},{"$f":"IF(Jogo!M816=Conferência!$M$2,Conferência!$M$2,\"\")","v":""},{"$f":"IF(Jogo!N816=Conferência!$N$2,Conferência!$N$2,\"\")","v":""},{"$f":"IF(Jogo!O816=Conferência!$O$2,Conferência!$O$2,\"\")","v":""},{"$f":"IF(Jogo!P816=Conferência!$P$2,Conferência!$P$2,\"\")","v":""},{"$f":"IF(Jogo!Q816=Conferência!$Q$2,Conferência!$Q$2,\"\")","v":""},""]
[{"$f":"IF(Jogo!A817=Conferência!$A$2,Conferência!$A$2,\"\")","v":""},{"$f":"IF(Jogo!B817=Conferência!$B$2,Conferência!$B$2,\"\")","v":""},{"$f":"IF(Jogo!C817=Conferência!$C$2,Conferência!$C$2,\"\")","v":""},{"$f":"IF(Jogo!D817=Conferência!$D$2,Conferência!$D$2,\"\")","v":""},{"$f":"IF(Jogo!E817=Conferência!$E$2,Conferência!$E$2,\"\")","v":""},{"$f":"IF(Jogo!F817=Conferência!$F$2,Conferência!$F$2,\"\")","v":""},{"$f":"IF(Jogo!G817=Conferência!$G$2,Conferência!$G$2,\"\")","v":""},{"$f":"IF(Jogo!H817=Conferência!$H$2,Conferência!$H$2,\"\")","v":""},{"$f":"IF(Jogo!I817=Conferência!$I$2,Conferência!$I$2,\"\")","v":""},{"$f":"IF(Jogo!J817=Conferência!$J$2,Conferência!$J$2,\"\")","v":""},{"$f":"IF(Jogo!K817=Conferência!$K$2,Conferência!$K$2,\"\")","v":""},{"$f":"IF(Jogo!L817=Conferência!$L$2,Conferência!$L$2,\"\")","v":""},{"$f":"IF(Jogo!M817=Conferência!$M$2,Conferência!$M$2,\"\")","v":""},{"$f":"IF(Jogo!N817=Conferência!$N$2,Conferência!$N$2,\"\")","v":""},{"$f":"IF(Jogo!O817=Conferência!$O$2,Conferência!$O$2,\"\")","v":""},{"$f":"IF(Jogo!P817=Conferência!$P$2,Conferência!$P$2,\"\")","v":""},{"$f":"IF(Jogo!Q817=Conferência!$Q$2,Conferência!$Q$2,\"\")","v":""},""]
[{"$f":"IF(Jogo!A818=Conferência!$A$2,Conferência!$A$2,\"\")","v":""},{"$f":"IF(Jogo!B818=Conferência!$B$2,Conferência!$B$2,\"\")","v":""},{"$f":"IF(Jogo!C818=Conferência!$C$2,Conferência!$C$2,\"\")","v":""},{"$f":"IF(Jogo!D818=Conferência!$D$2,Conferência!$D$2,\"\")","v":""},{"$f":"IF(Jogo!E818=Conferência!$E$2,Conferência!$E$2,\"\")","v":""},{"$f":"IF(Jogo!F818=Conferência!$F$2,Conferência!$F$2,\"\")","v":""},{"$f":"IF(Jogo!G818=Conferência!$G$2,Conferência!$G$2,\"\")","v":""},{"$f":"IF(Jogo!H818=Conferência!$H$2,Conferência!$H$2,\"\")","v":""},{"$f":"IF(Jogo!I818=Conferência!$I$2,Conferência!$I$2,\"\")","v":""},{"$f":"IF(Jogo!J818=Conferência!$J$2,Conferência!$J$2,\"\")","v":""},{"$f":"IF(Jogo!K818=Conferência!$K$2,Conferência!$K$2,\"\")","v":""},{"$f":"IF(Jogo!L818=Conferência!$L$2,Conferência!$L$2,\"\")","v":""},{"$f":"IF(Jogo!M818=Conferência!$M$2,Conferência!$M$2,\"\")","v":""},{"$f":"IF(Jogo!N818=Conferência!$N$2,Conferência!$N$2,\"\")","v":""},{"$f":"IF(Jogo!O818=Conferência!$O$2,Conferência!$O$2,\"\")","v":""},{"$f":"IF(Jogo!P818=Conferência!$P$2,Conferência!$P$2,\"\")","v":""},{"$f":"IF(Jogo!Q818=Conferência!$Q$2,Conferência!$Q$2,\"\")","v":""},""]
[{"$f":"IF(Jogo!A819=Conferência!$A$2,Conferência!$A$2,\"\")","v":""},{"$f":"IF(Jogo!B819=Conferência!$B$2,Conferência!$B$2,\"\")","v":""},{"$f":"IF(Jogo!C819=Conferência!$C$2,Conferência!$C$2,\"\")","v":""},{"$f":"IF(Jogo!D819=Conferência!$D$2,Conferência!$D$2,\"\")","v":""},{"$f":"IF(Jogo!E819=Conferência!$E$2,Conferência!$E$2,\"\")","v":""},{"$f":"IF(Jogo!F819=Conferência!$F$2,Conferência!$F$2,\"\")","v":""},{"$f":"IF(Jogo!G819=Conferência!$G$2,Conferência!$G$2,\"\")","v":""},{"$f":"IF(Jogo!H819=Conferência!$H$2,Conferência!$H$2,\"\")","v":""},{"$f":"IF(Jogo!I819=Conferência!$I$2,Conferência!$I$2,\"\")","v":""},{"$f":"IF(Jogo!J819=Conferência!$J$2,Conferência!$J$2,\"\")","v":""},{"$f":"IF(Jogo!K819=Conferência!$K$2,Conferência!$K$2,\"\")","v":""},{"$f":"IF(Jogo!L819=Conferência!$L$2,Conferência!$L$2,\"\")","v":""},{"$f":"IF(Jogo!M819=Conferência!$M$2,Conferência!$M$2,\"\")","v":""},{"$f":"IF(Jogo!N819=Conferência!$N$2,Conferência!$N$2,\"\")","v":""},{"$f":"IF(Jogo!O819=Conferência!$O$2,Conferência!$O$2,\"\")","v":""},{"$f":"IF(Jogo!P819=Conferência!$P$2,Conferência!$P$2,\"\")","v":""},{"$f":"IF(Jogo!Q819=Conferência!$Q$2,Conferência!$Q$2,\"\")","v":""},""]
[{"$f":"IF(Jogo!A820=Conferência!$A$2,Conferência!$A$2,\"\")","v":""},{"$f":"IF(Jogo!B820=Conferência!$B$2,Conferência!$B$2,\"\")","v":""},{"$f":"IF(Jogo!C820=Conferência!$C$2,Conferência!$C$2,\"\")","v":""},{"$f":"IF(Jogo!D820=Conferência!$D$2,Conferência!$D$2,\"\")","v":""},{"$f":"IF(Jogo!E820=Conferência!$E$2,Conferência!$E$2,\"\")","v":""},{"$f":"IF(Jogo!F820=Conferência!$F$2,Conferência!$F$2,\"\")","v":""},{"$f":"IF(Jogo!G820=Conferência!$G$2,Conferência!$G$2,\"\")","v":""},{"$f":"IF(Jogo!H820=Conferência!$H$2,Conferência!$H$2,\"\")","v":""},{"$f":"IF(Jogo!I820=Conferência!$I$2,Conferência!$I$2,\"\")","v":""},{"$f":"IF(Jogo!J820=Conferência!$J$2,Conferência!$J$2,\"\")","v":""},{"$f":"IF(Jogo!K820=Conferência!$K$2,Conferência!$K$2,\"\")","v":""},{"$f":"IF(Jogo!L820=Conferência!$L$2,Conferência!$L$2,\"\")","v":""},{"$f":"IF(Jogo!M820=Conferência!$M$2,Conferência!$M$2,\"\")","v":""},{"$f":"IF(Jogo!N820=Conferência!$N$2,Conferência!$N$2,\"\")","v":""},{"$f":"IF(Jogo!O820=Conferência!$O$2,Conferência!$O$2,\"\")","v":""},{"$f":"IF(Jogo!P820=Conferência!$P$2,Conferência!$P$2,\"\")","v":""},{"$f":"IF(Jogo!Q820=Conferência!$Q$2,Conferência!$Q$2,\"\")","v":""},""]
[{"$f":"IF(Jogo!A821=Conferência!$A$2,Conferência!$A$2,\"\")","v":""},{"$f":"IF(Jogo!B821=Conferência!$B$2,Conferência!$B$2,\"\")","v":""},{"$f":"IF(Jogo!C821=Conferência!$C$2,Conferência!$C$2,\"\")","v":""},{"$f":"IF(Jogo!D821=Conferência!$D$2,Conferência!$D$2,\"\")","v":""},{"$f":"IF(Jogo!E821=Conferência!$E$2,Conferência!$E$2,\"\")","v":""},{"$f":"IF(Jogo!F821=Conferência!$F$2,Conferência!$F$2,\"\")","v":""},{"$f":"IF(Jogo!G821=Conferência!$G$2,Conferência!$G$2,\"\")","v":""},{"$f":"IF(Jogo!H821=Conferência!$H$2,Conferência!$H$2,\"\")","v":""},{"$f":"IF(Jogo!I821=Conferência!$I$2,Conferência!$I$2,\"\")","v":""},{"$f":"IF(Jogo!J821=Conferência!$J$2,Conferência!$J$2,\"\")","v":""},{"$f":"IF(Jogo!K821=Conferência!$K$2,Conferência!$K$2,\"\")","v":""},{"$f":"IF(Jogo!L821=Conferência!$L$2,Conferência!$L$2,\"\")","v":""},{"$f":"IF(Jogo!M821=Conferência!$M$2,Conferência!$M$2,\"\")","v":""},{"$f":"IF(Jogo!N821=Conferência!$N$2,Conferência!$N$2,\"\")","v":""},{"$f":"IF(Jogo!O821=Conferência!$O$2,Conferência!$O$2,\"\")","v":""},{"$f":"IF(Jogo!P821=Conferência!$P$2,Conferência!$P$2,\"\")","v":""},{"$f":"IF(Jogo!Q821=Conferência!$Q$2,Conferência!$Q$2,\"\")","v":""},""]
[{"$f":"IF(Jogo!A822=Conferência!$A$2,Conferência!$A$2,\"\")","v":""},{"$f":"IF(Jogo!B822=Conferência!$B$2,Conferência!$B$2,\"\")","v":""},{"$f":"IF(Jogo!C822=Conferência!$C$2,Conferência!$C$2,\"\")","v":""},{"$f":"IF(Jogo!D822=Conferência!$D$2,Conferência!$D$2,\"\")","v":""},{"$f":"IF(Jogo!E822=Conferência!$E$2,Conferência!$E$2,\"\")","v":""},{"$f":"IF(Jogo!F822=Conferência!$F$2,Conferência!$F$2,\"\")","v":""},{"$f":"IF(Jogo!G822=Conferência!$G$2,Conferência!$G$2,\"\")","v":""},{"$f":"IF(Jogo!H822=Conferência!$H$2,Conferência!$H$2,\"\")","v":""},{"$f":"IF(Jogo!I822=Conferência!$I$2,Conferência!$I$2,\"\")","v":""},{"$f":"IF(Jogo!J822=Conferência!$J$2,Conferência!$J$2,\"\")","v":""},{"$f":"IF(Jogo!K822=Conferência!$K$2,Conferência!$K$2,\"\")","v":""},{"$f":"IF(Jogo!L822=Conferência!$L$2,Conferência!$L$2,\"\")","v":""},{"$f":"IF(Jogo!M822=Conferência!$M$2,Conferência!$M$2,\"\")","v":""},{"$f":"IF(Jogo!N822=Conferência!$N$2,Conferência!$N$2,\"\")","v":""},{"$f":"IF(Jogo!O822=Conferência!$O$2,Conferência!$O$2,\"\")","v":""},{"$f":"IF(Jogo!P822=Conferência!$P$2,Conferência!$P$2,\"\")","v":""},{"$f":"IF(Jogo!Q822=Conferência!$Q$2,Conferência!$Q$2,\"\")","v":""},""]
[{"$f":"IF(Jogo!A823=Conferência!$A$2,Conferência!$A$2,\"\")","v":""},{"$f":"IF(Jogo!B823=Conferência!$B$2,Conferência!$B$2,\"\")","v":""},{"$f":"IF(Jogo!C823=Conferência!$C$2,Conferência!$C$2,\"\")","v":""},{"$f":"IF(Jogo!D823=Conferência!$D$2,Conferência!$D$2,\"\")","v":""},{"$f":"IF(Jogo!E823=Conferência!$E$2,Conferência!$E$2,\"\")","v":""},{"$f":"IF(Jogo!F823=Conferência!$F$2,Conferência!$F$2,\"\")","v":""},{"$f":"IF(Jogo!G823=Conferência!$G$2,Conferência!$G$2,\"\")","v":""},{"$f":"IF(Jogo!H823=Conferência!$H$2,Conferência!$H$2,\"\")","v":""},{"$f":"IF(Jogo!I823=Conferência!$I$2,Conferência!$I$2,\"\")","v":""},{"$f":"IF(Jogo!J823=Conferência!$J$2,Conferência!$J$2,\"\")","v":""},{"$f":"IF(Jogo!K823=Conferência!$K$2,Conferência!$K$2,\"\")","v":""},{"$f":"IF(Jogo!L823=Conferência!$L$2,Conferência!$L$2,\"\")","v":""},{"$f":"IF(Jogo!M823=Conferência!$M$2,Conferência!$M$2,\"\")","v":""},{"$f":"IF(Jogo!N823=Conferência!$N$2,Conferência!$N$2,\"\")","v":""},{"$f":"IF(Jogo!O823=Conferência!$O$2,Conferência!$O$2,\"\")","v":""},{"$f":"IF(Jogo!P823=Conferência!$P$2,Conferência!$P$2,\"\")","v":""},{"$f":"IF(Jogo!Q823=Conferência!$Q$2,Conferência!$Q$2,\"\")","v":""},""]
[{"$f":"IF(Jogo!A824=Conferência!$A$2,Conferência!$A$2,\"\")","v":""},{"$f":"IF(Jogo!B824=Conferência!$B$2,Conferência!$B$2,\"\")","v":""},{"$f":"IF(Jogo!C824=Conferência!$C$2,Conferência!$C$2,\"\")","v":""},{"$f":"IF(Jogo!D824=Conferência!$D$2,Conferência!$D$2,\"\")","v":""},{"$f":"IF(Jogo!E824=Conferência!$E$2,Conferência!$E$2,\"\")","v":""},{"$f":"IF(Jogo!F824=Conferência!$F$2,Conferência!$F$2,\"\")","v":""},{"$f":"IF(Jogo!G824=Conferência!$G$2,Conferência!$G$2,\"\")","v":""},{"$f":"IF(Jogo!H824=Conferência!$H$2,Conferência!$H$2,\"\")","v":""},{"$f":"IF(Jogo!I824=Conferência!$I$2,Conferência!$I$2,\"\")","v":""},{"$f":"IF(Jogo!J824=Conferência!$J$2,Conferência!$J$2,\"\")","v":""},{"$f":"IF(Jogo!K824=Conferência!$K$2,Conferência!$K$2,\"\")","v":""},{"$f":"IF(Jogo!L824=Conferência!$L$2,Conferência!$L$2,\"\")","v":""},{"$f":"IF(Jogo!M824=Conferência!$M$2,Conferência!$M$2,\"\")","v":""},{"$f":"IF(Jogo!N824=Conferência!$N$2,Conferência!$N$2,\"\")","v":""},{"$f":"IF(Jogo!O824=Conferência!$O$2,Conferência!$O$2,\"\")","v":""},{"$f":"IF(Jogo!P824=Conferência!$P$2,Conferência!$P$2,\"\")","v":""},{"$f":"IF(Jogo!Q824=Conferência!$Q$2,Conferência!$Q$2,\"\")","v":""},""]
[{"$f":"IF(Jogo!A825=Conferência!$A$2,Conferência!$A$2,\"\")","v":""},{"$f":"IF(Jogo!B825=Conferência!$B$2,Conferência!$B$2,\"\")","v":""},{"$f":"IF(Jogo!C825=Conferência!$C$2,Conferência!$C$2,\"\")","v":""},{"$f":"IF(Jogo!D825=Conferência!$D$2,Conferência!$D$2,\"\")","v":""},{"$f":"IF(Jogo!E825=Conferência!$E$2,Conferência!$E$2,\"\")","v":""},{"$f":"IF(Jogo!F825=Conferência!$F$2,Conferência!$F$2,\"\")","v":""},{"$f":"IF(Jogo!G825=Conferência!$G$2,Conferência!$G$2,\"\")","v":""},{"$f":"IF(Jogo!H825=Conferência!$H$2,Conferência!$H$2,\"\")","v":""},{"$f":"IF(Jogo!I825=Conferência!$I$2,Conferência!$I$2,\"\")","v":""},{"$f":"IF(Jogo!J825=Conferência!$J$2,Conferência!$J$2,\"\")","v":""},{"$f":"IF(Jogo!K825=Conferência!$K$2,Conferência!$K$2,\"\")","v":""},{"$f":"IF(Jogo!L825=Conferência!$L$2,Conferência!$L$2,\"\")","v":""},{"$f":"IF(Jogo!M825=Conferência!$M$2,Conferência!$M$2,\"\")","v":""},{"$f":"IF(Jogo!N825=Conferência!$N$2,Conferência!$N$2,\"\")","v":""},{"$f":"IF(Jogo!O825=Conferência!$O$2,Conferência!$O$2,\"\")","v":""},{"$f":"IF(Jogo!P825=Conferência!$P$2,Conferência!$P$2,\"\")","v":""},{"$f":"IF(Jogo!Q825=Conferência!$Q$2,Conferência!$Q$2,\"\")","v":""},""]
[{"$f":"IF(Jogo!A826=Conferência!$A$2,Conferência!$A$2,\"\")","v":""},{"$f":"IF(Jogo!B826=Conferência!$B$2,Conferência!$B$2,\"\")","v":""},{"$f":"IF(Jogo!C826=Conferência!$C$2,Conferência!$C$2,\"\")","v":""},{"$f":"IF(Jogo!D826=Conferência!$D$2,Conferência!$D$2,\"\")","v":""},{"$f":"IF(Jogo!E826=Conferência!$E$2,Conferência!$E$2,\"\")","v":""},{"$f":"IF(Jogo!F826=Conferência!$F$2,Conferência!$F$2,\"\")","v":""},{"$f":"IF(Jogo!G826=Conferência!$G$2,Conferência!$G$2,\"\")","v":""},{"$f":"IF(Jogo!H826=Conferência!$H$2,Conferência!$H$2,\"\")","v":""},{"$f":"IF(Jogo!I826=Conferência!$I$2,Conferência!$I$2,\"\")","v":""},{"$f":"IF(Jogo!J826=Conferência!$J$2,Conferência!$J$2,\"\")","v":""},{"$f":"IF(Jogo!K826=Conferência!$K$2,Conferência!$K$2,\"\")","v":""},{"$f":"IF(Jogo!L826=Conferência!$L$2,Conferência!$L$2,\"\")","v":""},{"$f":"IF(Jogo!M826=Conferência!$M$2,Conferência!$M$2,\"\")","v":""},{"$f":"IF(Jogo!N826=Conferência!$N$2,Conferência!$N$2,\"\")","v":""},{"$f":"IF(Jogo!O826=Conferência!$O$2,Conferência!$O$2,\"\")","v":""},{"$f":"IF(Jogo!P826=Conferência!$P$2,Conferência!$P$2,\"\")","v":""},{"$f":"IF(Jogo!Q826=Conferência!$Q$2,Conferência!$Q$2,\"\")","v":""},""]
[{"$f":"IF(Jogo!A827=Conferência!$A$2,Conferência!$A$2,\"\")","v":""},{"$f":"IF(Jogo!B827=Conferência!$B$2,Conferência!$B$2,\"\")","v":""},{"$f":"IF(Jogo!C827=Conferência!$C$2,Conferência!$C$2,\"\")","v":""},{"$f":"IF(Jogo!D827=Conferência!$D$2,Conferência!$D$2,\"\")","v":""},{"$f":"IF(Jogo!E827=Conferência!$E$2,Conferência!$E$2,\"\")","v":""},{"$f":"IF(Jogo!F827=Conferência!$F$2,Conferência!$F$2,\"\")","v":""},{"$f":"IF(Jogo!G827=Conferência!$G$2,Conferência!$G$2,\"\")","v":""},{"$f":"IF(Jogo!H827=Conferência!$H$2,Conferência!$H$2,\"\")","v":""},{"$f":"IF(Jogo!I827=Conferência!$I$2,Conferência!$I$2,\"\")","v":""},{"$f":"IF(Jogo!J827=Conferência!$J$2,Conferência!$J$2,\"\")","v":""},{"$f":"IF(Jogo!K827=Conferência!$K$2,Conferência!$K$2,\"\")","v":""},{"$f":"IF(Jogo!L827=Conferência!$L$2,Conferência!$L$2,\"\")","v":""},{"$f":"IF(Jogo!M827=Conferência!$M$2,Conferência!$M$2,\"\")","v":""},{"$f":"IF(Jogo!N827=Conferência!$N$2,Conferência!$N$2,\"\")","v":""},{"$f":"IF(Jogo!O827=Conferência!$O$2,Conferência!$O$2,\"\")","v":""},{"$f":"IF(Jogo!P827=Conferência!$P$2,Conferência!$P$2,\"\")","v":""},{"$f":"IF(Jogo!Q827=Conferência!$Q$2,Conferência!$Q$2,\"\")","v":""},""]
[{"$f":"IF(Jogo!A828=Conferência!$A$2,Conferência!$A$2,\"\")","v":""},{"$f":"IF(Jogo!B828=Conferência!$B$2,Conferência!$B$2,\"\")","v":""},{"$f":"IF(Jogo!C828=Conferência!$C$2,Conferência!$C$2,\"\")","v":""},{"$f":"IF(Jogo!D828=Conferência!$D$2,Conferência!$D$2,\"\")","v":""},{"$f":"IF(Jogo!E828=Conferência!$E$2,Conferência!$E$2,\"\")","v":""},{"$f":"IF(Jogo!F828=Conferência!$F$2,Conferência!$F$2,\"\")","v":""},{"$f":"IF(Jogo!G828=Conferência!$G$2,Conferência!$G$2,\"\")","v":""},{"$f":"IF(Jogo!H828=Conferência!$H$2,Conferência!$H$2,\"\")","v":""},{"$f":"IF(Jogo!I828=Conferência!$I$2,Conferência!$I$2,\"\")","v":""},{"$f":"IF(Jogo!J828=Conferência!$J$2,Conferência!$J$2,\"\")","v":""},{"$f":"IF(Jogo!K828=Conferência!$K$2,Conferência!$K$2,\"\")","v":""},{"$f":"IF(Jogo!L828=Conferência!$L$2,Conferência!$L$2,\"\")","v":""},{"$f":"IF(Jogo!M828=Conferência!$M$2,Conferência!$M$2,\"\")","v":""},{"$f":"IF(Jogo!N828=Conferência!$N$2,Conferência!$N$2,\"\")","v":""},{"$f":"IF(Jogo!O828=Conferência!$O$2,Conferência!$O$2,\"\")","v":""},{"$f":"IF(Jogo!P828=Conferência!$P$2,Conferência!$P$2,\"\")","v":""},{"$f":"IF(Jogo!Q828=Conferência!$Q$2,Conferência!$Q$2,\"\")","v":""},""]
[{"$f":"IF(Jogo!A829=Conferência!$A$2,Conferência!$A$2,\"\")","v":""},{"$f":"IF(Jogo!B829=Conferência!$B$2,Conferência!$B$2,\"\")","v":""},{"$f":"IF(Jogo!C829=Conferência!$C$2,Conferência!$C$2,\"\")","v":""},{"$f":"IF(Jogo!D829=Conferência!$D$2,Conferência!$D$2,\"\")","v":""},{"$f":"IF(Jogo!E829=Conferência!$E$2,Conferência!$E$2,\"\")","v":""},{"$f":"IF(Jogo!F829=Conferência!$F$2,Conferência!$F$2,\"\")","v":""},{"$f":"IF(Jogo!G829=Conferência!$G$2,Conferência!$G$2,\"\")","v":""},{"$f":"IF(Jogo!H829=Conferência!$H$2,Conferência!$H$2,\"\")","v":""},{"$f":"IF(Jogo!I829=Conferência!$I$2,Conferência!$I$2,\"\")","v":""},{"$f":"IF(Jogo!J829=Conferência!$J$2,Conferência!$J$2,\"\")","v":""},{"$f":"IF(Jogo!K829=Conferência!$K$2,Conferência!$K$2,\"\")","v":""},{"$f":"IF(Jogo!L829=Conferência!$L$2,Conferência!$L$2,\"\")","v":""},{"$f":"IF(Jogo!M829=Conferência!$M$2,Conferência!$M$2,\"\")","v":""},{"$f":"IF(Jogo!N829=Conferência!$N$2,Conferência!$N$2,\"\")","v":""},{"$f":"IF(Jogo!O829=Conferência!$O$2,Conferência!$O$2,\"\")","v":""},{"$f":"IF(Jogo!P829=Conferência!$P$2,Conferência!$P$2,\"\")","v":""},{"$f":"IF(Jogo!Q829=Conferência!$Q$2,Conferência!$Q$2,\"\")","v":""},""]
[{"$f":"IF(Jogo!A830=Conferência!$A$2,Conferência!$A$2,\"\")","v":""},{"$f":"IF(Jogo!B830=Conferência!$B$2,Conferência!$B$2,\"\")","v":""},{"$f":"IF(Jogo!C830=Conferência!$C$2,Conferência!$C$2,\"\")","v":""},{"$f":"IF(Jogo!D830=Conferência!$D$2,Conferência!$D$2,\"\")","v":""},{"$f":"IF(Jogo!E830=Conferência!$E$2,Conferência!$E$2,\"\")","v":""},{"$f":"IF(Jogo!F830=Conferência!$F$2,Conferência!$F$2,\"\")","v":""},{"$f":"IF(Jogo!G830=Conferência!$G$2,Conferência!$G$2,\"\")","v":""},{"$f":"IF(Jogo!H830=Conferência!$H$2,Conferência!$H$2,\"\")","v":""},{"$f":"IF(Jogo!I830=Conferência!$I$2,Conferência!$I$2,\"\")","v":""},{"$f":"IF(Jogo!J830=Conferência!$J$2,Conferência!$J$2,\"\")","v":""},{"$f":"IF(Jogo!K830=Conferência!$K$2,Conferência!$K$2,\"\")","v":""},{"$f":"IF(Jogo!L830=Conferência!$L$2,Conferência!$L$2,\"\")","v":""},{"$f":"IF(Jogo!M830=Conferência!$M$2,Conferência!$M$2,\"\")","v":""},{"$f":"IF(Jogo!N830=Conferência!$N$2,Conferência!$N$2,\"\")","v":""},{"$f":"IF(Jogo!O830=Conferência!$O$2,Conferência!$O$2,\"\")","v":""},{"$f":"IF(Jogo!P830=Conferência!$P$2,Conferência!$P$2,\"\")","v":""},{"$f":"IF(Jogo!Q830=Conferência!$Q$2,Conferência!$Q$2,\"\")","v":""},""]
[{"$f":"IF(Jogo!A831=Conferência!$A$2,Conferência!$A$2,\"\")","v":""},{"$f":"IF(Jogo!B831=Conferência!$B$2,Conferência!$B$2,\"\")","v":""},{"$f":"IF(Jogo!C831=Conferência!$C$2,Conferência!$C$2,\"\")","v":""},{"$f":"IF(Jogo!D831=Conferência!$D$2,Conferência!$D$2,\"\")","v":""},{"$f":"IF(Jogo!E831=Conferência!$E$2,Conferência!$E$2,\"\")","v":""},{"$f":"IF(Jogo!F831=Conferência!$F$2,Conferência!$F$2,\"\")","v":""},{"$f":"IF(Jogo!G831=Conferência!$G$2,Conferência!$G$2,\"\")","v":""},{"$f":"IF(Jogo!H831=Conferência!$H$2,Conferência!$H$2,\"\")","v":""},{"$f":"IF(Jogo!I831=Conferência!$I$2,Conferência!$I$2,\"\")","v":""},{"$f":"IF(Jogo!J831=Conferência!$J$2,Conferência!$J$2,\"\")","v":""},{"$f":"IF(Jogo!K831=Conferência!$K$2,Conferência!$K$2,\"\")","v":""},{"$f":"IF(Jogo!L831=Conferência!$L$2,Conferência!$L$2,\"\")","v":""},{"$f":"IF(Jogo!M831=Conferência!$M$2,Conferência!$M$2,\"\")","v":""},{"$f":"IF(Jogo!N831=Conferência!$N$2,Conferência!$N$2,\"\")","v":""},{"$f":"IF(Jogo!O831=Conferência!$O$2,Conferência!$O$2,\"\")","v":""},{"$f":"IF(Jogo!P831=Conferência!$P$2,Conferência!$P$2,\"\")","v":""},{"$f":"IF(Jogo!Q831=Conferência!$Q$2,Conferência!$Q$2,\"\")","v":""},""]
[{"$f":"IF(Jogo!A832=Conferência!$A$2,Conferência!$A$2,\"\")","v":""},{"$f":"IF(Jogo!B832=Conferência!$B$2,Conferência!$B$2,\"\")","v":""},{"$f":"IF(Jogo!C832=Conferência!$C$2,Conferência!$C$2,\"\")","v":""},{"$f":"IF(Jogo!D832=Conferência!$D$2,Conferência!$D$2,\"\")","v":""},{"$f":"IF(Jogo!E832=Conferência!$E$2,Conferência!$E$2,\"\")","v":""},{"$f":"IF(Jogo!F832=Conferência!$F$2,Conferência!$F$2,\"\")","v":""},{"$f":"IF(Jogo!G832=Conferência!$G$2,Conferência!$G$2,\"\")","v":""},{"$f":"IF(Jogo!H832=Conferência!$H$2,Conferência!$H$2,\"\")","v":""},{"$f":"IF(Jogo!I832=Conferência!$I$2,Conferência!$I$2,\"\")","v":""},{"$f":"IF(Jogo!J832=Conferência!$J$2,Conferência!$J$2,\"\")","v":""},{"$f":"IF(Jogo!K832=Conferência!$K$2,Conferência!$K$2,\"\")","v":""},{"$f":"IF(Jogo!L832=Conferência!$L$2,Conferência!$L$2,\"\")","v":""},{"$f":"IF(Jogo!M832=Conferência!$M$2,Conferência!$M$2,\"\")","v":""},{"$f":"IF(Jogo!N832=Conferência!$N$2,Conferência!$N$2,\"\")","v":""},{"$f":"IF(Jogo!O832=Conferência!$O$2,Conferência!$O$2,\"\")","v":""},{"$f":"IF(Jogo!P832=Conferência!$P$2,Conferência!$P$2,\"\")","v":""},{"$f":"IF(Jogo!Q832=Conferência!$Q$2,Conferência!$Q$2,\"\")","v":""},""]
[{"$f":"IF(Jogo!A833=Conferência!$A$2,Conferência!$A$2,\"\")","v":""},{"$f":"IF(Jogo!B833=Conferência!$B$2,Conferência!$B$2,\"\")","v":""},{"$f":"IF(Jogo!C833=Conferência!$C$2,Conferência!$C$2,\"\")","v":""},{"$f":"IF(Jogo!D833=Conferência!$D$2,Conferência!$D$2,\"\")","v":""},{"$f":"IF(Jogo!E833=Conferência!$E$2,Conferência!$E$2,\"\")","v":""},{"$f":"IF(Jogo!F833=Conferência!$F$2,Conferência!$F$2,\"\")","v":""},{"$f":"IF(Jogo!G833=Conferência!$G$2,Conferência!$G$2,\"\")","v":""},{"$f":"IF(Jogo!H833=Conferência!$H$2,Conferência!$H$2,\"\")","v":""},{"$f":"IF(Jogo!I833=Conferência!$I$2,Conferência!$I$2,\"\")","v":""},{"$f":"IF(Jogo!J833=Conferência!$J$2,Conferência!$J$2,\"\")","v":""},{"$f":"IF(Jogo!K833=Conferência!$K$2,Conferência!$K$2,\"\")","v":""},{"$f":"IF(Jogo!L833=Conferência!$L$2,Conferência!$L$2,\"\")","v":""},{"$f":"IF(Jogo!M833=Conferência!$M$2,Conferência!$M$2,\"\")","v":""},{"$f":"IF(Jogo!N833=Conferência!$N$2,Conferência!$N$2,\"\")","v":""},{"$f":"IF(Jogo!O833=Conferência!$O$2,Conferência!$O$2,\"\")","v":""},{"$f":"IF(Jogo!P833=Conferência!$P$2,Conferência!$P$2,\"\")","v":""},{"$f":"IF(Jogo!Q833=Conferência!$Q$2,Conferência!$Q$2,\"\")","v":""},""]
[{"$f":"IF(Jogo!A834=Conferência!$A$2,Conferência!$A$2,\"\")","v":""},{"$f":"IF(Jogo!B834=Conferência!$B$2,Conferência!$B$2,\"\")","v":""},{"$f":"IF(Jogo!C834=Conferência!$C$2,Conferência!$C$2,\"\")","v":""},{"$f":"IF(Jogo!D834=Conferência!$D$2,Conferência!$D$2,\"\")","v":""},{"$f":"IF(Jogo!E834=Conferência!$E$2,Conferência!$E$2,\"\")","v":""},{"$f":"IF(Jogo!F834=Conferência!$F$2,Conferência!$F$2,\"\")","v":""},{"$f":"IF(Jogo!G834=Conferência!$G$2,Conferência!$G$2,\"\")","v":""},{"$f":"IF(Jogo!H834=Conferência!$H$2,Conferência!$H$2,\"\")","v":""},{"$f":"IF(Jogo!I834=Conferência!$I$2,Conferência!$I$2,\"\")","v":""},{"$f":"IF(Jogo!J834=Conferência!$J$2,Conferência!$J$2,\"\")","v":""},{"$f":"IF(Jogo!K834=Conferência!$K$2,Conferência!$K$2,\"\")","v":""},{"$f":"IF(Jogo!L834=Conferência!$L$2,Conferência!$L$2,\"\")","v":""},{"$f":"IF(Jogo!M834=Conferência!$M$2,Conferência!$M$2,\"\")","v":""},{"$f":"IF(Jogo!N834=Conferência!$N$2,Conferência!$N$2,\"\")","v":""},{"$f":"IF(Jogo!O834=Conferência!$O$2,Conferência!$O$2,\"\")","v":""},{"$f":"IF(Jogo!P834=Conferência!$P$2,Conferência!$P$2,\"\")","v":""},{"$f":"IF(Jogo!Q834=Conferência!$Q$2,Conferência!$Q$2,\"\")","v":""},""]
[{"$f":"IF(Jogo!A835=Conferência!$A$2,Conferência!$A$2,\"\")","v":""},{"$f":"IF(Jogo!B835=Conferência!$B$2,Conferência!$B$2,\"\")","v":""},{"$f":"IF(Jogo!C835=Conferência!$C$2,Conferência!$C$2,\"\")","v":""},{"$f":"IF(Jogo!D835=Conferência!$D$2,Conferência!$D$2,\"\")","v":""},{"$f":"IF(Jogo!E835=Conferência!$E$2,Conferência!$E$2,\"\")","v":""},{"$f":"IF(Jogo!F835=Conferência!$F$2,Conferência!$F$2,\"\")","v":""},{"$f":"IF(Jogo!G835=Conferência!$G$2,Conferência!$G$2,\"\")","v":""},{"$f":"IF(Jogo!H835=Conferência!$H$2,Conferência!$H$2,\"\")","v":""},{"$f":"IF(Jogo!I835=Conferência!$I$2,Conferência!$I$2,\"\")","v":""},{"$f":"IF(Jogo!J835=Conferência!$J$2,Conferência!$J$2,\"\")","v":""},{"$f":"IF(Jogo!K835=Conferência!$K$2,Conferência!$K$2,\"\")","v":""},{"$f":"IF(Jogo!L835=Conferência!$L$2,Conferência!$L$2,\"\")","v":""},{"$f":"IF(Jogo!M835=Conferência!$M$2,Conferência!$M$2,\"\")","v":""},{"$f":"IF(Jogo!N835=Conferência!$N$2,Conferência!$N$2,\"\")","v":""},{"$f":"IF(Jogo!O835=Conferência!$O$2,Conferência!$O$2,\"\")","v":""},{"$f":"IF(Jogo!P835=Conferência!$P$2,Conferência!$P$2,\"\")","v":""},{"$f":"IF(Jogo!Q835=Conferência!$Q$2,Conferência!$Q$2,\"\")","v":""},""]
[{"$f":"IF(Jogo!A836=Conferência!$A$2,Conferência!$A$2,\"\")","v":""},{"$f":"IF(Jogo!B836=Conferência!$B$2,Conferência!$B$2,\"\")","v":""},{"$f":"IF(Jogo!C836=Conferência!$C$2,Conferência!$C$2,\"\")","v":""},{"$f":"IF(Jogo!D836=Conferência!$D$2,Conferência!$D$2,\"\")","v":""},{"$f":"IF(Jogo!E836=Conferência!$E$2,Conferência!$E$2,\"\")","v":""},{"$f":"IF(Jogo!F836=Conferência!$F$2,Conferência!$F$2,\"\")","v":""},{"$f":"IF(Jogo!G836=Conferência!$G$2,Conferência!$G$2,\"\")","v":""},{"$f":"IF(Jogo!H836=Conferência!$H$2,Conferência!$H$2,\"\")","v":""},{"$f":"IF(Jogo!I836=Conferência!$I$2,Conferência!$I$2,\"\")","v":""},{"$f":"IF(Jogo!J836=Conferência!$J$2,Conferência!$J$2,\"\")","v":""},{"$f":"IF(Jogo!K836=Conferência!$K$2,Conferência!$K$2,\"\")","v":""},{"$f":"IF(Jogo!L836=Conferência!$L$2,Conferência!$L$2,\"\")","v":""},{"$f":"IF(Jogo!M836=Conferência!$M$2,Conferência!$M$2,\"\")","v":""},{"$f":"IF(Jogo!N836=Conferência!$N$2,Conferência!$N$2,\"\")","v":""},{"$f":"IF(Jogo!O836=Conferência!$O$2,Conferência!$O$2,\"\")","v":""},{"$f":"IF(Jogo!P836=Conferência!$P$2,Conferência!$P$2,\"\")","v":""},{"$f":"IF(Jogo!Q836=Conferência!$Q$2,Conferência!$Q$2,\"\")","v":""},""]
[{"$f":"IF(Jogo!A837=Conferência!$A$2,Conferência!$A$2,\"\")","v":""},{"$f":"IF(Jogo!B837=Conferência!$B$2,Conferência!$B$2,\"\")","v":""},{"$f":"IF(Jogo!C837=Conferência!$C$2,Conferência!$C$2,\"\")","v":""},{"$f":"IF(Jogo!D837=Conferência!$D$2,Conferência!$D$2,\"\")","v":""},{"$f":"IF(Jogo!E837=Conferência!$E$2,Conferência!$E$2,\"\")","v":""},{"$f":"IF(Jogo!F837=Conferência!$F$2,Conferência!$F$2,\"\")","v":""},{"$f":"IF(Jogo!G837=Conferência!$G$2,Conferência!$G$2,\"\")","v":""},{"$f":"IF(Jogo!H837=Conferência!$H$2,Conferência!$H$2,\"\")","v":""},{"$f":"IF(Jogo!I837=Conferência!$I$2,Conferência!$I$2,\"\")","v":""},{"$f":"IF(Jogo!J837=Conferência!$J$2,Conferência!$J$2,\"\")","v":""},{"$f":"IF(Jogo!K837=Conferência!$K$2,Conferência!$K$2,\"\")","v":""},{"$f":"IF(Jogo!L837=Conferência!$L$2,Conferência!$L$2,\"\")","v":""},{"$f":"IF(Jogo!M837=Conferência!$M$2,Conferência!$M$2,\"\")","v":""},{"$f":"IF(Jogo!N837=Conferência!$N$2,Conferência!$N$2,\"\")","v":""},{"$f":"IF(Jogo!O837=Conferência!$O$2,Conferência!$O$2,\"\")","v":""},{"$f":"IF(Jogo!P837=Conferência!$P$2,Conferência!$P$2,\"\")","v":""},{"$f":"IF(Jogo!Q837=Conferência!$Q$2,Conferência!$Q$2,\"\")","v":""},""]
[{"$f":"IF(Jogo!A838=Conferência!$A$2,Conferência!$A$2,\"\")","v":""},{"$f":"IF(Jogo!B838=Conferência!$B$2,Conferência!$B$2,\"\")","v":""},{"$f":"IF(Jogo!C838=Conferência!$C$2,Conferência!$C$2,\"\")","v":""},{"$f":"IF(Jogo!D838=Conferência!$D$2,Conferência!$D$2,\"\")","v":""},{"$f":"IF(Jogo!E838=Conferência!$E$2,Conferência!$E$2,\"\")","v":""},{"$f":"IF(Jogo!F838=Conferência!$F$2,Conferência!$F$2,\"\")","v":""},{"$f":"IF(Jogo!G838=Conferência!$G$2,Conferência!$G$2,\"\")","v":""},{"$f":"IF(Jogo!H838=Conferência!$H$2,Conferência!$H$2,\"\")","v":""},{"$f":"IF(Jogo!I838=Conferência!$I$2,Conferência!$I$2,\"\")","v":""},{"$f":"IF(Jogo!J838=Conferência!$J$2,Conferência!$J$2,\"\")","v":""},{"$f":"IF(Jogo!K838=Conferência!$K$2,Conferência!$K$2,\"\")","v":""},{"$f":"IF(Jogo!L838=Conferência!$L$2,Conferência!$L$2,\"\")","v":""},{"$f":"IF(Jogo!M838=Conferência!$M$2,Conferência!$M$2,\"\")","v":""},{"$f":"IF(Jogo!N838=Conferência!$N$2,Conferência!$N$2,\"\")","v":""},{"$f":"IF(Jogo!O838=Conferência!$O$2,Conferência!$O$2,\"\")","v":""},{"$f":"IF(Jogo!P838=Conferência!$P$2,Conferência!$P$2,\"\")","v":""},{"$f":"IF(Jogo!Q838=Conferência!$Q$2,Conferência!$Q$2,\"\")","v":""},""]
[{"$f":"IF(Jogo!A839=Conferência!$A$2,Conferência!$A$2,\"\")","v":""},{"$f":"IF(Jogo!B839=Conferência!$B$2,Conferência!$B$2,\"\")","v":""},{"$f":"IF(Jogo!C839=Conferência!$C$2,Conferência!$C$2,\"\")","v":""},{"$f":"IF(Jogo!D839=Conferência!$D$2,Conferência!$D$2,\"\")","v":""},{"$f":"IF(Jogo!E839=Conferência!$E$2,Conferência!$E$2,\"\")","v":""},{"$f":"IF(Jogo!F839=Conferência!$F$2,Conferência!$F$2,\"\")","v":""},{"$f":"IF(Jogo!G839=Conferência!$G$2,Conferência!$G$2,\"\")","v":""},{"$f":"IF(Jogo!H839=Conferência!$H$2,Conferência!$H$2,\"\")","v":""},{"$f":"IF(Jogo!I839=Conferência!$I$2,Conferência!$I$2,\"\")","v":""},{"$f":"IF(Jogo!J839=Conferência!$J$2,Conferência!$J$2,\"\")","v":""},{"$f":"IF(Jogo!K839=Conferência!$K$2,Conferência!$K$2,\"\")","v":""},{"$f":"IF(Jogo!L839=Conferência!$L$2,Conferência!$L$2,\"\")","v":""},{"$f":"IF(Jogo!M839=Conferência!$M$2,Conferência!$M$2,\"\")","v":""},{"$f":"IF(Jogo!N839=Conferência!$N$2,Conferência!$N$2,\"\")","v":""},{"$f":"IF(Jogo!O839=Conferência!$O$2,Conferência!$O$2,\"\")","v":""},{"$f":"IF(Jogo!P839=Conferência!$P$2,Conferência!$P$2,\"\")","v":""},{"$f":"IF(Jogo!Q839=Conferência!$Q$2,Conferência!$Q$2,\"\")","v":""},""]
[{"$f":"IF(Jogo!A840=Conferência!$A$2,Conferência!$A$2,\"\")","v":""},{"$f":"IF(Jogo!B840=Conferência!$B$2,Conferência!$B$2,\"\")","v":""},{"$f":"IF(Jogo!C840=Conferência!$C$2,Conferência!$C$2,\"\")","v":""},{"$f":"IF(Jogo!D840=Conferência!$D$2,Conferência!$D$2,\"\")","v":""},{"$f":"IF(Jogo!E840=Conferência!$E$2,Conferência!$E$2,\"\")","v":""},{"$f":"IF(Jogo!F840=Conferência!$F$2,Conferência!$F$2,\"\")","v":""},{"$f":"IF(Jogo!G840=Conferência!$G$2,Conferência!$G$2,\"\")","v":""},{"$f":"IF(Jogo!H840=Conferência!$H$2,Conferência!$H$2,\"\")","v":""},{"$f":"IF(Jogo!I840=Conferência!$I$2,Conferência!$I$2,\"\")","v":""},{"$f":"IF(Jogo!J840=Conferência!$J$2,Conferência!$J$2,\"\")","v":""},{"$f":"IF(Jogo!K840=Conferência!$K$2,Conferência!$K$2,\"\")","v":""},{"$f":"IF(Jogo!L840=Conferência!$L$2,Conferência!$L$2,\"\")","v":""},{"$f":"IF(Jogo!M840=Conferência!$M$2,Conferência!$M$2,\"\")","v":""},{"$f":"IF(Jogo!N840=Conferência!$N$2,Conferência!$N$2,\"\")","v":""},{"$f":"IF(Jogo!O840=Conferência!$O$2,Conferência!$O$2,\"\")","v":""},{"$f":"IF(Jogo!P840=Conferência!$P$2,Conferência!$P$2,\"\")","v":""},{"$f":"IF(Jogo!Q840=Conferência!$Q$2,Conferência!$Q$2,\"\")","v":""},""]
[{"$f":"IF(Jogo!A841=Conferência!$A$2,Conferência!$A$2,\"\")","v":""},{"$f":"IF(Jogo!B841=Conferência!$B$2,Conferência!$B$2,\"\")","v":""},{"$f":"IF(Jogo!C841=Conferência!$C$2,Conferência!$C$2,\"\")","v":""},{"$f":"IF(Jogo!D841=Conferência!$D$2,Conferência!$D$2,\"\")","v":""},{"$f":"IF(Jogo!E841=Conferência!$E$2,Conferência!$E$2,\"\")","v":""},{"$f":"IF(Jogo!F841=Conferência!$F$2,Conferência!$F$2,\"\")","v":""},{"$f":"IF(Jogo!G841=Conferência!$G$2,Conferência!$G$2,\"\")","v":""},{"$f":"IF(Jogo!H841=Conferência!$H$2,Conferência!$H$2,\"\")","v":""},{"$f":"IF(Jogo!I841=Conferência!$I$2,Conferência!$I$2,\"\")","v":""},{"$f":"IF(Jogo!J841=Conferência!$J$2,Conferência!$J$2,\"\")","v":""},{"$f":"IF(Jogo!K841=Conferência!$K$2,Conferência!$K$2,\"\")","v":""},{"$f":"IF(Jogo!L841=Conferência!$L$2,Conferência!$L$2,\"\")","v":""},{"$f":"IF(Jogo!M841=Conferência!$M$2,Conferência!$M$2,\"\")","v":""},{"$f":"IF(Jogo!N841=Conferência!$N$2,Conferência!$N$2,\"\")","v":""},{"$f":"IF(Jogo!O841=Conferência!$O$2,Conferência!$O$2,\"\")","v":""},{"$f":"IF(Jogo!P841=Conferência!$P$2,Conferência!$P$2,\"\")","v":""},{"$f":"IF(Jogo!Q841=Conferência!$Q$2,Conferência!$Q$2,\"\")","v":""},""]
[{"$f":"IF(Jogo!A842=Conferência!$A$2,Conferência!$A$2,\"\")","v":""},{"$f":"IF(Jogo!B842=Conferência!$B$2,Conferência!$B$2,\"\")","v":""},{"$f":"IF(Jogo!C842=Conferência!$C$2,Conferência!$C$2,\"\")","v":""},{"$f":"IF(Jogo!D842=Conferência!$D$2,Conferência!$D$2,\"\")","v":""},{"$f":"IF(Jogo!E842=Conferência!$E$2,Conferência!$E$2,\"\")","v":""},{"$f":"IF(Jogo!F842=Conferência!$F$2,Conferência!$F$2,\"\")","v":""},{"$f":"IF(Jogo!G842=Conferência!$G$2,Conferência!$G$2,\"\")","v":""},{"$f":"IF(Jogo!H842=Conferência!$H$2,Conferência!$H$2,\"\")","v":""},{"$f":"IF(Jogo!I842=Conferência!$I$2,Conferência!$I$2,\"\")","v":""},{"$f":"IF(Jogo!J842=Conferência!$J$2,Conferência!$J$2,\"\")","v":""},{"$f":"IF(Jogo!K842=Conferência!$K$2,Conferência!$K$2,\"\")","v":""},{"$f":"IF(Jogo!L842=Conferência!$L$2,Conferência!$L$2,\"\")","v":""},{"$f":"IF(Jogo!M842=Conferência!$M$2,Conferência!$M$2,\"\")","v":""},{"$f":"IF(Jogo!N842=Conferência!$N$2,Conferência!$N$2,\"\")","v":""},{"$f":"IF(Jogo!O842=Conferência!$O$2,Conferência!$O$2,\"\")","v":""},{"$f":"IF(Jogo!P842=Conferência!$P$2,Conferência!$P$2,\"\")","v":""},{"$f":"IF(Jogo!Q842=Conferência!$Q$2,Conferência!$Q$2,\"\")","v":""},""]
[{"$f":"IF(Jogo!A843=Conferência!$A$2,Conferência!$A$2,\"\")","v":""},{"$f":"IF(Jogo!B843=Conferência!$B$2,Conferência!$B$2,\"\")","v":""},{"$f":"IF(Jogo!C843=Conferência!$C$2,Conferência!$C$2,\"\")","v":""},{"$f":"IF(Jogo!D843=Conferência!$D$2,Conferência!$D$2,\"\")","v":""},{"$f":"IF(Jogo!E843=Conferência!$E$2,Conferência!$E$2,\"\")","v":""},{"$f":"IF(Jogo!F843=Conferência!$F$2,Conferência!$F$2,\"\")","v":""},{"$f":"IF(Jogo!G843=Conferência!$G$2,Conferência!$G$2,\"\")","v":""},{"$f":"IF(Jogo!H843=Conferência!$H$2,Conferência!$H$2,\"\")","v":""},{"$f":"IF(Jogo!I843=Conferência!$I$2,Conferência!$I$2,\"\")","v":""},{"$f":"IF(Jogo!J843=Conferência!$J$2,Conferência!$J$2,\"\")","v":""},{"$f":"IF(Jogo!K843=Conferência!$K$2,Conferência!$K$2,\"\")","v":""},{"$f":"IF(Jogo!L843=Conferência!$L$2,Conferência!$L$2,\"\")","v":""},{"$f":"IF(Jogo!M843=Conferência!$M$2,Conferência!$M$2,\"\")","v":""},{"$f":"IF(Jogo!N843=Conferência!$N$2,Conferência!$N$2,\"\")","v":""},{"$f":"IF(Jogo!O843=Conferência!$O$2,Conferência!$O$2,\"\")","v":""},{"$f":"IF(Jogo!P843=Conferência!$P$2,Conferência!$P$2,\"\")","v":""},{"$f":"IF(Jogo!Q843=Conferência!$Q$2,Conferência!$Q$2,\"\")","v":""},""]
[{"$f":"IF(Jogo!A844=Conferência!$A$2,Conferência!$A$2,\"\")","v":""},{"$f":"IF(Jogo!B844=Conferência!$B$2,Conferência!$B$2,\"\")","v":""},{"$f":"IF(Jogo!C844=Conferência!$C$2,Conferência!$C$2,\"\")","v":""},{"$f":"IF(Jogo!D844=Conferência!$D$2,Conferência!$D$2,\"\")","v":""},{"$f":"IF(Jogo!E844=Conferência!$E$2,Conferência!$E$2,\"\")","v":""},{"$f":"IF(Jogo!F844=Conferência!$F$2,Conferência!$F$2,\"\")","v":""},{"$f":"IF(Jogo!G844=Conferência!$G$2,Conferência!$G$2,\"\")","v":""},{"$f":"IF(Jogo!H844=Conferência!$H$2,Conferência!$H$2,\"\")","v":""},{"$f":"IF(Jogo!I844=Conferência!$I$2,Conferência!$I$2,\"\")","v":""},{"$f":"IF(Jogo!J844=Conferência!$J$2,Conferência!$J$2,\"\")","v":""},{"$f":"IF(Jogo!K844=Conferência!$K$2,Conferência!$K$2,\"\")","v":""},{"$f":"IF(Jogo!L844=Conferência!$L$2,Conferência!$L$2,\"\")","v":""},{"$f":"IF(Jogo!M844=Conferência!$M$2,Conferência!$M$2,\"\")","v":""},{"$f":"IF(Jogo!N844=Conferência!$N$2,Conferência!$N$2,\"\")","v":""},{"$f":"IF(Jogo!O844=Conferência!$O$2,Conferência!$O$2,\"\")","v":""},{"$f":"IF(Jogo!P844=Conferência!$P$2,Conferência!$P$2,\"\")","v":""},{"$f":"IF(Jogo!Q844=Conferência!$Q$2,Conferência!$Q$2,\"\")","v":""},""]
[{"$f":"IF(Jogo!A845=Conferência!$A$2,Conferência!$A$2,\"\")","v":""},{"$f":"IF(Jogo!B845=Conferência!$B$2,Conferência!$B$2,\"\")","v":""},{"$f":"IF(Jogo!C845=Conferência!$C$2,Conferência!$C$2,\"\")","v":""},{"$f":"IF(Jogo!D845=Conferência!$D$2,Conferência!$D$2,\"\")","v":""},{"$f":"IF(Jogo!E845=Conferência!$E$2,Conferência!$E$2,\"\")","v":""},{"$f":"IF(Jogo!F845=Conferência!$F$2,Conferência!$F$2,\"\")","v":""},{"$f":"IF(Jogo!G845=Conferência!$G$2,Conferência!$G$2,\"\")","v":""},{"$f":"IF(Jogo!H845=Conferência!$H$2,Conferência!$H$2,\"\")","v":""},{"$f":"IF(Jogo!I845=Conferência!$I$2,Conferência!$I$2,\"\")","v":""},{"$f":"IF(Jogo!J845=Conferência!$J$2,Conferência!$J$2,\"\")","v":""},{"$f":"IF(Jogo!K845=Conferência!$K$2,Conferência!$K$2,\"\")","v":""},{"$f":"IF(Jogo!L845=Conferência!$L$2,Conferência!$L$2,\"\")","v":""},{"$f":"IF(Jogo!M845=Conferência!$M$2,Conferência!$M$2,\"\")","v":""},{"$f":"IF(Jogo!N845=Conferência!$N$2,Conferência!$N$2,\"\")","v":""},{"$f":"IF(Jogo!O845=Conferência!$O$2,Conferência!$O$2,\"\")","v":""},{"$f":"IF(Jogo!P845=Conferência!$P$2,Conferência!$P$2,\"\")","v":""},{"$f":"IF(Jogo!Q845=Conferência!$Q$2,Conferência!$Q$2,\"\")","v":""},""]
[{"$f":"IF(Jogo!A846=Conferência!$A$2,Conferência!$A$2,\"\")","v":""},{"$f":"IF(Jogo!B846=Conferência!$B$2,Conferência!$B$2,\"\")","v":""},{"$f":"IF(Jogo!C846=Conferência!$C$2,Conferência!$C$2,\"\")","v":""},{"$f":"IF(Jogo!D846=Conferência!$D$2,Conferência!$D$2,\"\")","v":""},{"$f":"IF(Jogo!E846=Conferência!$E$2,Conferência!$E$2,\"\")","v":""},{"$f":"IF(Jogo!F846=Conferência!$F$2,Conferência!$F$2,\"\")","v":""},{"$f":"IF(Jogo!G846=Conferência!$G$2,Conferência!$G$2,\"\")","v":""},{"$f":"IF(Jogo!H846=Conferência!$H$2,Conferência!$H$2,\"\")","v":""},{"$f":"IF(Jogo!I846=Conferência!$I$2,Conferência!$I$2,\"\")","v":""},{"$f":"IF(Jogo!J846=Conferência!$J$2,Conferência!$J$2,\"\")","v":""},{"$f":"IF(Jogo!K846=Conferência!$K$2,Conferência!$K$2,\"\")","v":""},{"$f":"IF(Jogo!L846=Conferência!$L$2,Conferência!$L$2,\"\")","v":""},{"$f":"IF(Jogo!M846=Conferência!$M$2,Conferência!$M$2,\"\")","v":""},{"$f":"IF(Jogo!N846=Conferência!$N$2,Conferência!$N$2,\"\")","v":""},{"$f":"IF(Jogo!O846=Conferência!$O$2,Conferência!$O$2,\"\")","v":""},{"$f":"IF(Jogo!P846=Conferência!$P$2,Conferência!$P$2,\"\")","v":""},{"$f":"IF(Jogo!Q846=Conferência!$Q$2,Conferência!$Q$2,\"\")","v":""},""]
[{"$f":"IF(Jogo!A847=Conferência!$A$2,Conferência!$A$2,\"\")","v":""},{"$f":"IF(Jogo!B847=Conferência!$B$2,Conferência!$B$2,\"\")","v":""},{"$f":"IF(Jogo!C847=Conferência!$C$2,Conferência!$C$2,\"\")","v":""},{"$f":"IF(Jogo!D847=Conferência!$D$2,Conferência!$D$2,\"\")","v":""},{"$f":"IF(Jogo!E847=Conferência!$E$2,Conferência!$E$2,\"\")","v":""},{"$f":"IF(Jogo!F847=Conferência!$F$2,Conferência!$F$2,\"\")","v":""},{"$f":"IF(Jogo!G847=Conferência!$G$2,Conferência!$G$2,\"\")","v":""},{"$f":"IF(Jogo!H847=Conferência!$H$2,Conferência!$H$2,\"\")","v":""},{"$f":"IF(Jogo!I847=Conferência!$I$2,Conferência!$I$2,\"\")","v":""},{"$f":"IF(Jogo!J847=Conferência!$J$2,Conferência!$J$2,\"\")","v":""},{"$f":"IF(Jogo!K847=Conferência!$K$2,Conferência!$K$2,\"\")","v":""},{"$f":"IF(Jogo!L847=Conferência!$L$2,Conferência!$L$2,\"\")","v":""},{"$f":"IF(Jogo!M847=Conferência!$M$2,Conferência!$M$2,\"\")","v":""},{"$f":"IF(Jogo!N847=Conferência!$N$2,Conferência!$N$2,\"\")","v":""},{"$f":"IF(Jogo!O847=Conferência!$O$2,Conferência!$O$2,\"\")","v":""},{"$f":"IF(Jogo!P847=Conferência!$P$2,Conferência!$P$2,\"\")","v":""},{"$f":"IF(Jogo!Q847=Conferência!$Q$2,Conferência!$Q$2,\"\")","v":""},""]
[{"$f":"IF(Jogo!A848=Conferência!$A$2,Conferência!$A$2,\"\")","v":""},{"$f":"IF(Jogo!B848=Conferência!$B$2,Conferência!$B$2,\"\")","v":""},{"$f":"IF(Jogo!C848=Conferência!$C$2,Conferência!$C$2,\"\")","v":""},{"$f":"IF(Jogo!D848=Conferência!$D$2,Conferência!$D$2,\"\")","v":""},{"$f":"IF(Jogo!E848=Conferência!$E$2,Conferência!$E$2,\"\")","v":""},{"$f":"IF(Jogo!F848=Conferência!$F$2,Conferência!$F$2,\"\")","v":""},{"$f":"IF(Jogo!G848=Conferência!$G$2,Conferência!$G$2,\"\")","v":""},{"$f":"IF(Jogo!H848=Conferência!$H$2,Conferência!$H$2,\"\")","v":""},{"$f":"IF(Jogo!I848=Conferência!$I$2,Conferência!$I$2,\"\")","v":""},{"$f":"IF(Jogo!J848=Conferência!$J$2,Conferência!$J$2,\"\")","v":""},{"$f":"IF(Jogo!K848=Conferência!$K$2,Conferência!$K$2,\"\")","v":""},{"$f":"IF(Jogo!L848=Conferência!$L$2,Conferência!$L$2,\"\")","v":""},{"$f":"IF(Jogo!M848=Conferência!$M$2,Conferência!$M$2,\"\")","v":""},{"$f":"IF(Jogo!N848=Conferência!$N$2,Conferência!$N$2,\"\")","v":""},{"$f":"IF(Jogo!O848=Conferência!$O$2,Conferência!$O$2,\"\")","v":""},{"$f":"IF(Jogo!P848=Conferência!$P$2,Conferência!$P$2,\"\")","v":""},{"$f":"IF(Jogo!Q848=Conferência!$Q$2,Conferência!$Q$2,\"\")","v":""},""]
[{"$f":"IF(Jogo!A849=Conferência!$A$2,Conferência!$A$2,\"\")","v":""},{"$f":"IF(Jogo!B849=Conferência!$B$2,Conferência!$B$2,\"\")","v":""},{"$f":"IF(Jogo!C849=Conferência!$C$2,Conferência!$C$2,\"\")","v":""},{"$f":"IF(Jogo!D849=Conferência!$D$2,Conferência!$D$2,\"\")","v":""},{"$f":"IF(Jogo!E849=Conferência!$E$2,Conferência!$E$2,\"\")","v":""},{"$f":"IF(Jogo!F849=Conferência!$F$2,Conferência!$F$2,\"\")","v":""},{"$f":"IF(Jogo!G849=Conferência!$G$2,Conferência!$G$2,\"\")","v":""},{"$f":"IF(Jogo!H849=Conferência!$H$2,Conferência!$H$2,\"\")","v":""},{"$f":"IF(Jogo!I849=Conferência!$I$2,Conferência!$I$2,\"\")","v":""},{"$f":"IF(Jogo!J849=Conferência!$J$2,Conferência!$J$2,\"\")","v":""},{"$f":"IF(Jogo!K849=Conferência!$K$2,Conferência!$K$2,\"\")","v":""},{"$f":"IF(Jogo!L849=Conferência!$L$2,Conferência!$L$2,\"\")","v":""},{"$f":"IF(Jogo!M849=Conferência!$M$2,Conferência!$M$2,\"\")","v":""},{"$f":"IF(Jogo!N849=Conferência!$N$2,Conferência!$N$2,\"\")","v":""},{"$f":"IF(Jogo!O849=Conferência!$O$2,Conferência!$O$2,\"\")","v":""},{"$f":"IF(Jogo!P849=Conferência!$P$2,Conferência!$P$2,\"\")","v":""},{"$f":"IF(Jogo!Q849=Conferência!$Q$2,Conferência!$Q$2,\"\")","v":""},""]
[{"$f":"IF(Jogo!A850=Conferência!$A$2,Conferência!$A$2,\"\")","v":""},{"$f":"IF(Jogo!B850=Conferência!$B$2,Conferência!$B$2,\"\")","v":""},{"$f":"IF(Jogo!C850=Conferência!$C$2,Conferência!$C$2,\"\")","v":""},{"$f":"IF(Jogo!D850=Conferência!$D$2,Conferência!$D$2,\"\")","v":""},{"$f":"IF(Jogo!E850=Conferência!$E$2,Conferência!$E$2,\"\")","v":""},{"$f":"IF(Jogo!F850=Conferência!$F$2,Conferência!$F$2,\"\")","v":""},{"$f":"IF(Jogo!G850=Conferência!$G$2,Conferência!$G$2,\"\")","v":""},{"$f":"IF(Jogo!H850=Conferência!$H$2,Conferência!$H$2,\"\")","v":""},{"$f":"IF(Jogo!I850=Conferência!$I$2,Conferência!$I$2,\"\")","v":""},{"$f":"IF(Jogo!J850=Conferência!$J$2,Conferência!$J$2,\"\")","v":""},{"$f":"IF(Jogo!K850=Conferência!$K$2,Conferência!$K$2,\"\")","v":""},{"$f":"IF(Jogo!L850=Conferência!$L$2,Conferência!$L$2,\"\")","v":""},{"$f":"IF(Jogo!M850=Conferência!$M$2,Conferência!$M$2,\"\")","v":""},{"$f":"IF(Jogo!N850=Conferência!$N$2,Conferência!$N$2,\"\")","v":""},{"$f":"IF(Jogo!O850=Conferência!$O$2,Conferência!$O$2,\"\")","v":""},{"$f":"IF(Jogo!P850=Conferência!$P$2,Conferência!$P$2,\"\")","v":""},{"$f":"IF(Jogo!Q850=Conferência!$Q$2,Conferência!$Q$2,\"\")","v":""},{"$f":"IF(A850=\"\",\"\",\"OK\")","v":""}]
[{"$f":"IF(Jogo!A851=Conferência!$A$2,Conferência!$A$2,\"\")","v":""},{"$f":"IF(Jogo!B851=Conferência!$B$2,Conferência!$B$2,\"\")","v":""},{"$f":"IF(Jogo!C851=Conferência!$C$2,Conferência!$C$2,\"\")","v":""},{"$f":"IF(Jogo!D851=Conferência!$D$2,Conferência!$D$2,\"\")","v":""},{"$f":"IF(Jogo!E851=Conferência!$E$2,Conferência!$E$2,\"\")","v":""},{"$f":"IF(Jogo!F851=Conferência!$F$2,Conferência!$F$2,\"\")","v":""},{"$f":"IF(Jogo!G851=Conferência!$G$2,Conferência!$G$2,\"\")","v":""},{"$f":"IF(Jogo!H851=Conferência!$H$2,Conferência!$H$2,\"\")","v":""},{"$f":"IF(Jogo!I851=Conferência!$I$2,Conferência!$I$2,\"\")","v":""},{"$f":"IF(Jogo!J851=Conferência!$J$2,Conferência!$J$2,\"\")","v":""},{"$f":"IF(Jogo!K851=Conferência!$K$2,Conferência!$K$2,\"\")","v":""},{"$f":"IF(Jogo!L851=Conferência!$L$2,Conferência!$L$2,\"\")","v":""},{"$f":"IF(Jogo!M851=Conferência!$M$2,Conferência!$M$2,\"\")","v":""},{"$f":"IF(Jogo!N851=Conferência!$N$2,Conferência!$N$2,\"\")","v":""},{"$f":"IF(Jogo!O851=Conferência!$O$2,Conferência!$O$2,\"\")","v":""},{"$f":"IF(Jogo!P851=Conferência!$P$2,Conferência!$P$2,\"\")","v":""},{"$f":"IF(Jogo!Q851=Conferência!$Q$2,Conferência!$Q$2,\"\")","v":""},""]
[{"$f":"IF(Jogo!A852=Conferência!$A$2,Conferência!$A$2,\"\")","v":""},{"$f":"IF(Jogo!B852=Conferência!$B$2,Conferência!$B$2,\"\")","v":""},{"$f":"IF(Jogo!C852=Conferência!$C$2,Conferência!$C$2,\"\")","v":""},{"$f":"IF(Jogo!D852=Conferência!$D$2,Conferência!$D$2,\"\")","v":""},{"$f":"IF(Jogo!E852=Conferência!$E$2,Conferência!$E$2,\"\")","v":""},{"$f":"IF(Jogo!F852=Conferência!$F$2,Conferência!$F$2,\"\")","v":""},{"$f":"IF(Jogo!G852=Conferência!$G$2,Conferência!$G$2,\"\")","v":""},{"$f":"IF(Jogo!H852=Conferência!$H$2,Conferência!$H$2,\"\")","v":""},{"$f":"IF(Jogo!I852=Conferência!$I$2,Conferência!$I$2,\"\")","v":""},{"$f":"IF(Jogo!J852=Conferência!$J$2,Conferência!$J$2,\"\")","v":""},{"$f":"IF(Jogo!K852=Conferência!$K$2,Conferência!$K$2,\"\")","v":""},{"$f":"IF(Jogo!L852=Conferência!$L$2,Conferência!$L$2,\"\")","v":""},{"$f":"IF(Jogo!M852=Conferência!$M$2,Conferência!$M$2,\"\")","v":""},{"$f":"IF(Jogo!N852=Conferência!$N$2,Conferência!$N$2,\"\")","v":""},{"$f":"IF(Jogo!O852=Conferência!$O$2,Conferência!$O$2,\"\")","v":""},{"$f":"IF(Jogo!P852=Conferência!$P$2,Conferência!$P$2,\"\")","v":""},{"$f":"IF(Jogo!Q852=Conferência!$Q$2,Conferência!$Q$2,\"\")","v":""},""]
[{"$f":"IF(Jogo!A853=Conferência!$A$2,Conferência!$A$2,\"\")","v":""},{"$f":"IF(Jogo!B853=Conferência!$B$2,Conferência!$B$2,\"\")","v":""},{"$f":"IF(Jogo!C853=Conferência!$C$2,Conferência!$C$2,\"\")","v":""},{"$f":"IF(Jogo!D853=Conferência!$D$2,Conferência!$D$2,\"\")","v":""},{"$f":"IF(Jogo!E853=Conferência!$E$2,Conferência!$E$2,\"\")","v":""},{"$f":"IF(Jogo!F853=Conferência!$F$2,Conferência!$F$2,\"\")","v":""},{"$f":"IF(Jogo!G853=Conferência!$G$2,Conferência!$G$2,\"\")","v":""},{"$f":"IF(Jogo!H853=Conferência!$H$2,Conferência!$H$2,\"\")","v":""},{"$f":"IF(Jogo!I853=Conferência!$I$2,Conferência!$I$2,\"\")","v":""},{"$f":"IF(Jogo!J853=Conferência!$J$2,Conferência!$J$2,\"\")","v":""},{"$f":"IF(Jogo!K853=Conferência!$K$2,Conferência!$K$2,\"\")","v":""},{"$f":"IF(Jogo!L853=Conferência!$L$2,Conferência!$L$2,\"\")","v":""},{"$f":"IF(Jogo!M853=Conferência!$M$2,Conferência!$M$2,\"\")","v":""},{"$f":"IF(Jogo!N853=Conferência!$N$2,Conferência!$N$2,\"\")","v":""},{"$f":"IF(Jogo!O853=Conferência!$O$2,Conferência!$O$2,\"\")","v":""},{"$f":"IF(Jogo!P853=Conferência!$P$2,Conferência!$P$2,\"\")","v":""},{"$f":"IF(Jogo!Q853=Conferência!$Q$2,Conferência!$Q$2,\"\")","v":""},""]
[{"$f":"IF(Jogo!A854=Conferência!$A$2,Conferência!$A$2,\"\")","v":""},{"$f":"IF(Jogo!B854=Conferência!$B$2,Conferência!$B$2,\"\")","v":""},{"$f":"IF(Jogo!C854=Conferência!$C$2,Conferência!$C$2,\"\")","v":""},{"$f":"IF(Jogo!D854=Conferência!$D$2,Conferência!$D$2,\"\")","v":""},{"$f":"IF(Jogo!E854=Conferência!$E$2,Conferência!$E$2,\"\")","v":""},{"$f":"IF(Jogo!F854=Conferência!$F$2,Conferência!$F$2,\"\")","v":""},{"$f":"IF(Jogo!G854=Conferência!$G$2,Conferência!$G$2,\"\")","v":""},{"$f":"IF(Jogo!H854=Conferência!$H$2,Conferência!$H$2,\"\")","v":""},{"$f":"IF(Jogo!I854=Conferência!$I$2,Conferência!$I$2,\"\")","v":""},{"$f":"IF(Jogo!J854=Conferência!$J$2,Conferência!$J$2,\"\")","v":""},{"$f":"IF(Jogo!K854=Conferência!$K$2,Conferência!$K$2,\"\")","v":""},{"$f":"IF(Jogo!L854=Conferência!$L$2,Conferência!$L$2,\"\")","v":""},{"$f":"IF(Jogo!M854=Conferência!$M$2,Conferência!$M$2,\"\")","v":""},{"$f":"IF(Jogo!N854=Conferência!$N$2,Conferência!$N$2,\"\")","v":""},{"$f":"IF(Jogo!O854=Conferência!$O$2,Conferência!$O$2,\"\")","v":""},{"$f":"IF(Jogo!P854=Conferência!$P$2,Conferência!$P$2,\"\")","v":""},{"$f":"IF(Jogo!Q854=Conferência!$Q$2,Conferência!$Q$2,\"\")","v":""},""]
[{"$f":"IF(Jogo!A855=Conferência!$A$2,Conferência!$A$2,\"\")","v":""},{"$f":"IF(Jogo!B855=Conferência!$B$2,Conferência!$B$2,\"\")","v":""},{"$f":"IF(Jogo!C855=Conferência!$C$2,Conferência!$C$2,\"\")","v":""},{"$f":"IF(Jogo!D855=Conferência!$D$2,Conferência!$D$2,\"\")","v":""},{"$f":"IF(Jogo!E855=Conferência!$E$2,Conferência!$E$2,\"\")","v":""},{"$f":"IF(Jogo!F855=Conferência!$F$2,Conferência!$F$2,\"\")","v":""},{"$f":"IF(Jogo!G855=Conferência!$G$2,Conferência!$G$2,\"\")","v":""},{"$f":"IF(Jogo!H855=Conferência!$H$2,Conferência!$H$2,\"\")","v":""},{"$f":"IF(Jogo!I855=Conferência!$I$2,Conferência!$I$2,\"\")","v":""},{"$f":"IF(Jogo!J855=Conferência!$J$2,Conferência!$J$2,\"\")","v":""},{"$f":"IF(Jogo!K855=Conferência!$K$2,Conferência!$K$2,\"\")","v":""},{"$f":"IF(Jogo!L855=Conferência!$L$2,Conferência!$L$2,\"\")","v":""},{"$f":"IF(Jogo!M855=Conferência!$M$2,Conferência!$M$2,\"\")","v":""},{"$f":"IF(Jogo!N855=Conferência!$N$2,Conferência!$N$2,\"\")","v":""},{"$f":"IF(Jogo!O855=Conferência!$O$2,Conferência!$O$2,\"\")","v":""},{"$f":"IF(Jogo!P855=Conferência!$P$2,Conferência!$P$2,\"\")","v":""},{"$f":"IF(Jogo!Q855=Conferência!$Q$2,Conferência!$Q$2,\"\")","v":""},""]
[{"$f":"IF(Jogo!A856=Conferência!$A$2,Conferência!$A$2,\"\")","v":""},{"$f":"IF(Jogo!B856=Conferência!$B$2,Conferência!$B$2,\"\")","v":""},{"$f":"IF(Jogo!C856=Conferência!$C$2,Conferência!$C$2,\"\")","v":""},{"$f":"IF(Jogo!D856=Conferência!$D$2,Conferência!$D$2,\"\")","v":""},{"$f":"IF(Jogo!E856=Conferência!$E$2,Conferência!$E$2,\"\")","v":""},{"$f":"IF(Jogo!F856=Conferência!$F$2,Conferência!$F$2,\"\")","v":""},{"$f":"IF(Jogo!G856=Conferência!$G$2,Conferência!$G$2,\"\")","v":""},{"$f":"IF(Jogo!H856=Conferência!$H$2,Conferência!$H$2,\"\")","v":""},{"$f":"IF(Jogo!I856=Conferência!$I$2,Conferência!$I$2,\"\")","v":""},{"$f":"IF(Jogo!J856=Conferência!$J$2,Conferência!$J$2,\"\")","v":""},{"$f":"IF(Jogo!K856=Conferência!$K$2,Conferência!$K$2,\"\")","v":""},{"$f":"IF(Jogo!L856=Conferência!$L$2,Conferência!$L$2,\"\")","v":""},{"$f":"IF(Jogo!M856=Conferência!$M$2,Conferência!$M$2,\"\")","v":""},{"$f":"IF(Jogo!N856=Conferência!$N$2,Conferência!$N$2,\"\")","v":""},{"$f":"IF(Jogo!O856=Conferência!$O$2,Conferência!$O$2,\"\")","v":""},{"$f":"IF(Jogo!P856=Conferência!$P$2,Conferência!$P$2,\"\")","v":""},{"$f":"IF(Jogo!Q856=Conferência!$Q$2,Conferência!$Q$2,\"\")","v":""},""]
[{"$f":"IF(Jogo!A857=Conferência!$A$2,Conferência!$A$2,\"\")","v":""},{"$f":"IF(Jogo!B857=Conferência!$B$2,Conferência!$B$2,\"\")","v":""},{"$f":"IF(Jogo!C857=Conferência!$C$2,Conferência!$C$2,\"\")","v":""},{"$f":"IF(Jogo!D857=Conferência!$D$2,Conferência!$D$2,\"\")","v":""},{"$f":"IF(Jogo!E857=Conferência!$E$2,Conferência!$E$2,\"\")","v":""},{"$f":"IF(Jogo!F857=Conferência!$F$2,Conferência!$F$2,\"\")","v":""},{"$f":"IF(Jogo!G857=Conferência!$G$2,Conferência!$G$2,\"\")","v":""},{"$f":"IF(Jogo!H857=Conferência!$H$2,Conferência!$H$2,\"\")","v":""},{"$f":"IF(Jogo!I857=Conferência!$I$2,Conferência!$I$2,\"\")","v":""},{"$f":"IF(Jogo!J857=Conferência!$J$2,Conferência!$J$2,\"\")","v":""},{"$f":"IF(Jogo!K857=Conferência!$K$2,Conferência!$K$2,\"\")","v":""},{"$f":"IF(Jogo!L857=Conferência!$L$2,Conferência!$L$2,\"\")","v":""},{"$f":"IF(Jogo!M857=Conferência!$M$2,Conferência!$M$2,\"\")","v":""},{"$f":"IF(Jogo!N857=Conferência!$N$2,Conferência!$N$2,\"\")","v":""},{"$f":"IF(Jogo!O857=Conferência!$O$2,Conferência!$O$2,\"\")","v":""},{"$f":"IF(Jogo!P857=Conferência!$P$2,Conferência!$P$2,\"\")","v":""},{"$f":"IF(Jogo!Q857=Conferência!$Q$2,Conferência!$Q$2,\"\")","v":""},""]
[{"$f":"IF(Jogo!A858=Conferência!$A$2,Conferência!$A$2,\"\")","v":""},{"$f":"IF(Jogo!B858=Conferência!$B$2,Conferência!$B$2,\"\")","v":""},{"$f":"IF(Jogo!C858=Conferência!$C$2,Conferência!$C$2,\"\")","v":""},{"$f":"IF(Jogo!D858=Conferência!$D$2,Conferência!$D$2,\"\")","v":""},{"$f":"IF(Jogo!E858=Conferência!$E$2,Conferência!$E$2,\"\")","v":""},{"$f":"IF(Jogo!F858=Conferência!$F$2,Conferência!$F$2,\"\")","v":""},{"$f":"IF(Jogo!G858=Conferência!$G$2,Conferência!$G$2,\"\")","v":""},{"$f":"IF(Jogo!H858=Conferência!$H$2,Conferência!$H$2,\"\")","v":""},{"$f":"IF(Jogo!I858=Conferência!$I$2,Conferência!$I$2,\"\")","v":""},{"$f":"IF(Jogo!J858=Conferência!$J$2,Conferência!$J$2,\"\")","v":""},{"$f":"IF(Jogo!K858=Conferência!$K$2,Conferência!$K$2,\"\")","v":""},{"$f":"IF(Jogo!L858=Conferência!$L$2,Conferência!$L$2,\"\")","v":""},{"$f":"IF(Jogo!M858=Conferência!$M$2,Conferência!$M$2,\"\")","v":""},{"$f":"IF(Jogo!N858=Conferência!$N$2,Conferência!$N$2,\"\")","v":""},{"$f":"IF(Jogo!O858=Conferência!$O$2,Conferência!$O$2,\"\")","v":""},{"$f":"IF(Jogo!P858=Conferência!$P$2,Conferência!$P$2,\"\")","v":""},{"$f":"IF(Jogo!Q858=Conferência!$Q$2,Conferência!$Q$2,\"\")","v":""},""]
[{"$f":"IF(Jogo!A859=Conferência!$A$2,Conferência!$A$2,\"\")","v":""},{"$f":"IF(Jogo!B859=Conferência!$B$2,Conferência!$B$2,\"\")","v":""},{"$f":"IF(Jogo!C859=Conferência!$C$2,Conferência!$C$2,\"\")","v":""},{"$f":"IF(Jogo!D859=Conferência!$D$2,Conferência!$D$2,\"\")","v":""},{"$f":"IF(Jogo!E859=Conferência!$E$2,Conferência!$E$2,\"\")","v":""},{"$f":"IF(Jogo!F859=Conferência!$F$2,Conferência!$F$2,\"\")","v":""},{"$f":"IF(Jogo!G859=Conferência!$G$2,Conferência!$G$2,\"\")","v":""},{"$f":"IF(Jogo!H859=Conferência!$H$2,Conferência!$H$2,\"\")","v":""},{"$f":"IF(Jogo!I859=Conferência!$I$2,Conferência!$I$2,\"\")","v":""},{"$f":"IF(Jogo!J859=Conferência!$J$2,Conferência!$J$2,\"\")","v":""},{"$f":"IF(Jogo!K859=Conferência!$K$2,Conferência!$K$2,\"\")","v":""},{"$f":"IF(Jogo!L859=Conferência!$L$2,Conferência!$L$2,\"\")","v":""},{"$f":"IF(Jogo!M859=Conferência!$M$2,Conferência!$M$2,\"\")","v":""},{"$f":"IF(Jogo!N859=Conferência!$N$2,Conferência!$N$2,\"\")","v":""},{"$f":"IF(Jogo!O859=Conferência!$O$2,Conferência!$O$2,\"\")","v":""},{"$f":"IF(Jogo!P859=Conferência!$P$2,Conferência!$P$2,\"\")","v":""},{"$f":"IF(Jogo!Q859=Conferência!$Q$2,Conferência!$Q$2,\"\")","v":""},""]
[{"$f":"IF(Jogo!A860=Conferência!$A$2,Conferência!$A$2,\"\")","v":""},{"$f":"IF(Jogo!B860=Conferência!$B$2,Conferência!$B$2,\"\")","v":""},{"$f":"IF(Jogo!C860=Conferência!$C$2,Conferência!$C$2,\"\")","v":""},{"$f":"IF(Jogo!D860=Conferência!$D$2,Conferência!$D$2,\"\")","v":""},{"$f":"IF(Jogo!E860=Conferência!$E$2,Conferência!$E$2,\"\")","v":""},{"$f":"IF(Jogo!F860=Conferência!$F$2,Conferência!$F$2,\"\")","v":""},{"$f":"IF(Jogo!G860=Conferência!$G$2,Conferência!$G$2,\"\")","v":""},{"$f":"IF(Jogo!H860=Conferência!$H$2,Conferência!$H$2,\"\")","v":""},{"$f":"IF(Jogo!I860=Conferência!$I$2,Conferência!$I$2,\"\")","v":""},{"$f":"IF(Jogo!J860=Conferência!$J$2,Conferência!$J$2,\"\")","v":""},{"$f":"IF(Jogo!K860=Conferência!$K$2,Conferência!$K$2,\"\")","v":""},{"$f":"IF(Jogo!L860=Conferência!$L$2,Conferência!$L$2,\"\")","v":""},{"$f":"IF(Jogo!M860=Conferência!$M$2,Conferência!$M$2,\"\")","v":""},{"$f":"IF(Jogo!N860=Conferência!$N$2,Conferência!$N$2,\"\")","v":""},{"$f":"IF(Jogo!O860=Conferência!$O$2,Conferência!$O$2,\"\")","v":""},{"$f":"IF(Jogo!P860=Conferência!$P$2,Conferência!$P$2,\"\")","v":""},{"$f":"IF(Jogo!Q860=Conferência!$Q$2,Conferência!$Q$2,\"\")","v":""},""]
[{"$f":"IF(Jogo!A861=Conferência!$A$2,Conferência!$A$2,\"\")","v":""},{"$f":"IF(Jogo!B861=Conferência!$B$2,Conferência!$B$2,\"\")","v":""},{"$f":"IF(Jogo!C861=Conferência!$C$2,Conferência!$C$2,\"\")","v":""},{"$f":"IF(Jogo!D861=Conferência!$D$2,Conferência!$D$2,\"\")","v":""},{"$f":"IF(Jogo!E861=Conferência!$E$2,Conferência!$E$2,\"\")","v":""},{"$f":"IF(Jogo!F861=Conferência!$F$2,Conferência!$F$2,\"\")","v":""},{"$f":"IF(Jogo!G861=Conferência!$G$2,Conferência!$G$2,\"\")","v":""},{"$f":"IF(Jogo!H861=Conferência!$H$2,Conferência!$H$2,\"\")","v":""},{"$f":"IF(Jogo!I861=Conferência!$I$2,Conferência!$I$2,\"\")","v":""},{"$f":"IF(Jogo!J861=Conferência!$J$2,Conferência!$J$2,\"\")","v":""},{"$f":"IF(Jogo!K861=Conferência!$K$2,Conferência!$K$2,\"\")","v":""},{"$f":"IF(Jogo!L861=Conferência!$L$2,Conferência!$L$2,\"\")","v":""},{"$f":"IF(Jogo!M861=Conferência!$M$2,Conferência!$M$2,\"\")","v":""},{"$f":"IF(Jogo!N861=Conferência!$N$2,Conferência!$N$2,\"\")","v":""},{"$f":"IF(Jogo!O861=Conferência!$O$2,Conferência!$O$2,\"\")","v":""},{"$f":"IF(Jogo!P861=Conferência!$P$2,Conferência!$P$2,\"\")","v":""},{"$f":"IF(Jogo!Q861=Conferência!$Q$2,Conferência!$Q$2,\"\")","v":""},""]
[{"$f":"IF(Jogo!A862=Conferência!$A$2,Conferência!$A$2,\"\")","v":""},{"$f":"IF(Jogo!B862=Conferência!$B$2,Conferência!$B$2,\"\")","v":""},{"$f":"IF(Jogo!C862=Conferência!$C$2,Conferência!$C$2,\"\")","v":""},{"$f":"IF(Jogo!D862=Conferência!$D$2,Conferência!$D$2,\"\")","v":""},{"$f":"IF(Jogo!E862=Conferência!$E$2,Conferência!$E$2,\"\")","v":""},{"$f":"IF(Jogo!F862=Conferência!$F$2,Conferência!$F$2,\"\")","v":""},{"$f":"IF(Jogo!G862=Conferência!$G$2,Conferência!$G$2,\"\")","v":""},{"$f":"IF(Jogo!H862=Conferência!$H$2,Conferência!$H$2,\"\")","v":""},{"$f":"IF(Jogo!I862=Conferência!$I$2,Conferência!$I$2,\"\")","v":""},{"$f":"IF(Jogo!J862=Conferência!$J$2,Conferência!$J$2,\"\")","v":""},{"$f":"IF(Jogo!K862=Conferência!$K$2,Conferência!$K$2,\"\")","v":""},{"$f":"IF(Jogo!L862=Conferência!$L$2,Conferência!$L$2,\"\")","v":""},{"$f":"IF(Jogo!M862=Conferência!$M$2,Conferência!$M$2,\"\")","v":""},{"$f":"IF(Jogo!N862=Conferência!$N$2,Conferência!$N$2,\"\")","v":""},{"$f":"IF(Jogo!O862=Conferência!$O$2,Conferência!$O$2,\"\")","v":""},{"$f":"IF(Jogo!P862=Conferência!$P$2,Conferência!$P$2,\"\")","v":""},{"$f":"IF(Jogo!Q862=Conferência!$Q$2,Conferência!$Q$2,\"\")","v":""},""]
[{"$f":"IF(Jogo!A863=Conferência!$A$2,Conferência!$A$2,\"\")","v":""},{"$f":"IF(Jogo!B863=Conferência!$B$2,Conferência!$B$2,\"\")","v":""},{"$f":"IF(Jogo!C863=Conferência!$C$2,Conferência!$C$2,\"\")","v":""},{"$f":"IF(Jogo!D863=Conferência!$D$2,Conferência!$D$2,\"\")","v":""},{"$f":"IF(Jogo!E863=Conferência!$E$2,Conferência!$E$2,\"\")","v":""},{"$f":"IF(Jogo!F863=Conferência!$F$2,Conferência!$F$2,\"\")","v":""},{"$f":"IF(Jogo!G863=Conferência!$G$2,Conferência!$G$2,\"\")","v":""},{"$f":"IF(Jogo!H863=Conferência!$H$2,Conferência!$H$2,\"\")","v":""},{"$f":"IF(Jogo!I863=Conferência!$I$2,Conferência!$I$2,\"\")","v":""},{"$f":"IF(Jogo!J863=Conferência!$J$2,Conferência!$J$2,\"\")","v":""},{"$f":"IF(Jogo!K863=Conferência!$K$2,Conferência!$K$2,\"\")","v":""},{"$f":"IF(Jogo!L863=Conferência!$L$2,Conferência!$L$2,\"\")","v":""},{"$f":"IF(Jogo!M863=Conferência!$M$2,Conferência!$M$2,\"\")","v":""},{"$f":"IF(Jogo!N863=Conferência!$N$2,Conferência!$N$2,\"\")","v":""},{"$f":"IF(Jogo!O863=Conferência!$O$2,Conferência!$O$2,\"\")","v":""},{"$f":"IF(Jogo!P863=Conferência!$P$2,Conferência!$P$2,\"\")","v":""},{"$f":"IF(Jogo!Q863=Conferência!$Q$2,Conferência!$Q$2,\"\")","v":""},""]
[{"$f":"IF(Jogo!A864=Conferência!$A$2,Conferência!$A$2,\"\")","v":""},{"$f":"IF(Jogo!B864=Conferência!$B$2,Conferência!$B$2,\"\")","v":""},{"$f":"IF(Jogo!C864=Conferência!$C$2,Conferência!$C$2,\"\")","v":""},{"$f":"IF(Jogo!D864=Conferência!$D$2,Conferência!$D$2,\"\")","v":""},{"$f":"IF(Jogo!E864=Conferência!$E$2,Conferência!$E$2,\"\")","v":""},{"$f":"IF(Jogo!F864=Conferência!$F$2,Conferência!$F$2,\"\")","v":""},{"$f":"IF(Jogo!G864=Conferência!$G$2,Conferência!$G$2,\"\")","v":""},{"$f":"IF(Jogo!H864=Conferência!$H$2,Conferência!$H$2,\"\")","v":""},{"$f":"IF(Jogo!I864=Conferência!$I$2,Conferência!$I$2,\"\")","v":""},{"$f":"IF(Jogo!J864=Conferência!$J$2,Conferência!$J$2,\"\")","v":""},{"$f":"IF(Jogo!K864=Conferência!$K$2,Conferência!$K$2,\"\")","v":""},{"$f":"IF(Jogo!L864=Conferência!$L$2,Conferência!$L$2,\"\")","v":""},{"$f":"IF(Jogo!M864=Conferência!$M$2,Conferência!$M$2,\"\")","v":""},{"$f":"IF(Jogo!N864=Conferência!$N$2,Conferência!$N$2,\"\")","v":""},{"$f":"IF(Jogo!O864=Conferência!$O$2,Conferência!$O$2,\"\")","v":""},{"$f":"IF(Jogo!P864=Conferência!$P$2,Conferência!$P$2,\"\")","v":""},{"$f":"IF(Jogo!Q864=Conferência!$Q$2,Conferência!$Q$2,\"\")","v":""},""]
[{"$f":"IF(Jogo!A865=Conferência!$A$2,Conferência!$A$2,\"\")","v":""},{"$f":"IF(Jogo!B865=Conferência!$B$2,Conferência!$B$2,\"\")","v":""},{"$f":"IF(Jogo!C865=Conferência!$C$2,Conferência!$C$2,\"\")","v":""},{"$f":"IF(Jogo!D865=Conferência!$D$2,Conferência!$D$2,\"\")","v":""},{"$f":"IF(Jogo!E865=Conferência!$E$2,Conferência!$E$2,\"\")","v":""},{"$f":"IF(Jogo!F865=Conferência!$F$2,Conferência!$F$2,\"\")","v":""},{"$f":"IF(Jogo!G865=Conferência!$G$2,Conferência!$G$2,\"\")","v":""},{"$f":"IF(Jogo!H865=Conferência!$H$2,Conferência!$H$2,\"\")","v":""},{"$f":"IF(Jogo!I865=Conferência!$I$2,Conferência!$I$2,\"\")","v":""},{"$f":"IF(Jogo!J865=Conferência!$J$2,Conferência!$J$2,\"\")","v":""},{"$f":"IF(Jogo!K865=Conferência!$K$2,Conferência!$K$2,\"\")","v":""},{"$f":"IF(Jogo!L865=Conferência!$L$2,Conferência!$L$2,\"\")","v":""},{"$f":"IF(Jogo!M865=Conferência!$M$2,Conferência!$M$2,\"\")","v":""},{"$f":"IF(Jogo!N865=Conferência!$N$2,Conferência!$N$2,\"\")","v":""},{"$f":"IF(Jogo!O865=Conferência!$O$2,Conferência!$O$2,\"\")","v":""},{"$f":"IF(Jogo!P865=Conferência!$P$2,Conferência!$P$2,\"\")","v":""},{"$f":"IF(Jogo!Q865=Conferência!$Q$2,Conferência!$Q$2,\"\")","v":""},""]
[{"$f":"IF(Jogo!A866=Conferência!$A$2,Conferência!$A$2,\"\")","v":""},{"$f":"IF(Jogo!B866=Conferência!$B$2,Conferência!$B$2,\"\")","v":""},{"$f":"IF(Jogo!C866=Conferência!$C$2,Conferência!$C$2,\"\")","v":""},{"$f":"IF(Jogo!D866=Conferência!$D$2,Conferência!$D$2,\"\")","v":""},{"$f":"IF(Jogo!E866=Conferência!$E$2,Conferência!$E$2,\"\")","v":""},{"$f":"IF(Jogo!F866=Conferência!$F$2,Conferência!$F$2,\"\")","v":""},{"$f":"IF(Jogo!G866=Conferência!$G$2,Conferência!$G$2,\"\")","v":""},{"$f":"IF(Jogo!H866=Conferência!$H$2,Conferência!$H$2,\"\")","v":""},{"$f":"IF(Jogo!I866=Conferência!$I$2,Conferência!$I$2,\"\")","v":""},{"$f":"IF(Jogo!J866=Conferência!$J$2,Conferência!$J$2,\"\")","v":""},{"$f":"IF(Jogo!K866=Conferência!$K$2,Conferência!$K$2,\"\")","v":""},{"$f":"IF(Jogo!L866=Conferência!$L$2,Conferência!$L$2,\"\")","v":""},{"$f":"IF(Jogo!M866=Conferência!$M$2,Conferência!$M$2,\"\")","v":""},{"$f":"IF(Jogo!N866=Conferência!$N$2,Conferência!$N$2,\"\")","v":""},{"$f":"IF(Jogo!O866=Conferência!$O$2,Conferência!$O$2,\"\")","v":""},{"$f":"IF(Jogo!P866=Conferência!$P$2,Conferência!$P$2,\"\")","v":""},{"$f":"IF(Jogo!Q866=Conferência!$Q$2,Conferência!$Q$2,\"\")","v":""},""]
[{"$f":"IF(Jogo!A867=Conferência!$A$2,Conferência!$A$2,\"\")","v":""},{"$f":"IF(Jogo!B867=Conferência!$B$2,Conferência!$B$2,\"\")","v":""},{"$f":"IF(Jogo!C867=Conferência!$C$2,Conferência!$C$2,\"\")","v":""},{"$f":"IF(Jogo!D867=Conferência!$D$2,Conferência!$D$2,\"\")","v":""},{"$f":"IF(Jogo!E867=Conferência!$E$2,Conferência!$E$2,\"\")","v":""},{"$f":"IF(Jogo!F867=Conferência!$F$2,Conferência!$F$2,\"\")","v":""},{"$f":"IF(Jogo!G867=Conferência!$G$2,Conferência!$G$2,\"\")","v":""},{"$f":"IF(Jogo!H867=Conferência!$H$2,Conferência!$H$2,\"\")","v":""},{"$f":"IF(Jogo!I867=Conferência!$I$2,Conferência!$I$2,\"\")","v":""},{"$f":"IF(Jogo!J867=Conferência!$J$2,Conferência!$J$2,\"\")","v":""},{"$f":"IF(Jogo!K867=Conferência!$K$2,Conferência!$K$2,\"\")","v":""},{"$f":"IF(Jogo!L867=Conferência!$L$2,Conferência!$L$2,\"\")","v":""},{"$f":"IF(Jogo!M867=Conferência!$M$2,Conferência!$M$2,\"\")","v":""},{"$f":"IF(Jogo!N867=Conferência!$N$2,Conferência!$N$2,\"\")","v":""},{"$f":"IF(Jogo!O867=Conferência!$O$2,Conferência!$O$2,\"\")","v":""},{"$f":"IF(Jogo!P867=Conferência!$P$2,Conferência!$P$2,\"\")","v":""},{"$f":"IF(Jogo!Q867=Conferência!$Q$2,Conferência!$Q$2,\"\")","v":""},""]
[{"$f":"IF(Jogo!A868=Conferência!$A$2,Conferência!$A$2,\"\")","v":""},{"$f":"IF(Jogo!B868=Conferência!$B$2,Conferência!$B$2,\"\")","v":""},{"$f":"IF(Jogo!C868=Conferência!$C$2,Conferência!$C$2,\"\")","v":""},{"$f":"IF(Jogo!D868=Conferência!$D$2,Conferência!$D$2,\"\")","v":""},{"$f":"IF(Jogo!E868=Conferência!$E$2,Conferência!$E$2,\"\")","v":""},{"$f":"IF(Jogo!F868=Conferência!$F$2,Conferência!$F$2,\"\")","v":""},{"$f":"IF(Jogo!G868=Conferência!$G$2,Conferência!$G$2,\"\")","v":""},{"$f":"IF(Jogo!H868=Conferência!$H$2,Conferência!$H$2,\"\")","v":""},{"$f":"IF(Jogo!I868=Conferência!$I$2,Conferência!$I$2,\"\")","v":""},{"$f":"IF(Jogo!J868=Conferência!$J$2,Conferência!$J$2,\"\")","v":""},{"$f":"IF(Jogo!K868=Conferência!$K$2,Conferência!$K$2,\"\")","v":""},{"$f":"IF(Jogo!L868=Conferência!$L$2,Conferência!$L$2,\"\")","v":""},{"$f":"IF(Jogo!M868=Conferência!$M$2,Conferência!$M$2,\"\")","v":""},{"$f":"IF(Jogo!N868=Conferência!$N$2,Conferência!$N$2,\"\")","v":""},{"$f":"IF(Jogo!O868=Conferência!$O$2,Conferência!$O$2,\"\")","v":""},{"$f":"IF(Jogo!P868=Conferência!$P$2,Conferência!$P$2,\"\")","v":""},{"$f":"IF(Jogo!Q868=Conferência!$Q$2,Conferência!$Q$2,\"\")","v":""},""]
[{"$f":"IF(Jogo!A869=Conferência!$A$2,Conferência!$A$2,\"\")","v":""},{"$f":"IF(Jogo!B869=Conferência!$B$2,Conferência!$B$2,\"\")","v":""},{"$f":"IF(Jogo!C869=Conferência!$C$2,Conferência!$C$2,\"\")","v":""},{"$f":"IF(Jogo!D869=Conferência!$D$2,Conferência!$D$2,\"\")","v":""},{"$f":"IF(Jogo!E869=Conferência!$E$2,Conferência!$E$2,\"\")","v":""},{"$f":"IF(Jogo!F869=Conferência!$F$2,Conferência!$F$2,\"\")","v":""},{"$f":"IF(Jogo!G869=Conferência!$G$2,Conferência!$G$2,\"\")","v":""},{"$f":"IF(Jogo!H869=Conferência!$H$2,Conferência!$H$2,\"\")","v":""},{"$f":"IF(Jogo!I869=Conferência!$I$2,Conferência!$I$2,\"\")","v":""},{"$f":"IF(Jogo!J869=Conferência!$J$2,Conferência!$J$2,\"\")","v":""},{"$f":"IF(Jogo!K869=Conferência!$K$2,Conferência!$K$2,\"\")","v":""},{"$f":"IF(Jogo!L869=Conferência!$L$2,Conferência!$L$2,\"\")","v":""},{"$f":"IF(Jogo!M869=Conferência!$M$2,Conferência!$M$2,\"\")","v":""},{"$f":"IF(Jogo!N869=Conferência!$N$2,Conferência!$N$2,\"\")","v":""},{"$f":"IF(Jogo!O869=Conferência!$O$2,Conferência!$O$2,\"\")","v":""},{"$f":"IF(Jogo!P869=Conferência!$P$2,Conferência!$P$2,\"\")","v":""},{"$f":"IF(Jogo!Q869=Conferência!$Q$2,Conferência!$Q$2,\"\")","v":""},""]
[{"$f":"IF(Jogo!A870=Conferência!$A$2,Conferência!$A$2,\"\")","v":""},{"$f":"IF(Jogo!B870=Conferência!$B$2,Conferência!$B$2,\"\")","v":""},{"$f":"IF(Jogo!C870=Conferência!$C$2,Conferência!$C$2,\"\")","v":""},{"$f":"IF(Jogo!D870=Conferência!$D$2,Conferência!$D$2,\"\")","v":""},{"$f":"IF(Jogo!E870=Conferência!$E$2,Conferência!$E$2,\"\")","v":""},{"$f":"IF(Jogo!F870=Conferência!$F$2,Conferência!$F$2,\"\")","v":""},{"$f":"IF(Jogo!G870=Conferência!$G$2,Conferência!$G$2,\"\")","v":""},{"$f":"IF(Jogo!H870=Conferência!$H$2,Conferência!$H$2,\"\")","v":""},{"$f":"IF(Jogo!I870=Conferência!$I$2,Conferência!$I$2,\"\")","v":""},{"$f":"IF(Jogo!J870=Conferência!$J$2,Conferência!$J$2,\"\")","v":""},{"$f":"IF(Jogo!K870=Conferência!$K$2,Conferência!$K$2,\"\")","v":""},{"$f":"IF(Jogo!L870=Conferência!$L$2,Conferência!$L$2,\"\")","v":""},{"$f":"IF(Jogo!M870=Conferência!$M$2,Conferência!$M$2,\"\")","v":""},{"$f":"IF(Jogo!N870=Conferência!$N$2,Conferência!$N$2,\"\")","v":""},{"$f":"IF(Jogo!O870=Conferência!$O$2,Conferência!$O$2,\"\")","v":""},{"$f":"IF(Jogo!P870=Conferência!$P$2,Conferência!$P$2,\"\")","v":""},{"$f":"IF(Jogo!Q870=Conferência!$Q$2,Conferência!$Q$2,\"\")","v":""},""]
[{"$f":"IF(Jogo!A871=Conferência!$A$2,Conferência!$A$2,\"\")","v":""},{"$f":"IF(Jogo!B871=Conferência!$B$2,Conferência!$B$2,\"\")","v":""},{"$f":"IF(Jogo!C871=Conferência!$C$2,Conferência!$C$2,\"\")","v":""},{"$f":"IF(Jogo!D871=Conferência!$D$2,Conferência!$D$2,\"\")","v":""},{"$f":"IF(Jogo!E871=Conferência!$E$2,Conferência!$E$2,\"\")","v":""},{"$f":"IF(Jogo!F871=Conferência!$F$2,Conferência!$F$2,\"\")","v":""},{"$f":"IF(Jogo!G871=Conferência!$G$2,Conferência!$G$2,\"\")","v":""},{"$f":"IF(Jogo!H871=Conferência!$H$2,Conferência!$H$2,\"\")","v":""},{"$f":"IF(Jogo!I871=Conferência!$I$2,Conferência!$I$2,\"\")","v":""},{"$f":"IF(Jogo!J871=Conferência!$J$2,Conferência!$J$2,\"\")","v":""},{"$f":"IF(Jogo!K871=Conferência!$K$2,Conferência!$K$2,\"\")","v":""},{"$f":"IF(Jogo!L871=Conferência!$L$2,Conferência!$L$2,\"\")","v":""},{"$f":"IF(Jogo!M871=Conferência!$M$2,Conferência!$M$2,\"\")","v":""},{"$f":"IF(Jogo!N871=Conferência!$N$2,Conferência!$N$2,\"\")","v":""},{"$f":"IF(Jogo!O871=Conferência!$O$2,Conferência!$O$2,\"\")","v":""},{"$f":"IF(Jogo!P871=Conferência!$P$2,Conferência!$P$2,\"\")","v":""},{"$f":"IF(Jogo!Q871=Conferência!$Q$2,Conferência!$Q$2,\"\")","v":""},""]
[{"$f":"IF(Jogo!A872=Conferência!$A$2,Conferência!$A$2,\"\")","v":""},{"$f":"IF(Jogo!B872=Conferência!$B$2,Conferência!$B$2,\"\")","v":""},{"$f":"IF(Jogo!C872=Conferência!$C$2,Conferência!$C$2,\"\")","v":""},{"$f":"IF(Jogo!D872=Conferência!$D$2,Conferência!$D$2,\"\")","v":""},{"$f":"IF(Jogo!E872=Conferência!$E$2,Conferência!$E$2,\"\")","v":""},{"$f":"IF(Jogo!F872=Conferência!$F$2,Conferência!$F$2,\"\")","v":""},{"$f":"IF(Jogo!G872=Conferência!$G$2,Conferência!$G$2,\"\")","v":""},{"$f":"IF(Jogo!H872=Conferência!$H$2,Conferência!$H$2,\"\")","v":""},{"$f":"IF(Jogo!I872=Conferência!$I$2,Conferência!$I$2,\"\")","v":""},{"$f":"IF(Jogo!J872=Conferência!$J$2,Conferência!$J$2,\"\")","v":""},{"$f":"IF(Jogo!K872=Conferência!$K$2,Conferência!$K$2,\"\")","v":""},{"$f":"IF(Jogo!L872=Conferência!$L$2,Conferência!$L$2,\"\")","v":""},{"$f":"IF(Jogo!M872=Conferência!$M$2,Conferência!$M$2,\"\")","v":""},{"$f":"IF(Jogo!N872=Conferência!$N$2,Conferência!$N$2,\"\")","v":""},{"$f":"IF(Jogo!O872=Conferência!$O$2,Conferência!$O$2,\"\")","v":""},{"$f":"IF(Jogo!P872=Conferência!$P$2,Conferência!$P$2,\"\")","v":""},{"$f":"IF(Jogo!Q872=Conferência!$Q$2,Conferência!$Q$2,\"\")","v":""},""]
[{"$f":"IF(Jogo!A873=Conferência!$A$2,Conferência!$A$2,\"\")","v":""},{"$f":"IF(Jogo!B873=Conferência!$B$2,Conferência!$B$2,\"\")","v":""},{"$f":"IF(Jogo!C873=Conferência!$C$2,Conferência!$C$2,\"\")","v":""},{"$f":"IF(Jogo!D873=Conferência!$D$2,Conferência!$D$2,\"\")","v":""},{"$f":"IF(Jogo!E873=Conferência!$E$2,Conferência!$E$2,\"\")","v":""},{"$f":"IF(Jogo!F873=Conferência!$F$2,Conferência!$F$2,\"\")","v":""},{"$f":"IF(Jogo!G873=Conferência!$G$2,Conferência!$G$2,\"\")","v":""},{"$f":"IF(Jogo!H873=Conferência!$H$2,Conferência!$H$2,\"\")","v":""},{"$f":"IF(Jogo!I873=Conferência!$I$2,Conferência!$I$2,\"\")","v":""},{"$f":"IF(Jogo!J873=Conferência!$J$2,Conferência!$J$2,\"\")","v":""},{"$f":"IF(Jogo!K873=Conferência!$K$2,Conferência!$K$2,\"\")","v":""},{"$f":"IF(Jogo!L873=Conferência!$L$2,Conferência!$L$2,\"\")","v":""},{"$f":"IF(Jogo!M873=Conferência!$M$2,Conferência!$M$2,\"\")","v":""},{"$f":"IF(Jogo!N873=Conferência!$N$2,Conferência!$N$2,\"\")","v":""},{"$f":"IF(Jogo!O873=Conferência!$O$2,Conferência!$O$2,\"\")","v":""},{"$f":"IF(Jogo!P873=Conferência!$P$2,Conferência!$P$2,\"\")","v":""},{"$f":"IF(Jogo!Q873=Conferência!$Q$2,Conferência!$Q$2,\"\")","v":""},""]
[{"$f":"IF(Jogo!A874=Conferência!$A$2,Conferência!$A$2,\"\")","v":""},{"$f":"IF(Jogo!B874=Conferência!$B$2,Conferência!$B$2,\"\")","v":""},{"$f":"IF(Jogo!C874=Conferência!$C$2,Conferência!$C$2,\"\")","v":""},{"$f":"IF(Jogo!D874=Conferência!$D$2,Conferência!$D$2,\"\")","v":""},{"$f":"IF(Jogo!E874=Conferência!$E$2,Conferência!$E$2,\"\")","v":""},{"$f":"IF(Jogo!F874=Conferência!$F$2,Conferência!$F$2,\"\")","v":""},{"$f":"IF(Jogo!G874=Conferência!$G$2,Conferência!$G$2,\"\")","v":""},{"$f":"IF(Jogo!H874=Conferência!$H$2,Conferência!$H$2,\"\")","v":""},{"$f":"IF(Jogo!I874=Conferência!$I$2,Conferência!$I$2,\"\")","v":""},{"$f":"IF(Jogo!J874=Conferência!$J$2,Conferência!$J$2,\"\")","v":""},{"$f":"IF(Jogo!K874=Conferência!$K$2,Conferência!$K$2,\"\")","v":""},{"$f":"IF(Jogo!L874=Conferência!$L$2,Conferência!$L$2,\"\")","v":""},{"$f":"IF(Jogo!M874=Conferência!$M$2,Conferência!$M$2,\"\")","v":""},{"$f":"IF(Jogo!N874=Conferência!$N$2,Conferência!$N$2,\"\")","v":""},{"$f":"IF(Jogo!O874=Conferência!$O$2,Conferência!$O$2,\"\")","v":""},{"$f":"IF(Jogo!P874=Conferência!$P$2,Conferência!$P$2,\"\")","v":""},{"$f":"IF(Jogo!Q874=Conferência!$Q$2,Conferência!$Q$2,\"\")","v":""},""]
[{"$f":"IF(Jogo!A875=Conferência!$A$2,Conferência!$A$2,\"\")","v":""},{"$f":"IF(Jogo!B875=Conferência!$B$2,Conferência!$B$2,\"\")","v":""},{"$f":"IF(Jogo!C875=Conferência!$C$2,Conferência!$C$2,\"\")","v":""},{"$f":"IF(Jogo!D875=Conferência!$D$2,Conferência!$D$2,\"\")","v":""},{"$f":"IF(Jogo!E875=Conferência!$E$2,Conferência!$E$2,\"\")","v":""},{"$f":"IF(Jogo!F875=Conferência!$F$2,Conferência!$F$2,\"\")","v":""},{"$f":"IF(Jogo!G875=Conferência!$G$2,Conferência!$G$2,\"\")","v":""},{"$f":"IF(Jogo!H875=Conferência!$H$2,Conferência!$H$2,\"\")","v":""},{"$f":"IF(Jogo!I875=Conferência!$I$2,Conferência!$I$2,\"\")","v":""},{"$f":"IF(Jogo!J875=Conferência!$J$2,Conferência!$J$2,\"\")","v":""},{"$f":"IF(Jogo!K875=Conferência!$K$2,Conferência!$K$2,\"\")","v":""},{"$f":"IF(Jogo!L875=Conferência!$L$2,Conferência!$L$2,\"\")","v":""},{"$f":"IF(Jogo!M875=Conferência!$M$2,Conferência!$M$2,\"\")","v":""},{"$f":"IF(Jogo!N875=Conferência!$N$2,Conferência!$N$2,\"\")","v":""},{"$f":"IF(Jogo!O875=Conferência!$O$2,Conferência!$O$2,\"\")","v":""},{"$f":"IF(Jogo!P875=Conferência!$P$2,Conferência!$P$2,\"\")","v":""},{"$f":"IF(Jogo!Q875=Conferência!$Q$2,Conferência!$Q$2,\"\")","v":""},""]
[{"$f":"IF(Jogo!A876=Conferência!$A$2,Conferência!$A$2,\"\")","v":""},{"$f":"IF(Jogo!B876=Conferência!$B$2,Conferência!$B$2,\"\")","v":""},{"$f":"IF(Jogo!C876=Conferência!$C$2,Conferência!$C$2,\"\")","v":""},{"$f":"IF(Jogo!D876=Conferência!$D$2,Conferência!$D$2,\"\")","v":""},{"$f":"IF(Jogo!E876=Conferência!$E$2,Conferência!$E$2,\"\")","v":""},{"$f":"IF(Jogo!F876=Conferência!$F$2,Conferência!$F$2,\"\")","v":""},{"$f":"IF(Jogo!G876=Conferência!$G$2,Conferência!$G$2,\"\")","v":""},{"$f":"IF(Jogo!H876=Conferência!$H$2,Conferência!$H$2,\"\")","v":""},{"$f":"IF(Jogo!I876=Conferência!$I$2,Conferência!$I$2,\"\")","v":""},{"$f":"IF(Jogo!J876=Conferência!$J$2,Conferência!$J$2,\"\")","v":""},{"$f":"IF(Jogo!K876=Conferência!$K$2,Conferência!$K$2,\"\")","v":""},{"$f":"IF(Jogo!L876=Conferência!$L$2,Conferência!$L$2,\"\")","v":""},{"$f":"IF(Jogo!M876=Conferência!$M$2,Conferência!$M$2,\"\")","v":""},{"$f":"IF(Jogo!N876=Conferência!$N$2,Conferência!$N$2,\"\")","v":""},{"$f":"IF(Jogo!O876=Conferência!$O$2,Conferência!$O$2,\"\")","v":""},{"$f":"IF(Jogo!P876=Conferência!$P$2,Conferência!$P$2,\"\")","v":""},{"$f":"IF(Jogo!Q876=Conferência!$Q$2,Conferência!$Q$2,\"\")","v":""},""]
[{"$f":"IF(Jogo!A877=Conferência!$A$2,Conferência!$A$2,\"\")","v":""},{"$f":"IF(Jogo!B877=Conferência!$B$2,Conferência!$B$2,\"\")","v":""},{"$f":"IF(Jogo!C877=Conferência!$C$2,Conferência!$C$2,\"\")","v":""},{"$f":"IF(Jogo!D877=Conferência!$D$2,Conferência!$D$2,\"\")","v":""},{"$f":"IF(Jogo!E877=Conferência!$E$2,Conferência!$E$2,\"\")","v":""},{"$f":"IF(Jogo!F877=Conferência!$F$2,Conferência!$F$2,\"\")","v":""},{"$f":"IF(Jogo!G877=Conferência!$G$2,Conferência!$G$2,\"\")","v":""},{"$f":"IF(Jogo!H877=Conferência!$H$2,Conferência!$H$2,\"\")","v":""},{"$f":"IF(Jogo!I877=Conferência!$I$2,Conferência!$I$2,\"\")","v":""},{"$f":"IF(Jogo!J877=Conferência!$J$2,Conferência!$J$2,\"\")","v":""},{"$f":"IF(Jogo!K877=Conferência!$K$2,Conferência!$K$2,\"\")","v":""},{"$f":"IF(Jogo!L877=Conferência!$L$2,Conferência!$L$2,\"\")","v":""},{"$f":"IF(Jogo!M877=Conferência!$M$2,Conferência!$M$2,\"\")","v":""},{"$f":"IF(Jogo!N877=Conferência!$N$2,Conferência!$N$2,\"\")","v":""},{"$f":"IF(Jogo!O877=Conferência!$O$2,Conferência!$O$2,\"\")","v":""},{"$f":"IF(Jogo!P877=Conferência!$P$2,Conferência!$P$2,\"\")","v":""},{"$f":"IF(Jogo!Q877=Conferência!$Q$2,Conferência!$Q$2,\"\")","v":""},""]
[{"$f":"IF(Jogo!A878=Conferência!$A$2,Conferência!$A$2,\"\")","v":""},{"$f":"IF(Jogo!B878=Conferência!$B$2,Conferência!$B$2,\"\")","v":""},{"$f":"IF(Jogo!C878=Conferência!$C$2,Conferência!$C$2,\"\")","v":""},{"$f":"IF(Jogo!D878=Conferência!$D$2,Conferência!$D$2,\"\")","v":""},{"$f":"IF(Jogo!E878=Conferência!$E$2,Conferência!$E$2,\"\")","v":""},{"$f":"IF(Jogo!F878=Conferência!$F$2,Conferência!$F$2,\"\")","v":""},{"$f":"IF(Jogo!G878=Conferência!$G$2,Conferência!$G$2,\"\")","v":""},{"$f":"IF(Jogo!H878=Conferência!$H$2,Conferência!$H$2,\"\")","v":""},{"$f":"IF(Jogo!I878=Conferência!$I$2,Conferência!$I$2,\"\")","v":""},{"$f":"IF(Jogo!J878=Conferência!$J$2,Conferência!$J$2,\"\")","v":""},{"$f":"IF(Jogo!K878=Conferência!$K$2,Conferência!$K$2,\"\")","v":""},{"$f":"IF(Jogo!L878=Conferência!$L$2,Conferência!$L$2,\"\")","v":""},{"$f":"IF(Jogo!M878=Conferência!$M$2,Conferência!$M$2,\"\")","v":""},{"$f":"IF(Jogo!N878=Conferência!$N$2,Conferência!$N$2,\"\")","v":""},{"$f":"IF(Jogo!O878=Conferência!$O$2,Conferência!$O$2,\"\")","v":""},{"$f":"IF(Jogo!P878=Conferência!$P$2,Conferência!$P$2,\"\")","v":""},{"$f":"IF(Jogo!Q878=Conferência!$Q$2,Conferência!$Q$2,\"\")","v":""},""]
[{"$f":"IF(Jogo!A879=Conferência!$A$2,Conferência!$A$2,\"\")","v":""},{"$f":"IF(Jogo!B879=Conferência!$B$2,Conferência!$B$2,\"\")","v":""},{"$f":"IF(Jogo!C879=Conferência!$C$2,Conferência!$C$2,\"\")","v":""},{"$f":"IF(Jogo!D879=Conferência!$D$2,Conferência!$D$2,\"\")","v":""},{"$f":"IF(Jogo!E879=Conferência!$E$2,Conferência!$E$2,\"\")","v":""},{"$f":"IF(Jogo!F879=Conferência!$F$2,Conferência!$F$2,\"\")","v":""},{"$f":"IF(Jogo!G879=Conferência!$G$2,Conferência!$G$2,\"\")","v":""},{"$f":"IF(Jogo!H879=Conferência!$H$2,Conferência!$H$2,\"\")","v":""},{"$f":"IF(Jogo!I879=Conferência!$I$2,Conferência!$I$2,\"\")","v":""},{"$f":"IF(Jogo!J879=Conferência!$J$2,Conferência!$J$2,\"\")","v":""},{"$f":"IF(Jogo!K879=Conferência!$K$2,Conferência!$K$2,\"\")","v":""},{"$f":"IF(Jogo!L879=Conferência!$L$2,Conferência!$L$2,\"\")","v":""},{"$f":"IF(Jogo!M879=Conferência!$M$2,Conferência!$M$2,\"\")","v":""},{"$f":"IF(Jogo!N879=Conferência!$N$2,Conferência!$N$2,\"\")","v":""},{"$f":"IF(Jogo!O879=Conferência!$O$2,Conferência!$O$2,\"\")","v":""},{"$f":"IF(Jogo!P879=Conferência!$P$2,Conferência!$P$2,\"\")","v":""},{"$f":"IF(Jogo!Q879=Conferência!$Q$2,Conferência!$Q$2,\"\")","v":""},""]
[{"$f":"IF(Jogo!A880=Conferência!$A$2,Conferência!$A$2,\"\")","v":""},{"$f":"IF(Jogo!B880=Conferência!$B$2,Conferência!$B$2,\"\")","v":""},{"$f":"IF(Jogo!C880=Conferência!$C$2,Conferência!$C$2,\"\")","v":""},{"$f":"IF(Jogo!D880=Conferência!$D$2,Conferência!$D$2,\"\")","v":""},{"$f":"IF(Jogo!E880=Conferência!$E$2,Conferência!$E$2,\"\")","v":""},{"$f":"IF(Jogo!F880=Conferência!$F$2,Conferência!$F$2,\"\")","v":""},{"$f":"IF(Jogo!G880=Conferência!$G$2,Conferência!$G$2,\"\")","v":""},{"$f":"IF(Jogo!H880=Conferência!$H$2,Conferência!$H$2,\"\")","v":""},{"$f":"IF(Jogo!I880=Conferência!$I$2,Conferência!$I$2,\"\")","v":""},{"$f":"IF(Jogo!J880=Conferência!$J$2,Conferência!$J$2,\"\")","v":""},{"$f":"IF(Jogo!K880=Conferência!$K$2,Conferência!$K$2,\"\")","v":""},{"$f":"IF(Jogo!L880=Conferência!$L$2,Conferência!$L$2,\"\")","v":""},{"$f":"IF(Jogo!M880=Conferência!$M$2,Conferência!$M$2,\"\")","v":""},{"$f":"IF(Jogo!N880=Conferência!$N$2,Conferência!$N$2,\"\")","v":""},{"$f":"IF(Jogo!O880=Conferência!$O$2,Conferência!$O$2,\"\")","v":""},{"$f":"IF(Jogo!P880=Conferência!$P$2,Conferência!$P$2,\"\")","v":""},{"$f":"IF(Jogo!Q880=Conferência!$Q$2,Conferência!$Q$2,\"\")","v":""},""]
[{"$f":"IF(Jogo!A881=Conferência!$A$2,Conferência!$A$2,\"\")","v":""},{"$f":"IF(Jogo!B881=Conferência!$B$2,Conferência!$B$2,\"\")","v":""},{"$f":"IF(Jogo!C881=Conferência!$C$2,Conferência!$C$2,\"\")","v":""},{"$f":"IF(Jogo!D881=Conferência!$D$2,Conferência!$D$2,\"\")","v":""},{"$f":"IF(Jogo!E881=Conferência!$E$2,Conferência!$E$2,\"\")","v":""},{"$f":"IF(Jogo!F881=Conferência!$F$2,Conferência!$F$2,\"\")","v":""},{"$f":"IF(Jogo!G881=Conferência!$G$2,Conferência!$G$2,\"\")","v":""},{"$f":"IF(Jogo!H881=Conferência!$H$2,Conferência!$H$2,\"\")","v":""},{"$f":"IF(Jogo!I881=Conferência!$I$2,Conferência!$I$2,\"\")","v":""},{"$f":"IF(Jogo!J881=Conferência!$J$2,Conferência!$J$2,\"\")","v":""},{"$f":"IF(Jogo!K881=Conferência!$K$2,Conferência!$K$2,\"\")","v":""},{"$f":"IF(Jogo!L881=Conferência!$L$2,Conferência!$L$2,\"\")","v":""},{"$f":"IF(Jogo!M881=Conferência!$M$2,Conferência!$M$2,\"\")","v":""},{"$f":"IF(Jogo!N881=Conferência!$N$2,Conferência!$N$2,\"\")","v":""},{"$f":"IF(Jogo!O881=Conferência!$O$2,Conferência!$O$2,\"\")","v":""},{"$f":"IF(Jogo!P881=Conferência!$P$2,Conferência!$P$2,\"\")","v":""},{"$f":"IF(Jogo!Q881=Conferência!$Q$2,Conferência!$Q$2,\"\")","v":""},""]
[{"$f":"IF(Jogo!A882=Conferência!$A$2,Conferência!$A$2,\"\")","v":""},{"$f":"IF(Jogo!B882=Conferência!$B$2,Conferência!$B$2,\"\")","v":""},{"$f":"IF(Jogo!C882=Conferência!$C$2,Conferência!$C$2,\"\")","v":""},{"$f":"IF(Jogo!D882=Conferência!$D$2,Conferência!$D$2,\"\")","v":""},{"$f":"IF(Jogo!E882=Conferência!$E$2,Conferência!$E$2,\"\")","v":""},{"$f":"IF(Jogo!F882=Conferência!$F$2,Conferência!$F$2,\"\")","v":""},{"$f":"IF(Jogo!G882=Conferência!$G$2,Conferência!$G$2,\"\")","v":""},{"$f":"IF(Jogo!H882=Conferência!$H$2,Conferência!$H$2,\"\")","v":""},{"$f":"IF(Jogo!I882=Conferência!$I$2,Conferência!$I$2,\"\")","v":""},{"$f":"IF(Jogo!J882=Conferência!$J$2,Conferência!$J$2,\"\")","v":""},{"$f":"IF(Jogo!K882=Conferência!$K$2,Conferência!$K$2,\"\")","v":""},{"$f":"IF(Jogo!L882=Conferência!$L$2,Conferência!$L$2,\"\")","v":""},{"$f":"IF(Jogo!M882=Conferência!$M$2,Conferência!$M$2,\"\")","v":""},{"$f":"IF(Jogo!N882=Conferência!$N$2,Conferência!$N$2,\"\")","v":""},{"$f":"IF(Jogo!O882=Conferência!$O$2,Conferência!$O$2,\"\")","v":""},{"$f":"IF(Jogo!P882=Conferência!$P$2,Conferência!$P$2,\"\")","v":""},{"$f":"IF(Jogo!Q882=Conferência!$Q$2,Conferência!$Q$2,\"\")","v":""},""]
[{"$f":"IF(Jogo!A883=Conferência!$A$2,Conferência!$A$2,\"\")","v":""},{"$f":"IF(Jogo!B883=Conferência!$B$2,Conferência!$B$2,\"\")","v":""},{"$f":"IF(Jogo!C883=Conferência!$C$2,Conferência!$C$2,\"\")","v":""},{"$f":"IF(Jogo!D883=Conferência!$D$2,Conferência!$D$2,\"\")","v":""},{"$f":"IF(Jogo!E883=Conferência!$E$2,Conferência!$E$2,\"\")","v":""},{"$f":"IF(Jogo!F883=Conferência!$F$2,Conferência!$F$2,\"\")","v":""},{"$f":"IF(Jogo!G883=Conferência!$G$2,Conferência!$G$2,\"\")","v":""},{"$f":"IF(Jogo!H883=Conferência!$H$2,Conferência!$H$2,\"\")","v":""},{"$f":"IF(Jogo!I883=Conferência!$I$2,Conferência!$I$2,\"\")","v":""},{"$f":"IF(Jogo!J883=Conferência!$J$2,Conferência!$J$2,\"\")","v":""},{"$f":"IF(Jogo!K883=Conferência!$K$2,Conferência!$K$2,\"\")","v":""},{"$f":"IF(Jogo!L883=Conferência!$L$2,Conferência!$L$2,\"\")","v":""},{"$f":"IF(Jogo!M883=Conferência!$M$2,Conferência!$M$2,\"\")","v":""},{"$f":"IF(Jogo!N883=Conferência!$N$2,Conferência!$N$2,\"\")","v":""},{"$f":"IF(Jogo!O883=Conferência!$O$2,Conferência!$O$2,\"\")","v":""},{"$f":"IF(Jogo!P883=Conferência!$P$2,Conferência!$P$2,\"\")","v":""},{"$f":"IF(Jogo!Q883=Conferência!$Q$2,Conferência!$Q$2,\"\")","v":""},""]
[{"$f":"IF(Jogo!A884=Conferência!$A$2,Conferência!$A$2,\"\")","v":""},{"$f":"IF(Jogo!B884=Conferência!$B$2,Conferência!$B$2,\"\")","v":""},{"$f":"IF(Jogo!C884=Conferência!$C$2,Conferência!$C$2,\"\")","v":""},{"$f":"IF(Jogo!D884=Conferência!$D$2,Conferência!$D$2,\"\")","v":""},{"$f":"IF(Jogo!E884=Conferência!$E$2,Conferência!$E$2,\"\")","v":""},{"$f":"IF(Jogo!F884=Conferência!$F$2,Conferência!$F$2,\"\")","v":""},{"$f":"IF(Jogo!G884=Conferência!$G$2,Conferência!$G$2,\"\")","v":""},{"$f":"IF(Jogo!H884=Conferência!$H$2,Conferência!$H$2,\"\")","v":""},{"$f":"IF(Jogo!I884=Conferência!$I$2,Conferência!$I$2,\"\")","v":""},{"$f":"IF(Jogo!J884=Conferência!$J$2,Conferência!$J$2,\"\")","v":""},{"$f":"IF(Jogo!K884=Conferência!$K$2,Conferência!$K$2,\"\")","v":""},{"$f":"IF(Jogo!L884=Conferência!$L$2,Conferência!$L$2,\"\")","v":""},{"$f":"IF(Jogo!M884=Conferência!$M$2,Conferência!$M$2,\"\")","v":""},{"$f":"IF(Jogo!N884=Conferência!$N$2,Conferência!$N$2,\"\")","v":""},{"$f":"IF(Jogo!O884=Conferência!$O$2,Conferência!$O$2,\"\")","v":""},{"$f":"IF(Jogo!P884=Conferência!$P$2,Conferência!$P$2,\"\")","v":""},{"$f":"IF(Jogo!Q884=Conferência!$Q$2,Conferência!$Q$2,\"\")","v":""},""]
[{"$f":"IF(Jogo!A885=Conferência!$A$2,Conferência!$A$2,\"\")","v":""},{"$f":"IF(Jogo!B885=Conferência!$B$2,Conferência!$B$2,\"\")","v":""},{"$f":"IF(Jogo!C885=Conferência!$C$2,Conferência!$C$2,\"\")","v":""},{"$f":"IF(Jogo!D885=Conferência!$D$2,Conferência!$D$2,\"\")","v":""},{"$f":"IF(Jogo!E885=Conferência!$E$2,Conferência!$E$2,\"\")","v":""},{"$f":"IF(Jogo!F885=Conferência!$F$2,Conferência!$F$2,\"\")","v":""},{"$f":"IF(Jogo!G885=Conferência!$G$2,Conferência!$G$2,\"\")","v":""},{"$f":"IF(Jogo!H885=Conferência!$H$2,Conferência!$H$2,\"\")","v":""},{"$f":"IF(Jogo!I885=Conferência!$I$2,Conferência!$I$2,\"\")","v":""},{"$f":"IF(Jogo!J885=Conferência!$J$2,Conferência!$J$2,\"\")","v":""},{"$f":"IF(Jogo!K885=Conferência!$K$2,Conferência!$K$2,\"\")","v":""},{"$f":"IF(Jogo!L885=Conferência!$L$2,Conferência!$L$2,\"\")","v":""},{"$f":"IF(Jogo!M885=Conferência!$M$2,Conferência!$M$2,\"\")","v":""},{"$f":"IF(Jogo!N885=Conferência!$N$2,Conferência!$N$2,\"\")","v":""},{"$f":"IF(Jogo!O885=Conferência!$O$2,Conferência!$O$2,\"\")","v":""},{"$f":"IF(Jogo!P885=Conferência!$P$2,Conferência!$P$2,\"\")","v":""},{"$f":"IF(Jogo!Q885=Conferência!$Q$2,Conferência!$Q$2,\"\")","v":""},""]
[{"$f":"IF(Jogo!A886=Conferência!$A$2,Conferência!$A$2,\"\")","v":""},{"$f":"IF(Jogo!B886=Conferência!$B$2,Conferência!$B$2,\"\")","v":""},{"$f":"IF(Jogo!C886=Conferência!$C$2,Conferência!$C$2,\"\")","v":""},{"$f":"IF(Jogo!D886=Conferência!$D$2,Conferência!$D$2,\"\")","v":""},{"$f":"IF(Jogo!E886=Conferência!$E$2,Conferência!$E$2,\"\")","v":""},{"$f":"IF(Jogo!F886=Conferência!$F$2,Conferência!$F$2,\"\")","v":""},{"$f":"IF(Jogo!G886=Conferência!$G$2,Conferência!$G$2,\"\")","v":""},{"$f":"IF(Jogo!H886=Conferência!$H$2,Conferência!$H$2,\"\")","v":""},{"$f":"IF(Jogo!I886=Conferência!$I$2,Conferência!$I$2,\"\")","v":""},{"$f":"IF(Jogo!J886=Conferência!$J$2,Conferência!$J$2,\"\")","v":""},{"$f":"IF(Jogo!K886=Conferência!$K$2,Conferência!$K$2,\"\")","v":""},{"$f":"IF(Jogo!L886=Conferência!$L$2,Conferência!$L$2,\"\")","v":""},{"$f":"IF(Jogo!M886=Conferência!$M$2,Conferência!$M$2,\"\")","v":""},{"$f":"IF(Jogo!N886=Conferência!$N$2,Conferência!$N$2,\"\")","v":""},{"$f":"IF(Jogo!O886=Conferência!$O$2,Conferência!$O$2,\"\")","v":""},{"$f":"IF(Jogo!P886=Conferência!$P$2,Conferência!$P$2,\"\")","v":""},{"$f":"IF(Jogo!Q886=Conferência!$Q$2,Conferência!$Q$2,\"\")","v":""},""]
[{"$f":"IF(Jogo!A887=Conferência!$A$2,Conferência!$A$2,\"\")","v":""},{"$f":"IF(Jogo!B887=Conferência!$B$2,Conferência!$B$2,\"\")","v":""},{"$f":"IF(Jogo!C887=Conferência!$C$2,Conferência!$C$2,\"\")","v":""},{"$f":"IF(Jogo!D887=Conferência!$D$2,Conferência!$D$2,\"\")","v":""},{"$f":"IF(Jogo!E887=Conferência!$E$2,Conferência!$E$2,\"\")","v":""},{"$f":"IF(Jogo!F887=Conferência!$F$2,Conferência!$F$2,\"\")","v":""},{"$f":"IF(Jogo!G887=Conferência!$G$2,Conferência!$G$2,\"\")","v":""},{"$f":"IF(Jogo!H887=Conferência!$H$2,Conferência!$H$2,\"\")","v":""},{"$f":"IF(Jogo!I887=Conferência!$I$2,Conferência!$I$2,\"\")","v":""},{"$f":"IF(Jogo!J887=Conferência!$J$2,Conferência!$J$2,\"\")","v":""},{"$f":"IF(Jogo!K887=Conferência!$K$2,Conferência!$K$2,\"\")","v":""},{"$f":"IF(Jogo!L887=Conferência!$L$2,Conferência!$L$2,\"\")","v":""},{"$f":"IF(Jogo!M887=Conferência!$M$2,Conferência!$M$2,\"\")","v":""},{"$f":"IF(Jogo!N887=Conferência!$N$2,Conferência!$N$2,\"\")","v":""},{"$f":"IF(Jogo!O887=Conferência!$O$2,Conferência!$O$2,\"\")","v":""},{"$f":"IF(Jogo!P887=Conferência!$P$2,Conferência!$P$2,\"\")","v":""},{"$f":"IF(Jogo!Q887=Conferência!$Q$2,Conferência!$Q$2,\"\")","v":""},""]
[{"$f":"IF(Jogo!A888=Conferência!$A$2,Conferência!$A$2,\"\")","v":""},{"$f":"IF(Jogo!B888=Conferência!$B$2,Conferência!$B$2,\"\")","v":""},{"$f":"IF(Jogo!C888=Conferência!$C$2,Conferência!$C$2,\"\")","v":""},{"$f":"IF(Jogo!D888=Conferência!$D$2,Conferência!$D$2,\"\")","v":""},{"$f":"IF(Jogo!E888=Conferência!$E$2,Conferência!$E$2,\"\")","v":""},{"$f":"IF(Jogo!F888=Conferência!$F$2,Conferência!$F$2,\"\")","v":""},{"$f":"IF(Jogo!G888=Conferência!$G$2,Conferência!$G$2,\"\")","v":""},{"$f":"IF(Jogo!H888=Conferência!$H$2,Conferência!$H$2,\"\")","v":""},{"$f":"IF(Jogo!I888=Conferência!$I$2,Conferência!$I$2,\"\")","v":""},{"$f":"IF(Jogo!J888=Conferência!$J$2,Conferência!$J$2,\"\")","v":""},{"$f":"IF(Jogo!K888=Conferência!$K$2,Conferência!$K$2,\"\")","v":""},{"$f":"IF(Jogo!L888=Conferência!$L$2,Conferência!$L$2,\"\")","v":""},{"$f":"IF(Jogo!M888=Conferência!$M$2,Conferência!$M$2,\"\")","v":""},{"$f":"IF(Jogo!N888=Conferência!$N$2,Conferência!$N$2,\"\")","v":""},{"$f":"IF(Jogo!O888=Conferência!$O$2,Conferência!$O$2,\"\")","v":""},{"$f":"IF(Jogo!P888=Conferência!$P$2,Conferência!$P$2,\"\")","v":""},{"$f":"IF(Jogo!Q888=Conferência!$Q$2,Conferência!$Q$2,\"\")","v":""},""]
[{"$f":"IF(Jogo!A889=Conferência!$A$2,Conferência!$A$2,\"\")","v":""},{"$f":"IF(Jogo!B889=Conferência!$B$2,Conferência!$B$2,\"\")","v":""},{"$f":"IF(Jogo!C889=Conferência!$C$2,Conferência!$C$2,\"\")","v":""},{"$f":"IF(Jogo!D889=Conferência!$D$2,Conferência!$D$2,\"\")","v":""},{"$f":"IF(Jogo!E889=Conferência!$E$2,Conferência!$E$2,\"\")","v":""},{"$f":"IF(Jogo!F889=Conferência!$F$2,Conferência!$F$2,\"\")","v":""},{"$f":"IF(Jogo!G889=Conferência!$G$2,Conferência!$G$2,\"\")","v":""},{"$f":"IF(Jogo!H889=Conferência!$H$2,Conferência!$H$2,\"\")","v":""},{"$f":"IF(Jogo!I889=Conferência!$I$2,Conferência!$I$2,\"\")","v":""},{"$f":"IF(Jogo!J889=Conferência!$J$2,Conferência!$J$2,\"\")","v":""},{"$f":"IF(Jogo!K889=Conferência!$K$2,Conferência!$K$2,\"\")","v":""},{"$f":"IF(Jogo!L889=Conferência!$L$2,Conferência!$L$2,\"\")","v":""},{"$f":"IF(Jogo!M889=Conferência!$M$2,Conferência!$M$2,\"\")","v":""},{"$f":"IF(Jogo!N889=Conferência!$N$2,Conferência!$N$2,\"\")","v":""},{"$f":"IF(Jogo!O889=Conferência!$O$2,Conferência!$O$2,\"\")","v":""},{"$f":"IF(Jogo!P889=Conferência!$P$2,Conferência!$P$2,\"\")","v":""},{"$f":"IF(Jogo!Q889=Conferência!$Q$2,Conferência!$Q$2,\"\")","v":""},""]
[{"$f":"IF(Jogo!A890=Conferência!$A$2,Conferência!$A$2,\"\")","v":""},{"$f":"IF(Jogo!B890=Conferência!$B$2,Conferência!$B$2,\"\")","v":""},{"$f":"IF(Jogo!C890=Conferência!$C$2,Conferência!$C$2,\"\")","v":""},{"$f":"IF(Jogo!D890=Conferência!$D$2,Conferência!$D$2,\"\")","v":""},{"$f":"IF(Jogo!E890=Conferência!$E$2,Conferência!$E$2,\"\")","v":""},{"$f":"IF(Jogo!F890=Conferência!$F$2,Conferência!$F$2,\"\")","v":""},{"$f":"IF(Jogo!G890=Conferência!$G$2,Conferência!$G$2,\"\")","v":""},{"$f":"IF(Jogo!H890=Conferência!$H$2,Conferência!$H$2,\"\")","v":""},{"$f":"IF(Jogo!I890=Conferência!$I$2,Conferência!$I$2,\"\")","v":""},{"$f":"IF(Jogo!J890=Conferência!$J$2,Conferência!$J$2,\"\")","v":""},{"$f":"IF(Jogo!K890=Conferência!$K$2,Conferência!$K$2,\"\")","v":""},{"$f":"IF(Jogo!L890=Conferência!$L$2,Conferência!$L$2,\"\")","v":""},{"$f":"IF(Jogo!M890=Conferência!$M$2,Conferência!$M$2,\"\")","v":""},{"$f":"IF(Jogo!N890=Conferência!$N$2,Conferência!$N$2,\"\")","v":""},{"$f":"IF(Jogo!O890=Conferência!$O$2,Conferência!$O$2,\"\")","v":""},{"$f":"IF(Jogo!P890=Conferência!$P$2,Conferência!$P$2,\"\")","v":""},{"$f":"IF(Jogo!Q890=Conferência!$Q$2,Conferência!$Q$2,\"\")","v":""},""]
[{"$f":"IF(Jogo!A891=Conferência!$A$2,Conferência!$A$2,\"\")","v":""},{"$f":"IF(Jogo!B891=Conferência!$B$2,Conferência!$B$2,\"\")","v":""},{"$f":"IF(Jogo!C891=Conferência!$C$2,Conferência!$C$2,\"\")","v":""},{"$f":"IF(Jogo!D891=Conferência!$D$2,Conferência!$D$2,\"\")","v":""},{"$f":"IF(Jogo!E891=Conferência!$E$2,Conferência!$E$2,\"\")","v":""},{"$f":"IF(Jogo!F891=Conferência!$F$2,Conferência!$F$2,\"\")","v":""},{"$f":"IF(Jogo!G891=Conferência!$G$2,Conferência!$G$2,\"\")","v":""},{"$f":"IF(Jogo!H891=Conferência!$H$2,Conferência!$H$2,\"\")","v":""},{"$f":"IF(Jogo!I891=Conferência!$I$2,Conferência!$I$2,\"\")","v":""},{"$f":"IF(Jogo!J891=Conferência!$J$2,Conferência!$J$2,\"\")","v":""},{"$f":"IF(Jogo!K891=Conferência!$K$2,Conferência!$K$2,\"\")","v":""},{"$f":"IF(Jogo!L891=Conferência!$L$2,Conferência!$L$2,\"\")","v":""},{"$f":"IF(Jogo!M891=Conferência!$M$2,Conferência!$M$2,\"\")","v":""},{"$f":"IF(Jogo!N891=Conferência!$N$2,Conferência!$N$2,\"\")","v":""},{"$f":"IF(Jogo!O891=Conferência!$O$2,Conferência!$O$2,\"\")","v":""},{"$f":"IF(Jogo!P891=Conferência!$P$2,Conferência!$P$2,\"\")","v":""},{"$f":"IF(Jogo!Q891=Conferência!$Q$2,Conferência!$Q$2,\"\")","v":""},""]
[{"$f":"IF(Jogo!A892=Conferência!$A$2,Conferência!$A$2,\"\")","v":""},{"$f":"IF(Jogo!B892=Conferência!$B$2,Conferência!$B$2,\"\")","v":""},{"$f":"IF(Jogo!C892=Conferência!$C$2,Conferência!$C$2,\"\")","v":""},{"$f":"IF(Jogo!D892=Conferência!$D$2,Conferência!$D$2,\"\")","v":""},{"$f":"IF(Jogo!E892=Conferência!$E$2,Conferência!$E$2,\"\")","v":""},{"$f":"IF(Jogo!F892=Conferência!$F$2,Conferência!$F$2,\"\")","v":""},{"$f":"IF(Jogo!G892=Conferência!$G$2,Conferência!$G$2,\"\")","v":""},{"$f":"IF(Jogo!H892=Conferência!$H$2,Conferência!$H$2,\"\")","v":""},{"$f":"IF(Jogo!I892=Conferência!$I$2,Conferência!$I$2,\"\")","v":""},{"$f":"IF(Jogo!J892=Conferência!$J$2,Conferência!$J$2,\"\")","v":""},{"$f":"IF(Jogo!K892=Conferência!$K$2,Conferência!$K$2,\"\")","v":""},{"$f":"IF(Jogo!L892=Conferência!$L$2,Conferência!$L$2,\"\")","v":""},{"$f":"IF(Jogo!M892=Conferência!$M$2,Conferência!$M$2,\"\")","v":""},{"$f":"IF(Jogo!N892=Conferência!$N$2,Conferência!$N$2,\"\")","v":""},{"$f":"IF(Jogo!O892=Conferência!$O$2,Conferência!$O$2,\"\")","v":""},{"$f":"IF(Jogo!P892=Conferência!$P$2,Conferência!$P$2,\"\")","v":""},{"$f":"IF(Jogo!Q892=Conferência!$Q$2,Conferência!$Q$2,\"\")","v":""},""]
[{"$f":"IF(Jogo!A893=Conferência!$A$2,Conferência!$A$2,\"\")","v":""},{"$f":"IF(Jogo!B893=Conferência!$B$2,Conferência!$B$2,\"\")","v":""},{"$f":"IF(Jogo!C893=Conferência!$C$2,Conferência!$C$2,\"\")","v":""},{"$f":"IF(Jogo!D893=Conferência!$D$2,Conferência!$D$2,\"\")","v":""},{"$f":"IF(Jogo!E893=Conferência!$E$2,Conferência!$E$2,\"\")","v":""},{"$f":"IF(Jogo!F893=Conferência!$F$2,Conferência!$F$2,\"\")","v":""},{"$f":"IF(Jogo!G893=Conferência!$G$2,Conferência!$G$2,\"\")","v":""},{"$f":"IF(Jogo!H893=Conferência!$H$2,Conferência!$H$2,\"\")","v":""},{"$f":"IF(Jogo!I893=Conferência!$I$2,Conferência!$I$2,\"\")","v":""},{"$f":"IF(Jogo!J893=Conferência!$J$2,Conferência!$J$2,\"\")","v":""},{"$f":"IF(Jogo!K893=Conferência!$K$2,Conferência!$K$2,\"\")","v":""},{"$f":"IF(Jogo!L893=Conferência!$L$2,Conferência!$L$2,\"\")","v":""},{"$f":"IF(Jogo!M893=Conferência!$M$2,Conferência!$M$2,\"\")","v":""},{"$f":"IF(Jogo!N893=Conferência!$N$2,Conferência!$N$2,\"\")","v":""},{"$f":"IF(Jogo!O893=Conferência!$O$2,Conferência!$O$2,\"\")","v":""},{"$f":"IF(Jogo!P893=Conferência!$P$2,Conferência!$P$2,\"\")","v":""},{"$f":"IF(Jogo!Q893=Conferência!$Q$2,Conferência!$Q$2,\"\")","v":""},""]
[{"$f":"IF(Jogo!A894=Conferência!$A$2,Conferência!$A$2,\"\")","v":""},{"$f":"IF(Jogo!B894=Conferência!$B$2,Conferência!$B$2,\"\")","v":""},{"$f":"IF(Jogo!C894=Conferência!$C$2,Conferência!$C$2,\"\")","v":""},{"$f":"IF(Jogo!D894=Conferência!$D$2,Conferência!$D$2,\"\")","v":""},{"$f":"IF(Jogo!E894=Conferência!$E$2,Conferência!$E$2,\"\")","v":""},{"$f":"IF(Jogo!F894=Conferência!$F$2,Conferência!$F$2,\"\")","v":""},{"$f":"IF(Jogo!G894=Conferência!$G$2,Conferência!$G$2,\"\")","v":""},{"$f":"IF(Jogo!H894=Conferência!$H$2,Conferência!$H$2,\"\")","v":""},{"$f":"IF(Jogo!I894=Conferência!$I$2,Conferência!$I$2,\"\")","v":""},{"$f":"IF(Jogo!J894=Conferência!$J$2,Conferência!$J$2,\"\")","v":""},{"$f":"IF(Jogo!K894=Conferência!$K$2,Conferência!$K$2,\"\")","v":""},{"$f":"IF(Jogo!L894=Conferência!$L$2,Conferência!$L$2,\"\")","v":""},{"$f":"IF(Jogo!M894=Conferência!$M$2,Conferência!$M$2,\"\")","v":""},{"$f":"IF(Jogo!N894=Conferência!$N$2,Conferência!$N$2,\"\")","v":""},{"$f":"IF(Jogo!O894=Conferência!$O$2,Conferência!$O$2,\"\")","v":""},{"$f":"IF(Jogo!P894=Conferência!$P$2,Conferência!$P$2,\"\")","v":""},{"$f":"IF(Jogo!Q894=Conferência!$Q$2,Conferência!$Q$2,\"\")","v":""},""]
[{"$f":"IF(Jogo!A895=Conferência!$A$2,Conferência!$A$2,\"\")","v":""},{"$f":"IF(Jogo!B895=Conferência!$B$2,Conferência!$B$2,\"\")","v":""},{"$f":"IF(Jogo!C895=Conferência!$C$2,Conferência!$C$2,\"\")","v":""},{"$f":"IF(Jogo!D895=Conferência!$D$2,Conferência!$D$2,\"\")","v":""},{"$f":"IF(Jogo!E895=Conferência!$E$2,Conferência!$E$2,\"\")","v":""},{"$f":"IF(Jogo!F895=Conferência!$F$2,Conferência!$F$2,\"\")","v":""},{"$f":"IF(Jogo!G895=Conferência!$G$2,Conferência!$G$2,\"\")","v":""},{"$f":"IF(Jogo!H895=Conferência!$H$2,Conferência!$H$2,\"\")","v":""},{"$f":"IF(Jogo!I895=Conferência!$I$2,Conferência!$I$2,\"\")","v":""},{"$f":"IF(Jogo!J895=Conferência!$J$2,Conferência!$J$2,\"\")","v":""},{"$f":"IF(Jogo!K895=Conferência!$K$2,Conferência!$K$2,\"\")","v":""},{"$f":"IF(Jogo!L895=Conferência!$L$2,Conferência!$L$2,\"\")","v":""},{"$f":"IF(Jogo!M895=Conferência!$M$2,Conferência!$M$2,\"\")","v":""},{"$f":"IF(Jogo!N895=Conferência!$N$2,Conferência!$N$2,\"\")","v":""},{"$f":"IF(Jogo!O895=Conferência!$O$2,Conferência!$O$2,\"\")","v":""},{"$f":"IF(Jogo!P895=Conferência!$P$2,Conferência!$P$2,\"\")","v":""},{"$f":"IF(Jogo!Q895=Conferência!$Q$2,Conferência!$Q$2,\"\")","v":""},""]
[{"$f":"IF(Jogo!A896=Conferência!$A$2,Conferência!$A$2,\"\")","v":""},{"$f":"IF(Jogo!B896=Conferência!$B$2,Conferência!$B$2,\"\")","v":""},{"$f":"IF(Jogo!C896=Conferência!$C$2,Conferência!$C$2,\"\")","v":""},{"$f":"IF(Jogo!D896=Conferência!$D$2,Conferência!$D$2,\"\")","v":""},{"$f":"IF(Jogo!E896=Conferência!$E$2,Conferência!$E$2,\"\")","v":""},{"$f":"IF(Jogo!F896=Conferência!$F$2,Conferência!$F$2,\"\")","v":""},{"$f":"IF(Jogo!G896=Conferência!$G$2,Conferência!$G$2,\"\")","v":""},{"$f":"IF(Jogo!H896=Conferência!$H$2,Conferência!$H$2,\"\")","v":""},{"$f":"IF(Jogo!I896=Conferência!$I$2,Conferência!$I$2,\"\")","v":""},{"$f":"IF(Jogo!J896=Conferência!$J$2,Conferência!$J$2,\"\")","v":""},{"$f":"IF(Jogo!K896=Conferência!$K$2,Conferência!$K$2,\"\")","v":""},{"$f":"IF(Jogo!L896=Conferência!$L$2,Conferência!$L$2,\"\")","v":""},{"$f":"IF(Jogo!M896=Conferência!$M$2,Conferência!$M$2,\"\")","v":""},{"$f":"IF(Jogo!N896=Conferência!$N$2,Conferência!$N$2,\"\")","v":""},{"$f":"IF(Jogo!O896=Conferência!$O$2,Conferência!$O$2,\"\")","v":""},{"$f":"IF(Jogo!P896=Conferência!$P$2,Conferência!$P$2,\"\")","v":""},{"$f":"IF(Jogo!Q896=Conferência!$Q$2,Conferência!$Q$2,\"\")","v":""},""]
[{"$f":"IF(Jogo!A897=Conferência!$A$2,Conferência!$A$2,\"\")","v":""},{"$f":"IF(Jogo!B897=Conferência!$B$2,Conferência!$B$2,\"\")","v":""},{"$f":"IF(Jogo!C897=Conferência!$C$2,Conferência!$C$2,\"\")","v":""},{"$f":"IF(Jogo!D897=Conferência!$D$2,Conferência!$D$2,\"\")","v":""},{"$f":"IF(Jogo!E897=Conferência!$E$2,Conferência!$E$2,\"\")","v":""},{"$f":"IF(Jogo!F897=Conferência!$F$2,Conferência!$F$2,\"\")","v":""},{"$f":"IF(Jogo!G897=Conferência!$G$2,Conferência!$G$2,\"\")","v":""},{"$f":"IF(Jogo!H897=Conferência!$H$2,Conferência!$H$2,\"\")","v":""},{"$f":"IF(Jogo!I897=Conferência!$I$2,Conferência!$I$2,\"\")","v":""},{"$f":"IF(Jogo!J897=Conferência!$J$2,Conferência!$J$2,\"\")","v":""},{"$f":"IF(Jogo!K897=Conferência!$K$2,Conferência!$K$2,\"\")","v":""},{"$f":"IF(Jogo!L897=Conferência!$L$2,Conferência!$L$2,\"\")","v":""},{"$f":"IF(Jogo!M897=Conferência!$M$2,Conferência!$M$2,\"\")","v":""},{"$f":"IF(Jogo!N897=Conferência!$N$2,Conferência!$N$2,\"\")","v":""},{"$f":"IF(Jogo!O897=Conferência!$O$2,Conferência!$O$2,\"\")","v":""},{"$f":"IF(Jogo!P897=Conferência!$P$2,Conferência!$P$2,\"\")","v":""},{"$f":"IF(Jogo!Q897=Conferência!$Q$2,Conferência!$Q$2,\"\")","v":""},""]
[{"$f":"IF(Jogo!A898=Conferência!$A$2,Conferência!$A$2,\"\")","v":""},{"$f":"IF(Jogo!B898=Conferência!$B$2,Conferência!$B$2,\"\")","v":""},{"$f":"IF(Jogo!C898=Conferência!$C$2,Conferência!$C$2,\"\")","v":""},{"$f":"IF(Jogo!D898=Conferência!$D$2,Conferência!$D$2,\"\")","v":""},{"$f":"IF(Jogo!E898=Conferência!$E$2,Conferência!$E$2,\"\")","v":""},{"$f":"IF(Jogo!F898=Conferência!$F$2,Conferência!$F$2,\"\")","v":""},{"$f":"IF(Jogo!G898=Conferência!$G$2,Conferência!$G$2,\"\")","v":""},{"$f":"IF(Jogo!H898=Conferência!$H$2,Conferência!$H$2,\"\")","v":""},{"$f":"IF(Jogo!I898=Conferência!$I$2,Conferência!$I$2,\"\")","v":""},{"$f":"IF(Jogo!J898=Conferência!$J$2,Conferência!$J$2,\"\")","v":""},{"$f":"IF(Jogo!K898=Conferência!$K$2,Conferência!$K$2,\"\")","v":""},{"$f":"IF(Jogo!L898=Conferência!$L$2,Conferência!$L$2,\"\")","v":""},{"$f":"IF(Jogo!M898=Conferência!$M$2,Conferência!$M$2,\"\")","v":""},{"$f":"IF(Jogo!N898=Conferência!$N$2,Conferência!$N$2,\"\")","v":""},{"$f":"IF(Jogo!O898=Conferência!$O$2,Conferência!$O$2,\"\")","v":""},{"$f":"IF(Jogo!P898=Conferência!$P$2,Conferência!$P$2,\"\")","v":""},{"$f":"IF(Jogo!Q898=Conferência!$Q$2,Conferência!$Q$2,\"\")","v":""},""]
[{"$f":"IF(Jogo!A899=Conferência!$A$2,Conferência!$A$2,\"\")","v":""},{"$f":"IF(Jogo!B899=Conferência!$B$2,Conferência!$B$2,\"\")","v":""},{"$f":"IF(Jogo!C899=Conferência!$C$2,Conferência!$C$2,\"\")","v":""},{"$f":"IF(Jogo!D899=Conferência!$D$2,Conferência!$D$2,\"\")","v":""},{"$f":"IF(Jogo!E899=Conferência!$E$2,Conferência!$E$2,\"\")","v":""},{"$f":"IF(Jogo!F899=Conferência!$F$2,Conferência!$F$2,\"\")","v":""},{"$f":"IF(Jogo!G899=Conferência!$G$2,Conferência!$G$2,\"\")","v":""},{"$f":"IF(Jogo!H899=Conferência!$H$2,Conferência!$H$2,\"\")","v":""},{"$f":"IF(Jogo!I899=Conferência!$I$2,Conferência!$I$2,\"\")","v":""},{"$f":"IF(Jogo!J899=Conferência!$J$2,Conferência!$J$2,\"\")","v":""},{"$f":"IF(Jogo!K899=Conferência!$K$2,Conferência!$K$2,\"\")","v":""},{"$f":"IF(Jogo!L899=Conferência!$L$2,Conferência!$L$2,\"\")","v":""},{"$f":"IF(Jogo!M899=Conferência!$M$2,Conferência!$M$2,\"\")","v":""},{"$f":"IF(Jogo!N899=Conferência!$N$2,Conferência!$N$2,\"\")","v":""},{"$f":"IF(Jogo!O899=Conferência!$O$2,Conferência!$O$2,\"\")","v":""},{"$f":"IF(Jogo!P899=Conferência!$P$2,Conferência!$P$2,\"\")","v":""},{"$f":"IF(Jogo!Q899=Conferência!$Q$2,Conferência!$Q$2,\"\")","v":""},""]
[{"$f":"IF(Jogo!A900=Conferência!$A$2,Conferência!$A$2,\"\")","v":""},{"$f":"IF(Jogo!B900=Conferência!$B$2,Conferência!$B$2,\"\")","v":""},{"$f":"IF(Jogo!C900=Conferência!$C$2,Conferência!$C$2,\"\")","v":""},{"$f":"IF(Jogo!D900=Conferência!$D$2,Conferência!$D$2,\"\")","v":""},{"$f":"IF(Jogo!E900=Conferência!$E$2,Conferência!$E$2,\"\")","v":""},{"$f":"IF(Jogo!F900=Conferência!$F$2,Conferência!$F$2,\"\")","v":""},{"$f":"IF(Jogo!G900=Conferência!$G$2,Conferência!$G$2,\"\")","v":""},{"$f":"IF(Jogo!H900=Conferência!$H$2,Conferência!$H$2,\"\")","v":""},{"$f":"IF(Jogo!I900=Conferência!$I$2,Conferência!$I$2,\"\")","v":""},{"$f":"IF(Jogo!J900=Conferência!$J$2,Conferência!$J$2,\"\")","v":""},{"$f":"IF(Jogo!K900=Conferência!$K$2,Conferência!$K$2,\"\")","v":""},{"$f":"IF(Jogo!L900=Conferência!$L$2,Conferência!$L$2,\"\")","v":""},{"$f":"IF(Jogo!M900=Conferência!$M$2,Conferência!$M$2,\"\")","v":""},{"$f":"IF(Jogo!N900=Conferência!$N$2,Conferência!$N$2,\"\")","v":""},{"$f":"IF(Jogo!O900=Conferência!$O$2,Conferência!$O$2,\"\")","v":""},{"$f":"IF(Jogo!P900=Conferência!$P$2,Conferência!$P$2,\"\")","v":""},{"$f":"IF(Jogo!Q900=Conferência!$Q$2,Conferência!$Q$2,\"\")","v":""},""]
[{"$f":"IF(Jogo!A901=Conferência!$A$2,Conferência!$A$2,\"\")","v":""},{"$f":"IF(Jogo!B901=Conferência!$B$2,Conferência!$B$2,\"\")","v":""},{"$f":"IF(Jogo!C901=Conferência!$C$2,Conferência!$C$2,\"\")","v":""},{"$f":"IF(Jogo!D901=Conferência!$D$2,Conferência!$D$2,\"\")","v":""},{"$f":"IF(Jogo!E901=Conferência!$E$2,Conferência!$E$2,\"\")","v":""},{"$f":"IF(Jogo!F901=Conferência!$F$2,Conferência!$F$2,\"\")","v":""},{"$f":"IF(Jogo!G901=Conferência!$G$2,Conferência!$G$2,\"\")","v":""},{"$f":"IF(Jogo!H901=Conferência!$H$2,Conferência!$H$2,\"\")","v":""},{"$f":"IF(Jogo!I901=Conferência!$I$2,Conferência!$I$2,\"\")","v":""},{"$f":"IF(Jogo!J901=Conferência!$J$2,Conferência!$J$2,\"\")","v":""},{"$f":"IF(Jogo!K901=Conferência!$K$2,Conferência!$K$2,\"\")","v":""},{"$f":"IF(Jogo!L901=Conferência!$L$2,Conferência!$L$2,\"\")","v":""},{"$f":"IF(Jogo!M901=Conferência!$M$2,Conferência!$M$2,\"\")","v":""},{"$f":"IF(Jogo!N901=Conferência!$N$2,Conferência!$N$2,\"\")","v":""},{"$f":"IF(Jogo!O901=Conferência!$O$2,Conferência!$O$2,\"\")","v":""},{"$f":"IF(Jogo!P901=Conferência!$P$2,Conferência!$P$2,\"\")","v":""},{"$f":"IF(Jogo!Q901=Conferência!$Q$2,Conferência!$Q$2,\"\")","v":""},""]
[{"$f":"IF(Jogo!A902=Conferência!$A$2,Conferência!$A$2,\"\")","v":""},{"$f":"IF(Jogo!B902=Conferência!$B$2,Conferência!$B$2,\"\")","v":""},{"$f":"IF(Jogo!C902=Conferência!$C$2,Conferência!$C$2,\"\")","v":""},{"$f":"IF(Jogo!D902=Conferência!$D$2,Conferência!$D$2,\"\")","v":""},{"$f":"IF(Jogo!E902=Conferência!$E$2,Conferência!$E$2,\"\")","v":""},{"$f":"IF(Jogo!F902=Conferência!$F$2,Conferência!$F$2,\"\")","v":""},{"$f":"IF(Jogo!G902=Conferência!$G$2,Conferência!$G$2,\"\")","v":""},{"$f":"IF(Jogo!H902=Conferência!$H$2,Conferência!$H$2,\"\")","v":""},{"$f":"IF(Jogo!I902=Conferência!$I$2,Conferência!$I$2,\"\")","v":""},{"$f":"IF(Jogo!J902=Conferência!$J$2,Conferência!$J$2,\"\")","v":""},{"$f":"IF(Jogo!K902=Conferência!$K$2,Conferência!$K$2,\"\")","v":""},{"$f":"IF(Jogo!L902=Conferência!$L$2,Conferência!$L$2,\"\")","v":""},{"$f":"IF(Jogo!M902=Conferência!$M$2,Conferência!$M$2,\"\")","v":""},{"$f":"IF(Jogo!N902=Conferência!$N$2,Conferência!$N$2,\"\")","v":""},{"$f":"IF(Jogo!O902=Conferência!$O$2,Conferência!$O$2,\"\")","v":""},{"$f":"IF(Jogo!P902=Conferência!$P$2,Conferência!$P$2,\"\")","v":""},{"$f":"IF(Jogo!Q902=Conferência!$Q$2,Conferência!$Q$2,\"\")","v":""},""]
[{"$f":"IF(Jogo!A903=Conferência!$A$2,Conferência!$A$2,\"\")","v":""},{"$f":"IF(Jogo!B903=Conferência!$B$2,Conferência!$B$2,\"\")","v":""},{"$f":"IF(Jogo!C903=Conferência!$C$2,Conferência!$C$2,\"\")","v":""},{"$f":"IF(Jogo!D903=Conferência!$D$2,Conferência!$D$2,\"\")","v":""},{"$f":"IF(Jogo!E903=Conferência!$E$2,Conferência!$E$2,\"\")","v":""},{"$f":"IF(Jogo!F903=Conferência!$F$2,Conferência!$F$2,\"\")","v":""},{"$f":"IF(Jogo!G903=Conferência!$G$2,Conferência!$G$2,\"\")","v":""},{"$f":"IF(Jogo!H903=Conferência!$H$2,Conferência!$H$2,\"\")","v":""},{"$f":"IF(Jogo!I903=Conferência!$I$2,Conferência!$I$2,\"\")","v":""},{"$f":"IF(Jogo!J903=Conferência!$J$2,Conferência!$J$2,\"\")","v":""},{"$f":"IF(Jogo!K903=Conferência!$K$2,Conferência!$K$2,\"\")","v":""},{"$f":"IF(Jogo!L903=Conferência!$L$2,Conferência!$L$2,\"\")","v":""},{"$f":"IF(Jogo!M903=Conferência!$M$2,Conferência!$M$2,\"\")","v":""},{"$f":"IF(Jogo!N903=Conferência!$N$2,Conferência!$N$2,\"\")","v":""},{"$f":"IF(Jogo!O903=Conferência!$O$2,Conferência!$O$2,\"\")","v":""},{"$f":"IF(Jogo!P903=Conferência!$P$2,Conferência!$P$2,\"\")","v":""},{"$f":"IF(Jogo!Q903=Conferência!$Q$2,Conferência!$Q$2,\"\")","v":""},""]
[{"$f":"IF(Jogo!A904=Conferência!$A$2,Conferência!$A$2,\"\")","v":""},{"$f":"IF(Jogo!B904=Conferência!$B$2,Conferência!$B$2,\"\")","v":""},{"$f":"IF(Jogo!C904=Conferência!$C$2,Conferência!$C$2,\"\")","v":""},{"$f":"IF(Jogo!D904=Conferência!$D$2,Conferência!$D$2,\"\")","v":""},{"$f":"IF(Jogo!E904=Conferência!$E$2,Conferência!$E$2,\"\")","v":""},{"$f":"IF(Jogo!F904=Conferência!$F$2,Conferência!$F$2,\"\")","v":""},{"$f":"IF(Jogo!G904=Conferência!$G$2,Conferência!$G$2,\"\")","v":""},{"$f":"IF(Jogo!H904=Conferência!$H$2,Conferência!$H$2,\"\")","v":""},{"$f":"IF(Jogo!I904=Conferência!$I$2,Conferência!$I$2,\"\")","v":""},{"$f":"IF(Jogo!J904=Conferência!$J$2,Conferência!$J$2,\"\")","v":""},{"$f":"IF(Jogo!K904=Conferência!$K$2,Conferência!$K$2,\"\")","v":""},{"$f":"IF(Jogo!L904=Conferência!$L$2,Conferência!$L$2,\"\")","v":""},{"$f":"IF(Jogo!M904=Conferência!$M$2,Conferência!$M$2,\"\")","v":""},{"$f":"IF(Jogo!N904=Conferência!$N$2,Conferência!$N$2,\"\")","v":""},{"$f":"IF(Jogo!O904=Conferência!$O$2,Conferência!$O$2,\"\")","v":""},{"$f":"IF(Jogo!P904=Conferência!$P$2,Conferência!$P$2,\"\")","v":""},{"$f":"IF(Jogo!Q904=Conferência!$Q$2,Conferência!$Q$2,\"\")","v":""},""]
[{"$f":"IF(Jogo!A905=Conferência!$A$2,Conferência!$A$2,\"\")","v":""},{"$f":"IF(Jogo!B905=Conferência!$B$2,Conferência!$B$2,\"\")","v":""},{"$f":"IF(Jogo!C905=Conferência!$C$2,Conferência!$C$2,\"\")","v":""},{"$f":"IF(Jogo!D905=Conferência!$D$2,Conferência!$D$2,\"\")","v":""},{"$f":"IF(Jogo!E905=Conferência!$E$2,Conferência!$E$2,\"\")","v":""},{"$f":"IF(Jogo!F905=Conferência!$F$2,Conferência!$F$2,\"\")","v":""},{"$f":"IF(Jogo!G905=Conferência!$G$2,Conferência!$G$2,\"\")","v":""},{"$f":"IF(Jogo!H905=Conferência!$H$2,Conferência!$H$2,\"\")","v":""},{"$f":"IF(Jogo!I905=Conferência!$I$2,Conferência!$I$2,\"\")","v":""},{"$f":"IF(Jogo!J905=Conferência!$J$2,Conferência!$J$2,\"\")","v":""},{"$f":"IF(Jogo!K905=Conferência!$K$2,Conferência!$K$2,\"\")","v":""},{"$f":"IF(Jogo!L905=Conferência!$L$2,Conferência!$L$2,\"\")","v":""},{"$f":"IF(Jogo!M905=Conferência!$M$2,Conferência!$M$2,\"\")","v":""},{"$f":"IF(Jogo!N905=Conferência!$N$2,Conferência!$N$2,\"\")","v":""},{"$f":"IF(Jogo!O905=Conferência!$O$2,Conferência!$O$2,\"\")","v":""},{"$f":"IF(Jogo!P905=Conferência!$P$2,Conferência!$P$2,\"\")","v":""},{"$f":"IF(Jogo!Q905=Conferência!$Q$2,Conferência!$Q$2,\"\")","v":""},""]
[{"$f":"IF(Jogo!A906=Conferência!$A$2,Conferência!$A$2,\"\")","v":""},{"$f":"IF(Jogo!B906=Conferência!$B$2,Conferência!$B$2,\"\")","v":""},{"$f":"IF(Jogo!C906=Conferência!$C$2,Conferência!$C$2,\"\")","v":""},{"$f":"IF(Jogo!D906=Conferência!$D$2,Conferência!$D$2,\"\")","v":""},{"$f":"IF(Jogo!E906=Conferência!$E$2,Conferência!$E$2,\"\")","v":""},{"$f":"IF(Jogo!F906=Conferência!$F$2,Conferência!$F$2,\"\")","v":""},{"$f":"IF(Jogo!G906=Conferência!$G$2,Conferência!$G$2,\"\")","v":""},{"$f":"IF(Jogo!H906=Conferência!$H$2,Conferência!$H$2,\"\")","v":""},{"$f":"IF(Jogo!I906=Conferência!$I$2,Conferência!$I$2,\"\")","v":""},{"$f":"IF(Jogo!J906=Conferência!$J$2,Conferência!$J$2,\"\")","v":""},{"$f":"IF(Jogo!K906=Conferência!$K$2,Conferência!$K$2,\"\")","v":""},{"$f":"IF(Jogo!L906=Conferência!$L$2,Conferência!$L$2,\"\")","v":""},{"$f":"IF(Jogo!M906=Conferência!$M$2,Conferência!$M$2,\"\")","v":""},{"$f":"IF(Jogo!N906=Conferência!$N$2,Conferência!$N$2,\"\")","v":""},{"$f":"IF(Jogo!O906=Conferência!$O$2,Conferência!$O$2,\"\")","v":""},{"$f":"IF(Jogo!P906=Conferência!$P$2,Conferência!$P$2,\"\")","v":""},{"$f":"IF(Jogo!Q906=Conferência!$Q$2,Conferência!$Q$2,\"\")","v":""},""]
[{"$f":"IF(Jogo!A907=Conferência!$A$2,Conferência!$A$2,\"\")","v":""},{"$f":"IF(Jogo!B907=Conferência!$B$2,Conferência!$B$2,\"\")","v":""},{"$f":"IF(Jogo!C907=Conferência!$C$2,Conferência!$C$2,\"\")","v":""},{"$f":"IF(Jogo!D907=Conferência!$D$2,Conferência!$D$2,\"\")","v":""},{"$f":"IF(Jogo!E907=Conferência!$E$2,Conferência!$E$2,\"\")","v":""},{"$f":"IF(Jogo!F907=Conferência!$F$2,Conferência!$F$2,\"\")","v":""},{"$f":"IF(Jogo!G907=Conferência!$G$2,Conferência!$G$2,\"\")","v":""},{"$f":"IF(Jogo!H907=Conferência!$H$2,Conferência!$H$2,\"\")","v":""},{"$f":"IF(Jogo!I907=Conferência!$I$2,Conferência!$I$2,\"\")","v":""},{"$f":"IF(Jogo!J907=Conferência!$J$2,Conferência!$J$2,\"\")","v":""},{"$f":"IF(Jogo!K907=Conferência!$K$2,Conferência!$K$2,\"\")","v":""},{"$f":"IF(Jogo!L907=Conferência!$L$2,Conferência!$L$2,\"\")","v":""},{"$f":"IF(Jogo!M907=Conferência!$M$2,Conferência!$M$2,\"\")","v":""},{"$f":"IF(Jogo!N907=Conferência!$N$2,Conferência!$N$2,\"\")","v":""},{"$f":"IF(Jogo!O907=Conferência!$O$2,Conferência!$O$2,\"\")","v":""},{"$f":"IF(Jogo!P907=Conferência!$P$2,Conferência!$P$2,\"\")","v":""},{"$f":"IF(Jogo!Q907=Conferência!$Q$2,Conferência!$Q$2,\"\")","v":""},""]
[{"$f":"IF(Jogo!A908=Conferência!$A$2,Conferência!$A$2,\"\")","v":""},{"$f":"IF(Jogo!B908=Conferência!$B$2,Conferência!$B$2,\"\")","v":""},{"$f":"IF(Jogo!C908=Conferência!$C$2,Conferência!$C$2,\"\")","v":""},{"$f":"IF(Jogo!D908=Conferência!$D$2,Conferência!$D$2,\"\")","v":""},{"$f":"IF(Jogo!E908=Conferência!$E$2,Conferência!$E$2,\"\")","v":""},{"$f":"IF(Jogo!F908=Conferência!$F$2,Conferência!$F$2,\"\")","v":""},{"$f":"IF(Jogo!G908=Conferência!$G$2,Conferência!$G$2,\"\")","v":""},{"$f":"IF(Jogo!H908=Conferência!$H$2,Conferência!$H$2,\"\")","v":""},{"$f":"IF(Jogo!I908=Conferência!$I$2,Conferência!$I$2,\"\")","v":""},{"$f":"IF(Jogo!J908=Conferência!$J$2,Conferência!$J$2,\"\")","v":""},{"$f":"IF(Jogo!K908=Conferência!$K$2,Conferência!$K$2,\"\")","v":""},{"$f":"IF(Jogo!L908=Conferência!$L$2,Conferência!$L$2,\"\")","v":""},{"$f":"IF(Jogo!M908=Conferência!$M$2,Conferência!$M$2,\"\")","v":""},{"$f":"IF(Jogo!N908=Conferência!$N$2,Conferência!$N$2,\"\")","v":""},{"$f":"IF(Jogo!O908=Conferência!$O$2,Conferência!$O$2,\"\")","v":""},{"$f":"IF(Jogo!P908=Conferência!$P$2,Conferência!$P$2,\"\")","v":""},{"$f":"IF(Jogo!Q908=Conferência!$Q$2,Conferência!$Q$2,\"\")","v":""},""]
[{"$f":"IF(Jogo!A909=Conferência!$A$2,Conferência!$A$2,\"\")","v":""},{"$f":"IF(Jogo!B909=Conferência!$B$2,Conferência!$B$2,\"\")","v":""},{"$f":"IF(Jogo!C909=Conferência!$C$2,Conferência!$C$2,\"\")","v":""},{"$f":"IF(Jogo!D909=Conferência!$D$2,Conferência!$D$2,\"\")","v":""},{"$f":"IF(Jogo!E909=Conferência!$E$2,Conferência!$E$2,\"\")","v":""},{"$f":"IF(Jogo!F909=Conferência!$F$2,Conferência!$F$2,\"\")","v":""},{"$f":"IF(Jogo!G909=Conferência!$G$2,Conferência!$G$2,\"\")","v":""},{"$f":"IF(Jogo!H909=Conferência!$H$2,Conferência!$H$2,\"\")","v":""},{"$f":"IF(Jogo!I909=Conferência!$I$2,Conferência!$I$2,\"\")","v":""},{"$f":"IF(Jogo!J909=Conferência!$J$2,Conferência!$J$2,\"\")","v":""},{"$f":"IF(Jogo!K909=Conferência!$K$2,Conferência!$K$2,\"\")","v":""},{"$f":"IF(Jogo!L909=Conferência!$L$2,Conferência!$L$2,\"\")","v":""},{"$f":"IF(Jogo!M909=Conferência!$M$2,Conferência!$M$2,\"\")","v":""},{"$f":"IF(Jogo!N909=Conferência!$N$2,Conferência!$N$2,\"\")","v":""},{"$f":"IF(Jogo!O909=Conferência!$O$2,Conferência!$O$2,\"\")","v":""},{"$f":"IF(Jogo!P909=Conferência!$P$2,Conferência!$P$2,\"\")","v":""},{"$f":"IF(Jogo!Q909=Conferência!$Q$2,Conferência!$Q$2,\"\")","v":""},""]
[{"$f":"IF(Jogo!A910=Conferência!$A$2,Conferência!$A$2,\"\")","v":""},{"$f":"IF(Jogo!B910=Conferência!$B$2,Conferência!$B$2,\"\")","v":""},{"$f":"IF(Jogo!C910=Conferência!$C$2,Conferência!$C$2,\"\")","v":""},{"$f":"IF(Jogo!D910=Conferência!$D$2,Conferência!$D$2,\"\")","v":""},{"$f":"IF(Jogo!E910=Conferência!$E$2,Conferência!$E$2,\"\")","v":""},{"$f":"IF(Jogo!F910=Conferência!$F$2,Conferência!$F$2,\"\")","v":""},{"$f":"IF(Jogo!G910=Conferência!$G$2,Conferência!$G$2,\"\")","v":""},{"$f":"IF(Jogo!H910=Conferência!$H$2,Conferência!$H$2,\"\")","v":""},{"$f":"IF(Jogo!I910=Conferência!$I$2,Conferência!$I$2,\"\")","v":""},{"$f":"IF(Jogo!J910=Conferência!$J$2,Conferência!$J$2,\"\")","v":""},{"$f":"IF(Jogo!K910=Conferência!$K$2,Conferência!$K$2,\"\")","v":""},{"$f":"IF(Jogo!L910=Conferência!$L$2,Conferência!$L$2,\"\")","v":""},{"$f":"IF(Jogo!M910=Conferência!$M$2,Conferência!$M$2,\"\")","v":""},{"$f":"IF(Jogo!N910=Conferência!$N$2,Conferência!$N$2,\"\")","v":""},{"$f":"IF(Jogo!O910=Conferência!$O$2,Conferência!$O$2,\"\")","v":""},{"$f":"IF(Jogo!P910=Conferência!$P$2,Conferência!$P$2,\"\")","v":""},{"$f":"IF(Jogo!Q910=Conferência!$Q$2,Conferência!$Q$2,\"\")","v":""},""]
[{"$f":"IF(Jogo!A911=Conferência!$A$2,Conferência!$A$2,\"\")","v":""},{"$f":"IF(Jogo!B911=Conferência!$B$2,Conferência!$B$2,\"\")","v":""},{"$f":"IF(Jogo!C911=Conferência!$C$2,Conferência!$C$2,\"\")","v":""},{"$f":"IF(Jogo!D911=Conferência!$D$2,Conferência!$D$2,\"\")","v":""},{"$f":"IF(Jogo!E911=Conferência!$E$2,Conferência!$E$2,\"\")","v":""},{"$f":"IF(Jogo!F911=Conferência!$F$2,Conferência!$F$2,\"\")","v":""},{"$f":"IF(Jogo!G911=Conferência!$G$2,Conferência!$G$2,\"\")","v":""},{"$f":"IF(Jogo!H911=Conferência!$H$2,Conferência!$H$2,\"\")","v":""},{"$f":"IF(Jogo!I911=Conferência!$I$2,Conferência!$I$2,\"\")","v":""},{"$f":"IF(Jogo!J911=Conferência!$J$2,Conferência!$J$2,\"\")","v":""},{"$f":"IF(Jogo!K911=Conferência!$K$2,Conferência!$K$2,\"\")","v":""},{"$f":"IF(Jogo!L911=Conferência!$L$2,Conferência!$L$2,\"\")","v":""},{"$f":"IF(Jogo!M911=Conferência!$M$2,Conferência!$M$2,\"\")","v":""},{"$f":"IF(Jogo!N911=Conferência!$N$2,Conferência!$N$2,\"\")","v":""},{"$f":"IF(Jogo!O911=Conferência!$O$2,Conferência!$O$2,\"\")","v":""},{"$f":"IF(Jogo!P911=Conferência!$P$2,Conferência!$P$2,\"\")","v":""},{"$f":"IF(Jogo!Q911=Conferência!$Q$2,Conferência!$Q$2,\"\")","v":""},""]
[{"$f":"IF(Jogo!A912=Conferência!$A$2,Conferência!$A$2,\"\")","v":""},{"$f":"IF(Jogo!B912=Conferência!$B$2,Conferência!$B$2,\"\")","v":""},{"$f":"IF(Jogo!C912=Conferência!$C$2,Conferência!$C$2,\"\")","v":""},{"$f":"IF(Jogo!D912=Conferência!$D$2,Conferência!$D$2,\"\")","v":""},{"$f":"IF(Jogo!E912=Conferência!$E$2,Conferência!$E$2,\"\")","v":""},{"$f":"IF(Jogo!F912=Conferência!$F$2,Conferência!$F$2,\"\")","v":""},{"$f":"IF(Jogo!G912=Conferência!$G$2,Conferência!$G$2,\"\")","v":""},{"$f":"IF(Jogo!H912=Conferência!$H$2,Conferência!$H$2,\"\")","v":""},{"$f":"IF(Jogo!I912=Conferência!$I$2,Conferência!$I$2,\"\")","v":""},{"$f":"IF(Jogo!J912=Conferência!$J$2,Conferência!$J$2,\"\")","v":""},{"$f":"IF(Jogo!K912=Conferência!$K$2,Conferência!$K$2,\"\")","v":""},{"$f":"IF(Jogo!L912=Conferência!$L$2,Conferência!$L$2,\"\")","v":""},{"$f":"IF(Jogo!M912=Conferência!$M$2,Conferência!$M$2,\"\")","v":""},{"$f":"IF(Jogo!N912=Conferência!$N$2,Conferência!$N$2,\"\")","v":""},{"$f":"IF(Jogo!O912=Conferência!$O$2,Conferência!$O$2,\"\")","v":""},{"$f":"IF(Jogo!P912=Conferência!$P$2,Conferência!$P$2,\"\")","v":""},{"$f":"IF(Jogo!Q912=Conferência!$Q$2,Conferência!$Q$2,\"\")","v":""},""]
[{"$f":"IF(Jogo!A913=Conferência!$A$2,Conferência!$A$2,\"\")","v":""},{"$f":"IF(Jogo!B913=Conferência!$B$2,Conferência!$B$2,\"\")","v":""},{"$f":"IF(Jogo!C913=Conferência!$C$2,Conferência!$C$2,\"\")","v":""},{"$f":"IF(Jogo!D913=Conferência!$D$2,Conferência!$D$2,\"\")","v":""},{"$f":"IF(Jogo!E913=Conferência!$E$2,Conferência!$E$2,\"\")","v":""},{"$f":"IF(Jogo!F913=Conferência!$F$2,Conferência!$F$2,\"\")","v":""},{"$f":"IF(Jogo!G913=Conferência!$G$2,Conferência!$G$2,\"\")","v":""},{"$f":"IF(Jogo!H913=Conferência!$H$2,Conferência!$H$2,\"\")","v":""},{"$f":"IF(Jogo!I913=Conferência!$I$2,Conferência!$I$2,\"\")","v":""},{"$f":"IF(Jogo!J913=Conferência!$J$2,Conferência!$J$2,\"\")","v":""},{"$f":"IF(Jogo!K913=Conferência!$K$2,Conferência!$K$2,\"\")","v":""},{"$f":"IF(Jogo!L913=Conferência!$L$2,Conferência!$L$2,\"\")","v":""},{"$f":"IF(Jogo!M913=Conferência!$M$2,Conferência!$M$2,\"\")","v":""},{"$f":"IF(Jogo!N913=Conferência!$N$2,Conferência!$N$2,\"\")","v":""},{"$f":"IF(Jogo!O913=Conferência!$O$2,Conferência!$O$2,\"\")","v":""},{"$f":"IF(Jogo!P913=Conferência!$P$2,Conferência!$P$2,\"\")","v":""},{"$f":"IF(Jogo!Q913=Conferência!$Q$2,Conferência!$Q$2,\"\")","v":""},""]
[{"$f":"IF(Jogo!A914=Conferência!$A$2,Conferência!$A$2,\"\")","v":""},{"$f":"IF(Jogo!B914=Conferência!$B$2,Conferência!$B$2,\"\")","v":""},{"$f":"IF(Jogo!C914=Conferência!$C$2,Conferência!$C$2,\"\")","v":""},{"$f":"IF(Jogo!D914=Conferência!$D$2,Conferência!$D$2,\"\")","v":""},{"$f":"IF(Jogo!E914=Conferência!$E$2,Conferência!$E$2,\"\")","v":""},{"$f":"IF(Jogo!F914=Conferência!$F$2,Conferência!$F$2,\"\")","v":""},{"$f":"IF(Jogo!G914=Conferência!$G$2,Conferência!$G$2,\"\")","v":""},{"$f":"IF(Jogo!H914=Conferência!$H$2,Conferência!$H$2,\"\")","v":""},{"$f":"IF(Jogo!I914=Conferência!$I$2,Conferência!$I$2,\"\")","v":""},{"$f":"IF(Jogo!J914=Conferência!$J$2,Conferência!$J$2,\"\")","v":""},{"$f":"IF(Jogo!K914=Conferência!$K$2,Conferência!$K$2,\"\")","v":""},{"$f":"IF(Jogo!L914=Conferência!$L$2,Conferência!$L$2,\"\")","v":""},{"$f":"IF(Jogo!M914=Conferência!$M$2,Conferência!$M$2,\"\")","v":""},{"$f":"IF(Jogo!N914=Conferência!$N$2,Conferência!$N$2,\"\")","v":""},{"$f":"IF(Jogo!O914=Conferência!$O$2,Conferência!$O$2,\"\")","v":""},{"$f":"IF(Jogo!P914=Conferência!$P$2,Conferência!$P$2,\"\")","v":""},{"$f":"IF(Jogo!Q914=Conferência!$Q$2,Conferência!$Q$2,\"\")","v":""},{"$f":"IF(A914=\"\",\"\",\"OK\")","v":""}]
[{"$f":"IF(Jogo!A915=Conferência!$A$2,Conferência!$A$2,\"\")","v":""},{"$f":"IF(Jogo!B915=Conferência!$B$2,Conferência!$B$2,\"\")","v":""},{"$f":"IF(Jogo!C915=Conferência!$C$2,Conferência!$C$2,\"\")","v":""},{"$f":"IF(Jogo!D915=Conferência!$D$2,Conferência!$D$2,\"\")","v":""},{"$f":"IF(Jogo!E915=Conferência!$E$2,Conferência!$E$2,\"\")","v":""},{"$f":"IF(Jogo!F915=Conferência!$F$2,Conferência!$F$2,\"\")","v":""},{"$f":"IF(Jogo!G915=Conferência!$G$2,Conferência!$G$2,\"\")","v":""},{"$f":"IF(Jogo!H915=Conferência!$H$2,Conferência!$H$2,\"\")","v":""},{"$f":"IF(Jogo!I915=Conferência!$I$2,Conferência!$I$2,\"\")","v":""},{"$f":"IF(Jogo!J915=Conferência!$J$2,Conferência!$J$2,\"\")","v":""},{"$f":"IF(Jogo!K915=Conferência!$K$2,Conferência!$K$2,\"\")","v":""},{"$f":"IF(Jogo!L915=Conferência!$L$2,Conferência!$L$2,\"\")","v":""},{"$f":"IF(Jogo!M915=Conferência!$M$2,Conferência!$M$2,\"\")","v":""},{"$f":"IF(Jogo!N915=Conferência!$N$2,Conferência!$N$2,\"\")","v":""},{"$f":"IF(Jogo!O915=Conferência!$O$2,Conferência!$O$2,\"\")","v":""},{"$f":"IF(Jogo!P915=Conferência!$P$2,Conferência!$P$2,\"\")","v":""},{"$f":"IF(Jogo!Q915=Conferência!$Q$2,Conferência!$Q$2,\"\")","v":""},""]
[{"$f":"IF(Jogo!A916=Conferência!$A$2,Conferência!$A$2,\"\")","v":""},{"$f":"IF(Jogo!B916=Conferência!$B$2,Conferência!$B$2,\"\")","v":""},{"$f":"IF(Jogo!C916=Conferência!$C$2,Conferência!$C$2,\"\")","v":""},{"$f":"IF(Jogo!D916=Conferência!$D$2,Conferência!$D$2,\"\")","v":""},{"$f":"IF(Jogo!E916=Conferência!$E$2,Conferência!$E$2,\"\")","v":""},{"$f":"IF(Jogo!F916=Conferência!$F$2,Conferência!$F$2,\"\")","v":""},{"$f":"IF(Jogo!G916=Conferência!$G$2,Conferência!$G$2,\"\")","v":""},{"$f":"IF(Jogo!H916=Conferência!$H$2,Conferência!$H$2,\"\")","v":""},{"$f":"IF(Jogo!I916=Conferência!$I$2,Conferência!$I$2,\"\")","v":""},{"$f":"IF(Jogo!J916=Conferência!$J$2,Conferência!$J$2,\"\")","v":""},{"$f":"IF(Jogo!K916=Conferência!$K$2,Conferência!$K$2,\"\")","v":""},{"$f":"IF(Jogo!L916=Conferência!$L$2,Conferência!$L$2,\"\")","v":""},{"$f":"IF(Jogo!M916=Conferência!$M$2,Conferência!$M$2,\"\")","v":""},{"$f":"IF(Jogo!N916=Conferência!$N$2,Conferência!$N$2,\"\")","v":""},{"$f":"IF(Jogo!O916=Conferência!$O$2,Conferência!$O$2,\"\")","v":""},{"$f":"IF(Jogo!P916=Conferência!$P$2,Conferência!$P$2,\"\")","v":""},{"$f":"IF(Jogo!Q916=Conferência!$Q$2,Conferência!$Q$2,\"\")","v":""},""]
[{"$f":"IF(Jogo!A917=Conferência!$A$2,Conferência!$A$2,\"\")","v":""},{"$f":"IF(Jogo!B917=Conferência!$B$2,Conferência!$B$2,\"\")","v":""},{"$f":"IF(Jogo!C917=Conferência!$C$2,Conferência!$C$2,\"\")","v":""},{"$f":"IF(Jogo!D917=Conferência!$D$2,Conferência!$D$2,\"\")","v":""},{"$f":"IF(Jogo!E917=Conferência!$E$2,Conferência!$E$2,\"\")","v":""},{"$f":"IF(Jogo!F917=Conferência!$F$2,Conferência!$F$2,\"\")","v":""},{"$f":"IF(Jogo!G917=Conferência!$G$2,Conferência!$G$2,\"\")","v":""},{"$f":"IF(Jogo!H917=Conferência!$H$2,Conferência!$H$2,\"\")","v":""},{"$f":"IF(Jogo!I917=Conferência!$I$2,Conferência!$I$2,\"\")","v":""},{"$f":"IF(Jogo!J917=Conferência!$J$2,Conferência!$J$2,\"\")","v":""},{"$f":"IF(Jogo!K917=Conferência!$K$2,Conferência!$K$2,\"\")","v":""},{"$f":"IF(Jogo!L917=Conferência!$L$2,Conferência!$L$2,\"\")","v":""},{"$f":"IF(Jogo!M917=Conferência!$M$2,Conferência!$M$2,\"\")","v":""},{"$f":"IF(Jogo!N917=Conferência!$N$2,Conferência!$N$2,\"\")","v":""},{"$f":"IF(Jogo!O917=Conferência!$O$2,Conferência!$O$2,\"\")","v":""},{"$f":"IF(Jogo!P917=Conferência!$P$2,Conferência!$P$2,\"\")","v":""},{"$f":"IF(Jogo!Q917=Conferência!$Q$2,Conferência!$Q$2,\"\")","v":""},""]
[{"$f":"IF(Jogo!A918=Conferência!$A$2,Conferência!$A$2,\"\")","v":""},{"$f":"IF(Jogo!B918=Conferência!$B$2,Conferência!$B$2,\"\")","v":""},{"$f":"IF(Jogo!C918=Conferência!$C$2,Conferência!$C$2,\"\")","v":""},{"$f":"IF(Jogo!D918=Conferência!$D$2,Conferência!$D$2,\"\")","v":""},{"$f":"IF(Jogo!E918=Conferência!$E$2,Conferência!$E$2,\"\")","v":""},{"$f":"IF(Jogo!F918=Conferência!$F$2,Conferência!$F$2,\"\")","v":""},{"$f":"IF(Jogo!G918=Conferência!$G$2,Conferência!$G$2,\"\")","v":""},{"$f":"IF(Jogo!H918=Conferência!$H$2,Conferência!$H$2,\"\")","v":""},{"$f":"IF(Jogo!I918=Conferência!$I$2,Conferência!$I$2,\"\")","v":""},{"$f":"IF(Jogo!J918=Conferência!$J$2,Conferência!$J$2,\"\")","v":""},{"$f":"IF(Jogo!K918=Conferência!$K$2,Conferência!$K$2,\"\")","v":""},{"$f":"IF(Jogo!L918=Conferência!$L$2,Conferência!$L$2,\"\")","v":""},{"$f":"IF(Jogo!M918=Conferência!$M$2,Conferência!$M$2,\"\")","v":""},{"$f":"IF(Jogo!N918=Conferência!$N$2,Conferência!$N$2,\"\")","v":""},{"$f":"IF(Jogo!O918=Conferência!$O$2,Conferência!$O$2,\"\")","v":""},{"$f":"IF(Jogo!P918=Conferência!$P$2,Conferência!$P$2,\"\")","v":""},{"$f":"IF(Jogo!Q918=Conferência!$Q$2,Conferência!$Q$2,\"\")","v":""},""]
[{"$f":"IF(Jogo!A919=Conferência!$A$2,Conferência!$A$2,\"\")","v":""},{"$f":"IF(Jogo!B919=Conferência!$B$2,Conferência!$B$2,\"\")","v":""},{"$f":"IF(Jogo!C919=Conferência!$C$2,Conferência!$C$2,\"\")","v":""},{"$f":"IF(Jogo!D919=Conferência!$D$2,Conferência!$D$2,\"\")","v":""},{"$f":"IF(Jogo!E919=Conferência!$E$2,Conferência!$E$2,\"\")","v":""},{"$f":"IF(Jogo!F919=Conferência!$F$2,Conferência!$F$2,\"\")","v":""},{"$f":"IF(Jogo!G919=Conferência!$G$2,Conferência!$G$2,\"\")","v":""},{"$f":"IF(Jogo!H919=Conferência!$H$2,Conferência!$H$2,\"\")","v":""},{"$f":"IF(Jogo!I919=Conferência!$I$2,Conferência!$I$2,\"\")","v":""},{"$f":"IF(Jogo!J919=Conferência!$J$2,Conferência!$J$2,\"\")","v":""},{"$f":"IF(Jogo!K919=Conferência!$K$2,Conferência!$K$2,\"\")","v":""},{"$f":"IF(Jogo!L919=Conferência!$L$2,Conferência!$L$2,\"\")","v":""},{"$f":"IF(Jogo!M919=Conferência!$M$2,Conferência!$M$2,\"\")","v":""},{"$f":"IF(Jogo!N919=Conferência!$N$2,Conferência!$N$2,\"\")","v":""},{"$f":"IF(Jogo!O919=Conferência!$O$2,Conferência!$O$2,\"\")","v":""},{"$f":"IF(Jogo!P919=Conferência!$P$2,Conferência!$P$2,\"\")","v":""},{"$f":"IF(Jogo!Q919=Conferência!$Q$2,Conferência!$Q$2,\"\")","v":""},""]
[{"$f":"IF(Jogo!A920=Conferência!$A$2,Conferência!$A$2,\"\")","v":""},{"$f":"IF(Jogo!B920=Conferência!$B$2,Conferência!$B$2,\"\")","v":""},{"$f":"IF(Jogo!C920=Conferência!$C$2,Conferência!$C$2,\"\")","v":""},{"$f":"IF(Jogo!D920=Conferência!$D$2,Conferência!$D$2,\"\")","v":""},{"$f":"IF(Jogo!E920=Conferência!$E$2,Conferência!$E$2,\"\")","v":""},{"$f":"IF(Jogo!F920=Conferência!$F$2,Conferência!$F$2,\"\")","v":""},{"$f":"IF(Jogo!G920=Conferência!$G$2,Conferência!$G$2,\"\")","v":""},{"$f":"IF(Jogo!H920=Conferência!$H$2,Conferência!$H$2,\"\")","v":""},{"$f":"IF(Jogo!I920=Conferência!$I$2,Conferência!$I$2,\"\")","v":""},{"$f":"IF(Jogo!J920=Conferência!$J$2,Conferência!$J$2,\"\")","v":""},{"$f":"IF(Jogo!K920=Conferência!$K$2,Conferência!$K$2,\"\")","v":""},{"$f":"IF(Jogo!L920=Conferência!$L$2,Conferência!$L$2,\"\")","v":""},{"$f":"IF(Jogo!M920=Conferência!$M$2,Conferência!$M$2,\"\")","v":""},{"$f":"IF(Jogo!N920=Conferência!$N$2,Conferência!$N$2,\"\")","v":""},{"$f":"IF(Jogo!O920=Conferência!$O$2,Conferência!$O$2,\"\")","v":""},{"$f":"IF(Jogo!P920=Conferência!$P$2,Conferência!$P$2,\"\")","v":""},{"$f":"IF(Jogo!Q920=Conferência!$Q$2,Conferência!$Q$2,\"\")","v":""},""]
[{"$f":"IF(Jogo!A921=Conferência!$A$2,Conferência!$A$2,\"\")","v":""},{"$f":"IF(Jogo!B921=Conferência!$B$2,Conferência!$B$2,\"\")","v":""},{"$f":"IF(Jogo!C921=Conferência!$C$2,Conferência!$C$2,\"\")","v":""},{"$f":"IF(Jogo!D921=Conferência!$D$2,Conferência!$D$2,\"\")","v":""},{"$f":"IF(Jogo!E921=Conferência!$E$2,Conferência!$E$2,\"\")","v":""},{"$f":"IF(Jogo!F921=Conferência!$F$2,Conferência!$F$2,\"\")","v":""},{"$f":"IF(Jogo!G921=Conferência!$G$2,Conferência!$G$2,\"\")","v":""},{"$f":"IF(Jogo!H921=Conferência!$H$2,Conferência!$H$2,\"\")","v":""},{"$f":"IF(Jogo!I921=Conferência!$I$2,Conferência!$I$2,\"\")","v":""},{"$f":"IF(Jogo!J921=Conferência!$J$2,Conferência!$J$2,\"\")","v":""},{"$f":"IF(Jogo!K921=Conferência!$K$2,Conferência!$K$2,\"\")","v":""},{"$f":"IF(Jogo!L921=Conferência!$L$2,Conferência!$L$2,\"\")","v":""},{"$f":"IF(Jogo!M921=Conferência!$M$2,Conferência!$M$2,\"\")","v":""},{"$f":"IF(Jogo!N921=Conferência!$N$2,Conferência!$N$2,\"\")","v":""},{"$f":"IF(Jogo!O921=Conferência!$O$2,Conferência!$O$2,\"\")","v":""},{"$f":"IF(Jogo!P921=Conferência!$P$2,Conferência!$P$2,\"\")","v":""},{"$f":"IF(Jogo!Q921=Conferência!$Q$2,Conferência!$Q$2,\"\")","v":""},""]
[{"$f":"IF(Jogo!A922=Conferência!$A$2,Conferência!$A$2,\"\")","v":""},{"$f":"IF(Jogo!B922=Conferência!$B$2,Conferência!$B$2,\"\")","v":""},{"$f":"IF(Jogo!C922=Conferência!$C$2,Conferência!$C$2,\"\")","v":""},{"$f":"IF(Jogo!D922=Conferência!$D$2,Conferência!$D$2,\"\")","v":""},{"$f":"IF(Jogo!E922=Conferência!$E$2,Conferência!$E$2,\"\")","v":""},{"$f":"IF(Jogo!F922=Conferência!$F$2,Conferência!$F$2,\"\")","v":""},{"$f":"IF(Jogo!G922=Conferência!$G$2,Conferência!$G$2,\"\")","v":""},{"$f":"IF(Jogo!H922=Conferência!$H$2,Conferência!$H$2,\"\")","v":""},{"$f":"IF(Jogo!I922=Conferência!$I$2,Conferência!$I$2,\"\")","v":""},{"$f":"IF(Jogo!J922=Conferência!$J$2,Conferência!$J$2,\"\")","v":""},{"$f":"IF(Jogo!K922=Conferência!$K$2,Conferência!$K$2,\"\")","v":""},{"$f":"IF(Jogo!L922=Conferência!$L$2,Conferência!$L$2,\"\")","v":""},{"$f":"IF(Jogo!M922=Conferência!$M$2,Conferência!$M$2,\"\")","v":""},{"$f":"IF(Jogo!N922=Conferência!$N$2,Conferência!$N$2,\"\")","v":""},{"$f":"IF(Jogo!O922=Conferência!$O$2,Conferência!$O$2,\"\")","v":""},{"$f":"IF(Jogo!P922=Conferência!$P$2,Conferência!$P$2,\"\")","v":""},{"$f":"IF(Jogo!Q922=Conferência!$Q$2,Conferência!$Q$2,\"\")","v":""},""]
[{"$f":"IF(Jogo!A923=Conferência!$A$2,Conferência!$A$2,\"\")","v":""},{"$f":"IF(Jogo!B923=Conferência!$B$2,Conferência!$B$2,\"\")","v":""},{"$f":"IF(Jogo!C923=Conferência!$C$2,Conferência!$C$2,\"\")","v":""},{"$f":"IF(Jogo!D923=Conferência!$D$2,Conferência!$D$2,\"\")","v":""},{"$f":"IF(Jogo!E923=Conferência!$E$2,Conferência!$E$2,\"\")","v":""},{"$f":"IF(Jogo!F923=Conferência!$F$2,Conferência!$F$2,\"\")","v":""},{"$f":"IF(Jogo!G923=Conferência!$G$2,Conferência!$G$2,\"\")","v":""},{"$f":"IF(Jogo!H923=Conferência!$H$2,Conferência!$H$2,\"\")","v":""},{"$f":"IF(Jogo!I923=Conferência!$I$2,Conferência!$I$2,\"\")","v":""},{"$f":"IF(Jogo!J923=Conferência!$J$2,Conferência!$J$2,\"\")","v":""},{"$f":"IF(Jogo!K923=Conferência!$K$2,Conferência!$K$2,\"\")","v":""},{"$f":"IF(Jogo!L923=Conferência!$L$2,Conferência!$L$2,\"\")","v":""},{"$f":"IF(Jogo!M923=Conferência!$M$2,Conferência!$M$2,\"\")","v":""},{"$f":"IF(Jogo!N923=Conferência!$N$2,Conferência!$N$2,\"\")","v":""},{"$f":"IF(Jogo!O923=Conferência!$O$2,Conferência!$O$2,\"\")","v":""},{"$f":"IF(Jogo!P923=Conferência!$P$2,Conferência!$P$2,\"\")","v":""},{"$f":"IF(Jogo!Q923=Conferência!$Q$2,Conferência!$Q$2,\"\")","v":""},""]
[{"$f":"IF(Jogo!A924=Conferência!$A$2,Conferência!$A$2,\"\")","v":""},{"$f":"IF(Jogo!B924=Conferência!$B$2,Conferência!$B$2,\"\")","v":""},{"$f":"IF(Jogo!C924=Conferência!$C$2,Conferência!$C$2,\"\")","v":""},{"$f":"IF(Jogo!D924=Conferência!$D$2,Conferência!$D$2,\"\")","v":""},{"$f":"IF(Jogo!E924=Conferência!$E$2,Conferência!$E$2,\"\")","v":""},{"$f":"IF(Jogo!F924=Conferência!$F$2,Conferência!$F$2,\"\")","v":""},{"$f":"IF(Jogo!G924=Conferência!$G$2,Conferência!$G$2,\"\")","v":""},{"$f":"IF(Jogo!H924=Conferência!$H$2,Conferência!$H$2,\"\")","v":""},{"$f":"IF(Jogo!I924=Conferência!$I$2,Conferência!$I$2,\"\")","v":""},{"$f":"IF(Jogo!J924=Conferência!$J$2,Conferência!$J$2,\"\")","v":""},{"$f":"IF(Jogo!K924=Conferência!$K$2,Conferência!$K$2,\"\")","v":""},{"$f":"IF(Jogo!L924=Conferência!$L$2,Conferência!$L$2,\"\")","v":""},{"$f":"IF(Jogo!M924=Conferência!$M$2,Conferência!$M$2,\"\")","v":""},{"$f":"IF(Jogo!N924=Conferência!$N$2,Conferência!$N$2,\"\")","v":""},{"$f":"IF(Jogo!O924=Conferência!$O$2,Conferência!$O$2,\"\")","v":""},{"$f":"IF(Jogo!P924=Conferência!$P$2,Conferência!$P$2,\"\")","v":""},{"$f":"IF(Jogo!Q924=Conferência!$Q$2,Conferência!$Q$2,\"\")","v":""},""]
[{"$f":"IF(Jogo!A925=Conferência!$A$2,Conferência!$A$2,\"\")","v":""},{"$f":"IF(Jogo!B925=Conferência!$B$2,Conferência!$B$2,\"\")","v":""},{"$f":"IF(Jogo!C925=Conferência!$C$2,Conferência!$C$2,\"\")","v":""},{"$f":"IF(Jogo!D925=Conferência!$D$2,Conferência!$D$2,\"\")","v":""},{"$f":"IF(Jogo!E925=Conferência!$E$2,Conferência!$E$2,\"\")","v":""},{"$f":"IF(Jogo!F925=Conferência!$F$2,Conferência!$F$2,\"\")","v":""},{"$f":"IF(Jogo!G925=Conferência!$G$2,Conferência!$G$2,\"\")","v":""},{"$f":"IF(Jogo!H925=Conferência!$H$2,Conferência!$H$2,\"\")","v":""},{"$f":"IF(Jogo!I925=Conferência!$I$2,Conferência!$I$2,\"\")","v":""},{"$f":"IF(Jogo!J925=Conferência!$J$2,Conferência!$J$2,\"\")","v":""},{"$f":"IF(Jogo!K925=Conferência!$K$2,Conferência!$K$2,\"\")","v":""},{"$f":"IF(Jogo!L925=Conferência!$L$2,Conferência!$L$2,\"\")","v":""},{"$f":"IF(Jogo!M925=Conferência!$M$2,Conferência!$M$2,\"\")","v":""},{"$f":"IF(Jogo!N925=Conferência!$N$2,Conferência!$N$2,\"\")","v":""},{"$f":"IF(Jogo!O925=Conferência!$O$2,Conferência!$O$2,\"\")","v":""},{"$f":"IF(Jogo!P925=Conferência!$P$2,Conferência!$P$2,\"\")","v":""},{"$f":"IF(Jogo!Q925=Conferência!$Q$2,Conferência!$Q$2,\"\")","v":""},""]
[{"$f":"IF(Jogo!A926=Conferência!$A$2,Conferência!$A$2,\"\")","v":""},{"$f":"IF(Jogo!B926=Conferência!$B$2,Conferência!$B$2,\"\")","v":""},{"$f":"IF(Jogo!C926=Conferência!$C$2,Conferência!$C$2,\"\")","v":""},{"$f":"IF(Jogo!D926=Conferência!$D$2,Conferência!$D$2,\"\")","v":""},{"$f":"IF(Jogo!E926=Conferência!$E$2,Conferência!$E$2,\"\")","v":""},{"$f":"IF(Jogo!F926=Conferência!$F$2,Conferência!$F$2,\"\")","v":""},{"$f":"IF(Jogo!G926=Conferência!$G$2,Conferência!$G$2,\"\")","v":""},{"$f":"IF(Jogo!H926=Conferência!$H$2,Conferência!$H$2,\"\")","v":""},{"$f":"IF(Jogo!I926=Conferência!$I$2,Conferência!$I$2,\"\")","v":""},{"$f":"IF(Jogo!J926=Conferência!$J$2,Conferência!$J$2,\"\")","v":""},{"$f":"IF(Jogo!K926=Conferência!$K$2,Conferência!$K$2,\"\")","v":""},{"$f":"IF(Jogo!L926=Conferência!$L$2,Conferência!$L$2,\"\")","v":""},{"$f":"IF(Jogo!M926=Conferência!$M$2,Conferência!$M$2,\"\")","v":""},{"$f":"IF(Jogo!N926=Conferência!$N$2,Conferência!$N$2,\"\")","v":""},{"$f":"IF(Jogo!O926=Conferência!$O$2,Conferência!$O$2,\"\")","v":""},{"$f":"IF(Jogo!P926=Conferência!$P$2,Conferência!$P$2,\"\")","v":""},{"$f":"IF(Jogo!Q926=Conferência!$Q$2,Conferência!$Q$2,\"\")","v":""},""]
[{"$f":"IF(Jogo!A927=Conferência!$A$2,Conferência!$A$2,\"\")","v":""},{"$f":"IF(Jogo!B927=Conferência!$B$2,Conferência!$B$2,\"\")","v":""},{"$f":"IF(Jogo!C927=Conferência!$C$2,Conferência!$C$2,\"\")","v":""},{"$f":"IF(Jogo!D927=Conferência!$D$2,Conferência!$D$2,\"\")","v":""},{"$f":"IF(Jogo!E927=Conferência!$E$2,Conferência!$E$2,\"\")","v":""},{"$f":"IF(Jogo!F927=Conferência!$F$2,Conferência!$F$2,\"\")","v":""},{"$f":"IF(Jogo!G927=Conferência!$G$2,Conferência!$G$2,\"\")","v":""},{"$f":"IF(Jogo!H927=Conferência!$H$2,Conferência!$H$2,\"\")","v":""},{"$f":"IF(Jogo!I927=Conferência!$I$2,Conferência!$I$2,\"\")","v":""},{"$f":"IF(Jogo!J927=Conferência!$J$2,Conferência!$J$2,\"\")","v":""},{"$f":"IF(Jogo!K927=Conferência!$K$2,Conferência!$K$2,\"\")","v":""},{"$f":"IF(Jogo!L927=Conferência!$L$2,Conferência!$L$2,\"\")","v":""},{"$f":"IF(Jogo!M927=Conferência!$M$2,Conferência!$M$2,\"\")","v":""},{"$f":"IF(Jogo!N927=Conferência!$N$2,Conferência!$N$2,\"\")","v":""},{"$f":"IF(Jogo!O927=Conferência!$O$2,Conferência!$O$2,\"\")","v":""},{"$f":"IF(Jogo!P927=Conferência!$P$2,Conferência!$P$2,\"\")","v":""},{"$f":"IF(Jogo!Q927=Conferência!$Q$2,Conferência!$Q$2,\"\")","v":""},""]
[{"$f":"IF(Jogo!A928=Conferência!$A$2,Conferência!$A$2,\"\")","v":""},{"$f":"IF(Jogo!B928=Conferência!$B$2,Conferência!$B$2,\"\")","v":""},{"$f":"IF(Jogo!C928=Conferência!$C$2,Conferência!$C$2,\"\")","v":""},{"$f":"IF(Jogo!D928=Conferência!$D$2,Conferência!$D$2,\"\")","v":""},{"$f":"IF(Jogo!E928=Conferência!$E$2,Conferência!$E$2,\"\")","v":""},{"$f":"IF(Jogo!F928=Conferência!$F$2,Conferência!$F$2,\"\")","v":""},{"$f":"IF(Jogo!G928=Conferência!$G$2,Conferência!$G$2,\"\")","v":""},{"$f":"IF(Jogo!H928=Conferência!$H$2,Conferência!$H$2,\"\")","v":""},{"$f":"IF(Jogo!I928=Conferência!$I$2,Conferência!$I$2,\"\")","v":""},{"$f":"IF(Jogo!J928=Conferência!$J$2,Conferência!$J$2,\"\")","v":""},{"$f":"IF(Jogo!K928=Conferência!$K$2,Conferência!$K$2,\"\")","v":""},{"$f":"IF(Jogo!L928=Conferência!$L$2,Conferência!$L$2,\"\")","v":""},{"$f":"IF(Jogo!M928=Conferência!$M$2,Conferência!$M$2,\"\")","v":""},{"$f":"IF(Jogo!N928=Conferência!$N$2,Conferência!$N$2,\"\")","v":""},{"$f":"IF(Jogo!O928=Conferência!$O$2,Conferência!$O$2,\"\")","v":""},{"$f":"IF(Jogo!P928=Conferência!$P$2,Conferência!$P$2,\"\")","v":""},{"$f":"IF(Jogo!Q928=Conferência!$Q$2,Conferência!$Q$2,\"\")","v":""},""]
[{"$f":"IF(Jogo!A929=Conferência!$A$2,Conferência!$A$2,\"\")","v":""},{"$f":"IF(Jogo!B929=Conferência!$B$2,Conferência!$B$2,\"\")","v":""},{"$f":"IF(Jogo!C929=Conferência!$C$2,Conferência!$C$2,\"\")","v":""},{"$f":"IF(Jogo!D929=Conferência!$D$2,Conferência!$D$2,\"\")","v":""},{"$f":"IF(Jogo!E929=Conferência!$E$2,Conferência!$E$2,\"\")","v":""},{"$f":"IF(Jogo!F929=Conferência!$F$2,Conferência!$F$2,\"\")","v":""},{"$f":"IF(Jogo!G929=Conferência!$G$2,Conferência!$G$2,\"\")","v":""},{"$f":"IF(Jogo!H929=Conferência!$H$2,Conferência!$H$2,\"\")","v":""},{"$f":"IF(Jogo!I929=Conferência!$I$2,Conferência!$I$2,\"\")","v":""},{"$f":"IF(Jogo!J929=Conferência!$J$2,Conferência!$J$2,\"\")","v":""},{"$f":"IF(Jogo!K929=Conferência!$K$2,Conferência!$K$2,\"\")","v":""},{"$f":"IF(Jogo!L929=Conferência!$L$2,Conferência!$L$2,\"\")","v":""},{"$f":"IF(Jogo!M929=Conferência!$M$2,Conferência!$M$2,\"\")","v":""},{"$f":"IF(Jogo!N929=Conferência!$N$2,Conferência!$N$2,\"\")","v":""},{"$f":"IF(Jogo!O929=Conferência!$O$2,Conferência!$O$2,\"\")","v":""},{"$f":"IF(Jogo!P929=Conferência!$P$2,Conferência!$P$2,\"\")","v":""},{"$f":"IF(Jogo!Q929=Conferência!$Q$2,Conferência!$Q$2,\"\")","v":""},""]
[{"$f":"IF(Jogo!A930=Conferência!$A$2,Conferência!$A$2,\"\")","v":""},{"$f":"IF(Jogo!B930=Conferência!$B$2,Conferência!$B$2,\"\")","v":""},{"$f":"IF(Jogo!C930=Conferência!$C$2,Conferência!$C$2,\"\")","v":""},{"$f":"IF(Jogo!D930=Conferência!$D$2,Conferência!$D$2,\"\")","v":""},{"$f":"IF(Jogo!E930=Conferência!$E$2,Conferência!$E$2,\"\")","v":""},{"$f":"IF(Jogo!F930=Conferência!$F$2,Conferência!$F$2,\"\")","v":""},{"$f":"IF(Jogo!G930=Conferência!$G$2,Conferência!$G$2,\"\")","v":""},{"$f":"IF(Jogo!H930=Conferência!$H$2,Conferência!$H$2,\"\")","v":""},{"$f":"IF(Jogo!I930=Conferência!$I$2,Conferência!$I$2,\"\")","v":""},{"$f":"IF(Jogo!J930=Conferência!$J$2,Conferência!$J$2,\"\")","v":""},{"$f":"IF(Jogo!K930=Conferência!$K$2,Conferência!$K$2,\"\")","v":""},{"$f":"IF(Jogo!L930=Conferência!$L$2,Conferência!$L$2,\"\")","v":""},{"$f":"IF(Jogo!M930=Conferência!$M$2,Conferência!$M$2,\"\")","v":""},{"$f":"IF(Jogo!N930=Conferência!$N$2,Conferência!$N$2,\"\")","v":""},{"$f":"IF(Jogo!O930=Conferência!$O$2,Conferência!$O$2,\"\")","v":""},{"$f":"IF(Jogo!P930=Conferência!$P$2,Conferência!$P$2,\"\")","v":""},{"$f":"IF(Jogo!Q930=Conferência!$Q$2,Conferência!$Q$2,\"\")","v":""},""]
[{"$f":"IF(Jogo!A931=Conferência!$A$2,Conferência!$A$2,\"\")","v":""},{"$f":"IF(Jogo!B931=Conferência!$B$2,Conferência!$B$2,\"\")","v":""},{"$f":"IF(Jogo!C931=Conferência!$C$2,Conferência!$C$2,\"\")","v":""},{"$f":"IF(Jogo!D931=Conferência!$D$2,Conferência!$D$2,\"\")","v":""},{"$f":"IF(Jogo!E931=Conferência!$E$2,Conferência!$E$2,\"\")","v":""},{"$f":"IF(Jogo!F931=Conferência!$F$2,Conferência!$F$2,\"\")","v":""},{"$f":"IF(Jogo!G931=Conferência!$G$2,Conferência!$G$2,\"\")","v":""},{"$f":"IF(Jogo!H931=Conferência!$H$2,Conferência!$H$2,\"\")","v":""},{"$f":"IF(Jogo!I931=Conferência!$I$2,Conferência!$I$2,\"\")","v":""},{"$f":"IF(Jogo!J931=Conferência!$J$2,Conferência!$J$2,\"\")","v":""},{"$f":"IF(Jogo!K931=Conferência!$K$2,Conferência!$K$2,\"\")","v":""},{"$f":"IF(Jogo!L931=Conferência!$L$2,Conferência!$L$2,\"\")","v":""},{"$f":"IF(Jogo!M931=Conferência!$M$2,Conferência!$M$2,\"\")","v":""},{"$f":"IF(Jogo!N931=Conferência!$N$2,Conferência!$N$2,\"\")","v":""},{"$f":"IF(Jogo!O931=Conferência!$O$2,Conferência!$O$2,\"\")","v":""},{"$f":"IF(Jogo!P931=Conferência!$P$2,Conferência!$P$2,\"\")","v":""},{"$f":"IF(Jogo!Q931=Conferência!$Q$2,Conferência!$Q$2,\"\")","v":""},""]
[{"$f":"IF(Jogo!A932=Conferência!$A$2,Conferência!$A$2,\"\")","v":""},{"$f":"IF(Jogo!B932=Conferência!$B$2,Conferência!$B$2,\"\")","v":""},{"$f":"IF(Jogo!C932=Conferência!$C$2,Conferência!$C$2,\"\")","v":""},{"$f":"IF(Jogo!D932=Conferência!$D$2,Conferência!$D$2,\"\")","v":""},{"$f":"IF(Jogo!E932=Conferência!$E$2,Conferência!$E$2,\"\")","v":""},{"$f":"IF(Jogo!F932=Conferência!$F$2,Conferência!$F$2,\"\")","v":""},{"$f":"IF(Jogo!G932=Conferência!$G$2,Conferência!$G$2,\"\")","v":""},{"$f":"IF(Jogo!H932=Conferência!$H$2,Conferência!$H$2,\"\")","v":""},{"$f":"IF(Jogo!I932=Conferência!$I$2,Conferência!$I$2,\"\")","v":""},{"$f":"IF(Jogo!J932=Conferência!$J$2,Conferência!$J$2,\"\")","v":""},{"$f":"IF(Jogo!K932=Conferência!$K$2,Conferência!$K$2,\"\")","v":""},{"$f":"IF(Jogo!L932=Conferência!$L$2,Conferência!$L$2,\"\")","v":""},{"$f":"IF(Jogo!M932=Conferência!$M$2,Conferência!$M$2,\"\")","v":""},{"$f":"IF(Jogo!N932=Conferência!$N$2,Conferência!$N$2,\"\")","v":""},{"$f":"IF(Jogo!O932=Conferência!$O$2,Conferência!$O$2,\"\")","v":""},{"$f":"IF(Jogo!P932=Conferência!$P$2,Conferência!$P$2,\"\")","v":""},{"$f":"IF(Jogo!Q932=Conferência!$Q$2,Conferência!$Q$2,\"\")","v":""},""]
[{"$f":"IF(Jogo!A933=Conferência!$A$2,Conferência!$A$2,\"\")","v":""},{"$f":"IF(Jogo!B933=Conferência!$B$2,Conferência!$B$2,\"\")","v":""},{"$f":"IF(Jogo!C933=Conferência!$C$2,Conferência!$C$2,\"\")","v":""},{"$f":"IF(Jogo!D933=Conferência!$D$2,Conferência!$D$2,\"\")","v":""},{"$f":"IF(Jogo!E933=Conferência!$E$2,Conferência!$E$2,\"\")","v":""},{"$f":"IF(Jogo!F933=Conferência!$F$2,Conferência!$F$2,\"\")","v":""},{"$f":"IF(Jogo!G933=Conferência!$G$2,Conferência!$G$2,\"\")","v":""},{"$f":"IF(Jogo!H933=Conferência!$H$2,Conferência!$H$2,\"\")","v":""},{"$f":"IF(Jogo!I933=Conferência!$I$2,Conferência!$I$2,\"\")","v":""},{"$f":"IF(Jogo!J933=Conferência!$J$2,Conferência!$J$2,\"\")","v":""},{"$f":"IF(Jogo!K933=Conferência!$K$2,Conferência!$K$2,\"\")","v":""},{"$f":"IF(Jogo!L933=Conferência!$L$2,Conferência!$L$2,\"\")","v":""},{"$f":"IF(Jogo!M933=Conferência!$M$2,Conferência!$M$2,\"\")","v":""},{"$f":"IF(Jogo!N933=Conferência!$N$2,Conferência!$N$2,\"\")","v":""},{"$f":"IF(Jogo!O933=Conferência!$O$2,Conferência!$O$2,\"\")","v":""},{"$f":"IF(Jogo!P933=Conferência!$P$2,Conferência!$P$2,\"\")","v":""},{"$f":"IF(Jogo!Q933=Conferência!$Q$2,Conferência!$Q$2,\"\")","v":""},""]
[{"$f":"IF(Jogo!A934=Conferência!$A$2,Conferência!$A$2,\"\")","v":""},{"$f":"IF(Jogo!B934=Conferência!$B$2,Conferência!$B$2,\"\")","v":""},{"$f":"IF(Jogo!C934=Conferência!$C$2,Conferência!$C$2,\"\")","v":""},{"$f":"IF(Jogo!D934=Conferência!$D$2,Conferência!$D$2,\"\")","v":""},{"$f":"IF(Jogo!E934=Conferência!$E$2,Conferência!$E$2,\"\")","v":""},{"$f":"IF(Jogo!F934=Conferência!$F$2,Conferência!$F$2,\"\")","v":""},{"$f":"IF(Jogo!G934=Conferência!$G$2,Conferência!$G$2,\"\")","v":""},{"$f":"IF(Jogo!H934=Conferência!$H$2,Conferência!$H$2,\"\")","v":""},{"$f":"IF(Jogo!I934=Conferência!$I$2,Conferência!$I$2,\"\")","v":""},{"$f":"IF(Jogo!J934=Conferência!$J$2,Conferência!$J$2,\"\")","v":""},{"$f":"IF(Jogo!K934=Conferência!$K$2,Conferência!$K$2,\"\")","v":""},{"$f":"IF(Jogo!L934=Conferência!$L$2,Conferência!$L$2,\"\")","v":""},{"$f":"IF(Jogo!M934=Conferência!$M$2,Conferência!$M$2,\"\")","v":""},{"$f":"IF(Jogo!N934=Conferência!$N$2,Conferência!$N$2,\"\")","v":""},{"$f":"IF(Jogo!O934=Conferência!$O$2,Conferência!$O$2,\"\")","v":""},{"$f":"IF(Jogo!P934=Conferência!$P$2,Conferência!$P$2,\"\")","v":""},{"$f":"IF(Jogo!Q934=Conferência!$Q$2,Conferência!$Q$2,\"\")","v":""},""]
[{"$f":"IF(Jogo!A935=Conferência!$A$2,Conferência!$A$2,\"\")","v":""},{"$f":"IF(Jogo!B935=Conferência!$B$2,Conferência!$B$2,\"\")","v":""},{"$f":"IF(Jogo!C935=Conferência!$C$2,Conferência!$C$2,\"\")","v":""},{"$f":"IF(Jogo!D935=Conferência!$D$2,Conferência!$D$2,\"\")","v":""},{"$f":"IF(Jogo!E935=Conferência!$E$2,Conferência!$E$2,\"\")","v":""},{"$f":"IF(Jogo!F935=Conferência!$F$2,Conferência!$F$2,\"\")","v":""},{"$f":"IF(Jogo!G935=Conferência!$G$2,Conferência!$G$2,\"\")","v":""},{"$f":"IF(Jogo!H935=Conferência!$H$2,Conferência!$H$2,\"\")","v":""},{"$f":"IF(Jogo!I935=Conferência!$I$2,Conferência!$I$2,\"\")","v":""},{"$f":"IF(Jogo!J935=Conferência!$J$2,Conferência!$J$2,\"\")","v":""},{"$f":"IF(Jogo!K935=Conferência!$K$2,Conferência!$K$2,\"\")","v":""},{"$f":"IF(Jogo!L935=Conferência!$L$2,Conferência!$L$2,\"\")","v":""},{"$f":"IF(Jogo!M935=Conferência!$M$2,Conferência!$M$2,\"\")","v":""},{"$f":"IF(Jogo!N935=Conferência!$N$2,Conferência!$N$2,\"\")","v":""},{"$f":"IF(Jogo!O935=Conferência!$O$2,Conferência!$O$2,\"\")","v":""},{"$f":"IF(Jogo!P935=Conferência!$P$2,Conferência!$P$2,\"\")","v":""},{"$f":"IF(Jogo!Q935=Conferência!$Q$2,Conferência!$Q$2,\"\")","v":""},""]
[{"$f":"IF(Jogo!A936=Conferência!$A$2,Conferência!$A$2,\"\")","v":""},{"$f":"IF(Jogo!B936=Conferência!$B$2,Conferência!$B$2,\"\")","v":""},{"$f":"IF(Jogo!C936=Conferência!$C$2,Conferência!$C$2,\"\")","v":""},{"$f":"IF(Jogo!D936=Conferência!$D$2,Conferência!$D$2,\"\")","v":""},{"$f":"IF(Jogo!E936=Conferência!$E$2,Conferência!$E$2,\"\")","v":""},{"$f":"IF(Jogo!F936=Conferência!$F$2,Conferência!$F$2,\"\")","v":""},{"$f":"IF(Jogo!G936=Conferência!$G$2,Conferência!$G$2,\"\")","v":""},{"$f":"IF(Jogo!H936=Conferência!$H$2,Conferência!$H$2,\"\")","v":""},{"$f":"IF(Jogo!I936=Conferência!$I$2,Conferência!$I$2,\"\")","v":""},{"$f":"IF(Jogo!J936=Conferência!$J$2,Conferência!$J$2,\"\")","v":""},{"$f":"IF(Jogo!K936=Conferência!$K$2,Conferência!$K$2,\"\")","v":""},{"$f":"IF(Jogo!L936=Conferência!$L$2,Conferência!$L$2,\"\")","v":""},{"$f":"IF(Jogo!M936=Conferência!$M$2,Conferência!$M$2,\"\")","v":""},{"$f":"IF(Jogo!N936=Conferência!$N$2,Conferência!$N$2,\"\")","v":""},{"$f":"IF(Jogo!O936=Conferência!$O$2,Conferência!$O$2,\"\")","v":""},{"$f":"IF(Jogo!P936=Conferência!$P$2,Conferência!$P$2,\"\")","v":""},{"$f":"IF(Jogo!Q936=Conferência!$Q$2,Conferência!$Q$2,\"\")","v":""},""]
[{"$f":"IF(Jogo!A937=Conferência!$A$2,Conferência!$A$2,\"\")","v":""},{"$f":"IF(Jogo!B937=Conferência!$B$2,Conferência!$B$2,\"\")","v":""},{"$f":"IF(Jogo!C937=Conferência!$C$2,Conferência!$C$2,\"\")","v":""},{"$f":"IF(Jogo!D937=Conferência!$D$2,Conferência!$D$2,\"\")","v":""},{"$f":"IF(Jogo!E937=Conferência!$E$2,Conferência!$E$2,\"\")","v":""},{"$f":"IF(Jogo!F937=Conferência!$F$2,Conferência!$F$2,\"\")","v":""},{"$f":"IF(Jogo!G937=Conferência!$G$2,Conferência!$G$2,\"\")","v":""},{"$f":"IF(Jogo!H937=Conferência!$H$2,Conferência!$H$2,\"\")","v":""},{"$f":"IF(Jogo!I937=Conferência!$I$2,Conferência!$I$2,\"\")","v":""},{"$f":"IF(Jogo!J937=Conferência!$J$2,Conferência!$J$2,\"\")","v":""},{"$f":"IF(Jogo!K937=Conferência!$K$2,Conferência!$K$2,\"\")","v":""},{"$f":"IF(Jogo!L937=Conferência!$L$2,Conferência!$L$2,\"\")","v":""},{"$f":"IF(Jogo!M937=Conferência!$M$2,Conferência!$M$2,\"\")","v":""},{"$f":"IF(Jogo!N937=Conferência!$N$2,Conferência!$N$2,\"\")","v":""},{"$f":"IF(Jogo!O937=Conferência!$O$2,Conferência!$O$2,\"\")","v":""},{"$f":"IF(Jogo!P937=Conferência!$P$2,Conferência!$P$2,\"\")","v":""},{"$f":"IF(Jogo!Q937=Conferência!$Q$2,Conferência!$Q$2,\"\")","v":""},""]
[{"$f":"IF(Jogo!A938=Conferência!$A$2,Conferência!$A$2,\"\")","v":""},{"$f":"IF(Jogo!B938=Conferência!$B$2,Conferência!$B$2,\"\")","v":""},{"$f":"IF(Jogo!C938=Conferência!$C$2,Conferência!$C$2,\"\")","v":""},{"$f":"IF(Jogo!D938=Conferência!$D$2,Conferência!$D$2,\"\")","v":""},{"$f":"IF(Jogo!E938=Conferência!$E$2,Conferência!$E$2,\"\")","v":""},{"$f":"IF(Jogo!F938=Conferência!$F$2,Conferência!$F$2,\"\")","v":""},{"$f":"IF(Jogo!G938=Conferência!$G$2,Conferência!$G$2,\"\")","v":""},{"$f":"IF(Jogo!H938=Conferência!$H$2,Conferência!$H$2,\"\")","v":""},{"$f":"IF(Jogo!I938=Conferência!$I$2,Conferência!$I$2,\"\")","v":""},{"$f":"IF(Jogo!J938=Conferência!$J$2,Conferência!$J$2,\"\")","v":""},{"$f":"IF(Jogo!K938=Conferência!$K$2,Conferência!$K$2,\"\")","v":""},{"$f":"IF(Jogo!L938=Conferência!$L$2,Conferência!$L$2,\"\")","v":""},{"$f":"IF(Jogo!M938=Conferência!$M$2,Conferência!$M$2,\"\")","v":""},{"$f":"IF(Jogo!N938=Conferência!$N$2,Conferência!$N$2,\"\")","v":""},{"$f":"IF(Jogo!O938=Conferência!$O$2,Conferência!$O$2,\"\")","v":""},{"$f":"IF(Jogo!P938=Conferência!$P$2,Conferência!$P$2,\"\")","v":""},{"$f":"IF(Jogo!Q938=Conferência!$Q$2,Conferência!$Q$2,\"\")","v":""},""]
[{"$f":"IF(Jogo!A939=Conferência!$A$2,Conferência!$A$2,\"\")","v":""},{"$f":"IF(Jogo!B939=Conferência!$B$2,Conferência!$B$2,\"\")","v":""},{"$f":"IF(Jogo!C939=Conferência!$C$2,Conferência!$C$2,\"\")","v":""},{"$f":"IF(Jogo!D939=Conferência!$D$2,Conferência!$D$2,\"\")","v":""},{"$f":"IF(Jogo!E939=Conferência!$E$2,Conferência!$E$2,\"\")","v":""},{"$f":"IF(Jogo!F939=Conferência!$F$2,Conferência!$F$2,\"\")","v":""},{"$f":"IF(Jogo!G939=Conferência!$G$2,Conferência!$G$2,\"\")","v":""},{"$f":"IF(Jogo!H939=Conferência!$H$2,Conferência!$H$2,\"\")","v":""},{"$f":"IF(Jogo!I939=Conferência!$I$2,Conferência!$I$2,\"\")","v":""},{"$f":"IF(Jogo!J939=Conferência!$J$2,Conferência!$J$2,\"\")","v":""},{"$f":"IF(Jogo!K939=Conferência!$K$2,Conferência!$K$2,\"\")","v":""},{"$f":"IF(Jogo!L939=Conferência!$L$2,Conferência!$L$2,\"\")","v":""},{"$f":"IF(Jogo!M939=Conferência!$M$2,Conferência!$M$2,\"\")","v":""},{"$f":"IF(Jogo!N939=Conferência!$N$2,Conferência!$N$2,\"\")","v":""},{"$f":"IF(Jogo!O939=Conferência!$O$2,Conferência!$O$2,\"\")","v":""},{"$f":"IF(Jogo!P939=Conferência!$P$2,Conferência!$P$2,\"\")","v":""},{"$f":"IF(Jogo!Q939=Conferência!$Q$2,Conferência!$Q$2,\"\")","v":""},""]
[{"$f":"IF(Jogo!A940=Conferência!$A$2,Conferência!$A$2,\"\")","v":""},{"$f":"IF(Jogo!B940=Conferência!$B$2,Conferência!$B$2,\"\")","v":""},{"$f":"IF(Jogo!C940=Conferência!$C$2,Conferência!$C$2,\"\")","v":""},{"$f":"IF(Jogo!D940=Conferência!$D$2,Conferência!$D$2,\"\")","v":""},{"$f":"IF(Jogo!E940=Conferência!$E$2,Conferência!$E$2,\"\")","v":""},{"$f":"IF(Jogo!F940=Conferência!$F$2,Conferência!$F$2,\"\")","v":""},{"$f":"IF(Jogo!G940=Conferência!$G$2,Conferência!$G$2,\"\")","v":""},{"$f":"IF(Jogo!H940=Conferência!$H$2,Conferência!$H$2,\"\")","v":""},{"$f":"IF(Jogo!I940=Conferência!$I$2,Conferência!$I$2,\"\")","v":""},{"$f":"IF(Jogo!J940=Conferência!$J$2,Conferência!$J$2,\"\")","v":""},{"$f":"IF(Jogo!K940=Conferência!$K$2,Conferência!$K$2,\"\")","v":""},{"$f":"IF(Jogo!L940=Conferência!$L$2,Conferência!$L$2,\"\")","v":""},{"$f":"IF(Jogo!M940=Conferência!$M$2,Conferência!$M$2,\"\")","v":""},{"$f":"IF(Jogo!N940=Conferência!$N$2,Conferência!$N$2,\"\")","v":""},{"$f":"IF(Jogo!O940=Conferência!$O$2,Conferência!$O$2,\"\")","v":""},{"$f":"IF(Jogo!P940=Conferência!$P$2,Conferência!$P$2,\"\")","v":""},{"$f":"IF(Jogo!Q940=Conferência!$Q$2,Conferência!$Q$2,\"\")","v":""},""]
[{"$f":"IF(Jogo!A941=Conferência!$A$2,Conferência!$A$2,\"\")","v":""},{"$f":"IF(Jogo!B941=Conferência!$B$2,Conferência!$B$2,\"\")","v":""},{"$f":"IF(Jogo!C941=Conferência!$C$2,Conferência!$C$2,\"\")","v":""},{"$f":"IF(Jogo!D941=Conferência!$D$2,Conferência!$D$2,\"\")","v":""},{"$f":"IF(Jogo!E941=Conferência!$E$2,Conferência!$E$2,\"\")","v":""},{"$f":"IF(Jogo!F941=Conferência!$F$2,Conferência!$F$2,\"\")","v":""},{"$f":"IF(Jogo!G941=Conferência!$G$2,Conferência!$G$2,\"\")","v":""},{"$f":"IF(Jogo!H941=Conferência!$H$2,Conferência!$H$2,\"\")","v":""},{"$f":"IF(Jogo!I941=Conferência!$I$2,Conferência!$I$2,\"\")","v":""},{"$f":"IF(Jogo!J941=Conferência!$J$2,Conferência!$J$2,\"\")","v":""},{"$f":"IF(Jogo!K941=Conferência!$K$2,Conferência!$K$2,\"\")","v":""},{"$f":"IF(Jogo!L941=Conferência!$L$2,Conferência!$L$2,\"\")","v":""},{"$f":"IF(Jogo!M941=Conferência!$M$2,Conferência!$M$2,\"\")","v":""},{"$f":"IF(Jogo!N941=Conferência!$N$2,Conferência!$N$2,\"\")","v":""},{"$f":"IF(Jogo!O941=Conferência!$O$2,Conferência!$O$2,\"\")","v":""},{"$f":"IF(Jogo!P941=Conferência!$P$2,Conferência!$P$2,\"\")","v":""},{"$f":"IF(Jogo!Q941=Conferência!$Q$2,Conferência!$Q$2,\"\")","v":""},""]
[{"$f":"IF(Jogo!A942=Conferência!$A$2,Conferência!$A$2,\"\")","v":""},{"$f":"IF(Jogo!B942=Conferência!$B$2,Conferência!$B$2,\"\")","v":""},{"$f":"IF(Jogo!C942=Conferência!$C$2,Conferência!$C$2,\"\")","v":""},{"$f":"IF(Jogo!D942=Conferência!$D$2,Conferência!$D$2,\"\")","v":""},{"$f":"IF(Jogo!E942=Conferência!$E$2,Conferência!$E$2,\"\")","v":""},{"$f":"IF(Jogo!F942=Conferência!$F$2,Conferência!$F$2,\"\")","v":""},{"$f":"IF(Jogo!G942=Conferência!$G$2,Conferência!$G$2,\"\")","v":""},{"$f":"IF(Jogo!H942=Conferência!$H$2,Conferência!$H$2,\"\")","v":""},{"$f":"IF(Jogo!I942=Conferência!$I$2,Conferência!$I$2,\"\")","v":""},{"$f":"IF(Jogo!J942=Conferência!$J$2,Conferência!$J$2,\"\")","v":""},{"$f":"IF(Jogo!K942=Conferência!$K$2,Conferência!$K$2,\"\")","v":""},{"$f":"IF(Jogo!L942=Conferência!$L$2,Conferência!$L$2,\"\")","v":""},{"$f":"IF(Jogo!M942=Conferência!$M$2,Conferência!$M$2,\"\")","v":""},{"$f":"IF(Jogo!N942=Conferência!$N$2,Conferência!$N$2,\"\")","v":""},{"$f":"IF(Jogo!O942=Conferência!$O$2,Conferência!$O$2,\"\")","v":""},{"$f":"IF(Jogo!P942=Conferência!$P$2,Conferência!$P$2,\"\")","v":""},{"$f":"IF(Jogo!Q942=Conferência!$Q$2,Conferência!$Q$2,\"\")","v":""},""]
[{"$f":"IF(Jogo!A943=Conferência!$A$2,Conferência!$A$2,\"\")","v":""},{"$f":"IF(Jogo!B943=Conferência!$B$2,Conferência!$B$2,\"\")","v":""},{"$f":"IF(Jogo!C943=Conferência!$C$2,Conferência!$C$2,\"\")","v":""},{"$f":"IF(Jogo!D943=Conferência!$D$2,Conferência!$D$2,\"\")","v":""},{"$f":"IF(Jogo!E943=Conferência!$E$2,Conferência!$E$2,\"\")","v":""},{"$f":"IF(Jogo!F943=Conferência!$F$2,Conferência!$F$2,\"\")","v":""},{"$f":"IF(Jogo!G943=Conferência!$G$2,Conferência!$G$2,\"\")","v":""},{"$f":"IF(Jogo!H943=Conferência!$H$2,Conferência!$H$2,\"\")","v":""},{"$f":"IF(Jogo!I943=Conferência!$I$2,Conferência!$I$2,\"\")","v":""},{"$f":"IF(Jogo!J943=Conferência!$J$2,Conferência!$J$2,\"\")","v":""},{"$f":"IF(Jogo!K943=Conferência!$K$2,Conferência!$K$2,\"\")","v":""},{"$f":"IF(Jogo!L943=Conferência!$L$2,Conferência!$L$2,\"\")","v":""},{"$f":"IF(Jogo!M943=Conferência!$M$2,Conferência!$M$2,\"\")","v":""},{"$f":"IF(Jogo!N943=Conferência!$N$2,Conferência!$N$2,\"\")","v":""},{"$f":"IF(Jogo!O943=Conferência!$O$2,Conferência!$O$2,\"\")","v":""},{"$f":"IF(Jogo!P943=Conferência!$P$2,Conferência!$P$2,\"\")","v":""},{"$f":"IF(Jogo!Q943=Conferência!$Q$2,Conferência!$Q$2,\"\")","v":""},""]
[{"$f":"IF(Jogo!A944=Conferência!$A$2,Conferência!$A$2,\"\")","v":""},{"$f":"IF(Jogo!B944=Conferência!$B$2,Conferência!$B$2,\"\")","v":""},{"$f":"IF(Jogo!C944=Conferência!$C$2,Conferência!$C$2,\"\")","v":""},{"$f":"IF(Jogo!D944=Conferência!$D$2,Conferência!$D$2,\"\")","v":""},{"$f":"IF(Jogo!E944=Conferência!$E$2,Conferência!$E$2,\"\")","v":""},{"$f":"IF(Jogo!F944=Conferência!$F$2,Conferência!$F$2,\"\")","v":""},{"$f":"IF(Jogo!G944=Conferência!$G$2,Conferência!$G$2,\"\")","v":""},{"$f":"IF(Jogo!H944=Conferência!$H$2,Conferência!$H$2,\"\")","v":""},{"$f":"IF(Jogo!I944=Conferência!$I$2,Conferência!$I$2,\"\")","v":""},{"$f":"IF(Jogo!J944=Conferência!$J$2,Conferência!$J$2,\"\")","v":""},{"$f":"IF(Jogo!K944=Conferência!$K$2,Conferência!$K$2,\"\")","v":""},{"$f":"IF(Jogo!L944=Conferência!$L$2,Conferência!$L$2,\"\")","v":""},{"$f":"IF(Jogo!M944=Conferência!$M$2,Conferência!$M$2,\"\")","v":""},{"$f":"IF(Jogo!N944=Conferência!$N$2,Conferência!$N$2,\"\")","v":""},{"$f":"IF(Jogo!O944=Conferência!$O$2,Conferência!$O$2,\"\")","v":""},{"$f":"IF(Jogo!P944=Conferência!$P$2,Conferência!$P$2,\"\")","v":""},{"$f":"IF(Jogo!Q944=Conferência!$Q$2,Conferência!$Q$2,\"\")","v":""},""]
[{"$f":"IF(Jogo!A945=Conferência!$A$2,Conferência!$A$2,\"\")","v":""},{"$f":"IF(Jogo!B945=Conferência!$B$2,Conferência!$B$2,\"\")","v":""},{"$f":"IF(Jogo!C945=Conferência!$C$2,Conferência!$C$2,\"\")","v":""},{"$f":"IF(Jogo!D945=Conferência!$D$2,Conferência!$D$2,\"\")","v":""},{"$f":"IF(Jogo!E945=Conferência!$E$2,Conferência!$E$2,\"\")","v":""},{"$f":"IF(Jogo!F945=Conferência!$F$2,Conferência!$F$2,\"\")","v":""},{"$f":"IF(Jogo!G945=Conferência!$G$2,Conferência!$G$2,\"\")","v":""},{"$f":"IF(Jogo!H945=Conferência!$H$2,Conferência!$H$2,\"\")","v":""},{"$f":"IF(Jogo!I945=Conferência!$I$2,Conferência!$I$2,\"\")","v":""},{"$f":"IF(Jogo!J945=Conferência!$J$2,Conferência!$J$2,\"\")","v":""},{"$f":"IF(Jogo!K945=Conferência!$K$2,Conferência!$K$2,\"\")","v":""},{"$f":"IF(Jogo!L945=Conferência!$L$2,Conferência!$L$2,\"\")","v":""},{"$f":"IF(Jogo!M945=Conferência!$M$2,Conferência!$M$2,\"\")","v":""},{"$f":"IF(Jogo!N945=Conferência!$N$2,Conferência!$N$2,\"\")","v":""},{"$f":"IF(Jogo!O945=Conferência!$O$2,Conferência!$O$2,\"\")","v":""},{"$f":"IF(Jogo!P945=Conferência!$P$2,Conferência!$P$2,\"\")","v":""},{"$f":"IF(Jogo!Q945=Conferência!$Q$2,Conferência!$Q$2,\"\")","v":""},""]
[{"$f":"IF(Jogo!A946=Conferência!$A$2,Conferência!$A$2,\"\")","v":""},{"$f":"IF(Jogo!B946=Conferência!$B$2,Conferência!$B$2,\"\")","v":""},{"$f":"IF(Jogo!C946=Conferência!$C$2,Conferência!$C$2,\"\")","v":""},{"$f":"IF(Jogo!D946=Conferência!$D$2,Conferência!$D$2,\"\")","v":""},{"$f":"IF(Jogo!E946=Conferência!$E$2,Conferência!$E$2,\"\")","v":""},{"$f":"IF(Jogo!F946=Conferência!$F$2,Conferência!$F$2,\"\")","v":""},{"$f":"IF(Jogo!G946=Conferência!$G$2,Conferência!$G$2,\"\")","v":""},{"$f":"IF(Jogo!H946=Conferência!$H$2,Conferência!$H$2,\"\")","v":""},{"$f":"IF(Jogo!I946=Conferência!$I$2,Conferência!$I$2,\"\")","v":""},{"$f":"IF(Jogo!J946=Conferência!$J$2,Conferência!$J$2,\"\")","v":""},{"$f":"IF(Jogo!K946=Conferência!$K$2,Conferência!$K$2,\"\")","v":""},{"$f":"IF(Jogo!L946=Conferência!$L$2,Conferência!$L$2,\"\")","v":""},{"$f":"IF(Jogo!M946=Conferência!$M$2,Conferência!$M$2,\"\")","v":""},{"$f":"IF(Jogo!N946=Conferência!$N$2,Conferência!$N$2,\"\")","v":""},{"$f":"IF(Jogo!O946=Conferência!$O$2,Conferência!$O$2,\"\")","v":""},{"$f":"IF(Jogo!P946=Conferência!$P$2,Conferência!$P$2,\"\")","v":""},{"$f":"IF(Jogo!Q946=Conferência!$Q$2,Conferência!$Q$2,\"\")","v":""},""]
[{"$f":"IF(Jogo!A947=Conferência!$A$2,Conferência!$A$2,\"\")","v":""},{"$f":"IF(Jogo!B947=Conferência!$B$2,Conferência!$B$2,\"\")","v":""},{"$f":"IF(Jogo!C947=Conferência!$C$2,Conferência!$C$2,\"\")","v":""},{"$f":"IF(Jogo!D947=Conferência!$D$2,Conferência!$D$2,\"\")","v":""},{"$f":"IF(Jogo!E947=Conferência!$E$2,Conferência!$E$2,\"\")","v":""},{"$f":"IF(Jogo!F947=Conferência!$F$2,Conferência!$F$2,\"\")","v":""},{"$f":"IF(Jogo!G947=Conferência!$G$2,Conferência!$G$2,\"\")","v":""},{"$f":"IF(Jogo!H947=Conferência!$H$2,Conferência!$H$2,\"\")","v":""},{"$f":"IF(Jogo!I947=Conferência!$I$2,Conferência!$I$2,\"\")","v":""},{"$f":"IF(Jogo!J947=Conferência!$J$2,Conferência!$J$2,\"\")","v":""},{"$f":"IF(Jogo!K947=Conferência!$K$2,Conferência!$K$2,\"\")","v":""},{"$f":"IF(Jogo!L947=Conferência!$L$2,Conferência!$L$2,\"\")","v":""},{"$f":"IF(Jogo!M947=Conferência!$M$2,Conferência!$M$2,\"\")","v":""},{"$f":"IF(Jogo!N947=Conferência!$N$2,Conferência!$N$2,\"\")","v":""},{"$f":"IF(Jogo!O947=Conferência!$O$2,Conferência!$O$2,\"\")","v":""},{"$f":"IF(Jogo!P947=Conferência!$P$2,Conferência!$P$2,\"\")","v":""},{"$f":"IF(Jogo!Q947=Conferência!$Q$2,Conferência!$Q$2,\"\")","v":""},""]
[{"$f":"IF(Jogo!A948=Conferência!$A$2,Conferência!$A$2,\"\")","v":""},{"$f":"IF(Jogo!B948=Conferência!$B$2,Conferência!$B$2,\"\")","v":""},{"$f":"IF(Jogo!C948=Conferência!$C$2,Conferência!$C$2,\"\")","v":""},{"$f":"IF(Jogo!D948=Conferência!$D$2,Conferência!$D$2,\"\")","v":""},{"$f":"IF(Jogo!E948=Conferência!$E$2,Conferência!$E$2,\"\")","v":""},{"$f":"IF(Jogo!F948=Conferência!$F$2,Conferência!$F$2,\"\")","v":""},{"$f":"IF(Jogo!G948=Conferência!$G$2,Conferência!$G$2,\"\")","v":""},{"$f":"IF(Jogo!H948=Conferência!$H$2,Conferência!$H$2,\"\")","v":""},{"$f":"IF(Jogo!I948=Conferência!$I$2,Conferência!$I$2,\"\")","v":""},{"$f":"IF(Jogo!J948=Conferência!$J$2,Conferência!$J$2,\"\")","v":""},{"$f":"IF(Jogo!K948=Conferência!$K$2,Conferência!$K$2,\"\")","v":""},{"$f":"IF(Jogo!L948=Conferência!$L$2,Conferência!$L$2,\"\")","v":""},{"$f":"IF(Jogo!M948=Conferência!$M$2,Conferência!$M$2,\"\")","v":""},{"$f":"IF(Jogo!N948=Conferência!$N$2,Conferência!$N$2,\"\")","v":""},{"$f":"IF(Jogo!O948=Conferência!$O$2,Conferência!$O$2,\"\")","v":""},{"$f":"IF(Jogo!P948=Conferência!$P$2,Conferência!$P$2,\"\")","v":""},{"$f":"IF(Jogo!Q948=Conferência!$Q$2,Conferência!$Q$2,\"\")","v":""},""]
[{"$f":"IF(Jogo!A949=Conferência!$A$2,Conferência!$A$2,\"\")","v":""},{"$f":"IF(Jogo!B949=Conferência!$B$2,Conferência!$B$2,\"\")","v":""},{"$f":"IF(Jogo!C949=Conferência!$C$2,Conferência!$C$2,\"\")","v":""},{"$f":"IF(Jogo!D949=Conferência!$D$2,Conferência!$D$2,\"\")","v":""},{"$f":"IF(Jogo!E949=Conferência!$E$2,Conferência!$E$2,\"\")","v":""},{"$f":"IF(Jogo!F949=Conferência!$F$2,Conferência!$F$2,\"\")","v":""},{"$f":"IF(Jogo!G949=Conferência!$G$2,Conferência!$G$2,\"\")","v":""},{"$f":"IF(Jogo!H949=Conferência!$H$2,Conferência!$H$2,\"\")","v":""},{"$f":"IF(Jogo!I949=Conferência!$I$2,Conferência!$I$2,\"\")","v":""},{"$f":"IF(Jogo!J949=Conferência!$J$2,Conferência!$J$2,\"\")","v":""},{"$f":"IF(Jogo!K949=Conferência!$K$2,Conferência!$K$2,\"\")","v":""},{"$f":"IF(Jogo!L949=Conferência!$L$2,Conferência!$L$2,\"\")","v":""},{"$f":"IF(Jogo!M949=Conferência!$M$2,Conferência!$M$2,\"\")","v":""},{"$f":"IF(Jogo!N949=Conferência!$N$2,Conferência!$N$2,\"\")","v":""},{"$f":"IF(Jogo!O949=Conferência!$O$2,Conferência!$O$2,\"\")","v":""},{"$f":"IF(Jogo!P949=Conferência!$P$2,Conferência!$P$2,\"\")","v":""},{"$f":"IF(Jogo!Q949=Conferência!$Q$2,Conferência!$Q$2,\"\")","v":""},""]
[{"$f":"IF(Jogo!A950=Conferência!$A$2,Conferência!$A$2,\"\")","v":""},{"$f":"IF(Jogo!B950=Conferência!$B$2,Conferência!$B$2,\"\")","v":""},{"$f":"IF(Jogo!C950=Conferência!$C$2,Conferência!$C$2,\"\")","v":""},{"$f":"IF(Jogo!D950=Conferência!$D$2,Conferência!$D$2,\"\")","v":""},{"$f":"IF(Jogo!E950=Conferência!$E$2,Conferência!$E$2,\"\")","v":""},{"$f":"IF(Jogo!F950=Conferência!$F$2,Conferência!$F$2,\"\")","v":""},{"$f":"IF(Jogo!G950=Conferência!$G$2,Conferência!$G$2,\"\")","v":""},{"$f":"IF(Jogo!H950=Conferência!$H$2,Conferência!$H$2,\"\")","v":""},{"$f":"IF(Jogo!I950=Conferência!$I$2,Conferência!$I$2,\"\")","v":""},{"$f":"IF(Jogo!J950=Conferência!$J$2,Conferência!$J$2,\"\")","v":""},{"$f":"IF(Jogo!K950=Conferência!$K$2,Conferência!$K$2,\"\")","v":""},{"$f":"IF(Jogo!L950=Conferência!$L$2,Conferência!$L$2,\"\")","v":""},{"$f":"IF(Jogo!M950=Conferência!$M$2,Conferência!$M$2,\"\")","v":""},{"$f":"IF(Jogo!N950=Conferência!$N$2,Conferência!$N$2,\"\")","v":""},{"$f":"IF(Jogo!O950=Conferência!$O$2,Conferência!$O$2,\"\")","v":""},{"$f":"IF(Jogo!P950=Conferência!$P$2,Conferência!$P$2,\"\")","v":""},{"$f":"IF(Jogo!Q950=Conferência!$Q$2,Conferência!$Q$2,\"\")","v":""},""]
[{"$f":"IF(Jogo!A951=Conferência!$A$2,Conferência!$A$2,\"\")","v":""},{"$f":"IF(Jogo!B951=Conferência!$B$2,Conferência!$B$2,\"\")","v":""},{"$f":"IF(Jogo!C951=Conferência!$C$2,Conferência!$C$2,\"\")","v":""},{"$f":"IF(Jogo!D951=Conferência!$D$2,Conferência!$D$2,\"\")","v":""},{"$f":"IF(Jogo!E951=Conferência!$E$2,Conferência!$E$2,\"\")","v":""},{"$f":"IF(Jogo!F951=Conferência!$F$2,Conferência!$F$2,\"\")","v":""},{"$f":"IF(Jogo!G951=Conferência!$G$2,Conferência!$G$2,\"\")","v":""},{"$f":"IF(Jogo!H951=Conferência!$H$2,Conferência!$H$2,\"\")","v":""},{"$f":"IF(Jogo!I951=Conferência!$I$2,Conferência!$I$2,\"\")","v":""},{"$f":"IF(Jogo!J951=Conferência!$J$2,Conferência!$J$2,\"\")","v":""},{"$f":"IF(Jogo!K951=Conferência!$K$2,Conferência!$K$2,\"\")","v":""},{"$f":"IF(Jogo!L951=Conferência!$L$2,Conferência!$L$2,\"\")","v":""},{"$f":"IF(Jogo!M951=Conferência!$M$2,Conferência!$M$2,\"\")","v":""},{"$f":"IF(Jogo!N951=Conferência!$N$2,Conferência!$N$2,\"\")","v":""},{"$f":"IF(Jogo!O951=Conferência!$O$2,Conferência!$O$2,\"\")","v":""},{"$f":"IF(Jogo!P951=Conferência!$P$2,Conferência!$P$2,\"\")","v":""},{"$f":"IF(Jogo!Q951=Conferência!$Q$2,Conferência!$Q$2,\"\")","v":""},""]
[{"$f":"IF(Jogo!A952=Conferência!$A$2,Conferência!$A$2,\"\")","v":""},{"$f":"IF(Jogo!B952=Conferência!$B$2,Conferência!$B$2,\"\")","v":""},{"$f":"IF(Jogo!C952=Conferência!$C$2,Conferência!$C$2,\"\")","v":""},{"$f":"IF(Jogo!D952=Conferência!$D$2,Conferência!$D$2,\"\")","v":""},{"$f":"IF(Jogo!E952=Conferência!$E$2,Conferência!$E$2,\"\")","v":""},{"$f":"IF(Jogo!F952=Conferência!$F$2,Conferência!$F$2,\"\")","v":""},{"$f":"IF(Jogo!G952=Conferência!$G$2,Conferência!$G$2,\"\")","v":""},{"$f":"IF(Jogo!H952=Conferência!$H$2,Conferência!$H$2,\"\")","v":""},{"$f":"IF(Jogo!I952=Conferência!$I$2,Conferência!$I$2,\"\")","v":""},{"$f":"IF(Jogo!J952=Conferência!$J$2,Conferência!$J$2,\"\")","v":""},{"$f":"IF(Jogo!K952=Conferência!$K$2,Conferência!$K$2,\"\")","v":""},{"$f":"IF(Jogo!L952=Conferência!$L$2,Conferência!$L$2,\"\")","v":""},{"$f":"IF(Jogo!M952=Conferência!$M$2,Conferência!$M$2,\"\")","v":""},{"$f":"IF(Jogo!N952=Conferência!$N$2,Conferência!$N$2,\"\")","v":""},{"$f":"IF(Jogo!O952=Conferência!$O$2,Conferência!$O$2,\"\")","v":""},{"$f":"IF(Jogo!P952=Conferência!$P$2,Conferência!$P$2,\"\")","v":""},{"$f":"IF(Jogo!Q952=Conferência!$Q$2,Conferência!$Q$2,\"\")","v":""},""]
[{"$f":"IF(Jogo!A953=Conferência!$A$2,Conferência!$A$2,\"\")","v":""},{"$f":"IF(Jogo!B953=Conferência!$B$2,Conferência!$B$2,\"\")","v":""},{"$f":"IF(Jogo!C953=Conferência!$C$2,Conferência!$C$2,\"\")","v":""},{"$f":"IF(Jogo!D953=Conferência!$D$2,Conferência!$D$2,\"\")","v":""},{"$f":"IF(Jogo!E953=Conferência!$E$2,Conferência!$E$2,\"\")","v":""},{"$f":"IF(Jogo!F953=Conferência!$F$2,Conferência!$F$2,\"\")","v":""},{"$f":"IF(Jogo!G953=Conferência!$G$2,Conferência!$G$2,\"\")","v":""},{"$f":"IF(Jogo!H953=Conferência!$H$2,Conferência!$H$2,\"\")","v":""},{"$f":"IF(Jogo!I953=Conferência!$I$2,Conferência!$I$2,\"\")","v":""},{"$f":"IF(Jogo!J953=Conferência!$J$2,Conferência!$J$2,\"\")","v":""},{"$f":"IF(Jogo!K953=Conferência!$K$2,Conferência!$K$2,\"\")","v":""},{"$f":"IF(Jogo!L953=Conferência!$L$2,Conferência!$L$2,\"\")","v":""},{"$f":"IF(Jogo!M953=Conferência!$M$2,Conferência!$M$2,\"\")","v":""},{"$f":"IF(Jogo!N953=Conferência!$N$2,Conferência!$N$2,\"\")","v":""},{"$f":"IF(Jogo!O953=Conferência!$O$2,Conferência!$O$2,\"\")","v":""},{"$f":"IF(Jogo!P953=Conferência!$P$2,Conferência!$P$2,\"\")","v":""},{"$f":"IF(Jogo!Q953=Conferência!$Q$2,Conferência!$Q$2,\"\")","v":""},""]
[{"$f":"IF(Jogo!A954=Conferência!$A$2,Conferência!$A$2,\"\")","v":""},{"$f":"IF(Jogo!B954=Conferência!$B$2,Conferência!$B$2,\"\")","v":""},{"$f":"IF(Jogo!C954=Conferência!$C$2,Conferência!$C$2,\"\")","v":""},{"$f":"IF(Jogo!D954=Conferência!$D$2,Conferência!$D$2,\"\")","v":""},{"$f":"IF(Jogo!E954=Conferência!$E$2,Conferência!$E$2,\"\")","v":""},{"$f":"IF(Jogo!F954=Conferência!$F$2,Conferência!$F$2,\"\")","v":""},{"$f":"IF(Jogo!G954=Conferência!$G$2,Conferência!$G$2,\"\")","v":""},{"$f":"IF(Jogo!H954=Conferência!$H$2,Conferência!$H$2,\"\")","v":""},{"$f":"IF(Jogo!I954=Conferência!$I$2,Conferência!$I$2,\"\")","v":""},{"$f":"IF(Jogo!J954=Conferência!$J$2,Conferência!$J$2,\"\")","v":""},{"$f":"IF(Jogo!K954=Conferência!$K$2,Conferência!$K$2,\"\")","v":""},{"$f":"IF(Jogo!L954=Conferência!$L$2,Conferência!$L$2,\"\")","v":""},{"$f":"IF(Jogo!M954=Conferência!$M$2,Conferência!$M$2,\"\")","v":""},{"$f":"IF(Jogo!N954=Conferência!$N$2,Conferência!$N$2,\"\")","v":""},{"$f":"IF(Jogo!O954=Conferência!$O$2,Conferência!$O$2,\"\")","v":""},{"$f":"IF(Jogo!P954=Conferência!$P$2,Conferência!$P$2,\"\")","v":""},{"$f":"IF(Jogo!Q954=Conferência!$Q$2,Conferência!$Q$2,\"\")","v":""},""]
[{"$f":"IF(Jogo!A955=Conferência!$A$2,Conferência!$A$2,\"\")","v":""},{"$f":"IF(Jogo!B955=Conferência!$B$2,Conferência!$B$2,\"\")","v":""},{"$f":"IF(Jogo!C955=Conferência!$C$2,Conferência!$C$2,\"\")","v":""},{"$f":"IF(Jogo!D955=Conferência!$D$2,Conferência!$D$2,\"\")","v":""},{"$f":"IF(Jogo!E955=Conferência!$E$2,Conferência!$E$2,\"\")","v":""},{"$f":"IF(Jogo!F955=Conferência!$F$2,Conferência!$F$2,\"\")","v":""},{"$f":"IF(Jogo!G955=Conferência!$G$2,Conferência!$G$2,\"\")","v":""},{"$f":"IF(Jogo!H955=Conferência!$H$2,Conferência!$H$2,\"\")","v":""},{"$f":"IF(Jogo!I955=Conferência!$I$2,Conferência!$I$2,\"\")","v":""},{"$f":"IF(Jogo!J955=Conferência!$J$2,Conferência!$J$2,\"\")","v":""},{"$f":"IF(Jogo!K955=Conferência!$K$2,Conferência!$K$2,\"\")","v":""},{"$f":"IF(Jogo!L955=Conferência!$L$2,Conferência!$L$2,\"\")","v":""},{"$f":"IF(Jogo!M955=Conferência!$M$2,Conferência!$M$2,\"\")","v":""},{"$f":"IF(Jogo!N955=Conferência!$N$2,Conferência!$N$2,\"\")","v":""},{"$f":"IF(Jogo!O955=Conferência!$O$2,Conferência!$O$2,\"\")","v":""},{"$f":"IF(Jogo!P955=Conferência!$P$2,Conferência!$P$2,\"\")","v":""},{"$f":"IF(Jogo!Q955=Conferência!$Q$2,Conferência!$Q$2,\"\")","v":""},""]
[{"$f":"IF(Jogo!A956=Conferência!$A$2,Conferência!$A$2,\"\")","v":""},{"$f":"IF(Jogo!B956=Conferência!$B$2,Conferência!$B$2,\"\")","v":""},{"$f":"IF(Jogo!C956=Conferência!$C$2,Conferência!$C$2,\"\")","v":""},{"$f":"IF(Jogo!D956=Conferência!$D$2,Conferência!$D$2,\"\")","v":""},{"$f":"IF(Jogo!E956=Conferência!$E$2,Conferência!$E$2,\"\")","v":""},{"$f":"IF(Jogo!F956=Conferência!$F$2,Conferência!$F$2,\"\")","v":""},{"$f":"IF(Jogo!G956=Conferência!$G$2,Conferência!$G$2,\"\")","v":""},{"$f":"IF(Jogo!H956=Conferência!$H$2,Conferência!$H$2,\"\")","v":""},{"$f":"IF(Jogo!I956=Conferência!$I$2,Conferência!$I$2,\"\")","v":""},{"$f":"IF(Jogo!J956=Conferência!$J$2,Conferência!$J$2,\"\")","v":""},{"$f":"IF(Jogo!K956=Conferência!$K$2,Conferência!$K$2,\"\")","v":""},{"$f":"IF(Jogo!L956=Conferência!$L$2,Conferência!$L$2,\"\")","v":""},{"$f":"IF(Jogo!M956=Conferência!$M$2,Conferência!$M$2,\"\")","v":""},{"$f":"IF(Jogo!N956=Conferência!$N$2,Conferência!$N$2,\"\")","v":""},{"$f":"IF(Jogo!O956=Conferência!$O$2,Conferência!$O$2,\"\")","v":""},{"$f":"IF(Jogo!P956=Conferência!$P$2,Conferência!$P$2,\"\")","v":""},{"$f":"IF(Jogo!Q956=Conferência!$Q$2,Conferência!$Q$2,\"\")","v":""},""]
[{"$f":"IF(Jogo!A957=Conferência!$A$2,Conferência!$A$2,\"\")","v":""},{"$f":"IF(Jogo!B957=Conferência!$B$2,Conferência!$B$2,\"\")","v":""},{"$f":"IF(Jogo!C957=Conferência!$C$2,Conferência!$C$2,\"\")","v":""},{"$f":"IF(Jogo!D957=Conferência!$D$2,Conferência!$D$2,\"\")","v":""},{"$f":"IF(Jogo!E957=Conferência!$E$2,Conferência!$E$2,\"\")","v":""},{"$f":"IF(Jogo!F957=Conferência!$F$2,Conferência!$F$2,\"\")","v":""},{"$f":"IF(Jogo!G957=Conferência!$G$2,Conferência!$G$2,\"\")","v":""},{"$f":"IF(Jogo!H957=Conferência!$H$2,Conferência!$H$2,\"\")","v":""},{"$f":"IF(Jogo!I957=Conferência!$I$2,Conferência!$I$2,\"\")","v":""},{"$f":"IF(Jogo!J957=Conferência!$J$2,Conferência!$J$2,\"\")","v":""},{"$f":"IF(Jogo!K957=Conferência!$K$2,Conferência!$K$2,\"\")","v":""},{"$f":"IF(Jogo!L957=Conferência!$L$2,Conferência!$L$2,\"\")","v":""},{"$f":"IF(Jogo!M957=Conferência!$M$2,Conferência!$M$2,\"\")","v":""},{"$f":"IF(Jogo!N957=Conferência!$N$2,Conferência!$N$2,\"\")","v":""},{"$f":"IF(Jogo!O957=Conferência!$O$2,Conferência!$O$2,\"\")","v":""},{"$f":"IF(Jogo!P957=Conferência!$P$2,Conferência!$P$2,\"\")","v":""},{"$f":"IF(Jogo!Q957=Conferência!$Q$2,Conferência!$Q$2,\"\")","v":""},""]
[{"$f":"IF(Jogo!A958=Conferência!$A$2,Conferência!$A$2,\"\")","v":""},{"$f":"IF(Jogo!B958=Conferência!$B$2,Conferência!$B$2,\"\")","v":""},{"$f":"IF(Jogo!C958=Conferência!$C$2,Conferência!$C$2,\"\")","v":""},{"$f":"IF(Jogo!D958=Conferência!$D$2,Conferência!$D$2,\"\")","v":""},{"$f":"IF(Jogo!E958=Conferência!$E$2,Conferência!$E$2,\"\")","v":""},{"$f":"IF(Jogo!F958=Conferência!$F$2,Conferência!$F$2,\"\")","v":""},{"$f":"IF(Jogo!G958=Conferência!$G$2,Conferência!$G$2,\"\")","v":""},{"$f":"IF(Jogo!H958=Conferência!$H$2,Conferência!$H$2,\"\")","v":""},{"$f":"IF(Jogo!I958=Conferência!$I$2,Conferência!$I$2,\"\")","v":""},{"$f":"IF(Jogo!J958=Conferência!$J$2,Conferência!$J$2,\"\")","v":""},{"$f":"IF(Jogo!K958=Conferência!$K$2,Conferência!$K$2,\"\")","v":""},{"$f":"IF(Jogo!L958=Conferência!$L$2,Conferência!$L$2,\"\")","v":""},{"$f":"IF(Jogo!M958=Conferência!$M$2,Conferência!$M$2,\"\")","v":""},{"$f":"IF(Jogo!N958=Conferência!$N$2,Conferência!$N$2,\"\")","v":""},{"$f":"IF(Jogo!O958=Conferência!$O$2,Conferência!$O$2,\"\")","v":""},{"$f":"IF(Jogo!P958=Conferência!$P$2,Conferência!$P$2,\"\")","v":""},{"$f":"IF(Jogo!Q958=Conferência!$Q$2,Conferência!$Q$2,\"\")","v":""},""]
[{"$f":"IF(Jogo!A959=Conferência!$A$2,Conferência!$A$2,\"\")","v":""},{"$f":"IF(Jogo!B959=Conferência!$B$2,Conferência!$B$2,\"\")","v":""},{"$f":"IF(Jogo!C959=Conferência!$C$2,Conferência!$C$2,\"\")","v":""},{"$f":"IF(Jogo!D959=Conferência!$D$2,Conferência!$D$2,\"\")","v":""},{"$f":"IF(Jogo!E959=Conferência!$E$2,Conferência!$E$2,\"\")","v":""},{"$f":"IF(Jogo!F959=Conferência!$F$2,Conferência!$F$2,\"\")","v":""},{"$f":"IF(Jogo!G959=Conferência!$G$2,Conferência!$G$2,\"\")","v":""},{"$f":"IF(Jogo!H959=Conferência!$H$2,Conferência!$H$2,\"\")","v":""},{"$f":"IF(Jogo!I959=Conferência!$I$2,Conferência!$I$2,\"\")","v":""},{"$f":"IF(Jogo!J959=Conferência!$J$2,Conferência!$J$2,\"\")","v":""},{"$f":"IF(Jogo!K959=Conferência!$K$2,Conferência!$K$2,\"\")","v":""},{"$f":"IF(Jogo!L959=Conferência!$L$2,Conferência!$L$2,\"\")","v":""},{"$f":"IF(Jogo!M959=Conferência!$M$2,Conferência!$M$2,\"\")","v":""},{"$f":"IF(Jogo!N959=Conferência!$N$2,Conferência!$N$2,\"\")","v":""},{"$f":"IF(Jogo!O959=Conferência!$O$2,Conferência!$O$2,\"\")","v":""},{"$f":"IF(Jogo!P959=Conferência!$P$2,Conferência!$P$2,\"\")","v":""},{"$f":"IF(Jogo!Q959=Conferência!$Q$2,Conferência!$Q$2,\"\")","v":""},""]
[{"$f":"IF(Jogo!A960=Conferência!$A$2,Conferência!$A$2,\"\")","v":""},{"$f":"IF(Jogo!B960=Conferência!$B$2,Conferência!$B$2,\"\")","v":""},{"$f":"IF(Jogo!C960=Conferência!$C$2,Conferência!$C$2,\"\")","v":""},{"$f":"IF(Jogo!D960=Conferência!$D$2,Conferência!$D$2,\"\")","v":""},{"$f":"IF(Jogo!E960=Conferência!$E$2,Conferência!$E$2,\"\")","v":""},{"$f":"IF(Jogo!F960=Conferência!$F$2,Conferência!$F$2,\"\")","v":""},{"$f":"IF(Jogo!G960=Conferência!$G$2,Conferência!$G$2,\"\")","v":""},{"$f":"IF(Jogo!H960=Conferência!$H$2,Conferência!$H$2,\"\")","v":""},{"$f":"IF(Jogo!I960=Conferência!$I$2,Conferência!$I$2,\"\")","v":""},{"$f":"IF(Jogo!J960=Conferência!$J$2,Conferência!$J$2,\"\")","v":""},{"$f":"IF(Jogo!K960=Conferência!$K$2,Conferência!$K$2,\"\")","v":""},{"$f":"IF(Jogo!L960=Conferência!$L$2,Conferência!$L$2,\"\")","v":""},{"$f":"IF(Jogo!M960=Conferência!$M$2,Conferência!$M$2,\"\")","v":""},{"$f":"IF(Jogo!N960=Conferência!$N$2,Conferência!$N$2,\"\")","v":""},{"$f":"IF(Jogo!O960=Conferência!$O$2,Conferência!$O$2,\"\")","v":""},{"$f":"IF(Jogo!P960=Conferência!$P$2,Conferência!$P$2,\"\")","v":""},{"$f":"IF(Jogo!Q960=Conferência!$Q$2,Conferência!$Q$2,\"\")","v":""},""]
[{"$f":"IF(Jogo!A961=Conferência!$A$2,Conferência!$A$2,\"\")","v":""},{"$f":"IF(Jogo!B961=Conferência!$B$2,Conferência!$B$2,\"\")","v":""},{"$f":"IF(Jogo!C961=Conferência!$C$2,Conferência!$C$2,\"\")","v":""},{"$f":"IF(Jogo!D961=Conferência!$D$2,Conferência!$D$2,\"\")","v":""},{"$f":"IF(Jogo!E961=Conferência!$E$2,Conferência!$E$2,\"\")","v":""},{"$f":"IF(Jogo!F961=Conferência!$F$2,Conferência!$F$2,\"\")","v":""},{"$f":"IF(Jogo!G961=Conferência!$G$2,Conferência!$G$2,\"\")","v":""},{"$f":"IF(Jogo!H961=Conferência!$H$2,Conferência!$H$2,\"\")","v":""},{"$f":"IF(Jogo!I961=Conferência!$I$2,Conferência!$I$2,\"\")","v":""},{"$f":"IF(Jogo!J961=Conferência!$J$2,Conferência!$J$2,\"\")","v":""},{"$f":"IF(Jogo!K961=Conferência!$K$2,Conferência!$K$2,\"\")","v":""},{"$f":"IF(Jogo!L961=Conferência!$L$2,Conferência!$L$2,\"\")","v":""},{"$f":"IF(Jogo!M961=Conferência!$M$2,Conferência!$M$2,\"\")","v":""},{"$f":"IF(Jogo!N961=Conferência!$N$2,Conferência!$N$2,\"\")","v":""},{"$f":"IF(Jogo!O961=Conferência!$O$2,Conferência!$O$2,\"\")","v":""},{"$f":"IF(Jogo!P961=Conferência!$P$2,Conferência!$P$2,\"\")","v":""},{"$f":"IF(Jogo!Q961=Conferência!$Q$2,Conferência!$Q$2,\"\")","v":""},""]
[{"$f":"IF(Jogo!A962=Conferência!$A$2,Conferência!$A$2,\"\")","v":""},{"$f":"IF(Jogo!B962=Conferência!$B$2,Conferência!$B$2,\"\")","v":""},{"$f":"IF(Jogo!C962=Conferência!$C$2,Conferência!$C$2,\"\")","v":""},{"$f":"IF(Jogo!D962=Conferência!$D$2,Conferência!$D$2,\"\")","v":""},{"$f":"IF(Jogo!E962=Conferência!$E$2,Conferência!$E$2,\"\")","v":""},{"$f":"IF(Jogo!F962=Conferência!$F$2,Conferência!$F$2,\"\")","v":""},{"$f":"IF(Jogo!G962=Conferência!$G$2,Conferência!$G$2,\"\")","v":""},{"$f":"IF(Jogo!H962=Conferência!$H$2,Conferência!$H$2,\"\")","v":""},{"$f":"IF(Jogo!I962=Conferência!$I$2,Conferência!$I$2,\"\")","v":""},{"$f":"IF(Jogo!J962=Conferência!$J$2,Conferência!$J$2,\"\")","v":""},{"$f":"IF(Jogo!K962=Conferência!$K$2,Conferência!$K$2,\"\")","v":""},{"$f":"IF(Jogo!L962=Conferência!$L$2,Conferência!$L$2,\"\")","v":""},{"$f":"IF(Jogo!M962=Conferência!$M$2,Conferência!$M$2,\"\")","v":""},{"$f":"IF(Jogo!N962=Conferência!$N$2,Conferência!$N$2,\"\")","v":""},{"$f":"IF(Jogo!O962=Conferência!$O$2,Conferência!$O$2,\"\")","v":""},{"$f":"IF(Jogo!P962=Conferência!$P$2,Conferência!$P$2,\"\")","v":""},{"$f":"IF(Jogo!Q962=Conferência!$Q$2,Conferência!$Q$2,\"\")","v":""},""]
[{"$f":"IF(Jogo!A963=Conferência!$A$2,Conferência!$A$2,\"\")","v":""},{"$f":"IF(Jogo!B963=Conferência!$B$2,Conferência!$B$2,\"\")","v":""},{"$f":"IF(Jogo!C963=Conferência!$C$2,Conferência!$C$2,\"\")","v":""},{"$f":"IF(Jogo!D963=Conferência!$D$2,Conferência!$D$2,\"\")","v":""},{"$f":"IF(Jogo!E963=Conferência!$E$2,Conferência!$E$2,\"\")","v":""},{"$f":"IF(Jogo!F963=Conferência!$F$2,Conferência!$F$2,\"\")","v":""},{"$f":"IF(Jogo!G963=Conferência!$G$2,Conferência!$G$2,\"\")","v":""},{"$f":"IF(Jogo!H963=Conferência!$H$2,Conferência!$H$2,\"\")","v":""},{"$f":"IF(Jogo!I963=Conferência!$I$2,Conferência!$I$2,\"\")","v":""},{"$f":"IF(Jogo!J963=Conferência!$J$2,Conferência!$J$2,\"\")","v":""},{"$f":"IF(Jogo!K963=Conferência!$K$2,Conferência!$K$2,\"\")","v":""},{"$f":"IF(Jogo!L963=Conferência!$L$2,Conferência!$L$2,\"\")","v":""},{"$f":"IF(Jogo!M963=Conferência!$M$2,Conferência!$M$2,\"\")","v":""},{"$f":"IF(Jogo!N963=Conferência!$N$2,Conferência!$N$2,\"\")","v":""},{"$f":"IF(Jogo!O963=Conferência!$O$2,Conferência!$O$2,\"\")","v":""},{"$f":"IF(Jogo!P963=Conferência!$P$2,Conferência!$P$2,\"\")","v":""},{"$f":"IF(Jogo!Q963=Conferência!$Q$2,Conferência!$Q$2,\"\")","v":""},""]
[{"$f":"IF(Jogo!A964=Conferência!$A$2,Conferência!$A$2,\"\")","v":""},{"$f":"IF(Jogo!B964=Conferência!$B$2,Conferência!$B$2,\"\")","v":""},{"$f":"IF(Jogo!C964=Conferência!$C$2,Conferência!$C$2,\"\")","v":""},{"$f":"IF(Jogo!D964=Conferência!$D$2,Conferência!$D$2,\"\")","v":""},{"$f":"IF(Jogo!E964=Conferência!$E$2,Conferência!$E$2,\"\")","v":""},{"$f":"IF(Jogo!F964=Conferência!$F$2,Conferência!$F$2,\"\")","v":""},{"$f":"IF(Jogo!G964=Conferência!$G$2,Conferência!$G$2,\"\")","v":""},{"$f":"IF(Jogo!H964=Conferência!$H$2,Conferência!$H$2,\"\")","v":""},{"$f":"IF(Jogo!I964=Conferência!$I$2,Conferência!$I$2,\"\")","v":""},{"$f":"IF(Jogo!J964=Conferência!$J$2,Conferência!$J$2,\"\")","v":""},{"$f":"IF(Jogo!K964=Conferência!$K$2,Conferência!$K$2,\"\")","v":""},{"$f":"IF(Jogo!L964=Conferência!$L$2,Conferência!$L$2,\"\")","v":""},{"$f":"IF(Jogo!M964=Conferência!$M$2,Conferência!$M$2,\"\")","v":""},{"$f":"IF(Jogo!N964=Conferência!$N$2,Conferência!$N$2,\"\")","v":""},{"$f":"IF(Jogo!O964=Conferência!$O$2,Conferência!$O$2,\"\")","v":""},{"$f":"IF(Jogo!P964=Conferência!$P$2,Conferência!$P$2,\"\")","v":""},{"$f":"IF(Jogo!Q964=Conferência!$Q$2,Conferência!$Q$2,\"\")","v":""},""]
[{"$f":"IF(Jogo!A965=Conferência!$A$2,Conferência!$A$2,\"\")","v":""},{"$f":"IF(Jogo!B965=Conferência!$B$2,Conferência!$B$2,\"\")","v":""},{"$f":"IF(Jogo!C965=Conferência!$C$2,Conferência!$C$2,\"\")","v":""},{"$f":"IF(Jogo!D965=Conferência!$D$2,Conferência!$D$2,\"\")","v":""},{"$f":"IF(Jogo!E965=Conferência!$E$2,Conferência!$E$2,\"\")","v":""},{"$f":"IF(Jogo!F965=Conferência!$F$2,Conferência!$F$2,\"\")","v":""},{"$f":"IF(Jogo!G965=Conferência!$G$2,Conferência!$G$2,\"\")","v":""},{"$f":"IF(Jogo!H965=Conferência!$H$2,Conferência!$H$2,\"\")","v":""},{"$f":"IF(Jogo!I965=Conferência!$I$2,Conferência!$I$2,\"\")","v":""},{"$f":"IF(Jogo!J965=Conferência!$J$2,Conferência!$J$2,\"\")","v":""},{"$f":"IF(Jogo!K965=Conferência!$K$2,Conferência!$K$2,\"\")","v":""},{"$f":"IF(Jogo!L965=Conferência!$L$2,Conferência!$L$2,\"\")","v":""},{"$f":"IF(Jogo!M965=Conferência!$M$2,Conferência!$M$2,\"\")","v":""},{"$f":"IF(Jogo!N965=Conferência!$N$2,Conferência!$N$2,\"\")","v":""},{"$f":"IF(Jogo!O965=Conferência!$O$2,Conferência!$O$2,\"\")","v":""},{"$f":"IF(Jogo!P965=Conferência!$P$2,Conferência!$P$2,\"\")","v":""},{"$f":"IF(Jogo!Q965=Conferência!$Q$2,Conferência!$Q$2,\"\")","v":""},""]
[{"$f":"IF(Jogo!A966=Conferência!$A$2,Conferência!$A$2,\"\")","v":""},{"$f":"IF(Jogo!B966=Conferência!$B$2,Conferência!$B$2,\"\")","v":""},{"$f":"IF(Jogo!C966=Conferência!$C$2,Conferência!$C$2,\"\")","v":""},{"$f":"IF(Jogo!D966=Conferência!$D$2,Conferência!$D$2,\"\")","v":""},{"$f":"IF(Jogo!E966=Conferência!$E$2,Conferência!$E$2,\"\")","v":""},{"$f":"IF(Jogo!F966=Conferência!$F$2,Conferência!$F$2,\"\")","v":""},{"$f":"IF(Jogo!G966=Conferência!$G$2,Conferência!$G$2,\"\")","v":""},{"$f":"IF(Jogo!H966=Conferência!$H$2,Conferência!$H$2,\"\")","v":""},{"$f":"IF(Jogo!I966=Conferência!$I$2,Conferência!$I$2,\"\")","v":""},{"$f":"IF(Jogo!J966=Conferência!$J$2,Conferência!$J$2,\"\")","v":""},{"$f":"IF(Jogo!K966=Conferência!$K$2,Conferência!$K$2,\"\")","v":""},{"$f":"IF(Jogo!L966=Conferência!$L$2,Conferência!$L$2,\"\")","v":""},{"$f":"IF(Jogo!M966=Conferência!$M$2,Conferência!$M$2,\"\")","v":""},{"$f":"IF(Jogo!N966=Conferência!$N$2,Conferência!$N$2,\"\")","v":""},{"$f":"IF(Jogo!O966=Conferência!$O$2,Conferência!$O$2,\"\")","v":""},{"$f":"IF(Jogo!P966=Conferência!$P$2,Conferência!$P$2,\"\")","v":""},{"$f":"IF(Jogo!Q966=Conferência!$Q$2,Conferência!$Q$2,\"\")","v":""},""]
[{"$f":"IF(Jogo!A967=Conferência!$A$2,Conferência!$A$2,\"\")","v":""},{"$f":"IF(Jogo!B967=Conferência!$B$2,Conferência!$B$2,\"\")","v":""},{"$f":"IF(Jogo!C967=Conferência!$C$2,Conferência!$C$2,\"\")","v":""},{"$f":"IF(Jogo!D967=Conferência!$D$2,Conferência!$D$2,\"\")","v":""},{"$f":"IF(Jogo!E967=Conferência!$E$2,Conferência!$E$2,\"\")","v":""},{"$f":"IF(Jogo!F967=Conferência!$F$2,Conferência!$F$2,\"\")","v":""},{"$f":"IF(Jogo!G967=Conferência!$G$2,Conferência!$G$2,\"\")","v":""},{"$f":"IF(Jogo!H967=Conferência!$H$2,Conferência!$H$2,\"\")","v":""},{"$f":"IF(Jogo!I967=Conferência!$I$2,Conferência!$I$2,\"\")","v":""},{"$f":"IF(Jogo!J967=Conferência!$J$2,Conferência!$J$2,\"\")","v":""},{"$f":"IF(Jogo!K967=Conferência!$K$2,Conferência!$K$2,\"\")","v":""},{"$f":"IF(Jogo!L967=Conferência!$L$2,Conferência!$L$2,\"\")","v":""},{"$f":"IF(Jogo!M967=Conferência!$M$2,Conferência!$M$2,\"\")","v":""},{"$f":"IF(Jogo!N967=Conferência!$N$2,Conferência!$N$2,\"\")","v":""},{"$f":"IF(Jogo!O967=Conferência!$O$2,Conferência!$O$2,\"\")","v":""},{"$f":"IF(Jogo!P967=Conferência!$P$2,Conferência!$P$2,\"\")","v":""},{"$f":"IF(Jogo!Q967=Conferência!$Q$2,Conferência!$Q$2,\"\")","v":""},""]
[{"$f":"IF(Jogo!A968=Conferência!$A$2,Conferência!$A$2,\"\")","v":""},{"$f":"IF(Jogo!B968=Conferência!$B$2,Conferência!$B$2,\"\")","v":""},{"$f":"IF(Jogo!C968=Conferência!$C$2,Conferência!$C$2,\"\")","v":""},{"$f":"IF(Jogo!D968=Conferência!$D$2,Conferência!$D$2,\"\")","v":""},{"$f":"IF(Jogo!E968=Conferência!$E$2,Conferência!$E$2,\"\")","v":""},{"$f":"IF(Jogo!F968=Conferência!$F$2,Conferência!$F$2,\"\")","v":""},{"$f":"IF(Jogo!G968=Conferência!$G$2,Conferência!$G$2,\"\")","v":""},{"$f":"IF(Jogo!H968=Conferência!$H$2,Conferência!$H$2,\"\")","v":""},{"$f":"IF(Jogo!I968=Conferência!$I$2,Conferência!$I$2,\"\")","v":""},{"$f":"IF(Jogo!J968=Conferência!$J$2,Conferência!$J$2,\"\")","v":""},{"$f":"IF(Jogo!K968=Conferência!$K$2,Conferência!$K$2,\"\")","v":""},{"$f":"IF(Jogo!L968=Conferência!$L$2,Conferência!$L$2,\"\")","v":""},{"$f":"IF(Jogo!M968=Conferência!$M$2,Conferência!$M$2,\"\")","v":""},{"$f":"IF(Jogo!N968=Conferência!$N$2,Conferência!$N$2,\"\")","v":""},{"$f":"IF(Jogo!O968=Conferência!$O$2,Conferência!$O$2,\"\")","v":""},{"$f":"IF(Jogo!P968=Conferência!$P$2,Conferência!$P$2,\"\")","v":""},{"$f":"IF(Jogo!Q968=Conferência!$Q$2,Conferência!$Q$2,\"\")","v":""},""]
[{"$f":"IF(Jogo!A969=Conferência!$A$2,Conferência!$A$2,\"\")","v":""},{"$f":"IF(Jogo!B969=Conferência!$B$2,Conferência!$B$2,\"\")","v":""},{"$f":"IF(Jogo!C969=Conferência!$C$2,Conferência!$C$2,\"\")","v":""},{"$f":"IF(Jogo!D969=Conferência!$D$2,Conferência!$D$2,\"\")","v":""},{"$f":"IF(Jogo!E969=Conferência!$E$2,Conferência!$E$2,\"\")","v":""},{"$f":"IF(Jogo!F969=Conferência!$F$2,Conferência!$F$2,\"\")","v":""},{"$f":"IF(Jogo!G969=Conferência!$G$2,Conferência!$G$2,\"\")","v":""},{"$f":"IF(Jogo!H969=Conferência!$H$2,Conferência!$H$2,\"\")","v":""},{"$f":"IF(Jogo!I969=Conferência!$I$2,Conferência!$I$2,\"\")","v":""},{"$f":"IF(Jogo!J969=Conferência!$J$2,Conferência!$J$2,\"\")","v":""},{"$f":"IF(Jogo!K969=Conferência!$K$2,Conferência!$K$2,\"\")","v":""},{"$f":"IF(Jogo!L969=Conferência!$L$2,Conferência!$L$2,\"\")","v":""},{"$f":"IF(Jogo!M969=Conferência!$M$2,Conferência!$M$2,\"\")","v":""},{"$f":"IF(Jogo!N969=Conferência!$N$2,Conferência!$N$2,\"\")","v":""},{"$f":"IF(Jogo!O969=Conferência!$O$2,Conferência!$O$2,\"\")","v":""},{"$f":"IF(Jogo!P969=Conferência!$P$2,Conferência!$P$2,\"\")","v":""},{"$f":"IF(Jogo!Q969=Conferência!$Q$2,Conferência!$Q$2,\"\")","v":""},""]
[{"$f":"IF(Jogo!A970=Conferência!$A$2,Conferência!$A$2,\"\")","v":""},{"$f":"IF(Jogo!B970=Conferência!$B$2,Conferência!$B$2,\"\")","v":""},{"$f":"IF(Jogo!C970=Conferência!$C$2,Conferência!$C$2,\"\")","v":""},{"$f":"IF(Jogo!D970=Conferência!$D$2,Conferência!$D$2,\"\")","v":""},{"$f":"IF(Jogo!E970=Conferência!$E$2,Conferência!$E$2,\"\")","v":""},{"$f":"IF(Jogo!F970=Conferência!$F$2,Conferência!$F$2,\"\")","v":""},{"$f":"IF(Jogo!G970=Conferência!$G$2,Conferência!$G$2,\"\")","v":""},{"$f":"IF(Jogo!H970=Conferência!$H$2,Conferência!$H$2,\"\")","v":""},{"$f":"IF(Jogo!I970=Conferência!$I$2,Conferência!$I$2,\"\")","v":""},{"$f":"IF(Jogo!J970=Conferência!$J$2,Conferência!$J$2,\"\")","v":""},{"$f":"IF(Jogo!K970=Conferência!$K$2,Conferência!$K$2,\"\")","v":""},{"$f":"IF(Jogo!L970=Conferência!$L$2,Conferência!$L$2,\"\")","v":""},{"$f":"IF(Jogo!M970=Conferência!$M$2,Conferência!$M$2,\"\")","v":""},{"$f":"IF(Jogo!N970=Conferência!$N$2,Conferência!$N$2,\"\")","v":""},{"$f":"IF(Jogo!O970=Conferência!$O$2,Conferência!$O$2,\"\")","v":""},{"$f":"IF(Jogo!P970=Conferência!$P$2,Conferência!$P$2,\"\")","v":""},{"$f":"IF(Jogo!Q970=Conferência!$Q$2,Conferência!$Q$2,\"\")","v":""},""]
[{"$f":"IF(Jogo!A971=Conferência!$A$2,Conferência!$A$2,\"\")","v":""},{"$f":"IF(Jogo!B971=Conferência!$B$2,Conferência!$B$2,\"\")","v":""},{"$f":"IF(Jogo!C971=Conferência!$C$2,Conferência!$C$2,\"\")","v":""},{"$f":"IF(Jogo!D971=Conferência!$D$2,Conferência!$D$2,\"\")","v":""},{"$f":"IF(Jogo!E971=Conferência!$E$2,Conferência!$E$2,\"\")","v":""},{"$f":"IF(Jogo!F971=Conferência!$F$2,Conferência!$F$2,\"\")","v":""},{"$f":"IF(Jogo!G971=Conferência!$G$2,Conferência!$G$2,\"\")","v":""},{"$f":"IF(Jogo!H971=Conferência!$H$2,Conferência!$H$2,\"\")","v":""},{"$f":"IF(Jogo!I971=Conferência!$I$2,Conferência!$I$2,\"\")","v":""},{"$f":"IF(Jogo!J971=Conferência!$J$2,Conferência!$J$2,\"\")","v":""},{"$f":"IF(Jogo!K971=Conferência!$K$2,Conferência!$K$2,\"\")","v":""},{"$f":"IF(Jogo!L971=Conferência!$L$2,Conferência!$L$2,\"\")","v":""},{"$f":"IF(Jogo!M971=Conferência!$M$2,Conferência!$M$2,\"\")","v":""},{"$f":"IF(Jogo!N971=Conferência!$N$2,Conferência!$N$2,\"\")","v":""},{"$f":"IF(Jogo!O971=Conferência!$O$2,Conferência!$O$2,\"\")","v":""},{"$f":"IF(Jogo!P971=Conferência!$P$2,Conferência!$P$2,\"\")","v":""},{"$f":"IF(Jogo!Q971=Conferência!$Q$2,Conferência!$Q$2,\"\")","v":""},""]
[{"$f":"IF(Jogo!A972=Conferência!$A$2,Conferência!$A$2,\"\")","v":""},{"$f":"IF(Jogo!B972=Conferência!$B$2,Conferência!$B$2,\"\")","v":""},{"$f":"IF(Jogo!C972=Conferência!$C$2,Conferência!$C$2,\"\")","v":""},{"$f":"IF(Jogo!D972=Conferência!$D$2,Conferência!$D$2,\"\")","v":""},{"$f":"IF(Jogo!E972=Conferência!$E$2,Conferência!$E$2,\"\")","v":""},{"$f":"IF(Jogo!F972=Conferência!$F$2,Conferência!$F$2,\"\")","v":""},{"$f":"IF(Jogo!G972=Conferência!$G$2,Conferência!$G$2,\"\")","v":""},{"$f":"IF(Jogo!H972=Conferência!$H$2,Conferência!$H$2,\"\")","v":""},{"$f":"IF(Jogo!I972=Conferência!$I$2,Conferência!$I$2,\"\")","v":""},{"$f":"IF(Jogo!J972=Conferência!$J$2,Conferência!$J$2,\"\")","v":""},{"$f":"IF(Jogo!K972=Conferência!$K$2,Conferência!$K$2,\"\")","v":""},{"$f":"IF(Jogo!L972=Conferência!$L$2,Conferência!$L$2,\"\")","v":""},{"$f":"IF(Jogo!M972=Conferência!$M$2,Conferência!$M$2,\"\")","v":""},{"$f":"IF(Jogo!N972=Conferência!$N$2,Conferência!$N$2,\"\")","v":""},{"$f":"IF(Jogo!O972=Conferência!$O$2,Conferência!$O$2,\"\")","v":""},{"$f":"IF(Jogo!P972=Conferência!$P$2,Conferência!$P$2,\"\")","v":""},{"$f":"IF(Jogo!Q972=Conferência!$Q$2,Conferência!$Q$2,\"\")","v":""},""]
[{"$f":"IF(Jogo!A973=Conferência!$A$2,Conferência!$A$2,\"\")","v":""},{"$f":"IF(Jogo!B973=Conferência!$B$2,Conferência!$B$2,\"\")","v":""},{"$f":"IF(Jogo!C973=Conferência!$C$2,Conferência!$C$2,\"\")","v":""},{"$f":"IF(Jogo!D973=Conferência!$D$2,Conferência!$D$2,\"\")","v":""},{"$f":"IF(Jogo!E973=Conferência!$E$2,Conferência!$E$2,\"\")","v":""},{"$f":"IF(Jogo!F973=Conferência!$F$2,Conferência!$F$2,\"\")","v":""},{"$f":"IF(Jogo!G973=Conferência!$G$2,Conferência!$G$2,\"\")","v":""},{"$f":"IF(Jogo!H973=Conferência!$H$2,Conferência!$H$2,\"\")","v":""},{"$f":"IF(Jogo!I973=Conferência!$I$2,Conferência!$I$2,\"\")","v":""},{"$f":"IF(Jogo!J973=Conferência!$J$2,Conferência!$J$2,\"\")","v":""},{"$f":"IF(Jogo!K973=Conferência!$K$2,Conferência!$K$2,\"\")","v":""},{"$f":"IF(Jogo!L973=Conferência!$L$2,Conferência!$L$2,\"\")","v":""},{"$f":"IF(Jogo!M973=Conferência!$M$2,Conferência!$M$2,\"\")","v":""},{"$f":"IF(Jogo!N973=Conferência!$N$2,Conferência!$N$2,\"\")","v":""},{"$f":"IF(Jogo!O973=Conferência!$O$2,Conferência!$O$2,\"\")","v":""},{"$f":"IF(Jogo!P973=Conferência!$P$2,Conferência!$P$2,\"\")","v":""},{"$f":"IF(Jogo!Q973=Conferência!$Q$2,Conferência!$Q$2,\"\")","v":""},""]
[{"$f":"IF(Jogo!A974=Conferência!$A$2,Conferência!$A$2,\"\")","v":""},{"$f":"IF(Jogo!B974=Conferência!$B$2,Conferência!$B$2,\"\")","v":""},{"$f":"IF(Jogo!C974=Conferência!$C$2,Conferência!$C$2,\"\")","v":""},{"$f":"IF(Jogo!D974=Conferência!$D$2,Conferência!$D$2,\"\")","v":""},{"$f":"IF(Jogo!E974=Conferência!$E$2,Conferência!$E$2,\"\")","v":""},{"$f":"IF(Jogo!F974=Conferência!$F$2,Conferência!$F$2,\"\")","v":""},{"$f":"IF(Jogo!G974=Conferência!$G$2,Conferência!$G$2,\"\")","v":""},{"$f":"IF(Jogo!H974=Conferência!$H$2,Conferência!$H$2,\"\")","v":""},{"$f":"IF(Jogo!I974=Conferência!$I$2,Conferência!$I$2,\"\")","v":""},{"$f":"IF(Jogo!J974=Conferência!$J$2,Conferência!$J$2,\"\")","v":""},{"$f":"IF(Jogo!K974=Conferência!$K$2,Conferência!$K$2,\"\")","v":""},{"$f":"IF(Jogo!L974=Conferência!$L$2,Conferência!$L$2,\"\")","v":""},{"$f":"IF(Jogo!M974=Conferência!$M$2,Conferência!$M$2,\"\")","v":""},{"$f":"IF(Jogo!N974=Conferência!$N$2,Conferência!$N$2,\"\")","v":""},{"$f":"IF(Jogo!O974=Conferência!$O$2,Conferência!$O$2,\"\")","v":""},{"$f":"IF(Jogo!P974=Conferência!$P$2,Conferência!$P$2,\"\")","v":""},{"$f":"IF(Jogo!Q974=Conferência!$Q$2,Conferência!$Q$2,\"\")","v":""},""]
[{"$f":"IF(Jogo!A975=Conferência!$A$2,Conferência!$A$2,\"\")","v":""},{"$f":"IF(Jogo!B975=Conferência!$B$2,Conferência!$B$2,\"\")","v":""},{"$f":"IF(Jogo!C975=Conferência!$C$2,Conferência!$C$2,\"\")","v":""},{"$f":"IF(Jogo!D975=Conferência!$D$2,Conferência!$D$2,\"\")","v":""},{"$f":"IF(Jogo!E975=Conferência!$E$2,Conferência!$E$2,\"\")","v":""},{"$f":"IF(Jogo!F975=Conferência!$F$2,Conferência!$F$2,\"\")","v":""},{"$f":"IF(Jogo!G975=Conferência!$G$2,Conferência!$G$2,\"\")","v":""},{"$f":"IF(Jogo!H975=Conferência!$H$2,Conferência!$H$2,\"\")","v":""},{"$f":"IF(Jogo!I975=Conferência!$I$2,Conferência!$I$2,\"\")","v":""},{"$f":"IF(Jogo!J975=Conferência!$J$2,Conferência!$J$2,\"\")","v":""},{"$f":"IF(Jogo!K975=Conferência!$K$2,Conferência!$K$2,\"\")","v":""},{"$f":"IF(Jogo!L975=Conferência!$L$2,Conferência!$L$2,\"\")","v":""},{"$f":"IF(Jogo!M975=Conferência!$M$2,Conferência!$M$2,\"\")","v":""},{"$f":"IF(Jogo!N975=Conferência!$N$2,Conferência!$N$2,\"\")","v":""},{"$f":"IF(Jogo!O975=Conferência!$O$2,Conferência!$O$2,\"\")","v":""},{"$f":"IF(Jogo!P975=Conferência!$P$2,Conferência!$P$2,\"\")","v":""},{"$f":"IF(Jogo!Q975=Conferência!$Q$2,Conferência!$Q$2,\"\")","v":""},""]
[{"$f":"IF(Jogo!A976=Conferência!$A$2,Conferência!$A$2,\"\")","v":""},{"$f":"IF(Jogo!B976=Conferência!$B$2,Conferência!$B$2,\"\")","v":""},{"$f":"IF(Jogo!C976=Conferência!$C$2,Conferência!$C$2,\"\")","v":""},{"$f":"IF(Jogo!D976=Conferência!$D$2,Conferência!$D$2,\"\")","v":""},{"$f":"IF(Jogo!E976=Conferência!$E$2,Conferência!$E$2,\"\")","v":""},{"$f":"IF(Jogo!F976=Conferência!$F$2,Conferência!$F$2,\"\")","v":""},{"$f":"IF(Jogo!G976=Conferência!$G$2,Conferência!$G$2,\"\")","v":""},{"$f":"IF(Jogo!H976=Conferência!$H$2,Conferência!$H$2,\"\")","v":""},{"$f":"IF(Jogo!I976=Conferência!$I$2,Conferência!$I$2,\"\")","v":""},{"$f":"IF(Jogo!J976=Conferência!$J$2,Conferência!$J$2,\"\")","v":""},{"$f":"IF(Jogo!K976=Conferência!$K$2,Conferência!$K$2,\"\")","v":""},{"$f":"IF(Jogo!L976=Conferência!$L$2,Conferência!$L$2,\"\")","v":""},{"$f":"IF(Jogo!M976=Conferência!$M$2,Conferência!$M$2,\"\")","v":""},{"$f":"IF(Jogo!N976=Conferência!$N$2,Conferência!$N$2,\"\")","v":""},{"$f":"IF(Jogo!O976=Conferência!$O$2,Conferência!$O$2,\"\")","v":""},{"$f":"IF(Jogo!P976=Conferência!$P$2,Conferência!$P$2,\"\")","v":""},{"$f":"IF(Jogo!Q976=Conferência!$Q$2,Conferência!$Q$2,\"\")","v":""},""]
[{"$f":"IF(Jogo!A977=Conferência!$A$2,Conferência!$A$2,\"\")","v":""},{"$f":"IF(Jogo!B977=Conferência!$B$2,Conferência!$B$2,\"\")","v":""},{"$f":"IF(Jogo!C977=Conferência!$C$2,Conferência!$C$2,\"\")","v":""},{"$f":"IF(Jogo!D977=Conferência!$D$2,Conferência!$D$2,\"\")","v":""},{"$f":"IF(Jogo!E977=Conferência!$E$2,Conferência!$E$2,\"\")","v":""},{"$f":"IF(Jogo!F977=Conferência!$F$2,Conferência!$F$2,\"\")","v":""},{"$f":"IF(Jogo!G977=Conferência!$G$2,Conferência!$G$2,\"\")","v":""},{"$f":"IF(Jogo!H977=Conferência!$H$2,Conferência!$H$2,\"\")","v":""},{"$f":"IF(Jogo!I977=Conferência!$I$2,Conferência!$I$2,\"\")","v":""},{"$f":"IF(Jogo!J977=Conferência!$J$2,Conferência!$J$2,\"\")","v":""},{"$f":"IF(Jogo!K977=Conferência!$K$2,Conferência!$K$2,\"\")","v":""},{"$f":"IF(Jogo!L977=Conferência!$L$2,Conferência!$L$2,\"\")","v":""},{"$f":"IF(Jogo!M977=Conferência!$M$2,Conferência!$M$2,\"\")","v":""},{"$f":"IF(Jogo!N977=Conferência!$N$2,Conferência!$N$2,\"\")","v":""},{"$f":"IF(Jogo!O977=Conferência!$O$2,Conferência!$O$2,\"\")","v":""},{"$f":"IF(Jogo!P977=Conferência!$P$2,Conferência!$P$2,\"\")","v":""},{"$f":"IF(Jogo!Q977=Conferência!$Q$2,Conferência!$Q$2,\"\")","v":""},""]
[{"$f":"IF(Jogo!A978=Conferência!$A$2,Conferência!$A$2,\"\")","v":""},{"$f":"IF(Jogo!B978=Conferência!$B$2,Conferência!$B$2,\"\")","v":""},{"$f":"IF(Jogo!C978=Conferência!$C$2,Conferência!$C$2,\"\")","v":""},{"$f":"IF(Jogo!D978=Conferência!$D$2,Conferência!$D$2,\"\")","v":""},{"$f":"IF(Jogo!E978=Conferência!$E$2,Conferência!$E$2,\"\")","v":""},{"$f":"IF(Jogo!F978=Conferência!$F$2,Conferência!$F$2,\"\")","v":""},{"$f":"IF(Jogo!G978=Conferência!$G$2,Conferência!$G$2,\"\")","v":""},{"$f":"IF(Jogo!H978=Conferência!$H$2,Conferência!$H$2,\"\")","v":""},{"$f":"IF(Jogo!I978=Conferência!$I$2,Conferência!$I$2,\"\")","v":""},{"$f":"IF(Jogo!J978=Conferência!$J$2,Conferência!$J$2,\"\")","v":""},{"$f":"IF(Jogo!K978=Conferência!$K$2,Conferência!$K$2,\"\")","v":""},{"$f":"IF(Jogo!L978=Conferência!$L$2,Conferência!$L$2,\"\")","v":""},{"$f":"IF(Jogo!M978=Conferência!$M$2,Conferência!$M$2,\"\")","v":""},{"$f":"IF(Jogo!N978=Conferência!$N$2,Conferência!$N$2,\"\")","v":""},{"$f":"IF(Jogo!O978=Conferência!$O$2,Conferência!$O$2,\"\")","v":""},{"$f":"IF(Jogo!P978=Conferência!$P$2,Conferência!$P$2,\"\")","v":""},{"$f":"IF(Jogo!Q978=Conferência!$Q$2,Conferência!$Q$2,\"\")","v":""},{"$f":"IF(A978=\"\",\"\",\"OK\")","v":""}]
[{"$f":"IF(Jogo!A979=Conferência!$A$2,Conferência!$A$2,\"\")","v":""},{"$f":"IF(Jogo!B979=Conferência!$B$2,Conferência!$B$2,\"\")","v":""},{"$f":"IF(Jogo!C979=Conferência!$C$2,Conferência!$C$2,\"\")","v":""},{"$f":"IF(Jogo!D979=Conferência!$D$2,Conferência!$D$2,\"\")","v":""},{"$f":"IF(Jogo!E979=Conferência!$E$2,Conferência!$E$2,\"\")","v":""},{"$f":"IF(Jogo!F979=Conferência!$F$2,Conferência!$F$2,\"\")","v":""},{"$f":"IF(Jogo!G979=Conferência!$G$2,Conferência!$G$2,\"\")","v":""},{"$f":"IF(Jogo!H979=Conferência!$H$2,Conferência!$H$2,\"\")","v":""},{"$f":"IF(Jogo!I979=Conferência!$I$2,Conferência!$I$2,\"\")","v":""},{"$f":"IF(Jogo!J979=Conferência!$J$2,Conferência!$J$2,\"\")","v":""},{"$f":"IF(Jogo!K979=Conferência!$K$2,Conferência!$K$2,\"\")","v":""},{"$f":"IF(Jogo!L979=Conferência!$L$2,Conferência!$L$2,\"\")","v":""},{"$f":"IF(Jogo!M979=Conferência!$M$2,Conferência!$M$2,\"\")","v":""},{"$f":"IF(Jogo!N979=Conferência!$N$2,Conferência!$N$2,\"\")","v":""},{"$f":"IF(Jogo!O979=Conferência!$O$2,Conferência!$O$2,\"\")","v":""},{"$f":"IF(Jogo!P979=Conferência!$P$2,Conferência!$P$2,\"\")","v":""},{"$f":"IF(Jogo!Q979=Conferência!$Q$2,Conferência!$Q$2,\"\")","v":""},""]
[{"$f":"IF(Jogo!A980=Conferência!$A$2,Conferência!$A$2,\"\")","v":""},{"$f":"IF(Jogo!B980=Conferência!$B$2,Conferência!$B$2,\"\")","v":""},{"$f":"IF(Jogo!C980=Conferência!$C$2,Conferência!$C$2,\"\")","v":""},{"$f":"IF(Jogo!D980=Conferência!$D$2,Conferência!$D$2,\"\")","v":""},{"$f":"IF(Jogo!E980=Conferência!$E$2,Conferência!$E$2,\"\")","v":""},{"$f":"IF(Jogo!F980=Conferência!$F$2,Conferência!$F$2,\"\")","v":""},{"$f":"IF(Jogo!G980=Conferência!$G$2,Conferência!$G$2,\"\")","v":""},{"$f":"IF(Jogo!H980=Conferência!$H$2,Conferência!$H$2,\"\")","v":""},{"$f":"IF(Jogo!I980=Conferência!$I$2,Conferência!$I$2,\"\")","v":""},{"$f":"IF(Jogo!J980=Conferência!$J$2,Conferência!$J$2,\"\")","v":""},{"$f":"IF(Jogo!K980=Conferência!$K$2,Conferência!$K$2,\"\")","v":""},{"$f":"IF(Jogo!L980=Conferência!$L$2,Conferência!$L$2,\"\")","v":""},{"$f":"IF(Jogo!M980=Conferência!$M$2,Conferência!$M$2,\"\")","v":""},{"$f":"IF(Jogo!N980=Conferência!$N$2,Conferência!$N$2,\"\")","v":""},{"$f":"IF(Jogo!O980=Conferência!$O$2,Conferência!$O$2,\"\")","v":""},{"$f":"IF(Jogo!P980=Conferência!$P$2,Conferência!$P$2,\"\")","v":""},{"$f":"IF(Jogo!Q980=Conferência!$Q$2,Conferência!$Q$2,\"\")","v":""},""]
[{"$f":"IF(Jogo!A981=Conferência!$A$2,Conferência!$A$2,\"\")","v":""},{"$f":"IF(Jogo!B981=Conferência!$B$2,Conferência!$B$2,\"\")","v":""},{"$f":"IF(Jogo!C981=Conferência!$C$2,Conferência!$C$2,\"\")","v":""},{"$f":"IF(Jogo!D981=Conferência!$D$2,Conferência!$D$2,\"\")","v":""},{"$f":"IF(Jogo!E981=Conferência!$E$2,Conferência!$E$2,\"\")","v":""},{"$f":"IF(Jogo!F981=Conferência!$F$2,Conferência!$F$2,\"\")","v":""},{"$f":"IF(Jogo!G981=Conferência!$G$2,Conferência!$G$2,\"\")","v":""},{"$f":"IF(Jogo!H981=Conferência!$H$2,Conferência!$H$2,\"\")","v":""},{"$f":"IF(Jogo!I981=Conferência!$I$2,Conferência!$I$2,\"\")","v":""},{"$f":"IF(Jogo!J981=Conferência!$J$2,Conferência!$J$2,\"\")","v":""},{"$f":"IF(Jogo!K981=Conferência!$K$2,Conferência!$K$2,\"\")","v":""},{"$f":"IF(Jogo!L981=Conferência!$L$2,Conferência!$L$2,\"\")","v":""},{"$f":"IF(Jogo!M981=Conferência!$M$2,Conferência!$M$2,\"\")","v":""},{"$f":"IF(Jogo!N981=Conferência!$N$2,Conferência!$N$2,\"\")","v":""},{"$f":"IF(Jogo!O981=Conferência!$O$2,Conferência!$O$2,\"\")","v":""},{"$f":"IF(Jogo!P981=Conferência!$P$2,Conferência!$P$2,\"\")","v":""},{"$f":"IF(Jogo!Q981=Conferência!$Q$2,Conferência!$Q$2,\"\")","v":""},""]
[{"$f":"IF(Jogo!A982=Conferência!$A$2,Conferência!$A$2,\"\")","v":""},{"$f":"IF(Jogo!B982=Conferência!$B$2,Conferência!$B$2,\"\")","v":""},{"$f":"IF(Jogo!C982=Conferência!$C$2,Conferência!$C$2,\"\")","v":""},{"$f":"IF(Jogo!D982=Conferência!$D$2,Conferência!$D$2,\"\")","v":""},{"$f":"IF(Jogo!E982=Conferência!$E$2,Conferência!$E$2,\"\")","v":""},{"$f":"IF(Jogo!F982=Conferência!$F$2,Conferência!$F$2,\"\")","v":""},{"$f":"IF(Jogo!G982=Conferência!$G$2,Conferência!$G$2,\"\")","v":""},{"$f":"IF(Jogo!H982=Conferência!$H$2,Conferência!$H$2,\"\")","v":""},{"$f":"IF(Jogo!I982=Conferência!$I$2,Conferência!$I$2,\"\")","v":""},{"$f":"IF(Jogo!J982=Conferência!$J$2,Conferência!$J$2,\"\")","v":""},{"$f":"IF(Jogo!K982=Conferência!$K$2,Conferência!$K$2,\"\")","v":""},{"$f":"IF(Jogo!L982=Conferência!$L$2,Conferência!$L$2,\"\")","v":""},{"$f":"IF(Jogo!M982=Conferência!$M$2,Conferência!$M$2,\"\")","v":""},{"$f":"IF(Jogo!N982=Conferência!$N$2,Conferência!$N$2,\"\")","v":""},{"$f":"IF(Jogo!O982=Conferência!$O$2,Conferência!$O$2,\"\")","v":""},{"$f":"IF(Jogo!P982=Conferência!$P$2,Conferência!$P$2,\"\")","v":""},{"$f":"IF(Jogo!Q982=Conferência!$Q$2,Conferência!$Q$2,\"\")","v":""},""]
[{"$f":"IF(Jogo!A983=Conferência!$A$2,Conferência!$A$2,\"\")","v":""},{"$f":"IF(Jogo!B983=Conferência!$B$2,Conferência!$B$2,\"\")","v":""},{"$f":"IF(Jogo!C983=Conferência!$C$2,Conferência!$C$2,\"\")","v":""},{"$f":"IF(Jogo!D983=Conferência!$D$2,Conferência!$D$2,\"\")","v":""},{"$f":"IF(Jogo!E983=Conferência!$E$2,Conferência!$E$2,\"\")","v":""},{"$f":"IF(Jogo!F983=Conferência!$F$2,Conferência!$F$2,\"\")","v":""},{"$f":"IF(Jogo!G983=Conferência!$G$2,Conferência!$G$2,\"\")","v":""},{"$f":"IF(Jogo!H983=Conferência!$H$2,Conferência!$H$2,\"\")","v":""},{"$f":"IF(Jogo!I983=Conferência!$I$2,Conferência!$I$2,\"\")","v":""},{"$f":"IF(Jogo!J983=Conferência!$J$2,Conferência!$J$2,\"\")","v":""},{"$f":"IF(Jogo!K983=Conferência!$K$2,Conferência!$K$2,\"\")","v":""},{"$f":"IF(Jogo!L983=Conferência!$L$2,Conferência!$L$2,\"\")","v":""},{"$f":"IF(Jogo!M983=Conferência!$M$2,Conferência!$M$2,\"\")","v":""},{"$f":"IF(Jogo!N983=Conferência!$N$2,Conferência!$N$2,\"\")","v":""},{"$f":"IF(Jogo!O983=Conferência!$O$2,Conferência!$O$2,\"\")","v":""},{"$f":"IF(Jogo!P983=Conferência!$P$2,Conferência!$P$2,\"\")","v":""},{"$f":"IF(Jogo!Q983=Conferência!$Q$2,Conferência!$Q$2,\"\")","v":""},""]
[{"$f":"IF(Jogo!A984=Conferência!$A$2,Conferência!$A$2,\"\")","v":""},{"$f":"IF(Jogo!B984=Conferência!$B$2,Conferência!$B$2,\"\")","v":""},{"$f":"IF(Jogo!C984=Conferência!$C$2,Conferência!$C$2,\"\")","v":""},{"$f":"IF(Jogo!D984=Conferência!$D$2,Conferência!$D$2,\"\")","v":""},{"$f":"IF(Jogo!E984=Conferência!$E$2,Conferência!$E$2,\"\")","v":""},{"$f":"IF(Jogo!F984=Conferência!$F$2,Conferência!$F$2,\"\")","v":""},{"$f":"IF(Jogo!G984=Conferência!$G$2,Conferência!$G$2,\"\")","v":""},{"$f":"IF(Jogo!H984=Conferência!$H$2,Conferência!$H$2,\"\")","v":""},{"$f":"IF(Jogo!I984=Conferência!$I$2,Conferência!$I$2,\"\")","v":""},{"$f":"IF(Jogo!J984=Conferência!$J$2,Conferência!$J$2,\"\")","v":""},{"$f":"IF(Jogo!K984=Conferência!$K$2,Conferência!$K$2,\"\")","v":""},{"$f":"IF(Jogo!L984=Conferência!$L$2,Conferência!$L$2,\"\")","v":""},{"$f":"IF(Jogo!M984=Conferência!$M$2,Conferência!$M$2,\"\")","v":""},{"$f":"IF(Jogo!N984=Conferência!$N$2,Conferência!$N$2,\"\")","v":""},{"$f":"IF(Jogo!O984=Conferência!$O$2,Conferência!$O$2,\"\")","v":""},{"$f":"IF(Jogo!P984=Conferência!$P$2,Conferência!$P$2,\"\")","v":""},{"$f":"IF(Jogo!Q984=Conferência!$Q$2,Conferência!$Q$2,\"\")","v":""},""]
[{"$f":"IF(Jogo!A985=Conferência!$A$2,Conferência!$A$2,\"\")","v":""},{"$f":"IF(Jogo!B985=Conferência!$B$2,Conferência!$B$2,\"\")","v":""},{"$f":"IF(Jogo!C985=Conferência!$C$2,Conferência!$C$2,\"\")","v":""},{"$f":"IF(Jogo!D985=Conferência!$D$2,Conferência!$D$2,\"\")","v":""},{"$f":"IF(Jogo!E985=Conferência!$E$2,Conferência!$E$2,\"\")","v":""},{"$f":"IF(Jogo!F985=Conferência!$F$2,Conferência!$F$2,\"\")","v":""},{"$f":"IF(Jogo!G985=Conferência!$G$2,Conferência!$G$2,\"\")","v":""},{"$f":"IF(Jogo!H985=Conferência!$H$2,Conferência!$H$2,\"\")","v":""},{"$f":"IF(Jogo!I985=Conferência!$I$2,Conferência!$I$2,\"\")","v":""},{"$f":"IF(Jogo!J985=Conferência!$J$2,Conferência!$J$2,\"\")","v":""},{"$f":"IF(Jogo!K985=Conferência!$K$2,Conferência!$K$2,\"\")","v":""},{"$f":"IF(Jogo!L985=Conferência!$L$2,Conferência!$L$2,\"\")","v":""},{"$f":"IF(Jogo!M985=Conferência!$M$2,Conferência!$M$2,\"\")","v":""},{"$f":"IF(Jogo!N985=Conferência!$N$2,Conferência!$N$2,\"\")","v":""},{"$f":"IF(Jogo!O985=Conferência!$O$2,Conferência!$O$2,\"\")","v":""},{"$f":"IF(Jogo!P985=Conferência!$P$2,Conferência!$P$2,\"\")","v":""},{"$f":"IF(Jogo!Q985=Conferência!$Q$2,Conferência!$Q$2,\"\")","v":""},""]
[{"$f":"IF(Jogo!A986=Conferência!$A$2,Conferência!$A$2,\"\")","v":""},{"$f":"IF(Jogo!B986=Conferência!$B$2,Conferência!$B$2,\"\")","v":""},{"$f":"IF(Jogo!C986=Conferência!$C$2,Conferência!$C$2,\"\")","v":""},{"$f":"IF(Jogo!D986=Conferência!$D$2,Conferência!$D$2,\"\")","v":""},{"$f":"IF(Jogo!E986=Conferência!$E$2,Conferência!$E$2,\"\")","v":""},{"$f":"IF(Jogo!F986=Conferência!$F$2,Conferência!$F$2,\"\")","v":""},{"$f":"IF(Jogo!G986=Conferência!$G$2,Conferência!$G$2,\"\")","v":""},{"$f":"IF(Jogo!H986=Conferência!$H$2,Conferência!$H$2,\"\")","v":""},{"$f":"IF(Jogo!I986=Conferência!$I$2,Conferência!$I$2,\"\")","v":""},{"$f":"IF(Jogo!J986=Conferência!$J$2,Conferência!$J$2,\"\")","v":""},{"$f":"IF(Jogo!K986=Conferência!$K$2,Conferência!$K$2,\"\")","v":""},{"$f":"IF(Jogo!L986=Conferência!$L$2,Conferência!$L$2,\"\")","v":""},{"$f":"IF(Jogo!M986=Conferência!$M$2,Conferência!$M$2,\"\")","v":""},{"$f":"IF(Jogo!N986=Conferência!$N$2,Conferência!$N$2,\"\")","v":""},{"$f":"IF(Jogo!O986=Conferência!$O$2,Conferência!$O$2,\"\")","v":""},{"$f":"IF(Jogo!P986=Conferência!$P$2,Conferência!$P$2,\"\")","v":""},{"$f":"IF(Jogo!Q986=Conferência!$Q$2,Conferência!$Q$2,\"\")","v":""},""]
[{"$f":"IF(Jogo!A987=Conferência!$A$2,Conferência!$A$2,\"\")","v":""},{"$f":"IF(Jogo!B987=Conferência!$B$2,Conferência!$B$2,\"\")","v":""},{"$f":"IF(Jogo!C987=Conferência!$C$2,Conferência!$C$2,\"\")","v":""},{"$f":"IF(Jogo!D987=Conferência!$D$2,Conferência!$D$2,\"\")","v":""},{"$f":"IF(Jogo!E987=Conferência!$E$2,Conferência!$E$2,\"\")","v":""},{"$f":"IF(Jogo!F987=Conferência!$F$2,Conferência!$F$2,\"\")","v":""},{"$f":"IF(Jogo!G987=Conferência!$G$2,Conferência!$G$2,\"\")","v":""},{"$f":"IF(Jogo!H987=Conferência!$H$2,Conferência!$H$2,\"\")","v":""},{"$f":"IF(Jogo!I987=Conferência!$I$2,Conferência!$I$2,\"\")","v":""},{"$f":"IF(Jogo!J987=Conferência!$J$2,Conferência!$J$2,\"\")","v":""},{"$f":"IF(Jogo!K987=Conferência!$K$2,Conferência!$K$2,\"\")","v":""},{"$f":"IF(Jogo!L987=Conferência!$L$2,Conferência!$L$2,\"\")","v":""},{"$f":"IF(Jogo!M987=Conferência!$M$2,Conferência!$M$2,\"\")","v":""},{"$f":"IF(Jogo!N987=Conferência!$N$2,Conferência!$N$2,\"\")","v":""},{"$f":"IF(Jogo!O987=Conferência!$O$2,Conferência!$O$2,\"\")","v":""},{"$f":"IF(Jogo!P987=Conferência!$P$2,Conferência!$P$2,\"\")","v":""},{"$f":"IF(Jogo!Q987=Conferência!$Q$2,Conferência!$Q$2,\"\")","v":""},""]
[{"$f":"IF(Jogo!A988=Conferência!$A$2,Conferência!$A$2,\"\")","v":""},{"$f":"IF(Jogo!B988=Conferência!$B$2,Conferência!$B$2,\"\")","v":""},{"$f":"IF(Jogo!C988=Conferência!$C$2,Conferência!$C$2,\"\")","v":""},{"$f":"IF(Jogo!D988=Conferência!$D$2,Conferência!$D$2,\"\")","v":""},{"$f":"IF(Jogo!E988=Conferência!$E$2,Conferência!$E$2,\"\")","v":""},{"$f":"IF(Jogo!F988=Conferência!$F$2,Conferência!$F$2,\"\")","v":""},{"$f":"IF(Jogo!G988=Conferência!$G$2,Conferência!$G$2,\"\")","v":""},{"$f":"IF(Jogo!H988=Conferência!$H$2,Conferência!$H$2,\"\")","v":""},{"$f":"IF(Jogo!I988=Conferência!$I$2,Conferência!$I$2,\"\")","v":""},{"$f":"IF(Jogo!J988=Conferência!$J$2,Conferência!$J$2,\"\")","v":""},{"$f":"IF(Jogo!K988=Conferência!$K$2,Conferência!$K$2,\"\")","v":""},{"$f":"IF(Jogo!L988=Conferência!$L$2,Conferência!$L$2,\"\")","v":""},{"$f":"IF(Jogo!M988=Conferência!$M$2,Conferência!$M$2,\"\")","v":""},{"$f":"IF(Jogo!N988=Conferência!$N$2,Conferência!$N$2,\"\")","v":""},{"$f":"IF(Jogo!O988=Conferência!$O$2,Conferência!$O$2,\"\")","v":""},{"$f":"IF(Jogo!P988=Conferência!$P$2,Conferência!$P$2,\"\")","v":""},{"$f":"IF(Jogo!Q988=Conferência!$Q$2,Conferência!$Q$2,\"\")","v":""},""]
[{"$f":"IF(Jogo!A989=Conferência!$A$2,Conferência!$A$2,\"\")","v":""},{"$f":"IF(Jogo!B989=Conferência!$B$2,Conferência!$B$2,\"\")","v":""},{"$f":"IF(Jogo!C989=Conferência!$C$2,Conferência!$C$2,\"\")","v":""},{"$f":"IF(Jogo!D989=Conferência!$D$2,Conferência!$D$2,\"\")","v":""},{"$f":"IF(Jogo!E989=Conferência!$E$2,Conferência!$E$2,\"\")","v":""},{"$f":"IF(Jogo!F989=Conferência!$F$2,Conferência!$F$2,\"\")","v":""},{"$f":"IF(Jogo!G989=Conferência!$G$2,Conferência!$G$2,\"\")","v":""},{"$f":"IF(Jogo!H989=Conferência!$H$2,Conferência!$H$2,\"\")","v":""},{"$f":"IF(Jogo!I989=Conferência!$I$2,Conferência!$I$2,\"\")","v":""},{"$f":"IF(Jogo!J989=Conferência!$J$2,Conferência!$J$2,\"\")","v":""},{"$f":"IF(Jogo!K989=Conferência!$K$2,Conferência!$K$2,\"\")","v":""},{"$f":"IF(Jogo!L989=Conferência!$L$2,Conferência!$L$2,\"\")","v":""},{"$f":"IF(Jogo!M989=Conferência!$M$2,Conferência!$M$2,\"\")","v":""},{"$f":"IF(Jogo!N989=Conferência!$N$2,Conferência!$N$2,\"\")","v":""},{"$f":"IF(Jogo!O989=Conferência!$O$2,Conferência!$O$2,\"\")","v":""},{"$f":"IF(Jogo!P989=Conferência!$P$2,Conferência!$P$2,\"\")","v":""},{"$f":"IF(Jogo!Q989=Conferência!$Q$2,Conferência!$Q$2,\"\")","v":""},""]
[{"$f":"IF(Jogo!A990=Conferência!$A$2,Conferência!$A$2,\"\")","v":""},{"$f":"IF(Jogo!B990=Conferência!$B$2,Conferência!$B$2,\"\")","v":""},{"$f":"IF(Jogo!C990=Conferência!$C$2,Conferência!$C$2,\"\")","v":""},{"$f":"IF(Jogo!D990=Conferência!$D$2,Conferência!$D$2,\"\")","v":""},{"$f":"IF(Jogo!E990=Conferência!$E$2,Conferência!$E$2,\"\")","v":""},{"$f":"IF(Jogo!F990=Conferência!$F$2,Conferência!$F$2,\"\")","v":""},{"$f":"IF(Jogo!G990=Conferência!$G$2,Conferência!$G$2,\"\")","v":""},{"$f":"IF(Jogo!H990=Conferência!$H$2,Conferência!$H$2,\"\")","v":""},{"$f":"IF(Jogo!I990=Conferência!$I$2,Conferência!$I$2,\"\")","v":""},{"$f":"IF(Jogo!J990=Conferência!$J$2,Conferência!$J$2,\"\")","v":""},{"$f":"IF(Jogo!K990=Conferência!$K$2,Conferência!$K$2,\"\")","v":""},{"$f":"IF(Jogo!L990=Conferência!$L$2,Conferência!$L$2,\"\")","v":""},{"$f":"IF(Jogo!M990=Conferência!$M$2,Conferência!$M$2,\"\")","v":""},{"$f":"IF(Jogo!N990=Conferência!$N$2,Conferência!$N$2,\"\")","v":""},{"$f":"IF(Jogo!O990=Conferência!$O$2,Conferência!$O$2,\"\")","v":""},{"$f":"IF(Jogo!P990=Conferência!$P$2,Conferência!$P$2,\"\")","v":""},{"$f":"IF(Jogo!Q990=Conferência!$Q$2,Conferência!$Q$2,\"\")","v":""},""]
[{"$f":"IF(Jogo!A991=Conferência!$A$2,Conferência!$A$2,\"\")","v":""},{"$f":"IF(Jogo!B991=Conferência!$B$2,Conferência!$B$2,\"\")","v":""},{"$f":"IF(Jogo!C991=Conferência!$C$2,Conferência!$C$2,\"\")","v":""},{"$f":"IF(Jogo!D991=Conferência!$D$2,Conferência!$D$2,\"\")","v":""},{"$f":"IF(Jogo!E991=Conferência!$E$2,Conferência!$E$2,\"\")","v":""},{"$f":"IF(Jogo!F991=Conferência!$F$2,Conferência!$F$2,\"\")","v":""},{"$f":"IF(Jogo!G991=Conferência!$G$2,Conferência!$G$2,\"\")","v":""},{"$f":"IF(Jogo!H991=Conferência!$H$2,Conferência!$H$2,\"\")","v":""},{"$f":"IF(Jogo!I991=Conferência!$I$2,Conferência!$I$2,\"\")","v":""},{"$f":"IF(Jogo!J991=Conferência!$J$2,Conferência!$J$2,\"\")","v":""},{"$f":"IF(Jogo!K991=Conferência!$K$2,Conferência!$K$2,\"\")","v":""},{"$f":"IF(Jogo!L991=Conferência!$L$2,Conferência!$L$2,\"\")","v":""},{"$f":"IF(Jogo!M991=Conferência!$M$2,Conferência!$M$2,\"\")","v":""},{"$f":"IF(Jogo!N991=Conferência!$N$2,Conferência!$N$2,\"\")","v":""},{"$f":"IF(Jogo!O991=Conferência!$O$2,Conferência!$O$2,\"\")","v":""},{"$f":"IF(Jogo!P991=Conferência!$P$2,Conferência!$P$2,\"\")","v":""},{"$f":"IF(Jogo!Q991=Conferência!$Q$2,Conferência!$Q$2,\"\")","v":""},""]
[{"$f":"IF(Jogo!A992=Conferência!$A$2,Conferência!$A$2,\"\")","v":""},{"$f":"IF(Jogo!B992=Conferência!$B$2,Conferência!$B$2,\"\")","v":""},{"$f":"IF(Jogo!C992=Conferência!$C$2,Conferência!$C$2,\"\")","v":""},{"$f":"IF(Jogo!D992=Conferência!$D$2,Conferência!$D$2,\"\")","v":""},{"$f":"IF(Jogo!E992=Conferência!$E$2,Conferência!$E$2,\"\")","v":""},{"$f":"IF(Jogo!F992=Conferência!$F$2,Conferência!$F$2,\"\")","v":""},{"$f":"IF(Jogo!G992=Conferência!$G$2,Conferência!$G$2,\"\")","v":""},{"$f":"IF(Jogo!H992=Conferência!$H$2,Conferência!$H$2,\"\")","v":""},{"$f":"IF(Jogo!I992=Conferência!$I$2,Conferência!$I$2,\"\")","v":""},{"$f":"IF(Jogo!J992=Conferência!$J$2,Conferência!$J$2,\"\")","v":""},{"$f":"IF(Jogo!K992=Conferência!$K$2,Conferência!$K$2,\"\")","v":""},{"$f":"IF(Jogo!L992=Conferência!$L$2,Conferência!$L$2,\"\")","v":""},{"$f":"IF(Jogo!M992=Conferência!$M$2,Conferência!$M$2,\"\")","v":""},{"$f":"IF(Jogo!N992=Conferência!$N$2,Conferência!$N$2,\"\")","v":""},{"$f":"IF(Jogo!O992=Conferência!$O$2,Conferência!$O$2,\"\")","v":""},{"$f":"IF(Jogo!P992=Conferência!$P$2,Conferência!$P$2,\"\")","v":""},{"$f":"IF(Jogo!Q992=Conferência!$Q$2,Conferência!$Q$2,\"\")","v":""},""]
[{"$f":"IF(Jogo!A993=Conferência!$A$2,Conferência!$A$2,\"\")","v":""},{"$f":"IF(Jogo!B993=Conferência!$B$2,Conferência!$B$2,\"\")","v":""},{"$f":"IF(Jogo!C993=Conferência!$C$2,Conferência!$C$2,\"\")","v":""},{"$f":"IF(Jogo!D993=Conferência!$D$2,Conferência!$D$2,\"\")","v":""},{"$f":"IF(Jogo!E993=Conferência!$E$2,Conferência!$E$2,\"\")","v":""},{"$f":"IF(Jogo!F993=Conferência!$F$2,Conferência!$F$2,\"\")","v":""},{"$f":"IF(Jogo!G993=Conferência!$G$2,Conferência!$G$2,\"\")","v":""},{"$f":"IF(Jogo!H993=Conferência!$H$2,Conferência!$H$2,\"\")","v":""},{"$f":"IF(Jogo!I993=Conferência!$I$2,Conferência!$I$2,\"\")","v":""},{"$f":"IF(Jogo!J993=Conferência!$J$2,Conferência!$J$2,\"\")","v":""},{"$f":"IF(Jogo!K993=Conferência!$K$2,Conferência!$K$2,\"\")","v":""},{"$f":"IF(Jogo!L993=Conferência!$L$2,Conferência!$L$2,\"\")","v":""},{"$f":"IF(Jogo!M993=Conferência!$M$2,Conferência!$M$2,\"\")","v":""},{"$f":"IF(Jogo!N993=Conferência!$N$2,Conferência!$N$2,\"\")","v":""},{"$f":"IF(Jogo!O993=Conferência!$O$2,Conferência!$O$2,\"\")","v":""},{"$f":"IF(Jogo!P993=Conferência!$P$2,Conferência!$P$2,\"\")","v":""},{"$f":"IF(Jogo!Q993=Conferência!$Q$2,Conferência!$Q$2,\"\")","v":""},""]
[{"$f":"IF(Jogo!A994=Conferência!$A$2,Conferência!$A$2,\"\")","v":""},{"$f":"IF(Jogo!B994=Conferência!$B$2,Conferência!$B$2,\"\")","v":""},{"$f":"IF(Jogo!C994=Conferência!$C$2,Conferência!$C$2,\"\")","v":""},{"$f":"IF(Jogo!D994=Conferência!$D$2,Conferência!$D$2,\"\")","v":""},{"$f":"IF(Jogo!E994=Conferência!$E$2,Conferência!$E$2,\"\")","v":""},{"$f":"IF(Jogo!F994=Conferência!$F$2,Conferência!$F$2,\"\")","v":""},{"$f":"IF(Jogo!G994=Conferência!$G$2,Conferência!$G$2,\"\")","v":""},{"$f":"IF(Jogo!H994=Conferência!$H$2,Conferência!$H$2,\"\")","v":""},{"$f":"IF(Jogo!I994=Conferência!$I$2,Conferência!$I$2,\"\")","v":""},{"$f":"IF(Jogo!J994=Conferência!$J$2,Conferência!$J$2,\"\")","v":""},{"$f":"IF(Jogo!K994=Conferência!$K$2,Conferência!$K$2,\"\")","v":""},{"$f":"IF(Jogo!L994=Conferência!$L$2,Conferência!$L$2,\"\")","v":""},{"$f":"IF(Jogo!M994=Conferência!$M$2,Conferência!$M$2,\"\")","v":""},{"$f":"IF(Jogo!N994=Conferência!$N$2,Conferência!$N$2,\"\")","v":""},{"$f":"IF(Jogo!O994=Conferência!$O$2,Conferência!$O$2,\"\")","v":""},{"$f":"IF(Jogo!P994=Conferência!$P$2,Conferência!$P$2,\"\")","v":""},{"$f":"IF(Jogo!Q994=Conferência!$Q$2,Conferência!$Q$2,\"\")","v":""},""]
[{"$f":"IF(Jogo!A995=Conferência!$A$2,Conferência!$A$2,\"\")","v":""},{"$f":"IF(Jogo!B995=Conferência!$B$2,Conferência!$B$2,\"\")","v":""},{"$f":"IF(Jogo!C995=Conferência!$C$2,Conferência!$C$2,\"\")","v":""},{"$f":"IF(Jogo!D995=Conferência!$D$2,Conferência!$D$2,\"\")","v":""},{"$f":"IF(Jogo!E995=Conferência!$E$2,Conferência!$E$2,\"\")","v":""},{"$f":"IF(Jogo!F995=Conferência!$F$2,Conferência!$F$2,\"\")","v":""},{"$f":"IF(Jogo!G995=Conferência!$G$2,Conferência!$G$2,\"\")","v":""},{"$f":"IF(Jogo!H995=Conferência!$H$2,Conferência!$H$2,\"\")","v":""},{"$f":"IF(Jogo!I995=Conferência!$I$2,Conferência!$I$2,\"\")","v":""},{"$f":"IF(Jogo!J995=Conferência!$J$2,Conferência!$J$2,\"\")","v":""},{"$f":"IF(Jogo!K995=Conferência!$K$2,Conferência!$K$2,\"\")","v":""},{"$f":"IF(Jogo!L995=Conferência!$L$2,Conferência!$L$2,\"\")","v":""},{"$f":"IF(Jogo!M995=Conferência!$M$2,Conferência!$M$2,\"\")","v":""},{"$f":"IF(Jogo!N995=Conferência!$N$2,Conferência!$N$2,\"\")","v":""},{"$f":"IF(Jogo!O995=Conferência!$O$2,Conferência!$O$2,\"\")","v":""},{"$f":"IF(Jogo!P995=Conferência!$P$2,Conferência!$P$2,\"\")","v":""},{"$f":"IF(Jogo!Q995=Conferência!$Q$2,Conferência!$Q$2,\"\")","v":""},""]
[{"$f":"IF(Jogo!A996=Conferência!$A$2,Conferência!$A$2,\"\")","v":""},{"$f":"IF(Jogo!B996=Conferência!$B$2,Conferência!$B$2,\"\")","v":""},{"$f":"IF(Jogo!C996=Conferência!$C$2,Conferência!$C$2,\"\")","v":""},{"$f":"IF(Jogo!D996=Conferência!$D$2,Conferência!$D$2,\"\")","v":""},{"$f":"IF(Jogo!E996=Conferência!$E$2,Conferência!$E$2,\"\")","v":""},{"$f":"IF(Jogo!F996=Conferência!$F$2,Conferência!$F$2,\"\")","v":""},{"$f":"IF(Jogo!G996=Conferência!$G$2,Conferência!$G$2,\"\")","v":""},{"$f":"IF(Jogo!H996=Conferência!$H$2,Conferência!$H$2,\"\")","v":""},{"$f":"IF(Jogo!I996=Conferência!$I$2,Conferência!$I$2,\"\")","v":""},{"$f":"IF(Jogo!J996=Conferência!$J$2,Conferência!$J$2,\"\")","v":""},{"$f":"IF(Jogo!K996=Conferência!$K$2,Conferência!$K$2,\"\")","v":""},{"$f":"IF(Jogo!L996=Conferência!$L$2,Conferência!$L$2,\"\")","v":""},{"$f":"IF(Jogo!M996=Conferência!$M$2,Conferência!$M$2,\"\")","v":""},{"$f":"IF(Jogo!N996=Conferência!$N$2,Conferência!$N$2,\"\")","v":""},{"$f":"IF(Jogo!O996=Conferência!$O$2,Conferência!$O$2,\"\")","v":""},{"$f":"IF(Jogo!P996=Conferência!$P$2,Conferência!$P$2,\"\")","v":""},{"$f":"IF(Jogo!Q996=Conferência!$Q$2,Conferência!$Q$2,\"\")","v":""},""]
[{"$f":"IF(Jogo!A997=Conferência!$A$2,Conferência!$A$2,\"\")","v":""},{"$f":"IF(Jogo!B997=Conferência!$B$2,Conferência!$B$2,\"\")","v":""},{"$f":"IF(Jogo!C997=Conferência!$C$2,Conferência!$C$2,\"\")","v":""},{"$f":"IF(Jogo!D997=Conferência!$D$2,Conferência!$D$2,\"\")","v":""},{"$f":"IF(Jogo!E997=Conferência!$E$2,Conferência!$E$2,\"\")","v":""},{"$f":"IF(Jogo!F997=Conferência!$F$2,Conferência!$F$2,\"\")","v":""},{"$f":"IF(Jogo!G997=Conferência!$G$2,Conferência!$G$2,\"\")","v":""},{"$f":"IF(Jogo!H997=Conferência!$H$2,Conferência!$H$2,\"\")","v":""},{"$f":"IF(Jogo!I997=Conferência!$I$2,Conferência!$I$2,\"\")","v":""},{"$f":"IF(Jogo!J997=Conferência!$J$2,Conferência!$J$2,\"\")","v":""},{"$f":"IF(Jogo!K997=Conferência!$K$2,Conferência!$K$2,\"\")","v":""},{"$f":"IF(Jogo!L997=Conferência!$L$2,Conferência!$L$2,\"\")","v":""},{"$f":"IF(Jogo!M997=Conferência!$M$2,Conferência!$M$2,\"\")","v":""},{"$f":"IF(Jogo!N997=Conferência!$N$2,Conferência!$N$2,\"\")","v":""},{"$f":"IF(Jogo!O997=Conferência!$O$2,Conferência!$O$2,\"\")","v":""},{"$f":"IF(Jogo!P997=Conferência!$P$2,Conferência!$P$2,\"\")","v":""},{"$f":"IF(Jogo!Q997=Conferência!$Q$2,Conferência!$Q$2,\"\")","v":""},""]
[{"$f":"IF(Jogo!A998=Conferência!$A$2,Conferência!$A$2,\"\")","v":""},{"$f":"IF(Jogo!B998=Conferência!$B$2,Conferência!$B$2,\"\")","v":""},{"$f":"IF(Jogo!C998=Conferência!$C$2,Conferência!$C$2,\"\")","v":""},{"$f":"IF(Jogo!D998=Conferência!$D$2,Conferência!$D$2,\"\")","v":""},{"$f":"IF(Jogo!E998=Conferência!$E$2,Conferência!$E$2,\"\")","v":""},{"$f":"IF(Jogo!F998=Conferência!$F$2,Conferência!$F$2,\"\")","v":""},{"$f":"IF(Jogo!G998=Conferência!$G$2,Conferência!$G$2,\"\")","v":""},{"$f":"IF(Jogo!H998=Conferência!$H$2,Conferência!$H$2,\"\")","v":""},{"$f":"IF(Jogo!I998=Conferência!$I$2,Conferência!$I$2,\"\")","v":""},{"$f":"IF(Jogo!J998=Conferência!$J$2,Conferência!$J$2,\"\")","v":""},{"$f":"IF(Jogo!K998=Conferência!$K$2,Conferência!$K$2,\"\")","v":""},{"$f":"IF(Jogo!L998=Conferência!$L$2,Conferência!$L$2,\"\")","v":""},{"$f":"IF(Jogo!M998=Conferência!$M$2,Conferência!$M$2,\"\")","v":""},{"$f":"IF(Jogo!N998=Conferência!$N$2,Conferência!$N$2,\"\")","v":""},{"$f":"IF(Jogo!O998=Conferência!$O$2,Conferência!$O$2,\"\")","v":""},{"$f":"IF(Jogo!P998=Conferência!$P$2,Conferência!$P$2,\"\")","v":""},{"$f":"IF(Jogo!Q998=Conferência!$Q$2,Conferência!$Q$2,\"\")","v":""},""]
[{"$f":"IF(Jogo!A999=Conferência!$A$2,Conferência!$A$2,\"\")","v":""},{"$f":"IF(Jogo!B999=Conferência!$B$2,Conferência!$B$2,\"\")","v":""},{"$f":"IF(Jogo!C999=Conferência!$C$2,Conferência!$C$2,\"\")","v":""},{"$f":"IF(Jogo!D999=Conferência!$D$2,Conferência!$D$2,\"\")","v":""},{"$f":"IF(Jogo!E999=Conferência!$E$2,Conferência!$E$2,\"\")","v":""},{"$f":"IF(Jogo!F999=Conferência!$F$2,Conferência!$F$2,\"\")","v":""},{"$f":"IF(Jogo!G999=Conferência!$G$2,Conferência!$G$2,\"\")","v":""},{"$f":"IF(Jogo!H999=Conferência!$H$2,Conferência!$H$2,\"\")","v":""},{"$f":"IF(Jogo!I999=Conferência!$I$2,Conferência!$I$2,\"\")","v":""},{"$f":"IF(Jogo!J999=Conferência!$J$2,Conferência!$J$2,\"\")","v":""},{"$f":"IF(Jogo!K999=Conferência!$K$2,Conferência!$K$2,\"\")","v":""},{"$f":"IF(Jogo!L999=Conferência!$L$2,Conferência!$L$2,\"\")","v":""},{"$f":"IF(Jogo!M999=Conferência!$M$2,Conferência!$M$2,\"\")","v":""},{"$f":"IF(Jogo!N999=Conferência!$N$2,Conferência!$N$2,\"\")","v":""},{"$f":"IF(Jogo!O999=Conferência!$O$2,Conferência!$O$2,\"\")","v":""},{"$f":"IF(Jogo!P999=Conferência!$P$2,Conferência!$P$2,\"\")","v":""},{"$f":"IF(Jogo!Q999=Conferência!$Q$2,Conferência!$Q$2,\"\")","v":""},""]
[{"$f":"IF(Jogo!A1000=Conferência!$A$2,Conferência!$A$2,\"\")","v":""},{"$f":"IF(Jogo!B1000=Conferência!$B$2,Conferência!$B$2,\"\")","v":""},{"$f":"IF(Jogo!C1000=Conferência!$C$2,Conferência!$C$2,\"\")","v":""},{"$f":"IF(Jogo!D1000=Conferência!$D$2,Conferência!$D$2,\"\")","v":""},{"$f":"IF(Jogo!E1000=Conferência!$E$2,Conferência!$E$2,\"\")","v":""},{"$f":"IF(Jogo!F1000=Conferência!$F$2,Conferência!$F$2,\"\")","v":""},{"$f":"IF(Jogo!G1000=Conferência!$G$2,Conferência!$G$2,\"\")","v":""},{"$f":"IF(Jogo!H1000=Conferência!$H$2,Conferência!$H$2,\"\")","v":""},{"$f":"IF(Jogo!I1000=Conferência!$I$2,Conferência!$I$2,\"\")","v":""},{"$f":"IF(Jogo!J1000=Conferência!$J$2,Conferência!$J$2,\"\")","v":""},{"$f":"IF(Jogo!K1000=Conferência!$K$2,Conferência!$K$2,\"\")","v":""},{"$f":"IF(Jogo!L1000=Conferência!$L$2,Conferência!$L$2,\"\")","v":""},{"$f":"IF(Jogo!M1000=Conferência!$M$2,Conferência!$M$2,\"\")","v":""},{"$f":"IF(Jogo!N1000=Conferência!$N$2,Conferência!$N$2,\"\")","v":""},{"$f":"IF(Jogo!O1000=Conferência!$O$2,Conferência!$O$2,\"\")","v":""},{"$f":"IF(Jogo!P1000=Conferência!$P$2,Conferência!$P$2,\"\")","v":""},{"$f":"IF(Jogo!Q1000=Conferência!$Q$2,Conferência!$Q$2,\"\")","v":""},""]
[{"$f":"IF(Jogo!A1001=Conferência!$A$2,Conferência!$A$2,\"\")","v":""},{"$f":"IF(Jogo!B1001=Conferência!$B$2,Conferência!$B$2,\"\")","v":""},{"$f":"IF(Jogo!C1001=Conferência!$C$2,Conferência!$C$2,\"\")","v":""},{"$f":"IF(Jogo!D1001=Conferência!$D$2,Conferência!$D$2,\"\")","v":""},{"$f":"IF(Jogo!E1001=Conferência!$E$2,Conferência!$E$2,\"\")","v":""},{"$f":"IF(Jogo!F1001=Conferência!$F$2,Conferência!$F$2,\"\")","v":""},{"$f":"IF(Jogo!G1001=Conferência!$G$2,Conferência!$G$2,\"\")","v":""},{"$f":"IF(Jogo!H1001=Conferência!$H$2,Conferência!$H$2,\"\")","v":""},{"$f":"IF(Jogo!I1001=Conferência!$I$2,Conferência!$I$2,\"\")","v":""},{"$f":"IF(Jogo!J1001=Conferência!$J$2,Conferência!$J$2,\"\")","v":""},{"$f":"IF(Jogo!K1001=Conferência!$K$2,Conferência!$K$2,\"\")","v":""},{"$f":"IF(Jogo!L1001=Conferência!$L$2,Conferência!$L$2,\"\")","v":""},{"$f":"IF(Jogo!M1001=Conferência!$M$2,Conferência!$M$2,\"\")","v":""},{"$f":"IF(Jogo!N1001=Conferência!$N$2,Conferência!$N$2,\"\")","v":""},{"$f":"IF(Jogo!O1001=Conferência!$O$2,Conferência!$O$2,\"\")","v":""},{"$f":"IF(Jogo!P1001=Conferência!$P$2,Conferência!$P$2,\"\")","v":""},{"$f":"IF(Jogo!Q1001=Conferência!$Q$2,Conferência!$Q$2,\"\")","v":""},""]

{"sheet":"Conferido","index":3,"n_rows":3,"n_cols":17,"rows_kept":3,"cut":false,"hidden":false,"merged":[]}
["CONC","SEMANA","B1","B2","B3","B4","B5","B6","B7","B8","B9","B10","B11","B12","B13","B14","B15"]
[744,"QUARTA-FEIRA",1,3,4,6,7,9,10,11,12,13,15,16,19,23,24]
[744,"QUARTA-FEIRA",1,3,4,6,7,9,10,11,12,13,15,16,19,23,24]