{"text_format":"1","workbook":"xlsx","n_sheets":2,"sheets":["CONTROLE GERAL","GASTO MENSAL"],"not_rendered":{"charts":0,"images":0,"macros":1,"external_links":0,"defined_names":3,"comments":0,"pivot_tables":0},"unopened":[],"bounds":{"document_bytes":16777216,"sheet_cells":100000,"rows_first":2000,"rows_last":500,"rows_between":2000,"halvings":0,"cell_chars":16384,"cell_head_chars":4096},"cells_cut":0,"cells_raw":0,"read":"whole","date_system":"1900"}

{"sheet":"CONTROLE GERAL","index":0,"n_rows":20,"n_cols":25,"rows_kept":20,"cut":false,"hidden":false,"merged":[[1,1,8,1]]}
[]
[null,"FROTA 2022","BITRUCK",1300,"Bitruck",null,"JOB ENTREGA",null,6]
[null,null,"CARRETA",0,"Carreta",null,"JOB EXTRA"]
[null,null,"EXPRESS",550,"Express",null,"JOB RETIRADA"]
[null,null,"FURGÃO",550,"Furgão",null,"MANUTENÇÃO"]
[null,null,"IVECO",550,"Iveco",null,"ABASTECIMENTO"]
[null,null,"TRUCK",1100,"Truck"]
[null,null,"VUC 10.160",600,"VUC"]
[null,null,"VUC 11.180",600]
[]
["REG","MÊS","DATA","HORA SAÍDA","KM INICIAL","VEÍCULO","MOTORISTA","SERVIÇO EXECUTADO","OS","HORA CHEGADA","KM FINAL","KM PERCORRIDO","VENDA","ABASTECIMENTO","POSTO","LITROS","NOTA","MANUTENÇÃO","FRETE","DATA PGTO FRETE","HORA EXTRA AM","HORA EXTRA PM","ALIMENTAÇÃO","CUSTO TOTAL","OBSERVAÇÕES"]
[0,{"$f":"MONTH(Tabela4[[#This Row],[DATA]])","v":6},"27/06/2022","17:00:00",100,"BITRUCK","KEU","JOB ENTREGA",1001,"18:00:00",200,{"$f":"Tabela4[[#This Row],[KM FINAL]]-Tabela4[[#This Row],[KM INICIAL]]","v":100},{"$f":"IFERROR(VLOOKUP(Tabela4[[#This Row],[VEÍCULO]],$C$2:$D$9,2,0),0)","v":1300},100,"TESTE",20,2,null,null,null,null,25,null,{"$f":"SUM($N12,$R12:$S12,$U12:$W12)","v":125},"TESTANDO 1"]
[1,{"$f":"MONTH(Tabela4[[#This Row],[DATA]])","v":6},"27/06/2022","16:00:00",250,"IVECO","FABIO","JOB EXTRA",1002,"17:00:00",350,{"$f":"Tabela4[[#This Row],[KM FINAL]]-Tabela4[[#This Row],[KM INICIAL]]","v":100},{"$f":"IFERROR(VLOOKUP(Tabela4[[#This Row],[VEÍCULO]],$C$2:$D$9,2,0),0)","v":550},null,null,null,4,null,null,null,null,null,null,0,"TESTANDO 2"]
[2,{"$f":"MONTH(Tabela4[[#This Row],[DATA]])","v":8},"28/08/2022","16:00:00",250,"IVECO","FABIO","JOB EXTRA",1002,"17:00:00",350,{"$f":"Tabela4[[#This Row],[KM FINAL]]-Tabela4[[#This Row],[KM INICIAL]]","v":100},{"$f":"IFERROR(VLOOKUP(Tabela4[[#This Row],[VEÍCULO]],$C$2:$D$9,2,0),0)","v":550},null,null,null,4,null,null,null,null,null,null,0,"TESTANDO 2"]
[3,{"$f":"MONTH(Tabela4[[#This Row],[DATA]])","v":6},"30/06/2022","10:00:00",null,"NILZA","SOLANGE","JOB RETIRADA",1004,"14:00:00",null,{"$f":"Tabela4[[#This Row],[KM FINAL]]-Tabela4[[#This Row],[KM INICIAL]]","v":0},{"$f":"IFERROR(VLOOKUP(Tabela4[[#This Row],[VEÍCULO]],$C$2:$D$9,2,0),0)","v":0},null,null,null,150,null,1500,"20/08/2022",null,null,null,1500,"TESTANDO 4"]
[4,{"$f":"MONTH(Tabela4[[#This Row],[DATA]])","v":2},"2022-02-10","09:00:00",750,"EXPRESS","CROQUETE","JOB ENTREGA",4002,"12:00:00",1000,{"$f":"Tabela4[[#This Row],[KM FINAL]]-Tabela4[[#This Row],[KM INICIAL]]","v":250},{"$f":"IFERROR(VLOOKUP(Tabela4[[#This Row],[VEÍCULO]],$C$2:$D$9,2,0),0)","v":550},250,"TESTE",50,20,null,null,null,null,null,50,300]
[5,{"$f":"MONTH(Tabela4[[#This Row],[DATA]])","v":4},"2022-04-07","17:00:00",500,"TRUCK","LUCIANO","JOB RETIRADA",5003,"18:00:00",550,{"$f":"Tabela4[[#This Row],[KM FINAL]]-Tabela4[[#This Row],[KM INICIAL]]","v":50},{"$f":"IFERROR(VLOOKUP(Tabela4[[#This Row],[VEÍCULO]],$C$2:$D$9,2,0),0)","v":1100},null,null,null,null,null,null,null,null,null,null,0]
[null,{"$f":"MONTH(Tabela4[[#This Row],[DATA]])","v":1},null,null,null,null,null,null,null,null,null,{"$f":"Tabela4[[#This Row],[KM FINAL]]-Tabela4[[#This Row],[KM INICIAL]]","v":0},{"$f":"IFERROR(VLOOKUP(Tabela4[[#This Row],[VEÍCULO]],$C$2:$D$9,2,0),0)","v":0},null,null,null,null,null,null,null,null,null,null,{"$f":"SUM($N18,$R18:$S18,$U18:$W18)","v":0}]
[]
[1,{"$f":"A20+1","v":2},3,4,5,6,7,8,9,10,11,12,13,14,15,16,17,18,19,20,21,22,23,24,25]

{"sheet":"GASTO MENSAL","index":1,"n_rows":44,"n_cols":40,"rows_kept":44,"cut":false,"hidden":false,"merged":[[31,2,31,9],[31,12,31,19],[31,22,31,29],[31,32,31,39],[1,1,1,39],[3,2,3,9],[3,12,3,19],[3,22,3,29],[3,32,3,39],[17,2,17,9],[17,12,17,19],[17,22,17,29],[17,32,17,39]]}
[]
[null,"CONSUMO MENSAL"]
[]
[null,1,"JAN",null,null,null,null,null,null,null,null,2,"FEV",null,null,null,null,null,null,null,null,3,"MAR",null,null,null,null,null,null,null,null,4,"ABR"]
[null,null,"KM RODADO","LITROS","MÉDIA CONSUMO (km/L)","VENDA","ABASTECIMENTO","MANUTENÇÃO","CUSTO TOTAL","LUCRO ESTIMADO",null,null,"KM RODADO","LITROS","MÉDIA DE CONSUMO","VENDA","ABASTECIMENTO","MANUTENÇÃO","CUSTO TOTAL","LUCRO ESTIMADO",null,null,"KM RODADO","LITROS","MÉDIA DE CONSUMO","VENDA","ABASTECIMENTO","MANUTENÇÃO","CUSTO TOTAL","LUCRO ESTIMADO",null,null,"KM RODADO","LITROS","MÉDIA DE CONSUMO","VENDA","ABASTECIMENTO","MANUTENÇÃO","CUSTO TOTAL","LUCRO ESTIMADO"]
[null,"BITRUCK",{"$f":"SUMIFS('CONTROLE GERAL'!$L$11:$L$4993,'CONTROLE GERAL'!$F$11:$F$4993,$B6,'CONTROLE GERAL'!$B$11:$B$4993,B4)","v":0},{"$f":"SUMIFS('CONTROLE GERAL'!$P$11:$P$4993,'CONTROLE GERAL'!$F$11:$F$4993,$B6,'CONTROLE GERAL'!$B$11:$B$4993,B4)","v":0},{"$f":"C6/D6","v":{"$error":"#DIV/0!"}},{"$f":"SUMIFS('CONTROLE GERAL'!$M$11:$M$4993,'CONTROLE GERAL'!$F$11:$F$4993,$B6,'CONTROLE GERAL'!$B$11:$B$4993,B4)","v":0},{"$f":"SUMIFS('CONTROLE GERAL'!$O$11:$O$4993,'CONTROLE GERAL'!$F$11:$F$4993,$B6,'CONTROLE GERAL'!$B$11:$B$4993,B4)","v":0},{"$f":"SUMIFS('CONTROLE GERAL'!$R$11:$R$4993,'CONTROLE GERAL'!$F$11:$F$4993,$B6,'CONTROLE GERAL'!$B$11:$B$4993,B4)","v":0},{"$f":"SUMIFS('CONTROLE GERAL'!$X$11:$X$4993,'CONTROLE GERAL'!$F$11:$F$4993,$B6,'CONTROLE GERAL'!$B$11:$B$4993,B4)","v":0},{"$f":"F6-I6","v":0},null,"BITRUCK",{"$f":"SUMIFS('CONTROLE GERAL'!$L$11:$L$4993,'CONTROLE GERAL'!$F$11:$F$4993,$B6,'CONTROLE GERAL'!$B$11:$B$4993,L4)","v":0},{"$f":"SUMIFS('CONTROLE GERAL'!$P$11:$P$4993,'CONTROLE GERAL'!$F$11:$F$4993,$B6,'CONTROLE GERAL'!$B$11:$B$4993,L4)","v":0},{"$f":"M6/N6","v":{"$error":"#DIV/0!"}},{"$f":"SUMIFS('CONTROLE GERAL'!$M$11:$M$4993,'CONTROLE GERAL'!$F$11:$F$4993,$B6,'CONTROLE GERAL'!$B$11:$B$4993,L4)","v":0},{"$f":"SUMIFS('CONTROLE GERAL'!$O$11:$O$4993,'CONTROLE GERAL'!$F$11:$F$4993,$B6,'CONTROLE GERAL'!$B$11:$B$4993,L4)","v":0},{"$f":"SUMIFS('CONTROLE GERAL'!$R$11:$R$4993,'CONTROLE GERAL'!$F$11:$F$4993,$B6,'CONTROLE GERAL'!$B$11:$B$4993,L4)","v":0},{"$f":"SUMIFS('CONTROLE GERAL'!$X$11:$X$4993,'CONTROLE GERAL'!$F$11:$F$4993,$B6,'CONTROLE GERAL'!$B$11:$B$4993,L4)","v":0},{"$f":"P6-S6","v":0},null,"BITRUCK",{"$f":"SUMIFS('CONTROLE GERAL'!$L$11:$L$4993,'CONTROLE GERAL'!$F$11:$F$4993,$B6,'CONTROLE GERAL'!$B$11:$B$4993,V4)","v":0},{"$f":"SUMIFS('CONTROLE GERAL'!$P$11:$P$4993,'CONTROLE GERAL'!$F$11:$F$4993,$B6,'CONTROLE GERAL'!$B$11:$B$4993,V4)","v":0},{"$f":"W6/X6","v":{"$error":"#DIV/0!"}},{"$f":"SUMIFS('CONTROLE GERAL'!$M$11:$M$4993,'CONTROLE GERAL'!$F$11:$F$4993,$B6,'CONTROLE GERAL'!$B$11:$B$4993,V4)","v":0},{"$f":"SUMIFS('CONTROLE GERAL'!$O$11:$O$4993,'CONTROLE GERAL'!$F$11:$F$4993,$B6,'CONTROLE GERAL'!$B$11:$B$4993,V4)","v":0},{"$f":"SUMIFS('CONTROLE GERAL'!$R$11:$R$4993,'CONTROLE GERAL'!$F$11:$F$4993,$B6,'CONTROLE GERAL'!$B$11:$B$4993,V4)","v":0},{"$f":"SUMIFS('CONTROLE GERAL'!$X$11:$X$4993,'CONTROLE GERAL'!$F$11:$F$4993,$B6,'CONTROLE GERAL'!$B$11:$B$4993,V4)","v":0},{"$f":"Z6-AC6","v":0},null,"BITRUCK",{"$f":"SUMIFS('CONTROLE GERAL'!$L$11:$L$4993,'CONTROLE GERAL'!$F$11:$F$4993,$B6,'CONTROLE GERAL'!$B$11:$B$4993,AF4)","v":0},{"$f":"SUMIFS('CONTROLE GERAL'!$P$11:$P$4993,'CONTROLE GERAL'!$F$11:$F$4993,$B6,'CONTROLE GERAL'!$B$11:$B$4993,AF4)","v":0},{"$f":"AG6/AH6","v":{"$error":"#DIV/0!"}},{"$f":"SUMIFS('CONTROLE GERAL'!$M$11:$M$4993,'CONTROLE GERAL'!$F$11:$F$4993,$B6,'CONTROLE GERAL'!$B$11:$B$4993,AF4)","v":0},{"$f":"SUMIFS('CONTROLE GERAL'!$O$11:$O$4993,'CONTROLE GERAL'!$F$11:$F$4993,$B6,'CONTROLE GERAL'!$B$11:$B$4993,AF4)","v":0},{"$f":"SUMIFS('CONTROLE GERAL'!$R$11:$R$4993,'CONTROLE GERAL'!$F$11:$F$4993,$B6,'CONTROLE GERAL'!$B$11:$B$4993,AF4)","v":0},{"$f":"SUMIFS('CONTROLE GERAL'!$X$11:$X$4993,'CONTROLE GERAL'!$F$11:$F$4993,$B6,'CONTROLE GERAL'!$B$11:$B$4993,AF4)","v":0},{"$f":"AJ6-AM6","v":0}]
[null,"EXPRESS",{"$f":"SUMIFS('CONTROLE GERAL'!$L$11:$L$4993,'CONTROLE GERAL'!$F$11:$F$4993,$B7,'CONTROLE GERAL'!$B$11:$B$4993,B4)","v":0},{"$f":"SUMIFS('CONTROLE GERAL'!$P$11:$P$4993,'CONTROLE GERAL'!$F$11:$F$4993,$B7,'CONTROLE GERAL'!$B$11:$B$4993,B4)","v":0},{"$f":"C7/D7","v":{"$error":"#DIV/0!"}},{"$f":"SUMIFS('CONTROLE GERAL'!$M$11:$M$4993,'CONTROLE GERAL'!$F$11:$F$4993,$B7,'CONTROLE GERAL'!$B$11:$B$4993,B4)","v":0},{"$f":"SUMIFS('CONTROLE GERAL'!$O$11:$O$4993,'CONTROLE GERAL'!$F$11:$F$4993,$B7,'CONTROLE GERAL'!$B$11:$B$4993,B4)","v":0},{"$f":"SUMIFS('CONTROLE GERAL'!$R$11:$R$4993,'CONTROLE GERAL'!$F$11:$F$4993,$B7,'CONTROLE GERAL'!$B$11:$B$4993,B4)","v":0},{"$f":"SUMIFS('CONTROLE GERAL'!$X$11:$X$4993,'CONTROLE GERAL'!$F$11:$F$4993,$B7,'CONTROLE GERAL'!$B$11:$B$4993,B4)","v":0},{"$f":"F7-I7","v":0},null,"EXPRESS",{"$f":"SUMIFS('CONTROLE GERAL'!$L$11:$L$4993,'CONTROLE GERAL'!$F$11:$F$4993,$B7,'CONTROLE GERAL'!$B$11:$B$4993,L4)","v":250},{"$f":"SUMIFS('CONTROLE GERAL'!$P$11:$P$4993,'CONTROLE GERAL'!$F$11:$F$4993,$B7,'CONTROLE GERAL'!$B$11:$B$4993,L4)","v":50},{"$f":"M7/N7","v":5},{"$f":"SUMIFS('CONTROLE GERAL'!$M$11:$M$4993,'CONTROLE GERAL'!$F$11:$F$4993,$B7,'CONTROLE GERAL'!$B$11:$B$4993,L4)","v":550},{"$f":"SUMIFS('CONTROLE GERAL'!$O$11:$O$4993,'CONTROLE GERAL'!$F$11:$F$4993,$B7,'CONTROLE GERAL'!$B$11:$B$4993,L4)","v":0},{"$f":"SUMIFS('CONTROLE GERAL'!$R$11:$R$4993,'CONTROLE GERAL'!$F$11:$F$4993,$B7,'CONTROLE GERAL'!$B$11:$B$4993,L4)","v":0},{"$f":"SUMIFS('CONTROLE GERAL'!$X$11:$X$4993,'CONTROLE GERAL'!$F$11:$F$4993,$B7,'CONTROLE GERAL'!$B$11:$B$4993,L4)","v":300},{"$f":"P7-S7","v":250},null,"EXPRESS",{"$f":"SUMIFS('CONTROLE GERAL'!$L$11:$L$4993,'CONTROLE GERAL'!$F$11:$F$4993,$B7,'CONTROLE GERAL'!$B$11:$B$4993,V4)","v":0},{"$f":"SUMIFS('CONTROLE GERAL'!$P$11:$P$4993,'CONTROLE GERAL'!$F$11:$F$4993,$B7,'CONTROLE GERAL'!$B$11:$B$4993,V4)","v":0},{"$f":"W7/X7","v":{"$error":"#DIV/0!"}},{"$f":"SUMIFS('CONTROLE GERAL'!$M$11:$M$4993,'CONTROLE GERAL'!$F$11:$F$4993,$B7,'CONTROLE GERAL'!$B$11:$B$4993,V4)","v":0},{"$f":"SUMIFS('CONTROLE GERAL'!$O$11:$O$4993,'CONTROLE GERAL'!$F$11:$F$4993,$B7,'CONTROLE GERAL'!$B$11:$B$4993,V4)","v":0},{"$f":"SUMIFS('CONTROLE GERAL'!$R$11:$R$4993,'CONTROLE GERAL'!$F$11:$F$4993,$B7,'CONTROLE GERAL'!$B$11:$B$4993,V4)","v":0},{"$f":"SUMIFS('CONTROLE GERAL'!$X$11:$X$4993,'CONTROLE GERAL'!$F$11:$F$4993,$B7,'CONTROLE GERAL'!$B$11:$B$4993,V4)","v":0},{"$f":"Z7-AC7","v":0},null,"EXPRESS",{"$f":"SUMIFS('CONTROLE GERAL'!$L$11:$L$4993,'CONTROLE GERAL'!$F$11:$F$4993,$B7,'CONTROLE GERAL'!$B$11:$B$4993,AF4)","v":0},{"$f":"SUMIFS('CONTROLE GERAL'!$P$11:$P$4993,'CONTROLE GERAL'!$F$11:$F$4993,$B7,'CONTROLE GERAL'!$B$11:$B$4993,AF4)","v":0},{"$f":"AG7/AH7","v":{"$error":"#DIV/0!"}},{"$f":"SUMIFS('CONTROLE GERAL'!$M$11:$M$4993,'CONTROLE GERAL'!$F$11:$F$4993,$B7,'CONTROLE GERAL'!$B$11:$B$4993,AF4)","v":0},{"$f":"SUMIFS('CONTROLE GERAL'!$O$11:$O$4993,'CONTROLE GERAL'!$F$11:$F$4993,$B7,'CONTROLE GERAL'!$B$11:$B$4993,AF4)","v":0},{"$f":"SUMIFS('CONTROLE GERAL'!$R$11:$R$4993,'CONTROLE GERAL'!$F$11:$F$4993,$B7,'CONTROLE GERAL'!$B$11:$B$4993,AF4)","v":0},{"$f":"SUMIFS('CONTROLE GERAL'!$X$11:$X$4993,'CONTROLE GERAL'!$F$11:$F$4993,$B7,'CONTROLE GERAL'!$B$11:$B$4993,AF4)","v":0},{"$f":"AJ7-AM7","v":0}]
[null,"FURGÃO",{"$f":"SUMIFS('CONTROLE GERAL'!$L$11:$L$4993,'CONTROLE GERAL'!$F$11:$F$4993,$B8,'CONTROLE GERAL'!$B$11:$B$4993,B4)","v":0},{"$f":"SUMIFS('CONTROLE GERAL'!$P$11:$P$4993,'CONTROLE GERAL'!$F$11:$F$4993,$B8,'CONTROLE GERAL'!$B$11:$B$4993,B4)","v":0},{"$error":"#DIV/0!"},{"$f":"SUMIFS('CONTROLE GERAL'!$M$11:$M$4993,'CONTROLE GERAL'!$F$11:$F$4993,$B8,'CONTROLE GERAL'!$B$11:$B$4993,B4)","v":0},{"$f":"SUMIFS('CONTROLE GERAL'!$O$11:$O$4993,'CONTROLE GERAL'!$F$11:$F$4993,$B8,'CONTROLE GERAL'!$B$11:$B$4993,B4)","v":0},{"$f":"SUMIFS('CONTROLE GERAL'!$R$11:$R$4993,'CONTROLE GERAL'!$F$11:$F$4993,$B8,'CONTROLE GERAL'!$B$11:$B$4993,B4)","v":0},{"$f":"SUMIFS('CONTROLE GERAL'!$X$11:$X$4993,'CONTROLE GERAL'!$F$11:$F$4993,$B8,'CONTROLE GERAL'!$B$11:$B$4993,B4)","v":0},0,null,"FURGÃO",{"$f":"SUMIFS('CONTROLE GERAL'!$L$11:$L$4993,'CONTROLE GERAL'!$F$11:$F$4993,$B8,'CONTROLE GERAL'!$B$11:$B$4993,L4)","v":0},{"$f":"SUMIFS('CONTROLE GERAL'!$P$11:$P$4993,'CONTROLE GERAL'!$F$11:$F$4993,$B8,'CONTROLE GERAL'!$B$11:$B$4993,L4)","v":0},{"$error":"#DIV/0!"},{"$f":"SUMIFS('CONTROLE GERAL'!$M$11:$M$4993,'CONTROLE GERAL'!$F$11:$F$4993,$B8,'CONTROLE GERAL'!$B$11:$B$4993,L4)","v":0},{"$f":"SUMIFS('CONTROLE GERAL'!$O$11:$O$4993,'CONTROLE GERAL'!$F$11:$F$4993,$B8,'CONTROLE GERAL'!$B$11:$B$4993,L4)","v":0},{"$f":"SUMIFS('CONTROLE GERAL'!$R$11:$R$4993,'CONTROLE GERAL'!$F$11:$F$4993,$B8,'CONTROLE GERAL'!$B$11:$B$4993,L4)","v":0},{"$f":"SUMIFS('CONTROLE GERAL'!$X$11:$X$4993,'CONTROLE GERAL'!$F$11:$F$4993,$B8,'CONTROLE GERAL'!$B$11:$B$4993,L4)","v":0},0,null,"FURGÃO",{"$f":"SUMIFS('CONTROLE GERAL'!$L$11:$L$4993,'CONTROLE GERAL'!$F$11:$F$4993,$B8,'CONTROLE GERAL'!$B$11:$B$4993,V4)","v":0},{"$f":"SUMIFS('CONTROLE GERAL'!$P$11:$P$4993,'CONTROLE GERAL'!$F$11:$F$4993,$B8,'CONTROLE GERAL'!$B$11:$B$4993,V4)","v":0},{"$error":"#DIV/0!"},{"$f":"SUMIFS('CONTROLE GERAL'!$M$11:$M$4993,'CONTROLE GERAL'!$F$11:$F$4993,$B8,'CONTROLE GERAL'!$B$11:$B$4993,V4)","v":0},{"$f":"SUMIFS('CONTROLE GERAL'!$O$11:$O$4993,'CONTROLE GERAL'!$F$11:$F$4993,$B8,'CONTROLE GERAL'!$B$11:$B$4993,V4)","v":0},{"$f":"SUMIFS('CONTROLE GERAL'!$R$11:$R$4993,'CONTROLE GERAL'!$F$11:$F$4993,$B8,'CONTROLE GERAL'!$B$11:$B$4993,V4)","v":0},{"$f":"SUMIFS('CONTROLE GERAL'!$X$11:$X$4993,'CONTROLE GERAL'!$F$11:$F$4993,$B8,'CONTROLE GERAL'!$B$11:$B$4993,V4)","v":0},0,null,"FURGÃO",{"$f":"SUMIFS('CONTROLE GERAL'!$L$11:$L$4993,'CONTROLE GERAL'!$F$11:$F$4993,$B8,'CONTROLE GERAL'!$B$11:$B$4993,AF4)","v":0},{"$f":"SUMIFS('CONTROLE GERAL'!$P$11:$P$4993,'CONTROLE GERAL'!$F$11:$F$4993,$B8,'CONTROLE GERAL'!$B$11:$B$4993,AF4)","v":0},{"$error":"#DIV/0!"},{"$f":"SUMIFS('CONTROLE GERAL'!$M$11:$M$4993,'CONTROLE GERAL'!$F$11:$F$4993,$B8,'CONTROLE GERAL'!$B$11:$B$4993,AF4)","v":0},{"$f":"SUMIFS('CONTROLE GERAL'!$O$11:$O$4993,'CONTROLE GERAL'!$F$11:$F$4993,$B8,'CONTROLE GERAL'!$B$11:$B$4993,AF4)","v":0},{"$f":"SUMIFS('CONTROLE GERAL'!$R$11:$R$4993,'CONTROLE GERAL'!$F$11:$F$4993,$B8,'CONTROLE GERAL'!$B$11:$B$4993,AF4)","v":0},{"$f":"SUMIFS('CONTROLE GERAL'!$X$11:$X$4993,'CONTROLE GERAL'!$F$11:$F$4993,$B8,'CONTROLE GERAL'!$B$11:$B$4993,AF4)","v":0},0]
[null,"IVECO",{"$f":"SUMIFS('CONTROLE GERAL'!$L$11:$L$4993,'CONTROLE GERAL'!$F$11:$F$4993,$B9,'CONTROLE GERAL'!$B$11:$B$4993,B4)","v":0},{"$f":"SUMIFS('CONTROLE GERAL'!$P$11:$P$4993,'CONTROLE GERAL'!$F$11:$F$4993,$B9,'CONTROLE GERAL'!$B$11:$B$4993,B4)","v":0},{"$error":"#DIV/0!"},{"$f":"SUMIFS('CONTROLE GERAL'!$M$11:$M$4993,'CONTROLE GERAL'!$F$11:$F$4993,$B9,'CONTROLE GERAL'!$B$11:$B$4993,B4)","v":0},{"$f":"SUMIFS('CONTROLE GERAL'!$O$11:$O$4993,'CONTROLE GERAL'!$F$11:$F$4993,$B9,'CONTROLE GERAL'!$B$11:$B$4993,B4)","v":0},{"$f":"SUMIFS('CONTROLE GERAL'!$R$11:$R$4993,'CONTROLE GERAL'!$F$11:$F$4993,$B9,'CONTROLE GERAL'!$B$11:$B$4993,B4)","v":0},{"$f":"SUMIFS('CONTROLE GERAL'!$X$11:$X$4993,'CONTROLE GERAL'!$F$11:$F$4993,$B9,'CONTROLE GERAL'!$B$11:$B$4993,B4)","v":0},0,null,"IVECO",{"$f":"SUMIFS('CONTROLE GERAL'!$L$11:$L$4993,'CONTROLE GERAL'!$F$11:$F$4993,$B9,'CONTROLE GERAL'!$B$11:$B$4993,L4)","v":0},{"$f":"SUMIFS('CONTROLE GERAL'!$P$11:$P$4993,'CONTROLE GERAL'!$F$11:$F$4993,$B9,'CONTROLE GERAL'!$B$11:$B$4993,L4)","v":0},{"$error":"#DIV/0!"},{"$f":"SUMIFS('CONTROLE GERAL'!$M$11:$M$4993,'CONTROLE GERAL'!$F$11:$F$4993,$B9,'CONTROLE GERAL'!$B$11:$B$4993,L4)","v":0},{"$f":"SUMIFS('CONTROLE GERAL'!$O$11:$O$4993,'CONTROLE GERAL'!$F$11:$F$4993,$B9,'CONTROLE GERAL'!$B$11:$B$4993,L4)","v":0},{"$f":"SUMIFS('CONTROLE GERAL'!$R$11:$R$4993,'CONTROLE GERAL'!$F$11:$F$4993,$B9,'CONTROLE GERAL'!$B$11:$B$4993,L4)","v":0},{"$f":"SUMIFS('CONTROLE GERAL'!$X$11:$X$4993,'CONTROLE GERAL'!$F$11:$F$4993,$B9,'CONTROLE GERAL'!$B$11:$B$4993,L4)","v":0},0,null,"IVECO",{"$f":"SUMIFS('CONTROLE GERAL'!$L$11:$L$4993,'CONTROLE GERAL'!$F$11:$F$4993,$B9,'CONTROLE GERAL'!$B$11:$B$4993,V4)","v":0},{"$f":"SUMIFS('CONTROLE GERAL'!$P$11:$P$4993,'CONTROLE GERAL'!$F$11:$F$4993,$B9,'CONTROLE GERAL'!$B$11:$B$4993,V4)","v":0},{"$error":"#DIV/0!"},{"$f":"SUMIFS('CONTROLE GERAL'!$M$11:$M$4993,'CONTROLE GERAL'!$F$11:$F$4993,$B9,'CONTROLE GERAL'!$B$11:$B$4993,V4)","v":0},{"$f":"SUMIFS('CONTROLE GERAL'!$O$11:$O$4993,'CONTROLE GERAL'!$F$11:$F$4993,$B9,'CONTROLE GERAL'!$B$11:$B$4993,V4)","v":0},{"$f":"SUMIFS('CONTROLE GERAL'!$R$11:$R$4993,'CONTROLE GERAL'!$F$11:$F$4993,$B9,'CONTROLE GERAL'!$B$11:$B$4993,V4)","v":0},{"$f":"SUMIFS('CONTROLE GERAL'!$X$11:$X$4993,'CONTROLE GERAL'!$F$11:$F$4993,$B9,'CONTROLE GERAL'!$B$11:$B$4993,V4)","v":0},0,null,"IVECO",{"$f":"SUMIFS('CONTROLE GERAL'!$L$11:$L$4993,'CONTROLE GERAL'!$F$11:$F$4993,$B9,'CONTROLE GERAL'!$B$11:$B$4993,AF4)","v":0},{"$f":"SUMIFS('CONTROLE GERAL'!$P$11:$P$4993,'CONTROLE GERAL'!$F$11:$F$4993,$B9,'CONTROLE GERAL'!$B$11:$B$4993,AF4)","v":0},{"$error":"#DIV/0!"},{"$f":"SUMIFS('CONTROLE GERAL'!$M$11:$M$4993,'CONTROLE GERAL'!$F$11:$F$4993,$B9,'CONTROLE GERAL'!$B$11:$B$4993,AF4)","v":0},{"$f":"SUMIFS('CONTROLE GERAL'!$O$11:$O$4993,'CONTROLE GERAL'!$F$11:$F$4993,$B9,'CONTROLE GERAL'!$B$11:$B$4993,AF4)","v":0},{"$f":"SUMIFS('CONTROLE GERAL'!$R$11:$R$4993,'CONTROLE GERAL'!$F$11:$F$4993,$B9,'CONTROLE GERAL'!$B$11:$B$4993,AF4)","v":0},{"$f":"SUMIFS('CONTROLE GERAL'!$X$11:$X$4993,'CONTROLE GERAL'!$F$11:$F$4993,$B9,'CONTROLE GERAL'!$B$11:$B$4993,AF4)","v":0},0]
[null,"TRUCK",{"$f":"SUMIFS('CONTROLE GERAL'!$L$11:$L$4993,'CONTROLE GERAL'!$F$11:$F$4993,$B10,'CONTROLE GERAL'!$B$11:$B$4993,B4)","v":0},{"$f":"SUMIFS('CONTROLE GERAL'!$P$11:$P$4993,'CONTROLE GERAL'!$F$11:$F$4993,$B10,'CONTROLE GERAL'!$B$11:$B$4993,B4)","v":0},{"$error":"#DIV/0!"},{"$f":"SUMIFS('CONTROLE GERAL'!$M$11:$M$4993,'CONTROLE GERAL'!$F$11:$F$4993,$B10,'CONTROLE GERAL'!$B$11:$B$4993,B4)","v":0},{"$f":"SUMIFS('CONTROLE GERAL'!$O$11:$O$4993,'CONTROLE GERAL'!$F$11:$F$4993,$B10,'CONTROLE GERAL'!$B$11:$B$4993,B4)","v":0},{"$f":"SUMIFS('CONTROLE GERAL'!$R$11:$R$4993,'CONTROLE GERAL'!$F$11:$F$4993,$B10,'CONTROLE GERAL'!$B$11:$B$4993,B4)","v":0},{"$f":"SUMIFS('CONTROLE GERAL'!$X$11:$X$4993,'CONTROLE GERAL'!$F$11:$F$4993,$B10,'CONTROLE GERAL'!$B$11:$B$4993,B4)","v":0},0,null,"TRUCK",{"$f":"SUMIFS('CONTROLE GERAL'!$L$11:$L$4993,'CONTROLE GERAL'!$F$11:$F$4993,$B10,'CONTROLE GERAL'!$B$11:$B$4993,L4)","v":0},{"$f":"SUMIFS('CONTROLE GERAL'!$P$11:$P$4993,'CONTROLE GERAL'!$F$11:$F$4993,$B10,'CONTROLE GERAL'!$B$11:$B$4993,L4)","v":0},{"$error":"#DIV/0!"},{"$f":"SUMIFS('CONTROLE GERAL'!$M$11:$M$4993,'CONTROLE GERAL'!$F$11:$F$4993,$B10,'CONTROLE GERAL'!$B$11:$B$4993,L4)","v":0},{"$f":"SUMIFS('CONTROLE GERAL'!$O$11:$O$4993,'CONTROLE GERAL'!$F$11:$F$4993,$B10,'CONTROLE GERAL'!$B$11:$B$4993,L4)","v":0},{"$f":"SUMIFS('CONTROLE GERAL'!$R$11:$R$4993,'CONTROLE GERAL'!$F$11:$F$4993,$B10,'CONTROLE GERAL'!$B$11:$B$4993,L4)","v":0},{"$f":"SUMIFS('CONTROLE GERAL'!$X$11:$X$4993,'CONTROLE GERAL'!$F$11:$F$4993,$B10,'CONTROLE GERAL'!$B$11:$B$4993,L4)","v":0},0,null,"TRUCK",{"$f":"SUMIFS('CONTROLE GERAL'!$L$11:$L$4993,'CONTROLE GERAL'!$F$11:$F$4993,$B10,'CONTROLE GERAL'!$B$11:$B$4993,V4)","v":0},{"$f":"SUMIFS('CONTROLE GERAL'!$P$11:$P$4993,'CONTROLE GERAL'!$F$11:$F$4993,$B10,'CONTROLE GERAL'!$B$11:$B$4993,V4)","v":0},{"$error":"#DIV/0!"},{"$f":"SUMIFS('CONTROLE GERAL'!$M$11:$M$4993,'CONTROLE GERAL'!$F$11:$F$4993,$B10,'CONTROLE GERAL'!$B$11:$B$4993,V4)","v":0},{"$f":"SUMIFS('CONTROLE GERAL'!$O$11:$O$4993,'CONTROLE GERAL'!$F$11:$F$4993,$B10,'CONTROLE GERAL'!$B$11:$B$4993,V4)","v":0},{"$f":"SUMIFS('CONTROLE GERAL'!$R$11:$R$4993,'CONTROLE GERAL'!$F$11:$F$4993,$B10,'CONTROLE GERAL'!$B$11:$B$4993,V4)","v":0},{"$f":"SUMIFS('CONTROLE GERAL'!$X$11:$X$4993,'CONTROLE GERAL'!$F$11:$F$4993,$B10,'CONTROLE GERAL'!$B$11:$B$4993,V4)","v":0},0,null,"TRUCK",{"$f":"SUMIFS('CONTROLE GERAL'!$L$11:$L$4993,'CONTROLE GERAL'!$F$11:$F$4993,$B10,'CONTROLE GERAL'!$B$11:$B$4993,AF4)","v":50},{"$f":"SUMIFS('CONTROLE GERAL'!$P$11:$P$4993,'CONTROLE GERAL'!$F$11:$F$4993,$B10,'CONTROLE GERAL'!$B$11:$B$4993,AF4)","v":0},{"$error":"#DIV/0!"},{"$f":"SUMIFS('CONTROLE GERAL'!$M$11:$M$4993,'CONTROLE GERAL'!$F$11:$F$4993,$B10,'CONTROLE GERAL'!$B$11:$B$4993,AF4)","v":1100},{"$f":"SUMIFS('CONTROLE GERAL'!$O$11:$O$4993,'CONTROLE GERAL'!$F$11:$F$4993,$B10,'CONTROLE GERAL'!$B$11:$B$4993,AF4)","v":0},{"$f":"SUMIFS('CONTROLE GERAL'!$R$11:$R$4993,'CONTROLE GERAL'!$F$11:$F$4993,$B10,'CONTROLE GERAL'!$B$11:$B$4993,AF4)","v":0},{"$f":"SUMIFS('CONTROLE GERAL'!$X$11:$X$4993,'CONTROLE GERAL'!$F$11:$F$4993,$B10,'CONTROLE GERAL'!$B$11:$B$4993,AF4)","v":0},1100]
[null,"VAN",{"$f":"SUMIFS('CONTROLE GERAL'!$L$11:$L$4993,'CONTROLE GERAL'!$F$11:$F$4993,$B11,'CONTROLE GERAL'!$B$11:$B$4993,B4)","v":0},{"$f":"SUMIFS('CONTROLE GERAL'!$P$11:$P$4993,'CONTROLE GERAL'!$F$11:$F$4993,$B11,'CONTROLE GERAL'!$B$11:$B$4993,B4)","v":0},{"$error":"#DIV/0!"},{"$f":"SUMIFS('CONTROLE GERAL'!$M$11:$M$4993,'CONTROLE GERAL'!$F$11:$F$4993,$B11,'CONTROLE GERAL'!$B$11:$B$4993,B4)","v":0},{"$f":"SUMIFS('CONTROLE GERAL'!$O$11:$O$4993,'CONTROLE GERAL'!$F$11:$F$4993,$B11,'CONTROLE GERAL'!$B$11:$B$4993,B4)","v":0},{"$f":"SUMIFS('CONTROLE GERAL'!$R$11:$R$4993,'CONTROLE GERAL'!$F$11:$F$4993,$B11,'CONTROLE GERAL'!$B$11:$B$4993,B4)","v":0},{"$f":"SUMIFS('CONTROLE GERAL'!$X$11:$X$4993,'CONTROLE GERAL'!$F$11:$F$4993,$B11,'CONTROLE GERAL'!$B$11:$B$4993,B4)","v":0},0,null,"VAN",{"$f":"SUMIFS('CONTROLE GERAL'!$L$11:$L$4993,'CONTROLE GERAL'!$F$11:$F$4993,$B11,'CONTROLE GERAL'!$B$11:$B$4993,L4)","v":0},{"$f":"SUMIFS('CONTROLE GERAL'!$P$11:$P$4993,'CONTROLE GERAL'!$F$11:$F$4993,$B11,'CONTROLE GERAL'!$B$11:$B$4993,L4)","v":0},{"$error":"#DIV/0!"},{"$f":"SUMIFS('CONTROLE GERAL'!$M$11:$M$4993,'CONTROLE GERAL'!$F$11:$F$4993,$B11,'CONTROLE GERAL'!$B$11:$B$4993,L4)","v":0},{"$f":"SUMIFS('CONTROLE GERAL'!$O$11:$O$4993,'CONTROLE GERAL'!$F$11:$F$4993,$B11,'CONTROLE GERAL'!$B$11:$B$4993,L4)","v":0},{"$f":"SUMIFS('CONTROLE GERAL'!$R$11:$R$4993,'CONTROLE GERAL'!$F$11:$F$4993,$B11,'CONTROLE GERAL'!$B$11:$B$4993,L4)","v":0},{"$f":"SUMIFS('CONTROLE GERAL'!$X$11:$X$4993,'CONTROLE GERAL'!$F$11:$F$4993,$B11,'CONTROLE GERAL'!$B$11:$B$4993,L4)","v":0},0,null,"VAN",{"$f":"SUMIFS('CONTROLE GERAL'!$L$11:$L$4993,'CONTROLE GERAL'!$F$11:$F$4993,$B11,'CONTROLE GERAL'!$B$11:$B$4993,V4)","v":0},{"$f":"SUMIFS('CONTROLE GERAL'!$P$11:$P$4993,'CONTROLE GERAL'!$F$11:$F$4993,$B11,'CONTROLE GERAL'!$B$11:$B$4993,V4)","v":0},{"$error":"#DIV/0!"},{"$f":"SUMIFS('CONTROLE GERAL'!$M$11:$M$4993,'CONTROLE GERAL'!$F$11:$F$4993,$B11,'CONTROLE GERAL'!$B$11:$B$4993,V4)","v":0},{"$f":"SUMIFS('CONTROLE GERAL'!$O$11:$O$4993,'CONTROLE GERAL'!$F$11:$F$4993,$B11,'CONTROLE GERAL'!$B$11:$B$4993,V4)","v":0},{"$f":"SUMIFS('CONTROLE GERAL'!$R$11:$R$4993,'CONTROLE GERAL'!$F$11:$F$4993,$B11,'CONTROLE GERAL'!$B$11:$B$4993,V4)","v":0},{"$f":"SUMIFS('CONTROLE GERAL'!$X$11:$X$4993,'CONTROLE GERAL'!$F$11:$F$4993,$B11,'CONTROLE GERAL'!$B$11:$B$4993,V4)","v":0},0,null,"VAN",{"$f":"SUMIFS('CONTROLE GERAL'!$L$11:$L$4993,'CONTROLE GERAL'!$F$11:$F$4993,$B11,'CONTROLE GERAL'!$B$11:$B$4993,AF4)","v":0},{"$f":"SUMIFS('CONTROLE GERAL'!$P$11:$P$4993,'CONTROLE GERAL'!$F$11:$F$4993,$B11,'CONTROLE GERAL'!$B$11:$B$4993,AF4)","v":0},{"$error":"#DIV/0!"},{"$f":"SUMIFS('CONTROLE GERAL'!$M$11:$M$4993,'CONTROLE GERAL'!$F$11:$F$4993,$B11,'CONTROLE GERAL'!$B$11:$B$4993,AF4)","v":0},{"$f":"SUMIFS('CONTROLE GERAL'!$O$11:$O$4993,'CONTROLE GERAL'!$F$11:$F$4993,$B11,'CONTROLE GERAL'!$B$11:$B$4993,AF4)","v":0},{"$f":"SUMIFS('CONTROLE GERAL'!$R$11:$R$4993,'CONTROLE GERAL'!$F$11:$F$4993,$B11,'CONTROLE GERAL'!$B$11:$B$4993,AF4)","v":0},{"$f":"SUMIFS('CONTROLE GERAL'!$X$11:$X$4993,'CONTROLE GERAL'!$F$11:$F$4993,$B11,'CONTROLE GERAL'!$B$11:$B$4993,AF4)","v":0},0]
[null,"VUC 10.160",{"$f":"SUMIFS('CONTROLE GERAL'!$L$11:$L$4993,'CONTROLE GERAL'!$F$11:$F$4993,$B12,'CONTROLE GERAL'!$B$11:$B$4993,B4)","v":0},{"$f":"SUMIFS('CONTROLE GERAL'!$P$11:$P$4993,'CONTROLE GERAL'!$F$11:$F$4993,$B12,'CONTROLE GERAL'!$B$11:$B$4993,B4)","v":0},{"$error":"#DIV/0!"},{"$f":"SUMIFS('CONTROLE GERAL'!$M$11:$M$4993,'CONTROLE GERAL'!$F$11:$F$4993,$B12,'CONTROLE GERAL'!$B$11:$B$4993,B4)","v":0},{"$f":"SUMIFS('CONTROLE GERAL'!$O$11:$O$4993,'CONTROLE GERAL'!$F$11:$F$4993,$B12,'CONTROLE GERAL'!$B$11:$B$4993,B4)","v":0},{"$f":"SUMIFS('CONTROLE GERAL'!$R$11:$R$4993,'CONTROLE GERAL'!$F$11:$F$4993,$B12,'CONTROLE GERAL'!$B$11:$B$4993,B4)","v":0},{"$f":"SUMIFS('CONTROLE GERAL'!$X$11:$X$4993,'CONTROLE GERAL'!$F$11:$F$4993,$B12,'CONTROLE GERAL'!$B$11:$B$4993,B4)","v":0},0,null,"VUC 10.160",{"$f":"SUMIFS('CONTROLE GERAL'!$L$11:$L$4993,'CONTROLE GERAL'!$F$11:$F$4993,$B12,'CONTROLE GERAL'!$B$11:$B$4993,L4)","v":0},{"$f":"SUMIFS('CONTROLE GERAL'!$P$11:$P$4993,'CONTROLE GERAL'!$F$11:$F$4993,$B12,'CONTROLE GERAL'!$B$11:$B$4993,L4)","v":0},{"$error":"#DIV/0!"},{"$f":"SUMIFS('CONTROLE GERAL'!$M$11:$M$4993,'CONTROLE GERAL'!$F$11:$F$4993,$B12,'CONTROLE GERAL'!$B$11:$B$4993,L4)","v":0},{"$f":"SUMIFS('CONTROLE GERAL'!$O$11:$O$4993,'CONTROLE GERAL'!$F$11:$F$4993,$B12,'CONTROLE GERAL'!$B$11:$B$4993,L4)","v":0},{"$f":"SUMIFS('CONTROLE GERAL'!$R$11:$R$4993,'CONTROLE GERAL'!$F$11:$F$4993,$B12,'CONTROLE GERAL'!$B$11:$B$4993,L4)","v":0},{"$f":"SUMIFS('CONTROLE GERAL'!$X$11:$X$4993,'CONTROLE GERAL'!$F$11:$F$4993,$B12,'CONTROLE GERAL'!$B$11:$B$4993,L4)","v":0},0,null,"VUC 10.160",{"$f":"SUMIFS('CONTROLE GERAL'!$L$11:$L$4993,'CONTROLE GERAL'!$F$11:$F$4993,$B12,'CONTROLE GERAL'!$B$11:$B$4993,V4)","v":0},{"$f":"SUMIFS('CONTROLE GERAL'!$P$11:$P$4993,'CONTROLE GERAL'!$F$11:$F$4993,$B12,'CONTROLE GERAL'!$B$11:$B$4993,V4)","v":0},{"$error":"#DIV/0!"},{"$f":"SUMIFS('CONTROLE GERAL'!$M$11:$M$4993,'CONTROLE GERAL'!$F$11:$F$4993,$B12,'CONTROLE GERAL'!$B$11:$B$4993,V4)","v":0},{"$f":"SUMIFS('CONTROLE GERAL'!$O$11:$O$4993,'CONTROLE GERAL'!$F$11:$F$4993,$B12,'CONTROLE GERAL'!$B$11:$B$4993,V4)","v":0},{"$f":"SUMIFS('CONTROLE GERAL'!$R$11:$R$4993,'CONTROLE GERAL'!$F$11:$F$4993,$B12,'CONTROLE GERAL'!$B$11:$B$4993,V4)","v":0},{"$f":"SUMIFS('CONTROLE GERAL'!$X$11:$X$4993,'CONTROLE GERAL'!$F$11:$F$4993,$B12,'CONTROLE GERAL'!$B$11:$B$4993,V4)","v":0},0,null,"VUC 10.160",{"$f":"SUMIFS('CONTROLE GERAL'!$L$11:$L$4993,'CONTROLE GERAL'!$F$11:$F$4993,$B12,'CONTROLE GERAL'!$B$11:$B$4993,AF4)","v":0},{"$f":"SUMIFS('CONTROLE GERAL'!$P$11:$P$4993,'CONTROLE GERAL'!$F$11:$F$4993,$B12,'CONTROLE GERAL'!$B$11:$B$4993,AF4)","v":0},{"$error":"#DIV/0!"},{"$f":"SUMIFS('CONTROLE GERAL'!$M$11:$M$4993,'CONTROLE GERAL'!$F$11:$F$4993,$B12,'CONTROLE GERAL'!$B$11:$B$4993,AF4)","v":0},{"$f":"SUMIFS('CONTROLE GERAL'!$O$11:$O$4993,'CONTROLE GERAL'!$F$11:$F$4993,$B12,'CONTROLE GERAL'!$B$11:$B$4993,AF4)","v":0},{"$f":"SUMIFS('CONTROLE GERAL'!$R$11:$R$4993,'CONTROLE GERAL'!$F$11:$F$4993,$B12,'CONTROLE GERAL'!$B$11:$B$4993,AF4)","v":0},{"$f":"SUMIFS('CONTROLE GERAL'!$X$11:$X$4993,'CONTROLE GERAL'!$F$11:$F$4993,$B12,'CONTROLE GERAL'!$B$11:$B$4993,AF4)","v":0},0]
[null,"VUC 11.180",{"$f":"SUMIFS('CONTROLE GERAL'!$L$11:$L$4993,'CONTROLE GERAL'!$F$11:$F$4993,$B13,'CONTROLE GERAL'!$B$11:$B$4993,B4)","v":0},{"$f":"SUMIFS('CONTROLE GERAL'!$P$11:$P$4993,'CONTROLE GERAL'!$F$11:$F$4993,$B13,'CONTROLE GERAL'!$B$11:$B$4993,B4)","v":0},{"$f":"C13/D13","v":{"$error":"#DIV/0!"}},{"$f":"SUMIFS('CONTROLE GERAL'!$M$11:$M$4993,'CONTROLE GERAL'!$F$11:$F$4993,$B13,'CONTROLE GERAL'!$B$11:$B$4993,B4)","v":0},{"$f":"SUMIFS('CONTROLE GERAL'!$O$11:$O$4993,'CONTROLE GERAL'!$F$11:$F$4993,$B13,'CONTROLE GERAL'!$B$11:$B$4993,B4)","v":0},{"$f":"SUMIFS('CONTROLE GERAL'!$R$11:$R$4993,'CONTROLE GERAL'!$F$11:$F$4993,$B13,'CONTROLE GERAL'!$B$11:$B$4993,B4)","v":0},{"$f":"SUMIFS('CONTROLE GERAL'!$X$11:$X$4993,'CONTROLE GERAL'!$F$11:$F$4993,$B13,'CONTROLE GERAL'!$B$11:$B$4993,B4)","v":0},0,null,"VUC 11.180",{"$f":"SUMIFS('CONTROLE GERAL'!$L$11:$L$4993,'CONTROLE GERAL'!$F$11:$F$4993,$B13,'CONTROLE GERAL'!$B$11:$B$4993,L4)","v":0},{"$f":"SUMIFS('CONTROLE GERAL'!$P$11:$P$4993,'CONTROLE GERAL'!$F$11:$F$4993,$B13,'CONTROLE GERAL'!$B$11:$B$4993,L4)","v":0},{"$f":"M13/N13","v":{"$error":"#DIV/0!"}},{"$f":"SUMIFS('CONTROLE GERAL'!$M$11:$M$4993,'CONTROLE GERAL'!$F$11:$F$4993,$B13,'CONTROLE GERAL'!$B$11:$B$4993,L4)","v":0},{"$f":"SUMIFS('CONTROLE GERAL'!$O$11:$O$4993,'CONTROLE GERAL'!$F$11:$F$4993,$B13,'CONTROLE GERAL'!$B$11:$B$4993,L4)","v":0},{"$f":"SUMIFS('CONTROLE GERAL'!$R$11:$R$4993,'CONTROLE GERAL'!$F$11:$F$4993,$B13,'CONTROLE GERAL'!$B$11:$B$4993,L4)","v":0},{"$f":"SUMIFS('CONTROLE GERAL'!$X$11:$X$4993,'CONTROLE GERAL'!$F$11:$F$4993,$B13,'CONTROLE GERAL'!$B$11:$B$4993,L4)","v":0},0,null,"VUC 11.180",{"$f":"SUMIFS('CONTROLE GERAL'!$L$11:$L$4993,'CONTROLE GERAL'!$F$11:$F$4993,$B13,'CONTROLE GERAL'!$B$11:$B$4993,V4)","v":0},{"$f":"SUMIFS('CONTROLE GERAL'!$P$11:$P$4993,'CONTROLE GERAL'!$F$11:$F$4993,$B13,'CONTROLE GERAL'!$B$11:$B$4993,V4)","v":0},{"$f":"W13/X13","v":{"$error":"#DIV/0!"}},{"$f":"SUMIFS('CONTROLE GERAL'!$M$11:$M$4993,'CONTROLE GERAL'!$F$11:$F$4993,$B13,'CONTROLE GERAL'!$B$11:$B$4993,V4)","v":0},{"$f":"SUMIFS('CONTROLE GERAL'!$O$11:$O$4993,'CONTROLE GERAL'!$F$11:$F$4993,$B13,'CONTROLE GERAL'!$B$11:$B$4993,V4)","v":0},{"$f":"SUMIFS('CONTROLE GERAL'!$R$11:$R$4993,'CONTROLE GERAL'!$F$11:$F$4993,$B13,'CONTROLE GERAL'!$B$11:$B$4993,V4)","v":0},{"$f":"SUMIFS('CONTROLE GERAL'!$X$11:$X$4993,'CONTROLE GERAL'!$F$11:$F$4993,$B13,'CONTROLE GERAL'!$B$11:$B$4993,V4)","v":0},0,null,"VUC 11.180",{"$f":"SUMIFS('CONTROLE GERAL'!$L$11:$L$4993,'CONTROLE GERAL'!$F$11:$F$4993,$B13,'CONTROLE GERAL'!$B$11:$B$4993,AF4)","v":0},{"$f":"SUMIFS('CONTROLE GERAL'!$P$11:$P$4993,'CONTROLE GERAL'!$F$11:$F$4993,$B13,'CONTROLE GERAL'!$B$11:$B$4993,AF4)","v":0},{"$f":"AG13/AH13","v":{"$error":"#DIV/0!"}},{"$f":"SUMIFS('CONTROLE GERAL'!$M$11:$M$4993,'CONTROLE GERAL'!$F$11:$F$4993,$B13,'CONTROLE GERAL'!$B$11:$B$4993,AF4)","v":0},{"$f":"SUMIFS('CONTROLE GERAL'!$O$11:$O$4993,'CONTROLE GERAL'!$F$11:$F$4993,$B13,'CONTROLE GERAL'!$B$11:$B$4993,AF4)","v":0},{"$f":"SUMIFS('CONTROLE GERAL'!$R$11:$R$4993,'CONTROLE GERAL'!$F$11:$F$4993,$B13,'CONTROLE GERAL'!$B$11:$B$4993,AF4)","v":0},{"$f":"SUMIFS('CONTROLE GERAL'!$X$11:$X$4993,'CONTROLE GERAL'!$F$11:$F$4993,$B13,'CONTROLE GERAL'!$B$11:$B$4993,AF4)","v":0},0]
[null,"CASA GRANDE",{"$f":"SUMIFS('CONTROLE GERAL'!$L$11:$L$4993,'CONTROLE GERAL'!$F$11:$F$4993,$B14,'CONTROLE GERAL'!$B$11:$B$4993,B4)","v":0},{"$f":"SUMIFS('CONTROLE GERAL'!$P$11:$P$4993,'CONTROLE GERAL'!$F$11:$F$4993,$B14,'CONTROLE GERAL'!$B$11:$B$4993,B4)","v":0},{"$error":"#DIV/0!"},{"$f":"SUMIFS('CONTROLE GERAL'!$M$11:$M$4993,'CONTROLE GERAL'!$F$11:$F$4993,$B14,'CONTROLE GERAL'!$B$11:$B$4993,B4)","v":0},{"$f":"SUMIFS('CONTROLE GERAL'!$O$11:$O$4993,'CONTROLE GERAL'!$F$11:$F$4993,$B14,'CONTROLE GERAL'!$B$11:$B$4993,B4)","v":0},{"$f":"SUMIFS('CONTROLE GERAL'!$R$11:$R$4993,'CONTROLE GERAL'!$F$11:$F$4993,$B14,'CONTROLE GERAL'!$B$11:$B$4993,B4)","v":0},{"$f":"SUMIFS('CONTROLE GERAL'!$X$11:$X$4993,'CONTROLE GERAL'!$F$11:$F$4993,$B14,'CONTROLE GERAL'!$B$11:$B$4993,B4)","v":0},0,null,"CASA GRANDE",{"$f":"SUMIFS('CONTROLE GERAL'!$L$11:$L$4993,'CONTROLE GERAL'!$F$11:$F$4993,$B14,'CONTROLE GERAL'!$B$11:$B$4993,L4)","v":0},{"$f":"SUMIFS('CONTROLE GERAL'!$P$11:$P$4993,'CONTROLE GERAL'!$F$11:$F$4993,$B14,'CONTROLE GERAL'!$B$11:$B$4993,L4)","v":0},{"$f":"M14/N14","v":{"$error":"#DIV/0!"}},{"$f":"SUMIFS('CONTROLE GERAL'!$M$11:$M$4993,'CONTROLE GERAL'!$F$11:$F$4993,$B14,'CONTROLE GERAL'!$B$11:$B$4993,L4)","v":0},{"$f":"SUMIFS('CONTROLE GERAL'!$O$11:$O$4993,'CONTROLE GERAL'!$F$11:$F$4993,$B14,'CONTROLE GERAL'!$B$11:$B$4993,L4)","v":0},{"$f":"SUMIFS('CONTROLE GERAL'!$R$11:$R$4993,'CONTROLE GERAL'!$F$11:$F$4993,$B14,'CONTROLE GERAL'!$B$11:$B$4993,L4)","v":0},{"$f":"SUMIFS('CONTROLE GERAL'!$X$11:$X$4993,'CONTROLE GERAL'!$F$11:$F$4993,$B14,'CONTROLE GERAL'!$B$11:$B$4993,L4)","v":0},0,null,"CASA GRANDE",{"$f":"SUMIFS('CONTROLE GERAL'!$L$11:$L$4993,'CONTROLE GERAL'!$F$11:$F$4993,$B14,'CONTROLE GERAL'!$B$11:$B$4993,V4)","v":0},{"$f":"SUMIFS('CONTROLE GERAL'!$P$11:$P$4993,'CONTROLE GERAL'!$F$11:$F$4993,$B14,'CONTROLE GERAL'!$B$11:$B$4993,V4)","v":0},{"$f":"W14/X14","v":{"$error":"#DIV/0!"}},{"$f":"SUMIFS('CONTROLE GERAL'!$M$11:$M$4993,'CONTROLE GERAL'!$F$11:$F$4993,$B14,'CONTROLE GERAL'!$B$11:$B$4993,V4)","v":0},{"$f":"SUMIFS('CONTROLE GERAL'!$O$11:$O$4993,'CONTROLE GERAL'!$F$11:$F$4993,$B14,'CONTROLE GERAL'!$B$11:$B$4993,V4)","v":0},{"$f":"SUMIFS('CONTROLE GERAL'!$R$11:$R$4993,'CONTROLE GERAL'!$F$11:$F$4993,$B14,'CONTROLE GERAL'!$B$11:$B$4993,V4)","v":0},{"$f":"SUMIFS('CONTROLE GERAL'!$X$11:$X$4993,'CONTROLE GERAL'!$F$11:$F$4993,$B14,'CONTROLE GERAL'!$B$11:$B$4993,V4)","v":0},0,null,"CASA GRANDE",{"$f":"SUMIFS('CONTROLE GERAL'!$L$11:$L$4993,'CONTROLE GERAL'!$F$11:$F$4993,$B14,'CONTROLE GERAL'!$B$11:$B$4993,AF4)","v":0},{"$f":"SUMIFS('CONTROLE GERAL'!$P$11:$P$4993,'CONTROLE GERAL'!$F$11:$F$4993,$B14,'CONTROLE GERAL'!$B$11:$B$4993,AF4)","v":0},{"$f":"AG14/AH14","v":{"$error":"#DIV/0!"}},{"$f":"SUMIFS('CONTROLE GERAL'!$M$11:$M$4993,'CONTROLE GERAL'!$F$11:$F$4993,$B14,'CONTROLE GERAL'!$B$11:$B$4993,AF4)","v":0},{"$f":"SUMIFS('CONTROLE GERAL'!$O$11:$O$4993,'CONTROLE GERAL'!$F$11:$F$4993,$B14,'CONTROLE GERAL'!$B$11:$B$4993,AF4)","v":0},{"$f":"SUMIFS('CONTROLE GERAL'!$R$11:$R$4993,'CONTROLE GERAL'!$F$11:$F$4993,$B14,'CONTROLE GERAL'!$B$11:$B$4993,AF4)","v":0},{"$f":"SUMIFS('CONTROLE GERAL'!$X$11:$X$4993,'CONTROLE GERAL'!$F$11:$F$4993,$B14,'CONTROLE GERAL'!$B$11:$B$4993,AF4)","v":0},0]
[null,"NILZA",{"$f":"SUMIFS('CONTROLE GERAL'!$L$11:$L$4993,'CONTROLE GERAL'!$F$11:$F$4993,$B15,'CONTROLE GERAL'!$B$11:$B$4993,B4)","v":0},{"$f":"SUMIFS('CONTROLE GERAL'!$P$11:$P$4993,'CONTROLE GERAL'!$F$11:$F$4993,$B15,'CONTROLE GERAL'!$B$11:$B$4993,B4)","v":0},{"$error":"#DIV/0!"},{"$f":"SUMIFS('CONTROLE GERAL'!$M$11:$M$4993,'CONTROLE GERAL'!$F$11:$F$4993,$B15,'CONTROLE GERAL'!$B$11:$B$4993,B4)","v":0},{"$f":"SUMIFS('CONTROLE GERAL'!$O$11:$O$4993,'CONTROLE GERAL'!$F$11:$F$4993,$B15,'CONTROLE GERAL'!$B$11:$B$4993,B4)","v":0},{"$f":"SUMIFS('CONTROLE GERAL'!$R$11:$R$4993,'CONTROLE GERAL'!$F$11:$F$4993,$B15,'CONTROLE GERAL'!$B$11:$B$4993,B4)","v":0},{"$f":"SUMIFS('CONTROLE GERAL'!$X$11:$X$4993,'CONTROLE GERAL'!$F$11:$F$4993,$B15,'CONTROLE GERAL'!$B$11:$B$4993,B4)","v":0},0,null,"NILZA",{"$f":"SUMIFS('CONTROLE GERAL'!$L$11:$L$4993,'CONTROLE GERAL'!$F$11:$F$4993,$B15,'CONTROLE GERAL'!$B$11:$B$4993,L4)","v":0},{"$f":"SUMIFS('CONTROLE GERAL'!$P$11:$P$4993,'CONTROLE GERAL'!$F$11:$F$4993,$B15,'CONTROLE GERAL'!$B$11:$B$4993,L4)","v":0},{"$error":"#DIV/0!"},{"$f":"SUMIFS('CONTROLE GERAL'!$M$11:$M$4993,'CONTROLE GERAL'!$F$11:$F$4993,$B15,'CONTROLE GERAL'!$B$11:$B$4993,L4)","v":0},{"$f":"SUMIFS('CONTROLE GERAL'!$O$11:$O$4993,'CONTROLE GERAL'!$F$11:$F$4993,$B15,'CONTROLE GERAL'!$B$11:$B$4993,L4)","v":0},{"$f":"SUMIFS('CONTROLE GERAL'!$R$11:$R$4993,'CONTROLE GERAL'!$F$11:$F$4993,$B15,'CONTROLE GERAL'!$B$11:$B$4993,L4)","v":0},{"$f":"SUMIFS('CONTROLE GERAL'!$X$11:$X$4993,'CONTROLE GERAL'!$F$11:$F$4993,$B15,'CONTROLE GERAL'!$B$11:$B$4993,L4)","v":0},0,null,"NILZA",{"$f":"SUMIFS('CONTROLE GERAL'!$L$11:$L$4993,'CONTROLE GERAL'!$F$11:$F$4993,$B15,'CONTROLE GERAL'!$B$11:$B$4993,V4)","v":0},{"$f":"SUMIFS('CONTROLE GERAL'!$P$11:$P$4993,'CONTROLE GERAL'!$F$11:$F$4993,$B15,'CONTROLE GERAL'!$B$11:$B$4993,V4)","v":0},{"$error":"#DIV/0!"},{"$f":"SUMIFS('CONTROLE GERAL'!$M$11:$M$4993,'CONTROLE GERAL'!$F$11:$F$4993,$B15,'CONTROLE GERAL'!$B$11:$B$4993,V4)","v":0},{"$f":"SUMIFS('CONTROLE GERAL'!$O$11:$O$4993,'CONTROLE GERAL'!$F$11:$F$4993,$B15,'CONTROLE GERAL'!$B$11:$B$4993,V4)","v":0},{"$f":"SUMIFS('CONTROLE GERAL'!$R$11:$R$4993,'CONTROLE GERAL'!$F$11:$F$4993,$B15,'CONTROLE GERAL'!$B$11:$B$4993,V4)","v":0},{"$f":"SUMIFS('CONTROLE GERAL'!$X$11:$X$4993,'CONTROLE GERAL'!$F$11:$F$4993,$B15,'CONTROLE GERAL'!$B$11:$B$4993,V4)","v":0},0,null,"NILZA",{"$f":"SUMIFS('CONTROLE GERAL'!$L$11:$L$4993,'CONTROLE GERAL'!$F$11:$F$4993,$B15,'CONTROLE GERAL'!$B$11:$B$4993,AF4)","v":0},{"$f":"SUMIFS('CONTROLE GERAL'!$P$11:$P$4993,'CONTROLE GERAL'!$F$11:$F$4993,$B15,'CONTROLE GERAL'!$B$11:$B$4993,AF4)","v":0},{"$error":"#DIV/0!"},{"$f":"SUMIFS('CONTROLE GERAL'!$M$11:$M$4993,'CONTROLE GERAL'!$F$11:$F$4993,$B15,'CONTROLE GERAL'!$B$11:$B$4993,AF4)","v":0},{"$f":"SUMIFS('CONTROLE GERAL'!$O$11:$O$4993,'CONTROLE GERAL'!$F$11:$F$4993,$B15,'CONTROLE GERAL'!$B$11:$B$4993,AF4)","v":0},{"$f":"SUMIFS('CONTROLE GERAL'!$R$11:$R$4993,'CONTROLE GERAL'!$F$11:$F$4993,$B15,'CONTROLE GERAL'!$B$11:$B$4993,AF4)","v":0},{"$f":"SUMIFS('CONTROLE GERAL'!$X$11:$X$4993,'CONTROLE GERAL'!$F$11:$F$4993,$B15,'CONTROLE GERAL'!$B$11:$B$4993,AF4)","v":0},0]
[null,"TRANSHOW",{"$f":"SUMIFS('CONTROLE GERAL'!$L$11:$L$4993,'CONTROLE GERAL'!$F$11:$F$4993,$B16,'CONTROLE GERAL'!$B$11:$B$4993,B4)","v":0},{"$f":"SUMIFS('CONTROLE GERAL'!$P$11:$P$4993,'CONTROLE GERAL'!$F$11:$F$4993,$B16,'CONTROLE GERAL'!$B$11:$B$4993,B4)","v":0},{"$f":"C16/D16","v":{"$error":"#DIV/0!"}},{"$f":"SUMIFS('CONTROLE GERAL'!$M$11:$M$4993,'CONTROLE GERAL'!$F$11:$F$4993,$B16,'CONTROLE GERAL'!$B$11:$B$4993,B4)","v":0},{"$f":"SUMIFS('CONTROLE GERAL'!$O$11:$O$4993,'CONTROLE GERAL'!$F$11:$F$4993,$B16,'CONTROLE GERAL'!$B$11:$B$4993,B4)","v":0},{"$f":"SUMIFS('CONTROLE GERAL'!$R$11:$R$4993,'CONTROLE GERAL'!$F$11:$F$4993,$B16,'CONTROLE GERAL'!$B$11:$B$4993,B4)","v":0},{"$f":"SUMIFS('CONTROLE GERAL'!$X$11:$X$4993,'CONTROLE GERAL'!$F$11:$F$4993,$B16,'CONTROLE GERAL'!$B$11:$B$4993,B4)","v":0},0,null,"TRANSHOW",{"$f":"SUMIFS('CONTROLE GERAL'!$L$11:$L$4993,'CONTROLE GERAL'!$F$11:$F$4993,$B16,'CONTROLE GERAL'!$B$11:$B$4993,L4)","v":0},{"$f":"SUMIFS('CONTROLE GERAL'!$P$11:$P$4993,'CONTROLE GERAL'!$F$11:$F$4993,$B16,'CONTROLE GERAL'!$B$11:$B$4993,L4)","v":0},{"$f":"M16/N16","v":{"$error":"#DIV/0!"}},{"$f":"SUMIFS('CONTROLE GERAL'!$M$11:$M$4993,'CONTROLE GERAL'!$F$11:$F$4993,$B16,'CONTROLE GERAL'!$B$11:$B$4993,L4)","v":0},{"$f":"SUMIFS('CONTROLE GERAL'!$O$11:$O$4993,'CONTROLE GERAL'!$F$11:$F$4993,$B16,'CONTROLE GERAL'!$B$11:$B$4993,L4)","v":0},{"$f":"SUMIFS('CONTROLE GERAL'!$R$11:$R$4993,'CONTROLE GERAL'!$F$11:$F$4993,$B16,'CONTROLE GERAL'!$B$11:$B$4993,L4)","v":0},{"$f":"SUMIFS('CONTROLE GERAL'!$X$11:$X$4993,'CONTROLE GERAL'!$F$11:$F$4993,$B16,'CONTROLE GERAL'!$B$11:$B$4993,L4)","v":0},0,null,"TRANSHOW",{"$f":"SUMIFS('CONTROLE GERAL'!$L$11:$L$4993,'CONTROLE GERAL'!$F$11:$F$4993,$B16,'CONTROLE GERAL'!$B$11:$B$4993,V4)","v":0},{"$f":"SUMIFS('CONTROLE GERAL'!$P$11:$P$4993,'CONTROLE GERAL'!$F$11:$F$4993,$B16,'CONTROLE GERAL'!$B$11:$B$4993,V4)","v":0},{"$f":"W16/X16","v":{"$error":"#DIV/0!"}},{"$f":"SUMIFS('CONTROLE GERAL'!$M$11:$M$4993,'CONTROLE GERAL'!$F$11:$F$4993,$B16,'CONTROLE GERAL'!$B$11:$B$4993,V4)","v":0},{"$f":"SUMIFS('CONTROLE GERAL'!$O$11:$O$4993,'CONTROLE GERAL'!$F$11:$F$4993,$B16,'CONTROLE GERAL'!$B$11:$B$4993,V4)","v":0},{"$f":"SUMIFS('CONTROLE GERAL'!$R$11:$R$4993,'CONTROLE GERAL'!$F$11:$F$4993,$B16,'CONTROLE GERAL'!$B$11:$B$4993,V4)","v":0},{"$f":"SUMIFS('CONTROLE GERAL'!$X$11:$X$4993,'CONTROLE GERAL'!$F$11:$F$4993,$B16,'CONTROLE GERAL'!$B$11:$B$4993,V4)","v":0},0,null,"TRANSHOW",{"$f":"SUMIFS('CONTROLE GERAL'!$L$11:$L$4993,'CONTROLE GERAL'!$F$11:$F$4993,$B16,'CONTROLE GERAL'!$B$11:$B$4993,AF4)","v":0},{"$f":"SUMIFS('CONTROLE GERAL'!$P$11:$P$4993,'CONTROLE GERAL'!$F$11:$F$4993,$B16,'CONTROLE GERAL'!$B$11:$B$4993,AF4)","v":0},{"$f":"AG16/AH16","v":{"$error":"#DIV/0!"}},{"$f":"SUMIFS('CONTROLE GERAL'!$M$11:$M$4993,'CONTROLE GERAL'!$F$11:$F$4993,$B16,'CONTROLE GERAL'!$B$11:$B$4993,AF4)","v":0},{"$f":"SUMIFS('CONTROLE GERAL'!$O$11:$O$4993,'CONTROLE GERAL'!$F$11:$F$4993,$B16,'CONTROLE GERAL'!$B$11:$B$4993,AF4)","v":0},{"$f":"SUMIFS('CONTROLE GERAL'!$R$11:$R$4993,'CONTROLE GERAL'!$F$11:$F$4993,$B16,'CONTROLE GERAL'!$B$11:$B$4993,AF4)","v":0},{"$f":"SUMIFS('CONTROLE GERAL'!$X$11:$X$4993,'CONTROLE GERAL'!$F$11:$F$4993,$B16,'CONTROLE GERAL'!$B$11:$B$4993,AF4)","v":0},0]
[]
[null,5,"MAI",null,null,null,null,null,null,null,null,6,"JUN",null,null,null,null,null,null,null,null,7,"JUL",null,null,null,null,null,null,null,null,8,"AGO"]
[null,null,"KM RODADO","LITROS","MÉDIA CONSUMO","VENDA","ABASTECIMENTO","MANUTENÇÃO","CUSTO TOTAL","LUCRO ESTIMADO",null,null,"KM RODADO","LITROS","MÉDIA DE CONSUMO","VENDA","ABASTECIMENTO","MANUTENÇÃO","CUSTO TOTAL","LUCRO ESTIMADO",null,null,"KM RODADO","LITROS","MÉDIA DE CONSUMO","VENDA","ABASTECIMENTO","MANUTENÇÃO","CUSTO TOTAL","LUCRO ESTIMADO",null,null,"KM RODADO","LITROS","MÉDIA DE CONSUMO","VENDA","ABASTECIMENTO","MANUTENÇÃO","CUSTO TOTAL","LUCRO ESTIMADO"]
[null,"BITRUCK",{"$f":"SUMIFS('CONTROLE GERAL'!$L$11:$L$4993,'CONTROLE GERAL'!$F$11:$F$4993,$B20,'CONTROLE GERAL'!$B$11:$B$4993,B18)","v":0},{"$f":"SUMIFS('CONTROLE GERAL'!$P$11:$P$4993,'CONTROLE GERAL'!$F$11:$F$4993,$B20,'CONTROLE GERAL'!$B$11:$B$4993,B18)","v":0},{"$f":"C20/D20","v":{"$error":"#DIV/0!"}},{"$f":"SUMIFS('CONTROLE GERAL'!$M$11:$M$4993,'CONTROLE GERAL'!$F$11:$F$4993,$B20,'CONTROLE GERAL'!$B$11:$B$4993,B18)","v":0},{"$f":"SUMIFS('CONTROLE GERAL'!$O$11:$O$4993,'CONTROLE GERAL'!$F$11:$F$4993,$B20,'CONTROLE GERAL'!$B$11:$B$4993,B18)","v":0},{"$f":"SUMIFS('CONTROLE GERAL'!$R$11:$R$4993,'CONTROLE GERAL'!$F$11:$F$4993,$B20,'CONTROLE GERAL'!$B$11:$B$4993,B18)","v":0},{"$f":"SUMIFS('CONTROLE GERAL'!$X$11:$X$4993,'CONTROLE GERAL'!$F$11:$F$4993,$B20,'CONTROLE GERAL'!$B$11:$B$4993,B18)","v":0},{"$f":"F20-I20","v":0},null,"BITRUCK",{"$f":"SUMIFS('CONTROLE GERAL'!$L$11:$L$4993,'CONTROLE GERAL'!$F$11:$F$4993,$B20,'CONTROLE GERAL'!$B$11:$B$4993,L18)","v":100},{"$f":"SUMIFS('CONTROLE GERAL'!$P$11:$P$4993,'CONTROLE GERAL'!$F$11:$F$4993,$B20,'CONTROLE GERAL'!$B$11:$B$4993,L18)","v":20},{"$f":"M20/N20","v":5},{"$f":"SUMIFS('CONTROLE GERAL'!$M$11:$M$4993,'CONTROLE GERAL'!$F$11:$F$4993,$B20,'CONTROLE GERAL'!$B$11:$B$4993,L18)","v":1300},{"$f":"SUMIFS('CONTROLE GERAL'!$O$11:$O$4993,'CONTROLE GERAL'!$F$11:$F$4993,$B20,'CONTROLE GERAL'!$B$11:$B$4993,L18)","v":0},{"$f":"SUMIFS('CONTROLE GERAL'!$R$11:$R$4993,'CONTROLE GERAL'!$F$11:$F$4993,$B20,'CONTROLE GERAL'!$B$11:$B$4993,L18)","v":0},{"$f":"SUMIFS('CONTROLE GERAL'!$X$11:$X$4993,'CONTROLE GERAL'!$F$11:$F$4993,$B20,'CONTROLE GERAL'!$B$11:$B$4993,L18)","v":125},{"$f":"P20-S20","v":1175},null,"BITRUCK",{"$f":"SUMIFS('CONTROLE GERAL'!$L$11:$L$4993,'CONTROLE GERAL'!$F$11:$F$4993,$B20,'CONTROLE GERAL'!$B$11:$B$4993,V18)","v":0},{"$f":"SUMIFS('CONTROLE GERAL'!$P$11:$P$4993,'CONTROLE GERAL'!$F$11:$F$4993,$B20,'CONTROLE GERAL'!$B$11:$B$4993,V18)","v":0},{"$f":"W20/X20","v":{"$error":"#DIV/0!"}},{"$f":"SUMIFS('CONTROLE GERAL'!$M$11:$M$4993,'CONTROLE GERAL'!$F$11:$F$4993,$B20,'CONTROLE GERAL'!$B$11:$B$4993,V18)","v":0},{"$f":"SUMIFS('CONTROLE GERAL'!$O$11:$O$4993,'CONTROLE GERAL'!$F$11:$F$4993,$B20,'CONTROLE GERAL'!$B$11:$B$4993,V18)","v":0},{"$f":"SUMIFS('CONTROLE GERAL'!$R$11:$R$4993,'CONTROLE GERAL'!$F$11:$F$4993,$B20,'CONTROLE GERAL'!$B$11:$B$4993,V18)","v":0},{"$f":"SUMIFS('CONTROLE GERAL'!$X$11:$X$4993,'CONTROLE GERAL'!$F$11:$F$4993,$B20,'CONTROLE GERAL'!$B$11:$B$4993,V18)","v":0},{"$f":"Z20-AC20","v":0},null,"BITRUCK",{"$f":"SUMIFS('CONTROLE GERAL'!$L$11:$L$4993,'CONTROLE GERAL'!$F$11:$F$4993,$B20,'CONTROLE GERAL'!$B$11:$B$4993,AF18)","v":0},{"$f":"SUMIFS('CONTROLE GERAL'!$P$11:$P$4993,'CONTROLE GERAL'!$F$11:$F$4993,$B20,'CONTROLE GERAL'!$B$11:$B$4993,AF18)","v":0},{"$f":"AG20/AH20","v":{"$error":"#DIV/0!"}},{"$f":"SUMIFS('CONTROLE GERAL'!$M$11:$M$4993,'CONTROLE GERAL'!$F$11:$F$4993,$B20,'CONTROLE GERAL'!$B$11:$B$4993,AF18)","v":0},{"$f":"SUMIFS('CONTROLE GERAL'!$O$11:$O$4993,'CONTROLE GERAL'!$F$11:$F$4993,$B20,'CONTROLE GERAL'!$B$11:$B$4993,AF18)","v":0},{"$f":"SUMIFS('CONTROLE GERAL'!$R$11:$R$4993,'CONTROLE GERAL'!$F$11:$F$4993,$B20,'CONTROLE GERAL'!$B$11:$B$4993,AF18)","v":0},{"$f":"SUMIFS('CONTROLE GERAL'!$X$11:$X$4993,'CONTROLE GERAL'!$F$11:$F$4993,$B20,'CONTROLE GERAL'!$B$11:$B$4993,AF18)","v":0},{"$f":"AJ20-AM20","v":0}]
[null,"EXPRESS",{"$f":"SUMIFS('CONTROLE GERAL'!$L$11:$L$4993,'CONTROLE GERAL'!$F$11:$F$4993,$B21,'CONTROLE GERAL'!$B$11:$B$4993,B18)","v":0},{"$f":"SUMIFS('CONTROLE GERAL'!$P$11:$P$4993,'CONTROLE GERAL'!$F$11:$F$4993,$B21,'CONTROLE GERAL'!$B$11:$B$4993,B18)","v":0},{"$f":"C21/D21","v":{"$error":"#DIV/0!"}},{"$f":"SUMIFS('CONTROLE GERAL'!$M$11:$M$4993,'CONTROLE GERAL'!$F$11:$F$4993,$B21,'CONTROLE GERAL'!$B$11:$B$4993,B18)","v":0},{"$f":"SUMIFS('CONTROLE GERAL'!$O$11:$O$4993,'CONTROLE GERAL'!$F$11:$F$4993,$B21,'CONTROLE GERAL'!$B$11:$B$4993,B18)","v":0},{"$f":"SUMIFS('CONTROLE GERAL'!$R$11:$R$4993,'CONTROLE GERAL'!$F$11:$F$4993,$B21,'CONTROLE GERAL'!$B$11:$B$4993,B18)","v":0},{"$f":"SUMIFS('CONTROLE GERAL'!$X$11:$X$4993,'CONTROLE GERAL'!$F$11:$F$4993,$B21,'CONTROLE GERAL'!$B$11:$B$4993,B18)","v":0},{"$f":"F21-I21","v":0},null,"EXPRESS",{"$f":"SUMIFS('CONTROLE GERAL'!$L$11:$L$4993,'CONTROLE GERAL'!$F$11:$F$4993,$B21,'CONTROLE GERAL'!$B$11:$B$4993,L18)","v":0},{"$f":"SUMIFS('CONTROLE GERAL'!$P$11:$P$4993,'CONTROLE GERAL'!$F$11:$F$4993,$B21,'CONTROLE GERAL'!$B$11:$B$4993,L18)","v":0},{"$f":"M21/N21","v":{"$error":"#DIV/0!"}},{"$f":"SUMIFS('CONTROLE GERAL'!$M$11:$M$4993,'CONTROLE GERAL'!$F$11:$F$4993,$B21,'CONTROLE GERAL'!$B$11:$B$4993,L18)","v":0},{"$f":"SUMIFS('CONTROLE GERAL'!$O$11:$O$4993,'CONTROLE GERAL'!$F$11:$F$4993,$B21,'CONTROLE GERAL'!$B$11:$B$4993,L18)","v":0},{"$f":"SUMIFS('CONTROLE GERAL'!$R$11:$R$4993,'CONTROLE GERAL'!$F$11:$F$4993,$B21,'CONTROLE GERAL'!$B$11:$B$4993,L18)","v":0},{"$f":"SUMIFS('CONTROLE GERAL'!$X$11:$X$4993,'CONTROLE GERAL'!$F$11:$F$4993,$B21,'CONTROLE GERAL'!$B$11:$B$4993,L18)","v":0},{"$f":"P21-S21","v":0},null,"EXPRESS",{"$f":"SUMIFS('CONTROLE GERAL'!$L$11:$L$4993,'CONTROLE GERAL'!$F$11:$F$4993,$B21,'CONTROLE GERAL'!$B$11:$B$4993,V18)","v":0},{"$f":"SUMIFS('CONTROLE GERAL'!$P$11:$P$4993,'CONTROLE GERAL'!$F$11:$F$4993,$B21,'CONTROLE GERAL'!$B$11:$B$4993,V18)","v":0},{"$f":"W21/X21","v":{"$error":"#DIV/0!"}},{"$f":"SUMIFS('CONTROLE GERAL'!$M$11:$M$4993,'CONTROLE GERAL'!$F$11:$F$4993,$B21,'CONTROLE GERAL'!$B$11:$B$4993,V18)","v":0},{"$f":"SUMIFS('CONTROLE GERAL'!$O$11:$O$4993,'CONTROLE GERAL'!$F$11:$F$4993,$B21,'CONTROLE GERAL'!$B$11:$B$4993,V18)","v":0},{"$f":"SUMIFS('CONTROLE GERAL'!$R$11:$R$4993,'CONTROLE GERAL'!$F$11:$F$4993,$B21,'CONTROLE GERAL'!$B$11:$B$4993,V18)","v":0},{"$f":"SUMIFS('CONTROLE GERAL'!$X$11:$X$4993,'CONTROLE GERAL'!$F$11:$F$4993,$B21,'CONTROLE GERAL'!$B$11:$B$4993,V18)","v":0},{"$f":"Z21-AC21","v":0},null,"EXPRESS",{"$f":"SUMIFS('CONTROLE GERAL'!$L$11:$L$4993,'CONTROLE GERAL'!$F$11:$F$4993,$B21,'CONTROLE GERAL'!$B$11:$B$4993,AF18)","v":0},{"$f":"SUMIFS('CONTROLE GERAL'!$P$11:$P$4993,'CONTROLE GERAL'!$F$11:$F$4993,$B21,'CONTROLE GERAL'!$B$11:$B$4993,AF18)","v":0},{"$f":"AG21/AH21","v":{"$error":"#DIV/0!"}},{"$f":"SUMIFS('CONTROLE GERAL'!$M$11:$M$4993,'CONTROLE GERAL'!$F$11:$F$4993,$B21,'CONTROLE GERAL'!$B$11:$B$4993,AF18)","v":0},{"$f":"SUMIFS('CONTROLE GERAL'!$O$11:$O$4993,'CONTROLE GERAL'!$F$11:$F$4993,$B21,'CONTROLE GERAL'!$B$11:$B$4993,AF18)","v":0},{"$f":"SUMIFS('CONTROLE GERAL'!$R$11:$R$4993,'CONTROLE GERAL'!$F$11:$F$4993,$B21,'CONTROLE GERAL'!$B$11:$B$4993,AF18)","v":0},{"$f":"SUMIFS('CONTROLE GERAL'!$X$11:$X$4993,'CONTROLE GERAL'!$F$11:$F$4993,$B21,'CONTROLE GERAL'!$B$11:$B$4993,AF18)","v":0},{"$f":"AJ21-AM21","v":0}]
[null,"FURGÃO",{"$f":"SUMIFS('CONTROLE GERAL'!$L$11:$L$4993,'CONTROLE GERAL'!$F$11:$F$4993,$B22,'CONTROLE GERAL'!$B$11:$B$4993,B18)","v":0},{"$f":"SUMIFS('CONTROLE GERAL'!$P$11:$P$4993,'CONTROLE GERAL'!$F$11:$F$4993,$B22,'CONTROLE GERAL'!$B$11:$B$4993,B18)","v":0},{"$error":"#DIV/0!"},{"$f":"SUMIFS('CONTROLE GERAL'!$M$11:$M$4993,'CONTROLE GERAL'!$F$11:$F$4993,$B22,'CONTROLE GERAL'!$B$11:$B$4993,B18)","v":0},{"$f":"SUMIFS('CONTROLE GERAL'!$O$11:$O$4993,'CONTROLE GERAL'!$F$11:$F$4993,$B22,'CONTROLE GERAL'!$B$11:$B$4993,B18)","v":0},{"$f":"SUMIFS('CONTROLE GERAL'!$R$11:$R$4993,'CONTROLE GERAL'!$F$11:$F$4993,$B22,'CONTROLE GERAL'!$B$11:$B$4993,B18)","v":0},{"$f":"SUMIFS('CONTROLE GERAL'!$X$11:$X$4993,'CONTROLE GERAL'!$F$11:$F$4993,$B22,'CONTROLE GERAL'!$B$11:$B$4993,B18)","v":0},0,null,"FURGÃO",{"$f":"SUMIFS('CONTROLE GERAL'!$L$11:$L$4993,'CONTROLE GERAL'!$F$11:$F$4993,$B22,'CONTROLE GERAL'!$B$11:$B$4993,L18)","v":0},{"$f":"SUMIFS('CONTROLE GERAL'!$P$11:$P$4993,'CONTROLE GERAL'!$F$11:$F$4993,$B22,'CONTROLE GERAL'!$B$11:$B$4993,L18)","v":0},{"$error":"#DIV/0!"},{"$f":"SUMIFS('CONTROLE GERAL'!$M$11:$M$4993,'CONTROLE GERAL'!$F$11:$F$4993,$B22,'CONTROLE GERAL'!$B$11:$B$4993,L18)","v":0},{"$f":"SUMIFS('CONTROLE GERAL'!$O$11:$O$4993,'CONTROLE GERAL'!$F$11:$F$4993,$B22,'CONTROLE GERAL'!$B$11:$B$4993,L18)","v":0},{"$f":"SUMIFS('CONTROLE GERAL'!$R$11:$R$4993,'CONTROLE GERAL'!$F$11:$F$4993,$B22,'CONTROLE GERAL'!$B$11:$B$4993,L18)","v":0},{"$f":"SUMIFS('CONTROLE GERAL'!$X$11:$X$4993,'CONTROLE GERAL'!$F$11:$F$4993,$B22,'CONTROLE GERAL'!$B$11:$B$4993,L18)","v":0},0,null,"FURGÃO",{"$f":"SUMIFS('CONTROLE GERAL'!$L$11:$L$4993,'CONTROLE GERAL'!$F$11:$F$4993,$B22,'CONTROLE GERAL'!$B$11:$B$4993,V18)","v":0},{"$f":"SUMIFS('CONTROLE GERAL'!$P$11:$P$4993,'CONTROLE GERAL'!$F$11:$F$4993,$B22,'CONTROLE GERAL'!$B$11:$B$4993,V18)","v":0},{"$error":"#DIV/0!"},{"$f":"SUMIFS('CONTROLE GERAL'!$M$11:$M$4993,'CONTROLE GERAL'!$F$11:$F$4993,$B22,'CONTROLE GERAL'!$B$11:$B$4993,V18)","v":0},{"$f":"SUMIFS('CONTROLE GERAL'!$O$11:$O$4993,'CONTROLE GERAL'!$F$11:$F$4993,$B22,'CONTROLE GERAL'!$B$11:$B$4993,V18)","v":0},{"$f":"SUMIFS('CONTROLE GERAL'!$R$11:$R$4993,'CONTROLE GERAL'!$F$11:$F$4993,$B22,'CONTROLE GERAL'!$B$11:$B$4993,V18)","v":0},{"$f":"SUMIFS('CONTROLE GERAL'!$X$11:$X$4993,'CONTROLE GERAL'!$F$11:$F$4993,$B22,'CONTROLE GERAL'!$B$11:$B$4993,V18)","v":0},0,null,"FURGÃO",{"$f":"SUMIFS('CONTROLE GERAL'!$L$11:$L$4993,'CONTROLE GERAL'!$F$11:$F$4993,$B22,'CONTROLE GERAL'!$B$11:$B$4993,AF18)","v":0},{"$f":"SUMIFS('CONTROLE GERAL'!$P$11:$P$4993,'CONTROLE GERAL'!$F$11:$F$4993,$B22,'CONTROLE GERAL'!$B$11:$B$4993,AF18)","v":0},{"$error":"#DIV/0!"},{"$f":"SUMIFS('CONTROLE GERAL'!$M$11:$M$4993,'CONTROLE GERAL'!$F$11:$F$4993,$B22,'CONTROLE GERAL'!$B$11:$B$4993,AF18)","v":0},{"$f":"SUMIFS('CONTROLE GERAL'!$O$11:$O$4993,'CONTROLE GERAL'!$F$11:$F$4993,$B22,'CONTROLE GERAL'!$B$11:$B$4993,AF18)","v":0},{"$f":"SUMIFS('CONTROLE GERAL'!$R$11:$R$4993,'CONTROLE GERAL'!$F$11:$F$4993,$B22,'CONTROLE GERAL'!$B$11:$B$4993,AF18)","v":0},{"$f":"SUMIFS('CONTROLE GERAL'!$X$11:$X$4993,'CONTROLE GERAL'!$F$11:$F$4993,$B22,'CONTROLE GERAL'!$B$11:$B$4993,AF18)","v":0},0]
[null,"IVECO",{"$f":"SUMIFS('CONTROLE GERAL'!$L$11:$L$4993,'CONTROLE GERAL'!$F$11:$F$4993,$B23,'CONTROLE GERAL'!$B$11:$B$4993,B18)","v":0},{"$f":"SUMIFS('CONTROLE GERAL'!$P$11:$P$4993,'CONTROLE GERAL'!$F$11:$F$4993,$B23,'CONTROLE GERAL'!$B$11:$B$4993,B18)","v":0},{"$error":"#DIV/0!"},{"$f":"SUMIFS('CONTROLE GERAL'!$M$11:$M$4993,'CONTROLE GERAL'!$F$11:$F$4993,$B23,'CONTROLE GERAL'!$B$11:$B$4993,B18)","v":0},{"$f":"SUMIFS('CONTROLE GERAL'!$O$11:$O$4993,'CONTROLE GERAL'!$F$11:$F$4993,$B23,'CONTROLE GERAL'!$B$11:$B$4993,B18)","v":0},{"$f":"SUMIFS('CONTROLE GERAL'!$R$11:$R$4993,'CONTROLE GERAL'!$F$11:$F$4993,$B23,'CONTROLE GERAL'!$B$11:$B$4993,B18)","v":0},{"$f":"SUMIFS('CONTROLE GERAL'!$X$11:$X$4993,'CONTROLE GERAL'!$F$11:$F$4993,$B23,'CONTROLE GERAL'!$B$11:$B$4993,B18)","v":0},0,null,"IVECO",{"$f":"SUMIFS('CONTROLE GERAL'!$L$11:$L$4993,'CONTROLE GERAL'!$F$11:$F$4993,$B23,'CONTROLE GERAL'!$B$11:$B$4993,L18)","v":100},{"$f":"SUMIFS('CONTROLE GERAL'!$P$11:$P$4993,'CONTROLE GERAL'!$F$11:$F$4993,$B23,'CONTROLE GERAL'!$B$11:$B$4993,L18)","v":0},{"$error":"#DIV/0!"},{"$f":"SUMIFS('CONTROLE GERAL'!$M$11:$M$4993,'CONTROLE GERAL'!$F$11:$F$4993,$B23,'CONTROLE GERAL'!$B$11:$B$4993,L18)","v":550},{"$f":"SUMIFS('CONTROLE GERAL'!$O$11:$O$4993,'CONTROLE GERAL'!$F$11:$F$4993,$B23,'CONTROLE GERAL'!$B$11:$B$4993,L18)","v":0},{"$f":"SUMIFS('CONTROLE GERAL'!$R$11:$R$4993,'CONTROLE GERAL'!$F$11:$F$4993,$B23,'CONTROLE GERAL'!$B$11:$B$4993,L18)","v":0},{"$f":"SUMIFS('CONTROLE GERAL'!$X$11:$X$4993,'CONTROLE GERAL'!$F$11:$F$4993,$B23,'CONTROLE GERAL'!$B$11:$B$4993,L18)","v":0},550,null,"IVECO",{"$f":"SUMIFS('CONTROLE GERAL'!$L$11:$L$4993,'CONTROLE GERAL'!$F$11:$F$4993,$B23,'CONTROLE GERAL'!$B$11:$B$4993,V18)","v":0},{"$f":"SUMIFS('CONTROLE GERAL'!$P$11:$P$4993,'CONTROLE GERAL'!$F$11:$F$4993,$B23,'CONTROLE GERAL'!$B$11:$B$4993,V18)","v":0},{"$error":"#DIV/0!"},{"$f":"SUMIFS('CONTROLE GERAL'!$M$11:$M$4993,'CONTROLE GERAL'!$F$11:$F$4993,$B23,'CONTROLE GERAL'!$B$11:$B$4993,V18)","v":0},{"$f":"SUMIFS('CONTROLE GERAL'!$O$11:$O$4993,'CONTROLE GERAL'!$F$11:$F$4993,$B23,'CONTROLE GERAL'!$B$11:$B$4993,V18)","v":0},{"$f":"SUMIFS('CONTROLE GERAL'!$R$11:$R$4993,'CONTROLE GERAL'!$F$11:$F$4993,$B23,'CONTROLE GERAL'!$B$11:$B$4993,V18)","v":0},{"$f":"SUMIFS('CONTROLE GERAL'!$X$11:$X$4993,'CONTROLE GERAL'!$F$11:$F$4993,$B23,'CONTROLE GERAL'!$B$11:$B$4993,V18)","v":0},0,null,"IVECO",{"$f":"SUMIFS('CONTROLE GERAL'!$L$11:$L$4993,'CONTROLE GERAL'!$F$11:$F$4993,$B23,'CONTROLE GERAL'!$B$11:$B$4993,AF18)","v":100},{"$f":"SUMIFS('CONTROLE GERAL'!$P$11:$P$4993,'CONTROLE GERAL'!$F$11:$F$4993,$B23,'CONTROLE GERAL'!$B$11:$B$4993,AF18)","v":0},{"$error":"#DIV/0!"},{"$f":"SUMIFS('CONTROLE GERAL'!$M$11:$M$4993,'CONTROLE GERAL'!$F$11:$F$4993,$B23,'CONTROLE GERAL'!$B$11:$B$4993,AF18)","v":550},{"$f":"SUMIFS('CONTROLE GERAL'!$O$11:$O$4993,'CONTROLE GERAL'!$F$11:$F$4993,$B23,'CONTROLE GERAL'!$B$11:$B$4993,AF18)","v":0},{"$f":"SUMIFS('CONTROLE GERAL'!$R$11:$R$4993,'CONTROLE GERAL'!$F$11:$F$4993,$B23,'CONTROLE GERAL'!$B$11:$B$4993,AF18)","v":0},{"$f":"SUMIFS('CONTROLE GERAL'!$X$11:$X$4993,'CONTROLE GERAL'!$F$11:$F$4993,$B23,'CONTROLE GERAL'!$B$11:$B$4993,AF18)","v":0},550]
[null,"TRUCK",{"$f":"SUMIFS('CONTROLE GERAL'!$L$11:$L$4993,'CONTROLE GERAL'!$F$11:$F$4993,$B24,'CONTROLE GERAL'!$B$11:$B$4993,B18)","v":0},{"$f":"SUMIFS('CONTROLE GERAL'!$P$11:$P$4993,'CONTROLE GERAL'!$F$11:$F$4993,$B24,'CONTROLE GERAL'!$B$11:$B$4993,B18)","v":0},{"$error":"#DIV/0!"},{"$f":"SUMIFS('CONTROLE GERAL'!$M$11:$M$4993,'CONTROLE GERAL'!$F$11:$F$4993,$B24,'CONTROLE GERAL'!$B$11:$B$4993,B18)","v":0},{"$f":"SUMIFS('CONTROLE GERAL'!$O$11:$O$4993,'CONTROLE GERAL'!$F$11:$F$4993,$B24,'CONTROLE GERAL'!$B$11:$B$4993,B18)","v":0},{"$f":"SUMIFS('CONTROLE GERAL'!$R$11:$R$4993,'CONTROLE GERAL'!$F$11:$F$4993,$B24,'CONTROLE GERAL'!$B$11:$B$4993,B18)","v":0},{"$f":"SUMIFS('CONTROLE GERAL'!$X$11:$X$4993,'CONTROLE GERAL'!$F$11:$F$4993,$B24,'CONTROLE GERAL'!$B$11:$B$4993,B18)","v":0},0,null,"TRUCK",{"$f":"SUMIFS('CONTROLE GERAL'!$L$11:$L$4993,'CONTROLE GERAL'!$F$11:$F$4993,$B24,'CONTROLE GERAL'!$B$11:$B$4993,L18)","v":0},{"$f":"SUMIFS('CONTROLE GERAL'!$P$11:$P$4993,'CONTROLE GERAL'!$F$11:$F$4993,$B24,'CONTROLE GERAL'!$B$11:$B$4993,L18)","v":0},{"$error":"#DIV/0!"},{"$f":"SUMIFS('CONTROLE GERAL'!$M$11:$M$4993,'CONTROLE GERAL'!$F$11:$F$4993,$B24,'CONTROLE GERAL'!$B$11:$B$4993,L18)","v":0},{"$f":"SUMIFS('CONTROLE GERAL'!$O$11:$O$4993,'CONTROLE GERAL'!$F$11:$F$4993,$B24,'CONTROLE GERAL'!$B$11:$B$4993,L18)","v":0},{"$f":"SUMIFS('CONTROLE GERAL'!$R$11:$R$4993,'CONTROLE GERAL'!$F$11:$F$4993,$B24,'CONTROLE GERAL'!$B$11:$B$4993,L18)","v":0},{"$f":"SUMIFS('CONTROLE GERAL'!$X$11:$X$4993,'CONTROLE GERAL'!$F$11:$F$4993,$B24,'CONTROLE GERAL'!$B$11:$B$4993,L18)","v":0},0,null,"TRUCK",{"$f":"SUMIFS('CONTROLE GERAL'!$L$11:$L$4993,'CONTROLE GERAL'!$F$11:$F$4993,$B24,'CONTROLE GERAL'!$B$11:$B$4993,V18)","v":0},{"$f":"SUMIFS('CONTROLE GERAL'!$P$11:$P$4993,'CONTROLE GERAL'!$F$11:$F$4993,$B24,'CONTROLE GERAL'!$B$11:$B$4993,V18)","v":0},{"$error":"#DIV/0!"},{"$f":"SUMIFS('CONTROLE GERAL'!$M$11:$M$4993,'CONTROLE GERAL'!$F$11:$F$4993,$B24,'CONTROLE GERAL'!$B$11:$B$4993,V18)","v":0},{"$f":"SUMIFS('CONTROLE GERAL'!$O$11:$O$4993,'CONTROLE GERAL'!$F$11:$F$4993,$B24,'CONTROLE GERAL'!$B$11:$B$4993,V18)","v":0},{"$f":"SUMIFS('CONTROLE GERAL'!$R$11:$R$4993,'CONTROLE GERAL'!$F$11:$F$4993,$B24,'CONTROLE GERAL'!$B$11:$B$4993,V18)","v":0},{"$f":"SUMIFS('CONTROLE GERAL'!$X$11:$X$4993,'CONTROLE GERAL'!$F$11:$F$4993,$B24,'CONTROLE GERAL'!$B$11:$B$4993,V18)","v":0},0,null,"TRUCK",{"$f":"SUMIFS('CONTROLE GERAL'!$L$11:$L$4993,'CONTROLE GERAL'!$F$11:$F$4993,$B24,'CONTROLE GERAL'!$B$11:$B$4993,AF18)","v":0},{"$f":"SUMIFS('CONTROLE GERAL'!$P$11:$P$4993,'CONTROLE GERAL'!$F$11:$F$4993,$B24,'CONTROLE GERAL'!$B$11:$B$4993,AF18)","v":0},{"$error":"#DIV/0!"},{"$f":"SUMIFS('CONTROLE GERAL'!$M$11:$M$4993,'CONTROLE GERAL'!$F$11:$F$4993,$B24,'CONTROLE GERAL'!$B$11:$B$4993,AF18)","v":0},{"$f":"SUMIFS('CONTROLE GERAL'!$O$11:$O$4993,'CONTROLE GERAL'!$F$11:$F$4993,$B24,'CONTROLE GERAL'!$B$11:$B$4993,AF18)","v":0},{"$f":"SUMIFS('CONTROLE GERAL'!$R$11:$R$4993,'CONTROLE GERAL'!$F$11:$F$4993,$B24,'CONTROLE GERAL'!$B$11:$B$4993,AF18)","v":0},{"$f":"SUMIFS('CONTROLE GERAL'!$X$11:$X$4993,'CONTROLE GERAL'!$F$11:$F$4993,$B24,'CONTROLE GERAL'!$B$11:$B$4993,AF18)","v":0},0]
[null,"VAN",{"$f":"SUMIFS('CONTROLE GERAL'!$L$11:$L$4993,'CONTROLE GERAL'!$F$11:$F$4993,$B25,'CONTROLE GERAL'!$B$11:$B$4993,B18)","v":0},{"$f":"SUMIFS('CONTROLE GERAL'!$P$11:$P$4993,'CONTROLE GERAL'!$F$11:$F$4993,$B25,'CONTROLE GERAL'!$B$11:$B$4993,B18)","v":0},{"$error":"#DIV/0!"},{"$f":"SUMIFS('CONTROLE GERAL'!$M$11:$M$4993,'CONTROLE GERAL'!$F$11:$F$4993,$B25,'CONTROLE GERAL'!$B$11:$B$4993,B18)","v":0},{"$f":"SUMIFS('CONTROLE GERAL'!$O$11:$O$4993,'CONTROLE GERAL'!$F$11:$F$4993,$B25,'CONTROLE GERAL'!$B$11:$B$4993,B18)","v":0},{"$f":"SUMIFS('CONTROLE GERAL'!$R$11:$R$4993,'CONTROLE GERAL'!$F$11:$F$4993,$B25,'CONTROLE GERAL'!$B$11:$B$4993,B18)","v":0},{"$f":"SUMIFS('CONTROLE GERAL'!$X$11:$X$4993,'CONTROLE GERAL'!$F$11:$F$4993,$B25,'CONTROLE GERAL'!$B$11:$B$4993,B18)","v":0},0,null,"VAN",{"$f":"SUMIFS('CONTROLE GERAL'!$L$11:$L$4993,'CONTROLE GERAL'!$F$11:$F$4993,$B25,'CONTROLE GERAL'!$B$11:$B$4993,L18)","v":0},{"$f":"SUMIFS('CONTROLE GERAL'!$P$11:$P$4993,'CONTROLE GERAL'!$F$11:$F$4993,$B25,'CONTROLE GERAL'!$B$11:$B$4993,L18)","v":0},{"$error":"#DIV/0!"},{"$f":"SUMIFS('CONTROLE GERAL'!$M$11:$M$4993,'CONTROLE GERAL'!$F$11:$F$4993,$B25,'CONTROLE GERAL'!$B$11:$B$4993,L18)","v":0},{"$f":"SUMIFS('CONTROLE GERAL'!$O$11:$O$4993,'CONTROLE GERAL'!$F$11:$F$4993,$B25,'CONTROLE GERAL'!$B$11:$B$4993,L18)","v":0},{"$f":"SUMIFS('CONTROLE GERAL'!$R$11:$R$4993,'CONTROLE GERAL'!$F$11:$F$4993,$B25,'CONTROLE GERAL'!$B$11:$B$4993,L18)","v":0},{"$f":"SUMIFS('CONTROLE GERAL'!$X$11:$X$4993,'CONTROLE GERAL'!$F$11:$F$4993,$B25,'CONTROLE GERAL'!$B$11:$B$4993,L18)","v":0},0,null,"VAN",{"$f":"SUMIFS('CONTROLE GERAL'!$L$11:$L$4993,'CONTROLE GERAL'!$F$11:$F$4993,$B25,'CONTROLE GERAL'!$B$11:$B$4993,V18)","v":0},{"$f":"SUMIFS('CONTROLE GERAL'!$P$11:$P$4993,'CONTROLE GERAL'!$F$11:$F$4993,$B25,'CONTROLE GERAL'!$B$11:$B$4993,V18)","v":0},{"$error":"#DIV/0!"},{"$f":"SUMIFS('CONTROLE GERAL'!$M$11:$M$4993,'CONTROLE GERAL'!$F$11:$F$4993,$B25,'CONTROLE GERAL'!$B$11:$B$4993,V18)","v":0},{"$f":"SUMIFS('CONTROLE GERAL'!$O$11:$O$4993,'CONTROLE GERAL'!$F$11:$F$4993,$B25,'CONTROLE GERAL'!$B$11:$B$4993,V18)","v":0},{"$f":"SUMIFS('CONTROLE GERAL'!$R$11:$R$4993,'CONTROLE GERAL'!$F$11:$F$4993,$B25,'CONTROLE GERAL'!$B$11:$B$4993,V18)","v":0},{"$f":"SUMIFS('CONTROLE GERAL'!$X$11:$X$4993,'CONTROLE GERAL'!$F$11:$F$4993,$B25,'CONTROLE GERAL'!$B$11:$B$4993,V18)","v":0},0,null,"VAN",{"$f":"SUMIFS('CONTROLE GERAL'!$L$11:$L$4993,'CONTROLE GERAL'!$F$11:$F$4993,$B25,'CONTROLE GERAL'!$B$11:$B$4993,AF18)","v":0},{"$f":"SUMIFS('CONTROLE GERAL'!$P$11:$P$4993,'CONTROLE GERAL'!$F$11:$F$4993,$B25,'CONTROLE GERAL'!$B$11:$B$4993,AF18)","v":0},{"$error":"#DIV/0!"},{"$f":"SUMIFS('CONTROLE GERAL'!$M$11:$M$4993,'CONTROLE GERAL'!$F$11:$F$4993,$B25,'CONTROLE GERAL'!$B$11:$B$4993,AF18)","v":0},{"$f":"SUMIFS('CONTROLE GERAL'!$O$11:$O$4993,'CONTROLE GERAL'!$F$11:$F$4993,$B25,'CONTROLE GERAL'!$B$11:$B$4993,AF18)","v":0},{"$f":"SUMIFS('CONTROLE GERAL'!$R$11:$R$4993,'CONTROLE GERAL'!$F$11:$F$4993,$B25,'CONTROLE GERAL'!$B$11:$B$4993,AF18)","v":0},{"$f":"SUMIFS('CONTROLE GERAL'!$X$11:$X$4993,'CONTROLE GERAL'!$F$11:$F$4993,$B25,'CONTROLE GERAL'!$B$11:$B$4993,AF18)","v":0},0]
[null,"VUC 10.160",{"$f":"SUMIFS('CONTROLE GERAL'!$L$11:$L$4993,'CONTROLE GERAL'!$F$11:$F$4993,$B26,'CONTROLE GERAL'!$B$11:$B$4993,B18)","v":0},{"$f":"SUMIFS('CONTROLE GERAL'!$P$11:$P$4993,'CONTROLE GERAL'!$F$11:$F$4993,$B26,'CONTROLE GERAL'!$B$11:$B$4993,B18)","v":0},{"$error":"#DIV/0!"},{"$f":"SUMIFS('CONTROLE GERAL'!$M$11:$M$4993,'CONTROLE GERAL'!$F$11:$F$4993,$B26,'CONTROLE GERAL'!$B$11:$B$4993,B18)","v":0},{"$f":"SUMIFS('CONTROLE GERAL'!$O$11:$O$4993,'CONTROLE GERAL'!$F$11:$F$4993,$B26,'CONTROLE GERAL'!$B$11:$B$4993,B18)","v":0},{"$f":"SUMIFS('CONTROLE GERAL'!$R$11:$R$4993,'CONTROLE GERAL'!$F$11:$F$4993,$B26,'CONTROLE GERAL'!$B$11:$B$4993,B18)","v":0},{"$f":"SUMIFS('CONTROLE GERAL'!$X$11:$X$4993,'CONTROLE GERAL'!$F$11:$F$4993,$B26,'CONTROLE GERAL'!$B$11:$B$4993,B18)","v":0},0,null,"VUC 10.160",{"$f":"SUMIFS('CONTROLE GERAL'!$L$11:$L$4993,'CONTROLE GERAL'!$F$11:$F$4993,$B26,'CONTROLE GERAL'!$B$11:$B$4993,L18)","v":0},{"$f":"SUMIFS('CONTROLE GERAL'!$P$11:$P$4993,'CONTROLE GERAL'!$F$11:$F$4993,$B26,'CONTROLE GERAL'!$B$11:$B$4993,L18)","v":0},{"$error":"#DIV/0!"},{"$f":"SUMIFS('CONTROLE GERAL'!$M$11:$M$4993,'CONTROLE GERAL'!$F$11:$F$4993,$B26,'CONTROLE GERAL'!$B$11:$B$4993,L18)","v":0},{"$f":"SUMIFS('CONTROLE GERAL'!$O$11:$O$4993,'CONTROLE GERAL'!$F$11:$F$4993,$B26,'CONTROLE GERAL'!$B$11:$B$4993,L18)","v":0},{"$f":"SUMIFS('CONTROLE GERAL'!$R$11:$R$4993,'CONTROLE GERAL'!$F$11:$F$4993,$B26,'CONTROLE GERAL'!$B$11:$B$4993,L18)","v":0},{"$f":"SUMIFS('CONTROLE GERAL'!$X$11:$X$4993,'CONTROLE GERAL'!$F$11:$F$4993,$B26,'CONTROLE GERAL'!$B$11:$B$4993,L18)","v":0},0,null,"VUC 10.160",{"$f":"SUMIFS('CONTROLE GERAL'!$L$11:$L$4993,'CONTROLE GERAL'!$F$11:$F$4993,$B26,'CONTROLE GERAL'!$B$11:$B$4993,V18)","v":0},{"$f":"SUMIFS('CONTROLE GERAL'!$P$11:$P$4993,'CONTROLE GERAL'!$F$11:$F$4993,$B26,'CONTROLE GERAL'!$B$11:$B$4993,V18)","v":0},{"$error":"#DIV/0!"},{"$f":"SUMIFS('CONTROLE GERAL'!$M$11:$M$4993,'CONTROLE GERAL'!$F$11:$F$4993,$B26,'CONTROLE GERAL'!$B$11:$B$4993,V18)","v":0},{"$f":"SUMIFS('CONTROLE GERAL'!$O$11:$O$4993,'CONTROLE GERAL'!$F$11:$F$4993,$B26,'CONTROLE GERAL'!$B$11:$B$4993,V18)","v":0},{"$f":"SUMIFS('CONTROLE GERAL'!$R$11:$R$4993,'CONTROLE GERAL'!$F$11:$F$4993,$B26,'CONTROLE GERAL'!$B$11:$B$4993,V18)","v":0},{"$f":"SUMIFS('CONTROLE GERAL'!$X$11:$X$4993,'CONTROLE GERAL'!$F$11:$F$4993,$B26,'CONTROLE GERAL'!$B$11:$B$4993,V18)","v":0},0,null,"VUC 10.160",{"$f":"SUMIFS('CONTROLE GERAL'!$L$11:$L$4993,'CONTROLE GERAL'!$F$11:$F$4993,$B26,'CONTROLE GERAL'!$B$11:$B$4993,AF18)","v":0},{"$f":"SUMIFS('CONTROLE GERAL'!$P$11:$P$4993,'CONTROLE GERAL'!$F$11:$F$4993,$B26,'CONTROLE GERAL'!$B$11:$B$4993,AF18)","v":0},{"$error":"#DIV/0!"},{"$f":"SUMIFS('CONTROLE GERAL'!$M$11:$M$4993,'CONTROLE GERAL'!$F$11:$F$4993,$B26,'CONTROLE GERAL'!$B$11:$B$4993,AF18)","v":0},{"$f":"SUMIFS('CONTROLE GERAL'!$O$11:$O$4993,'CONTROLE GERAL'!$F$11:$F$4993,$B26,'CONTROLE GERAL'!$B$11:$B$4993,AF18)","v":0},{"$f":"SUMIFS('CONTROLE GERAL'!$R$11:$R$4993,'CONTROLE GERAL'!$F$11:$F$4993,$B26,'CONTROLE GERAL'!$B$11:$B$4993,AF18)","v":0},{"$f":"SUMIFS('CONTROLE GERAL'!$X$11:$X$4993,'CONTROLE GERAL'!$F$11:$F$4993,$B26,'CONTROLE GERAL'!$B$11:$B$4993,AF18)","v":0},0]
[null,"VUC 11.180",{"$f":"SUMIFS('CONTROLE GERAL'!$L$11:$L$4993,'CONTROLE GERAL'!$F$11:$F$4993,$B27,'CONTROLE GERAL'!$B$11:$B$4993,B18)","v":0},{"$f":"SUMIFS('CONTROLE GERAL'!$P$11:$P$4993,'CONTROLE GERAL'!$F$11:$F$4993,$B27,'CONTROLE GERAL'!$B$11:$B$4993,B18)","v":0},{"$f":"C27/D27","v":{"$error":"#DIV/0!"}},{"$f":"SUMIFS('CONTROLE GERAL'!$M$11:$M$4993,'CONTROLE GERAL'!$F$11:$F$4993,$B27,'CONTROLE GERAL'!$B$11:$B$4993,B18)","v":0},{"$f":"SUMIFS('CONTROLE GERAL'!$O$11:$O$4993,'CONTROLE GERAL'!$F$11:$F$4993,$B27,'CONTROLE GERAL'!$B$11:$B$4993,B18)","v":0},{"$f":"SUMIFS('CONTROLE GERAL'!$R$11:$R$4993,'CONTROLE GERAL'!$F$11:$F$4993,$B27,'CONTROLE GERAL'!$B$11:$B$4993,B18)","v":0},{"$f":"SUMIFS('CONTROLE GERAL'!$X$11:$X$4993,'CONTROLE GERAL'!$F$11:$F$4993,$B27,'CONTROLE GERAL'!$B$11:$B$4993,B18)","v":0},0,null,"VUC 11.180",{"$f":"SUMIFS('CONTROLE GERAL'!$L$11:$L$4993,'CONTROLE GERAL'!$F$11:$F$4993,$B27,'CONTROLE GERAL'!$B$11:$B$4993,L18)","v":0},{"$f":"SUMIFS('CONTROLE GERAL'!$P$11:$P$4993,'CONTROLE GERAL'!$F$11:$F$4993,$B27,'CONTROLE GERAL'!$B$11:$B$4993,L18)","v":0},{"$f":"M27/N27","v":{"$error":"#DIV/0!"}},{"$f":"SUMIFS('CONTROLE GERAL'!$M$11:$M$4993,'CONTROLE GERAL'!$F$11:$F$4993,$B27,'CONTROLE GERAL'!$B$11:$B$4993,L18)","v":0},{"$f":"SUMIFS('CONTROLE GERAL'!$O$11:$O$4993,'CONTROLE GERAL'!$F$11:$F$4993,$B27,'CONTROLE GERAL'!$B$11:$B$4993,L18)","v":0},{"$f":"SUMIFS('CONTROLE GERAL'!$R$11:$R$4993,'CONTROLE GERAL'!$F$11:$F$4993,$B27,'CONTROLE GERAL'!$B$11:$B$4993,L18)","v":0},{"$f":"SUMIFS('CONTROLE GERAL'!$X$11:$X$4993,'CONTROLE GERAL'!$F$11:$F$4993,$B27,'CONTROLE GERAL'!$B$11:$B$4993,L18)","v":0},0,null,"VUC 11.180",{"$f":"SUMIFS('CONTROLE GERAL'!$L$11:$L$4993,'CONTROLE GERAL'!$F$11:$F$4993,$B27,'CONTROLE GERAL'!$B$11:$B$4993,V18)","v":0},{"$f":"SUMIFS('CONTROLE GERAL'!$P$11:$P$4993,'CONTROLE GERAL'!$F$11:$F$4993,$B27,'CONTROLE GERAL'!$B$11:$B$4993,V18)","v":0},{"$f":"W27/X27","v":{"$error":"#DIV/0!"}},{"$f":"SUMIFS('CONTROLE GERAL'!$M$11:$M$4993,'CONTROLE GERAL'!$F$11:$F$4993,$B27,'CONTROLE GERAL'!$B$11:$B$4993,V18)","v":0},{"$f":"SUMIFS('CONTROLE GERAL'!$O$11:$O$4993,'CONTROLE GERAL'!$F$11:$F$4993,$B27,'CONTROLE GERAL'!$B$11:$B$4993,V18)","v":0},{"$f":"SUMIFS('CONTROLE GERAL'!$R$11:$R$4993,'CONTROLE GERAL'!$F$11:$F$4993,$B27,'CONTROLE GERAL'!$B$11:$B$4993,V18)","v":0},{"$f":"SUMIFS('CONTROLE GERAL'!$X$11:$X$4993,'CONTROLE GERAL'!$F$11:$F$4993,$B27,'CONTROLE GERAL'!$B$11:$B$4993,V18)","v":0},0,null,"VUC 11.180",{"$f":"SUMIFS('CONTROLE GERAL'!$L$11:$L$4993,'CONTROLE GERAL'!$F$11:$F$4993,$B27,'CONTROLE GERAL'!$B$11:$B$4993,AF18)","v":0},{"$f":"SUMIFS('CONTROLE GERAL'!$P$11:$P$4993,'CONTROLE GERAL'!$F$11:$F$4993,$B27,'CONTROLE GERAL'!$B$11:$B$4993,AF18)","v":0},{"$f":"AG27/AH27","v":{"$error":"#DIV/0!"}},{"$f":"SUMIFS('CONTROLE GERAL'!$M$11:$M$4993,'CONTROLE GERAL'!$F$11:$F$4993,$B27,'CONTROLE GERAL'!$B$11:$B$4993,AF18)","v":0},{"$f":"SUMIFS('CONTROLE GERAL'!$O$11:$O$4993,'CONTROLE GERAL'!$F$11:$F$4993,$B27,'CONTROLE GERAL'!$B$11:$B$4993,AF18)","v":0},{"$f":"SUMIFS('CONTROLE GERAL'!$R$11:$R$4993,'CONTROLE GERAL'!$F$11:$F$4993,$B27,'CONTROLE GERAL'!$B$11:$B$4993,AF18)","v":0},{"$f":"SUMIFS('CONTROLE GERAL'!$X$11:$X$4993,'CONTROLE GERAL'!$F$11:$F$4993,$B27,'CONTROLE GERAL'!$B$11:$B$4993,AF18)","v":0},0]
[null,"CASA GRANDE",{"$f":"SUMIFS('CONTROLE GERAL'!$L$11:$L$4993,'CONTROLE GERAL'!$F$11:$F$4993,$B28,'CONTROLE GERAL'!$B$11:$B$4993,B18)","v":0},{"$f":"SUMIFS('CONTROLE GERAL'!$P$11:$P$4993,'CONTROLE GERAL'!$F$11:$F$4993,$B28,'CONTROLE GERAL'!$B$11:$B$4993,B18)","v":0},{"$f":"C28/D28","v":{"$error":"#DIV/0!"}},{"$f":"SUMIFS('CONTROLE GERAL'!$M$11:$M$4993,'CONTROLE GERAL'!$F$11:$F$4993,$B28,'CONTROLE GERAL'!$B$11:$B$4993,B18)","v":0},{"$f":"SUMIFS('CONTROLE GERAL'!$O$11:$O$4993,'CONTROLE GERAL'!$F$11:$F$4993,$B28,'CONTROLE GERAL'!$B$11:$B$4993,B18)","v":0},{"$f":"SUMIFS('CONTROLE GERAL'!$R$11:$R$4993,'CONTROLE GERAL'!$F$11:$F$4993,$B28,'CONTROLE GERAL'!$B$11:$B$4993,B18)","v":0},{"$f":"SUMIFS('CONTROLE GERAL'!$X$11:$X$4993,'CONTROLE GERAL'!$F$11:$F$4993,$B28,'CONTROLE GERAL'!$B$11:$B$4993,B18)","v":0},0,null,"CASA GRANDE",{"$f":"SUMIFS('CONTROLE GERAL'!$L$11:$L$4993,'CONTROLE GERAL'!$F$11:$F$4993,$B28,'CONTROLE GERAL'!$B$11:$B$4993,L18)","v":0},{"$f":"SUMIFS('CONTROLE GERAL'!$P$11:$P$4993,'CONTROLE GERAL'!$F$11:$F$4993,$B28,'CONTROLE GERAL'!$B$11:$B$4993,L18)","v":0},{"$f":"M28/N28","v":{"$error":"#DIV/0!"}},{"$f":"SUMIFS('CONTROLE GERAL'!$M$11:$M$4993,'CONTROLE GERAL'!$F$11:$F$4993,$B28,'CONTROLE GERAL'!$B$11:$B$4993,L18)","v":0},{"$f":"SUMIFS('CONTROLE GERAL'!$O$11:$O$4993,'CONTROLE GERAL'!$F$11:$F$4993,$B28,'CONTROLE GERAL'!$B$11:$B$4993,L18)","v":0},{"$f":"SUMIFS('CONTROLE GERAL'!$R$11:$R$4993,'CONTROLE GERAL'!$F$11:$F$4993,$B28,'CONTROLE GERAL'!$B$11:$B$4993,L18)","v":0},{"$f":"SUMIFS('CONTROLE GERAL'!$X$11:$X$4993,'CONTROLE GERAL'!$F$11:$F$4993,$B28,'CONTROLE GERAL'!$B$11:$B$4993,L18)","v":0},0,null,"CASA GRANDE",{"$f":"SUMIFS('CONTROLE GERAL'!$L$11:$L$4993,'CONTROLE GERAL'!$F$11:$F$4993,$B28,'CONTROLE GERAL'!$B$11:$B$4993,V18)","v":0},{"$f":"SUMIFS('CONTROLE GERAL'!$P$11:$P$4993,'CONTROLE GERAL'!$F$11:$F$4993,$B28,'CONTROLE GERAL'!$B$11:$B$4993,V18)","v":0},{"$f":"W28/X28","v":{"$error":"#DIV/0!"}},{"$f":"SUMIFS('CONTROLE GERAL'!$M$11:$M$4993,'CONTROLE GERAL'!$F$11:$F$4993,$B28,'CONTROLE GERAL'!$B$11:$B$4993,V18)","v":0},{"$f":"SUMIFS('CONTROLE GERAL'!$O$11:$O$4993,'CONTROLE GERAL'!$F$11:$F$4993,$B28,'CONTROLE GERAL'!$B$11:$B$4993,V18)","v":0},{"$f":"SUMIFS('CONTROLE GERAL'!$R$11:$R$4993,'CONTROLE GERAL'!$F$11:$F$4993,$B28,'CONTROLE GERAL'!$B$11:$B$4993,V18)","v":0},{"$f":"SUMIFS('CONTROLE GERAL'!$X$11:$X$4993,'CONTROLE GERAL'!$F$11:$F$4993,$B28,'CONTROLE GERAL'!$B$11:$B$4993,V18)","v":0},0,null,"CASA GRANDE",{"$f":"SUMIFS('CONTROLE GERAL'!$L$11:$L$4993,'CONTROLE GERAL'!$F$11:$F$4993,$B28,'CONTROLE GERAL'!$B$11:$B$4993,AF18)","v":0},{"$f":"SUMIFS('CONTROLE GERAL'!$P$11:$P$4993,'CONTROLE GERAL'!$F$11:$F$4993,$B28,'CONTROLE GERAL'!$B$11:$B$4993,AF18)","v":0},{"$f":"AG28/AH28","v":{"$error":"#DIV/0!"}},{"$f":"SUMIFS('CONTROLE GERAL'!$M$11:$M$4993,'CONTROLE GERAL'!$F$11:$F$4993,$B28,'CONTROLE GERAL'!$B$11:$B$4993,AF18)","v":0},{"$f":"SUMIFS('CONTROLE GERAL'!$O$11:$O$4993,'CONTROLE GERAL'!$F$11:$F$4993,$B28,'CONTROLE GERAL'!$B$11:$B$4993,AF18)","v":0},{"$f":"SUMIFS('CONTROLE GERAL'!$R$11:$R$4993,'CONTROLE GERAL'!$F$11:$F$4993,$B28,'CONTROLE GERAL'!$B$11:$B$4993,AF18)","v":0},{"$f":"SUMIFS('CONTROLE GERAL'!$X$11:$X$4993,'CONTROLE GERAL'!$F$11:$F$4993,$B28,'CONTROLE GERAL'!$B$11:$B$4993,AF18)","v":0},0]
[null,"NILZA",{"$f":"SUMIFS('CONTROLE GERAL'!$L$11:$L$4993,'CONTROLE GERAL'!$F$11:$F$4993,$B29,'CONTROLE GERAL'!$B$11:$B$4993,B18)","v":0},{"$f":"SUMIFS('CONTROLE GERAL'!$P$11:$P$4993,'CONTROLE GERAL'!$F$11:$F$4993,$B29,'CONTROLE GERAL'!$B$11:$B$4993,B18)","v":0},{"$error":"#DIV/0!"},{"$f":"SUMIFS('CONTROLE GERAL'!$M$11:$M$4993,'CONTROLE GERAL'!$F$11:$F$4993,$B29,'CONTROLE GERAL'!$B$11:$B$4993,B18)","v":0},{"$f":"SUMIFS('CONTROLE GERAL'!$O$11:$O$4993,'CONTROLE GERAL'!$F$11:$F$4993,$B29,'CONTROLE GERAL'!$B$11:$B$4993,B18)","v":0},{"$f":"SUMIFS('CONTROLE GERAL'!$R$11:$R$4993,'CONTROLE GERAL'!$F$11:$F$4993,$B29,'CONTROLE GERAL'!$B$11:$B$4993,B18)","v":0},{"$f":"SUMIFS('CONTROLE GERAL'!$X$11:$X$4993,'CONTROLE GERAL'!$F$11:$F$4993,$B29,'CONTROLE GERAL'!$B$11:$B$4993,B18)","v":0},0,null,"NILZA",{"$f":"SUMIFS('CONTROLE GERAL'!$L$11:$L$4993,'CONTROLE GERAL'!$F$11:$F$4993,$B29,'CONTROLE GERAL'!$B$11:$B$4993,L18)","v":0},{"$f":"SUMIFS('CONTROLE GERAL'!$P$11:$P$4993,'CONTROLE GERAL'!$F$11:$F$4993,$B29,'CONTROLE GERAL'!$B$11:$B$4993,L18)","v":0},{"$error":"#DIV/0!"},{"$f":"SUMIFS('CONTROLE GERAL'!$M$11:$M$4993,'CONTROLE GERAL'!$F$11:$F$4993,$B29,'CONTROLE GERAL'!$B$11:$B$4993,L18)","v":0},{"$f":"SUMIFS('CONTROLE GERAL'!$O$11:$O$4993,'CONTROLE GERAL'!$F$11:$F$4993,$B29,'CONTROLE GERAL'!$B$11:$B$4993,L18)","v":0},{"$f":"SUMIFS('CONTROLE GERAL'!$R$11:$R$4993,'CONTROLE GERAL'!$F$11:$F$4993,$B29,'CONTROLE GERAL'!$B$11:$B$4993,L18)","v":0},{"$f":"SUMIFS('CONTROLE GERAL'!$X$11:$X$4993,'CONTROLE GERAL'!$F$11:$F$4993,$B29,'CONTROLE GERAL'!$B$11:$B$4993,L18)","v":1500},-1500,null,"NILZA",{"$f":"SUMIFS('CONTROLE GERAL'!$L$11:$L$4993,'CONTROLE GERAL'!$F$11:$F$4993,$B29,'CONTROLE GERAL'!$B$11:$B$4993,V18)","v":0},{"$f":"SUMIFS('CONTROLE GERAL'!$P$11:$P$4993,'CONTROLE GERAL'!$F$11:$F$4993,$B29,'CONTROLE GERAL'!$B$11:$B$4993,V18)","v":0},{"$error":"#DIV/0!"},{"$f":"SUMIFS('CONTROLE GERAL'!$M$11:$M$4993,'CONTROLE GERAL'!$F$11:$F$4993,$B29,'CONTROLE GERAL'!$B$11:$B$4993,V18)","v":0},{"$f":"SUMIFS('CONTROLE GERAL'!$O$11:$O$4993,'CONTROLE GERAL'!$F$11:$F$4993,$B29,'CONTROLE GERAL'!$B$11:$B$4993,V18)","v":0},{"$f":"SUMIFS('CONTROLE GERAL'!$R$11:$R$4993,'CONTROLE GERAL'!$F$11:$F$4993,$B29,'CONTROLE GERAL'!$B$11:$B$4993,V18)","v":0},{"$f":"SUMIFS('CONTROLE GERAL'!$X$11:$X$4993,'CONTROLE GERAL'!$F$11:$F$4993,$B29,'CONTROLE GERAL'!$B$11:$B$4993,V18)","v":0},0,null,"NILZA",{"$f":"SUMIFS('CONTROLE GERAL'!$L$11:$L$4993,'CONTROLE GERAL'!$F$11:$F$4993,$B29,'CONTROLE GERAL'!$B$11:$B$4993,AF18)","v":0},{"$f":"SUMIFS('CONTROLE GERAL'!$P$11:$P$4993,'CONTROLE GERAL'!$F$11:$F$4993,$B29,'CONTROLE GERAL'!$B$11:$B$4993,AF18)","v":0},{"$error":"#DIV/0!"},{"$f":"SUMIFS('CONTROLE GERAL'!$M$11:$M$4993,'CONTROLE GERAL'!$F$11:$F$4993,$B29,'CONTROLE GERAL'!$B$11:$B$4993,AF18)","v":0},{"$f":"SUMIFS('CONTROLE GERAL'!$O$11:$O$4993,'CONTROLE GERAL'!$F$11:$F$4993,$B29,'CONTROLE GERAL'!$B$11:$B$4993,AF18)","v":0},{"$f":"SUMIFS('CONTROLE GERAL'!$R$11:$R$4993,'CONTROLE GERAL'!$F$11:$F$4993,$B29,'CONTROLE GERAL'!$B$11:$B$4993,AF18)","v":0},{"$f":"SUMIFS('CONTROLE GERAL'!$X$11:$X$4993,'CONTROLE GERAL'!$F$11:$F$4993,$B29,'CONTROLE GERAL'!$B$11:$B$4993,AF18)","v":0},0]
[null,"TRANSHOW",{"$f":"SUMIFS('CONTROLE GERAL'!$L$11:$L$4993,'CONTROLE GERAL'!$F$11:$F$4993,$B30,'CONTROLE GERAL'!$B$11:$B$4993,B18)","v":0},{"$f":"SUMIFS('CONTROLE GERAL'!$P$11:$P$4993,'CONTROLE GERAL'!$F$11:$F$4993,$B30,'CONTROLE GERAL'!$B$11:$B$4993,B18)","v":0},{"$f":"C30/D30","v":{"$error":"#DIV/0!"}},{"$f":"SUMIFS('CONTROLE GERAL'!$M$11:$M$4993,'CONTROLE GERAL'!$F$11:$F$4993,$B30,'CONTROLE GERAL'!$B$11:$B$4993,B18)","v":0},{"$f":"SUMIFS('CONTROLE GERAL'!$O$11:$O$4993,'CONTROLE GERAL'!$F$11:$F$4993,$B30,'CONTROLE GERAL'!$B$11:$B$4993,B18)","v":0},{"$f":"SUMIFS('CONTROLE GERAL'!$R$11:$R$4993,'CONTROLE GERAL'!$F$11:$F$4993,$B30,'CONTROLE GERAL'!$B$11:$B$4993,B18)","v":0},{"$f":"SUMIFS('CONTROLE GERAL'!$X$11:$X$4993,'CONTROLE GERAL'!$F$11:$F$4993,$B30,'CONTROLE GERAL'!$B$11:$B$4993,B18)","v":0},0,null,"TRANSHOW",{"$f":"SUMIFS('CONTROLE GERAL'!$L$11:$L$4993,'CONTROLE GERAL'!$F$11:$F$4993,$B30,'CONTROLE GERAL'!$B$11:$B$4993,L18)","v":0},{"$f":"SUMIFS('CONTROLE GERAL'!$P$11:$P$4993,'CONTROLE GERAL'!$F$11:$F$4993,$B30,'CONTROLE GERAL'!$B$11:$B$4993,L18)","v":0},{"$f":"M30/N30","v":{"$error":"#DIV/0!"}},{"$f":"SUMIFS('CONTROLE GERAL'!$M$11:$M$4993,'CONTROLE GERAL'!$F$11:$F$4993,$B30,'CONTROLE GERAL'!$B$11:$B$4993,L18)","v":0},{"$f":"SUMIFS('CONTROLE GERAL'!$O$11:$O$4993,'CONTROLE GERAL'!$F$11:$F$4993,$B30,'CONTROLE GERAL'!$B$11:$B$4993,L18)","v":0},{"$f":"SUMIFS('CONTROLE GERAL'!$R$11:$R$4993,'CONTROLE GERAL'!$F$11:$F$4993,$B30,'CONTROLE GERAL'!$B$11:$B$4993,L18)","v":0},{"$f":"SUMIFS('CONTROLE GERAL'!$X$11:$X$4993,'CONTROLE GERAL'!$F$11:$F$4993,$B30,'CONTROLE GERAL'!$B$11:$B$4993,L18)","v":0},0,null,"TRANSHOW",{"$f":"SUMIFS('CONTROLE GERAL'!$L$11:$L$4993,'CONTROLE GERAL'!$F$11:$F$4993,$B30,'CONTROLE GERAL'!$B$11:$B$4993,V18)","v":0},{"$f":"SUMIFS('CONTROLE GERAL'!$P$11:$P$4993,'CONTROLE GERAL'!$F$11:$F$4993,$B30,'CONTROLE GERAL'!$B$11:$B$4993,V18)","v":0},{"$f":"W30/X30","v":{"$error":"#DIV/0!"}},{"$f":"SUMIFS('CONTROLE GERAL'!$M$11:$M$4993,'CONTROLE GERAL'!$F$11:$F$4993,$B30,'CONTROLE GERAL'!$B$11:$B$4993,V18)","v":0},{"$f":"SUMIFS('CONTROLE GERAL'!$O$11:$O$4993,'CONTROLE GERAL'!$F$11:$F$4993,$B30,'CONTROLE GERAL'!$B$11:$B$4993,V18)","v":0},{"$f":"SUMIFS('CONTROLE GERAL'!$R$11:$R$4993,'CONTROLE GERAL'!$F$11:$F$4993,$B30,'CONTROLE GERAL'!$B$11:$B$4993,V18)","v":0},{"$f":"SUMIFS('CONTROLE GERAL'!$X$11:$X$4993,'CONTROLE GERAL'!$F$11:$F$4993,$B30,'CONTROLE GERAL'!$B$11:$B$4993,V18)","v":0},0,null,"TRANSHOW",{"$f":"SUMIFS('CONTROLE GERAL'!$L$11:$L$4993,'CONTROLE GERAL'!$F$11:$F$4993,$B30,'CONTROLE GERAL'!$B$11:$B$4993,AF18)","v":0},{"$f":"SUMIFS('CONTROLE GERAL'!$P$11:$P$4993,'CONTROLE GERAL'!$F$11:$F$4993,$B30,'CONTROLE GERAL'!$B$11:$B$4993,AF18)","v":0},{"$f":"AG30/AH30","v":{"$error":"#DIV/0!"}},{"$f":"SUMIFS('CONTROLE GERAL'!$M$11:$M$4993,'CONTROLE GERAL'!$F$11:$F$4993,$B30,'CONTROLE GERAL'!$B$11:$B$4993,AF18)","v":0},{"$f":"SUMIFS('CONTROLE GERAL'!$O$11:$O$4993,'CONTROLE GERAL'!$F$11:$F$4993,$B30,'CONTROLE GERAL'!$B$11:$B$4993,AF18)","v":0},{"$f":"SUMIFS('CONTROLE GERAL'!$R$11:$R$4993,'CONTROLE GERAL'!$F$11:$F$4993,$B30,'CONTROLE GERAL'!$B$11:$B$4993,AF18)","v":0},{"$f":"SUMIFS('CONTROLE GERAL'!$X$11:$X$4993,'CONTROLE GERAL'!$F$11:$F$4993,$B30,'CONTROLE GERAL'!$B$11:$B$4993,AF18)","v":0},0]
[]
[null,9,"SET",null,null,null,null,null,null,null,null,10,"OUT",null,null,null,null,null,null,null,null,11,"NOV",null,null,null,null,null,null,null,null,12,"DEZ"]
[null,null,"KM RODADO","LITROS","MÉDIA CONSUMO","VENDA","ABASTECIMENTO","MANUTENÇÃO","CUSTO TOTAL","LUCRO ESTIMADO",null,null,"KM RODADO","LITROS","MÉDIA DE CONSUMO","VENDA","ABASTECIMENTO","MANUTENÇÃO","CUSTO TOTAL","LUCRO ESTIMADO",null,null,"KM RODADO","LITROS","MÉDIA DE CONSUMO","VENDA","ABASTECIMENTO","MANUTENÇÃO","CUSTO TOTAL","LUCRO ESTIMADO",null,null,"KM RODADO","LITROS","MÉDIA DE CONSUMO","VENDA","ABASTECIMENTO","MANUTENÇÃO","CUSTO TOTAL","LUCRO ESTIMADO"]
[null,"BITRUCK",{"$f":"SUMIFS('CONTROLE GERAL'!$L$11:$L$4993,'CONTROLE GERAL'!$F$11:$F$4993,$B34,'CONTROLE GERAL'!$B$11:$B$4993,B32)","v":0},{"$f":"SUMIFS('CONTROLE GERAL'!$P$11:$P$4993,'CONTROLE GERAL'!$F$11:$F$4993,$B34,'CONTROLE GERAL'!$B$11:$B$4993,B32)","v":0},{"$f":"C34/D34","v":{"$error":"#DIV/0!"}},{"$f":"SUMIFS('CONTROLE GERAL'!$M$11:$M$4993,'CONTROLE GERAL'!$F$11:$F$4993,$B34,'CONTROLE GERAL'!$B$11:$B$4993,B32)","v":0},{"$f":"SUMIFS('CONTROLE GERAL'!$O$11:$O$4993,'CONTROLE GERAL'!$F$11:$F$4993,$B34,'CONTROLE GERAL'!$B$11:$B$4993,B32)","v":0},{"$f":"SUMIFS('CONTROLE GERAL'!$R$11:$R$4993,'CONTROLE GERAL'!$F$11:$F$4993,$B34,'CONTROLE GERAL'!$B$11:$B$4993,B32)","v":0},{"$f":"SUMIFS('CONTROLE GERAL'!$X$11:$X$4993,'CONTROLE GERAL'!$F$11:$F$4993,$B34,'CONTROLE GERAL'!$B$11:$B$4993,B32)","v":0},{"$f":"F34-I34","v":0},null,"BITRUCK",{"$f":"SUMIFS('CONTROLE GERAL'!$L$11:$L$4993,'CONTROLE GERAL'!$F$11:$F$4993,$B34,'CONTROLE GERAL'!$B$11:$B$4993,L32)","v":0},{"$f":"SUMIFS('CONTROLE GERAL'!$P$11:$P$4993,'CONTROLE GERAL'!$F$11:$F$4993,$B34,'CONTROLE GERAL'!$B$11:$B$4993,L32)","v":0},{"$f":"M34/N34","v":{"$error":"#DIV/0!"}},{"$f":"SUMIFS('CONTROLE GERAL'!$M$11:$M$4993,'CONTROLE GERAL'!$F$11:$F$4993,$B34,'CONTROLE GERAL'!$B$11:$B$4993,L32)","v":0},{"$f":"SUMIFS('CONTROLE GERAL'!$O$11:$O$4993,'CONTROLE GERAL'!$F$11:$F$4993,$B34,'CONTROLE GERAL'!$B$11:$B$4993,L32)","v":0},{"$f":"SUMIFS('CONTROLE GERAL'!$R$11:$R$4993,'CONTROLE GERAL'!$F$11:$F$4993,$B34,'CONTROLE GERAL'!$B$11:$B$4993,L32)","v":0},{"$f":"SUMIFS('CONTROLE GERAL'!$X$11:$X$4993,'CONTROLE GERAL'!$F$11:$F$4993,$B34,'CONTROLE GERAL'!$B$11:$B$4993,L32)","v":0},{"$f":"P34-S34","v":0},null,"BITRUCK",{"$f":"SUMIFS('CONTROLE GERAL'!$L$11:$L$4993,'CONTROLE GERAL'!$F$11:$F$4993,$B34,'CONTROLE GERAL'!$B$11:$B$4993,V32)","v":0},{"$f":"SUMIFS('CONTROLE GERAL'!$P$11:$P$4993,'CONTROLE GERAL'!$F$11:$F$4993,$B34,'CONTROLE GERAL'!$B$11:$B$4993,V32)","v":0},{"$f":"W34/X34","v":{"$error":"#DIV/0!"}},{"$f":"SUMIFS('CONTROLE GERAL'!$M$11:$M$4993,'CONTROLE GERAL'!$F$11:$F$4993,$B34,'CONTROLE GERAL'!$B$11:$B$4993,V32)","v":0},{"$f":"SUMIFS('CONTROLE GERAL'!$O$11:$O$4993,'CONTROLE GERAL'!$F$11:$F$4993,$B34,'CONTROLE GERAL'!$B$11:$B$4993,V32)","v":0},{"$f":"SUMIFS('CONTROLE GERAL'!$R$11:$R$4993,'CONTROLE GERAL'!$F$11:$F$4993,$B34,'CONTROLE GERAL'!$B$11:$B$4993,V32)","v":0},{"$f":"SUMIFS('CONTROLE GERAL'!$X$11:$X$4993,'CONTROLE GERAL'!$F$11:$F$4993,$B34,'CONTROLE GERAL'!$B$11:$B$4993,V32)","v":0},{"$f":"Z34-AC34","v":0},null,"BITRUCK",{"$f":"SUMIFS('CONTROLE GERAL'!$L$11:$L$4993,'CONTROLE GERAL'!$F$11:$F$4993,$B34,'CONTROLE GERAL'!$B$11:$B$4993,AF32)","v":0},{"$f":"SUMIFS('CONTROLE GERAL'!$P$11:$P$4993,'CONTROLE GERAL'!$F$11:$F$4993,$B34,'CONTROLE GERAL'!$B$11:$B$4993,AF32)","v":0},{"$f":"AG34/AH34","v":{"$error":"#DIV/0!"}},{"$f":"SUMIFS('CONTROLE GERAL'!$M$11:$M$4993,'CONTROLE GERAL'!$F$11:$F$4993,$B34,'CONTROLE GERAL'!$B$11:$B$4993,AF32)","v":0},{"$f":"SUMIFS('CONTROLE GERAL'!$O$11:$O$4993,'CONTROLE GERAL'!$F$11:$F$4993,$B34,'CONTROLE GERAL'!$B$11:$B$4993,AF32)","v":0},{"$f":"SUMIFS('CONTROLE GERAL'!$R$11:$R$4993,'CONTROLE GERAL'!$F$11:$F$4993,$B34,'CONTROLE GERAL'!$B$11:$B$4993,AF32)","v":0},{"$f":"SUMIFS('CONTROLE GERAL'!$X$11:$X$4993,'CONTROLE GERAL'!$F$11:$F$4993,$B34,'CONTROLE GERAL'!$B$11:$B$4993,AF32)","v":0},{"$f":"AJ34-AM34","v":0}]
[null,"EXPRESS",{"$f":"SUMIFS('CONTROLE GERAL'!$L$11:$L$4993,'CONTROLE GERAL'!$F$11:$F$4993,$B35,'CONTROLE GERAL'!$B$11:$B$4993,B32)","v":0},{"$f":"SUMIFS('CONTROLE GERAL'!$P$11:$P$4993,'CONTROLE GERAL'!$F$11:$F$4993,$B35,'CONTROLE GERAL'!$B$11:$B$4993,B32)","v":0},{"$f":"C35/D35","v":{"$error":"#DIV/0!"}},{"$f":"SUMIFS('CONTROLE GERAL'!$M$11:$M$4993,'CONTROLE GERAL'!$F$11:$F$4993,$B35,'CONTROLE GERAL'!$B$11:$B$4993,B32)","v":0},{"$f":"SUMIFS('CONTROLE GERAL'!$O$11:$O$4993,'CONTROLE GERAL'!$F$11:$F$4993,$B35,'CONTROLE GERAL'!$B$11:$B$4993,B32)","v":0},{"$f":"SUMIFS('CONTROLE GERAL'!$R$11:$R$4993,'CONTROLE GERAL'!$F$11:$F$4993,$B35,'CONTROLE GERAL'!$B$11:$B$4993,B32)","v":0},{"$f":"SUMIFS('CONTROLE GERAL'!$X$11:$X$4993,'CONTROLE GERAL'!$F$11:$F$4993,$B35,'CONTROLE GERAL'!$B$11:$B$4993,B32)","v":0},{"$f":"F35-I35","v":0},null,"EXPRESS",{"$f":"SUMIFS('CONTROLE GERAL'!$L$11:$L$4993,'CONTROLE GERAL'!$F$11:$F$4993,$B35,'CONTROLE GERAL'!$B$11:$B$4993,L32)","v":0},{"$f":"SUMIFS('CONTROLE GERAL'!$P$11:$P$4993,'CONTROLE GERAL'!$F$11:$F$4993,$B35,'CONTROLE GERAL'!$B$11:$B$4993,L32)","v":0},{"$f":"M35/N35","v":{"$error":"#DIV/0!"}},{"$f":"SUMIFS('CONTROLE GERAL'!$M$11:$M$4993,'CONTROLE GERAL'!$F$11:$F$4993,$B35,'CONTROLE GERAL'!$B$11:$B$4993,L32)","v":0},{"$f":"SUMIFS('CONTROLE GERAL'!$O$11:$O$4993,'CONTROLE GERAL'!$F$11:$F$4993,$B35,'CONTROLE GERAL'!$B$11:$B$4993,L32)","v":0},{"$f":"SUMIFS('CONTROLE GERAL'!$R$11:$R$4993,'CONTROLE GERAL'!$F$11:$F$4993,$B35,'CONTROLE GERAL'!$B$11:$B$4993,L32)","v":0},{"$f":"SUMIFS('CONTROLE GERAL'!$X$11:$X$4993,'CONTROLE GERAL'!$F$11:$F$4993,$B35,'CONTROLE GERAL'!$B$11:$B$4993,L32)","v":0},{"$f":"P35-S35","v":0},null,"EXPRESS",{"$f":"SUMIFS('CONTROLE GERAL'!$L$11:$L$4993,'CONTROLE GERAL'!$F$11:$F$4993,$B35,'CONTROLE GERAL'!$B$11:$B$4993,V32)","v":0},{"$f":"SUMIFS('CONTROLE GERAL'!$P$11:$P$4993,'CONTROLE GERAL'!$F$11:$F$4993,$B35,'CONTROLE GERAL'!$B$11:$B$4993,V32)","v":0},{"$f":"W35/X35","v":{"$error":"#DIV/0!"}},{"$f":"SUMIFS('CONTROLE GERAL'!$M$11:$M$4993,'CONTROLE GERAL'!$F$11:$F$4993,$B35,'CONTROLE GERAL'!$B$11:$B$4993,V32)","v":0},{"$f":"SUMIFS('CONTROLE GERAL'!$O$11:$O$4993,'CONTROLE GERAL'!$F$11:$F$4993,$B35,'CONTROLE GERAL'!$B$11:$B$4993,V32)","v":0},{"$f":"SUMIFS('CONTROLE GERAL'!$R$11:$R$4993,'CONTROLE GERAL'!$F$11:$F$4993,$B35,'CONTROLE GERAL'!$B$11:$B$4993,V32)","v":0},{"$f":"SUMIFS('CONTROLE GERAL'!$X$11:$X$4993,'CONTROLE GERAL'!$F$11:$F$4993,$B35,'CONTROLE GERAL'!$B$11:$B$4993,V32)","v":0},{"$f":"Z35-AC35","v":0},null,"EXPRESS",{"$f":"SUMIFS('CONTROLE GERAL'!$L$11:$L$4993,'CONTROLE GERAL'!$F$11:$F$4993,$B35,'CONTROLE GERAL'!$B$11:$B$4993,AF32)","v":0},{"$f":"SUMIFS('CONTROLE GERAL'!$P$11:$P$4993,'CONTROLE GERAL'!$F$11:$F$4993,$B35,'CONTROLE GERAL'!$B$11:$B$4993,AF32)","v":0},{"$f":"AG35/AH35","v":{"$error":"#DIV/0!"}},{"$f":"SUMIFS('CONTROLE GERAL'!$M$11:$M$4993,'CONTROLE GERAL'!$F$11:$F$4993,$B35,'CONTROLE GERAL'!$B$11:$B$4993,AF32)","v":0},{"$f":"SUMIFS('CONTROLE GERAL'!$O$11:$O$4993,'CONTROLE GERAL'!$F$11:$F$4993,$B35,'CONTROLE GERAL'!$B$11:$B$4993,AF32)","v":0},{"$f":"SUMIFS('CONTROLE GERAL'!$R$11:$R$4993,'CONTROLE GERAL'!$F$11:$F$4993,$B35,'CONTROLE GERAL'!$B$11:$B$4993,AF32)","v":0},{"$f":"SUMIFS('CONTROLE GERAL'!$X$11:$X$4993,'CONTROLE GERAL'!$F$11:$F$4993,$B35,'CONTROLE GERAL'!$B$11:$B$4993,AF32)","v":0},{"$f":"AJ35-AM35","v":0}]
[null,"FURGÃO",{"$f":"SUMIFS('CONTROLE GERAL'!$L$11:$L$4993,'CONTROLE GERAL'!$F$11:$F$4993,$B36,'CONTROLE GERAL'!$B$11:$B$4993,B32)","v":0},{"$f":"SUMIFS('CONTROLE GERAL'!$P$11:$P$4993,'CONTROLE GERAL'!$F$11:$F$4993,$B36,'CONTROLE GERAL'!$B$11:$B$4993,B32)","v":0},{"$error":"#DIV/0!"},{"$f":"SUMIFS('CONTROLE GERAL'!$M$11:$M$4993,'CONTROLE GERAL'!$F$11:$F$4993,$B36,'CONTROLE GERAL'!$B$11:$B$4993,B32)","v":0},{"$f":"SUMIFS('CONTROLE GERAL'!$O$11:$O$4993,'CONTROLE GERAL'!$F$11:$F$4993,$B36,'CONTROLE GERAL'!$B$11:$B$4993,B32)","v":0},{"$f":"SUMIFS('CONTROLE GERAL'!$R$11:$R$4993,'CONTROLE GERAL'!$F$11:$F$4993,$B36,'CONTROLE GERAL'!$B$11:$B$4993,B32)","v":0},{"$f":"SUMIFS('CONTROLE GERAL'!$X$11:$X$4993,'CONTROLE GERAL'!$F$11:$F$4993,$B36,'CONTROLE GERAL'!$B$11:$B$4993,B32)","v":0},0,null,"FURGÃO",{"$f":"SUMIFS('CONTROLE GERAL'!$L$11:$L$4993,'CONTROLE GERAL'!$F$11:$F$4993,$B36,'CONTROLE GERAL'!$B$11:$B$4993,L32)","v":0},{"$f":"SUMIFS('CONTROLE GERAL'!$P$11:$P$4993,'CONTROLE GERAL'!$F$11:$F$4993,$B36,'CONTROLE GERAL'!$B$11:$B$4993,L32)","v":0},{"$error":"#DIV/0!"},{"$f":"SUMIFS('CONTROLE GERAL'!$M$11:$M$4993,'CONTROLE GERAL'!$F$11:$F$4993,$B36,'CONTROLE GERAL'!$B$11:$B$4993,L32)","v":0},{"$f":"SUMIFS('CONTROLE GERAL'!$O$11:$O$4993,'CONTROLE GERAL'!$F$11:$F$4993,$B36,'CONTROLE GERAL'!$B$11:$B$4993,L32)","v":0},{"$f":"SUMIFS('CONTROLE GERAL'!$R$11:$R$4993,'CONTROLE GERAL'!$F$11:$F$4993,$B36,'CONTROLE GERAL'!$B$11:$B$4993,L32)","v":0},{"$f":"SUMIFS('CONTROLE GERAL'!$X$11:$X$4993,'CONTROLE GERAL'!$F$11:$F$4993,$B36,'CONTROLE GERAL'!$B$11:$B$4993,L32)","v":0},0,null,"FURGÃO",{"$f":"SUMIFS('CONTROLE GERAL'!$L$11:$L$4993,'CONTROLE GERAL'!$F$11:$F$4993,$B36,'CONTROLE GERAL'!$B$11:$B$4993,V32)","v":0},{"$f":"SUMIFS('CONTROLE GERAL'!$P$11:$P$4993,'CONTROLE GERAL'!$F$11:$F$4993,$B36,'CONTROLE GERAL'!$B$11:$B$4993,V32)","v":0},{"$error":"#DIV/0!"},{"$f":"SUMIFS('CONTROLE GERAL'!$M$11:$M$4993,'CONTROLE GERAL'!$F$11:$F$4993,$B36,'CONTROLE GERAL'!$B$11:$B$4993,V32)","v":0},{"$f":"SUMIFS('CONTROLE GERAL'!$O$11:$O$4993,'CONTROLE GERAL'!$F$11:$F$4993,$B36,'CONTROLE GERAL'!$B$11:$B$4993,V32)","v":0},{"$f":"SUMIFS('CONTROLE GERAL'!$R$11:$R$4993,'CONTROLE GERAL'!$F$11:$F$4993,$B36,'CONTROLE GERAL'!$B$11:$B$4993,V32)","v":0},{"$f":"SUMIFS('CONTROLE GERAL'!$X$11:$X$4993,'CONTROLE GERAL'!$F$11:$F$4993,$B36,'CONTROLE GERAL'!$B$11:$B$4993,V32)","v":0},0,null,"FURGÃO",{"$f":"SUMIFS('CONTROLE GERAL'!$L$11:$L$4993,'CONTROLE GERAL'!$F$11:$F$4993,$B36,'CONTROLE GERAL'!$B$11:$B$4993,AF32)","v":0},{"$f":"SUMIFS('CONTROLE GERAL'!$P$11:$P$4993,'CONTROLE GERAL'!$F$11:$F$4993,$B36,'CONTROLE GERAL'!$B$11:$B$4993,AF32)","v":0},{"$error":"#DIV/0!"},{"$f":"SUMIFS('CONTROLE GERAL'!$M$11:$M$4993,'CONTROLE GERAL'!$F$11:$F$4993,$B36,'CONTROLE GERAL'!$B$11:$B$4993,AF32)","v":0},{"$f":"SUMIFS('CONTROLE GERAL'!$O$11:$O$4993,'CONTROLE GERAL'!$F$11:$F$4993,$B36,'CONTROLE GERAL'!$B$11:$B$4993,AF32)","v":0},{"$f":"SUMIFS('CONTROLE GERAL'!$R$11:$R$4993,'CONTROLE GERAL'!$F$11:$F$4993,$B36,'CONTROLE GERAL'!$B$11:$B$4993,AF32)","v":0},{"$f":"SUMIFS('CONTROLE GERAL'!$X$11:$X$4993,'CONTROLE GERAL'!$F$11:$F$4993,$B36,'CONTROLE GERAL'!$B$11:$B$4993,AF32)","v":0},0]
[null,"IVECO",{"$f":"SUMIFS('CONTROLE GERAL'!$L$11:$L$4993,'CONTROLE GERAL'!$F$11:$F$4993,$B37,'CONTROLE GERAL'!$B$11:$B$4993,B32)","v":0},{"$f":"SUMIFS('CONTROLE GERAL'!$P$11:$P$4993,'CONTROLE GERAL'!$F$11:$F$4993,$B37,'CONTROLE GERAL'!$B$11:$B$4993,B32)","v":0},{"$error":"#DIV/0!"},{"$f":"SUMIFS('CONTROLE GERAL'!$M$11:$M$4993,'CONTROLE GERAL'!$F$11:$F$4993,$B37,'CONTROLE GERAL'!$B$11:$B$4993,B32)","v":0},{"$f":"SUMIFS('CONTROLE GERAL'!$O$11:$O$4993,'CONTROLE GERAL'!$F$11:$F$4993,$B37,'CONTROLE GERAL'!$B$11:$B$4993,B32)","v":0},{"$f":"SUMIFS('CONTROLE GERAL'!$R$11:$R$4993,'CONTROLE GERAL'!$F$11:$F$4993,$B37,'CONTROLE GERAL'!$B$11:$B$4993,B32)","v":0},{"$f":"SUMIFS('CONTROLE GERAL'!$X$11:$X$4993,'CONTROLE GERAL'!$F$11:$F$4993,$B37,'CONTROLE GERAL'!$B$11:$B$4993,B32)","v":0},0,null,"IVECO",{"$f":"SUMIFS('CONTROLE GERAL'!$L$11:$L$4993,'CONTROLE GERAL'!$F$11:$F$4993,$B37,'CONTROLE GERAL'!$B$11:$B$4993,L32)","v":0},{"$f":"SUMIFS('CONTROLE GERAL'!$P$11:$P$4993,'CONTROLE GERAL'!$F$11:$F$4993,$B37,'CONTROLE GERAL'!$B$11:$B$4993,L32)","v":0},{"$error":"#DIV/0!"},{"$f":"SUMIFS('CONTROLE GERAL'!$M$11:$M$4993,'CONTROLE GERAL'!$F$11:$F$4993,$B37,'CONTROLE GERAL'!$B$11:$B$4993,L32)","v":0},{"$f":"SUMIFS('CONTROLE GERAL'!$O$11:$O$4993,'CONTROLE GERAL'!$F$11:$F$4993,$B37,'CONTROLE GERAL'!$B$11:$B$4993,L32)","v":0},{"$f":"SUMIFS('CONTROLE GERAL'!$R$11:$R$4993,'CONTROLE GERAL'!$F$11:$F$4993,$B37,'CONTROLE GERAL'!$B$11:$B$4993,L32)","v":0},{"$f":"SUMIFS('CONTROLE GERAL'!$X$11:$X$4993,'CONTROLE GERAL'!$F$11:$F$4993,$B37,'CONTROLE GERAL'!$B$11:$B$4993,L32)","v":0},0,null,"IVECO",{"$f":"SUMIFS('CONTROLE GERAL'!$L$11:$L$4993,'CONTROLE GERAL'!$F$11:$F$4993,$B37,'CONTROLE GERAL'!$B$11:$B$4993,V32)","v":0},{"$f":"SUMIFS('CONTROLE GERAL'!$P$11:$P$4993,'CONTROLE GERAL'!$F$11:$F$4993,$B37,'CONTROLE GERAL'!$B$11:$B$4993,V32)","v":0},{"$error":"#DIV/0!"},{"$f":"SUMIFS('CONTROLE GERAL'!$M$11:$M$4993,'CONTROLE GERAL'!$F$11:$F$4993,$B37,'CONTROLE GERAL'!$B$11:$B$4993,V32)","v":0},{"$f":"SUMIFS('CONTROLE GERAL'!$O$11:$O$4993,'CONTROLE GERAL'!$F$11:$F$4993,$B37,'CONTROLE GERAL'!$B$11:$B$4993,V32)","v":0},{"$f":"SUMIFS('CONTROLE GERAL'!$R$11:$R$4993,'CONTROLE GERAL'!$F$11:$F$4993,$B37,'CONTROLE GERAL'!$B$11:$B$4993,V32)","v":0},{"$f":"SUMIFS('CONTROLE GERAL'!$X$11:$X$4993,'CONTROLE GERAL'!$F$11:$F$4993,$B37,'CONTROLE GERAL'!$B$11:$B$4993,V32)","v":0},0,null,"IVECO",{"$f":"SUMIFS('CONTROLE GERAL'!$L$11:$L$4993,'CONTROLE GERAL'!$F$11:$F$4993,$B37,'CONTROLE GERAL'!$B$11:$B$4993,AF32)","v":0},{"$f":"SUMIFS('CONTROLE GERAL'!$P$11:$P$4993,'CONTROLE GERAL'!$F$11:$F$4993,$B37,'CONTROLE GERAL'!$B$11:$B$4993,AF32)","v":0},{"$error":"#DIV/0!"},{"$f":"SUMIFS('CONTROLE GERAL'!$M$11:$M$4993,'CONTROLE GERAL'!$F$11:$F$4993,$B37,'CONTROLE GERAL'!$B$11:$B$4993,AF32)","v":0},{"$f":"SUMIFS('CONTROLE GERAL'!$O$11:$O$4993,'CONTROLE GERAL'!$F$11:$F$4993,$B37,'CONTROLE GERAL'!$B$11:$B$4993,AF32)","v":0},{"$f":"SUMIFS('CONTROLE GERAL'!$R$11:$R$4993,'CONTROLE GERAL'!$F$11:$F$4993,$B37,'CONTROLE GERAL'!$B$11:$B$4993,AF32)","v":0},{"$f":"SUMIFS('CONTROLE GERAL'!$X$11:$X$4993,'CONTROLE GERAL'!$F$11:$F$4993,$B37,'CONTROLE GERAL'!$B$11:$B$4993,AF32)","v":0},0]
[null,"TRUCK",{"$f":"SUMIFS('CONTROLE GERAL'!$L$11:$L$4993,'CONTROLE GERAL'!$F$11:$F$4993,$B38,'CONTROLE GERAL'!$B$11:$B$4993,B32)","v":0},{"$f":"SUMIFS('CONTROLE GERAL'!$P$11:$P$4993,'CONTROLE GERAL'!$F$11:$F$4993,$B38,'CONTROLE GERAL'!$B$11:$B$4993,B32)","v":0},{"$error":"#DIV/0!"},{"$f":"SUMIFS('CONTROLE GERAL'!$M$11:$M$4993,'CONTROLE GERAL'!$F$11:$F$4993,$B38,'CONTROLE GERAL'!$B$11:$B$4993,B32)","v":0},{"$f":"SUMIFS('CONTROLE GERAL'!$O$11:$O$4993,'CONTROLE GERAL'!$F$11:$F$4993,$B38,'CONTROLE GERAL'!$B$11:$B$4993,B32)","v":0},{"$f":"SUMIFS('CONTROLE GERAL'!$R$11:$R$4993,'CONTROLE GERAL'!$F$11:$F$4993,$B38,'CONTROLE GERAL'!$B$11:$B$4993,B32)","v":0},{"$f":"SUMIFS('CONTROLE GERAL'!$X$11:$X$4993,'CONTROLE GERAL'!$F$11:$F$4993,$B38,'CONTROLE GERAL'!$B$11:$B$4993,B32)","v":0},0,null,"TRUCK",{"$f":"SUMIFS('CONTROLE GERAL'!$L$11:$L$4993,'CONTROLE GERAL'!$F$11:$F$4993,$B38,'CONTROLE GERAL'!$B$11:$B$4993,L32)","v":0},{"$f":"SUMIFS('CONTROLE GERAL'!$P$11:$P$4993,'CONTROLE GERAL'!$F$11:$F$4993,$B38,'CONTROLE GERAL'!$B$11:$B$4993,L32)","v":0},{"$error":"#DIV/0!"},{"$f":"SUMIFS('CONTROLE GERAL'!$M$11:$M$4993,'CONTROLE GERAL'!$F$11:$F$4993,$B38,'CONTROLE GERAL'!$B$11:$B$4993,L32)","v":0},{"$f":"SUMIFS('CONTROLE GERAL'!$O$11:$O$4993,'CONTROLE GERAL'!$F$11:$F$4993,$B38,'CONTROLE GERAL'!$B$11:$B$4993,L32)","v":0},{"$f":"SUMIFS('CONTROLE GERAL'!$R$11:$R$4993,'CONTROLE GERAL'!$F$11:$F$4993,$B38,'CONTROLE GERAL'!$B$11:$B$4993,L32)","v":0},{"$f":"SUMIFS('CONTROLE GERAL'!$X$11:$X$4993,'CONTROLE GERAL'!$F$11:$F$4993,$B38,'CONTROLE GERAL'!$B$11:$B$4993,L32)","v":0},0,null,"TRUCK",{"$f":"SUMIFS('CONTROLE GERAL'!$L$11:$L$4993,'CONTROLE GERAL'!$F$11:$F$4993,$B38,'CONTROLE GERAL'!$B$11:$B$4993,V32)","v":0},{"$f":"SUMIFS('CONTROLE GERAL'!$P$11:$P$4993,'CONTROLE GERAL'!$F$11:$F$4993,$B38,'CONTROLE GERAL'!$B$11:$B$4993,V32)","v":0},{"$error":"#DIV/0!"},{"$f":"SUMIFS('CONTROLE GERAL'!$M$11:$M$4993,'CONTROLE GERAL'!$F$11:$F$4993,$B38,'CONTROLE GERAL'!$B$11:$B$4993,V32)","v":0},{"$f":"SUMIFS('CONTROLE GERAL'!$O$11:$O$4993,'CONTROLE GERAL'!$F$11:$F$4993,$B38,'CONTROLE GERAL'!$B$11:$B$4993,V32)","v":0},{"$f":"SUMIFS('CONTROLE GERAL'!$R$11:$R$4993,'CONTROLE GERAL'!$F$11:$F$4993,$B38,'CONTROLE GERAL'!$B$11:$B$4993,V32)","v":0},{"$f":"SUMIFS('CONTROLE GERAL'!$X$11:$X$4993,'CONTROLE GERAL'!$F$11:$F$4993,$B38,'CONTROLE GERAL'!$B$11:$B$4993,V32)","v":0},0,null,"TRUCK",{"$f":"SUMIFS('CONTROLE GERAL'!$L$11:$L$4993,'CONTROLE GERAL'!$F$11:$F$4993,$B38,'CONTROLE GERAL'!$B$11:$B$4993,AF32)","v":0},{"$f":"SUMIFS('CONTROLE GERAL'!$P$11:$P$4993,'CONTROLE GERAL'!$F$11:$F$4993,$B38,'CONTROLE GERAL'!$B$11:$B$4993,AF32)","v":0},{"$error":"#DIV/0!"},{"$f":"SUMIFS('CONTROLE GERAL'!$M$11:$M$4993,'CONTROLE GERAL'!$F$11:$F$4993,$B38,'CONTROLE GERAL'!$B$11:$B$4993,AF32)","v":0},{"$f":"SUMIFS('CONTROLE GERAL'!$O$11:$O$4993,'CONTROLE GERAL'!$F$11:$F$4993,$B38,'CONTROLE GERAL'!$B$11:$B$4993,AF32)","v":0},{"$f":"SUMIFS('CONTROLE GERAL'!$R$11:$R$4993,'CONTROLE GERAL'!$F$11:$F$4993,$B38,'CONTROLE GERAL'!$B$11:$B$4993,AF32)","v":0},{"$f":"SUMIFS('CONTROLE GERAL'!$X$11:$X$4993,'CONTROLE GERAL'!$F$11:$F$4993,$B38,'CONTROLE GERAL'!$B$11:$B$4993,AF32)","v":0},0]
[null,"VAN",{"$f":"SUMIFS('CONTROLE GERAL'!$L$11:$L$4993,'CONTROLE GERAL'!$F$11:$F$4993,$B39,'CONTROLE GERAL'!$B$11:$B$4993,B32)","v":0},{"$f":"SUMIFS('CONTROLE GERAL'!$P$11:$P$4993,'CONTROLE GERAL'!$F$11:$F$4993,$B39,'CONTROLE GERAL'!$B$11:$B$4993,B32)","v":0},{"$error":"#DIV/0!"},{"$f":"SUMIFS('CONTROLE GERAL'!$M$11:$M$4993,'CONTROLE GERAL'!$F$11:$F$4993,$B39,'CONTROLE GERAL'!$B$11:$B$4993,B32)","v":0},{"$f":"SUMIFS('CONTROLE GERAL'!$O$11:$O$4993,'CONTROLE GERAL'!$F$11:$F$4993,$B39,'CONTROLE GERAL'!$B$11:$B$4993,B32)","v":0},{"$f":"SUMIFS('CONTROLE GERAL'!$R$11:$R$4993,'CONTROLE GERAL'!$F$11:$F$4993,$B39,'CONTROLE GERAL'!$B$11:$B$4993,B32)","v":0},{"$f":"SUMIFS('CONTROLE GERAL'!$X$11:$X$4993,'CONTROLE GERAL'!$F$11:$F$4993,$B39,'CONTROLE GERAL'!$B$11:$B$4993,B32)","v":0},0,null,"VAN",{"$f":"SUMIFS('CONTROLE GERAL'!$L$11:$L$4993,'CONTROLE GERAL'!$F$11:$F$4993,$B39,'CONTROLE GERAL'!$B$11:$B$4993,L32)","v":0},{"$f":"SUMIFS('CONTROLE GERAL'!$P$11:$P$4993,'CONTROLE GERAL'!$F$11:$F$4993,$B39,'CONTROLE GERAL'!$B$11:$B$4993,L32)","v":0},{"$error":"#DIV/0!"},{"$f":"SUMIFS('CONTROLE GERAL'!$M$11:$M$4993,'CONTROLE GERAL'!$F$11:$F$4993,$B39,'CONTROLE GERAL'!$B$11:$B$4993,L32)","v":0},{"$f":"SUMIFS('CONTROLE GERAL'!$O$11:$O$4993,'CONTROLE GERAL'!$F$11:$F$4993,$B39,'CONTROLE GERAL'!$B$11:$B$4993,L32)","v":0},{"$f":"SUMIFS('CONTROLE GERAL'!$R$11:$R$4993,'CONTROLE GERAL'!$F$11:$F$4993,$B39,'CONTROLE GERAL'!$B$11:$B$4993,L32)","v":0},{"$f":"SUMIFS('CONTROLE GERAL'!$X$11:$X$4993,'CONTROLE GERAL'!$F$11:$F$4993,$B39,'CONTROLE GERAL'!$B$11:$B$4993,L32)","v":0},0,null,"VAN",{"$f":"SUMIFS('CONTROLE GERAL'!$L$11:$L$4993,'CONTROLE GERAL'!$F$11:$F$4993,$B39,'CONTROLE GERAL'!$B$11:$B$4993,V32)","v":0},{"$f":"SUMIFS('CONTROLE GERAL'!$P$11:$P$4993,'CONTROLE GERAL'!$F$11:$F$4993,$B39,'CONTROLE GERAL'!$B$11:$B$4993,V32)","v":0},{"$error":"#DIV/0!"},{"$f":"SUMIFS('CONTROLE GERAL'!$M$11:$M$4993,'CONTROLE GERAL'!$F$11:$F$4993,$B39,'CONTROLE GERAL'!$B$11:$B$4993,V32)","v":0},{"$f":"SUMIFS('CONTROLE GERAL'!$O$11:$O$4993,'CONTROLE GERAL'!$F$11:$F$4993,$B39,'CONTROLE GERAL'!$B$11:$B$4993,V32)","v":0},{"$f":"SUMIFS('CONTROLE GERAL'!$R$11:$R$4993,'CONTROLE GERAL'!$F$11:$F$4993,$B39,'CONTROLE GERAL'!$B$11:$B$4993,V32)","v":0},{"$f":"SUMIFS('CONTROLE GERAL'!$X$11:$X$4993,'CONTROLE GERAL'!$F$11:$F$4993,$B39,'CONTROLE GERAL'!$B$11:$B$4993,V32)","v":0},0,null,"VAN",{"$f":"SUMIFS('CONTROLE GERAL'!$L$11:$L$4993,'CONTROLE GERAL'!$F$11:$F$4993,$B39,'CONTROLE GERAL'!$B$11:$B$4993,AF32)","v":0},{"$f":"SUMIFS('CONTROLE GERAL'!$P$11:$P$4993,'CONTROLE GERAL'!$F$11:$F$4993,$B39,'CONTROLE GERAL'!$B$11:$B$4993,AF32)","v":0},{"$error":"#DIV/0!"},{"$f":"SUMIFS('CONTROLE GERAL'!$M$11:$M$4993,'CONTROLE GERAL'!$F$11:$F$4993,$B39,'CONTROLE GERAL'!$B$11:$B$4993,AF32)","v":0},{"$f":"SUMIFS('CONTROLE GERAL'!$O$11:$O$4993,'CONTROLE GERAL'!$F$11:$F$4993,$B39,'CONTROLE GERAL'!$B$11:$B$4993,AF32)","v":0},{"$f":"SUMIFS('CONTROLE GERAL'!$R$11:$R$4993,'CONTROLE GERAL'!$F$11:$F$4993,$B39,'CONTROLE GERAL'!$B$11:$B$4993,AF32)","v":0},{"$f":"SUMIFS('CONTROLE GERAL'!$X$11:$X$4993,'CONTROLE GERAL'!$F$11:$F$4993,$B39,'CONTROLE GERAL'!$B$11:$B$4993,AF32)","v":0},0]
[null,"VUC 10.160",{"$f":"SUMIFS('CONTROLE GERAL'!$L$11:$L$4993,'CONTROLE GERAL'!$F$11:$F$4993,$B40,'CONTROLE GERAL'!$B$11:$B$4993,B32)","v":0},{"$f":"SUMIFS('CONTROLE GERAL'!$P$11:$P$4993,'CONTROLE GERAL'!$F$11:$F$4993,$B40,'CONTROLE GERAL'!$B$11:$B$4993,B32)","v":0},{"$error":"#DIV/0!"},{"$f":"SUMIFS('CONTROLE GERAL'!$M$11:$M$4993,'CONTROLE GERAL'!$F$11:$F$4993,$B40,'CONTROLE GERAL'!$B$11:$B$4993,B32)","v":0},{"$f":"SUMIFS('CONTROLE GERAL'!$O$11:$O$4993,'CONTROLE GERAL'!$F$11:$F$4993,$B40,'CONTROLE GERAL'!$B$11:$B$4993,B32)","v":0},{"$f":"SUMIFS('CONTROLE GERAL'!$R$11:$R$4993,'CONTROLE GERAL'!$F$11:$F$4993,$B40,'CONTROLE GERAL'!$B$11:$B$4993,B32)","v":0},{"$f":"SUMIFS('CONTROLE GERAL'!$X$11:$X$4993,'CONTROLE GERAL'!$F$11:$F$4993,$B40,'CONTROLE GERAL'!$B$11:$B$4993,B32)","v":0},0,null,"VUC 10.160",{"$f":"SUMIFS('CONTROLE GERAL'!$L$11:$L$4993,'CONTROLE GERAL'!$F$11:$F$4993,$B40,'CONTROLE GERAL'!$B$11:$B$4993,L32)","v":0},{"$f":"SUMIFS('CONTROLE GERAL'!$P$11:$P$4993,'CONTROLE GERAL'!$F$11:$F$4993,$B40,'CONTROLE GERAL'!$B$11:$B$4993,L32)","v":0},{"$error":"#DIV/0!"},{"$f":"SUMIFS('CONTROLE GERAL'!$M$11:$M$4993,'CONTROLE GERAL'!$F$11:$F$4993,$B40,'CONTROLE GERAL'!$B$11:$B$4993,L32)","v":0},{"$f":"SUMIFS('CONTROLE GERAL'!$O$11:$O$4993,'CONTROLE GERAL'!$F$11:$F$4993,$B40,'CONTROLE GERAL'!$B$11:$B$4993,L32)","v":0},{"$f":"SUMIFS('CONTROLE GERAL'!$R$11:$R$4993,'CONTROLE GERAL'!$F$11:$F$4993,$B40,'CONTROLE GERAL'!$B$11:$B$4993,L32)","v":0},{"$f":"SUMIFS('CONTROLE GERAL'!$X$11:$X$4993,'CONTROLE GERAL'!$F$11:$F$4993,$B40,'CONTROLE GERAL'!$B$11:$B$4993,L32)","v":0},0,null,"VUC 10.160",{"$f":"SUMIFS('CONTROLE GERAL'!$L$11:$L$4993,'CONTROLE GERAL'!$F$11:$F$4993,$B40,'CONTROLE GERAL'!$B$11:$B$4993,V32)","v":0},{"$f":"SUMIFS('CONTROLE GERAL'!$P$11:$P$4993,'CONTROLE GERAL'!$F$11:$F$4993,$B40,'CONTROLE GERAL'!$B$11:$B$4993,V32)","v":0},{"$error":"#DIV/0!"},{"$f":"SUMIFS('CONTROLE GERAL'!$M$11:$M$4993,'CONTROLE GERAL'!$F$11:$F$4993,$B40,'CONTROLE GERAL'!$B$11:$B$4993,V32)","v":0},{"$f":"SUMIFS('CONTROLE GERAL'!$O$11:$O$4993,'CONTROLE GERAL'!$F$11:$F$4993,$B40,'CONTROLE GERAL'!$B$11:$B$4993,V32)","v":0},{"$f":"SUMIFS('CONTROLE GERAL'!$R$11:$R$4993,'CONTROLE GERAL'!$F$11:$F$4993,$B40,'CONTROLE GERAL'!$B$11:$B$4993,V32)","v":0},{"$f":"SUMIFS('CONTROLE GERAL'!$X$11:$X$4993,'CONTROLE GERAL'!$F$11:$F$4993,$B40,'CONTROLE GERAL'!$B$11:$B$4993,V32)","v":0},0,null,"VUC 10.160",{"$f":"SUMIFS('CONTROLE GERAL'!$L$11:$L$4993,'CONTROLE GERAL'!$F$11:$F$4993,$B40,'CONTROLE GERAL'!$B$11:$B$4993,AF32)","v":0},{"$f":"SUMIFS('CONTROLE GERAL'!$P$11:$P$4993,'CONTROLE GERAL'!$F$11:$F$4993,$B40,'CONTROLE GERAL'!$B$11:$B$4993,AF32)","v":0},{"$error":"#DIV/0!"},{"$f":"SUMIFS('CONTROLE GERAL'!$M$11:$M$4993,'CONTROLE GERAL'!$F$11:$F$4993,$B40,'CONTROLE GERAL'!$B$11:$B$4993,AF32)","v":0},{"$f":"SUMIFS('CONTROLE GERAL'!$O$11:$O$4993,'CONTROLE GERAL'!$F$11:$F$4993,$B40,'CONTROLE GERAL'!$B$11:$B$4993,AF32)","v":0},{"$f":"SUMIFS('CONTROLE GERAL'!$R$11:$R$4993,'CONTROLE GERAL'!$F$11:$F$4993,$B40,'CONTROLE GERAL'!$B$11:$B$4993,AF32)","v":0},{"$f":"SUMIFS('CONTROLE GERAL'!$X$11:$X$4993,'CONTROLE GERAL'!$F$11:$F$4993,$B40,'CONTROLE GERAL'!$B$11:$B$4993,AF32)","v":0},0]
[null,"VUC 11.180",{"$f":"SUMIFS('CONTROLE GERAL'!$L$11:$L$4993,'CONTROLE GERAL'!$F$11:$F$4993,$B41,'CONTROLE GERAL'!$B$11:$B$4993,B32)","v":0},{"$f":"SUMIFS('CONTROLE GERAL'!$P$11:$P$4993,'CONTROLE GERAL'!$F$11:$F$4993,$B41,'CONTROLE GERAL'!$B$11:$B$4993,B32)","v":0},{"$f":"C41/D41","v":{"$error":"#DIV/0!"}},{"$f":"SUMIFS('CONTROLE GERAL'!$M$11:$M$4993,'CONTROLE GERAL'!$F$11:$F$4993,$B41,'CONTROLE GERAL'!$B$11:$B$4993,B32)","v":0},{"$f":"SUMIFS('CONTROLE GERAL'!$O$11:$O$4993,'CONTROLE GERAL'!$F$11:$F$4993,$B41,'CONTROLE GERAL'!$B$11:$B$4993,B32)","v":0},{"$f":"SUMIFS('CONTROLE GERAL'!$R$11:$R$4993,'CONTROLE GERAL'!$F$11:$F$4993,$B41,'CONTROLE GERAL'!$B$11:$B$4993,B32)","v":0},{"$f":"SUMIFS('CONTROLE GERAL'!$X$11:$X$4993,'CONTROLE GERAL'!$F$11:$F$4993,$B41,'CONTROLE GERAL'!$B$11:$B$4993,B32)","v":0},0,null,"VUC 11.180",{"$f":"SUMIFS('CONTROLE GERAL'!$L$11:$L$4993,'CONTROLE GERAL'!$F$11:$F$4993,$B41,'CONTROLE GERAL'!$B$11:$B$4993,L32)","v":0},{"$f":"SUMIFS('CONTROLE GERAL'!$P$11:$P$4993,'CONTROLE GERAL'!$F$11:$F$4993,$B41,'CONTROLE GERAL'!$B$11:$B$4993,L32)","v":0},{"$f":"M41/N41","v":{"$error":"#DIV/0!"}},{"$f":"SUMIFS('CONTROLE GERAL'!$M$11:$M$4993,'CONTROLE GERAL'!$F$11:$F$4993,$B41,'CONTROLE GERAL'!$B$11:$B$4993,L32)","v":0},{"$f":"SUMIFS('CONTROLE GERAL'!$O$11:$O$4993,'CONTROLE GERAL'!$F$11:$F$4993,$B41,'CONTROLE GERAL'!$B$11:$B$4993,L32)","v":0},{"$f":"SUMIFS('CONTROLE GERAL'!$R$11:$R$4993,'CONTROLE GERAL'!$F$11:$F$4993,$B41,'CONTROLE GERAL'!$B$11:$B$4993,L32)","v":0},{"$f":"SUMIFS('CONTROLE GERAL'!$X$11:$X$4993,'CONTROLE GERAL'!$F$11:$F$4993,$B41,'CONTROLE GERAL'!$B$11:$B$4993,L32)","v":0},0,null,"VUC 11.180",{"$f":"SUMIFS('CONTROLE GERAL'!$L$11:$L$4993,'CONTROLE GERAL'!$F$11:$F$4993,$B41,'CONTROLE GERAL'!$B$11:$B$4993,V32)","v":0},{"$f":"SUMIFS('CONTROLE GERAL'!$P$11:$P$4993,'CONTROLE GERAL'!$F$11:$F$4993,$B41,'CONTROLE GERAL'!$B$11:$B$4993,V32)","v":0},{"$f":"W41/X41","v":{"$error":"#DIV/0!"}},{"$f":"SUMIFS('CONTROLE GERAL'!$M$11:$M$4993,'CONTROLE GERAL'!$F$11:$F$4993,$B41,'CONTROLE GERAL'!$B$11:$B$4993,V32)","v":0},{"$f":"SUMIFS('CONTROLE GERAL'!$O$11:$O$4993,'CONTROLE GERAL'!$F$11:$F$4993,$B41,'CONTROLE GERAL'!$B$11:$B$4993,V32)","v":0},{"$f":"SUMIFS('CONTROLE GERAL'!$R$11:$R$4993,'CONTROLE GERAL'!$F$11:$F$4993,$B41,'CONTROLE GERAL'!$B$11:$B$4993,V32)","v":0},{"$f":"SUMIFS('CONTROLE GERAL'!$X$11:$X$4993,'CONTROLE GERAL'!$F$11:$F$4993,$B41,'CONTROLE GERAL'!$B$11:$B$4993,V32)","v":0},0,null,"VUC 11.180",{"$f":"SUMIFS('CONTROLE GERAL'!$L$11:$L$4993,'CONTROLE GERAL'!$F$11:$F$4993,$B41,'CONTROLE GERAL'!$B$11:$B$4993,AF32)","v":0},{"$f":"SUMIFS('CONTROLE GERAL'!$P$11:$P$4993,'CONTROLE GERAL'!$F$11:$F$4993,$B41,'CONTROLE GERAL'!$B$11:$B$4993,AF32)","v":0},{"$f":"AG41/AH41","v":{"$error":"#DIV/0!"}},{"$f":"SUMIFS('CONTROLE GERAL'!$M$11:$M$4993,'CONTROLE GERAL'!$F$11:$F$4993,$B41,'CONTROLE GERAL'!$B$11:$B$4993,AF32)","v":0},{"$f":"SUMIFS('CONTROLE GERAL'!$O$11:$O$4993,'CONTROLE GERAL'!$F$11:$F$4993,$B41,'CONTROLE GERAL'!$B$11:$B$4993,AF32)","v":0},{"$f":"SUMIFS('CONTROLE GERAL'!$R$11:$R$4993,'CONTROLE GERAL'!$F$11:$F$4993,$B41,'CONTROLE GERAL'!$B$11:$B$4993,AF32)","v":0},{"$f":"SUMIFS('CONTROLE GERAL'!$X$11:$X$4993,'CONTROLE GERAL'!$F$11:$F$4993,$B41,'CONTROLE GERAL'!$B$11:$B$4993,AF32)","v":0},0]
[null,"CASA GRANDE",{"$f":"SUMIFS('CONTROLE GERAL'!$L$11:$L$4993,'CONTROLE GERAL'!$F$11:$F$4993,$B42,'CONTROLE GERAL'!$B$11:$B$4993,B32)","v":0},{"$f":"SUMIFS('CONTROLE GERAL'!$P$11:$P$4993,'CONTROLE GERAL'!$F$11:$F$4993,$B42,'CONTROLE GERAL'!$B$11:$B$4993,B32)","v":0},{"$f":"C42/D42","v":{"$error":"#DIV/0!"}},{"$f":"SUMIFS('CONTROLE GERAL'!$M$11:$M$4993,'CONTROLE GERAL'!$F$11:$F$4993,$B42,'CONTROLE GERAL'!$B$11:$B$4993,B32)","v":0},{"$f":"SUMIFS('CONTROLE GERAL'!$O$11:$O$4993,'CONTROLE GERAL'!$F$11:$F$4993,$B42,'CONTROLE GERAL'!$B$11:$B$4993,B32)","v":0},{"$f":"SUMIFS('CONTROLE GERAL'!$R$11:$R$4993,'CONTROLE GERAL'!$F$11:$F$4993,$B42,'CONTROLE GERAL'!$B$11:$B$4993,B32)","v":0},{"$f":"SUMIFS('CONTROLE GERAL'!$X$11:$X$4993,'CONTROLE GERAL'!$F$11:$F$4993,$B42,'CONTROLE GERAL'!$B$11:$B$4993,B32)","v":0},0,null,"CASA GRANDE",{"$f":"SUMIFS('CONTROLE GERAL'!$L$11:$L$4993,'CONTROLE GERAL'!$F$11:$F$4993,$B42,'CONTROLE GERAL'!$B$11:$B$4993,L32)","v":0},{"$f":"SUMIFS('CONTROLE GERAL'!$P$11:$P$4993,'CONTROLE GERAL'!$F$11:$F$4993,$B42,'CONTROLE GERAL'!$B$11:$B$4993,L32)","v":0},{"$f":"M42/N42","v":{"$error":"#DIV/0!"}},{"$f":"SUMIFS('CONTROLE GERAL'!$M$11:$M$4993,'CONTROLE GERAL'!$F$11:$F$4993,$B42,'CONTROLE GERAL'!$B$11:$B$4993,L32)","v":0},{"$f":"SUMIFS('CONTROLE GERAL'!$O$11:$O$4993,'CONTROLE GERAL'!$F$11:$F$4993,$B42,'CONTROLE GERAL'!$B$11:$B$4993,L32)","v":0},{"$f":"SUMIFS('CONTROLE GERAL'!$R$11:$R$4993,'CONTROLE GERAL'!$F$11:$F$4993,$B42,'CONTROLE GERAL'!$B$11:$B$4993,L32)","v":0},{"$f":"SUMIFS('CONTROLE GERAL'!$X$11:$X$4993,'CONTROLE GERAL'!$F$11:$F$4993,$B42,'CONTROLE GERAL'!$B$11:$B$4993,L32)","v":0},0,null,"CASA GRANDE",{"$f":"SUMIFS('CONTROLE GERAL'!$L$11:$L$4993,'CONTROLE GERAL'!$F$11:$F$4993,$B42,'CONTROLE GERAL'!$B$11:$B$4993,V32)","v":0},{"$f":"SUMIFS('CONTROLE GERAL'!$P$11:$P$4993,'CONTROLE GERAL'!$F$11:$F$4993,$B42,'CONTROLE GERAL'!$B$11:$B$4993,V32)","v":0},{"$f":"W42/X42","v":{"$error":"#DIV/0!"}},{"$f":"SUMIFS('CONTROLE GERAL'!$M$11:$M$4993,'CONTROLE GERAL'!$F$11:$F$4993,$B42,'CONTROLE GERAL'!$B$11:$B$4993,V32)","v":0},{"$f":"SUMIFS('CONTROLE GERAL'!$O$11:$O$4993,'CONTROLE GERAL'!$F$11:$F$4993,$B42,'CONTROLE GERAL'!$B$11:$B$4993,V32)","v":0},{"$f":"SUMIFS('CONTROLE GERAL'!$R$11:$R$4993,'CONTROLE GERAL'!$F$11:$F$4993,$B42,'CONTROLE GERAL'!$B$11:$B$4993,V32)","v":0},{"$f":"SUMIFS('CONTROLE GERAL'!$X$11:$X$4993,'CONTROLE GERAL'!$F$11:$F$4993,$B42,'CONTROLE GERAL'!$B$11:$B$4993,V32)","v":0},0,null,"CASA GRANDE",{"$f":"SUMIFS('CONTROLE GERAL'!$L$11:$L$4993,'CONTROLE GERAL'!$F$11:$F$4993,$B42,'CONTROLE GERAL'!$B$11:$B$4993,AF32)","v":0},{"$f":"SUMIFS('CONTROLE GERAL'!$P$11:$P$4993,'CONTROLE GERAL'!$F$11:$F$4993,$B42,'CONTROLE GERAL'!$B$11:$B$4993,AF32)","v":0},{"$f":"AG42/AH42","v":{"$error":"#DIV/0!"}},{"$f":"SUMIFS('CONTROLE GERAL'!$M$11:$M$4993,'CONTROLE GERAL'!$F$11:$F$4993,$B42,'CONTROLE GERAL'!$B$11:$B$4993,AF32)","v":0},{"$f":"SUMIFS('CONTROLE GERAL'!$O$11:$O$4993,'CONTROLE GERAL'!$F$11:$F$4993,$B42,'CONTROLE GERAL'!$B$11:$B$4993,AF32)","v":0},{"$f":"SUMIFS('CONTROLE GERAL'!$R$11:$R$4993,'CONTROLE GERAL'!$F$11:$F$4993,$B42,'CONTROLE GERAL'!$B$11:$B$4993,AF32)","v":0},{"$f":"SUMIFS('CONTROLE GERAL'!$X$11:$X$4993,'CONTROLE GERAL'!$F$11:$F$4993,$B42,'CONTROLE GERAL'!$B$11:$B$4993,AF32)","v":0},0]
[null,"NILZA",{"$f":"SUMIFS('CONTROLE GERAL'!$L$11:$L$4993,'CONTROLE GERAL'!$F$11:$F$4993,$B43,'CONTROLE GERAL'!$B$11:$B$4993,B32)","v":0},{"$f":"SUMIFS('CONTROLE GERAL'!$P$11:$P$4993,'CONTROLE GERAL'!$F$11:$F$4993,$B43,'CONTROLE GERAL'!$B$11:$B$4993,B32)","v":0},{"$error":"#DIV/0!"},{"$f":"SUMIFS('CONTROLE GERAL'!$M$11:$M$4993,'CONTROLE GERAL'!$F$11:$F$4993,$B43,'CONTROLE GERAL'!$B$11:$B$4993,B32)","v":0},{"$f":"SUMIFS('CONTROLE GERAL'!$O$11:$O$4993,'CONTROLE GERAL'!$F$11:$F$4993,$B43,'CONTROLE GERAL'!$B$11:$B$4993,B32)","v":0},{"$f":"SUMIFS('CONTROLE GERAL'!$R$11:$R$4993,'CONTROLE GERAL'!$F$11:$F$4993,$B43,'CONTROLE GERAL'!$B$11:$B$4993,B32)","v":0},{"$f":"SUMIFS('CONTROLE GERAL'!$X$11:$X$4993,'CONTROLE GERAL'!$F$11:$F$4993,$B43,'CONTROLE GERAL'!$B$11:$B$4993,B32)","v":0},0,null,"NILZA",{"$f":"SUMIFS('CONTROLE GERAL'!$L$11:$L$4993,'CONTROLE GERAL'!$F$11:$F$4993,$B43,'CONTROLE GERAL'!$B$11:$B$4993,L32)","v":0},{"$f":"SUMIFS('CONTROLE GERAL'!$P$11:$P$4993,'CONTROLE GERAL'!$F$11:$F$4993,$B43,'CONTROLE GERAL'!$B$11:$B$4993,L32)","v":0},{"$error":"#DIV/0!"},{"$f":"SUMIFS('CONTROLE GERAL'!$M$11:$M$4993,'CONTROLE GERAL'!$F$11:$F$4993,$B43,'CONTROLE GERAL'!$B$11:$B$4993,L32)","v":0},{"$f":"SUMIFS('CONTROLE GERAL'!$O$11:$O$4993,'CONTROLE GERAL'!$F$11:$F$4993,$B43,'CONTROLE GERAL'!$B$11:$B$4993,L32)","v":0},{"$f":"SUMIFS('CONTROLE GERAL'!$R$11:$R$4993,'CONTROLE GERAL'!$F$11:$F$4993,$B43,'CONTROLE GERAL'!$B$11:$B$4993,L32)","v":0},{"$f":"SUMIFS('CONTROLE GERAL'!$X$11:$X$4993,'CONTROLE GERAL'!$F$11:$F$4993,$B43,'CONTROLE GERAL'!$B$11:$B$4993,L32)","v":0},0,null,"NILZA",{"$f":"SUMIFS('CONTROLE GERAL'!$L$11:$L$4993,'CONTROLE GERAL'!$F$11:$F$4993,$B43,'CONTROLE GERAL'!$B$11:$B$4993,V32)","v":0},{"$f":"SUMIFS('CONTROLE GERAL'!$P$11:$P$4993,'CONTROLE GERAL'!$F$11:$F$4993,$B43,'CONTROLE GERAL'!$B$11:$B$4993,V32)","v":0},{"$error":"#DIV/0!"},{"$f":"SUMIFS('CONTROLE GERAL'!$M$11:$M$4993,'CONTROLE GERAL'!$F$11:$F$4993,$B43,'CONTROLE GERAL'!$B$11:$B$4993,V32)","v":0},{"$f":"SUMIFS('CONTROLE GERAL'!$O$11:$O$4993,'CONTROLE GERAL'!$F$11:$F$4993,$B43,'CONTROLE GERAL'!$B$11:$B$4993,V32)","v":0},{"$f":"SUMIFS('CONTROLE GERAL'!$R$11:$R$4993,'CONTROLE GERAL'!$F$11:$F$4993,$B43,'CONTROLE GERAL'!$B$11:$B$4993,V32)","v":0},{"$f":"SUMIFS('CONTROLE GERAL'!$X$11:$X$4993,'CONTROLE GERAL'!$F$11:$F$4993,$B43,'CONTROLE GERAL'!$B$11:$B$4993,V32)","v":0},0,null,"NILZA",{"$f":"SUMIFS('CONTROLE GERAL'!$L$11:$L$4993,'CONTROLE GERAL'!$F$11:$F$4993,$B43,'CONTROLE GERAL'!$B$11:$B$4993,AF32)","v":0},{"$f":"SUMIFS('CONTROLE GERAL'!$P$11:$P$4993,'CONTROLE GERAL'!$F$11:$F$4993,$B43,'CONTROLE GERAL'!$B$11:$B$4993,AF32)","v":0},{"$error":"#DIV/0!"},{"$f":"SUMIFS('CONTROLE GERAL'!$M$11:$M$4993,'CONTROLE GERAL'!$F$11:$F$4993,$B43,'CONTROLE GERAL'!$B$11:$B$4993,AF32)","v":0},{"$f":"SUMIFS('CONTROLE GERAL'!$O$11:$O$4993,'CONTROLE GERAL'!$F$11:$F$4993,$B43,'CONTROLE GERAL'!$B$11:$B$4993,AF32)","v":0},{"$f":"SUMIFS('CONTROLE GERAL'!$R$11:$R$4993,'CONTROLE GERAL'!$F$11:$F$4993,$B43,'CONTROLE GERAL'!$B$11:$B$4993,AF32)","v":0},{"$f":"SUMIFS('CONTROLE GERAL'!$X$11:$X$4993,'CONTROLE GERAL'!$F$11:$F$4993,$B43,'CONTROLE GERAL'!$B$11:$B$4993,AF32)","v":0},0]
[null,"TRANSHOW",{"$f":"SUMIFS('CONTROLE GERAL'!$L$11:$L$4993,'CONTROLE GERAL'!$F$11:$F$4993,$B44,'CONTROLE GERAL'!$B$11:$B$4993,B32)","v":0},{"$f":"SUMIFS('CONTROLE GERAL'!$P$11:$P$4993,'CONTROLE GERAL'!$F$11:$F$4993,$B44,'CONTROLE GERAL'!$B$11:$B$4993,B32)","v":0},{"$f":"C44/D44","v":{"$error":"#DIV/0!"}},{"$f":"SUMIFS('CONTROLE GERAL'!$M$11:$M$4993,'CONTROLE GERAL'!$F$11:$F$4993,$B44,'CONTROLE GERAL'!$B$11:$B$4993,B32)","v":0},{"$f":"SUMIFS('CONTROLE GERAL'!$O$11:$O$4993,'CONTROLE GERAL'!$F$11:$F$4993,$B44,'CONTROLE GERAL'!$B$11:$B$4993,B32)","v":0},{"$f":"SUMIFS('CONTROLE GERAL'!$R$11:$R$4993,'CONTROLE GERAL'!$F$11:$F$4993,$B44,'CONTROLE GERAL'!$B$11:$B$4993,B32)","v":0},{"$f":"SUMIFS('CONTROLE GERAL'!$X$11:$X$4993,'CONTROLE GERAL'!$F$11:$F$4993,$B44,'CONTROLE GERAL'!$B$11:$B$4993,B32)","v":0},0,null,"TRANSHOW",{"$f":"SUMIFS('CONTROLE GERAL'!$L$11:$L$4993,'CONTROLE GERAL'!$F$11:$F$4993,$B44,'CONTROLE GERAL'!$B$11:$B$4993,L32)","v":0},{"$f":"SUMIFS('CONTROLE GERAL'!$P$11:$P$4993,'CONTROLE GERAL'!$F$11:$F$4993,$B44,'CONTROLE GERAL'!$B$11:$B$4993,L32)","v":0},{"$f":"M44/N44","v":{"$error":"#DIV/0!"}},{"$f":"SUMIFS('CONTROLE GERAL'!$M$11:$M$4993,'CONTROLE GERAL'!$F$11:$F$4993,$B44,'CONTROLE GERAL'!$B$11:$B$4993,L32)","v":0},{"$f":"SUMIFS('CONTROLE GERAL'!$O$11:$O$4993,'CONTROLE GERAL'!$F$11:$F$4993,$B44,'CONTROLE GERAL'!$B$11:$B$4993,L32)","v":0},{"$f":"SUMIFS('CONTROLE GERAL'!$R$11:$R$4993,'CONTROLE GERAL'!$F$11:$F$4993,$B44,'CONTROLE GERAL'!$B$11:$B$4993,L32)","v":0},{"$f":"SUMIFS('CONTROLE GERAL'!$X$11:$X$4993,'CONTROLE GERAL'!$F$11:$F$4993,$B44,'CONTROLE GERAL'!$B$11:$B$4993,L32)","v":0},0,null,"TRANSHOW",{"$f":"SUMIFS('CONTROLE GERAL'!$L$11:$L$4993,'CONTROLE GERAL'!$F$11:$F$4993,$B44,'CONTROLE GERAL'!$B$11:$B$4993,V32)","v":0},{"$f":"SUMIFS('CONTROLE GERAL'!$P$11:$P$4993,'CONTROLE GERAL'!$F$11:$F$4993,$B44,'CONTROLE GERAL'!$B$11:$B$4993,V32)","v":0},{"$f":"W44/X44","v":{"$error":"#DIV/0!"}},{"$f":"SUMIFS('CONTROLE GERAL'!$M$11:$M$4993,'CONTROLE GERAL'!$F$11:$F$4993,$B44,'CONTROLE GERAL'!$B$11:$B$4993,V32)","v":0},{"$f":"SUMIFS('CONTROLE GERAL'!$O$11:$O$4993,'CONTROLE GERAL'!$F$11:$F$4993,$B44,'CONTROLE GERAL'!$B$11:$B$4993,V32)","v":0},{"$f":"SUMIFS('CONTROLE GERAL'!$R$11:$R$4993,'CONTROLE GERAL'!$F$11:$F$4993,$B44,'CONTROLE GERAL'!$B$11:$B$4993,V32)","v":0},{"$f":"SUMIFS('CONTROLE GERAL'!$X$11:$X$4993,'CONTROLE GERAL'!$F$11:$F$4993,$B44,'CONTROLE GERAL'!$B$11:$B$4993,V32)","v":0},0,null,"TRANSHOW",{"$f":"SUMIFS('CONTROLE GERAL'!$L$11:$L$4993,'CONTROLE GERAL'!$F$11:$F$4993,$B44,'CONTROLE GERAL'!$B$11:$B$4993,AF32)","v":0},{"$f":"SUMIFS('CONTROLE GERAL'!$P$11:$P$4993,'CONTROLE GERAL'!$F$11:$F$4993,$B44,'CONTROLE GERAL'!$B$11:$B$4993,AF32)","v":0},{"$f":"AG44/AH44","v":{"$error":"#DIV/0!"}},{"$f":"SUMIFS('CONTROLE GERAL'!$M$11:$M$4993,'CONTROLE GERAL'!$F$11:$F$4993,$B44,'CONTROLE GERAL'!$B$11:$B$4993,AF32)","v":0},{"$f":"SUMIFS('CONTROLE GERAL'!$O$11:$O$4993,'CONTROLE GERAL'!$F$11:$F$4993,$B44,'CONTROLE GERAL'!$B$11:$B$4993,AF32)","v":0},{"$f":"SUMIFS('CONTROLE GERAL'!$R$11:$R$4993,'CONTROLE GERAL'!$F$11:$F$4993,$B44,'CONTROLE GERAL'!$B$11:$B$4993,AF32)","v":0},{"$f":"SUMIFS('CONTROLE GERAL'!$X$11:$X$4993,'CONTROLE GERAL'!$F$11:$F$4993,$B44,'CONTROLE GERAL'!$B$11:$B$4993,AF32)","v":0},0]