{"text_format":"1","workbook":"xlsx","n_sheets":19,"sheets":["ATUAL","DELAY","FUTURO","AÇÕES","Profit","AGRESSÃO IBOV","TESTES","MUNDIAIS","CORRETORAS-DL","ESTRANG-WDO","CPF-DOLAR","BANCO- WDO","EUROPA","CORRETORAS WIN","ESTRANGEIROS","BANCOS","PF","DI FUT","IBOV-WINV22"],"not_rendered":{"charts":0,"images":0,"macros":1,"external_links":1,"defined_names":0,"comments":0,"pivot_tables":0},"unopened":[],"bounds":{"document_bytes":16777216,"sheet_cells":100000,"rows_first":2000,"rows_last":500,"rows_between":2000,"halvings":0,"cell_chars":16384,"cell_head_chars":4096},"cells_cut":0,"cells_raw":0,"read":"whole","date_system":"1900"}

{"sheet":"ATUAL","index":0,"n_rows":30,"n_cols":22,"rows_kept":30,"cut":false,"hidden":false,"merged":[[26,13,26,15],[37,12,37,13],[38,12,38,13],[32,15,32,16],[38,15,38,16],[7,21,7,23],[10,3,10,4],[23,1,23,3],[25,17,25,18],[24,5,24,6],[25,13,25,15],[7,1,7,2],[16,1,16,2],[7,5,7,7],[7,13,7,15],[14,6,14,7],[8,13,8,15],[7,10,7,11],[9,3,9,4],[12,6,12,7],[11,3,11,4],[13,3,13,4],[12,3,12,4],[17,5,17,7],[13,13,13,15],[19,17,19,19],[15,6,15,7],[7,17,7,18],[20,10,20,11],[20,12,20,13]]}
[]
[]
[]
[]
[]
[]
[]
[null,"AÇÕES",null,"      RISCO BRASIL","      RISCO BRASIL","ÍNDICE",null,null,null,null,"JUROS DI",null,null,"FLUXO INDICE",null,null,null,"VOLUME BIG PLAYER WIN",null,"QTD",null,"BOOKMAP"]
[null,null,null,null,null,null,null,"%"]
[null,"POSITIVAS",{"$f":"AÇÕES!$H$99","v":15},{"$f":"MUNDIAIS!$G$21","v":-1.0309278350515401},null,"IBOV",{"$f":"'IBOV-WINV22'!$C$5","v":112473.24},{"$f":"'IBOV-WINV22'!$H$5","v":-0.93232094079081662},null,null,{"$f":"'DI FUT'!B5","v":"DI1F23"},{"$f":"'DI FUT'!H5","v":3.6443148688050542E-2},null,"ESTRANGEIROS",null,{"$f":"ESTRANGEIROS!$G$19","v":-3445819790},null,"UBS",{"$f":"ESTRANGEIROS!$G$11","v":722017100},{"$f":"ESTRANGEIROS!$F$11","v":6354}]
[null,"NEGATIVAS",{"$f":"AÇÕES!$H$100","v":75},"COMO",null,"WINFUT",{"$f":"'IBOV-WINV22'!$C$7","v":114100},{"$f":"'IBOV-WINV22'!$G$7","v":-0.92045849253213419},null,null,{"$f":"'DI FUT'!B6","v":"DI1F24"},{"$f":"'DI FUT'!H6","v":-0.30303030303032585},null,"BANCOS",null,{"$f":"BANCOS!$H$22","v":-204082280},null,"IDEAL",{"$f":"ESTRANGEIROS!$G$15","v":-430692130},{"$f":"ESTRANGEIROS!$F$15","v":-3646}]
[null,null,"%",null,null,null,null,null,null,null,{"$f":"'DI FUT'!B7","v":"DI1F25"},{"$f":"'DI FUT'!H7","v":-0.2061005770816422},null,"CPF",null,{"$f":"PF!$G$15","v":3349397675},null,"JP MORGAN",{"$f":"ESTRANGEIROS!$G$8","v":-27859155},{"$f":"ESTRANGEIROS!$F$8","v":-246}]
[null,"VALE3",{"$f":"AÇÕES!$H$104","v":-0.64963187527111188},null,null,"SALDO AGRESSÃO",{"$f":"'IBOV-WINV22'!$J$7","v":"-77.684"},null,null,null,{"$f":"'DI FUT'!B8","v":"DI1F26"},{"$f":"'DI FUT'!H8","v":-0.16778523489935537},null,null,null,null,null,{"$f":"ESTRANGEIROS!$D$10","v":"GOLDMAN SACHS"},{"$f":"ESTRANGEIROS!$G$10","v":-1298778600},{"$f":"ESTRANGEIROS!$F$12","v":-3593}]
[null,"PETR4",{"$f":"AÇÕES!$H$106","v":-0.78124999999972999},null,null,null,null,null,null,null,{"$f":"'DI FUT'!B9","v":"DI1F27"},{"$f":"'DI FUT'!H9","v":-0.1261564339781529},null,"FLUXO DÓLAR",null,null,null,"TULLET",{"$f":"ESTRANGEIROS!$G$13","v":-749790360},{"$f":"ESTRANGEIROS!$F$13","v":-6617}]
[null,"ITUB4",{"$f":"AÇÕES!$H$105","v":-0.52141527001865029},null,null,"AGRESSÃO IBOV     ",{"$f":"'AGRESSÃO IBOV'!$L$17","v":-30135500},null,null,null,{"$f":"'DI FUT'!B10","v":"DI1F28"},{"$f":"'DI FUT'!H10","v":-1.4210854715202004E-14},null,null,null,null,null,{"$f":"ESTRANGEIROS!$D$14","v":"MERRILL LYNCH"},{"$f":"ESTRANGEIROS!$G$14","v":-121097000},{"$f":"ESTRANGEIROS!$F$14","v":-1061}]
[null,null,null,null,null,null,null,null,null,null,{"$f":"'DI FUT'!B11","v":"DI1F29"},{"$f":"'DI FUT'!H11","v":-1.4210854715202004E-14},null,"ESTRANGEIROS",null,{"$f":"'ESTRANG-WDO'!$H$16","v":-19839858.5},null,"BRADESCO",{"$f":"BANCOS!$G$6","v":409709335},{"$f":"BANCOS!$F$6","v":3689}]
[null,"VOL($)",null,"AGRESS",null,null,null,null,null,null,{"$f":"'DI FUT'!B12","v":"DI1F30"},{"$f":"'DI FUT'!H12","v":0.25020850708925479},null,"BANCOS",null,{"$f":"'BANCO- WDO'!$F$22","v":14043896.5},null,"XP",{"$f":"PF!$F$4","v":3209898645},{"$f":"PF!$E$4","v":27875}]
[null,null,null,null,null,"DÓLAR",null,null,null,null,{"$f":"'DI FUT'!B13","v":"DI1F31"},{"$f":"'DI FUT'!H13","v":-8.2644628099188822E-2},null,"CPF",null,{"$f":"'CPF-DOLAR'!$E$23","v":24804149.5},null,"TOTAL",{"$f":"SUM(S10+S11+S12+S13+S14+S15+S16)","v":-1496490810},{"$f":"SUM(T10+T11+T12+T13+T14+T15+T16)","v":-5120}]
[null,"VALE3",{"$f":"AÇÕES!$J$104","v":1083210323},{"$f":"AÇÕES!$K$111","v":"-244.400,00"},null,null,null,"%",null,null,"VARIA",{"$f":"'DI FUT'!$I$15","v":-7.5000000000015277E-2}]
[null,"PETR4",{"$f":"AÇÕES!$J$106","v":1128576330},{"$f":"AÇÕES!$K$110","v":"814.700,00"},null,"WDOFUT",{"$f":"'IBOV-WINV22'!$C$8","v":5089},{"$f":"'IBOV-WINV22'!$H$8","v":-0.58605196327408748},null,null,null,null,null,null,null,null,null,"VOLUME BIG PLAYER WDO     QTD"]
[null,"ITUB4",{"$f":"AÇÕES!$J$105","v":165061652},{"$f":"AÇÕES!$K$112","v":"-196.400,00"},null,null,null,null,null,null,null,null,null,null,null,null,null,"UBS",{"$f":"'ESTRANG-WDO'!$F$9","v":-48518352},{"$f":"'ESTRANG-WDO'!$E$9","v":-9565}]
[null,"TOTAL",{"$f":"AÇÕES!$K$102","v":2376848305},{"$f":"AÇÕES!$K$114","v":373900},null,"SALDO DE AGRESSÃO",null,{"$f":"'IBOV-WINV22'!$L$8","v":"29.591"},null,null,null,null,null,null,null,null,null,"IDEAL",{"$f":"'ESTRANG-WDO'!$F$14","v":95041644},{"$f":"'ESTRANG-WDO'!$E$14","v":18644}]
[null,null,null,null,null,null,null,null,null,null,null,null,null,null,null,null,null,"BRADESCO",{"$f":"'BANCO- WDO'!$E$20","v":5968655},{"$f":"'BANCO- WDO'!$D$20","v":1165}]
[null,"ESTRANGEIROS AÇÕES",null,null,null,null,null,null,null,null,null,null,null,null,null,null,null,"XP",{"$f":"'CORRETORAS-DL'!$S$36","v":-18022634},{"$f":"'CORRETORAS-DL'!$R$36","v":-3510}]
[null,"VALE3",{"$f":"TESTES!$Q$77","v":-85028752},{"$f":"TESTES!$N$75","v":-2231},null,"COMMODITIES"]
[null,"PETR4",{"$f":"TESTES!$P$58","v":53519944},{"$f":"TESTES!$Q$58","v":2794},null,"OURO          %",{"$f":"MUNDIAIS!$F$33","v":-0.86075285968191195},null,null,null,null,null,null,null,null,null,null,"VARIAÇÃO MACRO ",null,"WIN"]
[null,"ITUB4",{"$f":"TESTES!$Q$131","v":9456261},{"$f":"TESTES!$N$134","v":2168},null,"PRATA         %",{"$f":"MUNDIAIS!$F$34","v":-1.02921301590602},null,null,null,null,null,null,null,null,null,null,"DOW JONES",{"$f":"MUNDIAIS!$G$24","v":-1.53485334818383}]
[null,"WINFUT","MÁXIMA","MÍNIMA",null,"ÓLEO           %",{"$f":"MUNDIAIS!$F$37","v":-1.40264855414666},null,null,null,null,null,null,null,null,null,null,"SP500",{"$f":"MUNDIAIS!$G$25","v":-1.9056373716397601},{"$f":"MUNDIAIS!$F$29","v":"0"}]
[null,"WDOFUT",{"$f":"'IBOV-WINV22'!$E$24","v":115850},{"$f":"'IBOV-WINV22'!$F$24","v":114065},null,null,null,null,null,null,null,null,null,null,null,null,null,"NASDAQ",{"$f":"MUNDIAIS!$G$26","v":1.400634688554}]
[null,null,{"$f":"'IBOV-WINV22'!$D$8","v":5118},{"$f":"'IBOV-WINV22'!$E$8","v":5124.5}]

{"sheet":"DELAY","index":1,"n_rows":30,"n_cols":22,"rows_kept":30,"cut":false,"hidden":false,"merged":[[7,21,7,23],[7,1,7,2],[7,5,7,7],[7,10,7,11],[7,13,7,15],[7,17,7,18],[16,1,16,2],[17,5,17,7],[8,13,8,15],[9,3,9,4],[10,3,10,4],[11,3,11,4],[12,3,12,4],[12,6,12,7],[25,13,25,15],[25,17,25,18],[13,3,13,4],[13,13,13,15],[14,6,14,7],[15,6,15,7],[19,17,19,19],[20,10,20,11],[20,12,20,13],[23,1,23,3],[24,5,24,6],[26,13,26,15],[32,15,32,16],[37,12,37,13],[38,12,38,13],[38,15,38,16]]}
[]
[]
[]
[]
[]
[]
[]
[null,"AÇÕES",null,"      RISCO BRASIL","      RISCO BRASIL","ÍNDICE",null,null,null,null,"JUROS DI",null,null,"FLUXO INDICE",null,null,null,"VOLUME BIG PLAYER WIN",null,"QTD",null,"BOOKMAP"]
[null,null,null,null,null,null,null,"%"]
[null,"POSITIVAS",{"$f":"AÇÕES!$H$99","v":15},{"$f":"MUNDIAIS!$G$21","v":-1.0309278350515401},null,"IBOV",{"$f":"'IBOV-WINV22'!$C$5","v":112473.24},{"$f":"'IBOV-WINV22'!$H$5","v":-0.93232094079081662},null,null,{"$f":"'DI FUT'!B5","v":"DI1F23"},{"$f":"'DI FUT'!H5","v":3.6443148688050542E-2},null,"ESTRANGEIROS",null,{"$f":"ESTRANGEIROS!$G$19","v":-3445819790},null,"UBS",{"$f":"ESTRANGEIROS!$G$11","v":722017100},{"$f":"ESTRANGEIROS!$F$11","v":6354}]
[null,"NEGATIVAS",{"$f":"AÇÕES!$H$100","v":75},"COMO",null,"WINFUT",{"$f":"'IBOV-WINV22'!$C$7","v":114100},{"$f":"'IBOV-WINV22'!$G$7","v":-0.92045849253213419},null,null,{"$f":"'DI FUT'!B6","v":"DI1F24"},{"$f":"'DI FUT'!H6","v":-0.30303030303032585},null,"BANCOS",null,{"$f":"BANCOS!$H$22","v":-204082280},null,"IDEAL",{"$f":"ESTRANGEIROS!$G$15","v":-430692130},{"$f":"ESTRANGEIROS!$F$15","v":-3646}]
[null,null,"%",null,null,null,null,null,null,null,{"$f":"'DI FUT'!B7","v":"DI1F25"},{"$f":"'DI FUT'!H7","v":-0.2061005770816422},null,"CPF",null,{"$f":"PF!$G$15","v":3349397675},null,"JP MORGAN",{"$f":"ESTRANGEIROS!$G$8","v":-27859155},{"$f":"ESTRANGEIROS!$F$8","v":-246}]
[null,"VALE3",{"$f":"AÇÕES!$H$104","v":-0.64963187527111188},null,null,"SALDO AGRESSÃO",{"$f":"'IBOV-WINV22'!$J$7","v":"-77.684"},null,null,null,{"$f":"'DI FUT'!B8","v":"DI1F26"},{"$f":"'DI FUT'!H8","v":-0.16778523489935537},null,null,null,null,null,{"$f":"ESTRANGEIROS!$D$10","v":"GOLDMAN SACHS"},{"$f":"ESTRANGEIROS!$G$10","v":-1298778600},{"$f":"ESTRANGEIROS!$F$12","v":-3593}]
[null,"PETR4",{"$f":"AÇÕES!$H$106","v":-0.78124999999972999},null,null,null,null,null,null,null,{"$f":"'DI FUT'!B9","v":"DI1F27"},{"$f":"'DI FUT'!H9","v":-0.1261564339781529},null,"FLUXO DÓLAR",null,null,null,"TULLET",{"$f":"ESTRANGEIROS!$G$13","v":-749790360},{"$f":"ESTRANGEIROS!$F$13","v":-6617}]
[null,"ITUB4",{"$f":"AÇÕES!$H$105","v":-0.52141527001865029},null,null,"AGRESSÃO IBOV     ",{"$f":"'AGRESSÃO IBOV'!$L$17","v":-30135500},null,null,null,{"$f":"'DI FUT'!B10","v":"DI1F28"},{"$f":"'DI FUT'!H10","v":-1.4210854715202004E-14},null,null,null,null,null,{"$f":"ESTRANGEIROS!$D$14","v":"MERRILL LYNCH"},{"$f":"ESTRANGEIROS!$G$14","v":-121097000},{"$f":"ESTRANGEIROS!$F$14","v":-1061}]
[null,null,null,null,null,null,null,null,null,null,{"$f":"'DI FUT'!B11","v":"DI1F29"},{"$f":"'DI FUT'!H11","v":-1.4210854715202004E-14},null,"ESTRANGEIROS",null,{"$f":"'ESTRANG-WDO'!$H$16","v":-19839858.5},null,"BRADESCO",{"$f":"BANCOS!$G$6","v":409709335},{"$f":"BANCOS!$F$6","v":3689}]
[null,"VOL($)",null,"AGRESS",null,null,null,null,null,null,{"$f":"'DI FUT'!B12","v":"DI1F30"},{"$f":"'DI FUT'!H12","v":0.25020850708925479},null,"BANCOS",null,{"$f":"'BANCO- WDO'!$F$22","v":14043896.5},null,"XP",{"$f":"PF!$F$4","v":3209898645},{"$f":"PF!$E$4","v":27875}]
[null,null,null,null,null,"DÓLAR",null,null,null,null,{"$f":"'DI FUT'!B13","v":"DI1F31"},{"$f":"'DI FUT'!H13","v":-8.2644628099188822E-2},null,"CPF",null,{"$f":"'CPF-DOLAR'!$E$23","v":24804149.5},null,"TOTAL",{"$f":"SUM(S10+S11+S12+S13+S14+S15+S16)","v":-1496490810},{"$f":"SUM(T10+T11+T12+T13+T14+T15+T16)","v":-5120}]
[null,"VALE3",{"$f":"AÇÕES!$J$104","v":1083210323},{"$f":"AÇÕES!$K$111","v":"-244.400,00"},null,null,null,"%",null,null,"VARIA",{"$f":"'DI FUT'!$I$15","v":-7.5000000000015277E-2}]
[null,"PETR4",{"$f":"AÇÕES!$J$106","v":1128576330},{"$f":"AÇÕES!$K$110","v":"814.700,00"},null,"WDOFUT",{"$f":"'IBOV-WINV22'!$C$8","v":5089},{"$f":"'IBOV-WINV22'!$H$8","v":-0.58605196327408748},null,null,null,null,null,null,null,null,null,"VOLUME BIG PLAYER WDO     QTD"]
[null,"ITUB4",{"$f":"AÇÕES!$J$105","v":165061652},{"$f":"AÇÕES!$K$112","v":"-196.400,00"},null,null,null,null,null,null,null,null,null,null,null,null,null,"UBS",{"$f":"'ESTRANG-WDO'!$F$9","v":-48518352},{"$f":"'ESTRANG-WDO'!$E$9","v":-9565}]
[null,"TOTAL",{"$f":"AÇÕES!$K$102","v":2376848305},{"$f":"AÇÕES!$K$114","v":373900},null,"SALDO DE AGRESSÃO",null,{"$f":"'IBOV-WINV22'!$L$8","v":"29.591"},null,null,null,null,null,null,null,null,null,"IDEAL",{"$f":"'ESTRANG-WDO'!$F$14","v":95041644},{"$f":"'ESTRANG-WDO'!$E$14","v":18644}]
[null,null,null,null,null,null,null,null,null,null,null,null,null,null,null,null,null,"BRADESCO",{"$f":"'BANCO- WDO'!$E$20","v":5968655},{"$f":"'BANCO- WDO'!$D$20","v":1165}]
[null,"ESTRANGEIROS AÇÕES",null,null,null,null,null,null,null,null,null,null,null,null,null,null,null,"XP",{"$f":"'CORRETORAS-DL'!$S$36","v":-18022634},{"$f":"'CORRETORAS-DL'!$R$36","v":-3510}]
[null,"VALE3",{"$f":"TESTES!$Q$77","v":-85028752},{"$f":"TESTES!$N$75","v":-2231},null,"COMMODITIES"]
[null,"PETR4",{"$f":"TESTES!$P$58","v":53519944},{"$f":"TESTES!$Q$58","v":2794},null,"OURO          %",{"$f":"MUNDIAIS!$F$33","v":-0.86075285968191195},null,null,null,null,null,null,null,null,null,null,"VARIAÇÃO MACRO ",null,"WIN"]
[null,"ITUB4",{"$f":"TESTES!$Q$131","v":9456261},{"$f":"TESTES!$N$134","v":2168},null,"PRATA         %",{"$f":"MUNDIAIS!$F$34","v":-1.02921301590602},null,null,null,null,null,null,null,null,null,null,"DOW JONES",{"$f":"MUNDIAIS!$G$24","v":-1.53485334818383}]
[null,"WINFUT","MÁXIMA","MÍNIMA",null,"ÓLEO           %",{"$f":"MUNDIAIS!$F$37","v":-1.40264855414666},null,null,null,null,null,null,null,null,null,null,"SP500",{"$f":"MUNDIAIS!$G$25","v":-1.9056373716397601},{"$f":"MUNDIAIS!$F$29","v":"0"}]
[null,"WDOFUT",{"$f":"'IBOV-WINV22'!$E$24","v":115850},{"$f":"'IBOV-WINV22'!$F$24","v":114065},null,null,null,null,null,null,null,null,null,null,null,null,null,"NASDAQ",{"$f":"MUNDIAIS!$G$26","v":1.400634688554}]
[null,null,{"$f":"'IBOV-WINV22'!$D$8","v":5118},{"$f":"'IBOV-WINV22'!$E$8","v":5124.5}]

{"sheet":"FUTURO","index":2,"n_rows":9,"n_cols":4,"rows_kept":9,"cut":false,"hidden":false,"merged":[]}
["AGRESS","JUROS",{"$f":"PF!$G$15","v":3349397675},"CPF"]
[{"$f":"'IBOV-WINV22'!$J$7","v":"-77.684"},{"$f":"'DI FUT'!$I$15","v":-7.5000000000015277E-2},{"$f":"ESTRANGEIROS!$G$19","v":-3445819790},"EST"]
[{"$f":"'[1]IBOV-WINV22'!$G$7","v":-0.33431747134422096},{"$f":"'[1]IBOV-WINV22'!$H$5","v":-0.37649389967843661},{"$f":"'AGRESSÃO IBOV'!$L$17","v":-30135500},"IBOV"]
["WINFUT","IBOV"]
[]
[]
["Delay"]
[{"$f":"'IBOV-WINV22'!$J$7","v":"-77.684"}]
[{"$f":"PF!$G$15","v":3349397675}]

{"sheet":"AÇÕES","index":3,"n_rows":114,"n_cols":12,"rows_kept":114,"cut":false,"hidden":true,"merged":[]}
[]
[]
[]
[null,"Asset","Último","Abertura","Máximo","Mínimo","Fechamento Anterior","Variação","Variação(pts)","Volume"]
[null,"RRRP3",{"$f":"RTD(\"rtdtrading.rtdserver\",, \"RRRP3_B_0\", \"ULT\")","v":36.890000000000029},{"$f":"RTD(\"rtdtrading.rtdserver\",, \"RRRP3_B_0\", \"ABE\")","v":37},{"$f":"RTD(\"rtdtrading.rtdserver\",, \"RRRP3_B_0\", \"MAX\")","v":37.43},{"$f":"RTD(\"rtdtrading.rtdserver\",, \"RRRP3_B_0\", \"MIN\")","v":36.659999999999997},{"$f":"RTD(\"rtdtrading.rtdserver\",, \"RRRP3_B_0\", \"FEC\")","v":36.950000000000003},{"$f":"RTD(\"rtdtrading.rtdserver\",, \"RRRP3_B_0\", \"VAR\")","v":-0.16238159675229724},{"$f":"RTD(\"rtdtrading.rtdserver\",, \"RRRP3_B_0\", \"VARPTS\")","v":-5.9999999999973852E-2},{"$f":"RTD(\"rtdtrading.rtdserver\",, \"RRRP3_B_0\", \"VOL\")","v":28322505}]
[null,"LWSA3",{"$f":"RTD(\"rtdtrading.rtdserver\",, \"LWSA3_B_0\", \"ULT\")","v":9.7300000000000022},{"$f":"RTD(\"rtdtrading.rtdserver\",, \"LWSA3_B_0\", \"ABE\")","v":10.02},{"$f":"RTD(\"rtdtrading.rtdserver\",, \"LWSA3_B_0\", \"MAX\")","v":10.15},{"$f":"RTD(\"rtdtrading.rtdserver\",, \"LWSA3_B_0\", \"MIN\")","v":9.7200000000000024},{"$f":"RTD(\"rtdtrading.rtdserver\",, \"LWSA3_B_0\", \"FEC\")","v":10.020000000000001},{"$f":"RTD(\"rtdtrading.rtdserver\",, \"LWSA3_B_0\", \"VAR\")","v":-2.8942115768462884},{"$f":"RTD(\"rtdtrading.rtdserver\",, \"LWSA3_B_0\", \"VARPTS\")","v":-0.28999999999999915},{"$f":"RTD(\"rtdtrading.rtdserver\",, \"LWSA3_B_0\", \"VOL\")","v":36698054}]
[null,"ENEV3",{"$f":"RTD(\"rtdtrading.rtdserver\",, \"ENEV3_B_0\", \"ULT\")","v":15.280000000000001},{"$f":"RTD(\"rtdtrading.rtdserver\",, \"ENEV3_B_0\", \"ABE\")","v":15.46},{"$f":"RTD(\"rtdtrading.rtdserver\",, \"ENEV3_B_0\", \"MAX\")","v":15.52},{"$f":"RTD(\"rtdtrading.rtdserver\",, \"ENEV3_B_0\", \"MIN\")","v":15.24},{"$f":"RTD(\"rtdtrading.rtdserver\",, \"ENEV3_B_0\", \"FEC\")","v":15.38},{"$f":"RTD(\"rtdtrading.rtdserver\",, \"ENEV3_B_0\", \"VAR\")","v":-0.65019505851755355},{"$f":"RTD(\"rtdtrading.rtdserver\",, \"ENEV3_B_0\", \"VARPTS\")","v":-9.9999999999999645E-2},{"$f":"RTD(\"rtdtrading.rtdserver\",, \"ENEV3_B_0\", \"VOL\")","v":5241772}]
[null,"EMBR3",{"$f":"RTD(\"rtdtrading.rtdserver\",, \"EMBR3_B_0\", \"ULT\")","v":14.500000000000002},{"$f":"RTD(\"rtdtrading.rtdserver\",, \"EMBR3_B_0\", \"ABE\")","v":14.85},{"$f":"RTD(\"rtdtrading.rtdserver\",, \"EMBR3_B_0\", \"MAX\")","v":14.98},{"$f":"RTD(\"rtdtrading.rtdserver\",, \"EMBR3_B_0\", \"MIN\")","v":14.49},{"$f":"RTD(\"rtdtrading.rtdserver\",, \"EMBR3_B_0\", \"FEC\")","v":14.73},{"$f":"RTD(\"rtdtrading.rtdserver\",, \"EMBR3_B_0\", \"VAR\")","v":-1.5614392396469725},{"$f":"RTD(\"rtdtrading.rtdserver\",, \"EMBR3_B_0\", \"VARPTS\")","v":-0.22999999999999865},{"$f":"RTD(\"rtdtrading.rtdserver\",, \"EMBR3_B_0\", \"VOL\")","v":46933390}]
[null,"COGN3",{"$f":"RTD(\"rtdtrading.rtdserver\",, \"COGN3_B_0\", \"ULT\")","v":2.6200000000000006},{"$f":"RTD(\"rtdtrading.rtdserver\",, \"COGN3_B_0\", \"ABE\")","v":2.69},{"$f":"RTD(\"rtdtrading.rtdserver\",, \"COGN3_B_0\", \"MAX\")","v":2.73},{"$f":"RTD(\"rtdtrading.rtdserver\",, \"COGN3_B_0\", \"MIN\")","v":2.62},{"$f":"RTD(\"rtdtrading.rtdserver\",, \"COGN3_B_0\", \"FEC\")","v":2.67},{"$f":"RTD(\"rtdtrading.rtdserver\",, \"COGN3_B_0\", \"VAR\")","v":-1.8726591760299272},{"$f":"RTD(\"rtdtrading.rtdserver\",, \"COGN3_B_0\", \"VARPTS\")","v":-4.9999999999999378E-2},{"$f":"RTD(\"rtdtrading.rtdserver\",, \"COGN3_B_0\", \"VOL\")","v":18909049}]
[null,"PRIO3",{"$f":"RTD(\"rtdtrading.rtdserver\",, \"PRIO3_B_0\", \"ULT\")","v":26.350000000000005},{"$f":"RTD(\"rtdtrading.rtdserver\",, \"PRIO3_B_0\", \"ABE\")","v":26.48},{"$f":"RTD(\"rtdtrading.rtdserver\",, \"PRIO3_B_0\", \"MAX\")","v":26.69},{"$f":"RTD(\"rtdtrading.rtdserver\",, \"PRIO3_B_0\", \"MIN\")","v":26.23},{"$f":"RTD(\"rtdtrading.rtdserver\",, \"PRIO3_B_0\", \"FEC\")","v":26.39},{"$f":"RTD(\"rtdtrading.rtdserver\",, \"PRIO3_B_0\", \"VAR\")","v":-0.15157256536565455},{"$f":"RTD(\"rtdtrading.rtdserver\",, \"PRIO3_B_0\", \"VARPTS\")","v":-3.9999999999995595E-2},{"$f":"RTD(\"rtdtrading.rtdserver\",, \"PRIO3_B_0\", \"VOL\")","v":71222902}]
[null,"BRFS3",{"$f":"RTD(\"rtdtrading.rtdserver\",, \"BRFS3_B_0\", \"ULT\")","v":16.100000000000009},{"$f":"RTD(\"rtdtrading.rtdserver\",, \"BRFS3_B_0\", \"ABE\")","v":16.55},{"$f":"RTD(\"rtdtrading.rtdserver\",, \"BRFS3_B_0\", \"MAX\")","v":16.61},{"$f":"RTD(\"rtdtrading.rtdserver\",, \"BRFS3_B_0\", \"MIN\")","v":16.05},{"$f":"RTD(\"rtdtrading.rtdserver\",, \"BRFS3_B_0\", \"FEC\")","v":16.470000000000002},{"$f":"RTD(\"rtdtrading.rtdserver\",, \"BRFS3_B_0\", \"VAR\")","v":-2.246508803885817},{"$f":"RTD(\"rtdtrading.rtdserver\",, \"BRFS3_B_0\", \"VARPTS\")","v":-0.36999999999999389},{"$f":"RTD(\"rtdtrading.rtdserver\",, \"BRFS3_B_0\", \"VOL\")","v":40998140}]
[null,"CVCB3",{"$f":"RTD(\"rtdtrading.rtdserver\",, \"CVCB3_B_0\", \"ULT\")","v":7.9000000000000021},{"$f":"RTD(\"rtdtrading.rtdserver\",, \"CVCB3_B_0\", \"ABE\")","v":8.2899999999999991},{"$f":"RTD(\"rtdtrading.rtdserver\",, \"CVCB3_B_0\", \"MAX\")","v":8.43},{"$f":"RTD(\"rtdtrading.rtdserver\",, \"CVCB3_B_0\", \"MIN\")","v":7.8800000000000008},{"$f":"RTD(\"rtdtrading.rtdserver\",, \"CVCB3_B_0\", \"FEC\")","v":8.2200000000000006},{"$f":"RTD(\"rtdtrading.rtdserver\",, \"CVCB3_B_0\", \"VAR\")","v":-3.8929440389294285},{"$f":"RTD(\"rtdtrading.rtdserver\",, \"CVCB3_B_0\", \"VARPTS\")","v":-0.31999999999999851},{"$f":"RTD(\"rtdtrading.rtdserver\",, \"CVCB3_B_0\", \"VOL\")","v":55956218}]
[null,"CASH3",{"$f":"RTD(\"rtdtrading.rtdserver\",, \"CASH3_B_0\", \"ULT\")","v":1.34},{"$f":"RTD(\"rtdtrading.rtdserver\",, \"CASH3_B_0\", \"ABE\")","v":1.36},{"$f":"RTD(\"rtdtrading.rtdserver\",, \"CASH3_B_0\", \"MAX\")","v":1.39},{"$f":"RTD(\"rtdtrading.rtdserver\",, \"CASH3_B_0\", \"MIN\")","v":1.33},{"$f":"RTD(\"rtdtrading.rtdserver\",, \"CASH3_B_0\", \"FEC\")","v":1.36},{"$f":"RTD(\"rtdtrading.rtdserver\",, \"CASH3_B_0\", \"VAR\")","v":-1.4705882352941302},{"$f":"RTD(\"rtdtrading.rtdserver\",, \"CASH3_B_0\", \"VARPTS\")","v":-2.0000000000000018E-2},{"$f":"RTD(\"rtdtrading.rtdserver\",, \"CASH3_B_0\", \"VOL\")","v":19715677}]
[null,"AZUL4",{"$f":"RTD(\"rtdtrading.rtdserver\",, \"AZUL4_B_0\", \"ULT\")","v":17.529999999999966},{"$f":"RTD(\"rtdtrading.rtdserver\",, \"AZUL4_B_0\", \"ABE\")","v":18.3},{"$f":"RTD(\"rtdtrading.rtdserver\",, \"AZUL4_B_0\", \"MAX\")","v":18.61},{"$f":"RTD(\"rtdtrading.rtdserver\",, \"AZUL4_B_0\", \"MIN\")","v":17.499999999999968},{"$f":"RTD(\"rtdtrading.rtdserver\",, \"AZUL4_B_0\", \"FEC\")","v":18.23},{"$f":"RTD(\"rtdtrading.rtdserver\",, \"AZUL4_B_0\", \"VAR\")","v":-3.8398244651674958},{"$f":"RTD(\"rtdtrading.rtdserver\",, \"AZUL4_B_0\", \"VARPTS\")","v":-0.70000000000003482},{"$f":"RTD(\"rtdtrading.rtdserver\",, \"AZUL4_B_0\", \"VOL\")","v":82822952}]
[null,"ECOR3",{"$f":"RTD(\"rtdtrading.rtdserver\",, \"ECOR3_B_0\", \"ULT\")","v":6.13},{"$f":"RTD(\"rtdtrading.rtdserver\",, \"ECOR3_B_0\", \"ABE\")","v":6.21},{"$f":"RTD(\"rtdtrading.rtdserver\",, \"ECOR3_B_0\", \"MAX\")","v":6.26},{"$f":"RTD(\"rtdtrading.rtdserver\",, \"ECOR3_B_0\", \"MIN\")","v":6.1},{"$f":"RTD(\"rtdtrading.rtdserver\",, \"ECOR3_B_0\", \"FEC\")","v":6.19},{"$f":"RTD(\"rtdtrading.rtdserver\",, \"ECOR3_B_0\", \"VAR\")","v":-0.96930533117932782},{"$f":"RTD(\"rtdtrading.rtdserver\",, \"ECOR3_B_0\", \"VARPTS\")","v":-6.0000000000000497E-2},{"$f":"RTD(\"rtdtrading.rtdserver\",, \"ECOR3_B_0\", \"VOL\")","v":5708984}]
[null,"MRVE3",{"$f":"RTD(\"rtdtrading.rtdserver\",, \"MRVE3_B_0\", \"ULT\")","v":10.25},{"$f":"RTD(\"rtdtrading.rtdserver\",, \"MRVE3_B_0\", \"ABE\")","v":10.31},{"$f":"RTD(\"rtdtrading.rtdserver\",, \"MRVE3_B_0\", \"MAX\")","v":10.65},{"$f":"RTD(\"rtdtrading.rtdserver\",, \"MRVE3_B_0\", \"MIN\")","v":10.18},{"$f":"RTD(\"rtdtrading.rtdserver\",, \"MRVE3_B_0\", \"FEC\")","v":10.26},{"$f":"RTD(\"rtdtrading.rtdserver\",, \"MRVE3_B_0\", \"VAR\")","v":-9.746588693957392E-2},{"$f":"RTD(\"rtdtrading.rtdserver\",, \"MRVE3_B_0\", \"VARPTS\")","v":-9.9999999999997868E-3},{"$f":"RTD(\"rtdtrading.rtdserver\",, \"MRVE3_B_0\", \"VOL\")","v":39634808}]
[null,"DXCO3",{"$f":"RTD(\"rtdtrading.rtdserver\",, \"DXCO3_B_0\", \"ULT\")","v":10.74},{"$f":"RTD(\"rtdtrading.rtdserver\",, \"DXCO3_B_0\", \"ABE\")","v":10.85},{"$f":"RTD(\"rtdtrading.rtdserver\",, \"DXCO3_B_0\", \"MAX\")","v":10.95},{"$f":"RTD(\"rtdtrading.rtdserver\",, \"DXCO3_B_0\", \"MIN\")","v":10.73},{"$f":"RTD(\"rtdtrading.rtdserver\",, \"DXCO3_B_0\", \"FEC\")","v":10.8},{"$f":"RTD(\"rtdtrading.rtdserver\",, \"DXCO3_B_0\", \"VAR\")","v":-0.55555555555557135},{"$f":"RTD(\"rtdtrading.rtdserver\",, \"DXCO3_B_0\", \"VARPTS\")","v":-6.0000000000000497E-2},{"$f":"RTD(\"rtdtrading.rtdserver\",, \"DXCO3_B_0\", \"VOL\")","v":7761307}]
[null,"ABEV3",{"$f":"RTD(\"rtdtrading.rtdserver\",, \"ABEV3_B_0\", \"ULT\")","v":15.68},{"$f":"RTD(\"rtdtrading.rtdserver\",, \"ABEV3_B_0\", \"ABE\")","v":15.89},{"$f":"RTD(\"rtdtrading.rtdserver\",, \"ABEV3_B_0\", \"MAX\")","v":15.9},{"$f":"RTD(\"rtdtrading.rtdserver\",, \"ABEV3_B_0\", \"MIN\")","v":15.68},{"$f":"RTD(\"rtdtrading.rtdserver\",, \"ABEV3_B_0\", \"FEC\")","v":15.82},{"$f":"RTD(\"rtdtrading.rtdserver\",, \"ABEV3_B_0\", \"VAR\")","v":-0.88495575221239164},{"$f":"RTD(\"rtdtrading.rtdserver\",, \"ABEV3_B_0\", \"VARPTS\")","v":-0.14000000000000057},{"$f":"RTD(\"rtdtrading.rtdserver\",, \"ABEV3_B_0\", \"VOL\")","v":63533250}]
[null,"HAPV3",{"$f":"RTD(\"rtdtrading.rtdserver\",, \"HAPV3_B_0\", \"ULT\")","v":8.09},{"$f":"RTD(\"rtdtrading.rtdserver\",, \"HAPV3_B_0\", \"ABE\")","v":8.16},{"$f":"RTD(\"rtdtrading.rtdserver\",, \"HAPV3_B_0\", \"MAX\")","v":8.33},{"$f":"RTD(\"rtdtrading.rtdserver\",, \"HAPV3_B_0\", \"MIN\")","v":7.97},{"$f":"RTD(\"rtdtrading.rtdserver\",, \"HAPV3_B_0\", \"FEC\")","v":8.07},{"$f":"RTD(\"rtdtrading.rtdserver\",, \"HAPV3_B_0\", \"VAR\")","v":0.24783147459726251},{"$f":"RTD(\"rtdtrading.rtdserver\",, \"HAPV3_B_0\", \"VARPTS\")","v":1.9999999999999574E-2},{"$f":"RTD(\"rtdtrading.rtdserver\",, \"HAPV3_B_0\", \"VOL\")","v":224251769}]
[null,"SULA11",{"$f":"RTD(\"rtdtrading.rtdserver\",, \"SULA11_B_0\", \"ULT\")","v":24.819999999999975},{"$f":"RTD(\"rtdtrading.rtdserver\",, \"SULA11_B_0\", \"ABE\")","v":25.37},{"$f":"RTD(\"rtdtrading.rtdserver\",, \"SULA11_B_0\", \"MAX\")","v":25.68},{"$f":"RTD(\"rtdtrading.rtdserver\",, \"SULA11_B_0\", \"MIN\")","v":24.809999999999988},{"$f":"RTD(\"rtdtrading.rtdserver\",, \"SULA11_B_0\", \"FEC\")","v":25.34},{"$f":"RTD(\"rtdtrading.rtdserver\",, \"SULA11_B_0\", \"VAR\")","v":-2.052091554854087},{"$f":"RTD(\"rtdtrading.rtdserver\",, \"SULA11_B_0\", \"VARPTS\")","v":-0.52000000000002444},{"$f":"RTD(\"rtdtrading.rtdserver\",, \"SULA11_B_0\", \"VOL\")","v":8019000}]
[null,"TOTS3",{"$f":"RTD(\"rtdtrading.rtdserver\",, \"TOTS3_B_0\", \"ULT\")","v":30.269999999999989},{"$f":"RTD(\"rtdtrading.rtdserver\",, \"TOTS3_B_0\", \"ABE\")","v":31},{"$f":"RTD(\"rtdtrading.rtdserver\",, \"TOTS3_B_0\", \"MAX\")","v":31},{"$f":"RTD(\"rtdtrading.rtdserver\",, \"TOTS3_B_0\", \"MIN\")","v":30.27},{"$f":"RTD(\"rtdtrading.rtdserver\",, \"TOTS3_B_0\", \"FEC\")","v":30.93},{"$f":"RTD(\"rtdtrading.rtdserver\",, \"TOTS3_B_0\", \"VAR\")","v":-2.1338506304558962},{"$f":"RTD(\"rtdtrading.rtdserver\",, \"TOTS3_B_0\", \"VARPTS\")","v":-0.6600000000000108},{"$f":"RTD(\"rtdtrading.rtdserver\",, \"TOTS3_B_0\", \"VOL\")","v":27272183}]
[null,"MULT3",{"$f":"RTD(\"rtdtrading.rtdserver\",, \"MULT3_B_0\", \"ULT\")","v":25.480000000000004},{"$f":"RTD(\"rtdtrading.rtdserver\",, \"MULT3_B_0\", \"ABE\")","v":25.61},{"$f":"RTD(\"rtdtrading.rtdserver\",, \"MULT3_B_0\", \"MAX\")","v":25.8},{"$f":"RTD(\"rtdtrading.rtdserver\",, \"MULT3_B_0\", \"MIN\")","v":25.41},{"$f":"RTD(\"rtdtrading.rtdserver\",, \"MULT3_B_0\", \"FEC\")","v":25.5},{"$f":"RTD(\"rtdtrading.rtdserver\",, \"MULT3_B_0\", \"VAR\")","v":-7.8431372549005118E-2},{"$f":"RTD(\"rtdtrading.rtdserver\",, \"MULT3_B_0\", \"VARPTS\")","v":-1.9999999999996021E-2},{"$f":"RTD(\"rtdtrading.rtdserver\",, \"MULT3_B_0\", \"VOL\")","v":9874848}]
[null,"ALPA4",{"$f":"RTD(\"rtdtrading.rtdserver\",, \"ALPA4_B_0\", \"ULT\")","v":21.870000000000022},{"$f":"RTD(\"rtdtrading.rtdserver\",, \"ALPA4_B_0\", \"ABE\")","v":20.92},{"$f":"RTD(\"rtdtrading.rtdserver\",, \"ALPA4_B_0\", \"MAX\")","v":22.070000000000018},{"$f":"RTD(\"rtdtrading.rtdserver\",, \"ALPA4_B_0\", \"MIN\")","v":20.73},{"$f":"RTD(\"rtdtrading.rtdserver\",, \"ALPA4_B_0\", \"FEC\")","v":20.900000000000002},{"$f":"RTD(\"rtdtrading.rtdserver\",, \"ALPA4_B_0\", \"VAR\")","v":4.6411483253589552},{"$f":"RTD(\"rtdtrading.rtdserver\",, \"ALPA4_B_0\", \"VARPTS\")","v":0.97000000000002018},{"$f":"RTD(\"rtdtrading.rtdserver\",, \"ALPA4_B_0\", \"VOL\")","v":92286258}]
[null,"ENGI11",{"$f":"RTD(\"rtdtrading.rtdserver\",, \"ENGI11_B_0\", \"ULT\")","v":42.809999999999896},{"$f":"RTD(\"rtdtrading.rtdserver\",, \"ENGI11_B_0\", \"ABE\")","v":42.92},{"$f":"RTD(\"rtdtrading.rtdserver\",, \"ENGI11_B_0\", \"MAX\")","v":43.59},{"$f":"RTD(\"rtdtrading.rtdserver\",, \"ENGI11_B_0\", \"MIN\")","v":42.73},{"$f":"RTD(\"rtdtrading.rtdserver\",, \"ENGI11_B_0\", \"FEC\")","v":42.800000000000004},{"$f":"RTD(\"rtdtrading.rtdserver\",, \"ENGI11_B_0\", \"VAR\")","v":2.3364485981062444E-2},{"$f":"RTD(\"rtdtrading.rtdserver\",, \"ENGI11_B_0\", \"VARPTS\")","v":9.9999999998914291E-3},{"$f":"RTD(\"rtdtrading.rtdserver\",, \"ENGI11_B_0\", \"VOL\")","v":53614726}]
[null,"BPAC11",{"$f":"RTD(\"rtdtrading.rtdserver\",, \"BPAC11_B_0\", \"ULT\")","v":25.609999999999964},{"$f":"RTD(\"rtdtrading.rtdserver\",, \"BPAC11_B_0\", \"ABE\")","v":26},{"$f":"RTD(\"rtdtrading.rtdserver\",, \"BPAC11_B_0\", \"MAX\")","v":26.11},{"$f":"RTD(\"rtdtrading.rtdserver\",, \"BPAC11_B_0\", \"MIN\")","v":25.57},{"$f":"RTD(\"rtdtrading.rtdserver\",, \"BPAC11_B_0\", \"FEC\")","v":25.880000000000003},{"$f":"RTD(\"rtdtrading.rtdserver\",, \"BPAC11_B_0\", \"VAR\")","v":-1.0432766615148381},{"$f":"RTD(\"rtdtrading.rtdserver\",, \"BPAC11_B_0\", \"VARPTS\")","v":-0.27000000000003865},{"$f":"RTD(\"rtdtrading.rtdserver\",, \"BPAC11_B_0\", \"VOL\")","v":78072416}]
[null,"AMER3",{"$f":"RTD(\"rtdtrading.rtdserver\",, \"AMER3_B_0\", \"ULT\")","v":18.020000000000003},{"$f":"RTD(\"rtdtrading.rtdserver\",, \"AMER3_B_0\", \"ABE\")","v":19},{"$f":"RTD(\"rtdtrading.rtdserver\",, \"AMER3_B_0\", \"MAX\")","v":19.09},{"$f":"RTD(\"rtdtrading.rtdserver\",, \"AMER3_B_0\", \"MIN\")","v":17.93999999999998},{"$f":"RTD(\"rtdtrading.rtdserver\",, \"AMER3_B_0\", \"FEC\")","v":18.79},{"$f":"RTD(\"rtdtrading.rtdserver\",, \"AMER3_B_0\", \"VAR\")","v":-4.0979244278871505},{"$f":"RTD(\"rtdtrading.rtdserver\",, \"AMER3_B_0\", \"VARPTS\")","v":-0.76999999999999602},{"$f":"RTD(\"rtdtrading.rtdserver\",, \"AMER3_B_0\", \"VOL\")","v":249343594}]
[null,"BBSE3",{"$f":"RTD(\"rtdtrading.rtdserver\",, \"BBSE3_B_0\", \"ULT\")","v":28.330000000000009},{"$f":"RTD(\"rtdtrading.rtdserver\",, \"BBSE3_B_0\", \"ABE\")","v":28.23},{"$f":"RTD(\"rtdtrading.rtdserver\",, \"BBSE3_B_0\", \"MAX\")","v":28.54},{"$f":"RTD(\"rtdtrading.rtdserver\",, \"BBSE3_B_0\", \"MIN\")","v":28.23},{"$f":"RTD(\"rtdtrading.rtdserver\",, \"BBSE3_B_0\", \"FEC\")","v":28.150000000000002},{"$f":"RTD(\"rtdtrading.rtdserver\",, \"BBSE3_B_0\", \"VAR\")","v":0.6394316163410565},{"$f":"RTD(\"rtdtrading.rtdserver\",, \"BBSE3_B_0\", \"VARPTS\")","v":0.18000000000000682},{"$f":"RTD(\"rtdtrading.rtdserver\",, \"BBSE3_B_0\", \"VOL\")","v":26719723}]
[null,"JHSF3",{"$f":"RTD(\"rtdtrading.rtdserver\",, \"JHSF3_B_0\", \"ULT\")","v":6.51},{"$f":"RTD(\"rtdtrading.rtdserver\",, \"JHSF3_B_0\", \"ABE\")","v":6.58},{"$f":"RTD(\"rtdtrading.rtdserver\",, \"JHSF3_B_0\", \"MAX\")","v":6.63},{"$f":"RTD(\"rtdtrading.rtdserver\",, \"JHSF3_B_0\", \"MIN\")","v":6.51},{"$f":"RTD(\"rtdtrading.rtdserver\",, \"JHSF3_B_0\", \"FEC\")","v":6.5500000000000007},{"$f":"RTD(\"rtdtrading.rtdserver\",, \"JHSF3_B_0\", \"VAR\")","v":-0.61068702290077681},{"$f":"RTD(\"rtdtrading.rtdserver\",, \"JHSF3_B_0\", \"VARPTS\")","v":-4.0000000000000924E-2},{"$f":"RTD(\"rtdtrading.rtdserver\",, \"JHSF3_B_0\", \"VOL\")","v":3000592}]
[null,"VALE3",{"$f":"RTD(\"rtdtrading.rtdserver\",, \"VALE3_B_0\", \"ULT\")","v":68.819999999999709},{"$f":"RTD(\"rtdtrading.rtdserver\",, \"VALE3_B_0\", \"ABE\")","v":69.650000000000006},{"$f":"RTD(\"rtdtrading.rtdserver\",, \"VALE3_B_0\", \"MAX\")","v":71.2},{"$f":"RTD(\"rtdtrading.rtdserver\",, \"VALE3_B_0\", \"MIN\")","v":68.709999999999809},{"$f":"RTD(\"rtdtrading.rtdserver\",, \"VALE3_B_0\", \"FEC\")","v":69.27000000000001},{"$f":"RTD(\"rtdtrading.rtdserver\",, \"VALE3_B_0\", \"VAR\")","v":-0.64963187527111188},{"$f":"RTD(\"rtdtrading.rtdserver\",, \"VALE3_B_0\", \"VARPTS\")","v":-0.45000000000030127},{"$f":"RTD(\"rtdtrading.rtdserver\",, \"VALE3_B_0\", \"VOL\")","v":1083210323}]
[null,"BIDI11",{"$f":"RTD(\"rtdtrading.rtdserver\",, \"BIDI11_B_0\", \"ULT\")","v":10.4},{"$f":"RTD(\"rtdtrading.rtdserver\",, \"BIDI11_B_0\", \"ABE\")","v":10.07},{"$f":"RTD(\"rtdtrading.rtdserver\",, \"BIDI11_B_0\", \"MAX\")","v":10.4},{"$f":"RTD(\"rtdtrading.rtdserver\",, \"BIDI11_B_0\", \"MIN\")","v":9.7799999999999994},{"$f":"RTD(\"rtdtrading.rtdserver\",, \"BIDI11_B_0\", \"FEC\")","v":10.4},{"$f":"RTD(\"rtdtrading.rtdserver\",, \"BIDI11_B_0\", \"VAR\")","v":0},{"$f":"RTD(\"rtdtrading.rtdserver\",, \"BIDI11_B_0\", \"VARPTS\")","v":0},{"$f":"RTD(\"rtdtrading.rtdserver\",, \"BIDI11_B_0\", \"VOL\")","v":815436264}]
[null,"FLRY3",{"$f":"RTD(\"rtdtrading.rtdserver\",, \"FLRY3_B_0\", \"ULT\")","v":16.629999999999985},{"$f":"RTD(\"rtdtrading.rtdserver\",, \"FLRY3_B_0\", \"ABE\")","v":16.760000000000002},{"$f":"RTD(\"rtdtrading.rtdserver\",, \"FLRY3_B_0\", \"MAX\")","v":17.05},{"$f":"RTD(\"rtdtrading.rtdserver\",, \"FLRY3_B_0\", \"MIN\")","v":16.54},{"$f":"RTD(\"rtdtrading.rtdserver\",, \"FLRY3_B_0\", \"FEC\")","v":16.75},{"$f":"RTD(\"rtdtrading.rtdserver\",, \"FLRY3_B_0\", \"VAR\")","v":-0.71641791044785919},{"$f":"RTD(\"rtdtrading.rtdserver\",, \"FLRY3_B_0\", \"VARPTS\")","v":-0.12000000000001521},{"$f":"RTD(\"rtdtrading.rtdserver\",, \"FLRY3_B_0\", \"VOL\")","v":10175561}]
[null,"LREN3",{"$f":"RTD(\"rtdtrading.rtdserver\",, \"LREN3_B_0\", \"ULT\")","v":27.600000000000016},{"$f":"RTD(\"rtdtrading.rtdserver\",, \"LREN3_B_0\", \"ABE\")","v":27.67},{"$f":"RTD(\"rtdtrading.rtdserver\",, \"LREN3_B_0\", \"MAX\")","v":27.99},{"$f":"RTD(\"rtdtrading.rtdserver\",, \"LREN3_B_0\", \"MIN\")","v":27.42},{"$f":"RTD(\"rtdtrading.rtdserver\",, \"LREN3_B_0\", \"FEC\")","v":27.6},{"$f":"RTD(\"rtdtrading.rtdserver\",, \"LREN3_B_0\", \"VAR\")","v":4.2632564145606011E-14},{"$f":"RTD(\"rtdtrading.rtdserver\",, \"LREN3_B_0\", \"VARPTS\")","v":1.4210854715202004E-14},{"$f":"RTD(\"rtdtrading.rtdserver\",, \"LREN3_B_0\", \"VOL\")","v":69015590}]
[null,"B3SA3",{"$f":"RTD(\"rtdtrading.rtdserver\",, \"B3SA3_B_0\", \"ULT\")","v":12.520000000000001},{"$f":"RTD(\"rtdtrading.rtdserver\",, \"B3SA3_B_0\", \"ABE\")","v":12.82},{"$f":"RTD(\"rtdtrading.rtdserver\",, \"B3SA3_B_0\", \"MAX\")","v":12.85},{"$f":"RTD(\"rtdtrading.rtdserver\",, \"B3SA3_B_0\", \"MIN\")","v":12.5},{"$f":"RTD(\"rtdtrading.rtdserver\",, \"B3SA3_B_0\", \"FEC\")","v":12.770000000000001},{"$f":"RTD(\"rtdtrading.rtdserver\",, \"B3SA3_B_0\", \"VAR\")","v":-1.9577133907595936},{"$f":"RTD(\"rtdtrading.rtdserver\",, \"B3SA3_B_0\", \"VARPTS\")","v":-0.25},{"$f":"RTD(\"rtdtrading.rtdserver\",, \"B3SA3_B_0\", \"VOL\")","v":82877164}]
[null,"WEGE3",{"$f":"RTD(\"rtdtrading.rtdserver\",, \"WEGE3_B_0\", \"ULT\")","v":28.830000000000041},{"$f":"RTD(\"rtdtrading.rtdserver\",, \"WEGE3_B_0\", \"ABE\")","v":29.18},{"$f":"RTD(\"rtdtrading.rtdserver\",, \"WEGE3_B_0\", \"MAX\")","v":29.23},{"$f":"RTD(\"rtdtrading.rtdserver\",, \"WEGE3_B_0\", \"MIN\")","v":28.61},{"$f":"RTD(\"rtdtrading.rtdserver\",, \"WEGE3_B_0\", \"FEC\")","v":28.950000000000003},{"$f":"RTD(\"rtdtrading.rtdserver\",, \"WEGE3_B_0\", \"VAR\")","v":-0.41450777202058475},{"$f":"RTD(\"rtdtrading.rtdserver\",, \"WEGE3_B_0\", \"VARPTS\")","v":-0.11999999999996191},{"$f":"RTD(\"rtdtrading.rtdserver\",, \"WEGE3_B_0\", \"VOL\")","v":48809144}]
[null,"TIMS3",{"$f":"RTD(\"rtdtrading.rtdserver\",, \"TIMS3_B_0\", \"ULT\")","v":12.02},{"$f":"RTD(\"rtdtrading.rtdserver\",, \"TIMS3_B_0\", \"ABE\")","v":12.1},{"$f":"RTD(\"rtdtrading.rtdserver\",, \"TIMS3_B_0\", \"MAX\")","v":12.12},{"$f":"RTD(\"rtdtrading.rtdserver\",, \"TIMS3_B_0\", \"MIN\")","v":11.98},{"$f":"RTD(\"rtdtrading.rtdserver\",, \"TIMS3_B_0\", \"FEC\")","v":12.06},{"$f":"RTD(\"rtdtrading.rtdserver\",, \"TIMS3_B_0\", \"VAR\")","v":-0.33167495854064555},{"$f":"RTD(\"rtdtrading.rtdserver\",, \"TIMS3_B_0\", \"VARPTS\")","v":-4.0000000000000924E-2},{"$f":"RTD(\"rtdtrading.rtdserver\",, \"TIMS3_B_0\", \"VOL\")","v":15219825}]
[null,"HYPE3",{"$f":"RTD(\"rtdtrading.rtdserver\",, \"HYPE3_B_0\", \"ULT\")","v":43.910000000000025},{"$f":"RTD(\"rtdtrading.rtdserver\",, \"HYPE3_B_0\", \"ABE\")","v":44.06},{"$f":"RTD(\"rtdtrading.rtdserver\",, \"HYPE3_B_0\", \"MAX\")","v":44.25},{"$f":"RTD(\"rtdtrading.rtdserver\",, \"HYPE3_B_0\", \"MIN\")","v":43.64},{"$f":"RTD(\"rtdtrading.rtdserver\",, \"HYPE3_B_0\", \"FEC\")","v":43.9},{"$f":"RTD(\"rtdtrading.rtdserver\",, \"HYPE3_B_0\", \"VAR\")","v":2.2779043280252154E-2},{"$f":"RTD(\"rtdtrading.rtdserver\",, \"HYPE3_B_0\", \"VARPTS\")","v":1.0000000000026432E-2},{"$f":"RTD(\"rtdtrading.rtdserver\",, \"HYPE3_B_0\", \"VOL\")","v":18468322}]
[null,"RDOR3",{"$f":"RTD(\"rtdtrading.rtdserver\",, \"RDOR3_B_0\", \"ULT\")","v":33.849999999999987},{"$f":"RTD(\"rtdtrading.rtdserver\",, \"RDOR3_B_0\", \"ABE\")","v":34.619999999999997},{"$f":"RTD(\"rtdtrading.rtdserver\",, \"RDOR3_B_0\", \"MAX\")","v":35.130000000000003},{"$f":"RTD(\"rtdtrading.rtdserver\",, \"RDOR3_B_0\", \"MIN\")","v":33.83},{"$f":"RTD(\"rtdtrading.rtdserver\",, \"RDOR3_B_0\", \"FEC\")","v":34.450000000000003},{"$f":"RTD(\"rtdtrading.rtdserver\",, \"RDOR3_B_0\", \"VAR\")","v":-1.7416545718432985},{"$f":"RTD(\"rtdtrading.rtdserver\",, \"RDOR3_B_0\", \"VARPTS\")","v":-0.60000000000001563},{"$f":"RTD(\"rtdtrading.rtdserver\",, \"RDOR3_B_0\", \"VOL\")","v":19535045}]
[null,"RADL3",{"$f":"RTD(\"rtdtrading.rtdserver\",, \"RADL3_B_0\", \"ULT\")","v":22.309999999999988},{"$f":"RTD(\"rtdtrading.rtdserver\",, \"RADL3_B_0\", \"ABE\")","v":22.78},{"$f":"RTD(\"rtdtrading.rtdserver\",, \"RADL3_B_0\", \"MAX\")","v":22.85},{"$f":"RTD(\"rtdtrading.rtdserver\",, \"RADL3_B_0\", \"MIN\")","v":22.27},{"$f":"RTD(\"rtdtrading.rtdserver\",, \"RADL3_B_0\", \"FEC\")","v":22.62},{"$f":"RTD(\"rtdtrading.rtdserver\",, \"RADL3_B_0\", \"VAR\")","v":-1.3704686118479685},{"$f":"RTD(\"rtdtrading.rtdserver\",, \"RADL3_B_0\", \"VARPTS\")","v":-0.31000000000001293},{"$f":"RTD(\"rtdtrading.rtdserver\",, \"RADL3_B_0\", \"VOL\")","v":12659965}]
[null,"ENBR3",{"$f":"RTD(\"rtdtrading.rtdserver\",, \"ENBR3_B_0\", \"ULT\")","v":23.2},{"$f":"RTD(\"rtdtrading.rtdserver\",, \"ENBR3_B_0\", \"ABE\")","v":23.14},{"$f":"RTD(\"rtdtrading.rtdserver\",, \"ENBR3_B_0\", \"MAX\")","v":23.3},{"$f":"RTD(\"rtdtrading.rtdserver\",, \"ENBR3_B_0\", \"MIN\")","v":23.08},{"$f":"RTD(\"rtdtrading.rtdserver\",, \"ENBR3_B_0\", \"FEC\")","v":23.12},{"$f":"RTD(\"rtdtrading.rtdserver\",, \"ENBR3_B_0\", \"VAR\")","v":0.34602076124565428},{"$f":"RTD(\"rtdtrading.rtdserver\",, \"ENBR3_B_0\", \"VARPTS\")","v":7.9999999999998295E-2},{"$f":"RTD(\"rtdtrading.rtdserver\",, \"ENBR3_B_0\", \"VOL\")","v":12918337}]
[null,"GOLL4",{"$f":"RTD(\"rtdtrading.rtdserver\",, \"GOLL4_B_0\", \"ULT\")","v":11.510000000000002},{"$f":"RTD(\"rtdtrading.rtdserver\",, \"GOLL4_B_0\", \"ABE\")","v":12.01},{"$f":"RTD(\"rtdtrading.rtdserver\",, \"GOLL4_B_0\", \"MAX\")","v":12.2},{"$f":"RTD(\"rtdtrading.rtdserver\",, \"GOLL4_B_0\", \"MIN\")","v":11.48},{"$f":"RTD(\"rtdtrading.rtdserver\",, \"GOLL4_B_0\", \"FEC\")","v":11.92},{"$f":"RTD(\"rtdtrading.rtdserver\",, \"GOLL4_B_0\", \"VAR\")","v":-3.4395973154362309},{"$f":"RTD(\"rtdtrading.rtdserver\",, \"GOLL4_B_0\", \"VARPTS\")","v":-0.40999999999999837},{"$f":"RTD(\"rtdtrading.rtdserver\",, \"GOLL4_B_0\", \"VOL\")","v":69130877}]
[null,"MRFG3",{"$f":"RTD(\"rtdtrading.rtdserver\",, \"MRFG3_B_0\", \"ULT\")","v":14.089999999999995},{"$f":"RTD(\"rtdtrading.rtdserver\",, \"MRFG3_B_0\", \"ABE\")","v":14.37},{"$f":"RTD(\"rtdtrading.rtdserver\",, \"MRFG3_B_0\", \"MAX\")","v":14.46},{"$f":"RTD(\"rtdtrading.rtdserver\",, \"MRFG3_B_0\", \"MIN\")","v":13.86},{"$f":"RTD(\"rtdtrading.rtdserver\",, \"MRFG3_B_0\", \"FEC\")","v":14.31},{"$f":"RTD(\"rtdtrading.rtdserver\",, \"MRFG3_B_0\", \"VAR\")","v":-1.5373864430468558},{"$f":"RTD(\"rtdtrading.rtdserver\",, \"MRFG3_B_0\", \"VARPTS\")","v":-0.22000000000000597},{"$f":"RTD(\"rtdtrading.rtdserver\",, \"MRFG3_B_0\", \"VOL\")","v":47225217}]
[null,"CCRO3",{"$f":"RTD(\"rtdtrading.rtdserver\",, \"CCRO3_B_0\", \"ULT\")","v":13.950000000000001},{"$f":"RTD(\"rtdtrading.rtdserver\",, \"CCRO3_B_0\", \"ABE\")","v":14.07},{"$f":"RTD(\"rtdtrading.rtdserver\",, \"CCRO3_B_0\", \"MAX\")","v":14.12},{"$f":"RTD(\"rtdtrading.rtdserver\",, \"CCRO3_B_0\", \"MIN\")","v":13.94},{"$f":"RTD(\"rtdtrading.rtdserver\",, \"CCRO3_B_0\", \"FEC\")","v":14.01},{"$f":"RTD(\"rtdtrading.rtdserver\",, \"CCRO3_B_0\", \"VAR\")","v":-0.42826552462526024},{"$f":"RTD(\"rtdtrading.rtdserver\",, \"CCRO3_B_0\", \"VARPTS\")","v":-5.9999999999998721E-2},{"$f":"RTD(\"rtdtrading.rtdserver\",, \"CCRO3_B_0\", \"VOL\")","v":32521020}]
[null,"BRKM5",{"$f":"RTD(\"rtdtrading.rtdserver\",, \"BRKM5_B_0\", \"ULT\")","v":32.850000000000065},{"$f":"RTD(\"rtdtrading.rtdserver\",, \"BRKM5_B_0\", \"ABE\")","v":33.340000000000003},{"$f":"RTD(\"rtdtrading.rtdserver\",, \"BRKM5_B_0\", \"MAX\")","v":33.520000000000003},{"$f":"RTD(\"rtdtrading.rtdserver\",, \"BRKM5_B_0\", \"MIN\")","v":32.82},{"$f":"RTD(\"rtdtrading.rtdserver\",, \"BRKM5_B_0\", \"FEC\")","v":33.17},{"$f":"RTD(\"rtdtrading.rtdserver\",, \"BRKM5_B_0\", \"VAR\")","v":-0.96472716309899909},{"$f":"RTD(\"rtdtrading.rtdserver\",, \"BRKM5_B_0\", \"VARPTS\")","v":-0.31999999999993634},{"$f":"RTD(\"rtdtrading.rtdserver\",, \"BRKM5_B_0\", \"VOL\")","v":13520978}]
[null,"SANB11",{"$f":"RTD(\"rtdtrading.rtdserver\",, \"SANB11_B_0\", \"ULT\")","v":30.249999999999989},{"$f":"RTD(\"rtdtrading.rtdserver\",, \"SANB11_B_0\", \"ABE\")","v":30.38},{"$f":"RTD(\"rtdtrading.rtdserver\",, \"SANB11_B_0\", \"MAX\")","v":30.65},{"$f":"RTD(\"rtdtrading.rtdserver\",, \"SANB11_B_0\", \"MIN\")","v":30.249999999999993},{"$f":"RTD(\"rtdtrading.rtdserver\",, \"SANB11_B_0\", \"FEC\")","v":30.23},{"$f":"RTD(\"rtdtrading.rtdserver\",, \"SANB11_B_0\", \"VAR\")","v":6.6159444260620148E-2},{"$f":"RTD(\"rtdtrading.rtdserver\",, \"SANB11_B_0\", \"VARPTS\")","v":1.9999999999988916E-2},{"$f":"RTD(\"rtdtrading.rtdserver\",, \"SANB11_B_0\", \"VOL\")","v":12720024}]
[null,"NTCO3",{"$f":"RTD(\"rtdtrading.rtdserver\",, \"NTCO3_B_0\", \"ULT\")","v":15.630000000000004},{"$f":"RTD(\"rtdtrading.rtdserver\",, \"NTCO3_B_0\", \"ABE\")","v":16.7},{"$f":"RTD(\"rtdtrading.rtdserver\",, \"NTCO3_B_0\", \"MAX\")","v":16.78},{"$f":"RTD(\"rtdtrading.rtdserver\",, \"NTCO3_B_0\", \"MIN\")","v":15.560000000000006},{"$f":"RTD(\"rtdtrading.rtdserver\",, \"NTCO3_B_0\", \"FEC\")","v":16.64},{"$f":"RTD(\"rtdtrading.rtdserver\",, \"NTCO3_B_0\", \"VAR\")","v":-6.0697115384615188},{"$f":"RTD(\"rtdtrading.rtdserver\",, \"NTCO3_B_0\", \"VARPTS\")","v":-1.0099999999999962},{"$f":"RTD(\"rtdtrading.rtdserver\",, \"NTCO3_B_0\", \"VOL\")","v":61229207}]
[null,"CYRE3",{"$f":"RTD(\"rtdtrading.rtdserver\",, \"CYRE3_B_0\", \"ULT\")","v":14.409999999999998},{"$f":"RTD(\"rtdtrading.rtdserver\",, \"CYRE3_B_0\", \"ABE\")","v":14.6},{"$f":"RTD(\"rtdtrading.rtdserver\",, \"CYRE3_B_0\", \"MAX\")","v":14.72},{"$f":"RTD(\"rtdtrading.rtdserver\",, \"CYRE3_B_0\", \"MIN\")","v":14.34},{"$f":"RTD(\"rtdtrading.rtdserver\",, \"CYRE3_B_0\", \"FEC\")","v":14.520000000000001},{"$f":"RTD(\"rtdtrading.rtdserver\",, \"CYRE3_B_0\", \"VAR\")","v":-0.75757575757577911},{"$f":"RTD(\"rtdtrading.rtdserver\",, \"CYRE3_B_0\", \"VARPTS\")","v":-0.11000000000000298},{"$f":"RTD(\"rtdtrading.rtdserver\",, \"CYRE3_B_0\", \"VOL\")","v":16425426}]
[null,"ELET3",{"$f":"RTD(\"rtdtrading.rtdserver\",, \"ELET3_B_0\", \"ULT\")","v":46.57999999999997},{"$f":"RTD(\"rtdtrading.rtdserver\",, \"ELET3_B_0\", \"ABE\")","v":47.09},{"$f":"RTD(\"rtdtrading.rtdserver\",, \"ELET3_B_0\", \"MAX\")","v":47.18},{"$f":"RTD(\"rtdtrading.rtdserver\",, \"ELET3_B_0\", \"MIN\")","v":46.41},{"$f":"RTD(\"rtdtrading.rtdserver\",, \"ELET3_B_0\", \"FEC\")","v":46.79},{"$f":"RTD(\"rtdtrading.rtdserver\",, \"ELET3_B_0\", \"VAR\")","v":-0.44881384911312239},{"$f":"RTD(\"rtdtrading.rtdserver\",, \"ELET3_B_0\", \"VARPTS\")","v":-0.21000000000002927},{"$f":"RTD(\"rtdtrading.rtdserver\",, \"ELET3_B_0\", \"VOL\")","v":73123685}]
[null,"IRBR3",{"$f":"RTD(\"rtdtrading.rtdserver\",, \"IRBR3_B_0\", \"ULT\")","v":1.95},{"$f":"RTD(\"rtdtrading.rtdserver\",, \"IRBR3_B_0\", \"ABE\")","v":2.0699999999999998},{"$f":"RTD(\"rtdtrading.rtdserver\",, \"IRBR3_B_0\", \"MAX\")","v":2.1},{"$f":"RTD(\"rtdtrading.rtdserver\",, \"IRBR3_B_0\", \"MIN\")","v":1.95},{"$f":"RTD(\"rtdtrading.rtdserver\",, \"IRBR3_B_0\", \"FEC\")","v":2.06},{"$f":"RTD(\"rtdtrading.rtdserver\",, \"IRBR3_B_0\", \"VAR\")","v":-5.3398058252427205},{"$f":"RTD(\"rtdtrading.rtdserver\",, \"IRBR3_B_0\", \"VARPTS\")","v":-0.1100000000000001},{"$f":"RTD(\"rtdtrading.rtdserver\",, \"IRBR3_B_0\", \"VOL\")","v":49574199}]
[null,"ELET6",{"$f":"RTD(\"rtdtrading.rtdserver\",, \"ELET6_B_0\", \"ULT\")","v":47.560000000000016},{"$f":"RTD(\"rtdtrading.rtdserver\",, \"ELET6_B_0\", \"ABE\")","v":47.93},{"$f":"RTD(\"rtdtrading.rtdserver\",, \"ELET6_B_0\", \"MAX\")","v":48.19},{"$f":"RTD(\"rtdtrading.rtdserver\",, \"ELET6_B_0\", \"MIN\")","v":47.23},{"$f":"RTD(\"rtdtrading.rtdserver\",, \"ELET6_B_0\", \"FEC\")","v":47.92},{"$f":"RTD(\"rtdtrading.rtdserver\",, \"ELET6_B_0\", \"VAR\")","v":-0.75125208681131994},{"$f":"RTD(\"rtdtrading.rtdserver\",, \"ELET6_B_0\", \"VARPTS\")","v":-0.35999999999998522},{"$f":"RTD(\"rtdtrading.rtdserver\",, \"ELET6_B_0\", \"VOL\")","v":37331340}]
[null,"PETZ3",{"$f":"RTD(\"rtdtrading.rtdserver\",, \"PETZ3_B_0\", \"ULT\")","v":10.639999999999999},{"$f":"RTD(\"rtdtrading.rtdserver\",, \"PETZ3_B_0\", \"ABE\")","v":10.97},{"$f":"RTD(\"rtdtrading.rtdserver\",, \"PETZ3_B_0\", \"MAX\")","v":11.15},{"$f":"RTD(\"rtdtrading.rtdserver\",, \"PETZ3_B_0\", \"MIN\")","v":10.5},{"$f":"RTD(\"rtdtrading.rtdserver\",, \"PETZ3_B_0\", \"FEC\")","v":10.93},{"$f":"RTD(\"rtdtrading.rtdserver\",, \"PETZ3_B_0\", \"VAR\")","v":-2.6532479414455707},{"$f":"RTD(\"rtdtrading.rtdserver\",, \"PETZ3_B_0\", \"VARPTS\")","v":-0.29000000000000092},{"$f":"RTD(\"rtdtrading.rtdserver\",, \"PETZ3_B_0\", \"VOL\")","v":77009297}]
[null,"CRFB3",{"$f":"RTD(\"rtdtrading.rtdserver\",, \"CRFB3_B_0\", \"ULT\")","v":20.03},{"$f":"RTD(\"rtdtrading.rtdserver\",, \"CRFB3_B_0\", \"ABE\")","v":20.18},{"$f":"RTD(\"rtdtrading.rtdserver\",, \"CRFB3_B_0\", \"MAX\")","v":20.37},{"$f":"RTD(\"rtdtrading.rtdserver\",, \"CRFB3_B_0\", \"MIN\")","v":19.959999999999997},{"$f":"RTD(\"rtdtrading.rtdserver\",, \"CRFB3_B_0\", \"FEC\")","v":20.080000000000002},{"$f":"RTD(\"rtdtrading.rtdserver\",, \"CRFB3_B_0\", \"VAR\")","v":-0.24900398406374791},{"$f":"RTD(\"rtdtrading.rtdserver\",, \"CRFB3_B_0\", \"VARPTS\")","v":-5.0000000000000711E-2},{"$f":"RTD(\"rtdtrading.rtdserver\",, \"CRFB3_B_0\", \"VOL\")","v":14902513}]
[null,"BEEF3",{"$f":"RTD(\"rtdtrading.rtdserver\",, \"BEEF3_B_0\", \"ULT\")","v":15.94},{"$f":"RTD(\"rtdtrading.rtdserver\",, \"BEEF3_B_0\", \"ABE\")","v":15.98},{"$f":"RTD(\"rtdtrading.rtdserver\",, \"BEEF3_B_0\", \"MAX\")","v":16.100000000000001},{"$f":"RTD(\"rtdtrading.rtdserver\",, \"BEEF3_B_0\", \"MIN\")","v":15.83},{"$f":"RTD(\"rtdtrading.rtdserver\",, \"BEEF3_B_0\", \"FEC\")","v":16.060000000000002},{"$f":"RTD(\"rtdtrading.rtdserver\",, \"BEEF3_B_0\", \"VAR\")","v":-0.74719800747199372},{"$f":"RTD(\"rtdtrading.rtdserver\",, \"BEEF3_B_0\", \"VARPTS\")","v":-0.12000000000000277},{"$f":"RTD(\"rtdtrading.rtdserver\",, \"BEEF3_B_0\", \"VOL\")","v":24593298}]
[null,"PCAR3",{"$f":"RTD(\"rtdtrading.rtdserver\",, \"PCAR3_B_0\", \"ULT\")","v":20.200000000000017},{"$f":"RTD(\"rtdtrading.rtdserver\",, \"PCAR3_B_0\", \"ABE\")","v":19.91},{"$f":"RTD(\"rtdtrading.rtdserver\",, \"PCAR3_B_0\", \"MAX\")","v":20.48},{"$f":"RTD(\"rtdtrading.rtdserver\",, \"PCAR3_B_0\", \"MIN\")","v":19.89},{"$f":"RTD(\"rtdtrading.rtdserver\",, \"PCAR3_B_0\", \"FEC\")","v":19.900000000000002},{"$f":"RTD(\"rtdtrading.rtdserver\",, \"PCAR3_B_0\", \"VAR\")","v":1.507537688442298},{"$f":"RTD(\"rtdtrading.rtdserver\",, \"PCAR3_B_0\", \"VARPTS\")","v":0.30000000000001492},{"$f":"RTD(\"rtdtrading.rtdserver\",, \"PCAR3_B_0\", \"VOL\")","v":35390884}]
[null,"RAIL3",{"$f":"RTD(\"rtdtrading.rtdserver\",, \"RAIL3_B_0\", \"ULT\")","v":20.179999999999968},{"$f":"RTD(\"rtdtrading.rtdserver\",, \"RAIL3_B_0\", \"ABE\")","v":20.49},{"$f":"RTD(\"rtdtrading.rtdserver\",, \"RAIL3_B_0\", \"MAX\")","v":20.52},{"$f":"RTD(\"rtdtrading.rtdserver\",, \"RAIL3_B_0\", \"MIN\")","v":20.149999999999999},{"$f":"RTD(\"rtdtrading.rtdserver\",, \"RAIL3_B_0\", \"FEC\")","v":20.290000000000003},{"$f":"RTD(\"rtdtrading.rtdserver\",, \"RAIL3_B_0\", \"VAR\")","v":-0.54213898472170285},{"$f":"RTD(\"rtdtrading.rtdserver\",, \"RAIL3_B_0\", \"VARPTS\")","v":-0.11000000000003496},{"$f":"RTD(\"rtdtrading.rtdserver\",, \"RAIL3_B_0\", \"VOL\")","v":47322151}]
[null,"YDUQ3",{"$f":"RTD(\"rtdtrading.rtdserver\",, \"YDUQ3_B_0\", \"ULT\")","v":12.780000000000001},{"$f":"RTD(\"rtdtrading.rtdserver\",, \"YDUQ3_B_0\", \"ABE\")","v":13},{"$f":"RTD(\"rtdtrading.rtdserver\",, \"YDUQ3_B_0\", \"MAX\")","v":13.34},{"$f":"RTD(\"rtdtrading.rtdserver\",, \"YDUQ3_B_0\", \"MIN\")","v":12.73},{"$f":"RTD(\"rtdtrading.rtdserver\",, \"YDUQ3_B_0\", \"FEC\")","v":13},{"$f":"RTD(\"rtdtrading.rtdserver\",, \"YDUQ3_B_0\", \"VAR\")","v":-1.6923076923076792},{"$f":"RTD(\"rtdtrading.rtdserver\",, \"YDUQ3_B_0\", \"VARPTS\")","v":-0.21999999999999886},{"$f":"RTD(\"rtdtrading.rtdserver\",, \"YDUQ3_B_0\", \"VOL\")","v":17226065}]
[null,"SBSP3",{"$f":"RTD(\"rtdtrading.rtdserver\",, \"SBSP3_B_0\", \"ULT\")","v":48.169999999999987},{"$f":"RTD(\"rtdtrading.rtdserver\",, \"SBSP3_B_0\", \"ABE\")","v":48.65},{"$f":"RTD(\"rtdtrading.rtdserver\",, \"SBSP3_B_0\", \"MAX\")","v":48.65},{"$f":"RTD(\"rtdtrading.rtdserver\",, \"SBSP3_B_0\", \"MIN\")","v":47.88},{"$f":"RTD(\"rtdtrading.rtdserver\",, \"SBSP3_B_0\", \"FEC\")","v":48.46},{"$f":"RTD(\"rtdtrading.rtdserver\",, \"SBSP3_B_0\", \"VAR\")","v":-0.59843169624434722},{"$f":"RTD(\"rtdtrading.rtdserver\",, \"SBSP3_B_0\", \"VARPTS\")","v":-0.29000000000001336},{"$f":"RTD(\"rtdtrading.rtdserver\",, \"SBSP3_B_0\", \"VOL\")","v":34449621}]
[null,"ASAI3",{"$f":"RTD(\"rtdtrading.rtdserver\",, \"ASAI3_B_0\", \"ULT\")","v":17.829999999999959},{"$f":"RTD(\"rtdtrading.rtdserver\",, \"ASAI3_B_0\", \"ABE\")","v":17.96},{"$f":"RTD(\"rtdtrading.rtdserver\",, \"ASAI3_B_0\", \"MAX\")","v":18.079999999999998},{"$f":"RTD(\"rtdtrading.rtdserver\",, \"ASAI3_B_0\", \"MIN\")","v":17.809999999999995},{"$f":"RTD(\"rtdtrading.rtdserver\",, \"ASAI3_B_0\", \"FEC\")","v":17.95},{"$f":"RTD(\"rtdtrading.rtdserver\",, \"ASAI3_B_0\", \"VAR\")","v":-0.66852367688045433},{"$f":"RTD(\"rtdtrading.rtdserver\",, \"ASAI3_B_0\", \"VARPTS\")","v":-0.12000000000004007},{"$f":"RTD(\"rtdtrading.rtdserver\",, \"ASAI3_B_0\", \"VOL\")","v":20569825}]
[null,"VBBR3",{"$f":"RTD(\"rtdtrading.rtdserver\",, \"VBBR3_B_0\", \"ULT\")","v":18.469999999999988},{"$f":"RTD(\"rtdtrading.rtdserver\",, \"VBBR3_B_0\", \"ABE\")","v":18.72},{"$f":"RTD(\"rtdtrading.rtdserver\",, \"VBBR3_B_0\", \"MAX\")","v":18.88},{"$f":"RTD(\"rtdtrading.rtdserver\",, \"VBBR3_B_0\", \"MIN\")","v":18.43},{"$f":"RTD(\"rtdtrading.rtdserver\",, \"VBBR3_B_0\", \"FEC\")","v":18.670000000000002},{"$f":"RTD(\"rtdtrading.rtdserver\",, \"VBBR3_B_0\", \"VAR\")","v":-1.0712372790573852},{"$f":"RTD(\"rtdtrading.rtdserver\",, \"VBBR3_B_0\", \"VARPTS\")","v":-0.2000000000000135},{"$f":"RTD(\"rtdtrading.rtdserver\",, \"VBBR3_B_0\", \"VOL\")","v":30889121}]
[null,"USIM5",{"$f":"RTD(\"rtdtrading.rtdserver\",, \"USIM5_B_0\", \"ULT\")","v":8.7800000000000011},{"$f":"RTD(\"rtdtrading.rtdserver\",, \"USIM5_B_0\", \"ABE\")","v":8.8000000000000007},{"$f":"RTD(\"rtdtrading.rtdserver\",, \"USIM5_B_0\", \"MAX\")","v":8.98},{"$f":"RTD(\"rtdtrading.rtdserver\",, \"USIM5_B_0\", \"MIN\")","v":8.7200000000000006},{"$f":"RTD(\"rtdtrading.rtdserver\",, \"USIM5_B_0\", \"FEC\")","v":9.2900000000000009},{"$f":"RTD(\"rtdtrading.rtdserver\",, \"USIM5_B_0\", \"VAR\")","v":-5.4897739504843912},{"$f":"RTD(\"rtdtrading.rtdserver\",, \"USIM5_B_0\", \"VARPTS\")","v":-0.50999999999999979},{"$f":"RTD(\"rtdtrading.rtdserver\",, \"USIM5_B_0\", \"VOL\")","v":311107024}]
[null,"VIVT3",{"$f":"RTD(\"rtdtrading.rtdserver\",, \"VIVT3_B_0\", \"ULT\")","v":42.679999999999986},{"$f":"RTD(\"rtdtrading.rtdserver\",, \"VIVT3_B_0\", \"ABE\")","v":43.02},{"$f":"RTD(\"rtdtrading.rtdserver\",, \"VIVT3_B_0\", \"MAX\")","v":43.06},{"$f":"RTD(\"rtdtrading.rtdserver\",, \"VIVT3_B_0\", \"MIN\")","v":42.61},{"$f":"RTD(\"rtdtrading.rtdserver\",, \"VIVT3_B_0\", \"FEC\")","v":42.85},{"$f":"RTD(\"rtdtrading.rtdserver\",, \"VIVT3_B_0\", \"VAR\")","v":-0.39673278879817531},{"$f":"RTD(\"rtdtrading.rtdserver\",, \"VIVT3_B_0\", \"VARPTS\")","v":-0.17000000000001592},{"$f":"RTD(\"rtdtrading.rtdserver\",, \"VIVT3_B_0\", \"VOL\")","v":18789333}]
[null,"EQTL3",{"$f":"RTD(\"rtdtrading.rtdserver\",, \"EQTL3_B_0\", \"ULT\")","v":24.27},{"$f":"RTD(\"rtdtrading.rtdserver\",, \"EQTL3_B_0\", \"ABE\")","v":24.45},{"$f":"RTD(\"rtdtrading.rtdserver\",, \"EQTL3_B_0\", \"MAX\")","v":24.56},{"$f":"RTD(\"rtdtrading.rtdserver\",, \"EQTL3_B_0\", \"MIN\")","v":24.17},{"$f":"RTD(\"rtdtrading.rtdserver\",, \"EQTL3_B_0\", \"FEC\")","v":24.450000000000003},{"$f":"RTD(\"rtdtrading.rtdserver\",, \"EQTL3_B_0\", \"VAR\")","v":-0.73619631901841842},{"$f":"RTD(\"rtdtrading.rtdserver\",, \"EQTL3_B_0\", \"VARPTS\")","v":-0.18000000000000327},{"$f":"RTD(\"rtdtrading.rtdserver\",, \"EQTL3_B_0\", \"VOL\")","v":28647339}]
[null,"CSNA3",{"$f":"RTD(\"rtdtrading.rtdserver\",, \"CSNA3_B_0\", \"ULT\")","v":15.230000000000002},{"$f":"RTD(\"rtdtrading.rtdserver\",, \"CSNA3_B_0\", \"ABE\")","v":16},{"$f":"RTD(\"rtdtrading.rtdserver\",, \"CSNA3_B_0\", \"MAX\")","v":16.14},{"$f":"RTD(\"rtdtrading.rtdserver\",, \"CSNA3_B_0\", \"MIN\")","v":15.200000000000001},{"$f":"RTD(\"rtdtrading.rtdserver\",, \"CSNA3_B_0\", \"FEC\")","v":15.96},{"$f":"RTD(\"rtdtrading.rtdserver\",, \"CSNA3_B_0\", \"VAR\")","v":-4.5739348370927218},{"$f":"RTD(\"rtdtrading.rtdserver\",, \"CSNA3_B_0\", \"VARPTS\")","v":-0.72999999999999865},{"$f":"RTD(\"rtdtrading.rtdserver\",, \"CSNA3_B_0\", \"VOL\")","v":106565459}]
[null,"CMIN3",{"$f":"RTD(\"rtdtrading.rtdserver\",, \"CMIN3_B_0\", \"ULT\")","v":3.9000000000000008},{"$f":"RTD(\"rtdtrading.rtdserver\",, \"CMIN3_B_0\", \"ABE\")","v":3.94},{"$f":"RTD(\"rtdtrading.rtdserver\",, \"CMIN3_B_0\", \"MAX\")","v":4.03},{"$f":"RTD(\"rtdtrading.rtdserver\",, \"CMIN3_B_0\", \"MIN\")","v":3.9000000000000004},{"$f":"RTD(\"rtdtrading.rtdserver\",, \"CMIN3_B_0\", \"FEC\")","v":3.9200000000000004},{"$f":"RTD(\"rtdtrading.rtdserver\",, \"CMIN3_B_0\", \"VAR\")","v":-0.51020408163263653},{"$f":"RTD(\"rtdtrading.rtdserver\",, \"CMIN3_B_0\", \"VARPTS\")","v":-1.9999999999999574E-2},{"$f":"RTD(\"rtdtrading.rtdserver\",, \"CMIN3_B_0\", \"VOL\")","v":14859052}]
[null,"BRML3",{"$f":"RTD(\"rtdtrading.rtdserver\",, \"BRML3_B_0\", \"ULT\")","v":8.68},{"$f":"RTD(\"rtdtrading.rtdserver\",, \"BRML3_B_0\", \"ABE\")","v":8.77},{"$f":"RTD(\"rtdtrading.rtdserver\",, \"BRML3_B_0\", \"MAX\")","v":8.81},{"$f":"RTD(\"rtdtrading.rtdserver\",, \"BRML3_B_0\", \"MIN\")","v":8.64},{"$f":"RTD(\"rtdtrading.rtdserver\",, \"BRML3_B_0\", \"FEC\")","v":8.76},{"$f":"RTD(\"rtdtrading.rtdserver\",, \"BRML3_B_0\", \"VAR\")","v":-0.91324200913241782},{"$f":"RTD(\"rtdtrading.rtdserver\",, \"BRML3_B_0\", \"VARPTS\")","v":-8.0000000000000071E-2},{"$f":"RTD(\"rtdtrading.rtdserver\",, \"BRML3_B_0\", \"VOL\")","v":9499320}]
[null,"LCAM3",{"$f":"RTD(\"rtdtrading.rtdserver\",, \"LCAM3_B_0\", \"ULT\")","v":23.3125},{"$f":"RTD(\"rtdtrading.rtdserver\",, \"LCAM3_B_0\", \"ABE\")","v":23.82},{"$f":"RTD(\"rtdtrading.rtdserver\",, \"LCAM3_B_0\", \"MAX\")","v":24.22},{"$f":"RTD(\"rtdtrading.rtdserver\",, \"LCAM3_B_0\", \"MIN\")","v":23.72},{"$f":"RTD(\"rtdtrading.rtdserver\",, \"LCAM3_B_0\", \"FEC\")","v":23.3125},{"$f":"RTD(\"rtdtrading.rtdserver\",, \"LCAM3_B_0\", \"VAR\")","v":0},{"$f":"RTD(\"rtdtrading.rtdserver\",, \"LCAM3_B_0\", \"VARPTS\")","v":0},{"$f":"RTD(\"rtdtrading.rtdserver\",, \"LCAM3_B_0\", \"VOL\")","v":629464014}]
[null,"CMIG4",{"$f":"RTD(\"rtdtrading.rtdserver\",, \"CMIG4_B_0\", \"ULT\")","v":12.44},{"$f":"RTD(\"rtdtrading.rtdserver\",, \"CMIG4_B_0\", \"ABE\")","v":12.65},{"$f":"RTD(\"rtdtrading.rtdserver\",, \"CMIG4_B_0\", \"MAX\")","v":12.66},{"$f":"RTD(\"rtdtrading.rtdserver\",, \"CMIG4_B_0\", \"MIN\")","v":12.35},{"$f":"RTD(\"rtdtrading.rtdserver\",, \"CMIG4_B_0\", \"FEC\")","v":12.63},{"$f":"RTD(\"rtdtrading.rtdserver\",, \"CMIG4_B_0\", \"VAR\")","v":-1.5043547110055471},{"$f":"RTD(\"rtdtrading.rtdserver\",, \"CMIG4_B_0\", \"VARPTS\")","v":-0.19000000000000128},{"$f":"RTD(\"rtdtrading.rtdserver\",, \"CMIG4_B_0\", \"VOL\")","v":24986589}]
[null,"POSI3",{"$f":"RTD(\"rtdtrading.rtdserver\",, \"POSI3_B_0\", \"ULT\")","v":11.56},{"$f":"RTD(\"rtdtrading.rtdserver\",, \"POSI3_B_0\", \"ABE\")","v":11.44},{"$f":"RTD(\"rtdtrading.rtdserver\",, \"POSI3_B_0\", \"MAX\")","v":11.75},{"$f":"RTD(\"rtdtrading.rtdserver\",, \"POSI3_B_0\", \"MIN\")","v":11.41},{"$f":"RTD(\"rtdtrading.rtdserver\",, \"POSI3_B_0\", \"FEC\")","v":11.47},{"$f":"RTD(\"rtdtrading.rtdserver\",, \"POSI3_B_0\", \"VAR\")","v":0.78465562336529615},{"$f":"RTD(\"rtdtrading.rtdserver\",, \"POSI3_B_0\", \"VARPTS\")","v":8.9999999999999858E-2},{"$f":"RTD(\"rtdtrading.rtdserver\",, \"POSI3_B_0\", \"VOL\")","v":10362779}]
[null,"CPLE6",{"$f":"RTD(\"rtdtrading.rtdserver\",, \"CPLE6_B_0\", \"ULT\")","v":7.08},{"$f":"RTD(\"rtdtrading.rtdserver\",, \"CPLE6_B_0\", \"ABE\")","v":7.07},{"$f":"RTD(\"rtdtrading.rtdserver\",, \"CPLE6_B_0\", \"MAX\")","v":7.11},{"$f":"RTD(\"rtdtrading.rtdserver\",, \"CPLE6_B_0\", \"MIN\")","v":7.02},{"$f":"RTD(\"rtdtrading.rtdserver\",, \"CPLE6_B_0\", \"FEC\")","v":7.04},{"$f":"RTD(\"rtdtrading.rtdserver\",, \"CPLE6_B_0\", \"VAR\")","v":0.56818181818181301},{"$f":"RTD(\"rtdtrading.rtdserver\",, \"CPLE6_B_0\", \"VARPTS\")","v":4.0000000000000036E-2},{"$f":"RTD(\"rtdtrading.rtdserver\",, \"CPLE6_B_0\", \"VOL\")","v":11187074}]
[null,"RENT3",{"$f":"RTD(\"rtdtrading.rtdserver\",, \"RENT3_B_0\", \"ULT\")","v":61.759999999999948},{"$f":"RTD(\"rtdtrading.rtdserver\",, \"RENT3_B_0\", \"ABE\")","v":63.4},{"$f":"RTD(\"rtdtrading.rtdserver\",, \"RENT3_B_0\", \"MAX\")","v":63.53},{"$f":"RTD(\"rtdtrading.rtdserver\",, \"RENT3_B_0\", \"MIN\")","v":61.53},{"$f":"RTD(\"rtdtrading.rtdserver\",, \"RENT3_B_0\", \"FEC\")","v":63.650000000000006},{"$f":"RTD(\"rtdtrading.rtdserver\",, \"RENT3_B_0\", \"VAR\")","v":-2.9693637077769921},{"$f":"RTD(\"rtdtrading.rtdserver\",, \"RENT3_B_0\", \"VARPTS\")","v":-1.8900000000000574},{"$f":"RTD(\"rtdtrading.rtdserver\",, \"RENT3_B_0\", \"VOL\")","v":151679192}]
[null,"BRAP4",{"$f":"RTD(\"rtdtrading.rtdserver\",, \"BRAP4_B_0\", \"ULT\")","v":23.150000000000006},{"$f":"RTD(\"rtdtrading.rtdserver\",, \"BRAP4_B_0\", \"ABE\")","v":23.69},{"$f":"RTD(\"rtdtrading.rtdserver\",, \"BRAP4_B_0\", \"MAX\")","v":23.98},{"$f":"RTD(\"rtdtrading.rtdserver\",, \"BRAP4_B_0\", \"MIN\")","v":23.129999999999988},{"$f":"RTD(\"rtdtrading.rtdserver\",, \"BRAP4_B_0\", \"FEC\")","v":23.51},{"$f":"RTD(\"rtdtrading.rtdserver\",, \"BRAP4_B_0\", \"VAR\")","v":-1.5312632922160532},{"$f":"RTD(\"rtdtrading.rtdserver\",, \"BRAP4_B_0\", \"VARPTS\")","v":-0.35999999999999588},{"$f":"RTD(\"rtdtrading.rtdserver\",, \"BRAP4_B_0\", \"VOL\")","v":24247888}]
[null,"CPFE3",{"$f":"RTD(\"rtdtrading.rtdserver\",, \"CPFE3_B_0\", \"ULT\")","v":35.699999999999989},{"$f":"RTD(\"rtdtrading.rtdserver\",, \"CPFE3_B_0\", \"ABE\")","v":35.630000000000003},{"$f":"RTD(\"rtdtrading.rtdserver\",, \"CPFE3_B_0\", \"MAX\")","v":35.819999999999986},{"$f":"RTD(\"rtdtrading.rtdserver\",, \"CPFE3_B_0\", \"MIN\")","v":35.08},{"$f":"RTD(\"rtdtrading.rtdserver\",, \"CPFE3_B_0\", \"FEC\")","v":35.6},{"$f":"RTD(\"rtdtrading.rtdserver\",, \"CPFE3_B_0\", \"VAR\")","v":0.28089887640444999},{"$f":"RTD(\"rtdtrading.rtdserver\",, \"CPFE3_B_0\", \"VARPTS\")","v":9.999999999998721E-2},{"$f":"RTD(\"rtdtrading.rtdserver\",, \"CPFE3_B_0\", \"VOL\")","v":22956300}]
[null,"SOMA3",{"$f":"RTD(\"rtdtrading.rtdserver\",, \"SOMA3_B_0\", \"ULT\")","v":13.100000000000003},{"$f":"RTD(\"rtdtrading.rtdserver\",, \"SOMA3_B_0\", \"ABE\")","v":13.43},{"$f":"RTD(\"rtdtrading.rtdserver\",, \"SOMA3_B_0\", \"MAX\")","v":13.53},{"$f":"RTD(\"rtdtrading.rtdserver\",, \"SOMA3_B_0\", \"MIN\")","v":13.090000000000002},{"$f":"RTD(\"rtdtrading.rtdserver\",, \"SOMA3_B_0\", \"FEC\")","v":13.33},{"$f":"RTD(\"rtdtrading.rtdserver\",, \"SOMA3_B_0\", \"VAR\")","v":-1.7254313578394402},{"$f":"RTD(\"rtdtrading.rtdserver\",, \"SOMA3_B_0\", \"VARPTS\")","v":-0.22999999999999687},{"$f":"RTD(\"rtdtrading.rtdserver\",, \"SOMA3_B_0\", \"VOL\")","v":12113057}]
[null,"IGTI11",{"$f":"RTD(\"rtdtrading.rtdserver\",, \"IGTI11_B_0\", \"ULT\")","v":20.649999999999988},{"$f":"RTD(\"rtdtrading.rtdserver\",, \"IGTI11_B_0\", \"ABE\")","v":20.93},{"$f":"RTD(\"rtdtrading.rtdserver\",, \"IGTI11_B_0\", \"MAX\")","v":21.03},{"$f":"RTD(\"rtdtrading.rtdserver\",, \"IGTI11_B_0\", \"MIN\")","v":20.599999999999994},{"$f":"RTD(\"rtdtrading.rtdserver\",, \"IGTI11_B_0\", \"FEC\")","v":20.92},{"$f":"RTD(\"rtdtrading.rtdserver\",, \"IGTI11_B_0\", \"VAR\")","v":-1.2906309751434719},{"$f":"RTD(\"rtdtrading.rtdserver\",, \"IGTI11_B_0\", \"VARPTS\")","v":-0.27000000000001378},{"$f":"RTD(\"rtdtrading.rtdserver\",, \"IGTI11_B_0\", \"VOL\")","v":10895206}]
[null,"SLCE3",{"$f":"RTD(\"rtdtrading.rtdserver\",, \"SLCE3_B_0\", \"ULT\")","v":47.73},{"$f":"RTD(\"rtdtrading.rtdserver\",, \"SLCE3_B_0\", \"ABE\")","v":48.12},{"$f":"RTD(\"rtdtrading.rtdserver\",, \"SLCE3_B_0\", \"MAX\")","v":48.36},{"$f":"RTD(\"rtdtrading.rtdserver\",, \"SLCE3_B_0\", \"MIN\")","v":47.570000000000007},{"$f":"RTD(\"rtdtrading.rtdserver\",, \"SLCE3_B_0\", \"FEC\")","v":47.89},{"$f":"RTD(\"rtdtrading.rtdserver\",, \"SLCE3_B_0\", \"VAR\")","v":-0.33409897682189182},{"$f":"RTD(\"rtdtrading.rtdserver\",, \"SLCE3_B_0\", \"VARPTS\")","v":-0.16000000000000369},{"$f":"RTD(\"rtdtrading.rtdserver\",, \"SLCE3_B_0\", \"VOL\")","v":17273380}]
[null,"SUZB3",{"$f":"RTD(\"rtdtrading.rtdserver\",, \"SUZB3_B_0\", \"ULT\")","v":45.879999999999903},{"$f":"RTD(\"rtdtrading.rtdserver\",, \"SUZB3_B_0\", \"ABE\")","v":47.37},{"$f":"RTD(\"rtdtrading.rtdserver\",, \"SUZB3_B_0\", \"MAX\")","v":47.69},{"$f":"RTD(\"rtdtrading.rtdserver\",, \"SUZB3_B_0\", \"MIN\")","v":45.87000000000004},{"$f":"RTD(\"rtdtrading.rtdserver\",, \"SUZB3_B_0\", \"FEC\")","v":47.32},{"$f":"RTD(\"rtdtrading.rtdserver\",, \"SUZB3_B_0\", \"VAR\")","v":-3.0431107354186366},{"$f":"RTD(\"rtdtrading.rtdserver\",, \"SUZB3_B_0\", \"VARPTS\")","v":-1.4400000000000972},{"$f":"RTD(\"rtdtrading.rtdserver\",, \"SUZB3_B_0\", \"VOL\")","v":225653126}]
[null,"QUAL3",{"$f":"RTD(\"rtdtrading.rtdserver\",, \"QUAL3_B_0\", \"ULT\")","v":10.290000000000001},{"$f":"RTD(\"rtdtrading.rtdserver\",, \"QUAL3_B_0\", \"ABE\")","v":10.5},{"$f":"RTD(\"rtdtrading.rtdserver\",, \"QUAL3_B_0\", \"MAX\")","v":10.61},{"$f":"RTD(\"rtdtrading.rtdserver\",, \"QUAL3_B_0\", \"MIN\")","v":10.28},{"$f":"RTD(\"rtdtrading.rtdserver\",, \"QUAL3_B_0\", \"FEC\")","v":10.440000000000001},{"$f":"RTD(\"rtdtrading.rtdserver\",, \"QUAL3_B_0\", \"VAR\")","v":-1.4367816091954069},{"$f":"RTD(\"rtdtrading.rtdserver\",, \"QUAL3_B_0\", \"VARPTS\")","v":-0.15000000000000036},{"$f":"RTD(\"rtdtrading.rtdserver\",, \"QUAL3_B_0\", \"VOL\")","v":5444848}]
[null,"CSAN3",{"$f":"RTD(\"rtdtrading.rtdserver\",, \"CSAN3_B_0\", \"ULT\")","v":20.490000000000023},{"$f":"RTD(\"rtdtrading.rtdserver\",, \"CSAN3_B_0\", \"ABE\")","v":20.87},{"$f":"RTD(\"rtdtrading.rtdserver\",, \"CSAN3_B_0\", \"MAX\")","v":20.97},{"$f":"RTD(\"rtdtrading.rtdserver\",, \"CSAN3_B_0\", \"MIN\")","v":20.459999999999997},{"$f":"RTD(\"rtdtrading.rtdserver\",, \"CSAN3_B_0\", \"FEC\")","v":20.77},{"$f":"RTD(\"rtdtrading.rtdserver\",, \"CSAN3_B_0\", \"VAR\")","v":-1.3480982185843828},{"$f":"RTD(\"rtdtrading.rtdserver\",, \"CSAN3_B_0\", \"VARPTS\")","v":-0.27999999999997627},{"$f":"RTD(\"rtdtrading.rtdserver\",, \"CSAN3_B_0\", \"VOL\")","v":14739691}]
[null,"VIIA3",{"$f":"RTD(\"rtdtrading.rtdserver\",, \"VIIA3_B_0\", \"ULT\")","v":3.2799999999999994},{"$f":"RTD(\"rtdtrading.rtdserver\",, \"VIIA3_B_0\", \"ABE\")","v":3.41},{"$f":"RTD(\"rtdtrading.rtdserver\",, \"VIIA3_B_0\", \"MAX\")","v":3.43},{"$f":"RTD(\"rtdtrading.rtdserver\",, \"VIIA3_B_0\", \"MIN\")","v":3.26},{"$f":"RTD(\"rtdtrading.rtdserver\",, \"VIIA3_B_0\", \"FEC\")","v":3.3800000000000003},{"$f":"RTD(\"rtdtrading.rtdserver\",, \"VIIA3_B_0\", \"VAR\")","v":-2.9585798816568314},{"$f":"RTD(\"rtdtrading.rtdserver\",, \"VIIA3_B_0\", \"VARPTS\")","v":-0.10000000000000098},{"$f":"RTD(\"rtdtrading.rtdserver\",, \"VIIA3_B_0\", \"VOL\")","v":108588203}]
[null,"KLBN11",{"$f":"RTD(\"rtdtrading.rtdserver\",, \"KLBN11_B_0\", \"ULT\")","v":19.759999999999991},{"$f":"RTD(\"rtdtrading.rtdserver\",, \"KLBN11_B_0\", \"ABE\")","v":20.13},{"$f":"RTD(\"rtdtrading.rtdserver\",, \"KLBN11_B_0\", \"MAX\")","v":20.34},{"$f":"RTD(\"rtdtrading.rtdserver\",, \"KLBN11_B_0\", \"MIN\")","v":19.719999999999985},{"$f":"RTD(\"rtdtrading.rtdserver\",, \"KLBN11_B_0\", \"FEC\")","v":20.09},{"$f":"RTD(\"rtdtrading.rtdserver\",, \"KLBN11_B_0\", \"VAR\")","v":-1.6426082628173617},{"$f":"RTD(\"rtdtrading.rtdserver\",, \"KLBN11_B_0\", \"VARPTS\")","v":-0.33000000000000895},{"$f":"RTD(\"rtdtrading.rtdserver\",, \"KLBN11_B_0\", \"VOL\")","v":53727164}]
[null,"TAEE11",{"$f":"RTD(\"rtdtrading.rtdserver\",, \"TAEE11_B_0\", \"ULT\")","v":40.589999999999975},{"$f":"RTD(\"rtdtrading.rtdserver\",, \"TAEE11_B_0\", \"ABE\")","v":40.380000000000003},{"$f":"RTD(\"rtdtrading.rtdserver\",, \"TAEE11_B_0\", \"MAX\")","v":40.659999999999997},{"$f":"RTD(\"rtdtrading.rtdserver\",, \"TAEE11_B_0\", \"MIN\")","v":40.36},{"$f":"RTD(\"rtdtrading.rtdserver\",, \"TAEE11_B_0\", \"FEC\")","v":40.370000000000005},{"$f":"RTD(\"rtdtrading.rtdserver\",, \"TAEE11_B_0\", \"VAR\")","v":0.54495912806531521},{"$f":"RTD(\"rtdtrading.rtdserver\",, \"TAEE11_B_0\", \"VARPTS\")","v":0.21999999999997044},{"$f":"RTD(\"rtdtrading.rtdserver\",, \"TAEE11_B_0\", \"VOL\")","v":12096280}]
[null,"CIEL3",{"$f":"RTD(\"rtdtrading.rtdserver\",, \"CIEL3_B_0\", \"ULT\")","v":5.9400000000000022},{"$f":"RTD(\"rtdtrading.rtdserver\",, \"CIEL3_B_0\", \"ABE\")","v":5.87},{"$f":"RTD(\"rtdtrading.rtdserver\",, \"CIEL3_B_0\", \"MAX\")","v":6.22},{"$f":"RTD(\"rtdtrading.rtdserver\",, \"CIEL3_B_0\", \"MIN\")","v":5.86},{"$f":"RTD(\"rtdtrading.rtdserver\",, \"CIEL3_B_0\", \"FEC\")","v":5.79},{"$f":"RTD(\"rtdtrading.rtdserver\",, \"CIEL3_B_0\", \"VAR\")","v":2.5906735751295713},{"$f":"RTD(\"rtdtrading.rtdserver\",, \"CIEL3_B_0\", \"VARPTS\")","v":0.15000000000000213},{"$f":"RTD(\"rtdtrading.rtdserver\",, \"CIEL3_B_0\", \"VOL\")","v":196919216}]
[null,"BPAN4",{"$f":"RTD(\"rtdtrading.rtdserver\",, \"BPAN4_B_0\", \"ULT\")","v":7.1300000000000008},{"$f":"RTD(\"rtdtrading.rtdserver\",, \"BPAN4_B_0\", \"ABE\")","v":7.36},{"$f":"RTD(\"rtdtrading.rtdserver\",, \"BPAN4_B_0\", \"MAX\")","v":7.36},{"$f":"RTD(\"rtdtrading.rtdserver\",, \"BPAN4_B_0\", \"MIN\")","v":7.1300000000000008},{"$f":"RTD(\"rtdtrading.rtdserver\",, \"BPAN4_B_0\", \"FEC\")","v":7.32},{"$f":"RTD(\"rtdtrading.rtdserver\",, \"BPAN4_B_0\", \"VAR\")","v":-2.5956284153005384},{"$f":"RTD(\"rtdtrading.rtdserver\",, \"BPAN4_B_0\", \"VARPTS\")","v":-0.1899999999999995},{"$f":"RTD(\"rtdtrading.rtdserver\",, \"BPAN4_B_0\", \"VOL\")","v":4493131}]
[null,"EGIE3",{"$f":"RTD(\"rtdtrading.rtdserver\",, \"EGIE3_B_0\", \"ULT\")","v":40.70999999999998},{"$f":"RTD(\"rtdtrading.rtdserver\",, \"EGIE3_B_0\", \"ABE\")","v":40.65},{"$f":"RTD(\"rtdtrading.rtdserver\",, \"EGIE3_B_0\", \"MAX\")","v":40.749999999999993},{"$f":"RTD(\"rtdtrading.rtdserver\",, \"EGIE3_B_0\", \"MIN\")","v":40.25},{"$f":"RTD(\"rtdtrading.rtdserver\",, \"EGIE3_B_0\", \"FEC\")","v":40.61},{"$f":"RTD(\"rtdtrading.rtdserver\",, \"EGIE3_B_0\", \"VAR\")","v":0.24624476729864853},{"$f":"RTD(\"rtdtrading.rtdserver\",, \"EGIE3_B_0\", \"VARPTS\")","v":9.9999999999980105E-2},{"$f":"RTD(\"rtdtrading.rtdserver\",, \"EGIE3_B_0\", \"VOL\")","v":15310211}]
[null,"JBSS3",{"$f":"RTD(\"rtdtrading.rtdserver\",, \"JBSS3_B_0\", \"ULT\")","v":29.919999999999995},{"$f":"RTD(\"rtdtrading.rtdserver\",, \"JBSS3_B_0\", \"ABE\")","v":30.88},{"$f":"RTD(\"rtdtrading.rtdserver\",, \"JBSS3_B_0\", \"MAX\")","v":30.94},{"$f":"RTD(\"rtdtrading.rtdserver\",, \"JBSS3_B_0\", \"MIN\")","v":29.9},{"$f":"RTD(\"rtdtrading.rtdserver\",, \"JBSS3_B_0\", \"FEC\")","v":30.720000000000002},{"$f":"RTD(\"rtdtrading.rtdserver\",, \"JBSS3_B_0\", \"VAR\")","v":-2.6041666666666998},{"$f":"RTD(\"rtdtrading.rtdserver\",, \"JBSS3_B_0\", \"VARPTS\")","v":-0.80000000000000782},{"$f":"RTD(\"rtdtrading.rtdserver\",, \"JBSS3_B_0\", \"VOL\")","v":67856101}]
[null,"GOAU4",{"$f":"RTD(\"rtdtrading.rtdserver\",, \"GOAU4_B_0\", \"ULT\")","v":10.130000000000001},{"$f":"RTD(\"rtdtrading.rtdserver\",, \"GOAU4_B_0\", \"ABE\")","v":10.38},{"$f":"RTD(\"rtdtrading.rtdserver\",, \"GOAU4_B_0\", \"MAX\")","v":10.48},{"$f":"RTD(\"rtdtrading.rtdserver\",, \"GOAU4_B_0\", \"MIN\")","v":10.120000000000001},{"$f":"RTD(\"rtdtrading.rtdserver\",, \"GOAU4_B_0\", \"FEC\")","v":10.32},{"$f":"RTD(\"rtdtrading.rtdserver\",, \"GOAU4_B_0\", \"VAR\")","v":-1.841085271317823},{"$f":"RTD(\"rtdtrading.rtdserver\",, \"GOAU4_B_0\", \"VARPTS\")","v":-0.1899999999999995},{"$f":"RTD(\"rtdtrading.rtdserver\",, \"GOAU4_B_0\", \"VOL\")","v":17936376}]
[null,"GGBR4",{"$f":"RTD(\"rtdtrading.rtdserver\",, \"GGBR4_B_0\", \"ULT\")","v":24.219999999999981},{"$f":"RTD(\"rtdtrading.rtdserver\",, \"GGBR4_B_0\", \"ABE\")","v":24.99},{"$f":"RTD(\"rtdtrading.rtdserver\",, \"GGBR4_B_0\", \"MAX\")","v":25.11},{"$f":"RTD(\"rtdtrading.rtdserver\",, \"GGBR4_B_0\", \"MIN\")","v":24.16},{"$f":"RTD(\"rtdtrading.rtdserver\",, \"GGBR4_B_0\", \"FEC\")","v":24.67},{"$f":"RTD(\"rtdtrading.rtdserver\",, \"GGBR4_B_0\", \"VAR\")","v":-1.824077827320707},{"$f":"RTD(\"rtdtrading.rtdserver\",, \"GGBR4_B_0\", \"VARPTS\")","v":-0.45000000000002061},{"$f":"RTD(\"rtdtrading.rtdserver\",, \"GGBR4_B_0\", \"VOL\")","v":91207233}]
[null,"EZTC3",{"$f":"RTD(\"rtdtrading.rtdserver\",, \"EZTC3_B_0\", \"ULT\")","v":18.260000000000005},{"$f":"RTD(\"rtdtrading.rtdserver\",, \"EZTC3_B_0\", \"ABE\")","v":18.47},{"$f":"RTD(\"rtdtrading.rtdserver\",, \"EZTC3_B_0\", \"MAX\")","v":18.690000000000001},{"$f":"RTD(\"rtdtrading.rtdserver\",, \"EZTC3_B_0\", \"MIN\")","v":18.190000000000001},{"$f":"RTD(\"rtdtrading.rtdserver\",, \"EZTC3_B_0\", \"FEC\")","v":18.470000000000002},{"$f":"RTD(\"rtdtrading.rtdserver\",, \"EZTC3_B_0\", \"VAR\")","v":-1.1369788846778448},{"$f":"RTD(\"rtdtrading.rtdserver\",, \"EZTC3_B_0\", \"VARPTS\")","v":-0.2099999999999973},{"$f":"RTD(\"rtdtrading.rtdserver\",, \"EZTC3_B_0\", \"VOL\")","v":7025746}]
[null,"PETR4",{"$f":"RTD(\"rtdtrading.rtdserver\",, \"PETR4_B_0\", \"ULT\")","v":33.020000000000088},{"$f":"RTD(\"rtdtrading.rtdserver\",, \"PETR4_B_0\", \"ABE\")","v":33.28},{"$f":"RTD(\"rtdtrading.rtdserver\",, \"PETR4_B_0\", \"MAX\")","v":33.39},{"$f":"RTD(\"rtdtrading.rtdserver\",, \"PETR4_B_0\", \"MIN\")","v":32.57},{"$f":"RTD(\"rtdtrading.rtdserver\",, \"PETR4_B_0\", \"FEC\")","v":33.28},{"$f":"RTD(\"rtdtrading.rtdserver\",, \"PETR4_B_0\", \"VAR\")","v":-0.78124999999972999},{"$f":"RTD(\"rtdtrading.rtdserver\",, \"PETR4_B_0\", \"VARPTS\")","v":-0.25999999999991275},{"$f":"RTD(\"rtdtrading.rtdserver\",, \"PETR4_B_0\", \"VOL\")","v":1128576330}]
[null,"PETR3",{"$f":"RTD(\"rtdtrading.rtdserver\",, \"PETR3_B_0\", \"ULT\")","v":36.939999999999934},{"$f":"RTD(\"rtdtrading.rtdserver\",, \"PETR3_B_0\", \"ABE\")","v":37.21},{"$f":"RTD(\"rtdtrading.rtdserver\",, \"PETR3_B_0\", \"MAX\")","v":37.21},{"$f":"RTD(\"rtdtrading.rtdserver\",, \"PETR3_B_0\", \"MIN\")","v":36.369999999999997},{"$f":"RTD(\"rtdtrading.rtdserver\",, \"PETR3_B_0\", \"FEC\")","v":37.090000000000003},{"$f":"RTD(\"rtdtrading.rtdserver\",, \"PETR3_B_0\", \"VAR\")","v":-0.40442167700207676},{"$f":"RTD(\"rtdtrading.rtdserver\",, \"PETR3_B_0\", \"VARPTS\")","v":-0.15000000000006963},{"$f":"RTD(\"rtdtrading.rtdserver\",, \"PETR3_B_0\", \"VOL\")","v":189412943}]
[null,"UGPA3",{"$f":"RTD(\"rtdtrading.rtdserver\",, \"UGPA3_B_0\", \"ULT\")","v":13.99},{"$f":"RTD(\"rtdtrading.rtdserver\",, \"UGPA3_B_0\", \"ABE\")","v":14.11},{"$f":"RTD(\"rtdtrading.rtdserver\",, \"UGPA3_B_0\", \"MAX\")","v":14.2},{"$f":"RTD(\"rtdtrading.rtdserver\",, \"UGPA3_B_0\", \"MIN\")","v":13.95},{"$f":"RTD(\"rtdtrading.rtdserver\",, \"UGPA3_B_0\", \"FEC\")","v":14.05},{"$f":"RTD(\"rtdtrading.rtdserver\",, \"UGPA3_B_0\", \"VAR\")","v":-0.42704626334520412},{"$f":"RTD(\"rtdtrading.rtdserver\",, \"UGPA3_B_0\", \"VARPTS\")","v":-6.0000000000000497E-2},{"$f":"RTD(\"rtdtrading.rtdserver\",, \"UGPA3_B_0\", \"VOL\")","v":9946781}]
[null,"ITSA4",{"$f":"RTD(\"rtdtrading.rtdserver\",, \"ITSA4_B_0\", \"ULT\")","v":9.32},{"$f":"RTD(\"rtdtrading.rtdserver\",, \"ITSA4_B_0\", \"ABE\")","v":9.39},{"$f":"RTD(\"rtdtrading.rtdserver\",, \"ITSA4_B_0\", \"MAX\")","v":9.4600000000000009},{"$f":"RTD(\"rtdtrading.rtdserver\",, \"ITSA4_B_0\", \"MIN\")","v":9.32},{"$f":"RTD(\"rtdtrading.rtdserver\",, \"ITSA4_B_0\", \"FEC\")","v":9.3800000000000008},{"$f":"RTD(\"rtdtrading.rtdserver\",, \"ITSA4_B_0\", \"VAR\")","v":-0.63965884861407574},{"$f":"RTD(\"rtdtrading.rtdserver\",, \"ITSA4_B_0\", \"VARPTS\")","v":-6.0000000000000497E-2},{"$f":"RTD(\"rtdtrading.rtdserver\",, \"ITSA4_B_0\", \"VOL\")","v":38640120}]
[null,"ITUB4",{"$f":"RTD(\"rtdtrading.rtdserver\",, \"ITUB4_B_0\", \"ULT\")","v":26.709999999999994},{"$f":"RTD(\"rtdtrading.rtdserver\",, \"ITUB4_B_0\", \"ABE\")","v":26.9},{"$f":"RTD(\"rtdtrading.rtdserver\",, \"ITUB4_B_0\", \"MAX\")","v":27.14},{"$f":"RTD(\"rtdtrading.rtdserver\",, \"ITUB4_B_0\", \"MIN\")","v":26.709999999999994},{"$f":"RTD(\"rtdtrading.rtdserver\",, \"ITUB4_B_0\", \"FEC\")","v":26.85},{"$f":"RTD(\"rtdtrading.rtdserver\",, \"ITUB4_B_0\", \"VAR\")","v":-0.52141527001865029},{"$f":"RTD(\"rtdtrading.rtdserver\",, \"ITUB4_B_0\", \"VARPTS\")","v":-0.14000000000000767},{"$f":"RTD(\"rtdtrading.rtdserver\",, \"ITUB4_B_0\", \"VOL\")","v":165061652}]
[null,"BBDC3",{"$f":"RTD(\"rtdtrading.rtdserver\",, \"BBDC3_B_0\", \"ULT\")","v":16.119999999999994},{"$f":"RTD(\"rtdtrading.rtdserver\",, \"BBDC3_B_0\", \"ABE\")","v":16.190000000000001},{"$f":"RTD(\"rtdtrading.rtdserver\",, \"BBDC3_B_0\", \"MAX\")","v":16.37},{"$f":"RTD(\"rtdtrading.rtdserver\",, \"BBDC3_B_0\", \"MIN\")","v":16.119999999999994},{"$f":"RTD(\"rtdtrading.rtdserver\",, \"BBDC3_B_0\", \"FEC\")","v":16.170000000000002},{"$f":"RTD(\"rtdtrading.rtdserver\",, \"BBDC3_B_0\", \"VAR\")","v":-0.30921459492893177},{"$f":"RTD(\"rtdtrading.rtdserver\",, \"BBDC3_B_0\", \"VARPTS\")","v":-5.0000000000007816E-2},{"$f":"RTD(\"rtdtrading.rtdserver\",, \"BBDC3_B_0\", \"VOL\")","v":32927660}]
[null,"BBDC4",{"$f":"RTD(\"rtdtrading.rtdserver\",, \"BBDC4_B_0\", \"ULT\")","v":19.499999999999982},{"$f":"RTD(\"rtdtrading.rtdserver\",, \"BBDC4_B_0\", \"ABE\")","v":19.600000000000001},{"$f":"RTD(\"rtdtrading.rtdserver\",, \"BBDC4_B_0\", \"MAX\")","v":19.82},{"$f":"RTD(\"rtdtrading.rtdserver\",, \"BBDC4_B_0\", \"MIN\")","v":19.499999999999993},{"$f":"RTD(\"rtdtrading.rtdserver\",, \"BBDC4_B_0\", \"FEC\")","v":19.510000000000002},{"$f":"RTD(\"rtdtrading.rtdserver\",, \"BBDC4_B_0\", \"VAR\")","v":-5.1255766273811787E-2},{"$f":"RTD(\"rtdtrading.rtdserver\",, \"BBDC4_B_0\", \"VARPTS\")","v":-1.0000000000019327E-2},{"$f":"RTD(\"rtdtrading.rtdserver\",, \"BBDC4_B_0\", \"VOL\")","v":293906597}]
[null,"MGLU3",{"$f":"RTD(\"rtdtrading.rtdserver\",, \"MGLU3_B_0\", \"ULT\")","v":4.5100000000000007},{"$f":"RTD(\"rtdtrading.rtdserver\",, \"MGLU3_B_0\", \"ABE\")","v":4.7300000000000004},{"$f":"RTD(\"rtdtrading.rtdserver\",, \"MGLU3_B_0\", \"MAX\")","v":4.76},{"$f":"RTD(\"rtdtrading.rtdserver\",, \"MGLU3_B_0\", \"MIN\")","v":4.49},{"$f":"RTD(\"rtdtrading.rtdserver\",, \"MGLU3_B_0\", \"FEC\")","v":4.6800000000000006},{"$f":"RTD(\"rtdtrading.rtdserver\",, \"MGLU3_B_0\", \"VAR\")","v":-3.6324786324786373},{"$f":"RTD(\"rtdtrading.rtdserver\",, \"MGLU3_B_0\", \"VARPTS\")","v":-0.16999999999999993},{"$f":"RTD(\"rtdtrading.rtdserver\",, \"MGLU3_B_0\", \"VOL\")","v":377307001}]
[null,"BBAS3",{"$f":"RTD(\"rtdtrading.rtdserver\",, \"BBAS3_B_0\", \"ULT\")","v":41.380000000000024},{"$f":"RTD(\"rtdtrading.rtdserver\",, \"BBAS3_B_0\", \"ABE\")","v":41.88},{"$f":"RTD(\"rtdtrading.rtdserver\",, \"BBAS3_B_0\", \"MAX\")","v":42.03},{"$f":"RTD(\"rtdtrading.rtdserver\",, \"BBAS3_B_0\", \"MIN\")","v":41.12},{"$f":"RTD(\"rtdtrading.rtdserver\",, \"BBAS3_B_0\", \"FEC\")","v":41.800000000000004},{"$f":"RTD(\"rtdtrading.rtdserver\",, \"BBAS3_B_0\", \"VAR\")","v":-1.0047846889951586},{"$f":"RTD(\"rtdtrading.rtdserver\",, \"BBAS3_B_0\", \"VARPTS\")","v":-0.41999999999998039},{"$f":"RTD(\"rtdtrading.rtdserver\",, \"BBAS3_B_0\", \"VOL\")","v":157061208}]
[]
[]
[null,null,null,null,null,null,"POSITIVAS",{"$f":"COUNTIF(H5:H96,\">0\")","v":15}]
[null,null,null,null,null,null,"NEGATIVAS",{"$f":"COUNTIF(H5:H96,\"<0\")","v":75}]
[]
[null,"PRINCIPAIS AÇOES",null,null,null,null,null,null,null,null,{"$f":"SUM(J104:J106)","v":2376848305}]
[null,"Asset","Último","Abertura","Máximo","Mínimo","Fechamento Anterior","Variação","Variação(pts)","Volume"]
[null,{"$f":"B29","v":"VALE3"},68.819999999999709,69.650000000000006,71.2,68.709999999999809,69.27000000000001,-0.64963187527111188,-0.45000000000030127,1083210323,{"$f":"SUM(H104:H106)","v":-1.9522971452894922}]
[null,"ITUB4",{"$f":"RTD(\"rtdtrading.rtdserver\",, \"ITUB4_B_0\", \"ULT\")","v":26.709999999999994},{"$f":"RTD(\"rtdtrading.rtdserver\",, \"ITUB4_B_0\", \"ABE\")","v":26.9},{"$f":"RTD(\"rtdtrading.rtdserver\",, \"ITUB4_B_0\", \"MAX\")","v":27.14},{"$f":"RTD(\"rtdtrading.rtdserver\",, \"ITUB4_B_0\", \"MIN\")","v":26.709999999999994},{"$f":"RTD(\"rtdtrading.rtdserver\",, \"ITUB4_B_0\", \"FEC\")","v":26.85},{"$f":"RTD(\"rtdtrading.rtdserver\",, \"ITUB4_B_0\", \"VAR\")","v":-0.52141527001865029},{"$f":"RTD(\"rtdtrading.rtdserver\",, \"ITUB4_B_0\", \"VARPTS\")","v":-0.14000000000000767},{"$f":"RTD(\"rtdtrading.rtdserver\",, \"ITUB4_B_0\", \"VOL\")","v":165061652}]
[null,"PETR4",{"$f":"RTD(\"rtdtrading.rtdserver\",, \"PETR4_B_0\", \"ULT\")","v":33.020000000000088},{"$f":"RTD(\"rtdtrading.rtdserver\",, \"PETR4_B_0\", \"ABE\")","v":33.28},{"$f":"RTD(\"rtdtrading.rtdserver\",, \"PETR4_B_0\", \"MAX\")","v":33.39},{"$f":"RTD(\"rtdtrading.rtdserver\",, \"PETR4_B_0\", \"MIN\")","v":32.57},{"$f":"RTD(\"rtdtrading.rtdserver\",, \"PETR4_B_0\", \"FEC\")","v":33.28},{"$f":"RTD(\"rtdtrading.rtdserver\",, \"PETR4_B_0\", \"VAR\")","v":-0.78124999999972999},{"$f":"RTD(\"rtdtrading.rtdserver\",, \"PETR4_B_0\", \"VARPTS\")","v":-0.25999999999991275},{"$f":"RTD(\"rtdtrading.rtdserver\",, \"PETR4_B_0\", \"VOL\")","v":1128576330}]
[]
[]
[null,"Asset","Último","Abertura","Máximo","Mínimo","Fechamento Anterior","Variação","Variação(pts)","Volume","TR - Acúmulo de Agressão - Saldo","TR - Volume de Agressão - Saldo"]
[null,"PETR4",{"$f":"RTD(\"rtdtrading.rtdserver\",, \"PETR4_B_0\", \"ULT\")","v":33.020000000000088},{"$f":"RTD(\"rtdtrading.rtdserver\",, \"PETR4_B_0\", \"ABE\")","v":33.28},{"$f":"RTD(\"rtdtrading.rtdserver\",, \"PETR4_B_0\", \"MAX\")","v":33.39},{"$f":"RTD(\"rtdtrading.rtdserver\",, \"PETR4_B_0\", \"MIN\")","v":32.57},{"$f":"RTD(\"rtdtrading.rtdserver\",, \"PETR4_B_0\", \"FEC\")","v":33.28},{"$f":"RTD(\"rtdtrading.rtdserver\",, \"PETR4_B_0\", \"VAR\")","v":-0.78124999999972999},{"$f":"RTD(\"rtdtrading.rtdserver\",, \"PETR4_B_0\", \"VARPTS\")","v":-0.25999999999991275},{"$f":"RTD(\"rtdtrading.rtdserver\",, \"PETR4_B_0\", \"VOL\")","v":1128576330},{"$f":"RTD(\"rtdtrading.rtdserver\",, \"PETR4_B_0\", \"103\")","v":"814.700,00"},{"$f":"RTD(\"rtdtrading.rtdserver\",, \"PETR4_B_0\", \"100\")","v":"814.700"}]
[null,"VALE3",{"$f":"RTD(\"rtdtrading.rtdserver\",, \"VALE3_B_0\", \"ULT\")","v":68.819999999999709},{"$f":"RTD(\"rtdtrading.rtdserver\",, \"VALE3_B_0\", \"ABE\")","v":69.650000000000006},{"$f":"RTD(\"rtdtrading.rtdserver\",, \"VALE3_B_0\", \"MAX\")","v":71.2},{"$f":"RTD(\"rtdtrading.rtdserver\",, \"VALE3_B_0\", \"MIN\")","v":68.709999999999809},{"$f":"RTD(\"rtdtrading.rtdserver\",, \"VALE3_B_0\", \"FEC\")","v":69.27000000000001},{"$f":"RTD(\"rtdtrading.rtdserver\",, \"VALE3_B_0\", \"VAR\")","v":-0.64963187527111188},{"$f":"RTD(\"rtdtrading.rtdserver\",, \"VALE3_B_0\", \"VARPTS\")","v":-0.45000000000030127},{"$f":"RTD(\"rtdtrading.rtdserver\",, \"VALE3_B_0\", \"VOL\")","v":1083210323},{"$f":"RTD(\"rtdtrading.rtdserver\",, \"VALE3_B_0\", \"103\")","v":"-244.400,00"},{"$f":"RTD(\"rtdtrading.rtdserver\",, \"VALE3_B_0\", \"100\")","v":"-244.400"}]
[null,"ITUB4",{"$f":"RTD(\"rtdtrading.rtdserver\",, \"ITUB4_B_0\", \"ULT\")","v":26.709999999999994},{"$f":"RTD(\"rtdtrading.rtdserver\",, \"ITUB4_B_0\", \"ABE\")","v":26.9},{"$f":"RTD(\"rtdtrading.rtdserver\",, \"ITUB4_B_0\", \"MAX\")","v":27.14},{"$f":"RTD(\"rtdtrading.rtdserver\",, \"ITUB4_B_0\", \"MIN\")","v":26.709999999999994},{"$f":"RTD(\"rtdtrading.rtdserver\",, \"ITUB4_B_0\", \"FEC\")","v":26.85},{"$f":"RTD(\"rtdtrading.rtdserver\",, \"ITUB4_B_0\", \"VAR\")","v":-0.52141527001865029},{"$f":"RTD(\"rtdtrading.rtdserver\",, \"ITUB4_B_0\", \"VARPTS\")","v":-0.14000000000000767},{"$f":"RTD(\"rtdtrading.rtdserver\",, \"ITUB4_B_0\", \"VOL\")","v":165061652},{"$f":"RTD(\"rtdtrading.rtdserver\",, \"ITUB4_B_0\", \"103\")","v":"-196.400,00"},{"$f":"RTD(\"rtdtrading.rtdserver\",, \"ITUB4_B_0\", \"100\")","v":"-196.400"}]
[]
[null,null,null,null,null,null,null,null,null,null,{"$f":"SUM(K112+K111+K110)","v":373900}]

{"sheet":"Profit","index":4,"n_rows":113,"n_cols":40,"rows_kept":113,"cut":false,"hidden":true,"merged":[]}
[]
[]
[]
[]
[]
[null,null,null,"Asset","Último","Abertura","Máximo","Mínimo","Fechamento Anterior","Variação","Aj. Anterior","Preço Teórico","SE","QTD TEORICO","TOTAL IBOV",null,null,"IBOV ONLINE",null,{"$f":"O97/O99","v":{"$error":"#REF!"}}]
[null,null,null,"RRRP3",{"$f":"RTD(\"rtdtrading.rtdserver\",, \"RRRP3_B_0\", \"ULT\")","v":36.890000000000029},{"$f":"RTD(\"rtdtrading.rtdserver\",, \"RRRP3_B_0\", \"ABE\")","v":37},{"$f":"RTD(\"rtdtrading.rtdserver\",, \"RRRP3_B_0\", \"MAX\")","v":37.43},{"$f":"RTD(\"rtdtrading.rtdserver\",, \"RRRP3_B_0\", \"MIN\")","v":36.659999999999997},{"$f":"RTD(\"rtdtrading.rtdserver\",, \"RRRP3_B_0\", \"FEC\")","v":36.950000000000003},{"$f":"RTD(\"rtdtrading.rtdserver\",, \"RRRP3_B_0\", \"VAR\")","v":-0.16238159675229724},{"$f":"RTD(\"rtdtrading.rtdserver\",, \"RRRP3_B_0\", \"AJA\")","v":0},0,{"$f":"IF(L7=0,E7,L7)","v":36.890000000000029},200372163,{"$f":"M7*N7","v":7391729093.0700054}]
[null,null,null,"LWSA3",{"$f":"RTD(\"rtdtrading.rtdserver\",, \"LWSA3_B_0\", \"ULT\")","v":9.7300000000000022},{"$f":"RTD(\"rtdtrading.rtdserver\",, \"LWSA3_B_0\", \"ABE\")","v":10.02},{"$f":"RTD(\"rtdtrading.rtdserver\",, \"LWSA3_B_0\", \"MAX\")","v":10.15},{"$f":"RTD(\"rtdtrading.rtdserver\",, \"LWSA3_B_0\", \"MIN\")","v":9.7200000000000024},{"$f":"RTD(\"rtdtrading.rtdserver\",, \"LWSA3_B_0\", \"FEC\")","v":10.020000000000001},{"$f":"RTD(\"rtdtrading.rtdserver\",, \"LWSA3_B_0\", \"VAR\")","v":-2.8942115768462884},{"$f":"RTD(\"rtdtrading.rtdserver\",, \"LWSA3_B_0\", \"AJA\")","v":0},{"$f":"RTD(\"rtdtrading.rtdserver\",, \"LWSA3_B_0\", \"PRT\")","v":0},{"$f":"IF(L8=0,E8,L8)","v":9.7300000000000022},201257220,{"$f":"M8*N8","v":1958232750.6000004}]
[null,null,null,"ENEV3",{"$f":"RTD(\"rtdtrading.rtdserver\",, \"ENEV3_B_0\", \"ULT\")","v":15.280000000000001},{"$f":"RTD(\"rtdtrading.rtdserver\",, \"ENEV3_B_0\", \"ABE\")","v":15.46},{"$f":"RTD(\"rtdtrading.rtdserver\",, \"ENEV3_B_0\", \"MAX\")","v":15.52},{"$f":"RTD(\"rtdtrading.rtdserver\",, \"ENEV3_B_0\", \"MIN\")","v":15.24},{"$f":"RTD(\"rtdtrading.rtdserver\",, \"ENEV3_B_0\", \"FEC\")","v":15.38},{"$f":"RTD(\"rtdtrading.rtdserver\",, \"ENEV3_B_0\", \"VAR\")","v":-0.65019505851755355},{"$f":"RTD(\"rtdtrading.rtdserver\",, \"ENEV3_B_0\", \"AJA\")","v":0},{"$f":"RTD(\"rtdtrading.rtdserver\",, \"ENEV3_B_0\", \"PRT\")","v":0},15.280000000000001,4380195841,66929392450.480003]
[null,null,null,"EMBR3",{"$f":"RTD(\"rtdtrading.rtdserver\",, \"EMBR3_B_0\", \"ULT\")","v":14.500000000000002},{"$f":"RTD(\"rtdtrading.rtdserver\",, \"EMBR3_B_0\", \"ABE\")","v":14.85},{"$f":"RTD(\"rtdtrading.rtdserver\",, \"EMBR3_B_0\", \"MAX\")","v":14.98},{"$f":"RTD(\"rtdtrading.rtdserver\",, \"EMBR3_B_0\", \"MIN\")","v":14.49},{"$f":"RTD(\"rtdtrading.rtdserver\",, \"EMBR3_B_0\", \"FEC\")","v":14.73},{"$f":"RTD(\"rtdtrading.rtdserver\",, \"EMBR3_B_0\", \"VAR\")","v":-1.5614392396469725},{"$f":"RTD(\"rtdtrading.rtdserver\",, \"EMBR3_B_0\", \"AJA\")","v":0},{"$f":"RTD(\"rtdtrading.rtdserver\",, \"EMBR3_B_0\", \"PRT\")","v":0},14.500000000000002,596875824,8654699448.0000019]
[null,null,null,"COGN3",{"$f":"RTD(\"rtdtrading.rtdserver\",, \"COGN3_B_0\", \"ULT\")","v":2.6200000000000006},{"$f":"RTD(\"rtdtrading.rtdserver\",, \"COGN3_B_0\", \"ABE\")","v":2.69},{"$f":"RTD(\"rtdtrading.rtdserver\",, \"COGN3_B_0\", \"MAX\")","v":2.73},{"$f":"RTD(\"rtdtrading.rtdserver\",, \"COGN3_B_0\", \"MIN\")","v":2.62},{"$f":"RTD(\"rtdtrading.rtdserver\",, \"COGN3_B_0\", \"FEC\")","v":2.67},{"$f":"RTD(\"rtdtrading.rtdserver\",, \"COGN3_B_0\", \"VAR\")","v":-1.8726591760299272},{"$f":"RTD(\"rtdtrading.rtdserver\",, \"COGN3_B_0\", \"AJA\")","v":0},{"$f":"RTD(\"rtdtrading.rtdserver\",, \"COGN3_B_0\", \"PRT\")","v":0},2.6200000000000006,794531367,2081672181.5400004]
[null,null,null,"PRIO3",{"$f":"RTD(\"rtdtrading.rtdserver\",, \"PRIO3_B_0\", \"ULT\")","v":26.350000000000005},{"$f":"RTD(\"rtdtrading.rtdserver\",, \"PRIO3_B_0\", \"ABE\")","v":26.48},{"$f":"RTD(\"rtdtrading.rtdserver\",, \"PRIO3_B_0\", \"MAX\")","v":26.69},{"$f":"RTD(\"rtdtrading.rtdserver\",, \"PRIO3_B_0\", \"MIN\")","v":26.23},{"$f":"RTD(\"rtdtrading.rtdserver\",, \"PRIO3_B_0\", \"FEC\")","v":26.39},{"$f":"RTD(\"rtdtrading.rtdserver\",, \"PRIO3_B_0\", \"VAR\")","v":-0.15157256536565455},{"$f":"RTD(\"rtdtrading.rtdserver\",, \"PRIO3_B_0\", \"AJA\")","v":0},{"$f":"RTD(\"rtdtrading.rtdserver\",, \"PRIO3_B_0\", \"PRT\")","v":0},26.350000000000005,327741172,8635979882.2000008]
[null,null,null,"BRFS3",{"$f":"RTD(\"rtdtrading.rtdserver\",, \"BRFS3_B_0\", \"ULT\")","v":16.100000000000009},{"$f":"RTD(\"rtdtrading.rtdserver\",, \"BRFS3_B_0\", \"ABE\")","v":16.55},{"$f":"RTD(\"rtdtrading.rtdserver\",, \"BRFS3_B_0\", \"MAX\")","v":16.61},{"$f":"RTD(\"rtdtrading.rtdserver\",, \"BRFS3_B_0\", \"MIN\")","v":16.05},{"$f":"RTD(\"rtdtrading.rtdserver\",, \"BRFS3_B_0\", \"FEC\")","v":16.470000000000002},{"$f":"RTD(\"rtdtrading.rtdserver\",, \"BRFS3_B_0\", \"VAR\")","v":-2.246508803885817},{"$f":"RTD(\"rtdtrading.rtdserver\",, \"BRFS3_B_0\", \"AJA\")","v":0},{"$f":"RTD(\"rtdtrading.rtdserver\",, \"BRFS3_B_0\", \"PRT\")","v":0},16.100000000000009,5987625321,96400767668.100052,null,{"$f":"RTD(\"srv.rtd\",\"\",\"SQT\",\"INDQ22\",\"ARROWVAR\")","v":"1"},"INDQ22",{"$f":"RTD(\"srv.rtd\",\"\",\"SQT\",\"INDQ22\",\"FLAG\")","v":"0"},{"$f":"RTD(\"srv.rtd\",\"\",\"SQT\",\"INDQ22\",\"DESC\")","v":"IBOVESPA AGO/22 "},{"$f":"RTD(\"srv.rtd\",\"\",\"SQT\",\"INDQ22\",\"LAST\")","v":0},{"$f":"RTD(\"srv.rtd\",\"\",\"SQT\",\"INDQ22\",\"TICK\")","v":"0"},{"$f":"RTD(\"srv.rtd\",\"\",\"SQT\",\"INDQ22\",\"VAR\")","v":"0"},{"$f":"RTD(\"srv.rtd\",\"\",\"SQT\",\"INDQ22\",\"TIME\")","v":0.8125},{"$f":"RTD(\"srv.rtd\",\"\",\"SQT\",\"INDQ22\",\"BID\")","v":0},{"$f":"RTD(\"srv.rtd\",\"\",\"SQT\",\"INDQ22\",\"ASK\")","v":0},{"$f":"RTD(\"srv.rtd\",\"\",\"SQT\",\"INDQ22\",\"HIGH\")","v":0},{"$f":"RTD(\"srv.rtd\",\"\",\"SQT\",\"INDQ22\",\"LOW\")","v":0},{"$f":"RTD(\"srv.rtd\",\"\",\"SQT\",\"INDQ22\",\"OPEN\")","v":0},{"$f":"RTD(\"srv.rtd\",\"\",\"SQT\",\"INDQ22\",\"CLOSE\")","v":113780},{"$f":"RTD(\"srv.rtd\",\"\",\"SQT\",\"INDQ22\",\"VOLQ\")","v":0},{"$f":"RTD(\"srv.rtd\",\"\",\"SQT\",\"INDQ22\",\"VOLF\")","v":0},{"$f":"RTD(\"srv.rtd\",\"\",\"SQT\",\"INDQ22\",\"QTT\")","v":0},{"$f":"RTD(\"srv.rtd\",\"\",\"SQT\",\"INDQ22\",\"DATE\")","v":44790},{"$f":"RTD(\"srv.rtd\",\"\",\"SQT\",\"INDQ22\",\"ST\")","v":"Fechado"},{"$f":"RTD(\"srv.rtd\",\"\",\"SQT\",\"INDQ22\",\"TEOPR\")","v":0},{"$f":"RTD(\"srv.rtd\",\"\",\"SQT\",\"INDQ22\",\"TEOVOL\")","v":0},{"$f":"RTD(\"srv.rtd\",\"\",\"SQT\",\"INDQ22\",\"AJU\")","v":0},{"$f":"RTD(\"srv.rtd\",\"\",\"SQT\",\"INDQ22\",\"AJULAST\")","v":113589},{"$f":"RTD(\"srv.rtd\",\"\",\"SQT\",\"INDQ22\",\"DIF\")","v":"0"}]
[null,null,null,"CVCB3",{"$f":"RTD(\"rtdtrading.rtdserver\",, \"CVCB3_B_0\", \"ULT\")","v":7.9000000000000021},{"$f":"RTD(\"rtdtrading.rtdserver\",, \"CVCB3_B_0\", \"ABE\")","v":8.2899999999999991},{"$f":"RTD(\"rtdtrading.rtdserver\",, \"CVCB3_B_0\", \"MAX\")","v":8.43},{"$f":"RTD(\"rtdtrading.rtdserver\",, \"CVCB3_B_0\", \"MIN\")","v":7.8800000000000008},{"$f":"RTD(\"rtdtrading.rtdserver\",, \"CVCB3_B_0\", \"FEC\")","v":8.2200000000000006},{"$f":"RTD(\"rtdtrading.rtdserver\",, \"CVCB3_B_0\", \"VAR\")","v":-3.8929440389294285},{"$f":"RTD(\"rtdtrading.rtdserver\",, \"CVCB3_B_0\", \"AJA\")","v":0},{"$f":"RTD(\"rtdtrading.rtdserver\",, \"CVCB3_B_0\", \"PRT\")","v":0},7.9000000000000021,341124068,2694880137.2000008,null,{"$f":"RTD(\"srv.rtd\",\"\",\"SQT\",\"INDV22\",\"ARROWVAR\")","v":"0"},"INDV22",{"$f":"RTD(\"srv.rtd\",\"\",\"SQT\",\"INDV22\",\"FLAG\")","v":"0"},{"$f":"RTD(\"srv.rtd\",\"\",\"SQT\",\"INDV22\",\"DESC\")","v":"IBOVESPA OUT/22 "},{"$f":"RTD(\"srv.rtd\",\"\",\"SQT\",\"INDV22\",\"LAST\")","v":114115},{"$f":"RTD(\"srv.rtd\",\"\",\"SQT\",\"INDV22\",\"TICK\")","v":"-"},{"$f":"RTD(\"srv.rtd\",\"\",\"SQT\",\"INDV22\",\"VAR\")","v":-0.91603716245549605},{"$f":"RTD(\"srv.rtd\",\"\",\"SQT\",\"INDV22\",\"TIME\")","v":0.50547453703703704},{"$f":"RTD(\"srv.rtd\",\"\",\"SQT\",\"INDV22\",\"BID\")","v":114100},{"$f":"RTD(\"srv.rtd\",\"\",\"SQT\",\"INDV22\",\"ASK\")","v":114115},{"$f":"RTD(\"srv.rtd\",\"\",\"SQT\",\"INDV22\",\"HIGH\")","v":115845},{"$f":"RTD(\"srv.rtd\",\"\",\"SQT\",\"INDV22\",\"LOW\")","v":114070},{"$f":"RTD(\"srv.rtd\",\"\",\"SQT\",\"INDV22\",\"OPEN\")","v":114960},{"$f":"RTD(\"srv.rtd\",\"\",\"SQT\",\"INDV22\",\"CLOSE\")","v":115170},{"$f":"RTD(\"srv.rtd\",\"\",\"SQT\",\"INDV22\",\"VOLQ\")","v":85725},{"$f":"RTD(\"srv.rtd\",\"\",\"SQT\",\"INDV22\",\"VOLF\")","v":9826941700},{"$f":"RTD(\"srv.rtd\",\"\",\"SQT\",\"INDV22\",\"QTT\")","v":15645},{"$f":"RTD(\"srv.rtd\",\"\",\"SQT\",\"INDV22\",\"DATE\")","v":44799},{"$f":"RTD(\"srv.rtd\",\"\",\"SQT\",\"INDV22\",\"ST\")","v":"Aberto"},{"$f":"RTD(\"srv.rtd\",\"\",\"SQT\",\"INDV22\",\"TEOPR\")","v":0},{"$f":"RTD(\"srv.rtd\",\"\",\"SQT\",\"INDV22\",\"TEOVOL\")","v":0},{"$f":"RTD(\"srv.rtd\",\"\",\"SQT\",\"INDV22\",\"AJU\")","v":0},{"$f":"RTD(\"srv.rtd\",\"\",\"SQT\",\"INDV22\",\"AJULAST\")","v":115198},{"$f":"RTD(\"srv.rtd\",\"\",\"SQT\",\"INDV22\",\"DIF\")","v":-1055}]
[null,null,null,"CASH3",{"$f":"RTD(\"rtdtrading.rtdserver\",, \"CASH3_B_0\", \"ULT\")","v":1.34},{"$f":"RTD(\"rtdtrading.rtdserver\",, \"CASH3_B_0\", \"ABE\")","v":1.36},{"$f":"RTD(\"rtdtrading.rtdserver\",, \"CASH3_B_0\", \"MAX\")","v":1.39},{"$f":"RTD(\"rtdtrading.rtdserver\",, \"CASH3_B_0\", \"MIN\")","v":1.33},{"$f":"RTD(\"rtdtrading.rtdserver\",, \"CASH3_B_0\", \"FEC\")","v":1.36},{"$f":"RTD(\"rtdtrading.rtdserver\",, \"CASH3_B_0\", \"VAR\")","v":-1.4705882352941302},{"$f":"RTD(\"rtdtrading.rtdserver\",, \"CASH3_B_0\", \"AJA\")","v":0},{"$f":"RTD(\"rtdtrading.rtdserver\",, \"CASH3_B_0\", \"PRT\")","v":0},1.34,671629692,899983787.28000009,null,{"$f":"RTD(\"srv.rtd\",\"\",\"SQT\",\"INDZ22\",\"ARROWVAR\")","v":"1"},"INDZ22",{"$f":"RTD(\"srv.rtd\",\"\",\"SQT\",\"INDZ22\",\"FLAG\")","v":"0"},{"$f":"RTD(\"srv.rtd\",\"\",\"SQT\",\"INDZ22\",\"DESC\")","v":"IBOVESPA DEZ/22 "},{"$f":"RTD(\"srv.rtd\",\"\",\"SQT\",\"INDZ22\",\"LAST\")","v":0},{"$f":"RTD(\"srv.rtd\",\"\",\"SQT\",\"INDZ22\",\"TICK\")","v":"0"},{"$f":"RTD(\"srv.rtd\",\"\",\"SQT\",\"INDZ22\",\"VAR\")","v":"0"},{"$f":"RTD(\"srv.rtd\",\"\",\"SQT\",\"INDZ22\",\"TIME\")","v":0.375},{"$f":"RTD(\"srv.rtd\",\"\",\"SQT\",\"INDZ22\",\"BID\")","v":0},{"$f":"RTD(\"srv.rtd\",\"\",\"SQT\",\"INDZ22\",\"ASK\")","v":0},{"$f":"RTD(\"srv.rtd\",\"\",\"SQT\",\"INDZ22\",\"HIGH\")","v":0},{"$f":"RTD(\"srv.rtd\",\"\",\"SQT\",\"INDZ22\",\"LOW\")","v":0},{"$f":"RTD(\"srv.rtd\",\"\",\"SQT\",\"INDZ22\",\"OPEN\")","v":0},{"$f":"RTD(\"srv.rtd\",\"\",\"SQT\",\"INDZ22\",\"CLOSE\")","v":117393},{"$f":"RTD(\"srv.rtd\",\"\",\"SQT\",\"INDZ22\",\"VOLQ\")","v":0},{"$f":"RTD(\"srv.rtd\",\"\",\"SQT\",\"INDZ22\",\"VOLF\")","v":0},{"$f":"RTD(\"srv.rtd\",\"\",\"SQT\",\"INDZ22\",\"QTT\")","v":0},{"$f":"RTD(\"srv.rtd\",\"\",\"SQT\",\"INDZ22\",\"DATE\")","v":44799},{"$f":"RTD(\"srv.rtd\",\"\",\"SQT\",\"INDZ22\",\"ST\")","v":"Aberto"},{"$f":"RTD(\"srv.rtd\",\"\",\"SQT\",\"INDZ22\",\"TEOPR\")","v":0},{"$f":"RTD(\"srv.rtd\",\"\",\"SQT\",\"INDZ22\",\"TEOVOL\")","v":0},{"$f":"RTD(\"srv.rtd\",\"\",\"SQT\",\"INDZ22\",\"AJU\")","v":0},{"$f":"RTD(\"srv.rtd\",\"\",\"SQT\",\"INDZ22\",\"AJULAST\")","v":117393},{"$f":"RTD(\"srv.rtd\",\"\",\"SQT\",\"INDZ22\",\"DIF\")","v":"0"}]
[null,null,null,"AZUL4",{"$f":"RTD(\"rtdtrading.rtdserver\",, \"AZUL4_B_0\", \"ULT\")","v":17.529999999999966},{"$f":"RTD(\"rtdtrading.rtdserver\",, \"AZUL4_B_0\", \"ABE\")","v":18.3},{"$f":"RTD(\"rtdtrading.rtdserver\",, \"AZUL4_B_0\", \"MAX\")","v":18.61},{"$f":"RTD(\"rtdtrading.rtdserver\",, \"AZUL4_B_0\", \"MIN\")","v":17.499999999999968},{"$f":"RTD(\"rtdtrading.rtdserver\",, \"AZUL4_B_0\", \"FEC\")","v":18.23},{"$f":"RTD(\"rtdtrading.rtdserver\",, \"AZUL4_B_0\", \"VAR\")","v":-3.8398244651674958},{"$f":"RTD(\"rtdtrading.rtdserver\",, \"AZUL4_B_0\", \"AJA\")","v":0},{"$f":"RTD(\"rtdtrading.rtdserver\",, \"AZUL4_B_0\", \"PRT\")","v":0},17.529999999999966,828273884,14519641186.519972,null,{"$f":"RTD(\"srv.rtd\",\"\",\"SQT\",\"INDG23\",\"ARROWVAR\")","v":"1"},"INDG23",{"$f":"RTD(\"srv.rtd\",\"\",\"SQT\",\"INDG23\",\"FLAG\")","v":"0"},{"$f":"RTD(\"srv.rtd\",\"\",\"SQT\",\"INDG23\",\"DESC\")","v":"IBOVESPA FEV/23 "},{"$f":"RTD(\"srv.rtd\",\"\",\"SQT\",\"INDG23\",\"LAST\")","v":0},{"$f":"RTD(\"srv.rtd\",\"\",\"SQT\",\"INDG23\",\"TICK\")","v":"0"},{"$f":"RTD(\"srv.rtd\",\"\",\"SQT\",\"INDG23\",\"VAR\")","v":"0"},{"$f":"RTD(\"srv.rtd\",\"\",\"SQT\",\"INDG23\",\"TIME\")","v":0.375},{"$f":"RTD(\"srv.rtd\",\"\",\"SQT\",\"INDG23\",\"BID\")","v":0},{"$f":"RTD(\"srv.rtd\",\"\",\"SQT\",\"INDG23\",\"ASK\")","v":0},{"$f":"RTD(\"srv.rtd\",\"\",\"SQT\",\"INDG23\",\"HIGH\")","v":0},{"$f":"RTD(\"srv.rtd\",\"\",\"SQT\",\"INDG23\",\"LOW\")","v":0},{"$f":"RTD(\"srv.rtd\",\"\",\"SQT\",\"INDG23\",\"OPEN\")","v":0},{"$f":"RTD(\"srv.rtd\",\"\",\"SQT\",\"INDG23\",\"CLOSE\")","v":119798},{"$f":"RTD(\"srv.rtd\",\"\",\"SQT\",\"INDG23\",\"VOLQ\")","v":0},{"$f":"RTD(\"srv.rtd\",\"\",\"SQT\",\"INDG23\",\"VOLF\")","v":0},{"$f":"RTD(\"srv.rtd\",\"\",\"SQT\",\"INDG23\",\"QTT\")","v":0},{"$f":"RTD(\"srv.rtd\",\"\",\"SQT\",\"INDG23\",\"DATE\")","v":44799},{"$f":"RTD(\"srv.rtd\",\"\",\"SQT\",\"INDG23\",\"ST\")","v":"Aberto"},{"$f":"RTD(\"srv.rtd\",\"\",\"SQT\",\"INDG23\",\"TEOPR\")","v":0},{"$f":"RTD(\"srv.rtd\",\"\",\"SQT\",\"INDG23\",\"TEOVOL\")","v":0},{"$f":"RTD(\"srv.rtd\",\"\",\"SQT\",\"INDG23\",\"AJU\")","v":0},{"$f":"RTD(\"srv.rtd\",\"\",\"SQT\",\"INDG23\",\"AJULAST\")","v":119798},{"$f":"RTD(\"srv.rtd\",\"\",\"SQT\",\"INDG23\",\"DIF\")","v":"0"}]
[null,null,null,"ECOR3",{"$f":"RTD(\"rtdtrading.rtdserver\",, \"ECOR3_B_0\", \"ULT\")","v":6.13},{"$f":"RTD(\"rtdtrading.rtdserver\",, \"ECOR3_B_0\", \"ABE\")","v":6.21},{"$f":"RTD(\"rtdtrading.rtdserver\",, \"ECOR3_B_0\", \"MAX\")","v":6.26},{"$f":"RTD(\"rtdtrading.rtdserver\",, \"ECOR3_B_0\", \"MIN\")","v":6.1},{"$f":"RTD(\"rtdtrading.rtdserver\",, \"ECOR3_B_0\", \"FEC\")","v":6.19},{"$f":"RTD(\"rtdtrading.rtdserver\",, \"ECOR3_B_0\", \"VAR\")","v":-0.96930533117932782},{"$f":"RTD(\"rtdtrading.rtdserver\",, \"ECOR3_B_0\", \"AJA\")","v":0},{"$f":"RTD(\"rtdtrading.rtdserver\",, \"ECOR3_B_0\", \"PRT\")","v":0},6.13,1516726535,9297533659.5499992,null,{"$f":"RTD(\"srv.rtd\",\"\",\"SQT\",\"INDJ23\",\"ARROWVAR\")","v":"1"},"INDJ23",{"$f":"RTD(\"srv.rtd\",\"\",\"SQT\",\"INDJ23\",\"FLAG\")","v":"0"},{"$f":"RTD(\"srv.rtd\",\"\",\"SQT\",\"INDJ23\",\"DESC\")","v":"IBOVESPA ABR/23 "},{"$f":"RTD(\"srv.rtd\",\"\",\"SQT\",\"INDJ23\",\"LAST\")","v":0},{"$f":"RTD(\"srv.rtd\",\"\",\"SQT\",\"INDJ23\",\"TICK\")","v":"0"},{"$f":"RTD(\"srv.rtd\",\"\",\"SQT\",\"INDJ23\",\"VAR\")","v":"0"},{"$f":"RTD(\"srv.rtd\",\"\",\"SQT\",\"INDJ23\",\"TIME\")","v":0.375},{"$f":"RTD(\"srv.rtd\",\"\",\"SQT\",\"INDJ23\",\"BID\")","v":0},{"$f":"RTD(\"srv.rtd\",\"\",\"SQT\",\"INDJ23\",\"ASK\")","v":0},{"$f":"RTD(\"srv.rtd\",\"\",\"SQT\",\"INDJ23\",\"HIGH\")","v":0},{"$f":"RTD(\"srv.rtd\",\"\",\"SQT\",\"INDJ23\",\"LOW\")","v":0},{"$f":"RTD(\"srv.rtd\",\"\",\"SQT\",\"INDJ23\",\"OPEN\")","v":0},{"$f":"RTD(\"srv.rtd\",\"\",\"SQT\",\"INDJ23\",\"CLOSE\")","v":121805},{"$f":"RTD(\"srv.rtd\",\"\",\"SQT\",\"INDJ23\",\"VOLQ\")","v":0},{"$f":"RTD(\"srv.rtd\",\"\",\"SQT\",\"INDJ23\",\"VOLF\")","v":0},{"$f":"RTD(\"srv.rtd\",\"\",\"SQT\",\"INDJ23\",\"QTT\")","v":0},{"$f":"RTD(\"srv.rtd\",\"\",\"SQT\",\"INDJ23\",\"DATE\")","v":44799},{"$f":"RTD(\"srv.rtd\",\"\",\"SQT\",\"INDJ23\",\"ST\")","v":"Aberto"},{"$f":"RTD(\"srv.rtd\",\"\",\"SQT\",\"INDJ23\",\"TEOPR\")","v":0},{"$f":"RTD(\"srv.rtd\",\"\",\"SQT\",\"INDJ23\",\"TEOVOL\")","v":0},{"$f":"RTD(\"srv.rtd\",\"\",\"SQT\",\"INDJ23\",\"AJU\")","v":0},{"$f":"RTD(\"srv.rtd\",\"\",\"SQT\",\"INDJ23\",\"AJULAST\")","v":121805},{"$f":"RTD(\"srv.rtd\",\"\",\"SQT\",\"INDJ23\",\"DIF\")","v":"0"}]
[null,null,null,"DXCO3",{"$f":"RTD(\"rtdtrading.rtdserver\",, \"DXCO3_B_0\", \"ULT\")","v":10.74},{"$f":"RTD(\"rtdtrading.rtdserver\",, \"DXCO3_B_0\", \"ABE\")","v":10.85},{"$f":"RTD(\"rtdtrading.rtdserver\",, \"DXCO3_B_0\", \"MAX\")","v":10.95},{"$f":"RTD(\"rtdtrading.rtdserver\",, \"DXCO3_B_0\", \"MIN\")","v":10.73},{"$f":"RTD(\"rtdtrading.rtdserver\",, \"DXCO3_B_0\", \"FEC\")","v":10.8},{"$f":"RTD(\"rtdtrading.rtdserver\",, \"DXCO3_B_0\", \"VAR\")","v":-0.55555555555557135},{"$f":"RTD(\"rtdtrading.rtdserver\",, \"DXCO3_B_0\", \"AJA\")","v":0},{"$f":"RTD(\"rtdtrading.rtdserver\",, \"DXCO3_B_0\", \"PRT\")","v":0},10.74,5160570290,55424524914.599998,null,{"$f":"RTD(\"srv.rtd\",\"\",\"SQT\",\"INDM23\",\"ARROWVAR\")","v":"1"},"INDM23",{"$f":"RTD(\"srv.rtd\",\"\",\"SQT\",\"INDM23\",\"FLAG\")","v":"0"},{"$f":"RTD(\"srv.rtd\",\"\",\"SQT\",\"INDM23\",\"DESC\")","v":"IBOVESPA JUN/23 "},{"$f":"RTD(\"srv.rtd\",\"\",\"SQT\",\"INDM23\",\"LAST\")","v":0},{"$f":"RTD(\"srv.rtd\",\"\",\"SQT\",\"INDM23\",\"TICK\")","v":"0"},{"$f":"RTD(\"srv.rtd\",\"\",\"SQT\",\"INDM23\",\"VAR\")","v":"0"},{"$f":"RTD(\"srv.rtd\",\"\",\"SQT\",\"INDM23\",\"TIME\")","v":0.375},{"$f":"RTD(\"srv.rtd\",\"\",\"SQT\",\"INDM23\",\"BID\")","v":0},{"$f":"RTD(\"srv.rtd\",\"\",\"SQT\",\"INDM23\",\"ASK\")","v":0},{"$f":"RTD(\"srv.rtd\",\"\",\"SQT\",\"INDM23\",\"HIGH\")","v":0},{"$f":"RTD(\"srv.rtd\",\"\",\"SQT\",\"INDM23\",\"LOW\")","v":0},{"$f":"RTD(\"srv.rtd\",\"\",\"SQT\",\"INDM23\",\"OPEN\")","v":0},{"$f":"RTD(\"srv.rtd\",\"\",\"SQT\",\"INDM23\",\"CLOSE\")","v":124107},{"$f":"RTD(\"srv.rtd\",\"\",\"SQT\",\"INDM23\",\"VOLQ\")","v":0},{"$f":"RTD(\"srv.rtd\",\"\",\"SQT\",\"INDM23\",\"VOLF\")","v":0},{"$f":"RTD(\"srv.rtd\",\"\",\"SQT\",\"INDM23\",\"QTT\")","v":0},{"$f":"RTD(\"srv.rtd\",\"\",\"SQT\",\"INDM23\",\"DATE\")","v":44799},{"$f":"RTD(\"srv.rtd\",\"\",\"SQT\",\"INDM23\",\"ST\")","v":"Aberto"},{"$f":"RTD(\"srv.rtd\",\"\",\"SQT\",\"INDM23\",\"TEOPR\")","v":0},{"$f":"RTD(\"srv.rtd\",\"\",\"SQT\",\"INDM23\",\"TEOVOL\")","v":0},{"$f":"RTD(\"srv.rtd\",\"\",\"SQT\",\"INDM23\",\"AJU\")","v":0},{"$f":"RTD(\"srv.rtd\",\"\",\"SQT\",\"INDM23\",\"AJULAST\")","v":124107},{"$f":"RTD(\"srv.rtd\",\"\",\"SQT\",\"INDM23\",\"DIF\")","v":"0"}]
[null,null,null,"ABEV3",{"$f":"RTD(\"rtdtrading.rtdserver\",, \"ABEV3_B_0\", \"ULT\")","v":15.68},{"$f":"RTD(\"rtdtrading.rtdserver\",, \"ABEV3_B_0\", \"ABE\")","v":15.89},{"$f":"RTD(\"rtdtrading.rtdserver\",, \"ABEV3_B_0\", \"MAX\")","v":15.9},{"$f":"RTD(\"rtdtrading.rtdserver\",, \"ABEV3_B_0\", \"MIN\")","v":15.68},{"$f":"RTD(\"rtdtrading.rtdserver\",, \"ABEV3_B_0\", \"FEC\")","v":15.82},{"$f":"RTD(\"rtdtrading.rtdserver\",, \"ABEV3_B_0\", \"VAR\")","v":-0.88495575221239164},{"$f":"RTD(\"rtdtrading.rtdserver\",, \"ABEV3_B_0\", \"AJA\")","v":0},{"$f":"RTD(\"rtdtrading.rtdserver\",, \"ABEV3_B_0\", \"PRT\")","v":0},15.68,251402249,3941987264.3199997,null,{"$f":"RTD(\"srv.rtd\",\"\",\"SQT\",\"INDQ23\",\"ARROWVAR\")","v":"1"},"INDQ23",{"$f":"RTD(\"srv.rtd\",\"\",\"SQT\",\"INDQ23\",\"FLAG\")","v":"0"},{"$f":"RTD(\"srv.rtd\",\"\",\"SQT\",\"INDQ23\",\"DESC\")","v":"IBOVESPA AGO/23 "},{"$f":"RTD(\"srv.rtd\",\"\",\"SQT\",\"INDQ23\",\"LAST\")","v":0},{"$f":"RTD(\"srv.rtd\",\"\",\"SQT\",\"INDQ23\",\"TICK\")","v":"0"},{"$f":"RTD(\"srv.rtd\",\"\",\"SQT\",\"INDQ23\",\"VAR\")","v":"0"},{"$f":"RTD(\"srv.rtd\",\"\",\"SQT\",\"INDQ23\",\"TIME\")","v":0.375},{"$f":"RTD(\"srv.rtd\",\"\",\"SQT\",\"INDQ23\",\"BID\")","v":0},{"$f":"RTD(\"srv.rtd\",\"\",\"SQT\",\"INDQ23\",\"ASK\")","v":0},{"$f":"RTD(\"srv.rtd\",\"\",\"SQT\",\"INDQ23\",\"HIGH\")","v":0},{"$f":"RTD(\"srv.rtd\",\"\",\"SQT\",\"INDQ23\",\"LOW\")","v":0},{"$f":"RTD(\"srv.rtd\",\"\",\"SQT\",\"INDQ23\",\"OPEN\")","v":0},{"$f":"RTD(\"srv.rtd\",\"\",\"SQT\",\"INDQ23\",\"CLOSE\")","v":126515},{"$f":"RTD(\"srv.rtd\",\"\",\"SQT\",\"INDQ23\",\"VOLQ\")","v":0},{"$f":"RTD(\"srv.rtd\",\"\",\"SQT\",\"INDQ23\",\"VOLF\")","v":0},{"$f":"RTD(\"srv.rtd\",\"\",\"SQT\",\"INDQ23\",\"QTT\")","v":0},{"$f":"RTD(\"srv.rtd\",\"\",\"SQT\",\"INDQ23\",\"DATE\")","v":44799},{"$f":"RTD(\"srv.rtd\",\"\",\"SQT\",\"INDQ23\",\"ST\")","v":"Aberto"},{"$f":"RTD(\"srv.rtd\",\"\",\"SQT\",\"INDQ23\",\"TEOPR\")","v":0},{"$f":"RTD(\"srv.rtd\",\"\",\"SQT\",\"INDQ23\",\"TEOVOL\")","v":0},{"$f":"RTD(\"srv.rtd\",\"\",\"SQT\",\"INDQ23\",\"AJU\")","v":0},{"$f":"RTD(\"srv.rtd\",\"\",\"SQT\",\"INDQ23\",\"AJULAST\")","v":126515},{"$f":"RTD(\"srv.rtd\",\"\",\"SQT\",\"INDQ23\",\"DIF\")","v":"0"}]
[null,null,null,"HAPV3",{"$f":"RTD(\"rtdtrading.rtdserver\",, \"HAPV3_B_0\", \"ULT\")","v":8.09},{"$f":"RTD(\"rtdtrading.rtdserver\",, \"HAPV3_B_0\", \"ABE\")","v":8.16},{"$f":"RTD(\"rtdtrading.rtdserver\",, \"HAPV3_B_0\", \"MAX\")","v":8.33},{"$f":"RTD(\"rtdtrading.rtdserver\",, \"HAPV3_B_0\", \"MIN\")","v":7.97},{"$f":"RTD(\"rtdtrading.rtdserver\",, \"HAPV3_B_0\", \"FEC\")","v":8.07},{"$f":"RTD(\"rtdtrading.rtdserver\",, \"HAPV3_B_0\", \"VAR\")","v":0.24783147459726251},{"$f":"RTD(\"rtdtrading.rtdserver\",, \"HAPV3_B_0\", \"AJA\")","v":0},{"$f":"RTD(\"rtdtrading.rtdserver\",, \"HAPV3_B_0\", \"PRT\")","v":0},8.09,1420530937,11492095280.33,null,{"$f":"RTD(\"srv.rtd\",\"\",\"SQT\",\"INDV23\",\"ARROWVAR\")","v":"1"},"INDV23",{"$f":"RTD(\"srv.rtd\",\"\",\"SQT\",\"INDV23\",\"FLAG\")","v":"0"},{"$f":"RTD(\"srv.rtd\",\"\",\"SQT\",\"INDV23\",\"DESC\")","v":"IBOVESPA OUT/23 "},{"$f":"RTD(\"srv.rtd\",\"\",\"SQT\",\"INDV23\",\"LAST\")","v":0},{"$f":"RTD(\"srv.rtd\",\"\",\"SQT\",\"INDV23\",\"TICK\")","v":"0"},{"$f":"RTD(\"srv.rtd\",\"\",\"SQT\",\"INDV23\",\"VAR\")","v":"0"},{"$f":"RTD(\"srv.rtd\",\"\",\"SQT\",\"INDV23\",\"TIME\")","v":0.375},{"$f":"RTD(\"srv.rtd\",\"\",\"SQT\",\"INDV23\",\"BID\")","v":0},{"$f":"RTD(\"srv.rtd\",\"\",\"SQT\",\"INDV23\",\"ASK\")","v":0},{"$f":"RTD(\"srv.rtd\",\"\",\"SQT\",\"INDV23\",\"HIGH\")","v":0},{"$f":"RTD(\"srv.rtd\",\"\",\"SQT\",\"INDV23\",\"LOW\")","v":0},{"$f":"RTD(\"srv.rtd\",\"\",\"SQT\",\"INDV23\",\"OPEN\")","v":0},{"$f":"RTD(\"srv.rtd\",\"\",\"SQT\",\"INDV23\",\"CLOSE\")","v":128728},{"$f":"RTD(\"srv.rtd\",\"\",\"SQT\",\"INDV23\",\"VOLQ\")","v":0},{"$f":"RTD(\"srv.rtd\",\"\",\"SQT\",\"INDV23\",\"VOLF\")","v":0},{"$f":"RTD(\"srv.rtd\",\"\",\"SQT\",\"INDV23\",\"QTT\")","v":0},{"$f":"RTD(\"srv.rtd\",\"\",\"SQT\",\"INDV23\",\"DATE\")","v":44799},{"$f":"RTD(\"srv.rtd\",\"\",\"SQT\",\"INDV23\",\"ST\")","v":"Aberto"},{"$f":"RTD(\"srv.rtd\",\"\",\"SQT\",\"INDV23\",\"TEOPR\")","v":0},{"$f":"RTD(\"srv.rtd\",\"\",\"SQT\",\"INDV23\",\"TEOVOL\")","v":0},{"$f":"RTD(\"srv.rtd\",\"\",\"SQT\",\"INDV23\",\"AJU\")","v":0},{"$f":"RTD(\"srv.rtd\",\"\",\"SQT\",\"INDV23\",\"AJULAST\")","v":128728},{"$f":"RTD(\"srv.rtd\",\"\",\"SQT\",\"INDV23\",\"DIF\")","v":"0"}]
[null,null,null,"SULA11",{"$f":"RTD(\"rtdtrading.rtdserver\",, \"SULA11_B_0\", \"ULT\")","v":24.819999999999975},{"$f":"RTD(\"rtdtrading.rtdserver\",, \"SULA11_B_0\", \"ABE\")","v":25.37},{"$f":"RTD(\"rtdtrading.rtdserver\",, \"SULA11_B_0\", \"MAX\")","v":25.68},{"$f":"RTD(\"rtdtrading.rtdserver\",, \"SULA11_B_0\", \"MIN\")","v":24.809999999999988},{"$f":"RTD(\"rtdtrading.rtdserver\",, \"SULA11_B_0\", \"FEC\")","v":25.34},{"$f":"RTD(\"rtdtrading.rtdserver\",, \"SULA11_B_0\", \"VAR\")","v":-2.052091554854087},{"$f":"RTD(\"rtdtrading.rtdserver\",, \"SULA11_B_0\", \"AJA\")","v":0},{"$f":"RTD(\"rtdtrading.rtdserver\",, \"SULA11_B_0\", \"PRT\")","v":0},24.819999999999975,264975728,6576697568.9599934,null,{"$f":"RTD(\"srv.rtd\",\"\",\"SQT\",\"INDZ23\",\"ARROWVAR\")","v":"1"},"INDZ23",{"$f":"RTD(\"srv.rtd\",\"\",\"SQT\",\"INDZ23\",\"FLAG\")","v":"0"},{"$f":"RTD(\"srv.rtd\",\"\",\"SQT\",\"INDZ23\",\"DESC\")","v":"IBOVESPA DEZ/23 "},{"$f":"RTD(\"srv.rtd\",\"\",\"SQT\",\"INDZ23\",\"LAST\")","v":0},{"$f":"RTD(\"srv.rtd\",\"\",\"SQT\",\"INDZ23\",\"TICK\")","v":"0"},{"$f":"RTD(\"srv.rtd\",\"\",\"SQT\",\"INDZ23\",\"VAR\")","v":"0"},{"$f":"RTD(\"srv.rtd\",\"\",\"SQT\",\"INDZ23\",\"TIME\")","v":0.375},{"$f":"RTD(\"srv.rtd\",\"\",\"SQT\",\"INDZ23\",\"BID\")","v":0},{"$f":"RTD(\"srv.rtd\",\"\",\"SQT\",\"INDZ23\",\"ASK\")","v":0},{"$f":"RTD(\"srv.rtd\",\"\",\"SQT\",\"INDZ23\",\"HIGH\")","v":0},{"$f":"RTD(\"srv.rtd\",\"\",\"SQT\",\"INDZ23\",\"LOW\")","v":0},{"$f":"RTD(\"srv.rtd\",\"\",\"SQT\",\"INDZ23\",\"OPEN\")","v":0},{"$f":"RTD(\"srv.rtd\",\"\",\"SQT\",\"INDZ23\",\"CLOSE\")","v":130617},{"$f":"RTD(\"srv.rtd\",\"\",\"SQT\",\"INDZ23\",\"VOLQ\")","v":0},{"$f":"RTD(\"srv.rtd\",\"\",\"SQT\",\"INDZ23\",\"VOLF\")","v":0},{"$f":"RTD(\"srv.rtd\",\"\",\"SQT\",\"INDZ23\",\"QTT\")","v":0},{"$f":"RTD(\"srv.rtd\",\"\",\"SQT\",\"INDZ23\",\"DATE\")","v":44799},{"$f":"RTD(\"srv.rtd\",\"\",\"SQT\",\"INDZ23\",\"ST\")","v":"Aberto"},{"$f":"RTD(\"srv.rtd\",\"\",\"SQT\",\"INDZ23\",\"TEOPR\")","v":0},{"$f":"RTD(\"srv.rtd\",\"\",\"SQT\",\"INDZ23\",\"TEOVOL\")","v":0},{"$f":"RTD(\"srv.rtd\",\"\",\"SQT\",\"INDZ23\",\"AJU\")","v":0},{"$f":"RTD(\"srv.rtd\",\"\",\"SQT\",\"INDZ23\",\"AJULAST\")","v":130617},{"$f":"RTD(\"srv.rtd\",\"\",\"SQT\",\"INDZ23\",\"DIF\")","v":"0"}]
[null,null,null,"TOTS3",{"$f":"RTD(\"rtdtrading.rtdserver\",, \"TOTS3_B_0\", \"ULT\")","v":30.269999999999989},{"$f":"RTD(\"rtdtrading.rtdserver\",, \"TOTS3_B_0\", \"ABE\")","v":31},{"$f":"RTD(\"rtdtrading.rtdserver\",, \"TOTS3_B_0\", \"MAX\")","v":31},{"$f":"RTD(\"rtdtrading.rtdserver\",, \"TOTS3_B_0\", \"MIN\")","v":30.27},{"$f":"RTD(\"rtdtrading.rtdserver\",, \"TOTS3_B_0\", \"FEC\")","v":30.93},{"$f":"RTD(\"rtdtrading.rtdserver\",, \"TOTS3_B_0\", \"VAR\")","v":-2.1338506304558962},{"$f":"RTD(\"rtdtrading.rtdserver\",, \"TOTS3_B_0\", \"AJA\")","v":0},{"$f":"RTD(\"rtdtrading.rtdserver\",, \"TOTS3_B_0\", \"PRT\")","v":0},30.269999999999989,1076512610,32586036704.699989,null,{"$f":"RTD(\"srv.rtd\",\"\",\"SQT\",\"INDG24\",\"ARROWVAR\")","v":"1"},"INDG24",{"$f":"RTD(\"srv.rtd\",\"\",\"SQT\",\"INDG24\",\"FLAG\")","v":"0"},{"$f":"RTD(\"srv.rtd\",\"\",\"SQT\",\"INDG24\",\"DESC\")","v":"IBOVESPA FEV/24 "},{"$f":"RTD(\"srv.rtd\",\"\",\"SQT\",\"INDG24\",\"LAST\")","v":0},{"$f":"RTD(\"srv.rtd\",\"\",\"SQT\",\"INDG24\",\"TICK\")","v":"0"},{"$f":"RTD(\"srv.rtd\",\"\",\"SQT\",\"INDG24\",\"VAR\")","v":"0"},{"$f":"RTD(\"srv.rtd\",\"\",\"SQT\",\"INDG24\",\"TIME\")","v":0.375},{"$f":"RTD(\"srv.rtd\",\"\",\"SQT\",\"INDG24\",\"BID\")","v":0},{"$f":"RTD(\"srv.rtd\",\"\",\"SQT\",\"INDG24\",\"ASK\")","v":0},{"$f":"RTD(\"srv.rtd\",\"\",\"SQT\",\"INDG24\",\"HIGH\")","v":0},{"$f":"RTD(\"srv.rtd\",\"\",\"SQT\",\"INDG24\",\"LOW\")","v":0},{"$f":"RTD(\"srv.rtd\",\"\",\"SQT\",\"INDG24\",\"OPEN\")","v":0},{"$f":"RTD(\"srv.rtd\",\"\",\"SQT\",\"INDG24\",\"CLOSE\")","v":132639},{"$f":"RTD(\"srv.rtd\",\"\",\"SQT\",\"INDG24\",\"VOLQ\")","v":0},{"$f":"RTD(\"srv.rtd\",\"\",\"SQT\",\"INDG24\",\"VOLF\")","v":0},{"$f":"RTD(\"srv.rtd\",\"\",\"SQT\",\"INDG24\",\"QTT\")","v":0},{"$f":"RTD(\"srv.rtd\",\"\",\"SQT\",\"INDG24\",\"DATE\")","v":44799},{"$f":"RTD(\"srv.rtd\",\"\",\"SQT\",\"INDG24\",\"ST\")","v":"Aberto"},{"$f":"RTD(\"srv.rtd\",\"\",\"SQT\",\"INDG24\",\"TEOPR\")","v":0},{"$f":"RTD(\"srv.rtd\",\"\",\"SQT\",\"INDG24\",\"TEOVOL\")","v":0},{"$f":"RTD(\"srv.rtd\",\"\",\"SQT\",\"INDG24\",\"AJU\")","v":0},{"$f":"RTD(\"srv.rtd\",\"\",\"SQT\",\"INDG24\",\"AJULAST\")","v":132639},{"$f":"RTD(\"srv.rtd\",\"\",\"SQT\",\"INDG24\",\"DIF\")","v":"0"}]
[null,null,null,"ALPA4",{"$f":"RTD(\"rtdtrading.rtdserver\",, \"ALPA4_B_0\", \"ULT\")","v":21.870000000000022},{"$f":"RTD(\"rtdtrading.rtdserver\",, \"ALPA4_B_0\", \"ABE\")","v":20.92},{"$f":"RTD(\"rtdtrading.rtdserver\",, \"ALPA4_B_0\", \"MAX\")","v":22.070000000000018},{"$f":"RTD(\"rtdtrading.rtdserver\",, \"ALPA4_B_0\", \"MIN\")","v":20.73},{"$f":"RTD(\"rtdtrading.rtdserver\",, \"ALPA4_B_0\", \"FEC\")","v":20.900000000000002},{"$f":"RTD(\"rtdtrading.rtdserver\",, \"ALPA4_B_0\", \"VAR\")","v":4.6411483253589552},{"$f":"RTD(\"rtdtrading.rtdserver\",, \"ALPA4_B_0\", \"AJA\")","v":0},{"$f":"RTD(\"rtdtrading.rtdserver\",, \"ALPA4_B_0\", \"PRT\")","v":0},21.870000000000022,1301655996,28467216632.520027]
[null,null,null,"ENGI11",{"$f":"RTD(\"rtdtrading.rtdserver\",, \"ENGI11_B_0\", \"ULT\")","v":42.809999999999896},{"$f":"RTD(\"rtdtrading.rtdserver\",, \"ENGI11_B_0\", \"ABE\")","v":42.92},{"$f":"RTD(\"rtdtrading.rtdserver\",, \"ENGI11_B_0\", \"MAX\")","v":43.59},{"$f":"RTD(\"rtdtrading.rtdserver\",, \"ENGI11_B_0\", \"MIN\")","v":42.73},{"$f":"RTD(\"rtdtrading.rtdserver\",, \"ENGI11_B_0\", \"FEC\")","v":42.800000000000004},{"$f":"RTD(\"rtdtrading.rtdserver\",, \"ENGI11_B_0\", \"VAR\")","v":2.3364485981062444E-2},{"$f":"RTD(\"rtdtrading.rtdserver\",, \"ENGI11_B_0\", \"AJA\")","v":0},{"$f":"RTD(\"rtdtrading.rtdserver\",, \"ENGI11_B_0\", \"PRT\")","v":0},42.809999999999896,410988561,17594420296.409958]
[null,null,null,"BPAC11",{"$f":"RTD(\"rtdtrading.rtdserver\",, \"BPAC11_B_0\", \"ULT\")","v":25.609999999999964},{"$f":"RTD(\"rtdtrading.rtdserver\",, \"BPAC11_B_0\", \"ABE\")","v":26},{"$f":"RTD(\"rtdtrading.rtdserver\",, \"BPAC11_B_0\", \"MAX\")","v":26.11},{"$f":"RTD(\"rtdtrading.rtdserver\",, \"BPAC11_B_0\", \"MIN\")","v":25.57},{"$f":"RTD(\"rtdtrading.rtdserver\",, \"BPAC11_B_0\", \"FEC\")","v":25.880000000000003},{"$f":"RTD(\"rtdtrading.rtdserver\",, \"BPAC11_B_0\", \"VAR\")","v":-1.0432766615148381},{"$f":"RTD(\"rtdtrading.rtdserver\",, \"BPAC11_B_0\", \"AJA\")","v":0},{"$f":"RTD(\"rtdtrading.rtdserver\",, \"BPAC11_B_0\", \"PRT\")","v":0},25.609999999999964,1115693556,28572911969.159958]
[null,null,null,"AMER3",{"$f":"RTD(\"rtdtrading.rtdserver\",, \"AMER3_B_0\", \"ULT\")","v":18.020000000000003},{"$f":"RTD(\"rtdtrading.rtdserver\",, \"AMER3_B_0\", \"ABE\")","v":19},{"$f":"RTD(\"rtdtrading.rtdserver\",, \"AMER3_B_0\", \"MAX\")","v":19.09},{"$f":"RTD(\"rtdtrading.rtdserver\",, \"AMER3_B_0\", \"MIN\")","v":17.93999999999998},{"$f":"RTD(\"rtdtrading.rtdserver\",, \"AMER3_B_0\", \"FEC\")","v":18.79},{"$f":"RTD(\"rtdtrading.rtdserver\",, \"AMER3_B_0\", \"VAR\")","v":-4.0979244278871505},{"$f":"RTD(\"rtdtrading.rtdserver\",, \"AMER3_B_0\", \"AJA\")","v":0},{"$f":"RTD(\"rtdtrading.rtdserver\",, \"AMER3_B_0\", \"PRT\")","v":0},18.020000000000003,1448479060,26101592661.200005]
[null,null,null,"BBSE3",{"$f":"RTD(\"rtdtrading.rtdserver\",, \"BBSE3_B_0\", \"ULT\")","v":28.330000000000009},{"$f":"RTD(\"rtdtrading.rtdserver\",, \"BBSE3_B_0\", \"ABE\")","v":28.23},{"$f":"RTD(\"rtdtrading.rtdserver\",, \"BBSE3_B_0\", \"MAX\")","v":28.54},{"$f":"RTD(\"rtdtrading.rtdserver\",, \"BBSE3_B_0\", \"MIN\")","v":28.23},{"$f":"RTD(\"rtdtrading.rtdserver\",, \"BBSE3_B_0\", \"FEC\")","v":28.150000000000002},{"$f":"RTD(\"rtdtrading.rtdserver\",, \"BBSE3_B_0\", \"VAR\")","v":0.6394316163410565},{"$f":"RTD(\"rtdtrading.rtdserver\",, \"BBSE3_B_0\", \"AJA\")","v":0},{"$f":"RTD(\"rtdtrading.rtdserver\",, \"BBSE3_B_0\", \"PRT\")","v":0},28.330000000000009,1144359228,32419696929.240009]
[null,null,null,"JHSF3",{"$f":"RTD(\"rtdtrading.rtdserver\",, \"JHSF3_B_0\", \"ULT\")","v":6.51},{"$f":"RTD(\"rtdtrading.rtdserver\",, \"JHSF3_B_0\", \"ABE\")","v":6.58},{"$f":"RTD(\"rtdtrading.rtdserver\",, \"JHSF3_B_0\", \"MAX\")","v":6.63},{"$f":"RTD(\"rtdtrading.rtdserver\",, \"JHSF3_B_0\", \"MIN\")","v":6.51},{"$f":"RTD(\"rtdtrading.rtdserver\",, \"JHSF3_B_0\", \"FEC\")","v":6.5500000000000007},{"$f":"RTD(\"rtdtrading.rtdserver\",, \"JHSF3_B_0\", \"VAR\")","v":-0.61068702290077681},{"$f":"RTD(\"rtdtrading.rtdserver\",, \"JHSF3_B_0\", \"AJA\")","v":0},{"$f":"RTD(\"rtdtrading.rtdserver\",, \"JHSF3_B_0\", \"PRT\")","v":0},6.51,1828106676,11900974460.76]
[null,null,null,"VALE3",{"$f":"RTD(\"rtdtrading.rtdserver\",, \"VALE3_B_0\", \"ULT\")","v":68.819999999999709},{"$f":"RTD(\"rtdtrading.rtdserver\",, \"VALE3_B_0\", \"ABE\")","v":69.650000000000006},{"$f":"RTD(\"rtdtrading.rtdserver\",, \"VALE3_B_0\", \"MAX\")","v":71.2},{"$f":"RTD(\"rtdtrading.rtdserver\",, \"VALE3_B_0\", \"MIN\")","v":68.709999999999809},{"$f":"RTD(\"rtdtrading.rtdserver\",, \"VALE3_B_0\", \"FEC\")","v":69.27000000000001},{"$f":"RTD(\"rtdtrading.rtdserver\",, \"VALE3_B_0\", \"VAR\")","v":-0.64963187527111188},{"$f":"RTD(\"rtdtrading.rtdserver\",, \"VALE3_B_0\", \"AJA\")","v":0},{"$f":"RTD(\"rtdtrading.rtdserver\",, \"VALE3_B_0\", \"PRT\")","v":0},68.819999999999709,1563365506,107590814122.91954]
[null,null,null,"FLRY3",{"$f":"RTD(\"rtdtrading.rtdserver\",, \"FLRY3_B_0\", \"ULT\")","v":16.629999999999985},{"$f":"RTD(\"rtdtrading.rtdserver\",, \"FLRY3_B_0\", \"ABE\")","v":16.760000000000002},{"$f":"RTD(\"rtdtrading.rtdserver\",, \"FLRY3_B_0\", \"MAX\")","v":17.05},{"$f":"RTD(\"rtdtrading.rtdserver\",, \"FLRY3_B_0\", \"MIN\")","v":16.54},{"$f":"RTD(\"rtdtrading.rtdserver\",, \"FLRY3_B_0\", \"FEC\")","v":16.75},{"$f":"RTD(\"rtdtrading.rtdserver\",, \"FLRY3_B_0\", \"VAR\")","v":-0.71641791044785919},{"$f":"RTD(\"rtdtrading.rtdserver\",, \"FLRY3_B_0\", \"AJA\")","v":0},{"$f":"RTD(\"rtdtrading.rtdserver\",, \"FLRY3_B_0\", \"PRT\")","v":0},16.629999999999985,1171063698,19474789297.739983]
[null,null,null,"ENBR3",{"$f":"RTD(\"rtdtrading.rtdserver\",, \"ENBR3_B_0\", \"ULT\")","v":23.2},{"$f":"RTD(\"rtdtrading.rtdserver\",, \"ENBR3_B_0\", \"ABE\")","v":23.14},{"$f":"RTD(\"rtdtrading.rtdserver\",, \"ENBR3_B_0\", \"MAX\")","v":23.3},{"$f":"RTD(\"rtdtrading.rtdserver\",, \"ENBR3_B_0\", \"MIN\")","v":23.08},{"$f":"RTD(\"rtdtrading.rtdserver\",, \"ENBR3_B_0\", \"FEC\")","v":23.12},{"$f":"RTD(\"rtdtrading.rtdserver\",, \"ENBR3_B_0\", \"VAR\")","v":0.34602076124565428},{"$f":"RTD(\"rtdtrading.rtdserver\",, \"ENBR3_B_0\", \"AJA\")","v":0},{"$f":"RTD(\"rtdtrading.rtdserver\",, \"ENBR3_B_0\", \"PRT\")","v":0},23.2,187732538,4355394881.5999994]
[null,null,null,"GOLL4",{"$f":"RTD(\"rtdtrading.rtdserver\",, \"GOLL4_B_0\", \"ULT\")","v":11.510000000000002},{"$f":"RTD(\"rtdtrading.rtdserver\",, \"GOLL4_B_0\", \"ABE\")","v":12.01},{"$f":"RTD(\"rtdtrading.rtdserver\",, \"GOLL4_B_0\", \"MAX\")","v":12.2},{"$f":"RTD(\"rtdtrading.rtdserver\",, \"GOLL4_B_0\", \"MIN\")","v":11.48},{"$f":"RTD(\"rtdtrading.rtdserver\",, \"GOLL4_B_0\", \"FEC\")","v":11.92},{"$f":"RTD(\"rtdtrading.rtdserver\",, \"GOLL4_B_0\", \"VAR\")","v":-3.4395973154362309},{"$f":"RTD(\"rtdtrading.rtdserver\",, \"GOLL4_B_0\", \"AJA\")","v":0},{"$f":"RTD(\"rtdtrading.rtdserver\",, \"GOLL4_B_0\", \"PRT\")","v":0},11.510000000000002,1120593365,12898029631.150002]
[null,null,null,"MRFG3",{"$f":"RTD(\"rtdtrading.rtdserver\",, \"MRFG3_B_0\", \"ULT\")","v":14.089999999999995},{"$f":"RTD(\"rtdtrading.rtdserver\",, \"MRFG3_B_0\", \"ABE\")","v":14.37},{"$f":"RTD(\"rtdtrading.rtdserver\",, \"MRFG3_B_0\", \"MAX\")","v":14.46},{"$f":"RTD(\"rtdtrading.rtdserver\",, \"MRFG3_B_0\", \"MIN\")","v":13.86},{"$f":"RTD(\"rtdtrading.rtdserver\",, \"MRFG3_B_0\", \"FEC\")","v":14.31},{"$f":"RTD(\"rtdtrading.rtdserver\",, \"MRFG3_B_0\", \"VAR\")","v":-1.5373864430468558},{"$f":"RTD(\"rtdtrading.rtdserver\",, \"MRFG3_B_0\", \"AJA\")","v":0},{"$f":"RTD(\"rtdtrading.rtdserver\",, \"MRFG3_B_0\", \"PRT\")","v":0},14.089999999999995,276543929,3896503959.6099987]
[null,null,null,"CCRO3",{"$f":"RTD(\"rtdtrading.rtdserver\",, \"CCRO3_B_0\", \"ULT\")","v":13.950000000000001},{"$f":"RTD(\"rtdtrading.rtdserver\",, \"CCRO3_B_0\", \"ABE\")","v":14.07},{"$f":"RTD(\"rtdtrading.rtdserver\",, \"CCRO3_B_0\", \"MAX\")","v":14.12},{"$f":"RTD(\"rtdtrading.rtdserver\",, \"CCRO3_B_0\", \"MIN\")","v":13.94},{"$f":"RTD(\"rtdtrading.rtdserver\",, \"CCRO3_B_0\", \"FEC\")","v":14.01},{"$f":"RTD(\"rtdtrading.rtdserver\",, \"CCRO3_B_0\", \"VAR\")","v":-0.42826552462526024},{"$f":"RTD(\"rtdtrading.rtdserver\",, \"CCRO3_B_0\", \"AJA\")","v":0},{"$f":"RTD(\"rtdtrading.rtdserver\",, \"CCRO3_B_0\", \"PRT\")","v":0},13.950000000000001,281609283,3928449497.8500004]
[null,null,null,"BRKM5",{"$f":"RTD(\"rtdtrading.rtdserver\",, \"BRKM5_B_0\", \"ULT\")","v":32.850000000000065},{"$f":"RTD(\"rtdtrading.rtdserver\",, \"BRKM5_B_0\", \"ABE\")","v":33.340000000000003},{"$f":"RTD(\"rtdtrading.rtdserver\",, \"BRKM5_B_0\", \"MAX\")","v":33.520000000000003},{"$f":"RTD(\"rtdtrading.rtdserver\",, \"BRKM5_B_0\", \"MIN\")","v":32.82},{"$f":"RTD(\"rtdtrading.rtdserver\",, \"BRKM5_B_0\", \"FEC\")","v":33.17},{"$f":"RTD(\"rtdtrading.rtdserver\",, \"BRKM5_B_0\", \"VAR\")","v":-0.96472716309899909},{"$f":"RTD(\"rtdtrading.rtdserver\",, \"BRKM5_B_0\", \"AJA\")","v":0},{"$f":"RTD(\"rtdtrading.rtdserver\",, \"BRKM5_B_0\", \"PRT\")","v":0},32.850000000000065,295712871,9714167812.3500195]
[null,null,null,"SANB11",{"$f":"RTD(\"rtdtrading.rtdserver\",, \"SANB11_B_0\", \"ULT\")","v":30.249999999999989},{"$f":"RTD(\"rtdtrading.rtdserver\",, \"SANB11_B_0\", \"ABE\")","v":30.38},{"$f":"RTD(\"rtdtrading.rtdserver\",, \"SANB11_B_0\", \"MAX\")","v":30.65},{"$f":"RTD(\"rtdtrading.rtdserver\",, \"SANB11_B_0\", \"MIN\")","v":30.249999999999993},{"$f":"RTD(\"rtdtrading.rtdserver\",, \"SANB11_B_0\", \"FEC\")","v":30.23},{"$f":"RTD(\"rtdtrading.rtdserver\",, \"SANB11_B_0\", \"VAR\")","v":6.6159444260620148E-2},{"$f":"RTD(\"rtdtrading.rtdserver\",, \"SANB11_B_0\", \"AJA\")","v":0},{"$f":"RTD(\"rtdtrading.rtdserver\",, \"SANB11_B_0\", \"PRT\")","v":0},30.249999999999989,339237914,10261946898.499996]
[null,null,null,"NTCO3",{"$f":"RTD(\"rtdtrading.rtdserver\",, \"NTCO3_B_0\", \"ULT\")","v":15.630000000000004},{"$f":"RTD(\"rtdtrading.rtdserver\",, \"NTCO3_B_0\", \"ABE\")","v":16.7},{"$f":"RTD(\"rtdtrading.rtdserver\",, \"NTCO3_B_0\", \"MAX\")","v":16.78},{"$f":"RTD(\"rtdtrading.rtdserver\",, \"NTCO3_B_0\", \"MIN\")","v":15.560000000000006},{"$f":"RTD(\"rtdtrading.rtdserver\",, \"NTCO3_B_0\", \"FEC\")","v":16.64},{"$f":"RTD(\"rtdtrading.rtdserver\",, \"NTCO3_B_0\", \"VAR\")","v":-6.0697115384615188},{"$f":"RTD(\"rtdtrading.rtdserver\",, \"NTCO3_B_0\", \"AJA\")","v":0},{"$f":"RTD(\"rtdtrading.rtdserver\",, \"NTCO3_B_0\", \"PRT\")","v":0},15.630000000000004,985704248,15406557396.240004]
[null,null,null,"CYRE3",{"$f":"RTD(\"rtdtrading.rtdserver\",, \"CYRE3_B_0\", \"ULT\")","v":14.409999999999998},{"$f":"RTD(\"rtdtrading.rtdserver\",, \"CYRE3_B_0\", \"ABE\")","v":14.6},{"$f":"RTD(\"rtdtrading.rtdserver\",, \"CYRE3_B_0\", \"MAX\")","v":14.72},{"$f":"RTD(\"rtdtrading.rtdserver\",, \"CYRE3_B_0\", \"MIN\")","v":14.34},{"$f":"RTD(\"rtdtrading.rtdserver\",, \"CYRE3_B_0\", \"FEC\")","v":14.520000000000001},{"$f":"RTD(\"rtdtrading.rtdserver\",, \"CYRE3_B_0\", \"VAR\")","v":-0.75757575757577911},{"$f":"RTD(\"rtdtrading.rtdserver\",, \"CYRE3_B_0\", \"AJA\")","v":0},{"$f":"RTD(\"rtdtrading.rtdserver\",, \"CYRE3_B_0\", \"PRT\")","v":0},14.409999999999998,242987127,3501444500.0699997]
[null,null,null,"ELET3",{"$f":"RTD(\"rtdtrading.rtdserver\",, \"ELET3_B_0\", \"ULT\")","v":46.57999999999997},{"$f":"RTD(\"rtdtrading.rtdserver\",, \"ELET3_B_0\", \"ABE\")","v":47.09},{"$f":"RTD(\"rtdtrading.rtdserver\",, \"ELET3_B_0\", \"MAX\")","v":47.18},{"$f":"RTD(\"rtdtrading.rtdserver\",, \"ELET3_B_0\", \"MIN\")","v":46.41},{"$f":"RTD(\"rtdtrading.rtdserver\",, \"ELET3_B_0\", \"FEC\")","v":46.79},{"$f":"RTD(\"rtdtrading.rtdserver\",, \"ELET3_B_0\", \"VAR\")","v":-0.44881384911312239},{"$f":"RTD(\"rtdtrading.rtdserver\",, \"ELET3_B_0\", \"AJA\")","v":0},{"$f":"RTD(\"rtdtrading.rtdserver\",, \"ELET3_B_0\", \"PRT\")","v":0},46.57999999999997,734588205,34217118588.899979]
[null,null,null,"IRBR3",{"$f":"RTD(\"rtdtrading.rtdserver\",, \"IRBR3_B_0\", \"ULT\")","v":1.95},{"$f":"RTD(\"rtdtrading.rtdserver\",, \"IRBR3_B_0\", \"ABE\")","v":2.0699999999999998},{"$f":"RTD(\"rtdtrading.rtdserver\",, \"IRBR3_B_0\", \"MAX\")","v":2.1},{"$f":"RTD(\"rtdtrading.rtdserver\",, \"IRBR3_B_0\", \"MIN\")","v":1.95},{"$f":"RTD(\"rtdtrading.rtdserver\",, \"IRBR3_B_0\", \"FEC\")","v":2.06},{"$f":"RTD(\"rtdtrading.rtdserver\",, \"IRBR3_B_0\", \"VAR\")","v":-5.3398058252427205},{"$f":"RTD(\"rtdtrading.rtdserver\",, \"IRBR3_B_0\", \"AJA\")","v":0},{"$f":"RTD(\"rtdtrading.rtdserver\",, \"IRBR3_B_0\", \"PRT\")","v":0},1.95,230931405,450316239.75]
[null,null,null,"ELET6",{"$f":"RTD(\"rtdtrading.rtdserver\",, \"ELET6_B_0\", \"ULT\")","v":47.560000000000016},{"$f":"RTD(\"rtdtrading.rtdserver\",, \"ELET6_B_0\", \"ABE\")","v":47.93},{"$f":"RTD(\"rtdtrading.rtdserver\",, \"ELET6_B_0\", \"MAX\")","v":48.19},{"$f":"RTD(\"rtdtrading.rtdserver\",, \"ELET6_B_0\", \"MIN\")","v":47.23},{"$f":"RTD(\"rtdtrading.rtdserver\",, \"ELET6_B_0\", \"FEC\")","v":47.92},{"$f":"RTD(\"rtdtrading.rtdserver\",, \"ELET6_B_0\", \"VAR\")","v":-0.75125208681131994},{"$f":"RTD(\"rtdtrading.rtdserver\",, \"ELET6_B_0\", \"AJA\")","v":0},{"$f":"RTD(\"rtdtrading.rtdserver\",, \"ELET6_B_0\", \"PRT\")","v":0},47.560000000000016,248477689,11817598888.840004]
[null,null,null,"BEEF3",{"$f":"RTD(\"rtdtrading.rtdserver\",, \"BEEF3_B_0\", \"ULT\")","v":15.94},{"$f":"RTD(\"rtdtrading.rtdserver\",, \"BEEF3_B_0\", \"ABE\")","v":15.98},{"$f":"RTD(\"rtdtrading.rtdserver\",, \"BEEF3_B_0\", \"MAX\")","v":16.100000000000001},{"$f":"RTD(\"rtdtrading.rtdserver\",, \"BEEF3_B_0\", \"MIN\")","v":15.83},{"$f":"RTD(\"rtdtrading.rtdserver\",, \"BEEF3_B_0\", \"FEC\")","v":16.060000000000002},{"$f":"RTD(\"rtdtrading.rtdserver\",, \"BEEF3_B_0\", \"VAR\")","v":-0.74719800747199372},{"$f":"RTD(\"rtdtrading.rtdserver\",, \"BEEF3_B_0\", \"AJA\")","v":0},{"$f":"RTD(\"rtdtrading.rtdserver\",, \"BEEF3_B_0\", \"PRT\")","v":0},15.94,1557479978,24826230849.32]
[null,null,null,"PCAR3",{"$f":"RTD(\"rtdtrading.rtdserver\",, \"PCAR3_B_0\", \"ULT\")","v":20.200000000000017},{"$f":"RTD(\"rtdtrading.rtdserver\",, \"PCAR3_B_0\", \"ABE\")","v":19.91},{"$f":"RTD(\"rtdtrading.rtdserver\",, \"PCAR3_B_0\", \"MAX\")","v":20.48},{"$f":"RTD(\"rtdtrading.rtdserver\",, \"PCAR3_B_0\", \"MIN\")","v":19.89},{"$f":"RTD(\"rtdtrading.rtdserver\",, \"PCAR3_B_0\", \"FEC\")","v":19.900000000000002},{"$f":"RTD(\"rtdtrading.rtdserver\",, \"PCAR3_B_0\", \"VAR\")","v":1.507537688442298},{"$f":"RTD(\"rtdtrading.rtdserver\",, \"PCAR3_B_0\", \"AJA\")","v":0},{"$f":"RTD(\"rtdtrading.rtdserver\",, \"PCAR3_B_0\", \"PRT\")","v":0},20.200000000000017,255217329,5155390045.800004]
[null,null,null,"RAIL3",{"$f":"RTD(\"rtdtrading.rtdserver\",, \"RAIL3_B_0\", \"ULT\")","v":20.179999999999968},{"$f":"RTD(\"rtdtrading.rtdserver\",, \"RAIL3_B_0\", \"ABE\")","v":20.49},{"$f":"RTD(\"rtdtrading.rtdserver\",, \"RAIL3_B_0\", \"MAX\")","v":20.52},{"$f":"RTD(\"rtdtrading.rtdserver\",, \"RAIL3_B_0\", \"MIN\")","v":20.149999999999999},{"$f":"RTD(\"rtdtrading.rtdserver\",, \"RAIL3_B_0\", \"FEC\")","v":20.290000000000003},{"$f":"RTD(\"rtdtrading.rtdserver\",, \"RAIL3_B_0\", \"VAR\")","v":-0.54213898472170285},{"$f":"RTD(\"rtdtrading.rtdserver\",, \"RAIL3_B_0\", \"AJA\")","v":0},{"$f":"RTD(\"rtdtrading.rtdserver\",, \"RAIL3_B_0\", \"PRT\")","v":0},20.179999999999968,1100513485,22208362127.299965]
[null,null,null,"YDUQ3",{"$f":"RTD(\"rtdtrading.rtdserver\",, \"YDUQ3_B_0\", \"ULT\")","v":12.780000000000001},{"$f":"RTD(\"rtdtrading.rtdserver\",, \"YDUQ3_B_0\", \"ABE\")","v":13},{"$f":"RTD(\"rtdtrading.rtdserver\",, \"YDUQ3_B_0\", \"MAX\")","v":13.34},{"$f":"RTD(\"rtdtrading.rtdserver\",, \"YDUQ3_B_0\", \"MIN\")","v":12.73},{"$f":"RTD(\"rtdtrading.rtdserver\",, \"YDUQ3_B_0\", \"FEC\")","v":13},{"$f":"RTD(\"rtdtrading.rtdserver\",, \"YDUQ3_B_0\", \"VAR\")","v":-1.6923076923076792},{"$f":"RTD(\"rtdtrading.rtdserver\",, \"YDUQ3_B_0\", \"AJA\")","v":0},{"$f":"RTD(\"rtdtrading.rtdserver\",, \"YDUQ3_B_0\", \"PRT\")","v":0},12.780000000000001,101618236,1298681056.0800002]
[null,null,null,"SBSP3",{"$f":"RTD(\"rtdtrading.rtdserver\",, \"SBSP3_B_0\", \"ULT\")","v":48.169999999999987},{"$f":"RTD(\"rtdtrading.rtdserver\",, \"SBSP3_B_0\", \"ABE\")","v":48.65},{"$f":"RTD(\"rtdtrading.rtdserver\",, \"SBSP3_B_0\", \"MAX\")","v":48.65},{"$f":"RTD(\"rtdtrading.rtdserver\",, \"SBSP3_B_0\", \"MIN\")","v":47.88},{"$f":"RTD(\"rtdtrading.rtdserver\",, \"SBSP3_B_0\", \"FEC\")","v":48.46},{"$f":"RTD(\"rtdtrading.rtdserver\",, \"SBSP3_B_0\", \"VAR\")","v":-0.59843169624434722},{"$f":"RTD(\"rtdtrading.rtdserver\",, \"SBSP3_B_0\", \"AJA\")","v":0},{"$f":"RTD(\"rtdtrading.rtdserver\",, \"SBSP3_B_0\", \"PRT\")","v":0},48.169999999999987,303373882,14613519895.939997]
[null,null,null,"ASAI3",{"$f":"RTD(\"rtdtrading.rtdserver\",, \"ASAI3_B_0\", \"ULT\")","v":17.829999999999959},{"$f":"RTD(\"rtdtrading.rtdserver\",, \"ASAI3_B_0\", \"ABE\")","v":17.96},{"$f":"RTD(\"rtdtrading.rtdserver\",, \"ASAI3_B_0\", \"MAX\")","v":18.079999999999998},{"$f":"RTD(\"rtdtrading.rtdserver\",, \"ASAI3_B_0\", \"MIN\")","v":17.809999999999995},{"$f":"RTD(\"rtdtrading.rtdserver\",, \"ASAI3_B_0\", \"FEC\")","v":17.95},{"$f":"RTD(\"rtdtrading.rtdserver\",, \"ASAI3_B_0\", \"VAR\")","v":-0.66852367688045433},{"$f":"RTD(\"rtdtrading.rtdserver\",, \"ASAI3_B_0\", \"AJA\")","v":0},{"$f":"RTD(\"rtdtrading.rtdserver\",, \"ASAI3_B_0\", \"PRT\")","v":0},17.829999999999959,1097534498,19569040099.339954]
[null,null,null,"VBBR3",{"$f":"RTD(\"rtdtrading.rtdserver\",, \"VBBR3_B_0\", \"ULT\")","v":18.469999999999988},{"$f":"RTD(\"rtdtrading.rtdserver\",, \"VBBR3_B_0\", \"ABE\")","v":18.72},{"$f":"RTD(\"rtdtrading.rtdserver\",, \"VBBR3_B_0\", \"MAX\")","v":18.88},{"$f":"RTD(\"rtdtrading.rtdserver\",, \"VBBR3_B_0\", \"MIN\")","v":18.43},{"$f":"RTD(\"rtdtrading.rtdserver\",, \"VBBR3_B_0\", \"FEC\")","v":18.670000000000002},{"$f":"RTD(\"rtdtrading.rtdserver\",, \"VBBR3_B_0\", \"VAR\")","v":-1.0712372790573852},{"$f":"RTD(\"rtdtrading.rtdserver\",, \"VBBR3_B_0\", \"AJA\")","v":0},{"$f":"RTD(\"rtdtrading.rtdserver\",, \"VBBR3_B_0\", \"PRT\")","v":0},18.469999999999988,698275321,12897145178.869991]
[null,null,null,"USIM5",{"$f":"RTD(\"rtdtrading.rtdserver\",, \"USIM5_B_0\", \"ULT\")","v":8.7800000000000011},{"$f":"RTD(\"rtdtrading.rtdserver\",, \"USIM5_B_0\", \"ABE\")","v":8.8000000000000007},{"$f":"RTD(\"rtdtrading.rtdserver\",, \"USIM5_B_0\", \"MAX\")","v":8.98},{"$f":"RTD(\"rtdtrading.rtdserver\",, \"USIM5_B_0\", \"MIN\")","v":8.7200000000000006},{"$f":"RTD(\"rtdtrading.rtdserver\",, \"USIM5_B_0\", \"FEC\")","v":9.2900000000000009},{"$f":"RTD(\"rtdtrading.rtdserver\",, \"USIM5_B_0\", \"VAR\")","v":-5.4897739504843912},{"$f":"RTD(\"rtdtrading.rtdserver\",, \"USIM5_B_0\", \"AJA\")","v":0},{"$f":"RTD(\"rtdtrading.rtdserver\",, \"USIM5_B_0\", \"PRT\")","v":0},8.7800000000000011,167095214,1467095978.9200001]
[null,null,null,"EQTL3",{"$f":"RTD(\"rtdtrading.rtdserver\",, \"EQTL3_B_0\", \"ULT\")","v":24.27},{"$f":"RTD(\"rtdtrading.rtdserver\",, \"EQTL3_B_0\", \"ABE\")","v":24.45},{"$f":"RTD(\"rtdtrading.rtdserver\",, \"EQTL3_B_0\", \"MAX\")","v":24.56},{"$f":"RTD(\"rtdtrading.rtdserver\",, \"EQTL3_B_0\", \"MIN\")","v":24.17},{"$f":"RTD(\"rtdtrading.rtdserver\",, \"EQTL3_B_0\", \"FEC\")","v":24.450000000000003},{"$f":"RTD(\"rtdtrading.rtdserver\",, \"EQTL3_B_0\", \"VAR\")","v":-0.73619631901841842},{"$f":"RTD(\"rtdtrading.rtdserver\",, \"EQTL3_B_0\", \"AJA\")","v":0},{"$f":"RTD(\"rtdtrading.rtdserver\",, \"EQTL3_B_0\", \"PRT\")","v":0},24.27,834914221,20263368143.669998]
[null,null,null,"CSNA3",{"$f":"RTD(\"rtdtrading.rtdserver\",, \"CSNA3_B_0\", \"ULT\")","v":15.230000000000002},{"$f":"RTD(\"rtdtrading.rtdserver\",, \"CSNA3_B_0\", \"ABE\")","v":16},{"$f":"RTD(\"rtdtrading.rtdserver\",, \"CSNA3_B_0\", \"MAX\")","v":16.14},{"$f":"RTD(\"rtdtrading.rtdserver\",, \"CSNA3_B_0\", \"MIN\")","v":15.200000000000001},{"$f":"RTD(\"rtdtrading.rtdserver\",, \"CSNA3_B_0\", \"FEC\")","v":15.96},{"$f":"RTD(\"rtdtrading.rtdserver\",, \"CSNA3_B_0\", \"VAR\")","v":-4.5739348370927218},{"$f":"RTD(\"rtdtrading.rtdserver\",, \"CSNA3_B_0\", \"AJA\")","v":0},{"$f":"RTD(\"rtdtrading.rtdserver\",, \"CSNA3_B_0\", \"PRT\")","v":0},15.230000000000002,489316435,7452289305.0500011]
[null,null,null,"CMIN3",{"$f":"RTD(\"rtdtrading.rtdserver\",, \"CMIN3_B_0\", \"ULT\")","v":3.9000000000000008},{"$f":"RTD(\"rtdtrading.rtdserver\",, \"CMIN3_B_0\", \"ABE\")","v":3.94},{"$f":"RTD(\"rtdtrading.rtdserver\",, \"CMIN3_B_0\", \"MAX\")","v":4.03},{"$f":"RTD(\"rtdtrading.rtdserver\",, \"CMIN3_B_0\", \"MIN\")","v":3.9000000000000004},{"$f":"RTD(\"rtdtrading.rtdserver\",, \"CMIN3_B_0\", \"FEC\")","v":3.9200000000000004},{"$f":"RTD(\"rtdtrading.rtdserver\",, \"CMIN3_B_0\", \"VAR\")","v":-0.51020408163263653},{"$f":"RTD(\"rtdtrading.rtdserver\",, \"CMIN3_B_0\", \"AJA\")","v":0},{"$f":"RTD(\"rtdtrading.rtdserver\",, \"CMIN3_B_0\", \"PRT\")","v":0},3.9000000000000008,4454692382,17373300289.800003]
[null,null,null,"BRML3",{"$f":"RTD(\"rtdtrading.rtdserver\",, \"BRML3_B_0\", \"ULT\")","v":8.68},{"$f":"RTD(\"rtdtrading.rtdserver\",, \"BRML3_B_0\", \"ABE\")","v":8.77},{"$f":"RTD(\"rtdtrading.rtdserver\",, \"BRML3_B_0\", \"MAX\")","v":8.81},{"$f":"RTD(\"rtdtrading.rtdserver\",, \"BRML3_B_0\", \"MIN\")","v":8.64},{"$f":"RTD(\"rtdtrading.rtdserver\",, \"BRML3_B_0\", \"FEC\")","v":8.76},{"$f":"RTD(\"rtdtrading.rtdserver\",, \"BRML3_B_0\", \"VAR\")","v":-0.91324200913241782},{"$f":"RTD(\"rtdtrading.rtdserver\",, \"BRML3_B_0\", \"AJA\")","v":0},{"$f":"RTD(\"rtdtrading.rtdserver\",, \"BRML3_B_0\", \"PRT\")","v":0},8.68,410253528,3561000623.04]
[null,null,null,"POSI3",{"$f":"RTD(\"rtdtrading.rtdserver\",, \"POSI3_B_0\", \"ULT\")","v":11.56},{"$f":"RTD(\"rtdtrading.rtdserver\",, \"POSI3_B_0\", \"ABE\")","v":11.44},{"$f":"RTD(\"rtdtrading.rtdserver\",, \"POSI3_B_0\", \"MAX\")","v":11.75},{"$f":"RTD(\"rtdtrading.rtdserver\",, \"POSI3_B_0\", \"MIN\")","v":11.41},{"$f":"RTD(\"rtdtrading.rtdserver\",, \"POSI3_B_0\", \"FEC\")","v":11.47},{"$f":"RTD(\"rtdtrading.rtdserver\",, \"POSI3_B_0\", \"VAR\")","v":0.78465562336529615},{"$f":"RTD(\"rtdtrading.rtdserver\",, \"POSI3_B_0\", \"AJA\")","v":0},{"$f":"RTD(\"rtdtrading.rtdserver\",, \"POSI3_B_0\", \"PRT\")","v":0},11.56,180013980,2080961608.8000002]
[null,null,null,"CPLE6",{"$f":"RTD(\"rtdtrading.rtdserver\",, \"CPLE6_B_0\", \"ULT\")","v":7.08},{"$f":"RTD(\"rtdtrading.rtdserver\",, \"CPLE6_B_0\", \"ABE\")","v":7.07},{"$f":"RTD(\"rtdtrading.rtdserver\",, \"CPLE6_B_0\", \"MAX\")","v":7.11},{"$f":"RTD(\"rtdtrading.rtdserver\",, \"CPLE6_B_0\", \"MIN\")","v":7.02},{"$f":"RTD(\"rtdtrading.rtdserver\",, \"CPLE6_B_0\", \"FEC\")","v":7.04},{"$f":"RTD(\"rtdtrading.rtdserver\",, \"CPLE6_B_0\", \"VAR\")","v":0.56818181818181301},{"$f":"RTD(\"rtdtrading.rtdserver\",, \"CPLE6_B_0\", \"AJA\")","v":0},{"$f":"RTD(\"rtdtrading.rtdserver\",, \"CPLE6_B_0\", \"PRT\")","v":0},7.08,1255286531,8887428639.4799995]
[null,null,null,"BRAP4",{"$f":"RTD(\"rtdtrading.rtdserver\",, \"BRAP4_B_0\", \"ULT\")","v":23.150000000000006},{"$f":"RTD(\"rtdtrading.rtdserver\",, \"BRAP4_B_0\", \"ABE\")","v":23.69},{"$f":"RTD(\"rtdtrading.rtdserver\",, \"BRAP4_B_0\", \"MAX\")","v":23.98},{"$f":"RTD(\"rtdtrading.rtdserver\",, \"BRAP4_B_0\", \"MIN\")","v":23.129999999999988},{"$f":"RTD(\"rtdtrading.rtdserver\",, \"BRAP4_B_0\", \"FEC\")","v":23.51},{"$f":"RTD(\"rtdtrading.rtdserver\",, \"BRAP4_B_0\", \"VAR\")","v":-1.5312632922160532},{"$f":"RTD(\"rtdtrading.rtdserver\",, \"BRAP4_B_0\", \"AJA\")","v":0},{"$f":"RTD(\"rtdtrading.rtdserver\",, \"BRAP4_B_0\", \"PRT\")","v":0},23.150000000000006,4736140654,109641656140.10002]
[null,null,null,"CPFE3",{"$f":"RTD(\"rtdtrading.rtdserver\",, \"CPFE3_B_0\", \"ULT\")","v":35.699999999999989},{"$f":"RTD(\"rtdtrading.rtdserver\",, \"CPFE3_B_0\", \"ABE\")","v":35.630000000000003},{"$f":"RTD(\"rtdtrading.rtdserver\",, \"CPFE3_B_0\", \"MAX\")","v":35.819999999999986},{"$f":"RTD(\"rtdtrading.rtdserver\",, \"CPFE3_B_0\", \"MIN\")","v":35.08},{"$f":"RTD(\"rtdtrading.rtdserver\",, \"CPFE3_B_0\", \"FEC\")","v":35.6},{"$f":"RTD(\"rtdtrading.rtdserver\",, \"CPFE3_B_0\", \"VAR\")","v":0.28089887640444999},{"$f":"RTD(\"rtdtrading.rtdserver\",, \"CPFE3_B_0\", \"AJA\")","v":0},{"$f":"RTD(\"rtdtrading.rtdserver\",, \"CPFE3_B_0\", \"PRT\")","v":0},35.699999999999989,4781077143,170684454005.09995]
[null,null,null,"SOMA3",{"$f":"RTD(\"rtdtrading.rtdserver\",, \"SOMA3_B_0\", \"ULT\")","v":13.100000000000003},{"$f":"RTD(\"rtdtrading.rtdserver\",, \"SOMA3_B_0\", \"ABE\")","v":13.43},{"$f":"RTD(\"rtdtrading.rtdserver\",, \"SOMA3_B_0\", \"MAX\")","v":13.53},{"$f":"RTD(\"rtdtrading.rtdserver\",, \"SOMA3_B_0\", \"MIN\")","v":13.090000000000002},{"$f":"RTD(\"rtdtrading.rtdserver\",, \"SOMA3_B_0\", \"FEC\")","v":13.33},{"$f":"RTD(\"rtdtrading.rtdserver\",, \"SOMA3_B_0\", \"VAR\")","v":-1.7254313578394402},{"$f":"RTD(\"rtdtrading.rtdserver\",, \"SOMA3_B_0\", \"AJA\")","v":0},{"$f":"RTD(\"rtdtrading.rtdserver\",, \"SOMA3_B_0\", \"PRT\")","v":0},13.100000000000003,1290736673,16908650416.300005]
[null,null,null,"IGTI11",{"$f":"RTD(\"rtdtrading.rtdserver\",, \"IGTI11_B_0\", \"ULT\")","v":20.649999999999988},{"$f":"RTD(\"rtdtrading.rtdserver\",, \"IGTI11_B_0\", \"ABE\")","v":20.93},{"$f":"RTD(\"rtdtrading.rtdserver\",, \"IGTI11_B_0\", \"MAX\")","v":21.03},{"$f":"RTD(\"rtdtrading.rtdserver\",, \"IGTI11_B_0\", \"MIN\")","v":20.599999999999994},{"$f":"RTD(\"rtdtrading.rtdserver\",, \"IGTI11_B_0\", \"FEC\")","v":20.92},{"$f":"RTD(\"rtdtrading.rtdserver\",, \"IGTI11_B_0\", \"VAR\")","v":-1.2906309751434719},{"$f":"RTD(\"rtdtrading.rtdserver\",, \"IGTI11_B_0\", \"AJA\")","v":0},{"$f":"RTD(\"rtdtrading.rtdserver\",, \"IGTI11_B_0\", \"PRT\")","v":0},20.649999999999988,305915142,6317147682.2999964]
[null,null,null,"SLCE3",{"$f":"RTD(\"rtdtrading.rtdserver\",, \"SLCE3_B_0\", \"ULT\")","v":47.73},{"$f":"RTD(\"rtdtrading.rtdserver\",, \"SLCE3_B_0\", \"ABE\")","v":48.12},{"$f":"RTD(\"rtdtrading.rtdserver\",, \"SLCE3_B_0\", \"MAX\")","v":48.36},{"$f":"RTD(\"rtdtrading.rtdserver\",, \"SLCE3_B_0\", \"MIN\")","v":47.570000000000007},{"$f":"RTD(\"rtdtrading.rtdserver\",, \"SLCE3_B_0\", \"FEC\")","v":47.89},{"$f":"RTD(\"rtdtrading.rtdserver\",, \"SLCE3_B_0\", \"VAR\")","v":-0.33409897682189182},{"$f":"RTD(\"rtdtrading.rtdserver\",, \"SLCE3_B_0\", \"AJA\")","v":0},{"$f":"RTD(\"rtdtrading.rtdserver\",, \"SLCE3_B_0\", \"PRT\")","v":0},47.73,812994397,38804222568.809998]
[null,null,null,"SUZB3",{"$f":"RTD(\"rtdtrading.rtdserver\",, \"SUZB3_B_0\", \"ULT\")","v":45.879999999999903},{"$f":"RTD(\"rtdtrading.rtdserver\",, \"SUZB3_B_0\", \"ABE\")","v":47.37},{"$f":"RTD(\"rtdtrading.rtdserver\",, \"SUZB3_B_0\", \"MAX\")","v":47.69},{"$f":"RTD(\"rtdtrading.rtdserver\",, \"SUZB3_B_0\", \"MIN\")","v":45.87000000000004},{"$f":"RTD(\"rtdtrading.rtdserver\",, \"SUZB3_B_0\", \"FEC\")","v":47.32},{"$f":"RTD(\"rtdtrading.rtdserver\",, \"SUZB3_B_0\", \"VAR\")","v":-3.0431107354186366},{"$f":"RTD(\"rtdtrading.rtdserver\",, \"SUZB3_B_0\", \"AJA\")","v":0},{"$f":"RTD(\"rtdtrading.rtdserver\",, \"SUZB3_B_0\", \"PRT\")","v":0},45.879999999999903,735708470,33754304603.59993]
[null,null,null,"QUAL3",{"$f":"RTD(\"rtdtrading.rtdserver\",, \"QUAL3_B_0\", \"ULT\")","v":10.290000000000001},{"$f":"RTD(\"rtdtrading.rtdserver\",, \"QUAL3_B_0\", \"ABE\")","v":10.5},{"$f":"RTD(\"rtdtrading.rtdserver\",, \"QUAL3_B_0\", \"MAX\")","v":10.61},{"$f":"RTD(\"rtdtrading.rtdserver\",, \"QUAL3_B_0\", \"MIN\")","v":10.28},{"$f":"RTD(\"rtdtrading.rtdserver\",, \"QUAL3_B_0\", \"FEC\")","v":10.440000000000001},{"$f":"RTD(\"rtdtrading.rtdserver\",, \"QUAL3_B_0\", \"VAR\")","v":-1.4367816091954069},{"$f":"RTD(\"rtdtrading.rtdserver\",, \"QUAL3_B_0\", \"AJA\")","v":0},{"$f":"RTD(\"rtdtrading.rtdserver\",, \"QUAL3_B_0\", \"PRT\")","v":0},10.290000000000001,418965264,4311152566.5600004]
[null,null,null,"CSAN3",{"$f":"RTD(\"rtdtrading.rtdserver\",, \"CSAN3_B_0\", \"ULT\")","v":20.490000000000023},{"$f":"RTD(\"rtdtrading.rtdserver\",, \"CSAN3_B_0\", \"ABE\")","v":20.87},{"$f":"RTD(\"rtdtrading.rtdserver\",, \"CSAN3_B_0\", \"MAX\")","v":20.97},{"$f":"RTD(\"rtdtrading.rtdserver\",, \"CSAN3_B_0\", \"MIN\")","v":20.459999999999997},{"$f":"RTD(\"rtdtrading.rtdserver\",, \"CSAN3_B_0\", \"FEC\")","v":20.77},{"$f":"RTD(\"rtdtrading.rtdserver\",, \"CSAN3_B_0\", \"VAR\")","v":-1.3480982185843828},{"$f":"RTD(\"rtdtrading.rtdserver\",, \"CSAN3_B_0\", \"AJA\")","v":0},{"$f":"RTD(\"rtdtrading.rtdserver\",, \"CSAN3_B_0\", \"PRT\")","v":0},20.490000000000023,977821540,20035563354.600021]
[null,null,null,"VIIA3",{"$f":"RTD(\"rtdtrading.rtdserver\",, \"VIIA3_B_0\", \"ULT\")","v":3.2799999999999994},{"$f":"RTD(\"rtdtrading.rtdserver\",, \"VIIA3_B_0\", \"ABE\")","v":3.41},{"$f":"RTD(\"rtdtrading.rtdserver\",, \"VIIA3_B_0\", \"MAX\")","v":3.43},{"$f":"RTD(\"rtdtrading.rtdserver\",, \"VIIA3_B_0\", \"MIN\")","v":3.26},{"$f":"RTD(\"rtdtrading.rtdserver\",, \"VIIA3_B_0\", \"FEC\")","v":3.3800000000000003},{"$f":"RTD(\"rtdtrading.rtdserver\",, \"VIIA3_B_0\", \"VAR\")","v":-2.9585798816568314},{"$f":"RTD(\"rtdtrading.rtdserver\",, \"VIIA3_B_0\", \"AJA\")","v":0},{"$f":"RTD(\"rtdtrading.rtdserver\",, \"VIIA3_B_0\", \"PRT\")","v":0},3.2799999999999994,2896234638,9499649612.6399975]
[null,null,null,"KLBN11",{"$f":"RTD(\"rtdtrading.rtdserver\",, \"KLBN11_B_0\", \"ULT\")","v":19.759999999999991},{"$f":"RTD(\"rtdtrading.rtdserver\",, \"KLBN11_B_0\", \"ABE\")","v":20.13},{"$f":"RTD(\"rtdtrading.rtdserver\",, \"KLBN11_B_0\", \"MAX\")","v":20.34},{"$f":"RTD(\"rtdtrading.rtdserver\",, \"KLBN11_B_0\", \"MIN\")","v":19.719999999999985},{"$f":"RTD(\"rtdtrading.rtdserver\",, \"KLBN11_B_0\", \"FEC\")","v":20.09},{"$f":"RTD(\"rtdtrading.rtdserver\",, \"KLBN11_B_0\", \"VAR\")","v":-1.6426082628173617},{"$f":"RTD(\"rtdtrading.rtdserver\",, \"KLBN11_B_0\", \"AJA\")","v":0},{"$f":"RTD(\"rtdtrading.rtdserver\",, \"KLBN11_B_0\", \"PRT\")","v":0},19.759999999999991,348234011,6881104057.3599968]
[null,null,null,"TAEE11",{"$f":"RTD(\"rtdtrading.rtdserver\",, \"TAEE11_B_0\", \"ULT\")","v":40.589999999999975},{"$f":"RTD(\"rtdtrading.rtdserver\",, \"TAEE11_B_0\", \"ABE\")","v":40.380000000000003},{"$f":"RTD(\"rtdtrading.rtdserver\",, \"TAEE11_B_0\", \"MAX\")","v":40.659999999999997},{"$f":"RTD(\"rtdtrading.rtdserver\",, \"TAEE11_B_0\", \"MIN\")","v":40.36},{"$f":"RTD(\"rtdtrading.rtdserver\",, \"TAEE11_B_0\", \"FEC\")","v":40.370000000000005},{"$f":"RTD(\"rtdtrading.rtdserver\",, \"TAEE11_B_0\", \"VAR\")","v":0.54495912806531521},{"$f":"RTD(\"rtdtrading.rtdserver\",, \"TAEE11_B_0\", \"AJA\")","v":0},{"$f":"RTD(\"rtdtrading.rtdserver\",, \"TAEE11_B_0\", \"PRT\")","v":0},40.589999999999975,548153725,22249559697.749985]
[null,null,null,"CIEL3",{"$f":"RTD(\"rtdtrading.rtdserver\",, \"CIEL3_B_0\", \"ULT\")","v":5.9400000000000022},{"$f":"RTD(\"rtdtrading.rtdserver\",, \"CIEL3_B_0\", \"ABE\")","v":5.87},{"$f":"RTD(\"rtdtrading.rtdserver\",, \"CIEL3_B_0\", \"MAX\")","v":6.22},{"$f":"RTD(\"rtdtrading.rtdserver\",, \"CIEL3_B_0\", \"MIN\")","v":5.86},{"$f":"RTD(\"rtdtrading.rtdserver\",, \"CIEL3_B_0\", \"FEC\")","v":5.79},{"$f":"RTD(\"rtdtrading.rtdserver\",, \"CIEL3_B_0\", \"VAR\")","v":2.5906735751295713},{"$f":"RTD(\"rtdtrading.rtdserver\",, \"CIEL3_B_0\", \"AJA\")","v":0},{"$f":"RTD(\"rtdtrading.rtdserver\",, \"CIEL3_B_0\", \"PRT\")","v":0},5.9400000000000022,260409710,1546833677.4000006]
[null,null,null,"BPAN4",{"$f":"RTD(\"rtdtrading.rtdserver\",, \"BPAN4_B_0\", \"ULT\")","v":7.1300000000000008},{"$f":"RTD(\"rtdtrading.rtdserver\",, \"BPAN4_B_0\", \"ABE\")","v":7.36},{"$f":"RTD(\"rtdtrading.rtdserver\",, \"BPAN4_B_0\", \"MAX\")","v":7.36},{"$f":"RTD(\"rtdtrading.rtdserver\",, \"BPAN4_B_0\", \"MIN\")","v":7.1300000000000008},{"$f":"RTD(\"rtdtrading.rtdserver\",, \"BPAN4_B_0\", \"FEC\")","v":7.32},{"$f":"RTD(\"rtdtrading.rtdserver\",, \"BPAN4_B_0\", \"VAR\")","v":-2.5956284153005384},{"$f":"RTD(\"rtdtrading.rtdserver\",, \"BPAN4_B_0\", \"AJA\")","v":0},{"$f":"RTD(\"rtdtrading.rtdserver\",, \"BPAN4_B_0\", \"PRT\")","v":0},7.1300000000000008,294647234,2100834778.4200003]
[null,null,null,"EGIE3",{"$f":"RTD(\"rtdtrading.rtdserver\",, \"EGIE3_B_0\", \"ULT\")","v":40.70999999999998},{"$f":"RTD(\"rtdtrading.rtdserver\",, \"EGIE3_B_0\", \"ABE\")","v":40.65},{"$f":"RTD(\"rtdtrading.rtdserver\",, \"EGIE3_B_0\", \"MAX\")","v":40.749999999999993},{"$f":"RTD(\"rtdtrading.rtdserver\",, \"EGIE3_B_0\", \"MIN\")","v":40.25},{"$f":"RTD(\"rtdtrading.rtdserver\",, \"EGIE3_B_0\", \"FEC\")","v":40.61},{"$f":"RTD(\"rtdtrading.rtdserver\",, \"EGIE3_B_0\", \"VAR\")","v":0.24624476729864853},{"$f":"RTD(\"rtdtrading.rtdserver\",, \"EGIE3_B_0\", \"AJA\")","v":0},{"$f":"RTD(\"rtdtrading.rtdserver\",, \"EGIE3_B_0\", \"PRT\")","v":0},40.70999999999998,272718548,11102372089.079994]
[null,null,null,"JBSS3",{"$f":"RTD(\"rtdtrading.rtdserver\",, \"JBSS3_B_0\", \"ULT\")","v":29.919999999999995},{"$f":"RTD(\"rtdtrading.rtdserver\",, \"JBSS3_B_0\", \"ABE\")","v":30.88},{"$f":"RTD(\"rtdtrading.rtdserver\",, \"JBSS3_B_0\", \"MAX\")","v":30.94},{"$f":"RTD(\"rtdtrading.rtdserver\",, \"JBSS3_B_0\", \"MIN\")","v":29.9},{"$f":"RTD(\"rtdtrading.rtdserver\",, \"JBSS3_B_0\", \"FEC\")","v":30.720000000000002},{"$f":"RTD(\"rtdtrading.rtdserver\",, \"JBSS3_B_0\", \"VAR\")","v":-2.6041666666666998},{"$f":"RTD(\"rtdtrading.rtdserver\",, \"JBSS3_B_0\", \"AJA\")","v":0},{"$f":"RTD(\"rtdtrading.rtdserver\",, \"JBSS3_B_0\", \"PRT\")","v":0},29.919999999999995,156946474,4695838502.079999]
[null,null,null,"GOAU4",{"$f":"RTD(\"rtdtrading.rtdserver\",, \"GOAU4_B_0\", \"ULT\")","v":10.130000000000001},{"$f":"RTD(\"rtdtrading.rtdserver\",, \"GOAU4_B_0\", \"ABE\")","v":10.38},{"$f":"RTD(\"rtdtrading.rtdserver\",, \"GOAU4_B_0\", \"MAX\")","v":10.48},{"$f":"RTD(\"rtdtrading.rtdserver\",, \"GOAU4_B_0\", \"MIN\")","v":10.120000000000001},{"$f":"RTD(\"rtdtrading.rtdserver\",, \"GOAU4_B_0\", \"FEC\")","v":10.32},{"$f":"RTD(\"rtdtrading.rtdserver\",, \"GOAU4_B_0\", \"VAR\")","v":-1.841085271317823},{"$f":"RTD(\"rtdtrading.rtdserver\",, \"GOAU4_B_0\", \"AJA\")","v":0},{"$f":"RTD(\"rtdtrading.rtdserver\",, \"GOAU4_B_0\", \"PRT\")","v":0},10.130000000000001,2706334382,27415167289.660004]
[null,null,null,"GGBR4",{"$f":"RTD(\"rtdtrading.rtdserver\",, \"GGBR4_B_0\", \"ULT\")","v":24.219999999999981},{"$f":"RTD(\"rtdtrading.rtdserver\",, \"GGBR4_B_0\", \"ABE\")","v":24.99},{"$f":"RTD(\"rtdtrading.rtdserver\",, \"GGBR4_B_0\", \"MAX\")","v":25.11},{"$f":"RTD(\"rtdtrading.rtdserver\",, \"GGBR4_B_0\", \"MIN\")","v":24.16},{"$f":"RTD(\"rtdtrading.rtdserver\",, \"GGBR4_B_0\", \"FEC\")","v":24.67},{"$f":"RTD(\"rtdtrading.rtdserver\",, \"GGBR4_B_0\", \"VAR\")","v":-1.824077827320707},{"$f":"RTD(\"rtdtrading.rtdserver\",, \"GGBR4_B_0\", \"AJA\")","v":0},{"$f":"RTD(\"rtdtrading.rtdserver\",, \"GGBR4_B_0\", \"PRT\")","v":0},{"$f":"IF(L72=0,E72,L72)","v":24.219999999999981},4566442248,{"$f":"M72*N72","v":110599231246.55992}]
[null,null,null,"EZTC3",{"$f":"RTD(\"rtdtrading.rtdserver\",, \"EZTC3_B_0\", \"ULT\")","v":18.260000000000005},{"$f":"RTD(\"rtdtrading.rtdserver\",, \"EZTC3_B_0\", \"ABE\")","v":18.47},{"$f":"RTD(\"rtdtrading.rtdserver\",, \"EZTC3_B_0\", \"MAX\")","v":18.690000000000001},{"$f":"RTD(\"rtdtrading.rtdserver\",, \"EZTC3_B_0\", \"MIN\")","v":18.190000000000001},{"$f":"RTD(\"rtdtrading.rtdserver\",, \"EZTC3_B_0\", \"FEC\")","v":18.470000000000002},{"$f":"RTD(\"rtdtrading.rtdserver\",, \"EZTC3_B_0\", \"VAR\")","v":-1.1369788846778448},{"$f":"RTD(\"rtdtrading.rtdserver\",, \"EZTC3_B_0\", \"AJA\")","v":0},{"$f":"RTD(\"rtdtrading.rtdserver\",, \"EZTC3_B_0\", \"PRT\")","v":0},18.260000000000005,839159130,15323045713.800005]
[null,null,null,"PETR4",{"$f":"RTD(\"rtdtrading.rtdserver\",, \"PETR4_B_0\", \"ULT\")","v":33.020000000000088},{"$f":"RTD(\"rtdtrading.rtdserver\",, \"PETR4_B_0\", \"ABE\")","v":33.28},{"$f":"RTD(\"rtdtrading.rtdserver\",, \"PETR4_B_0\", \"MAX\")","v":33.39},{"$f":"RTD(\"rtdtrading.rtdserver\",, \"PETR4_B_0\", \"MIN\")","v":32.57},{"$f":"RTD(\"rtdtrading.rtdserver\",, \"PETR4_B_0\", \"FEC\")","v":33.28},{"$f":"RTD(\"rtdtrading.rtdserver\",, \"PETR4_B_0\", \"VAR\")","v":-0.78124999999972999},{"$f":"RTD(\"rtdtrading.rtdserver\",, \"PETR4_B_0\", \"AJA\")","v":0},{"$f":"RTD(\"rtdtrading.rtdserver\",, \"PETR4_B_0\", \"PRT\")","v":0},33.020000000000088,336154589,11099824528.780029]
[null,null,null,"PETR3",{"$f":"RTD(\"rtdtrading.rtdserver\",, \"PETR3_B_0\", \"ULT\")","v":36.939999999999934},{"$f":"RTD(\"rtdtrading.rtdserver\",, \"PETR3_B_0\", \"ABE\")","v":37.21},{"$f":"RTD(\"rtdtrading.rtdserver\",, \"PETR3_B_0\", \"MAX\")","v":37.21},{"$f":"RTD(\"rtdtrading.rtdserver\",, \"PETR3_B_0\", \"MIN\")","v":36.369999999999997},{"$f":"RTD(\"rtdtrading.rtdserver\",, \"PETR3_B_0\", \"FEC\")","v":37.090000000000003},{"$f":"RTD(\"rtdtrading.rtdserver\",, \"PETR3_B_0\", \"VAR\")","v":-0.40442167700207676},{"$f":"RTD(\"rtdtrading.rtdserver\",, \"PETR3_B_0\", \"AJA\")","v":0},{"$f":"RTD(\"rtdtrading.rtdserver\",, \"PETR3_B_0\", \"PRT\")","v":0},36.939999999999934,78053723,2883304527.6199946]
[null,null,null,"UGPA3",{"$f":"RTD(\"rtdtrading.rtdserver\",, \"UGPA3_B_0\", \"ULT\")","v":13.99},{"$f":"RTD(\"rtdtrading.rtdserver\",, \"UGPA3_B_0\", \"ABE\")","v":14.11},{"$f":"RTD(\"rtdtrading.rtdserver\",, \"UGPA3_B_0\", \"MAX\")","v":14.2},{"$f":"RTD(\"rtdtrading.rtdserver\",, \"UGPA3_B_0\", \"MIN\")","v":13.95},{"$f":"RTD(\"rtdtrading.rtdserver\",, \"UGPA3_B_0\", \"FEC\")","v":14.05},{"$f":"RTD(\"rtdtrading.rtdserver\",, \"UGPA3_B_0\", \"VAR\")","v":-0.42704626334520412},{"$f":"RTD(\"rtdtrading.rtdserver\",, \"UGPA3_B_0\", \"AJA\")","v":0},{"$f":"RTD(\"rtdtrading.rtdserver\",, \"UGPA3_B_0\", \"PRT\")","v":0},13.99,277027077,3875608807.23]
[null,null,null,"ITSA4",{"$f":"RTD(\"rtdtrading.rtdserver\",, \"ITSA4_B_0\", \"ULT\")","v":9.32},{"$f":"RTD(\"rtdtrading.rtdserver\",, \"ITSA4_B_0\", \"ABE\")","v":9.39},{"$f":"RTD(\"rtdtrading.rtdserver\",, \"ITSA4_B_0\", \"MAX\")","v":9.4600000000000009},{"$f":"RTD(\"rtdtrading.rtdserver\",, \"ITSA4_B_0\", \"MIN\")","v":9.32},{"$f":"RTD(\"rtdtrading.rtdserver\",, \"ITSA4_B_0\", \"FEC\")","v":9.3800000000000008},{"$f":"RTD(\"rtdtrading.rtdserver\",, \"ITSA4_B_0\", \"VAR\")","v":-0.63965884861407574},{"$f":"RTD(\"rtdtrading.rtdserver\",, \"ITSA4_B_0\", \"AJA\")","v":0},{"$f":"RTD(\"rtdtrading.rtdserver\",, \"ITSA4_B_0\", \"PRT\")","v":0},9.32,1071076905,9982436754.6000004]
[null,null,null,"MGLU3",{"$f":"RTD(\"rtdtrading.rtdserver\",, \"MGLU3_B_0\", \"ULT\")","v":4.5100000000000007},{"$f":"RTD(\"rtdtrading.rtdserver\",, \"MGLU3_B_0\", \"ABE\")","v":4.7300000000000004},{"$f":"RTD(\"rtdtrading.rtdserver\",, \"MGLU3_B_0\", \"MAX\")","v":4.76},{"$f":"RTD(\"rtdtrading.rtdserver\",, \"MGLU3_B_0\", \"MIN\")","v":4.49},{"$f":"RTD(\"rtdtrading.rtdserver\",, \"MGLU3_B_0\", \"FEC\")","v":4.6800000000000006},{"$f":"RTD(\"rtdtrading.rtdserver\",, \"MGLU3_B_0\", \"VAR\")","v":-3.6324786324786373},{"$f":"RTD(\"rtdtrading.rtdserver\",, \"MGLU3_B_0\", \"AJA\")","v":0},{"$f":"RTD(\"rtdtrading.rtdserver\",, \"MGLU3_B_0\", \"PRT\")","v":0},4.5100000000000007,772010260,3481766272.6000004]
[null,null,null,"BBAS3",{"$f":"RTD(\"rtdtrading.rtdserver\",, \"BBAS3_B_0\", \"ULT\")","v":41.380000000000024},{"$f":"RTD(\"rtdtrading.rtdserver\",, \"BBAS3_B_0\", \"ABE\")","v":41.88},{"$f":"RTD(\"rtdtrading.rtdserver\",, \"BBAS3_B_0\", \"MAX\")","v":42.03},{"$f":"RTD(\"rtdtrading.rtdserver\",, \"BBAS3_B_0\", \"MIN\")","v":41.12},{"$f":"RTD(\"rtdtrading.rtdserver\",, \"BBAS3_B_0\", \"FEC\")","v":41.800000000000004},{"$f":"RTD(\"rtdtrading.rtdserver\",, \"BBAS3_B_0\", \"VAR\")","v":-1.0047846889951586},{"$f":"RTD(\"rtdtrading.rtdserver\",, \"BBAS3_B_0\", \"AJA\")","v":0},{"$f":"RTD(\"rtdtrading.rtdserver\",, \"BBAS3_B_0\", \"PRT\")","v":0},41.380000000000024,1216056103,50320401542.14003]
[null,null,null,"CRFB3",{"$f":"RTD(\"rtdtrading.rtdserver\",, \"CRFB3_B_0\", \"ULT\")","v":20.03},{"$f":"RTD(\"rtdtrading.rtdserver\",, \"CRFB3_B_0\", \"ABE\")","v":20.18},{"$f":"RTD(\"rtdtrading.rtdserver\",, \"CRFB3_B_0\", \"MAX\")","v":20.37},{"$f":"RTD(\"rtdtrading.rtdserver\",, \"CRFB3_B_0\", \"MIN\")","v":19.959999999999997},{"$f":"RTD(\"rtdtrading.rtdserver\",, \"CRFB3_B_0\", \"FEC\")","v":20.080000000000002},{"$f":"RTD(\"rtdtrading.rtdserver\",, \"CRFB3_B_0\", \"VAR\")","v":-0.24900398406374791},{"$f":"RTD(\"rtdtrading.rtdserver\",, \"CRFB3_B_0\", \"AJA\")","v":0},{"$f":"RTD(\"rtdtrading.rtdserver\",, \"CRFB3_B_0\", \"PRT\")","v":0},20.03,340001934,6810238738.0200005]
[null,null,null,"MRVE3",{"$f":"RTD(\"rtdtrading.rtdserver\",, \"MRVE3_B_0\", \"ULT\")","v":10.25},{"$f":"RTD(\"rtdtrading.rtdserver\",, \"MRVE3_B_0\", \"ABE\")","v":10.31},{"$f":"RTD(\"rtdtrading.rtdserver\",, \"MRVE3_B_0\", \"MAX\")","v":10.65},{"$f":"RTD(\"rtdtrading.rtdserver\",, \"MRVE3_B_0\", \"MIN\")","v":10.18},{"$f":"RTD(\"rtdtrading.rtdserver\",, \"MRVE3_B_0\", \"FEC\")","v":10.26},{"$f":"RTD(\"rtdtrading.rtdserver\",, \"MRVE3_B_0\", \"VAR\")","v":-9.746588693957392E-2},{"$f":"RTD(\"rtdtrading.rtdserver\",, \"MRVE3_B_0\", \"AJA\")","v":0},{"$f":"RTD(\"rtdtrading.rtdserver\",, \"MRVE3_B_0\", \"PRT\")","v":0},10.25,362703399,3717709839.75]
[null,null,null,"TIMS3",{"$f":"RTD(\"rtdtrading.rtdserver\",, \"TIMS3_B_0\", \"ULT\")","v":12.02},{"$f":"RTD(\"rtdtrading.rtdserver\",, \"TIMS3_B_0\", \"ABE\")","v":12.1},{"$f":"RTD(\"rtdtrading.rtdserver\",, \"TIMS3_B_0\", \"MAX\")","v":12.12},{"$f":"RTD(\"rtdtrading.rtdserver\",, \"TIMS3_B_0\", \"MIN\")","v":11.98},{"$f":"RTD(\"rtdtrading.rtdserver\",, \"TIMS3_B_0\", \"FEC\")","v":12.06},{"$f":"RTD(\"rtdtrading.rtdserver\",, \"TIMS3_B_0\", \"VAR\")","v":-0.33167495854064555},{"$f":"RTD(\"rtdtrading.rtdserver\",, \"TIMS3_B_0\", \"AJA\")","v":0},{"$f":"RTD(\"rtdtrading.rtdserver\",, \"TIMS3_B_0\", \"PRT\")","v":0},12.02,642398790,7721633455.8000002]
[null,null,null,"CMIG4",{"$f":"RTD(\"rtdtrading.rtdserver\",, \"CMIG4_B_0\", \"ULT\")","v":12.44},{"$f":"RTD(\"rtdtrading.rtdserver\",, \"CMIG4_B_0\", \"ABE\")","v":12.65},{"$f":"RTD(\"rtdtrading.rtdserver\",, \"CMIG4_B_0\", \"MAX\")","v":12.66},{"$f":"RTD(\"rtdtrading.rtdserver\",, \"CMIG4_B_0\", \"MIN\")","v":12.35},{"$f":"RTD(\"rtdtrading.rtdserver\",, \"CMIG4_B_0\", \"FEC\")","v":12.63},{"$f":"RTD(\"rtdtrading.rtdserver\",, \"CMIG4_B_0\", \"VAR\")","v":-1.5043547110055471},{"$f":"RTD(\"rtdtrading.rtdserver\",, \"CMIG4_B_0\", \"AJA\")","v":0},{"$f":"RTD(\"rtdtrading.rtdserver\",, \"CMIG4_B_0\", \"PRT\")","v":0},12.44,96270946,1197610568.24]
[null,null,null,"WEGE3",{"$f":"RTD(\"rtdtrading.rtdserver\",, \"WEGE3_B_0\", \"ULT\")","v":28.830000000000041},{"$f":"RTD(\"rtdtrading.rtdserver\",, \"WEGE3_B_0\", \"ABE\")","v":29.18},{"$f":"RTD(\"rtdtrading.rtdserver\",, \"WEGE3_B_0\", \"MAX\")","v":29.23},{"$f":"RTD(\"rtdtrading.rtdserver\",, \"WEGE3_B_0\", \"MIN\")","v":28.61},{"$f":"RTD(\"rtdtrading.rtdserver\",, \"WEGE3_B_0\", \"FEC\")","v":28.950000000000003},{"$f":"RTD(\"rtdtrading.rtdserver\",, \"WEGE3_B_0\", \"VAR\")","v":-0.41450777202058475},{"$f":"RTD(\"rtdtrading.rtdserver\",, \"WEGE3_B_0\", \"AJA\")","v":0},{"$f":"RTD(\"rtdtrading.rtdserver\",, \"WEGE3_B_0\", \"PRT\")","v":0},28.830000000000041,283167854,8163729230.8200111]
[null,null,null,"MULT3",{"$f":"RTD(\"rtdtrading.rtdserver\",, \"MULT3_B_0\", \"ULT\")","v":25.480000000000004},{"$f":"RTD(\"rtdtrading.rtdserver\",, \"MULT3_B_0\", \"ABE\")","v":25.61},{"$f":"RTD(\"rtdtrading.rtdserver\",, \"MULT3_B_0\", \"MAX\")","v":25.8},{"$f":"RTD(\"rtdtrading.rtdserver\",, \"MULT3_B_0\", \"MIN\")","v":25.41},{"$f":"RTD(\"rtdtrading.rtdserver\",, \"MULT3_B_0\", \"FEC\")","v":25.5},{"$f":"RTD(\"rtdtrading.rtdserver\",, \"MULT3_B_0\", \"VAR\")","v":-7.8431372549005118E-2},{"$f":"RTD(\"rtdtrading.rtdserver\",, \"MULT3_B_0\", \"AJA\")","v":0},{"$f":"RTD(\"rtdtrading.rtdserver\",, \"MULT3_B_0\", \"PRT\")","v":0},25.480000000000004,726779281,18518336079.880001]
[null,null,null,"HYPE3",{"$f":"RTD(\"rtdtrading.rtdserver\",, \"HYPE3_B_0\", \"ULT\")","v":43.910000000000025},{"$f":"RTD(\"rtdtrading.rtdserver\",, \"HYPE3_B_0\", \"ABE\")","v":44.06},{"$f":"RTD(\"rtdtrading.rtdserver\",, \"HYPE3_B_0\", \"MAX\")","v":44.25},{"$f":"RTD(\"rtdtrading.rtdserver\",, \"HYPE3_B_0\", \"MIN\")","v":43.64},{"$f":"RTD(\"rtdtrading.rtdserver\",, \"HYPE3_B_0\", \"FEC\")","v":43.9},{"$f":"RTD(\"rtdtrading.rtdserver\",, \"HYPE3_B_0\", \"VAR\")","v":2.2779043280252154E-2},{"$f":"RTD(\"rtdtrading.rtdserver\",, \"HYPE3_B_0\", \"AJA\")","v":0},{"$f":"RTD(\"rtdtrading.rtdserver\",, \"HYPE3_B_0\", \"PRT\")","v":0},43.910000000000025,218568234,9597331154.9400063]
[null,null,null,"LREN3",{"$f":"RTD(\"rtdtrading.rtdserver\",, \"LREN3_B_0\", \"ULT\")","v":27.600000000000016},{"$f":"RTD(\"rtdtrading.rtdserver\",, \"LREN3_B_0\", \"ABE\")","v":27.67},{"$f":"RTD(\"rtdtrading.rtdserver\",, \"LREN3_B_0\", \"MAX\")","v":27.99},{"$f":"RTD(\"rtdtrading.rtdserver\",, \"LREN3_B_0\", \"MIN\")","v":27.42},{"$f":"RTD(\"rtdtrading.rtdserver\",, \"LREN3_B_0\", \"FEC\")","v":27.6},{"$f":"RTD(\"rtdtrading.rtdserver\",, \"LREN3_B_0\", \"VAR\")","v":4.2632564145606011E-14},{"$f":"RTD(\"rtdtrading.rtdserver\",, \"LREN3_B_0\", \"AJA\")","v":0},{"$f":"RTD(\"rtdtrading.rtdserver\",, \"LREN3_B_0\", \"PRT\")","v":0},27.600000000000016,413890875,11423388150.000006]
[null,null,null,"PETZ3",{"$f":"RTD(\"rtdtrading.rtdserver\",, \"PETZ3_B_0\", \"ULT\")","v":10.639999999999999},{"$f":"RTD(\"rtdtrading.rtdserver\",, \"PETZ3_B_0\", \"ABE\")","v":10.97},{"$f":"RTD(\"rtdtrading.rtdserver\",, \"PETZ3_B_0\", \"MAX\")","v":11.15},{"$f":"RTD(\"rtdtrading.rtdserver\",, \"PETZ3_B_0\", \"MIN\")","v":10.5},{"$f":"RTD(\"rtdtrading.rtdserver\",, \"PETZ3_B_0\", \"FEC\")","v":10.93},{"$f":"RTD(\"rtdtrading.rtdserver\",, \"PETZ3_B_0\", \"VAR\")","v":-2.6532479414455707},{"$f":"RTD(\"rtdtrading.rtdserver\",, \"PETZ3_B_0\", \"AJA\")","v":0},{"$f":"RTD(\"rtdtrading.rtdserver\",, \"PETZ3_B_0\", \"PRT\")","v":0},10.639999999999999,808619532,8603711820.4799995]
[null,null,null,"B3SA3",{"$f":"RTD(\"rtdtrading.rtdserver\",, \"B3SA3_B_0\", \"ULT\")","v":12.520000000000001},{"$f":"RTD(\"rtdtrading.rtdserver\",, \"B3SA3_B_0\", \"ABE\")","v":12.82},{"$f":"RTD(\"rtdtrading.rtdserver\",, \"B3SA3_B_0\", \"MAX\")","v":12.85},{"$f":"RTD(\"rtdtrading.rtdserver\",, \"B3SA3_B_0\", \"MIN\")","v":12.5},{"$f":"RTD(\"rtdtrading.rtdserver\",, \"B3SA3_B_0\", \"FEC\")","v":12.770000000000001},{"$f":"RTD(\"rtdtrading.rtdserver\",, \"B3SA3_B_0\", \"VAR\")","v":-1.9577133907595936},{"$f":"RTD(\"rtdtrading.rtdserver\",, \"B3SA3_B_0\", \"AJA\")","v":0},{"$f":"RTD(\"rtdtrading.rtdserver\",, \"B3SA3_B_0\", \"PRT\")","v":0},12.520000000000001,519851955,6508546476.6000004]
[null,null,null,"VIVT3",{"$f":"RTD(\"rtdtrading.rtdserver\",, \"VIVT3_B_0\", \"ULT\")","v":42.679999999999986},{"$f":"RTD(\"rtdtrading.rtdserver\",, \"VIVT3_B_0\", \"ABE\")","v":43.02},{"$f":"RTD(\"rtdtrading.rtdserver\",, \"VIVT3_B_0\", \"MAX\")","v":43.06},{"$f":"RTD(\"rtdtrading.rtdserver\",, \"VIVT3_B_0\", \"MIN\")","v":42.61},{"$f":"RTD(\"rtdtrading.rtdserver\",, \"VIVT3_B_0\", \"FEC\")","v":42.85},{"$f":"RTD(\"rtdtrading.rtdserver\",, \"VIVT3_B_0\", \"VAR\")","v":-0.39673278879817531},{"$f":"RTD(\"rtdtrading.rtdserver\",, \"VIVT3_B_0\", \"AJA\")","v":0},{"$f":"RTD(\"rtdtrading.rtdserver\",, \"VIVT3_B_0\", \"PRT\")","v":0},42.679999999999986,1086067887,46353377417.159981]
[null,null,null,"ITUB4",{"$f":"RTD(\"rtdtrading.rtdserver\",, \"ITUB4_B_0\", \"ULT\")","v":26.709999999999994},{"$f":"RTD(\"rtdtrading.rtdserver\",, \"ITUB4_B_0\", \"ABE\")","v":26.9},{"$f":"RTD(\"rtdtrading.rtdserver\",, \"ITUB4_B_0\", \"MAX\")","v":27.14},{"$f":"RTD(\"rtdtrading.rtdserver\",, \"ITUB4_B_0\", \"MIN\")","v":26.709999999999994},{"$f":"RTD(\"rtdtrading.rtdserver\",, \"ITUB4_B_0\", \"FEC\")","v":26.85},{"$f":"RTD(\"rtdtrading.rtdserver\",, \"ITUB4_B_0\", \"VAR\")","v":-0.52141527001865029},{"$f":"RTD(\"rtdtrading.rtdserver\",, \"ITUB4_B_0\", \"AJA\")","v":0},{"$f":"RTD(\"rtdtrading.rtdserver\",, \"ITUB4_B_0\", \"PRT\")","v":0},26.709999999999994,514680651,13747120188.209997]
[null,null,null,"RENT3",{"$f":"RTD(\"rtdtrading.rtdserver\",, \"RENT3_B_0\", \"ULT\")","v":61.759999999999948},{"$f":"RTD(\"rtdtrading.rtdserver\",, \"RENT3_B_0\", \"ABE\")","v":63.4},{"$f":"RTD(\"rtdtrading.rtdserver\",, \"RENT3_B_0\", \"MAX\")","v":63.53},{"$f":"RTD(\"rtdtrading.rtdserver\",, \"RENT3_B_0\", \"MIN\")","v":61.53},{"$f":"RTD(\"rtdtrading.rtdserver\",, \"RENT3_B_0\", \"FEC\")","v":63.650000000000006},{"$f":"RTD(\"rtdtrading.rtdserver\",, \"RENT3_B_0\", \"VAR\")","v":-2.9693637077769921},{"$f":"RTD(\"rtdtrading.rtdserver\",, \"RENT3_B_0\", \"AJA\")","v":0},{"$f":"RTD(\"rtdtrading.rtdserver\",, \"RENT3_B_0\", \"PRT\")","v":0},61.759999999999948,3768748489,232757906680.6398]
[null,null,null,"BBDC3",{"$f":"RTD(\"rtdtrading.rtdserver\",, \"BBDC3_B_0\", \"ULT\")","v":16.119999999999994},{"$f":"RTD(\"rtdtrading.rtdserver\",, \"BBDC3_B_0\", \"ABE\")","v":16.190000000000001},{"$f":"RTD(\"rtdtrading.rtdserver\",, \"BBDC3_B_0\", \"MAX\")","v":16.37},{"$f":"RTD(\"rtdtrading.rtdserver\",, \"BBDC3_B_0\", \"MIN\")","v":16.119999999999994},{"$f":"RTD(\"rtdtrading.rtdserver\",, \"BBDC3_B_0\", \"FEC\")","v":16.170000000000002},{"$f":"RTD(\"rtdtrading.rtdserver\",, \"BBDC3_B_0\", \"VAR\")","v":-0.30921459492893177},{"$f":"RTD(\"rtdtrading.rtdserver\",, \"BBDC3_B_0\", \"AJA\")","v":0},{"$f":"RTD(\"rtdtrading.rtdserver\",, \"BBDC3_B_0\", \"PRT\")","v":0},16.119999999999994,1596295753,25732287538.359989]
[null,null,null,"BBDC4",{"$f":"RTD(\"rtdtrading.rtdserver\",, \"BBDC4_B_0\", \"ULT\")","v":19.499999999999982},{"$f":"RTD(\"rtdtrading.rtdserver\",, \"BBDC4_B_0\", \"ABE\")","v":19.600000000000001},{"$f":"RTD(\"rtdtrading.rtdserver\",, \"BBDC4_B_0\", \"MAX\")","v":19.82},{"$f":"RTD(\"rtdtrading.rtdserver\",, \"BBDC4_B_0\", \"MIN\")","v":19.499999999999993},{"$f":"RTD(\"rtdtrading.rtdserver\",, \"BBDC4_B_0\", \"FEC\")","v":19.510000000000002},{"$f":"RTD(\"rtdtrading.rtdserver\",, \"BBDC4_B_0\", \"VAR\")","v":-5.1255766273811787E-2},{"$f":"RTD(\"rtdtrading.rtdserver\",, \"BBDC4_B_0\", \"AJA\")","v":0},{"$f":"RTD(\"rtdtrading.rtdserver\",, \"BBDC4_B_0\", \"PRT\")","v":0},19.499999999999982,1131883365,22071725617.499981]
[null,null,null,"RADL3",{"$f":"RTD(\"rtdtrading.rtdserver\",, \"RADL3_B_0\", \"ULT\")","v":22.309999999999988},{"$f":"RTD(\"rtdtrading.rtdserver\",, \"RADL3_B_0\", \"ABE\")","v":22.78},{"$f":"RTD(\"rtdtrading.rtdserver\",, \"RADL3_B_0\", \"MAX\")","v":22.85},{"$f":"RTD(\"rtdtrading.rtdserver\",, \"RADL3_B_0\", \"MIN\")","v":22.27},{"$f":"RTD(\"rtdtrading.rtdserver\",, \"RADL3_B_0\", \"FEC\")","v":22.62},{"$f":"RTD(\"rtdtrading.rtdserver\",, \"RADL3_B_0\", \"VAR\")","v":-1.3704686118479685},{"$f":"RTD(\"rtdtrading.rtdserver\",, \"RADL3_B_0\", \"AJA\")","v":0},{"$f":"RTD(\"rtdtrading.rtdserver\",, \"RADL3_B_0\", \"PRT\")","v":0},22.309999999999988,1484859030,33127204959.299984]
[null,null,null,"RDOR3",{"$f":"RTD(\"rtdtrading.rtdserver\",, \"RDOR3_B_0\", \"ULT\")","v":33.849999999999987},{"$f":"RTD(\"rtdtrading.rtdserver\",, \"RDOR3_B_0\", \"ABE\")","v":34.619999999999997},{"$f":"RTD(\"rtdtrading.rtdserver\",, \"RDOR3_B_0\", \"MAX\")","v":35.130000000000003},{"$f":"RTD(\"rtdtrading.rtdserver\",, \"RDOR3_B_0\", \"MIN\")","v":33.83},{"$f":"RTD(\"rtdtrading.rtdserver\",, \"RDOR3_B_0\", \"FEC\")","v":34.450000000000003},{"$f":"RTD(\"rtdtrading.rtdserver\",, \"RDOR3_B_0\", \"VAR\")","v":-1.7416545718432985},{"$f":"RTD(\"rtdtrading.rtdserver\",, \"RDOR3_B_0\", \"AJA\")","v":0},{"$f":"RTD(\"rtdtrading.rtdserver\",, \"RDOR3_B_0\", \"PRT\")","v":0},33.849999999999987,300833122,10183201179.699997]
[null,null,null,null,null,null,null,null,null,null,null,null,null,null,{"$f":"SUM(O7:O96)","v":2033458802014.1594}]
[]
[null,null,null,null,null,null,null,null,null,null,null,null,null,null,{"$f":"#REF!","v":{"$error":"#REF!"}}]
[]
[]
[]
[]
[]
[null,null,null,"Asset","Último","Abertura","Máximo","Mínimo","Fechamento Anterior","Variação","Variação(pts)","Negócios","Quantidade","Volume","Aj. Anterior","Preço Teórico","Limite Max","Limite Min","Prior Cote Ajuste","TR - Acúmulo de Agressão - Saldo","TR - Histograma de Agressão","TR - Volume de Agressão - Saldo"]
[null,null,null,"IBOV",{"$f":"RTD(\"rtdtrading.rtdserver\",, \"IBOV_B_0\", \"ULT\")","v":112473.24},{"$f":"RTD(\"rtdtrading.rtdserver\",, \"IBOV_B_0\", \"ABE\")","v":113532.54},{"$f":"RTD(\"rtdtrading.rtdserver\",, \"IBOV_B_0\", \"MAX\")","v":114091.4},{"$f":"RTD(\"rtdtrading.rtdserver\",, \"IBOV_B_0\", \"MIN\")","v":112433.8},{"$f":"RTD(\"rtdtrading.rtdserver\",, \"IBOV_B_0\", \"FEC\")","v":113531.72},{"$f":"RTD(\"rtdtrading.rtdserver\",, \"IBOV_B_0\", \"VAR\")","v":-0.93232094079081662},{"$f":"RTD(\"rtdtrading.rtdserver\",, \"IBOV_B_0\", \"VARPTS\")","v":-1058.4799999999959},{"$f":"RTD(\"rtdtrading.rtdserver\",, \"IBOV_B_0\", \"NEG\")","v":587471},{"$f":"RTD(\"rtdtrading.rtdserver\",, \"IBOV_B_0\", \"QTT\")","v":494920900},{"$f":"RTD(\"rtdtrading.rtdserver\",, \"IBOV_B_0\", \"VOL\")","v":7355060301},"Aj. Anterior",{"$f":"RTD(\"rtdtrading.rtdserver\",, \"IBOV_B_0\", \"PRT\")","v":0},{"$f":"RTD(\"rtdtrading.rtdserver\",, \"IBOV_B_0\", \"LMAX\")","v":0},{"$f":"RTD(\"rtdtrading.rtdserver\",, \"IBOV_B_0\", \"LMIN\")","v":0},{"$f":"RTD(\"rtdtrading.rtdserver\",, \"IBOV_B_0\", \"190\")","v":"Atributo Inválido"},{"$f":"RTD(\"rtdtrading.rtdserver\",, \"IBOV_B_0\", \"103\")","v":"0,00"},{"$f":"RTD(\"rtdtrading.rtdserver\",, \"IBOV_B_0\", \"184\")","v":"0,00"},{"$f":"RTD(\"rtdtrading.rtdserver\",, \"IBOV_B_0\", \"100\")","v":"0"}]
[]
[]
[]
[]
[]
[null,null,null,"Asset","Último","Abertura","Máximo","Mínimo","Fechamento Anterior","Variação","Variação(pts)","Negócios","Quantidade","Volume","Aj. Anterior","Preço Teórico","Limite Max","Limite Min","Afastamento Médio","Estocástico Pleno","Momentum","Nelogica - Pullback Finder","Prior Cote","Prior Cote Ajuste","Stop ATR","TR - Acúmulo de Agressão - Saldo","TR - Histograma de Agressão","TR - Volume de Agressão - Saldo","Volatilidade Histórica"]
[null,null,null,"WINQ22",{"$f":"RTD(\"rtdtrading.rtdserver\",, \"WINQ22_F_0\", \"ULT\")","v":113720},{"$f":"RTD(\"rtdtrading.rtdserver\",, \"WINQ22_F_0\", \"ABE\")","v":112900},{"$f":"RTD(\"rtdtrading.rtdserver\",, \"WINQ22_F_0\", \"MAX\")","v":114000},{"$f":"RTD(\"rtdtrading.rtdserver\",, \"WINQ22_F_0\", \"MIN\")","v":112255},{"$f":"RTD(\"rtdtrading.rtdserver\",, \"WINQ22_F_0\", \"FEC\")","v":113785},{"$f":"RTD(\"rtdtrading.rtdserver\",, \"WINQ22_F_0\", \"VAR\")","v":-5.7125280133590195E-2},{"$f":"RTD(\"rtdtrading.rtdserver\",, \"WINQ22_F_0\", \"VARPTS\")","v":-65},{"$f":"RTD(\"rtdtrading.rtdserver\",, \"WINQ22_F_0\", \"NEG\")","v":788688},{"$f":"RTD(\"rtdtrading.rtdserver\",, \"WINQ22_F_0\", \"QTT\")","v":1976739},{"$f":"RTD(\"rtdtrading.rtdserver\",, \"WINQ22_F_0\", \"VOL\")","v":44759957817},{"$f":"RTD(\"rtdtrading.rtdserver\",, \"WINQ22_F_0\", \"AJA\")","v":0},{"$f":"RTD(\"rtdtrading.rtdserver\",, \"WINQ22_F_0\", \"PRT\")","v":0},{"$f":"RTD(\"rtdtrading.rtdserver\",, \"WINQ22_F_0\", \"LMAX\")","v":0},{"$f":"RTD(\"rtdtrading.rtdserver\",, \"WINQ22_F_0\", \"LMIN\")","v":0},{"$f":"RTD(\"rtdtrading.rtdserver\",, \"WINQ22_F_0\", \"126\")","v":"Atributo Inválido"},{"$f":"RTD(\"rtdtrading.rtdserver\",, \"WINQ22_F_0\", \"15\")","v":"Atributo Inválido"},{"$f":"RTD(\"rtdtrading.rtdserver\",, \"WINQ22_F_0\", \"33\")","v":"Atributo Inválido"},{"$f":"RTD(\"rtdtrading.rtdserver\",, \"WINQ22_F_0\", \"85\")","v":"Atributo Inválido"},{"$f":"RTD(\"rtdtrading.rtdserver\",, \"WINQ22_F_0\", \"86\")","v":"Atributo Inválido"},{"$f":"RTD(\"rtdtrading.rtdserver\",, \"WINQ22_F_0\", \"190\")","v":"Atributo Inválido"},{"$f":"RTD(\"rtdtrading.rtdserver\",, \"WINQ22_F_0\", \"66\")","v":"Atributo Inválido"},{"$f":"RTD(\"rtdtrading.rtdserver\",, \"WINQ22_F_0\", \"103\")","v":"16.716,00"},{"$f":"RTD(\"rtdtrading.rtdserver\",, \"WINQ22_F_0\", \"184\")","v":"645.718,00"},{"$f":"RTD(\"rtdtrading.rtdserver\",, \"WINQ22_F_0\", \"100\")","v":"16.716"},{"$f":"RTD(\"rtdtrading.rtdserver\",, \"WINQ22_F_0\", \"45\")","v":"Atributo Inválido"}]

{"sheet":"AGRESSÃO IBOV","index":5,"n_rows":101,"n_cols":12,"rows_kept":101,"cut":false,"hidden":false,"merged":[]}
[]
[]
[]
[null,"Asset","Último","Abertura","Máximo","Mínimo","Variação","Variação(pts)","TR - Histograma de Agressão","TR - Volume de Agressão - Saldo","TR - Acúmulo de Agressão - Saldo","Variação"]
[null,"RRRP3",{"$f":"RTD(\"rtdtrading.rtdserver\",, \"RRRP3_B_0\", \"ULT\")","v":36.890000000000029},{"$f":"RTD(\"rtdtrading.rtdserver\",, \"RRRP3_B_0\", \"ABE\")","v":37},{"$f":"RTD(\"rtdtrading.rtdserver\",, \"RRRP3_B_0\", \"MAX\")","v":37.43},{"$f":"RTD(\"rtdtrading.rtdserver\",, \"RRRP3_B_0\", \"MIN\")","v":36.659999999999997},{"$f":"RTD(\"rtdtrading.rtdserver\",, \"RRRP3_B_0\", \"VAR\")","v":-0.16238159675229724},{"$f":"RTD(\"rtdtrading.rtdserver\",, \"RRRP3_B_0\", \"VARPTS\")","v":-5.9999999999973852E-2},{"$f":"RTD(\"rtdtrading.rtdserver\",, \"RRRP3_B_0\", \"184\")","v":"268.000,00"},{"$f":"RTD(\"rtdtrading.rtdserver\",, \"RRRP3_B_0\", \"100\")","v":"-245.100"},{"$f":"RTD(\"rtdtrading.rtdserver\",, \"RRRP3_B_0\", \"103\")","v":"-245.100,00"},{"$f":"SUM(G5:G94)","v":-104.0751447024423}]
[null,"LWSA3",{"$f":"RTD(\"rtdtrading.rtdserver\",, \"LWSA3_B_0\", \"ULT\")","v":9.7300000000000022},{"$f":"RTD(\"rtdtrading.rtdserver\",, \"LWSA3_B_0\", \"ABE\")","v":10.02},{"$f":"RTD(\"rtdtrading.rtdserver\",, \"LWSA3_B_0\", \"MAX\")","v":10.15},{"$f":"RTD(\"rtdtrading.rtdserver\",, \"LWSA3_B_0\", \"MIN\")","v":9.7200000000000024},{"$f":"RTD(\"rtdtrading.rtdserver\",, \"LWSA3_B_0\", \"VAR\")","v":-2.8942115768462884},{"$f":"RTD(\"rtdtrading.rtdserver\",, \"LWSA3_B_0\", \"VARPTS\")","v":-0.28999999999999915},{"$f":"RTD(\"rtdtrading.rtdserver\",, \"LWSA3_B_0\", \"184\")","v":"3.390.800,00"},{"$f":"RTD(\"rtdtrading.rtdserver\",, \"LWSA3_B_0\", \"100\")","v":"-618.000"},{"$f":"RTD(\"rtdtrading.rtdserver\",, \"LWSA3_B_0\", \"103\")","v":"-618.000,00"},"VOL Agressão"]
[null,"ENEV3",{"$f":"RTD(\"rtdtrading.rtdserver\",, \"ENEV3_B_0\", \"ULT\")","v":15.280000000000001},{"$f":"RTD(\"rtdtrading.rtdserver\",, \"ENEV3_B_0\", \"ABE\")","v":15.46},{"$f":"RTD(\"rtdtrading.rtdserver\",, \"ENEV3_B_0\", \"MAX\")","v":15.52},{"$f":"RTD(\"rtdtrading.rtdserver\",, \"ENEV3_B_0\", \"MIN\")","v":15.24},{"$f":"RTD(\"rtdtrading.rtdserver\",, \"ENEV3_B_0\", \"VAR\")","v":-0.65019505851755355},{"$f":"RTD(\"rtdtrading.rtdserver\",, \"ENEV3_B_0\", \"VARPTS\")","v":-9.9999999999999645E-2},{"$f":"RTD(\"rtdtrading.rtdserver\",, \"ENEV3_B_0\", \"184\")","v":"26.400,00"},{"$f":"RTD(\"rtdtrading.rtdserver\",, \"ENEV3_B_0\", \"100\")","v":"-26.400"},{"$f":"RTD(\"rtdtrading.rtdserver\",, \"ENEV3_B_0\", \"103\")","v":"-26.400,00"},{"$f":"SUM(J5+J6+J7+J8+J9+J10+J11+J12+J13+J14+J15+J16+J17+J18+J19+J20+J21+J22+J23+J24+J25+J26+J27+J28+J29+J30+J31+J32+J33+J34)","v":-12948900}]
[null,"EMBR3",{"$f":"RTD(\"rtdtrading.rtdserver\",, \"EMBR3_B_0\", \"ULT\")","v":14.500000000000002},{"$f":"RTD(\"rtdtrading.rtdserver\",, \"EMBR3_B_0\", \"ABE\")","v":14.85},{"$f":"RTD(\"rtdtrading.rtdserver\",, \"EMBR3_B_0\", \"MAX\")","v":14.98},{"$f":"RTD(\"rtdtrading.rtdserver\",, \"EMBR3_B_0\", \"MIN\")","v":14.49},{"$f":"RTD(\"rtdtrading.rtdserver\",, \"EMBR3_B_0\", \"VAR\")","v":-1.5614392396469725},{"$f":"RTD(\"rtdtrading.rtdserver\",, \"EMBR3_B_0\", \"VARPTS\")","v":-0.22999999999999865},{"$f":"RTD(\"rtdtrading.rtdserver\",, \"EMBR3_B_0\", \"184\")","v":"510.200,00"},{"$f":"RTD(\"rtdtrading.rtdserver\",, \"EMBR3_B_0\", \"100\")","v":"-510.200"},{"$f":"RTD(\"rtdtrading.rtdserver\",, \"EMBR3_B_0\", \"103\")","v":"-510.200,00"},{"$f":"SUM(J35+J36+J37+J38+J39+J40+J41+J42+J43+J45+J46+J47+J44+J48+J49+J50+J51+J52+J53+J54+J53)","v":-2065000}]
[null,"PRIO3",{"$f":"RTD(\"rtdtrading.rtdserver\",, \"PRIO3_B_0\", \"ULT\")","v":26.350000000000005},{"$f":"RTD(\"rtdtrading.rtdserver\",, \"PRIO3_B_0\", \"ABE\")","v":26.48},{"$f":"RTD(\"rtdtrading.rtdserver\",, \"PRIO3_B_0\", \"MAX\")","v":26.69},{"$f":"RTD(\"rtdtrading.rtdserver\",, \"PRIO3_B_0\", \"MIN\")","v":26.23},{"$f":"RTD(\"rtdtrading.rtdserver\",, \"PRIO3_B_0\", \"VAR\")","v":-0.15157256536565455},{"$f":"RTD(\"rtdtrading.rtdserver\",, \"PRIO3_B_0\", \"VARPTS\")","v":-3.9999999999995595E-2},{"$f":"RTD(\"rtdtrading.rtdserver\",, \"PRIO3_B_0\", \"184\")","v":"1.591.800,00"},{"$f":"RTD(\"rtdtrading.rtdserver\",, \"PRIO3_B_0\", \"100\")","v":"-83.000"},{"$f":"RTD(\"rtdtrading.rtdserver\",, \"PRIO3_B_0\", \"103\")","v":"-83.000,00"},{"$f":"SUM(J53+J54+J55+J56+J57+J58+J59+J60+J61+J62+J63+J64+J65+J66+J67+J68+J69+J70+J71+J72+J73+J74+J75+J76+J77+J78+J79+J80+J81+J82+J83+J84+J85+J86+J87+J88+J89+J90+J91+J92+J93+J94)","v":-14706700}]
[null,"BRFS3",{"$f":"RTD(\"rtdtrading.rtdserver\",, \"BRFS3_B_0\", \"ULT\")","v":16.100000000000009},{"$f":"RTD(\"rtdtrading.rtdserver\",, \"BRFS3_B_0\", \"ABE\")","v":16.55},{"$f":"RTD(\"rtdtrading.rtdserver\",, \"BRFS3_B_0\", \"MAX\")","v":16.61},{"$f":"RTD(\"rtdtrading.rtdserver\",, \"BRFS3_B_0\", \"MIN\")","v":16.05},{"$f":"RTD(\"rtdtrading.rtdserver\",, \"BRFS3_B_0\", \"VAR\")","v":-2.246508803885817},{"$f":"RTD(\"rtdtrading.rtdserver\",, \"BRFS3_B_0\", \"VARPTS\")","v":-0.36999999999999389},{"$f":"RTD(\"rtdtrading.rtdserver\",, \"BRFS3_B_0\", \"184\")","v":"99.200,00"},{"$f":"RTD(\"rtdtrading.rtdserver\",, \"BRFS3_B_0\", \"100\")","v":"-99.200"},{"$f":"RTD(\"rtdtrading.rtdserver\",, \"BRFS3_B_0\", \"103\")","v":"-99.200,00"}]
[null,"CVCB3",{"$f":"RTD(\"rtdtrading.rtdserver\",, \"CVCB3_B_0\", \"ULT\")","v":7.9000000000000021},{"$f":"RTD(\"rtdtrading.rtdserver\",, \"CVCB3_B_0\", \"ABE\")","v":8.2899999999999991},{"$f":"RTD(\"rtdtrading.rtdserver\",, \"CVCB3_B_0\", \"MAX\")","v":8.43},{"$f":"RTD(\"rtdtrading.rtdserver\",, \"CVCB3_B_0\", \"MIN\")","v":7.8800000000000008},{"$f":"RTD(\"rtdtrading.rtdserver\",, \"CVCB3_B_0\", \"VAR\")","v":-3.8929440389294285},{"$f":"RTD(\"rtdtrading.rtdserver\",, \"CVCB3_B_0\", \"VARPTS\")","v":-0.31999999999999851},{"$f":"RTD(\"rtdtrading.rtdserver\",, \"CVCB3_B_0\", \"184\")","v":"1.221.400,00"},{"$f":"RTD(\"rtdtrading.rtdserver\",, \"CVCB3_B_0\", \"100\")","v":"-1.083.500"},{"$f":"RTD(\"rtdtrading.rtdserver\",, \"CVCB3_B_0\", \"103\")","v":"-1.083.500,00"},{"$f":"SUM(L7+L8+L9)","v":-29720600}]
[null,"CASH3",{"$f":"RTD(\"rtdtrading.rtdserver\",, \"CASH3_B_0\", \"ULT\")","v":1.34},{"$f":"RTD(\"rtdtrading.rtdserver\",, \"CASH3_B_0\", \"ABE\")","v":1.36},{"$f":"RTD(\"rtdtrading.rtdserver\",, \"CASH3_B_0\", \"MAX\")","v":1.39},{"$f":"RTD(\"rtdtrading.rtdserver\",, \"CASH3_B_0\", \"MIN\")","v":1.33},{"$f":"RTD(\"rtdtrading.rtdserver\",, \"CASH3_B_0\", \"VAR\")","v":-1.4705882352941302},{"$f":"RTD(\"rtdtrading.rtdserver\",, \"CASH3_B_0\", \"VARPTS\")","v":-2.0000000000000018E-2},{"$f":"RTD(\"rtdtrading.rtdserver\",, \"CASH3_B_0\", \"184\")","v":"157.700,00"},{"$f":"RTD(\"rtdtrading.rtdserver\",, \"CASH3_B_0\", \"100\")","v":"-9.200"},{"$f":"RTD(\"rtdtrading.rtdserver\",, \"CASH3_B_0\", \"103\")","v":"-9.200,00"}]
[null,"AZUL4",{"$f":"RTD(\"rtdtrading.rtdserver\",, \"AZUL4_B_0\", \"ULT\")","v":17.529999999999966},{"$f":"RTD(\"rtdtrading.rtdserver\",, \"AZUL4_B_0\", \"ABE\")","v":18.3},{"$f":"RTD(\"rtdtrading.rtdserver\",, \"AZUL4_B_0\", \"MAX\")","v":18.61},{"$f":"RTD(\"rtdtrading.rtdserver\",, \"AZUL4_B_0\", \"MIN\")","v":17.499999999999968},{"$f":"RTD(\"rtdtrading.rtdserver\",, \"AZUL4_B_0\", \"VAR\")","v":-3.8398244651674958},{"$f":"RTD(\"rtdtrading.rtdserver\",, \"AZUL4_B_0\", \"VARPTS\")","v":-0.70000000000003482},{"$f":"RTD(\"rtdtrading.rtdserver\",, \"AZUL4_B_0\", \"184\")","v":"971.900,00"},{"$f":"RTD(\"rtdtrading.rtdserver\",, \"AZUL4_B_0\", \"100\")","v":"-971.900"},{"$f":"RTD(\"rtdtrading.rtdserver\",, \"AZUL4_B_0\", \"103\")","v":"-971.900,00"},"HIST Agressão"]
[null,"ECOR3",{"$f":"RTD(\"rtdtrading.rtdserver\",, \"ECOR3_B_0\", \"ULT\")","v":6.13},{"$f":"RTD(\"rtdtrading.rtdserver\",, \"ECOR3_B_0\", \"ABE\")","v":6.21},{"$f":"RTD(\"rtdtrading.rtdserver\",, \"ECOR3_B_0\", \"MAX\")","v":6.26},{"$f":"RTD(\"rtdtrading.rtdserver\",, \"ECOR3_B_0\", \"MIN\")","v":6.1},{"$f":"RTD(\"rtdtrading.rtdserver\",, \"ECOR3_B_0\", \"VAR\")","v":-0.96930533117932782},{"$f":"RTD(\"rtdtrading.rtdserver\",, \"ECOR3_B_0\", \"VARPTS\")","v":-6.0000000000000497E-2},{"$f":"RTD(\"rtdtrading.rtdserver\",, \"ECOR3_B_0\", \"184\")","v":"22.700,00"},{"$f":"RTD(\"rtdtrading.rtdserver\",, \"ECOR3_B_0\", \"100\")","v":"-22.700"},{"$f":"RTD(\"rtdtrading.rtdserver\",, \"ECOR3_B_0\", \"103\")","v":"-22.700,00"},{"$f":"SUM(I5+I6+I7+I8+I9+I10+I11+I12+I13+I14+I15+I16+I17+I18+I19+I20+I21+I22+I23+I24+I25+I26+I27+I28+I29+I30+I31+I32+I33+I34+I35+I36+I37+I38+I39+I40+I41+I42+I43+I44+I45+I46+I47+I48+I49+I50+I51+I52+I53+I54+I55+I56+I57+I58+I59+I60+I61+I62+I63+I64+I65+I66+I67+I68+I69+I70+I71+I72+I73+I74+I76+I75+I77+I78+I79+I80+I81+I82+I83+I84+I85+I86+I87+I88+I89+I91+I90+I92+I93+I94)","v":165842400}]
[null,"DXCO3",{"$f":"RTD(\"rtdtrading.rtdserver\",, \"DXCO3_B_0\", \"ULT\")","v":10.74},{"$f":"RTD(\"rtdtrading.rtdserver\",, \"DXCO3_B_0\", \"ABE\")","v":10.85},{"$f":"RTD(\"rtdtrading.rtdserver\",, \"DXCO3_B_0\", \"MAX\")","v":10.95},{"$f":"RTD(\"rtdtrading.rtdserver\",, \"DXCO3_B_0\", \"MIN\")","v":10.73},{"$f":"RTD(\"rtdtrading.rtdserver\",, \"DXCO3_B_0\", \"VAR\")","v":-0.55555555555557135},{"$f":"RTD(\"rtdtrading.rtdserver\",, \"DXCO3_B_0\", \"VARPTS\")","v":-6.0000000000000497E-2},{"$f":"RTD(\"rtdtrading.rtdserver\",, \"DXCO3_B_0\", \"184\")","v":"17.600,00"},{"$f":"RTD(\"rtdtrading.rtdserver\",, \"DXCO3_B_0\", \"100\")","v":"-17.600"},{"$f":"RTD(\"rtdtrading.rtdserver\",, \"DXCO3_B_0\", \"103\")","v":"-17.600,00"}]
[null,"ABEV3",{"$f":"RTD(\"rtdtrading.rtdserver\",, \"ABEV3_B_0\", \"ULT\")","v":15.68},{"$f":"RTD(\"rtdtrading.rtdserver\",, \"ABEV3_B_0\", \"ABE\")","v":15.89},{"$f":"RTD(\"rtdtrading.rtdserver\",, \"ABEV3_B_0\", \"MAX\")","v":15.9},{"$f":"RTD(\"rtdtrading.rtdserver\",, \"ABEV3_B_0\", \"MIN\")","v":15.68},{"$f":"RTD(\"rtdtrading.rtdserver\",, \"ABEV3_B_0\", \"VAR\")","v":-0.88495575221239164},{"$f":"RTD(\"rtdtrading.rtdserver\",, \"ABEV3_B_0\", \"VARPTS\")","v":-0.14000000000000057},{"$f":"RTD(\"rtdtrading.rtdserver\",, \"ABEV3_B_0\", \"184\")","v":"558.700,00"},{"$f":"RTD(\"rtdtrading.rtdserver\",, \"ABEV3_B_0\", \"100\")","v":"-558.700"},{"$f":"RTD(\"rtdtrading.rtdserver\",, \"ABEV3_B_0\", \"103\")","v":"-558.700,00"},"Acúmulo de Agressão"]
[null,"HAPV3",{"$f":"RTD(\"rtdtrading.rtdserver\",, \"HAPV3_B_0\", \"ULT\")","v":8.09},{"$f":"RTD(\"rtdtrading.rtdserver\",, \"HAPV3_B_0\", \"ABE\")","v":8.16},{"$f":"RTD(\"rtdtrading.rtdserver\",, \"HAPV3_B_0\", \"MAX\")","v":8.33},{"$f":"RTD(\"rtdtrading.rtdserver\",, \"HAPV3_B_0\", \"MIN\")","v":7.97},{"$f":"RTD(\"rtdtrading.rtdserver\",, \"HAPV3_B_0\", \"VAR\")","v":0.24783147459726251},{"$f":"RTD(\"rtdtrading.rtdserver\",, \"HAPV3_B_0\", \"VARPTS\")","v":1.9999999999999574E-2},{"$f":"RTD(\"rtdtrading.rtdserver\",, \"HAPV3_B_0\", \"184\")","v":"1.214.900,00"},{"$f":"RTD(\"rtdtrading.rtdserver\",, \"HAPV3_B_0\", \"100\")","v":"-634.600"},{"$f":"RTD(\"rtdtrading.rtdserver\",, \"HAPV3_B_0\", \"103\")","v":"-634.600,00"},{"$f":"SUM(K5+K6+K7+K8+K9+K10+K11+K12+K13+K14+K15+K16+K17+K18+K19+K20+K21+K22+K23+K24+K25+K26+K27+K28+K29+K30+K31+K32+K33+K34+K35+K36+K37+K38+K39+K40+K41+K42+K43+K44+K45+K46+K47+K48+K49+K50+K51+K52+K53+K54+K55+K56+K57+K58+K59+K60+K61+K62+K63+K64+K65+K66+K67+K68+K69+K70+K71+K72+K73+K74+K75+K76+K77+K78+K79+K80+K81+K82+K83+K84+K85+K86+K87+K88+K89+K90+K91+K92+K93+K94)","v":-30135500}]
[null,"SULA11",{"$f":"RTD(\"rtdtrading.rtdserver\",, \"SULA11_B_0\", \"ULT\")","v":24.819999999999975},{"$f":"RTD(\"rtdtrading.rtdserver\",, \"SULA11_B_0\", \"ABE\")","v":25.37},{"$f":"RTD(\"rtdtrading.rtdserver\",, \"SULA11_B_0\", \"MAX\")","v":25.68},{"$f":"RTD(\"rtdtrading.rtdserver\",, \"SULA11_B_0\", \"MIN\")","v":24.809999999999988},{"$f":"RTD(\"rtdtrading.rtdserver\",, \"SULA11_B_0\", \"VAR\")","v":-2.052091554854087},{"$f":"RTD(\"rtdtrading.rtdserver\",, \"SULA11_B_0\", \"VARPTS\")","v":-0.52000000000002444},{"$f":"RTD(\"rtdtrading.rtdserver\",, \"SULA11_B_0\", \"184\")","v":"105.600,00"},{"$f":"RTD(\"rtdtrading.rtdserver\",, \"SULA11_B_0\", \"100\")","v":"-24.400"},{"$f":"RTD(\"rtdtrading.rtdserver\",, \"SULA11_B_0\", \"103\")","v":"-24.400,00"}]
[null,"ALPA4",{"$f":"RTD(\"rtdtrading.rtdserver\",, \"ALPA4_B_0\", \"ULT\")","v":21.870000000000022},{"$f":"RTD(\"rtdtrading.rtdserver\",, \"ALPA4_B_0\", \"ABE\")","v":20.92},{"$f":"RTD(\"rtdtrading.rtdserver\",, \"ALPA4_B_0\", \"MAX\")","v":22.070000000000018},{"$f":"RTD(\"rtdtrading.rtdserver\",, \"ALPA4_B_0\", \"MIN\")","v":20.73},{"$f":"RTD(\"rtdtrading.rtdserver\",, \"ALPA4_B_0\", \"VAR\")","v":4.6411483253589552},{"$f":"RTD(\"rtdtrading.rtdserver\",, \"ALPA4_B_0\", \"VARPTS\")","v":0.97000000000002018},{"$f":"RTD(\"rtdtrading.rtdserver\",, \"ALPA4_B_0\", \"184\")","v":"387.600,00"},{"$f":"RTD(\"rtdtrading.rtdserver\",, \"ALPA4_B_0\", \"100\")","v":"-387.600"},{"$f":"RTD(\"rtdtrading.rtdserver\",, \"ALPA4_B_0\", \"103\")","v":"-387.600,00"}]
[null,"ENGI11",{"$f":"RTD(\"rtdtrading.rtdserver\",, \"ENGI11_B_0\", \"ULT\")","v":42.809999999999896},{"$f":"RTD(\"rtdtrading.rtdserver\",, \"ENGI11_B_0\", \"ABE\")","v":42.92},{"$f":"RTD(\"rtdtrading.rtdserver\",, \"ENGI11_B_0\", \"MAX\")","v":43.59},{"$f":"RTD(\"rtdtrading.rtdserver\",, \"ENGI11_B_0\", \"MIN\")","v":42.73},{"$f":"RTD(\"rtdtrading.rtdserver\",, \"ENGI11_B_0\", \"VAR\")","v":2.3364485981062444E-2},{"$f":"RTD(\"rtdtrading.rtdserver\",, \"ENGI11_B_0\", \"VARPTS\")","v":9.9999999998914291E-3},{"$f":"RTD(\"rtdtrading.rtdserver\",, \"ENGI11_B_0\", \"184\")","v":"899.300,00"},{"$f":"RTD(\"rtdtrading.rtdserver\",, \"ENGI11_B_0\", \"100\")","v":"211.300"},{"$f":"RTD(\"rtdtrading.rtdserver\",, \"ENGI11_B_0\", \"103\")","v":"211.300,00"}]
[null,"AMER3",{"$f":"RTD(\"rtdtrading.rtdserver\",, \"AMER3_B_0\", \"ULT\")","v":18.020000000000003},{"$f":"RTD(\"rtdtrading.rtdserver\",, \"AMER3_B_0\", \"ABE\")","v":19},{"$f":"RTD(\"rtdtrading.rtdserver\",, \"AMER3_B_0\", \"MAX\")","v":19.09},{"$f":"RTD(\"rtdtrading.rtdserver\",, \"AMER3_B_0\", \"MIN\")","v":17.93999999999998},{"$f":"RTD(\"rtdtrading.rtdserver\",, \"AMER3_B_0\", \"VAR\")","v":-4.0979244278871505},{"$f":"RTD(\"rtdtrading.rtdserver\",, \"AMER3_B_0\", \"VARPTS\")","v":-0.76999999999999602},{"$f":"RTD(\"rtdtrading.rtdserver\",, \"AMER3_B_0\", \"184\")","v":"2.015.300,00"},{"$f":"RTD(\"rtdtrading.rtdserver\",, \"AMER3_B_0\", \"100\")","v":"252.800"},{"$f":"RTD(\"rtdtrading.rtdserver\",, \"AMER3_B_0\", \"103\")","v":"252.800,00"}]
[null,"BBSE3",{"$f":"RTD(\"rtdtrading.rtdserver\",, \"BBSE3_B_0\", \"ULT\")","v":28.330000000000009},{"$f":"RTD(\"rtdtrading.rtdserver\",, \"BBSE3_B_0\", \"ABE\")","v":28.23},{"$f":"RTD(\"rtdtrading.rtdserver\",, \"BBSE3_B_0\", \"MAX\")","v":28.54},{"$f":"RTD(\"rtdtrading.rtdserver\",, \"BBSE3_B_0\", \"MIN\")","v":28.23},{"$f":"RTD(\"rtdtrading.rtdserver\",, \"BBSE3_B_0\", \"VAR\")","v":0.6394316163410565},{"$f":"RTD(\"rtdtrading.rtdserver\",, \"BBSE3_B_0\", \"VARPTS\")","v":0.18000000000000682},{"$f":"RTD(\"rtdtrading.rtdserver\",, \"BBSE3_B_0\", \"184\")","v":"858.900,00"},{"$f":"RTD(\"rtdtrading.rtdserver\",, \"BBSE3_B_0\", \"100\")","v":"134.200"},{"$f":"RTD(\"rtdtrading.rtdserver\",, \"BBSE3_B_0\", \"103\")","v":"134.200,00"}]
[null,"JHSF3",{"$f":"RTD(\"rtdtrading.rtdserver\",, \"JHSF3_B_0\", \"ULT\")","v":6.51},{"$f":"RTD(\"rtdtrading.rtdserver\",, \"JHSF3_B_0\", \"ABE\")","v":6.58},{"$f":"RTD(\"rtdtrading.rtdserver\",, \"JHSF3_B_0\", \"MAX\")","v":6.63},{"$f":"RTD(\"rtdtrading.rtdserver\",, \"JHSF3_B_0\", \"MIN\")","v":6.51},{"$f":"RTD(\"rtdtrading.rtdserver\",, \"JHSF3_B_0\", \"VAR\")","v":-0.61068702290077681},{"$f":"RTD(\"rtdtrading.rtdserver\",, \"JHSF3_B_0\", \"VARPTS\")","v":-4.0000000000000924E-2},{"$f":"RTD(\"rtdtrading.rtdserver\",, \"JHSF3_B_0\", \"184\")","v":"572.500,00"},{"$f":"RTD(\"rtdtrading.rtdserver\",, \"JHSF3_B_0\", \"100\")","v":"-7.000"},{"$f":"RTD(\"rtdtrading.rtdserver\",, \"JHSF3_B_0\", \"103\")","v":"-7.000,00"}]
[null,"FLRY3",{"$f":"RTD(\"rtdtrading.rtdserver\",, \"FLRY3_B_0\", \"ULT\")","v":16.629999999999985},{"$f":"RTD(\"rtdtrading.rtdserver\",, \"FLRY3_B_0\", \"ABE\")","v":16.760000000000002},{"$f":"RTD(\"rtdtrading.rtdserver\",, \"FLRY3_B_0\", \"MAX\")","v":17.05},{"$f":"RTD(\"rtdtrading.rtdserver\",, \"FLRY3_B_0\", \"MIN\")","v":16.54},{"$f":"RTD(\"rtdtrading.rtdserver\",, \"FLRY3_B_0\", \"VAR\")","v":-0.71641791044785919},{"$f":"RTD(\"rtdtrading.rtdserver\",, \"FLRY3_B_0\", \"VARPTS\")","v":-0.12000000000001521},{"$f":"RTD(\"rtdtrading.rtdserver\",, \"FLRY3_B_0\", \"184\")","v":"14.600,00"},{"$f":"RTD(\"rtdtrading.rtdserver\",, \"FLRY3_B_0\", \"100\")","v":"1.700"},{"$f":"RTD(\"rtdtrading.rtdserver\",, \"FLRY3_B_0\", \"103\")","v":"1.700,00"}]
[null,"ENBR3",{"$f":"RTD(\"rtdtrading.rtdserver\",, \"ENBR3_B_0\", \"ULT\")","v":23.2},{"$f":"RTD(\"rtdtrading.rtdserver\",, \"ENBR3_B_0\", \"ABE\")","v":23.14},{"$f":"RTD(\"rtdtrading.rtdserver\",, \"ENBR3_B_0\", \"MAX\")","v":23.3},{"$f":"RTD(\"rtdtrading.rtdserver\",, \"ENBR3_B_0\", \"MIN\")","v":23.08},{"$f":"RTD(\"rtdtrading.rtdserver\",, \"ENBR3_B_0\", \"VAR\")","v":0.34602076124565428},{"$f":"RTD(\"rtdtrading.rtdserver\",, \"ENBR3_B_0\", \"VARPTS\")","v":7.9999999999998295E-2},{"$f":"RTD(\"rtdtrading.rtdserver\",, \"ENBR3_B_0\", \"184\")","v":"148.500,00"},{"$f":"RTD(\"rtdtrading.rtdserver\",, \"ENBR3_B_0\", \"100\")","v":"43.700"},{"$f":"RTD(\"rtdtrading.rtdserver\",, \"ENBR3_B_0\", \"103\")","v":"43.700,00"}]
[null,"GOLL4",{"$f":"RTD(\"rtdtrading.rtdserver\",, \"GOLL4_B_0\", \"ULT\")","v":11.510000000000002},{"$f":"RTD(\"rtdtrading.rtdserver\",, \"GOLL4_B_0\", \"ABE\")","v":12.01},{"$f":"RTD(\"rtdtrading.rtdserver\",, \"GOLL4_B_0\", \"MAX\")","v":12.2},{"$f":"RTD(\"rtdtrading.rtdserver\",, \"GOLL4_B_0\", \"MIN\")","v":11.48},{"$f":"RTD(\"rtdtrading.rtdserver\",, \"GOLL4_B_0\", \"VAR\")","v":-3.4395973154362309},{"$f":"RTD(\"rtdtrading.rtdserver\",, \"GOLL4_B_0\", \"VARPTS\")","v":-0.40999999999999837},{"$f":"RTD(\"rtdtrading.rtdserver\",, \"GOLL4_B_0\", \"184\")","v":"1.449.300,00"},{"$f":"RTD(\"rtdtrading.rtdserver\",, \"GOLL4_B_0\", \"100\")","v":"-1.140.600"},{"$f":"RTD(\"rtdtrading.rtdserver\",, \"GOLL4_B_0\", \"103\")","v":"-1.140.600,00"}]
[null,"MRFG3",{"$f":"RTD(\"rtdtrading.rtdserver\",, \"MRFG3_B_0\", \"ULT\")","v":14.089999999999995},{"$f":"RTD(\"rtdtrading.rtdserver\",, \"MRFG3_B_0\", \"ABE\")","v":14.37},{"$f":"RTD(\"rtdtrading.rtdserver\",, \"MRFG3_B_0\", \"MAX\")","v":14.46},{"$f":"RTD(\"rtdtrading.rtdserver\",, \"MRFG3_B_0\", \"MIN\")","v":13.86},{"$f":"RTD(\"rtdtrading.rtdserver\",, \"MRFG3_B_0\", \"VAR\")","v":-1.5373864430468558},{"$f":"RTD(\"rtdtrading.rtdserver\",, \"MRFG3_B_0\", \"VARPTS\")","v":-0.22000000000000597},{"$f":"RTD(\"rtdtrading.rtdserver\",, \"MRFG3_B_0\", \"184\")","v":"85.000,00"},{"$f":"RTD(\"rtdtrading.rtdserver\",, \"MRFG3_B_0\", \"100\")","v":"-85.000"},{"$f":"RTD(\"rtdtrading.rtdserver\",, \"MRFG3_B_0\", \"103\")","v":"-85.000,00"}]
[null,"CCRO3",{"$f":"RTD(\"rtdtrading.rtdserver\",, \"CCRO3_B_0\", \"ULT\")","v":13.950000000000001},{"$f":"RTD(\"rtdtrading.rtdserver\",, \"CCRO3_B_0\", \"ABE\")","v":14.07},{"$f":"RTD(\"rtdtrading.rtdserver\",, \"CCRO3_B_0\", \"MAX\")","v":14.12},{"$f":"RTD(\"rtdtrading.rtdserver\",, \"CCRO3_B_0\", \"MIN\")","v":13.94},{"$f":"RTD(\"rtdtrading.rtdserver\",, \"CCRO3_B_0\", \"VAR\")","v":-0.42826552462526024},{"$f":"RTD(\"rtdtrading.rtdserver\",, \"CCRO3_B_0\", \"VARPTS\")","v":-5.9999999999998721E-2},{"$f":"RTD(\"rtdtrading.rtdserver\",, \"CCRO3_B_0\", \"184\")","v":"198.300,00"},{"$f":"RTD(\"rtdtrading.rtdserver\",, \"CCRO3_B_0\", \"100\")","v":"-85.200"},{"$f":"RTD(\"rtdtrading.rtdserver\",, \"CCRO3_B_0\", \"103\")","v":"-85.200,00"}]
[null,"BRKM5",{"$f":"RTD(\"rtdtrading.rtdserver\",, \"BRKM5_B_0\", \"ULT\")","v":32.850000000000065},{"$f":"RTD(\"rtdtrading.rtdserver\",, \"BRKM5_B_0\", \"ABE\")","v":33.340000000000003},{"$f":"RTD(\"rtdtrading.rtdserver\",, \"BRKM5_B_0\", \"MAX\")","v":33.520000000000003},{"$f":"RTD(\"rtdtrading.rtdserver\",, \"BRKM5_B_0\", \"MIN\")","v":32.82},{"$f":"RTD(\"rtdtrading.rtdserver\",, \"BRKM5_B_0\", \"VAR\")","v":-0.96472716309899909},{"$f":"RTD(\"rtdtrading.rtdserver\",, \"BRKM5_B_0\", \"VARPTS\")","v":-0.31999999999993634},{"$f":"RTD(\"rtdtrading.rtdserver\",, \"BRKM5_B_0\", \"184\")","v":"59.600,00"},{"$f":"RTD(\"rtdtrading.rtdserver\",, \"BRKM5_B_0\", \"100\")","v":"-59.600"},{"$f":"RTD(\"rtdtrading.rtdserver\",, \"BRKM5_B_0\", \"103\")","v":"-59.600,00"}]
[null,"NTCO3",{"$f":"RTD(\"rtdtrading.rtdserver\",, \"NTCO3_B_0\", \"ULT\")","v":15.630000000000004},{"$f":"RTD(\"rtdtrading.rtdserver\",, \"NTCO3_B_0\", \"ABE\")","v":16.7},{"$f":"RTD(\"rtdtrading.rtdserver\",, \"NTCO3_B_0\", \"MAX\")","v":16.78},{"$f":"RTD(\"rtdtrading.rtdserver\",, \"NTCO3_B_0\", \"MIN\")","v":15.560000000000006},{"$f":"RTD(\"rtdtrading.rtdserver\",, \"NTCO3_B_0\", \"VAR\")","v":-6.0697115384615188},{"$f":"RTD(\"rtdtrading.rtdserver\",, \"NTCO3_B_0\", \"VARPTS\")","v":-1.0099999999999962},{"$f":"RTD(\"rtdtrading.rtdserver\",, \"NTCO3_B_0\", \"184\")","v":"921.400,00"},{"$f":"RTD(\"rtdtrading.rtdserver\",, \"NTCO3_B_0\", \"100\")","v":"-921.400"},{"$f":"RTD(\"rtdtrading.rtdserver\",, \"NTCO3_B_0\", \"103\")","v":"-921.400,00"}]
[null,"CYRE3",{"$f":"RTD(\"rtdtrading.rtdserver\",, \"CYRE3_B_0\", \"ULT\")","v":14.409999999999998},{"$f":"RTD(\"rtdtrading.rtdserver\",, \"CYRE3_B_0\", \"ABE\")","v":14.6},{"$f":"RTD(\"rtdtrading.rtdserver\",, \"CYRE3_B_0\", \"MAX\")","v":14.72},{"$f":"RTD(\"rtdtrading.rtdserver\",, \"CYRE3_B_0\", \"MIN\")","v":14.34},{"$f":"RTD(\"rtdtrading.rtdserver\",, \"CYRE3_B_0\", \"VAR\")","v":-0.75757575757577911},{"$f":"RTD(\"rtdtrading.rtdserver\",, \"CYRE3_B_0\", \"VARPTS\")","v":-0.11000000000000298},{"$f":"RTD(\"rtdtrading.rtdserver\",, \"CYRE3_B_0\", \"184\")","v":"1.491.900,00"},{"$f":"RTD(\"rtdtrading.rtdserver\",, \"CYRE3_B_0\", \"100\")","v":"-50.100"},{"$f":"RTD(\"rtdtrading.rtdserver\",, \"CYRE3_B_0\", \"103\")","v":"-50.100,00"}]
[null,"ELET3",{"$f":"RTD(\"rtdtrading.rtdserver\",, \"ELET3_B_0\", \"ULT\")","v":46.57999999999997},{"$f":"RTD(\"rtdtrading.rtdserver\",, \"ELET3_B_0\", \"ABE\")","v":47.09},{"$f":"RTD(\"rtdtrading.rtdserver\",, \"ELET3_B_0\", \"MAX\")","v":47.18},{"$f":"RTD(\"rtdtrading.rtdserver\",, \"ELET3_B_0\", \"MIN\")","v":46.41},{"$f":"RTD(\"rtdtrading.rtdserver\",, \"ELET3_B_0\", \"VAR\")","v":-0.44881384911312239},{"$f":"RTD(\"rtdtrading.rtdserver\",, \"ELET3_B_0\", \"VARPTS\")","v":-0.21000000000002927},{"$f":"RTD(\"rtdtrading.rtdserver\",, \"ELET3_B_0\", \"184\")","v":"2.171.400,00"},{"$f":"RTD(\"rtdtrading.rtdserver\",, \"ELET3_B_0\", \"100\")","v":"-75.000"},{"$f":"RTD(\"rtdtrading.rtdserver\",, \"ELET3_B_0\", \"103\")","v":"-75.000,00"}]
[null,"IRBR3",{"$f":"RTD(\"rtdtrading.rtdserver\",, \"IRBR3_B_0\", \"ULT\")","v":1.95},{"$f":"RTD(\"rtdtrading.rtdserver\",, \"IRBR3_B_0\", \"ABE\")","v":2.0699999999999998},{"$f":"RTD(\"rtdtrading.rtdserver\",, \"IRBR3_B_0\", \"MAX\")","v":2.1},{"$f":"RTD(\"rtdtrading.rtdserver\",, \"IRBR3_B_0\", \"MIN\")","v":1.95},{"$f":"RTD(\"rtdtrading.rtdserver\",, \"IRBR3_B_0\", \"VAR\")","v":-5.3398058252427205},{"$f":"RTD(\"rtdtrading.rtdserver\",, \"IRBR3_B_0\", \"VARPTS\")","v":-0.1100000000000001},{"$f":"RTD(\"rtdtrading.rtdserver\",, \"IRBR3_B_0\", \"184\")","v":"15.985.800,00"},{"$f":"RTD(\"rtdtrading.rtdserver\",, \"IRBR3_B_0\", \"100\")","v":"-6.008.300"},{"$f":"RTD(\"rtdtrading.rtdserver\",, \"IRBR3_B_0\", \"103\")","v":"-6.008.300,00"}]
[null,"ELET6",{"$f":"RTD(\"rtdtrading.rtdserver\",, \"ELET6_B_0\", \"ULT\")","v":47.560000000000016},{"$f":"RTD(\"rtdtrading.rtdserver\",, \"ELET6_B_0\", \"ABE\")","v":47.93},{"$f":"RTD(\"rtdtrading.rtdserver\",, \"ELET6_B_0\", \"MAX\")","v":48.19},{"$f":"RTD(\"rtdtrading.rtdserver\",, \"ELET6_B_0\", \"MIN\")","v":47.23},{"$f":"RTD(\"rtdtrading.rtdserver\",, \"ELET6_B_0\", \"VAR\")","v":-0.75125208681131994},{"$f":"RTD(\"rtdtrading.rtdserver\",, \"ELET6_B_0\", \"VARPTS\")","v":-0.35999999999998522},{"$f":"RTD(\"rtdtrading.rtdserver\",, \"ELET6_B_0\", \"184\")","v":"131.700,00"},{"$f":"RTD(\"rtdtrading.rtdserver\",, \"ELET6_B_0\", \"100\")","v":"131.700"},{"$f":"RTD(\"rtdtrading.rtdserver\",, \"ELET6_B_0\", \"103\")","v":"131.700,00"}]
[null,"BEEF3",{"$f":"RTD(\"rtdtrading.rtdserver\",, \"BEEF3_B_0\", \"ULT\")","v":15.94},{"$f":"RTD(\"rtdtrading.rtdserver\",, \"BEEF3_B_0\", \"ABE\")","v":15.98},{"$f":"RTD(\"rtdtrading.rtdserver\",, \"BEEF3_B_0\", \"MAX\")","v":16.100000000000001},{"$f":"RTD(\"rtdtrading.rtdserver\",, \"BEEF3_B_0\", \"MIN\")","v":15.83},{"$f":"RTD(\"rtdtrading.rtdserver\",, \"BEEF3_B_0\", \"VAR\")","v":-0.74719800747199372},{"$f":"RTD(\"rtdtrading.rtdserver\",, \"BEEF3_B_0\", \"VARPTS\")","v":-0.12000000000000277},{"$f":"RTD(\"rtdtrading.rtdserver\",, \"BEEF3_B_0\", \"184\")","v":"1.805.500,00"},{"$f":"RTD(\"rtdtrading.rtdserver\",, \"BEEF3_B_0\", \"100\")","v":"136.200"},{"$f":"RTD(\"rtdtrading.rtdserver\",, \"BEEF3_B_0\", \"103\")","v":"136.200,00"}]
[null,"PCAR3",{"$f":"RTD(\"rtdtrading.rtdserver\",, \"PCAR3_B_0\", \"ULT\")","v":20.200000000000017},{"$f":"RTD(\"rtdtrading.rtdserver\",, \"PCAR3_B_0\", \"ABE\")","v":19.91},{"$f":"RTD(\"rtdtrading.rtdserver\",, \"PCAR3_B_0\", \"MAX\")","v":20.48},{"$f":"RTD(\"rtdtrading.rtdserver\",, \"PCAR3_B_0\", \"MIN\")","v":19.89},{"$f":"RTD(\"rtdtrading.rtdserver\",, \"PCAR3_B_0\", \"VAR\")","v":1.507537688442298},{"$f":"RTD(\"rtdtrading.rtdserver\",, \"PCAR3_B_0\", \"VARPTS\")","v":0.30000000000001492},{"$f":"RTD(\"rtdtrading.rtdserver\",, \"PCAR3_B_0\", \"184\")","v":"322.200,00"},{"$f":"RTD(\"rtdtrading.rtdserver\",, \"PCAR3_B_0\", \"100\")","v":"-240.200"},{"$f":"RTD(\"rtdtrading.rtdserver\",, \"PCAR3_B_0\", \"103\")","v":"-240.200,00"}]
[null,"RAIL3",{"$f":"RTD(\"rtdtrading.rtdserver\",, \"RAIL3_B_0\", \"ULT\")","v":20.179999999999968},{"$f":"RTD(\"rtdtrading.rtdserver\",, \"RAIL3_B_0\", \"ABE\")","v":20.49},{"$f":"RTD(\"rtdtrading.rtdserver\",, \"RAIL3_B_0\", \"MAX\")","v":20.52},{"$f":"RTD(\"rtdtrading.rtdserver\",, \"RAIL3_B_0\", \"MIN\")","v":20.149999999999999},{"$f":"RTD(\"rtdtrading.rtdserver\",, \"RAIL3_B_0\", \"VAR\")","v":-0.54213898472170285},{"$f":"RTD(\"rtdtrading.rtdserver\",, \"RAIL3_B_0\", \"VARPTS\")","v":-0.11000000000003496},{"$f":"RTD(\"rtdtrading.rtdserver\",, \"RAIL3_B_0\", \"184\")","v":"1.203.700,00"},{"$f":"RTD(\"rtdtrading.rtdserver\",, \"RAIL3_B_0\", \"100\")","v":"-234.000"},{"$f":"RTD(\"rtdtrading.rtdserver\",, \"RAIL3_B_0\", \"103\")","v":"-234.000,00"}]
[null,"YDUQ3",{"$f":"RTD(\"rtdtrading.rtdserver\",, \"YDUQ3_B_0\", \"ULT\")","v":12.780000000000001},{"$f":"RTD(\"rtdtrading.rtdserver\",, \"YDUQ3_B_0\", \"ABE\")","v":13},{"$f":"RTD(\"rtdtrading.rtdserver\",, \"YDUQ3_B_0\", \"MAX\")","v":13.34},{"$f":"RTD(\"rtdtrading.rtdserver\",, \"YDUQ3_B_0\", \"MIN\")","v":12.73},{"$f":"RTD(\"rtdtrading.rtdserver\",, \"YDUQ3_B_0\", \"VAR\")","v":-1.6923076923076792},{"$f":"RTD(\"rtdtrading.rtdserver\",, \"YDUQ3_B_0\", \"VARPTS\")","v":-0.21999999999999886},{"$f":"RTD(\"rtdtrading.rtdserver\",, \"YDUQ3_B_0\", \"184\")","v":"143.900,00"},{"$f":"RTD(\"rtdtrading.rtdserver\",, \"YDUQ3_B_0\", \"100\")","v":"-143.900"},{"$f":"RTD(\"rtdtrading.rtdserver\",, \"YDUQ3_B_0\", \"103\")","v":"-143.900,00"}]
[null,"SBSP3",{"$f":"RTD(\"rtdtrading.rtdserver\",, \"SBSP3_B_0\", \"ULT\")","v":48.169999999999987},{"$f":"RTD(\"rtdtrading.rtdserver\",, \"SBSP3_B_0\", \"ABE\")","v":48.65},{"$f":"RTD(\"rtdtrading.rtdserver\",, \"SBSP3_B_0\", \"MAX\")","v":48.65},{"$f":"RTD(\"rtdtrading.rtdserver\",, \"SBSP3_B_0\", \"MIN\")","v":47.88},{"$f":"RTD(\"rtdtrading.rtdserver\",, \"SBSP3_B_0\", \"VAR\")","v":-0.59843169624434722},{"$f":"RTD(\"rtdtrading.rtdserver\",, \"SBSP3_B_0\", \"VARPTS\")","v":-0.29000000000001336},{"$f":"RTD(\"rtdtrading.rtdserver\",, \"SBSP3_B_0\", \"184\")","v":"23.900,00"},{"$f":"RTD(\"rtdtrading.rtdserver\",, \"SBSP3_B_0\", \"100\")","v":"-23.900"},{"$f":"RTD(\"rtdtrading.rtdserver\",, \"SBSP3_B_0\", \"103\")","v":"-23.900,00"}]
[null,"ASAI3",{"$f":"RTD(\"rtdtrading.rtdserver\",, \"ASAI3_B_0\", \"ULT\")","v":17.829999999999959},{"$f":"RTD(\"rtdtrading.rtdserver\",, \"ASAI3_B_0\", \"ABE\")","v":17.96},{"$f":"RTD(\"rtdtrading.rtdserver\",, \"ASAI3_B_0\", \"MAX\")","v":18.079999999999998},{"$f":"RTD(\"rtdtrading.rtdserver\",, \"ASAI3_B_0\", \"MIN\")","v":17.809999999999995},{"$f":"RTD(\"rtdtrading.rtdserver\",, \"ASAI3_B_0\", \"VAR\")","v":-0.66852367688045433},{"$f":"RTD(\"rtdtrading.rtdserver\",, \"ASAI3_B_0\", \"VARPTS\")","v":-0.12000000000004007},{"$f":"RTD(\"rtdtrading.rtdserver\",, \"ASAI3_B_0\", \"184\")","v":"2.413.700,00"},{"$f":"RTD(\"rtdtrading.rtdserver\",, \"ASAI3_B_0\", \"100\")","v":"266.200"},{"$f":"RTD(\"rtdtrading.rtdserver\",, \"ASAI3_B_0\", \"103\")","v":"266.200,00"}]
[null,"VBBR3",{"$f":"RTD(\"rtdtrading.rtdserver\",, \"VBBR3_B_0\", \"ULT\")","v":18.469999999999988},{"$f":"RTD(\"rtdtrading.rtdserver\",, \"VBBR3_B_0\", \"ABE\")","v":18.72},{"$f":"RTD(\"rtdtrading.rtdserver\",, \"VBBR3_B_0\", \"MAX\")","v":18.88},{"$f":"RTD(\"rtdtrading.rtdserver\",, \"VBBR3_B_0\", \"MIN\")","v":18.43},{"$f":"RTD(\"rtdtrading.rtdserver\",, \"VBBR3_B_0\", \"VAR\")","v":-1.0712372790573852},{"$f":"RTD(\"rtdtrading.rtdserver\",, \"VBBR3_B_0\", \"VARPTS\")","v":-0.2000000000000135},{"$f":"RTD(\"rtdtrading.rtdserver\",, \"VBBR3_B_0\", \"184\")","v":"354.500,00"},{"$f":"RTD(\"rtdtrading.rtdserver\",, \"VBBR3_B_0\", \"100\")","v":"354.500"},{"$f":"RTD(\"rtdtrading.rtdserver\",, \"VBBR3_B_0\", \"103\")","v":"354.500,00"}]
[null,"USIM5",{"$f":"RTD(\"rtdtrading.rtdserver\",, \"USIM5_B_0\", \"ULT\")","v":8.7800000000000011},{"$f":"RTD(\"rtdtrading.rtdserver\",, \"USIM5_B_0\", \"ABE\")","v":8.8000000000000007},{"$f":"RTD(\"rtdtrading.rtdserver\",, \"USIM5_B_0\", \"MAX\")","v":8.98},{"$f":"RTD(\"rtdtrading.rtdserver\",, \"USIM5_B_0\", \"MIN\")","v":8.7200000000000006},{"$f":"RTD(\"rtdtrading.rtdserver\",, \"USIM5_B_0\", \"VAR\")","v":-5.4897739504843912},{"$f":"RTD(\"rtdtrading.rtdserver\",, \"USIM5_B_0\", \"VARPTS\")","v":-0.50999999999999979},{"$f":"RTD(\"rtdtrading.rtdserver\",, \"USIM5_B_0\", \"184\")","v":"1.682.900,00"},{"$f":"RTD(\"rtdtrading.rtdserver\",, \"USIM5_B_0\", \"100\")","v":"-1.682.900"},{"$f":"RTD(\"rtdtrading.rtdserver\",, \"USIM5_B_0\", \"103\")","v":"-1.682.900,00"}]
[null,"EQTL3",{"$f":"RTD(\"rtdtrading.rtdserver\",, \"EQTL3_B_0\", \"ULT\")","v":24.27},{"$f":"RTD(\"rtdtrading.rtdserver\",, \"EQTL3_B_0\", \"ABE\")","v":24.45},{"$f":"RTD(\"rtdtrading.rtdserver\",, \"EQTL3_B_0\", \"MAX\")","v":24.56},{"$f":"RTD(\"rtdtrading.rtdserver\",, \"EQTL3_B_0\", \"MIN\")","v":24.17},{"$f":"RTD(\"rtdtrading.rtdserver\",, \"EQTL3_B_0\", \"VAR\")","v":-0.73619631901841842},{"$f":"RTD(\"rtdtrading.rtdserver\",, \"EQTL3_B_0\", \"VARPTS\")","v":-0.18000000000000327},{"$f":"RTD(\"rtdtrading.rtdserver\",, \"EQTL3_B_0\", \"184\")","v":"318.300,00"},{"$f":"RTD(\"rtdtrading.rtdserver\",, \"EQTL3_B_0\", \"100\")","v":"-30.300"},{"$f":"RTD(\"rtdtrading.rtdserver\",, \"EQTL3_B_0\", \"103\")","v":"-30.300,00"}]
[null,"CSNA3",{"$f":"RTD(\"rtdtrading.rtdserver\",, \"CSNA3_B_0\", \"ULT\")","v":15.230000000000002},{"$f":"RTD(\"rtdtrading.rtdserver\",, \"CSNA3_B_0\", \"ABE\")","v":16},{"$f":"RTD(\"rtdtrading.rtdserver\",, \"CSNA3_B_0\", \"MAX\")","v":16.14},{"$f":"RTD(\"rtdtrading.rtdserver\",, \"CSNA3_B_0\", \"MIN\")","v":15.200000000000001},{"$f":"RTD(\"rtdtrading.rtdserver\",, \"CSNA3_B_0\", \"VAR\")","v":-4.5739348370927218},{"$f":"RTD(\"rtdtrading.rtdserver\",, \"CSNA3_B_0\", \"VARPTS\")","v":-0.72999999999999865},{"$f":"RTD(\"rtdtrading.rtdserver\",, \"CSNA3_B_0\", \"184\")","v":"875.800,00"},{"$f":"RTD(\"rtdtrading.rtdserver\",, \"CSNA3_B_0\", \"100\")","v":"-875.800"},{"$f":"RTD(\"rtdtrading.rtdserver\",, \"CSNA3_B_0\", \"103\")","v":"-875.800,00"}]
[null,"CMIN3",{"$f":"RTD(\"rtdtrading.rtdserver\",, \"CMIN3_B_0\", \"ULT\")","v":3.9000000000000008},{"$f":"RTD(\"rtdtrading.rtdserver\",, \"CMIN3_B_0\", \"ABE\")","v":3.94},{"$f":"RTD(\"rtdtrading.rtdserver\",, \"CMIN3_B_0\", \"MAX\")","v":4.03},{"$f":"RTD(\"rtdtrading.rtdserver\",, \"CMIN3_B_0\", \"MIN\")","v":3.9000000000000004},{"$f":"RTD(\"rtdtrading.rtdserver\",, \"CMIN3_B_0\", \"VAR\")","v":-0.51020408163263653},{"$f":"RTD(\"rtdtrading.rtdserver\",, \"CMIN3_B_0\", \"VARPTS\")","v":-1.9999999999999574E-2},{"$f":"RTD(\"rtdtrading.rtdserver\",, \"CMIN3_B_0\", \"184\")","v":"36.800,00"},{"$f":"RTD(\"rtdtrading.rtdserver\",, \"CMIN3_B_0\", \"100\")","v":"36.800"},{"$f":"RTD(\"rtdtrading.rtdserver\",, \"CMIN3_B_0\", \"103\")","v":"36.800,00"}]
[null,"BRML3",{"$f":"RTD(\"rtdtrading.rtdserver\",, \"BRML3_B_0\", \"ULT\")","v":8.68},{"$f":"RTD(\"rtdtrading.rtdserver\",, \"BRML3_B_0\", \"ABE\")","v":8.77},{"$f":"RTD(\"rtdtrading.rtdserver\",, \"BRML3_B_0\", \"MAX\")","v":8.81},{"$f":"RTD(\"rtdtrading.rtdserver\",, \"BRML3_B_0\", \"MIN\")","v":8.64},{"$f":"RTD(\"rtdtrading.rtdserver\",, \"BRML3_B_0\", \"VAR\")","v":-0.91324200913241782},{"$f":"RTD(\"rtdtrading.rtdserver\",, \"BRML3_B_0\", \"VARPTS\")","v":-8.0000000000000071E-2},{"$f":"RTD(\"rtdtrading.rtdserver\",, \"BRML3_B_0\", \"184\")","v":"79.700,00"},{"$f":"RTD(\"rtdtrading.rtdserver\",, \"BRML3_B_0\", \"100\")","v":"-79.700"},{"$f":"RTD(\"rtdtrading.rtdserver\",, \"BRML3_B_0\", \"103\")","v":"-79.700,00"}]
[null,"POSI3",{"$f":"RTD(\"rtdtrading.rtdserver\",, \"POSI3_B_0\", \"ULT\")","v":11.56},{"$f":"RTD(\"rtdtrading.rtdserver\",, \"POSI3_B_0\", \"ABE\")","v":11.44},{"$f":"RTD(\"rtdtrading.rtdserver\",, \"POSI3_B_0\", \"MAX\")","v":11.75},{"$f":"RTD(\"rtdtrading.rtdserver\",, \"POSI3_B_0\", \"MIN\")","v":11.41},{"$f":"RTD(\"rtdtrading.rtdserver\",, \"POSI3_B_0\", \"VAR\")","v":0.78465562336529615},{"$f":"RTD(\"rtdtrading.rtdserver\",, \"POSI3_B_0\", \"VARPTS\")","v":8.9999999999999858E-2},{"$f":"RTD(\"rtdtrading.rtdserver\",, \"POSI3_B_0\", \"184\")","v":"6.600,00"},{"$f":"RTD(\"rtdtrading.rtdserver\",, \"POSI3_B_0\", \"100\")","v":"6.600"},{"$f":"RTD(\"rtdtrading.rtdserver\",, \"POSI3_B_0\", \"103\")","v":"6.600,00"}]
[null,"CPLE6",{"$f":"RTD(\"rtdtrading.rtdserver\",, \"CPLE6_B_0\", \"ULT\")","v":7.08},{"$f":"RTD(\"rtdtrading.rtdserver\",, \"CPLE6_B_0\", \"ABE\")","v":7.07},{"$f":"RTD(\"rtdtrading.rtdserver\",, \"CPLE6_B_0\", \"MAX\")","v":7.11},{"$f":"RTD(\"rtdtrading.rtdserver\",, \"CPLE6_B_0\", \"MIN\")","v":7.02},{"$f":"RTD(\"rtdtrading.rtdserver\",, \"CPLE6_B_0\", \"VAR\")","v":0.56818181818181301},{"$f":"RTD(\"rtdtrading.rtdserver\",, \"CPLE6_B_0\", \"VARPTS\")","v":4.0000000000000036E-2},{"$f":"RTD(\"rtdtrading.rtdserver\",, \"CPLE6_B_0\", \"184\")","v":"108.400,00"},{"$f":"RTD(\"rtdtrading.rtdserver\",, \"CPLE6_B_0\", \"100\")","v":"108.400"},{"$f":"RTD(\"rtdtrading.rtdserver\",, \"CPLE6_B_0\", \"103\")","v":"108.400,00"}]
[null,"BRAP4",{"$f":"RTD(\"rtdtrading.rtdserver\",, \"BRAP4_B_0\", \"ULT\")","v":23.150000000000006},{"$f":"RTD(\"rtdtrading.rtdserver\",, \"BRAP4_B_0\", \"ABE\")","v":23.69},{"$f":"RTD(\"rtdtrading.rtdserver\",, \"BRAP4_B_0\", \"MAX\")","v":23.98},{"$f":"RTD(\"rtdtrading.rtdserver\",, \"BRAP4_B_0\", \"MIN\")","v":23.129999999999988},{"$f":"RTD(\"rtdtrading.rtdserver\",, \"BRAP4_B_0\", \"VAR\")","v":-1.5312632922160532},{"$f":"RTD(\"rtdtrading.rtdserver\",, \"BRAP4_B_0\", \"VARPTS\")","v":-0.35999999999999588},{"$f":"RTD(\"rtdtrading.rtdserver\",, \"BRAP4_B_0\", \"184\")","v":"163.500,00"},{"$f":"RTD(\"rtdtrading.rtdserver\",, \"BRAP4_B_0\", \"100\")","v":"-163.500"},{"$f":"RTD(\"rtdtrading.rtdserver\",, \"BRAP4_B_0\", \"103\")","v":"-163.500,00"}]
[null,"CPFE3",{"$f":"RTD(\"rtdtrading.rtdserver\",, \"CPFE3_B_0\", \"ULT\")","v":35.699999999999989},{"$f":"RTD(\"rtdtrading.rtdserver\",, \"CPFE3_B_0\", \"ABE\")","v":35.630000000000003},{"$f":"RTD(\"rtdtrading.rtdserver\",, \"CPFE3_B_0\", \"MAX\")","v":35.819999999999986},{"$f":"RTD(\"rtdtrading.rtdserver\",, \"CPFE3_B_0\", \"MIN\")","v":35.08},{"$f":"RTD(\"rtdtrading.rtdserver\",, \"CPFE3_B_0\", \"VAR\")","v":0.28089887640444999},{"$f":"RTD(\"rtdtrading.rtdserver\",, \"CPFE3_B_0\", \"VARPTS\")","v":9.999999999998721E-2},{"$f":"RTD(\"rtdtrading.rtdserver\",, \"CPFE3_B_0\", \"184\")","v":"540.000,00"},{"$f":"RTD(\"rtdtrading.rtdserver\",, \"CPFE3_B_0\", \"100\")","v":"221.800"},{"$f":"RTD(\"rtdtrading.rtdserver\",, \"CPFE3_B_0\", \"103\")","v":"221.800,00"}]
[null,"SOMA3",{"$f":"RTD(\"rtdtrading.rtdserver\",, \"SOMA3_B_0\", \"ULT\")","v":13.100000000000003},{"$f":"RTD(\"rtdtrading.rtdserver\",, \"SOMA3_B_0\", \"ABE\")","v":13.43},{"$f":"RTD(\"rtdtrading.rtdserver\",, \"SOMA3_B_0\", \"MAX\")","v":13.53},{"$f":"RTD(\"rtdtrading.rtdserver\",, \"SOMA3_B_0\", \"MIN\")","v":13.090000000000002},{"$f":"RTD(\"rtdtrading.rtdserver\",, \"SOMA3_B_0\", \"VAR\")","v":-1.7254313578394402},{"$f":"RTD(\"rtdtrading.rtdserver\",, \"SOMA3_B_0\", \"VARPTS\")","v":-0.22999999999999687},{"$f":"RTD(\"rtdtrading.rtdserver\",, \"SOMA3_B_0\", \"184\")","v":"2.565.400,00"},{"$f":"RTD(\"rtdtrading.rtdserver\",, \"SOMA3_B_0\", \"100\")","v":"-119.500"},{"$f":"RTD(\"rtdtrading.rtdserver\",, \"SOMA3_B_0\", \"103\")","v":"-119.500,00"}]
[null,"IGTI11",{"$f":"RTD(\"rtdtrading.rtdserver\",, \"IGTI11_B_0\", \"ULT\")","v":20.649999999999988},{"$f":"RTD(\"rtdtrading.rtdserver\",, \"IGTI11_B_0\", \"ABE\")","v":20.93},{"$f":"RTD(\"rtdtrading.rtdserver\",, \"IGTI11_B_0\", \"MAX\")","v":21.03},{"$f":"RTD(\"rtdtrading.rtdserver\",, \"IGTI11_B_0\", \"MIN\")","v":20.599999999999994},{"$f":"RTD(\"rtdtrading.rtdserver\",, \"IGTI11_B_0\", \"VAR\")","v":-1.2906309751434719},{"$f":"RTD(\"rtdtrading.rtdserver\",, \"IGTI11_B_0\", \"VARPTS\")","v":-0.27000000000001378},{"$f":"RTD(\"rtdtrading.rtdserver\",, \"IGTI11_B_0\", \"184\")","v":"344.300,00"},{"$f":"RTD(\"rtdtrading.rtdserver\",, \"IGTI11_B_0\", \"100\")","v":"-16.700"},{"$f":"RTD(\"rtdtrading.rtdserver\",, \"IGTI11_B_0\", \"103\")","v":"-16.700,00"}]
[null,"SLCE3",{"$f":"RTD(\"rtdtrading.rtdserver\",, \"SLCE3_B_0\", \"ULT\")","v":47.73},{"$f":"RTD(\"rtdtrading.rtdserver\",, \"SLCE3_B_0\", \"ABE\")","v":48.12},{"$f":"RTD(\"rtdtrading.rtdserver\",, \"SLCE3_B_0\", \"MAX\")","v":48.36},{"$f":"RTD(\"rtdtrading.rtdserver\",, \"SLCE3_B_0\", \"MIN\")","v":47.570000000000007},{"$f":"RTD(\"rtdtrading.rtdserver\",, \"SLCE3_B_0\", \"VAR\")","v":-0.33409897682189182},{"$f":"RTD(\"rtdtrading.rtdserver\",, \"SLCE3_B_0\", \"VARPTS\")","v":-0.16000000000000369},{"$f":"RTD(\"rtdtrading.rtdserver\",, \"SLCE3_B_0\", \"184\")","v":"6.300,00"},{"$f":"RTD(\"rtdtrading.rtdserver\",, \"SLCE3_B_0\", \"100\")","v":"-6.300"},{"$f":"RTD(\"rtdtrading.rtdserver\",, \"SLCE3_B_0\", \"103\")","v":"-6.300,00"}]
[null,"SUZB3",{"$f":"RTD(\"rtdtrading.rtdserver\",, \"SUZB3_B_0\", \"ULT\")","v":45.879999999999903},{"$f":"RTD(\"rtdtrading.rtdserver\",, \"SUZB3_B_0\", \"ABE\")","v":47.37},{"$f":"RTD(\"rtdtrading.rtdserver\",, \"SUZB3_B_0\", \"MAX\")","v":47.69},{"$f":"RTD(\"rtdtrading.rtdserver\",, \"SUZB3_B_0\", \"MIN\")","v":45.87000000000004},{"$f":"RTD(\"rtdtrading.rtdserver\",, \"SUZB3_B_0\", \"VAR\")","v":-3.0431107354186366},{"$f":"RTD(\"rtdtrading.rtdserver\",, \"SUZB3_B_0\", \"VARPTS\")","v":-1.4400000000000972},{"$f":"RTD(\"rtdtrading.rtdserver\",, \"SUZB3_B_0\", \"184\")","v":"4.204.900,00"},{"$f":"RTD(\"rtdtrading.rtdserver\",, \"SUZB3_B_0\", \"100\")","v":"427.500"},{"$f":"RTD(\"rtdtrading.rtdserver\",, \"SUZB3_B_0\", \"103\")","v":"427.500,00"}]
[null,"QUAL3",{"$f":"RTD(\"rtdtrading.rtdserver\",, \"QUAL3_B_0\", \"ULT\")","v":10.290000000000001},{"$f":"RTD(\"rtdtrading.rtdserver\",, \"QUAL3_B_0\", \"ABE\")","v":10.5},{"$f":"RTD(\"rtdtrading.rtdserver\",, \"QUAL3_B_0\", \"MAX\")","v":10.61},{"$f":"RTD(\"rtdtrading.rtdserver\",, \"QUAL3_B_0\", \"MIN\")","v":10.28},{"$f":"RTD(\"rtdtrading.rtdserver\",, \"QUAL3_B_0\", \"VAR\")","v":-1.4367816091954069},{"$f":"RTD(\"rtdtrading.rtdserver\",, \"QUAL3_B_0\", \"VARPTS\")","v":-0.15000000000000036},{"$f":"RTD(\"rtdtrading.rtdserver\",, \"QUAL3_B_0\", \"184\")","v":"480.400,00"},{"$f":"RTD(\"rtdtrading.rtdserver\",, \"QUAL3_B_0\", \"100\")","v":"-40.600"},{"$f":"RTD(\"rtdtrading.rtdserver\",, \"QUAL3_B_0\", \"103\")","v":"-40.600,00"}]
[null,"CSAN3",{"$f":"RTD(\"rtdtrading.rtdserver\",, \"CSAN3_B_0\", \"ULT\")","v":20.490000000000023},{"$f":"RTD(\"rtdtrading.rtdserver\",, \"CSAN3_B_0\", \"ABE\")","v":20.87},{"$f":"RTD(\"rtdtrading.rtdserver\",, \"CSAN3_B_0\", \"MAX\")","v":20.97},{"$f":"RTD(\"rtdtrading.rtdserver\",, \"CSAN3_B_0\", \"MIN\")","v":20.459999999999997},{"$f":"RTD(\"rtdtrading.rtdserver\",, \"CSAN3_B_0\", \"VAR\")","v":-1.3480982185843828},{"$f":"RTD(\"rtdtrading.rtdserver\",, \"CSAN3_B_0\", \"VARPTS\")","v":-0.27999999999997627},{"$f":"RTD(\"rtdtrading.rtdserver\",, \"CSAN3_B_0\", \"184\")","v":"326.700,00"},{"$f":"RTD(\"rtdtrading.rtdserver\",, \"CSAN3_B_0\", \"100\")","v":"-57.400"},{"$f":"RTD(\"rtdtrading.rtdserver\",, \"CSAN3_B_0\", \"103\")","v":"-57.400,00"}]
[null,"VIIA3",{"$f":"RTD(\"rtdtrading.rtdserver\",, \"VIIA3_B_0\", \"ULT\")","v":3.2799999999999994},{"$f":"RTD(\"rtdtrading.rtdserver\",, \"VIIA3_B_0\", \"ABE\")","v":3.41},{"$f":"RTD(\"rtdtrading.rtdserver\",, \"VIIA3_B_0\", \"MAX\")","v":3.43},{"$f":"RTD(\"rtdtrading.rtdserver\",, \"VIIA3_B_0\", \"MIN\")","v":3.26},{"$f":"RTD(\"rtdtrading.rtdserver\",, \"VIIA3_B_0\", \"VAR\")","v":-2.9585798816568314},{"$f":"RTD(\"rtdtrading.rtdserver\",, \"VIIA3_B_0\", \"VARPTS\")","v":-0.10000000000000098},{"$f":"RTD(\"rtdtrading.rtdserver\",, \"VIIA3_B_0\", \"184\")","v":"10.272.300,00"},{"$f":"RTD(\"rtdtrading.rtdserver\",, \"VIIA3_B_0\", \"100\")","v":"-3.777.100"},{"$f":"RTD(\"rtdtrading.rtdserver\",, \"VIIA3_B_0\", \"103\")","v":"-3.777.100,00"}]
[null,"BPAN4",{"$f":"RTD(\"rtdtrading.rtdserver\",, \"BPAN4_B_0\", \"ULT\")","v":7.1300000000000008},{"$f":"RTD(\"rtdtrading.rtdserver\",, \"BPAN4_B_0\", \"ABE\")","v":7.36},{"$f":"RTD(\"rtdtrading.rtdserver\",, \"BPAN4_B_0\", \"MAX\")","v":7.36},{"$f":"RTD(\"rtdtrading.rtdserver\",, \"BPAN4_B_0\", \"MIN\")","v":7.1300000000000008},{"$f":"RTD(\"rtdtrading.rtdserver\",, \"BPAN4_B_0\", \"VAR\")","v":-2.5956284153005384},{"$f":"RTD(\"rtdtrading.rtdserver\",, \"BPAN4_B_0\", \"VARPTS\")","v":-0.1899999999999995},{"$f":"RTD(\"rtdtrading.rtdserver\",, \"BPAN4_B_0\", \"184\")","v":"335.900,00"},{"$f":"RTD(\"rtdtrading.rtdserver\",, \"BPAN4_B_0\", \"100\")","v":"-188.800"},{"$f":"RTD(\"rtdtrading.rtdserver\",, \"BPAN4_B_0\", \"103\")","v":"-188.800,00"}]
[null,"JBSS3",{"$f":"RTD(\"rtdtrading.rtdserver\",, \"JBSS3_B_0\", \"ULT\")","v":29.919999999999995},{"$f":"RTD(\"rtdtrading.rtdserver\",, \"JBSS3_B_0\", \"ABE\")","v":30.88},{"$f":"RTD(\"rtdtrading.rtdserver\",, \"JBSS3_B_0\", \"MAX\")","v":30.94},{"$f":"RTD(\"rtdtrading.rtdserver\",, \"JBSS3_B_0\", \"MIN\")","v":29.9},{"$f":"RTD(\"rtdtrading.rtdserver\",, \"JBSS3_B_0\", \"VAR\")","v":-2.6041666666666998},{"$f":"RTD(\"rtdtrading.rtdserver\",, \"JBSS3_B_0\", \"VARPTS\")","v":-0.80000000000000782},{"$f":"RTD(\"rtdtrading.rtdserver\",, \"JBSS3_B_0\", \"184\")","v":"268.000,00"},{"$f":"RTD(\"rtdtrading.rtdserver\",, \"JBSS3_B_0\", \"100\")","v":"-231.800"},{"$f":"RTD(\"rtdtrading.rtdserver\",, \"JBSS3_B_0\", \"103\")","v":"-231.800,00"}]
[null,"UGPA3",{"$f":"RTD(\"rtdtrading.rtdserver\",, \"UGPA3_B_0\", \"ULT\")","v":13.99},{"$f":"RTD(\"rtdtrading.rtdserver\",, \"UGPA3_B_0\", \"ABE\")","v":14.11},{"$f":"RTD(\"rtdtrading.rtdserver\",, \"UGPA3_B_0\", \"MAX\")","v":14.2},{"$f":"RTD(\"rtdtrading.rtdserver\",, \"UGPA3_B_0\", \"MIN\")","v":13.95},{"$f":"RTD(\"rtdtrading.rtdserver\",, \"UGPA3_B_0\", \"VAR\")","v":-0.42704626334520412},{"$f":"RTD(\"rtdtrading.rtdserver\",, \"UGPA3_B_0\", \"VARPTS\")","v":-6.0000000000000497E-2},{"$f":"RTD(\"rtdtrading.rtdserver\",, \"UGPA3_B_0\", \"184\")","v":"132.500,00"},{"$f":"RTD(\"rtdtrading.rtdserver\",, \"UGPA3_B_0\", \"100\")","v":"-132.500"},{"$f":"RTD(\"rtdtrading.rtdserver\",, \"UGPA3_B_0\", \"103\")","v":"-132.500,00"}]
[null,"ITSA4",{"$f":"RTD(\"rtdtrading.rtdserver\",, \"ITSA4_B_0\", \"ULT\")","v":9.32},{"$f":"RTD(\"rtdtrading.rtdserver\",, \"ITSA4_B_0\", \"ABE\")","v":9.39},{"$f":"RTD(\"rtdtrading.rtdserver\",, \"ITSA4_B_0\", \"MAX\")","v":9.4600000000000009},{"$f":"RTD(\"rtdtrading.rtdserver\",, \"ITSA4_B_0\", \"MIN\")","v":9.32},{"$f":"RTD(\"rtdtrading.rtdserver\",, \"ITSA4_B_0\", \"VAR\")","v":-0.63965884861407574},{"$f":"RTD(\"rtdtrading.rtdserver\",, \"ITSA4_B_0\", \"VARPTS\")","v":-6.0000000000000497E-2},{"$f":"RTD(\"rtdtrading.rtdserver\",, \"ITSA4_B_0\", \"184\")","v":"727.600,00"},{"$f":"RTD(\"rtdtrading.rtdserver\",, \"ITSA4_B_0\", \"100\")","v":"-727.600"},{"$f":"RTD(\"rtdtrading.rtdserver\",, \"ITSA4_B_0\", \"103\")","v":"-727.600,00"}]
[null,"MGLU3",{"$f":"RTD(\"rtdtrading.rtdserver\",, \"MGLU3_B_0\", \"ULT\")","v":4.5100000000000007},{"$f":"RTD(\"rtdtrading.rtdserver\",, \"MGLU3_B_0\", \"ABE\")","v":4.7300000000000004},{"$f":"RTD(\"rtdtrading.rtdserver\",, \"MGLU3_B_0\", \"MAX\")","v":4.76},{"$f":"RTD(\"rtdtrading.rtdserver\",, \"MGLU3_B_0\", \"MIN\")","v":4.49},{"$f":"RTD(\"rtdtrading.rtdserver\",, \"MGLU3_B_0\", \"VAR\")","v":-3.6324786324786373},{"$f":"RTD(\"rtdtrading.rtdserver\",, \"MGLU3_B_0\", \"VARPTS\")","v":-0.16999999999999993},{"$f":"RTD(\"rtdtrading.rtdserver\",, \"MGLU3_B_0\", \"184\")","v":"10.411.100,00"},{"$f":"RTD(\"rtdtrading.rtdserver\",, \"MGLU3_B_0\", \"100\")","v":"-10.411.100"},{"$f":"RTD(\"rtdtrading.rtdserver\",, \"MGLU3_B_0\", \"103\")","v":"-10.411.100,00"}]
[null,"BBAS3",{"$f":"RTD(\"rtdtrading.rtdserver\",, \"BBAS3_B_0\", \"ULT\")","v":41.380000000000024},{"$f":"RTD(\"rtdtrading.rtdserver\",, \"BBAS3_B_0\", \"ABE\")","v":41.88},{"$f":"RTD(\"rtdtrading.rtdserver\",, \"BBAS3_B_0\", \"MAX\")","v":42.03},{"$f":"RTD(\"rtdtrading.rtdserver\",, \"BBAS3_B_0\", \"MIN\")","v":41.12},{"$f":"RTD(\"rtdtrading.rtdserver\",, \"BBAS3_B_0\", \"VAR\")","v":-1.0047846889951586},{"$f":"RTD(\"rtdtrading.rtdserver\",, \"BBAS3_B_0\", \"VARPTS\")","v":-0.41999999999998039},{"$f":"RTD(\"rtdtrading.rtdserver\",, \"BBAS3_B_0\", \"184\")","v":"5.130.500,00"},{"$f":"RTD(\"rtdtrading.rtdserver\",, \"BBAS3_B_0\", \"100\")","v":"-451.900"},{"$f":"RTD(\"rtdtrading.rtdserver\",, \"BBAS3_B_0\", \"103\")","v":"-451.900,00"}]
[null,"CRFB3",{"$f":"RTD(\"rtdtrading.rtdserver\",, \"CRFB3_B_0\", \"ULT\")","v":20.03},{"$f":"RTD(\"rtdtrading.rtdserver\",, \"CRFB3_B_0\", \"ABE\")","v":20.18},{"$f":"RTD(\"rtdtrading.rtdserver\",, \"CRFB3_B_0\", \"MAX\")","v":20.37},{"$f":"RTD(\"rtdtrading.rtdserver\",, \"CRFB3_B_0\", \"MIN\")","v":19.959999999999997},{"$f":"RTD(\"rtdtrading.rtdserver\",, \"CRFB3_B_0\", \"VAR\")","v":-0.24900398406374791},{"$f":"RTD(\"rtdtrading.rtdserver\",, \"CRFB3_B_0\", \"VARPTS\")","v":-5.0000000000000711E-2},{"$f":"RTD(\"rtdtrading.rtdserver\",, \"CRFB3_B_0\", \"184\")","v":"93.500,00"},{"$f":"RTD(\"rtdtrading.rtdserver\",, \"CRFB3_B_0\", \"100\")","v":"-93.500"},{"$f":"RTD(\"rtdtrading.rtdserver\",, \"CRFB3_B_0\", \"103\")","v":"-93.500,00"}]
[null,"MRVE3",{"$f":"RTD(\"rtdtrading.rtdserver\",, \"MRVE3_B_0\", \"ULT\")","v":10.25},{"$f":"RTD(\"rtdtrading.rtdserver\",, \"MRVE3_B_0\", \"ABE\")","v":10.31},{"$f":"RTD(\"rtdtrading.rtdserver\",, \"MRVE3_B_0\", \"MAX\")","v":10.65},{"$f":"RTD(\"rtdtrading.rtdserver\",, \"MRVE3_B_0\", \"MIN\")","v":10.18},{"$f":"RTD(\"rtdtrading.rtdserver\",, \"MRVE3_B_0\", \"VAR\")","v":-9.746588693957392E-2},{"$f":"RTD(\"rtdtrading.rtdserver\",, \"MRVE3_B_0\", \"VARPTS\")","v":-9.9999999999997868E-3},{"$f":"RTD(\"rtdtrading.rtdserver\",, \"MRVE3_B_0\", \"184\")","v":"3.435.500,00"},{"$f":"RTD(\"rtdtrading.rtdserver\",, \"MRVE3_B_0\", \"100\")","v":"383.800"},{"$f":"RTD(\"rtdtrading.rtdserver\",, \"MRVE3_B_0\", \"103\")","v":"383.800,00"}]
[null,"TIMS3",{"$f":"RTD(\"rtdtrading.rtdserver\",, \"TIMS3_B_0\", \"ULT\")","v":12.02},{"$f":"RTD(\"rtdtrading.rtdserver\",, \"TIMS3_B_0\", \"ABE\")","v":12.1},{"$f":"RTD(\"rtdtrading.rtdserver\",, \"TIMS3_B_0\", \"MAX\")","v":12.12},{"$f":"RTD(\"rtdtrading.rtdserver\",, \"TIMS3_B_0\", \"MIN\")","v":11.98},{"$f":"RTD(\"rtdtrading.rtdserver\",, \"TIMS3_B_0\", \"VAR\")","v":-0.33167495854064555},{"$f":"RTD(\"rtdtrading.rtdserver\",, \"TIMS3_B_0\", \"VARPTS\")","v":-4.0000000000000924E-2},{"$f":"RTD(\"rtdtrading.rtdserver\",, \"TIMS3_B_0\", \"184\")","v":"1.178.800,00"},{"$f":"RTD(\"rtdtrading.rtdserver\",, \"TIMS3_B_0\", \"100\")","v":"233.500"},{"$f":"RTD(\"rtdtrading.rtdserver\",, \"TIMS3_B_0\", \"103\")","v":"233.500,00"}]
[null,"CMIG4",{"$f":"RTD(\"rtdtrading.rtdserver\",, \"CMIG4_B_0\", \"ULT\")","v":12.44},{"$f":"RTD(\"rtdtrading.rtdserver\",, \"CMIG4_B_0\", \"ABE\")","v":12.65},{"$f":"RTD(\"rtdtrading.rtdserver\",, \"CMIG4_B_0\", \"MAX\")","v":12.66},{"$f":"RTD(\"rtdtrading.rtdserver\",, \"CMIG4_B_0\", \"MIN\")","v":12.35},{"$f":"RTD(\"rtdtrading.rtdserver\",, \"CMIG4_B_0\", \"VAR\")","v":-1.5043547110055471},{"$f":"RTD(\"rtdtrading.rtdserver\",, \"CMIG4_B_0\", \"VARPTS\")","v":-0.19000000000000128},{"$f":"RTD(\"rtdtrading.rtdserver\",, \"CMIG4_B_0\", \"184\")","v":"1.653.300,00"},{"$f":"RTD(\"rtdtrading.rtdserver\",, \"CMIG4_B_0\", \"100\")","v":"226.700"},{"$f":"RTD(\"rtdtrading.rtdserver\",, \"CMIG4_B_0\", \"103\")","v":"226.700,00"}]
[null,"MULT3",{"$f":"RTD(\"rtdtrading.rtdserver\",, \"MULT3_B_0\", \"ULT\")","v":25.480000000000004},{"$f":"RTD(\"rtdtrading.rtdserver\",, \"MULT3_B_0\", \"ABE\")","v":25.61},{"$f":"RTD(\"rtdtrading.rtdserver\",, \"MULT3_B_0\", \"MAX\")","v":25.8},{"$f":"RTD(\"rtdtrading.rtdserver\",, \"MULT3_B_0\", \"MIN\")","v":25.41},{"$f":"RTD(\"rtdtrading.rtdserver\",, \"MULT3_B_0\", \"VAR\")","v":-7.8431372549005118E-2},{"$f":"RTD(\"rtdtrading.rtdserver\",, \"MULT3_B_0\", \"VARPTS\")","v":-1.9999999999996021E-2},{"$f":"RTD(\"rtdtrading.rtdserver\",, \"MULT3_B_0\", \"184\")","v":"139.200,00"},{"$f":"RTD(\"rtdtrading.rtdserver\",, \"MULT3_B_0\", \"100\")","v":"-37.400"},{"$f":"RTD(\"rtdtrading.rtdserver\",, \"MULT3_B_0\", \"103\")","v":"-37.400,00"}]
[null,"HYPE3",{"$f":"RTD(\"rtdtrading.rtdserver\",, \"HYPE3_B_0\", \"ULT\")","v":43.910000000000025},{"$f":"RTD(\"rtdtrading.rtdserver\",, \"HYPE3_B_0\", \"ABE\")","v":44.06},{"$f":"RTD(\"rtdtrading.rtdserver\",, \"HYPE3_B_0\", \"MAX\")","v":44.25},{"$f":"RTD(\"rtdtrading.rtdserver\",, \"HYPE3_B_0\", \"MIN\")","v":43.64},{"$f":"RTD(\"rtdtrading.rtdserver\",, \"HYPE3_B_0\", \"VAR\")","v":2.2779043280252154E-2},{"$f":"RTD(\"rtdtrading.rtdserver\",, \"HYPE3_B_0\", \"VARPTS\")","v":1.0000000000026432E-2},{"$f":"RTD(\"rtdtrading.rtdserver\",, \"HYPE3_B_0\", \"184\")","v":"126.300,00"},{"$f":"RTD(\"rtdtrading.rtdserver\",, \"HYPE3_B_0\", \"100\")","v":"10.200"},{"$f":"RTD(\"rtdtrading.rtdserver\",, \"HYPE3_B_0\", \"103\")","v":"10.200,00"}]
[null,"LREN3",{"$f":"RTD(\"rtdtrading.rtdserver\",, \"LREN3_B_0\", \"ULT\")","v":27.600000000000016},{"$f":"RTD(\"rtdtrading.rtdserver\",, \"LREN3_B_0\", \"ABE\")","v":27.67},{"$f":"RTD(\"rtdtrading.rtdserver\",, \"LREN3_B_0\", \"MAX\")","v":27.99},{"$f":"RTD(\"rtdtrading.rtdserver\",, \"LREN3_B_0\", \"MIN\")","v":27.42},{"$f":"RTD(\"rtdtrading.rtdserver\",, \"LREN3_B_0\", \"VAR\")","v":4.2632564145606011E-14},{"$f":"RTD(\"rtdtrading.rtdserver\",, \"LREN3_B_0\", \"VARPTS\")","v":1.4210854715202004E-14},{"$f":"RTD(\"rtdtrading.rtdserver\",, \"LREN3_B_0\", \"184\")","v":"848.500,00"},{"$f":"RTD(\"rtdtrading.rtdserver\",, \"LREN3_B_0\", \"100\")","v":"-449.500"},{"$f":"RTD(\"rtdtrading.rtdserver\",, \"LREN3_B_0\", \"103\")","v":"-449.500,00"}]
[null,"PETZ3",{"$f":"RTD(\"rtdtrading.rtdserver\",, \"PETZ3_B_0\", \"ULT\")","v":10.639999999999999},{"$f":"RTD(\"rtdtrading.rtdserver\",, \"PETZ3_B_0\", \"ABE\")","v":10.97},{"$f":"RTD(\"rtdtrading.rtdserver\",, \"PETZ3_B_0\", \"MAX\")","v":11.15},{"$f":"RTD(\"rtdtrading.rtdserver\",, \"PETZ3_B_0\", \"MIN\")","v":10.5},{"$f":"RTD(\"rtdtrading.rtdserver\",, \"PETZ3_B_0\", \"VAR\")","v":-2.6532479414455707},{"$f":"RTD(\"rtdtrading.rtdserver\",, \"PETZ3_B_0\", \"VARPTS\")","v":-0.29000000000000092},{"$f":"RTD(\"rtdtrading.rtdserver\",, \"PETZ3_B_0\", \"184\")","v":"254.500,00"},{"$f":"RTD(\"rtdtrading.rtdserver\",, \"PETZ3_B_0\", \"100\")","v":"-254.500"},{"$f":"RTD(\"rtdtrading.rtdserver\",, \"PETZ3_B_0\", \"103\")","v":"-254.500,00"}]
[null,"B3SA3",{"$f":"RTD(\"rtdtrading.rtdserver\",, \"B3SA3_B_0\", \"ULT\")","v":12.520000000000001},{"$f":"RTD(\"rtdtrading.rtdserver\",, \"B3SA3_B_0\", \"ABE\")","v":12.82},{"$f":"RTD(\"rtdtrading.rtdserver\",, \"B3SA3_B_0\", \"MAX\")","v":12.85},{"$f":"RTD(\"rtdtrading.rtdserver\",, \"B3SA3_B_0\", \"MIN\")","v":12.5},{"$f":"RTD(\"rtdtrading.rtdserver\",, \"B3SA3_B_0\", \"VAR\")","v":-1.9577133907595936},{"$f":"RTD(\"rtdtrading.rtdserver\",, \"B3SA3_B_0\", \"VARPTS\")","v":-0.25},{"$f":"RTD(\"rtdtrading.rtdserver\",, \"B3SA3_B_0\", \"184\")","v":"303.800,00"},{"$f":"RTD(\"rtdtrading.rtdserver\",, \"B3SA3_B_0\", \"100\")","v":"-303.800"},{"$f":"RTD(\"rtdtrading.rtdserver\",, \"B3SA3_B_0\", \"103\")","v":"-303.800,00"}]
[null,"VIVT3",{"$f":"RTD(\"rtdtrading.rtdserver\",, \"VIVT3_B_0\", \"ULT\")","v":42.679999999999986},{"$f":"RTD(\"rtdtrading.rtdserver\",, \"VIVT3_B_0\", \"ABE\")","v":43.02},{"$f":"RTD(\"rtdtrading.rtdserver\",, \"VIVT3_B_0\", \"MAX\")","v":43.06},{"$f":"RTD(\"rtdtrading.rtdserver\",, \"VIVT3_B_0\", \"MIN\")","v":42.61},{"$f":"RTD(\"rtdtrading.rtdserver\",, \"VIVT3_B_0\", \"VAR\")","v":-0.39673278879817531},{"$f":"RTD(\"rtdtrading.rtdserver\",, \"VIVT3_B_0\", \"VARPTS\")","v":-0.17000000000001592},{"$f":"RTD(\"rtdtrading.rtdserver\",, \"VIVT3_B_0\", \"184\")","v":"1.635.400,00"},{"$f":"RTD(\"rtdtrading.rtdserver\",, \"VIVT3_B_0\", \"100\")","v":"10.800"},{"$f":"RTD(\"rtdtrading.rtdserver\",, \"VIVT3_B_0\", \"103\")","v":"10.800,00"}]
[null,"RENT3",{"$f":"RTD(\"rtdtrading.rtdserver\",, \"RENT3_B_0\", \"ULT\")","v":61.759999999999948},{"$f":"RTD(\"rtdtrading.rtdserver\",, \"RENT3_B_0\", \"ABE\")","v":63.4},{"$f":"RTD(\"rtdtrading.rtdserver\",, \"RENT3_B_0\", \"MAX\")","v":63.53},{"$f":"RTD(\"rtdtrading.rtdserver\",, \"RENT3_B_0\", \"MIN\")","v":61.53},{"$f":"RTD(\"rtdtrading.rtdserver\",, \"RENT3_B_0\", \"VAR\")","v":-2.9693637077769921},{"$f":"RTD(\"rtdtrading.rtdserver\",, \"RENT3_B_0\", \"VARPTS\")","v":-1.8900000000000574},{"$f":"RTD(\"rtdtrading.rtdserver\",, \"RENT3_B_0\", \"184\")","v":"59.400,00"},{"$f":"RTD(\"rtdtrading.rtdserver\",, \"RENT3_B_0\", \"100\")","v":"-59.400"},{"$f":"RTD(\"rtdtrading.rtdserver\",, \"RENT3_B_0\", \"103\")","v":"-59.400,00"}]
[null,"RADL3",{"$f":"RTD(\"rtdtrading.rtdserver\",, \"RADL3_B_0\", \"ULT\")","v":22.309999999999988},{"$f":"RTD(\"rtdtrading.rtdserver\",, \"RADL3_B_0\", \"ABE\")","v":22.78},{"$f":"RTD(\"rtdtrading.rtdserver\",, \"RADL3_B_0\", \"MAX\")","v":22.85},{"$f":"RTD(\"rtdtrading.rtdserver\",, \"RADL3_B_0\", \"MIN\")","v":22.27},{"$f":"RTD(\"rtdtrading.rtdserver\",, \"RADL3_B_0\", \"VAR\")","v":-1.3704686118479685},{"$f":"RTD(\"rtdtrading.rtdserver\",, \"RADL3_B_0\", \"VARPTS\")","v":-0.31000000000001293},{"$f":"RTD(\"rtdtrading.rtdserver\",, \"RADL3_B_0\", \"184\")","v":"22.500,00"},{"$f":"RTD(\"rtdtrading.rtdserver\",, \"RADL3_B_0\", \"100\")","v":"-22.500"},{"$f":"RTD(\"rtdtrading.rtdserver\",, \"RADL3_B_0\", \"103\")","v":"-22.500,00"}]
[null,"RDOR3",{"$f":"RTD(\"rtdtrading.rtdserver\",, \"RDOR3_B_0\", \"ULT\")","v":33.849999999999987},{"$f":"RTD(\"rtdtrading.rtdserver\",, \"RDOR3_B_0\", \"ABE\")","v":34.619999999999997},{"$f":"RTD(\"rtdtrading.rtdserver\",, \"RDOR3_B_0\", \"MAX\")","v":35.130000000000003},{"$f":"RTD(\"rtdtrading.rtdserver\",, \"RDOR3_B_0\", \"MIN\")","v":33.83},{"$f":"RTD(\"rtdtrading.rtdserver\",, \"RDOR3_B_0\", \"VAR\")","v":-1.7416545718432985},{"$f":"RTD(\"rtdtrading.rtdserver\",, \"RDOR3_B_0\", \"VARPTS\")","v":-0.60000000000001563},{"$f":"RTD(\"rtdtrading.rtdserver\",, \"RDOR3_B_0\", \"184\")","v":"110.400,00"},{"$f":"RTD(\"rtdtrading.rtdserver\",, \"RDOR3_B_0\", \"100\")","v":"-110.400"},{"$f":"RTD(\"rtdtrading.rtdserver\",, \"RDOR3_B_0\", \"103\")","v":"-110.400,00"}]
[null,"COGN3",{"$f":"RTD(\"rtdtrading.rtdserver\",, \"COGN3_B_0\", \"ULT\")","v":2.6200000000000006},{"$f":"RTD(\"rtdtrading.rtdserver\",, \"COGN3_B_0\", \"ABE\")","v":2.69},{"$f":"RTD(\"rtdtrading.rtdserver\",, \"COGN3_B_0\", \"MAX\")","v":2.73},{"$f":"RTD(\"rtdtrading.rtdserver\",, \"COGN3_B_0\", \"MIN\")","v":2.62},{"$f":"RTD(\"rtdtrading.rtdserver\",, \"COGN3_B_0\", \"VAR\")","v":-1.8726591760299272},{"$f":"RTD(\"rtdtrading.rtdserver\",, \"COGN3_B_0\", \"VARPTS\")","v":-4.9999999999999378E-2},{"$f":"RTD(\"rtdtrading.rtdserver\",, \"COGN3_B_0\", \"184\")","v":"653.000,00"},{"$f":"RTD(\"rtdtrading.rtdserver\",, \"COGN3_B_0\", \"100\")","v":"-653.000"},{"$f":"RTD(\"rtdtrading.rtdserver\",, \"COGN3_B_0\", \"103\")","v":"-653.000,00"}]
[null,"WEGE3",{"$f":"RTD(\"rtdtrading.rtdserver\",, \"WEGE3_B_0\", \"ULT\")","v":28.830000000000041},{"$f":"RTD(\"rtdtrading.rtdserver\",, \"WEGE3_B_0\", \"ABE\")","v":29.18},{"$f":"RTD(\"rtdtrading.rtdserver\",, \"WEGE3_B_0\", \"MAX\")","v":29.23},{"$f":"RTD(\"rtdtrading.rtdserver\",, \"WEGE3_B_0\", \"MIN\")","v":28.61},{"$f":"RTD(\"rtdtrading.rtdserver\",, \"WEGE3_B_0\", \"VAR\")","v":-0.41450777202058475},{"$f":"RTD(\"rtdtrading.rtdserver\",, \"WEGE3_B_0\", \"VARPTS\")","v":-0.11999999999996191},{"$f":"RTD(\"rtdtrading.rtdserver\",, \"WEGE3_B_0\", \"184\")","v":"283.200,00"},{"$f":"RTD(\"rtdtrading.rtdserver\",, \"WEGE3_B_0\", \"100\")","v":"-283.200"},{"$f":"RTD(\"rtdtrading.rtdserver\",, \"WEGE3_B_0\", \"103\")","v":"-283.200,00"}]
[null,"ITUB4",{"$f":"RTD(\"rtdtrading.rtdserver\",, \"ITUB4_B_0\", \"ULT\")","v":26.709999999999994},{"$f":"RTD(\"rtdtrading.rtdserver\",, \"ITUB4_B_0\", \"ABE\")","v":26.9},{"$f":"RTD(\"rtdtrading.rtdserver\",, \"ITUB4_B_0\", \"MAX\")","v":27.14},{"$f":"RTD(\"rtdtrading.rtdserver\",, \"ITUB4_B_0\", \"MIN\")","v":26.709999999999994},{"$f":"RTD(\"rtdtrading.rtdserver\",, \"ITUB4_B_0\", \"VAR\")","v":-0.52141527001865029},{"$f":"RTD(\"rtdtrading.rtdserver\",, \"ITUB4_B_0\", \"VARPTS\")","v":-0.14000000000000767},{"$f":"RTD(\"rtdtrading.rtdserver\",, \"ITUB4_B_0\", \"184\")","v":"196.400,00"},{"$f":"RTD(\"rtdtrading.rtdserver\",, \"ITUB4_B_0\", \"100\")","v":"-196.400"},{"$f":"RTD(\"rtdtrading.rtdserver\",, \"ITUB4_B_0\", \"103\")","v":"-196.400,00"}]
[null,"BBDC4",{"$f":"RTD(\"rtdtrading.rtdserver\",, \"BBDC4_B_0\", \"ULT\")","v":19.499999999999982},{"$f":"RTD(\"rtdtrading.rtdserver\",, \"BBDC4_B_0\", \"ABE\")","v":19.600000000000001},{"$f":"RTD(\"rtdtrading.rtdserver\",, \"BBDC4_B_0\", \"MAX\")","v":19.82},{"$f":"RTD(\"rtdtrading.rtdserver\",, \"BBDC4_B_0\", \"MIN\")","v":19.499999999999993},{"$f":"RTD(\"rtdtrading.rtdserver\",, \"BBDC4_B_0\", \"VAR\")","v":-5.1255766273811787E-2},{"$f":"RTD(\"rtdtrading.rtdserver\",, \"BBDC4_B_0\", \"VARPTS\")","v":-1.0000000000019327E-2},{"$f":"RTD(\"rtdtrading.rtdserver\",, \"BBDC4_B_0\", \"184\")","v":"6.801.200,00"},{"$f":"RTD(\"rtdtrading.rtdserver\",, \"BBDC4_B_0\", \"100\")","v":"1.894.000"},{"$f":"RTD(\"rtdtrading.rtdserver\",, \"BBDC4_B_0\", \"103\")","v":"1.894.000,00"}]
[null,"BBDC3",{"$f":"RTD(\"rtdtrading.rtdserver\",, \"BBDC3_B_0\", \"ULT\")","v":16.119999999999994},{"$f":"RTD(\"rtdtrading.rtdserver\",, \"BBDC3_B_0\", \"ABE\")","v":16.190000000000001},{"$f":"RTD(\"rtdtrading.rtdserver\",, \"BBDC3_B_0\", \"MAX\")","v":16.37},{"$f":"RTD(\"rtdtrading.rtdserver\",, \"BBDC3_B_0\", \"MIN\")","v":16.119999999999994},{"$f":"RTD(\"rtdtrading.rtdserver\",, \"BBDC3_B_0\", \"VAR\")","v":-0.30921459492893177},{"$f":"RTD(\"rtdtrading.rtdserver\",, \"BBDC3_B_0\", \"VARPTS\")","v":-5.0000000000007816E-2},{"$f":"RTD(\"rtdtrading.rtdserver\",, \"BBDC3_B_0\", \"184\")","v":"2.449.500,00"},{"$f":"RTD(\"rtdtrading.rtdserver\",, \"BBDC3_B_0\", \"100\")","v":"-387.000"},{"$f":"RTD(\"rtdtrading.rtdserver\",, \"BBDC3_B_0\", \"103\")","v":"-387.000,00"}]
[null,"KLBN11",{"$f":"RTD(\"rtdtrading.rtdserver\",, \"KLBN11_B_0\", \"ULT\")","v":19.759999999999991},{"$f":"RTD(\"rtdtrading.rtdserver\",, \"KLBN11_B_0\", \"ABE\")","v":20.13},{"$f":"RTD(\"rtdtrading.rtdserver\",, \"KLBN11_B_0\", \"MAX\")","v":20.34},{"$f":"RTD(\"rtdtrading.rtdserver\",, \"KLBN11_B_0\", \"MIN\")","v":19.719999999999985},{"$f":"RTD(\"rtdtrading.rtdserver\",, \"KLBN11_B_0\", \"VAR\")","v":-1.6426082628173617},{"$f":"RTD(\"rtdtrading.rtdserver\",, \"KLBN11_B_0\", \"VARPTS\")","v":-0.33000000000000895},{"$f":"RTD(\"rtdtrading.rtdserver\",, \"KLBN11_B_0\", \"184\")","v":"646.800,00"},{"$f":"RTD(\"rtdtrading.rtdserver\",, \"KLBN11_B_0\", \"100\")","v":"-646.800"},{"$f":"RTD(\"rtdtrading.rtdserver\",, \"KLBN11_B_0\", \"103\")","v":"-646.800,00"}]
[null,"BPAC11",{"$f":"RTD(\"rtdtrading.rtdserver\",, \"BPAC11_B_0\", \"ULT\")","v":25.609999999999964},{"$f":"RTD(\"rtdtrading.rtdserver\",, \"BPAC11_B_0\", \"ABE\")","v":26},{"$f":"RTD(\"rtdtrading.rtdserver\",, \"BPAC11_B_0\", \"MAX\")","v":26.11},{"$f":"RTD(\"rtdtrading.rtdserver\",, \"BPAC11_B_0\", \"MIN\")","v":25.57},{"$f":"RTD(\"rtdtrading.rtdserver\",, \"BPAC11_B_0\", \"VAR\")","v":-1.0432766615148381},{"$f":"RTD(\"rtdtrading.rtdserver\",, \"BPAC11_B_0\", \"VARPTS\")","v":-0.27000000000003865},{"$f":"RTD(\"rtdtrading.rtdserver\",, \"BPAC11_B_0\", \"184\")","v":"2.126.500,00"},{"$f":"RTD(\"rtdtrading.rtdserver\",, \"BPAC11_B_0\", \"100\")","v":"-199.100"},{"$f":"RTD(\"rtdtrading.rtdserver\",, \"BPAC11_B_0\", \"103\")","v":"-199.100,00"}]
[null,"TOTS3",{"$f":"RTD(\"rtdtrading.rtdserver\",, \"TOTS3_B_0\", \"ULT\")","v":30.269999999999989},{"$f":"RTD(\"rtdtrading.rtdserver\",, \"TOTS3_B_0\", \"ABE\")","v":31},{"$f":"RTD(\"rtdtrading.rtdserver\",, \"TOTS3_B_0\", \"MAX\")","v":31},{"$f":"RTD(\"rtdtrading.rtdserver\",, \"TOTS3_B_0\", \"MIN\")","v":30.27},{"$f":"RTD(\"rtdtrading.rtdserver\",, \"TOTS3_B_0\", \"VAR\")","v":-2.1338506304558962},{"$f":"RTD(\"rtdtrading.rtdserver\",, \"TOTS3_B_0\", \"VARPTS\")","v":-0.6600000000000108},{"$f":"RTD(\"rtdtrading.rtdserver\",, \"TOTS3_B_0\", \"184\")","v":"36.200,00"},{"$f":"RTD(\"rtdtrading.rtdserver\",, \"TOTS3_B_0\", \"100\")","v":"-36.200"},{"$f":"RTD(\"rtdtrading.rtdserver\",, \"TOTS3_B_0\", \"103\")","v":"-36.200,00"}]
[null,"CIEL3",{"$f":"RTD(\"rtdtrading.rtdserver\",, \"CIEL3_B_0\", \"ULT\")","v":5.9400000000000022},{"$f":"RTD(\"rtdtrading.rtdserver\",, \"CIEL3_B_0\", \"ABE\")","v":5.87},{"$f":"RTD(\"rtdtrading.rtdserver\",, \"CIEL3_B_0\", \"MAX\")","v":6.22},{"$f":"RTD(\"rtdtrading.rtdserver\",, \"CIEL3_B_0\", \"MIN\")","v":5.86},{"$f":"RTD(\"rtdtrading.rtdserver\",, \"CIEL3_B_0\", \"VAR\")","v":2.5906735751295713},{"$f":"RTD(\"rtdtrading.rtdserver\",, \"CIEL3_B_0\", \"VARPTS\")","v":0.15000000000000213},{"$f":"RTD(\"rtdtrading.rtdserver\",, \"CIEL3_B_0\", \"184\")","v":"1.404.500,00"},{"$f":"RTD(\"rtdtrading.rtdserver\",, \"CIEL3_B_0\", \"100\")","v":"1.404.500"},{"$f":"RTD(\"rtdtrading.rtdserver\",, \"CIEL3_B_0\", \"103\")","v":"1.404.500,00"}]
[null,"PETR3",{"$f":"RTD(\"rtdtrading.rtdserver\",, \"PETR3_B_0\", \"ULT\")","v":36.939999999999934},{"$f":"RTD(\"rtdtrading.rtdserver\",, \"PETR3_B_0\", \"ABE\")","v":37.21},{"$f":"RTD(\"rtdtrading.rtdserver\",, \"PETR3_B_0\", \"MAX\")","v":37.21},{"$f":"RTD(\"rtdtrading.rtdserver\",, \"PETR3_B_0\", \"MIN\")","v":36.369999999999997},{"$f":"RTD(\"rtdtrading.rtdserver\",, \"PETR3_B_0\", \"VAR\")","v":-0.40442167700207676},{"$f":"RTD(\"rtdtrading.rtdserver\",, \"PETR3_B_0\", \"VARPTS\")","v":-0.15000000000006963},{"$f":"RTD(\"rtdtrading.rtdserver\",, \"PETR3_B_0\", \"184\")","v":"122.000,00"},{"$f":"RTD(\"rtdtrading.rtdserver\",, \"PETR3_B_0\", \"100\")","v":"122.000"},{"$f":"RTD(\"rtdtrading.rtdserver\",, \"PETR3_B_0\", \"103\")","v":"122.000,00"}]
[null,"PETR4",{"$f":"RTD(\"rtdtrading.rtdserver\",, \"PETR4_B_0\", \"ULT\")","v":33.020000000000088},{"$f":"RTD(\"rtdtrading.rtdserver\",, \"PETR4_B_0\", \"ABE\")","v":33.28},{"$f":"RTD(\"rtdtrading.rtdserver\",, \"PETR4_B_0\", \"MAX\")","v":33.39},{"$f":"RTD(\"rtdtrading.rtdserver\",, \"PETR4_B_0\", \"MIN\")","v":32.57},{"$f":"RTD(\"rtdtrading.rtdserver\",, \"PETR4_B_0\", \"VAR\")","v":-0.78124999999972999},{"$f":"RTD(\"rtdtrading.rtdserver\",, \"PETR4_B_0\", \"VARPTS\")","v":-0.25999999999991275},{"$f":"RTD(\"rtdtrading.rtdserver\",, \"PETR4_B_0\", \"184\")","v":"55.766.500,00"},{"$f":"RTD(\"rtdtrading.rtdserver\",, \"PETR4_B_0\", \"100\")","v":"814.700"},{"$f":"RTD(\"rtdtrading.rtdserver\",, \"PETR4_B_0\", \"103\")","v":"814.700,00"}]
[null,"VALE3",{"$f":"RTD(\"rtdtrading.rtdserver\",, \"VALE3_B_0\", \"ULT\")","v":68.819999999999709},{"$f":"RTD(\"rtdtrading.rtdserver\",, \"VALE3_B_0\", \"ABE\")","v":69.650000000000006},{"$f":"RTD(\"rtdtrading.rtdserver\",, \"VALE3_B_0\", \"MAX\")","v":71.2},{"$f":"RTD(\"rtdtrading.rtdserver\",, \"VALE3_B_0\", \"MIN\")","v":68.709999999999809},{"$f":"RTD(\"rtdtrading.rtdserver\",, \"VALE3_B_0\", \"VAR\")","v":-0.64963187527111188},{"$f":"RTD(\"rtdtrading.rtdserver\",, \"VALE3_B_0\", \"VARPTS\")","v":-0.45000000000030127},{"$f":"RTD(\"rtdtrading.rtdserver\",, \"VALE3_B_0\", \"184\")","v":"244.400,00"},{"$f":"RTD(\"rtdtrading.rtdserver\",, \"VALE3_B_0\", \"100\")","v":"-244.400"},{"$f":"RTD(\"rtdtrading.rtdserver\",, \"VALE3_B_0\", \"103\")","v":"-244.400,00"}]
[null,"SANB11",{"$f":"RTD(\"rtdtrading.rtdserver\",, \"SANB11_B_0\", \"ULT\")","v":30.249999999999989},{"$f":"RTD(\"rtdtrading.rtdserver\",, \"SANB11_B_0\", \"ABE\")","v":30.38},{"$f":"RTD(\"rtdtrading.rtdserver\",, \"SANB11_B_0\", \"MAX\")","v":30.65},{"$f":"RTD(\"rtdtrading.rtdserver\",, \"SANB11_B_0\", \"MIN\")","v":30.249999999999993},{"$f":"RTD(\"rtdtrading.rtdserver\",, \"SANB11_B_0\", \"VAR\")","v":6.6159444260620148E-2},{"$f":"RTD(\"rtdtrading.rtdserver\",, \"SANB11_B_0\", \"VARPTS\")","v":1.9999999999988916E-2},{"$f":"RTD(\"rtdtrading.rtdserver\",, \"SANB11_B_0\", \"184\")","v":"462.700,00"},{"$f":"RTD(\"rtdtrading.rtdserver\",, \"SANB11_B_0\", \"100\")","v":"96.200"},{"$f":"RTD(\"rtdtrading.rtdserver\",, \"SANB11_B_0\", \"103\")","v":"96.200,00"}]
[null,"GGBR4",{"$f":"RTD(\"rtdtrading.rtdserver\",, \"GGBR4_B_0\", \"ULT\")","v":24.219999999999981},{"$f":"RTD(\"rtdtrading.rtdserver\",, \"GGBR4_B_0\", \"ABE\")","v":24.99},{"$f":"RTD(\"rtdtrading.rtdserver\",, \"GGBR4_B_0\", \"MAX\")","v":25.11},{"$f":"RTD(\"rtdtrading.rtdserver\",, \"GGBR4_B_0\", \"MIN\")","v":24.16},{"$f":"RTD(\"rtdtrading.rtdserver\",, \"GGBR4_B_0\", \"VAR\")","v":-1.824077827320707},{"$f":"RTD(\"rtdtrading.rtdserver\",, \"GGBR4_B_0\", \"VARPTS\")","v":-0.45000000000002061},{"$f":"RTD(\"rtdtrading.rtdserver\",, \"GGBR4_B_0\", \"184\")","v":"1.436.000,00"},{"$f":"RTD(\"rtdtrading.rtdserver\",, \"GGBR4_B_0\", \"100\")","v":"-452.600"},{"$f":"RTD(\"rtdtrading.rtdserver\",, \"GGBR4_B_0\", \"103\")","v":"-452.600,00"}]
[null,"GOAU4",{"$f":"RTD(\"rtdtrading.rtdserver\",, \"GOAU4_B_0\", \"ULT\")","v":10.130000000000001},{"$f":"RTD(\"rtdtrading.rtdserver\",, \"GOAU4_B_0\", \"ABE\")","v":10.38},{"$f":"RTD(\"rtdtrading.rtdserver\",, \"GOAU4_B_0\", \"MAX\")","v":10.48},{"$f":"RTD(\"rtdtrading.rtdserver\",, \"GOAU4_B_0\", \"MIN\")","v":10.120000000000001},{"$f":"RTD(\"rtdtrading.rtdserver\",, \"GOAU4_B_0\", \"VAR\")","v":-1.841085271317823},{"$f":"RTD(\"rtdtrading.rtdserver\",, \"GOAU4_B_0\", \"VARPTS\")","v":-0.1899999999999995},{"$f":"RTD(\"rtdtrading.rtdserver\",, \"GOAU4_B_0\", \"184\")","v":"83.300,00"},{"$f":"RTD(\"rtdtrading.rtdserver\",, \"GOAU4_B_0\", \"100\")","v":"8.700"},{"$f":"RTD(\"rtdtrading.rtdserver\",, \"GOAU4_B_0\", \"103\")","v":"8.700,00"}]
[null,"TAEE11",{"$f":"RTD(\"rtdtrading.rtdserver\",, \"TAEE11_B_0\", \"ULT\")","v":40.589999999999975},{"$f":"RTD(\"rtdtrading.rtdserver\",, \"TAEE11_B_0\", \"ABE\")","v":40.380000000000003},{"$f":"RTD(\"rtdtrading.rtdserver\",, \"TAEE11_B_0\", \"MAX\")","v":40.659999999999997},{"$f":"RTD(\"rtdtrading.rtdserver\",, \"TAEE11_B_0\", \"MIN\")","v":40.36},{"$f":"RTD(\"rtdtrading.rtdserver\",, \"TAEE11_B_0\", \"VAR\")","v":0.54495912806531521},{"$f":"RTD(\"rtdtrading.rtdserver\",, \"TAEE11_B_0\", \"VARPTS\")","v":0.21999999999997044},{"$f":"RTD(\"rtdtrading.rtdserver\",, \"TAEE11_B_0\", \"184\")","v":"112.300,00"},{"$f":"RTD(\"rtdtrading.rtdserver\",, \"TAEE11_B_0\", \"100\")","v":"54.800"},{"$f":"RTD(\"rtdtrading.rtdserver\",, \"TAEE11_B_0\", \"103\")","v":"54.800,00"}]
[null,"EZTC3",{"$f":"RTD(\"rtdtrading.rtdserver\",, \"EZTC3_B_0\", \"ULT\")","v":18.260000000000005},{"$f":"RTD(\"rtdtrading.rtdserver\",, \"EZTC3_B_0\", \"ABE\")","v":18.47},{"$f":"RTD(\"rtdtrading.rtdserver\",, \"EZTC3_B_0\", \"MAX\")","v":18.690000000000001},{"$f":"RTD(\"rtdtrading.rtdserver\",, \"EZTC3_B_0\", \"MIN\")","v":18.190000000000001},{"$f":"RTD(\"rtdtrading.rtdserver\",, \"EZTC3_B_0\", \"VAR\")","v":-1.1369788846778448},{"$f":"RTD(\"rtdtrading.rtdserver\",, \"EZTC3_B_0\", \"VARPTS\")","v":-0.2099999999999973},{"$f":"RTD(\"rtdtrading.rtdserver\",, \"EZTC3_B_0\", \"184\")","v":"66.500,00"},{"$f":"RTD(\"rtdtrading.rtdserver\",, \"EZTC3_B_0\", \"100\")","v":"41.900"},{"$f":"RTD(\"rtdtrading.rtdserver\",, \"EZTC3_B_0\", \"103\")","v":"41.900,00"}]
[null,"EGIE3",{"$f":"RTD(\"rtdtrading.rtdserver\",, \"EGIE3_B_0\", \"ULT\")","v":40.70999999999998},{"$f":"RTD(\"rtdtrading.rtdserver\",, \"EGIE3_B_0\", \"ABE\")","v":40.65},{"$f":"RTD(\"rtdtrading.rtdserver\",, \"EGIE3_B_0\", \"MAX\")","v":40.749999999999993},{"$f":"RTD(\"rtdtrading.rtdserver\",, \"EGIE3_B_0\", \"MIN\")","v":40.25},{"$f":"RTD(\"rtdtrading.rtdserver\",, \"EGIE3_B_0\", \"VAR\")","v":0.24624476729864853},{"$f":"RTD(\"rtdtrading.rtdserver\",, \"EGIE3_B_0\", \"VARPTS\")","v":9.9999999999980105E-2},{"$f":"RTD(\"rtdtrading.rtdserver\",, \"EGIE3_B_0\", \"184\")","v":"257.000,00"},{"$f":"RTD(\"rtdtrading.rtdserver\",, \"EGIE3_B_0\", \"100\")","v":"18.800"},{"$f":"RTD(\"rtdtrading.rtdserver\",, \"EGIE3_B_0\", \"103\")","v":"18.800,00"}]
[]
[]
[]
[]
[]
[]
[" "]

{"sheet":"TESTES","index":6,"n_rows":179,"n_cols":36,"rows_kept":179,"cut":false,"hidden":true,"merged":[]}
[]
[]
[]
[]
[]
[null,null,null,null,null,"PETR4"]
[]
[null,null,null,1,"BTG",{"$f":"RTD(\"srv.rtd\",\"\",\"PLAYERSRANKING\",\"PETR4\",\"85\",\"SALDO\",\"QUANTITY\")","v":638},{"$f":"RTD(\"srv.rtd\",\"\",\"PLAYERSRANKING\",\"PETR4\",\"85\",\"SALDO\",\"VOLQ\")","v":-615500},{"$f":"RTD(\"srv.rtd\",\"\",\"PLAYERSRANKING\",\"PETR4\",\"85\",\"SALDO\",\"VOLF\")","v":-20342161},{"$f":"RTD(\"srv.rtd\",\"\",\"PLAYERSRANKING\",\"PETR4\",\"85\",\"SALDO\",\"AVG_PRICE\")","v":32.952055721005301},{"$f":"RTD(\"srv.rtd\",\"\",\"PLAYERSRANKING\",\"PETR4\",\"85\",\"SALDO\",\"AVG_PRICE_2\")","v":33.0498147847279}]
[null,null,null,2,"CREDIT SUISSE",{"$f":"RTD(\"srv.rtd\",\"\",\"PLAYERSRANKING\",\"PETR4\",\"45\",\"SALDO\",\"QUANTITY\")","v":-93},{"$f":"RTD(\"srv.rtd\",\"\",\"PLAYERSRANKING\",\"PETR4\",\"45\",\"SALDO\",\"VOLQ\")","v":-112300},{"$f":"RTD(\"srv.rtd\",\"\",\"PLAYERSRANKING\",\"PETR4\",\"45\",\"SALDO\",\"VOLF\")","v":-3633251},{"$f":"RTD(\"srv.rtd\",\"\",\"PLAYERSRANKING\",\"PETR4\",\"45\",\"SALDO\",\"AVG_PRICE\")","v":32.850648931771197},{"$f":"RTD(\"srv.rtd\",\"\",\"PLAYERSRANKING\",\"PETR4\",\"45\",\"SALDO\",\"AVG_PRICE_2\")","v":32.3530810329475}]
[null,null,null,3,"SAFRA",{"$f":"RTD(\"srv.rtd\",\"\",\"PLAYERSRANKING\",\"PETR4\",\"59\",\"SALDO\",\"QUANTITY\")","v":63},{"$f":"RTD(\"srv.rtd\",\"\",\"PLAYERSRANKING\",\"PETR4\",\"59\",\"SALDO\",\"VOLQ\")","v":-300},{"$f":"RTD(\"srv.rtd\",\"\",\"PLAYERSRANKING\",\"PETR4\",\"59\",\"SALDO\",\"VOLF\")","v":-14468},{"$f":"RTD(\"srv.rtd\",\"\",\"PLAYERSRANKING\",\"PETR4\",\"59\",\"SALDO\",\"AVG_PRICE\")","v":32.931778058007602},{"$f":"RTD(\"srv.rtd\",\"\",\"PLAYERSRANKING\",\"PETR4\",\"59\",\"SALDO\",\"AVG_PRICE_2\")","v":48.226666666666702}]
[null,null,null,4,"TERRA",{"$f":"RTD(\"srv.rtd\",\"\",\"PLAYERSRANKING\",\"PETR4\",\"107\",\"SALDO\",\"QUANTITY\")","v":-25},{"$f":"RTD(\"srv.rtd\",\"\",\"PLAYERSRANKING\",\"PETR4\",\"107\",\"SALDO\",\"VOLQ\")","v":19700},{"$f":"RTD(\"srv.rtd\",\"\",\"PLAYERSRANKING\",\"PETR4\",\"107\",\"SALDO\",\"VOLF\")","v":668290},{"$f":"RTD(\"srv.rtd\",\"\",\"PLAYERSRANKING\",\"PETR4\",\"107\",\"SALDO\",\"AVG_PRICE\")","v":32.932504790583103},{"$f":"RTD(\"srv.rtd\",\"\",\"PLAYERSRANKING\",\"PETR4\",\"107\",\"SALDO\",\"AVG_PRICE_2\")","v":33.923350253807101}]
[null,null,null,5,"BRADESCO",{"$f":"RTD(\"srv.rtd\",\"\",\"PLAYERSRANKING\",\"PETR4\",\"72\",\"SALDO\",\"QUANTITY\")","v":171},{"$f":"RTD(\"srv.rtd\",\"\",\"PLAYERSRANKING\",\"PETR4\",\"72\",\"SALDO\",\"VOLQ\")","v":284800},{"$f":"RTD(\"srv.rtd\",\"\",\"PLAYERSRANKING\",\"PETR4\",\"72\",\"SALDO\",\"VOLF\")","v":9418998},{"$f":"RTD(\"srv.rtd\",\"\",\"PLAYERSRANKING\",\"PETR4\",\"72\",\"SALDO\",\"AVG_PRICE\")","v":32.905770234986903},{"$f":"RTD(\"srv.rtd\",\"\",\"PLAYERSRANKING\",\"PETR4\",\"72\",\"SALDO\",\"AVG_PRICE_2\")","v":33.072324438202202}]
[null,null,null,6,"BGC",{"$f":"RTD(\"srv.rtd\",\"\",\"PLAYERSRANKING\",\"PETR4\",\"122\",\"SALDO\",\"QUANTITY\")","v":-4956},{"$f":"RTD(\"srv.rtd\",\"\",\"PLAYERSRANKING\",\"PETR4\",\"122\",\"SALDO\",\"VOLQ\")","v":-496700},{"$f":"RTD(\"srv.rtd\",\"\",\"PLAYERSRANKING\",\"PETR4\",\"122\",\"SALDO\",\"VOLF\")","v":-16259749},{"$f":"RTD(\"srv.rtd\",\"\",\"PLAYERSRANKING\",\"PETR4\",\"122\",\"SALDO\",\"AVG_PRICE\")","v":32.734979891589397},{"$f":"RTD(\"srv.rtd\",\"\",\"PLAYERSRANKING\",\"PETR4\",\"122\",\"SALDO\",\"AVG_PRICE_2\")","v":32.735552647473298}]
[null,null,null,7,"GENIAL",{"$f":"RTD(\"srv.rtd\",\"\",\"PLAYERSRANKING\",\"PETR4\",\"120\",\"SALDO\",\"QUANTITY\")","v":1526},{"$f":"RTD(\"srv.rtd\",\"\",\"PLAYERSRANKING\",\"PETR4\",\"120\",\"SALDO\",\"VOLQ\")","v":224000},{"$f":"RTD(\"srv.rtd\",\"\",\"PLAYERSRANKING\",\"PETR4\",\"120\",\"SALDO\",\"VOLF\")","v":7287218},{"$f":"RTD(\"srv.rtd\",\"\",\"PLAYERSRANKING\",\"PETR4\",\"120\",\"SALDO\",\"AVG_PRICE\")","v":32.892123331059402},{"$f":"RTD(\"srv.rtd\",\"\",\"PLAYERSRANKING\",\"PETR4\",\"120\",\"SALDO\",\"AVG_PRICE_2\")","v":32.5322232142857}]
[null,null,null,8,"MERRILL LYNCH",{"$f":"RTD(\"srv.rtd\",\"\",\"PLAYERSRANKING\",\"PETR4\",\"13\",\"SALDO\",\"QUANTITY\")","v":-557},{"$f":"RTD(\"srv.rtd\",\"\",\"PLAYERSRANKING\",\"PETR4\",\"13\",\"SALDO\",\"VOLQ\")","v":-1335900},{"$f":"RTD(\"srv.rtd\",\"\",\"PLAYERSRANKING\",\"PETR4\",\"13\",\"SALDO\",\"VOLF\")","v":-43828336},{"$f":"RTD(\"srv.rtd\",\"\",\"PLAYERSRANKING\",\"PETR4\",\"13\",\"SALDO\",\"AVG_PRICE\")","v":32.788548534165997},{"$f":"RTD(\"srv.rtd\",\"\",\"PLAYERSRANKING\",\"PETR4\",\"13\",\"SALDO\",\"AVG_PRICE_2\")","v":32.8080964144023}]
[null,null,null,9,"UBS",{"$f":"RTD(\"srv.rtd\",\"\",\"PLAYERSRANKING\",\"PETR4\",\"8\",\"SALDO\",\"QUANTITY\")","v":1441},{"$f":"RTD(\"srv.rtd\",\"\",\"PLAYERSRANKING\",\"PETR4\",\"8\",\"SALDO\",\"VOLQ\")","v":1976300},{"$f":"RTD(\"srv.rtd\",\"\",\"PLAYERSRANKING\",\"PETR4\",\"8\",\"SALDO\",\"VOLF\")","v":65141219},{"$f":"RTD(\"srv.rtd\",\"\",\"PLAYERSRANKING\",\"PETR4\",\"8\",\"SALDO\",\"AVG_PRICE\")","v":32.9135798556756},{"$f":"RTD(\"srv.rtd\",\"\",\"PLAYERSRANKING\",\"PETR4\",\"8\",\"SALDO\",\"AVG_PRICE_2\")","v":32.961199716642199}]
[null,null,null,10,"ITAU",{"$f":"RTD(\"srv.rtd\",\"\",\"PLAYERSRANKING\",\"PETR4\",\"114\",\"SALDO\",\"QUANTITY\")","v":-352},{"$f":"RTD(\"srv.rtd\",\"\",\"PLAYERSRANKING\",\"PETR4\",\"114\",\"SALDO\",\"VOLQ\")","v":-534400},{"$f":"RTD(\"srv.rtd\",\"\",\"PLAYERSRANKING\",\"PETR4\",\"114\",\"SALDO\",\"VOLF\")","v":-17957673},{"$f":"RTD(\"srv.rtd\",\"\",\"PLAYERSRANKING\",\"PETR4\",\"114\",\"SALDO\",\"AVG_PRICE\")","v":32.961242958207798},{"$f":"RTD(\"srv.rtd\",\"\",\"PLAYERSRANKING\",\"PETR4\",\"114\",\"SALDO\",\"AVG_PRICE_2\")","v":33.603430014970101}]
[null,null,null,11,"FC STONE",{"$f":"RTD(\"srv.rtd\",\"\",\"PLAYERSRANKING\",\"PETR4\",\"1130\",\"SALDO\",\"QUANTITY\")","v":91},{"$f":"RTD(\"srv.rtd\",\"\",\"PLAYERSRANKING\",\"PETR4\",\"1130\",\"SALDO\",\"VOLQ\")","v":-40000},{"$f":"RTD(\"srv.rtd\",\"\",\"PLAYERSRANKING\",\"PETR4\",\"1130\",\"SALDO\",\"VOLF\")","v":-1364092},{"$f":"RTD(\"srv.rtd\",\"\",\"PLAYERSRANKING\",\"PETR4\",\"1130\",\"SALDO\",\"AVG_PRICE\")","v":32.978264705882403},{"$f":"RTD(\"srv.rtd\",\"\",\"PLAYERSRANKING\",\"PETR4\",\"1130\",\"SALDO\",\"AVG_PRICE_2\")","v":34.1023}]
[null,null,null,12,"PLANNER",{"$f":"RTD(\"srv.rtd\",\"\",\"PLAYERSRANKING\",\"PETR4\",\"129\",\"SALDO\",\"QUANTITY\")","v":70},{"$f":"RTD(\"srv.rtd\",\"\",\"PLAYERSRANKING\",\"PETR4\",\"129\",\"SALDO\",\"VOLQ\")","v":47000},{"$f":"RTD(\"srv.rtd\",\"\",\"PLAYERSRANKING\",\"PETR4\",\"129\",\"SALDO\",\"VOLF\")","v":1542602},{"$f":"RTD(\"srv.rtd\",\"\",\"PLAYERSRANKING\",\"PETR4\",\"129\",\"SALDO\",\"AVG_PRICE\")","v":32.868021978022},{"$f":"RTD(\"srv.rtd\",\"\",\"PLAYERSRANKING\",\"PETR4\",\"129\",\"SALDO\",\"AVG_PRICE_2\")","v":32.821319148936198}]
[null,null,null,13,"ELITE",{"$f":"RTD(\"srv.rtd\",\"\",\"PLAYERSRANKING\",\"PETR4\",\"174\",\"SALDO\",\"QUANTITY\")","v":7},{"$f":"RTD(\"srv.rtd\",\"\",\"PLAYERSRANKING\",\"PETR4\",\"174\",\"SALDO\",\"VOLQ\")","v":100},{"$f":"RTD(\"srv.rtd\",\"\",\"PLAYERSRANKING\",\"PETR4\",\"174\",\"SALDO\",\"VOLF\")","v":3265},{"$f":"RTD(\"srv.rtd\",\"\",\"PLAYERSRANKING\",\"PETR4\",\"174\",\"SALDO\",\"AVG_PRICE\")","v":32.873404255319102},{"$f":"RTD(\"srv.rtd\",\"\",\"PLAYERSRANKING\",\"PETR4\",\"174\",\"SALDO\",\"AVG_PRICE_2\")","v":32.65}]
[null,null,null,14,"SITA",{"$f":"RTD(\"srv.rtd\",\"\",\"PLAYERSRANKING\",\"PETR4\",\"187\",\"SALDO\",\"QUANTITY\")","v":-2},{"$f":"RTD(\"srv.rtd\",\"\",\"PLAYERSRANKING\",\"PETR4\",\"187\",\"SALDO\",\"VOLQ\")","v":-10000},{"$f":"RTD(\"srv.rtd\",\"\",\"PLAYERSRANKING\",\"PETR4\",\"187\",\"SALDO\",\"VOLF\")","v":-330000},{"$f":"RTD(\"srv.rtd\",\"\",\"PLAYERSRANKING\",\"PETR4\",\"187\",\"SALDO\",\"AVG_PRICE\")","v":33},{"$f":"RTD(\"srv.rtd\",\"\",\"PLAYERSRANKING\",\"PETR4\",\"187\",\"SALDO\",\"AVG_PRICE_2\")","v":33}]
[null,null,null,15,"INTER",{"$f":"RTD(\"srv.rtd\",\"\",\"PLAYERSRANKING\",\"PETR4\",\"1099\",\"SALDO\",\"QUANTITY\")","v":48},{"$f":"RTD(\"srv.rtd\",\"\",\"PLAYERSRANKING\",\"PETR4\",\"1099\",\"SALDO\",\"VOLQ\")","v":-500},{"$f":"RTD(\"srv.rtd\",\"\",\"PLAYERSRANKING\",\"PETR4\",\"1099\",\"SALDO\",\"VOLF\")","v":-58027},{"$f":"RTD(\"srv.rtd\",\"\",\"PLAYERSRANKING\",\"PETR4\",\"1099\",\"SALDO\",\"AVG_PRICE\")","v":32.893289444320502},{"$f":"RTD(\"srv.rtd\",\"\",\"PLAYERSRANKING\",\"PETR4\",\"1099\",\"SALDO\",\"AVG_PRICE_2\")","v":116.054}]
[null,null,null,16,"C6 BANK",{"$f":"RTD(\"srv.rtd\",\"\",\"PLAYERSRANKING\",\"PETR4\",\"6003\",\"SALDO\",\"QUANTITY\")","v":115},{"$f":"RTD(\"srv.rtd\",\"\",\"PLAYERSRANKING\",\"PETR4\",\"6003\",\"SALDO\",\"VOLQ\")","v":101700},{"$f":"RTD(\"srv.rtd\",\"\",\"PLAYERSRANKING\",\"PETR4\",\"6003\",\"SALDO\",\"VOLF\")","v":3328944},{"$f":"RTD(\"srv.rtd\",\"\",\"PLAYERSRANKING\",\"PETR4\",\"6003\",\"SALDO\",\"AVG_PRICE\")","v":32.746420966420999},{"$f":"RTD(\"srv.rtd\",\"\",\"PLAYERSRANKING\",\"PETR4\",\"6003\",\"SALDO\",\"AVG_PRICE_2\")","v":32.732979351032398}]
[null,null,null,17,"ICAP",{"$f":"RTD(\"srv.rtd\",\"\",\"PLAYERSRANKING\",\"PETR4\",\"735\",\"SALDO\",\"QUANTITY\")","v":-27},{"$f":"RTD(\"srv.rtd\",\"\",\"PLAYERSRANKING\",\"PETR4\",\"735\",\"SALDO\",\"VOLQ\")","v":400},{"$f":"RTD(\"srv.rtd\",\"\",\"PLAYERSRANKING\",\"PETR4\",\"735\",\"SALDO\",\"VOLF\")","v":10141},{"$f":"RTD(\"srv.rtd\",\"\",\"PLAYERSRANKING\",\"PETR4\",\"735\",\"SALDO\",\"AVG_PRICE\")","v":33.020899581590001},{"$f":"RTD(\"srv.rtd\",\"\",\"PLAYERSRANKING\",\"PETR4\",\"735\",\"SALDO\",\"AVG_PRICE_2\")","v":25.352499999999999}]
[null,null,null,18,"AMARIL FRANKLIN",{"$f":"RTD(\"srv.rtd\",\"\",\"PLAYERSRANKING\",\"PETR4\",\"226\",\"SALDO\",\"QUANTITY\")","v":"0"},{"$f":"RTD(\"srv.rtd\",\"\",\"PLAYERSRANKING\",\"PETR4\",\"226\",\"SALDO\",\"VOLQ\")","v":"0"},{"$f":"RTD(\"srv.rtd\",\"\",\"PLAYERSRANKING\",\"PETR4\",\"226\",\"SALDO\",\"VOLF\")","v":"0"},{"$f":"RTD(\"srv.rtd\",\"\",\"PLAYERSRANKING\",\"PETR4\",\"226\",\"SALDO\",\"AVG_PRICE\")","v":"0"},{"$f":"RTD(\"srv.rtd\",\"\",\"PLAYERSRANKING\",\"PETR4\",\"226\",\"SALDO\",\"AVG_PRICE_2\")","v":"0"}]
[null,null,null,19,"SOCOPA",{"$f":"RTD(\"srv.rtd\",\"\",\"PLAYERSRANKING\",\"PETR4\",\"58\",\"SALDO\",\"QUANTITY\")","v":"0"},{"$f":"RTD(\"srv.rtd\",\"\",\"PLAYERSRANKING\",\"PETR4\",\"58\",\"SALDO\",\"VOLQ\")","v":"0"},{"$f":"RTD(\"srv.rtd\",\"\",\"PLAYERSRANKING\",\"PETR4\",\"58\",\"SALDO\",\"VOLF\")","v":"0"},{"$f":"RTD(\"srv.rtd\",\"\",\"PLAYERSRANKING\",\"PETR4\",\"58\",\"SALDO\",\"AVG_PRICE\")","v":"0"},{"$f":"RTD(\"srv.rtd\",\"\",\"PLAYERSRANKING\",\"PETR4\",\"58\",\"SALDO\",\"AVG_PRICE_2\")","v":"0"}]
[null,null,null,20,"CORRETORA GERAL",{"$f":"RTD(\"srv.rtd\",\"\",\"PLAYERSRANKING\",\"PETR4\",\"186\",\"SALDO\",\"QUANTITY\")","v":"0"},{"$f":"RTD(\"srv.rtd\",\"\",\"PLAYERSRANKING\",\"PETR4\",\"186\",\"SALDO\",\"VOLQ\")","v":"0"},{"$f":"RTD(\"srv.rtd\",\"\",\"PLAYERSRANKING\",\"PETR4\",\"186\",\"SALDO\",\"VOLF\")","v":"0"},{"$f":"RTD(\"srv.rtd\",\"\",\"PLAYERSRANKING\",\"PETR4\",\"186\",\"SALDO\",\"AVG_PRICE\")","v":"0"},{"$f":"RTD(\"srv.rtd\",\"\",\"PLAYERSRANKING\",\"PETR4\",\"186\",\"SALDO\",\"AVG_PRICE_2\")","v":"0"}]
[null,null,null,21,"MERC. DO BRASIL",{"$f":"RTD(\"srv.rtd\",\"\",\"PLAYERSRANKING\",\"PETR4\",\"106\",\"SALDO\",\"QUANTITY\")","v":1},{"$f":"RTD(\"srv.rtd\",\"\",\"PLAYERSRANKING\",\"PETR4\",\"106\",\"SALDO\",\"VOLQ\")","v":900},{"$f":"RTD(\"srv.rtd\",\"\",\"PLAYERSRANKING\",\"PETR4\",\"106\",\"SALDO\",\"VOLF\")","v":29880},{"$f":"RTD(\"srv.rtd\",\"\",\"PLAYERSRANKING\",\"PETR4\",\"106\",\"SALDO\",\"AVG_PRICE\")","v":33.200000000000003},{"$f":"RTD(\"srv.rtd\",\"\",\"PLAYERSRANKING\",\"PETR4\",\"106\",\"SALDO\",\"AVG_PRICE_2\")","v":33.200000000000003}]
[null,null,null,22,"ALFA",{"$f":"RTD(\"srv.rtd\",\"\",\"PLAYERSRANKING\",\"PETR4\",\"4\",\"SALDO\",\"QUANTITY\")","v":-3},{"$f":"RTD(\"srv.rtd\",\"\",\"PLAYERSRANKING\",\"PETR4\",\"4\",\"SALDO\",\"VOLQ\")","v":-1900},{"$f":"RTD(\"srv.rtd\",\"\",\"PLAYERSRANKING\",\"PETR4\",\"4\",\"SALDO\",\"VOLF\")","v":-63242},{"$f":"RTD(\"srv.rtd\",\"\",\"PLAYERSRANKING\",\"PETR4\",\"4\",\"SALDO\",\"AVG_PRICE\")","v":32.798969072165001},{"$f":"RTD(\"srv.rtd\",\"\",\"PLAYERSRANKING\",\"PETR4\",\"4\",\"SALDO\",\"AVG_PRICE_2\")","v":33.285263157894697}]
[null,null,null,23,"COMMCOR",{"$f":"RTD(\"srv.rtd\",\"\",\"PLAYERSRANKING\",\"PETR4\",\"115\",\"SALDO\",\"QUANTITY\")","v":-185},{"$f":"RTD(\"srv.rtd\",\"\",\"PLAYERSRANKING\",\"PETR4\",\"115\",\"SALDO\",\"VOLQ\")","v":-299600},{"$f":"RTD(\"srv.rtd\",\"\",\"PLAYERSRANKING\",\"PETR4\",\"115\",\"SALDO\",\"VOLF\")","v":-9850977},{"$f":"RTD(\"srv.rtd\",\"\",\"PLAYERSRANKING\",\"PETR4\",\"115\",\"SALDO\",\"AVG_PRICE\")","v":32.880322687957403},{"$f":"RTD(\"srv.rtd\",\"\",\"PLAYERSRANKING\",\"PETR4\",\"115\",\"SALDO\",\"AVG_PRICE_2\")","v":32.880430574098803}]
[null,null,null,24,"VITREO",{"$f":"RTD(\"srv.rtd\",\"\",\"PLAYERSRANKING\",\"PETR4\",\"1855\",\"SALDO\",\"QUANTITY\")","v":32},{"$f":"RTD(\"srv.rtd\",\"\",\"PLAYERSRANKING\",\"PETR4\",\"1855\",\"SALDO\",\"VOLQ\")","v":20200},{"$f":"RTD(\"srv.rtd\",\"\",\"PLAYERSRANKING\",\"PETR4\",\"1855\",\"SALDO\",\"VOLF\")","v":661252},{"$f":"RTD(\"srv.rtd\",\"\",\"PLAYERSRANKING\",\"PETR4\",\"1855\",\"SALDO\",\"AVG_PRICE\")","v":32.845374449339197},{"$f":"RTD(\"srv.rtd\",\"\",\"PLAYERSRANKING\",\"PETR4\",\"1855\",\"SALDO\",\"AVG_PRICE_2\")","v":32.735247524752502}]
[null,null,null,25,"WARREN",{"$f":"RTD(\"srv.rtd\",\"\",\"PLAYERSRANKING\",\"PETR4\",\"190\",\"SALDO\",\"QUANTITY\")","v":1},{"$f":"RTD(\"srv.rtd\",\"\",\"PLAYERSRANKING\",\"PETR4\",\"190\",\"SALDO\",\"VOLQ\")","v":100},{"$f":"RTD(\"srv.rtd\",\"\",\"PLAYERSRANKING\",\"PETR4\",\"190\",\"SALDO\",\"VOLF\")","v":3285},{"$f":"RTD(\"srv.rtd\",\"\",\"PLAYERSRANKING\",\"PETR4\",\"190\",\"SALDO\",\"AVG_PRICE\")","v":32.85},{"$f":"RTD(\"srv.rtd\",\"\",\"PLAYERSRANKING\",\"PETR4\",\"190\",\"SALDO\",\"AVG_PRICE_2\")","v":32.85}]
[null,null,null,26,"EASYNVEST",{"$f":"RTD(\"srv.rtd\",\"\",\"PLAYERSRANKING\",\"PETR4\",\"90\",\"SALDO\",\"QUANTITY\")","v":-13},{"$f":"RTD(\"srv.rtd\",\"\",\"PLAYERSRANKING\",\"PETR4\",\"90\",\"SALDO\",\"VOLQ\")","v":-18000},{"$f":"RTD(\"srv.rtd\",\"\",\"PLAYERSRANKING\",\"PETR4\",\"90\",\"SALDO\",\"VOLF\")","v":-605004},{"$f":"RTD(\"srv.rtd\",\"\",\"PLAYERSRANKING\",\"PETR4\",\"90\",\"SALDO\",\"AVG_PRICE\")","v":32.893116817724099},{"$f":"RTD(\"srv.rtd\",\"\",\"PLAYERSRANKING\",\"PETR4\",\"90\",\"SALDO\",\"AVG_PRICE_2\")","v":33.611333333333299}]
[null,null,null,27,"SCOTIABANK",{"$f":"RTD(\"srv.rtd\",\"\",\"PLAYERSRANKING\",\"PETR4\",\"7078\",\"SALDO\",\"QUANTITY\")","v":"0"},{"$f":"RTD(\"srv.rtd\",\"\",\"PLAYERSRANKING\",\"PETR4\",\"7078\",\"SALDO\",\"VOLQ\")","v":"0"},{"$f":"RTD(\"srv.rtd\",\"\",\"PLAYERSRANKING\",\"PETR4\",\"7078\",\"SALDO\",\"VOLF\")","v":"0"},{"$f":"RTD(\"srv.rtd\",\"\",\"PLAYERSRANKING\",\"PETR4\",\"7078\",\"SALDO\",\"AVG_PRICE\")","v":"0"},{"$f":"RTD(\"srv.rtd\",\"\",\"PLAYERSRANKING\",\"PETR4\",\"7078\",\"SALDO\",\"AVG_PRICE_2\")","v":"0"}]
[null,null,null,28,"TORO",{"$f":"RTD(\"srv.rtd\",\"\",\"PLAYERSRANKING\",\"PETR4\",\"4090\",\"SALDO\",\"QUANTITY\")","v":-96},{"$f":"RTD(\"srv.rtd\",\"\",\"PLAYERSRANKING\",\"PETR4\",\"4090\",\"SALDO\",\"VOLQ\")","v":-5800},{"$f":"RTD(\"srv.rtd\",\"\",\"PLAYERSRANKING\",\"PETR4\",\"4090\",\"SALDO\",\"VOLF\")","v":-222621},{"$f":"RTD(\"srv.rtd\",\"\",\"PLAYERSRANKING\",\"PETR4\",\"4090\",\"SALDO\",\"AVG_PRICE\")","v":32.842955409171502},{"$f":"RTD(\"srv.rtd\",\"\",\"PLAYERSRANKING\",\"PETR4\",\"4090\",\"SALDO\",\"AVG_PRICE_2\")","v":38.382931034482802}]
[null,null,null,29,"MORGAN STANLEY",{"$f":"RTD(\"srv.rtd\",\"\",\"PLAYERSRANKING\",\"PETR4\",\"40\",\"SALDO\",\"QUANTITY\")","v":3256},{"$f":"RTD(\"srv.rtd\",\"\",\"PLAYERSRANKING\",\"PETR4\",\"40\",\"SALDO\",\"VOLQ\")","v":1204200},{"$f":"RTD(\"srv.rtd\",\"\",\"PLAYERSRANKING\",\"PETR4\",\"40\",\"SALDO\",\"VOLF\")","v":39692215},{"$f":"RTD(\"srv.rtd\",\"\",\"PLAYERSRANKING\",\"PETR4\",\"40\",\"SALDO\",\"AVG_PRICE\")","v":32.865820390282799},{"$f":"RTD(\"srv.rtd\",\"\",\"PLAYERSRANKING\",\"PETR4\",\"40\",\"SALDO\",\"AVG_PRICE_2\")","v":32.9614806510546}]
[null,null,null,30,"BANRISUL",{"$f":"RTD(\"srv.rtd\",\"\",\"PLAYERSRANKING\",\"PETR4\",\"172\",\"SALDO\",\"QUANTITY\")","v":28},{"$f":"RTD(\"srv.rtd\",\"\",\"PLAYERSRANKING\",\"PETR4\",\"172\",\"SALDO\",\"VOLQ\")","v":8900},{"$f":"RTD(\"srv.rtd\",\"\",\"PLAYERSRANKING\",\"PETR4\",\"172\",\"SALDO\",\"VOLF\")","v":291293},{"$f":"RTD(\"srv.rtd\",\"\",\"PLAYERSRANKING\",\"PETR4\",\"172\",\"SALDO\",\"AVG_PRICE\")","v":32.923714285714297},{"$f":"RTD(\"srv.rtd\",\"\",\"PLAYERSRANKING\",\"PETR4\",\"172\",\"SALDO\",\"AVG_PRICE_2\")","v":32.729550561797801}]
[null,null,null,31,"AGORA",{"$f":"RTD(\"srv.rtd\",\"\",\"PLAYERSRANKING\",\"PETR4\",\"39\",\"SALDO\",\"QUANTITY\")","v":471},{"$f":"RTD(\"srv.rtd\",\"\",\"PLAYERSRANKING\",\"PETR4\",\"39\",\"SALDO\",\"VOLQ\")","v":414400},{"$f":"RTD(\"srv.rtd\",\"\",\"PLAYERSRANKING\",\"PETR4\",\"39\",\"SALDO\",\"VOLF\")","v":13438374},{"$f":"RTD(\"srv.rtd\",\"\",\"PLAYERSRANKING\",\"PETR4\",\"39\",\"SALDO\",\"AVG_PRICE\")","v":32.929801148538601},{"$f":"RTD(\"srv.rtd\",\"\",\"PLAYERSRANKING\",\"PETR4\",\"39\",\"SALDO\",\"AVG_PRICE_2\")","v":32.428508687258699}]
[null,null,null,32,"MIRAE",{"$f":"RTD(\"srv.rtd\",\"\",\"PLAYERSRANKING\",\"PETR4\",\"262\",\"SALDO\",\"QUANTITY\")","v":-38},{"$f":"RTD(\"srv.rtd\",\"\",\"PLAYERSRANKING\",\"PETR4\",\"262\",\"SALDO\",\"VOLQ\")","v":61300},{"$f":"RTD(\"srv.rtd\",\"\",\"PLAYERSRANKING\",\"PETR4\",\"262\",\"SALDO\",\"VOLF\")","v":2013588},{"$f":"RTD(\"srv.rtd\",\"\",\"PLAYERSRANKING\",\"PETR4\",\"262\",\"SALDO\",\"AVG_PRICE\")","v":32.919720034995599},{"$f":"RTD(\"srv.rtd\",\"\",\"PLAYERSRANKING\",\"PETR4\",\"262\",\"SALDO\",\"AVG_PRICE_2\")","v":32.848091353996701}]
[null,null,null,33,"ORAMA",{"$f":"RTD(\"srv.rtd\",\"\",\"PLAYERSRANKING\",\"PETR4\",\"3701\",\"SALDO\",\"QUANTITY\")","v":100},{"$f":"RTD(\"srv.rtd\",\"\",\"PLAYERSRANKING\",\"PETR4\",\"3701\",\"SALDO\",\"VOLQ\")","v":18700},{"$f":"RTD(\"srv.rtd\",\"\",\"PLAYERSRANKING\",\"PETR4\",\"3701\",\"SALDO\",\"VOLF\")","v":613563},{"$f":"RTD(\"srv.rtd\",\"\",\"PLAYERSRANKING\",\"PETR4\",\"3701\",\"SALDO\",\"AVG_PRICE\")","v":33.067982989064397},{"$f":"RTD(\"srv.rtd\",\"\",\"PLAYERSRANKING\",\"PETR4\",\"3701\",\"SALDO\",\"AVG_PRICE_2\")","v":32.810855614973299}]
[null,null,null,34,"CLEAR",{"$f":"RTD(\"srv.rtd\",\"\",\"PLAYERSRANKING\",\"PETR4\",\"308\",\"SALDO\",\"QUANTITY\")","v":102},{"$f":"RTD(\"srv.rtd\",\"\",\"PLAYERSRANKING\",\"PETR4\",\"308\",\"SALDO\",\"VOLQ\")","v":65200},{"$f":"RTD(\"srv.rtd\",\"\",\"PLAYERSRANKING\",\"PETR4\",\"308\",\"SALDO\",\"VOLF\")","v":2114465},{"$f":"RTD(\"srv.rtd\",\"\",\"PLAYERSRANKING\",\"PETR4\",\"308\",\"SALDO\",\"AVG_PRICE\")","v":32.903649295645003},{"$f":"RTD(\"srv.rtd\",\"\",\"PLAYERSRANKING\",\"PETR4\",\"308\",\"SALDO\",\"AVG_PRICE_2\")","v":32.430444785276102}]
[null,null,null,35,"CM CAPITAL",{"$f":"RTD(\"srv.rtd\",\"\",\"PLAYERSRANKING\",\"PETR4\",\"88\",\"SALDO\",\"QUANTITY\")","v":-55},{"$f":"RTD(\"srv.rtd\",\"\",\"PLAYERSRANKING\",\"PETR4\",\"88\",\"SALDO\",\"VOLQ\")","v":-41900},{"$f":"RTD(\"srv.rtd\",\"\",\"PLAYERSRANKING\",\"PETR4\",\"88\",\"SALDO\",\"VOLF\")","v":-1385658},{"$f":"RTD(\"srv.rtd\",\"\",\"PLAYERSRANKING\",\"PETR4\",\"88\",\"SALDO\",\"AVG_PRICE\")","v":33.027118644067798},{"$f":"RTD(\"srv.rtd\",\"\",\"PLAYERSRANKING\",\"PETR4\",\"88\",\"SALDO\",\"AVG_PRICE_2\")","v":33.070596658711203}]
[null,null,null,36,"SANTANDER",{"$f":"RTD(\"srv.rtd\",\"\",\"PLAYERSRANKING\",\"PETR4\",\"27\",\"SALDO\",\"QUANTITY\")","v":1842},{"$f":"RTD(\"srv.rtd\",\"\",\"PLAYERSRANKING\",\"PETR4\",\"27\",\"SALDO\",\"VOLQ\")","v":690200},{"$f":"RTD(\"srv.rtd\",\"\",\"PLAYERSRANKING\",\"PETR4\",\"27\",\"SALDO\",\"VOLF\")","v":22694794},{"$f":"RTD(\"srv.rtd\",\"\",\"PLAYERSRANKING\",\"PETR4\",\"27\",\"SALDO\",\"AVG_PRICE\")","v":32.8858063139932},{"$f":"RTD(\"srv.rtd\",\"\",\"PLAYERSRANKING\",\"PETR4\",\"27\",\"SALDO\",\"AVG_PRICE_2\")","v":32.881474934801503}]
[null,null,null,37,"NECTON",{"$f":"RTD(\"srv.rtd\",\"\",\"PLAYERSRANKING\",\"PETR4\",\"23\",\"SALDO\",\"QUANTITY\")","v":-179},{"$f":"RTD(\"srv.rtd\",\"\",\"PLAYERSRANKING\",\"PETR4\",\"23\",\"SALDO\",\"VOLQ\")","v":-15800},{"$f":"RTD(\"srv.rtd\",\"\",\"PLAYERSRANKING\",\"PETR4\",\"23\",\"SALDO\",\"VOLF\")","v":-516574},{"$f":"RTD(\"srv.rtd\",\"\",\"PLAYERSRANKING\",\"PETR4\",\"23\",\"SALDO\",\"AVG_PRICE\")","v":32.844958677686002},{"$f":"RTD(\"srv.rtd\",\"\",\"PLAYERSRANKING\",\"PETR4\",\"23\",\"SALDO\",\"AVG_PRICE_2\")","v":32.694556962025302}]
[null,null,null,38,"NOVA FUTURA",{"$f":"RTD(\"srv.rtd\",\"\",\"PLAYERSRANKING\",\"PETR4\",\"93\",\"SALDO\",\"QUANTITY\")","v":5},{"$f":"RTD(\"srv.rtd\",\"\",\"PLAYERSRANKING\",\"PETR4\",\"93\",\"SALDO\",\"VOLQ\")","v":91500},{"$f":"RTD(\"srv.rtd\",\"\",\"PLAYERSRANKING\",\"PETR4\",\"93\",\"SALDO\",\"VOLF\")","v":3007381},{"$f":"RTD(\"srv.rtd\",\"\",\"PLAYERSRANKING\",\"PETR4\",\"93\",\"SALDO\",\"AVG_PRICE\")","v":32.870365736284903},{"$f":"RTD(\"srv.rtd\",\"\",\"PLAYERSRANKING\",\"PETR4\",\"93\",\"SALDO\",\"AVG_PRICE_2\")","v":32.867551912568302}]
[null,null,null,39,"IDEAL",{"$f":"RTD(\"srv.rtd\",\"\",\"PLAYERSRANKING\",\"PETR4\",\"1618\",\"SALDO\",\"QUANTITY\")","v":211},{"$f":"RTD(\"srv.rtd\",\"\",\"PLAYERSRANKING\",\"PETR4\",\"1618\",\"SALDO\",\"VOLQ\")","v":617100},{"$f":"RTD(\"srv.rtd\",\"\",\"PLAYERSRANKING\",\"PETR4\",\"1618\",\"SALDO\",\"VOLF\")","v":20353244},{"$f":"RTD(\"srv.rtd\",\"\",\"PLAYERSRANKING\",\"PETR4\",\"1618\",\"SALDO\",\"AVG_PRICE\")","v":32.868136012508998},{"$f":"RTD(\"srv.rtd\",\"\",\"PLAYERSRANKING\",\"PETR4\",\"1618\",\"SALDO\",\"AVG_PRICE_2\")","v":32.982083941014402}]
[null,null,null,40,"GUIDE",{"$f":"RTD(\"srv.rtd\",\"\",\"PLAYERSRANKING\",\"PETR4\",\"15\",\"SALDO\",\"QUANTITY\")","v":-28},{"$f":"RTD(\"srv.rtd\",\"\",\"PLAYERSRANKING\",\"PETR4\",\"15\",\"SALDO\",\"VOLQ\")","v":87400},{"$f":"RTD(\"srv.rtd\",\"\",\"PLAYERSRANKING\",\"PETR4\",\"15\",\"SALDO\",\"VOLF\")","v":2845168},{"$f":"RTD(\"srv.rtd\",\"\",\"PLAYERSRANKING\",\"PETR4\",\"15\",\"SALDO\",\"AVG_PRICE\")","v":32.858069236259801},{"$f":"RTD(\"srv.rtd\",\"\",\"PLAYERSRANKING\",\"PETR4\",\"15\",\"SALDO\",\"AVG_PRICE_2\")","v":32.553409610983998}]
[null,null,null,41,"MODAL",{"$f":"RTD(\"srv.rtd\",\"\",\"PLAYERSRANKING\",\"PETR4\",\"1982\",\"SALDO\",\"QUANTITY\")","v":-2535},{"$f":"RTD(\"srv.rtd\",\"\",\"PLAYERSRANKING\",\"PETR4\",\"1982\",\"SALDO\",\"VOLQ\")","v":-2249600},{"$f":"RTD(\"srv.rtd\",\"\",\"PLAYERSRANKING\",\"PETR4\",\"1982\",\"SALDO\",\"VOLF\")","v":-73977128},{"$f":"RTD(\"srv.rtd\",\"\",\"PLAYERSRANKING\",\"PETR4\",\"1982\",\"SALDO\",\"AVG_PRICE\")","v":32.902215778923299},{"$f":"RTD(\"srv.rtd\",\"\",\"PLAYERSRANKING\",\"PETR4\",\"1982\",\"SALDO\",\"AVG_PRICE_2\")","v":32.884569701280199},null,null,"POSI","CORRETORA","QTD","VOL(Q)","VOL($)","PT.MED(T)","PR.MED(Saldo)"]
[null,null,null,42,"GOLDMAN SACHS",{"$f":"RTD(\"srv.rtd\",\"\",\"PLAYERSRANKING\",\"PETR4\",\"238\",\"SALDO\",\"QUANTITY\")","v":-8},{"$f":"RTD(\"srv.rtd\",\"\",\"PLAYERSRANKING\",\"PETR4\",\"238\",\"SALDO\",\"VOLQ\")","v":1800},{"$f":"RTD(\"srv.rtd\",\"\",\"PLAYERSRANKING\",\"PETR4\",\"238\",\"SALDO\",\"VOLF\")","v":113366},{"$f":"RTD(\"srv.rtd\",\"\",\"PLAYERSRANKING\",\"PETR4\",\"238\",\"SALDO\",\"AVG_PRICE\")","v":32.810902072328297},{"$f":"RTD(\"srv.rtd\",\"\",\"PLAYERSRANKING\",\"PETR4\",\"238\",\"SALDO\",\"AVG_PRICE_2\")","v":62.981111111111098},null,null,42,"GOLDMAN SACHS",{"$f":"RTD(\"srv.rtd\",\"\",\"PLAYERSRANKING\",\"PETR4\",\"238\",\"SALDO\",\"QUANTITY\")","v":-8},{"$f":"RTD(\"srv.rtd\",\"\",\"PLAYERSRANKING\",\"PETR4\",\"238\",\"SALDO\",\"VOLQ\")","v":1800},{"$f":"RTD(\"srv.rtd\",\"\",\"PLAYERSRANKING\",\"PETR4\",\"238\",\"SALDO\",\"VOLF\")","v":113366},{"$f":"RTD(\"srv.rtd\",\"\",\"PLAYERSRANKING\",\"PETR4\",\"238\",\"SALDO\",\"AVG_PRICE\")","v":32.810902072328297},{"$f":"RTD(\"srv.rtd\",\"\",\"PLAYERSRANKING\",\"PETR4\",\"238\",\"SALDO\",\"AVG_PRICE_2\")","v":62.981111111111098}]
[null,null,null,43,"ATIVA",{"$f":"RTD(\"srv.rtd\",\"\",\"PLAYERSRANKING\",\"PETR4\",\"147\",\"SALDO\",\"QUANTITY\")","v":-87},{"$f":"RTD(\"srv.rtd\",\"\",\"PLAYERSRANKING\",\"PETR4\",\"147\",\"SALDO\",\"VOLQ\")","v":-67800},{"$f":"RTD(\"srv.rtd\",\"\",\"PLAYERSRANKING\",\"PETR4\",\"147\",\"SALDO\",\"VOLF\")","v":-2221830},{"$f":"RTD(\"srv.rtd\",\"\",\"PLAYERSRANKING\",\"PETR4\",\"147\",\"SALDO\",\"AVG_PRICE\")","v":32.823709940249898},{"$f":"RTD(\"srv.rtd\",\"\",\"PLAYERSRANKING\",\"PETR4\",\"147\",\"SALDO\",\"AVG_PRICE_2\")","v":32.770353982300897},null,null,null,"JP MORGAN",{"$f":"RTD(\"srv.rtd\",\"\",\"PLAYERSRANKING\",\"PETR4\",\"16\",\"SALDO\",\"QUANTITY\")","v":-911},{"$f":"RTD(\"srv.rtd\",\"\",\"PLAYERSRANKING\",\"PETR4\",\"16\",\"SALDO\",\"VOLQ\")","v":-1102100},{"$f":"RTD(\"srv.rtd\",\"\",\"PLAYERSRANKING\",\"PETR4\",\"16\",\"SALDO\",\"VOLF\")","v":-35926121},{"$f":"RTD(\"srv.rtd\",\"\",\"PLAYERSRANKING\",\"PETR4\",\"16\",\"SALDO\",\"AVG_PRICE\")","v":32.801351980173003},{"$f":"RTD(\"srv.rtd\",\"\",\"PLAYERSRANKING\",\"PETR4\",\"16\",\"SALDO\",\"AVG_PRICE_2\")","v":32.597877688050097}]
[null,null,null,44,"CITIGROUP",{"$f":"RTD(\"srv.rtd\",\"\",\"PLAYERSRANKING\",\"PETR4\",\"77\",\"SALDO\",\"QUANTITY\")","v":2081},{"$f":"RTD(\"srv.rtd\",\"\",\"PLAYERSRANKING\",\"PETR4\",\"77\",\"SALDO\",\"VOLQ\")","v":655600},{"$f":"RTD(\"srv.rtd\",\"\",\"PLAYERSRANKING\",\"PETR4\",\"77\",\"SALDO\",\"VOLF\")","v":21508574},{"$f":"RTD(\"srv.rtd\",\"\",\"PLAYERSRANKING\",\"PETR4\",\"77\",\"SALDO\",\"AVG_PRICE\")","v":32.800050041701397},{"$f":"RTD(\"srv.rtd\",\"\",\"PLAYERSRANKING\",\"PETR4\",\"77\",\"SALDO\",\"AVG_PRICE_2\")","v":32.8074649176327},null,null,null,"TULLETT",{"$f":"RTD(\"srv.rtd\",\"\",\"PLAYERSRANKING\",\"PETR4\",\"127\",\"SALDO\",\"QUANTITY\")","v":-638},{"$f":"RTD(\"srv.rtd\",\"\",\"PLAYERSRANKING\",\"PETR4\",\"127\",\"SALDO\",\"VOLQ\")","v":237100},{"$f":"RTD(\"srv.rtd\",\"\",\"PLAYERSRANKING\",\"PETR4\",\"127\",\"SALDO\",\"VOLF\")","v":7974357},{"$f":"RTD(\"srv.rtd\",\"\",\"PLAYERSRANKING\",\"PETR4\",\"127\",\"SALDO\",\"AVG_PRICE\")","v":33.076060665942101},{"$f":"RTD(\"srv.rtd\",\"\",\"PLAYERSRANKING\",\"PETR4\",\"127\",\"SALDO\",\"AVG_PRICE_2\")","v":33.632884858709403}]
[null,null,null,45,"JP MORGAN",{"$f":"RTD(\"srv.rtd\",\"\",\"PLAYERSRANKING\",\"PETR4\",\"16\",\"SALDO\",\"QUANTITY\")","v":-911},{"$f":"RTD(\"srv.rtd\",\"\",\"PLAYERSRANKING\",\"PETR4\",\"16\",\"SALDO\",\"VOLQ\")","v":-1102100},{"$f":"RTD(\"srv.rtd\",\"\",\"PLAYERSRANKING\",\"PETR4\",\"16\",\"SALDO\",\"VOLF\")","v":-35926121},{"$f":"RTD(\"srv.rtd\",\"\",\"PLAYERSRANKING\",\"PETR4\",\"16\",\"SALDO\",\"AVG_PRICE\")","v":32.801351980173003},{"$f":"RTD(\"srv.rtd\",\"\",\"PLAYERSRANKING\",\"PETR4\",\"16\",\"SALDO\",\"AVG_PRICE_2\")","v":32.597877688050097},null,null,null,"MORGAN STANLEY",{"$f":"RTD(\"srv.rtd\",\"\",\"PLAYERSRANKING\",\"PETR4\",\"40\",\"SALDO\",\"QUANTITY\")","v":3256},{"$f":"RTD(\"srv.rtd\",\"\",\"PLAYERSRANKING\",\"PETR4\",\"40\",\"SALDO\",\"VOLQ\")","v":1204200},{"$f":"RTD(\"srv.rtd\",\"\",\"PLAYERSRANKING\",\"PETR4\",\"40\",\"SALDO\",\"VOLF\")","v":39692215},{"$f":"RTD(\"srv.rtd\",\"\",\"PLAYERSRANKING\",\"PETR4\",\"40\",\"SALDO\",\"AVG_PRICE\")","v":32.865820390282799},{"$f":"RTD(\"srv.rtd\",\"\",\"PLAYERSRANKING\",\"PETR4\",\"40\",\"SALDO\",\"AVG_PRICE_2\")","v":32.9614806510546}]
[null,null,null,46,"TULLETT",{"$f":"RTD(\"srv.rtd\",\"\",\"PLAYERSRANKING\",\"PETR4\",\"127\",\"SALDO\",\"QUANTITY\")","v":-638},{"$f":"RTD(\"srv.rtd\",\"\",\"PLAYERSRANKING\",\"PETR4\",\"127\",\"SALDO\",\"VOLQ\")","v":237100},{"$f":"RTD(\"srv.rtd\",\"\",\"PLAYERSRANKING\",\"PETR4\",\"127\",\"SALDO\",\"VOLF\")","v":7974357},{"$f":"RTD(\"srv.rtd\",\"\",\"PLAYERSRANKING\",\"PETR4\",\"127\",\"SALDO\",\"AVG_PRICE\")","v":33.076060665942101},{"$f":"RTD(\"srv.rtd\",\"\",\"PLAYERSRANKING\",\"PETR4\",\"127\",\"SALDO\",\"AVG_PRICE_2\")","v":33.632884858709403},null,null,null,"MERRILL LYNCH",{"$f":"RTD(\"srv.rtd\",\"\",\"PLAYERSRANKING\",\"PETR4\",\"13\",\"SALDO\",\"QUANTITY\")","v":-557},{"$f":"RTD(\"srv.rtd\",\"\",\"PLAYERSRANKING\",\"PETR4\",\"13\",\"SALDO\",\"VOLQ\")","v":-1335900},{"$f":"RTD(\"srv.rtd\",\"\",\"PLAYERSRANKING\",\"PETR4\",\"13\",\"SALDO\",\"VOLF\")","v":-43828336},{"$f":"RTD(\"srv.rtd\",\"\",\"PLAYERSRANKING\",\"PETR4\",\"13\",\"SALDO\",\"AVG_PRICE\")","v":32.788548534165997},{"$f":"RTD(\"srv.rtd\",\"\",\"PLAYERSRANKING\",\"PETR4\",\"13\",\"SALDO\",\"AVG_PRICE_2\")","v":32.8080964144023}]
[null,null,null,47,"XP",{"$f":"RTD(\"srv.rtd\",\"\",\"PLAYERSRANKING\",\"PETR4\",\"3\",\"SALDO\",\"QUANTITY\")","v":-1671},{"$f":"RTD(\"srv.rtd\",\"\",\"PLAYERSRANKING\",\"PETR4\",\"3\",\"SALDO\",\"VOLQ\")","v":-49200},{"$f":"RTD(\"srv.rtd\",\"\",\"PLAYERSRANKING\",\"PETR4\",\"3\",\"SALDO\",\"VOLF\")","v":-1665154},{"$f":"RTD(\"srv.rtd\",\"\",\"PLAYERSRANKING\",\"PETR4\",\"3\",\"SALDO\",\"AVG_PRICE\")","v":32.896830556207497},{"$f":"RTD(\"srv.rtd\",\"\",\"PLAYERSRANKING\",\"PETR4\",\"3\",\"SALDO\",\"AVG_PRICE_2\")","v":33.844593495935001},null,null,null,"UBS",{"$f":"RTD(\"srv.rtd\",\"\",\"PLAYERSRANKING\",\"PETR4\",\"8\",\"SALDO\",\"QUANTITY\")","v":1441},{"$f":"RTD(\"srv.rtd\",\"\",\"PLAYERSRANKING\",\"PETR4\",\"8\",\"SALDO\",\"VOLQ\")","v":1976300},{"$f":"RTD(\"srv.rtd\",\"\",\"PLAYERSRANKING\",\"PETR4\",\"8\",\"SALDO\",\"VOLF\")","v":65141219},{"$f":"RTD(\"srv.rtd\",\"\",\"PLAYERSRANKING\",\"PETR4\",\"8\",\"SALDO\",\"AVG_PRICE\")","v":32.9135798556756},{"$f":"RTD(\"srv.rtd\",\"\",\"PLAYERSRANKING\",\"PETR4\",\"8\",\"SALDO\",\"AVG_PRICE_2\")","v":32.961199716642199}]
[null,null,null,null,null,null,null,null,null,null,null,null,null,"IDEAL",{"$f":"RTD(\"srv.rtd\",\"\",\"PLAYERSRANKING\",\"PETR4\",\"1618\",\"SALDO\",\"QUANTITY\")","v":211},{"$f":"RTD(\"srv.rtd\",\"\",\"PLAYERSRANKING\",\"PETR4\",\"1618\",\"SALDO\",\"VOLQ\")","v":617100},{"$f":"RTD(\"srv.rtd\",\"\",\"PLAYERSRANKING\",\"PETR4\",\"1618\",\"SALDO\",\"VOLF\")","v":20353244},{"$f":"RTD(\"srv.rtd\",\"\",\"PLAYERSRANKING\",\"PETR4\",\"1618\",\"SALDO\",\"AVG_PRICE\")","v":32.868136012508998},{"$f":"RTD(\"srv.rtd\",\"\",\"PLAYERSRANKING\",\"PETR4\",\"1618\",\"SALDO\",\"AVG_PRICE_2\")","v":32.982083941014402}]
[]
[]
[null,null,null,null,null,null,null,null,null,null,null,null,null,null,null,{"$f":"SUM(Q49:Q55)","v":53519944},{"$f":"SUM(O49:O55)","v":2794}]
[]
[]
[null,null,null,null,null,null,null,null,null,null,null,null,null,null,null,{"$f":"SUM(P49:P55)","v":1598500}]
[]
[null,null,null,null,null,null,"VALE3"]
[]
[null,null,null,1,"NECTON",{"$f":"RTD(\"srv.rtd\",\"\",\"PLAYERSRANKING\",\"VALE3\",\"23\",\"SALDO\",\"QUANTITY\")","v":12},{"$f":"RTD(\"srv.rtd\",\"\",\"PLAYERSRANKING\",\"VALE3\",\"23\",\"SALDO\",\"VOLQ\")","v":19800},{"$f":"RTD(\"srv.rtd\",\"\",\"PLAYERSRANKING\",\"VALE3\",\"23\",\"SALDO\",\"VOLF\")","v":1371986},{"$f":"RTD(\"srv.rtd\",\"\",\"PLAYERSRANKING\",\"VALE3\",\"23\",\"SALDO\",\"AVG_PRICE\")","v":69.295100000000005},{"$f":"RTD(\"srv.rtd\",\"\",\"PLAYERSRANKING\",\"VALE3\",\"23\",\"SALDO\",\"AVG_PRICE_2\")","v":69.292222222222193}]
[null,null,null,2,"JP MORGAN",{"$f":"RTD(\"srv.rtd\",\"\",\"PLAYERSRANKING\",\"VALE3\",\"16\",\"SALDO\",\"QUANTITY\")","v":-1136},{"$f":"RTD(\"srv.rtd\",\"\",\"PLAYERSRANKING\",\"VALE3\",\"16\",\"SALDO\",\"VOLQ\")","v":-538400},{"$f":"RTD(\"srv.rtd\",\"\",\"PLAYERSRANKING\",\"VALE3\",\"16\",\"SALDO\",\"VOLF\")","v":-37820678},{"$f":"RTD(\"srv.rtd\",\"\",\"PLAYERSRANKING\",\"VALE3\",\"16\",\"SALDO\",\"AVG_PRICE\")","v":70.169418048917606},{"$f":"RTD(\"srv.rtd\",\"\",\"PLAYERSRANKING\",\"VALE3\",\"16\",\"SALDO\",\"AVG_PRICE_2\")","v":70.2464301634473},null,null,"POSI","CORRETORA","QTD","VOL(Q)","VOL($)","PT.MED(T)","PR.MED(Saldo)"]
[null,null,null,3,"GUIDE",{"$f":"RTD(\"srv.rtd\",\"\",\"PLAYERSRANKING\",\"VALE3\",\"15\",\"SALDO\",\"QUANTITY\")","v":-513},{"$f":"RTD(\"srv.rtd\",\"\",\"PLAYERSRANKING\",\"VALE3\",\"15\",\"SALDO\",\"VOLQ\")","v":-282100},{"$f":"RTD(\"srv.rtd\",\"\",\"PLAYERSRANKING\",\"VALE3\",\"15\",\"SALDO\",\"VOLF\")","v":-20036279},{"$f":"RTD(\"srv.rtd\",\"\",\"PLAYERSRANKING\",\"VALE3\",\"15\",\"SALDO\",\"AVG_PRICE\")","v":70.499173361899693},{"$f":"RTD(\"srv.rtd\",\"\",\"PLAYERSRANKING\",\"VALE3\",\"15\",\"SALDO\",\"AVG_PRICE_2\")","v":71.025448422545196},null,null,null,"MERRILL LYNCH",{"$f":"RTD(\"srv.rtd\",\"\",\"PLAYERSRANKING\",\"VALE3\",\"13\",\"SALDO\",\"QUANTITY\")","v":-398},{"$f":"RTD(\"srv.rtd\",\"\",\"PLAYERSRANKING\",\"VALE3\",\"13\",\"SALDO\",\"VOLQ\")","v":-141100},{"$f":"RTD(\"srv.rtd\",\"\",\"PLAYERSRANKING\",\"VALE3\",\"13\",\"SALDO\",\"VOLF\")","v":-9382306},{"$f":"RTD(\"srv.rtd\",\"\",\"PLAYERSRANKING\",\"VALE3\",\"13\",\"SALDO\",\"AVG_PRICE\")","v":70.0679093081541},{"$f":"RTD(\"srv.rtd\",\"\",\"PLAYERSRANKING\",\"VALE3\",\"13\",\"SALDO\",\"AVG_PRICE_2\")","v":66.494018426647798}]
[null,null,null,4,"UBS",{"$f":"RTD(\"srv.rtd\",\"\",\"PLAYERSRANKING\",\"VALE3\",\"8\",\"SALDO\",\"QUANTITY\")","v":261},{"$f":"RTD(\"srv.rtd\",\"\",\"PLAYERSRANKING\",\"VALE3\",\"8\",\"SALDO\",\"VOLQ\")","v":-268500},{"$f":"RTD(\"srv.rtd\",\"\",\"PLAYERSRANKING\",\"VALE3\",\"8\",\"SALDO\",\"VOLF\")","v":-18353085},{"$f":"RTD(\"srv.rtd\",\"\",\"PLAYERSRANKING\",\"VALE3\",\"8\",\"SALDO\",\"AVG_PRICE\")","v":70.146004422944003},{"$f":"RTD(\"srv.rtd\",\"\",\"PLAYERSRANKING\",\"VALE3\",\"8\",\"SALDO\",\"AVG_PRICE_2\")","v":68.354134078212297},null,null,null,"JP MORGAN",{"$f":"RTD(\"srv.rtd\",\"\",\"PLAYERSRANKING\",\"VALE3\",\"16\",\"SALDO\",\"QUANTITY\")","v":-1136},{"$f":"RTD(\"srv.rtd\",\"\",\"PLAYERSRANKING\",\"VALE3\",\"16\",\"SALDO\",\"VOLQ\")","v":-538400},{"$f":"RTD(\"srv.rtd\",\"\",\"PLAYERSRANKING\",\"VALE3\",\"16\",\"SALDO\",\"VOLF\")","v":-37820678},{"$f":"RTD(\"srv.rtd\",\"\",\"PLAYERSRANKING\",\"VALE3\",\"16\",\"SALDO\",\"AVG_PRICE\")","v":70.169418048917606},{"$f":"RTD(\"srv.rtd\",\"\",\"PLAYERSRANKING\",\"VALE3\",\"16\",\"SALDO\",\"AVG_PRICE_2\")","v":70.2464301634473}]
[null,null,null,5,"BGC",{"$f":"RTD(\"srv.rtd\",\"\",\"PLAYERSRANKING\",\"VALE3\",\"122\",\"SALDO\",\"QUANTITY\")","v":-340},{"$f":"RTD(\"srv.rtd\",\"\",\"PLAYERSRANKING\",\"VALE3\",\"122\",\"SALDO\",\"VOLQ\")","v":-53300},{"$f":"RTD(\"srv.rtd\",\"\",\"PLAYERSRANKING\",\"VALE3\",\"122\",\"SALDO\",\"VOLF\")","v":-3782752},{"$f":"RTD(\"srv.rtd\",\"\",\"PLAYERSRANKING\",\"VALE3\",\"122\",\"SALDO\",\"AVG_PRICE\")","v":69.564811404811394},{"$f":"RTD(\"srv.rtd\",\"\",\"PLAYERSRANKING\",\"VALE3\",\"122\",\"SALDO\",\"AVG_PRICE_2\")","v":70.970956848029999},null,null,null,"UBS",{"$f":"RTD(\"srv.rtd\",\"\",\"PLAYERSRANKING\",\"VALE3\",\"8\",\"SALDO\",\"QUANTITY\")","v":261},{"$f":"RTD(\"srv.rtd\",\"\",\"PLAYERSRANKING\",\"VALE3\",\"8\",\"SALDO\",\"VOLQ\")","v":-268500},{"$f":"RTD(\"srv.rtd\",\"\",\"PLAYERSRANKING\",\"VALE3\",\"8\",\"SALDO\",\"VOLF\")","v":-18353085},{"$f":"RTD(\"srv.rtd\",\"\",\"PLAYERSRANKING\",\"VALE3\",\"8\",\"SALDO\",\"AVG_PRICE\")","v":70.146004422944003},{"$f":"RTD(\"srv.rtd\",\"\",\"PLAYERSRANKING\",\"VALE3\",\"8\",\"SALDO\",\"AVG_PRICE_2\")","v":68.354134078212297}]
[null,null,null,6,"CREDIT SUISSE",{"$f":"RTD(\"srv.rtd\",\"\",\"PLAYERSRANKING\",\"VALE3\",\"45\",\"SALDO\",\"QUANTITY\")","v":-410},{"$f":"RTD(\"srv.rtd\",\"\",\"PLAYERSRANKING\",\"VALE3\",\"45\",\"SALDO\",\"VOLQ\")","v":-202100},{"$f":"RTD(\"srv.rtd\",\"\",\"PLAYERSRANKING\",\"VALE3\",\"45\",\"SALDO\",\"VOLF\")","v":-14316586},{"$f":"RTD(\"srv.rtd\",\"\",\"PLAYERSRANKING\",\"VALE3\",\"45\",\"SALDO\",\"AVG_PRICE\")","v":70.347860864857495},{"$f":"RTD(\"srv.rtd\",\"\",\"PLAYERSRANKING\",\"VALE3\",\"45\",\"SALDO\",\"AVG_PRICE_2\")","v":70.839119247897102},null,null,null,"IDEAL",{"$f":"RTD(\"srv.rtd\",\"\",\"PLAYERSRANKING\",\"VALE3\",\"1618\",\"SALDO\",\"QUANTITY\")","v":-1203},{"$f":"RTD(\"srv.rtd\",\"\",\"PLAYERSRANKING\",\"VALE3\",\"1618\",\"SALDO\",\"VOLQ\")","v":-837700},{"$f":"RTD(\"srv.rtd\",\"\",\"PLAYERSRANKING\",\"VALE3\",\"1618\",\"SALDO\",\"VOLF\")","v":-58995770},{"$f":"RTD(\"srv.rtd\",\"\",\"PLAYERSRANKING\",\"VALE3\",\"1618\",\"SALDO\",\"AVG_PRICE\")","v":70.152958410705295},{"$f":"RTD(\"srv.rtd\",\"\",\"PLAYERSRANKING\",\"VALE3\",\"1618\",\"SALDO\",\"AVG_PRICE_2\")","v":70.425892324221095}]
[null,null,null,7,"XP",{"$f":"RTD(\"srv.rtd\",\"\",\"PLAYERSRANKING\",\"VALE3\",\"3\",\"SALDO\",\"QUANTITY\")","v":82},{"$f":"RTD(\"srv.rtd\",\"\",\"PLAYERSRANKING\",\"VALE3\",\"3\",\"SALDO\",\"VOLQ\")","v":364900},{"$f":"RTD(\"srv.rtd\",\"\",\"PLAYERSRANKING\",\"VALE3\",\"3\",\"SALDO\",\"VOLF\")","v":25385786},{"$f":"RTD(\"srv.rtd\",\"\",\"PLAYERSRANKING\",\"VALE3\",\"3\",\"SALDO\",\"AVG_PRICE\")","v":70.036839029985799},{"$f":"RTD(\"srv.rtd\",\"\",\"PLAYERSRANKING\",\"VALE3\",\"3\",\"SALDO\",\"AVG_PRICE_2\")","v":69.569158673609195},null,null,null,"TULLETT",{"$f":"RTD(\"srv.rtd\",\"\",\"PLAYERSRANKING\",\"VALE3\",\"127\",\"SALDO\",\"QUANTITY\")","v":1657},{"$f":"RTD(\"srv.rtd\",\"\",\"PLAYERSRANKING\",\"VALE3\",\"127\",\"SALDO\",\"VOLQ\")","v":1086800},{"$f":"RTD(\"srv.rtd\",\"\",\"PLAYERSRANKING\",\"VALE3\",\"127\",\"SALDO\",\"VOLF\")","v":76640794},{"$f":"RTD(\"srv.rtd\",\"\",\"PLAYERSRANKING\",\"VALE3\",\"127\",\"SALDO\",\"AVG_PRICE\")","v":70.548419587291207},{"$f":"RTD(\"srv.rtd\",\"\",\"PLAYERSRANKING\",\"VALE3\",\"127\",\"SALDO\",\"AVG_PRICE_2\")","v":70.519685314685304}]
[null,null,null,8,"CITIGROUP",{"$f":"RTD(\"srv.rtd\",\"\",\"PLAYERSRANKING\",\"VALE3\",\"77\",\"SALDO\",\"QUANTITY\")","v":118},{"$f":"RTD(\"srv.rtd\",\"\",\"PLAYERSRANKING\",\"VALE3\",\"77\",\"SALDO\",\"VOLQ\")","v":123100},{"$f":"RTD(\"srv.rtd\",\"\",\"PLAYERSRANKING\",\"VALE3\",\"77\",\"SALDO\",\"VOLF\")","v":8737092},{"$f":"RTD(\"srv.rtd\",\"\",\"PLAYERSRANKING\",\"VALE3\",\"77\",\"SALDO\",\"AVG_PRICE\")","v":70.823949755757198},{"$f":"RTD(\"srv.rtd\",\"\",\"PLAYERSRANKING\",\"VALE3\",\"77\",\"SALDO\",\"AVG_PRICE_2\")","v":70.975564581640896},null,null,null,"GOLDMAN SACHS",{"$f":"RTD(\"srv.rtd\",\"\",\"PLAYERSRANKING\",\"VALE3\",\"238\",\"SALDO\",\"QUANTITY\")","v":713},{"$f":"RTD(\"srv.rtd\",\"\",\"PLAYERSRANKING\",\"VALE3\",\"238\",\"SALDO\",\"VOLQ\")","v":196100},{"$f":"RTD(\"srv.rtd\",\"\",\"PLAYERSRANKING\",\"VALE3\",\"238\",\"SALDO\",\"VOLF\")","v":13697335},{"$f":"RTD(\"srv.rtd\",\"\",\"PLAYERSRANKING\",\"VALE3\",\"238\",\"SALDO\",\"AVG_PRICE\")","v":69.923008992391104},{"$f":"RTD(\"srv.rtd\",\"\",\"PLAYERSRANKING\",\"VALE3\",\"238\",\"SALDO\",\"AVG_PRICE_2\")","v":69.848725140234606}]
[null,null,null,9,"ATIVA",{"$f":"RTD(\"srv.rtd\",\"\",\"PLAYERSRANKING\",\"VALE3\",\"147\",\"SALDO\",\"QUANTITY\")","v":206},{"$f":"RTD(\"srv.rtd\",\"\",\"PLAYERSRANKING\",\"VALE3\",\"147\",\"SALDO\",\"VOLQ\")","v":142600},{"$f":"RTD(\"srv.rtd\",\"\",\"PLAYERSRANKING\",\"VALE3\",\"147\",\"SALDO\",\"VOLF\")","v":10128254},{"$f":"RTD(\"srv.rtd\",\"\",\"PLAYERSRANKING\",\"VALE3\",\"147\",\"SALDO\",\"AVG_PRICE\")","v":70.728044901777395},{"$f":"RTD(\"srv.rtd\",\"\",\"PLAYERSRANKING\",\"VALE3\",\"147\",\"SALDO\",\"AVG_PRICE_2\")","v":71.025624123422205},null,null,null,"MORGAN STANLEY",{"$f":"RTD(\"srv.rtd\",\"\",\"PLAYERSRANKING\",\"VALE3\",\"40\",\"SALDO\",\"QUANTITY\")","v":-2125},{"$f":"RTD(\"srv.rtd\",\"\",\"PLAYERSRANKING\",\"VALE3\",\"40\",\"SALDO\",\"VOLQ\")","v":-724600},{"$f":"RTD(\"srv.rtd\",\"\",\"PLAYERSRANKING\",\"VALE3\",\"40\",\"SALDO\",\"VOLF\")","v":-50815042},{"$f":"RTD(\"srv.rtd\",\"\",\"PLAYERSRANKING\",\"VALE3\",\"40\",\"SALDO\",\"AVG_PRICE\")","v":70.023210007047197},{"$f":"RTD(\"srv.rtd\",\"\",\"PLAYERSRANKING\",\"VALE3\",\"40\",\"SALDO\",\"AVG_PRICE_2\")","v":70.128404637041101}]
[null,null,null,10,"IDEAL",{"$f":"RTD(\"srv.rtd\",\"\",\"PLAYERSRANKING\",\"VALE3\",\"1618\",\"SALDO\",\"QUANTITY\")","v":-1203},{"$f":"RTD(\"srv.rtd\",\"\",\"PLAYERSRANKING\",\"VALE3\",\"1618\",\"SALDO\",\"VOLQ\")","v":-837700},{"$f":"RTD(\"srv.rtd\",\"\",\"PLAYERSRANKING\",\"VALE3\",\"1618\",\"SALDO\",\"VOLF\")","v":-58995770},{"$f":"RTD(\"srv.rtd\",\"\",\"PLAYERSRANKING\",\"VALE3\",\"1618\",\"SALDO\",\"AVG_PRICE\")","v":70.152958410705295},{"$f":"RTD(\"srv.rtd\",\"\",\"PLAYERSRANKING\",\"VALE3\",\"1618\",\"SALDO\",\"AVG_PRICE_2\")","v":70.425892324221095}]
[null,null,null,11,"AGORA",{"$f":"RTD(\"srv.rtd\",\"\",\"PLAYERSRANKING\",\"VALE3\",\"39\",\"SALDO\",\"QUANTITY\")","v":25},{"$f":"RTD(\"srv.rtd\",\"\",\"PLAYERSRANKING\",\"VALE3\",\"39\",\"SALDO\",\"VOLQ\")","v":-146100},{"$f":"RTD(\"srv.rtd\",\"\",\"PLAYERSRANKING\",\"VALE3\",\"39\",\"SALDO\",\"VOLF\")","v":-10318734},{"$f":"RTD(\"srv.rtd\",\"\",\"PLAYERSRANKING\",\"VALE3\",\"39\",\"SALDO\",\"AVG_PRICE\")","v":70.0086174273859},{"$f":"RTD(\"srv.rtd\",\"\",\"PLAYERSRANKING\",\"VALE3\",\"39\",\"SALDO\",\"AVG_PRICE_2\")","v":70.627885010266894},null,null,null,{"$f":"SUM(O67:O73)","v":-2231}]
[null,null,null,12,"TULLETT",{"$f":"RTD(\"srv.rtd\",\"\",\"PLAYERSRANKING\",\"VALE3\",\"127\",\"SALDO\",\"QUANTITY\")","v":1657},{"$f":"RTD(\"srv.rtd\",\"\",\"PLAYERSRANKING\",\"VALE3\",\"127\",\"SALDO\",\"VOLQ\")","v":1086800},{"$f":"RTD(\"srv.rtd\",\"\",\"PLAYERSRANKING\",\"VALE3\",\"127\",\"SALDO\",\"VOLF\")","v":76640794},{"$f":"RTD(\"srv.rtd\",\"\",\"PLAYERSRANKING\",\"VALE3\",\"127\",\"SALDO\",\"AVG_PRICE\")","v":70.548419587291207},{"$f":"RTD(\"srv.rtd\",\"\",\"PLAYERSRANKING\",\"VALE3\",\"127\",\"SALDO\",\"AVG_PRICE_2\")","v":70.519685314685304}]
[null,null,null,13,"PLANNER",{"$f":"RTD(\"srv.rtd\",\"\",\"PLAYERSRANKING\",\"VALE3\",\"129\",\"SALDO\",\"QUANTITY\")","v":-118},{"$f":"RTD(\"srv.rtd\",\"\",\"PLAYERSRANKING\",\"VALE3\",\"129\",\"SALDO\",\"VOLQ\")","v":-42200},{"$f":"RTD(\"srv.rtd\",\"\",\"PLAYERSRANKING\",\"VALE3\",\"129\",\"SALDO\",\"VOLF\")","v":-2976316},{"$f":"RTD(\"srv.rtd\",\"\",\"PLAYERSRANKING\",\"VALE3\",\"129\",\"SALDO\",\"AVG_PRICE\")","v":70.530308370044096},{"$f":"RTD(\"srv.rtd\",\"\",\"PLAYERSRANKING\",\"VALE3\",\"129\",\"SALDO\",\"AVG_PRICE_2\")","v":70.528815165876793},null,null,null,null,null,{"$f":"SUM(P67:P74)","v":-1227400},{"$f":"SUM(Q67:Q74)","v":-85028752}]
[null,null,null,14,"CLEAR",{"$f":"RTD(\"srv.rtd\",\"\",\"PLAYERSRANKING\",\"VALE3\",\"308\",\"SALDO\",\"QUANTITY\")","v":59},{"$f":"RTD(\"srv.rtd\",\"\",\"PLAYERSRANKING\",\"VALE3\",\"308\",\"SALDO\",\"VOLQ\")","v":6900},{"$f":"RTD(\"srv.rtd\",\"\",\"PLAYERSRANKING\",\"VALE3\",\"308\",\"SALDO\",\"VOLF\")","v":468887},{"$f":"RTD(\"srv.rtd\",\"\",\"PLAYERSRANKING\",\"VALE3\",\"308\",\"SALDO\",\"AVG_PRICE\")","v":70.073716489166401},{"$f":"RTD(\"srv.rtd\",\"\",\"PLAYERSRANKING\",\"VALE3\",\"308\",\"SALDO\",\"AVG_PRICE_2\")","v":67.954637681159397}]
[null,null,null,15,"TERRA",{"$f":"RTD(\"srv.rtd\",\"\",\"PLAYERSRANKING\",\"VALE3\",\"107\",\"SALDO\",\"QUANTITY\")","v":-60},{"$f":"RTD(\"srv.rtd\",\"\",\"PLAYERSRANKING\",\"VALE3\",\"107\",\"SALDO\",\"VOLQ\")","v":-7100},{"$f":"RTD(\"srv.rtd\",\"\",\"PLAYERSRANKING\",\"VALE3\",\"107\",\"SALDO\",\"VOLF\")","v":-506183},{"$f":"RTD(\"srv.rtd\",\"\",\"PLAYERSRANKING\",\"VALE3\",\"107\",\"SALDO\",\"AVG_PRICE\")","v":69.774843492586498},{"$f":"RTD(\"srv.rtd\",\"\",\"PLAYERSRANKING\",\"VALE3\",\"107\",\"SALDO\",\"AVG_PRICE_2\")","v":71.293380281690204}]
[null,null,null,16,"INTER",{"$f":"RTD(\"srv.rtd\",\"\",\"PLAYERSRANKING\",\"VALE3\",\"1099\",\"SALDO\",\"QUANTITY\")","v":63},{"$f":"RTD(\"srv.rtd\",\"\",\"PLAYERSRANKING\",\"VALE3\",\"1099\",\"SALDO\",\"VOLQ\")","v":7400},{"$f":"RTD(\"srv.rtd\",\"\",\"PLAYERSRANKING\",\"VALE3\",\"1099\",\"SALDO\",\"VOLF\")","v":493726},{"$f":"RTD(\"srv.rtd\",\"\",\"PLAYERSRANKING\",\"VALE3\",\"1099\",\"SALDO\",\"AVG_PRICE\")","v":70.179072039071997},{"$f":"RTD(\"srv.rtd\",\"\",\"PLAYERSRANKING\",\"VALE3\",\"1099\",\"SALDO\",\"AVG_PRICE_2\")","v":66.719729729729707}]
[null,null,null,17,"EASYNVEST",{"$f":"RTD(\"srv.rtd\",\"\",\"PLAYERSRANKING\",\"VALE3\",\"90\",\"SALDO\",\"QUANTITY\")","v":16},{"$f":"RTD(\"srv.rtd\",\"\",\"PLAYERSRANKING\",\"VALE3\",\"90\",\"SALDO\",\"VOLQ\")","v":16200},{"$f":"RTD(\"srv.rtd\",\"\",\"PLAYERSRANKING\",\"VALE3\",\"90\",\"SALDO\",\"VOLF\")","v":1094012},{"$f":"RTD(\"srv.rtd\",\"\",\"PLAYERSRANKING\",\"VALE3\",\"90\",\"SALDO\",\"AVG_PRICE\")","v":70.024323827046899},{"$f":"RTD(\"srv.rtd\",\"\",\"PLAYERSRANKING\",\"VALE3\",\"90\",\"SALDO\",\"AVG_PRICE_2\")","v":67.531604938271599}]
[null,null,null,18,"MIRAE",{"$f":"RTD(\"srv.rtd\",\"\",\"PLAYERSRANKING\",\"VALE3\",\"262\",\"SALDO\",\"QUANTITY\")","v":-92},{"$f":"RTD(\"srv.rtd\",\"\",\"PLAYERSRANKING\",\"VALE3\",\"262\",\"SALDO\",\"VOLQ\")","v":-13100},{"$f":"RTD(\"srv.rtd\",\"\",\"PLAYERSRANKING\",\"VALE3\",\"262\",\"SALDO\",\"VOLF\")","v":-924710},{"$f":"RTD(\"srv.rtd\",\"\",\"PLAYERSRANKING\",\"VALE3\",\"262\",\"SALDO\",\"AVG_PRICE\")","v":70.437931034482801},{"$f":"RTD(\"srv.rtd\",\"\",\"PLAYERSRANKING\",\"VALE3\",\"262\",\"SALDO\",\"AVG_PRICE_2\")","v":70.588549618320599}]
[null,null,null,19,"FC STONE",{"$f":"RTD(\"srv.rtd\",\"\",\"PLAYERSRANKING\",\"VALE3\",\"1130\",\"SALDO\",\"QUANTITY\")","v":-178},{"$f":"RTD(\"srv.rtd\",\"\",\"PLAYERSRANKING\",\"VALE3\",\"1130\",\"SALDO\",\"VOLQ\")","v":-90000},{"$f":"RTD(\"srv.rtd\",\"\",\"PLAYERSRANKING\",\"VALE3\",\"1130\",\"SALDO\",\"VOLF\")","v":-6281252},{"$f":"RTD(\"srv.rtd\",\"\",\"PLAYERSRANKING\",\"VALE3\",\"1130\",\"SALDO\",\"AVG_PRICE\")","v":69.806415384615406},{"$f":"RTD(\"srv.rtd\",\"\",\"PLAYERSRANKING\",\"VALE3\",\"1130\",\"SALDO\",\"AVG_PRICE_2\")","v":69.791688888888899}]
[null,null,null,20,"VOTORANTIM",{"$f":"RTD(\"srv.rtd\",\"\",\"PLAYERSRANKING\",\"VALE3\",\"21\",\"SALDO\",\"QUANTITY\")","v":-52},{"$f":"RTD(\"srv.rtd\",\"\",\"PLAYERSRANKING\",\"VALE3\",\"21\",\"SALDO\",\"VOLQ\")","v":-27500},{"$f":"RTD(\"srv.rtd\",\"\",\"PLAYERSRANKING\",\"VALE3\",\"21\",\"SALDO\",\"VOLF\")","v":-1987405},{"$f":"RTD(\"srv.rtd\",\"\",\"PLAYERSRANKING\",\"VALE3\",\"21\",\"SALDO\",\"AVG_PRICE\")","v":70.204338085539703},{"$f":"RTD(\"srv.rtd\",\"\",\"PLAYERSRANKING\",\"VALE3\",\"21\",\"SALDO\",\"AVG_PRICE_2\")","v":72.269272727272707}]
[null,null,null,21,"ELITE",{"$f":"RTD(\"srv.rtd\",\"\",\"PLAYERSRANKING\",\"VALE3\",\"174\",\"SALDO\",\"QUANTITY\")","v":5},{"$f":"RTD(\"srv.rtd\",\"\",\"PLAYERSRANKING\",\"VALE3\",\"174\",\"SALDO\",\"VOLQ\")","v":-2300},{"$f":"RTD(\"srv.rtd\",\"\",\"PLAYERSRANKING\",\"VALE3\",\"174\",\"SALDO\",\"VOLF\")","v":-167897},{"$f":"RTD(\"srv.rtd\",\"\",\"PLAYERSRANKING\",\"VALE3\",\"174\",\"SALDO\",\"AVG_PRICE\")","v":69.999171270718193},{"$f":"RTD(\"srv.rtd\",\"\",\"PLAYERSRANKING\",\"VALE3\",\"174\",\"SALDO\",\"AVG_PRICE_2\")","v":72.998695652173893}]
[null,null,null,22,"GENIAL",{"$f":"RTD(\"srv.rtd\",\"\",\"PLAYERSRANKING\",\"VALE3\",\"120\",\"SALDO\",\"QUANTITY\")","v":129},{"$f":"RTD(\"srv.rtd\",\"\",\"PLAYERSRANKING\",\"VALE3\",\"120\",\"SALDO\",\"VOLQ\")","v":-113900},{"$f":"RTD(\"srv.rtd\",\"\",\"PLAYERSRANKING\",\"VALE3\",\"120\",\"SALDO\",\"VOLF\")","v":-8105568},{"$f":"RTD(\"srv.rtd\",\"\",\"PLAYERSRANKING\",\"VALE3\",\"120\",\"SALDO\",\"AVG_PRICE\")","v":70.146839816477197},{"$f":"RTD(\"srv.rtd\",\"\",\"PLAYERSRANKING\",\"VALE3\",\"120\",\"SALDO\",\"AVG_PRICE_2\")","v":71.163898156277398}]
[null,null,null,23,"NOVA FUTURA",{"$f":"RTD(\"srv.rtd\",\"\",\"PLAYERSRANKING\",\"VALE3\",\"93\",\"SALDO\",\"QUANTITY\")","v":46},{"$f":"RTD(\"srv.rtd\",\"\",\"PLAYERSRANKING\",\"VALE3\",\"93\",\"SALDO\",\"VOLQ\")","v":115700},{"$f":"RTD(\"srv.rtd\",\"\",\"PLAYERSRANKING\",\"VALE3\",\"93\",\"SALDO\",\"VOLF\")","v":8031587},{"$f":"RTD(\"srv.rtd\",\"\",\"PLAYERSRANKING\",\"VALE3\",\"93\",\"SALDO\",\"AVG_PRICE\")","v":69.865722439170895},{"$f":"RTD(\"srv.rtd\",\"\",\"PLAYERSRANKING\",\"VALE3\",\"93\",\"SALDO\",\"AVG_PRICE_2\")","v":69.417346585998303}]
[null,null,null,24,"COMMCOR",{"$f":"RTD(\"srv.rtd\",\"\",\"PLAYERSRANKING\",\"VALE3\",\"115\",\"SALDO\",\"QUANTITY\")","v":-4},{"$f":"RTD(\"srv.rtd\",\"\",\"PLAYERSRANKING\",\"VALE3\",\"115\",\"SALDO\",\"VOLQ\")","v":-500},{"$f":"RTD(\"srv.rtd\",\"\",\"PLAYERSRANKING\",\"VALE3\",\"115\",\"SALDO\",\"VOLF\")","v":-36835},{"$f":"RTD(\"srv.rtd\",\"\",\"PLAYERSRANKING\",\"VALE3\",\"115\",\"SALDO\",\"AVG_PRICE\")","v":70.001566265060205},{"$f":"RTD(\"srv.rtd\",\"\",\"PLAYERSRANKING\",\"VALE3\",\"115\",\"SALDO\",\"AVG_PRICE_2\")","v":73.67}]
[null,null,null,25,"GOLDMAN SACHS",{"$f":"RTD(\"srv.rtd\",\"\",\"PLAYERSRANKING\",\"VALE3\",\"238\",\"SALDO\",\"QUANTITY\")","v":713},{"$f":"RTD(\"srv.rtd\",\"\",\"PLAYERSRANKING\",\"VALE3\",\"238\",\"SALDO\",\"VOLQ\")","v":196100},{"$f":"RTD(\"srv.rtd\",\"\",\"PLAYERSRANKING\",\"VALE3\",\"238\",\"SALDO\",\"VOLF\")","v":13697335},{"$f":"RTD(\"srv.rtd\",\"\",\"PLAYERSRANKING\",\"VALE3\",\"238\",\"SALDO\",\"AVG_PRICE\")","v":69.923008992391104},{"$f":"RTD(\"srv.rtd\",\"\",\"PLAYERSRANKING\",\"VALE3\",\"238\",\"SALDO\",\"AVG_PRICE_2\")","v":69.848725140234606}]
[null,null,null,26,"BANRISUL",{"$f":"RTD(\"srv.rtd\",\"\",\"PLAYERSRANKING\",\"VALE3\",\"172\",\"SALDO\",\"QUANTITY\")","v":0},{"$f":"RTD(\"srv.rtd\",\"\",\"PLAYERSRANKING\",\"VALE3\",\"172\",\"SALDO\",\"VOLQ\")","v":0},{"$f":"RTD(\"srv.rtd\",\"\",\"PLAYERSRANKING\",\"VALE3\",\"172\",\"SALDO\",\"VOLF\")","v":-1329},{"$f":"RTD(\"srv.rtd\",\"\",\"PLAYERSRANKING\",\"VALE3\",\"172\",\"SALDO\",\"AVG_PRICE\")","v":70.019374999999997},{"$f":"RTD(\"srv.rtd\",\"\",\"PLAYERSRANKING\",\"VALE3\",\"172\",\"SALDO\",\"AVG_PRICE_2\")","v":82.03}]
[null,null,null,27,"SENSO",{"$f":"RTD(\"srv.rtd\",\"\",\"PLAYERSRANKING\",\"VALE3\",\"191\",\"SALDO\",\"QUANTITY\")","v":"0"},{"$f":"RTD(\"srv.rtd\",\"\",\"PLAYERSRANKING\",\"VALE3\",\"191\",\"SALDO\",\"VOLQ\")","v":"0"},{"$f":"RTD(\"srv.rtd\",\"\",\"PLAYERSRANKING\",\"VALE3\",\"191\",\"SALDO\",\"VOLF\")","v":"0"},{"$f":"RTD(\"srv.rtd\",\"\",\"PLAYERSRANKING\",\"VALE3\",\"191\",\"SALDO\",\"AVG_PRICE\")","v":"0"},{"$f":"RTD(\"srv.rtd\",\"\",\"PLAYERSRANKING\",\"VALE3\",\"191\",\"SALDO\",\"AVG_PRICE_2\")","v":"0"}]
[null,null,null,28,"ORAMA",{"$f":"RTD(\"srv.rtd\",\"\",\"PLAYERSRANKING\",\"VALE3\",\"3701\",\"SALDO\",\"QUANTITY\")","v":-4},{"$f":"RTD(\"srv.rtd\",\"\",\"PLAYERSRANKING\",\"VALE3\",\"3701\",\"SALDO\",\"VOLQ\")","v":4400},{"$f":"RTD(\"srv.rtd\",\"\",\"PLAYERSRANKING\",\"VALE3\",\"3701\",\"SALDO\",\"VOLF\")","v":308709},{"$f":"RTD(\"srv.rtd\",\"\",\"PLAYERSRANKING\",\"VALE3\",\"3701\",\"SALDO\",\"AVG_PRICE\")","v":70.165543478260901},{"$f":"RTD(\"srv.rtd\",\"\",\"PLAYERSRANKING\",\"VALE3\",\"3701\",\"SALDO\",\"AVG_PRICE_2\")","v":70.161136363636402}]
[null,null,null,29,"AMARIL FRANKLIN",{"$f":"RTD(\"srv.rtd\",\"\",\"PLAYERSRANKING\",\"VALE3\",\"226\",\"SALDO\",\"QUANTITY\")","v":"0"},{"$f":"RTD(\"srv.rtd\",\"\",\"PLAYERSRANKING\",\"VALE3\",\"226\",\"SALDO\",\"VOLQ\")","v":"0"},{"$f":"RTD(\"srv.rtd\",\"\",\"PLAYERSRANKING\",\"VALE3\",\"226\",\"SALDO\",\"VOLF\")","v":"0"},{"$f":"RTD(\"srv.rtd\",\"\",\"PLAYERSRANKING\",\"VALE3\",\"226\",\"SALDO\",\"AVG_PRICE\")","v":"0"},{"$f":"RTD(\"srv.rtd\",\"\",\"PLAYERSRANKING\",\"VALE3\",\"226\",\"SALDO\",\"AVG_PRICE_2\")","v":"0"}]
[null,null,null,30,"ICAP",{"$f":"RTD(\"srv.rtd\",\"\",\"PLAYERSRANKING\",\"VALE3\",\"735\",\"SALDO\",\"QUANTITY\")","v":-1},{"$f":"RTD(\"srv.rtd\",\"\",\"PLAYERSRANKING\",\"VALE3\",\"735\",\"SALDO\",\"VOLQ\")","v":-1700},{"$f":"RTD(\"srv.rtd\",\"\",\"PLAYERSRANKING\",\"VALE3\",\"735\",\"SALDO\",\"VOLF\")","v":-123905},{"$f":"RTD(\"srv.rtd\",\"\",\"PLAYERSRANKING\",\"VALE3\",\"735\",\"SALDO\",\"AVG_PRICE\")","v":70.291348314606694},{"$f":"RTD(\"srv.rtd\",\"\",\"PLAYERSRANKING\",\"VALE3\",\"735\",\"SALDO\",\"AVG_PRICE_2\")","v":72.885294117647106}]
[null,null,null,31,"CODEPE",{"$f":"RTD(\"srv.rtd\",\"\",\"PLAYERSRANKING\",\"VALE3\",\"234\",\"SALDO\",\"QUANTITY\")","v":"0"},{"$f":"RTD(\"srv.rtd\",\"\",\"PLAYERSRANKING\",\"VALE3\",\"234\",\"SALDO\",\"VOLQ\")","v":"0"},{"$f":"RTD(\"srv.rtd\",\"\",\"PLAYERSRANKING\",\"VALE3\",\"234\",\"SALDO\",\"VOLF\")","v":"0"},{"$f":"RTD(\"srv.rtd\",\"\",\"PLAYERSRANKING\",\"VALE3\",\"234\",\"SALDO\",\"AVG_PRICE\")","v":"0"},{"$f":"RTD(\"srv.rtd\",\"\",\"PLAYERSRANKING\",\"VALE3\",\"234\",\"SALDO\",\"AVG_PRICE_2\")","v":"0"}]
[null,null,null,32,"SOCOPA",{"$f":"RTD(\"srv.rtd\",\"\",\"PLAYERSRANKING\",\"VALE3\",\"58\",\"SALDO\",\"QUANTITY\")","v":"0"},{"$f":"RTD(\"srv.rtd\",\"\",\"PLAYERSRANKING\",\"VALE3\",\"58\",\"SALDO\",\"VOLQ\")","v":"0"},{"$f":"RTD(\"srv.rtd\",\"\",\"PLAYERSRANKING\",\"VALE3\",\"58\",\"SALDO\",\"VOLF\")","v":"0"},{"$f":"RTD(\"srv.rtd\",\"\",\"PLAYERSRANKING\",\"VALE3\",\"58\",\"SALDO\",\"AVG_PRICE\")","v":"0"},{"$f":"RTD(\"srv.rtd\",\"\",\"PLAYERSRANKING\",\"VALE3\",\"58\",\"SALDO\",\"AVG_PRICE_2\")","v":"0"}]
[null,null,null,33,"CORRETORA GERAL",{"$f":"RTD(\"srv.rtd\",\"\",\"PLAYERSRANKING\",\"VALE3\",\"186\",\"SALDO\",\"QUANTITY\")","v":"0"},{"$f":"RTD(\"srv.rtd\",\"\",\"PLAYERSRANKING\",\"VALE3\",\"186\",\"SALDO\",\"VOLQ\")","v":"0"},{"$f":"RTD(\"srv.rtd\",\"\",\"PLAYERSRANKING\",\"VALE3\",\"186\",\"SALDO\",\"VOLF\")","v":"0"},{"$f":"RTD(\"srv.rtd\",\"\",\"PLAYERSRANKING\",\"VALE3\",\"186\",\"SALDO\",\"AVG_PRICE\")","v":"0"},{"$f":"RTD(\"srv.rtd\",\"\",\"PLAYERSRANKING\",\"VALE3\",\"186\",\"SALDO\",\"AVG_PRICE_2\")","v":"0"}]
[null,null,null,34,"SITA",{"$f":"RTD(\"srv.rtd\",\"\",\"PLAYERSRANKING\",\"VALE3\",\"187\",\"SALDO\",\"QUANTITY\")","v":11},{"$f":"RTD(\"srv.rtd\",\"\",\"PLAYERSRANKING\",\"VALE3\",\"187\",\"SALDO\",\"VOLQ\")","v":13200},{"$f":"RTD(\"srv.rtd\",\"\",\"PLAYERSRANKING\",\"VALE3\",\"187\",\"SALDO\",\"VOLF\")","v":920360},{"$f":"RTD(\"srv.rtd\",\"\",\"PLAYERSRANKING\",\"VALE3\",\"187\",\"SALDO\",\"AVG_PRICE\")","v":69.724242424242405},{"$f":"RTD(\"srv.rtd\",\"\",\"PLAYERSRANKING\",\"VALE3\",\"187\",\"SALDO\",\"AVG_PRICE_2\")","v":69.724242424242405}]
[null,null,null,35,"MERC. DO BRASIL",{"$f":"RTD(\"srv.rtd\",\"\",\"PLAYERSRANKING\",\"VALE3\",\"106\",\"SALDO\",\"QUANTITY\")","v":1},{"$f":"RTD(\"srv.rtd\",\"\",\"PLAYERSRANKING\",\"VALE3\",\"106\",\"SALDO\",\"VOLQ\")","v":500},{"$f":"RTD(\"srv.rtd\",\"\",\"PLAYERSRANKING\",\"VALE3\",\"106\",\"SALDO\",\"VOLF\")","v":34850},{"$f":"RTD(\"srv.rtd\",\"\",\"PLAYERSRANKING\",\"VALE3\",\"106\",\"SALDO\",\"AVG_PRICE\")","v":69.7},{"$f":"RTD(\"srv.rtd\",\"\",\"PLAYERSRANKING\",\"VALE3\",\"106\",\"SALDO\",\"AVG_PRICE_2\")","v":69.7}]
[null,null,null,36,"MODAL",{"$f":"RTD(\"srv.rtd\",\"\",\"PLAYERSRANKING\",\"VALE3\",\"1982\",\"SALDO\",\"QUANTITY\")","v":-79},{"$f":"RTD(\"srv.rtd\",\"\",\"PLAYERSRANKING\",\"VALE3\",\"1982\",\"SALDO\",\"VOLQ\")","v":-12700},{"$f":"RTD(\"srv.rtd\",\"\",\"PLAYERSRANKING\",\"VALE3\",\"1982\",\"SALDO\",\"VOLF\")","v":-905701},{"$f":"RTD(\"srv.rtd\",\"\",\"PLAYERSRANKING\",\"VALE3\",\"1982\",\"SALDO\",\"AVG_PRICE\")","v":70.145954454119206},{"$f":"RTD(\"srv.rtd\",\"\",\"PLAYERSRANKING\",\"VALE3\",\"1982\",\"SALDO\",\"AVG_PRICE_2\")","v":71.315039370078694}]
[null,null,null,37,"WARREN",{"$f":"RTD(\"srv.rtd\",\"\",\"PLAYERSRANKING\",\"VALE3\",\"190\",\"SALDO\",\"QUANTITY\")","v":0},{"$f":"RTD(\"srv.rtd\",\"\",\"PLAYERSRANKING\",\"VALE3\",\"190\",\"SALDO\",\"VOLQ\")","v":-100},{"$f":"RTD(\"srv.rtd\",\"\",\"PLAYERSRANKING\",\"VALE3\",\"190\",\"SALDO\",\"VOLF\")","v":-6810},{"$f":"RTD(\"srv.rtd\",\"\",\"PLAYERSRANKING\",\"VALE3\",\"190\",\"SALDO\",\"AVG_PRICE\")","v":69.488571428571404},{"$f":"RTD(\"srv.rtd\",\"\",\"PLAYERSRANKING\",\"VALE3\",\"190\",\"SALDO\",\"AVG_PRICE_2\")","v":68.099999999999994}]
[null,null,null,38,"TORO",{"$f":"RTD(\"srv.rtd\",\"\",\"PLAYERSRANKING\",\"VALE3\",\"4090\",\"SALDO\",\"QUANTITY\")","v":15},{"$f":"RTD(\"srv.rtd\",\"\",\"PLAYERSRANKING\",\"VALE3\",\"4090\",\"SALDO\",\"VOLQ\")","v":5300},{"$f":"RTD(\"srv.rtd\",\"\",\"PLAYERSRANKING\",\"VALE3\",\"4090\",\"SALDO\",\"VOLF\")","v":366547},{"$f":"RTD(\"srv.rtd\",\"\",\"PLAYERSRANKING\",\"VALE3\",\"4090\",\"SALDO\",\"AVG_PRICE\")","v":70.093715736040593},{"$f":"RTD(\"srv.rtd\",\"\",\"PLAYERSRANKING\",\"VALE3\",\"4090\",\"SALDO\",\"AVG_PRICE_2\")","v":69.159811320754699}]
[null,null,null,39,"SCOTIABANK",{"$f":"RTD(\"srv.rtd\",\"\",\"PLAYERSRANKING\",\"VALE3\",\"7078\",\"SALDO\",\"QUANTITY\")","v":"0"},{"$f":"RTD(\"srv.rtd\",\"\",\"PLAYERSRANKING\",\"VALE3\",\"7078\",\"SALDO\",\"VOLQ\")","v":"0"},{"$f":"RTD(\"srv.rtd\",\"\",\"PLAYERSRANKING\",\"VALE3\",\"7078\",\"SALDO\",\"VOLF\")","v":"0"},{"$f":"RTD(\"srv.rtd\",\"\",\"PLAYERSRANKING\",\"VALE3\",\"7078\",\"SALDO\",\"AVG_PRICE\")","v":"0"},{"$f":"RTD(\"srv.rtd\",\"\",\"PLAYERSRANKING\",\"VALE3\",\"7078\",\"SALDO\",\"AVG_PRICE_2\")","v":"0"}]
[null,null,null,40,"SANTANDER",{"$f":"RTD(\"srv.rtd\",\"\",\"PLAYERSRANKING\",\"VALE3\",\"27\",\"SALDO\",\"QUANTITY\")","v":-11},{"$f":"RTD(\"srv.rtd\",\"\",\"PLAYERSRANKING\",\"VALE3\",\"27\",\"SALDO\",\"VOLQ\")","v":158500},{"$f":"RTD(\"srv.rtd\",\"\",\"PLAYERSRANKING\",\"VALE3\",\"27\",\"SALDO\",\"VOLF\")","v":11312027},{"$f":"RTD(\"srv.rtd\",\"\",\"PLAYERSRANKING\",\"VALE3\",\"27\",\"SALDO\",\"AVG_PRICE\")","v":70.361446510504706},{"$f":"RTD(\"srv.rtd\",\"\",\"PLAYERSRANKING\",\"VALE3\",\"27\",\"SALDO\",\"AVG_PRICE_2\")","v":71.369255520504694}]
[null,null,null,41,"VITREO",{"$f":"RTD(\"srv.rtd\",\"\",\"PLAYERSRANKING\",\"VALE3\",\"1855\",\"SALDO\",\"QUANTITY\")","v":5},{"$f":"RTD(\"srv.rtd\",\"\",\"PLAYERSRANKING\",\"VALE3\",\"1855\",\"SALDO\",\"VOLQ\")","v":-300},{"$f":"RTD(\"srv.rtd\",\"\",\"PLAYERSRANKING\",\"VALE3\",\"1855\",\"SALDO\",\"VOLF\")","v":-21055},{"$f":"RTD(\"srv.rtd\",\"\",\"PLAYERSRANKING\",\"VALE3\",\"1855\",\"SALDO\",\"AVG_PRICE\")","v":70.196666666666701},{"$f":"RTD(\"srv.rtd\",\"\",\"PLAYERSRANKING\",\"VALE3\",\"1855\",\"SALDO\",\"AVG_PRICE_2\")","v":70.183333333333294}]
[null,null,null,42,"BRADESCO",{"$f":"RTD(\"srv.rtd\",\"\",\"PLAYERSRANKING\",\"VALE3\",\"72\",\"SALDO\",\"QUANTITY\")","v":-253},{"$f":"RTD(\"srv.rtd\",\"\",\"PLAYERSRANKING\",\"VALE3\",\"72\",\"SALDO\",\"VOLQ\")","v":-124400},{"$f":"RTD(\"srv.rtd\",\"\",\"PLAYERSRANKING\",\"VALE3\",\"72\",\"SALDO\",\"VOLF\")","v":-8763520},{"$f":"RTD(\"srv.rtd\",\"\",\"PLAYERSRANKING\",\"VALE3\",\"72\",\"SALDO\",\"AVG_PRICE\")","v":70.055928906774},{"$f":"RTD(\"srv.rtd\",\"\",\"PLAYERSRANKING\",\"VALE3\",\"72\",\"SALDO\",\"AVG_PRICE_2\")","v":70.446302250803896}]
[null,null,null,43,"CM CAPITAL",{"$f":"RTD(\"srv.rtd\",\"\",\"PLAYERSRANKING\",\"VALE3\",\"88\",\"SALDO\",\"QUANTITY\")","v":-38},{"$f":"RTD(\"srv.rtd\",\"\",\"PLAYERSRANKING\",\"VALE3\",\"88\",\"SALDO\",\"VOLQ\")","v":-16300},{"$f":"RTD(\"srv.rtd\",\"\",\"PLAYERSRANKING\",\"VALE3\",\"88\",\"SALDO\",\"VOLF\")","v":-1129301},{"$f":"RTD(\"srv.rtd\",\"\",\"PLAYERSRANKING\",\"VALE3\",\"88\",\"SALDO\",\"AVG_PRICE\")","v":69.789433427762006},{"$f":"RTD(\"srv.rtd\",\"\",\"PLAYERSRANKING\",\"VALE3\",\"88\",\"SALDO\",\"AVG_PRICE_2\")","v":69.282269938650302}]
[null,null,null,44,"C6 BANK",{"$f":"RTD(\"srv.rtd\",\"\",\"PLAYERSRANKING\",\"VALE3\",\"6003\",\"SALDO\",\"QUANTITY\")","v":-50},{"$f":"RTD(\"srv.rtd\",\"\",\"PLAYERSRANKING\",\"VALE3\",\"6003\",\"SALDO\",\"VOLQ\")","v":38800},{"$f":"RTD(\"srv.rtd\",\"\",\"PLAYERSRANKING\",\"VALE3\",\"6003\",\"SALDO\",\"VOLF\")","v":2740133},{"$f":"RTD(\"srv.rtd\",\"\",\"PLAYERSRANKING\",\"VALE3\",\"6003\",\"SALDO\",\"AVG_PRICE\")","v":70.691025132275101},{"$f":"RTD(\"srv.rtd\",\"\",\"PLAYERSRANKING\",\"VALE3\",\"6003\",\"SALDO\",\"AVG_PRICE_2\")","v":70.621984536082493}]
[null,null,null,45,"ITAU",{"$f":"RTD(\"srv.rtd\",\"\",\"PLAYERSRANKING\",\"VALE3\",\"114\",\"SALDO\",\"QUANTITY\")","v":1462},{"$f":"RTD(\"srv.rtd\",\"\",\"PLAYERSRANKING\",\"VALE3\",\"114\",\"SALDO\",\"VOLQ\")","v":679300},{"$f":"RTD(\"srv.rtd\",\"\",\"PLAYERSRANKING\",\"VALE3\",\"114\",\"SALDO\",\"VOLF\")","v":47649031},{"$f":"RTD(\"srv.rtd\",\"\",\"PLAYERSRANKING\",\"VALE3\",\"114\",\"SALDO\",\"AVG_PRICE\")","v":70.262870113734095},{"$f":"RTD(\"srv.rtd\",\"\",\"PLAYERSRANKING\",\"VALE3\",\"114\",\"SALDO\",\"AVG_PRICE_2\")","v":70.144311791550095}]
[null,null,null,46,"SAFRA",{"$f":"RTD(\"srv.rtd\",\"\",\"PLAYERSRANKING\",\"VALE3\",\"59\",\"SALDO\",\"QUANTITY\")","v":1274},{"$f":"RTD(\"srv.rtd\",\"\",\"PLAYERSRANKING\",\"VALE3\",\"59\",\"SALDO\",\"VOLQ\")","v":248000},{"$f":"RTD(\"srv.rtd\",\"\",\"PLAYERSRANKING\",\"VALE3\",\"59\",\"SALDO\",\"VOLF\")","v":17467115},{"$f":"RTD(\"srv.rtd\",\"\",\"PLAYERSRANKING\",\"VALE3\",\"59\",\"SALDO\",\"AVG_PRICE\")","v":70.518656828414194},{"$f":"RTD(\"srv.rtd\",\"\",\"PLAYERSRANKING\",\"VALE3\",\"59\",\"SALDO\",\"AVG_PRICE_2\")","v":70.431915322580593}]
[null,null,null,47,"MORGAN STANLEY",{"$f":"RTD(\"srv.rtd\",\"\",\"PLAYERSRANKING\",\"VALE3\",\"40\",\"SALDO\",\"QUANTITY\")","v":-2125},{"$f":"RTD(\"srv.rtd\",\"\",\"PLAYERSRANKING\",\"VALE3\",\"40\",\"SALDO\",\"VOLQ\")","v":-724600},{"$f":"RTD(\"srv.rtd\",\"\",\"PLAYERSRANKING\",\"VALE3\",\"40\",\"SALDO\",\"VOLF\")","v":-50815042},{"$f":"RTD(\"srv.rtd\",\"\",\"PLAYERSRANKING\",\"VALE3\",\"40\",\"SALDO\",\"AVG_PRICE\")","v":70.023210007047197},{"$f":"RTD(\"srv.rtd\",\"\",\"PLAYERSRANKING\",\"VALE3\",\"40\",\"SALDO\",\"AVG_PRICE_2\")","v":70.128404637041101}]
[null,null,null,48,"BTG",{"$f":"RTD(\"srv.rtd\",\"\",\"PLAYERSRANKING\",\"VALE3\",\"85\",\"SALDO\",\"QUANTITY\")","v":905},{"$f":"RTD(\"srv.rtd\",\"\",\"PLAYERSRANKING\",\"VALE3\",\"85\",\"SALDO\",\"VOLQ\")","v":418500},{"$f":"RTD(\"srv.rtd\",\"\",\"PLAYERSRANKING\",\"VALE3\",\"85\",\"SALDO\",\"VOLF\")","v":28910788},{"$f":"RTD(\"srv.rtd\",\"\",\"PLAYERSRANKING\",\"VALE3\",\"85\",\"SALDO\",\"AVG_PRICE\")","v":69.834154364299806},{"$f":"RTD(\"srv.rtd\",\"\",\"PLAYERSRANKING\",\"VALE3\",\"85\",\"SALDO\",\"AVG_PRICE_2\")","v":69.081930704898397}]
[null,null,null,49,"MERRILL LYNCH",{"$f":"RTD(\"srv.rtd\",\"\",\"PLAYERSRANKING\",\"VALE3\",\"13\",\"SALDO\",\"QUANTITY\")","v":-398},{"$f":"RTD(\"srv.rtd\",\"\",\"PLAYERSRANKING\",\"VALE3\",\"13\",\"SALDO\",\"VOLQ\")","v":-141100},{"$f":"RTD(\"srv.rtd\",\"\",\"PLAYERSRANKING\",\"VALE3\",\"13\",\"SALDO\",\"VOLF\")","v":-9382306},{"$f":"RTD(\"srv.rtd\",\"\",\"PLAYERSRANKING\",\"VALE3\",\"13\",\"SALDO\",\"AVG_PRICE\")","v":70.0679093081541},{"$f":"RTD(\"srv.rtd\",\"\",\"PLAYERSRANKING\",\"VALE3\",\"13\",\"SALDO\",\"AVG_PRICE_2\")","v":66.494018426647798}]
[]
[]
[]
[]
[]
[null,null,null,null,null,null,"ITUB4"]
[]
[]
[null,null,null,1,"MERRILL LYNCH",{"$f":"RTD(\"srv.rtd\",\"\",\"PLAYERSRANKING\",\"ITUB4\",\"13\",\"SALDO\",\"QUANTITY\")","v":68},{"$f":"RTD(\"srv.rtd\",\"\",\"PLAYERSRANKING\",\"ITUB4\",\"13\",\"SALDO\",\"VOLQ\")","v":17600},{"$f":"RTD(\"srv.rtd\",\"\",\"PLAYERSRANKING\",\"ITUB4\",\"13\",\"SALDO\",\"VOLF\")","v":475234},{"$f":"RTD(\"srv.rtd\",\"\",\"PLAYERSRANKING\",\"ITUB4\",\"13\",\"SALDO\",\"AVG_PRICE\")","v":27.097142857142899},{"$f":"RTD(\"srv.rtd\",\"\",\"PLAYERSRANKING\",\"ITUB4\",\"13\",\"SALDO\",\"AVG_PRICE_2\")","v":27.001931818181799},null,null,null,"CORRETORA","QTD","VOL(Q)","VOL($)","PT.MED(T)","PR.MED(Saldo)"]
[null,null,null,2,"BTG",{"$f":"RTD(\"srv.rtd\",\"\",\"PLAYERSRANKING\",\"ITUB4\",\"85\",\"SALDO\",\"QUANTITY\")","v":-106},{"$f":"RTD(\"srv.rtd\",\"\",\"PLAYERSRANKING\",\"ITUB4\",\"85\",\"SALDO\",\"VOLQ\")","v":83700},{"$f":"RTD(\"srv.rtd\",\"\",\"PLAYERSRANKING\",\"ITUB4\",\"85\",\"SALDO\",\"VOLF\")","v":2265991},{"$f":"RTD(\"srv.rtd\",\"\",\"PLAYERSRANKING\",\"ITUB4\",\"85\",\"SALDO\",\"AVG_PRICE\")","v":26.9359089848308},{"$f":"RTD(\"srv.rtd\",\"\",\"PLAYERSRANKING\",\"ITUB4\",\"85\",\"SALDO\",\"AVG_PRICE_2\")","v":27.0727718040621},null,null,null,"MERRILL LYNCH",{"$f":"RTD(\"srv.rtd\",\"\",\"PLAYERSRANKING\",\"ITUB4\",\"13\",\"SALDO\",\"QUANTITY\")","v":68},{"$f":"RTD(\"srv.rtd\",\"\",\"PLAYERSRANKING\",\"ITUB4\",\"13\",\"SALDO\",\"VOLQ\")","v":17600},{"$f":"RTD(\"srv.rtd\",\"\",\"PLAYERSRANKING\",\"ITUB4\",\"13\",\"SALDO\",\"VOLF\")","v":475234},{"$f":"RTD(\"srv.rtd\",\"\",\"PLAYERSRANKING\",\"ITUB4\",\"13\",\"SALDO\",\"AVG_PRICE\")","v":27.097142857142899},{"$f":"RTD(\"srv.rtd\",\"\",\"PLAYERSRANKING\",\"ITUB4\",\"13\",\"SALDO\",\"AVG_PRICE_2\")","v":27.001931818181799}]
[null,null,null,3,"MORGAN STANLEY",{"$f":"RTD(\"srv.rtd\",\"\",\"PLAYERSRANKING\",\"ITUB4\",\"40\",\"SALDO\",\"QUANTITY\")","v":-309},{"$f":"RTD(\"srv.rtd\",\"\",\"PLAYERSRANKING\",\"ITUB4\",\"40\",\"SALDO\",\"VOLQ\")","v":-74800},{"$f":"RTD(\"srv.rtd\",\"\",\"PLAYERSRANKING\",\"ITUB4\",\"40\",\"SALDO\",\"VOLF\")","v":-1991692},{"$f":"RTD(\"srv.rtd\",\"\",\"PLAYERSRANKING\",\"ITUB4\",\"40\",\"SALDO\",\"AVG_PRICE\")","v":26.918697001034101},{"$f":"RTD(\"srv.rtd\",\"\",\"PLAYERSRANKING\",\"ITUB4\",\"40\",\"SALDO\",\"AVG_PRICE_2\")","v":26.626898395721899},null,null,null,"MORGAN STANLEY",{"$f":"RTD(\"srv.rtd\",\"\",\"PLAYERSRANKING\",\"ITUB4\",\"40\",\"SALDO\",\"QUANTITY\")","v":-309},{"$f":"RTD(\"srv.rtd\",\"\",\"PLAYERSRANKING\",\"ITUB4\",\"40\",\"SALDO\",\"VOLQ\")","v":-74800},{"$f":"RTD(\"srv.rtd\",\"\",\"PLAYERSRANKING\",\"ITUB4\",\"40\",\"SALDO\",\"VOLF\")","v":-1991692},{"$f":"RTD(\"srv.rtd\",\"\",\"PLAYERSRANKING\",\"ITUB4\",\"40\",\"SALDO\",\"AVG_PRICE\")","v":26.918697001034101},{"$f":"RTD(\"srv.rtd\",\"\",\"PLAYERSRANKING\",\"ITUB4\",\"40\",\"SALDO\",\"AVG_PRICE_2\")","v":26.626898395721899}]
[null,null,null,4,"XP",{"$f":"RTD(\"srv.rtd\",\"\",\"PLAYERSRANKING\",\"ITUB4\",\"3\",\"SALDO\",\"QUANTITY\")","v":953},{"$f":"RTD(\"srv.rtd\",\"\",\"PLAYERSRANKING\",\"ITUB4\",\"3\",\"SALDO\",\"VOLQ\")","v":232400},{"$f":"RTD(\"srv.rtd\",\"\",\"PLAYERSRANKING\",\"ITUB4\",\"3\",\"SALDO\",\"VOLF\")","v":6268203},{"$f":"RTD(\"srv.rtd\",\"\",\"PLAYERSRANKING\",\"ITUB4\",\"3\",\"SALDO\",\"AVG_PRICE\")","v":26.932052263284501},{"$f":"RTD(\"srv.rtd\",\"\",\"PLAYERSRANKING\",\"ITUB4\",\"3\",\"SALDO\",\"AVG_PRICE_2\")","v":26.971613597246101},null,null,null,"GOLDMAN SACHS",{"$f":"RTD(\"srv.rtd\",\"\",\"PLAYERSRANKING\",\"ITUB4\",\"238\",\"SALDO\",\"QUANTITY\")","v":-123},{"$f":"RTD(\"srv.rtd\",\"\",\"PLAYERSRANKING\",\"ITUB4\",\"238\",\"SALDO\",\"VOLQ\")","v":-91300},{"$f":"RTD(\"srv.rtd\",\"\",\"PLAYERSRANKING\",\"ITUB4\",\"238\",\"SALDO\",\"VOLF\")","v":-2460394},{"$f":"RTD(\"srv.rtd\",\"\",\"PLAYERSRANKING\",\"ITUB4\",\"238\",\"SALDO\",\"AVG_PRICE\")","v":26.952651757188502},{"$f":"RTD(\"srv.rtd\",\"\",\"PLAYERSRANKING\",\"ITUB4\",\"238\",\"SALDO\",\"AVG_PRICE_2\")","v":26.9484556407448}]
[null,null,null,5,"GOLDMAN SACHS",{"$f":"RTD(\"srv.rtd\",\"\",\"PLAYERSRANKING\",\"ITUB4\",\"238\",\"SALDO\",\"QUANTITY\")","v":-123},{"$f":"RTD(\"srv.rtd\",\"\",\"PLAYERSRANKING\",\"ITUB4\",\"238\",\"SALDO\",\"VOLQ\")","v":-91300},{"$f":"RTD(\"srv.rtd\",\"\",\"PLAYERSRANKING\",\"ITUB4\",\"238\",\"SALDO\",\"VOLF\")","v":-2460394},{"$f":"RTD(\"srv.rtd\",\"\",\"PLAYERSRANKING\",\"ITUB4\",\"238\",\"SALDO\",\"AVG_PRICE\")","v":26.952651757188502},{"$f":"RTD(\"srv.rtd\",\"\",\"PLAYERSRANKING\",\"ITUB4\",\"238\",\"SALDO\",\"AVG_PRICE_2\")","v":26.9484556407448},null,null,null,"JP MORGAN",{"$f":"RTD(\"srv.rtd\",\"\",\"PLAYERSRANKING\",\"ITUB4\",\"16\",\"SALDO\",\"QUANTITY\")","v":2649},{"$f":"RTD(\"srv.rtd\",\"\",\"PLAYERSRANKING\",\"ITUB4\",\"16\",\"SALDO\",\"VOLQ\")","v":1243400},{"$f":"RTD(\"srv.rtd\",\"\",\"PLAYERSRANKING\",\"ITUB4\",\"16\",\"SALDO\",\"VOLF\")","v":33467969},{"$f":"RTD(\"srv.rtd\",\"\",\"PLAYERSRANKING\",\"ITUB4\",\"16\",\"SALDO\",\"AVG_PRICE\")","v":26.916802752906602},{"$f":"RTD(\"srv.rtd\",\"\",\"PLAYERSRANKING\",\"ITUB4\",\"16\",\"SALDO\",\"AVG_PRICE_2\")","v":26.916494289850402}]
[null,null,null,6,"BGC",{"$f":"RTD(\"srv.rtd\",\"\",\"PLAYERSRANKING\",\"ITUB4\",\"122\",\"SALDO\",\"QUANTITY\")","v":36},{"$f":"RTD(\"srv.rtd\",\"\",\"PLAYERSRANKING\",\"ITUB4\",\"122\",\"SALDO\",\"VOLQ\")","v":2900},{"$f":"RTD(\"srv.rtd\",\"\",\"PLAYERSRANKING\",\"ITUB4\",\"122\",\"SALDO\",\"VOLF\")","v":78114},{"$f":"RTD(\"srv.rtd\",\"\",\"PLAYERSRANKING\",\"ITUB4\",\"122\",\"SALDO\",\"AVG_PRICE\")","v":26.954901960784301},{"$f":"RTD(\"srv.rtd\",\"\",\"PLAYERSRANKING\",\"ITUB4\",\"122\",\"SALDO\",\"AVG_PRICE_2\")","v":26.935862068965498},null,null,null,"TULLETT",{"$f":"RTD(\"srv.rtd\",\"\",\"PLAYERSRANKING\",\"ITUB4\",\"127\",\"SALDO\",\"QUANTITY\")","v":-195},{"$f":"RTD(\"srv.rtd\",\"\",\"PLAYERSRANKING\",\"ITUB4\",\"127\",\"SALDO\",\"VOLQ\")","v":-67900},{"$f":"RTD(\"srv.rtd\",\"\",\"PLAYERSRANKING\",\"ITUB4\",\"127\",\"SALDO\",\"VOLF\")","v":-1822146},{"$f":"RTD(\"srv.rtd\",\"\",\"PLAYERSRANKING\",\"ITUB4\",\"127\",\"SALDO\",\"AVG_PRICE\")","v":26.9447972284492},{"$f":"RTD(\"srv.rtd\",\"\",\"PLAYERSRANKING\",\"ITUB4\",\"127\",\"SALDO\",\"AVG_PRICE_2\")","v":26.835729013254799}]
[null,null,null,7,"FC STONE",{"$f":"RTD(\"srv.rtd\",\"\",\"PLAYERSRANKING\",\"ITUB4\",\"1130\",\"SALDO\",\"QUANTITY\")","v":"0"},{"$f":"RTD(\"srv.rtd\",\"\",\"PLAYERSRANKING\",\"ITUB4\",\"1130\",\"SALDO\",\"VOLQ\")","v":"0"},{"$f":"RTD(\"srv.rtd\",\"\",\"PLAYERSRANKING\",\"ITUB4\",\"1130\",\"SALDO\",\"VOLF\")","v":"0"},{"$f":"RTD(\"srv.rtd\",\"\",\"PLAYERSRANKING\",\"ITUB4\",\"1130\",\"SALDO\",\"AVG_PRICE\")","v":"0"},{"$f":"RTD(\"srv.rtd\",\"\",\"PLAYERSRANKING\",\"ITUB4\",\"1130\",\"SALDO\",\"AVG_PRICE_2\")","v":"0"},null,null,null,"UBS",{"$f":"RTD(\"srv.rtd\",\"\",\"PLAYERSRANKING\",\"ITUB4\",\"8\",\"SALDO\",\"QUANTITY\")","v":-77},{"$f":"RTD(\"srv.rtd\",\"\",\"PLAYERSRANKING\",\"ITUB4\",\"8\",\"SALDO\",\"VOLQ\")","v":-567200},{"$f":"RTD(\"srv.rtd\",\"\",\"PLAYERSRANKING\",\"ITUB4\",\"8\",\"SALDO\",\"VOLF\")","v":-15265422},{"$f":"RTD(\"srv.rtd\",\"\",\"PLAYERSRANKING\",\"ITUB4\",\"8\",\"SALDO\",\"AVG_PRICE\")","v":26.9191323606045},{"$f":"RTD(\"srv.rtd\",\"\",\"PLAYERSRANKING\",\"ITUB4\",\"8\",\"SALDO\",\"AVG_PRICE_2\")","v":26.913649506346999}]
[null,null,null,8,"ATIVA",{"$f":"RTD(\"srv.rtd\",\"\",\"PLAYERSRANKING\",\"ITUB4\",\"147\",\"SALDO\",\"QUANTITY\")","v":45},{"$f":"RTD(\"srv.rtd\",\"\",\"PLAYERSRANKING\",\"ITUB4\",\"147\",\"SALDO\",\"VOLQ\")","v":40000},{"$f":"RTD(\"srv.rtd\",\"\",\"PLAYERSRANKING\",\"ITUB4\",\"147\",\"SALDO\",\"VOLF\")","v":1078458},{"$f":"RTD(\"srv.rtd\",\"\",\"PLAYERSRANKING\",\"ITUB4\",\"147\",\"SALDO\",\"AVG_PRICE\")","v":26.961449999999999},{"$f":"RTD(\"srv.rtd\",\"\",\"PLAYERSRANKING\",\"ITUB4\",\"147\",\"SALDO\",\"AVG_PRICE_2\")","v":26.961449999999999},null,null,null,"IDEAL",{"$f":"RTD(\"srv.rtd\",\"\",\"PLAYERSRANKING\",\"ITUB4\",\"1618\",\"SALDO\",\"QUANTITY\")","v":155},{"$f":"RTD(\"srv.rtd\",\"\",\"PLAYERSRANKING\",\"ITUB4\",\"1618\",\"SALDO\",\"VOLQ\")","v":-108900},{"$f":"RTD(\"srv.rtd\",\"\",\"PLAYERSRANKING\",\"ITUB4\",\"1618\",\"SALDO\",\"VOLF\")","v":-2947288},{"$f":"RTD(\"srv.rtd\",\"\",\"PLAYERSRANKING\",\"ITUB4\",\"1618\",\"SALDO\",\"AVG_PRICE\")","v":26.953298448888098},{"$f":"RTD(\"srv.rtd\",\"\",\"PLAYERSRANKING\",\"ITUB4\",\"1618\",\"SALDO\",\"AVG_PRICE_2\")","v":27.064168962350799}]
[null,null,null,9,"CITIGROUP",{"$f":"RTD(\"srv.rtd\",\"\",\"PLAYERSRANKING\",\"ITUB4\",\"77\",\"SALDO\",\"QUANTITY\")","v":-5},{"$f":"RTD(\"srv.rtd\",\"\",\"PLAYERSRANKING\",\"ITUB4\",\"77\",\"SALDO\",\"VOLQ\")","v":-12200},{"$f":"RTD(\"srv.rtd\",\"\",\"PLAYERSRANKING\",\"ITUB4\",\"77\",\"SALDO\",\"VOLF\")","v":-328813},{"$f":"RTD(\"srv.rtd\",\"\",\"PLAYERSRANKING\",\"ITUB4\",\"77\",\"SALDO\",\"AVG_PRICE\")","v":26.9518852459016},{"$f":"RTD(\"srv.rtd\",\"\",\"PLAYERSRANKING\",\"ITUB4\",\"77\",\"SALDO\",\"AVG_PRICE_2\")","v":26.9518852459016}]
[null,null,null,10,"VITREO",{"$f":"RTD(\"srv.rtd\",\"\",\"PLAYERSRANKING\",\"ITUB4\",\"1855\",\"SALDO\",\"QUANTITY\")","v":3},{"$f":"RTD(\"srv.rtd\",\"\",\"PLAYERSRANKING\",\"ITUB4\",\"1855\",\"SALDO\",\"VOLQ\")","v":2000},{"$f":"RTD(\"srv.rtd\",\"\",\"PLAYERSRANKING\",\"ITUB4\",\"1855\",\"SALDO\",\"VOLF\")","v":53900},{"$f":"RTD(\"srv.rtd\",\"\",\"PLAYERSRANKING\",\"ITUB4\",\"1855\",\"SALDO\",\"AVG_PRICE\")","v":26.95},{"$f":"RTD(\"srv.rtd\",\"\",\"PLAYERSRANKING\",\"ITUB4\",\"1855\",\"SALDO\",\"AVG_PRICE_2\")","v":26.95},null,null,null,null,null,{"$f":"SUM(P123:P129)","v":350900},{"$f":"SUM(Q123:Q129)","v":9456261}]
[null,null,null,11,"C6 BANK",{"$f":"RTD(\"srv.rtd\",\"\",\"PLAYERSRANKING\",\"ITUB4\",\"6003\",\"SALDO\",\"QUANTITY\")","v":-10},{"$f":"RTD(\"srv.rtd\",\"\",\"PLAYERSRANKING\",\"ITUB4\",\"6003\",\"SALDO\",\"VOLQ\")","v":-9000},{"$f":"RTD(\"srv.rtd\",\"\",\"PLAYERSRANKING\",\"ITUB4\",\"6003\",\"SALDO\",\"VOLF\")","v":-243000},{"$f":"RTD(\"srv.rtd\",\"\",\"PLAYERSRANKING\",\"ITUB4\",\"6003\",\"SALDO\",\"AVG_PRICE\")","v":27},{"$f":"RTD(\"srv.rtd\",\"\",\"PLAYERSRANKING\",\"ITUB4\",\"6003\",\"SALDO\",\"AVG_PRICE_2\")","v":27}]
[null,null,null,12,7029,{"$f":"RTD(\"srv.rtd\",\"\",\"PLAYERSRANKING\",\"ITUB4\",\"7029\",\"SALDO\",\"QUANTITY\")","v":"0"},{"$f":"RTD(\"srv.rtd\",\"\",\"PLAYERSRANKING\",\"ITUB4\",\"7029\",\"SALDO\",\"VOLQ\")","v":"0"},{"$f":"RTD(\"srv.rtd\",\"\",\"PLAYERSRANKING\",\"ITUB4\",\"7029\",\"SALDO\",\"VOLF\")","v":"0"},{"$f":"RTD(\"srv.rtd\",\"\",\"PLAYERSRANKING\",\"ITUB4\",\"7029\",\"SALDO\",\"AVG_PRICE\")","v":"0"},{"$f":"RTD(\"srv.rtd\",\"\",\"PLAYERSRANKING\",\"ITUB4\",\"7029\",\"SALDO\",\"AVG_PRICE_2\")","v":"0"}]
[null,null,null,13,"BANRISUL",{"$f":"RTD(\"srv.rtd\",\"\",\"PLAYERSRANKING\",\"ITUB4\",\"172\",\"SALDO\",\"QUANTITY\")","v":"0"},{"$f":"RTD(\"srv.rtd\",\"\",\"PLAYERSRANKING\",\"ITUB4\",\"172\",\"SALDO\",\"VOLQ\")","v":"0"},{"$f":"RTD(\"srv.rtd\",\"\",\"PLAYERSRANKING\",\"ITUB4\",\"172\",\"SALDO\",\"VOLF\")","v":"0"},{"$f":"RTD(\"srv.rtd\",\"\",\"PLAYERSRANKING\",\"ITUB4\",\"172\",\"SALDO\",\"AVG_PRICE\")","v":"0"},{"$f":"RTD(\"srv.rtd\",\"\",\"PLAYERSRANKING\",\"ITUB4\",\"172\",\"SALDO\",\"AVG_PRICE_2\")","v":"0"},null,null,null,{"$f":"SUM(O123:O129)","v":2168}]
[null,null,null,14,"SITA",{"$f":"RTD(\"srv.rtd\",\"\",\"PLAYERSRANKING\",\"ITUB4\",\"187\",\"SALDO\",\"QUANTITY\")","v":"0"},{"$f":"RTD(\"srv.rtd\",\"\",\"PLAYERSRANKING\",\"ITUB4\",\"187\",\"SALDO\",\"VOLQ\")","v":"0"},{"$f":"RTD(\"srv.rtd\",\"\",\"PLAYERSRANKING\",\"ITUB4\",\"187\",\"SALDO\",\"VOLF\")","v":"0"},{"$f":"RTD(\"srv.rtd\",\"\",\"PLAYERSRANKING\",\"ITUB4\",\"187\",\"SALDO\",\"AVG_PRICE\")","v":"0"},{"$f":"RTD(\"srv.rtd\",\"\",\"PLAYERSRANKING\",\"ITUB4\",\"187\",\"SALDO\",\"AVG_PRICE_2\")","v":"0"}]
[null,null,null,15,"COMMCOR",{"$f":"RTD(\"srv.rtd\",\"\",\"PLAYERSRANKING\",\"ITUB4\",\"115\",\"SALDO\",\"QUANTITY\")","v":"0"},{"$f":"RTD(\"srv.rtd\",\"\",\"PLAYERSRANKING\",\"ITUB4\",\"115\",\"SALDO\",\"VOLQ\")","v":"0"},{"$f":"RTD(\"srv.rtd\",\"\",\"PLAYERSRANKING\",\"ITUB4\",\"115\",\"SALDO\",\"VOLF\")","v":"0"},{"$f":"RTD(\"srv.rtd\",\"\",\"PLAYERSRANKING\",\"ITUB4\",\"115\",\"SALDO\",\"AVG_PRICE\")","v":"0"},{"$f":"RTD(\"srv.rtd\",\"\",\"PLAYERSRANKING\",\"ITUB4\",\"115\",\"SALDO\",\"AVG_PRICE_2\")","v":"0"}]
[null,null,null,16,"RENASCENCA",{"$f":"RTD(\"srv.rtd\",\"\",\"PLAYERSRANKING\",\"ITUB4\",\"92\",\"SALDO\",\"QUANTITY\")","v":"0"},{"$f":"RTD(\"srv.rtd\",\"\",\"PLAYERSRANKING\",\"ITUB4\",\"92\",\"SALDO\",\"VOLQ\")","v":"0"},{"$f":"RTD(\"srv.rtd\",\"\",\"PLAYERSRANKING\",\"ITUB4\",\"92\",\"SALDO\",\"VOLF\")","v":"0"},{"$f":"RTD(\"srv.rtd\",\"\",\"PLAYERSRANKING\",\"ITUB4\",\"92\",\"SALDO\",\"AVG_PRICE\")","v":"0"},{"$f":"RTD(\"srv.rtd\",\"\",\"PLAYERSRANKING\",\"ITUB4\",\"92\",\"SALDO\",\"AVG_PRICE_2\")","v":"0"}]
[null,null,null,17,"TORO",{"$f":"RTD(\"srv.rtd\",\"\",\"PLAYERSRANKING\",\"ITUB4\",\"4090\",\"SALDO\",\"QUANTITY\")","v":87},{"$f":"RTD(\"srv.rtd\",\"\",\"PLAYERSRANKING\",\"ITUB4\",\"4090\",\"SALDO\",\"VOLQ\")","v":100100},{"$f":"RTD(\"srv.rtd\",\"\",\"PLAYERSRANKING\",\"ITUB4\",\"4090\",\"SALDO\",\"VOLF\")","v":2683648},{"$f":"RTD(\"srv.rtd\",\"\",\"PLAYERSRANKING\",\"ITUB4\",\"4090\",\"SALDO\",\"AVG_PRICE\")","v":26.823705004389801},{"$f":"RTD(\"srv.rtd\",\"\",\"PLAYERSRANKING\",\"ITUB4\",\"4090\",\"SALDO\",\"AVG_PRICE_2\")","v":26.809670329670301}]
[null,null,null,18,"ELITE",{"$f":"RTD(\"srv.rtd\",\"\",\"PLAYERSRANKING\",\"ITUB4\",\"174\",\"SALDO\",\"QUANTITY\")","v":-17},{"$f":"RTD(\"srv.rtd\",\"\",\"PLAYERSRANKING\",\"ITUB4\",\"174\",\"SALDO\",\"VOLQ\")","v":-5000},{"$f":"RTD(\"srv.rtd\",\"\",\"PLAYERSRANKING\",\"ITUB4\",\"174\",\"SALDO\",\"VOLF\")","v":-134500},{"$f":"RTD(\"srv.rtd\",\"\",\"PLAYERSRANKING\",\"ITUB4\",\"174\",\"SALDO\",\"AVG_PRICE\")","v":26.9},{"$f":"RTD(\"srv.rtd\",\"\",\"PLAYERSRANKING\",\"ITUB4\",\"174\",\"SALDO\",\"AVG_PRICE_2\")","v":26.9}]
[null,null,null,19,"SENSO",{"$f":"RTD(\"srv.rtd\",\"\",\"PLAYERSRANKING\",\"ITUB4\",\"191\",\"SALDO\",\"QUANTITY\")","v":"0"},{"$f":"RTD(\"srv.rtd\",\"\",\"PLAYERSRANKING\",\"ITUB4\",\"191\",\"SALDO\",\"VOLQ\")","v":"0"},{"$f":"RTD(\"srv.rtd\",\"\",\"PLAYERSRANKING\",\"ITUB4\",\"191\",\"SALDO\",\"VOLF\")","v":"0"},{"$f":"RTD(\"srv.rtd\",\"\",\"PLAYERSRANKING\",\"ITUB4\",\"191\",\"SALDO\",\"AVG_PRICE\")","v":"0"},{"$f":"RTD(\"srv.rtd\",\"\",\"PLAYERSRANKING\",\"ITUB4\",\"191\",\"SALDO\",\"AVG_PRICE_2\")","v":"0"}]
[null,null,null,20,"ICAP",{"$f":"RTD(\"srv.rtd\",\"\",\"PLAYERSRANKING\",\"ITUB4\",\"735\",\"SALDO\",\"QUANTITY\")","v":2},{"$f":"RTD(\"srv.rtd\",\"\",\"PLAYERSRANKING\",\"ITUB4\",\"735\",\"SALDO\",\"VOLQ\")","v":1000},{"$f":"RTD(\"srv.rtd\",\"\",\"PLAYERSRANKING\",\"ITUB4\",\"735\",\"SALDO\",\"VOLF\")","v":26919},{"$f":"RTD(\"srv.rtd\",\"\",\"PLAYERSRANKING\",\"ITUB4\",\"735\",\"SALDO\",\"AVG_PRICE\")","v":26.919},{"$f":"RTD(\"srv.rtd\",\"\",\"PLAYERSRANKING\",\"ITUB4\",\"735\",\"SALDO\",\"AVG_PRICE_2\")","v":26.919}]
[null,null,null,21,"EASYNVEST",{"$f":"RTD(\"srv.rtd\",\"\",\"PLAYERSRANKING\",\"ITUB4\",\"90\",\"SALDO\",\"QUANTITY\")","v":-6},{"$f":"RTD(\"srv.rtd\",\"\",\"PLAYERSRANKING\",\"ITUB4\",\"90\",\"SALDO\",\"VOLQ\")","v":-5700},{"$f":"RTD(\"srv.rtd\",\"\",\"PLAYERSRANKING\",\"ITUB4\",\"90\",\"SALDO\",\"VOLF\")","v":-154319},{"$f":"RTD(\"srv.rtd\",\"\",\"PLAYERSRANKING\",\"ITUB4\",\"90\",\"SALDO\",\"AVG_PRICE\")","v":26.993849765258201},{"$f":"RTD(\"srv.rtd\",\"\",\"PLAYERSRANKING\",\"ITUB4\",\"90\",\"SALDO\",\"AVG_PRICE_2\")","v":27.073508771929799}]
[null,null,null,22,"ORAMA",{"$f":"RTD(\"srv.rtd\",\"\",\"PLAYERSRANKING\",\"ITUB4\",\"3701\",\"SALDO\",\"QUANTITY\")","v":23},{"$f":"RTD(\"srv.rtd\",\"\",\"PLAYERSRANKING\",\"ITUB4\",\"3701\",\"SALDO\",\"VOLQ\")","v":12900},{"$f":"RTD(\"srv.rtd\",\"\",\"PLAYERSRANKING\",\"ITUB4\",\"3701\",\"SALDO\",\"VOLF\")","v":348777},{"$f":"RTD(\"srv.rtd\",\"\",\"PLAYERSRANKING\",\"ITUB4\",\"3701\",\"SALDO\",\"AVG_PRICE\")","v":26.990248962655599},{"$f":"RTD(\"srv.rtd\",\"\",\"PLAYERSRANKING\",\"ITUB4\",\"3701\",\"SALDO\",\"AVG_PRICE_2\")","v":27.036976744185999}]
[null,null,null,23,"WARREN",{"$f":"RTD(\"srv.rtd\",\"\",\"PLAYERSRANKING\",\"ITUB4\",\"190\",\"SALDO\",\"QUANTITY\")","v":"0"},{"$f":"RTD(\"srv.rtd\",\"\",\"PLAYERSRANKING\",\"ITUB4\",\"190\",\"SALDO\",\"VOLQ\")","v":"0"},{"$f":"RTD(\"srv.rtd\",\"\",\"PLAYERSRANKING\",\"ITUB4\",\"190\",\"SALDO\",\"VOLF\")","v":"0"},{"$f":"RTD(\"srv.rtd\",\"\",\"PLAYERSRANKING\",\"ITUB4\",\"190\",\"SALDO\",\"AVG_PRICE\")","v":"0"},{"$f":"RTD(\"srv.rtd\",\"\",\"PLAYERSRANKING\",\"ITUB4\",\"190\",\"SALDO\",\"AVG_PRICE_2\")","v":"0"}]
[null,null,null,24,"GENIAL",{"$f":"RTD(\"srv.rtd\",\"\",\"PLAYERSRANKING\",\"ITUB4\",\"120\",\"SALDO\",\"QUANTITY\")","v":310},{"$f":"RTD(\"srv.rtd\",\"\",\"PLAYERSRANKING\",\"ITUB4\",\"120\",\"SALDO\",\"VOLQ\")","v":-191500},{"$f":"RTD(\"srv.rtd\",\"\",\"PLAYERSRANKING\",\"ITUB4\",\"120\",\"SALDO\",\"VOLF\")","v":-5181205},{"$f":"RTD(\"srv.rtd\",\"\",\"PLAYERSRANKING\",\"ITUB4\",\"120\",\"SALDO\",\"AVG_PRICE\")","v":26.943566630654299},{"$f":"RTD(\"srv.rtd\",\"\",\"PLAYERSRANKING\",\"ITUB4\",\"120\",\"SALDO\",\"AVG_PRICE_2\")","v":27.0559007832898}]
[null,null,null,25,"INTER",{"$f":"RTD(\"srv.rtd\",\"\",\"PLAYERSRANKING\",\"ITUB4\",\"1099\",\"SALDO\",\"QUANTITY\")","v":17},{"$f":"RTD(\"srv.rtd\",\"\",\"PLAYERSRANKING\",\"ITUB4\",\"1099\",\"SALDO\",\"VOLQ\")","v":1800},{"$f":"RTD(\"srv.rtd\",\"\",\"PLAYERSRANKING\",\"ITUB4\",\"1099\",\"SALDO\",\"VOLF\")","v":48381},{"$f":"RTD(\"srv.rtd\",\"\",\"PLAYERSRANKING\",\"ITUB4\",\"1099\",\"SALDO\",\"AVG_PRICE\")","v":26.899699999999999},{"$f":"RTD(\"srv.rtd\",\"\",\"PLAYERSRANKING\",\"ITUB4\",\"1099\",\"SALDO\",\"AVG_PRICE_2\")","v":26.878333333333298}]
[null,null,null,26,"PLANNER",{"$f":"RTD(\"srv.rtd\",\"\",\"PLAYERSRANKING\",\"ITUB4\",\"129\",\"SALDO\",\"QUANTITY\")","v":"0"},{"$f":"RTD(\"srv.rtd\",\"\",\"PLAYERSRANKING\",\"ITUB4\",\"129\",\"SALDO\",\"VOLQ\")","v":"0"},{"$f":"RTD(\"srv.rtd\",\"\",\"PLAYERSRANKING\",\"ITUB4\",\"129\",\"SALDO\",\"VOLF\")","v":"0"},{"$f":"RTD(\"srv.rtd\",\"\",\"PLAYERSRANKING\",\"ITUB4\",\"129\",\"SALDO\",\"AVG_PRICE\")","v":"0"},{"$f":"RTD(\"srv.rtd\",\"\",\"PLAYERSRANKING\",\"ITUB4\",\"129\",\"SALDO\",\"AVG_PRICE_2\")","v":"0"}]
[null,null,null,27,"CLEAR",{"$f":"RTD(\"srv.rtd\",\"\",\"PLAYERSRANKING\",\"ITUB4\",\"308\",\"SALDO\",\"QUANTITY\")","v":9},{"$f":"RTD(\"srv.rtd\",\"\",\"PLAYERSRANKING\",\"ITUB4\",\"308\",\"SALDO\",\"VOLQ\")","v":-1100},{"$f":"RTD(\"srv.rtd\",\"\",\"PLAYERSRANKING\",\"ITUB4\",\"308\",\"SALDO\",\"VOLF\")","v":-29564},{"$f":"RTD(\"srv.rtd\",\"\",\"PLAYERSRANKING\",\"ITUB4\",\"308\",\"SALDO\",\"AVG_PRICE\")","v":26.938684774839199},{"$f":"RTD(\"srv.rtd\",\"\",\"PLAYERSRANKING\",\"ITUB4\",\"308\",\"SALDO\",\"AVG_PRICE_2\")","v":26.8763636363636}]
[null,null,null,28,"JP MORGAN",{"$f":"RTD(\"srv.rtd\",\"\",\"PLAYERSRANKING\",\"ITUB4\",\"16\",\"SALDO\",\"QUANTITY\")","v":2649},{"$f":"RTD(\"srv.rtd\",\"\",\"PLAYERSRANKING\",\"ITUB4\",\"16\",\"SALDO\",\"VOLQ\")","v":1243400},{"$f":"RTD(\"srv.rtd\",\"\",\"PLAYERSRANKING\",\"ITUB4\",\"16\",\"SALDO\",\"VOLF\")","v":33467969},{"$f":"RTD(\"srv.rtd\",\"\",\"PLAYERSRANKING\",\"ITUB4\",\"16\",\"SALDO\",\"AVG_PRICE\")","v":26.916802752906602},{"$f":"RTD(\"srv.rtd\",\"\",\"PLAYERSRANKING\",\"ITUB4\",\"16\",\"SALDO\",\"AVG_PRICE_2\")","v":26.916494289850402}]
[null,null,null,29,"MIRAE",{"$f":"RTD(\"srv.rtd\",\"\",\"PLAYERSRANKING\",\"ITUB4\",\"262\",\"SALDO\",\"QUANTITY\")","v":-14},{"$f":"RTD(\"srv.rtd\",\"\",\"PLAYERSRANKING\",\"ITUB4\",\"262\",\"SALDO\",\"VOLQ\")","v":-3200},{"$f":"RTD(\"srv.rtd\",\"\",\"PLAYERSRANKING\",\"ITUB4\",\"262\",\"SALDO\",\"VOLF\")","v":-86612},{"$f":"RTD(\"srv.rtd\",\"\",\"PLAYERSRANKING\",\"ITUB4\",\"262\",\"SALDO\",\"AVG_PRICE\")","v":26.909661016949201},{"$f":"RTD(\"srv.rtd\",\"\",\"PLAYERSRANKING\",\"ITUB4\",\"262\",\"SALDO\",\"AVG_PRICE_2\")","v":27.06625}]
[null,null,null,30,"MODAL",{"$f":"RTD(\"srv.rtd\",\"\",\"PLAYERSRANKING\",\"ITUB4\",\"1982\",\"SALDO\",\"QUANTITY\")","v":-33},{"$f":"RTD(\"srv.rtd\",\"\",\"PLAYERSRANKING\",\"ITUB4\",\"1982\",\"SALDO\",\"VOLQ\")","v":-3800},{"$f":"RTD(\"srv.rtd\",\"\",\"PLAYERSRANKING\",\"ITUB4\",\"1982\",\"SALDO\",\"VOLF\")","v":-101874},{"$f":"RTD(\"srv.rtd\",\"\",\"PLAYERSRANKING\",\"ITUB4\",\"1982\",\"SALDO\",\"AVG_PRICE\")","v":26.915360824742301},{"$f":"RTD(\"srv.rtd\",\"\",\"PLAYERSRANKING\",\"ITUB4\",\"1982\",\"SALDO\",\"AVG_PRICE_2\")","v":26.808947368421101}]
[null,null,null,31,"TULLETT",{"$f":"RTD(\"srv.rtd\",\"\",\"PLAYERSRANKING\",\"ITUB4\",\"127\",\"SALDO\",\"QUANTITY\")","v":-195},{"$f":"RTD(\"srv.rtd\",\"\",\"PLAYERSRANKING\",\"ITUB4\",\"127\",\"SALDO\",\"VOLQ\")","v":-67900},{"$f":"RTD(\"srv.rtd\",\"\",\"PLAYERSRANKING\",\"ITUB4\",\"127\",\"SALDO\",\"VOLF\")","v":-1822146},{"$f":"RTD(\"srv.rtd\",\"\",\"PLAYERSRANKING\",\"ITUB4\",\"127\",\"SALDO\",\"AVG_PRICE\")","v":26.9447972284492},{"$f":"RTD(\"srv.rtd\",\"\",\"PLAYERSRANKING\",\"ITUB4\",\"127\",\"SALDO\",\"AVG_PRICE_2\")","v":26.835729013254799}]
[null,null,null,32,"TERRA",{"$f":"RTD(\"srv.rtd\",\"\",\"PLAYERSRANKING\",\"ITUB4\",\"107\",\"SALDO\",\"QUANTITY\")","v":-4},{"$f":"RTD(\"srv.rtd\",\"\",\"PLAYERSRANKING\",\"ITUB4\",\"107\",\"SALDO\",\"VOLQ\")","v":-1000},{"$f":"RTD(\"srv.rtd\",\"\",\"PLAYERSRANKING\",\"ITUB4\",\"107\",\"SALDO\",\"VOLF\")","v":-26950},{"$f":"RTD(\"srv.rtd\",\"\",\"PLAYERSRANKING\",\"ITUB4\",\"107\",\"SALDO\",\"AVG_PRICE\")","v":26.95},{"$f":"RTD(\"srv.rtd\",\"\",\"PLAYERSRANKING\",\"ITUB4\",\"107\",\"SALDO\",\"AVG_PRICE_2\")","v":26.95}]
[null,null,null,33,"AGORA",{"$f":"RTD(\"srv.rtd\",\"\",\"PLAYERSRANKING\",\"ITUB4\",\"39\",\"SALDO\",\"QUANTITY\")","v":-95},{"$f":"RTD(\"srv.rtd\",\"\",\"PLAYERSRANKING\",\"ITUB4\",\"39\",\"SALDO\",\"VOLQ\")","v":-12700},{"$f":"RTD(\"srv.rtd\",\"\",\"PLAYERSRANKING\",\"ITUB4\",\"39\",\"SALDO\",\"VOLF\")","v":-360566},{"$f":"RTD(\"srv.rtd\",\"\",\"PLAYERSRANKING\",\"ITUB4\",\"39\",\"SALDO\",\"AVG_PRICE\")","v":26.935520934761399},{"$f":"RTD(\"srv.rtd\",\"\",\"PLAYERSRANKING\",\"ITUB4\",\"39\",\"SALDO\",\"AVG_PRICE_2\")","v":28.3910236220472}]
[null,null,null,34,"NOVA FUTURA",{"$f":"RTD(\"srv.rtd\",\"\",\"PLAYERSRANKING\",\"ITUB4\",\"93\",\"SALDO\",\"QUANTITY\")","v":-3},{"$f":"RTD(\"srv.rtd\",\"\",\"PLAYERSRANKING\",\"ITUB4\",\"93\",\"SALDO\",\"VOLQ\")","v":-700},{"$f":"RTD(\"srv.rtd\",\"\",\"PLAYERSRANKING\",\"ITUB4\",\"93\",\"SALDO\",\"VOLF\")","v":-18909},{"$f":"RTD(\"srv.rtd\",\"\",\"PLAYERSRANKING\",\"ITUB4\",\"93\",\"SALDO\",\"AVG_PRICE\")","v":26.892222222222198},{"$f":"RTD(\"srv.rtd\",\"\",\"PLAYERSRANKING\",\"ITUB4\",\"93\",\"SALDO\",\"AVG_PRICE_2\")","v":27.012857142857101}]
[null,null,null,35,"GUIDE",{"$f":"RTD(\"srv.rtd\",\"\",\"PLAYERSRANKING\",\"ITUB4\",\"15\",\"SALDO\",\"QUANTITY\")","v":42},{"$f":"RTD(\"srv.rtd\",\"\",\"PLAYERSRANKING\",\"ITUB4\",\"15\",\"SALDO\",\"VOLQ\")","v":46800},{"$f":"RTD(\"srv.rtd\",\"\",\"PLAYERSRANKING\",\"ITUB4\",\"15\",\"SALDO\",\"VOLF\")","v":1260865},{"$f":"RTD(\"srv.rtd\",\"\",\"PLAYERSRANKING\",\"ITUB4\",\"15\",\"SALDO\",\"AVG_PRICE\")","v":26.954177718832899},{"$f":"RTD(\"srv.rtd\",\"\",\"PLAYERSRANKING\",\"ITUB4\",\"15\",\"SALDO\",\"AVG_PRICE_2\")","v":26.941559829059798}]
[null,null,null,36,"NECTON",{"$f":"RTD(\"srv.rtd\",\"\",\"PLAYERSRANKING\",\"ITUB4\",\"23\",\"SALDO\",\"QUANTITY\")","v":58},{"$f":"RTD(\"srv.rtd\",\"\",\"PLAYERSRANKING\",\"ITUB4\",\"23\",\"SALDO\",\"VOLQ\")","v":8100},{"$f":"RTD(\"srv.rtd\",\"\",\"PLAYERSRANKING\",\"ITUB4\",\"23\",\"SALDO\",\"VOLF\")","v":217918},{"$f":"RTD(\"srv.rtd\",\"\",\"PLAYERSRANKING\",\"ITUB4\",\"23\",\"SALDO\",\"AVG_PRICE\")","v":26.904742268041201},{"$f":"RTD(\"srv.rtd\",\"\",\"PLAYERSRANKING\",\"ITUB4\",\"23\",\"SALDO\",\"AVG_PRICE_2\")","v":26.903456790123499}]
[null,null,null,37,"UBS",{"$f":"RTD(\"srv.rtd\",\"\",\"PLAYERSRANKING\",\"ITUB4\",\"8\",\"SALDO\",\"QUANTITY\")","v":-77},{"$f":"RTD(\"srv.rtd\",\"\",\"PLAYERSRANKING\",\"ITUB4\",\"8\",\"SALDO\",\"VOLQ\")","v":-567200},{"$f":"RTD(\"srv.rtd\",\"\",\"PLAYERSRANKING\",\"ITUB4\",\"8\",\"SALDO\",\"VOLF\")","v":-15265422},{"$f":"RTD(\"srv.rtd\",\"\",\"PLAYERSRANKING\",\"ITUB4\",\"8\",\"SALDO\",\"AVG_PRICE\")","v":26.9191323606045},{"$f":"RTD(\"srv.rtd\",\"\",\"PLAYERSRANKING\",\"ITUB4\",\"8\",\"SALDO\",\"AVG_PRICE_2\")","v":26.913649506346999}]
[null,null,null,38,"IDEAL",{"$f":"RTD(\"srv.rtd\",\"\",\"PLAYERSRANKING\",\"ITUB4\",\"1618\",\"SALDO\",\"QUANTITY\")","v":155},{"$f":"RTD(\"srv.rtd\",\"\",\"PLAYERSRANKING\",\"ITUB4\",\"1618\",\"SALDO\",\"VOLQ\")","v":-108900},{"$f":"RTD(\"srv.rtd\",\"\",\"PLAYERSRANKING\",\"ITUB4\",\"1618\",\"SALDO\",\"VOLF\")","v":-2947288},{"$f":"RTD(\"srv.rtd\",\"\",\"PLAYERSRANKING\",\"ITUB4\",\"1618\",\"SALDO\",\"AVG_PRICE\")","v":26.953298448888098},{"$f":"RTD(\"srv.rtd\",\"\",\"PLAYERSRANKING\",\"ITUB4\",\"1618\",\"SALDO\",\"AVG_PRICE_2\")","v":27.064168962350799}]
[null,null,null,39,"CM CAPITAL",{"$f":"RTD(\"srv.rtd\",\"\",\"PLAYERSRANKING\",\"ITUB4\",\"88\",\"SALDO\",\"QUANTITY\")","v":0},{"$f":"RTD(\"srv.rtd\",\"\",\"PLAYERSRANKING\",\"ITUB4\",\"88\",\"SALDO\",\"VOLQ\")","v":0},{"$f":"RTD(\"srv.rtd\",\"\",\"PLAYERSRANKING\",\"ITUB4\",\"88\",\"SALDO\",\"VOLF\")","v":-21},{"$f":"RTD(\"srv.rtd\",\"\",\"PLAYERSRANKING\",\"ITUB4\",\"88\",\"SALDO\",\"AVG_PRICE\")","v":26.954166666666701},{"$f":"RTD(\"srv.rtd\",\"\",\"PLAYERSRANKING\",\"ITUB4\",\"88\",\"SALDO\",\"AVG_PRICE_2\")","v":26.9716666666667}]
[null,null,null,40,"SANTANDER",{"$f":"RTD(\"srv.rtd\",\"\",\"PLAYERSRANKING\",\"ITUB4\",\"27\",\"SALDO\",\"QUANTITY\")","v":116},{"$f":"RTD(\"srv.rtd\",\"\",\"PLAYERSRANKING\",\"ITUB4\",\"27\",\"SALDO\",\"VOLQ\")","v":18200},{"$f":"RTD(\"srv.rtd\",\"\",\"PLAYERSRANKING\",\"ITUB4\",\"27\",\"SALDO\",\"VOLF\")","v":487242},{"$f":"RTD(\"srv.rtd\",\"\",\"PLAYERSRANKING\",\"ITUB4\",\"27\",\"SALDO\",\"AVG_PRICE\")","v":26.878535353535401},{"$f":"RTD(\"srv.rtd\",\"\",\"PLAYERSRANKING\",\"ITUB4\",\"27\",\"SALDO\",\"AVG_PRICE_2\")","v":26.771538461538501}]
[null,null,null,41,"SAFRA",{"$f":"RTD(\"srv.rtd\",\"\",\"PLAYERSRANKING\",\"ITUB4\",\"59\",\"SALDO\",\"QUANTITY\")","v":-28},{"$f":"RTD(\"srv.rtd\",\"\",\"PLAYERSRANKING\",\"ITUB4\",\"59\",\"SALDO\",\"VOLQ\")","v":6000},{"$f":"RTD(\"srv.rtd\",\"\",\"PLAYERSRANKING\",\"ITUB4\",\"59\",\"SALDO\",\"VOLF\")","v":161561},{"$f":"RTD(\"srv.rtd\",\"\",\"PLAYERSRANKING\",\"ITUB4\",\"59\",\"SALDO\",\"AVG_PRICE\")","v":26.942514450867101},{"$f":"RTD(\"srv.rtd\",\"\",\"PLAYERSRANKING\",\"ITUB4\",\"59\",\"SALDO\",\"AVG_PRICE_2\")","v":26.926833333333299}]
[null,null,null,42,"BRADESCO",{"$f":"RTD(\"srv.rtd\",\"\",\"PLAYERSRANKING\",\"ITUB4\",\"72\",\"SALDO\",\"QUANTITY\")","v":-134},{"$f":"RTD(\"srv.rtd\",\"\",\"PLAYERSRANKING\",\"ITUB4\",\"72\",\"SALDO\",\"VOLQ\")","v":-34100},{"$f":"RTD(\"srv.rtd\",\"\",\"PLAYERSRANKING\",\"ITUB4\",\"72\",\"SALDO\",\"VOLF\")","v":-898746},{"$f":"RTD(\"srv.rtd\",\"\",\"PLAYERSRANKING\",\"ITUB4\",\"72\",\"SALDO\",\"AVG_PRICE\")","v":26.900159304851599},{"$f":"RTD(\"srv.rtd\",\"\",\"PLAYERSRANKING\",\"ITUB4\",\"72\",\"SALDO\",\"AVG_PRICE_2\")","v":26.356187683284499}]
[null,null,null,43,"ITAU",{"$f":"RTD(\"srv.rtd\",\"\",\"PLAYERSRANKING\",\"ITUB4\",\"114\",\"SALDO\",\"QUANTITY\")","v":-166},{"$f":"RTD(\"srv.rtd\",\"\",\"PLAYERSRANKING\",\"ITUB4\",\"114\",\"SALDO\",\"VOLQ\")","v":155800},{"$f":"RTD(\"srv.rtd\",\"\",\"PLAYERSRANKING\",\"ITUB4\",\"114\",\"SALDO\",\"VOLF\")","v":4218025},{"$f":"RTD(\"srv.rtd\",\"\",\"PLAYERSRANKING\",\"ITUB4\",\"114\",\"SALDO\",\"AVG_PRICE\")","v":26.9076702442635},{"$f":"RTD(\"srv.rtd\",\"\",\"PLAYERSRANKING\",\"ITUB4\",\"114\",\"SALDO\",\"AVG_PRICE_2\")","v":27.0733311938383}]
[null,null,null,44,"CREDIT SUISSE",{"$f":"RTD(\"srv.rtd\",\"\",\"PLAYERSRANKING\",\"ITUB4\",\"45\",\"SALDO\",\"QUANTITY\")","v":343},{"$f":"RTD(\"srv.rtd\",\"\",\"PLAYERSRANKING\",\"ITUB4\",\"45\",\"SALDO\",\"VOLQ\")","v":28600},{"$f":"RTD(\"srv.rtd\",\"\",\"PLAYERSRANKING\",\"ITUB4\",\"45\",\"SALDO\",\"VOLF\")","v":768479},{"$f":"RTD(\"srv.rtd\",\"\",\"PLAYERSRANKING\",\"ITUB4\",\"45\",\"SALDO\",\"AVG_PRICE\")","v":26.923030751034901},{"$f":"RTD(\"srv.rtd\",\"\",\"PLAYERSRANKING\",\"ITUB4\",\"45\",\"SALDO\",\"AVG_PRICE_2\")","v":26.8698951048951}]
[]
[]
[]
[]
[null,null,null,"Asset","Último","Abertura","Máximo","Mínimo","Fechamento Anterior","Strike","Variação","Variação(pts)","Média","Negócios","Quantidade","Volume","Of. Compra","Of. Venda","Aj. Anterior","Preço Teórico","Qtd. Teórica","Volume Projetado","Agente de Compra","Agente de Venda","Validade","Limite Max","Limite Min","Delta","Prior Cote","Prior Cote Ajuste","TR - Acúmulo de Agressão - Saldo","TR - Histograma de Agressão","Volume de Agr - Compra","TR - Volume de Agressão - Saldo","Volume de Agr - Venda","Volatilidade Histórica"]
[null,null,null,"WINQ22",{"$f":"RTD(\"rtdtrading.rtdserver\",, \"WINQ22_F_0\", \"ULT\")","v":113720},{"$f":"RTD(\"rtdtrading.rtdserver\",, \"WINQ22_F_0\", \"ABE\")","v":112900},{"$f":"RTD(\"rtdtrading.rtdserver\",, \"WINQ22_F_0\", \"MAX\")","v":114000},{"$f":"RTD(\"rtdtrading.rtdserver\",, \"WINQ22_F_0\", \"MIN\")","v":112255},{"$f":"RTD(\"rtdtrading.rtdserver\",, \"WINQ22_F_0\", \"FEC\")","v":113785},{"$f":"RTD(\"rtdtrading.rtdserver\",, \"WINQ22_F_0\", \"PEX\")","v":0},{"$f":"RTD(\"rtdtrading.rtdserver\",, \"WINQ22_F_0\", \"VAR\")","v":-5.7125280133590195E-2},{"$f":"RTD(\"rtdtrading.rtdserver\",, \"WINQ22_F_0\", \"VARPTS\")","v":-65},{"$f":"RTD(\"rtdtrading.rtdserver\",, \"WINQ22_F_0\", \"MED\")","v":113216.66091729865},{"$f":"RTD(\"rtdtrading.rtdserver\",, \"WINQ22_F_0\", \"NEG\")","v":788688},{"$f":"RTD(\"rtdtrading.rtdserver\",, \"WINQ22_F_0\", \"QTT\")","v":1976739},{"$f":"RTD(\"rtdtrading.rtdserver\",, \"WINQ22_F_0\", \"VOL\")","v":44759957817},{"$f":"RTD(\"rtdtrading.rtdserver\",, \"WINQ22_F_0\", \"OCP\")","v":0},{"$f":"RTD(\"rtdtrading.rtdserver\",, \"WINQ22_F_0\", \"OVD\")","v":0},{"$f":"RTD(\"rtdtrading.rtdserver\",, \"WINQ22_F_0\", \"AJA\")","v":0},{"$f":"RTD(\"rtdtrading.rtdserver\",, \"WINQ22_F_0\", \"PRT\")","v":0},{"$f":"RTD(\"rtdtrading.rtdserver\",, \"WINQ22_F_0\", \"QTE\")","v":0},{"$f":"RTD(\"rtdtrading.rtdserver\",, \"WINQ22_F_0\", \"VPJ\")","v":0},{"$f":"RTD(\"rtdtrading.rtdserver\",, \"WINQ22_F_0\", \"ACP\")","v":"-"},{"$f":"RTD(\"rtdtrading.rtdserver\",, \"WINQ22_F_0\", \"AVD\")","v":"-"},{"$f":"RTD(\"rtdtrading.rtdserver\",, \"WINQ22_F_0\", \"VAL\")","v":"17/08/2022"},{"$f":"RTD(\"rtdtrading.rtdserver\",, \"WINQ22_F_0\", \"LMAX\")","v":0},{"$f":"RTD(\"rtdtrading.rtdserver\",, \"WINQ22_F_0\", \"LMIN\")","v":0},{"$f":"RTD(\"rtdtrading.rtdserver\",, \"WINQ22_F_0\", \"DELTA\")","v":"-"},{"$f":"RTD(\"rtdtrading.rtdserver\",, \"WINQ22_F_0\", \"86\")","v":"Atributo Inválido"},{"$f":"RTD(\"rtdtrading.rtdserver\",, \"WINQ22_F_0\", \"190\")","v":"Atributo Inválido"},{"$f":"RTD(\"rtdtrading.rtdserver\",, \"WINQ22_F_0\", \"103\")","v":"16.716,00"},{"$f":"RTD(\"rtdtrading.rtdserver\",, \"WINQ22_F_0\", \"184\")","v":"645.718,00"},{"$f":"RTD(\"rtdtrading.rtdserver\",, \"WINQ22_F_0\", \"98\")","v":"944.136"},{"$f":"RTD(\"rtdtrading.rtdserver\",, \"WINQ22_F_0\", \"100\")","v":"16.716"},{"$f":"RTD(\"rtdtrading.rtdserver\",, \"WINQ22_F_0\", \"99\")","v":"927.420"},{"$f":"RTD(\"rtdtrading.rtdserver\",, \"WINQ22_F_0\", \"45\")","v":"Atributo Inválido"}]
[]
[]
[]
[]
[]
[]
[null,null,null,"Asset","Máximo","Mínimo","Fechamento Anterior","Variação","Variação(pts)","Média","NEGÓCIOS","Quantidade","Volume","Qtd. Teórica","Limite Max","Limite Min","Delta","Acumulação/Distribuição","DI+/DI-/ADX","Estocástico Pleno","FORCE INDEX","Fura-Chão","Fura-Teto","TR - Acúmulo de Agressão - Saldo","TR - Histograma de Agressão","TR - Volume de Agressão - Compra","TR - Volume de Agressão - Saldo","TR - Volume de Agressão - Venda"]
[null,null,null,"IBOV",{"$f":"RTD(\"rtdtrading.rtdserver\",, \"IBOV_B_0\", \"MAX\")","v":114091.4},{"$f":"RTD(\"rtdtrading.rtdserver\",, \"IBOV_B_0\", \"MIN\")","v":112433.8},{"$f":"RTD(\"rtdtrading.rtdserver\",, \"IBOV_B_0\", \"FEC\")","v":113531.72},{"$f":"RTD(\"rtdtrading.rtdserver\",, \"IBOV_B_0\", \"VAR\")","v":-0.93232094079081662},{"$f":"RTD(\"rtdtrading.rtdserver\",, \"IBOV_B_0\", \"VARPTS\")","v":-1058.4799999999959},{"$f":"RTD(\"rtdtrading.rtdserver\",, \"IBOV_B_0\", \"MED\")","v":113132.745},{"$f":"RTD(\"rtdtrading.rtdserver\",, \"IBOV_B_0\", \"NEG\")","v":587471},{"$f":"RTD(\"rtdtrading.rtdserver\",, \"IBOV_B_0\", \"QTT\")","v":494920900},{"$f":"RTD(\"rtdtrading.rtdserver\",, \"IBOV_B_0\", \"VOL\")","v":7355060301},{"$f":"RTD(\"rtdtrading.rtdserver\",, \"IBOV_B_0\", \"QTE\")","v":0},{"$f":"RTD(\"rtdtrading.rtdserver\",, \"IBOV_B_0\", \"LMAX\")","v":0},{"$f":"RTD(\"rtdtrading.rtdserver\",, \"IBOV_B_0\", \"LMIN\")","v":0},{"$f":"RTD(\"rtdtrading.rtdserver\",, \"IBOV_B_0\", \"DELTA\")","v":"-"},{"$f":"RTD(\"rtdtrading.rtdserver\",, \"IBOV_B_0\", \"8\")","v":"Atributo Inválido"},{"$f":"RTD(\"rtdtrading.rtdserver\",, \"IBOV_B_0\", \"38\")","v":"Atributo Inválido"},{"$f":"RTD(\"rtdtrading.rtdserver\",, \"IBOV_B_0\", \"15\")","v":"Atributo Inválido"},{"$f":"RTD(\"rtdtrading.rtdserver\",, \"IBOV_B_0\", \"29\")","v":"Atributo Inválido"},{"$f":"RTD(\"rtdtrading.rtdserver\",, \"IBOV_B_0\", \"63\")","v":"Atributo Inválido"},{"$f":"RTD(\"rtdtrading.rtdserver\",, \"IBOV_B_0\", \"62\")","v":"Atributo Inválido"},{"$f":"RTD(\"rtdtrading.rtdserver\",, \"IBOV_B_0\", \"103\")","v":"0,00"},{"$f":"RTD(\"rtdtrading.rtdserver\",, \"IBOV_B_0\", \"184\")","v":"0,00"},{"$f":"RTD(\"rtdtrading.rtdserver\",, \"IBOV_B_0\", \"98\")","v":"0"},{"$f":"RTD(\"rtdtrading.rtdserver\",, \"IBOV_B_0\", \"100\")","v":"0"},{"$f":"RTD(\"rtdtrading.rtdserver\",, \"IBOV_B_0\", \"99\")","v":"0"}]

{"sheet":"MUNDIAIS","index":7,"n_rows":39,"n_cols":14,"rows_kept":39,"cut":false,"hidden":false,"merged":[]}
[]
[]
[]
[]
[null,{"$f":"RTD(\"srv.rtd\",\"\",\"SQT\",\"FTSE100-CFD\",\"ARROWVAR\")","v":"0"},"FTSE100-CFD",{"$f":"RTD(\"srv.rtd\",\"\",\"SQT\",\"FTSE100-CFD\",\"FLAG\")","v":"4"},{"$f":"RTD(\"srv.rtd\",\"\",\"SQT\",\"FTSE100-CFD\",\"DESC\")","v":"FTSE 100 (CFD) "},{"$f":"RTD(\"srv.rtd\",\"\",\"SQT\",\"FTSE100-CFD\",\"LAST\")","v":7439.2},{"$f":"RTD(\"srv.rtd\",\"\",\"SQT\",\"FTSE100-CFD\",\"VAR\")","v":-0.54199744910918801},{"$f":"RTD(\"srv.rtd\",\"\",\"SQT\",\"FTSE100-CFD\",\"TICK\")","v":"-"},{"$f":"RTD(\"srv.rtd\",\"\",\"SQT\",\"FTSE100-CFD\",\"HIGH\")","v":7529.6},{"$f":"RTD(\"srv.rtd\",\"\",\"SQT\",\"FTSE100-CFD\",\"LOW\")","v":7420.5},{"$f":"RTD(\"srv.rtd\",\"\",\"SQT\",\"FTSE100-CFD\",\"OPEN\")","v":7506.1},{"$f":"RTD(\"srv.rtd\",\"\",\"SQT\",\"FTSE100-CFD\",\"CLOSE\")","v":7479.74},{"$f":"RTD(\"srv.rtd\",\"\",\"SQT\",\"FTSE100-CFD\",\"DATE\")","v":44799},{"$f":"RTD(\"srv.rtd\",\"\",\"SQT\",\"FTSE100-CFD\",\"TIME\")","v":0.505462962962963}]
[null,{"$f":"RTD(\"srv.rtd\",\"\",\"SQT\",\"CAC40-CFD\",\"ARROWVAR\")","v":"0"},"CAC40-CFD",{"$f":"RTD(\"srv.rtd\",\"\",\"SQT\",\"CAC40-CFD\",\"FLAG\")","v":"6"},{"$f":"RTD(\"srv.rtd\",\"\",\"SQT\",\"CAC40-CFD\",\"DESC\")","v":"CAC 40 - PARIS (CFD) "},{"$f":"RTD(\"srv.rtd\",\"\",\"SQT\",\"CAC40-CFD\",\"LAST\")","v":6274.3},{"$f":"RTD(\"srv.rtd\",\"\",\"SQT\",\"CAC40-CFD\",\"VAR\")","v":-1.68078024808981},{"$f":"RTD(\"srv.rtd\",\"\",\"SQT\",\"CAC40-CFD\",\"TICK\")","v":"-"},{"$f":"RTD(\"srv.rtd\",\"\",\"SQT\",\"CAC40-CFD\",\"HIGH\")","v":6423.4},{"$f":"RTD(\"srv.rtd\",\"\",\"SQT\",\"CAC40-CFD\",\"LOW\")","v":6261.3},{"$f":"RTD(\"srv.rtd\",\"\",\"SQT\",\"CAC40-CFD\",\"OPEN\")","v":6409.2},{"$f":"RTD(\"srv.rtd\",\"\",\"SQT\",\"CAC40-CFD\",\"CLOSE\")","v":6381.56},{"$f":"RTD(\"srv.rtd\",\"\",\"SQT\",\"CAC40-CFD\",\"DATE\")","v":44799},{"$f":"RTD(\"srv.rtd\",\"\",\"SQT\",\"CAC40-CFD\",\"TIME\")","v":0.50545138888888896}]
[null,{"$f":"RTD(\"srv.rtd\",\"\",\"SQT\",\"DAX30-CFD\",\"ARROWVAR\")","v":"0"},"DAX30-CFD",{"$f":"RTD(\"srv.rtd\",\"\",\"SQT\",\"DAX30-CFD\",\"FLAG\")","v":"7"},{"$f":"RTD(\"srv.rtd\",\"\",\"SQT\",\"DAX30-CFD\",\"DESC\")","v":"DAX 30 (CFD) "},{"$f":"RTD(\"srv.rtd\",\"\",\"SQT\",\"DAX30-CFD\",\"LAST\")","v":12981.4},{"$f":"RTD(\"srv.rtd\",\"\",\"SQT\",\"DAX30-CFD\",\"VAR\")","v":-2.1892772431502099},{"$f":"RTD(\"srv.rtd\",\"\",\"SQT\",\"DAX30-CFD\",\"TICK\")","v":"-"},{"$f":"RTD(\"srv.rtd\",\"\",\"SQT\",\"DAX30-CFD\",\"HIGH\")","v":13367.7},{"$f":"RTD(\"srv.rtd\",\"\",\"SQT\",\"DAX30-CFD\",\"LOW\")","v":12974.9},{"$f":"RTD(\"srv.rtd\",\"\",\"SQT\",\"DAX30-CFD\",\"OPEN\")","v":13330.9},{"$f":"RTD(\"srv.rtd\",\"\",\"SQT\",\"DAX30-CFD\",\"CLOSE\")","v":13271.96},{"$f":"RTD(\"srv.rtd\",\"\",\"SQT\",\"DAX30-CFD\",\"DATE\")","v":44799},{"$f":"RTD(\"srv.rtd\",\"\",\"SQT\",\"DAX30-CFD\",\"TIME\")","v":0.50547453703703704}]
[null,{"$f":"RTD(\"srv.rtd\",\"\",\"SQT\",\"PSI20-CFD\",\"ARROWVAR\")","v":"2"},"PSI20-CFD",{"$f":"RTD(\"srv.rtd\",\"\",\"SQT\",\"PSI20-CFD\",\"FLAG\")","v":"8"},{"$f":"RTD(\"srv.rtd\",\"\",\"SQT\",\"PSI20-CFD\",\"DESC\")","v":"PSI 20 - LISBOA (CFD) "},{"$f":"RTD(\"srv.rtd\",\"\",\"SQT\",\"PSI20-CFD\",\"LAST\")","v":6190.5},{"$f":"RTD(\"srv.rtd\",\"\",\"SQT\",\"PSI20-CFD\",\"VAR\")","v":6.6781320599623903},{"$f":"RTD(\"srv.rtd\",\"\",\"SQT\",\"PSI20-CFD\",\"TICK\")","v":"-"},{"$f":"RTD(\"srv.rtd\",\"\",\"SQT\",\"PSI20-CFD\",\"HIGH\")","v":6262.5},{"$f":"RTD(\"srv.rtd\",\"\",\"SQT\",\"PSI20-CFD\",\"LOW\")","v":6185.4},{"$f":"RTD(\"srv.rtd\",\"\",\"SQT\",\"PSI20-CFD\",\"OPEN\")","v":6260.9},{"$f":"RTD(\"srv.rtd\",\"\",\"SQT\",\"PSI20-CFD\",\"CLOSE\")","v":5802.97},{"$f":"RTD(\"srv.rtd\",\"\",\"SQT\",\"PSI20-CFD\",\"DATE\")","v":44799},{"$f":"RTD(\"srv.rtd\",\"\",\"SQT\",\"PSI20-CFD\",\"TIME\")","v":0.50543981481481504}]
[null,{"$f":"RTD(\"srv.rtd\",\"\",\"SQT\",\"IBEX35-CFD\",\"ARROWVAR\")","v":"0"},"IBEX35-CFD",{"$f":"RTD(\"srv.rtd\",\"\",\"SQT\",\"IBEX35-CFD\",\"FLAG\")","v":"20"},{"$f":"RTD(\"srv.rtd\",\"\",\"SQT\",\"IBEX35-CFD\",\"DESC\")","v":"IBEX 35 - MADRI (CFD) "},{"$f":"RTD(\"srv.rtd\",\"\",\"SQT\",\"IBEX35-CFD\",\"LAST\")","v":8061.1},{"$f":"RTD(\"srv.rtd\",\"\",\"SQT\",\"IBEX35-CFD\",\"VAR\")","v":-1.54381679389313},{"$f":"RTD(\"srv.rtd\",\"\",\"SQT\",\"IBEX35-CFD\",\"TICK\")","v":"+"},{"$f":"RTD(\"srv.rtd\",\"\",\"SQT\",\"IBEX35-CFD\",\"HIGH\")","v":8237.7000000000007},{"$f":"RTD(\"srv.rtd\",\"\",\"SQT\",\"IBEX35-CFD\",\"LOW\")","v":8042.1},{"$f":"RTD(\"srv.rtd\",\"\",\"SQT\",\"IBEX35-CFD\",\"OPEN\")","v":8228},{"$f":"RTD(\"srv.rtd\",\"\",\"SQT\",\"IBEX35-CFD\",\"CLOSE\")","v":8187.5},{"$f":"RTD(\"srv.rtd\",\"\",\"SQT\",\"IBEX35-CFD\",\"DATE\")","v":44799},{"$f":"RTD(\"srv.rtd\",\"\",\"SQT\",\"IBEX35-CFD\",\"TIME\")","v":0.505462962962963}]
[null,{"$f":"RTD(\"srv.rtd\",\"\",\"SQT\",\"MIB40-CFD\",\"ARROWVAR\")","v":"0"},"MIB40-CFD",{"$f":"RTD(\"srv.rtd\",\"\",\"SQT\",\"MIB40-CFD\",\"FLAG\")","v":"11"},{"$f":"RTD(\"srv.rtd\",\"\",\"SQT\",\"MIB40-CFD\",\"DESC\")","v":"ITALIA MIB 40 (CFD) "},{"$f":"RTD(\"srv.rtd\",\"\",\"SQT\",\"MIB40-CFD\",\"LAST\")","v":21924.400000000001},{"$f":"RTD(\"srv.rtd\",\"\",\"SQT\",\"MIB40-CFD\",\"VAR\")","v":-2.8328812778102601},{"$f":"RTD(\"srv.rtd\",\"\",\"SQT\",\"MIB40-CFD\",\"TICK\")","v":"-"},{"$f":"RTD(\"srv.rtd\",\"\",\"SQT\",\"MIB40-CFD\",\"HIGH\")","v":22576.2},{"$f":"RTD(\"srv.rtd\",\"\",\"SQT\",\"MIB40-CFD\",\"LOW\")","v":21911.9},{"$f":"RTD(\"srv.rtd\",\"\",\"SQT\",\"MIB40-CFD\",\"OPEN\")","v":22557.599999999999},{"$f":"RTD(\"srv.rtd\",\"\",\"SQT\",\"MIB40-CFD\",\"CLOSE\")","v":22563.599999999999},{"$f":"RTD(\"srv.rtd\",\"\",\"SQT\",\"MIB40-CFD\",\"DATE\")","v":44799},{"$f":"RTD(\"srv.rtd\",\"\",\"SQT\",\"MIB40-CFD\",\"TIME\")","v":0.50545138888888896}]
[null,{"$f":"RTD(\"srv.rtd\",\"\",\"SQT\",\"OMX30-CFD\",\"ARROWVAR\")","v":"0"},"OMX30-CFD",{"$f":"RTD(\"srv.rtd\",\"\",\"SQT\",\"OMX30-CFD\",\"FLAG\")","v":"13"},{"$f":"RTD(\"srv.rtd\",\"\",\"SQT\",\"OMX30-CFD\",\"DESC\")","v":"OMX 30 STOCKHOLM (CFD) "},{"$f":"RTD(\"srv.rtd\",\"\",\"SQT\",\"OMX30-CFD\",\"LAST\")","v":1955.18},{"$f":"RTD(\"srv.rtd\",\"\",\"SQT\",\"OMX30-CFD\",\"VAR\")","v":-1.6172533864702201},{"$f":"RTD(\"srv.rtd\",\"\",\"SQT\",\"OMX30-CFD\",\"TICK\")","v":"-"},{"$f":"RTD(\"srv.rtd\",\"\",\"SQT\",\"OMX30-CFD\",\"HIGH\")","v":1999.6},{"$f":"RTD(\"srv.rtd\",\"\",\"SQT\",\"OMX30-CFD\",\"LOW\")","v":1955.06},{"$f":"RTD(\"srv.rtd\",\"\",\"SQT\",\"OMX30-CFD\",\"OPEN\")","v":1995.69},{"$f":"RTD(\"srv.rtd\",\"\",\"SQT\",\"OMX30-CFD\",\"CLOSE\")","v":1987.32},{"$f":"RTD(\"srv.rtd\",\"\",\"SQT\",\"OMX30-CFD\",\"DATE\")","v":44799},{"$f":"RTD(\"srv.rtd\",\"\",\"SQT\",\"OMX30-CFD\",\"TIME\")","v":0.505462962962963}]
[null,{"$f":"RTD(\"srv.rtd\",\"\",\"SQT\",\"SSMI-CFD\",\"ARROWVAR\")","v":"0"},"SSMI-CFD",{"$f":"RTD(\"srv.rtd\",\"\",\"SQT\",\"SSMI-CFD\",\"FLAG\")","v":"12"},{"$f":"RTD(\"srv.rtd\",\"\",\"SQT\",\"SSMI-CFD\",\"DESC\")","v":"SWISS MARKET (CFD) "},{"$f":"RTD(\"srv.rtd\",\"\",\"SQT\",\"SSMI-CFD\",\"LAST\")","v":10945.7},{"$f":"RTD(\"srv.rtd\",\"\",\"SQT\",\"SSMI-CFD\",\"VAR\")","v":-1.0681605368098599},{"$f":"RTD(\"srv.rtd\",\"\",\"SQT\",\"SSMI-CFD\",\"TICK\")","v":"-"},{"$f":"RTD(\"srv.rtd\",\"\",\"SQT\",\"SSMI-CFD\",\"HIGH\")","v":11105},{"$f":"RTD(\"srv.rtd\",\"\",\"SQT\",\"SSMI-CFD\",\"LOW\")","v":10942.7},{"$f":"RTD(\"srv.rtd\",\"\",\"SQT\",\"SSMI-CFD\",\"OPEN\")","v":11102.3},{"$f":"RTD(\"srv.rtd\",\"\",\"SQT\",\"SSMI-CFD\",\"CLOSE\")","v":11063.88},{"$f":"RTD(\"srv.rtd\",\"\",\"SQT\",\"SSMI-CFD\",\"DATE\")","v":44799},{"$f":"RTD(\"srv.rtd\",\"\",\"SQT\",\"SSMI-CFD\",\"TIME\")","v":0.505462962962963}]
[null,{"$f":"RTD(\"srv.rtd\",\"\",\"SQT\",\"AEX-CFD\",\"ARROWVAR\")","v":"0"},"AEX-CFD",{"$f":"RTD(\"srv.rtd\",\"\",\"SQT\",\"AEX-CFD\",\"FLAG\")","v":"15"},{"$f":"RTD(\"srv.rtd\",\"\",\"SQT\",\"AEX-CFD\",\"DESC\")","v":"AMSTERDAM AEX (CFD) "},{"$f":"RTD(\"srv.rtd\",\"\",\"SQT\",\"AEX-CFD\",\"LAST\")","v":705.24},{"$f":"RTD(\"srv.rtd\",\"\",\"SQT\",\"AEX-CFD\",\"VAR\")","v":-12.678916348868301},{"$f":"RTD(\"srv.rtd\",\"\",\"SQT\",\"AEX-CFD\",\"TICK\")","v":"+"},{"$f":"RTD(\"srv.rtd\",\"\",\"SQT\",\"AEX-CFD\",\"HIGH\")","v":722.32},{"$f":"RTD(\"srv.rtd\",\"\",\"SQT\",\"AEX-CFD\",\"LOW\")","v":703.24},{"$f":"RTD(\"srv.rtd\",\"\",\"SQT\",\"AEX-CFD\",\"OPEN\")","v":721.72},{"$f":"RTD(\"srv.rtd\",\"\",\"SQT\",\"AEX-CFD\",\"CLOSE\")","v":807.64},{"$f":"RTD(\"srv.rtd\",\"\",\"SQT\",\"AEX-CFD\",\"DATE\")","v":44799},{"$f":"RTD(\"srv.rtd\",\"\",\"SQT\",\"AEX-CFD\",\"TIME\")","v":0.50543981481481504}]
[null," "]
[null,{"$f":"RTD(\"srv.rtd\",\"\",\"SQT\",\"\",\"ARROWVAR\")","v":{"$error":"#N/A"}},{"$f":"-ASIA/OCEANIA","v":{"$error":"#NAME?"}},{"$f":"RTD(\"srv.rtd\",\"\",\"SQT\",\"\",\"FLAG\")","v":{"$error":"#N/A"}},{"$f":"RTD(\"srv.rtd\",\"\",\"SQT\",\"\",\"DESC\")","v":{"$error":"#N/A"}},{"$f":"RTD(\"srv.rtd\",\"\",\"SQT\",\"\",\"LAST\")","v":{"$error":"#N/A"}},{"$f":"RTD(\"srv.rtd\",\"\",\"SQT\",\"\",\"VAR\")","v":{"$error":"#N/A"}},{"$f":"RTD(\"srv.rtd\",\"\",\"SQT\",\"\",\"TICK\")","v":{"$error":"#N/A"}},{"$f":"RTD(\"srv.rtd\",\"\",\"SQT\",\"\",\"HIGH\")","v":{"$error":"#N/A"}},{"$f":"RTD(\"srv.rtd\",\"\",\"SQT\",\"\",\"LOW\")","v":{"$error":"#N/A"}},{"$f":"RTD(\"srv.rtd\",\"\",\"SQT\",\"\",\"OPEN\")","v":{"$error":"#N/A"}},{"$f":"RTD(\"srv.rtd\",\"\",\"SQT\",\"\",\"CLOSE\")","v":{"$error":"#N/A"}},{"$f":"RTD(\"srv.rtd\",\"\",\"SQT\",\"\",\"DATE\")","v":{"$error":"#N/A"}},{"$f":"RTD(\"srv.rtd\",\"\",\"SQT\",\"\",\"TIME\")","v":{"$error":"#N/A"}}]
[null,{"$f":"RTD(\"srv.rtd\",\"\",\"SQT\",\"NI225-CFD\",\"ARROWVAR\")","v":"0"},"NI225-CFD",{"$f":"RTD(\"srv.rtd\",\"\",\"SQT\",\"NI225-CFD\",\"FLAG\")","v":"9"},{"$f":"RTD(\"srv.rtd\",\"\",\"SQT\",\"NI225-CFD\",\"DESC\")","v":"NIKKEI 225 (CFD) "},{"$f":"RTD(\"srv.rtd\",\"\",\"SQT\",\"NI225-CFD\",\"LAST\")","v":28370.3},{"$f":"RTD(\"srv.rtd\",\"\",\"SQT\",\"NI225-CFD\",\"VAR\")","v":-0.38171972972375101},{"$f":"RTD(\"srv.rtd\",\"\",\"SQT\",\"NI225-CFD\",\"TICK\")","v":"-"},{"$f":"RTD(\"srv.rtd\",\"\",\"SQT\",\"NI225-CFD\",\"HIGH\")","v":28760.3},{"$f":"RTD(\"srv.rtd\",\"\",\"SQT\",\"NI225-CFD\",\"LOW\")","v":28355.3},{"$f":"RTD(\"srv.rtd\",\"\",\"SQT\",\"NI225-CFD\",\"OPEN\")","v":28737.8},{"$f":"RTD(\"srv.rtd\",\"\",\"SQT\",\"NI225-CFD\",\"CLOSE\")","v":28479.01},{"$f":"RTD(\"srv.rtd\",\"\",\"SQT\",\"NI225-CFD\",\"DATE\")","v":44799},{"$f":"RTD(\"srv.rtd\",\"\",\"SQT\",\"NI225-CFD\",\"TIME\")","v":0.505428240740741}]
[null,{"$f":"RTD(\"srv.rtd\",\"\",\"SQT\",\"HSI-CFD\",\"ARROWVAR\")","v":"2"},"HSI-CFD",{"$f":"RTD(\"srv.rtd\",\"\",\"SQT\",\"HSI-CFD\",\"FLAG\")","v":"10"},{"$f":"RTD(\"srv.rtd\",\"\",\"SQT\",\"HSI-CFD\",\"DESC\")","v":"HANG SENG (CFD) "},{"$f":"RTD(\"srv.rtd\",\"\",\"SQT\",\"HSI-CFD\",\"LAST\")","v":20226.5},{"$f":"RTD(\"srv.rtd\",\"\",\"SQT\",\"HSI-CFD\",\"VAR\")","v":1.2926436696417001},{"$f":"RTD(\"srv.rtd\",\"\",\"SQT\",\"HSI-CFD\",\"TICK\")","v":"-"},{"$f":"RTD(\"srv.rtd\",\"\",\"SQT\",\"HSI-CFD\",\"HIGH\")","v":20672},{"$f":"RTD(\"srv.rtd\",\"\",\"SQT\",\"HSI-CFD\",\"LOW\")","v":20051.599999999999},{"$f":"RTD(\"srv.rtd\",\"\",\"SQT\",\"HSI-CFD\",\"OPEN\")","v":20074.599999999999},{"$f":"RTD(\"srv.rtd\",\"\",\"SQT\",\"HSI-CFD\",\"CLOSE\")","v":19968.38},{"$f":"RTD(\"srv.rtd\",\"\",\"SQT\",\"HSI-CFD\",\"DATE\")","v":44799},{"$f":"RTD(\"srv.rtd\",\"\",\"SQT\",\"HSI-CFD\",\"TIME\")","v":0.505462962962963}]
[null,{"$f":"RTD(\"srv.rtd\",\"\",\"SQT\",\"AORD-CFD\",\"ARROWVAR\")","v":"0"},"AORD-CFD",{"$f":"RTD(\"srv.rtd\",\"\",\"SQT\",\"AORD-CFD\",\"FLAG\")","v":"14"},{"$f":"RTD(\"srv.rtd\",\"\",\"SQT\",\"AORD-CFD\",\"DESC\")","v":"AUSTRALIA ALL ORDS (CFD) "},{"$f":"RTD(\"srv.rtd\",\"\",\"SQT\",\"AORD-CFD\",\"LAST\")","v":7044.7},{"$f":"RTD(\"srv.rtd\",\"\",\"SQT\",\"AORD-CFD\",\"VAR\")","v":-3.3900629465571401},{"$f":"RTD(\"srv.rtd\",\"\",\"SQT\",\"AORD-CFD\",\"TICK\")","v":"-"},{"$f":"RTD(\"srv.rtd\",\"\",\"SQT\",\"AORD-CFD\",\"HIGH\")","v":7132.2},{"$f":"RTD(\"srv.rtd\",\"\",\"SQT\",\"AORD-CFD\",\"LOW\")","v":7042.2},{"$f":"RTD(\"srv.rtd\",\"\",\"SQT\",\"AORD-CFD\",\"OPEN\")","v":7115.4},{"$f":"RTD(\"srv.rtd\",\"\",\"SQT\",\"AORD-CFD\",\"CLOSE\")","v":7291.9},{"$f":"RTD(\"srv.rtd\",\"\",\"SQT\",\"AORD-CFD\",\"DATE\")","v":44799},{"$f":"RTD(\"srv.rtd\",\"\",\"SQT\",\"AORD-CFD\",\"TIME\")","v":0.505462962962963}]
[]
[]
[null,{"$f":"RTD(\"srv.rtd\",\"\",\"SQT\",\"IRISCOBR\",\"FLAG\")","v":"0"},{"$f":"RTD(\"srv.rtd\",\"\",\"SQT\",\"IRISCOBR\",\"DESC\")","v":"RISCO BRASIL "},{"$f":"RTD(\"srv.rtd\",\"\",\"SQT\",\"IRISCOBR\",\"LAST\")","v":288},{"$f":"RTD(\"srv.rtd\",\"\",\"SQT\",\"IRISCOBR\",\"DATE\")","v":44799},{"$f":"RTD(\"srv.rtd\",\"\",\"SQT\",\"IRISCOBR\",\"TIME\")","v":0.41666666666666702},{"$f":"RTD(\"srv.rtd\",\"\",\"SQT\",\"IRISCOBR\",\"VAR\")","v":-1.0309278350515401}]
[]
[]
[null,{"$f":"RTD(\"srv.rtd\",\"\",\"SQT\",\"DJIA-CFD\",\"ARROWVAR\")","v":"0"},"DJIA-CFD",{"$f":"RTD(\"srv.rtd\",\"\",\"SQT\",\"DJIA-CFD\",\"FLAG\")","v":"1"},{"$f":"RTD(\"srv.rtd\",\"\",\"SQT\",\"DJIA-CFD\",\"DESC\")","v":"DOW JONES (CFD) "},null,{"$f":"RTD(\"srv.rtd\",\"\",\"SQT\",\"DJIA-CFD\",\"VAR\")","v":-1.53485334818383},{"$f":"RTD(\"srv.rtd\",\"\",\"SQT\",\"DJIA-CFD\",\"TICK\")","v":"-"}]
[null,{"$f":"RTD(\"srv.rtd\",\"\",\"SQT\",\"SP500-CFD\",\"ARROWVAR\")","v":"0"},"SP500-CFD",{"$f":"RTD(\"srv.rtd\",\"\",\"SQT\",\"SP500-CFD\",\"FLAG\")","v":"1"},{"$f":"RTD(\"srv.rtd\",\"\",\"SQT\",\"SP500-CFD\",\"DESC\")","v":"SP500 (CFD) "},null,{"$f":"RTD(\"srv.rtd\",\"\",\"SQT\",\"SP500-CFD\",\"VAR\")","v":-1.9056373716397601},{"$f":"RTD(\"srv.rtd\",\"\",\"SQT\",\"SP500-CFD\",\"TICK\")","v":"-"}]
[null,{"$f":"RTD(\"srv.rtd\",\"\",\"SQT\",\"NASDAQ-CFD\",\"ARROWVAR\")","v":"2"},"NASDAQ-CFD",{"$f":"RTD(\"srv.rtd\",\"\",\"SQT\",\"NASDAQ-CFD\",\"FLAG\")","v":"1"},{"$f":"RTD(\"srv.rtd\",\"\",\"SQT\",\"NASDAQ-CFD\",\"DESC\")","v":"NASDAQ 100 (CFD) "},null,{"$f":"RTD(\"srv.rtd\",\"\",\"SQT\",\"NASDAQ-CFD\",\"VAR\")","v":1.400634688554},{"$f":"RTD(\"srv.rtd\",\"\",\"SQT\",\"NASDAQ-CFD\",\"TICK\")","v":"-"}]
[]
[]
[null,"WINQ22",{"$f":"RTD(\"srv.rtd\",\"\",\"SQT\",\"WINQ22\",\"FLAG\")","v":"0"},{"$f":"RTD(\"srv.rtd\",\"\",\"SQT\",\"WINQ22\",\"DESC\")","v":"MINI INDICE AGO/22 "},{"$f":"RTD(\"srv.rtd\",\"\",\"SQT\",\"WINQ22\",\"LAST\")","v":0},{"$f":"RTD(\"srv.rtd\",\"\",\"SQT\",\"WINQ22\",\"VAR\")","v":"0"}]
[]
[]
[]
[null,"GOLD-CFD",{"$f":"RTD(\"srv.rtd\",\"\",\"SQT\",\"GOLD-CFD\",\"FLAG\")","v":"4"},{"$f":"RTD(\"srv.rtd\",\"\",\"SQT\",\"GOLD-CFD\",\"DESC\")","v":"GOLD (CFD) "},{"$f":"RTD(\"srv.rtd\",\"\",\"SQT\",\"GOLD-CFD\",\"LAST\")","v":1740.33},{"$f":"RTD(\"srv.rtd\",\"\",\"SQT\",\"GOLD-CFD\",\"VAR\")","v":-0.86075285968191195},{"$f":"RTD(\"srv.rtd\",\"\",\"SQT\",\"GOLD-CFD\",\"TICK\")","v":"-"},{"$f":"RTD(\"srv.rtd\",\"\",\"SQT\",\"GOLD-CFD\",\"HIGH\")","v":1758.7},{"$f":"RTD(\"srv.rtd\",\"\",\"SQT\",\"GOLD-CFD\",\"LOW\")","v":1739.04},{"$f":"RTD(\"srv.rtd\",\"\",\"SQT\",\"GOLD-CFD\",\"OPEN\")","v":1755.47},{"$f":"RTD(\"srv.rtd\",\"\",\"SQT\",\"GOLD-CFD\",\"CLOSE\")","v":1755.44},{"$f":"RTD(\"srv.rtd\",\"\",\"SQT\",\"GOLD-CFD\",\"DATE\")","v":44799},{"$f":"RTD(\"srv.rtd\",\"\",\"SQT\",\"GOLD-CFD\",\"TIME\")","v":0.505462962962963}]
[null,"SILVER-CFD",{"$f":"RTD(\"srv.rtd\",\"\",\"SQT\",\"SILVER-CFD\",\"FLAG\")","v":"4"},{"$f":"RTD(\"srv.rtd\",\"\",\"SQT\",\"SILVER-CFD\",\"DESC\")","v":"SILVER (CFD) "},{"$f":"RTD(\"srv.rtd\",\"\",\"SQT\",\"SILVER-CFD\",\"LAST\")","v":19.04},{"$f":"RTD(\"srv.rtd\",\"\",\"SQT\",\"SILVER-CFD\",\"VAR\")","v":-1.02921301590602},{"$f":"RTD(\"srv.rtd\",\"\",\"SQT\",\"SILVER-CFD\",\"TICK\")","v":"+"},{"$f":"RTD(\"srv.rtd\",\"\",\"SQT\",\"SILVER-CFD\",\"HIGH\")","v":19.41},{"$f":"RTD(\"srv.rtd\",\"\",\"SQT\",\"SILVER-CFD\",\"LOW\")","v":19.02},{"$f":"RTD(\"srv.rtd\",\"\",\"SQT\",\"SILVER-CFD\",\"OPEN\")","v":19.23},{"$f":"RTD(\"srv.rtd\",\"\",\"SQT\",\"SILVER-CFD\",\"CLOSE\")","v":19.238},{"$f":"RTD(\"srv.rtd\",\"\",\"SQT\",\"SILVER-CFD\",\"DATE\")","v":44799},{"$f":"RTD(\"srv.rtd\",\"\",\"SQT\",\"SILVER-CFD\",\"TIME\")","v":0.50547453703703704}]
[null," "]
[]
[null,"BRENT-CFD",{"$f":"RTD(\"srv.rtd\",\"\",\"SQT\",\"BRENT-CFD\",\"FLAG\")","v":"4"},{"$f":"RTD(\"srv.rtd\",\"\",\"SQT\",\"BRENT-CFD\",\"DESC\")","v":"BRENT OIL(CFD) "},{"$f":"RTD(\"srv.rtd\",\"\",\"SQT\",\"BRENT-CFD\",\"LAST\")","v":98.13},{"$f":"RTD(\"srv.rtd\",\"\",\"SQT\",\"BRENT-CFD\",\"VAR\")","v":-1.40264855414666},{"$f":"RTD(\"srv.rtd\",\"\",\"SQT\",\"BRENT-CFD\",\"TICK\")","v":"-"},{"$f":"RTD(\"srv.rtd\",\"\",\"SQT\",\"BRENT-CFD\",\"HIGH\")","v":100.19},{"$f":"RTD(\"srv.rtd\",\"\",\"SQT\",\"BRENT-CFD\",\"LOW\")","v":97.14},{"$f":"RTD(\"srv.rtd\",\"\",\"SQT\",\"BRENT-CFD\",\"OPEN\")","v":99.5},{"$f":"RTD(\"srv.rtd\",\"\",\"SQT\",\"BRENT-CFD\",\"CLOSE\")","v":99.525999999999996},{"$f":"RTD(\"srv.rtd\",\"\",\"SQT\",\"BRENT-CFD\",\"DATE\")","v":44799},{"$f":"RTD(\"srv.rtd\",\"\",\"SQT\",\"BRENT-CFD\",\"TIME\")","v":0.50547453703703704}]
[null,"CRUDE-CFD",{"$f":"RTD(\"srv.rtd\",\"\",\"SQT\",\"CRUDE-CFD\",\"FLAG\")","v":"4"},{"$f":"RTD(\"srv.rtd\",\"\",\"SQT\",\"CRUDE-CFD\",\"DESC\")","v":"CRUDE OIL (CFD) "},{"$f":"RTD(\"srv.rtd\",\"\",\"SQT\",\"CRUDE-CFD\",\"LAST\")","v":92.1},{"$f":"RTD(\"srv.rtd\",\"\",\"SQT\",\"CRUDE-CFD\",\"VAR\")","v":-1.3570105069242899},{"$f":"RTD(\"srv.rtd\",\"\",\"SQT\",\"CRUDE-CFD\",\"TICK\")","v":"-"},{"$f":"RTD(\"srv.rtd\",\"\",\"SQT\",\"CRUDE-CFD\",\"HIGH\")","v":93.9},{"$f":"RTD(\"srv.rtd\",\"\",\"SQT\",\"CRUDE-CFD\",\"LOW\")","v":91.07},{"$f":"RTD(\"srv.rtd\",\"\",\"SQT\",\"CRUDE-CFD\",\"OPEN\")","v":93.35},{"$f":"RTD(\"srv.rtd\",\"\",\"SQT\",\"CRUDE-CFD\",\"CLOSE\")","v":93.367000000000004},{"$f":"RTD(\"srv.rtd\",\"\",\"SQT\",\"CRUDE-CFD\",\"DATE\")","v":44799},{"$f":"RTD(\"srv.rtd\",\"\",\"SQT\",\"CRUDE-CFD\",\"TIME\")","v":0.50547453703703704}]
[null,"COFFEE-CFD",{"$f":"RTD(\"srv.rtd\",\"\",\"SQT\",\"COFFEE-CFD\",\"FLAG\")","v":"4"},{"$f":"RTD(\"srv.rtd\",\"\",\"SQT\",\"COFFEE-CFD\",\"DESC\")","v":"COFFEE (CFD) "},{"$f":"RTD(\"srv.rtd\",\"\",\"SQT\",\"COFFEE-CFD\",\"LAST\")","v":238.67},{"$f":"RTD(\"srv.rtd\",\"\",\"SQT\",\"COFFEE-CFD\",\"VAR\")","v":-0.45420609862403299},{"$f":"RTD(\"srv.rtd\",\"\",\"SQT\",\"COFFEE-CFD\",\"TICK\")","v":"+"},{"$f":"RTD(\"srv.rtd\",\"\",\"SQT\",\"COFFEE-CFD\",\"HIGH\")","v":238.67},{"$f":"RTD(\"srv.rtd\",\"\",\"SQT\",\"COFFEE-CFD\",\"LOW\")","v":238.67},{"$f":"RTD(\"srv.rtd\",\"\",\"SQT\",\"COFFEE-CFD\",\"OPEN\")","v":238.67},{"$f":"RTD(\"srv.rtd\",\"\",\"SQT\",\"COFFEE-CFD\",\"CLOSE\")","v":239.75899999999999},{"$f":"RTD(\"srv.rtd\",\"\",\"SQT\",\"COFFEE-CFD\",\"DATE\")","v":44799},{"$f":"RTD(\"srv.rtd\",\"\",\"SQT\",\"COFFEE-CFD\",\"TIME\")","v":0.50513888888888903}]

{"sheet":"CORRETORAS-DL","index":8,"n_rows":45,"n_cols":21,"rows_kept":45,"cut":false,"hidden":true,"merged":[]}
[]
[]
[]
[]
[null,null,null,null,null,"CPF",null,"BANCOS","ESTRANGEIROS"]
[]
[null,null,null,null,null,"ORAMA",null,"BRADESCO","MORGAN STANLEY",null,null,null,null,null,1,"TULLETT",{"$f":"RTD(\"srv.rtd\",\"\",\"PLAYERSRANKING\",\"WDOU22\",\"127\",\"SALDO\",\"QUANTITY\")","v":3556},{"$f":"RTD(\"srv.rtd\",\"\",\"PLAYERSRANKING\",\"WDOU22\",\"127\",\"SALDO\",\"VOLQ\")","v":21632},{"$f":"RTD(\"srv.rtd\",\"\",\"PLAYERSRANKING\",\"WDOU22\",\"127\",\"SALDO\",\"VOLF\")","v":110217387},{"$f":"RTD(\"srv.rtd\",\"\",\"PLAYERSRANKING\",\"WDOU22\",\"127\",\"SALDO\",\"AVG_PRICE\")","v":5092.7157285940702},{"$f":"RTD(\"srv.rtd\",\"\",\"PLAYERSRANKING\",\"WDOU22\",\"127\",\"SALDO\",\"AVG_PRICE_2\")","v":5095.1084966715998}]
[null,null,null,null,null,"GENIAL",null,"TERRA","GOLDMAN SACHS",null,null,null,null,null,2,"JP MORGAN",{"$f":"RTD(\"srv.rtd\",\"\",\"PLAYERSRANKING\",\"WDOU22\",\"16\",\"SALDO\",\"QUANTITY\")","v":364},{"$f":"RTD(\"srv.rtd\",\"\",\"PLAYERSRANKING\",\"WDOU22\",\"16\",\"SALDO\",\"VOLQ\")","v":1656},{"$f":"RTD(\"srv.rtd\",\"\",\"PLAYERSRANKING\",\"WDOU22\",\"16\",\"SALDO\",\"VOLF\")","v":8415148.5},{"$f":"RTD(\"srv.rtd\",\"\",\"PLAYERSRANKING\",\"WDOU22\",\"16\",\"SALDO\",\"AVG_PRICE\")","v":5092.5579030686804},{"$f":"RTD(\"srv.rtd\",\"\",\"PLAYERSRANKING\",\"WDOU22\",\"16\",\"SALDO\",\"AVG_PRICE_2\")","v":5081.6114130434798}]
[null,null,null,null,null,"NOVA FUTURA",null,"ATIVA","TULLET",null,null,null,null,null,3,"CM CAPITAL",{"$f":"RTD(\"srv.rtd\",\"\",\"PLAYERSRANKING\",\"WDOU22\",\"88\",\"SALDO\",\"QUANTITY\")","v":415},{"$f":"RTD(\"srv.rtd\",\"\",\"PLAYERSRANKING\",\"WDOU22\",\"88\",\"SALDO\",\"VOLQ\")","v":-1600},{"$f":"RTD(\"srv.rtd\",\"\",\"PLAYERSRANKING\",\"WDOU22\",\"88\",\"SALDO\",\"VOLF\")","v":-8110835.5},{"$f":"RTD(\"srv.rtd\",\"\",\"PLAYERSRANKING\",\"WDOU22\",\"88\",\"SALDO\",\"AVG_PRICE\")","v":5095.1326387691797},{"$f":"RTD(\"srv.rtd\",\"\",\"PLAYERSRANKING\",\"WDOU22\",\"88\",\"SALDO\",\"AVG_PRICE_2\")","v":5069.2721874999997}]
[null,null,null,null,null,"RICO",null,"ITAU","MERRILL LYCH",null,null,null,null,null,4,"UBS",{"$f":"RTD(\"srv.rtd\",\"\",\"PLAYERSRANKING\",\"WDOU22\",\"8\",\"SALDO\",\"QUANTITY\")","v":-1574},{"$f":"RTD(\"srv.rtd\",\"\",\"PLAYERSRANKING\",\"WDOU22\",\"8\",\"SALDO\",\"VOLQ\")","v":-9565},{"$f":"RTD(\"srv.rtd\",\"\",\"PLAYERSRANKING\",\"WDOU22\",\"8\",\"SALDO\",\"VOLF\")","v":-48518352},{"$f":"RTD(\"srv.rtd\",\"\",\"PLAYERSRANKING\",\"WDOU22\",\"8\",\"SALDO\",\"AVG_PRICE\")","v":5095.7136213805497},{"$f":"RTD(\"srv.rtd\",\"\",\"PLAYERSRANKING\",\"WDOU22\",\"8\",\"SALDO\",\"AVG_PRICE_2\")","v":5072.4884474647097}]
[null,null,null,null,null,"AGORA",null,"RENASCENCA","ICAP",null,null,null,null,null,5,"ITAU",{"$f":"RTD(\"srv.rtd\",\"\",\"PLAYERSRANKING\",\"WDOU22\",\"114\",\"SALDO\",\"QUANTITY\")","v":-969},{"$f":"RTD(\"srv.rtd\",\"\",\"PLAYERSRANKING\",\"WDOU22\",\"114\",\"SALDO\",\"VOLQ\")","v":-7407},{"$f":"RTD(\"srv.rtd\",\"\",\"PLAYERSRANKING\",\"WDOU22\",\"114\",\"SALDO\",\"VOLF\")","v":-37842699},{"$f":"RTD(\"srv.rtd\",\"\",\"PLAYERSRANKING\",\"WDOU22\",\"114\",\"SALDO\",\"AVG_PRICE\")","v":5092.2621963070897},{"$f":"RTD(\"srv.rtd\",\"\",\"PLAYERSRANKING\",\"WDOU22\",\"114\",\"SALDO\",\"AVG_PRICE_2\")","v":5109.0453624949396}]
[null,null,null,null,null,"CM CAPITAL",null,"BTG","JP MORGAN",null,null,null,null,null,6,"GOLDMAN SACHS",{"$f":"RTD(\"srv.rtd\",\"\",\"PLAYERSRANKING\",\"WDOU22\",\"238\",\"SALDO\",\"QUANTITY\")","v":-757},{"$f":"RTD(\"srv.rtd\",\"\",\"PLAYERSRANKING\",\"WDOU22\",\"238\",\"SALDO\",\"VOLQ\")","v":-431},{"$f":"RTD(\"srv.rtd\",\"\",\"PLAYERSRANKING\",\"WDOU22\",\"238\",\"SALDO\",\"VOLF\")","v":-2260638.5},{"$f":"RTD(\"srv.rtd\",\"\",\"PLAYERSRANKING\",\"WDOU22\",\"238\",\"SALDO\",\"AVG_PRICE\")","v":5091.0005524861899},{"$f":"RTD(\"srv.rtd\",\"\",\"PLAYERSRANKING\",\"WDOU22\",\"238\",\"SALDO\",\"AVG_PRICE_2\")","v":5245.1009280742501}]
[null,null,null,null,null,"MODAL",null,"FC STONE","CREDIT SUISSE",null,null,null,null,null,7,"IDEAL",{"$f":"RTD(\"srv.rtd\",\"\",\"PLAYERSRANKING\",\"WDOU22\",\"1618\",\"SALDO\",\"QUANTITY\")","v":-795},{"$f":"RTD(\"srv.rtd\",\"\",\"PLAYERSRANKING\",\"WDOU22\",\"1618\",\"SALDO\",\"VOLQ\")","v":18644},{"$f":"RTD(\"srv.rtd\",\"\",\"PLAYERSRANKING\",\"WDOU22\",\"1618\",\"SALDO\",\"VOLF\")","v":95041644},{"$f":"RTD(\"srv.rtd\",\"\",\"PLAYERSRANKING\",\"WDOU22\",\"1618\",\"SALDO\",\"AVG_PRICE\")","v":5094.4490440038498},{"$f":"RTD(\"srv.rtd\",\"\",\"PLAYERSRANKING\",\"WDOU22\",\"1618\",\"SALDO\",\"AVG_PRICE_2\")","v":5097.7067152971504}]
[null,null,null,null,null,"CLEAR",null,"COMMCOR","UBS",null,null,null,null,null,8,"BTG",{"$f":"RTD(\"srv.rtd\",\"\",\"PLAYERSRANKING\",\"WDOU22\",\"85\",\"SALDO\",\"QUANTITY\")","v":2606},{"$f":"RTD(\"srv.rtd\",\"\",\"PLAYERSRANKING\",\"WDOU22\",\"85\",\"SALDO\",\"VOLQ\")","v":-8855},{"$f":"RTD(\"srv.rtd\",\"\",\"PLAYERSRANKING\",\"WDOU22\",\"85\",\"SALDO\",\"VOLF\")","v":-45096042.5},{"$f":"RTD(\"srv.rtd\",\"\",\"PLAYERSRANKING\",\"WDOU22\",\"85\",\"SALDO\",\"AVG_PRICE\")","v":5096.0778559059099},{"$f":"RTD(\"srv.rtd\",\"\",\"PLAYERSRANKING\",\"WDOU22\",\"85\",\"SALDO\",\"AVG_PRICE_2\")","v":5092.7207792207801}]
[null,null,null,null,null,"TORO",null,"ELITE","IDEAL",null,null,null,null,null,9,"MODAL",{"$f":"RTD(\"srv.rtd\",\"\",\"PLAYERSRANKING\",\"WDOU22\",\"1982\",\"SALDO\",\"QUANTITY\")","v":159},{"$f":"RTD(\"srv.rtd\",\"\",\"PLAYERSRANKING\",\"WDOU22\",\"1982\",\"SALDO\",\"VOLQ\")","v":1116},{"$f":"RTD(\"srv.rtd\",\"\",\"PLAYERSRANKING\",\"WDOU22\",\"1982\",\"SALDO\",\"VOLF\")","v":5715242.5},{"$f":"RTD(\"srv.rtd\",\"\",\"PLAYERSRANKING\",\"WDOU22\",\"1982\",\"SALDO\",\"AVG_PRICE\")","v":5095.4637743840603},{"$f":"RTD(\"srv.rtd\",\"\",\"PLAYERSRANKING\",\"WDOU22\",\"1982\",\"SALDO\",\"AVG_PRICE_2\")","v":5121.1850358422898}]
[null,null,null,null,null,null,null,"SAFRA",null,null,null,null,null,null,10,"AGORA",{"$f":"RTD(\"srv.rtd\",\"\",\"PLAYERSRANKING\",\"WDOU22\",\"39\",\"SALDO\",\"QUANTITY\")","v":-41},{"$f":"RTD(\"srv.rtd\",\"\",\"PLAYERSRANKING\",\"WDOU22\",\"39\",\"SALDO\",\"VOLQ\")","v":90},{"$f":"RTD(\"srv.rtd\",\"\",\"PLAYERSRANKING\",\"WDOU22\",\"39\",\"SALDO\",\"VOLF\")","v":454656},{"$f":"RTD(\"srv.rtd\",\"\",\"PLAYERSRANKING\",\"WDOU22\",\"39\",\"SALDO\",\"AVG_PRICE\")","v":5098.9408197406901},{"$f":"RTD(\"srv.rtd\",\"\",\"PLAYERSRANKING\",\"WDOU22\",\"39\",\"SALDO\",\"AVG_PRICE_2\")","v":5051.7333333333299}]
[null,null,null,null,null,null,null,"INTER",null,null,null,null,null,null,11,"MORGAN STANLEY",{"$f":"RTD(\"srv.rtd\",\"\",\"PLAYERSRANKING\",\"WDOU22\",\"40\",\"SALDO\",\"QUANTITY\")","v":-4751},{"$f":"RTD(\"srv.rtd\",\"\",\"PLAYERSRANKING\",\"WDOU22\",\"40\",\"SALDO\",\"VOLQ\")","v":-35457},{"$f":"RTD(\"srv.rtd\",\"\",\"PLAYERSRANKING\",\"WDOU22\",\"40\",\"SALDO\",\"VOLF\")","v":-180711011},{"$f":"RTD(\"srv.rtd\",\"\",\"PLAYERSRANKING\",\"WDOU22\",\"40\",\"SALDO\",\"AVG_PRICE\")","v":5095.5226083013904},{"$f":"RTD(\"srv.rtd\",\"\",\"PLAYERSRANKING\",\"WDOU22\",\"40\",\"SALDO\",\"AVG_PRICE_2\")","v":5096.6243901063299}]
[null,null,null,null,null,null,null,"C6 BANK",null,null,null,null,null,null,12,"TORO",{"$f":"RTD(\"srv.rtd\",\"\",\"PLAYERSRANKING\",\"WDOU22\",\"4090\",\"SALDO\",\"QUANTITY\")","v":471},{"$f":"RTD(\"srv.rtd\",\"\",\"PLAYERSRANKING\",\"WDOU22\",\"4090\",\"SALDO\",\"VOLQ\")","v":910},{"$f":"RTD(\"srv.rtd\",\"\",\"PLAYERSRANKING\",\"WDOU22\",\"4090\",\"SALDO\",\"VOLF\")","v":4635963},{"$f":"RTD(\"srv.rtd\",\"\",\"PLAYERSRANKING\",\"WDOU22\",\"4090\",\"SALDO\",\"AVG_PRICE\")","v":5096.8226615255498},{"$f":"RTD(\"srv.rtd\",\"\",\"PLAYERSRANKING\",\"WDOU22\",\"4090\",\"SALDO\",\"AVG_PRICE_2\")","v":5094.4648351648302}]
[null,null,null,null,null,null,null,"SANTANDER",null,null,null,null,null,null,13,"VOTORANTIM",{"$f":"RTD(\"srv.rtd\",\"\",\"PLAYERSRANKING\",\"WDOU22\",\"21\",\"SALDO\",\"QUANTITY\")","v":"0"},{"$f":"RTD(\"srv.rtd\",\"\",\"PLAYERSRANKING\",\"WDOU22\",\"21\",\"SALDO\",\"VOLQ\")","v":"0"},{"$f":"RTD(\"srv.rtd\",\"\",\"PLAYERSRANKING\",\"WDOU22\",\"21\",\"SALDO\",\"VOLF\")","v":"0"},{"$f":"RTD(\"srv.rtd\",\"\",\"PLAYERSRANKING\",\"WDOU22\",\"21\",\"SALDO\",\"AVG_PRICE\")","v":"0"},{"$f":"RTD(\"srv.rtd\",\"\",\"PLAYERSRANKING\",\"WDOU22\",\"21\",\"SALDO\",\"AVG_PRICE_2\")","v":"0"}]
[null,null,null,null,null,null,null,"MIRAE",null,null,null,null,null,null,14,"PLANNER",{"$f":"RTD(\"srv.rtd\",\"\",\"PLAYERSRANKING\",\"WDOU22\",\"129\",\"SALDO\",\"QUANTITY\")","v":6},{"$f":"RTD(\"srv.rtd\",\"\",\"PLAYERSRANKING\",\"WDOU22\",\"129\",\"SALDO\",\"VOLQ\")","v":-12},{"$f":"RTD(\"srv.rtd\",\"\",\"PLAYERSRANKING\",\"WDOU22\",\"129\",\"SALDO\",\"VOLF\")","v":-60846},{"$f":"RTD(\"srv.rtd\",\"\",\"PLAYERSRANKING\",\"WDOU22\",\"129\",\"SALDO\",\"AVG_PRICE\")","v":5100.2941176470604},{"$f":"RTD(\"srv.rtd\",\"\",\"PLAYERSRANKING\",\"WDOU22\",\"129\",\"SALDO\",\"AVG_PRICE_2\")","v":5070.5}]
[null,null,null,null,null,null,null,"GUIDE",null,null,null,null,null,null,15,"INTER",{"$f":"RTD(\"srv.rtd\",\"\",\"PLAYERSRANKING\",\"WDOU22\",\"1099\",\"SALDO\",\"QUANTITY\")","v":-13},{"$f":"RTD(\"srv.rtd\",\"\",\"PLAYERSRANKING\",\"WDOU22\",\"1099\",\"SALDO\",\"VOLQ\")","v":-146},{"$f":"RTD(\"srv.rtd\",\"\",\"PLAYERSRANKING\",\"WDOU22\",\"1099\",\"SALDO\",\"VOLF\")","v":-742453},{"$f":"RTD(\"srv.rtd\",\"\",\"PLAYERSRANKING\",\"WDOU22\",\"1099\",\"SALDO\",\"AVG_PRICE\")","v":5099.2257581430204},{"$f":"RTD(\"srv.rtd\",\"\",\"PLAYERSRANKING\",\"WDOU22\",\"1099\",\"SALDO\",\"AVG_PRICE_2\")","v":5085.29452054795}]
[null,null,null,null,null,null,null,"BTG",null,null,null,null,null,null,16,"ICAP",{"$f":"RTD(\"srv.rtd\",\"\",\"PLAYERSRANKING\",\"WDOU22\",\"735\",\"SALDO\",\"QUANTITY\")","v":-37},{"$f":"RTD(\"srv.rtd\",\"\",\"PLAYERSRANKING\",\"WDOU22\",\"735\",\"SALDO\",\"VOLQ\")","v":-39},{"$f":"RTD(\"srv.rtd\",\"\",\"PLAYERSRANKING\",\"WDOU22\",\"735\",\"SALDO\",\"VOLF\")","v":-200111},{"$f":"RTD(\"srv.rtd\",\"\",\"PLAYERSRANKING\",\"WDOU22\",\"735\",\"SALDO\",\"AVG_PRICE\")","v":5098.8611398963703},{"$f":"RTD(\"srv.rtd\",\"\",\"PLAYERSRANKING\",\"WDOU22\",\"735\",\"SALDO\",\"AVG_PRICE_2\")","v":5131.0512820512804}]
[null,null,null,null,null,null,null,"NECTON",null,null,null,null,null,null,17,"SAFRA",{"$f":"RTD(\"srv.rtd\",\"\",\"PLAYERSRANKING\",\"WDOU22\",\"59\",\"SALDO\",\"QUANTITY\")","v":4},{"$f":"RTD(\"srv.rtd\",\"\",\"PLAYERSRANKING\",\"WDOU22\",\"59\",\"SALDO\",\"VOLQ\")","v":4},{"$f":"RTD(\"srv.rtd\",\"\",\"PLAYERSRANKING\",\"WDOU22\",\"59\",\"SALDO\",\"VOLF\")","v":20191.5},{"$f":"RTD(\"srv.rtd\",\"\",\"PLAYERSRANKING\",\"WDOU22\",\"59\",\"SALDO\",\"AVG_PRICE\")","v":5095.0657894736796},{"$f":"RTD(\"srv.rtd\",\"\",\"PLAYERSRANKING\",\"WDOU22\",\"59\",\"SALDO\",\"AVG_PRICE_2\")","v":5047.875}]
[null,null,null,null,null,null,null,null,null,null,null,null,null,null,18,"CLEAR",{"$f":"RTD(\"srv.rtd\",\"\",\"PLAYERSRANKING\",\"WDOU22\",\"308\",\"SALDO\",\"QUANTITY\")","v":-275},{"$f":"RTD(\"srv.rtd\",\"\",\"PLAYERSRANKING\",\"WDOU22\",\"308\",\"SALDO\",\"VOLQ\")","v":170},{"$f":"RTD(\"srv.rtd\",\"\",\"PLAYERSRANKING\",\"WDOU22\",\"308\",\"SALDO\",\"VOLF\")","v":778023},{"$f":"RTD(\"srv.rtd\",\"\",\"PLAYERSRANKING\",\"WDOU22\",\"308\",\"SALDO\",\"AVG_PRICE\")","v":5096.6316439972697},{"$f":"RTD(\"srv.rtd\",\"\",\"PLAYERSRANKING\",\"WDOU22\",\"308\",\"SALDO\",\"AVG_PRICE_2\")","v":4576.6058823529402}]
[null,null,null,null,null,null,null,null,null,null,null,null,null,null,19,"ELITE",{"$f":"RTD(\"srv.rtd\",\"\",\"PLAYERSRANKING\",\"WDOU22\",\"174\",\"SALDO\",\"QUANTITY\")","v":-18},{"$f":"RTD(\"srv.rtd\",\"\",\"PLAYERSRANKING\",\"WDOU22\",\"174\",\"SALDO\",\"VOLQ\")","v":-33},{"$f":"RTD(\"srv.rtd\",\"\",\"PLAYERSRANKING\",\"WDOU22\",\"174\",\"SALDO\",\"VOLF\")","v":-168221.5},{"$f":"RTD(\"srv.rtd\",\"\",\"PLAYERSRANKING\",\"WDOU22\",\"174\",\"SALDO\",\"AVG_PRICE\")","v":5088.3567164179103},{"$f":"RTD(\"srv.rtd\",\"\",\"PLAYERSRANKING\",\"WDOU22\",\"174\",\"SALDO\",\"AVG_PRICE_2\")","v":5097.6212121212102}]
[null,null,null,null,null,null,null,null,null,null,null,null,null,null,20,"MIRAE",{"$f":"RTD(\"srv.rtd\",\"\",\"PLAYERSRANKING\",\"WDOU22\",\"262\",\"SALDO\",\"QUANTITY\")","v":121},{"$f":"RTD(\"srv.rtd\",\"\",\"PLAYERSRANKING\",\"WDOU22\",\"262\",\"SALDO\",\"VOLQ\")","v":4},{"$f":"RTD(\"srv.rtd\",\"\",\"PLAYERSRANKING\",\"WDOU22\",\"262\",\"SALDO\",\"VOLF\")","v":18617},{"$f":"RTD(\"srv.rtd\",\"\",\"PLAYERSRANKING\",\"WDOU22\",\"262\",\"SALDO\",\"AVG_PRICE\")","v":5096.9914667896701},{"$f":"RTD(\"srv.rtd\",\"\",\"PLAYERSRANKING\",\"WDOU22\",\"262\",\"SALDO\",\"AVG_PRICE_2\")","v":4654.25}]
[null,null,null,null,null,null,null,null,null,null,null,null,null,null,21,"COMMCOR",{"$f":"RTD(\"srv.rtd\",\"\",\"PLAYERSRANKING\",\"WDOU22\",\"115\",\"SALDO\",\"QUANTITY\")","v":163},{"$f":"RTD(\"srv.rtd\",\"\",\"PLAYERSRANKING\",\"WDOU22\",\"115\",\"SALDO\",\"VOLQ\")","v":957},{"$f":"RTD(\"srv.rtd\",\"\",\"PLAYERSRANKING\",\"WDOU22\",\"115\",\"SALDO\",\"VOLF\")","v":4859180.5},{"$f":"RTD(\"srv.rtd\",\"\",\"PLAYERSRANKING\",\"WDOU22\",\"115\",\"SALDO\",\"AVG_PRICE\")","v":5093.4725330620604},{"$f":"RTD(\"srv.rtd\",\"\",\"PLAYERSRANKING\",\"WDOU22\",\"115\",\"SALDO\",\"AVG_PRICE_2\")","v":5077.5135841170304}]
[null,null,null,null,null,null,null,null,null,null,null,null,null,null,22,"VITREO",{"$f":"RTD(\"srv.rtd\",\"\",\"PLAYERSRANKING\",\"WDOU22\",\"1855\",\"SALDO\",\"QUANTITY\")","v":68},{"$f":"RTD(\"srv.rtd\",\"\",\"PLAYERSRANKING\",\"WDOU22\",\"1855\",\"SALDO\",\"VOLQ\")","v":17},{"$f":"RTD(\"srv.rtd\",\"\",\"PLAYERSRANKING\",\"WDOU22\",\"1855\",\"SALDO\",\"VOLF\")","v":83869},{"$f":"RTD(\"srv.rtd\",\"\",\"PLAYERSRANKING\",\"WDOU22\",\"1855\",\"SALDO\",\"AVG_PRICE\")","v":5096.6490250696397},{"$f":"RTD(\"srv.rtd\",\"\",\"PLAYERSRANKING\",\"WDOU22\",\"1855\",\"SALDO\",\"AVG_PRICE_2\")","v":4933.4705882352901}]
[null,null,null,null,null,null,null,null,null,null,null,null,null,null,23,"WARREN",{"$f":"RTD(\"srv.rtd\",\"\",\"PLAYERSRANKING\",\"WDOU22\",\"190\",\"SALDO\",\"QUANTITY\")","v":-59},{"$f":"RTD(\"srv.rtd\",\"\",\"PLAYERSRANKING\",\"WDOU22\",\"190\",\"SALDO\",\"VOLQ\")","v":-55},{"$f":"RTD(\"srv.rtd\",\"\",\"PLAYERSRANKING\",\"WDOU22\",\"190\",\"SALDO\",\"VOLF\")","v":-286547},{"$f":"RTD(\"srv.rtd\",\"\",\"PLAYERSRANKING\",\"WDOU22\",\"190\",\"SALDO\",\"AVG_PRICE\")","v":5094.6603209137902},{"$f":"RTD(\"srv.rtd\",\"\",\"PLAYERSRANKING\",\"WDOU22\",\"190\",\"SALDO\",\"AVG_PRICE_2\")","v":5209.94545454545}]
[null,null,null,null,null,null,null,null,null,null,null,null,null,null,24,"EASYNVEST",{"$f":"RTD(\"srv.rtd\",\"\",\"PLAYERSRANKING\",\"WDOU22\",\"90\",\"SALDO\",\"QUANTITY\")","v":-3},{"$f":"RTD(\"srv.rtd\",\"\",\"PLAYERSRANKING\",\"WDOU22\",\"90\",\"SALDO\",\"VOLQ\")","v":-193},{"$f":"RTD(\"srv.rtd\",\"\",\"PLAYERSRANKING\",\"WDOU22\",\"90\",\"SALDO\",\"VOLF\")","v":-985553.5},{"$f":"RTD(\"srv.rtd\",\"\",\"PLAYERSRANKING\",\"WDOU22\",\"90\",\"SALDO\",\"AVG_PRICE\")","v":5096.8351605995704},{"$f":"RTD(\"srv.rtd\",\"\",\"PLAYERSRANKING\",\"WDOU22\",\"90\",\"SALDO\",\"AVG_PRICE_2\")","v":5106.49481865285}]
[null,null,null,null,null,null,null,null,null,null,null,null,null,null,25,"CREDIT SUISSE",{"$f":"RTD(\"srv.rtd\",\"\",\"PLAYERSRANKING\",\"WDOU22\",\"45\",\"SALDO\",\"QUANTITY\")","v":-219},{"$f":"RTD(\"srv.rtd\",\"\",\"PLAYERSRANKING\",\"WDOU22\",\"45\",\"SALDO\",\"VOLQ\")","v":-368},{"$f":"RTD(\"srv.rtd\",\"\",\"PLAYERSRANKING\",\"WDOU22\",\"45\",\"SALDO\",\"VOLF\")","v":-1823925.5},{"$f":"RTD(\"srv.rtd\",\"\",\"PLAYERSRANKING\",\"WDOU22\",\"45\",\"SALDO\",\"AVG_PRICE\")","v":5090.9322068965503},{"$f":"RTD(\"srv.rtd\",\"\",\"PLAYERSRANKING\",\"WDOU22\",\"45\",\"SALDO\",\"AVG_PRICE_2\")","v":4956.3192934782601}]
[null,null,null,null,null,null,null,null,null,null,null,null,null,null,26,"FC STONE",{"$f":"RTD(\"srv.rtd\",\"\",\"PLAYERSRANKING\",\"WDOU22\",\"1130\",\"SALDO\",\"QUANTITY\")","v":8},{"$f":"RTD(\"srv.rtd\",\"\",\"PLAYERSRANKING\",\"WDOU22\",\"1130\",\"SALDO\",\"VOLQ\")","v":75},{"$f":"RTD(\"srv.rtd\",\"\",\"PLAYERSRANKING\",\"WDOU22\",\"1130\",\"SALDO\",\"VOLF\")","v":379902.5},{"$f":"RTD(\"srv.rtd\",\"\",\"PLAYERSRANKING\",\"WDOU22\",\"1130\",\"SALDO\",\"AVG_PRICE\")","v":5093.5863309352499},{"$f":"RTD(\"srv.rtd\",\"\",\"PLAYERSRANKING\",\"WDOU22\",\"1130\",\"SALDO\",\"AVG_PRICE_2\")","v":5065.3666666666704}]
[null,null,null,null,null,null,null,null,null,null,null,null,null,null,27,"GUIDE",{"$f":"RTD(\"srv.rtd\",\"\",\"PLAYERSRANKING\",\"WDOU22\",\"15\",\"SALDO\",\"QUANTITY\")","v":771},{"$f":"RTD(\"srv.rtd\",\"\",\"PLAYERSRANKING\",\"WDOU22\",\"15\",\"SALDO\",\"VOLQ\")","v":4403},{"$f":"RTD(\"srv.rtd\",\"\",\"PLAYERSRANKING\",\"WDOU22\",\"15\",\"SALDO\",\"VOLF\")","v":22451271},{"$f":"RTD(\"srv.rtd\",\"\",\"PLAYERSRANKING\",\"WDOU22\",\"15\",\"SALDO\",\"AVG_PRICE\")","v":5097.4606294606301},{"$f":"RTD(\"srv.rtd\",\"\",\"PLAYERSRANKING\",\"WDOU22\",\"15\",\"SALDO\",\"AVG_PRICE_2\")","v":5099.0849420849399}]
[null,null,null,null,null,null,null,null,null,null,null,null,null,null,28,"NOVA FUTURA",{"$f":"RTD(\"srv.rtd\",\"\",\"PLAYERSRANKING\",\"WDOU22\",\"93\",\"SALDO\",\"QUANTITY\")","v":-42},{"$f":"RTD(\"srv.rtd\",\"\",\"PLAYERSRANKING\",\"WDOU22\",\"93\",\"SALDO\",\"VOLQ\")","v":1002},{"$f":"RTD(\"srv.rtd\",\"\",\"PLAYERSRANKING\",\"WDOU22\",\"93\",\"SALDO\",\"VOLF\")","v":5113122},{"$f":"RTD(\"srv.rtd\",\"\",\"PLAYERSRANKING\",\"WDOU22\",\"93\",\"SALDO\",\"AVG_PRICE\")","v":5096.3096724595798},{"$f":"RTD(\"srv.rtd\",\"\",\"PLAYERSRANKING\",\"WDOU22\",\"93\",\"SALDO\",\"AVG_PRICE_2\")","v":5102.91616766467}]
[null,null,null,null,null,null,null,null,null,null,null,null,null,null,29,"GENIAL",{"$f":"RTD(\"srv.rtd\",\"\",\"PLAYERSRANKING\",\"WDOU22\",\"120\",\"SALDO\",\"QUANTITY\")","v":2076},{"$f":"RTD(\"srv.rtd\",\"\",\"PLAYERSRANKING\",\"WDOU22\",\"120\",\"SALDO\",\"VOLQ\")","v":3199},{"$f":"RTD(\"srv.rtd\",\"\",\"PLAYERSRANKING\",\"WDOU22\",\"120\",\"SALDO\",\"VOLF\")","v":16360492.5},{"$f":"RTD(\"srv.rtd\",\"\",\"PLAYERSRANKING\",\"WDOU22\",\"120\",\"SALDO\",\"AVG_PRICE\")","v":5095.5383450978597},{"$f":"RTD(\"srv.rtd\",\"\",\"PLAYERSRANKING\",\"WDOU22\",\"120\",\"SALDO\",\"AVG_PRICE_2\")","v":5114.2521100343902}]
[null,null,null,null,null,null,null,null,null,null,null,null,null,null,30,"XP",{"$f":"RTD(\"srv.rtd\",\"\",\"PLAYERSRANKING\",\"WDOU22\",\"3\",\"SALDO\",\"QUANTITY\")","v":-259},{"$f":"RTD(\"srv.rtd\",\"\",\"PLAYERSRANKING\",\"WDOU22\",\"3\",\"SALDO\",\"VOLQ\")","v":-3510},{"$f":"RTD(\"srv.rtd\",\"\",\"PLAYERSRANKING\",\"WDOU22\",\"3\",\"SALDO\",\"VOLF\")","v":-18022634},{"$f":"RTD(\"srv.rtd\",\"\",\"PLAYERSRANKING\",\"WDOU22\",\"3\",\"SALDO\",\"AVG_PRICE\")","v":5095.1924149694596},{"$f":"RTD(\"srv.rtd\",\"\",\"PLAYERSRANKING\",\"WDOU22\",\"3\",\"SALDO\",\"AVG_PRICE_2\")","v":5134.6535612535599}]
[null,null,null,null,null,null,null,null,null,null,null,null,null,null,31,"BRADESCO",{"$f":"RTD(\"srv.rtd\",\"\",\"PLAYERSRANKING\",\"WDOU22\",\"72\",\"SALDO\",\"QUANTITY\")","v":1974},{"$f":"RTD(\"srv.rtd\",\"\",\"PLAYERSRANKING\",\"WDOU22\",\"72\",\"SALDO\",\"VOLQ\")","v":6058},{"$f":"RTD(\"srv.rtd\",\"\",\"PLAYERSRANKING\",\"WDOU22\",\"72\",\"SALDO\",\"VOLF\")","v":30892400.5},{"$f":"RTD(\"srv.rtd\",\"\",\"PLAYERSRANKING\",\"WDOU22\",\"72\",\"SALDO\",\"AVG_PRICE\")","v":5094.9914606559096},{"$f":"RTD(\"srv.rtd\",\"\",\"PLAYERSRANKING\",\"WDOU22\",\"72\",\"SALDO\",\"AVG_PRICE_2\")","v":5099.4388412017197}]
[null,null,null,null,null,null,null,null,null,null,null,null,null,null,32,"BGC",{"$f":"RTD(\"srv.rtd\",\"\",\"PLAYERSRANKING\",\"WDOU22\",\"122\",\"SALDO\",\"QUANTITY\")","v":-4453},{"$f":"RTD(\"srv.rtd\",\"\",\"PLAYERSRANKING\",\"WDOU22\",\"122\",\"SALDO\",\"VOLQ\")","v":-10597},{"$f":"RTD(\"srv.rtd\",\"\",\"PLAYERSRANKING\",\"WDOU22\",\"122\",\"SALDO\",\"VOLF\")","v":-53996908.5},{"$f":"RTD(\"srv.rtd\",\"\",\"PLAYERSRANKING\",\"WDOU22\",\"122\",\"SALDO\",\"AVG_PRICE\")","v":5093.6591034657804},{"$f":"RTD(\"srv.rtd\",\"\",\"PLAYERSRANKING\",\"WDOU22\",\"122\",\"SALDO\",\"AVG_PRICE_2\")","v":5095.4900915353401}]
[null,null,null,null,null,null,null,null,null,null,null,null,null,null,33,"NECTON",{"$f":"RTD(\"srv.rtd\",\"\",\"PLAYERSRANKING\",\"WDOU22\",\"23\",\"SALDO\",\"QUANTITY\")","v":69},{"$f":"RTD(\"srv.rtd\",\"\",\"PLAYERSRANKING\",\"WDOU22\",\"23\",\"SALDO\",\"VOLQ\")","v":673},{"$f":"RTD(\"srv.rtd\",\"\",\"PLAYERSRANKING\",\"WDOU22\",\"23\",\"SALDO\",\"VOLF\")","v":3444297},{"$f":"RTD(\"srv.rtd\",\"\",\"PLAYERSRANKING\",\"WDOU22\",\"23\",\"SALDO\",\"AVG_PRICE\")","v":5105.7536231884096},{"$f":"RTD(\"srv.rtd\",\"\",\"PLAYERSRANKING\",\"WDOU22\",\"23\",\"SALDO\",\"AVG_PRICE_2\")","v":5117.8261515601798}]
[null,null,null,null,null,null,null,null,null,null,null,null,null,null,34,"TERRA",{"$f":"RTD(\"srv.rtd\",\"\",\"PLAYERSRANKING\",\"WDOU22\",\"107\",\"SALDO\",\"QUANTITY\")","v":599},{"$f":"RTD(\"srv.rtd\",\"\",\"PLAYERSRANKING\",\"WDOU22\",\"107\",\"SALDO\",\"VOLQ\")","v":481},{"$f":"RTD(\"srv.rtd\",\"\",\"PLAYERSRANKING\",\"WDOU22\",\"107\",\"SALDO\",\"VOLF\")","v":2564134.5},{"$f":"RTD(\"srv.rtd\",\"\",\"PLAYERSRANKING\",\"WDOU22\",\"107\",\"SALDO\",\"AVG_PRICE\")","v":5092.5366891693602},{"$f":"RTD(\"srv.rtd\",\"\",\"PLAYERSRANKING\",\"WDOU22\",\"107\",\"SALDO\",\"AVG_PRICE_2\")","v":5330.8409563409596}]
[null,null,null,null,null,null,null,null,null,null,null,null,null,null,35,"SANTANDER",{"$f":"RTD(\"srv.rtd\",\"\",\"PLAYERSRANKING\",\"WDOU22\",\"27\",\"SALDO\",\"QUANTITY\")","v":853},{"$f":"RTD(\"srv.rtd\",\"\",\"PLAYERSRANKING\",\"WDOU22\",\"27\",\"SALDO\",\"VOLQ\")","v":11420},{"$f":"RTD(\"srv.rtd\",\"\",\"PLAYERSRANKING\",\"WDOU22\",\"27\",\"SALDO\",\"VOLF\")","v":58092527.5},{"$f":"RTD(\"srv.rtd\",\"\",\"PLAYERSRANKING\",\"WDOU22\",\"27\",\"SALDO\",\"AVG_PRICE\")","v":5092.1973022444199},{"$f":"RTD(\"srv.rtd\",\"\",\"PLAYERSRANKING\",\"WDOU22\",\"27\",\"SALDO\",\"AVG_PRICE_2\")","v":5086.9113397548199}]
[null,null,null,null,null,null,null,null,null,null,null,null,null,null,36,"RENASCENCA",{"$f":"RTD(\"srv.rtd\",\"\",\"PLAYERSRANKING\",\"WDOU22\",\"92\",\"SALDO\",\"QUANTITY\")","v":1280},{"$f":"RTD(\"srv.rtd\",\"\",\"PLAYERSRANKING\",\"WDOU22\",\"92\",\"SALDO\",\"VOLQ\")","v":8983},{"$f":"RTD(\"srv.rtd\",\"\",\"PLAYERSRANKING\",\"WDOU22\",\"92\",\"SALDO\",\"VOLF\")","v":45650315},{"$f":"RTD(\"srv.rtd\",\"\",\"PLAYERSRANKING\",\"WDOU22\",\"92\",\"SALDO\",\"AVG_PRICE\")","v":5095.0467115217498},{"$f":"RTD(\"srv.rtd\",\"\",\"PLAYERSRANKING\",\"WDOU22\",\"92\",\"SALDO\",\"AVG_PRICE_2\")","v":5081.8562840921704}]
[null,null,null,null,null,null,null,null,null,null,null,null,null,null,37,"C6 BANK",{"$f":"RTD(\"srv.rtd\",\"\",\"PLAYERSRANKING\",\"WDOU22\",\"6003\",\"SALDO\",\"QUANTITY\")","v":-62},{"$f":"RTD(\"srv.rtd\",\"\",\"PLAYERSRANKING\",\"WDOU22\",\"6003\",\"SALDO\",\"VOLQ\")","v":1165},{"$f":"RTD(\"srv.rtd\",\"\",\"PLAYERSRANKING\",\"WDOU22\",\"6003\",\"SALDO\",\"VOLF\")","v":5968655},{"$f":"RTD(\"srv.rtd\",\"\",\"PLAYERSRANKING\",\"WDOU22\",\"6003\",\"SALDO\",\"AVG_PRICE\")","v":5088.8889608986801},{"$f":"RTD(\"srv.rtd\",\"\",\"PLAYERSRANKING\",\"WDOU22\",\"6003\",\"SALDO\",\"AVG_PRICE_2\")","v":5123.3090128755402}]
[null,null,null,null,null,null,null,null,null,null,null,null,null,null,38,"ATIVA",{"$f":"RTD(\"srv.rtd\",\"\",\"PLAYERSRANKING\",\"WDOU22\",\"147\",\"SALDO\",\"QUANTITY\")","v":-1371},{"$f":"RTD(\"srv.rtd\",\"\",\"PLAYERSRANKING\",\"WDOU22\",\"147\",\"SALDO\",\"VOLQ\")","v":-4672},{"$f":"RTD(\"srv.rtd\",\"\",\"PLAYERSRANKING\",\"WDOU22\",\"147\",\"SALDO\",\"VOLF\")","v":-23756030.5},{"$f":"RTD(\"srv.rtd\",\"\",\"PLAYERSRANKING\",\"WDOU22\",\"147\",\"SALDO\",\"AVG_PRICE\")","v":5093.7748770806102},{"$f":"RTD(\"srv.rtd\",\"\",\"PLAYERSRANKING\",\"WDOU22\",\"147\",\"SALDO\",\"AVG_PRICE_2\")","v":5084.7668022260304}]
[null,null,null,null,null,null,null,null,null,null,null,null,null,null,39,"ORAMA",{"$f":"RTD(\"srv.rtd\",\"\",\"PLAYERSRANKING\",\"WDOU22\",\"3701\",\"SALDO\",\"QUANTITY\")","v":135},{"$f":"RTD(\"srv.rtd\",\"\",\"PLAYERSRANKING\",\"WDOU22\",\"3701\",\"SALDO\",\"VOLQ\")","v":281},{"$f":"RTD(\"srv.rtd\",\"\",\"PLAYERSRANKING\",\"WDOU22\",\"3701\",\"SALDO\",\"VOLF\")","v":1425769.5},{"$f":"RTD(\"srv.rtd\",\"\",\"PLAYERSRANKING\",\"WDOU22\",\"3701\",\"SALDO\",\"AVG_PRICE\")","v":5095.4277600817404},{"$f":"RTD(\"srv.rtd\",\"\",\"PLAYERSRANKING\",\"WDOU22\",\"3701\",\"SALDO\",\"AVG_PRICE_2\")","v":5073.9128113878996}]

{"sheet":"ESTRANG-WDO","index":9,"n_rows":19,"n_cols":9,"rows_kept":19,"cut":false,"hidden":true,"merged":[]}
[]
[]
[]
[]
[]
[null,null,"POSI","CORRETORA","QTD","VOL(Q)","VOL($)","PT.MED(T)","PR.MED(Saldo)"]
[null,null,{"$f":"'CORRETORAS-DL'!P7","v":"TULLETT"},{"$f":"'CORRETORAS-DL'!Q7","v":3556},{"$f":"'CORRETORAS-DL'!R7","v":21632},{"$f":"'CORRETORAS-DL'!S7","v":110217387},{"$f":"'CORRETORAS-DL'!T7","v":5092.7157285940702},{"$f":"'CORRETORAS-DL'!U7","v":5095.1084966715998}]
[null,null,{"$f":"'CORRETORAS-DL'!P8","v":"JP MORGAN"},{"$f":"'CORRETORAS-DL'!Q8","v":364},{"$f":"'CORRETORAS-DL'!R8","v":1656},{"$f":"'CORRETORAS-DL'!S8","v":8415148.5},{"$f":"'CORRETORAS-DL'!T8","v":5092.5579030686804},{"$f":"'CORRETORAS-DL'!U8","v":5081.6114130434798}]
[null,null,{"$f":"'CORRETORAS-DL'!P10","v":"UBS"},{"$f":"'CORRETORAS-DL'!Q10","v":-1574},{"$f":"'CORRETORAS-DL'!R10","v":-9565},{"$f":"'CORRETORAS-DL'!S10","v":-48518352},{"$f":"'CORRETORAS-DL'!T10","v":5095.7136213805497},{"$f":"'CORRETORAS-DL'!U10","v":5072.4884474647097}]
[null,null,{"$f":"'CORRETORAS-DL'!P12","v":"GOLDMAN SACHS"},{"$f":"'CORRETORAS-DL'!Q12","v":-757},{"$f":"'CORRETORAS-DL'!R12","v":-431},{"$f":"'CORRETORAS-DL'!S12","v":-2260638.5},{"$f":"'CORRETORAS-DL'!T12","v":5091.0005524861899},{"$f":"'CORRETORAS-DL'!U12","v":5245.1009280742501}]
[null,null,{"$f":"'CORRETORAS-DL'!P17","v":"MORGAN STANLEY"},{"$f":"'CORRETORAS-DL'!Q17","v":-4751},{"$f":"'CORRETORAS-DL'!R17","v":-35457},{"$f":"'CORRETORAS-DL'!S17","v":-180711011},{"$f":"'CORRETORAS-DL'!T17","v":5095.5226083013904},{"$f":"'CORRETORAS-DL'!U17","v":5096.6243901063299}]
[null,null,{"$f":"'CORRETORAS-DL'!P22","v":"ICAP"},{"$f":"'CORRETORAS-DL'!Q22","v":-37},{"$f":"'CORRETORAS-DL'!R22","v":-39},{"$f":"'CORRETORAS-DL'!S22","v":-200111},{"$f":"'CORRETORAS-DL'!T22","v":5098.8611398963703},{"$f":"'CORRETORAS-DL'!U22","v":5131.0512820512804}]
[null,null,{"$f":"'CORRETORAS-DL'!P31","v":"CREDIT SUISSE"},{"$f":"'CORRETORAS-DL'!Q31","v":-219},{"$f":"'CORRETORAS-DL'!R31","v":-368},{"$f":"'CORRETORAS-DL'!S31","v":-1823925.5},{"$f":"'CORRETORAS-DL'!T31","v":5090.9322068965503},{"$f":"'CORRETORAS-DL'!U31","v":4956.3192934782601}]
[null,null,{"$f":"'CORRETORAS-DL'!P13","v":"IDEAL"},{"$f":"'CORRETORAS-DL'!Q13","v":-795},{"$f":"'CORRETORAS-DL'!R13","v":18644},{"$f":"'CORRETORAS-DL'!S13","v":95041644},{"$f":"'CORRETORAS-DL'!T13","v":5094.4490440038498},{"$f":"'CORRETORAS-DL'!U13","v":5097.7067152971504}]
[]
[null,null,null,null,null,null,"VOL $",{"$f":"SUM(F7:F14)","v":-19839858.5}]
[]
[]
[null,null,null,null,null,null,{"$f":"SUM(G7,G8,G10,G11,G12,G13)","v":30561.59013924325}]

{"sheet":"CPF-DOLAR","index":10,"n_rows":23,"n_cols":8,"rows_kept":23,"cut":false,"hidden":true,"merged":[]}
[]
[]
[]
[]
[null,"POSI","CORRETORA","QTD","VOL(Q)","VOL($)","PT.MED(T)","PR.MED(Saldo)"]
[]
[null,{"$f":"'CORRETORAS-DL'!P9","v":"CM CAPITAL"},{"$f":"'CORRETORAS-DL'!Q9","v":415},{"$f":"'CORRETORAS-DL'!R9","v":-1600},{"$f":"'CORRETORAS-DL'!S9","v":-8110835.5},{"$f":"'CORRETORAS-DL'!T9","v":5095.1326387691797},{"$f":"'CORRETORAS-DL'!U9","v":5069.2721874999997}]
[null,{"$f":"'CORRETORAS-DL'!P15","v":"MODAL"},{"$f":"'CORRETORAS-DL'!Q15","v":159},{"$f":"'CORRETORAS-DL'!R15","v":1116},{"$f":"'CORRETORAS-DL'!S15","v":5715242.5},{"$f":"'CORRETORAS-DL'!T15","v":5095.4637743840603},{"$f":"'CORRETORAS-DL'!U15","v":5121.1850358422898}]
[null,{"$f":"'CORRETORAS-DL'!P16","v":"AGORA"},{"$f":"'CORRETORAS-DL'!Q16","v":-41},{"$f":"'CORRETORAS-DL'!R16","v":90},{"$f":"'CORRETORAS-DL'!S16","v":454656},{"$f":"'CORRETORAS-DL'!T16","v":5098.9408197406901},{"$f":"'CORRETORAS-DL'!U16","v":5051.7333333333299}]
[null,{"$f":"'CORRETORAS-DL'!P18","v":"TORO"},{"$f":"'CORRETORAS-DL'!Q18","v":471},{"$f":"'CORRETORAS-DL'!R18","v":910},{"$f":"'CORRETORAS-DL'!S18","v":4635963},{"$f":"'CORRETORAS-DL'!T18","v":5096.8226615255498},{"$f":"'CORRETORAS-DL'!U18","v":5094.4648351648302}]
[null,{"$f":"'CORRETORAS-DL'!P19","v":"VOTORANTIM"},{"$f":"'CORRETORAS-DL'!Q19","v":"0"},{"$f":"'CORRETORAS-DL'!R19","v":"0"},{"$f":"'CORRETORAS-DL'!S19","v":"0"},{"$f":"'CORRETORAS-DL'!T19","v":"0"},{"$f":"'CORRETORAS-DL'!U19","v":"0"}]
[null,{"$f":"'CORRETORAS-DL'!P20","v":"PLANNER"},{"$f":"'CORRETORAS-DL'!Q20","v":6},{"$f":"'CORRETORAS-DL'!R20","v":-12},{"$f":"'CORRETORAS-DL'!S20","v":-60846},{"$f":"'CORRETORAS-DL'!T20","v":5100.2941176470604},{"$f":"'CORRETORAS-DL'!U20","v":5070.5}]
[null,{"$f":"'CORRETORAS-DL'!P24","v":"CLEAR"},{"$f":"'CORRETORAS-DL'!Q24","v":-275},{"$f":"'CORRETORAS-DL'!R24","v":170},{"$f":"'CORRETORAS-DL'!S24","v":778023},{"$f":"'CORRETORAS-DL'!T24","v":5096.6316439972697},{"$f":"'CORRETORAS-DL'!U24","v":4576.6058823529402}]
[null,{"$f":"'CORRETORAS-DL'!P28","v":"VITREO"},{"$f":"'CORRETORAS-DL'!Q28","v":68},{"$f":"'CORRETORAS-DL'!R28","v":17},{"$f":"'CORRETORAS-DL'!S28","v":83869},{"$f":"'CORRETORAS-DL'!T28","v":5096.6490250696397},{"$f":"'CORRETORAS-DL'!U28","v":4933.4705882352901}]
[null,{"$f":"'CORRETORAS-DL'!P29","v":"WARREN"},{"$f":"'CORRETORAS-DL'!Q29","v":-59},{"$f":"'CORRETORAS-DL'!R29","v":-55},{"$f":"'CORRETORAS-DL'!S29","v":-286547},{"$f":"'CORRETORAS-DL'!T29","v":5094.6603209137902},{"$f":"'CORRETORAS-DL'!U29","v":5209.94545454545}]
[null,{"$f":"'CORRETORAS-DL'!P33","v":"GUIDE"},{"$f":"'CORRETORAS-DL'!Q33","v":771},{"$f":"'CORRETORAS-DL'!R33","v":4403},{"$f":"'CORRETORAS-DL'!S33","v":22451271},{"$f":"'CORRETORAS-DL'!T33","v":5097.4606294606301},{"$f":"'CORRETORAS-DL'!U33","v":5099.0849420849399}]
[null,{"$f":"'CORRETORAS-DL'!P34","v":"NOVA FUTURA"},{"$f":"'CORRETORAS-DL'!Q34","v":-42},{"$f":"'CORRETORAS-DL'!R34","v":1002},{"$f":"'CORRETORAS-DL'!S34","v":5113122},{"$f":"'CORRETORAS-DL'!T34","v":5096.3096724595798},{"$f":"'CORRETORAS-DL'!U34","v":5102.91616766467}]
[null,{"$f":"'CORRETORAS-DL'!P35","v":"GENIAL"},{"$f":"'CORRETORAS-DL'!Q35","v":2076},{"$f":"'CORRETORAS-DL'!R35","v":3199},{"$f":"'CORRETORAS-DL'!S35","v":16360492.5},{"$f":"'CORRETORAS-DL'!T35","v":5095.5383450978597},{"$f":"'CORRETORAS-DL'!U35","v":5114.2521100343902}]
[null,{"$f":"'CORRETORAS-DL'!P44","v":"ATIVA"},{"$f":"'CORRETORAS-DL'!Q44","v":-1371},{"$f":"'CORRETORAS-DL'!R44","v":-4672},{"$f":"'CORRETORAS-DL'!S44","v":-23756030.5},{"$f":"'CORRETORAS-DL'!T44","v":5093.7748770806102},{"$f":"'CORRETORAS-DL'!U44","v":5084.7668022260304}]
[null,{"$f":"'CORRETORAS-DL'!P45","v":"ORAMA"},{"$f":"'CORRETORAS-DL'!Q45","v":135},{"$f":"'CORRETORAS-DL'!R45","v":281},{"$f":"'CORRETORAS-DL'!S45","v":1425769.5},{"$f":"'CORRETORAS-DL'!T45","v":5095.4277600817404},{"$f":"'CORRETORAS-DL'!U45","v":5073.9128113878996}]
[]
[]
[null,null,"VOL $",null,{"$f":"SUM(E7:E20)","v":24804149.5}]

{"sheet":"BANCO- WDO","index":11,"n_rows":22,"n_cols":8,"rows_kept":22,"cut":false,"hidden":true,"merged":[]}
[]
[]
[]
[null,"POSI","CORRETORA","QTD","VOL(Q)","VOL($)","PT.MED(T)","PR.MED(Saldo)"]
[]
[null,{"$f":"'CORRETORAS-DL'!P11","v":"ITAU"},{"$f":"'CORRETORAS-DL'!Q11","v":-969},{"$f":"'CORRETORAS-DL'!R11","v":-7407},{"$f":"'CORRETORAS-DL'!S11","v":-37842699},{"$f":"'CORRETORAS-DL'!T11","v":5092.2621963070897},{"$f":"'CORRETORAS-DL'!U11","v":5109.0453624949396}]
[null,{"$f":"'CORRETORAS-DL'!P14","v":"BTG"},{"$f":"'CORRETORAS-DL'!Q14","v":2606},{"$f":"'CORRETORAS-DL'!R14","v":-8855},{"$f":"'CORRETORAS-DL'!S14","v":-45096042.5},{"$f":"'CORRETORAS-DL'!T14","v":5096.0778559059099},{"$f":"'CORRETORAS-DL'!U14","v":5092.7207792207801}]
[null,{"$f":"'CORRETORAS-DL'!P21","v":"INTER"},{"$f":"'CORRETORAS-DL'!Q21","v":-13},{"$f":"'CORRETORAS-DL'!R21","v":-146},{"$f":"'CORRETORAS-DL'!S21","v":-742453},{"$f":"'CORRETORAS-DL'!T21","v":5099.2257581430204},{"$f":"'CORRETORAS-DL'!U21","v":5085.29452054795}]
[null,{"$f":"'CORRETORAS-DL'!P23","v":"SAFRA"},{"$f":"'CORRETORAS-DL'!Q23","v":4},{"$f":"'CORRETORAS-DL'!R23","v":4},{"$f":"'CORRETORAS-DL'!S23","v":20191.5},{"$f":"'CORRETORAS-DL'!T23","v":5095.0657894736796},{"$f":"'CORRETORAS-DL'!U23","v":5047.875}]
[null,{"$f":"'CORRETORAS-DL'!P25","v":"ELITE"},{"$f":"'CORRETORAS-DL'!Q25","v":-18},{"$f":"'CORRETORAS-DL'!R25","v":-33},{"$f":"'CORRETORAS-DL'!S25","v":-168221.5},{"$f":"'CORRETORAS-DL'!T25","v":5088.3567164179103},{"$f":"'CORRETORAS-DL'!U25","v":5097.6212121212102}]
[null,{"$f":"'CORRETORAS-DL'!P26","v":"MIRAE"},{"$f":"'CORRETORAS-DL'!Q26","v":121},{"$f":"'CORRETORAS-DL'!R26","v":4},{"$f":"'CORRETORAS-DL'!S26","v":18617},{"$f":"'CORRETORAS-DL'!T26","v":5096.9914667896701},{"$f":"'CORRETORAS-DL'!U26","v":4654.25}]
[null,{"$f":"'CORRETORAS-DL'!P27","v":"COMMCOR"},{"$f":"'CORRETORAS-DL'!Q27","v":163},{"$f":"'CORRETORAS-DL'!R27","v":957},{"$f":"'CORRETORAS-DL'!S27","v":4859180.5},{"$f":"'CORRETORAS-DL'!T27","v":5093.4725330620604},{"$f":"'CORRETORAS-DL'!U27","v":5077.5135841170304}]
[null,{"$f":"'CORRETORAS-DL'!P32","v":"FC STONE"},{"$f":"'CORRETORAS-DL'!Q32","v":8},{"$f":"'CORRETORAS-DL'!R32","v":75},{"$f":"'CORRETORAS-DL'!S32","v":379902.5},{"$f":"'CORRETORAS-DL'!T32","v":5093.5863309352499},{"$f":"'CORRETORAS-DL'!U32","v":5065.3666666666704}]
[null,{"$f":"'CORRETORAS-DL'!P37","v":"BRADESCO"},{"$f":"'CORRETORAS-DL'!Q37","v":1974},{"$f":"'CORRETORAS-DL'!R37","v":6058},{"$f":"'CORRETORAS-DL'!S37","v":30892400.5},{"$f":"'CORRETORAS-DL'!T37","v":5094.9914606559096},{"$f":"'CORRETORAS-DL'!U37","v":5099.4388412017197}]
[null,{"$f":"'CORRETORAS-DL'!P38","v":"BGC"},{"$f":"'CORRETORAS-DL'!Q38","v":-4453},{"$f":"'CORRETORAS-DL'!R38","v":-10597},{"$f":"'CORRETORAS-DL'!S38","v":-53996908.5},{"$f":"'CORRETORAS-DL'!T38","v":5093.6591034657804},{"$f":"'CORRETORAS-DL'!U38","v":5095.4900915353401}]
[null,{"$f":"'CORRETORAS-DL'!P39","v":"NECTON"},{"$f":"'CORRETORAS-DL'!Q39","v":69},{"$f":"'CORRETORAS-DL'!R39","v":673},{"$f":"'CORRETORAS-DL'!S39","v":3444297},{"$f":"'CORRETORAS-DL'!T39","v":5105.7536231884096},{"$f":"'CORRETORAS-DL'!U39","v":5117.8261515601798}]
[null,{"$f":"'CORRETORAS-DL'!P40","v":"TERRA"},{"$f":"'CORRETORAS-DL'!Q40","v":599},{"$f":"'CORRETORAS-DL'!R40","v":481},{"$f":"'CORRETORAS-DL'!S40","v":2564134.5},{"$f":"'CORRETORAS-DL'!T40","v":5092.5366891693602},{"$f":"'CORRETORAS-DL'!U40","v":5330.8409563409596}]
[null,{"$f":"'CORRETORAS-DL'!P41","v":"SANTANDER"},{"$f":"'CORRETORAS-DL'!Q41","v":853},{"$f":"'CORRETORAS-DL'!R41","v":11420},{"$f":"'CORRETORAS-DL'!S41","v":58092527.5},{"$f":"'CORRETORAS-DL'!T41","v":5092.1973022444199},{"$f":"'CORRETORAS-DL'!U41","v":5086.9113397548199}]
[null,{"$f":"'CORRETORAS-DL'!P42","v":"RENASCENCA"},{"$f":"'CORRETORAS-DL'!Q42","v":1280},{"$f":"'CORRETORAS-DL'!R42","v":8983},{"$f":"'CORRETORAS-DL'!S42","v":45650315},{"$f":"'CORRETORAS-DL'!T42","v":5095.0467115217498},{"$f":"'CORRETORAS-DL'!U42","v":5081.8562840921704}]
[null,{"$f":"'CORRETORAS-DL'!P43","v":"C6 BANK"},{"$f":"'CORRETORAS-DL'!Q43","v":-62},{"$f":"'CORRETORAS-DL'!R43","v":1165},{"$f":"'CORRETORAS-DL'!S43","v":5968655},{"$f":"'CORRETORAS-DL'!T43","v":5088.8889608986801},{"$f":"'CORRETORAS-DL'!U43","v":5123.3090128755402}]
[]
[null,null,null,"VOL $",null,{"$f":"SUM(E6:E20)","v":14043896.5}]

{"sheet":"EUROPA","index":12,"n_rows":17,"n_cols":3,"rows_kept":17,"cut":false,"hidden":true,"merged":[]}
[]
[]
[null,"EUROPA","%"]
[null,"FTSE 100 (CFD) ",-1.22]
[null,"CAC 40 - PARIS (CFD) ",-0.94]
[null,"DAX 30 (CFD) ",-2.09]
[null,"PSI 20 - LISBOA (CFD) ",1.27]
[null,"IBEX 35 - MADRI (CFD) ",-0.94]
[null,"ITALIA MIB 40 (CFD) ",-0.63]
[null,"OMX 30 STOCKHOLM (CFD) ",-2.0299999999999998]
[null,"SWISS MARKET (CFD) ",-0.94]
[null,"AMSTERDAM AEX (CFD) ",-21.82]
[]
[null,"ASIA/OCEANIA"]
[null,"NIKKEI 225 (CFD) ",-0.28000000000000003]
[null,"HANG SENG (CFD) ",0.87]
[null,"AUSTRALIA ALL ORDS (CFD) ",-2.74]

{"sheet":"CORRETORAS WIN","index":13,"n_rows":45,"n_cols":27,"rows_kept":45,"cut":false,"hidden":true,"merged":[]}
[]
[]
[null,"POSI","CORRETORA","QTD","VOL(Q)","VOL($)","PT.MED(T)","PR.MED(Saldo)",null,null,null,null,"CPF",null,"BANCOS","ESTRANGEIROS",null,null,null,null,1,"GENIAL",{"$f":"RTD(\"srv.rtd\",\"\",\"PLAYERSRANKING\",\"WINV22\",\"120\",\"SALDO\",\"QUANTITY\")","v":-6384},{"$f":"RTD(\"srv.rtd\",\"\",\"PLAYERSRANKING\",\"WINV22\",\"120\",\"SALDO\",\"VOLQ\")","v":-8115},{"$f":"RTD(\"srv.rtd\",\"\",\"PLAYERSRANKING\",\"WINV22\",\"120\",\"SALDO\",\"VOLF\")","v":-942502205},{"$f":"RTD(\"srv.rtd\",\"\",\"PLAYERSRANKING\",\"WINV22\",\"120\",\"SALDO\",\"AVG_PRICE\")","v":115093.288720828},{"$f":"RTD(\"srv.rtd\",\"\",\"PLAYERSRANKING\",\"WINV22\",\"120\",\"SALDO\",\"AVG_PRICE_2\")","v":116143.21688231701}]
[null,{"$f":"U3","v":1},"GENIAL",-6384,-8115,-942502205,115093.288720828,116143.21688231701,null,null,null,null,null,null,null,null,null,null,null,null,2,"BTG",{"$f":"RTD(\"srv.rtd\",\"\",\"PLAYERSRANKING\",\"WINV22\",\"85\",\"SALDO\",\"QUANTITY\")","v":-525},{"$f":"RTD(\"srv.rtd\",\"\",\"PLAYERSRANKING\",\"WINV22\",\"85\",\"SALDO\",\"VOLQ\")","v":1454},{"$f":"RTD(\"srv.rtd\",\"\",\"PLAYERSRANKING\",\"WINV22\",\"85\",\"SALDO\",\"VOLF\")","v":164106635},{"$f":"RTD(\"srv.rtd\",\"\",\"PLAYERSRANKING\",\"WINV22\",\"85\",\"SALDO\",\"AVG_PRICE\")","v":115069.039945375},{"$f":"RTD(\"srv.rtd\",\"\",\"PLAYERSRANKING\",\"WINV22\",\"85\",\"SALDO\",\"AVG_PRICE_2\")","v":112865.63617606599}]
[null,{"$f":"U4","v":2},"BTG",-525,1454,164106635,115069.039945375,112865.63617606599,null,null,null,null,"ORAMA",null,"BRADESCO","MORGAN STANLEY",null,null,null,null,3,"XP",{"$f":"RTD(\"srv.rtd\",\"\",\"PLAYERSRANKING\",\"WINV22\",\"3\",\"SALDO\",\"QUANTITY\")","v":9471},{"$f":"RTD(\"srv.rtd\",\"\",\"PLAYERSRANKING\",\"WINV22\",\"3\",\"SALDO\",\"VOLQ\")","v":27875},{"$f":"RTD(\"srv.rtd\",\"\",\"PLAYERSRANKING\",\"WINV22\",\"3\",\"SALDO\",\"VOLF\")","v":3209898645},{"$f":"RTD(\"srv.rtd\",\"\",\"PLAYERSRANKING\",\"WINV22\",\"3\",\"SALDO\",\"AVG_PRICE\")","v":115092.560685914},{"$f":"RTD(\"srv.rtd\",\"\",\"PLAYERSRANKING\",\"WINV22\",\"3\",\"SALDO\",\"AVG_PRICE_2\")","v":115153.314618834}]
[null,{"$f":"U5","v":3},"XP",9471,27875,3209898645,115092.560685914,115153.314618834,null,null,null,null,"GENIAL",null,"TERRA","GOLDMAN SACHS",null,null,null,null,4,"BRADESCO",{"$f":"RTD(\"srv.rtd\",\"\",\"PLAYERSRANKING\",\"WINV22\",\"72\",\"SALDO\",\"QUANTITY\")","v":-2569},{"$f":"RTD(\"srv.rtd\",\"\",\"PLAYERSRANKING\",\"WINV22\",\"72\",\"SALDO\",\"VOLQ\")","v":3689},{"$f":"RTD(\"srv.rtd\",\"\",\"PLAYERSRANKING\",\"WINV22\",\"72\",\"SALDO\",\"VOLF\")","v":409709335},{"$f":"RTD(\"srv.rtd\",\"\",\"PLAYERSRANKING\",\"WINV22\",\"72\",\"SALDO\",\"AVG_PRICE\")","v":115009.09465821},{"$f":"RTD(\"srv.rtd\",\"\",\"PLAYERSRANKING\",\"WINV22\",\"72\",\"SALDO\",\"AVG_PRICE_2\")","v":111062.438330171}]
[null,{"$f":"U11","v":9},"CREDIT SUISSE",-2490,-5492,-628968830,114975.67073651,114524.550254916,null,null,null,null,"NOVA FUTURA",null,"ATIVA","TULLET",null,null,null,null,5,"CLEAR",{"$f":"RTD(\"srv.rtd\",\"\",\"PLAYERSRANKING\",\"WINV22\",\"308\",\"SALDO\",\"QUANTITY\")","v":4343},{"$f":"RTD(\"srv.rtd\",\"\",\"PLAYERSRANKING\",\"WINV22\",\"308\",\"SALDO\",\"VOLQ\")","v":7643},{"$f":"RTD(\"srv.rtd\",\"\",\"PLAYERSRANKING\",\"WINV22\",\"308\",\"SALDO\",\"VOLF\")","v":871201325},{"$f":"RTD(\"srv.rtd\",\"\",\"PLAYERSRANKING\",\"WINV22\",\"308\",\"SALDO\",\"AVG_PRICE\")","v":115090.76668151699},{"$f":"RTD(\"srv.rtd\",\"\",\"PLAYERSRANKING\",\"WINV22\",\"308\",\"SALDO\",\"AVG_PRICE_2\")","v":113986.827816302}]
[null,{"$f":"U6","v":4},"BRADESCO",-2569,3689,409709335,115009.09465821,111062.438330171,null,null,null,null,"RICO",null,"ITAU","MERRILL LYCH",null,null,null,null,6,"ELITE",{"$f":"RTD(\"srv.rtd\",\"\",\"PLAYERSRANKING\",\"WINV22\",\"174\",\"SALDO\",\"QUANTITY\")","v":1065},{"$f":"RTD(\"srv.rtd\",\"\",\"PLAYERSRANKING\",\"WINV22\",\"174\",\"SALDO\",\"VOLQ\")","v":1464},{"$f":"RTD(\"srv.rtd\",\"\",\"PLAYERSRANKING\",\"WINV22\",\"174\",\"SALDO\",\"VOLF\")","v":168445370},{"$f":"RTD(\"srv.rtd\",\"\",\"PLAYERSRANKING\",\"WINV22\",\"174\",\"SALDO\",\"AVG_PRICE\")","v":114841.08195122},{"$f":"RTD(\"srv.rtd\",\"\",\"PLAYERSRANKING\",\"WINV22\",\"174\",\"SALDO\",\"AVG_PRICE_2\")","v":115058.31284153}]
[null,{"$f":"U8","v":6},"ELITE",1065,1464,168445370,114841.08195122,115058.31284153,null,null,null,null,"AGORA",null,"RENASCENCA","ICAP",null,null,null,null,7,"NOVA FUTURA",{"$f":"RTD(\"srv.rtd\",\"\",\"PLAYERSRANKING\",\"WINV22\",\"93\",\"SALDO\",\"QUANTITY\")","v":-501},{"$f":"RTD(\"srv.rtd\",\"\",\"PLAYERSRANKING\",\"WINV22\",\"93\",\"SALDO\",\"VOLQ\")","v":213},{"$f":"RTD(\"srv.rtd\",\"\",\"PLAYERSRANKING\",\"WINV22\",\"93\",\"SALDO\",\"VOLF\")","v":24501450},{"$f":"RTD(\"srv.rtd\",\"\",\"PLAYERSRANKING\",\"WINV22\",\"93\",\"SALDO\",\"AVG_PRICE\")","v":115102.999037795},{"$f":"RTD(\"srv.rtd\",\"\",\"PLAYERSRANKING\",\"WINV22\",\"93\",\"SALDO\",\"AVG_PRICE_2\")","v":115030.281690141}]
[null,{"$f":"U7","v":5},"CLEAR",4343,7643,871201325,115090.76668151699,113986.827816302,null,null,null,null,"CM CAPITAL",null,"BTG","JP MORGAN",null,null,null,null,8,"ATIVA",{"$f":"RTD(\"srv.rtd\",\"\",\"PLAYERSRANKING\",\"WINV22\",\"147\",\"SALDO\",\"QUANTITY\")","v":1205},{"$f":"RTD(\"srv.rtd\",\"\",\"PLAYERSRANKING\",\"WINV22\",\"147\",\"SALDO\",\"VOLQ\")","v":1767},{"$f":"RTD(\"srv.rtd\",\"\",\"PLAYERSRANKING\",\"WINV22\",\"147\",\"SALDO\",\"VOLF\")","v":201447880},{"$f":"RTD(\"srv.rtd\",\"\",\"PLAYERSRANKING\",\"WINV22\",\"147\",\"SALDO\",\"AVG_PRICE\")","v":114966.821621358},{"$f":"RTD(\"srv.rtd\",\"\",\"PLAYERSRANKING\",\"WINV22\",\"147\",\"SALDO\",\"AVG_PRICE_2\")","v":114005.591397849}]
[null,{"$f":"U16","v":14},"NECTON",-124,-255,-30837775,115127.279089495,120932.45098039199,null,null,null,null,"MODAL",null,"FC STONE","CREDIT SUISSE",null,null,null,null,9,"CREDIT SUISSE",{"$f":"RTD(\"srv.rtd\",\"\",\"PLAYERSRANKING\",\"WINV22\",\"45\",\"SALDO\",\"QUANTITY\")","v":-2490},{"$f":"RTD(\"srv.rtd\",\"\",\"PLAYERSRANKING\",\"WINV22\",\"45\",\"SALDO\",\"VOLQ\")","v":-5492},{"$f":"RTD(\"srv.rtd\",\"\",\"PLAYERSRANKING\",\"WINV22\",\"45\",\"SALDO\",\"VOLF\")","v":-628968830},{"$f":"RTD(\"srv.rtd\",\"\",\"PLAYERSRANKING\",\"WINV22\",\"45\",\"SALDO\",\"AVG_PRICE\")","v":114975.67073651},{"$f":"RTD(\"srv.rtd\",\"\",\"PLAYERSRANKING\",\"WINV22\",\"45\",\"SALDO\",\"AVG_PRICE_2\")","v":114524.550254916}]
[null,{"$f":"U9","v":7},"NOVA FUTURA",-501,213,24501450,115102.999037795,115030.281690141,null,null,null,null,"CLEAR",null,"COMMCOR","UBS",null,null,null,null,10,"CM CAPITAL",{"$f":"RTD(\"srv.rtd\",\"\",\"PLAYERSRANKING\",\"WINV22\",\"88\",\"SALDO\",\"QUANTITY\")","v":1226},{"$f":"RTD(\"srv.rtd\",\"\",\"PLAYERSRANKING\",\"WINV22\",\"88\",\"SALDO\",\"VOLQ\")","v":1131},{"$f":"RTD(\"srv.rtd\",\"\",\"PLAYERSRANKING\",\"WINV22\",\"88\",\"SALDO\",\"VOLF\")","v":129704805},{"$f":"RTD(\"srv.rtd\",\"\",\"PLAYERSRANKING\",\"WINV22\",\"88\",\"SALDO\",\"AVG_PRICE\")","v":115049.19538746199},{"$f":"RTD(\"srv.rtd\",\"\",\"PLAYERSRANKING\",\"WINV22\",\"88\",\"SALDO\",\"AVG_PRICE_2\")","v":114681.52519893899}]
[null,{"$f":"U14","v":12},"WARREN",-59,-4,-530385,114959.315920398,132596.25,null,null,null,null,"TORO",null,"ELITE","IDEAL",null,null,null,null,11,"BGC",{"$f":"RTD(\"srv.rtd\",\"\",\"PLAYERSRANKING\",\"WINV22\",\"122\",\"SALDO\",\"QUANTITY\")","v":864},{"$f":"RTD(\"srv.rtd\",\"\",\"PLAYERSRANKING\",\"WINV22\",\"122\",\"SALDO\",\"VOLQ\")","v":5743},{"$f":"RTD(\"srv.rtd\",\"\",\"PLAYERSRANKING\",\"WINV22\",\"122\",\"SALDO\",\"VOLF\")","v":665852355},{"$f":"RTD(\"srv.rtd\",\"\",\"PLAYERSRANKING\",\"WINV22\",\"122\",\"SALDO\",\"AVG_PRICE\")","v":115076.397388463},{"$f":"RTD(\"srv.rtd\",\"\",\"PLAYERSRANKING\",\"WINV22\",\"122\",\"SALDO\",\"AVG_PRICE_2\")","v":115941.555807069}]
[null,{"$f":"U12","v":10},"CM CAPITAL",1226,1131,129704805,115049.19538746199,114681.52519893899,null,null,null,null,null,null,"SAFRA",null,null,null,null,null,12,"WARREN",{"$f":"RTD(\"srv.rtd\",\"\",\"PLAYERSRANKING\",\"WINV22\",\"190\",\"SALDO\",\"QUANTITY\")","v":-59},{"$f":"RTD(\"srv.rtd\",\"\",\"PLAYERSRANKING\",\"WINV22\",\"190\",\"SALDO\",\"VOLQ\")","v":-4},{"$f":"RTD(\"srv.rtd\",\"\",\"PLAYERSRANKING\",\"WINV22\",\"190\",\"SALDO\",\"VOLF\")","v":-530385},{"$f":"RTD(\"srv.rtd\",\"\",\"PLAYERSRANKING\",\"WINV22\",\"190\",\"SALDO\",\"AVG_PRICE\")","v":114959.315920398},{"$f":"RTD(\"srv.rtd\",\"\",\"PLAYERSRANKING\",\"WINV22\",\"190\",\"SALDO\",\"AVG_PRICE_2\")","v":132596.25}]
[null,null,null,null,null,null,null,null,null,null,null,null,null,null,"INTER",null,null,null,null,null,13,"AGORA",{"$f":"RTD(\"srv.rtd\",\"\",\"PLAYERSRANKING\",\"WINV22\",\"39\",\"SALDO\",\"QUANTITY\")","v":303},{"$f":"RTD(\"srv.rtd\",\"\",\"PLAYERSRANKING\",\"WINV22\",\"39\",\"SALDO\",\"VOLQ\")","v":1052},{"$f":"RTD(\"srv.rtd\",\"\",\"PLAYERSRANKING\",\"WINV22\",\"39\",\"SALDO\",\"VOLF\")","v":120963285},{"$f":"RTD(\"srv.rtd\",\"\",\"PLAYERSRANKING\",\"WINV22\",\"39\",\"SALDO\",\"AVG_PRICE\")","v":115057.78804494999},{"$f":"RTD(\"srv.rtd\",\"\",\"PLAYERSRANKING\",\"WINV22\",\"39\",\"SALDO\",\"AVG_PRICE_2\")","v":114984.11121673}]
[null,{"$f":"U17","v":15},"ICAP",-379,-1760,-202294045,114996.000706215,114939.798295455,null,null,null,null,null,null,"C6 BANK",null,null,null,null,null,14,"NECTON",{"$f":"RTD(\"srv.rtd\",\"\",\"PLAYERSRANKING\",\"WINV22\",\"23\",\"SALDO\",\"QUANTITY\")","v":-124},{"$f":"RTD(\"srv.rtd\",\"\",\"PLAYERSRANKING\",\"WINV22\",\"23\",\"SALDO\",\"VOLQ\")","v":-255},{"$f":"RTD(\"srv.rtd\",\"\",\"PLAYERSRANKING\",\"WINV22\",\"23\",\"SALDO\",\"VOLF\")","v":-30837775},{"$f":"RTD(\"srv.rtd\",\"\",\"PLAYERSRANKING\",\"WINV22\",\"23\",\"SALDO\",\"AVG_PRICE\")","v":115127.279089495},{"$f":"RTD(\"srv.rtd\",\"\",\"PLAYERSRANKING\",\"WINV22\",\"23\",\"SALDO\",\"AVG_PRICE_2\")","v":120932.45098039199}]
[null,{"$f":"U10","v":8},"ATIVA",1205,1767,201447880,114966.821621358,114005.591397849,null,null,null,null,null,null,"SANTANDER",null,null,null,null,null,15,"ICAP",{"$f":"RTD(\"srv.rtd\",\"\",\"PLAYERSRANKING\",\"WINV22\",\"735\",\"SALDO\",\"QUANTITY\")","v":-379},{"$f":"RTD(\"srv.rtd\",\"\",\"PLAYERSRANKING\",\"WINV22\",\"735\",\"SALDO\",\"VOLQ\")","v":-1760},{"$f":"RTD(\"srv.rtd\",\"\",\"PLAYERSRANKING\",\"WINV22\",\"735\",\"SALDO\",\"VOLF\")","v":-202294045},{"$f":"RTD(\"srv.rtd\",\"\",\"PLAYERSRANKING\",\"WINV22\",\"735\",\"SALDO\",\"AVG_PRICE\")","v":114996.000706215},{"$f":"RTD(\"srv.rtd\",\"\",\"PLAYERSRANKING\",\"WINV22\",\"735\",\"SALDO\",\"AVG_PRICE_2\")","v":114939.798295455}]
[null,{"$f":"U13","v":11},"BGC",864,5743,665852355,115076.397388463,115941.555807069,null,null,null,null,null,null,"MIRAE",null,null,null,null,null,16,"PLANNER",{"$f":"RTD(\"srv.rtd\",\"\",\"PLAYERSRANKING\",\"WINV22\",\"129\",\"SALDO\",\"QUANTITY\")","v":6},{"$f":"RTD(\"srv.rtd\",\"\",\"PLAYERSRANKING\",\"WINV22\",\"129\",\"SALDO\",\"VOLQ\")","v":14},{"$f":"RTD(\"srv.rtd\",\"\",\"PLAYERSRANKING\",\"WINV22\",\"129\",\"SALDO\",\"VOLF\")","v":1594575},{"$f":"RTD(\"srv.rtd\",\"\",\"PLAYERSRANKING\",\"WINV22\",\"129\",\"SALDO\",\"AVG_PRICE\")","v":114966.845238095},{"$f":"RTD(\"srv.rtd\",\"\",\"PLAYERSRANKING\",\"WINV22\",\"129\",\"SALDO\",\"AVG_PRICE_2\")","v":113898.214285714}]
[null,{"$f":"U20","v":18},"GUIDE",-380,-3134,-361742895,115121.35007719501,115425.30153158899,null,null,null,null,null,null,"GUIDE",null,null,null,null,null,17,"TORO",{"$f":"RTD(\"srv.rtd\",\"\",\"PLAYERSRANKING\",\"WINV22\",\"4090\",\"SALDO\",\"QUANTITY\")","v":693},{"$f":"RTD(\"srv.rtd\",\"\",\"PLAYERSRANKING\",\"WINV22\",\"4090\",\"SALDO\",\"VOLQ\")","v":2782},{"$f":"RTD(\"srv.rtd\",\"\",\"PLAYERSRANKING\",\"WINV22\",\"4090\",\"SALDO\",\"VOLF\")","v":319234595},{"$f":"RTD(\"srv.rtd\",\"\",\"PLAYERSRANKING\",\"WINV22\",\"4090\",\"SALDO\",\"AVG_PRICE\")","v":115163.85437784001},{"$f":"RTD(\"srv.rtd\",\"\",\"PLAYERSRANKING\",\"WINV22\",\"4090\",\"SALDO\",\"AVG_PRICE_2\")","v":114750.034148095}]
[null,null,null,null,null,null,null,null,null,null,null,null,null,null,"BTG",null,null,null,null,null,18,"GUIDE",{"$f":"RTD(\"srv.rtd\",\"\",\"PLAYERSRANKING\",\"WINV22\",\"15\",\"SALDO\",\"QUANTITY\")","v":-380},{"$f":"RTD(\"srv.rtd\",\"\",\"PLAYERSRANKING\",\"WINV22\",\"15\",\"SALDO\",\"VOLQ\")","v":-3134},{"$f":"RTD(\"srv.rtd\",\"\",\"PLAYERSRANKING\",\"WINV22\",\"15\",\"SALDO\",\"VOLF\")","v":-361742895},{"$f":"RTD(\"srv.rtd\",\"\",\"PLAYERSRANKING\",\"WINV22\",\"15\",\"SALDO\",\"AVG_PRICE\")","v":115121.35007719501},{"$f":"RTD(\"srv.rtd\",\"\",\"PLAYERSRANKING\",\"WINV22\",\"15\",\"SALDO\",\"AVG_PRICE_2\")","v":115425.30153158899}]
[null,null,null,null,null,null,null,null,null,null,null,null,null,null,"NECTON",null,null,null,null,null,19,"JP MORGAN",{"$f":"RTD(\"srv.rtd\",\"\",\"PLAYERSRANKING\",\"WINV22\",\"16\",\"SALDO\",\"QUANTITY\")","v":-462},{"$f":"RTD(\"srv.rtd\",\"\",\"PLAYERSRANKING\",\"WINV22\",\"16\",\"SALDO\",\"VOLQ\")","v":-246},{"$f":"RTD(\"srv.rtd\",\"\",\"PLAYERSRANKING\",\"WINV22\",\"16\",\"SALDO\",\"VOLF\")","v":-27859155},{"$f":"RTD(\"srv.rtd\",\"\",\"PLAYERSRANKING\",\"WINV22\",\"16\",\"SALDO\",\"AVG_PRICE\")","v":115106.621337312},{"$f":"RTD(\"srv.rtd\",\"\",\"PLAYERSRANKING\",\"WINV22\",\"16\",\"SALDO\",\"AVG_PRICE_2\")","v":113248.59756097601}]
[null,{"$f":"U22","v":20},"ITAU",-439,-6213,-704560650,114771.167573827,113401.038145823,null,null,null,null,null,null,null,null,null,null,null,null,20,"ITAU",{"$f":"RTD(\"srv.rtd\",\"\",\"PLAYERSRANKING\",\"WINV22\",\"114\",\"SALDO\",\"QUANTITY\")","v":-439},{"$f":"RTD(\"srv.rtd\",\"\",\"PLAYERSRANKING\",\"WINV22\",\"114\",\"SALDO\",\"VOLQ\")","v":-6213},{"$f":"RTD(\"srv.rtd\",\"\",\"PLAYERSRANKING\",\"WINV22\",\"114\",\"SALDO\",\"VOLF\")","v":-704560650},{"$f":"RTD(\"srv.rtd\",\"\",\"PLAYERSRANKING\",\"WINV22\",\"114\",\"SALDO\",\"AVG_PRICE\")","v":114771.167573827},{"$f":"RTD(\"srv.rtd\",\"\",\"PLAYERSRANKING\",\"WINV22\",\"114\",\"SALDO\",\"AVG_PRICE_2\")","v":113401.038145823}]
[null,{"$f":"U15","v":13},"AGORA",303,1052,120963285,115057.78804494999,114984.11121673,null,null,null,null,null,null,null,null,null,null,null,null,21,"SAFRA",{"$f":"RTD(\"srv.rtd\",\"\",\"PLAYERSRANKING\",\"WINV22\",\"59\",\"SALDO\",\"QUANTITY\")","v":-22},{"$f":"RTD(\"srv.rtd\",\"\",\"PLAYERSRANKING\",\"WINV22\",\"59\",\"SALDO\",\"VOLQ\")","v":11},{"$f":"RTD(\"srv.rtd\",\"\",\"PLAYERSRANKING\",\"WINV22\",\"59\",\"SALDO\",\"VOLF\")","v":1096770},{"$f":"RTD(\"srv.rtd\",\"\",\"PLAYERSRANKING\",\"WINV22\",\"59\",\"SALDO\",\"AVG_PRICE\")","v":114867.38241308799},{"$f":"RTD(\"srv.rtd\",\"\",\"PLAYERSRANKING\",\"WINV22\",\"59\",\"SALDO\",\"AVG_PRICE_2\")","v":99706.363636363603}]
[null,{"$f":"U23","v":21},"SAFRA",-22,11,1096770,114867.38241308799,99706.363636363603,null,null,null,null,null,null,null,null,null,null,null,null,22,"COMMCOR",{"$f":"RTD(\"srv.rtd\",\"\",\"PLAYERSRANKING\",\"WINV22\",\"115\",\"SALDO\",\"QUANTITY\")","v":-45},{"$f":"RTD(\"srv.rtd\",\"\",\"PLAYERSRANKING\",\"WINV22\",\"115\",\"SALDO\",\"VOLQ\")","v":4},{"$f":"RTD(\"srv.rtd\",\"\",\"PLAYERSRANKING\",\"WINV22\",\"115\",\"SALDO\",\"VOLF\")","v":458165},{"$f":"RTD(\"srv.rtd\",\"\",\"PLAYERSRANKING\",\"WINV22\",\"115\",\"SALDO\",\"AVG_PRICE\")","v":114592.458419958},{"$f":"RTD(\"srv.rtd\",\"\",\"PLAYERSRANKING\",\"WINV22\",\"115\",\"SALDO\",\"AVG_PRICE_2\")","v":114541.25}]
[null,{"$f":"U24","v":22},"COMMCOR",-45,4,458165,114592.458419958,114541.25,null,null,null,null,null,null,null,null,null,null,null,null,23,"INTER",{"$f":"RTD(\"srv.rtd\",\"\",\"PLAYERSRANKING\",\"WINV22\",\"1099\",\"SALDO\",\"QUANTITY\")","v":67},{"$f":"RTD(\"srv.rtd\",\"\",\"PLAYERSRANKING\",\"WINV22\",\"1099\",\"SALDO\",\"VOLQ\")","v":270},{"$f":"RTD(\"srv.rtd\",\"\",\"PLAYERSRANKING\",\"WINV22\",\"1099\",\"SALDO\",\"VOLF\")","v":31068730},{"$f":"RTD(\"srv.rtd\",\"\",\"PLAYERSRANKING\",\"WINV22\",\"1099\",\"SALDO\",\"AVG_PRICE\")","v":115135.77491961401},{"$f":"RTD(\"srv.rtd\",\"\",\"PLAYERSRANKING\",\"WINV22\",\"1099\",\"SALDO\",\"AVG_PRICE_2\")","v":115069.37037037}]
[null,null,null,null,null,null,null,null,null,null,null,null,null,null,null,null,null,null,null,null,24,"C6 BANK",{"$f":"RTD(\"srv.rtd\",\"\",\"PLAYERSRANKING\",\"WINV22\",\"6003\",\"SALDO\",\"QUANTITY\")","v":-24},{"$f":"RTD(\"srv.rtd\",\"\",\"PLAYERSRANKING\",\"WINV22\",\"6003\",\"SALDO\",\"VOLQ\")","v":-256},{"$f":"RTD(\"srv.rtd\",\"\",\"PLAYERSRANKING\",\"WINV22\",\"6003\",\"SALDO\",\"VOLF\")","v":-29394470},{"$f":"RTD(\"srv.rtd\",\"\",\"PLAYERSRANKING\",\"WINV22\",\"6003\",\"SALDO\",\"AVG_PRICE\")","v":115036.435218325},{"$f":"RTD(\"srv.rtd\",\"\",\"PLAYERSRANKING\",\"WINV22\",\"6003\",\"SALDO\",\"AVG_PRICE_2\")","v":114822.1484375}]
[null,{"$f":"U25","v":23},"INTER",67,270,31068730,115135.77491961401,115069.37037037,null,null,null,null,null,null,null,null,null,null,null,null,25,"SANTANDER",{"$f":"RTD(\"srv.rtd\",\"\",\"PLAYERSRANKING\",\"WINV22\",\"27\",\"SALDO\",\"QUANTITY\")","v":608},{"$f":"RTD(\"srv.rtd\",\"\",\"PLAYERSRANKING\",\"WINV22\",\"27\",\"SALDO\",\"VOLQ\")","v":2051},{"$f":"RTD(\"srv.rtd\",\"\",\"PLAYERSRANKING\",\"WINV22\",\"27\",\"SALDO\",\"VOLF\")","v":236469270},{"$f":"RTD(\"srv.rtd\",\"\",\"PLAYERSRANKING\",\"WINV22\",\"27\",\"SALDO\",\"AVG_PRICE\")","v":115019.62126375199},{"$f":"RTD(\"srv.rtd\",\"\",\"PLAYERSRANKING\",\"WINV22\",\"27\",\"SALDO\",\"AVG_PRICE_2\")","v":115294.62213554401}]
[null,{"$f":"U19","v":17},"TORO",693,2782,319234595,115163.85437784001,114750.034148095,null,null,null,null,null,null,null,null,null,null,null,null,26,"EASYNVEST",{"$f":"RTD(\"srv.rtd\",\"\",\"PLAYERSRANKING\",\"WINV22\",\"90\",\"SALDO\",\"QUANTITY\")","v":348},{"$f":"RTD(\"srv.rtd\",\"\",\"PLAYERSRANKING\",\"WINV22\",\"90\",\"SALDO\",\"VOLQ\")","v":2202},{"$f":"RTD(\"srv.rtd\",\"\",\"PLAYERSRANKING\",\"WINV22\",\"90\",\"SALDO\",\"VOLF\")","v":253788095},{"$f":"RTD(\"srv.rtd\",\"\",\"PLAYERSRANKING\",\"WINV22\",\"90\",\"SALDO\",\"AVG_PRICE\")","v":115157.95224451501},{"$f":"RTD(\"srv.rtd\",\"\",\"PLAYERSRANKING\",\"WINV22\",\"90\",\"SALDO\",\"AVG_PRICE_2\")","v":115253.449137148}]
[null,{"$f":"U34","v":32},"MODAL",586,-6297,-712326190,115074.359288448,113121.516595204,null,null,null,null,null,null,null,null,null,null,null,null,27,"VITREO",{"$f":"RTD(\"srv.rtd\",\"\",\"PLAYERSRANKING\",\"WINV22\",\"1855\",\"SALDO\",\"QUANTITY\")","v":-134},{"$f":"RTD(\"srv.rtd\",\"\",\"PLAYERSRANKING\",\"WINV22\",\"1855\",\"SALDO\",\"VOLQ\")","v":85},{"$f":"RTD(\"srv.rtd\",\"\",\"PLAYERSRANKING\",\"WINV22\",\"1855\",\"SALDO\",\"VOLF\")","v":9353260},{"$f":"RTD(\"srv.rtd\",\"\",\"PLAYERSRANKING\",\"WINV22\",\"1855\",\"SALDO\",\"AVG_PRICE\")","v":115094.200583064},{"$f":"RTD(\"srv.rtd\",\"\",\"PLAYERSRANKING\",\"WINV22\",\"1855\",\"SALDO\",\"AVG_PRICE_2\")","v":110038.352941176}]
[null,{"$f":"U35","v":33},"IDEAL",4250,-3646,-430692130,115011.701720685,118127.298409216,null,null,null,null,null,null,null,null,null,null,null,null,28,"ORAMA",{"$f":"RTD(\"srv.rtd\",\"\",\"PLAYERSRANKING\",\"WINV22\",\"3701\",\"SALDO\",\"QUANTITY\")","v":661},{"$f":"RTD(\"srv.rtd\",\"\",\"PLAYERSRANKING\",\"WINV22\",\"3701\",\"SALDO\",\"VOLQ\")","v":669},{"$f":"RTD(\"srv.rtd\",\"\",\"PLAYERSRANKING\",\"WINV22\",\"3701\",\"SALDO\",\"VOLF\")","v":74933870},{"$f":"RTD(\"srv.rtd\",\"\",\"PLAYERSRANKING\",\"WINV22\",\"3701\",\"SALDO\",\"AVG_PRICE\")","v":115104.974159313},{"$f":"RTD(\"srv.rtd\",\"\",\"PLAYERSRANKING\",\"WINV22\",\"3701\",\"SALDO\",\"AVG_PRICE_2\")","v":112008.774289985}]
[null,null,null,null,null,null,null,null,null,null,null,null,null,null,null,null,null,null,null,null,29,"UBS",{"$f":"RTD(\"srv.rtd\",\"\",\"PLAYERSRANKING\",\"WINV22\",\"8\",\"SALDO\",\"QUANTITY\")","v":485},{"$f":"RTD(\"srv.rtd\",\"\",\"PLAYERSRANKING\",\"WINV22\",\"8\",\"SALDO\",\"VOLQ\")","v":6354},{"$f":"RTD(\"srv.rtd\",\"\",\"PLAYERSRANKING\",\"WINV22\",\"8\",\"SALDO\",\"VOLF\")","v":722017100},{"$f":"RTD(\"srv.rtd\",\"\",\"PLAYERSRANKING\",\"WINV22\",\"8\",\"SALDO\",\"AVG_PRICE\")","v":115049.874922513},{"$f":"RTD(\"srv.rtd\",\"\",\"PLAYERSRANKING\",\"WINV22\",\"8\",\"SALDO\",\"AVG_PRICE_2\")","v":113631.901164621}]
[null,{"$f":"U26","v":24},"C6 BANK",-24,-256,-29394470,115036.435218325,114822.1484375,null,null,null,null,null,null,null,null,null,null,null,null,30,"MIRAE",{"$f":"RTD(\"srv.rtd\",\"\",\"PLAYERSRANKING\",\"WINV22\",\"262\",\"SALDO\",\"QUANTITY\")","v":-10},{"$f":"RTD(\"srv.rtd\",\"\",\"PLAYERSRANKING\",\"WINV22\",\"262\",\"SALDO\",\"VOLQ\")","v":-77},{"$f":"RTD(\"srv.rtd\",\"\",\"PLAYERSRANKING\",\"WINV22\",\"262\",\"SALDO\",\"VOLF\")","v":-8878740},{"$f":"RTD(\"srv.rtd\",\"\",\"PLAYERSRANKING\",\"WINV22\",\"262\",\"SALDO\",\"AVG_PRICE\")","v":114916.268501688},{"$f":"RTD(\"srv.rtd\",\"\",\"PLAYERSRANKING\",\"WINV22\",\"262\",\"SALDO\",\"AVG_PRICE_2\")","v":115308.31168831199}]
[null,{"$f":"U27","v":25},"SANTANDER",608,2051,236469270,115019.62126375199,115294.62213554401,null,null,null,null,null,null,null,null,null,null,null,null,31,"GOLDMAN SACHS",{"$f":"RTD(\"srv.rtd\",\"\",\"PLAYERSRANKING\",\"WINV22\",\"238\",\"SALDO\",\"QUANTITY\")","v":-2861},{"$f":"RTD(\"srv.rtd\",\"\",\"PLAYERSRANKING\",\"WINV22\",\"238\",\"SALDO\",\"VOLQ\")","v":-11321},{"$f":"RTD(\"srv.rtd\",\"\",\"PLAYERSRANKING\",\"WINV22\",\"238\",\"SALDO\",\"VOLF\")","v":-1298778600},{"$f":"RTD(\"srv.rtd\",\"\",\"PLAYERSRANKING\",\"WINV22\",\"238\",\"SALDO\",\"AVG_PRICE\")","v":114665.865343763},{"$f":"RTD(\"srv.rtd\",\"\",\"PLAYERSRANKING\",\"WINV22\",\"238\",\"SALDO\",\"AVG_PRICE_2\")","v":114722.957335924}]
[null,null,null,null,null,null,null,null,null,null,null,null,null,null,null,null,null,null,null,null,32,"MODAL",{"$f":"RTD(\"srv.rtd\",\"\",\"PLAYERSRANKING\",\"WINV22\",\"1982\",\"SALDO\",\"QUANTITY\")","v":586},{"$f":"RTD(\"srv.rtd\",\"\",\"PLAYERSRANKING\",\"WINV22\",\"1982\",\"SALDO\",\"VOLQ\")","v":-6297},{"$f":"RTD(\"srv.rtd\",\"\",\"PLAYERSRANKING\",\"WINV22\",\"1982\",\"SALDO\",\"VOLF\")","v":-712326190},{"$f":"RTD(\"srv.rtd\",\"\",\"PLAYERSRANKING\",\"WINV22\",\"1982\",\"SALDO\",\"AVG_PRICE\")","v":115074.359288448},{"$f":"RTD(\"srv.rtd\",\"\",\"PLAYERSRANKING\",\"WINV22\",\"1982\",\"SALDO\",\"AVG_PRICE_2\")","v":113121.516595204}]
[null,{"$f":"U21","v":19},"JP MORGAN",-462,-246,-27859155,115106.621337312,113248.59756097601,null,null,null,null,null,null,null,null,null,null,null,null,33,"IDEAL",{"$f":"RTD(\"srv.rtd\",\"\",\"PLAYERSRANKING\",\"WINV22\",\"1618\",\"SALDO\",\"QUANTITY\")","v":4250},{"$f":"RTD(\"srv.rtd\",\"\",\"PLAYERSRANKING\",\"WINV22\",\"1618\",\"SALDO\",\"VOLQ\")","v":-3646},{"$f":"RTD(\"srv.rtd\",\"\",\"PLAYERSRANKING\",\"WINV22\",\"1618\",\"SALDO\",\"VOLF\")","v":-430692130},{"$f":"RTD(\"srv.rtd\",\"\",\"PLAYERSRANKING\",\"WINV22\",\"1618\",\"SALDO\",\"AVG_PRICE\")","v":115011.701720685},{"$f":"RTD(\"srv.rtd\",\"\",\"PLAYERSRANKING\",\"WINV22\",\"1618\",\"SALDO\",\"AVG_PRICE_2\")","v":118127.298409216}]
[null,{"$f":"U30","v":28},"ORAMA",661,669,74933870,115104.974159313,112008.774289985,null,null,null,null,null,null,null,null,null,null,null,null,34,"MERRILL LYNCH",{"$f":"RTD(\"srv.rtd\",\"\",\"PLAYERSRANKING\",\"WINV22\",\"13\",\"SALDO\",\"QUANTITY\")","v":-1760},{"$f":"RTD(\"srv.rtd\",\"\",\"PLAYERSRANKING\",\"WINV22\",\"13\",\"SALDO\",\"VOLQ\")","v":-1061},{"$f":"RTD(\"srv.rtd\",\"\",\"PLAYERSRANKING\",\"WINV22\",\"13\",\"SALDO\",\"VOLF\")","v":-121097000},{"$f":"RTD(\"srv.rtd\",\"\",\"PLAYERSRANKING\",\"WINV22\",\"13\",\"SALDO\",\"AVG_PRICE\")","v":115159.437514006},{"$f":"RTD(\"srv.rtd\",\"\",\"PLAYERSRANKING\",\"WINV22\",\"13\",\"SALDO\",\"AVG_PRICE_2\")","v":114134.77851083899}]
[null,{"$f":"U32","v":30},"MIRAE",-10,-77,-8878740,114916.268501688,115308.31168831199,null,null,null,null,null,null,null,null,null,null,null,null,35,"MORGAN STANLEY",{"$f":"RTD(\"srv.rtd\",\"\",\"PLAYERSRANKING\",\"WINV22\",\"40\",\"SALDO\",\"QUANTITY\")","v":-3732},{"$f":"RTD(\"srv.rtd\",\"\",\"PLAYERSRANKING\",\"WINV22\",\"40\",\"SALDO\",\"VOLQ\")","v":-3593},{"$f":"RTD(\"srv.rtd\",\"\",\"PLAYERSRANKING\",\"WINV22\",\"40\",\"SALDO\",\"VOLF\")","v":-417031800},{"$f":"RTD(\"srv.rtd\",\"\",\"PLAYERSRANKING\",\"WINV22\",\"40\",\"SALDO\",\"AVG_PRICE\")","v":115073.62580482299},{"$f":"RTD(\"srv.rtd\",\"\",\"PLAYERSRANKING\",\"WINV22\",\"40\",\"SALDO\",\"AVG_PRICE_2\")","v":116067.854160868}]
[null,{"$f":"U28","v":26},"EASYNVEST",348,2202,253788095,115157.95224451501,115253.449137148,null,null,null,null,null,null,null,null,null,null,null,null,36,"TULLETT",{"$f":"RTD(\"srv.rtd\",\"\",\"PLAYERSRANKING\",\"WINV22\",\"127\",\"SALDO\",\"QUANTITY\")","v":-1844},{"$f":"RTD(\"srv.rtd\",\"\",\"PLAYERSRANKING\",\"WINV22\",\"127\",\"SALDO\",\"VOLQ\")","v":-6617},{"$f":"RTD(\"srv.rtd\",\"\",\"PLAYERSRANKING\",\"WINV22\",\"127\",\"SALDO\",\"VOLF\")","v":-749790360},{"$f":"RTD(\"srv.rtd\",\"\",\"PLAYERSRANKING\",\"WINV22\",\"127\",\"SALDO\",\"AVG_PRICE\")","v":115029.853275409},{"$f":"RTD(\"srv.rtd\",\"\",\"PLAYERSRANKING\",\"WINV22\",\"127\",\"SALDO\",\"AVG_PRICE_2\")","v":113312.73386731101}]
[null,{"$f":"U33","v":31},"GOLDMAN SACHS",-2861,-11321,-1298778600,114665.865343763,114722.957335924,null,null,null,null,null,null,null,null,null,null,null,null,37,"TERRA",{"$f":"RTD(\"srv.rtd\",\"\",\"PLAYERSRANKING\",\"WINV22\",\"107\",\"SALDO\",\"QUANTITY\")","v":-1359},{"$f":"RTD(\"srv.rtd\",\"\",\"PLAYERSRANKING\",\"WINV22\",\"107\",\"SALDO\",\"VOLQ\")","v":-8378},{"$f":"RTD(\"srv.rtd\",\"\",\"PLAYERSRANKING\",\"WINV22\",\"107\",\"SALDO\",\"VOLF\")","v":-947322260},{"$f":"RTD(\"srv.rtd\",\"\",\"PLAYERSRANKING\",\"WINV22\",\"107\",\"SALDO\",\"AVG_PRICE\")","v":115099.37937773801},{"$f":"RTD(\"srv.rtd\",\"\",\"PLAYERSRANKING\",\"WINV22\",\"107\",\"SALDO\",\"AVG_PRICE_2\")","v":113072.60205299599}]
[]
[null,{"$f":"U36","v":34},"MERRILL LYNCH",-1760,-1061,-121097000,115159.437514006,114134.77851083899]
[null,{"$f":"U39","v":37},"TERRA",-1359,-8378,-947322260,115099.37937773801,113072.60205299599]
[null,{"$f":"U31","v":29},"UBS",485,6354,722017100,115049.874922513,113631.901164621]
[null,{"$f":"U37","v":35},"MORGAN STANLEY",-3732,-3593,-417031800,115073.62580482299,116067.854160868]
[null,36,"TULLETT",-1844,-6617,-749790360,115029.853275409,113312.73386731101]

{"sheet":"ESTRANGEIROS","index":14,"n_rows":19,"n_cols":9,"rows_kept":19,"cut":false,"hidden":false,"merged":[]}
[]
[]
[]
[null,null,"POSI","CORRETORA","QTD","VOL(Q)","VOL($)","PT.MED(T)","PR.MED(Saldo)"]
[null,null,{"$f":"'CORRETORAS WIN'!B7","v":9},{"$f":"'CORRETORAS WIN'!C7","v":"CREDIT SUISSE"},{"$f":"'CORRETORAS WIN'!D7","v":-2490},{"$f":"'CORRETORAS WIN'!E7","v":-5492},{"$f":"'CORRETORAS WIN'!F7","v":-628968830},{"$f":"'CORRETORAS WIN'!G7","v":114975.67073651},{"$f":"'CORRETORAS WIN'!H7","v":114524.550254916}]
[null,null,{"$f":"'CORRETORAS WIN'!B13","v":12}]
[null,null,{"$f":"'CORRETORAS WIN'!B16","v":15},{"$f":"'CORRETORAS WIN'!C16","v":"ICAP"},{"$f":"'CORRETORAS WIN'!D16","v":-379},{"$f":"'CORRETORAS WIN'!E16","v":-1760},{"$f":"'CORRETORAS WIN'!F16","v":-202294045},{"$f":"'CORRETORAS WIN'!G16","v":114996.000706215},{"$f":"'CORRETORAS WIN'!H16","v":114939.798295455}]
[null,null,{"$f":"'CORRETORAS WIN'!B35","v":19},{"$f":"'CORRETORAS WIN'!C35","v":"JP MORGAN"},{"$f":"'CORRETORAS WIN'!D35","v":-462},{"$f":"'CORRETORAS WIN'!E35","v":-246},{"$f":"'CORRETORAS WIN'!F35","v":-27859155},{"$f":"'CORRETORAS WIN'!G35","v":115106.621337312},{"$f":"'CORRETORAS WIN'!H35","v":113248.59756097601}]
[null,null,null,null,null,null,null,{"$f":"'CORRETORAS WIN'!G38","v":115157.95224451501}]
[null,null,{"$f":"'CORRETORAS WIN'!B39","v":31},{"$f":"'CORRETORAS WIN'!C39","v":"GOLDMAN SACHS"},{"$f":"'CORRETORAS WIN'!D39","v":-2861},{"$f":"'CORRETORAS WIN'!E39","v":-11321},{"$f":"'CORRETORAS WIN'!F39","v":-1298778600},{"$f":"'CORRETORAS WIN'!G39","v":114665.865343763},{"$f":"'CORRETORAS WIN'!H39","v":114722.957335924}]
[null,null,{"$f":"'CORRETORAS WIN'!B43","v":29},{"$f":"'CORRETORAS WIN'!C43","v":"UBS"},{"$f":"'CORRETORAS WIN'!D43","v":485},{"$f":"'CORRETORAS WIN'!E43","v":6354},{"$f":"'CORRETORAS WIN'!F43","v":722017100},{"$f":"'CORRETORAS WIN'!G43","v":115049.874922513},{"$f":"'CORRETORAS WIN'!H43","v":113631.901164621}]
[null,null,{"$f":"'CORRETORAS WIN'!B44","v":35},{"$f":"'CORRETORAS WIN'!C44","v":"MORGAN STANLEY"},{"$f":"'CORRETORAS WIN'!D44","v":-3732},{"$f":"'CORRETORAS WIN'!E44","v":-3593},{"$f":"'CORRETORAS WIN'!F44","v":-417031800},{"$f":"'CORRETORAS WIN'!G44","v":115073.62580482299},{"$f":"'CORRETORAS WIN'!H44","v":116067.854160868}]
[null,null,{"$f":"'CORRETORAS WIN'!B45","v":36},{"$f":"'CORRETORAS WIN'!C45","v":"TULLETT"},{"$f":"'CORRETORAS WIN'!D45","v":-1844},{"$f":"'CORRETORAS WIN'!E45","v":-6617},{"$f":"'CORRETORAS WIN'!F45","v":-749790360},{"$f":"'CORRETORAS WIN'!G45","v":115029.853275409},{"$f":"'CORRETORAS WIN'!H45","v":113312.73386731101}]
[null,null,{"$f":"'CORRETORAS WIN'!B41","v":34},{"$f":"'CORRETORAS WIN'!C41","v":"MERRILL LYNCH"},{"$f":"'CORRETORAS WIN'!D41","v":-1760},{"$f":"'CORRETORAS WIN'!E41","v":-1061},{"$f":"'CORRETORAS WIN'!F41","v":-121097000},{"$f":"'CORRETORAS WIN'!G41","v":115159.437514006},{"$f":"'CORRETORAS WIN'!H41","v":114134.77851083899}]
[null,null,{"$f":"'CORRETORAS WIN'!B30","v":33},{"$f":"'CORRETORAS WIN'!C30","v":"IDEAL"},{"$f":"'CORRETORAS WIN'!D30","v":4250},{"$f":"'CORRETORAS WIN'!E30","v":-3646},{"$f":"'CORRETORAS WIN'!F30","v":-430692130},{"$f":"'CORRETORAS WIN'!G30","v":115011.701720685},{"$f":"'CORRETORAS WIN'!H30","v":118127.298409216}]
[]
[]
[null,null,null,null,null,null,{"$f":"SUM(G5:G15)","v":-3154494820}]
[null,null,null,null,null,null,{"$f":"SUM(G5,G7,G8,G10,G12,G13,G14)","v":-3445819790}]

{"sheet":"BANCOS","index":15,"n_rows":22,"n_cols":10,"rows_kept":22,"cut":false,"hidden":true,"merged":[]}
[]
[]
[]
[null,null,"POSI","CORRETORA","QTD","VOL(Q)","VOL($)","PT.MED(T)","PR.MED(Saldo)"]
[null,null,{"$f":"'CORRETORAS WIN'!B5","v":2},{"$f":"'CORRETORAS WIN'!C5","v":"BTG"},{"$f":"'CORRETORAS WIN'!D5","v":-525},{"$f":"'CORRETORAS WIN'!E5","v":1454},{"$f":"'CORRETORAS WIN'!F5","v":164106635},{"$f":"'CORRETORAS WIN'!G5","v":115069.039945375},{"$f":"'CORRETORAS WIN'!H5","v":112865.63617606599}]
[null,null,{"$f":"'CORRETORAS WIN'!B8","v":4},{"$f":"'CORRETORAS WIN'!C8","v":"BRADESCO"},{"$f":"'CORRETORAS WIN'!D8","v":-2569},{"$f":"'CORRETORAS WIN'!E8","v":3689},{"$f":"'CORRETORAS WIN'!F8","v":409709335},{"$f":"'CORRETORAS WIN'!G8","v":115009.09465821},{"$f":"'CORRETORAS WIN'!H8","v":111062.438330171}]
[null,null,{"$f":"'CORRETORAS WIN'!B9","v":6},{"$f":"'CORRETORAS WIN'!C9","v":"ELITE"},{"$f":"'CORRETORAS WIN'!D9","v":1065},{"$f":"'CORRETORAS WIN'!E9","v":1464},{"$f":"'CORRETORAS WIN'!F9","v":168445370},{"$f":"'CORRETORAS WIN'!G9","v":114841.08195122},{"$f":"'CORRETORAS WIN'!H9","v":115058.31284153}]
[null,null,{"$f":"'CORRETORAS WIN'!B17","v":8},{"$f":"'CORRETORAS WIN'!C17","v":"ATIVA"},{"$f":"'CORRETORAS WIN'!D17","v":1205},{"$f":"'CORRETORAS WIN'!E17","v":1767},{"$f":"'CORRETORAS WIN'!F17","v":201447880},{"$f":"'CORRETORAS WIN'!G17","v":114966.821621358},{"$f":"'CORRETORAS WIN'!H17","v":114005.591397849}]
[null,null,{"$f":"'CORRETORAS WIN'!B18","v":11},{"$f":"'CORRETORAS WIN'!C18","v":"BGC"},{"$f":"'CORRETORAS WIN'!D18","v":864},{"$f":"'CORRETORAS WIN'!E18","v":5743},{"$f":"'CORRETORAS WIN'!F18","v":665852355},{"$f":"'CORRETORAS WIN'!G18","v":115076.397388463},{"$f":"'CORRETORAS WIN'!H18","v":115941.555807069}]
[null,null,{"$f":"'CORRETORAS WIN'!B19","v":18},{"$f":"'CORRETORAS WIN'!C19","v":"GUIDE"},{"$f":"'CORRETORAS WIN'!D19","v":-380},{"$f":"'CORRETORAS WIN'!E19","v":-3134},{"$f":"'CORRETORAS WIN'!F19","v":-361742895},{"$f":"'CORRETORAS WIN'!G19","v":115121.35007719501},{"$f":"'CORRETORAS WIN'!H19","v":115425.30153158899}]
[null,null,{"$f":"'CORRETORAS WIN'!B11","v":14},{"$f":"'CORRETORAS WIN'!C11","v":"NECTON"},{"$f":"'CORRETORAS WIN'!D11","v":-124},{"$f":"'CORRETORAS WIN'!E11","v":-255},{"$f":"'CORRETORAS WIN'!F11","v":-30837775},{"$f":"'CORRETORAS WIN'!G11","v":115127.279089495},{"$f":"'CORRETORAS WIN'!H11","v":120932.45098039199}]
[null,null,{"$f":"'CORRETORAS WIN'!B22","v":20},{"$f":"'CORRETORAS WIN'!C22","v":"ITAU"},{"$f":"'CORRETORAS WIN'!D22","v":-439},{"$f":"'CORRETORAS WIN'!E22","v":-6213},{"$f":"'CORRETORAS WIN'!F22","v":-704560650},{"$f":"'CORRETORAS WIN'!G22","v":114771.167573827},{"$f":"'CORRETORAS WIN'!H22","v":113401.038145823}]
[null,null,{"$f":"'CORRETORAS WIN'!B24","v":21},{"$f":"'CORRETORAS WIN'!C24","v":"SAFRA"},{"$f":"'CORRETORAS WIN'!D24","v":-22},{"$f":"'CORRETORAS WIN'!E24","v":11},{"$f":"'CORRETORAS WIN'!F24","v":1096770},{"$f":"'CORRETORAS WIN'!G24","v":114867.38241308799},{"$f":"'CORRETORAS WIN'!H24","v":99706.363636363603}]
[null,null,{"$f":"'CORRETORAS WIN'!B25","v":22},{"$f":"'CORRETORAS WIN'!C25","v":"COMMCOR"},{"$f":"'CORRETORAS WIN'!D25","v":-45},{"$f":"'CORRETORAS WIN'!E25","v":4},{"$f":"'CORRETORAS WIN'!F25","v":458165},{"$f":"'CORRETORAS WIN'!G25","v":114592.458419958},{"$f":"'CORRETORAS WIN'!H25","v":114541.25}]
[null,null,{"$f":"'CORRETORAS WIN'!B27","v":23},{"$f":"'CORRETORAS WIN'!C27","v":"INTER"},{"$f":"'CORRETORAS WIN'!D27","v":67},{"$f":"'CORRETORAS WIN'!E27","v":270},{"$f":"'CORRETORAS WIN'!F27","v":31068730},{"$f":"'CORRETORAS WIN'!G27","v":115135.77491961401},{"$f":"'CORRETORAS WIN'!H27","v":115069.37037037}]
[null,null,{"$f":"'CORRETORAS WIN'!B32","v":24},{"$f":"'CORRETORAS WIN'!C32","v":"C6 BANK"},{"$f":"'CORRETORAS WIN'!D32","v":-24},{"$f":"'CORRETORAS WIN'!E32","v":-256},{"$f":"'CORRETORAS WIN'!F32","v":-29394470},{"$f":"'CORRETORAS WIN'!G32","v":115036.435218325},{"$f":"'CORRETORAS WIN'!H32","v":114822.1484375},{"$f":"'CORRETORAS WIN'!I32","v":0}]
[null,null,{"$f":"'CORRETORAS WIN'!B33","v":25},{"$f":"'CORRETORAS WIN'!C33","v":"SANTANDER"},{"$f":"'CORRETORAS WIN'!D33","v":608},{"$f":"'CORRETORAS WIN'!E33","v":2051},{"$f":"'CORRETORAS WIN'!F33","v":236469270},{"$f":"'CORRETORAS WIN'!G33","v":115019.62126375199},{"$f":"'CORRETORAS WIN'!H33","v":115294.62213554401},{"$f":"'CORRETORAS WIN'!I33","v":0}]
[null,null,{"$f":"'CORRETORAS WIN'!B37","v":30},{"$f":"'CORRETORAS WIN'!C37","v":"MIRAE"},{"$f":"'CORRETORAS WIN'!D37","v":-10},{"$f":"'CORRETORAS WIN'!E37","v":-77},{"$f":"'CORRETORAS WIN'!F37","v":-8878740},{"$f":"'CORRETORAS WIN'!G37","v":114916.268501688},{"$f":"'CORRETORAS WIN'!H37","v":115308.31168831199}]
[null,null,{"$f":"'CORRETORAS WIN'!B42","v":37},{"$f":"'CORRETORAS WIN'!C42","v":"TERRA"},{"$f":"'CORRETORAS WIN'!D42","v":-1359},{"$f":"'CORRETORAS WIN'!E42","v":-8378},{"$f":"'CORRETORAS WIN'!F42","v":-947322260},{"$f":"'CORRETORAS WIN'!G42","v":115099.37937773801},{"$f":"'CORRETORAS WIN'!H42","v":113072.60205299599}]
[null,null,null,null,null,null,{"$f":"RTD(\"srv.rtd\",\"\",\"PLAYERSRANKING\",\"WINQ22\",\"15\",\"SALDO\",\"VOLF\")","v":"0"},{"$f":"RTD(\"srv.rtd\",\"\",\"PLAYERSRANKING\",\"WINQ22\",\"15\",\"SALDO\",\"AVG_PRICE\")","v":"0"}]
[]
[null,null,null,null,null,null,"VOL ($)",{"$f":"SUM(G5:G20)","v":-204082280}]

{"sheet":"PF","index":16,"n_rows":15,"n_cols":8,"rows_kept":15,"cut":false,"hidden":false,"merged":[]}
[]
[null,"POSI","CORRETORA","QTD","VOL(Q)","VOL($)","PT.MED(T)","PR.MED(Saldo)"]
[null,{"$f":"'CORRETORAS WIN'!B4","v":1},{"$f":"'CORRETORAS WIN'!C4","v":"GENIAL"},{"$f":"'CORRETORAS WIN'!D4","v":-6384},{"$f":"'CORRETORAS WIN'!E4","v":-8115},{"$f":"'CORRETORAS WIN'!F4","v":-942502205},{"$f":"'CORRETORAS WIN'!G4","v":115093.288720828},{"$f":"'CORRETORAS WIN'!H4","v":116143.21688231701}]
[null,{"$f":"'CORRETORAS WIN'!B6","v":3},{"$f":"'CORRETORAS WIN'!C6","v":"XP"},{"$f":"'CORRETORAS WIN'!D6","v":9471},{"$f":"'CORRETORAS WIN'!E6","v":27875},{"$f":"'CORRETORAS WIN'!F6","v":3209898645},{"$f":"'CORRETORAS WIN'!G6","v":115092.560685914},{"$f":"'CORRETORAS WIN'!H6","v":115153.314618834}]
[null,{"$f":"'CORRETORAS WIN'!B10","v":5},{"$f":"'CORRETORAS WIN'!C10","v":"CLEAR"},{"$f":"'CORRETORAS WIN'!D10","v":4343},{"$f":"'CORRETORAS WIN'!E10","v":7643},{"$f":"'CORRETORAS WIN'!F10","v":871201325},{"$f":"'CORRETORAS WIN'!G10","v":115090.76668151699},{"$f":"'CORRETORAS WIN'!H10","v":113986.827816302}]
[null,{"$f":"'CORRETORAS WIN'!B12","v":7},{"$f":"'CORRETORAS WIN'!C12","v":"NOVA FUTURA"},{"$f":"'CORRETORAS WIN'!D12","v":-501},{"$f":"'CORRETORAS WIN'!E12","v":213},{"$f":"'CORRETORAS WIN'!F12","v":24501450},{"$f":"'CORRETORAS WIN'!G12","v":115102.999037795},{"$f":"'CORRETORAS WIN'!H12","v":115030.281690141}]
[null,{"$f":"'CORRETORAS WIN'!B14","v":10},{"$f":"'CORRETORAS WIN'!C14","v":"CM CAPITAL"},{"$f":"'CORRETORAS WIN'!D14","v":1226},{"$f":"'CORRETORAS WIN'!E14","v":1131},{"$f":"'CORRETORAS WIN'!F14","v":129704805},{"$f":"'CORRETORAS WIN'!G14","v":115049.19538746199},{"$f":"'CORRETORAS WIN'!H14","v":114681.52519893899}]
[null,{"$f":"'CORRETORAS WIN'!B23","v":13},{"$f":"'CORRETORAS WIN'!C23","v":"AGORA"},{"$f":"'CORRETORAS WIN'!D23","v":303},{"$f":"'CORRETORAS WIN'!E23","v":1052},{"$f":"'CORRETORAS WIN'!F23","v":120963285},{"$f":"'CORRETORAS WIN'!G23","v":115057.78804494999},{"$f":"'CORRETORAS WIN'!H23","v":114984.11121673}]
[null,{"$f":"'CORRETORAS WIN'!B28","v":17},{"$f":"'CORRETORAS WIN'!C28","v":"TORO"},{"$f":"'CORRETORAS WIN'!D28","v":693},{"$f":"'CORRETORAS WIN'!E28","v":2782},{"$f":"'CORRETORAS WIN'!F28","v":319234595},{"$f":"'CORRETORAS WIN'!G28","v":115163.85437784001},{"$f":"'CORRETORAS WIN'!H28","v":114750.034148095}]
[null,{"$f":"'CORRETORAS WIN'!B29","v":32},{"$f":"'CORRETORAS WIN'!C29","v":"MODAL"},{"$f":"'CORRETORAS WIN'!D29","v":586},{"$f":"'CORRETORAS WIN'!E29","v":-6297},{"$f":"'CORRETORAS WIN'!F29","v":-712326190},{"$f":"'CORRETORAS WIN'!G29","v":115074.359288448},{"$f":"'CORRETORAS WIN'!H29","v":113121.516595204}]
[null,{"$f":"'CORRETORAS WIN'!B38","v":26},{"$f":"'CORRETORAS WIN'!C38","v":"EASYNVEST"},{"$f":"'CORRETORAS WIN'!D38","v":348},{"$f":"'CORRETORAS WIN'!E38","v":2202},{"$f":"'CORRETORAS WIN'!F38","v":253788095},{"$f":"'CORRETORAS WIN'!G38","v":115157.95224451501},{"$f":"'CORRETORAS WIN'!H38","v":115253.449137148}]
[null,{"$f":"'CORRETORAS WIN'!B36","v":28},{"$f":"'CORRETORAS WIN'!C36","v":"ORAMA"},{"$f":"'CORRETORAS WIN'!D36","v":661},{"$f":"'CORRETORAS WIN'!E36","v":669},{"$f":"'CORRETORAS WIN'!F36","v":74933870},{"$f":"'CORRETORAS WIN'!G36","v":115104.974159313},{"$f":"'CORRETORAS WIN'!H36","v":112008.774289985}]
[]
[]
[null,null,null,null,null,"VOL ($)",{"$f":"SUM(F3:F12)","v":3349397675}]

{"sheet":"DI FUT","index":17,"n_rows":18,"n_cols":12,"rows_kept":18,"cut":false,"hidden":false,"merged":[]}
[]
[]
[]
[null,"Asset","Último","Abertura","Máximo","Mínimo","Fechamento Anterior","Variação","Variação(pts)","Volume","TR - Acúmulo de Agressão - Saldo","TR - Volume de Agressão - Saldo"]
[null,"DI1F23",{"$f":"RTD(\"rtdtrading.rtdserver\",, \"DI1F23_F_0\", \"ULT\")","v":13.725000000000001},{"$f":"RTD(\"rtdtrading.rtdserver\",, \"DI1F23_F_0\", \"ABE\")","v":13.73},{"$f":"RTD(\"rtdtrading.rtdserver\",, \"DI1F23_F_0\", \"MAX\")","v":13.73},{"$f":"RTD(\"rtdtrading.rtdserver\",, \"DI1F23_F_0\", \"MIN\")","v":13.715},{"$f":"RTD(\"rtdtrading.rtdserver\",, \"DI1F23_F_0\", \"FEC\")","v":13.72},{"$f":"RTD(\"rtdtrading.rtdserver\",, \"DI1F23_F_0\", \"VAR\")","v":3.6443148688050542E-2},{"$f":"RTD(\"rtdtrading.rtdserver\",, \"DI1F23_F_0\", \"VARPTS\")","v":5.0000000000007816E-3},{"$f":"RTD(\"rtdtrading.rtdserver\",, \"DI1F23_F_0\", \"VOL\")","v":19750239558.099979},{"$f":"RTD(\"rtdtrading.rtdserver\",, \"DI1F23_F_0\", \"103\")","v":"-83.335,00"},{"$f":"RTD(\"rtdtrading.rtdserver\",, \"DI1F23_F_0\", \"100\")","v":"-83.335"}]
[null,"DI1F24",{"$f":"RTD(\"rtdtrading.rtdserver\",, \"DI1F24_F_0\", \"ULT\")","v":13.159999999999998},{"$f":"RTD(\"rtdtrading.rtdserver\",, \"DI1F24_F_0\", \"ABE\")","v":13.195},{"$f":"RTD(\"rtdtrading.rtdserver\",, \"DI1F24_F_0\", \"MAX\")","v":13.205},{"$f":"RTD(\"rtdtrading.rtdserver\",, \"DI1F24_F_0\", \"MIN\")","v":13.14},{"$f":"RTD(\"rtdtrading.rtdserver\",, \"DI1F24_F_0\", \"FEC\")","v":13.200000000000001},{"$f":"RTD(\"rtdtrading.rtdserver\",, \"DI1F24_F_0\", \"VAR\")","v":-0.30303030303032585},{"$f":"RTD(\"rtdtrading.rtdserver\",, \"DI1F24_F_0\", \"VARPTS\")","v":-4.00000000000027E-2},{"$f":"RTD(\"rtdtrading.rtdserver\",, \"DI1F24_F_0\", \"VOL\")","v":15025020088.499987},{"$f":"RTD(\"rtdtrading.rtdserver\",, \"DI1F24_F_0\", \"103\")","v":"-3.655,00"},{"$f":"RTD(\"rtdtrading.rtdserver\",, \"DI1F24_F_0\", \"100\")","v":"-3.655"}]
[null,"DI1F25",{"$f":"RTD(\"rtdtrading.rtdserver\",, \"DI1F25_F_0\", \"ULT\")","v":12.104999999999997},{"$f":"RTD(\"rtdtrading.rtdserver\",, \"DI1F25_F_0\", \"ABE\")","v":12.125},{"$f":"RTD(\"rtdtrading.rtdserver\",, \"DI1F25_F_0\", \"MAX\")","v":12.154999999999999},{"$f":"RTD(\"rtdtrading.rtdserver\",, \"DI1F25_F_0\", \"MIN\")","v":12.035},{"$f":"RTD(\"rtdtrading.rtdserver\",, \"DI1F25_F_0\", \"FEC\")","v":12.13},{"$f":"RTD(\"rtdtrading.rtdserver\",, \"DI1F25_F_0\", \"VAR\")","v":-0.2061005770816422},{"$f":"RTD(\"rtdtrading.rtdserver\",, \"DI1F25_F_0\", \"VARPTS\")","v":-2.5000000000003908E-2},{"$f":"RTD(\"rtdtrading.rtdserver\",, \"DI1F25_F_0\", \"VOL\")","v":11915928736.299957},{"$f":"RTD(\"rtdtrading.rtdserver\",, \"DI1F25_F_0\", \"103\")","v":"20.545,00"},{"$f":"RTD(\"rtdtrading.rtdserver\",, \"DI1F25_F_0\", \"100\")","v":"20.545"}]
[null,"DI1F26",{"$f":"RTD(\"rtdtrading.rtdserver\",, \"DI1F26_F_0\", \"ULT\")","v":11.899999999999999},{"$f":"RTD(\"rtdtrading.rtdserver\",, \"DI1F26_F_0\", \"ABE\")","v":11.895},{"$f":"RTD(\"rtdtrading.rtdserver\",, \"DI1F26_F_0\", \"MAX\")","v":11.945},{"$f":"RTD(\"rtdtrading.rtdserver\",, \"DI1F26_F_0\", \"MIN\")","v":11.81},{"$f":"RTD(\"rtdtrading.rtdserver\",, \"DI1F26_F_0\", \"FEC\")","v":11.920000000000002},{"$f":"RTD(\"rtdtrading.rtdserver\",, \"DI1F26_F_0\", \"VAR\")","v":-0.16778523489935537},{"$f":"RTD(\"rtdtrading.rtdserver\",, \"DI1F26_F_0\", \"VARPTS\")","v":-2.0000000000003126E-2},{"$f":"RTD(\"rtdtrading.rtdserver\",, \"DI1F26_F_0\", \"VOL\")","v":7400463527.1499958},{"$f":"RTD(\"rtdtrading.rtdserver\",, \"DI1F26_F_0\", \"103\")","v":"-2.390,00"},{"$f":"RTD(\"rtdtrading.rtdserver\",, \"DI1F26_F_0\", \"100\")","v":"-2.390"}]
[null,"DI1F27",{"$f":"RTD(\"rtdtrading.rtdserver\",, \"DI1F27_F_0\", \"ULT\")","v":11.874999999999998},{"$f":"RTD(\"rtdtrading.rtdserver\",, \"DI1F27_F_0\", \"ABE\")","v":11.875},{"$f":"RTD(\"rtdtrading.rtdserver\",, \"DI1F27_F_0\", \"MAX\")","v":11.91},{"$f":"RTD(\"rtdtrading.rtdserver\",, \"DI1F27_F_0\", \"MIN\")","v":11.775},{"$f":"RTD(\"rtdtrading.rtdserver\",, \"DI1F27_F_0\", \"FEC\")","v":11.89},{"$f":"RTD(\"rtdtrading.rtdserver\",, \"DI1F27_F_0\", \"VAR\")","v":-0.1261564339781529},{"$f":"RTD(\"rtdtrading.rtdserver\",, \"DI1F27_F_0\", \"VARPTS\")","v":-1.5000000000002345E-2},{"$f":"RTD(\"rtdtrading.rtdserver\",, \"DI1F27_F_0\", \"VOL\")","v":3387377038.1000009},{"$f":"RTD(\"rtdtrading.rtdserver\",, \"DI1F27_F_0\", \"103\")","v":"-1.905,00"},{"$f":"RTD(\"rtdtrading.rtdserver\",, \"DI1F27_F_0\", \"100\")","v":"-1.905"}]
[null,"DI1F28",{"$f":"RTD(\"rtdtrading.rtdserver\",, \"DI1F28_F_0\", \"ULT\")","v":11.92},{"$f":"RTD(\"rtdtrading.rtdserver\",, \"DI1F28_F_0\", \"ABE\")","v":11.89},{"$f":"RTD(\"rtdtrading.rtdserver\",, \"DI1F28_F_0\", \"MAX\")","v":11.95},{"$f":"RTD(\"rtdtrading.rtdserver\",, \"DI1F28_F_0\", \"MIN\")","v":11.81},{"$f":"RTD(\"rtdtrading.rtdserver\",, \"DI1F28_F_0\", \"FEC\")","v":11.920000000000002},{"$f":"RTD(\"rtdtrading.rtdserver\",, \"DI1F28_F_0\", \"VAR\")","v":-1.4210854715202004E-14},{"$f":"RTD(\"rtdtrading.rtdserver\",, \"DI1F28_F_0\", \"VARPTS\")","v":-1.7763568394002505E-15},{"$f":"RTD(\"rtdtrading.rtdserver\",, \"DI1F28_F_0\", \"VOL\")","v":47807806.599999994},{"$f":"RTD(\"rtdtrading.rtdserver\",, \"DI1F28_F_0\", \"103\")","v":"60,00"},{"$f":"RTD(\"rtdtrading.rtdserver\",, \"DI1F28_F_0\", \"100\")","v":"60"}]
[null,"DI1F29",{"$f":"RTD(\"rtdtrading.rtdserver\",, \"DI1F29_F_0\", \"ULT\")","v":12.01},{"$f":"RTD(\"rtdtrading.rtdserver\",, \"DI1F29_F_0\", \"ABE\")","v":11.95},{"$f":"RTD(\"rtdtrading.rtdserver\",, \"DI1F29_F_0\", \"MAX\")","v":12.04},{"$f":"RTD(\"rtdtrading.rtdserver\",, \"DI1F29_F_0\", \"MIN\")","v":11.89},{"$f":"RTD(\"rtdtrading.rtdserver\",, \"DI1F29_F_0\", \"FEC\")","v":12.010000000000002},{"$f":"RTD(\"rtdtrading.rtdserver\",, \"DI1F29_F_0\", \"VAR\")","v":-1.4210854715202004E-14},{"$f":"RTD(\"rtdtrading.rtdserver\",, \"DI1F29_F_0\", \"VARPTS\")","v":-1.7763568394002505E-15},{"$f":"RTD(\"rtdtrading.rtdserver\",, \"DI1F29_F_0\", \"VOL\")","v":554097722.09999979},{"$f":"RTD(\"rtdtrading.rtdserver\",, \"DI1F29_F_0\", \"103\")","v":"1.505,00"},{"$f":"RTD(\"rtdtrading.rtdserver\",, \"DI1F29_F_0\", \"100\")","v":"1.505"}]
[null,"DI1F30",{"$f":"RTD(\"rtdtrading.rtdserver\",, \"DI1F30_F_0\", \"ULT\")","v":12.020000000000001},{"$f":"RTD(\"rtdtrading.rtdserver\",, \"DI1F30_F_0\", \"ABE\")","v":11.95},{"$f":"RTD(\"rtdtrading.rtdserver\",, \"DI1F30_F_0\", \"MAX\")","v":12.05},{"$f":"RTD(\"rtdtrading.rtdserver\",, \"DI1F30_F_0\", \"MIN\")","v":11.93},{"$f":"RTD(\"rtdtrading.rtdserver\",, \"DI1F30_F_0\", \"FEC\")","v":11.99},{"$f":"RTD(\"rtdtrading.rtdserver\",, \"DI1F30_F_0\", \"VAR\")","v":0.25020850708925479},{"$f":"RTD(\"rtdtrading.rtdserver\",, \"DI1F30_F_0\", \"VARPTS\")","v":3.0000000000001137E-2},{"$f":"RTD(\"rtdtrading.rtdserver\",, \"DI1F30_F_0\", \"VOL\")","v":15972726.349999996},{"$f":"RTD(\"rtdtrading.rtdserver\",, \"DI1F30_F_0\", \"103\")","v":"-20,00"},{"$f":"RTD(\"rtdtrading.rtdserver\",, \"DI1F30_F_0\", \"100\")","v":"-20"}]
[null,"DI1F31",{"$f":"RTD(\"rtdtrading.rtdserver\",, \"DI1F31_F_0\", \"ULT\")","v":12.09},{"$f":"RTD(\"rtdtrading.rtdserver\",, \"DI1F31_F_0\", \"ABE\")","v":12.03},{"$f":"RTD(\"rtdtrading.rtdserver\",, \"DI1F31_F_0\", \"MAX\")","v":12.11},{"$f":"RTD(\"rtdtrading.rtdserver\",, \"DI1F31_F_0\", \"MIN\")","v":11.98},{"$f":"RTD(\"rtdtrading.rtdserver\",, \"DI1F31_F_0\", \"FEC\")","v":12.100000000000001},{"$f":"RTD(\"rtdtrading.rtdserver\",, \"DI1F31_F_0\", \"VAR\")","v":-8.2644628099188822E-2},{"$f":"RTD(\"rtdtrading.rtdserver\",, \"DI1F31_F_0\", \"VARPTS\")","v":-1.0000000000001563E-2},{"$f":"RTD(\"rtdtrading.rtdserver\",, \"DI1F31_F_0\", \"VOL\")","v":168290712.55000001},{"$f":"RTD(\"rtdtrading.rtdserver\",, \"DI1F31_F_0\", \"103\")","v":"-830,00"},{"$f":"RTD(\"rtdtrading.rtdserver\",, \"DI1F31_F_0\", \"100\")","v":"-830"}]
[]
[null,null,null,null,null,null,{"$f":"SUM(H5:H13)","v":-0.59906552131138824},null,{"$f":"SUM(I5:I13)","v":-7.5000000000015277E-2},{"$f":"SUM(J5:J13)","v":58265197915.749916},{"$f":"SUM(K13+K12+K11+K10+K9+K8+K7+K6+K5)","v":-70025},{"$f":"SUM(L13+L12+L11+L10+L9+L8+L7+L6+L5)","v":-70025}]
[]
[]
[null,null,null,null,null,null,{"$f":"SUM(H5:H13)","v":-0.59906552131138824}]

{"sheet":"IBOV-WINV22","index":18,"n_rows":117,"n_cols":27,"rows_kept":117,"cut":false,"hidden":false,"merged":[]}
[]
[]
[]
[null,"Asset","Último","Abertura","Máximo","Mínimo","Fechamento Anterior","Variação","Variação(pts)","Volume","TR - Acúmulo de Agressão - Saldo","TR - Volume de Agressão - Saldo"]
[null,"IBOV",{"$f":"RTD(\"rtdtrading.rtdserver\",, \"IBOV_B_0\", \"ULT\")","v":112473.24},{"$f":"RTD(\"rtdtrading.rtdserver\",, \"IBOV_B_0\", \"ABE\")","v":113532.54},{"$f":"RTD(\"rtdtrading.rtdserver\",, \"IBOV_B_0\", \"MAX\")","v":114091.4},{"$f":"RTD(\"rtdtrading.rtdserver\",, \"IBOV_B_0\", \"MIN\")","v":112433.8},{"$f":"RTD(\"rtdtrading.rtdserver\",, \"IBOV_B_0\", \"FEC\")","v":113531.72},{"$f":"RTD(\"rtdtrading.rtdserver\",, \"IBOV_B_0\", \"VAR\")","v":-0.93232094079081662},{"$f":"RTD(\"rtdtrading.rtdserver\",, \"IBOV_B_0\", \"VARPTS\")","v":-1058.4799999999959},{"$f":"RTD(\"rtdtrading.rtdserver\",, \"IBOV_B_0\", \"VOL\")","v":7355060301},{"$f":"RTD(\"rtdtrading.rtdserver\",, \"IBOV_B_0\", \"103\")","v":"0,00"},{"$f":"RTD(\"rtdtrading.rtdserver\",, \"IBOV_B_0\", \"100\")","v":"0"}]
[null,"Asset","Último","Abertura","Máximo","Mínimo","Variação","Variação(pts)","TR - Histograma de Agressão","TR - Volume de Agressão - Saldo"]
[null,"WINFUT",{"$f":"RTD(\"rtdtrading.rtdserver\",, \"WINFUT_F_0\", \"ULT\")","v":114100},{"$f":"RTD(\"rtdtrading.rtdserver\",, \"WINFUT_F_0\", \"ABE\")","v":114855},{"$f":"RTD(\"rtdtrading.rtdserver\",, \"WINFUT_F_0\", \"MAX\")","v":115850},{"$f":"RTD(\"rtdtrading.rtdserver\",, \"WINFUT_F_0\", \"MIN\")","v":114065},{"$f":"RTD(\"rtdtrading.rtdserver\",, \"WINFUT_F_0\", \"VAR\")","v":-0.92045849253213419},{"$f":"RTD(\"rtdtrading.rtdserver\",, \"WINFUT_F_0\", \"VARPTS\")","v":-1060},{"$f":"RTD(\"rtdtrading.rtdserver\",, \"WINFUT_F_0\", \"184\")","v":"110.176,00"},{"$f":"RTD(\"rtdtrading.rtdserver\",, \"WINFUT_F_0\", \"100\")","v":"-77.684"}]
[null,"WDOFUT",{"$f":"RTD(\"rtdtrading.rtdserver\",, \"WDOFUT_F_0\", \"ULT\")","v":5089},{"$f":"RTD(\"rtdtrading.rtdserver\",, \"WDOFUT_F_0\", \"ABE\")","v":5118},{"$f":"RTD(\"rtdtrading.rtdserver\",, \"WDOFUT_F_0\", \"MAX\")","v":5124.5},{"$f":"$E$8","v":5124.5},{"$f":"RTD(\"rtdtrading.rtdserver\",, \"WDOFUT_F_0\", \"FEC\")","v":5119},{"$f":"RTD(\"rtdtrading.rtdserver\",, \"WDOFUT_F_0\", \"VAR\")","v":-0.58605196327408748},{"$f":"RTD(\"rtdtrading.rtdserver\",, \"WDOFUT_F_0\", \"VARPTS\")","v":-30},{"$f":"RTD(\"rtdtrading.rtdserver\",, \"WDOFUT_F_0\", \"VOL\")","v":131094181815},{"$f":"RTD(\"rtdtrading.rtdserver\",, \"WDOFUT_F_0\", \"103\")","v":"29.591,00"},{"$f":"RTD(\"rtdtrading.rtdserver\",, \"WDOFUT_F_0\", \"100\")","v":"29.591"}]
[]
[]
[]
[]
[]
[]
[]
[]
[]
[]
[null,"Asset","Último","Abertura","Máximo","Mínimo","Fechamento Anterior","Variação","Variação(pts)","Negócios","Quantidade","Volume","Aj. Anterior","Preço Teórico","Limite Max","Limite Min","Afastamento Médio","Estocástico Pleno","Momentum","Nelogica - Pullback Finder","Prior Cote","Prior Cote Ajuste","Stop ATR","TR - Acúmulo de Agressão - Saldo","TR - Histograma de Agressão","TR - Volume de Agressão - Saldo","Volatilidade Histórica"]
[null,"WINFUT",{"$f":"RTD(\"rtdtrading.rtdserver\",, \"WINFUT_F_0\", \"ULT\")","v":114100},{"$f":"RTD(\"rtdtrading.rtdserver\",, \"WINFUT_F_0\", \"ABE\")","v":114855},{"$f":"RTD(\"rtdtrading.rtdserver\",, \"WINFUT_F_0\", \"MAX\")","v":115850},{"$f":"RTD(\"rtdtrading.rtdserver\",, \"WINFUT_F_0\", \"MIN\")","v":114065},{"$f":"RTD(\"rtdtrading.rtdserver\",, \"WINFUT_F_0\", \"FEC\")","v":115160},{"$f":"RTD(\"rtdtrading.rtdserver\",, \"WINFUT_F_0\", \"VAR\")","v":-0.92045849253213419},{"$f":"RTD(\"rtdtrading.rtdserver\",, \"WINFUT_F_0\", \"VARPTS\")","v":-1060},{"$f":"RTD(\"rtdtrading.rtdserver\",, \"WINFUT_F_0\", \"NEG\")","v":2934621},{"$f":"RTD(\"rtdtrading.rtdserver\",, \"WINFUT_F_0\", \"QTT\")","v":8835772},{"$f":"RTD(\"rtdtrading.rtdserver\",, \"WINFUT_F_0\", \"VOL\")","v":203325477326},{"$f":"RTD(\"rtdtrading.rtdserver\",, \"WINFUT_F_0\", \"AJA\")","v":115198},{"$f":"RTD(\"rtdtrading.rtdserver\",, \"WINFUT_F_0\", \"PRT\")","v":0},{"$f":"RTD(\"rtdtrading.rtdserver\",, \"WINFUT_F_0\", \"LMAX\")","v":0},{"$f":"RTD(\"rtdtrading.rtdserver\",, \"WINFUT_F_0\", \"LMIN\")","v":0},{"$f":"RTD(\"rtdtrading.rtdserver\",, \"WINFUT_F_0\", \"126\")","v":"Atributo Inválido"},{"$f":"RTD(\"rtdtrading.rtdserver\",, \"WINFUT_F_0\", \"15\")","v":"Atributo Inválido"},{"$f":"RTD(\"rtdtrading.rtdserver\",, \"WINFUT_F_0\", \"33\")","v":"Atributo Inválido"},{"$f":"RTD(\"rtdtrading.rtdserver\",, \"WINFUT_F_0\", \"85\")","v":"Atributo Inválido"},{"$f":"RTD(\"rtdtrading.rtdserver\",, \"WINFUT_F_0\", \"86\")","v":"Atributo Inválido"},{"$f":"RTD(\"rtdtrading.rtdserver\",, \"WINFUT_F_0\", \"190\")","v":"Atributo Inválido"},{"$f":"RTD(\"rtdtrading.rtdserver\",, \"WINFUT_F_0\", \"66\")","v":"Atributo Inválido"},{"$f":"RTD(\"rtdtrading.rtdserver\",, \"WINFUT_F_0\", \"103\")","v":"-77.684,00"},{"$f":"RTD(\"rtdtrading.rtdserver\",, \"WINFUT_F_0\", \"184\")","v":"110.176,00"},{"$f":"RTD(\"rtdtrading.rtdserver\",, \"WINFUT_F_0\", \"100\")","v":"-77.684"},{"$f":"RTD(\"rtdtrading.rtdserver\",, \"WINFUT_F_0\", \"45\")","v":"Atributo Inválido"}]
[]
[]
[null,"Asset","Último","Abertura","Máximo","Mínimo","Variação","Variação(pts)","TR - Histograma de Agressão","TR - Volume de Agressão - Saldo"]
[null,"WINFUT",{"$f":"RTD(\"rtdtrading.rtdserver\",, \"WINFUT_F_0\", \"ULT\")","v":114100},{"$f":"RTD(\"rtdtrading.rtdserver\",, \"WINFUT_F_0\", \"ABE\")","v":114855},{"$f":"RTD(\"rtdtrading.rtdserver\",, \"WINFUT_F_0\", \"MAX\")","v":115850},{"$f":"RTD(\"rtdtrading.rtdserver\",, \"WINFUT_F_0\", \"MIN\")","v":114065},{"$f":"RTD(\"rtdtrading.rtdserver\",, \"WINFUT_F_0\", \"VAR\")","v":-0.92045849253213419},{"$f":"RTD(\"rtdtrading.rtdserver\",, \"WINFUT_F_0\", \"VARPTS\")","v":-1060},{"$f":"RTD(\"rtdtrading.rtdserver\",, \"WINFUT_F_0\", \"184\")","v":"110.176,00"},{"$f":"RTD(\"rtdtrading.rtdserver\",, \"WINFUT_F_0\", \"100\")","v":"-77.684"}]
[]
[]
["TR - Volume de Agressão - Compra","SOMA","TR - Volume de Agressão - Venda","SOMA"]
[{"$f":"RTD(\"rtdtrading.rtdserver\",, \"RRRP3_B_0\", \"98\")","v":"257.900"},{"$f":"SUM(A28+A29+A30+A31+A32+A33+A34+A35+A36+A37+A38+A39+A40+A41+A42+A43+A44+A45+A46+A47+A48+A49+A50+A51+A52+A53+A54+A55+A56+A57+A58+A59+A60+A61+A62+A63+A64+A65+A66+A67+A68+A69+A70+A71+A72+A73+A74+A75+A76+A77+A78+A79+A80+A81+A82+A83+A84+A85+A86+A87+A88+A89+A90+A91+A92+A93+A94+A95+A96+A97+A98+A99+A100+A101+A102+A103+A104+A105+A106+A107+A108+A109+A110+A111+A112+A113+A114+A115+A116+A117)","v":211176700},{"$f":"RTD(\"rtdtrading.rtdserver\",, \"RRRP3_B_0\", \"99\")","v":"503.000"},{"$f":"SUM(C28+C29+C30+C31+C32+C33+C34+C35+C36+C37+C38+C39+C40+C41+C42+C43+C44+C45+C46+C47+C48+C49+C50+C51+C52+C53+C54+C55+C56+C57+C58+C59+C60+C61+C62+C63+C64+C65+C66+C67+C68+C69+C70+C71+C72+C73+C74+C75+C76+C77+C78+C79+C80+C81+C82+C83+C84+C85+C86+C87+C88+C89+C90+C91+C92+C93+C94+C95+C96+C97+C98+C99+C100+C101+C102+C103+C104+C105+C106+C107+C108+C109+C110+C111+C112+C113+C114+C115+C116+C117)","v":241312200}]
[{"$f":"RTD(\"rtdtrading.rtdserver\",, \"LWSA3_B_0\", \"98\")","v":"1.399.300"},null,{"$f":"RTD(\"rtdtrading.rtdserver\",, \"LWSA3_B_0\", \"99\")","v":"2.017.300"}]
[{"$f":"RTD(\"rtdtrading.rtdserver\",, \"ENEV3_B_0\", \"98\")","v":"155.500"},null,{"$f":"RTD(\"rtdtrading.rtdserver\",, \"ENEV3_B_0\", \"99\")","v":"181.900"}]
[{"$f":"RTD(\"rtdtrading.rtdserver\",, \"EMBR3_B_0\", \"98\")","v":"1.335.600"},null,{"$f":"RTD(\"rtdtrading.rtdserver\",, \"EMBR3_B_0\", \"99\")","v":"1.845.800"}]
[{"$f":"RTD(\"rtdtrading.rtdserver\",, \"PRIO3_B_0\", \"98\")","v":"1.294.600"},null,{"$f":"RTD(\"rtdtrading.rtdserver\",, \"PRIO3_B_0\", \"99\")","v":"1.377.600"},{"$f":"ABS(D28-B28)","v":30135500}]
[{"$f":"RTD(\"rtdtrading.rtdserver\",, \"BRFS3_B_0\", \"98\")","v":"1.205.300"},null,{"$f":"RTD(\"rtdtrading.rtdserver\",, \"BRFS3_B_0\", \"99\")","v":"1.304.500"}]
[{"$f":"RTD(\"rtdtrading.rtdserver\",, \"CVCB3_B_0\", \"98\")","v":"2.890.300"},null,{"$f":"RTD(\"rtdtrading.rtdserver\",, \"CVCB3_B_0\", \"99\")","v":"3.973.800"}]
[{"$f":"RTD(\"rtdtrading.rtdserver\",, \"CASH3_B_0\", \"98\")","v":"7.044.500"},null,{"$f":"RTD(\"rtdtrading.rtdserver\",, \"CASH3_B_0\", \"99\")","v":"7.053.700"}]
[{"$f":"RTD(\"rtdtrading.rtdserver\",, \"AZUL4_B_0\", \"98\")","v":"1.786.900"},null,{"$f":"RTD(\"rtdtrading.rtdserver\",, \"AZUL4_B_0\", \"99\")","v":"2.758.800"}]
[{"$f":"RTD(\"rtdtrading.rtdserver\",, \"ECOR3_B_0\", \"98\")","v":"448.900"},null,{"$f":"RTD(\"rtdtrading.rtdserver\",, \"ECOR3_B_0\", \"99\")","v":"471.600"}]
[{"$f":"RTD(\"rtdtrading.rtdserver\",, \"DXCO3_B_0\", \"98\")","v":"348.200"},null,{"$f":"RTD(\"rtdtrading.rtdserver\",, \"DXCO3_B_0\", \"99\")","v":"365.800"}]
[{"$f":"RTD(\"rtdtrading.rtdserver\",, \"ABEV3_B_0\", \"98\")","v":"1.720.300"},null,{"$f":"RTD(\"rtdtrading.rtdserver\",, \"ABEV3_B_0\", \"99\")","v":"2.279.000"}]
[{"$f":"RTD(\"rtdtrading.rtdserver\",, \"HAPV3_B_0\", \"98\")","v":"8.964.200"},null,{"$f":"RTD(\"rtdtrading.rtdserver\",, \"HAPV3_B_0\", \"99\")","v":"9.598.800"}]
[{"$f":"RTD(\"rtdtrading.rtdserver\",, \"SULA11_B_0\", \"98\")","v":"146.400"},null,{"$f":"RTD(\"rtdtrading.rtdserver\",, \"SULA11_B_0\", \"99\")","v":"170.800"}]
[{"$f":"RTD(\"rtdtrading.rtdserver\",, \"ALPA4_B_0\", \"98\")","v":"1.629.200"},null,{"$f":"RTD(\"rtdtrading.rtdserver\",, \"ALPA4_B_0\", \"99\")","v":"2.016.800"}]
[{"$f":"RTD(\"rtdtrading.rtdserver\",, \"ENGI11_B_0\", \"98\")","v":"477.000"},null,{"$f":"RTD(\"rtdtrading.rtdserver\",, \"ENGI11_B_0\", \"99\")","v":"265.700"}]
[{"$f":"RTD(\"rtdtrading.rtdserver\",, \"AMER3_B_0\", \"98\")","v":"5.899.700"},null,{"$f":"RTD(\"rtdtrading.rtdserver\",, \"AMER3_B_0\", \"99\")","v":"5.646.900"}]
[{"$f":"RTD(\"rtdtrading.rtdserver\",, \"BBSE3_B_0\", \"98\")","v":"521.000"},null,{"$f":"RTD(\"rtdtrading.rtdserver\",, \"BBSE3_B_0\", \"99\")","v":"386.800"}]
[{"$f":"RTD(\"rtdtrading.rtdserver\",, \"JHSF3_B_0\", \"98\")","v":"222.000"},null,{"$f":"RTD(\"rtdtrading.rtdserver\",, \"JHSF3_B_0\", \"99\")","v":"229.000"}]
[{"$f":"RTD(\"rtdtrading.rtdserver\",, \"FLRY3_B_0\", \"98\")","v":"303.000"},null,{"$f":"RTD(\"rtdtrading.rtdserver\",, \"FLRY3_B_0\", \"99\")","v":"301.300"}]
[{"$f":"RTD(\"rtdtrading.rtdserver\",, \"ENBR3_B_0\", \"98\")","v":"298.600"},null,{"$f":"RTD(\"rtdtrading.rtdserver\",, \"ENBR3_B_0\", \"99\")","v":"254.900"}]
[{"$f":"RTD(\"rtdtrading.rtdserver\",, \"GOLL4_B_0\", \"98\")","v":"2.328.700"},null,{"$f":"RTD(\"rtdtrading.rtdserver\",, \"GOLL4_B_0\", \"99\")","v":"3.469.300"}]
[{"$f":"RTD(\"rtdtrading.rtdserver\",, \"MRFG3_B_0\", \"98\")","v":"1.117.800"},null,{"$f":"RTD(\"rtdtrading.rtdserver\",, \"MRFG3_B_0\", \"99\")","v":"1.202.800"}]
[{"$f":"RTD(\"rtdtrading.rtdserver\",, \"CCRO3_B_0\", \"98\")","v":"990.400"},null,{"$f":"RTD(\"rtdtrading.rtdserver\",, \"CCRO3_B_0\", \"99\")","v":"1.075.600"}]
[{"$f":"RTD(\"rtdtrading.rtdserver\",, \"BRKM5_B_0\", \"98\")","v":"167.500"},null,{"$f":"RTD(\"rtdtrading.rtdserver\",, \"BRKM5_B_0\", \"99\")","v":"227.100"}]
[{"$f":"RTD(\"rtdtrading.rtdserver\",, \"NTCO3_B_0\", \"98\")","v":"1.428.400"},null,{"$f":"RTD(\"rtdtrading.rtdserver\",, \"NTCO3_B_0\", \"99\")","v":"2.349.800"}]
[{"$f":"RTD(\"rtdtrading.rtdserver\",, \"CYRE3_B_0\", \"98\")","v":"539.500"},null,{"$f":"RTD(\"rtdtrading.rtdserver\",, \"CYRE3_B_0\", \"99\")","v":"589.600"}]
[{"$f":"RTD(\"rtdtrading.rtdserver\",, \"ELET3_B_0\", \"98\")","v":"736.700"},null,{"$f":"RTD(\"rtdtrading.rtdserver\",, \"ELET3_B_0\", \"99\")","v":"811.700"}]
[{"$f":"RTD(\"rtdtrading.rtdserver\",, \"IRBR3_B_0\", \"98\")","v":"9.123.700"},null,{"$f":"RTD(\"rtdtrading.rtdserver\",, \"IRBR3_B_0\", \"99\")","v":"15.132.000"}]
[{"$f":"RTD(\"rtdtrading.rtdserver\",, \"ELET6_B_0\", \"98\")","v":"455.400"},null,{"$f":"RTD(\"rtdtrading.rtdserver\",, \"ELET6_B_0\", \"99\")","v":"323.700"}]
[{"$f":"RTD(\"rtdtrading.rtdserver\",, \"BEEF3_B_0\", \"98\")","v":"779.200"},null,{"$f":"RTD(\"rtdtrading.rtdserver\",, \"BEEF3_B_0\", \"99\")","v":"643.000"}]
[{"$f":"RTD(\"rtdtrading.rtdserver\",, \"PCAR3_B_0\", \"98\")","v":"676.900"},null,{"$f":"RTD(\"rtdtrading.rtdserver\",, \"PCAR3_B_0\", \"99\")","v":"917.100"}]
[{"$f":"RTD(\"rtdtrading.rtdserver\",, \"RAIL3_B_0\", \"98\")","v":"959.900"},null,{"$f":"RTD(\"rtdtrading.rtdserver\",, \"RAIL3_B_0\", \"99\")","v":"1.193.900"}]
[{"$f":"RTD(\"rtdtrading.rtdserver\",, \"YDUQ3_B_0\", \"98\")","v":"585.800"},null,{"$f":"RTD(\"rtdtrading.rtdserver\",, \"YDUQ3_B_0\", \"99\")","v":"729.700"}]
[{"$f":"RTD(\"rtdtrading.rtdserver\",, \"SBSP3_B_0\", \"98\")","v":"344.400"},null,{"$f":"RTD(\"rtdtrading.rtdserver\",, \"SBSP3_B_0\", \"99\")","v":"368.300"}]
[{"$f":"RTD(\"rtdtrading.rtdserver\",, \"ASAI3_B_0\", \"98\")","v":"546.200"},null,{"$f":"RTD(\"rtdtrading.rtdserver\",, \"ASAI3_B_0\", \"99\")","v":"280.000"}]
[{"$f":"RTD(\"rtdtrading.rtdserver\",, \"VBBR3_B_0\", \"98\")","v":"1.001.700"},null,{"$f":"RTD(\"rtdtrading.rtdserver\",, \"VBBR3_B_0\", \"99\")","v":"647.200"}]
[{"$f":"RTD(\"rtdtrading.rtdserver\",, \"USIM5_B_0\", \"98\")","v":"13.945.100"},null,{"$f":"RTD(\"rtdtrading.rtdserver\",, \"USIM5_B_0\", \"99\")","v":"15.628.000"}]
[{"$f":"RTD(\"rtdtrading.rtdserver\",, \"EQTL3_B_0\", \"98\")","v":"446.800"},null,{"$f":"RTD(\"rtdtrading.rtdserver\",, \"EQTL3_B_0\", \"99\")","v":"477.100"}]
[{"$f":"RTD(\"rtdtrading.rtdserver\",, \"CSNA3_B_0\", \"98\")","v":"2.924.300"},null,{"$f":"RTD(\"rtdtrading.rtdserver\",, \"CSNA3_B_0\", \"99\")","v":"3.800.100"}]
[{"$f":"RTD(\"rtdtrading.rtdserver\",, \"CMIN3_B_0\", \"98\")","v":"1.861.900"},null,{"$f":"RTD(\"rtdtrading.rtdserver\",, \"CMIN3_B_0\", \"99\")","v":"1.825.100"}]
[{"$f":"RTD(\"rtdtrading.rtdserver\",, \"BRML3_B_0\", \"98\")","v":"503.000"},null,{"$f":"RTD(\"rtdtrading.rtdserver\",, \"BRML3_B_0\", \"99\")","v":"582.700"}]
[{"$f":"RTD(\"rtdtrading.rtdserver\",, \"POSI3_B_0\", \"98\")","v":"444.200"},null,{"$f":"RTD(\"rtdtrading.rtdserver\",, \"POSI3_B_0\", \"99\")","v":"437.600"}]
[{"$f":"RTD(\"rtdtrading.rtdserver\",, \"CPLE6_B_0\", \"98\")","v":"843.700"},null,{"$f":"RTD(\"rtdtrading.rtdserver\",, \"CPLE6_B_0\", \"99\")","v":"735.300"}]
[{"$f":"RTD(\"rtdtrading.rtdserver\",, \"BRAP4_B_0\", \"98\")","v":"431.700"},null,{"$f":"RTD(\"rtdtrading.rtdserver\",, \"BRAP4_B_0\", \"99\")","v":"595.200"}]
[{"$f":"RTD(\"rtdtrading.rtdserver\",, \"CPFE3_B_0\", \"98\")","v":"407.700"},null,{"$f":"RTD(\"rtdtrading.rtdserver\",, \"CPFE3_B_0\", \"99\")","v":"185.900"}]
[{"$f":"RTD(\"rtdtrading.rtdserver\",, \"SOMA3_B_0\", \"98\")","v":"392.800"},null,{"$f":"RTD(\"rtdtrading.rtdserver\",, \"SOMA3_B_0\", \"99\")","v":"512.300"}]
[{"$f":"RTD(\"rtdtrading.rtdserver\",, \"IGTI11_B_0\", \"98\")","v":"253.500"},null,{"$f":"RTD(\"rtdtrading.rtdserver\",, \"IGTI11_B_0\", \"99\")","v":"270.200"}]
[{"$f":"RTD(\"rtdtrading.rtdserver\",, \"SLCE3_B_0\", \"98\")","v":"176.400"},null,{"$f":"RTD(\"rtdtrading.rtdserver\",, \"SLCE3_B_0\", \"99\")","v":"182.700"}]
[{"$f":"RTD(\"rtdtrading.rtdserver\",, \"SUZB3_B_0\", \"98\")","v":"2.612.500"},null,{"$f":"RTD(\"rtdtrading.rtdserver\",, \"SUZB3_B_0\", \"99\")","v":"2.185.000"}]
[{"$f":"RTD(\"rtdtrading.rtdserver\",, \"QUAL3_B_0\", \"98\")","v":"238.600"},null,{"$f":"RTD(\"rtdtrading.rtdserver\",, \"QUAL3_B_0\", \"99\")","v":"279.200"}]
[{"$f":"RTD(\"rtdtrading.rtdserver\",, \"CSAN3_B_0\", \"98\")","v":"326.800"},null,{"$f":"RTD(\"rtdtrading.rtdserver\",, \"CSAN3_B_0\", \"99\")","v":"384.200"}]
[{"$f":"RTD(\"rtdtrading.rtdserver\",, \"VIIA3_B_0\", \"98\")","v":"13.393.400"},null,{"$f":"RTD(\"rtdtrading.rtdserver\",, \"VIIA3_B_0\", \"99\")","v":"17.170.500"}]
[{"$f":"RTD(\"rtdtrading.rtdserver\",, \"BPAN4_B_0\", \"98\")","v":"205.500"},null,{"$f":"RTD(\"rtdtrading.rtdserver\",, \"BPAN4_B_0\", \"99\")","v":"394.300"}]
[{"$f":"RTD(\"rtdtrading.rtdserver\",, \"JBSS3_B_0\", \"98\")","v":"998.200"},null,{"$f":"RTD(\"rtdtrading.rtdserver\",, \"JBSS3_B_0\", \"99\")","v":"1.230.000"}]
[{"$f":"RTD(\"rtdtrading.rtdserver\",, \"UGPA3_B_0\", \"98\")","v":"286.600"},null,{"$f":"RTD(\"rtdtrading.rtdserver\",, \"UGPA3_B_0\", \"99\")","v":"419.100"}]
[{"$f":"RTD(\"rtdtrading.rtdserver\",, \"ITSA4_B_0\", \"98\")","v":"1.663.800"},null,{"$f":"RTD(\"rtdtrading.rtdserver\",, \"ITSA4_B_0\", \"99\")","v":"2.391.400"}]
[{"$f":"RTD(\"rtdtrading.rtdserver\",, \"MGLU3_B_0\", \"98\")","v":"35.558.700"},null,{"$f":"RTD(\"rtdtrading.rtdserver\",, \"MGLU3_B_0\", \"99\")","v":"45.969.800"}]
[{"$f":"RTD(\"rtdtrading.rtdserver\",, \"BBAS3_B_0\", \"98\")","v":"1.648.600"},null,{"$f":"RTD(\"rtdtrading.rtdserver\",, \"BBAS3_B_0\", \"99\")","v":"2.100.500"}]
[{"$f":"RTD(\"rtdtrading.rtdserver\",, \"CRFB3_B_0\", \"98\")","v":"322.600"},null,{"$f":"RTD(\"rtdtrading.rtdserver\",, \"CRFB3_B_0\", \"99\")","v":"416.100"}]
[{"$f":"RTD(\"rtdtrading.rtdserver\",, \"MRVE3_B_0\", \"98\")","v":"1.918.000"},null,{"$f":"RTD(\"rtdtrading.rtdserver\",, \"MRVE3_B_0\", \"99\")","v":"1.534.200"}]
[{"$f":"RTD(\"rtdtrading.rtdserver\",, \"TIMS3_B_0\", \"98\")","v":"748.100"},null,{"$f":"RTD(\"rtdtrading.rtdserver\",, \"TIMS3_B_0\", \"99\")","v":"514.600"}]
[{"$f":"RTD(\"rtdtrading.rtdserver\",, \"CMIG4_B_0\", \"98\")","v":"1.109.600"},null,{"$f":"RTD(\"rtdtrading.rtdserver\",, \"CMIG4_B_0\", \"99\")","v":"882.900"}]
[{"$f":"RTD(\"rtdtrading.rtdserver\",, \"MULT3_B_0\", \"98\")","v":"172.500"},null,{"$f":"RTD(\"rtdtrading.rtdserver\",, \"MULT3_B_0\", \"99\")","v":"209.900"}]
[{"$f":"RTD(\"rtdtrading.rtdserver\",, \"HYPE3_B_0\", \"98\")","v":"214.600"},null,{"$f":"RTD(\"rtdtrading.rtdserver\",, \"HYPE3_B_0\", \"99\")","v":"204.400"}]
[{"$f":"RTD(\"rtdtrading.rtdserver\",, \"LREN3_B_0\", \"98\")","v":"909.900"},null,{"$f":"RTD(\"rtdtrading.rtdserver\",, \"LREN3_B_0\", \"99\")","v":"1.359.400"}]
[{"$f":"RTD(\"rtdtrading.rtdserver\",, \"PETZ3_B_0\", \"98\")","v":"2.142.800"},null,{"$f":"RTD(\"rtdtrading.rtdserver\",, \"PETZ3_B_0\", \"99\")","v":"2.397.300"}]
[{"$f":"RTD(\"rtdtrading.rtdserver\",, \"B3SA3_B_0\", \"98\")","v":"2.018.400"},null,{"$f":"RTD(\"rtdtrading.rtdserver\",, \"B3SA3_B_0\", \"99\")","v":"2.322.200"}]
[{"$f":"RTD(\"rtdtrading.rtdserver\",, \"VIVT3_B_0\", \"98\")","v":"224.500"},null,{"$f":"RTD(\"rtdtrading.rtdserver\",, \"VIVT3_B_0\", \"99\")","v":"213.700"}]
[{"$f":"RTD(\"rtdtrading.rtdserver\",, \"RENT3_B_0\", \"98\")","v":"929.800"},null,{"$f":"RTD(\"rtdtrading.rtdserver\",, \"RENT3_B_0\", \"99\")","v":"989.200"}]
[{"$f":"RTD(\"rtdtrading.rtdserver\",, \"RADL3_B_0\", \"98\")","v":"268.300"},null,{"$f":"RTD(\"rtdtrading.rtdserver\",, \"RADL3_B_0\", \"99\")","v":"290.800"}]
[{"$f":"RTD(\"rtdtrading.rtdserver\",, \"RDOR3_B_0\", \"98\")","v":"225.800"},null,{"$f":"RTD(\"rtdtrading.rtdserver\",, \"RDOR3_B_0\", \"99\")","v":"336.200"}]
[{"$f":"RTD(\"rtdtrading.rtdserver\",, \"COGN3_B_0\", \"98\")","v":"3.182.800"},null,{"$f":"RTD(\"rtdtrading.rtdserver\",, \"COGN3_B_0\", \"99\")","v":"3.835.800"}]
[{"$f":"RTD(\"rtdtrading.rtdserver\",, \"WEGE3_B_0\", \"98\")","v":"696.100"},null,{"$f":"RTD(\"rtdtrading.rtdserver\",, \"WEGE3_B_0\", \"99\")","v":"979.300"}]
[{"$f":"RTD(\"rtdtrading.rtdserver\",, \"ITUB4_B_0\", \"98\")","v":"2.695.400"},null,{"$f":"RTD(\"rtdtrading.rtdserver\",, \"ITUB4_B_0\", \"99\")","v":"2.891.800"}]
[{"$f":"RTD(\"rtdtrading.rtdserver\",, \"BBDC4_B_0\", \"98\")","v":"6.299.200"},null,{"$f":"RTD(\"rtdtrading.rtdserver\",, \"BBDC4_B_0\", \"99\")","v":"4.405.200"}]
[{"$f":"RTD(\"rtdtrading.rtdserver\",, \"BBDC3_B_0\", \"98\")","v":"820.300"},null,{"$f":"RTD(\"rtdtrading.rtdserver\",, \"BBDC3_B_0\", \"99\")","v":"1.207.300"}]
[{"$f":"RTD(\"rtdtrading.rtdserver\",, \"KLBN11_B_0\", \"98\")","v":"1.020.000"},null,{"$f":"RTD(\"rtdtrading.rtdserver\",, \"KLBN11_B_0\", \"99\")","v":"1.666.800"}]
[{"$f":"RTD(\"rtdtrading.rtdserver\",, \"BPAC11_B_0\", \"98\")","v":"1.213.500"},null,{"$f":"RTD(\"rtdtrading.rtdserver\",, \"BPAC11_B_0\", \"99\")","v":"1.412.600"}]
[{"$f":"RTD(\"rtdtrading.rtdserver\",, \"TOTS3_B_0\", \"98\")","v":"429.200"},null,{"$f":"RTD(\"rtdtrading.rtdserver\",, \"TOTS3_B_0\", \"99\")","v":"465.400"}]
[{"$f":"RTD(\"rtdtrading.rtdserver\",, \"CIEL3_B_0\", \"98\")","v":"15.033.700"},null,{"$f":"RTD(\"rtdtrading.rtdserver\",, \"CIEL3_B_0\", \"99\")","v":"13.629.200"}]
[{"$f":"RTD(\"rtdtrading.rtdserver\",, \"PETR3_B_0\", \"98\")","v":"2.638.300"},null,{"$f":"RTD(\"rtdtrading.rtdserver\",, \"PETR3_B_0\", \"99\")","v":"2.516.300"}]
[{"$f":"RTD(\"rtdtrading.rtdserver\",, \"PETR4_B_0\", \"98\")","v":"16.335.000"},null,{"$f":"RTD(\"rtdtrading.rtdserver\",, \"PETR4_B_0\", \"99\")","v":"15.520.300"}]
[{"$f":"RTD(\"rtdtrading.rtdserver\",, \"VALE3_B_0\", \"98\")","v":"6.601.900"},null,{"$f":"RTD(\"rtdtrading.rtdserver\",, \"VALE3_B_0\", \"99\")","v":"6.846.300"}]
[{"$f":"RTD(\"rtdtrading.rtdserver\",, \"SANB11_B_0\", \"98\")","v":"256.300"},null,{"$f":"RTD(\"rtdtrading.rtdserver\",, \"SANB11_B_0\", \"99\")","v":"160.100"}]
[{"$f":"RTD(\"rtdtrading.rtdserver\",, \"GGBR4_B_0\", \"98\")","v":"1.610.800"},null,{"$f":"RTD(\"rtdtrading.rtdserver\",, \"GGBR4_B_0\", \"99\")","v":"2.063.400"}]
[{"$f":"RTD(\"rtdtrading.rtdserver\",, \"GOAU4_B_0\", \"98\")","v":"863.900"},null,{"$f":"RTD(\"rtdtrading.rtdserver\",, \"GOAU4_B_0\", \"99\")","v":"855.200"}]
[{"$f":"RTD(\"rtdtrading.rtdserver\",, \"TAEE11_B_0\", \"98\")","v":"174.800"},null,{"$f":"RTD(\"rtdtrading.rtdserver\",, \"TAEE11_B_0\", \"99\")","v":"120.000"}]
[{"$f":"RTD(\"rtdtrading.rtdserver\",, \"EZTC3_B_0\", \"98\")","v":"209.200"},null,{"$f":"RTD(\"rtdtrading.rtdserver\",, \"EZTC3_B_0\", \"99\")","v":"167.300"}]
[{"$f":"RTD(\"rtdtrading.rtdserver\",, \"EGIE3_B_0\", \"98\")","v":"197.000"},null,{"$f":"RTD(\"rtdtrading.rtdserver\",, \"EGIE3_B_0\", \"99\")","v":"178.200"}]