{"text_format":"1","workbook":"xlsx","n_sheets":9,"sheets":["1.x PC","2.1 PC Rec.","2.2 PC. Desp.","2.3 PC. Transf.","2.4 PC. Contas","2.5 PC. C. Custo","2.6 PC. Cli. Fon.","Lançamentos","Validações"],"not_rendered":{"charts":0,"images":0,"macros":1,"external_links":4,"defined_names":25,"comments":9,"pivot_tables":0},"unopened":[],"bounds":{"document_bytes":16777216,"sheet_cells":100000,"rows_first":2000,"rows_last":500,"rows_between":2000,"halvings":0,"cell_chars":16384,"cell_head_chars":4096},"cells_cut":0,"cells_raw":0,"read":"whole","date_system":"1900"}

{"sheet":"1.x PC","index":0,"n_rows":59,"n_cols":14,"rows_kept":59,"cut":false,"hidden":false,"merged":[[7,0,7,2],[7,3,7,11],[7,12,7,13]]}
[]
[]
[]
[]
[]
[]
[]
["ENTRADAS",null,null,"SAÍDAS",null,null,null,null,null,null,null,null,"TRANSFERÊNCIAS"]
[{"$f":"CONCATENATE('2.1 PC Rec.'!A5,\" - \",'2.1 PC Rec.'!B5)","v":"1.01 - Receita de vendas"},{"$f":"CONCATENATE('2.1 PC Rec.'!D5,\" - \",'2.1 PC Rec.'!E5)","v":"1.02 - Receitas financeiras"},{"$f":"CONCATENATE('2.1 PC Rec.'!G5,\" - \",'2.1 PC Rec.'!H5)","v":"1.03 - Outras entradas"},{"$f":"CONCATENATE('2.2 PC. Desp.'!A5,\" - \",'2.2 PC. Desp.'!B5)","v":"2.01 - Despesa Operacional"},{"$f":"CONCATENATE('2.2 PC. Desp.'!D5,\" - \",'2.2 PC. Desp.'!E5)","v":"2.02 - Despesa com pessoal"},{"$f":"CONCATENATE('2.2 PC. Desp.'!G5,\" - \",'2.2 PC. Desp.'!H5)","v":"2.03 - Despesas comerciais"},{"$f":"CONCATENATE('2.2 PC. Desp.'!J5,\" - \",'2.2 PC. Desp.'!K5)","v":"2.04 - Despesas administrativas"},{"$f":"CONCATENATE('2.2 PC. Desp.'!M5,\" - \",'2.2 PC. Desp.'!N5)","v":"2.05 - Despesas financeiras"},{"$f":"CONCATENATE('2.2 PC. Desp.'!P5,\" - \",'2.2 PC. Desp.'!Q5)","v":"2.06 - Impostos"},{"$f":"CONCATENATE('2.2 PC. Desp.'!S5,\" - \",'2.2 PC. Desp.'!T5)","v":"2.07 - Investimentos"},{"$f":"CONCATENATE('2.2 PC. Desp.'!V5,\" - \",'2.2 PC. Desp.'!W5)","v":"2.08 - Retirada de sócios"},{"$f":"CONCATENATE('2.2 PC. Desp.'!Y5,\" - \",'2.2 PC. Desp.'!Z5)","v":"2.09 - Outras saídas"},{"$f":"CONCATENATE('2.3 PC. Transf.'!A5,\" - \",'2.3 PC. Transf.'!B5)","v":"3.01 - TRANSFERÊNCIAS (CRÉDITO)"},{"$f":"CONCATENATE('2.3 PC. Transf.'!D5,\" - \",'2.3 PC. Transf.'!E5)","v":"3.02 - TRANSFERÊNCIAS (DÉBITO)"}]
[{"$f":"CONCATENATE('2.1 PC Rec.'!A6,\" - \",'2.1 PC Rec.'!B6)","v":"1.01.01 - CEPA"},{"$f":"CONCATENATE('2.1 PC Rec.'!D6,\" - \",'2.1 PC Rec.'!E6)","v":"1.02.01 - Rendimentos"},{"$f":"CONCATENATE('2.1 PC Rec.'!G6,\" - \",'2.1 PC Rec.'!H6)","v":"1.03.01 - Receita não identificada"},{"$f":"CONCATENATE('2.2 PC. Desp.'!A6,\" - \",'2.2 PC. Desp.'!B6)","v":"2.01.01 - Materiais de Consumo"},{"$f":"CONCATENATE('2.2 PC. Desp.'!D6,\" - \",'2.2 PC. Desp.'!E6)","v":"2.02.01 - Pró labore"},{"$f":"CONCATENATE('2.2 PC. Desp.'!G6,\" - \",'2.2 PC. Desp.'!H6)","v":"2.03.01 - Comissões"},{"$f":"CONCATENATE('2.2 PC. Desp.'!J6,\" - \",'2.2 PC. Desp.'!K6)","v":"2.04.01 - Aluguel"},{"$f":"CONCATENATE('2.2 PC. Desp.'!M6,\" - \",'2.2 PC. Desp.'!N6)","v":"2.05.01 - Despesas bancárias"},{"$f":"CONCATENATE('2.2 PC. Desp.'!P6,\" - \",'2.2 PC. Desp.'!Q6)","v":"2.06.01 - DAS"},{"$f":"CONCATENATE('2.2 PC. Desp.'!S6,\" - \",'2.2 PC. Desp.'!T6)","v":"2.07.01 - TI"},{"$f":"CONCATENATE('2.2 PC. Desp.'!V6,\" - \",'2.2 PC. Desp.'!W6)","v":"2.08.01 - Distribuição de Lucros"},{"$f":"CONCATENATE('2.2 PC. Desp.'!Y6,\" - \",'2.2 PC. Desp.'!Z6)","v":"2.09.01 - Pagamento indevido"},{"$f":"CONCATENATE('2.3 PC. Transf.'!A6,\" - \",'2.3 PC. Transf.'!B6)","v":"3.01.01 - "},{"$f":"CONCATENATE('2.3 PC. Transf.'!D6,\" - \",'2.3 PC. Transf.'!E6)","v":"3.02.01 - "}]
[{"$f":"CONCATENATE('2.1 PC Rec.'!A7,\" - \",'2.1 PC Rec.'!B7)","v":"1.01.02 - GAC"},{"$f":"CONCATENATE('2.1 PC Rec.'!D7,\" - \",'2.1 PC Rec.'!E7)","v":"1.02.02 - Estorno"},{"$f":"CONCATENATE('2.1 PC Rec.'!G7,\" - \",'2.1 PC Rec.'!H7)","v":"1.03.02 - Estorno de pagamento"},{"$f":"CONCATENATE('2.2 PC. Desp.'!A7,\" - \",'2.2 PC. Desp.'!B7)","v":"2.01.02 - Fretes e Carretos"},{"$f":"CONCATENATE('2.2 PC. Desp.'!D7,\" - \",'2.2 PC. Desp.'!E7)","v":"2.02.02 - Salário mensal"},{"$f":"CONCATENATE('2.2 PC. Desp.'!G7,\" - \",'2.2 PC. Desp.'!H7)","v":"2.03.02 - Institucional"},{"$f":"CONCATENATE('2.2 PC. Desp.'!J7,\" - \",'2.2 PC. Desp.'!K7)","v":"2.04.02 - Materiais de escritório"},{"$f":"CONCATENATE('2.2 PC. Desp.'!M7,\" - \",'2.2 PC. Desp.'!N7)","v":"2.05.02 - Juros e multas"},{"$f":"CONCATENATE('2.2 PC. Desp.'!P7,\" - \",'2.2 PC. Desp.'!Q7)","v":"2.06.02 - Pis / Cofins"},{"$f":"CONCATENATE('2.2 PC. Desp.'!S7,\" - \",'2.2 PC. Desp.'!T7)","v":"2.07.02 - "},{"$f":"CONCATENATE('2.2 PC. Desp.'!V7,\" - \",'2.2 PC. Desp.'!W7)","v":"2.08.02 - Mensal"},{"$f":"CONCATENATE('2.2 PC. Desp.'!Y7,\" - \",'2.2 PC. Desp.'!Z7)","v":"2.09.02 - Devolução de estorno"},{"$f":"CONCATENATE('2.3 PC. Transf.'!A7,\" - \",'2.3 PC. Transf.'!B7)","v":"3.01.02 - "},{"$f":"CONCATENATE('2.3 PC. Transf.'!D7,\" - \",'2.3 PC. Transf.'!E7)","v":"3.02.02 - "}]
[{"$f":"CONCATENATE('2.1 PC Rec.'!A8,\" - \",'2.1 PC Rec.'!B8)","v":"1.01.03 - RE"},{"$f":"CONCATENATE('2.1 PC Rec.'!D8,\" - \",'2.1 PC Rec.'!E8)","v":"1.02.03 - "},{"$f":"CONCATENATE('2.1 PC Rec.'!G8,\" - \",'2.1 PC Rec.'!H8)","v":"1.03.03 - Aporte de capital"},{"$f":"CONCATENATE('2.2 PC. Desp.'!A8,\" - \",'2.2 PC. Desp.'!B8)","v":"2.01.03 - Serviços de Terceiros"},{"$f":"CONCATENATE('2.2 PC. Desp.'!D8,\" - \",'2.2 PC. Desp.'!E8)","v":"2.02.03 - 13º salário"},{"$f":"CONCATENATE('2.2 PC. Desp.'!G8,\" - \",'2.2 PC. Desp.'!H8)","v":"2.03.03 - Reuniões / Visitas"},{"$f":"CONCATENATE('2.2 PC. Desp.'!J8,\" - \",'2.2 PC. Desp.'!K8)","v":"2.04.03 - Contas de Consumo"},{"$f":"CONCATENATE('2.2 PC. Desp.'!M8,\" - \",'2.2 PC. Desp.'!N8)","v":"2.05.03 - "},{"$f":"CONCATENATE('2.2 PC. Desp.'!P8,\" - \",'2.2 PC. Desp.'!Q8)","v":"2.06.03 - IR/CS"},{"$f":"CONCATENATE('2.2 PC. Desp.'!S8,\" - \",'2.2 PC. Desp.'!T8)","v":"2.07.03 - "},{"$f":"CONCATENATE('2.2 PC. Desp.'!V8,\" - \",'2.2 PC. Desp.'!W8)","v":"2.08.03 - "},{"$f":"CONCATENATE('2.2 PC. Desp.'!Y8,\" - \",'2.2 PC. Desp.'!Z8)","v":"2.09.03 - Dev. de aporte de capital"},{"$f":"CONCATENATE('2.3 PC. Transf.'!A8,\" - \",'2.3 PC. Transf.'!B8)","v":"3.01.03 - "},{"$f":"CONCATENATE('2.3 PC. Transf.'!D8,\" - \",'2.3 PC. Transf.'!E8)","v":"3.02.03 - "}]
[{"$f":"CONCATENATE('2.1 PC Rec.'!A9,\" - \",'2.1 PC Rec.'!B9)","v":"1.01.04 - ECT"},{"$f":"CONCATENATE('2.1 PC Rec.'!D9,\" - \",'2.1 PC Rec.'!E9)","v":"1.02.04 - "},{"$f":"CONCATENATE('2.1 PC Rec.'!G9,\" - \",'2.1 PC Rec.'!H9)","v":"1.03.04 - Empréstimo contratato"},{"$f":"CONCATENATE('2.2 PC. Desp.'!A9,\" - \",'2.2 PC. Desp.'!B9)","v":"2.01.04 - "},{"$f":"CONCATENATE('2.2 PC. Desp.'!D9,\" - \",'2.2 PC. Desp.'!E9)","v":"2.02.04 - Horas extras"},{"$f":"CONCATENATE('2.2 PC. Desp.'!G9,\" - \",'2.2 PC. Desp.'!H9)","v":"2.03.04 - Propostas"},{"$f":"CONCATENATE('2.2 PC. Desp.'!J9,\" - \",'2.2 PC. Desp.'!K9)","v":"2.04.04 - Assessoria Jurídica / Despachante"},{"$f":"CONCATENATE('2.2 PC. Desp.'!M9,\" - \",'2.2 PC. Desp.'!N9)","v":"2.05.04 - "},{"$f":"CONCATENATE('2.2 PC. Desp.'!P9,\" - \",'2.2 PC. Desp.'!Q9)","v":"2.06.04 - Imp. Retidos Fornecedores"},{"$f":"CONCATENATE('2.2 PC. Desp.'!S9,\" - \",'2.2 PC. Desp.'!T9)","v":"2.07.04 - "},{"$f":"CONCATENATE('2.2 PC. Desp.'!V9,\" - \",'2.2 PC. Desp.'!W9)","v":"2.08.04 - "},{"$f":"CONCATENATE('2.2 PC. Desp.'!Y9,\" - \",'2.2 PC. Desp.'!Z9)","v":"2.09.04 - Pagamento empréstimos"},{"$f":"CONCATENATE('2.3 PC. Transf.'!A9,\" - \",'2.3 PC. Transf.'!B9)","v":"3.01.04 - "},{"$f":"CONCATENATE('2.3 PC. Transf.'!D9,\" - \",'2.3 PC. Transf.'!E9)","v":"3.02.04 - "}]
[{"$f":"CONCATENATE('2.1 PC Rec.'!A10,\" - \",'2.1 PC Rec.'!B10)","v":"1.01.05 - "},{"$f":"CONCATENATE('2.1 PC Rec.'!D10,\" - \",'2.1 PC Rec.'!E10)","v":"1.02.05 - "},{"$f":"CONCATENATE('2.1 PC Rec.'!G10,\" - \",'2.1 PC Rec.'!H10)","v":"1.03.05 - Reembolso Cliente"},{"$f":"CONCATENATE('2.2 PC. Desp.'!A10,\" - \",'2.2 PC. Desp.'!B10)","v":"2.01.05 - "},{"$f":"CONCATENATE('2.2 PC. Desp.'!D10,\" - \",'2.2 PC. Desp.'!E10)","v":"2.02.05 - Férias"},{"$f":"CONCATENATE('2.2 PC. Desp.'!G10,\" - \",'2.2 PC. Desp.'!H10)","v":"2.03.05 - "},{"$f":"CONCATENATE('2.2 PC. Desp.'!J10,\" - \",'2.2 PC. Desp.'!K10)","v":"2.04.05 - Contabilidade"},{"$f":"CONCATENATE('2.2 PC. Desp.'!M10,\" - \",'2.2 PC. Desp.'!N10)","v":"2.05.05 - "},{"$f":"CONCATENATE('2.2 PC. Desp.'!P10,\" - \",'2.2 PC. Desp.'!Q10)","v":"2.06.05 - "},{"$f":"CONCATENATE('2.2 PC. Desp.'!S10,\" - \",'2.2 PC. Desp.'!T10)","v":"2.07.05 - "},{"$f":"CONCATENATE('2.2 PC. Desp.'!V10,\" - \",'2.2 PC. Desp.'!W10)","v":"2.08.05 - "},{"$f":"CONCATENATE('2.2 PC. Desp.'!Y10,\" - \",'2.2 PC. Desp.'!Z10)","v":"2.09.05 - Transferencia entre contas"},{"$f":"CONCATENATE('2.3 PC. Transf.'!A10,\" - \",'2.3 PC. Transf.'!B10)","v":"3.01.05 - "},{"$f":"CONCATENATE('2.3 PC. Transf.'!D10,\" - \",'2.3 PC. Transf.'!E10)","v":"3.02.05 - "}]
[{"$f":"CONCATENATE('2.1 PC Rec.'!A11,\" - \",'2.1 PC Rec.'!B11)","v":"1.01.06 - "},{"$f":"CONCATENATE('2.1 PC Rec.'!D11,\" - \",'2.1 PC Rec.'!E11)","v":"1.02.06 - "},{"$f":"CONCATENATE('2.1 PC Rec.'!G11,\" - \",'2.1 PC Rec.'!H11)","v":"1.03.06 - Transferencia entre contas"},{"$f":"CONCATENATE('2.2 PC. Desp.'!A11,\" - \",'2.2 PC. Desp.'!B11)","v":"2.01.06 - "},{"$f":"CONCATENATE('2.2 PC. Desp.'!D11,\" - \",'2.2 PC. Desp.'!E11)","v":"2.02.06 - Assistência médica"},{"$f":"CONCATENATE('2.2 PC. Desp.'!G11,\" - \",'2.2 PC. Desp.'!H11)","v":"2.03.06 - "},{"$f":"CONCATENATE('2.2 PC. Desp.'!J11,\" - \",'2.2 PC. Desp.'!K11)","v":"2.04.06 - Seguros"},{"$f":"CONCATENATE('2.2 PC. Desp.'!M11,\" - \",'2.2 PC. Desp.'!N11)","v":"2.05.06 - "},{"$f":"CONCATENATE('2.2 PC. Desp.'!P11,\" - \",'2.2 PC. Desp.'!Q11)","v":"2.06.06 - "},{"$f":"CONCATENATE('2.2 PC. Desp.'!S11,\" - \",'2.2 PC. Desp.'!T11)","v":"2.07.06 - "},{"$f":"CONCATENATE('2.2 PC. Desp.'!V11,\" - \",'2.2 PC. Desp.'!W11)","v":"2.08.06 - "},{"$f":"CONCATENATE('2.2 PC. Desp.'!Y11,\" - \",'2.2 PC. Desp.'!Z11)","v":"2.09.06 - "},{"$f":"CONCATENATE('2.3 PC. Transf.'!A11,\" - \",'2.3 PC. Transf.'!B11)","v":"3.01.06 - "},{"$f":"CONCATENATE('2.3 PC. Transf.'!D11,\" - \",'2.3 PC. Transf.'!E11)","v":"3.02.06 - "}]
[{"$f":"CONCATENATE('2.1 PC Rec.'!A12,\" - \",'2.1 PC Rec.'!B12)","v":"1.01.07 - "},{"$f":"CONCATENATE('2.1 PC Rec.'!D12,\" - \",'2.1 PC Rec.'!E12)","v":"1.02.07 - "},{"$f":"CONCATENATE('2.1 PC Rec.'!G12,\" - \",'2.1 PC Rec.'!H12)","v":"1.03.07 - Crédito Imposto"},{"$f":"CONCATENATE('2.2 PC. Desp.'!A12,\" - \",'2.2 PC. Desp.'!B12)","v":"2.01.07 - "},{"$f":"CONCATENATE('2.2 PC. Desp.'!D12,\" - \",'2.2 PC. Desp.'!E12)","v":"2.02.07 - "},{"$f":"CONCATENATE('2.2 PC. Desp.'!G12,\" - \",'2.2 PC. Desp.'!H12)","v":"2.03.07 - "},{"$f":"CONCATENATE('2.2 PC. Desp.'!J12,\" - \",'2.2 PC. Desp.'!K12)","v":"2.04.07 - Portador"},{"$f":"CONCATENATE('2.2 PC. Desp.'!M12,\" - \",'2.2 PC. Desp.'!N12)","v":"2.05.07 - "},{"$f":"CONCATENATE('2.2 PC. Desp.'!P12,\" - \",'2.2 PC. Desp.'!Q12)","v":"2.06.07 - "},{"$f":"CONCATENATE('2.2 PC. Desp.'!S12,\" - \",'2.2 PC. Desp.'!T12)","v":"2.07.07 - "},{"$f":"CONCATENATE('2.2 PC. Desp.'!V12,\" - \",'2.2 PC. Desp.'!W12)","v":"2.08.07 - "},{"$f":"CONCATENATE('2.2 PC. Desp.'!Y12,\" - \",'2.2 PC. Desp.'!Z12)","v":"2.09.07 - "},{"$f":"CONCATENATE('2.3 PC. Transf.'!A12,\" - \",'2.3 PC. Transf.'!B12)","v":"3.01.07 - "},{"$f":"CONCATENATE('2.3 PC. Transf.'!D12,\" - \",'2.3 PC. Transf.'!E12)","v":"3.02.07 - "}]
[{"$f":"CONCATENATE('2.1 PC Rec.'!A13,\" - \",'2.1 PC Rec.'!B13)","v":"1.01.08 - "},{"$f":"CONCATENATE('2.1 PC Rec.'!D13,\" - \",'2.1 PC Rec.'!E13)","v":"1.02.08 - "},{"$f":"CONCATENATE('2.1 PC Rec.'!G13,\" - \",'2.1 PC Rec.'!H13)","v":"1.03.08 - "},{"$f":"CONCATENATE('2.2 PC. Desp.'!A13,\" - \",'2.2 PC. Desp.'!B13)","v":"2.01.08 - "},{"$f":"CONCATENATE('2.2 PC. Desp.'!D13,\" - \",'2.2 PC. Desp.'!E13)","v":"2.02.08 - "},{"$f":"CONCATENATE('2.2 PC. Desp.'!G13,\" - \",'2.2 PC. Desp.'!H13)","v":"2.03.08 - "},{"$f":"CONCATENATE('2.2 PC. Desp.'!J13,\" - \",'2.2 PC. Desp.'!K13)","v":"2.04.08 - Cartório"},{"$f":"CONCATENATE('2.2 PC. Desp.'!M13,\" - \",'2.2 PC. Desp.'!N13)","v":"2.05.08 - "},{"$f":"CONCATENATE('2.2 PC. Desp.'!P13,\" - \",'2.2 PC. Desp.'!Q13)","v":"2.06.08 - "},{"$f":"CONCATENATE('2.2 PC. Desp.'!S13,\" - \",'2.2 PC. Desp.'!T13)","v":"2.07.08 - "},{"$f":"CONCATENATE('2.2 PC. Desp.'!V13,\" - \",'2.2 PC. Desp.'!W13)","v":"2.08.08 - "},{"$f":"CONCATENATE('2.2 PC. Desp.'!Y13,\" - \",'2.2 PC. Desp.'!Z13)","v":"2.09.08 - "},{"$f":"CONCATENATE('2.3 PC. Transf.'!A13,\" - \",'2.3 PC. Transf.'!B13)","v":"3.01.08 - "},{"$f":"CONCATENATE('2.3 PC. Transf.'!D13,\" - \",'2.3 PC. Transf.'!E13)","v":"3.02.08 - "}]
[{"$f":"CONCATENATE('2.1 PC Rec.'!A14,\" - \",'2.1 PC Rec.'!B14)","v":"1.01.09 - "},{"$f":"CONCATENATE('2.1 PC Rec.'!D14,\" - \",'2.1 PC Rec.'!E14)","v":"1.02.09 - "},{"$f":"CONCATENATE('2.1 PC Rec.'!G14,\" - \",'2.1 PC Rec.'!H14)","v":"1.03.09 - "},{"$f":"CONCATENATE('2.2 PC. Desp.'!A14,\" - \",'2.2 PC. Desp.'!B14)","v":"2.01.09 - "},{"$f":"CONCATENATE('2.2 PC. Desp.'!D14,\" - \",'2.2 PC. Desp.'!E14)","v":"2.02.09 - "},{"$f":"CONCATENATE('2.2 PC. Desp.'!G14,\" - \",'2.2 PC. Desp.'!H14)","v":"2.03.09 - "},{"$f":"CONCATENATE('2.2 PC. Desp.'!J14,\" - \",'2.2 PC. Desp.'!K14)","v":"2.04.09 - Informatica"},{"$f":"CONCATENATE('2.2 PC. Desp.'!M14,\" - \",'2.2 PC. Desp.'!N14)","v":"2.05.09 - "},{"$f":"CONCATENATE('2.2 PC. Desp.'!P14,\" - \",'2.2 PC. Desp.'!Q14)","v":"2.06.09 - "},{"$f":"CONCATENATE('2.2 PC. Desp.'!S14,\" - \",'2.2 PC. Desp.'!T14)","v":"2.07.09 - "},{"$f":"CONCATENATE('2.2 PC. Desp.'!V14,\" - \",'2.2 PC. Desp.'!W14)","v":"2.08.09 - "},{"$f":"CONCATENATE('2.2 PC. Desp.'!Y14,\" - \",'2.2 PC. Desp.'!Z14)","v":"2.09.09 - "},{"$f":"CONCATENATE('2.3 PC. Transf.'!A14,\" - \",'2.3 PC. Transf.'!B14)","v":"3.01.09 - "},{"$f":"CONCATENATE('2.3 PC. Transf.'!D14,\" - \",'2.3 PC. Transf.'!E14)","v":"3.02.09 - "}]
[{"$f":"CONCATENATE('2.1 PC Rec.'!A15,\" - \",'2.1 PC Rec.'!B15)","v":"1.01.10 - "},{"$f":"CONCATENATE('2.1 PC Rec.'!D15,\" - \",'2.1 PC Rec.'!E15)","v":"1.02.10 - "},{"$f":"CONCATENATE('2.1 PC Rec.'!G15,\" - \",'2.1 PC Rec.'!H15)","v":"1.03.10 - "},{"$f":"CONCATENATE('2.2 PC. Desp.'!A15,\" - \",'2.2 PC. Desp.'!B15)","v":"2.01.10 - "},{"$f":"CONCATENATE('2.2 PC. Desp.'!D15,\" - \",'2.2 PC. Desp.'!E15)","v":"2.02.10 - "},{"$f":"CONCATENATE('2.2 PC. Desp.'!G15,\" - \",'2.2 PC. Desp.'!H15)","v":"2.03.10 - "},{"$f":"CONCATENATE('2.2 PC. Desp.'!J15,\" - \",'2.2 PC. Desp.'!K15)","v":"2.04.10 - Taxas"},{"$f":"CONCATENATE('2.2 PC. Desp.'!M15,\" - \",'2.2 PC. Desp.'!N15)","v":"2.05.10 - "},{"$f":"CONCATENATE('2.2 PC. Desp.'!P15,\" - \",'2.2 PC. Desp.'!Q15)","v":"2.06.10 - "},{"$f":"CONCATENATE('2.2 PC. Desp.'!S15,\" - \",'2.2 PC. Desp.'!T15)","v":"2.07.10 - "},{"$f":"CONCATENATE('2.2 PC. Desp.'!V15,\" - \",'2.2 PC. Desp.'!W15)","v":"2.08.10 - "},{"$f":"CONCATENATE('2.2 PC. Desp.'!Y15,\" - \",'2.2 PC. Desp.'!Z15)","v":"2.09.10 - "},{"$f":"CONCATENATE('2.3 PC. Transf.'!A15,\" - \",'2.3 PC. Transf.'!B15)","v":"3.01.10 - "},{"$f":"CONCATENATE('2.3 PC. Transf.'!D15,\" - \",'2.3 PC. Transf.'!E15)","v":"3.02.10 - "}]
[{"$f":"CONCATENATE('2.1 PC Rec.'!A16,\" - \",'2.1 PC Rec.'!B16)","v":"1.01.11 - "},{"$f":"CONCATENATE('2.1 PC Rec.'!D16,\" - \",'2.1 PC Rec.'!E16)","v":"1.02.11 - "},{"$f":"CONCATENATE('2.1 PC Rec.'!G16,\" - \",'2.1 PC Rec.'!H16)","v":"1.03.11 - "},{"$f":"CONCATENATE('2.2 PC. Desp.'!A16,\" - \",'2.2 PC. Desp.'!B16)","v":"2.01.11 - "},{"$f":"CONCATENATE('2.2 PC. Desp.'!D16,\" - \",'2.2 PC. Desp.'!E16)","v":"2.02.11 - "},{"$f":"CONCATENATE('2.2 PC. Desp.'!G16,\" - \",'2.2 PC. Desp.'!H16)","v":"2.03.11 - "},{"$f":"CONCATENATE('2.2 PC. Desp.'!J16,\" - \",'2.2 PC. Desp.'!K16)","v":"2.04.11 - Confraternizações"},{"$f":"CONCATENATE('2.2 PC. Desp.'!M16,\" - \",'2.2 PC. Desp.'!N16)","v":"2.05.11 - "},{"$f":"CONCATENATE('2.2 PC. Desp.'!P16,\" - \",'2.2 PC. Desp.'!Q16)","v":"2.06.11 - "},{"$f":"CONCATENATE('2.2 PC. Desp.'!S16,\" - \",'2.2 PC. Desp.'!T16)","v":"2.07.11 - "},{"$f":"CONCATENATE('2.2 PC. Desp.'!V16,\" - \",'2.2 PC. Desp.'!W16)","v":"2.08.11 - "},{"$f":"CONCATENATE('2.2 PC. Desp.'!Y16,\" - \",'2.2 PC. Desp.'!Z16)","v":"2.09.11 - "},{"$f":"CONCATENATE('2.3 PC. Transf.'!A16,\" - \",'2.3 PC. Transf.'!B16)","v":"3.01.11 - "},{"$f":"CONCATENATE('2.3 PC. Transf.'!D16,\" - \",'2.3 PC. Transf.'!E16)","v":"3.02.11 - "}]
[{"$f":"CONCATENATE('2.1 PC Rec.'!A17,\" - \",'2.1 PC Rec.'!B17)","v":"1.01.12 - "},{"$f":"CONCATENATE('2.1 PC Rec.'!D17,\" - \",'2.1 PC Rec.'!E17)","v":"1.02.12 - "},{"$f":"CONCATENATE('2.1 PC Rec.'!G17,\" - \",'2.1 PC Rec.'!H17)","v":"1.03.12 - "},{"$f":"CONCATENATE('2.2 PC. Desp.'!A17,\" - \",'2.2 PC. Desp.'!B17)","v":"2.01.12 - "},{"$f":"CONCATENATE('2.2 PC. Desp.'!D17,\" - \",'2.2 PC. Desp.'!E17)","v":"2.02.12 - "},{"$f":"CONCATENATE('2.2 PC. Desp.'!G17,\" - \",'2.2 PC. Desp.'!H17)","v":"2.03.12 - "},{"$f":"CONCATENATE('2.2 PC. Desp.'!J17,\" - \",'2.2 PC. Desp.'!K17)","v":"2.04.12 - Outras Despesas"},{"$f":"CONCATENATE('2.2 PC. Desp.'!M17,\" - \",'2.2 PC. Desp.'!N17)","v":"2.05.12 - "},{"$f":"CONCATENATE('2.2 PC. Desp.'!P17,\" - \",'2.2 PC. Desp.'!Q17)","v":"2.06.12 - "},{"$f":"CONCATENATE('2.2 PC. Desp.'!S17,\" - \",'2.2 PC. Desp.'!T17)","v":"2.07.12 - "},{"$f":"CONCATENATE('2.2 PC. Desp.'!V17,\" - \",'2.2 PC. Desp.'!W17)","v":"2.08.12 - "},{"$f":"CONCATENATE('2.2 PC. Desp.'!Y17,\" - \",'2.2 PC. Desp.'!Z17)","v":"2.09.12 - "},{"$f":"CONCATENATE('2.3 PC. Transf.'!A17,\" - \",'2.3 PC. Transf.'!B17)","v":"3.01.12 - "},{"$f":"CONCATENATE('2.3 PC. Transf.'!D17,\" - \",'2.3 PC. Transf.'!E17)","v":"3.02.12 - "}]
[{"$f":"CONCATENATE('2.1 PC Rec.'!A18,\" - \",'2.1 PC Rec.'!B18)","v":"1.01.13 - "},{"$f":"CONCATENATE('2.1 PC Rec.'!D18,\" - \",'2.1 PC Rec.'!E18)","v":"1.02.13 - "},{"$f":"CONCATENATE('2.1 PC Rec.'!G18,\" - \",'2.1 PC Rec.'!H18)","v":"1.03.13 - "},{"$f":"CONCATENATE('2.2 PC. Desp.'!A18,\" - \",'2.2 PC. Desp.'!B18)","v":"2.01.13 - "},{"$f":"CONCATENATE('2.2 PC. Desp.'!D18,\" - \",'2.2 PC. Desp.'!E18)","v":"2.02.13 - "},{"$f":"CONCATENATE('2.2 PC. Desp.'!G18,\" - \",'2.2 PC. Desp.'!H18)","v":"2.03.13 - "},{"$f":"CONCATENATE('2.2 PC. Desp.'!J18,\" - \",'2.2 PC. Desp.'!K18)","v":"2.04.13 - "},{"$f":"CONCATENATE('2.2 PC. Desp.'!M18,\" - \",'2.2 PC. Desp.'!N18)","v":"2.05.13 - "},{"$f":"CONCATENATE('2.2 PC. Desp.'!P18,\" - \",'2.2 PC. Desp.'!Q18)","v":"2.06.13 - "},{"$f":"CONCATENATE('2.2 PC. Desp.'!S18,\" - \",'2.2 PC. Desp.'!T18)","v":"2.07.13 - "},{"$f":"CONCATENATE('2.2 PC. Desp.'!V18,\" - \",'2.2 PC. Desp.'!W18)","v":"2.08.13 - "},{"$f":"CONCATENATE('2.2 PC. Desp.'!Y18,\" - \",'2.2 PC. Desp.'!Z18)","v":"2.09.13 - "},{"$f":"CONCATENATE('2.3 PC. Transf.'!A18,\" - \",'2.3 PC. Transf.'!B18)","v":"3.01.13 - "},{"$f":"CONCATENATE('2.3 PC. Transf.'!D18,\" - \",'2.3 PC. Transf.'!E18)","v":"3.02.13 - "}]
[{"$f":"CONCATENATE('2.1 PC Rec.'!A19,\" - \",'2.1 PC Rec.'!B19)","v":"1.01.14 - "},{"$f":"CONCATENATE('2.1 PC Rec.'!D19,\" - \",'2.1 PC Rec.'!E19)","v":"1.02.14 - "},{"$f":"CONCATENATE('2.1 PC Rec.'!G19,\" - \",'2.1 PC Rec.'!H19)","v":"1.03.14 - "},{"$f":"CONCATENATE('2.2 PC. Desp.'!A19,\" - \",'2.2 PC. Desp.'!B19)","v":"2.01.14 - "},{"$f":"CONCATENATE('2.2 PC. Desp.'!D19,\" - \",'2.2 PC. Desp.'!E19)","v":"2.02.14 - "},{"$f":"CONCATENATE('2.2 PC. Desp.'!G19,\" - \",'2.2 PC. Desp.'!H19)","v":"2.03.14 - "},{"$f":"CONCATENATE('2.2 PC. Desp.'!J19,\" - \",'2.2 PC. Desp.'!K19)","v":"2.04.14 - "},{"$f":"CONCATENATE('2.2 PC. Desp.'!M19,\" - \",'2.2 PC. Desp.'!N19)","v":"2.05.14 - "},{"$f":"CONCATENATE('2.2 PC. Desp.'!P19,\" - \",'2.2 PC. Desp.'!Q19)","v":"2.06.14 - "},{"$f":"CONCATENATE('2.2 PC. Desp.'!S19,\" - \",'2.2 PC. Desp.'!T19)","v":"2.07.14 - "},{"$f":"CONCATENATE('2.2 PC. Desp.'!V19,\" - \",'2.2 PC. Desp.'!W19)","v":"2.08.14 - "},{"$f":"CONCATENATE('2.2 PC. Desp.'!Y19,\" - \",'2.2 PC. Desp.'!Z19)","v":"2.09.14 - "},{"$f":"CONCATENATE('2.3 PC. Transf.'!A19,\" - \",'2.3 PC. Transf.'!B19)","v":"3.01.14 - "},{"$f":"CONCATENATE('2.3 PC. Transf.'!D19,\" - \",'2.3 PC. Transf.'!E19)","v":"3.02.14 - "}]
[{"$f":"CONCATENATE('2.1 PC Rec.'!A20,\" - \",'2.1 PC Rec.'!B20)","v":"1.01.15 - "},{"$f":"CONCATENATE('2.1 PC Rec.'!D20,\" - \",'2.1 PC Rec.'!E20)","v":"1.02.15 - "},{"$f":"CONCATENATE('2.1 PC Rec.'!G20,\" - \",'2.1 PC Rec.'!H20)","v":"1.03.15 - "},{"$f":"CONCATENATE('2.2 PC. Desp.'!A20,\" - \",'2.2 PC. Desp.'!B20)","v":"2.01.15 - "},{"$f":"CONCATENATE('2.2 PC. Desp.'!D20,\" - \",'2.2 PC. Desp.'!E20)","v":"2.02.15 - "},{"$f":"CONCATENATE('2.2 PC. Desp.'!G20,\" - \",'2.2 PC. Desp.'!H20)","v":"2.03.15 - "},{"$f":"CONCATENATE('2.2 PC. Desp.'!J20,\" - \",'2.2 PC. Desp.'!K20)","v":"2.04.15 - "},{"$f":"CONCATENATE('2.2 PC. Desp.'!M20,\" - \",'2.2 PC. Desp.'!N20)","v":"2.05.15 - "},{"$f":"CONCATENATE('2.2 PC. Desp.'!P20,\" - \",'2.2 PC. Desp.'!Q20)","v":"2.06.15 - "},{"$f":"CONCATENATE('2.2 PC. Desp.'!S20,\" - \",'2.2 PC. Desp.'!T20)","v":"2.07.15 - "},{"$f":"CONCATENATE('2.2 PC. Desp.'!V20,\" - \",'2.2 PC. Desp.'!W20)","v":"2.08.15 - "},{"$f":"CONCATENATE('2.2 PC. Desp.'!Y20,\" - \",'2.2 PC. Desp.'!Z20)","v":"2.09.15 - "},{"$f":"CONCATENATE('2.3 PC. Transf.'!A20,\" - \",'2.3 PC. Transf.'!B20)","v":"3.01.15 - "},{"$f":"CONCATENATE('2.3 PC. Transf.'!D20,\" - \",'2.3 PC. Transf.'!E20)","v":"3.02.15 - "}]
[{"$f":"CONCATENATE('2.1 PC Rec.'!A21,\" - \",'2.1 PC Rec.'!B21)","v":"1.01.16 - "},{"$f":"CONCATENATE('2.1 PC Rec.'!D21,\" - \",'2.1 PC Rec.'!E21)","v":"1.02.16 - "},{"$f":"CONCATENATE('2.1 PC Rec.'!G21,\" - \",'2.1 PC Rec.'!H21)","v":"1.03.16 - "},{"$f":"CONCATENATE('2.2 PC. Desp.'!A21,\" - \",'2.2 PC. Desp.'!B21)","v":"2.01.16 - "},{"$f":"CONCATENATE('2.2 PC. Desp.'!D21,\" - \",'2.2 PC. Desp.'!E21)","v":"2.02.16 - "},{"$f":"CONCATENATE('2.2 PC. Desp.'!G21,\" - \",'2.2 PC. Desp.'!H21)","v":"2.03.16 - "},{"$f":"CONCATENATE('2.2 PC. Desp.'!J21,\" - \",'2.2 PC. Desp.'!K21)","v":"2.04.16 - "},{"$f":"CONCATENATE('2.2 PC. Desp.'!M21,\" - \",'2.2 PC. Desp.'!N21)","v":"2.05.16 - "},{"$f":"CONCATENATE('2.2 PC. Desp.'!P21,\" - \",'2.2 PC. Desp.'!Q21)","v":"2.06.16 - "},{"$f":"CONCATENATE('2.2 PC. Desp.'!S21,\" - \",'2.2 PC. Desp.'!T21)","v":"2.07.16 - "},{"$f":"CONCATENATE('2.2 PC. Desp.'!V21,\" - \",'2.2 PC. Desp.'!W21)","v":"2.08.16 - "},{"$f":"CONCATENATE('2.2 PC. Desp.'!Y21,\" - \",'2.2 PC. Desp.'!Z21)","v":"2.09.16 - "},{"$f":"CONCATENATE('2.3 PC. Transf.'!A21,\" - \",'2.3 PC. Transf.'!B21)","v":"3.01.16 - "},{"$f":"CONCATENATE('2.3 PC. Transf.'!D21,\" - \",'2.3 PC. Transf.'!E21)","v":"3.02.16 - "}]
[{"$f":"CONCATENATE('2.1 PC Rec.'!A22,\" - \",'2.1 PC Rec.'!B22)","v":" - "},{"$f":"CONCATENATE('2.1 PC Rec.'!D22,\" - \",'2.1 PC Rec.'!E22)","v":" - "},{"$f":"CONCATENATE('2.1 PC Rec.'!G22,\" - \",'2.1 PC Rec.'!H22)","v":" - "},{"$f":"CONCATENATE('2.2 PC. Desp.'!A22,\" - \",'2.2 PC. Desp.'!B22)","v":"2.01.17 - "},{"$f":"CONCATENATE('2.2 PC. Desp.'!D22,\" - \",'2.2 PC. Desp.'!E22)","v":"2.02.17 - "},{"$f":"CONCATENATE('2.2 PC. Desp.'!G22,\" - \",'2.2 PC. Desp.'!H22)","v":"2.03.17 - "},{"$f":"CONCATENATE('2.2 PC. Desp.'!J22,\" - \",'2.2 PC. Desp.'!K22)","v":"2.04.17 - "},{"$f":"CONCATENATE('2.2 PC. Desp.'!M22,\" - \",'2.2 PC. Desp.'!N22)","v":"2.05.17 - "},{"$f":"CONCATENATE('2.2 PC. Desp.'!P22,\" - \",'2.2 PC. Desp.'!Q22)","v":"2.06.17 - "},{"$f":"CONCATENATE('2.2 PC. Desp.'!S22,\" - \",'2.2 PC. Desp.'!T22)","v":"2.07.17 - "},{"$f":"CONCATENATE('2.2 PC. Desp.'!V22,\" - \",'2.2 PC. Desp.'!W22)","v":"2.08.17 - "},{"$f":"CONCATENATE('2.2 PC. Desp.'!Y22,\" - \",'2.2 PC. Desp.'!Z22)","v":"2.09.17 - "},{"$f":"CONCATENATE('2.3 PC. Transf.'!A22,\" - \",'2.3 PC. Transf.'!B22)","v":" - "},{"$f":"CONCATENATE('2.3 PC. Transf.'!D22,\" - \",'2.3 PC. Transf.'!E22)","v":" - "}]
[{"$f":"CONCATENATE('2.1 PC Rec.'!A23,\" - \",'2.1 PC Rec.'!B23)","v":" - "},{"$f":"CONCATENATE('2.1 PC Rec.'!D23,\" - \",'2.1 PC Rec.'!E23)","v":" - "},{"$f":"CONCATENATE('2.1 PC Rec.'!G23,\" - \",'2.1 PC Rec.'!H23)","v":" - "},{"$f":"CONCATENATE('2.2 PC. Desp.'!A23,\" - \",'2.2 PC. Desp.'!B23)","v":"2.01.18 - "},{"$f":"CONCATENATE('2.2 PC. Desp.'!D23,\" - \",'2.2 PC. Desp.'!E23)","v":"2.02.18 - "},{"$f":"CONCATENATE('2.2 PC. Desp.'!G23,\" - \",'2.2 PC. Desp.'!H23)","v":"2.03.18 - "},{"$f":"CONCATENATE('2.2 PC. Desp.'!J23,\" - \",'2.2 PC. Desp.'!K23)","v":"2.04.18 - "},{"$f":"CONCATENATE('2.2 PC. Desp.'!M23,\" - \",'2.2 PC. Desp.'!N23)","v":"2.05.18 - "},{"$f":"CONCATENATE('2.2 PC. Desp.'!P23,\" - \",'2.2 PC. Desp.'!Q23)","v":"2.06.18 - "},{"$f":"CONCATENATE('2.2 PC. Desp.'!S23,\" - \",'2.2 PC. Desp.'!T23)","v":"2.07.18 - "},{"$f":"CONCATENATE('2.2 PC. Desp.'!V23,\" - \",'2.2 PC. Desp.'!W23)","v":"2.08.18 - "},{"$f":"CONCATENATE('2.2 PC. Desp.'!Y23,\" - \",'2.2 PC. Desp.'!Z23)","v":"2.09.18 - "},{"$f":"CONCATENATE('2.3 PC. Transf.'!A23,\" - \",'2.3 PC. Transf.'!B23)","v":" - "},{"$f":"CONCATENATE('2.3 PC. Transf.'!D23,\" - \",'2.3 PC. Transf.'!E23)","v":" - "}]
[{"$f":"CONCATENATE('2.1 PC Rec.'!A24,\" - \",'2.1 PC Rec.'!B24)","v":" - "},{"$f":"CONCATENATE('2.1 PC Rec.'!D24,\" - \",'2.1 PC Rec.'!E24)","v":" - "},{"$f":"CONCATENATE('2.1 PC Rec.'!G24,\" - \",'2.1 PC Rec.'!H24)","v":" - "},{"$f":"CONCATENATE('2.2 PC. Desp.'!A24,\" - \",'2.2 PC. Desp.'!B24)","v":"2.01.19 - "},{"$f":"CONCATENATE('2.2 PC. Desp.'!D24,\" - \",'2.2 PC. Desp.'!E24)","v":"2.02.19 - "},{"$f":"CONCATENATE('2.2 PC. Desp.'!G24,\" - \",'2.2 PC. Desp.'!H24)","v":"2.03.19 - "},{"$f":"CONCATENATE('2.2 PC. Desp.'!J24,\" - \",'2.2 PC. Desp.'!K24)","v":"2.04.19 - "},{"$f":"CONCATENATE('2.2 PC. Desp.'!M24,\" - \",'2.2 PC. Desp.'!N24)","v":"2.05.19 - "},{"$f":"CONCATENATE('2.2 PC. Desp.'!P24,\" - \",'2.2 PC. Desp.'!Q24)","v":"2.06.19 - "},{"$f":"CONCATENATE('2.2 PC. Desp.'!S24,\" - \",'2.2 PC. Desp.'!T24)","v":"2.07.19 - "},{"$f":"CONCATENATE('2.2 PC. Desp.'!V24,\" - \",'2.2 PC. Desp.'!W24)","v":"2.08.19 - "},{"$f":"CONCATENATE('2.2 PC. Desp.'!Y24,\" - \",'2.2 PC. Desp.'!Z24)","v":"2.09.19 - "},{"$f":"CONCATENATE('2.3 PC. Transf.'!A24,\" - \",'2.3 PC. Transf.'!B24)","v":" - "},{"$f":"CONCATENATE('2.3 PC. Transf.'!D24,\" - \",'2.3 PC. Transf.'!E24)","v":" - "}]
[{"$f":"CONCATENATE('2.1 PC Rec.'!A25,\" - \",'2.1 PC Rec.'!B25)","v":" - "},{"$f":"CONCATENATE('2.1 PC Rec.'!D25,\" - \",'2.1 PC Rec.'!E25)","v":" - "},{"$f":"CONCATENATE('2.1 PC Rec.'!G25,\" - \",'2.1 PC Rec.'!H25)","v":" - "},{"$f":"CONCATENATE('2.2 PC. Desp.'!A25,\" - \",'2.2 PC. Desp.'!B25)","v":"2.01.20 - "},{"$f":"CONCATENATE('2.2 PC. Desp.'!D25,\" - \",'2.2 PC. Desp.'!E25)","v":"2.02.20 - "},{"$f":"CONCATENATE('2.2 PC. Desp.'!G25,\" - \",'2.2 PC. Desp.'!H25)","v":"2.03.20 - "},{"$f":"CONCATENATE('2.2 PC. Desp.'!J25,\" - \",'2.2 PC. Desp.'!K25)","v":"2.04.20 - "},{"$f":"CONCATENATE('2.2 PC. Desp.'!M25,\" - \",'2.2 PC. Desp.'!N25)","v":"2.05.20 - "},{"$f":"CONCATENATE('2.2 PC. Desp.'!P25,\" - \",'2.2 PC. Desp.'!Q25)","v":"2.06.20 - "},{"$f":"CONCATENATE('2.2 PC. Desp.'!S25,\" - \",'2.2 PC. Desp.'!T25)","v":"2.07.20 - "},{"$f":"CONCATENATE('2.2 PC. Desp.'!V25,\" - \",'2.2 PC. Desp.'!W25)","v":"2.08.20 - "},{"$f":"CONCATENATE('2.2 PC. Desp.'!Y25,\" - \",'2.2 PC. Desp.'!Z25)","v":"2.09.20 - "},{"$f":"CONCATENATE('2.3 PC. Transf.'!A25,\" - \",'2.3 PC. Transf.'!B25)","v":" - "},{"$f":"CONCATENATE('2.3 PC. Transf.'!D25,\" - \",'2.3 PC. Transf.'!E25)","v":" - "}]
[{"$f":"CONCATENATE('2.1 PC Rec.'!A26,\" - \",'2.1 PC Rec.'!B26)","v":" - "},{"$f":"CONCATENATE('2.1 PC Rec.'!D26,\" - \",'2.1 PC Rec.'!E26)","v":" - "},{"$f":"CONCATENATE('2.1 PC Rec.'!G26,\" - \",'2.1 PC Rec.'!H26)","v":" - "},{"$f":"CONCATENATE('2.2 PC. Desp.'!A26,\" - \",'2.2 PC. Desp.'!B26)","v":"2.01.21 - "},{"$f":"CONCATENATE('2.2 PC. Desp.'!D26,\" - \",'2.2 PC. Desp.'!E26)","v":"2.02.21 - "},{"$f":"CONCATENATE('2.2 PC. Desp.'!G26,\" - \",'2.2 PC. Desp.'!H26)","v":"2.03.21 - "},{"$f":"CONCATENATE('2.2 PC. Desp.'!J26,\" - \",'2.2 PC. Desp.'!K26)","v":"2.04.21 - "},{"$f":"CONCATENATE('2.2 PC. Desp.'!M26,\" - \",'2.2 PC. Desp.'!N26)","v":"2.05.21 - "},{"$f":"CONCATENATE('2.2 PC. Desp.'!P26,\" - \",'2.2 PC. Desp.'!Q26)","v":"2.06.21 - "},{"$f":"CONCATENATE('2.2 PC. Desp.'!S26,\" - \",'2.2 PC. Desp.'!T26)","v":"2.07.21 - "},{"$f":"CONCATENATE('2.2 PC. Desp.'!V26,\" - \",'2.2 PC. Desp.'!W26)","v":"2.08.21 - "},{"$f":"CONCATENATE('2.2 PC. Desp.'!Y26,\" - \",'2.2 PC. Desp.'!Z26)","v":"2.09.21 - "},{"$f":"CONCATENATE('2.3 PC. Transf.'!A26,\" - \",'2.3 PC. Transf.'!B26)","v":" - "},{"$f":"CONCATENATE('2.3 PC. Transf.'!D26,\" - \",'2.3 PC. Transf.'!E26)","v":" - "}]
[{"$f":"CONCATENATE('2.1 PC Rec.'!A27,\" - \",'2.1 PC Rec.'!B27)","v":" - "},{"$f":"CONCATENATE('2.1 PC Rec.'!D27,\" - \",'2.1 PC Rec.'!E27)","v":" - "},{"$f":"CONCATENATE('2.1 PC Rec.'!G27,\" - \",'2.1 PC Rec.'!H27)","v":" - "},{"$f":"CONCATENATE('2.2 PC. Desp.'!A27,\" - \",'2.2 PC. Desp.'!B27)","v":"2.01.22 - "},{"$f":"CONCATENATE('2.2 PC. Desp.'!D27,\" - \",'2.2 PC. Desp.'!E27)","v":"2.02.22 - "},{"$f":"CONCATENATE('2.2 PC. Desp.'!G27,\" - \",'2.2 PC. Desp.'!H27)","v":"2.03.22 - "},{"$f":"CONCATENATE('2.2 PC. Desp.'!J27,\" - \",'2.2 PC. Desp.'!K27)","v":"2.04.22 - "},{"$f":"CONCATENATE('2.2 PC. Desp.'!M27,\" - \",'2.2 PC. Desp.'!N27)","v":"2.05.22 - "},{"$f":"CONCATENATE('2.2 PC. Desp.'!P27,\" - \",'2.2 PC. Desp.'!Q27)","v":"2.06.22 - "},{"$f":"CONCATENATE('2.2 PC. Desp.'!S27,\" - \",'2.2 PC. Desp.'!T27)","v":"2.07.22 - "},{"$f":"CONCATENATE('2.2 PC. Desp.'!V27,\" - \",'2.2 PC. Desp.'!W27)","v":"2.08.22 - "},{"$f":"CONCATENATE('2.2 PC. Desp.'!Y27,\" - \",'2.2 PC. Desp.'!Z27)","v":"2.09.22 - "},{"$f":"CONCATENATE('2.3 PC. Transf.'!A27,\" - \",'2.3 PC. Transf.'!B27)","v":" - "},{"$f":"CONCATENATE('2.3 PC. Transf.'!D27,\" - \",'2.3 PC. Transf.'!E27)","v":" - "}]
[{"$f":"CONCATENATE('2.1 PC Rec.'!A28,\" - \",'2.1 PC Rec.'!B28)","v":" - "},{"$f":"CONCATENATE('2.1 PC Rec.'!D28,\" - \",'2.1 PC Rec.'!E28)","v":" - "},{"$f":"CONCATENATE('2.1 PC Rec.'!G28,\" - \",'2.1 PC Rec.'!H28)","v":" - "},{"$f":"CONCATENATE('2.2 PC. Desp.'!A28,\" - \",'2.2 PC. Desp.'!B28)","v":"2.01.23 - "},{"$f":"CONCATENATE('2.2 PC. Desp.'!D28,\" - \",'2.2 PC. Desp.'!E28)","v":"2.02.23 - "},{"$f":"CONCATENATE('2.2 PC. Desp.'!G28,\" - \",'2.2 PC. Desp.'!H28)","v":"2.03.23 - "},{"$f":"CONCATENATE('2.2 PC. Desp.'!J28,\" - \",'2.2 PC. Desp.'!K28)","v":"2.04.23 - "},{"$f":"CONCATENATE('2.2 PC. Desp.'!M28,\" - \",'2.2 PC. Desp.'!N28)","v":"2.05.23 - "},{"$f":"CONCATENATE('2.2 PC. Desp.'!P28,\" - \",'2.2 PC. Desp.'!Q28)","v":"2.06.23 - "},{"$f":"CONCATENATE('2.2 PC. Desp.'!S28,\" - \",'2.2 PC. Desp.'!T28)","v":"2.07.23 - "},{"$f":"CONCATENATE('2.2 PC. Desp.'!V28,\" - \",'2.2 PC. Desp.'!W28)","v":"2.08.23 - "},{"$f":"CONCATENATE('2.2 PC. Desp.'!Y28,\" - \",'2.2 PC. Desp.'!Z28)","v":"2.09.23 - "},{"$f":"CONCATENATE('2.3 PC. Transf.'!A28,\" - \",'2.3 PC. Transf.'!B28)","v":" - "},{"$f":"CONCATENATE('2.3 PC. Transf.'!D28,\" - \",'2.3 PC. Transf.'!E28)","v":" - "}]
[{"$f":"CONCATENATE('2.1 PC Rec.'!A29,\" - \",'2.1 PC Rec.'!B29)","v":" - "},{"$f":"CONCATENATE('2.1 PC Rec.'!D29,\" - \",'2.1 PC Rec.'!E29)","v":" - "},{"$f":"CONCATENATE('2.1 PC Rec.'!G29,\" - \",'2.1 PC Rec.'!H29)","v":" - "},{"$f":"CONCATENATE('2.2 PC. Desp.'!A29,\" - \",'2.2 PC. Desp.'!B29)","v":"2.01.24 - "},{"$f":"CONCATENATE('2.2 PC. Desp.'!D29,\" - \",'2.2 PC. Desp.'!E29)","v":"2.02.24 - "},{"$f":"CONCATENATE('2.2 PC. Desp.'!G29,\" - \",'2.2 PC. Desp.'!H29)","v":"2.03.24 - "},{"$f":"CONCATENATE('2.2 PC. Desp.'!J29,\" - \",'2.2 PC. Desp.'!K29)","v":"2.04.24 - "},{"$f":"CONCATENATE('2.2 PC. Desp.'!M29,\" - \",'2.2 PC. Desp.'!N29)","v":"2.05.24 - "},{"$f":"CONCATENATE('2.2 PC. Desp.'!P29,\" - \",'2.2 PC. Desp.'!Q29)","v":"2.06.24 - "},{"$f":"CONCATENATE('2.2 PC. Desp.'!S29,\" - \",'2.2 PC. Desp.'!T29)","v":"2.07.24 - "},{"$f":"CONCATENATE('2.2 PC. Desp.'!V29,\" - \",'2.2 PC. Desp.'!W29)","v":"2.08.24 - "},{"$f":"CONCATENATE('2.2 PC. Desp.'!Y29,\" - \",'2.2 PC. Desp.'!Z29)","v":"2.09.24 - "},{"$f":"CONCATENATE('2.3 PC. Transf.'!A29,\" - \",'2.3 PC. Transf.'!B29)","v":" - "},{"$f":"CONCATENATE('2.3 PC. Transf.'!D29,\" - \",'2.3 PC. Transf.'!E29)","v":" - "}]
[{"$f":"CONCATENATE('2.1 PC Rec.'!A30,\" - \",'2.1 PC Rec.'!B30)","v":" - "},{"$f":"CONCATENATE('2.1 PC Rec.'!D30,\" - \",'2.1 PC Rec.'!E30)","v":" - "},{"$f":"CONCATENATE('2.1 PC Rec.'!G30,\" - \",'2.1 PC Rec.'!H30)","v":" - "},{"$f":"CONCATENATE('2.2 PC. Desp.'!A30,\" - \",'2.2 PC. Desp.'!B30)","v":"2.01.25 - "},{"$f":"CONCATENATE('2.2 PC. Desp.'!D30,\" - \",'2.2 PC. Desp.'!E30)","v":"2.02.25 - "},{"$f":"CONCATENATE('2.2 PC. Desp.'!G30,\" - \",'2.2 PC. Desp.'!H30)","v":"2.03.25 - "},{"$f":"CONCATENATE('2.2 PC. Desp.'!J30,\" - \",'2.2 PC. Desp.'!K30)","v":"2.04.25 - "},{"$f":"CONCATENATE('2.2 PC. Desp.'!M30,\" - \",'2.2 PC. Desp.'!N30)","v":"2.05.25 - "},{"$f":"CONCATENATE('2.2 PC. Desp.'!P30,\" - \",'2.2 PC. Desp.'!Q30)","v":"2.06.25 - "},{"$f":"CONCATENATE('2.2 PC. Desp.'!S30,\" - \",'2.2 PC. Desp.'!T30)","v":"2.07.25 - "},{"$f":"CONCATENATE('2.2 PC. Desp.'!V30,\" - \",'2.2 PC. Desp.'!W30)","v":"2.08.25 - "},{"$f":"CONCATENATE('2.2 PC. Desp.'!Y30,\" - \",'2.2 PC. Desp.'!Z30)","v":"2.09.25 - "},{"$f":"CONCATENATE('2.3 PC. Transf.'!A30,\" - \",'2.3 PC. Transf.'!B30)","v":" - "},{"$f":"CONCATENATE('2.3 PC. Transf.'!D30,\" - \",'2.3 PC. Transf.'!E30)","v":" - "}]
[{"$f":"CONCATENATE('2.1 PC Rec.'!A31,\" - \",'2.1 PC Rec.'!B31)","v":" - "},{"$f":"CONCATENATE('2.1 PC Rec.'!D31,\" - \",'2.1 PC Rec.'!E31)","v":" - "},{"$f":"CONCATENATE('2.1 PC Rec.'!G31,\" - \",'2.1 PC Rec.'!H31)","v":" - "},{"$f":"CONCATENATE('2.2 PC. Desp.'!A31,\" - \",'2.2 PC. Desp.'!B31)","v":"2.01.26 - "},{"$f":"CONCATENATE('2.2 PC. Desp.'!D31,\" - \",'2.2 PC. Desp.'!E31)","v":"2.02.26 - "},{"$f":"CONCATENATE('2.2 PC. Desp.'!G31,\" - \",'2.2 PC. Desp.'!H31)","v":"2.03.26 - "},{"$f":"CONCATENATE('2.2 PC. Desp.'!J31,\" - \",'2.2 PC. Desp.'!K31)","v":"2.04.26 - "},{"$f":"CONCATENATE('2.2 PC. Desp.'!M31,\" - \",'2.2 PC. Desp.'!N31)","v":"2.05.26 - "},{"$f":"CONCATENATE('2.2 PC. Desp.'!P31,\" - \",'2.2 PC. Desp.'!Q31)","v":"2.06.26 - "},{"$f":"CONCATENATE('2.2 PC. Desp.'!S31,\" - \",'2.2 PC. Desp.'!T31)","v":"2.07.26 - "},{"$f":"CONCATENATE('2.2 PC. Desp.'!V31,\" - \",'2.2 PC. Desp.'!W31)","v":"2.08.26 - "},{"$f":"CONCATENATE('2.2 PC. Desp.'!Y31,\" - \",'2.2 PC. Desp.'!Z31)","v":"2.09.26 - "},{"$f":"CONCATENATE('2.3 PC. Transf.'!A31,\" - \",'2.3 PC. Transf.'!B31)","v":" - "},{"$f":"CONCATENATE('2.3 PC. Transf.'!D31,\" - \",'2.3 PC. Transf.'!E31)","v":" - "}]
[{"$f":"CONCATENATE('2.1 PC Rec.'!A32,\" - \",'2.1 PC Rec.'!B32)","v":" - "},{"$f":"CONCATENATE('2.1 PC Rec.'!D32,\" - \",'2.1 PC Rec.'!E32)","v":" - "},{"$f":"CONCATENATE('2.1 PC Rec.'!G32,\" - \",'2.1 PC Rec.'!H32)","v":" - "},{"$f":"CONCATENATE('2.2 PC. Desp.'!A32,\" - \",'2.2 PC. Desp.'!B32)","v":"2.01.27 - "},{"$f":"CONCATENATE('2.2 PC. Desp.'!D32,\" - \",'2.2 PC. Desp.'!E32)","v":"2.02.27 - "},{"$f":"CONCATENATE('2.2 PC. Desp.'!G32,\" - \",'2.2 PC. Desp.'!H32)","v":"2.03.27 - "},{"$f":"CONCATENATE('2.2 PC. Desp.'!J32,\" - \",'2.2 PC. Desp.'!K32)","v":"2.04.27 - "},{"$f":"CONCATENATE('2.2 PC. Desp.'!M32,\" - \",'2.2 PC. Desp.'!N32)","v":"2.05.27 - "},{"$f":"CONCATENATE('2.2 PC. Desp.'!P32,\" - \",'2.2 PC. Desp.'!Q32)","v":"2.06.27 - "},{"$f":"CONCATENATE('2.2 PC. Desp.'!S32,\" - \",'2.2 PC. Desp.'!T32)","v":"2.07.27 - "},{"$f":"CONCATENATE('2.2 PC. Desp.'!V32,\" - \",'2.2 PC. Desp.'!W32)","v":"2.08.27 - "},{"$f":"CONCATENATE('2.2 PC. Desp.'!Y32,\" - \",'2.2 PC. Desp.'!Z32)","v":"2.09.27 - "},{"$f":"CONCATENATE('2.3 PC. Transf.'!A32,\" - \",'2.3 PC. Transf.'!B32)","v":" - "},{"$f":"CONCATENATE('2.3 PC. Transf.'!D32,\" - \",'2.3 PC. Transf.'!E32)","v":" - "}]
[{"$f":"CONCATENATE('2.1 PC Rec.'!A33,\" - \",'2.1 PC Rec.'!B33)","v":" - "},{"$f":"CONCATENATE('2.1 PC Rec.'!D33,\" - \",'2.1 PC Rec.'!E33)","v":" - "},{"$f":"CONCATENATE('2.1 PC Rec.'!G33,\" - \",'2.1 PC Rec.'!H33)","v":" - "},{"$f":"CONCATENATE('2.2 PC. Desp.'!A33,\" - \",'2.2 PC. Desp.'!B33)","v":"2.01.28 - "},{"$f":"CONCATENATE('2.2 PC. Desp.'!D33,\" - \",'2.2 PC. Desp.'!E33)","v":"2.02.28 - "},{"$f":"CONCATENATE('2.2 PC. Desp.'!G33,\" - \",'2.2 PC. Desp.'!H33)","v":"2.03.28 - "},{"$f":"CONCATENATE('2.2 PC. Desp.'!J33,\" - \",'2.2 PC. Desp.'!K33)","v":"2.04.28 - "},{"$f":"CONCATENATE('2.2 PC. Desp.'!M33,\" - \",'2.2 PC. Desp.'!N33)","v":"2.05.28 - "},{"$f":"CONCATENATE('2.2 PC. Desp.'!P33,\" - \",'2.2 PC. Desp.'!Q33)","v":"2.06.28 - "},{"$f":"CONCATENATE('2.2 PC. Desp.'!S33,\" - \",'2.2 PC. Desp.'!T33)","v":"2.07.28 - "},{"$f":"CONCATENATE('2.2 PC. Desp.'!V33,\" - \",'2.2 PC. Desp.'!W33)","v":"2.08.28 - "},{"$f":"CONCATENATE('2.2 PC. Desp.'!Y33,\" - \",'2.2 PC. Desp.'!Z33)","v":"2.09.28 - "},{"$f":"CONCATENATE('2.3 PC. Transf.'!A33,\" - \",'2.3 PC. Transf.'!B33)","v":" - "},{"$f":"CONCATENATE('2.3 PC. Transf.'!D33,\" - \",'2.3 PC. Transf.'!E33)","v":" - "}]
[{"$f":"CONCATENATE('2.1 PC Rec.'!A34,\" - \",'2.1 PC Rec.'!B34)","v":" - "},{"$f":"CONCATENATE('2.1 PC Rec.'!D34,\" - \",'2.1 PC Rec.'!E34)","v":" - "},{"$f":"CONCATENATE('2.1 PC Rec.'!G34,\" - \",'2.1 PC Rec.'!H34)","v":" - "},{"$f":"CONCATENATE('2.2 PC. Desp.'!A34,\" - \",'2.2 PC. Desp.'!B34)","v":"2.01.29 - "},{"$f":"CONCATENATE('2.2 PC. Desp.'!D34,\" - \",'2.2 PC. Desp.'!E34)","v":"2.02.29 - "},{"$f":"CONCATENATE('2.2 PC. Desp.'!G34,\" - \",'2.2 PC. Desp.'!H34)","v":"2.03.29 - "},{"$f":"CONCATENATE('2.2 PC. Desp.'!J34,\" - \",'2.2 PC. Desp.'!K34)","v":"2.04.29 - "},{"$f":"CONCATENATE('2.2 PC. Desp.'!M34,\" - \",'2.2 PC. Desp.'!N34)","v":"2.05.29 - "},{"$f":"CONCATENATE('2.2 PC. Desp.'!P34,\" - \",'2.2 PC. Desp.'!Q34)","v":"2.06.29 - "},{"$f":"CONCATENATE('2.2 PC. Desp.'!S34,\" - \",'2.2 PC. Desp.'!T34)","v":"2.07.29 - "},{"$f":"CONCATENATE('2.2 PC. Desp.'!V34,\" - \",'2.2 PC. Desp.'!W34)","v":"2.08.29 - "},{"$f":"CONCATENATE('2.2 PC. Desp.'!Y34,\" - \",'2.2 PC. Desp.'!Z34)","v":"2.09.29 - "},{"$f":"CONCATENATE('2.3 PC. Transf.'!A34,\" - \",'2.3 PC. Transf.'!B34)","v":" - "},{"$f":"CONCATENATE('2.3 PC. Transf.'!D34,\" - \",'2.3 PC. Transf.'!E34)","v":" - "}]
[{"$f":"CONCATENATE('2.1 PC Rec.'!A35,\" - \",'2.1 PC Rec.'!B35)","v":" - "},{"$f":"CONCATENATE('2.1 PC Rec.'!D35,\" - \",'2.1 PC Rec.'!E35)","v":" - "},{"$f":"CONCATENATE('2.1 PC Rec.'!G35,\" - \",'2.1 PC Rec.'!H35)","v":" - "},{"$f":"CONCATENATE('2.2 PC. Desp.'!A35,\" - \",'2.2 PC. Desp.'!B35)","v":"2.01.30 - "},{"$f":"CONCATENATE('2.2 PC. Desp.'!D35,\" - \",'2.2 PC. Desp.'!E35)","v":"2.02.30 - "},{"$f":"CONCATENATE('2.2 PC. Desp.'!G35,\" - \",'2.2 PC. Desp.'!H35)","v":"2.03.30 - "},{"$f":"CONCATENATE('2.2 PC. Desp.'!J35,\" - \",'2.2 PC. Desp.'!K35)","v":"2.04.30 - "},{"$f":"CONCATENATE('2.2 PC. Desp.'!M35,\" - \",'2.2 PC. Desp.'!N35)","v":"2.05.30 - "},{"$f":"CONCATENATE('2.2 PC. Desp.'!P35,\" - \",'2.2 PC. Desp.'!Q35)","v":"2.06.30 - "},{"$f":"CONCATENATE('2.2 PC. Desp.'!S35,\" - \",'2.2 PC. Desp.'!T35)","v":"2.07.30 - "},{"$f":"CONCATENATE('2.2 PC. Desp.'!V35,\" - \",'2.2 PC. Desp.'!W35)","v":"2.08.30 - "},{"$f":"CONCATENATE('2.2 PC. Desp.'!Y35,\" - \",'2.2 PC. Desp.'!Z35)","v":"2.09.30 - "},{"$f":"CONCATENATE('2.3 PC. Transf.'!A35,\" - \",'2.3 PC. Transf.'!B35)","v":" - "},{"$f":"CONCATENATE('2.3 PC. Transf.'!D35,\" - \",'2.3 PC. Transf.'!E35)","v":" - "}]
[{"$f":"CONCATENATE('2.1 PC Rec.'!A36,\" - \",'2.1 PC Rec.'!B36)","v":" - "},{"$f":"CONCATENATE('2.1 PC Rec.'!D36,\" - \",'2.1 PC Rec.'!E36)","v":" - "},{"$f":"CONCATENATE('2.1 PC Rec.'!G36,\" - \",'2.1 PC Rec.'!H36)","v":" - "},{"$f":"CONCATENATE('2.2 PC. Desp.'!A36,\" - \",'2.2 PC. Desp.'!B36)","v":" - "},{"$f":"CONCATENATE('2.2 PC. Desp.'!D36,\" - \",'2.2 PC. Desp.'!E36)","v":" - "},{"$f":"CONCATENATE('2.2 PC. Desp.'!G36,\" - \",'2.2 PC. Desp.'!H36)","v":" - "},{"$f":"CONCATENATE('2.2 PC. Desp.'!J36,\" - \",'2.2 PC. Desp.'!K36)","v":" - "},{"$f":"CONCATENATE('2.2 PC. Desp.'!M36,\" - \",'2.2 PC. Desp.'!N36)","v":" - "},{"$f":"CONCATENATE('2.2 PC. Desp.'!P36,\" - \",'2.2 PC. Desp.'!Q36)","v":" - "},{"$f":"CONCATENATE('2.2 PC. Desp.'!S36,\" - \",'2.2 PC. Desp.'!T36)","v":" - "},{"$f":"CONCATENATE('2.2 PC. Desp.'!V36,\" - \",'2.2 PC. Desp.'!W36)","v":" - "},{"$f":"CONCATENATE('2.2 PC. Desp.'!Y36,\" - \",'2.2 PC. Desp.'!Z36)","v":" - "},{"$f":"CONCATENATE('2.3 PC. Transf.'!A36,\" - \",'2.3 PC. Transf.'!B36)","v":" - "},{"$f":"CONCATENATE('2.3 PC. Transf.'!D36,\" - \",'2.3 PC. Transf.'!E36)","v":" - "}]
[{"$f":"CONCATENATE('2.1 PC Rec.'!A37,\" - \",'2.1 PC Rec.'!B37)","v":" - "},{"$f":"CONCATENATE('2.1 PC Rec.'!D37,\" - \",'2.1 PC Rec.'!E37)","v":" - "},{"$f":"CONCATENATE('2.1 PC Rec.'!G37,\" - \",'2.1 PC Rec.'!H37)","v":" - "},{"$f":"CONCATENATE('2.2 PC. Desp.'!A37,\" - \",'2.2 PC. Desp.'!B37)","v":" - "},{"$f":"CONCATENATE('2.2 PC. Desp.'!D37,\" - \",'2.2 PC. Desp.'!E37)","v":" - "},{"$f":"CONCATENATE('2.2 PC. Desp.'!G37,\" - \",'2.2 PC. Desp.'!H37)","v":" - "},{"$f":"CONCATENATE('2.2 PC. Desp.'!J37,\" - \",'2.2 PC. Desp.'!K37)","v":" - "},{"$f":"CONCATENATE('2.2 PC. Desp.'!M37,\" - \",'2.2 PC. Desp.'!N37)","v":" - "},{"$f":"CONCATENATE('2.2 PC. Desp.'!P37,\" - \",'2.2 PC. Desp.'!Q37)","v":" - "},{"$f":"CONCATENATE('2.2 PC. Desp.'!S37,\" - \",'2.2 PC. Desp.'!T37)","v":" - "},{"$f":"CONCATENATE('2.2 PC. Desp.'!V37,\" - \",'2.2 PC. Desp.'!W37)","v":" - "},{"$f":"CONCATENATE('2.2 PC. Desp.'!Y37,\" - \",'2.2 PC. Desp.'!Z37)","v":" - "},{"$f":"CONCATENATE('2.3 PC. Transf.'!A37,\" - \",'2.3 PC. Transf.'!B37)","v":" - "},{"$f":"CONCATENATE('2.3 PC. Transf.'!D37,\" - \",'2.3 PC. Transf.'!E37)","v":" - "}]
[{"$f":"CONCATENATE('2.1 PC Rec.'!A38,\" - \",'2.1 PC Rec.'!B38)","v":" - "},{"$f":"CONCATENATE('2.1 PC Rec.'!D38,\" - \",'2.1 PC Rec.'!E38)","v":" - "},{"$f":"CONCATENATE('2.1 PC Rec.'!G38,\" - \",'2.1 PC Rec.'!H38)","v":" - "},{"$f":"CONCATENATE('2.2 PC. Desp.'!A38,\" - \",'2.2 PC. Desp.'!B38)","v":" - "},{"$f":"CONCATENATE('2.2 PC. Desp.'!D38,\" - \",'2.2 PC. Desp.'!E38)","v":" - "},{"$f":"CONCATENATE('2.2 PC. Desp.'!G38,\" - \",'2.2 PC. Desp.'!H38)","v":" - "},{"$f":"CONCATENATE('2.2 PC. Desp.'!J38,\" - \",'2.2 PC. Desp.'!K38)","v":" - "},{"$f":"CONCATENATE('2.2 PC. Desp.'!M38,\" - \",'2.2 PC. Desp.'!N38)","v":" - "},{"$f":"CONCATENATE('2.2 PC. Desp.'!P38,\" - \",'2.2 PC. Desp.'!Q38)","v":" - "},{"$f":"CONCATENATE('2.2 PC. Desp.'!S38,\" - \",'2.2 PC. Desp.'!T38)","v":" - "},{"$f":"CONCATENATE('2.2 PC. Desp.'!V38,\" - \",'2.2 PC. Desp.'!W38)","v":" - "},{"$f":"CONCATENATE('2.2 PC. Desp.'!Y38,\" - \",'2.2 PC. Desp.'!Z38)","v":" - "},{"$f":"CONCATENATE('2.3 PC. Transf.'!A38,\" - \",'2.3 PC. Transf.'!B38)","v":" - "},{"$f":"CONCATENATE('2.3 PC. Transf.'!D38,\" - \",'2.3 PC. Transf.'!E38)","v":" - "}]
[{"$f":"CONCATENATE('2.1 PC Rec.'!A39,\" - \",'2.1 PC Rec.'!B39)","v":" - "},{"$f":"CONCATENATE('2.1 PC Rec.'!D39,\" - \",'2.1 PC Rec.'!E39)","v":" - "},{"$f":"CONCATENATE('2.1 PC Rec.'!G39,\" - \",'2.1 PC Rec.'!H39)","v":" - "},{"$f":"CONCATENATE('2.2 PC. Desp.'!A39,\" - \",'2.2 PC. Desp.'!B39)","v":" - "},{"$f":"CONCATENATE('2.2 PC. Desp.'!D39,\" - \",'2.2 PC. Desp.'!E39)","v":" - "},{"$f":"CONCATENATE('2.2 PC. Desp.'!G39,\" - \",'2.2 PC. Desp.'!H39)","v":" - "},{"$f":"CONCATENATE('2.2 PC. Desp.'!J39,\" - \",'2.2 PC. Desp.'!K39)","v":" - "},{"$f":"CONCATENATE('2.2 PC. Desp.'!M39,\" - \",'2.2 PC. Desp.'!N39)","v":" - "},{"$f":"CONCATENATE('2.2 PC. Desp.'!P39,\" - \",'2.2 PC. Desp.'!Q39)","v":" - "},{"$f":"CONCATENATE('2.2 PC. Desp.'!S39,\" - \",'2.2 PC. Desp.'!T39)","v":" - "},{"$f":"CONCATENATE('2.2 PC. Desp.'!V39,\" - \",'2.2 PC. Desp.'!W39)","v":" - "},{"$f":"CONCATENATE('2.2 PC. Desp.'!Y39,\" - \",'2.2 PC. Desp.'!Z39)","v":" - "},{"$f":"CONCATENATE('2.3 PC. Transf.'!A39,\" - \",'2.3 PC. Transf.'!B39)","v":" - "},{"$f":"CONCATENATE('2.3 PC. Transf.'!D39,\" - \",'2.3 PC. Transf.'!E39)","v":" - "}]
[{"$f":"CONCATENATE('2.1 PC Rec.'!A40,\" - \",'2.1 PC Rec.'!B40)","v":" - "},{"$f":"CONCATENATE('2.1 PC Rec.'!D40,\" - \",'2.1 PC Rec.'!E40)","v":" - "},{"$f":"CONCATENATE('2.1 PC Rec.'!G40,\" - \",'2.1 PC Rec.'!H40)","v":" - "},{"$f":"CONCATENATE('2.2 PC. Desp.'!A40,\" - \",'2.2 PC. Desp.'!B40)","v":" - "},{"$f":"CONCATENATE('2.2 PC. Desp.'!D40,\" - \",'2.2 PC. Desp.'!E40)","v":" - "},{"$f":"CONCATENATE('2.2 PC. Desp.'!G40,\" - \",'2.2 PC. Desp.'!H40)","v":" - "},{"$f":"CONCATENATE('2.2 PC. Desp.'!J40,\" - \",'2.2 PC. Desp.'!K40)","v":" - "},{"$f":"CONCATENATE('2.2 PC. Desp.'!M40,\" - \",'2.2 PC. Desp.'!N40)","v":" - "},{"$f":"CONCATENATE('2.2 PC. Desp.'!P40,\" - \",'2.2 PC. Desp.'!Q40)","v":" - "},{"$f":"CONCATENATE('2.2 PC. Desp.'!S40,\" - \",'2.2 PC. Desp.'!T40)","v":" - "},{"$f":"CONCATENATE('2.2 PC. Desp.'!V40,\" - \",'2.2 PC. Desp.'!W40)","v":" - "},{"$f":"CONCATENATE('2.2 PC. Desp.'!Y40,\" - \",'2.2 PC. Desp.'!Z40)","v":" - "},{"$f":"CONCATENATE('2.3 PC. Transf.'!A40,\" - \",'2.3 PC. Transf.'!B40)","v":" - "},{"$f":"CONCATENATE('2.3 PC. Transf.'!D40,\" - \",'2.3 PC. Transf.'!E40)","v":" - "}]
[{"$f":"CONCATENATE('2.1 PC Rec.'!A41,\" - \",'2.1 PC Rec.'!B41)","v":" - "},{"$f":"CONCATENATE('2.1 PC Rec.'!D41,\" - \",'2.1 PC Rec.'!E41)","v":" - "},{"$f":"CONCATENATE('2.1 PC Rec.'!G41,\" - \",'2.1 PC Rec.'!H41)","v":" - "},{"$f":"CONCATENATE('2.2 PC. Desp.'!A41,\" - \",'2.2 PC. Desp.'!B41)","v":" - "},{"$f":"CONCATENATE('2.2 PC. Desp.'!D41,\" - \",'2.2 PC. Desp.'!E41)","v":" - "},{"$f":"CONCATENATE('2.2 PC. Desp.'!G41,\" - \",'2.2 PC. Desp.'!H41)","v":" - "},{"$f":"CONCATENATE('2.2 PC. Desp.'!J41,\" - \",'2.2 PC. Desp.'!K41)","v":" - "},{"$f":"CONCATENATE('2.2 PC. Desp.'!M41,\" - \",'2.2 PC. Desp.'!N41)","v":" - "},{"$f":"CONCATENATE('2.2 PC. Desp.'!P41,\" - \",'2.2 PC. Desp.'!Q41)","v":" - "},{"$f":"CONCATENATE('2.2 PC. Desp.'!S41,\" - \",'2.2 PC. Desp.'!T41)","v":" - "},{"$f":"CONCATENATE('2.2 PC. Desp.'!V41,\" - \",'2.2 PC. Desp.'!W41)","v":" - "},{"$f":"CONCATENATE('2.2 PC. Desp.'!Y41,\" - \",'2.2 PC. Desp.'!Z41)","v":" - "},{"$f":"CONCATENATE('2.3 PC. Transf.'!A41,\" - \",'2.3 PC. Transf.'!B41)","v":" - "},{"$f":"CONCATENATE('2.3 PC. Transf.'!D41,\" - \",'2.3 PC. Transf.'!E41)","v":" - "}]
[{"$f":"CONCATENATE('2.1 PC Rec.'!A42,\" - \",'2.1 PC Rec.'!B42)","v":" - "},{"$f":"CONCATENATE('2.1 PC Rec.'!D42,\" - \",'2.1 PC Rec.'!E42)","v":" - "},{"$f":"CONCATENATE('2.1 PC Rec.'!G42,\" - \",'2.1 PC Rec.'!H42)","v":" - "},{"$f":"CONCATENATE('2.2 PC. Desp.'!A42,\" - \",'2.2 PC. Desp.'!B42)","v":" - "},{"$f":"CONCATENATE('2.2 PC. Desp.'!D42,\" - \",'2.2 PC. Desp.'!E42)","v":" - "},{"$f":"CONCATENATE('2.2 PC. Desp.'!G42,\" - \",'2.2 PC. Desp.'!H42)","v":" - "},{"$f":"CONCATENATE('2.2 PC. Desp.'!J42,\" - \",'2.2 PC. Desp.'!K42)","v":" - "},{"$f":"CONCATENATE('2.2 PC. Desp.'!M42,\" - \",'2.2 PC. Desp.'!N42)","v":" - "},{"$f":"CONCATENATE('2.2 PC. Desp.'!P42,\" - \",'2.2 PC. Desp.'!Q42)","v":" - "},{"$f":"CONCATENATE('2.2 PC. Desp.'!S42,\" - \",'2.2 PC. Desp.'!T42)","v":" - "},{"$f":"CONCATENATE('2.2 PC. Desp.'!V42,\" - \",'2.2 PC. Desp.'!W42)","v":" - "},{"$f":"CONCATENATE('2.2 PC. Desp.'!Y42,\" - \",'2.2 PC. Desp.'!Z42)","v":" - "},{"$f":"CONCATENATE('2.3 PC. Transf.'!A42,\" - \",'2.3 PC. Transf.'!B42)","v":" - "},{"$f":"CONCATENATE('2.3 PC. Transf.'!D42,\" - \",'2.3 PC. Transf.'!E42)","v":" - "}]
[{"$f":"CONCATENATE('2.1 PC Rec.'!A43,\" - \",'2.1 PC Rec.'!B43)","v":" - "},{"$f":"CONCATENATE('2.1 PC Rec.'!D43,\" - \",'2.1 PC Rec.'!E43)","v":" - "},{"$f":"CONCATENATE('2.1 PC Rec.'!G43,\" - \",'2.1 PC Rec.'!H43)","v":" - "},{"$f":"CONCATENATE('2.2 PC. Desp.'!A43,\" - \",'2.2 PC. Desp.'!B43)","v":" - "},{"$f":"CONCATENATE('2.2 PC. Desp.'!D43,\" - \",'2.2 PC. Desp.'!E43)","v":" - "},{"$f":"CONCATENATE('2.2 PC. Desp.'!G43,\" - \",'2.2 PC. Desp.'!H43)","v":" - "},{"$f":"CONCATENATE('2.2 PC. Desp.'!J43,\" - \",'2.2 PC. Desp.'!K43)","v":" - "},{"$f":"CONCATENATE('2.2 PC. Desp.'!M43,\" - \",'2.2 PC. Desp.'!N43)","v":" - "},{"$f":"CONCATENATE('2.2 PC. Desp.'!P43,\" - \",'2.2 PC. Desp.'!Q43)","v":" - "},{"$f":"CONCATENATE('2.2 PC. Desp.'!S43,\" - \",'2.2 PC. Desp.'!T43)","v":" - "},{"$f":"CONCATENATE('2.2 PC. Desp.'!V43,\" - \",'2.2 PC. Desp.'!W43)","v":" - "},{"$f":"CONCATENATE('2.2 PC. Desp.'!Y43,\" - \",'2.2 PC. Desp.'!Z43)","v":" - "},{"$f":"CONCATENATE('2.3 PC. Transf.'!A43,\" - \",'2.3 PC. Transf.'!B43)","v":" - "},{"$f":"CONCATENATE('2.3 PC. Transf.'!D43,\" - \",'2.3 PC. Transf.'!E43)","v":" - "}]
[{"$f":"CONCATENATE('2.1 PC Rec.'!A44,\" - \",'2.1 PC Rec.'!B44)","v":" - "},{"$f":"CONCATENATE('2.1 PC Rec.'!D44,\" - \",'2.1 PC Rec.'!E44)","v":" - "},{"$f":"CONCATENATE('2.1 PC Rec.'!G44,\" - \",'2.1 PC Rec.'!H44)","v":" - "},{"$f":"CONCATENATE('2.2 PC. Desp.'!A44,\" - \",'2.2 PC. Desp.'!B44)","v":" - "},{"$f":"CONCATENATE('2.2 PC. Desp.'!D44,\" - \",'2.2 PC. Desp.'!E44)","v":" - "},{"$f":"CONCATENATE('2.2 PC. Desp.'!G44,\" - \",'2.2 PC. Desp.'!H44)","v":" - "},{"$f":"CONCATENATE('2.2 PC. Desp.'!J44,\" - \",'2.2 PC. Desp.'!K44)","v":" - "},{"$f":"CONCATENATE('2.2 PC. Desp.'!M44,\" - \",'2.2 PC. Desp.'!N44)","v":" - "},{"$f":"CONCATENATE('2.2 PC. Desp.'!P44,\" - \",'2.2 PC. Desp.'!Q44)","v":" - "},{"$f":"CONCATENATE('2.2 PC. Desp.'!S44,\" - \",'2.2 PC. Desp.'!T44)","v":" - "},{"$f":"CONCATENATE('2.2 PC. Desp.'!V44,\" - \",'2.2 PC. Desp.'!W44)","v":" - "},{"$f":"CONCATENATE('2.2 PC. Desp.'!Y44,\" - \",'2.2 PC. Desp.'!Z44)","v":" - "},{"$f":"CONCATENATE('2.3 PC. Transf.'!A44,\" - \",'2.3 PC. Transf.'!B44)","v":" - "},{"$f":"CONCATENATE('2.3 PC. Transf.'!D44,\" - \",'2.3 PC. Transf.'!E44)","v":" - "}]
[{"$f":"CONCATENATE('2.1 PC Rec.'!A45,\" - \",'2.1 PC Rec.'!B45)","v":" - "},{"$f":"CONCATENATE('2.1 PC Rec.'!D45,\" - \",'2.1 PC Rec.'!E45)","v":" - "},{"$f":"CONCATENATE('2.1 PC Rec.'!G45,\" - \",'2.1 PC Rec.'!H45)","v":" - "},{"$f":"CONCATENATE('2.2 PC. Desp.'!A45,\" - \",'2.2 PC. Desp.'!B45)","v":" - "},{"$f":"CONCATENATE('2.2 PC. Desp.'!D45,\" - \",'2.2 PC. Desp.'!E45)","v":" - "},{"$f":"CONCATENATE('2.2 PC. Desp.'!G45,\" - \",'2.2 PC. Desp.'!H45)","v":" - "},{"$f":"CONCATENATE('2.2 PC. Desp.'!J45,\" - \",'2.2 PC. Desp.'!K45)","v":" - "},{"$f":"CONCATENATE('2.2 PC. Desp.'!M45,\" - \",'2.2 PC. Desp.'!N45)","v":" - "},{"$f":"CONCATENATE('2.2 PC. Desp.'!P45,\" - \",'2.2 PC. Desp.'!Q45)","v":" - "},{"$f":"CONCATENATE('2.2 PC. Desp.'!S45,\" - \",'2.2 PC. Desp.'!T45)","v":" - "},{"$f":"CONCATENATE('2.2 PC. Desp.'!V45,\" - \",'2.2 PC. Desp.'!W45)","v":" - "},{"$f":"CONCATENATE('2.2 PC. Desp.'!Y45,\" - \",'2.2 PC. Desp.'!Z45)","v":" - "},{"$f":"CONCATENATE('2.3 PC. Transf.'!A45,\" - \",'2.3 PC. Transf.'!B45)","v":" - "},{"$f":"CONCATENATE('2.3 PC. Transf.'!D45,\" - \",'2.3 PC. Transf.'!E45)","v":" - "}]
[{"$f":"CONCATENATE('2.1 PC Rec.'!A46,\" - \",'2.1 PC Rec.'!B46)","v":" - "},{"$f":"CONCATENATE('2.1 PC Rec.'!D46,\" - \",'2.1 PC Rec.'!E46)","v":" - "},{"$f":"CONCATENATE('2.1 PC Rec.'!G46,\" - \",'2.1 PC Rec.'!H46)","v":" - "},{"$f":"CONCATENATE('2.2 PC. Desp.'!A46,\" - \",'2.2 PC. Desp.'!B46)","v":" - "},{"$f":"CONCATENATE('2.2 PC. Desp.'!D46,\" - \",'2.2 PC. Desp.'!E46)","v":" - "},{"$f":"CONCATENATE('2.2 PC. Desp.'!G46,\" - \",'2.2 PC. Desp.'!H46)","v":" - "},{"$f":"CONCATENATE('2.2 PC. Desp.'!J46,\" - \",'2.2 PC. Desp.'!K46)","v":" - "},{"$f":"CONCATENATE('2.2 PC. Desp.'!M46,\" - \",'2.2 PC. Desp.'!N46)","v":" - "},{"$f":"CONCATENATE('2.2 PC. Desp.'!P46,\" - \",'2.2 PC. Desp.'!Q46)","v":" - "},{"$f":"CONCATENATE('2.2 PC. Desp.'!S46,\" - \",'2.2 PC. Desp.'!T46)","v":" - "},{"$f":"CONCATENATE('2.2 PC. Desp.'!V46,\" - \",'2.2 PC. Desp.'!W46)","v":" - "},{"$f":"CONCATENATE('2.2 PC. Desp.'!Y46,\" - \",'2.2 PC. Desp.'!Z46)","v":" - "},{"$f":"CONCATENATE('2.3 PC. Transf.'!A46,\" - \",'2.3 PC. Transf.'!B46)","v":" - "},{"$f":"CONCATENATE('2.3 PC. Transf.'!D46,\" - \",'2.3 PC. Transf.'!E46)","v":" - "}]
[{"$f":"CONCATENATE('2.1 PC Rec.'!A47,\" - \",'2.1 PC Rec.'!B47)","v":" - "},{"$f":"CONCATENATE('2.1 PC Rec.'!D47,\" - \",'2.1 PC Rec.'!E47)","v":" - "},{"$f":"CONCATENATE('2.1 PC Rec.'!G47,\" - \",'2.1 PC Rec.'!H47)","v":" - "},{"$f":"CONCATENATE('2.2 PC. Desp.'!A47,\" - \",'2.2 PC. Desp.'!B47)","v":" - "},{"$f":"CONCATENATE('2.2 PC. Desp.'!D47,\" - \",'2.2 PC. Desp.'!E47)","v":" - "},{"$f":"CONCATENATE('2.2 PC. Desp.'!G47,\" - \",'2.2 PC. Desp.'!H47)","v":" - "},{"$f":"CONCATENATE('2.2 PC. Desp.'!J47,\" - \",'2.2 PC. Desp.'!K47)","v":" - "},{"$f":"CONCATENATE('2.2 PC. Desp.'!M47,\" - \",'2.2 PC. Desp.'!N47)","v":" - "},{"$f":"CONCATENATE('2.2 PC. Desp.'!P47,\" - \",'2.2 PC. Desp.'!Q47)","v":" - "},{"$f":"CONCATENATE('2.2 PC. Desp.'!S47,\" - \",'2.2 PC. Desp.'!T47)","v":" - "},{"$f":"CONCATENATE('2.2 PC. Desp.'!V47,\" - \",'2.2 PC. Desp.'!W47)","v":" - "},{"$f":"CONCATENATE('2.2 PC. Desp.'!Y47,\" - \",'2.2 PC. Desp.'!Z47)","v":" - "},{"$f":"CONCATENATE('2.3 PC. Transf.'!A47,\" - \",'2.3 PC. Transf.'!B47)","v":" - "},{"$f":"CONCATENATE('2.3 PC. Transf.'!D47,\" - \",'2.3 PC. Transf.'!E47)","v":" - "}]
[{"$f":"CONCATENATE('2.1 PC Rec.'!A48,\" - \",'2.1 PC Rec.'!B48)","v":" - "},{"$f":"CONCATENATE('2.1 PC Rec.'!D48,\" - \",'2.1 PC Rec.'!E48)","v":" - "},{"$f":"CONCATENATE('2.1 PC Rec.'!G48,\" - \",'2.1 PC Rec.'!H48)","v":" - "},{"$f":"CONCATENATE('2.2 PC. Desp.'!A48,\" - \",'2.2 PC. Desp.'!B48)","v":" - "},{"$f":"CONCATENATE('2.2 PC. Desp.'!D48,\" - \",'2.2 PC. Desp.'!E48)","v":" - "},{"$f":"CONCATENATE('2.2 PC. Desp.'!G48,\" - \",'2.2 PC. Desp.'!H48)","v":" - "},{"$f":"CONCATENATE('2.2 PC. Desp.'!J48,\" - \",'2.2 PC. Desp.'!K48)","v":" - "},{"$f":"CONCATENATE('2.2 PC. Desp.'!M48,\" - \",'2.2 PC. Desp.'!N48)","v":" - "},{"$f":"CONCATENATE('2.2 PC. Desp.'!P48,\" - \",'2.2 PC. Desp.'!Q48)","v":" - "},{"$f":"CONCATENATE('2.2 PC. Desp.'!S48,\" - \",'2.2 PC. Desp.'!T48)","v":" - "},{"$f":"CONCATENATE('2.2 PC. Desp.'!V48,\" - \",'2.2 PC. Desp.'!W48)","v":" - "},{"$f":"CONCATENATE('2.2 PC. Desp.'!Y48,\" - \",'2.2 PC. Desp.'!Z48)","v":" - "},{"$f":"CONCATENATE('2.3 PC. Transf.'!A48,\" - \",'2.3 PC. Transf.'!B48)","v":" - "},{"$f":"CONCATENATE('2.3 PC. Transf.'!D48,\" - \",'2.3 PC. Transf.'!E48)","v":" - "}]
[{"$f":"CONCATENATE('2.1 PC Rec.'!A49,\" - \",'2.1 PC Rec.'!B49)","v":" - "},{"$f":"CONCATENATE('2.1 PC Rec.'!D49,\" - \",'2.1 PC Rec.'!E49)","v":" - "},{"$f":"CONCATENATE('2.1 PC Rec.'!G49,\" - \",'2.1 PC Rec.'!H49)","v":" - "},{"$f":"CONCATENATE('2.2 PC. Desp.'!A49,\" - \",'2.2 PC. Desp.'!B49)","v":" - "},{"$f":"CONCATENATE('2.2 PC. Desp.'!D49,\" - \",'2.2 PC. Desp.'!E49)","v":" - "},{"$f":"CONCATENATE('2.2 PC. Desp.'!G49,\" - \",'2.2 PC. Desp.'!H49)","v":" - "},{"$f":"CONCATENATE('2.2 PC. Desp.'!J49,\" - \",'2.2 PC. Desp.'!K49)","v":" - "},{"$f":"CONCATENATE('2.2 PC. Desp.'!M49,\" - \",'2.2 PC. Desp.'!N49)","v":" - "},{"$f":"CONCATENATE('2.2 PC. Desp.'!P49,\" - \",'2.2 PC. Desp.'!Q49)","v":" - "},{"$f":"CONCATENATE('2.2 PC. Desp.'!S49,\" - \",'2.2 PC. Desp.'!T49)","v":" - "},{"$f":"CONCATENATE('2.2 PC. Desp.'!V49,\" - \",'2.2 PC. Desp.'!W49)","v":" - "},{"$f":"CONCATENATE('2.2 PC. Desp.'!Y49,\" - \",'2.2 PC. Desp.'!Z49)","v":" - "},{"$f":"CONCATENATE('2.3 PC. Transf.'!A49,\" - \",'2.3 PC. Transf.'!B49)","v":" - "},{"$f":"CONCATENATE('2.3 PC. Transf.'!D49,\" - \",'2.3 PC. Transf.'!E49)","v":" - "}]
[{"$f":"CONCATENATE('2.1 PC Rec.'!A50,\" - \",'2.1 PC Rec.'!B50)","v":" - "},{"$f":"CONCATENATE('2.1 PC Rec.'!D50,\" - \",'2.1 PC Rec.'!E50)","v":" - "},{"$f":"CONCATENATE('2.1 PC Rec.'!G50,\" - \",'2.1 PC Rec.'!H50)","v":" - "},{"$f":"CONCATENATE('2.2 PC. Desp.'!A50,\" - \",'2.2 PC. Desp.'!B50)","v":" - "},{"$f":"CONCATENATE('2.2 PC. Desp.'!D50,\" - \",'2.2 PC. Desp.'!E50)","v":" - "},{"$f":"CONCATENATE('2.2 PC. Desp.'!G50,\" - \",'2.2 PC. Desp.'!H50)","v":" - "},{"$f":"CONCATENATE('2.2 PC. Desp.'!J50,\" - \",'2.2 PC. Desp.'!K50)","v":" - "},{"$f":"CONCATENATE('2.2 PC. Desp.'!M50,\" - \",'2.2 PC. Desp.'!N50)","v":" - "},{"$f":"CONCATENATE('2.2 PC. Desp.'!P50,\" - \",'2.2 PC. Desp.'!Q50)","v":" - "},{"$f":"CONCATENATE('2.2 PC. Desp.'!S50,\" - \",'2.2 PC. Desp.'!T50)","v":" - "},{"$f":"CONCATENATE('2.2 PC. Desp.'!V50,\" - \",'2.2 PC. Desp.'!W50)","v":" - "},{"$f":"CONCATENATE('2.2 PC. Desp.'!Y50,\" - \",'2.2 PC. Desp.'!Z50)","v":" - "},{"$f":"CONCATENATE('2.3 PC. Transf.'!A50,\" - \",'2.3 PC. Transf.'!B50)","v":" - "},{"$f":"CONCATENATE('2.3 PC. Transf.'!D50,\" - \",'2.3 PC. Transf.'!E50)","v":" - "}]
[{"$f":"CONCATENATE('2.1 PC Rec.'!A51,\" - \",'2.1 PC Rec.'!B51)","v":" - "},{"$f":"CONCATENATE('2.1 PC Rec.'!D51,\" - \",'2.1 PC Rec.'!E51)","v":" - "},{"$f":"CONCATENATE('2.1 PC Rec.'!G51,\" - \",'2.1 PC Rec.'!H51)","v":" - "},{"$f":"CONCATENATE('2.2 PC. Desp.'!A51,\" - \",'2.2 PC. Desp.'!B51)","v":" - "},{"$f":"CONCATENATE('2.2 PC. Desp.'!D51,\" - \",'2.2 PC. Desp.'!E51)","v":" - "},{"$f":"CONCATENATE('2.2 PC. Desp.'!G51,\" - \",'2.2 PC. Desp.'!H51)","v":" - "},{"$f":"CONCATENATE('2.2 PC. Desp.'!J51,\" - \",'2.2 PC. Desp.'!K51)","v":" - "},{"$f":"CONCATENATE('2.2 PC. Desp.'!M51,\" - \",'2.2 PC. Desp.'!N51)","v":" - "},{"$f":"CONCATENATE('2.2 PC. Desp.'!P51,\" - \",'2.2 PC. Desp.'!Q51)","v":" - "},{"$f":"CONCATENATE('2.2 PC. Desp.'!S51,\" - \",'2.2 PC. Desp.'!T51)","v":" - "},{"$f":"CONCATENATE('2.2 PC. Desp.'!V51,\" - \",'2.2 PC. Desp.'!W51)","v":" - "},{"$f":"CONCATENATE('2.2 PC. Desp.'!Y51,\" - \",'2.2 PC. Desp.'!Z51)","v":" - "},{"$f":"CONCATENATE('2.3 PC. Transf.'!A51,\" - \",'2.3 PC. Transf.'!B51)","v":" - "},{"$f":"CONCATENATE('2.3 PC. Transf.'!D51,\" - \",'2.3 PC. Transf.'!E51)","v":" - "}]
[{"$f":"CONCATENATE('2.1 PC Rec.'!A52,\" - \",'2.1 PC Rec.'!B52)","v":" - "},{"$f":"CONCATENATE('2.1 PC Rec.'!D52,\" - \",'2.1 PC Rec.'!E52)","v":" - "},{"$f":"CONCATENATE('2.1 PC Rec.'!G52,\" - \",'2.1 PC Rec.'!H52)","v":" - "},{"$f":"CONCATENATE('2.2 PC. Desp.'!A52,\" - \",'2.2 PC. Desp.'!B52)","v":" - "},{"$f":"CONCATENATE('2.2 PC. Desp.'!D52,\" - \",'2.2 PC. Desp.'!E52)","v":" - "},{"$f":"CONCATENATE('2.2 PC. Desp.'!G52,\" - \",'2.2 PC. Desp.'!H52)","v":" - "},{"$f":"CONCATENATE('2.2 PC. Desp.'!J52,\" - \",'2.2 PC. Desp.'!K52)","v":" - "},{"$f":"CONCATENATE('2.2 PC. Desp.'!M52,\" - \",'2.2 PC. Desp.'!N52)","v":" - "},{"$f":"CONCATENATE('2.2 PC. Desp.'!P52,\" - \",'2.2 PC. Desp.'!Q52)","v":" - "},{"$f":"CONCATENATE('2.2 PC. Desp.'!S52,\" - \",'2.2 PC. Desp.'!T52)","v":" - "},{"$f":"CONCATENATE('2.2 PC. Desp.'!V52,\" - \",'2.2 PC. Desp.'!W52)","v":" - "},{"$f":"CONCATENATE('2.2 PC. Desp.'!Y52,\" - \",'2.2 PC. Desp.'!Z52)","v":" - "},{"$f":"CONCATENATE('2.3 PC. Transf.'!A52,\" - \",'2.3 PC. Transf.'!B52)","v":" - "},{"$f":"CONCATENATE('2.3 PC. Transf.'!D52,\" - \",'2.3 PC. Transf.'!E52)","v":" - "}]
[{"$f":"CONCATENATE('2.1 PC Rec.'!A53,\" - \",'2.1 PC Rec.'!B53)","v":" - "},{"$f":"CONCATENATE('2.1 PC Rec.'!D53,\" - \",'2.1 PC Rec.'!E53)","v":" - "},{"$f":"CONCATENATE('2.1 PC Rec.'!G53,\" - \",'2.1 PC Rec.'!H53)","v":" - "},{"$f":"CONCATENATE('2.2 PC. Desp.'!A53,\" - \",'2.2 PC. Desp.'!B53)","v":" - "},{"$f":"CONCATENATE('2.2 PC. Desp.'!D53,\" - \",'2.2 PC. Desp.'!E53)","v":" - "},{"$f":"CONCATENATE('2.2 PC. Desp.'!G53,\" - \",'2.2 PC. Desp.'!H53)","v":" - "},{"$f":"CONCATENATE('2.2 PC. Desp.'!J53,\" - \",'2.2 PC. Desp.'!K53)","v":" - "},{"$f":"CONCATENATE('2.2 PC. Desp.'!M53,\" - \",'2.2 PC. Desp.'!N53)","v":" - "},{"$f":"CONCATENATE('2.2 PC. Desp.'!P53,\" - \",'2.2 PC. Desp.'!Q53)","v":" - "},{"$f":"CONCATENATE('2.2 PC. Desp.'!S53,\" - \",'2.2 PC. Desp.'!T53)","v":" - "},{"$f":"CONCATENATE('2.2 PC. Desp.'!V53,\" - \",'2.2 PC. Desp.'!W53)","v":" - "},{"$f":"CONCATENATE('2.2 PC. Desp.'!Y53,\" - \",'2.2 PC. Desp.'!Z53)","v":" - "},{"$f":"CONCATENATE('2.3 PC. Transf.'!A53,\" - \",'2.3 PC. Transf.'!B53)","v":" - "},{"$f":"CONCATENATE('2.3 PC. Transf.'!D53,\" - \",'2.3 PC. Transf.'!E53)","v":" - "}]
[{"$f":"CONCATENATE('2.1 PC Rec.'!A54,\" - \",'2.1 PC Rec.'!B54)","v":" - "},{"$f":"CONCATENATE('2.1 PC Rec.'!D54,\" - \",'2.1 PC Rec.'!E54)","v":" - "},{"$f":"CONCATENATE('2.1 PC Rec.'!G54,\" - \",'2.1 PC Rec.'!H54)","v":" - "},{"$f":"CONCATENATE('2.2 PC. Desp.'!A54,\" - \",'2.2 PC. Desp.'!B54)","v":" - "},{"$f":"CONCATENATE('2.2 PC. Desp.'!D54,\" - \",'2.2 PC. Desp.'!E54)","v":" - "},{"$f":"CONCATENATE('2.2 PC. Desp.'!G54,\" - \",'2.2 PC. Desp.'!H54)","v":" - "},{"$f":"CONCATENATE('2.2 PC. Desp.'!J54,\" - \",'2.2 PC. Desp.'!K54)","v":" - "},{"$f":"CONCATENATE('2.2 PC. Desp.'!M54,\" - \",'2.2 PC. Desp.'!N54)","v":" - "},{"$f":"CONCATENATE('2.2 PC. Desp.'!P54,\" - \",'2.2 PC. Desp.'!Q54)","v":" - "},{"$f":"CONCATENATE('2.2 PC. Desp.'!S54,\" - \",'2.2 PC. Desp.'!T54)","v":" - "},{"$f":"CONCATENATE('2.2 PC. Desp.'!V54,\" - \",'2.2 PC. Desp.'!W54)","v":" - "},{"$f":"CONCATENATE('2.2 PC. Desp.'!Y54,\" - \",'2.2 PC. Desp.'!Z54)","v":" - "},{"$f":"CONCATENATE('2.3 PC. Transf.'!A54,\" - \",'2.3 PC. Transf.'!B54)","v":" - "},{"$f":"CONCATENATE('2.3 PC. Transf.'!D54,\" - \",'2.3 PC. Transf.'!E54)","v":" - "}]
[{"$f":"CONCATENATE('2.1 PC Rec.'!A55,\" - \",'2.1 PC Rec.'!B55)","v":" - "},{"$f":"CONCATENATE('2.1 PC Rec.'!D55,\" - \",'2.1 PC Rec.'!E55)","v":" - "},{"$f":"CONCATENATE('2.1 PC Rec.'!G55,\" - \",'2.1 PC Rec.'!H55)","v":" - "},{"$f":"CONCATENATE('2.2 PC. Desp.'!A55,\" - \",'2.2 PC. Desp.'!B55)","v":" - "},{"$f":"CONCATENATE('2.2 PC. Desp.'!D55,\" - \",'2.2 PC. Desp.'!E55)","v":" - "},{"$f":"CONCATENATE('2.2 PC. Desp.'!G55,\" - \",'2.2 PC. Desp.'!H55)","v":" - "},{"$f":"CONCATENATE('2.2 PC. Desp.'!J55,\" - \",'2.2 PC. Desp.'!K55)","v":" - "},{"$f":"CONCATENATE('2.2 PC. Desp.'!M55,\" - \",'2.2 PC. Desp.'!N55)","v":" - "},{"$f":"CONCATENATE('2.2 PC. Desp.'!P55,\" - \",'2.2 PC. Desp.'!Q55)","v":" - "},{"$f":"CONCATENATE('2.2 PC. Desp.'!S55,\" - \",'2.2 PC. Desp.'!T55)","v":" - "},{"$f":"CONCATENATE('2.2 PC. Desp.'!V55,\" - \",'2.2 PC. Desp.'!W55)","v":" - "},{"$f":"CONCATENATE('2.2 PC. Desp.'!Y55,\" - \",'2.2 PC. Desp.'!Z55)","v":" - "},{"$f":"CONCATENATE('2.3 PC. Transf.'!A55,\" - \",'2.3 PC. Transf.'!B55)","v":" - "},{"$f":"CONCATENATE('2.3 PC. Transf.'!D55,\" - \",'2.3 PC. Transf.'!E55)","v":" - "}]

{"sheet":"2.1 PC Rec.","index":1,"n_rows":21,"n_cols":8,"rows_kept":21,"cut":false,"hidden":false,"merged":[]}
[]
[]
["Entradas"]
[]
["1.01","Receita de vendas",null,"1.02","Receitas financeiras",null,"1.03","Outras entradas"]
["1.01.01","CEPA",null,"1.02.01","Rendimentos",null,"1.03.01","Receita não identificada"]
["1.01.02","GAC",null,"1.02.02","Estorno",null,"1.03.02","Estorno de pagamento"]
["1.01.03","RE",null,"1.02.03",null,null,"1.03.03","Aporte de capital"]
["1.01.04","ECT",null,"1.02.04",null,null,"1.03.04","Empréstimo contratato"]
["1.01.05",null,null,"1.02.05",null,null,"1.03.05","Reembolso Cliente"]
["1.01.06",null,null,"1.02.06",null,null,"1.03.06","Transferencia entre contas"]
["1.01.07",null,null,"1.02.07",null,null,"1.03.07","Crédito Imposto"]
["1.01.08",null,null,"1.02.08",null,null,"1.03.08"]
["1.01.09",null,null,"1.02.09",null,null,"1.03.09"]
["1.01.10",null,null,"1.02.10",null,null,"1.03.10"]
["1.01.11",null,null,"1.02.11",null,null,"1.03.11"]
["1.01.12",null,null,"1.02.12",null,null,"1.03.12"]
["1.01.13",null,null,"1.02.13",null,null,"1.03.13"]
["1.01.14",null,null,"1.02.14",null,null,"1.03.14"]
["1.01.15",null,null,"1.02.15",null,null,"1.03.15"]
["1.01.16",null,null,"1.02.16",null,null,"1.03.16"]

{"sheet":"2.2 PC. Desp.","index":2,"n_rows":35,"n_cols":26,"rows_kept":35,"cut":false,"hidden":false,"merged":[]}
[]
[]
["Saídas"]
[]
["2.01","Despesa Operacional",null,"2.02","Despesa com pessoal",null,"2.03","Despesas comerciais",null,"2.04","Despesas administrativas",null,"2.05","Despesas financeiras",null,"2.06","Impostos",null,"2.07","Investimentos",null,"2.08","Retirada de sócios",null,"2.09","Outras saídas"]
["2.01.01","Materiais de Consumo",null,"2.02.01","Pró labore",null,"2.03.01","Comissões",null,"2.04.01","Aluguel",null,"2.05.01","Despesas bancárias",null,"2.06.01","DAS",null,"2.07.01","TI",null,"2.08.01","Distribuição de Lucros",null,"2.09.01","Pagamento indevido"]
["2.01.02","Fretes e Carretos",null,"2.02.02","Salário mensal",null,"2.03.02","Institucional",null,"2.04.02","Materiais de escritório",null,"2.05.02","Juros e multas",null,"2.06.02","Pis / Cofins",null,"2.07.02",null,null,"2.08.02","Mensal",null,"2.09.02","Devolução de estorno"]
["2.01.03","Serviços de Terceiros",null,"2.02.03","13º salário",null,"2.03.03","Reuniões / Visitas",null,"2.04.03","Contas de Consumo",null,"2.05.03",null,null,"2.06.03","IR/CS",null,"2.07.03",null,null,"2.08.03",null,null,"2.09.03","Dev. de aporte de capital"]
["2.01.04",null,null,"2.02.04","Horas extras",null,"2.03.04","Propostas",null,"2.04.04","Assessoria Jurídica / Despachante",null,"2.05.04",null,null,"2.06.04","Imp. Retidos Fornecedores",null,"2.07.04",null,null,"2.08.04",null,null,"2.09.04","Pagamento empréstimos"]
["2.01.05",null,null,"2.02.05","Férias",null,"2.03.05",null,null,"2.04.05","Contabilidade",null,"2.05.05",null,null,"2.06.05",null,null,"2.07.05",null,null,"2.08.05",null,null,"2.09.05","Transferencia entre contas"]
["2.01.06",null,null,"2.02.06","Assistência médica",null,"2.03.06",null,null,"2.04.06","Seguros",null,"2.05.06",null,null,"2.06.06",null,null,"2.07.06",null,null,"2.08.06",null,null,"2.09.06"]
["2.01.07",null,null,"2.02.07",null,null,"2.03.07",null,null,"2.04.07","Portador",null,"2.05.07",null,null,"2.06.07",null,null,"2.07.07",null,null,"2.08.07",null,null,"2.09.07"]
["2.01.08",null,null,"2.02.08",null,null,"2.03.08",null,null,"2.04.08","Cartório",null,"2.05.08",null,null,"2.06.08",null,null,"2.07.08",null,null,"2.08.08",null,null,"2.09.08"]
["2.01.09",null,null,"2.02.09",null,null,"2.03.09",null,null,"2.04.09","Informatica",null,"2.05.09",null,null,"2.06.09",null,null,"2.07.09",null,null,"2.08.09",null,null,"2.09.09"]
["2.01.10",null,null,"2.02.10",null,null,"2.03.10",null,null,"2.04.10","Taxas",null,"2.05.10",null,null,"2.06.10",null,null,"2.07.10",null,null,"2.08.10",null,null,"2.09.10"]
["2.01.11",null,null,"2.02.11",null,null,"2.03.11",null,null,"2.04.11","Confraternizações",null,"2.05.11",null,null,"2.06.11",null,null,"2.07.11",null,null,"2.08.11",null,null,"2.09.11"]
["2.01.12",null,null,"2.02.12",null,null,"2.03.12",null,null,"2.04.12","Outras Despesas",null,"2.05.12",null,null,"2.06.12",null,null,"2.07.12",null,null,"2.08.12",null,null,"2.09.12"]
["2.01.13",null,null,"2.02.13",null,null,"2.03.13",null,null,"2.04.13",null,null,"2.05.13",null,null,"2.06.13",null,null,"2.07.13",null,null,"2.08.13",null,null,"2.09.13"]
["2.01.14",null,null,"2.02.14",null,null,"2.03.14",null,null,"2.04.14",null,null,"2.05.14",null,null,"2.06.14",null,null,"2.07.14",null,null,"2.08.14",null,null,"2.09.14"]
["2.01.15",null,null,"2.02.15",null,null,"2.03.15",null,null,"2.04.15",null,null,"2.05.15",null,null,"2.06.15",null,null,"2.07.15",null,null,"2.08.15",null,null,"2.09.15"]
["2.01.16",null,null,"2.02.16",null,null,"2.03.16",null,null,"2.04.16",null,null,"2.05.16",null,null,"2.06.16",null,null,"2.07.16",null,null,"2.08.16",null,null,"2.09.16"]
["2.01.17",null,null,"2.02.17",null,null,"2.03.17",null,null,"2.04.17",null,null,"2.05.17",null,null,"2.06.17",null,null,"2.07.17",null,null,"2.08.17",null,null,"2.09.17"]
["2.01.18",null,null,"2.02.18",null,null,"2.03.18",null,null,"2.04.18",null,null,"2.05.18",null,null,"2.06.18",null,null,"2.07.18",null,null,"2.08.18",null,null,"2.09.18"]
["2.01.19",null,null,"2.02.19",null,null,"2.03.19",null,null,"2.04.19",null,null,"2.05.19",null,null,"2.06.19",null,null,"2.07.19",null,null,"2.08.19",null,null,"2.09.19"]
["2.01.20",null,null,"2.02.20",null,null,"2.03.20",null,null,"2.04.20",null,null,"2.05.20",null,null,"2.06.20",null,null,"2.07.20",null,null,"2.08.20",null,null,"2.09.20"]
["2.01.21",null,null,"2.02.21",null,null,"2.03.21",null,null,"2.04.21",null,null,"2.05.21",null,null,"2.06.21",null,null,"2.07.21",null,null,"2.08.21",null,null,"2.09.21"]
["2.01.22",null,null,"2.02.22",null,null,"2.03.22",null,null,"2.04.22",null,null,"2.05.22",null,null,"2.06.22",null,null,"2.07.22",null,null,"2.08.22",null,null,"2.09.22"]
["2.01.23",null,null,"2.02.23",null,null,"2.03.23",null,null,"2.04.23",null,null,"2.05.23",null,null,"2.06.23",null,null,"2.07.23",null,null,"2.08.23",null,null,"2.09.23"]
["2.01.24",null,null,"2.02.24",null,null,"2.03.24",null,null,"2.04.24",null,null,"2.05.24",null,null,"2.06.24",null,null,"2.07.24",null,null,"2.08.24",null,null,"2.09.24"]
["2.01.25",null,null,"2.02.25",null,null,"2.03.25",null,null,"2.04.25",null,null,"2.05.25",null,null,"2.06.25",null,null,"2.07.25",null,null,"2.08.25",null,null,"2.09.25"]
["2.01.26",null,null,"2.02.26",null,null,"2.03.26",null,null,"2.04.26",null,null,"2.05.26",null,null,"2.06.26",null,null,"2.07.26",null,null,"2.08.26",null,null,"2.09.26"]
["2.01.27",null,null,"2.02.27",null,null,"2.03.27",null,null,"2.04.27",null,null,"2.05.27",null,null,"2.06.27",null,null,"2.07.27",null,null,"2.08.27",null,null,"2.09.27"]
["2.01.28",null,null,"2.02.28",null,null,"2.03.28",null,null,"2.04.28",null,null,"2.05.28",null,null,"2.06.28",null,null,"2.07.28",null,null,"2.08.28",null,null,"2.09.28"]
["2.01.29",null,null,"2.02.29",null,null,"2.03.29",null,null,"2.04.29",null,null,"2.05.29",null,null,"2.06.29",null,null,"2.07.29",null,null,"2.08.29",null,null,"2.09.29"]
["2.01.30",null,null,"2.02.30",null,null,"2.03.30",null,null,"2.04.30",null,null,"2.05.30",null,null,"2.06.30",null,null,"2.07.30",null,null,"2.08.30",null,null,"2.09.30"]

{"sheet":"2.3 PC. Transf.","index":3,"n_rows":21,"n_cols":5,"rows_kept":21,"cut":false,"hidden":false,"merged":[]}
[]
[]
["Transferências"]
[]
["3.01","TRANSFERÊNCIAS (CRÉDITO)",null,"3.02","TRANSFERÊNCIAS (DÉBITO)"]
["3.01.01",null,null,"3.02.01"]
["3.01.02",null,null,"3.02.02"]
["3.01.03",null,null,"3.02.03"]
["3.01.04",null,null,"3.02.04"]
["3.01.05",null,null,"3.02.05"]
["3.01.06",null,null,"3.02.06"]
["3.01.07",null,null,"3.02.07"]
["3.01.08",null,null,"3.02.08"]
["3.01.09",null,null,"3.02.09"]
["3.01.10",null,null,"3.02.10"]
["3.01.11",null,null,"3.02.11"]
["3.01.12",null,null,"3.02.12"]
["3.01.13",null,null,"3.02.13"]
["3.01.14",null,null,"3.02.14"]
["3.01.15",null,null,"3.02.15"]
["3.01.16",null,null,"3.02.16"]

{"sheet":"2.4 PC. Contas","index":4,"n_rows":11,"n_cols":9,"rows_kept":11,"cut":false,"hidden":false,"merged":[]}
[]
[]
["Rescursos Financeiros",null,null,"Defina a data de início do controle:","Mês",null,"Ano",null,{"$f":"DATE($G$4,VLOOKUP($E$4,Validações!$N:$O,2,FALSE),1)","v":"2017-01-01"}]
[null,null,null,null,"Janeiro",null,2017]
[]
["Id","Tipo","Identificação","Instituição","Agência","Conta",{"$f":"CONCATENATE(\"Saldo em \",TEXT($I$3,\"dd/mm/aa\"))","v":"Saldo em 01/01/17"},null,"Tipo  existentes"]
["4.01",null,"Itau","Itau (341)",1223,"123456-6",9548.74,null,"Caixa"]
["4.02",null,"Santander","Santander (033)",2345,"4567898-9",null,null,"Conta Corrente"]
["4.03",null,null,null,null,null,null,null,"Conta Poupança"]
["4.04",null,null,null,null,null,null,null,"Cartão de Crédito"]
["4.05",null,null,null,null,null,null,null,"Investimento"]

{"sheet":"2.5 PC. C. Custo","index":5,"n_rows":105,"n_cols":4,"rows_kept":105,"cut":false,"hidden":false,"merged":[]}
[]
[]
["Centro de custo"]
[]
["5.01","Centro de Custo","Descrição (opcional)","Nomenclatura"]
["5.01.01","Sócios",null,{"$f":"A6&\" - \"&B6","v":"5.01.01 - Sócios"}]
["5.01.02","Administrativo",null,{"$f":"A7&\" - \"&B7","v":"5.01.02 - Administrativo"}]
["5.01.03","Argo",null,"5.01.03 - Argo"]
["5.01.04","PJI","Estudo de Viabilidade","5.01.04 - PJI"]
["5.01.05","Downstream",null,"5.01.05 - Downstream"]
["5.01.06","AF 233/17",null,"5.01.06 - AF 233/17"]
["5.01.07","ET 589",null,"5.01.07 - ET 589"]
["5.01.08","PPSJI","Estudo de Viabilidade","5.01.08 - PPSJI"]
["5.01.09","PSB",null,"5.01.09 - PSB"]
["5.01.10",null,null,"5.01.10 - "]
["5.01.11",null,null,"5.01.11 - "]
["5.01.12",null,null,"5.01.12 - "]
["5.01.13",null,null,"5.01.13 - "]
["5.01.14",null,null,"5.01.14 - "]
["5.01.15",null,null,"5.01.15 - "]
["5.01.16",null,null,"5.01.16 - "]
["5.01.17",null,null,"5.01.17 - "]
["5.01.18",null,null,"5.01.18 - "]
["5.01.19",null,null,"5.01.19 - "]
["5.01.20",null,null,"5.01.20 - "]
["5.01.21",null,null,"5.01.21 - "]
["5.01.22",null,null,"5.01.22 - "]
["5.01.23",null,null,"5.01.23 - "]
["5.01.24",null,null,"5.01.24 - "]
["5.01.25",null,null,"5.01.25 - "]
["5.01.26",null,null,"5.01.26 - "]
["5.01.27",null,null,"5.01.27 - "]
["5.01.28",null,null,"5.01.28 - "]
["5.01.29",null,null,"5.01.29 - "]
["5.01.30",null,null,"5.01.30 - "]
["5.01.31",null,null,"5.01.31 - "]
["5.01.32",null,null,"5.01.32 - "]
["5.01.33",null,null,"5.01.33 - "]
["5.01.34",null,null,"5.01.34 - "]
["5.01.35",null,"","5.01.35 - "]
["5.01.36",null,null,"5.01.36 - "]
["5.01.37",null,null,{"$f":"A42&\" - \"&B42","v":"5.01.37 - "}]
["5.01.38",null,null,{"$f":"A43&\" - \"&B43","v":"5.01.38 - "}]
["5.01.39",null,null,{"$f":"A44&\" - \"&B44","v":"5.01.39 - "}]
["5.01.40",null,null,"5.01.40 - "]
["5.01.41",null,null,{"$f":"A46&\" - \"&B46","v":"5.01.41 - "}]
["5.01.42",null,null,"5.01.42 - "]
["5.01.43",null,null,"5.01.43 - "]
["5.01.44",null,null,"5.01.44 - "]
["5.01.45",null,null,"5.01.45 - "]
["5.01.46",null,null,"5.01.46 - "]
["5.01.47",null,null,"5.01.47 - "]
["5.01.48",null,null,"5.01.48 - "]
["5.01.49",null,null,"5.01.49 - "]
["5.01.50",null,null,"5.01.50 - "]
["5.01.51",null,null,{"$f":"A56&\" - \"&B56","v":"5.01.51 - "}]
["5.01.52",null,null,{"$f":"A57&\" - \"&B57","v":"5.01.52 - "}]
["5.01.53",null,null,{"$f":"A58&\" - \"&B58","v":"5.01.53 - "}]
["5.01.54",null,null,{"$f":"A59&\" - \"&B59","v":"5.01.54 - "}]
["5.01.55",null,null,{"$f":"A60&\" - \"&B60","v":"5.01.55 - "}]
["5.01.56",null,null,"5.01.56 - "]
["5.01.57",null,null,"5.01.57 - "]
["5.01.58",null,null,"5.01.58 - "]
["5.01.59",null,null,"5.01.59 - "]
["5.01.60",null,null,"5.01.60 - "]
["5.01.61",null,null,"5.01.61 - "]
["5.01.62",null,null,"5.01.62 - "]
["5.01.63",null,null,"5.01.63 - "]
["5.01.64",null,null,"5.01.64 - "]
["5.01.65",null,null,"5.01.65 - "]
["5.01.66",null,null,{"$f":"A71&\" - \"&B71","v":"5.01.66 - "}]
["5.01.67",null,null,"5.01.67 - "]
["5.01.68",null,null,"5.01.68 - "]
["5.01.69",null,null,"5.01.69 - "]
["5.01.70",null,null,"5.01.70 - "]
["5.01.71",null,null,"5.01.71 - "]
["5.01.72",null,null,"5.01.72 - "]
["5.01.73",null,null,"5.01.73 - "]
["5.01.74",null,null,"5.01.74 - "]
["5.01.75",null,null,"5.01.75 - "]
["5.01.76",null,null,"5.01.76 - "]
["5.01.77",null,null,"5.01.77 - "]
["5.01.78",null,null,"5.01.78 - "]
["5.01.79",null,null,"5.01.79 - "]
["5.01.80",null,null,"5.01.80 - "]
["5.01.81",null,null,"5.01.81 - "]
["5.01.82",null,null,"5.01.82 - "]
["5.01.83",null,null,"5.01.83 - "]
["5.01.84",null,null,"5.01.84 - "]
["5.01.85",null,null,"5.01.85 - "]
["5.01.86",null,null,"5.01.86 - "]
["5.01.87",null,null,"5.01.87 - "]
["5.01.88",null,null,"5.01.88 - "]
["5.01.89",null,null,"5.01.89 - "]
["5.01.90",null,null,"5.01.90 - "]
["5.01.91",null,null,"5.01.91 - "]
["5.01.92",null,null,"5.01.92 - "]
["5.01.93",null,null,"5.01.93 - "]
["5.01.94",null,null,"5.01.94 - "]
["5.01.95",null,null,"5.01.95 - "]
["5.01.96",null,null,"5.01.96 - "]
["5.01.97",null,null,"5.01.97 - "]
["5.01.98",null,null,"5.01.98 - "]
["5.01.99",null,null,"5.01.99 - "]
["5.01.100",null,null,"5.01.100 - "]

{"sheet":"2.6 PC. Cli. Fon.","index":6,"n_rows":1005,"n_cols":19,"rows_kept":1005,"cut":false,"hidden":false,"merged":[]}
[]
[]
["Clientes e Fornecedores"]
[]
["6.01","Clientes e Fornecedores","Cliente / Fornecedor","Descrição (opcional)",null,null,null,null,null,null,null,null,null,null,null,"6.01","Clientes e Fornecedores","Cliente / Fornecedor","Descrição (opcional)"]
["6.01.159","AAAAAAA","Fornecedor",null,null,null,null,null,null,null,null,null,null,null,null,null,{"$f":"D3","v":0}]
["6.01.335","BBBBBBB","Cliente"]
["6.01.199","CCCCCCCC","Fornecedor"]
["6.01.95","DDDDDDDDDDDDD","Fornecedor"]
["6.01.252","EEEEEEEEEEEEEEEE","Cliente"]
["6.01.202","FFFFFFFFFFFFFFF","Fornecedor"]
["6.01.133","GGGGGGGGGGG","Cliente"]
["6.01.82","HHHHHHHHHHH","Fornecedor"]
["6.01.357","IIIIIIIIIIIIIIIIIIIIIIIII","Cliente"]
["6.01.330"]
["6.01.327"]
["6.01.304"]
["6.01.01"]
["6.01.172"]
["6.01.02"]
["6.01.321"]
["6.01.91"]
["6.01.204"]
["6.01.61"]
["6.01.63"]
["6.01.322"]
["6.01.108"]
["6.01.214"]
["6.01.111"]
["6.01.345"]
["6.01.285"]
["6.01.188"]
["6.01.308"]
["6.01.150"]
["6.01.50"]
["6.01.130"]
["6.01.196"]
["6.01.236"]
["6.01.250"]
["6.01.93"]
["6.01.80"]
["6.01.187"]
["6.01.216"]
["6.01.65"]
["6.01.316"]
["6.01.329"]
["6.01.03"]
["6.01.343"]
["6.01.189"]
["6.01.269"]
["6.01.230"]
["6.01.138"]
["6.01.263"]
["6.01.275"]
["6.01.84"]
["6.01.71"]
["6.01.72"]
["6.01.04"]
["6.01.289"]
["6.01.60"]
["6.01.120"]
["6.01.137"]
["6.01.56"]
["6.01.143"]
["6.01.140"]
["6.01.336"]
["6.01.323"]
["6.01.05"]
["6.01.06"]
["6.01.162"]
["6.01.174"]
["6.01.211"]
["6.01.152"]
["6.01.317"]
["6.01.07"]
["6.01.135"]
["6.01.255"]
["6.01.124"]
["6.01.178"]
["6.01.311"]
["6.01.55"]
["6.01.271"]
["6.01.08"]
["6.01.09"]
["6.01.98"]
["6.01.238"]
["6.01.222"]
["6.01.276"]
["6.01.10"]
["6.01.242"]
["6.01.99"]
["6.01.193"]
["6.01.246"]
["6.01.331"]
["6.01.251"]
["6.01.309"]
["6.01.180"]
["6.01.213"]
["6.01.11"]
["6.01.76"]
["6.01.186"]
["6.01.73"]
["6.01.243"]
["6.01.68"]
["6.01.51"]
["6.01.54"]
["6.01.12"]
["6.01.163"]
["6.01.279"]
["6.01.126"]
["6.01.209"]
["6.01.313"]
["6.01.13"]
["6.01.314"]
["6.01.183"]
["6.01.14"]
["6.01.210"]
["6.01.15"]
["6.01.325"]
["6.01.256"]
["6.01.340"]
["6.01.16"]
["6.01.123"]
["6.01.320"]
["6.01.164"]
["6.01.245"]
["6.01.240"]
["6.01.253"]
["6.01.212"]
["6.01.348"]
["6.01.177"]
["6.01.307"]
["6.01.52"]
["6.01.105"]
["6.01.258"]
["6.01.157"]
["6.01.254"]
["6.01.207"]
["6.01.17"]
["6.01.332"]
["6.01.87"]
["6.01.18"]
["6.01.306"]
["6.01.132"]
["6.01.19"]
["6.01.83"]
["6.01.20"]
["6.01.127"]
["6.01.104"]
["6.01.21"]
["6.01.22"]
["6.01.158"]
["6.01.239"]
["6.01.131"]
["6.01.281"]
["6.01.23"]
["6.01.283"]
["6.01.233"]
["6.01.362"]
["6.01.78"]
["6.01.333"]
["6.01.184"]
["6.01.260"]
["6.01.197"]
["6.01.24"]
["6.01.166"]
["6.01.25"]
["6.01.328"]
["6.01.244"]
["6.01.182"]
["6.01.241"]
["6.01.337"]
["6.01.26"]
["6.01.315"]
["6.01.125"]
["6.01.27"]
["6.01.117"]
["6.01.89"]
["6.01.28"]
["6.01.225"]
["6.01.112"]
["6.01.29"]
["6.01.94"]
["6.01.30"]
["6.01.347"]
["6.01.161"]
["6.01.88"]
["6.01.232"]
["6.01.219"]
["6.01.318"]
["6.01.280"]
["6.01.31"]
["6.01.134"]
["6.01.179"]
["6.01.81"]
["6.01.70"]
["6.01.295"]
["6.01.290"]
["6.01.144"]
["6.01.148"]
["6.01.75"]
["6.01.266"]
["6.01.341"]
["6.01.319"]
["6.01.205"]
["6.01.298"]
["6.01.291"]
["6.01.338"]
["6.01.350"]
["6.01.79"]
["6.01.282"]
["6.01.294"]
["6.01.171"]
["6.01.176"]
["6.01.86"]
["6.01.301"]
["6.01.302"]
["6.01.32"]
["6.01.97"]
["6.01.129"]
["6.01.153"]
["6.01.128"]
["6.01.33"]
["6.01.121"]
["6.01.149"]
["6.01.296"]
["6.01.169"]
["6.01.208"]
["6.01.288"]
["6.01.261"]
["6.01.303"]
["6.01.58"]
["6.01.229"]
["6.01.102"]
["6.01.119"]
["6.01.217"]
["6.01.349"]
["6.01.358"]
["6.01.344"]
["6.01.351"]
["6.01.359"]
["6.01.355"]
["6.01.353"]
["6.01.352"]
["6.01.354"]
["6.01.360"]
["6.01.356"]
["6.01.173"]
["6.01.200"]
["6.01.287"]
["6.01.107"]
["6.01.190"]
["6.01.272"]
["6.01.34"]
["6.01.247"]
["6.01.310"]
["6.01.185"]
["6.01.35"]
["6.01.36"]
["6.01.224"]
["6.01.66"]
["6.01.277"]
["6.01.195"]
["6.01.122"]
["6.01.201"]
["6.01.265"]
["6.01.235"]
["6.01.139"]
["6.01.109"]
["6.01.114"]
["6.01.53"]
["6.01.237"]
["6.01.192"]
["6.01.264"]
["6.01.300"]
["6.01.74"]
["6.01.221"]
["6.01.278"]
["6.01.118"]
["6.01.220"]
["6.01.37"]
["6.01.110"]
["6.01.206"]
["6.01.248"]
["6.01.64"]
["6.01.90"]
["6.01.57"]
["6.01.268"]
["6.01.67"]
["6.01.151"]
["6.01.228"]
["6.01.101"]
["6.01.215"]
["6.01.69"]
["6.01.115"]
["6.01.270"]
["6.01.234"]
["6.01.273"]
["6.01.249"]
["6.01.326"]
["6.01.113"]
["6.01.191"]
["6.01.194"]
["6.01.38"]
["6.01.286"]
["6.01.257"]
["6.01.227"]
["6.01.155"]
["6.01.334"]
["6.01.167"]
["6.01.142"]
["6.01.39"]
["6.01.62"]
["6.01.312"]
["6.01.262"]
["6.01.85"]
["6.01.145"]
["6.01.165"]
["6.01.40"]
["6.01.203"]
["6.01.41"]
["6.01.198"]
["6.01.305"]
["6.01.103"]
["6.01.299"]
["6.01.170"]
["6.01.160"]
["6.01.156"]
["6.01.136"]
["6.01.274"]
["6.01.42"]
["6.01.100"]
["6.01.43"]
["6.01.44"]
["6.01.45"]
["6.01.297"]
["6.01.361"]
["6.01.226"]
["6.01.46"]
["6.01.168"]
["6.01.218"]
["6.01.96"]
["6.01.47"]
["6.01.92"]
["6.01.59"]
["6.01.292"]
["6.01.346"]
["6.01.231"]
["6.01.77"]
["6.01.223"]
["6.01.146"]
["6.01.175"]
["6.01.259"]
["6.01.147"]
["6.01.342"]
["6.01.106"]
["6.01.48"]
["6.01.339"]
["6.01.181"]
["6.01.267"]
["6.01.284"]
["6.01.324"]
["6.01.293"]
["6.01.116"]
["6.01.49"]
["6.01.141"]
["6.01.154"]
["6.01.363"]
["6.01.364"]
["6.01.365"]
["6.01.366"]
["6.01.367"]
["6.01.368"]
["6.01.369"]
["6.01.370"]
["6.01.371"]
["6.01.372"]
["6.01.373"]
["6.01.374"]
["6.01.375"]
["6.01.376"]
["6.01.377"]
["6.01.378"]
["6.01.379"]
["6.01.380"]
["6.01.381"]
["6.01.382"]
["6.01.383"]
["6.01.384"]
["6.01.385"]
["6.01.386"]
["6.01.387"]
["6.01.388"]
["6.01.389"]
["6.01.390"]
["6.01.391"]
["6.01.392"]
["6.01.393"]
["6.01.394"]
["6.01.395"]
["6.01.396"]
["6.01.397"]
["6.01.398"]
["6.01.399"]
["6.01.400"]
["6.01.401"]
["6.01.402"]
["6.01.403"]
["6.01.404"]
["6.01.405"]
["6.01.406"]
["6.01.407"]
["6.01.408"]
["6.01.409"]
["6.01.410"]
["6.01.411"]
["6.01.412"]
["6.01.413"]
["6.01.414"]
["6.01.415"]
["6.01.416"]
["6.01.417"]
["6.01.418"]
["6.01.419"]
["6.01.420"]
["6.01.421"]
["6.01.422"]
["6.01.423"]
["6.01.424"]
["6.01.425"]
["6.01.426"]
["6.01.427"]
["6.01.428"]
["6.01.429"]
["6.01.430"]
["6.01.431"]
["6.01.432"]
["6.01.433"]
["6.01.434"]
["6.01.435"]
["6.01.436"]
["6.01.437"]
["6.01.438"]
["6.01.439"]
["6.01.440"]
["6.01.441"]
["6.01.442"]
["6.01.443"]
["6.01.444"]
["6.01.445"]
["6.01.446"]
["6.01.447"]
["6.01.448"]
["6.01.449"]
["6.01.450"]
["6.01.451"]
["6.01.452"]
["6.01.453"]
["6.01.454"]
["6.01.455"]
["6.01.456"]
["6.01.457"]
["6.01.458"]
["6.01.459"]
["6.01.460"]
["6.01.461"]
["6.01.462"]
["6.01.463"]
["6.01.464"]
["6.01.465"]
["6.01.466"]
["6.01.467"]
["6.01.468"]
["6.01.469"]
["6.01.470"]
["6.01.471"]
["6.01.472"]
["6.01.473"]
["6.01.474"]
["6.01.475"]
["6.01.476"]
["6.01.477"]
["6.01.478"]
["6.01.479"]
["6.01.480"]
["6.01.481"]
["6.01.482"]
["6.01.483"]
["6.01.484"]
["6.01.485"]
["6.01.486"]
["6.01.487"]
["6.01.488"]
["6.01.489"]
["6.01.490"]
["6.01.491"]
["6.01.492"]
["6.01.493"]
["6.01.494"]
["6.01.495"]
["6.01.496"]
["6.01.497"]
["6.01.498"]
["6.01.499"]
["6.01.500"]
["6.01.501"]
["6.01.502"]
["6.01.503"]
["6.01.504"]
["6.01.505"]
["6.01.506"]
["6.01.507"]
["6.01.508"]
["6.01.509"]
["6.01.510"]
["6.01.511"]
["6.01.512"]
["6.01.513"]
["6.01.514"]
["6.01.515"]
["6.01.516"]
["6.01.517"]
["6.01.518"]
["6.01.519"]
["6.01.520"]
["6.01.521"]
["6.01.522"]
["6.01.523"]
["6.01.524"]
["6.01.525"]
["6.01.526"]
["6.01.527"]
["6.01.528"]
["6.01.529"]
["6.01.530"]
["6.01.531"]
["6.01.532"]
["6.01.533"]
["6.01.534"]
["6.01.535"]
["6.01.536"]
["6.01.537"]
["6.01.538"]
["6.01.539"]
["6.01.540"]
["6.01.541"]
["6.01.542"]
["6.01.543"]
["6.01.544"]
["6.01.545"]
["6.01.546"]
["6.01.547"]
["6.01.548"]
["6.01.549"]
["6.01.550"]
["6.01.551"]
["6.01.552"]
["6.01.553"]
["6.01.554"]
["6.01.555"]
["6.01.556"]
["6.01.557"]
["6.01.558"]
["6.01.559"]
["6.01.560"]
["6.01.561"]
["6.01.562"]
["6.01.563"]
["6.01.564"]
["6.01.565"]
["6.01.566"]
["6.01.567"]
["6.01.568"]
["6.01.569"]
["6.01.570"]
["6.01.571"]
["6.01.572"]
["6.01.573"]
["6.01.574"]
["6.01.575"]
["6.01.576"]
["6.01.577"]
["6.01.578"]
["6.01.579"]
["6.01.580"]
["6.01.581"]
["6.01.582"]
["6.01.583"]
["6.01.584"]
["6.01.585"]
["6.01.586"]
["6.01.587"]
["6.01.588"]
["6.01.589"]
["6.01.590"]
["6.01.591"]
["6.01.592"]
["6.01.593"]
["6.01.594"]
["6.01.595"]
["6.01.596"]
["6.01.597"]
["6.01.598"]
["6.01.599"]
["6.01.600"]
["6.01.601"]
["6.01.602"]
["6.01.603"]
["6.01.604"]
["6.01.605"]
["6.01.606"]
["6.01.607"]
["6.01.608"]
["6.01.609"]
["6.01.610"]
["6.01.611"]
["6.01.612"]
["6.01.613"]
["6.01.614"]
["6.01.615"]
["6.01.616"]
["6.01.617"]
["6.01.618"]
["6.01.619"]
["6.01.620"]
["6.01.621"]
["6.01.622"]
["6.01.623"]
["6.01.624"]
["6.01.625"]
["6.01.626"]
["6.01.627"]
["6.01.628"]
["6.01.629"]
["6.01.630"]
["6.01.631"]
["6.01.632"]
["6.01.633"]
["6.01.634"]
["6.01.635"]
["6.01.636"]
["6.01.637"]
["6.01.638"]
["6.01.639"]
["6.01.640"]
["6.01.641"]
["6.01.642"]
["6.01.643"]
["6.01.644"]
["6.01.645"]
["6.01.646"]
["6.01.647"]
["6.01.648"]
["6.01.649"]
["6.01.650"]
["6.01.651"]
["6.01.652"]
["6.01.653"]
["6.01.654"]
["6.01.655"]
["6.01.656"]
["6.01.657"]
["6.01.658"]
["6.01.659"]
["6.01.660"]
["6.01.661"]
["6.01.662"]
["6.01.663"]
["6.01.664"]
["6.01.665"]
["6.01.666"]
["6.01.667"]
["6.01.668"]
["6.01.669"]
["6.01.670"]
["6.01.671"]
["6.01.672"]
["6.01.673"]
["6.01.674"]
["6.01.675"]
["6.01.676"]
["6.01.677"]
["6.01.678"]
["6.01.679"]
["6.01.680"]
["6.01.681"]
["6.01.682"]
["6.01.683"]
["6.01.684"]
["6.01.685"]
["6.01.686"]
["6.01.687"]
["6.01.688"]
["6.01.689"]
["6.01.690"]
["6.01.691"]
["6.01.692"]
["6.01.693"]
["6.01.694"]
["6.01.695"]
["6.01.696"]
["6.01.697"]
["6.01.698"]
["6.01.699"]
["6.01.700"]
["6.01.701"]
["6.01.702"]
["6.01.703"]
["6.01.704"]
["6.01.705"]
["6.01.706"]
["6.01.707"]
["6.01.708"]
["6.01.709"]
["6.01.710"]
["6.01.711"]
["6.01.712"]
["6.01.713"]
["6.01.714"]
["6.01.715"]
["6.01.716"]
["6.01.717"]
["6.01.718"]
["6.01.719"]
["6.01.720"]
["6.01.721"]
["6.01.722"]
["6.01.723"]
["6.01.724"]
["6.01.725"]
["6.01.726"]
["6.01.727"]
["6.01.728"]
["6.01.729"]
["6.01.730"]
["6.01.731"]
["6.01.732"]
["6.01.733"]
["6.01.734"]
["6.01.735"]
["6.01.736"]
["6.01.737"]
["6.01.738"]
["6.01.739"]
["6.01.740"]
["6.01.741"]
["6.01.742"]
["6.01.743"]
["6.01.744"]
["6.01.745"]
["6.01.746"]
["6.01.747"]
["6.01.748"]
["6.01.749"]
["6.01.750"]
["6.01.751"]
["6.01.752"]
["6.01.753"]
["6.01.754"]
["6.01.755"]
["6.01.756"]
["6.01.757"]
["6.01.758"]
["6.01.759"]
["6.01.760"]
["6.01.761"]
["6.01.762"]
["6.01.763"]
["6.01.764"]
["6.01.765"]
["6.01.766"]
["6.01.767"]
["6.01.768"]
["6.01.769"]
["6.01.770"]
["6.01.771"]
["6.01.772"]
["6.01.773"]
["6.01.774"]
["6.01.775"]
["6.01.776"]
["6.01.777"]
["6.01.778"]
["6.01.779"]
["6.01.780"]
["6.01.781"]
["6.01.782"]
["6.01.783"]
["6.01.784"]
["6.01.785"]
["6.01.786"]
["6.01.787"]
["6.01.788"]
["6.01.789"]
["6.01.790"]
["6.01.791"]
["6.01.792"]
["6.01.793"]
["6.01.794"]
["6.01.795"]
["6.01.796"]
["6.01.797"]
["6.01.798"]
["6.01.799"]
["6.01.800"]
["6.01.801"]
["6.01.802"]
["6.01.803"]
["6.01.804"]
["6.01.805"]
["6.01.806"]
["6.01.807"]
["6.01.808"]
["6.01.809"]
["6.01.810"]
["6.01.811"]
["6.01.812"]
["6.01.813"]
["6.01.814"]
["6.01.815"]
["6.01.816"]
["6.01.817"]
["6.01.818"]
["6.01.819"]
["6.01.820"]
["6.01.821"]
["6.01.822"]
["6.01.823"]
["6.01.824"]
["6.01.825"]
["6.01.826"]
["6.01.827"]
["6.01.828"]
["6.01.829"]
["6.01.830"]
["6.01.831"]
["6.01.832"]
["6.01.833"]
["6.01.834"]
["6.01.835"]
["6.01.836"]
["6.01.837"]
["6.01.838"]
["6.01.839"]
["6.01.840"]
["6.01.841"]
["6.01.842"]
["6.01.843"]
["6.01.844"]
["6.01.845"]
["6.01.846"]
["6.01.847"]
["6.01.848"]
["6.01.849"]
["6.01.850"]
["6.01.851"]
["6.01.852"]
["6.01.853"]
["6.01.854"]
["6.01.855"]
["6.01.856"]
["6.01.857"]
["6.01.858"]
["6.01.859"]
["6.01.860"]
["6.01.861"]
["6.01.862"]
["6.01.863"]
["6.01.864"]
["6.01.865"]
["6.01.866"]
["6.01.867"]
["6.01.868"]
["6.01.869"]
["6.01.870"]
["6.01.871"]
["6.01.872"]
["6.01.873"]
["6.01.874"]
["6.01.875"]
["6.01.876"]
["6.01.877"]
["6.01.878"]
["6.01.879"]
["6.01.880"]
["6.01.881"]
["6.01.882"]
["6.01.883"]
["6.01.884"]
["6.01.885"]
["6.01.886"]
["6.01.887"]
["6.01.888"]
["6.01.889"]
["6.01.890"]
["6.01.891"]
["6.01.892"]
["6.01.893"]
["6.01.894"]
["6.01.895"]
["6.01.896"]
["6.01.897"]
["6.01.898"]
["6.01.899"]
["6.01.900"]
["6.01.901"]
["6.01.902"]
["6.01.903"]
["6.01.904"]
["6.01.905"]
["6.01.906"]
["6.01.907"]
["6.01.908"]
["6.01.909"]
["6.01.910"]
["6.01.911"]
["6.01.912"]
["6.01.913"]
["6.01.914"]
["6.01.915"]
["6.01.916"]
["6.01.917"]
["6.01.918"]
["6.01.919"]
["6.01.920"]
["6.01.921"]
["6.01.922"]
["6.01.923"]
["6.01.924"]
["6.01.925"]
["6.01.926"]
["6.01.927"]
["6.01.928"]
["6.01.929"]
["6.01.930"]
["6.01.931"]
["6.01.932"]
["6.01.933"]
["6.01.934"]
["6.01.935"]
["6.01.936"]
["6.01.937"]
["6.01.938"]
["6.01.939"]
["6.01.940"]
["6.01.941"]
["6.01.942"]
["6.01.943"]
["6.01.944"]
["6.01.945"]
["6.01.946"]
["6.01.947"]
["6.01.948"]
["6.01.949"]
["6.01.950"]
["6.01.951"]
["6.01.952"]
["6.01.953"]
["6.01.954"]
["6.01.955"]
["6.01.956"]
["6.01.957"]
["6.01.958"]
["6.01.959"]
["6.01.960"]
["6.01.961"]
["6.01.962"]
["6.01.963"]
["6.01.964"]
["6.01.965"]
["6.01.966"]
["6.01.967"]
["6.01.968"]
["6.01.969"]
["6.01.970"]
["6.01.971"]
["6.01.972"]
["6.01.973"]
["6.01.974"]
["6.01.975"]
["6.01.976"]
["6.01.977"]
["6.01.978"]
["6.01.979"]
["6.01.980"]
["6.01.981"]
["6.01.982"]
["6.01.983"]
["6.01.984"]
["6.01.985"]
["6.01.986"]
["6.01.987"]
["6.01.988"]
["6.01.989"]
["6.01.990"]
["6.01.991"]
["6.01.992"]
["6.01.993"]
["6.01.994"]
["6.01.995"]
["6.01.996"]
["6.01.997"]
["6.01.998"]
["6.01.999"]
["6.01.1000"]

{"sheet":"Lançamentos","index":7,"n_rows":64,"n_cols":76,"rows_kept":64,"cut":false,"hidden":false,"merged":[]}
[]
[]
["Lançamentos",null,null,null,null,null,null,null,null,null,null,null,null,null,null,null,null,null,null,null,{"$f":"TODAY()","v":"2023-01-23"}]
[null,null,null,null,null,null,null,null,null,null,null,null,null,null,null,null,null,null,null,null,null,null,null,null,null,"Centro de Custo","Conta","Centro de Custo","Conta","Status","Cliente/Forn","Centro de Custo","Conta","Status","Cliente/Forn","Centro de Custo","Conta","Status","Cliente/Forn","Centro de Custo","Conta","Status","Cliente/Forn","Centro de Custo","Conta","Status","Cliente/Forn","Centro de Custo","Conta","Status","Cliente/Forn","Centro de Custo","Cliente/Forn","Mês",null,null,null,null,null,null,null,null,null,null,null,null,null,null,null,null,null,"Centro Custo","Cliente","Mês","Centro Custo","Cliente"]
["Data inclusão","Data VCTO","Competência","Dia PGTO","Parcela","Classificação","Plano de contas","Descrição","Cliente ou Fornecedor","Centro de Custo","Status","Conta","Valor","Data PGTO","Forma Pgto","Acumulado","VENCIDO","DIA PGTO","MÊS PGTO","ANO PGTO","Realizado + Previsto do mês",null,null,"Tipo","Mês","FC - 4.1","FC - 4.1","FC - 4.2","FC - 4.2","FC - 4.2","FC - 4.2","FC - 4.3","FC - 4.3","FC - 4.3","FC - 4.3","FC - 4.4","FC - 4.4","FC - 4.4","FC - 4.4","5.1","5.1","5.1","5.1","5.2","5.2","5.2","5.2","5.3","5.3","5.3","5.3","Dash","Dash","Dash",null,null,"Data inclusão","Data vencimento","Competência","Dia PGTO","Classificação","Plano de contas","Descrição","Cliente ou Fornecedor","Centro de Custo","Status","Conta","Valor","Data PGTO","Acumulado",null,"Desp.Adm.","Desp.Adm.","DRE","DRE","DRE"]
["2022-12-01","2023-01-11","2022-12-22",{"$f":"DAY(N6)","v":11},"única","2.01 - Despesa Operacional","2.01.03 - Serviços de Terceiros","Douglas - Elaboração RIT - Cabo Frio (parc.1/2)","Synaz (Douglas - RIT)","5.01.30 - Sao Jose Desenv. Imob. SA","Em aberto","Santander",-6200,"2023-01-11","Transferência",{"$f":"IFERROR(IF(OR(VLOOKUP(F6,Validações!$C$2:$D$17,2,FALSE)=1,VLOOKUP(F6,Validações!$C$2:$D$17,2,FALSE)=3),SUM(P5,M6),SUM(P5,-M6)),P5)","v":6200},{"$f":"IF(AND(N6<$U$3,K6=\"Em aberto\"),\"VENCIDO\",\"-\")","v":"VENCIDO"},{"$f":"DAY(N6)","v":11},{"$f":"TEXT($N6,\"mmmm\")","v":"janeiro"},{"$f":"YEAR(N6)","v":2023},"Saldo anterior",null,null,{"$f":"IFERROR(VLOOKUP(F6,Validações!$C$2:$D$17,2,FALSE),\"\")","v":2},{"$f":"IF(A6=\"\",\"\",TEXT($N6,\"mmmm\"))","v":"janeiro"},{"$f":"IF(#REF!=\"TODOS\",\"TODOS\",$J6)","v":{"$error":"#REF!"}},{"$f":"IF(#REF!=\"TODAS\",\"TODAS\",$L6)","v":{"$error":"#REF!"}},{"$f":"IF(#REF!=\"TODOS\",\"TODOS\",$J6)","v":{"$error":"#REF!"}},{"$f":"IF(#REF!=\"TODAS\",\"TODAS\",$L6)","v":{"$error":"#REF!"}},{"$f":"IF(#REF!=\"TODOS\",\"TODOS\",$K6)","v":{"$error":"#REF!"}},{"$f":"IF(#REF!=\"TODOS\",\"TODOS\",$I6)","v":{"$error":"#REF!"}},{"$f":"IF(#REF!=\"TODOS\",\"TODOS\",$J6)","v":{"$error":"#REF!"}},{"$f":"IF(#REF!=\"TODAS\",\"TODAS\",$L6)","v":{"$error":"#REF!"}},{"$f":"IF(#REF!=\"TODOS\",\"TODOS\",$K6)","v":{"$error":"#REF!"}},{"$f":"IF(#REF!=\"TODOS\",\"TODOS\",$I6)","v":{"$error":"#REF!"}},{"$f":"IF(#REF!=\"TODOS\",\"TODOS\",$J6)","v":{"$error":"#REF!"}},{"$f":"IF(#REF!=\"TODAS\",\"TODAS\",$L6)","v":{"$error":"#REF!"}},{"$f":"IF(#REF!=\"TODOS\",\"TODOS\",$K6)","v":{"$error":"#REF!"}},{"$f":"IF(#REF!=\"TODOS\",\"TODOS\",$I6)","v":{"$error":"#REF!"}},{"$f":"IF(#REF!=\"TODOS\",\"TODOS\",$J6)","v":{"$error":"#REF!"}},{"$f":"IF(#REF!=\"TODAS\",\"TODAS\",$L6)","v":{"$error":"#REF!"}},{"$f":"IF(#REF!=\"TODOS\",\"TODOS\",$K6)","v":{"$error":"#REF!"}},{"$f":"IF(#REF!=\"TODOS\",\"TODOS\",$I6)","v":{"$error":"#REF!"}},{"$f":"IF(#REF!=\"TODOS\",\"TODOS\",$J6)","v":{"$error":"#REF!"}},{"$f":"IF(#REF!=\"TODAS\",\"TODAS\",$L6)","v":{"$error":"#REF!"}},{"$f":"IF(#REF!=\"TODOS\",\"TODOS\",$K6)","v":{"$error":"#REF!"}},{"$f":"IF(#REF!=\"TODOS\",\"TODOS\",$I6)","v":{"$error":"#REF!"}},{"$f":"IF(#REF!=\"TODOS\",\"TODOS\",$J6)","v":{"$error":"#REF!"}},{"$f":"IF(#REF!=\"TODAS\",\"TODAS\",$L6)","v":{"$error":"#REF!"}},{"$f":"IF(#REF!=\"TODOS\",\"TODOS\",$K6)","v":{"$error":"#REF!"}},{"$f":"IF(#REF!=\"TODOS\",\"TODOS\",$I6)","v":{"$error":"#REF!"}},{"$f":"IF(#REF!=\"TODOS\",\"TODOS\",$J6)","v":{"$error":"#REF!"}},{"$f":"IF(#REF!=\"TODOS\",\"TODOS\",$I6)","v":{"$error":"#REF!"}},{"$f":"IF(#REF!=\"TODOS\",\"TODOS\",$Y6)","v":{"$error":"#REF!"}},null,null,null,null,null,null,null,null,null,null,null,"Em aberto",null,null,{"$f":"$U$3","v":"2023-01-23"},null,null,{"$f":"IF(#REF!=\"TODOS\",\"TODOS\",$J6)","v":{"$error":"#REF!"}},{"$f":"IF(#REF!=\"TODOS\",\"TODOS\",$I6)","v":{"$error":"#REF!"}},{"$f":"IF(#REF!=\"TODOS\",\"TODOS\",$C6)","v":{"$error":"#REF!"}},{"$f":"IF(#REF!=\"TODOS\",\"TODOS\",$J6)","v":{"$error":"#REF!"}},{"$f":"IF(#REF!=\"TODOS\",\"TODOS\",$I6)","v":{"$error":"#REF!"}}]
["2023-01-07","2023-01-16","2022-12-01",{"$f":"DAY(N7)","v":16},"única","2.01 - Despesa Operacional","2.01.03 - Serviços de Terceiros","Ana Moura - Serviços de comunicação - Planos de Manejo","Ana Moura","5.01.32 - IDG - Padua - Plano de Manejo","Pago","Santander",-360,"2023-01-16","Transferência",{"$f":"IFERROR(IF(OR(VLOOKUP(F7,Validações!$C$2:$D$17,2,FALSE)=1,VLOOKUP(F7,Validações!$C$2:$D$17,2,FALSE)=3),SUM(P6,M7),SUM(P6,-M7)),P6)","v":6560},{"$f":"IF(AND(N7<$U$3,K7=\"Em aberto\"),\"VENCIDO\",\"-\")","v":"-"},16,{"$f":"TEXT($N7,\"mmmm\")","v":"janeiro"},2023,{"$f":"#REF!","v":{"$error":"#REF!"}},null,null,{"$f":"IFERROR(VLOOKUP(F7,Validações!$C$2:$D$17,2,FALSE),\"\")","v":2},"janeiro",{"$f":"IF(#REF!=\"TODOS\",\"TODOS\",$J7)","v":{"$error":"#REF!"}},{"$f":"IF(#REF!=\"TODAS\",\"TODAS\",$L7)","v":{"$error":"#REF!"}},{"$f":"IF(#REF!=\"TODOS\",\"TODOS\",$J7)","v":{"$error":"#REF!"}},{"$f":"IF(#REF!=\"TODAS\",\"TODAS\",$L7)","v":{"$error":"#REF!"}},{"$f":"IF(#REF!=\"TODOS\",\"TODOS\",$K7)","v":{"$error":"#REF!"}},{"$f":"IF(#REF!=\"TODOS\",\"TODOS\",$I7)","v":{"$error":"#REF!"}},{"$f":"IF(#REF!=\"TODOS\",\"TODOS\",$J7)","v":{"$error":"#REF!"}},{"$f":"IF(#REF!=\"TODAS\",\"TODAS\",$L7)","v":{"$error":"#REF!"}},{"$f":"IF(#REF!=\"TODOS\",\"TODOS\",$K7)","v":{"$error":"#REF!"}},{"$f":"IF(#REF!=\"TODOS\",\"TODOS\",$I7)","v":{"$error":"#REF!"}},{"$f":"IF(#REF!=\"TODOS\",\"TODOS\",$J7)","v":{"$error":"#REF!"}},{"$f":"IF(#REF!=\"TODAS\",\"TODAS\",$L7)","v":{"$error":"#REF!"}},{"$f":"IF(#REF!=\"TODOS\",\"TODOS\",$K7)","v":{"$error":"#REF!"}},{"$f":"IF(#REF!=\"TODOS\",\"TODOS\",$I7)","v":{"$error":"#REF!"}},{"$f":"IF(#REF!=\"TODOS\",\"TODOS\",$J7)","v":{"$error":"#REF!"}},{"$f":"IF(#REF!=\"TODAS\",\"TODAS\",$L7)","v":{"$error":"#REF!"}},{"$f":"IF(#REF!=\"TODOS\",\"TODOS\",$K7)","v":{"$error":"#REF!"}},{"$f":"IF(#REF!=\"TODOS\",\"TODOS\",$I7)","v":{"$error":"#REF!"}},{"$f":"IF(#REF!=\"TODOS\",\"TODOS\",$J7)","v":{"$error":"#REF!"}},{"$f":"IF(#REF!=\"TODAS\",\"TODAS\",$L7)","v":{"$error":"#REF!"}},{"$f":"IF(#REF!=\"TODOS\",\"TODOS\",$K7)","v":{"$error":"#REF!"}},{"$f":"IF(#REF!=\"TODOS\",\"TODOS\",$I7)","v":{"$error":"#REF!"}},{"$f":"IF(#REF!=\"TODOS\",\"TODOS\",$J7)","v":{"$error":"#REF!"}},{"$f":"IF(#REF!=\"TODAS\",\"TODAS\",$L7)","v":{"$error":"#REF!"}},{"$f":"IF(#REF!=\"TODOS\",\"TODOS\",$K7)","v":{"$error":"#REF!"}},{"$f":"IF(#REF!=\"TODOS\",\"TODOS\",$I7)","v":{"$error":"#REF!"}},{"$f":"IF(#REF!=\"TODOS\",\"TODOS\",$J7)","v":{"$error":"#REF!"}},{"$f":"IF(#REF!=\"TODOS\",\"TODOS\",$I7)","v":{"$error":"#REF!"}},{"$f":"IF(#REF!=\"TODOS\",\"TODOS\",$Y7)","v":{"$error":"#REF!"}},null,null,null,null,null,null,null,null,null,null,null,null,null,null,null,null,null,{"$f":"IF(#REF!=\"TODOS\",\"TODOS\",$J7)","v":{"$error":"#REF!"}},{"$f":"IF(#REF!=\"TODOS\",\"TODOS\",$I7)","v":{"$error":"#REF!"}},{"$f":"IF(#REF!=\"TODOS\",\"TODOS\",$C7)","v":{"$error":"#REF!"}},{"$f":"IF(#REF!=\"TODOS\",\"TODOS\",$J7)","v":{"$error":"#REF!"}},{"$f":"IF(#REF!=\"TODOS\",\"TODOS\",$I7)","v":{"$error":"#REF!"}}]
["2022-12-15","2023-01-16","2022-12-22",16,"única","1.01 - Receita de vendas","1.01.03 - RE","NF 0259 - ETE Obra 640.01 Parque Tijuca (Proj. Layout)","Obra 640.01 - Parque Tijuca","5.01.51 - ETE 640.01 - Parque Tijuca","Em aberto","Santander",3500,"2023-01-16","Transferência",{"$f":"IFERROR(IF(OR(VLOOKUP(F8,Validações!$C$2:$D$17,2,FALSE)=1,VLOOKUP(F8,Validações!$C$2:$D$17,2,FALSE)=3),SUM(P7,M8),SUM(P7,-M8)),P7)","v":10060},"VENCIDO",16,"janeiro",2023,"Total de entradas",null,null,{"$f":"IFERROR(VLOOKUP(F8,Validações!$C$2:$D$17,2,FALSE),\"\")","v":1},"janeiro",{"$f":"IF(#REF!=\"TODOS\",\"TODOS\",$J8)","v":{"$error":"#REF!"}},{"$f":"IF(#REF!=\"TODAS\",\"TODAS\",$L8)","v":{"$error":"#REF!"}},{"$f":"IF(#REF!=\"TODOS\",\"TODOS\",$J8)","v":{"$error":"#REF!"}},{"$f":"IF(#REF!=\"TODAS\",\"TODAS\",$L8)","v":{"$error":"#REF!"}},{"$f":"IF(#REF!=\"TODOS\",\"TODOS\",$K8)","v":{"$error":"#REF!"}},{"$f":"IF(#REF!=\"TODOS\",\"TODOS\",$I8)","v":{"$error":"#REF!"}},{"$f":"IF(#REF!=\"TODOS\",\"TODOS\",$J8)","v":{"$error":"#REF!"}},{"$f":"IF(#REF!=\"TODAS\",\"TODAS\",$L8)","v":{"$error":"#REF!"}},{"$f":"IF(#REF!=\"TODOS\",\"TODOS\",$K8)","v":{"$error":"#REF!"}},{"$f":"IF(#REF!=\"TODOS\",\"TODOS\",$I8)","v":{"$error":"#REF!"}},{"$f":"IF(#REF!=\"TODOS\",\"TODOS\",$J8)","v":{"$error":"#REF!"}},{"$f":"IF(#REF!=\"TODAS\",\"TODAS\",$L8)","v":{"$error":"#REF!"}},{"$f":"IF(#REF!=\"TODOS\",\"TODOS\",$K8)","v":{"$error":"#REF!"}},{"$f":"IF(#REF!=\"TODOS\",\"TODOS\",$I8)","v":{"$error":"#REF!"}},{"$f":"IF(#REF!=\"TODOS\",\"TODOS\",$J8)","v":{"$error":"#REF!"}},{"$f":"IF(#REF!=\"TODAS\",\"TODAS\",$L8)","v":{"$error":"#REF!"}},{"$f":"IF(#REF!=\"TODOS\",\"TODOS\",$K8)","v":{"$error":"#REF!"}},{"$f":"IF(#REF!=\"TODOS\",\"TODOS\",$I8)","v":{"$error":"#REF!"}},{"$f":"IF(#REF!=\"TODOS\",\"TODOS\",$J8)","v":{"$error":"#REF!"}},{"$f":"IF(#REF!=\"TODAS\",\"TODAS\",$L8)","v":{"$error":"#REF!"}},{"$f":"IF(#REF!=\"TODOS\",\"TODOS\",$K8)","v":{"$error":"#REF!"}},{"$f":"IF(#REF!=\"TODOS\",\"TODOS\",$I8)","v":{"$error":"#REF!"}},{"$f":"IF(#REF!=\"TODOS\",\"TODOS\",$J8)","v":{"$error":"#REF!"}},{"$f":"IF(#REF!=\"TODAS\",\"TODAS\",$L8)","v":{"$error":"#REF!"}},{"$f":"IF(#REF!=\"TODOS\",\"TODOS\",$K8)","v":{"$error":"#REF!"}},{"$f":"IF(#REF!=\"TODOS\",\"TODOS\",$I8)","v":{"$error":"#REF!"}},{"$f":"IF(#REF!=\"TODOS\",\"TODOS\",$J8)","v":{"$error":"#REF!"}},{"$f":"IF(#REF!=\"TODOS\",\"TODOS\",$I8)","v":{"$error":"#REF!"}},{"$f":"IF(#REF!=\"TODOS\",\"TODOS\",$Y8)","v":{"$error":"#REF!"}},null,null,null,null,null,null,null,null,null,null,null,null,null,null,null,null,null,{"$f":"IF(#REF!=\"TODOS\",\"TODOS\",$J8)","v":{"$error":"#REF!"}},{"$f":"IF(#REF!=\"TODOS\",\"TODOS\",$I8)","v":{"$error":"#REF!"}},{"$f":"IF(#REF!=\"TODOS\",\"TODOS\",$C8)","v":{"$error":"#REF!"}},{"$f":"IF(#REF!=\"TODOS\",\"TODOS\",$J8)","v":{"$error":"#REF!"}},{"$f":"IF(#REF!=\"TODOS\",\"TODOS\",$I8)","v":{"$error":"#REF!"}}]
["2023-01-16","2023-01-16","2023-01-01",16,"única","2.01 - Despesa Operacional","2.01.03 - Serviços de Terceiros","Reembolso pgto Consultor Tecnico - Ciro - Braskem (parc. 2/2)","Rodrigo Imbuzeiro Cardoso","5.01.31 - Braskem - Unidade Caxias","Pago","Santander",-4400,"2023-01-16","Transferência",{"$f":"IFERROR(IF(OR(VLOOKUP(F9,Validações!$C$2:$D$17,2,FALSE)=1,VLOOKUP(F9,Validações!$C$2:$D$17,2,FALSE)=3),SUM(P8,M9),SUM(P8,-M9)),P8)","v":14460},"-",16,"janeiro",2023,{"$f":"SUMIF(X:X,1,$M:$M)","v":77226.600000000006},null,null,{"$f":"IFERROR(VLOOKUP(F9,Validações!$C$2:$D$17,2,FALSE),\"\")","v":2},"janeiro",{"$f":"IF(#REF!=\"TODOS\",\"TODOS\",$J9)","v":{"$error":"#REF!"}},{"$f":"IF(#REF!=\"TODAS\",\"TODAS\",$L9)","v":{"$error":"#REF!"}},{"$f":"IF(#REF!=\"TODOS\",\"TODOS\",$J9)","v":{"$error":"#REF!"}},{"$f":"IF(#REF!=\"TODAS\",\"TODAS\",$L9)","v":{"$error":"#REF!"}},{"$f":"IF(#REF!=\"TODOS\",\"TODOS\",$K9)","v":{"$error":"#REF!"}},{"$f":"IF(#REF!=\"TODOS\",\"TODOS\",$I9)","v":{"$error":"#REF!"}},{"$f":"IF(#REF!=\"TODOS\",\"TODOS\",$J9)","v":{"$error":"#REF!"}},{"$f":"IF(#REF!=\"TODAS\",\"TODAS\",$L9)","v":{"$error":"#REF!"}},{"$f":"IF(#REF!=\"TODOS\",\"TODOS\",$K9)","v":{"$error":"#REF!"}},{"$f":"IF(#REF!=\"TODOS\",\"TODOS\",$I9)","v":{"$error":"#REF!"}},{"$f":"IF(#REF!=\"TODOS\",\"TODOS\",$J9)","v":{"$error":"#REF!"}},{"$f":"IF(#REF!=\"TODAS\",\"TODAS\",$L9)","v":{"$error":"#REF!"}},{"$f":"IF(#REF!=\"TODOS\",\"TODOS\",$K9)","v":{"$error":"#REF!"}},{"$f":"IF(#REF!=\"TODOS\",\"TODOS\",$I9)","v":{"$error":"#REF!"}},{"$f":"IF(#REF!=\"TODOS\",\"TODOS\",$J9)","v":{"$error":"#REF!"}},{"$f":"IF(#REF!=\"TODAS\",\"TODAS\",$L9)","v":{"$error":"#REF!"}},{"$f":"IF(#REF!=\"TODOS\",\"TODOS\",$K9)","v":{"$error":"#REF!"}},{"$f":"IF(#REF!=\"TODOS\",\"TODOS\",$I9)","v":{"$error":"#REF!"}},{"$f":"IF(#REF!=\"TODOS\",\"TODOS\",$J9)","v":{"$error":"#REF!"}},{"$f":"IF(#REF!=\"TODAS\",\"TODAS\",$L9)","v":{"$error":"#REF!"}},{"$f":"IF(#REF!=\"TODOS\",\"TODOS\",$K9)","v":{"$error":"#REF!"}},{"$f":"IF(#REF!=\"TODOS\",\"TODOS\",$I9)","v":{"$error":"#REF!"}},{"$f":"IF(#REF!=\"TODOS\",\"TODOS\",$J9)","v":{"$error":"#REF!"}},{"$f":"IF(#REF!=\"TODAS\",\"TODAS\",$L9)","v":{"$error":"#REF!"}},{"$f":"IF(#REF!=\"TODOS\",\"TODOS\",$K9)","v":{"$error":"#REF!"}},{"$f":"IF(#REF!=\"TODOS\",\"TODOS\",$I9)","v":{"$error":"#REF!"}},{"$f":"IF(#REF!=\"TODOS\",\"TODOS\",$J9)","v":{"$error":"#REF!"}},{"$f":"IF(#REF!=\"TODOS\",\"TODOS\",$I9)","v":{"$error":"#REF!"}},{"$f":"IF(#REF!=\"TODOS\",\"TODOS\",$Y9)","v":{"$error":"#REF!"}},null,null,null,null,null,null,null,null,null,null,null,null,null,null,null,null,null,{"$f":"IF(#REF!=\"TODOS\",\"TODOS\",$J9)","v":{"$error":"#REF!"}},{"$f":"IF(#REF!=\"TODOS\",\"TODOS\",$I9)","v":{"$error":"#REF!"}},{"$f":"IF(#REF!=\"TODOS\",\"TODOS\",$C9)","v":{"$error":"#REF!"}},{"$f":"IF(#REF!=\"TODOS\",\"TODOS\",$J9)","v":{"$error":"#REF!"}},{"$f":"IF(#REF!=\"TODOS\",\"TODOS\",$I9)","v":{"$error":"#REF!"}}]
["2023-01-11","2023-01-20","2023-01-23",20,"única","2.04 - Despesas administrativas","2.04.10 - Taxas","CREA RJ - Anuidade 2023","CREA RJ","5.01.02 - Administrativo","Em aberto","Santander",-1069.23,"2023-01-20","Boleto",{"$f":"IFERROR(IF(OR(VLOOKUP(F10,Validações!$C$2:$D$17,2,FALSE)=1,VLOOKUP(F10,Validações!$C$2:$D$17,2,FALSE)=3),SUM(P9,M10),SUM(P9,-M10)),P9)","v":15529.23},"VENCIDO",20,"janeiro",2023,"Total de saídas",null,null,{"$f":"IFERROR(VLOOKUP(F10,Validações!$C$2:$D$17,2,FALSE),\"\")","v":2},"janeiro",{"$f":"IF(#REF!=\"TODOS\",\"TODOS\",$J10)","v":{"$error":"#REF!"}},{"$f":"IF(#REF!=\"TODAS\",\"TODAS\",$L10)","v":{"$error":"#REF!"}},{"$f":"IF(#REF!=\"TODOS\",\"TODOS\",$J10)","v":{"$error":"#REF!"}},{"$f":"IF(#REF!=\"TODAS\",\"TODAS\",$L10)","v":{"$error":"#REF!"}},{"$f":"IF(#REF!=\"TODOS\",\"TODOS\",$K10)","v":{"$error":"#REF!"}},{"$f":"IF(#REF!=\"TODOS\",\"TODOS\",$I10)","v":{"$error":"#REF!"}},{"$f":"IF(#REF!=\"TODOS\",\"TODOS\",$J10)","v":{"$error":"#REF!"}},{"$f":"IF(#REF!=\"TODAS\",\"TODAS\",$L10)","v":{"$error":"#REF!"}},{"$f":"IF(#REF!=\"TODOS\",\"TODOS\",$K10)","v":{"$error":"#REF!"}},{"$f":"IF(#REF!=\"TODOS\",\"TODOS\",$I10)","v":{"$error":"#REF!"}},{"$f":"IF(#REF!=\"TODOS\",\"TODOS\",$J10)","v":{"$error":"#REF!"}},{"$f":"IF(#REF!=\"TODAS\",\"TODAS\",$L10)","v":{"$error":"#REF!"}},{"$f":"IF(#REF!=\"TODOS\",\"TODOS\",$K10)","v":{"$error":"#REF!"}},{"$f":"IF(#REF!=\"TODOS\",\"TODOS\",$I10)","v":{"$error":"#REF!"}},{"$f":"IF(#REF!=\"TODOS\",\"TODOS\",$J10)","v":{"$error":"#REF!"}},{"$f":"IF(#REF!=\"TODAS\",\"TODAS\",$L10)","v":{"$error":"#REF!"}},{"$f":"IF(#REF!=\"TODOS\",\"TODOS\",$K10)","v":{"$error":"#REF!"}},{"$f":"IF(#REF!=\"TODOS\",\"TODOS\",$I10)","v":{"$error":"#REF!"}},{"$f":"IF(#REF!=\"TODOS\",\"TODOS\",$J10)","v":{"$error":"#REF!"}},{"$f":"IF(#REF!=\"TODAS\",\"TODAS\",$L10)","v":{"$error":"#REF!"}},{"$f":"IF(#REF!=\"TODOS\",\"TODOS\",$K10)","v":{"$error":"#REF!"}},{"$f":"IF(#REF!=\"TODOS\",\"TODOS\",$I10)","v":{"$error":"#REF!"}},{"$f":"IF(#REF!=\"TODOS\",\"TODOS\",$J10)","v":{"$error":"#REF!"}},{"$f":"IF(#REF!=\"TODAS\",\"TODAS\",$L10)","v":{"$error":"#REF!"}},{"$f":"IF(#REF!=\"TODOS\",\"TODOS\",$K10)","v":{"$error":"#REF!"}},{"$f":"IF(#REF!=\"TODOS\",\"TODOS\",$I10)","v":{"$error":"#REF!"}},{"$f":"IF(#REF!=\"TODOS\",\"TODOS\",$J10)","v":{"$error":"#REF!"}},{"$f":"IF(#REF!=\"TODOS\",\"TODOS\",$I10)","v":{"$error":"#REF!"}},{"$f":"IF(#REF!=\"TODOS\",\"TODOS\",$Y10)","v":{"$error":"#REF!"}},null,null,null,null,null,null,null,null,null,null,null,null,null,null,null,null,null,{"$f":"IF(#REF!=\"TODOS\",\"TODOS\",$J10)","v":{"$error":"#REF!"}},{"$f":"IF(#REF!=\"TODOS\",\"TODOS\",$I10)","v":{"$error":"#REF!"}},{"$f":"IF(#REF!=\"TODOS\",\"TODOS\",$C10)","v":{"$error":"#REF!"}},{"$f":"IF(#REF!=\"TODOS\",\"TODOS\",$J10)","v":{"$error":"#REF!"}},{"$f":"IF(#REF!=\"TODOS\",\"TODOS\",$I10)","v":{"$error":"#REF!"}}]
["2022-11-06","2023-01-25","2022-10-01",25,"única","2.01 - Despesa Operacional","2.01.03 - Serviços de Terceiros","Magma - Daniel Marques - IAD Equinix (parc. 2/2)","Daniel Marques (Magma)","5.01.39 - Togale - Equinix","Em aberto","Santander",-5400,"2023-01-25","Transferência",{"$f":"IFERROR(IF(OR(VLOOKUP(F11,Validações!$C$2:$D$17,2,FALSE)=1,VLOOKUP(F11,Validações!$C$2:$D$17,2,FALSE)=3),SUM(P10,M11),SUM(P10,-M11)),P10)","v":20929.23},"-",25,"janeiro",2023,{"$f":"-SUMIF(X:X,2,$M:$M)","v":31276.35},null,null,{"$f":"IFERROR(VLOOKUP(F11,Validações!$C$2:$D$17,2,FALSE),\"\")","v":2},"janeiro",{"$f":"IF(#REF!=\"TODOS\",\"TODOS\",$J11)","v":{"$error":"#REF!"}},{"$f":"IF(#REF!=\"TODAS\",\"TODAS\",$L11)","v":{"$error":"#REF!"}},{"$f":"IF(#REF!=\"TODOS\",\"TODOS\",$J11)","v":{"$error":"#REF!"}},{"$f":"IF(#REF!=\"TODAS\",\"TODAS\",$L11)","v":{"$error":"#REF!"}},{"$f":"IF(#REF!=\"TODOS\",\"TODOS\",$K11)","v":{"$error":"#REF!"}},{"$f":"IF(#REF!=\"TODOS\",\"TODOS\",$I11)","v":{"$error":"#REF!"}},{"$f":"IF(#REF!=\"TODOS\",\"TODOS\",$J11)","v":{"$error":"#REF!"}},{"$f":"IF(#REF!=\"TODAS\",\"TODAS\",$L11)","v":{"$error":"#REF!"}},{"$f":"IF(#REF!=\"TODOS\",\"TODOS\",$K11)","v":{"$error":"#REF!"}},{"$f":"IF(#REF!=\"TODOS\",\"TODOS\",$I11)","v":{"$error":"#REF!"}},{"$f":"IF(#REF!=\"TODOS\",\"TODOS\",$J11)","v":{"$error":"#REF!"}},{"$f":"IF(#REF!=\"TODAS\",\"TODAS\",$L11)","v":{"$error":"#REF!"}},{"$f":"IF(#REF!=\"TODOS\",\"TODOS\",$K11)","v":{"$error":"#REF!"}},{"$f":"IF(#REF!=\"TODOS\",\"TODOS\",$I11)","v":{"$error":"#REF!"}},{"$f":"IF(#REF!=\"TODOS\",\"TODOS\",$J11)","v":{"$error":"#REF!"}},{"$f":"IF(#REF!=\"TODAS\",\"TODAS\",$L11)","v":{"$error":"#REF!"}},{"$f":"IF(#REF!=\"TODOS\",\"TODOS\",$K11)","v":{"$error":"#REF!"}},{"$f":"IF(#REF!=\"TODOS\",\"TODOS\",$I11)","v":{"$error":"#REF!"}},{"$f":"IF(#REF!=\"TODOS\",\"TODOS\",$J11)","v":{"$error":"#REF!"}},{"$f":"IF(#REF!=\"TODAS\",\"TODAS\",$L11)","v":{"$error":"#REF!"}},{"$f":"IF(#REF!=\"TODOS\",\"TODOS\",$K11)","v":{"$error":"#REF!"}},{"$f":"IF(#REF!=\"TODOS\",\"TODOS\",$I11)","v":{"$error":"#REF!"}},{"$f":"IF(#REF!=\"TODOS\",\"TODOS\",$J11)","v":{"$error":"#REF!"}},{"$f":"IF(#REF!=\"TODAS\",\"TODAS\",$L11)","v":{"$error":"#REF!"}},{"$f":"IF(#REF!=\"TODOS\",\"TODOS\",$K11)","v":{"$error":"#REF!"}},{"$f":"IF(#REF!=\"TODOS\",\"TODOS\",$I11)","v":{"$error":"#REF!"}},{"$f":"IF(#REF!=\"TODOS\",\"TODOS\",$J11)","v":{"$error":"#REF!"}},{"$f":"IF(#REF!=\"TODOS\",\"TODOS\",$I11)","v":{"$error":"#REF!"}},{"$f":"IF(#REF!=\"TODOS\",\"TODOS\",$Y11)","v":{"$error":"#REF!"}},null,null,null,null,null,null,null,null,null,null,null,null,null,null,null,null,null,{"$f":"IF(#REF!=\"TODOS\",\"TODOS\",$J11)","v":{"$error":"#REF!"}},{"$f":"IF(#REF!=\"TODOS\",\"TODOS\",$I11)","v":{"$error":"#REF!"}},{"$f":"IF(#REF!=\"TODOS\",\"TODOS\",$C11)","v":{"$error":"#REF!"}},{"$f":"IF(#REF!=\"TODOS\",\"TODOS\",$J11)","v":{"$error":"#REF!"}},{"$f":"IF(#REF!=\"TODOS\",\"TODOS\",$I11)","v":{"$error":"#REF!"}}]
["2022-11-06","2023-01-25","2022-10-01",25,"única","1.01 - Receita de vendas","1.01.02 - GAC","Togale - Equinix IAD (SNF) - parc.2/2","Togale","5.01.39 - Togale - Equinix","Em aberto","Santander",7250,"2023-01-25","Transferência",{"$f":"IFERROR(IF(OR(VLOOKUP(F12,Validações!$C$2:$D$17,2,FALSE)=1,VLOOKUP(F12,Validações!$C$2:$D$17,2,FALSE)=3),SUM(P11,M12),SUM(P11,-M12)),P11)","v":28179.23},"-",25,"janeiro",2023,"Resultado do mês",null,null,{"$f":"IFERROR(VLOOKUP(F12,Validações!$C$2:$D$17,2,FALSE),\"\")","v":1},"janeiro",{"$f":"IF(#REF!=\"TODOS\",\"TODOS\",$J12)","v":{"$error":"#REF!"}},{"$f":"IF(#REF!=\"TODAS\",\"TODAS\",$L12)","v":{"$error":"#REF!"}},{"$f":"IF(#REF!=\"TODOS\",\"TODOS\",$J12)","v":{"$error":"#REF!"}},{"$f":"IF(#REF!=\"TODAS\",\"TODAS\",$L12)","v":{"$error":"#REF!"}},{"$f":"IF(#REF!=\"TODOS\",\"TODOS\",$K12)","v":{"$error":"#REF!"}},{"$f":"IF(#REF!=\"TODOS\",\"TODOS\",$I12)","v":{"$error":"#REF!"}},{"$f":"IF(#REF!=\"TODOS\",\"TODOS\",$J12)","v":{"$error":"#REF!"}},{"$f":"IF(#REF!=\"TODAS\",\"TODAS\",$L12)","v":{"$error":"#REF!"}},{"$f":"IF(#REF!=\"TODOS\",\"TODOS\",$K12)","v":{"$error":"#REF!"}},{"$f":"IF(#REF!=\"TODOS\",\"TODOS\",$I12)","v":{"$error":"#REF!"}},{"$f":"IF(#REF!=\"TODOS\",\"TODOS\",$J12)","v":{"$error":"#REF!"}},{"$f":"IF(#REF!=\"TODAS\",\"TODAS\",$L12)","v":{"$error":"#REF!"}},{"$f":"IF(#REF!=\"TODOS\",\"TODOS\",$K12)","v":{"$error":"#REF!"}},{"$f":"IF(#REF!=\"TODOS\",\"TODOS\",$I12)","v":{"$error":"#REF!"}},{"$f":"IF(#REF!=\"TODOS\",\"TODOS\",$J12)","v":{"$error":"#REF!"}},{"$f":"IF(#REF!=\"TODAS\",\"TODAS\",$L12)","v":{"$error":"#REF!"}},{"$f":"IF(#REF!=\"TODOS\",\"TODOS\",$K12)","v":{"$error":"#REF!"}},{"$f":"IF(#REF!=\"TODOS\",\"TODOS\",$I12)","v":{"$error":"#REF!"}},{"$f":"IF(#REF!=\"TODOS\",\"TODOS\",$J12)","v":{"$error":"#REF!"}},{"$f":"IF(#REF!=\"TODAS\",\"TODAS\",$L12)","v":{"$error":"#REF!"}},{"$f":"IF(#REF!=\"TODOS\",\"TODOS\",$K12)","v":{"$error":"#REF!"}},{"$f":"IF(#REF!=\"TODOS\",\"TODOS\",$I12)","v":{"$error":"#REF!"}},{"$f":"IF(#REF!=\"TODOS\",\"TODOS\",$J12)","v":{"$error":"#REF!"}},{"$f":"IF(#REF!=\"TODAS\",\"TODAS\",$L12)","v":{"$error":"#REF!"}},{"$f":"IF(#REF!=\"TODOS\",\"TODOS\",$K12)","v":{"$error":"#REF!"}},{"$f":"IF(#REF!=\"TODOS\",\"TODOS\",$I12)","v":{"$error":"#REF!"}},{"$f":"IF(#REF!=\"TODOS\",\"TODOS\",$J12)","v":{"$error":"#REF!"}},{"$f":"IF(#REF!=\"TODOS\",\"TODOS\",$I12)","v":{"$error":"#REF!"}},{"$f":"IF(#REF!=\"TODOS\",\"TODOS\",$Y12)","v":{"$error":"#REF!"}},null,null,null,null,null,null,null,null,null,null,null,null,null,null,null,null,null,{"$f":"IF(#REF!=\"TODOS\",\"TODOS\",$J12)","v":{"$error":"#REF!"}},{"$f":"IF(#REF!=\"TODOS\",\"TODOS\",$I12)","v":{"$error":"#REF!"}},{"$f":"IF(#REF!=\"TODOS\",\"TODOS\",$C12)","v":{"$error":"#REF!"}},{"$f":"IF(#REF!=\"TODOS\",\"TODOS\",$J12)","v":{"$error":"#REF!"}},{"$f":"IF(#REF!=\"TODOS\",\"TODOS\",$I12)","v":{"$error":"#REF!"}}]
["2021-12-05","2023-01-25","2022-01-01",25,"única","1.01 - Receita de vendas","1.01.01 - CEPA","NF 0xxx - Emissão DAIA ETIM (Parcela 3)","ETIM - EXPANSION TRANSMISSAO ITUMBIARA MARIMBONDO S.A.","5.01.20 - State Grid","Em aberto","Santander",3966,"2023-01-25","Transferência",{"$f":"IFERROR(IF(OR(VLOOKUP(F13,Validações!$C$2:$D$17,2,FALSE)=1,VLOOKUP(F13,Validações!$C$2:$D$17,2,FALSE)=3),SUM(P12,M13),SUM(P12,-M13)),P12)","v":32145.23},"-",25,"janeiro",2023,{"$f":"SUM(U9,U11)","v":108502.95000000001},null,null,{"$f":"IFERROR(VLOOKUP(F13,Validações!$C$2:$D$17,2,FALSE),\"\")","v":1},"janeiro",{"$f":"IF(#REF!=\"TODOS\",\"TODOS\",$J13)","v":{"$error":"#REF!"}},{"$f":"IF(#REF!=\"TODAS\",\"TODAS\",$L13)","v":{"$error":"#REF!"}},{"$f":"IF(#REF!=\"TODOS\",\"TODOS\",$J13)","v":{"$error":"#REF!"}},{"$f":"IF(#REF!=\"TODAS\",\"TODAS\",$L13)","v":{"$error":"#REF!"}},{"$f":"IF(#REF!=\"TODOS\",\"TODOS\",$K13)","v":{"$error":"#REF!"}},{"$f":"IF(#REF!=\"TODOS\",\"TODOS\",$I13)","v":{"$error":"#REF!"}},{"$f":"IF(#REF!=\"TODOS\",\"TODOS\",$J13)","v":{"$error":"#REF!"}},{"$f":"IF(#REF!=\"TODAS\",\"TODAS\",$L13)","v":{"$error":"#REF!"}},{"$f":"IF(#REF!=\"TODOS\",\"TODOS\",$K13)","v":{"$error":"#REF!"}},{"$f":"IF(#REF!=\"TODOS\",\"TODOS\",$I13)","v":{"$error":"#REF!"}},{"$f":"IF(#REF!=\"TODOS\",\"TODOS\",$J13)","v":{"$error":"#REF!"}},{"$f":"IF(#REF!=\"TODAS\",\"TODAS\",$L13)","v":{"$error":"#REF!"}},{"$f":"IF(#REF!=\"TODOS\",\"TODOS\",$K13)","v":{"$error":"#REF!"}},{"$f":"IF(#REF!=\"TODOS\",\"TODOS\",$I13)","v":{"$error":"#REF!"}},{"$f":"IF(#REF!=\"TODOS\",\"TODOS\",$J13)","v":{"$error":"#REF!"}},{"$f":"IF(#REF!=\"TODAS\",\"TODAS\",$L13)","v":{"$error":"#REF!"}},{"$f":"IF(#REF!=\"TODOS\",\"TODOS\",$K13)","v":{"$error":"#REF!"}},{"$f":"IF(#REF!=\"TODOS\",\"TODOS\",$I13)","v":{"$error":"#REF!"}},{"$f":"IF(#REF!=\"TODOS\",\"TODOS\",$J13)","v":{"$error":"#REF!"}},{"$f":"IF(#REF!=\"TODAS\",\"TODAS\",$L13)","v":{"$error":"#REF!"}},{"$f":"IF(#REF!=\"TODOS\",\"TODOS\",$K13)","v":{"$error":"#REF!"}},{"$f":"IF(#REF!=\"TODOS\",\"TODOS\",$I13)","v":{"$error":"#REF!"}},{"$f":"IF(#REF!=\"TODOS\",\"TODOS\",$J13)","v":{"$error":"#REF!"}},{"$f":"IF(#REF!=\"TODAS\",\"TODAS\",$L13)","v":{"$error":"#REF!"}},{"$f":"IF(#REF!=\"TODOS\",\"TODOS\",$K13)","v":{"$error":"#REF!"}},{"$f":"IF(#REF!=\"TODOS\",\"TODOS\",$I13)","v":{"$error":"#REF!"}},{"$f":"IF(#REF!=\"TODOS\",\"TODOS\",$J13)","v":{"$error":"#REF!"}},{"$f":"IF(#REF!=\"TODOS\",\"TODOS\",$I13)","v":{"$error":"#REF!"}},{"$f":"IF(#REF!=\"TODOS\",\"TODOS\",$Y13)","v":{"$error":"#REF!"}},null,null,null,null,null,null,null,null,null,null,null,null,null,null,null,null,null,{"$f":"IF(#REF!=\"TODOS\",\"TODOS\",$J13)","v":{"$error":"#REF!"}},{"$f":"IF(#REF!=\"TODOS\",\"TODOS\",$I13)","v":{"$error":"#REF!"}},{"$f":"IF(#REF!=\"TODOS\",\"TODOS\",$C13)","v":{"$error":"#REF!"}},{"$f":"IF(#REF!=\"TODOS\",\"TODOS\",$J13)","v":{"$error":"#REF!"}},{"$f":"IF(#REF!=\"TODOS\",\"TODOS\",$I13)","v":{"$error":"#REF!"}}]
["2021-12-01","2023-01-25","2021-10-01",25,"única","2.01 - Despesa Operacional","2.01.03 - Serviços de Terceiros","DAIA ETIM - State Grid - Andre Barata (Parcela 3)","Andre de Souza Santos","5.01.20 - State Grid","Em aberto","Itau",-1593,"2023-01-25","Transferência",{"$f":"IFERROR(IF(OR(VLOOKUP(F14,Validações!$C$2:$D$17,2,FALSE)=1,VLOOKUP(F14,Validações!$C$2:$D$17,2,FALSE)=3),SUM(P13,M14),SUM(P13,-M14)),P13)","v":33738.229999999996},"-",25,"janeiro",2023,"Saldo final do mês",null,null,{"$f":"IFERROR(VLOOKUP(F14,Validações!$C$2:$D$17,2,FALSE),\"\")","v":2},"janeiro",{"$f":"IF(#REF!=\"TODOS\",\"TODOS\",$J14)","v":{"$error":"#REF!"}},{"$f":"IF(#REF!=\"TODAS\",\"TODAS\",$L14)","v":{"$error":"#REF!"}},{"$f":"IF(#REF!=\"TODOS\",\"TODOS\",$J14)","v":{"$error":"#REF!"}},{"$f":"IF(#REF!=\"TODAS\",\"TODAS\",$L14)","v":{"$error":"#REF!"}},{"$f":"IF(#REF!=\"TODOS\",\"TODOS\",$K14)","v":{"$error":"#REF!"}},{"$f":"IF(#REF!=\"TODOS\",\"TODOS\",$I14)","v":{"$error":"#REF!"}},{"$f":"IF(#REF!=\"TODOS\",\"TODOS\",$J14)","v":{"$error":"#REF!"}},{"$f":"IF(#REF!=\"TODAS\",\"TODAS\",$L14)","v":{"$error":"#REF!"}},{"$f":"IF(#REF!=\"TODOS\",\"TODOS\",$K14)","v":{"$error":"#REF!"}},{"$f":"IF(#REF!=\"TODOS\",\"TODOS\",$I14)","v":{"$error":"#REF!"}},{"$f":"IF(#REF!=\"TODOS\",\"TODOS\",$J14)","v":{"$error":"#REF!"}},{"$f":"IF(#REF!=\"TODAS\",\"TODAS\",$L14)","v":{"$error":"#REF!"}},{"$f":"IF(#REF!=\"TODOS\",\"TODOS\",$K14)","v":{"$error":"#REF!"}},{"$f":"IF(#REF!=\"TODOS\",\"TODOS\",$I14)","v":{"$error":"#REF!"}},{"$f":"IF(#REF!=\"TODOS\",\"TODOS\",$J14)","v":{"$error":"#REF!"}},{"$f":"IF(#REF!=\"TODAS\",\"TODAS\",$L14)","v":{"$error":"#REF!"}},{"$f":"IF(#REF!=\"TODOS\",\"TODOS\",$K14)","v":{"$error":"#REF!"}},{"$f":"IF(#REF!=\"TODOS\",\"TODOS\",$I14)","v":{"$error":"#REF!"}},{"$f":"IF(#REF!=\"TODOS\",\"TODOS\",$J14)","v":{"$error":"#REF!"}},{"$f":"IF(#REF!=\"TODAS\",\"TODAS\",$L14)","v":{"$error":"#REF!"}},{"$f":"IF(#REF!=\"TODOS\",\"TODOS\",$K14)","v":{"$error":"#REF!"}},{"$f":"IF(#REF!=\"TODOS\",\"TODOS\",$I14)","v":{"$error":"#REF!"}},{"$f":"IF(#REF!=\"TODOS\",\"TODOS\",$J14)","v":{"$error":"#REF!"}},{"$f":"IF(#REF!=\"TODAS\",\"TODAS\",$L14)","v":{"$error":"#REF!"}},{"$f":"IF(#REF!=\"TODOS\",\"TODOS\",$K14)","v":{"$error":"#REF!"}},{"$f":"IF(#REF!=\"TODOS\",\"TODOS\",$I14)","v":{"$error":"#REF!"}},{"$f":"IF(#REF!=\"TODOS\",\"TODOS\",$J14)","v":{"$error":"#REF!"}},{"$f":"IF(#REF!=\"TODOS\",\"TODOS\",$I14)","v":{"$error":"#REF!"}},{"$f":"IF(#REF!=\"TODOS\",\"TODOS\",$Y14)","v":{"$error":"#REF!"}},null,null,null,null,null,null,null,null,null,null,null,null,null,null,null,null,null,{"$f":"IF(#REF!=\"TODOS\",\"TODOS\",$J14)","v":{"$error":"#REF!"}},{"$f":"IF(#REF!=\"TODOS\",\"TODOS\",$I14)","v":{"$error":"#REF!"}},{"$f":"IF(#REF!=\"TODOS\",\"TODOS\",$C14)","v":{"$error":"#REF!"}},{"$f":"IF(#REF!=\"TODOS\",\"TODOS\",$J14)","v":{"$error":"#REF!"}},{"$f":"IF(#REF!=\"TODOS\",\"TODOS\",$I14)","v":{"$error":"#REF!"}}]
["2021-12-01","2023-01-25","2021-10-01",25,"única","2.01 - Despesa Operacional","2.01.03 - Serviços de Terceiros","DAIA ETIM - State Grid - Andre Barata (Parcela 2)","Andre de Souza Santos","5.01.20 - State Grid","Em aberto","Itau",-1858.5,"2023-01-25","Transferência",{"$f":"IFERROR(IF(OR(VLOOKUP(F15,Validações!$C$2:$D$17,2,FALSE)=1,VLOOKUP(F15,Validações!$C$2:$D$17,2,FALSE)=3),SUM(P14,M15),SUM(P14,-M15)),P14)","v":35596.729999999996},"-",25,"janeiro",2023,{"$f":"SUM(U7,U13)","v":{"$error":"#REF!"}},null,null,{"$f":"IFERROR(VLOOKUP(F15,Validações!$C$2:$D$17,2,FALSE),\"\")","v":2},"janeiro",{"$f":"IF(#REF!=\"TODOS\",\"TODOS\",$J15)","v":{"$error":"#REF!"}},{"$f":"IF(#REF!=\"TODAS\",\"TODAS\",$L15)","v":{"$error":"#REF!"}},{"$f":"IF(#REF!=\"TODOS\",\"TODOS\",$J15)","v":{"$error":"#REF!"}},{"$f":"IF(#REF!=\"TODAS\",\"TODAS\",$L15)","v":{"$error":"#REF!"}},{"$f":"IF(#REF!=\"TODOS\",\"TODOS\",$K15)","v":{"$error":"#REF!"}},{"$f":"IF(#REF!=\"TODOS\",\"TODOS\",$I15)","v":{"$error":"#REF!"}},{"$f":"IF(#REF!=\"TODOS\",\"TODOS\",$J15)","v":{"$error":"#REF!"}},{"$f":"IF(#REF!=\"TODAS\",\"TODAS\",$L15)","v":{"$error":"#REF!"}},{"$f":"IF(#REF!=\"TODOS\",\"TODOS\",$K15)","v":{"$error":"#REF!"}},{"$f":"IF(#REF!=\"TODOS\",\"TODOS\",$I15)","v":{"$error":"#REF!"}},{"$f":"IF(#REF!=\"TODOS\",\"TODOS\",$J15)","v":{"$error":"#REF!"}},{"$f":"IF(#REF!=\"TODAS\",\"TODAS\",$L15)","v":{"$error":"#REF!"}},{"$f":"IF(#REF!=\"TODOS\",\"TODOS\",$K15)","v":{"$error":"#REF!"}},{"$f":"IF(#REF!=\"TODOS\",\"TODOS\",$I15)","v":{"$error":"#REF!"}},{"$f":"IF(#REF!=\"TODOS\",\"TODOS\",$J15)","v":{"$error":"#REF!"}},{"$f":"IF(#REF!=\"TODAS\",\"TODAS\",$L15)","v":{"$error":"#REF!"}},{"$f":"IF(#REF!=\"TODOS\",\"TODOS\",$K15)","v":{"$error":"#REF!"}},{"$f":"IF(#REF!=\"TODOS\",\"TODOS\",$I15)","v":{"$error":"#REF!"}},{"$f":"IF(#REF!=\"TODOS\",\"TODOS\",$J15)","v":{"$error":"#REF!"}},{"$f":"IF(#REF!=\"TODAS\",\"TODAS\",$L15)","v":{"$error":"#REF!"}},{"$f":"IF(#REF!=\"TODOS\",\"TODOS\",$K15)","v":{"$error":"#REF!"}},{"$f":"IF(#REF!=\"TODOS\",\"TODOS\",$I15)","v":{"$error":"#REF!"}},{"$f":"IF(#REF!=\"TODOS\",\"TODOS\",$J15)","v":{"$error":"#REF!"}},{"$f":"IF(#REF!=\"TODAS\",\"TODAS\",$L15)","v":{"$error":"#REF!"}},{"$f":"IF(#REF!=\"TODOS\",\"TODOS\",$K15)","v":{"$error":"#REF!"}},{"$f":"IF(#REF!=\"TODOS\",\"TODOS\",$I15)","v":{"$error":"#REF!"}},{"$f":"IF(#REF!=\"TODOS\",\"TODOS\",$J15)","v":{"$error":"#REF!"}},{"$f":"IF(#REF!=\"TODOS\",\"TODOS\",$I15)","v":{"$error":"#REF!"}},{"$f":"IF(#REF!=\"TODOS\",\"TODOS\",$Y15)","v":{"$error":"#REF!"}},null,null,null,null,null,null,null,null,null,null,null,null,null,null,null,null,null,{"$f":"IF(#REF!=\"TODOS\",\"TODOS\",$J15)","v":{"$error":"#REF!"}},{"$f":"IF(#REF!=\"TODOS\",\"TODOS\",$I15)","v":{"$error":"#REF!"}},{"$f":"IF(#REF!=\"TODOS\",\"TODOS\",$C15)","v":{"$error":"#REF!"}},{"$f":"IF(#REF!=\"TODOS\",\"TODOS\",$J15)","v":{"$error":"#REF!"}},{"$f":"IF(#REF!=\"TODOS\",\"TODOS\",$I15)","v":{"$error":"#REF!"}}]
["2023-01-16","2023-01-16","2023-01-23",16,"única","2.02 - Despesa com pessoal","2.02.12 - Exames (ASO)","ASO Periodico - Ciro Moura","GL MED","5.01.31 - Braskem - Unidade Caxias","Pago","Santander",-45,"2023-01-16","Transferência",{"$f":"IFERROR(IF(OR(VLOOKUP(F16,Validações!$C$2:$D$17,2,FALSE)=1,VLOOKUP(F16,Validações!$C$2:$D$17,2,FALSE)=3),SUM(P15,M16),SUM(P15,-M16)),P15)","v":35641.729999999996},"-",16,"janeiro",2023,null,null,null,{"$f":"IFERROR(VLOOKUP(F16,Validações!$C$2:$D$17,2,FALSE),\"\")","v":2},"janeiro",{"$f":"IF(#REF!=\"TODOS\",\"TODOS\",$J16)","v":{"$error":"#REF!"}},{"$f":"IF(#REF!=\"TODAS\",\"TODAS\",$L16)","v":{"$error":"#REF!"}},{"$f":"IF(#REF!=\"TODOS\",\"TODOS\",$J16)","v":{"$error":"#REF!"}},{"$f":"IF(#REF!=\"TODAS\",\"TODAS\",$L16)","v":{"$error":"#REF!"}},{"$f":"IF(#REF!=\"TODOS\",\"TODOS\",$K16)","v":{"$error":"#REF!"}},{"$f":"IF(#REF!=\"TODOS\",\"TODOS\",$I16)","v":{"$error":"#REF!"}},{"$f":"IF(#REF!=\"TODOS\",\"TODOS\",$J16)","v":{"$error":"#REF!"}},{"$f":"IF(#REF!=\"TODAS\",\"TODAS\",$L16)","v":{"$error":"#REF!"}},{"$f":"IF(#REF!=\"TODOS\",\"TODOS\",$K16)","v":{"$error":"#REF!"}},{"$f":"IF(#REF!=\"TODOS\",\"TODOS\",$I16)","v":{"$error":"#REF!"}},{"$f":"IF(#REF!=\"TODOS\",\"TODOS\",$J16)","v":{"$error":"#REF!"}},{"$f":"IF(#REF!=\"TODAS\",\"TODAS\",$L16)","v":{"$error":"#REF!"}},{"$f":"IF(#REF!=\"TODOS\",\"TODOS\",$K16)","v":{"$error":"#REF!"}},{"$f":"IF(#REF!=\"TODOS\",\"TODOS\",$I16)","v":{"$error":"#REF!"}},{"$f":"IF(#REF!=\"TODOS\",\"TODOS\",$J16)","v":{"$error":"#REF!"}},{"$f":"IF(#REF!=\"TODAS\",\"TODAS\",$L16)","v":{"$error":"#REF!"}},{"$f":"IF(#REF!=\"TODOS\",\"TODOS\",$K16)","v":{"$error":"#REF!"}},{"$f":"IF(#REF!=\"TODOS\",\"TODOS\",$I16)","v":{"$error":"#REF!"}},{"$f":"IF(#REF!=\"TODOS\",\"TODOS\",$J16)","v":{"$error":"#REF!"}},{"$f":"IF(#REF!=\"TODAS\",\"TODAS\",$L16)","v":{"$error":"#REF!"}},{"$f":"IF(#REF!=\"TODOS\",\"TODOS\",$K16)","v":{"$error":"#REF!"}},{"$f":"IF(#REF!=\"TODOS\",\"TODOS\",$I16)","v":{"$error":"#REF!"}},{"$f":"IF(#REF!=\"TODOS\",\"TODOS\",$J16)","v":{"$error":"#REF!"}},{"$f":"IF(#REF!=\"TODAS\",\"TODAS\",$L16)","v":{"$error":"#REF!"}},{"$f":"IF(#REF!=\"TODOS\",\"TODOS\",$K16)","v":{"$error":"#REF!"}},{"$f":"IF(#REF!=\"TODOS\",\"TODOS\",$I16)","v":{"$error":"#REF!"}},{"$f":"IF(#REF!=\"TODOS\",\"TODOS\",$J16)","v":{"$error":"#REF!"}},{"$f":"IF(#REF!=\"TODOS\",\"TODOS\",$I16)","v":{"$error":"#REF!"}},{"$f":"IF(#REF!=\"TODOS\",\"TODOS\",$Y16)","v":{"$error":"#REF!"}},null,null,null,null,null,null,null,null,null,null,null,null,null,null,null,null,null,{"$f":"IF(#REF!=\"TODOS\",\"TODOS\",$J16)","v":{"$error":"#REF!"}},{"$f":"IF(#REF!=\"TODOS\",\"TODOS\",$I16)","v":{"$error":"#REF!"}},{"$f":"IF(#REF!=\"TODOS\",\"TODOS\",$C16)","v":{"$error":"#REF!"}},{"$f":"IF(#REF!=\"TODOS\",\"TODOS\",$J16)","v":{"$error":"#REF!"}},{"$f":"IF(#REF!=\"TODOS\",\"TODOS\",$I16)","v":{"$error":"#REF!"}}]
["2023-01-10","2023-01-30","2023-01-23",30,"única","1.01 - Receita de vendas","1.01.01 - CEPA","NF 0270 - IDG - PM Mangaratiba (Produto 6)","IDG - Instituto de Desenvolvimento e Gestão","5.01.33 - IDG - Mangaratiba - Plano de Manejo","Em aberto","Santander",48990.6,"2023-01-30","Transferência",{"$f":"IFERROR(IF(OR(VLOOKUP(F17,Validações!$C$2:$D$17,2,FALSE)=1,VLOOKUP(F17,Validações!$C$2:$D$17,2,FALSE)=3),SUM(P16,M17),SUM(P16,-M17)),P16)","v":84632.329999999987},"-",30,"janeiro",2023,null,null,null,{"$f":"IFERROR(VLOOKUP(F17,Validações!$C$2:$D$17,2,FALSE),\"\")","v":1},"janeiro",{"$f":"IF(#REF!=\"TODOS\",\"TODOS\",$J17)","v":{"$error":"#REF!"}},{"$f":"IF(#REF!=\"TODAS\",\"TODAS\",$L17)","v":{"$error":"#REF!"}},{"$f":"IF(#REF!=\"TODOS\",\"TODOS\",$J17)","v":{"$error":"#REF!"}},{"$f":"IF(#REF!=\"TODAS\",\"TODAS\",$L17)","v":{"$error":"#REF!"}},{"$f":"IF(#REF!=\"TODOS\",\"TODOS\",$K17)","v":{"$error":"#REF!"}},{"$f":"IF(#REF!=\"TODOS\",\"TODOS\",$I17)","v":{"$error":"#REF!"}},{"$f":"IF(#REF!=\"TODOS\",\"TODOS\",$J17)","v":{"$error":"#REF!"}},{"$f":"IF(#REF!=\"TODAS\",\"TODAS\",$L17)","v":{"$error":"#REF!"}},{"$f":"IF(#REF!=\"TODOS\",\"TODOS\",$K17)","v":{"$error":"#REF!"}},{"$f":"IF(#REF!=\"TODOS\",\"TODOS\",$I17)","v":{"$error":"#REF!"}},{"$f":"IF(#REF!=\"TODOS\",\"TODOS\",$J17)","v":{"$error":"#REF!"}},{"$f":"IF(#REF!=\"TODAS\",\"TODAS\",$L17)","v":{"$error":"#REF!"}},{"$f":"IF(#REF!=\"TODOS\",\"TODOS\",$K17)","v":{"$error":"#REF!"}},{"$f":"IF(#REF!=\"TODOS\",\"TODOS\",$I17)","v":{"$error":"#REF!"}},{"$f":"IF(#REF!=\"TODOS\",\"TODOS\",$J17)","v":{"$error":"#REF!"}},{"$f":"IF(#REF!=\"TODAS\",\"TODAS\",$L17)","v":{"$error":"#REF!"}},{"$f":"IF(#REF!=\"TODOS\",\"TODOS\",$K17)","v":{"$error":"#REF!"}},{"$f":"IF(#REF!=\"TODOS\",\"TODOS\",$I17)","v":{"$error":"#REF!"}},{"$f":"IF(#REF!=\"TODOS\",\"TODOS\",$J17)","v":{"$error":"#REF!"}},{"$f":"IF(#REF!=\"TODAS\",\"TODAS\",$L17)","v":{"$error":"#REF!"}},{"$f":"IF(#REF!=\"TODOS\",\"TODOS\",$K17)","v":{"$error":"#REF!"}},{"$f":"IF(#REF!=\"TODOS\",\"TODOS\",$I17)","v":{"$error":"#REF!"}},{"$f":"IF(#REF!=\"TODOS\",\"TODOS\",$J17)","v":{"$error":"#REF!"}},{"$f":"IF(#REF!=\"TODAS\",\"TODAS\",$L17)","v":{"$error":"#REF!"}},{"$f":"IF(#REF!=\"TODOS\",\"TODOS\",$K17)","v":{"$error":"#REF!"}},{"$f":"IF(#REF!=\"TODOS\",\"TODOS\",$I17)","v":{"$error":"#REF!"}},{"$f":"IF(#REF!=\"TODOS\",\"TODOS\",$J17)","v":{"$error":"#REF!"}},{"$f":"IF(#REF!=\"TODOS\",\"TODOS\",$I17)","v":{"$error":"#REF!"}},{"$f":"IF(#REF!=\"TODOS\",\"TODOS\",$Y17)","v":{"$error":"#REF!"}},null,null,null,null,null,null,null,null,null,null,null,null,null,null,null,null,null,{"$f":"IF(#REF!=\"TODOS\",\"TODOS\",$J17)","v":{"$error":"#REF!"}},{"$f":"IF(#REF!=\"TODOS\",\"TODOS\",$I17)","v":{"$error":"#REF!"}},{"$f":"IF(#REF!=\"TODOS\",\"TODOS\",$C17)","v":{"$error":"#REF!"}},{"$f":"IF(#REF!=\"TODOS\",\"TODOS\",$J17)","v":{"$error":"#REF!"}},{"$f":"IF(#REF!=\"TODOS\",\"TODOS\",$I17)","v":{"$error":"#REF!"}}]
["2023-01-10","2023-01-30","2023-01-01",30,"única","1.01 - Receita de vendas","1.01.01 - CEPA","NF 0269 - Lorintech Unidade Caxias - Acompahamento das Condicionantes da LO","Lorintech","5.01.37 - Lorintech - Unidade Caxias","Em aberto","Santander",1290,"2023-01-30","Transferência",{"$f":"IFERROR(IF(OR(VLOOKUP(F18,Validações!$C$2:$D$17,2,FALSE)=1,VLOOKUP(F18,Validações!$C$2:$D$17,2,FALSE)=3),SUM(P17,M18),SUM(P17,-M18)),P17)","v":85922.329999999987},"-",30,"janeiro",2023,null,null,null,{"$f":"IFERROR(VLOOKUP(F18,Validações!$C$2:$D$17,2,FALSE),\"\")","v":1},"janeiro",{"$f":"IF(#REF!=\"TODOS\",\"TODOS\",$J18)","v":{"$error":"#REF!"}},{"$f":"IF(#REF!=\"TODAS\",\"TODAS\",$L18)","v":{"$error":"#REF!"}},{"$f":"IF(#REF!=\"TODOS\",\"TODOS\",$J18)","v":{"$error":"#REF!"}},{"$f":"IF(#REF!=\"TODAS\",\"TODAS\",$L18)","v":{"$error":"#REF!"}},{"$f":"IF(#REF!=\"TODOS\",\"TODOS\",$K18)","v":{"$error":"#REF!"}},{"$f":"IF(#REF!=\"TODOS\",\"TODOS\",$I18)","v":{"$error":"#REF!"}},{"$f":"IF(#REF!=\"TODOS\",\"TODOS\",$J18)","v":{"$error":"#REF!"}},{"$f":"IF(#REF!=\"TODAS\",\"TODAS\",$L18)","v":{"$error":"#REF!"}},{"$f":"IF(#REF!=\"TODOS\",\"TODOS\",$K18)","v":{"$error":"#REF!"}},{"$f":"IF(#REF!=\"TODOS\",\"TODOS\",$I18)","v":{"$error":"#REF!"}},{"$f":"IF(#REF!=\"TODOS\",\"TODOS\",$J18)","v":{"$error":"#REF!"}},{"$f":"IF(#REF!=\"TODAS\",\"TODAS\",$L18)","v":{"$error":"#REF!"}},{"$f":"IF(#REF!=\"TODOS\",\"TODOS\",$K18)","v":{"$error":"#REF!"}},{"$f":"IF(#REF!=\"TODOS\",\"TODOS\",$I18)","v":{"$error":"#REF!"}},{"$f":"IF(#REF!=\"TODOS\",\"TODOS\",$J18)","v":{"$error":"#REF!"}},{"$f":"IF(#REF!=\"TODAS\",\"TODAS\",$L18)","v":{"$error":"#REF!"}},{"$f":"IF(#REF!=\"TODOS\",\"TODOS\",$K18)","v":{"$error":"#REF!"}},{"$f":"IF(#REF!=\"TODOS\",\"TODOS\",$I18)","v":{"$error":"#REF!"}},{"$f":"IF(#REF!=\"TODOS\",\"TODOS\",$J18)","v":{"$error":"#REF!"}},{"$f":"IF(#REF!=\"TODAS\",\"TODAS\",$L18)","v":{"$error":"#REF!"}},{"$f":"IF(#REF!=\"TODOS\",\"TODOS\",$K18)","v":{"$error":"#REF!"}},{"$f":"IF(#REF!=\"TODOS\",\"TODOS\",$I18)","v":{"$error":"#REF!"}},{"$f":"IF(#REF!=\"TODOS\",\"TODOS\",$J18)","v":{"$error":"#REF!"}},{"$f":"IF(#REF!=\"TODAS\",\"TODAS\",$L18)","v":{"$error":"#REF!"}},{"$f":"IF(#REF!=\"TODOS\",\"TODOS\",$K18)","v":{"$error":"#REF!"}},{"$f":"IF(#REF!=\"TODOS\",\"TODOS\",$I18)","v":{"$error":"#REF!"}},{"$f":"IF(#REF!=\"TODOS\",\"TODOS\",$J18)","v":{"$error":"#REF!"}},{"$f":"IF(#REF!=\"TODOS\",\"TODOS\",$I18)","v":{"$error":"#REF!"}},{"$f":"IF(#REF!=\"TODOS\",\"TODOS\",$Y18)","v":{"$error":"#REF!"}},null,null,null,null,null,null,null,null,null,null,null,null,null,null,null,null,null,{"$f":"IF(#REF!=\"TODOS\",\"TODOS\",$J18)","v":{"$error":"#REF!"}},{"$f":"IF(#REF!=\"TODOS\",\"TODOS\",$I18)","v":{"$error":"#REF!"}},{"$f":"IF(#REF!=\"TODOS\",\"TODOS\",$C18)","v":{"$error":"#REF!"}},{"$f":"IF(#REF!=\"TODOS\",\"TODOS\",$J18)","v":{"$error":"#REF!"}},{"$f":"IF(#REF!=\"TODOS\",\"TODOS\",$I18)","v":{"$error":"#REF!"}}]
["2023-01-08","2023-01-30","2023-01-22",30,"única","2.01 - Despesa Operacional","2.01.03 - Serviços de Terceiros","Reemb. Pgto Venturini - Lorintech Unidade Caxias - Acompahamento das Condicionantes da LO (parcela 1 - abr.22)","Rodrigo Imbuzeiro Cardoso","5.01.37 - Lorintech - Unidade Caxias","Em aberto","Santander",-552.5,"2023-01-30","Transferência",{"$f":"IFERROR(IF(OR(VLOOKUP(F19,Validações!$C$2:$D$17,2,FALSE)=1,VLOOKUP(F19,Validações!$C$2:$D$17,2,FALSE)=3),SUM(P18,M19),SUM(P18,-M19)),P18)","v":86474.829999999987},"-",30,"janeiro",2023,null,null,null,{"$f":"IFERROR(VLOOKUP(F19,Validações!$C$2:$D$17,2,FALSE),\"\")","v":2},"janeiro",{"$f":"IF(#REF!=\"TODOS\",\"TODOS\",$J19)","v":{"$error":"#REF!"}},{"$f":"IF(#REF!=\"TODAS\",\"TODAS\",$L19)","v":{"$error":"#REF!"}},{"$f":"IF(#REF!=\"TODOS\",\"TODOS\",$J19)","v":{"$error":"#REF!"}},{"$f":"IF(#REF!=\"TODAS\",\"TODAS\",$L19)","v":{"$error":"#REF!"}},{"$f":"IF(#REF!=\"TODOS\",\"TODOS\",$K19)","v":{"$error":"#REF!"}},{"$f":"IF(#REF!=\"TODOS\",\"TODOS\",$I19)","v":{"$error":"#REF!"}},{"$f":"IF(#REF!=\"TODOS\",\"TODOS\",$J19)","v":{"$error":"#REF!"}},{"$f":"IF(#REF!=\"TODAS\",\"TODAS\",$L19)","v":{"$error":"#REF!"}},{"$f":"IF(#REF!=\"TODOS\",\"TODOS\",$K19)","v":{"$error":"#REF!"}},{"$f":"IF(#REF!=\"TODOS\",\"TODOS\",$I19)","v":{"$error":"#REF!"}},{"$f":"IF(#REF!=\"TODOS\",\"TODOS\",$J19)","v":{"$error":"#REF!"}},{"$f":"IF(#REF!=\"TODAS\",\"TODAS\",$L19)","v":{"$error":"#REF!"}},{"$f":"IF(#REF!=\"TODOS\",\"TODOS\",$K19)","v":{"$error":"#REF!"}},{"$f":"IF(#REF!=\"TODOS\",\"TODOS\",$I19)","v":{"$error":"#REF!"}},{"$f":"IF(#REF!=\"TODOS\",\"TODOS\",$J19)","v":{"$error":"#REF!"}},{"$f":"IF(#REF!=\"TODAS\",\"TODAS\",$L19)","v":{"$error":"#REF!"}},{"$f":"IF(#REF!=\"TODOS\",\"TODOS\",$K19)","v":{"$error":"#REF!"}},{"$f":"IF(#REF!=\"TODOS\",\"TODOS\",$I19)","v":{"$error":"#REF!"}},{"$f":"IF(#REF!=\"TODOS\",\"TODOS\",$J19)","v":{"$error":"#REF!"}},{"$f":"IF(#REF!=\"TODAS\",\"TODAS\",$L19)","v":{"$error":"#REF!"}},{"$f":"IF(#REF!=\"TODOS\",\"TODOS\",$K19)","v":{"$error":"#REF!"}},{"$f":"IF(#REF!=\"TODOS\",\"TODOS\",$I19)","v":{"$error":"#REF!"}},{"$f":"IF(#REF!=\"TODOS\",\"TODOS\",$J19)","v":{"$error":"#REF!"}},{"$f":"IF(#REF!=\"TODAS\",\"TODAS\",$L19)","v":{"$error":"#REF!"}},{"$f":"IF(#REF!=\"TODOS\",\"TODOS\",$K19)","v":{"$error":"#REF!"}},{"$f":"IF(#REF!=\"TODOS\",\"TODOS\",$I19)","v":{"$error":"#REF!"}},{"$f":"IF(#REF!=\"TODOS\",\"TODOS\",$J19)","v":{"$error":"#REF!"}},{"$f":"IF(#REF!=\"TODOS\",\"TODOS\",$I19)","v":{"$error":"#REF!"}},{"$f":"IF(#REF!=\"TODOS\",\"TODOS\",$Y19)","v":{"$error":"#REF!"}},null,null,null,null,null,null,null,null,null,null,null,null,null,null,null,null,null,{"$f":"IF(#REF!=\"TODOS\",\"TODOS\",$J19)","v":{"$error":"#REF!"}},{"$f":"IF(#REF!=\"TODOS\",\"TODOS\",$I19)","v":{"$error":"#REF!"}},{"$f":"IF(#REF!=\"TODOS\",\"TODOS\",$C19)","v":{"$error":"#REF!"}},{"$f":"IF(#REF!=\"TODOS\",\"TODOS\",$J19)","v":{"$error":"#REF!"}},{"$f":"IF(#REF!=\"TODOS\",\"TODOS\",$I19)","v":{"$error":"#REF!"}}]
["2023-01-09","2023-01-09","2023-01-01",9,"única","2.08 - Retirada de sócios","2.08.02 - Mensal","Retirada 09.01.23 - iphone","Rodrigo Imbuzeiro Cardoso","5.01.01 - Sócios","Pago","Santander",-8900,"2023-01-09","Transferência",{"$f":"IFERROR(IF(OR(VLOOKUP(F20,Validações!$C$2:$D$17,2,FALSE)=1,VLOOKUP(F20,Validações!$C$2:$D$17,2,FALSE)=3),SUM(P19,M20),SUM(P19,-M20)),P19)","v":95374.829999999987},"-",9,"janeiro",2023,null,null,null,{"$f":"IFERROR(VLOOKUP(F20,Validações!$C$2:$D$17,2,FALSE),\"\")","v":2},"janeiro",{"$f":"IF(#REF!=\"TODOS\",\"TODOS\",$J20)","v":{"$error":"#REF!"}},{"$f":"IF(#REF!=\"TODAS\",\"TODAS\",$L20)","v":{"$error":"#REF!"}},{"$f":"IF(#REF!=\"TODOS\",\"TODOS\",$J20)","v":{"$error":"#REF!"}},{"$f":"IF(#REF!=\"TODAS\",\"TODAS\",$L20)","v":{"$error":"#REF!"}},{"$f":"IF(#REF!=\"TODOS\",\"TODOS\",$K20)","v":{"$error":"#REF!"}},{"$f":"IF(#REF!=\"TODOS\",\"TODOS\",$I20)","v":{"$error":"#REF!"}},{"$f":"IF(#REF!=\"TODOS\",\"TODOS\",$J20)","v":{"$error":"#REF!"}},{"$f":"IF(#REF!=\"TODAS\",\"TODAS\",$L20)","v":{"$error":"#REF!"}},{"$f":"IF(#REF!=\"TODOS\",\"TODOS\",$K20)","v":{"$error":"#REF!"}},{"$f":"IF(#REF!=\"TODOS\",\"TODOS\",$I20)","v":{"$error":"#REF!"}},{"$f":"IF(#REF!=\"TODOS\",\"TODOS\",$J20)","v":{"$error":"#REF!"}},{"$f":"IF(#REF!=\"TODAS\",\"TODAS\",$L20)","v":{"$error":"#REF!"}},{"$f":"IF(#REF!=\"TODOS\",\"TODOS\",$K20)","v":{"$error":"#REF!"}},{"$f":"IF(#REF!=\"TODOS\",\"TODOS\",$I20)","v":{"$error":"#REF!"}},{"$f":"IF(#REF!=\"TODOS\",\"TODOS\",$J20)","v":{"$error":"#REF!"}},{"$f":"IF(#REF!=\"TODAS\",\"TODAS\",$L20)","v":{"$error":"#REF!"}},{"$f":"IF(#REF!=\"TODOS\",\"TODOS\",$K20)","v":{"$error":"#REF!"}},{"$f":"IF(#REF!=\"TODOS\",\"TODOS\",$I20)","v":{"$error":"#REF!"}},{"$f":"IF(#REF!=\"TODOS\",\"TODOS\",$J20)","v":{"$error":"#REF!"}},{"$f":"IF(#REF!=\"TODAS\",\"TODAS\",$L20)","v":{"$error":"#REF!"}},{"$f":"IF(#REF!=\"TODOS\",\"TODOS\",$K20)","v":{"$error":"#REF!"}},{"$f":"IF(#REF!=\"TODOS\",\"TODOS\",$I20)","v":{"$error":"#REF!"}},{"$f":"IF(#REF!=\"TODOS\",\"TODOS\",$J20)","v":{"$error":"#REF!"}},{"$f":"IF(#REF!=\"TODAS\",\"TODAS\",$L20)","v":{"$error":"#REF!"}},{"$f":"IF(#REF!=\"TODOS\",\"TODOS\",$K20)","v":{"$error":"#REF!"}},{"$f":"IF(#REF!=\"TODOS\",\"TODOS\",$I20)","v":{"$error":"#REF!"}},{"$f":"IF(#REF!=\"TODOS\",\"TODOS\",$J20)","v":{"$error":"#REF!"}},{"$f":"IF(#REF!=\"TODOS\",\"TODOS\",$I20)","v":{"$error":"#REF!"}},{"$f":"IF(#REF!=\"TODOS\",\"TODOS\",$Y20)","v":{"$error":"#REF!"}},null,null,null,null,null,null,null,null,null,null,null,null,null,null,null,null,null,{"$f":"IF(#REF!=\"TODOS\",\"TODOS\",$J20)","v":{"$error":"#REF!"}},{"$f":"IF(#REF!=\"TODOS\",\"TODOS\",$I20)","v":{"$error":"#REF!"}},{"$f":"IF(#REF!=\"TODOS\",\"TODOS\",$C20)","v":{"$error":"#REF!"}},{"$f":"IF(#REF!=\"TODOS\",\"TODOS\",$J20)","v":{"$error":"#REF!"}},{"$f":"IF(#REF!=\"TODOS\",\"TODOS\",$I20)","v":{"$error":"#REF!"}}]
["2023-01-02","2023-02-02","2022-12-01",2,"única","1.01 - Receita de vendas","1.01.03 - RE","NF 0266 - ETE 656.02 - Leo Paulista II (Proj. Layout)","Direcional Engenharia S.A","5.01.53 - ETE 656.02 - Leo Paulista II","Em aberto","Santander",3325,"2023-02-02","Transferência",{"$f":"IFERROR(IF(OR(VLOOKUP(F21,Validações!$C$2:$D$17,2,FALSE)=1,VLOOKUP(F21,Validações!$C$2:$D$17,2,FALSE)=3),SUM(P20,M21),SUM(P20,-M21)),P20)","v":98699.829999999987},"-",2,"fevereiro",2023,null,null,null,{"$f":"IFERROR(VLOOKUP(F21,Validações!$C$2:$D$17,2,FALSE),\"\")","v":1},"fevereiro",{"$f":"IF(#REF!=\"TODOS\",\"TODOS\",$J21)","v":{"$error":"#REF!"}},{"$f":"IF(#REF!=\"TODAS\",\"TODAS\",$L21)","v":{"$error":"#REF!"}},{"$f":"IF(#REF!=\"TODOS\",\"TODOS\",$J21)","v":{"$error":"#REF!"}},{"$f":"IF(#REF!=\"TODAS\",\"TODAS\",$L21)","v":{"$error":"#REF!"}},{"$f":"IF(#REF!=\"TODOS\",\"TODOS\",$K21)","v":{"$error":"#REF!"}},{"$f":"IF(#REF!=\"TODOS\",\"TODOS\",$I21)","v":{"$error":"#REF!"}},{"$f":"IF(#REF!=\"TODOS\",\"TODOS\",$J21)","v":{"$error":"#REF!"}},{"$f":"IF(#REF!=\"TODAS\",\"TODAS\",$L21)","v":{"$error":"#REF!"}},{"$f":"IF(#REF!=\"TODOS\",\"TODOS\",$K21)","v":{"$error":"#REF!"}},{"$f":"IF(#REF!=\"TODOS\",\"TODOS\",$I21)","v":{"$error":"#REF!"}},{"$f":"IF(#REF!=\"TODOS\",\"TODOS\",$J21)","v":{"$error":"#REF!"}},{"$f":"IF(#REF!=\"TODAS\",\"TODAS\",$L21)","v":{"$error":"#REF!"}},{"$f":"IF(#REF!=\"TODOS\",\"TODOS\",$K21)","v":{"$error":"#REF!"}},{"$f":"IF(#REF!=\"TODOS\",\"TODOS\",$I21)","v":{"$error":"#REF!"}},{"$f":"IF(#REF!=\"TODOS\",\"TODOS\",$J21)","v":{"$error":"#REF!"}},{"$f":"IF(#REF!=\"TODAS\",\"TODAS\",$L21)","v":{"$error":"#REF!"}},{"$f":"IF(#REF!=\"TODOS\",\"TODOS\",$K21)","v":{"$error":"#REF!"}},{"$f":"IF(#REF!=\"TODOS\",\"TODOS\",$I21)","v":{"$error":"#REF!"}},{"$f":"IF(#REF!=\"TODOS\",\"TODOS\",$J21)","v":{"$error":"#REF!"}},{"$f":"IF(#REF!=\"TODAS\",\"TODAS\",$L21)","v":{"$error":"#REF!"}},{"$f":"IF(#REF!=\"TODOS\",\"TODOS\",$K21)","v":{"$error":"#REF!"}},{"$f":"IF(#REF!=\"TODOS\",\"TODOS\",$I21)","v":{"$error":"#REF!"}},{"$f":"IF(#REF!=\"TODOS\",\"TODOS\",$J21)","v":{"$error":"#REF!"}},{"$f":"IF(#REF!=\"TODAS\",\"TODAS\",$L21)","v":{"$error":"#REF!"}},{"$f":"IF(#REF!=\"TODOS\",\"TODOS\",$K21)","v":{"$error":"#REF!"}},{"$f":"IF(#REF!=\"TODOS\",\"TODOS\",$I21)","v":{"$error":"#REF!"}},{"$f":"IF(#REF!=\"TODOS\",\"TODOS\",$J21)","v":{"$error":"#REF!"}},{"$f":"IF(#REF!=\"TODOS\",\"TODOS\",$I21)","v":{"$error":"#REF!"}},{"$f":"IF(#REF!=\"TODOS\",\"TODOS\",$Y21)","v":{"$error":"#REF!"}},null,null,null,null,null,null,null,null,null,null,null,null,null,null,null,null,null,{"$f":"IF(#REF!=\"TODOS\",\"TODOS\",$J21)","v":{"$error":"#REF!"}},{"$f":"IF(#REF!=\"TODOS\",\"TODOS\",$I21)","v":{"$error":"#REF!"}},{"$f":"IF(#REF!=\"TODOS\",\"TODOS\",$C21)","v":{"$error":"#REF!"}},{"$f":"IF(#REF!=\"TODOS\",\"TODOS\",$J21)","v":{"$error":"#REF!"}},{"$f":"IF(#REF!=\"TODOS\",\"TODOS\",$I21)","v":{"$error":"#REF!"}}]
["2023-01-02","2023-02-02","2022-12-01",{"$f":"DAY(N22)","v":2},"única","1.01 - Receita de vendas","1.01.03 - RE","NF 0265 - ETE 656.01 - Leo Paulista I (Proj. Layout)","Direcional Engenharia S.A","5.01.52 - ETE 656.01 - Leo Paulista I","Em aberto","Santander",3325,"2023-02-02","Transferência",{"$f":"IFERROR(IF(OR(VLOOKUP(F22,Validações!$C$2:$D$17,2,FALSE)=1,VLOOKUP(F22,Validações!$C$2:$D$17,2,FALSE)=3),SUM(P21,M22),SUM(P21,-M22)),P21)","v":102024.82999999999},"-",2,"fevereiro",2023,null,null,null,{"$f":"IFERROR(VLOOKUP(F22,Validações!$C$2:$D$17,2,FALSE),\"\")","v":1},"fevereiro",{"$f":"IF(#REF!=\"TODOS\",\"TODOS\",$J22)","v":{"$error":"#REF!"}},{"$f":"IF(#REF!=\"TODAS\",\"TODAS\",$L22)","v":{"$error":"#REF!"}},{"$f":"IF(#REF!=\"TODOS\",\"TODOS\",$J22)","v":{"$error":"#REF!"}},{"$f":"IF(#REF!=\"TODAS\",\"TODAS\",$L22)","v":{"$error":"#REF!"}},{"$f":"IF(#REF!=\"TODOS\",\"TODOS\",$K22)","v":{"$error":"#REF!"}},{"$f":"IF(#REF!=\"TODOS\",\"TODOS\",$I22)","v":{"$error":"#REF!"}},{"$f":"IF(#REF!=\"TODOS\",\"TODOS\",$J22)","v":{"$error":"#REF!"}},{"$f":"IF(#REF!=\"TODAS\",\"TODAS\",$L22)","v":{"$error":"#REF!"}},{"$f":"IF(#REF!=\"TODOS\",\"TODOS\",$K22)","v":{"$error":"#REF!"}},{"$f":"IF(#REF!=\"TODOS\",\"TODOS\",$I22)","v":{"$error":"#REF!"}},{"$f":"IF(#REF!=\"TODOS\",\"TODOS\",$J22)","v":{"$error":"#REF!"}},{"$f":"IF(#REF!=\"TODAS\",\"TODAS\",$L22)","v":{"$error":"#REF!"}},{"$f":"IF(#REF!=\"TODOS\",\"TODOS\",$K22)","v":{"$error":"#REF!"}},{"$f":"IF(#REF!=\"TODOS\",\"TODOS\",$I22)","v":{"$error":"#REF!"}},{"$f":"IF(#REF!=\"TODOS\",\"TODOS\",$J22)","v":{"$error":"#REF!"}},{"$f":"IF(#REF!=\"TODAS\",\"TODAS\",$L22)","v":{"$error":"#REF!"}},{"$f":"IF(#REF!=\"TODOS\",\"TODOS\",$K22)","v":{"$error":"#REF!"}},{"$f":"IF(#REF!=\"TODOS\",\"TODOS\",$I22)","v":{"$error":"#REF!"}},{"$f":"IF(#REF!=\"TODOS\",\"TODOS\",$J22)","v":{"$error":"#REF!"}},{"$f":"IF(#REF!=\"TODAS\",\"TODAS\",$L22)","v":{"$error":"#REF!"}},{"$f":"IF(#REF!=\"TODOS\",\"TODOS\",$K22)","v":{"$error":"#REF!"}},{"$f":"IF(#REF!=\"TODOS\",\"TODOS\",$I22)","v":{"$error":"#REF!"}},{"$f":"IF(#REF!=\"TODOS\",\"TODOS\",$J22)","v":{"$error":"#REF!"}},{"$f":"IF(#REF!=\"TODAS\",\"TODAS\",$L22)","v":{"$error":"#REF!"}},{"$f":"IF(#REF!=\"TODOS\",\"TODOS\",$K22)","v":{"$error":"#REF!"}},{"$f":"IF(#REF!=\"TODOS\",\"TODOS\",$I22)","v":{"$error":"#REF!"}},{"$f":"IF(#REF!=\"TODOS\",\"TODOS\",$J22)","v":{"$error":"#REF!"}},{"$f":"IF(#REF!=\"TODOS\",\"TODOS\",$I22)","v":{"$error":"#REF!"}},{"$f":"IF(#REF!=\"TODOS\",\"TODOS\",$Y22)","v":{"$error":"#REF!"}},null,null,null,null,null,null,null,null,null,null,null,null,null,null,null,null,null,{"$f":"IF(#REF!=\"TODOS\",\"TODOS\",$J22)","v":{"$error":"#REF!"}},{"$f":"IF(#REF!=\"TODOS\",\"TODOS\",$I22)","v":{"$error":"#REF!"}},{"$f":"IF(#REF!=\"TODOS\",\"TODOS\",$C22)","v":{"$error":"#REF!"}},{"$f":"IF(#REF!=\"TODOS\",\"TODOS\",$J22)","v":{"$error":"#REF!"}},{"$f":"IF(#REF!=\"TODOS\",\"TODOS\",$I22)","v":{"$error":"#REF!"}}]
["2023-01-06","2023-01-06","2023-01-23",{"$f":"DAY(N23)","v":6},"única","2.01 - Despesa Operacional","2.01.05 - Deslocamento (Aliment. / Combust. / Passagem / etc)","Reembolso Obra 470 - Despesas lanche e Ajuda de 6 funcionarios Direcional","Rodrigo Imbuzeiro Cardoso","5.01.42 - ETE 470 - Nova Olinda","Pago","Santander",-600,"2023-01-06","Transferência",{"$f":"IFERROR(IF(OR(VLOOKUP(F23,Validações!$C$2:$D$17,2,FALSE)=1,VLOOKUP(F23,Validações!$C$2:$D$17,2,FALSE)=3),SUM(P22,M23),SUM(P22,-M23)),P22)","v":102624.82999999999},"-",6,"janeiro",2023,null,null,null,{"$f":"IFERROR(VLOOKUP(F23,Validações!$C$2:$D$17,2,FALSE),\"\")","v":2},"janeiro",{"$f":"IF(#REF!=\"TODOS\",\"TODOS\",$J23)","v":{"$error":"#REF!"}},{"$f":"IF(#REF!=\"TODAS\",\"TODAS\",$L23)","v":{"$error":"#REF!"}},{"$f":"IF(#REF!=\"TODOS\",\"TODOS\",$J23)","v":{"$error":"#REF!"}},{"$f":"IF(#REF!=\"TODAS\",\"TODAS\",$L23)","v":{"$error":"#REF!"}},{"$f":"IF(#REF!=\"TODOS\",\"TODOS\",$K23)","v":{"$error":"#REF!"}},{"$f":"IF(#REF!=\"TODOS\",\"TODOS\",$I23)","v":{"$error":"#REF!"}},{"$f":"IF(#REF!=\"TODOS\",\"TODOS\",$J23)","v":{"$error":"#REF!"}},{"$f":"IF(#REF!=\"TODAS\",\"TODAS\",$L23)","v":{"$error":"#REF!"}},{"$f":"IF(#REF!=\"TODOS\",\"TODOS\",$K23)","v":{"$error":"#REF!"}},{"$f":"IF(#REF!=\"TODOS\",\"TODOS\",$I23)","v":{"$error":"#REF!"}},{"$f":"IF(#REF!=\"TODOS\",\"TODOS\",$J23)","v":{"$error":"#REF!"}},{"$f":"IF(#REF!=\"TODAS\",\"TODAS\",$L23)","v":{"$error":"#REF!"}},{"$f":"IF(#REF!=\"TODOS\",\"TODOS\",$K23)","v":{"$error":"#REF!"}},{"$f":"IF(#REF!=\"TODOS\",\"TODOS\",$I23)","v":{"$error":"#REF!"}},{"$f":"IF(#REF!=\"TODOS\",\"TODOS\",$J23)","v":{"$error":"#REF!"}},{"$f":"IF(#REF!=\"TODAS\",\"TODAS\",$L23)","v":{"$error":"#REF!"}},{"$f":"IF(#REF!=\"TODOS\",\"TODOS\",$K23)","v":{"$error":"#REF!"}},{"$f":"IF(#REF!=\"TODOS\",\"TODOS\",$I23)","v":{"$error":"#REF!"}},{"$f":"IF(#REF!=\"TODOS\",\"TODOS\",$J23)","v":{"$error":"#REF!"}},{"$f":"IF(#REF!=\"TODAS\",\"TODAS\",$L23)","v":{"$error":"#REF!"}},{"$f":"IF(#REF!=\"TODOS\",\"TODOS\",$K23)","v":{"$error":"#REF!"}},{"$f":"IF(#REF!=\"TODOS\",\"TODOS\",$I23)","v":{"$error":"#REF!"}},{"$f":"IF(#REF!=\"TODOS\",\"TODOS\",$J23)","v":{"$error":"#REF!"}},{"$f":"IF(#REF!=\"TODAS\",\"TODAS\",$L23)","v":{"$error":"#REF!"}},{"$f":"IF(#REF!=\"TODOS\",\"TODOS\",$K23)","v":{"$error":"#REF!"}},{"$f":"IF(#REF!=\"TODOS\",\"TODOS\",$I23)","v":{"$error":"#REF!"}},{"$f":"IF(#REF!=\"TODOS\",\"TODOS\",$J23)","v":{"$error":"#REF!"}},{"$f":"IF(#REF!=\"TODOS\",\"TODOS\",$I23)","v":{"$error":"#REF!"}},{"$f":"IF(#REF!=\"TODOS\",\"TODOS\",$Y23)","v":{"$error":"#REF!"}},null,null,null,null,null,null,null,null,null,null,null,null,null,null,null,null,null,{"$f":"IF(#REF!=\"TODOS\",\"TODOS\",$J23)","v":{"$error":"#REF!"}},{"$f":"IF(#REF!=\"TODOS\",\"TODOS\",$I23)","v":{"$error":"#REF!"}},{"$f":"IF(#REF!=\"TODOS\",\"TODOS\",$C23)","v":{"$error":"#REF!"}},{"$f":"IF(#REF!=\"TODOS\",\"TODOS\",$J23)","v":{"$error":"#REF!"}},{"$f":"IF(#REF!=\"TODOS\",\"TODOS\",$I23)","v":{"$error":"#REF!"}}]
["2023-01-02","2023-02-02","2022-12-01",2,"única","1.01 - Receita de vendas","1.01.01 - CEPA","NF 0264 - Ecoporto Santos - Monit. Estuario","Ecoporto Santos","5.01.15 - Ecoporto Santos (Monit)","Em aberto","Santander",5580,"2023-02-02","Transferência",{"$f":"IFERROR(IF(OR(VLOOKUP(F24,Validações!$C$2:$D$17,2,FALSE)=1,VLOOKUP(F24,Validações!$C$2:$D$17,2,FALSE)=3),SUM(P23,M24),SUM(P23,-M24)),P23)","v":108204.82999999999},"-",2,"fevereiro",2023,null,null,null,{"$f":"IFERROR(VLOOKUP(F24,Validações!$C$2:$D$17,2,FALSE),\"\")","v":1},"fevereiro",{"$f":"IF(#REF!=\"TODOS\",\"TODOS\",$J24)","v":{"$error":"#REF!"}},{"$f":"IF(#REF!=\"TODAS\",\"TODAS\",$L24)","v":{"$error":"#REF!"}},{"$f":"IF(#REF!=\"TODOS\",\"TODOS\",$J24)","v":{"$error":"#REF!"}},{"$f":"IF(#REF!=\"TODAS\",\"TODAS\",$L24)","v":{"$error":"#REF!"}},{"$f":"IF(#REF!=\"TODOS\",\"TODOS\",$K24)","v":{"$error":"#REF!"}},{"$f":"IF(#REF!=\"TODOS\",\"TODOS\",$I24)","v":{"$error":"#REF!"}},{"$f":"IF(#REF!=\"TODOS\",\"TODOS\",$J24)","v":{"$error":"#REF!"}},{"$f":"IF(#REF!=\"TODAS\",\"TODAS\",$L24)","v":{"$error":"#REF!"}},{"$f":"IF(#REF!=\"TODOS\",\"TODOS\",$K24)","v":{"$error":"#REF!"}},{"$f":"IF(#REF!=\"TODOS\",\"TODOS\",$I24)","v":{"$error":"#REF!"}},{"$f":"IF(#REF!=\"TODOS\",\"TODOS\",$J24)","v":{"$error":"#REF!"}},{"$f":"IF(#REF!=\"TODAS\",\"TODAS\",$L24)","v":{"$error":"#REF!"}},{"$f":"IF(#REF!=\"TODOS\",\"TODOS\",$K24)","v":{"$error":"#REF!"}},{"$f":"IF(#REF!=\"TODOS\",\"TODOS\",$I24)","v":{"$error":"#REF!"}},{"$f":"IF(#REF!=\"TODOS\",\"TODOS\",$J24)","v":{"$error":"#REF!"}},{"$f":"IF(#REF!=\"TODAS\",\"TODAS\",$L24)","v":{"$error":"#REF!"}},{"$f":"IF(#REF!=\"TODOS\",\"TODOS\",$K24)","v":{"$error":"#REF!"}},{"$f":"IF(#REF!=\"TODOS\",\"TODOS\",$I24)","v":{"$error":"#REF!"}},{"$f":"IF(#REF!=\"TODOS\",\"TODOS\",$J24)","v":{"$error":"#REF!"}},{"$f":"IF(#REF!=\"TODAS\",\"TODAS\",$L24)","v":{"$error":"#REF!"}},{"$f":"IF(#REF!=\"TODOS\",\"TODOS\",$K24)","v":{"$error":"#REF!"}},{"$f":"IF(#REF!=\"TODOS\",\"TODOS\",$I24)","v":{"$error":"#REF!"}},{"$f":"IF(#REF!=\"TODOS\",\"TODOS\",$J24)","v":{"$error":"#REF!"}},{"$f":"IF(#REF!=\"TODAS\",\"TODAS\",$L24)","v":{"$error":"#REF!"}},{"$f":"IF(#REF!=\"TODOS\",\"TODOS\",$K24)","v":{"$error":"#REF!"}},{"$f":"IF(#REF!=\"TODOS\",\"TODOS\",$I24)","v":{"$error":"#REF!"}},{"$f":"IF(#REF!=\"TODOS\",\"TODOS\",$J24)","v":{"$error":"#REF!"}},{"$f":"IF(#REF!=\"TODOS\",\"TODOS\",$I24)","v":{"$error":"#REF!"}},{"$f":"IF(#REF!=\"TODOS\",\"TODOS\",$Y24)","v":{"$error":"#REF!"}},null,null,null,null,null,null,null,null,null,null,null,null,null,null,null,null,null,{"$f":"IF(#REF!=\"TODOS\",\"TODOS\",$J24)","v":{"$error":"#REF!"}},{"$f":"IF(#REF!=\"TODOS\",\"TODOS\",$I24)","v":{"$error":"#REF!"}},{"$f":"IF(#REF!=\"TODOS\",\"TODOS\",$C24)","v":{"$error":"#REF!"}},{"$f":"IF(#REF!=\"TODOS\",\"TODOS\",$J24)","v":{"$error":"#REF!"}},{"$f":"IF(#REF!=\"TODOS\",\"TODOS\",$I24)","v":{"$error":"#REF!"}}]
["2023-01-03","2023-01-11","2022-12-01",11,"única","2.02 - Despesa com pessoal","2.02.09 - INSS","INSS 11.22 - Rodrigo Imbuzeiro","INSS","5.01.01 - Sócios","Pago","Santander",-133.32,"2023-01-11","Boleto",{"$f":"IFERROR(IF(OR(VLOOKUP(F25,Validações!$C$2:$D$17,2,FALSE)=1,VLOOKUP(F25,Validações!$C$2:$D$17,2,FALSE)=3),SUM(P24,M25),SUM(P24,-M25)),P24)","v":108338.15},"-",11,"janeiro",2023,null,null,null,{"$f":"IFERROR(VLOOKUP(F25,Validações!$C$2:$D$17,2,FALSE),\"\")","v":2},"janeiro",{"$f":"IF(#REF!=\"TODOS\",\"TODOS\",$J25)","v":{"$error":"#REF!"}},{"$f":"IF(#REF!=\"TODAS\",\"TODAS\",$L25)","v":{"$error":"#REF!"}},{"$f":"IF(#REF!=\"TODOS\",\"TODOS\",$J25)","v":{"$error":"#REF!"}},{"$f":"IF(#REF!=\"TODAS\",\"TODAS\",$L25)","v":{"$error":"#REF!"}},{"$f":"IF(#REF!=\"TODOS\",\"TODOS\",$K25)","v":{"$error":"#REF!"}},{"$f":"IF(#REF!=\"TODOS\",\"TODOS\",$I25)","v":{"$error":"#REF!"}},{"$f":"IF(#REF!=\"TODOS\",\"TODOS\",$J25)","v":{"$error":"#REF!"}},{"$f":"IF(#REF!=\"TODAS\",\"TODAS\",$L25)","v":{"$error":"#REF!"}},{"$f":"IF(#REF!=\"TODOS\",\"TODOS\",$K25)","v":{"$error":"#REF!"}},{"$f":"IF(#REF!=\"TODOS\",\"TODOS\",$I25)","v":{"$error":"#REF!"}},{"$f":"IF(#REF!=\"TODOS\",\"TODOS\",$J25)","v":{"$error":"#REF!"}},{"$f":"IF(#REF!=\"TODAS\",\"TODAS\",$L25)","v":{"$error":"#REF!"}},{"$f":"IF(#REF!=\"TODOS\",\"TODOS\",$K25)","v":{"$error":"#REF!"}},{"$f":"IF(#REF!=\"TODOS\",\"TODOS\",$I25)","v":{"$error":"#REF!"}},{"$f":"IF(#REF!=\"TODOS\",\"TODOS\",$J25)","v":{"$error":"#REF!"}},{"$f":"IF(#REF!=\"TODAS\",\"TODAS\",$L25)","v":{"$error":"#REF!"}},{"$f":"IF(#REF!=\"TODOS\",\"TODOS\",$K25)","v":{"$error":"#REF!"}},{"$f":"IF(#REF!=\"TODOS\",\"TODOS\",$I25)","v":{"$error":"#REF!"}},{"$f":"IF(#REF!=\"TODOS\",\"TODOS\",$J25)","v":{"$error":"#REF!"}},{"$f":"IF(#REF!=\"TODAS\",\"TODAS\",$L25)","v":{"$error":"#REF!"}},{"$f":"IF(#REF!=\"TODOS\",\"TODOS\",$K25)","v":{"$error":"#REF!"}},{"$f":"IF(#REF!=\"TODOS\",\"TODOS\",$I25)","v":{"$error":"#REF!"}},{"$f":"IF(#REF!=\"TODOS\",\"TODOS\",$J25)","v":{"$error":"#REF!"}},{"$f":"IF(#REF!=\"TODAS\",\"TODAS\",$L25)","v":{"$error":"#REF!"}},{"$f":"IF(#REF!=\"TODOS\",\"TODOS\",$K25)","v":{"$error":"#REF!"}},{"$f":"IF(#REF!=\"TODOS\",\"TODOS\",$I25)","v":{"$error":"#REF!"}},{"$f":"IF(#REF!=\"TODOS\",\"TODOS\",$J25)","v":{"$error":"#REF!"}},{"$f":"IF(#REF!=\"TODOS\",\"TODOS\",$I25)","v":{"$error":"#REF!"}},{"$f":"IF(#REF!=\"TODOS\",\"TODOS\",$Y25)","v":{"$error":"#REF!"}},null,null,null,null,null,null,null,null,null,null,null,null,null,null,null,null,null,{"$f":"IF(#REF!=\"TODOS\",\"TODOS\",$J25)","v":{"$error":"#REF!"}},{"$f":"IF(#REF!=\"TODOS\",\"TODOS\",$I25)","v":{"$error":"#REF!"}},{"$f":"IF(#REF!=\"TODOS\",\"TODOS\",$C25)","v":{"$error":"#REF!"}},{"$f":"IF(#REF!=\"TODOS\",\"TODOS\",$J25)","v":{"$error":"#REF!"}},{"$f":"IF(#REF!=\"TODOS\",\"TODOS\",$I25)","v":{"$error":"#REF!"}}]
["2023-01-03","2023-01-11","2022-12-01",11,"única","2.02 - Despesa com pessoal","2.02.09 - INSS","INSS 11.22 - Ciro Moura","INSS","5.01.32 - IDG - Padua - Plano de Manejo","Pago","Santander",-164.8,"2023-01-11","Boleto",{"$f":"IFERROR(IF(OR(VLOOKUP(F26,Validações!$C$2:$D$17,2,FALSE)=1,VLOOKUP(F26,Validações!$C$2:$D$17,2,FALSE)=3),SUM(P25,M26),SUM(P25,-M26)),P25)","v":108502.95},"-",11,"janeiro",2023,null,null,null,{"$f":"IFERROR(VLOOKUP(F26,Validações!$C$2:$D$17,2,FALSE),\"\")","v":2},"janeiro",{"$f":"IF(#REF!=\"TODOS\",\"TODOS\",$J26)","v":{"$error":"#REF!"}},{"$f":"IF(#REF!=\"TODAS\",\"TODAS\",$L26)","v":{"$error":"#REF!"}},{"$f":"IF(#REF!=\"TODOS\",\"TODOS\",$J26)","v":{"$error":"#REF!"}},{"$f":"IF(#REF!=\"TODAS\",\"TODAS\",$L26)","v":{"$error":"#REF!"}},{"$f":"IF(#REF!=\"TODOS\",\"TODOS\",$K26)","v":{"$error":"#REF!"}},{"$f":"IF(#REF!=\"TODOS\",\"TODOS\",$I26)","v":{"$error":"#REF!"}},{"$f":"IF(#REF!=\"TODOS\",\"TODOS\",$J26)","v":{"$error":"#REF!"}},{"$f":"IF(#REF!=\"TODAS\",\"TODAS\",$L26)","v":{"$error":"#REF!"}},{"$f":"IF(#REF!=\"TODOS\",\"TODOS\",$K26)","v":{"$error":"#REF!"}},{"$f":"IF(#REF!=\"TODOS\",\"TODOS\",$I26)","v":{"$error":"#REF!"}},{"$f":"IF(#REF!=\"TODOS\",\"TODOS\",$J26)","v":{"$error":"#REF!"}},{"$f":"IF(#REF!=\"TODAS\",\"TODAS\",$L26)","v":{"$error":"#REF!"}},{"$f":"IF(#REF!=\"TODOS\",\"TODOS\",$K26)","v":{"$error":"#REF!"}},{"$f":"IF(#REF!=\"TODOS\",\"TODOS\",$I26)","v":{"$error":"#REF!"}},{"$f":"IF(#REF!=\"TODOS\",\"TODOS\",$J26)","v":{"$error":"#REF!"}},{"$f":"IF(#REF!=\"TODAS\",\"TODAS\",$L26)","v":{"$error":"#REF!"}},{"$f":"IF(#REF!=\"TODOS\",\"TODOS\",$K26)","v":{"$error":"#REF!"}},{"$f":"IF(#REF!=\"TODOS\",\"TODOS\",$I26)","v":{"$error":"#REF!"}},{"$f":"IF(#REF!=\"TODOS\",\"TODOS\",$J26)","v":{"$error":"#REF!"}},{"$f":"IF(#REF!=\"TODAS\",\"TODAS\",$L26)","v":{"$error":"#REF!"}},{"$f":"IF(#REF!=\"TODOS\",\"TODOS\",$K26)","v":{"$error":"#REF!"}},{"$f":"IF(#REF!=\"TODOS\",\"TODOS\",$I26)","v":{"$error":"#REF!"}},{"$f":"IF(#REF!=\"TODOS\",\"TODOS\",$J26)","v":{"$error":"#REF!"}},{"$f":"IF(#REF!=\"TODAS\",\"TODAS\",$L26)","v":{"$error":"#REF!"}},{"$f":"IF(#REF!=\"TODOS\",\"TODOS\",$K26)","v":{"$error":"#REF!"}},{"$f":"IF(#REF!=\"TODOS\",\"TODOS\",$I26)","v":{"$error":"#REF!"}},{"$f":"IF(#REF!=\"TODOS\",\"TODOS\",$J26)","v":{"$error":"#REF!"}},{"$f":"IF(#REF!=\"TODOS\",\"TODOS\",$I26)","v":{"$error":"#REF!"}},{"$f":"IF(#REF!=\"TODOS\",\"TODOS\",$Y26)","v":{"$error":"#REF!"}},null,null,null,null,null,null,null,null,null,null,null,null,null,null,null,null,null,{"$f":"IF(#REF!=\"TODOS\",\"TODOS\",$J26)","v":{"$error":"#REF!"}},{"$f":"IF(#REF!=\"TODOS\",\"TODOS\",$I26)","v":{"$error":"#REF!"}},{"$f":"IF(#REF!=\"TODOS\",\"TODOS\",$C26)","v":{"$error":"#REF!"}},{"$f":"IF(#REF!=\"TODOS\",\"TODOS\",$J26)","v":{"$error":"#REF!"}},{"$f":"IF(#REF!=\"TODOS\",\"TODOS\",$I26)","v":{"$error":"#REF!"}}]
["2023-01-03","2023-01-11","2022-12-01",11,"única","2.06 - Impostos","2.06.01 - DAS","NF 0251 - Lorintech Unidade Caxias Galpao II - IAP (parc. 2/2)","DAS - Simples Nacional","5.01.37 - Lorintech - Unidade Caxias","Pago","Santander",-735.14820506578087,"2023-01-11","Boleto",{"$f":"IFERROR(IF(OR(VLOOKUP(F27,Validações!$C$2:$D$17,2,FALSE)=1,VLOOKUP(F27,Validações!$C$2:$D$17,2,FALSE)=3),SUM(P26,M27),SUM(P26,-M27)),P26)","v":109238.09820506578}]
["2023-01-03","2023-01-11","2022-12-01",11,"única","2.06 - Impostos","2.06.01 - DAS","NF 0252 - Lorintech Unidade Caxias - Acompahamento das Condicionantes da LO","DAS - Simples Nacional","5.01.37 - Lorintech - Unidade Caxias","Pago","Santander",-223.13910224349584,"2023-01-11","Boleto",{"$f":"IFERROR(IF(OR(VLOOKUP(F28,Validações!$C$2:$D$17,2,FALSE)=1,VLOOKUP(F28,Validações!$C$2:$D$17,2,FALSE)=3),SUM(P27,M28),SUM(P27,-M28)),P27)","v":109461.23730730927}]
["2023-01-03","2023-01-11","2022-12-01",11,"única","2.06 - Impostos","2.06.01 - DAS","NF 0253 - Elaboração RIT - Cabo Frio (parc.1/2)","DAS - Simples Nacional","5.01.30 - Sao Jose Desenv. Imob. SA","Pago","Santander",-1957.7429141022374,"2023-01-11","Boleto",{"$f":"IFERROR(IF(OR(VLOOKUP(F29,Validações!$C$2:$D$17,2,FALSE)=1,VLOOKUP(F29,Validações!$C$2:$D$17,2,FALSE)=3),SUM(P28,M29),SUM(P28,-M29)),P28)","v":111418.98022141152}]
["2023-01-03","2023-01-11","2022-12-01",11,"única","2.06 - Impostos","2.06.01 - DAS","NF 0254 - ETE Obra 495 (Med.01)","DAS - Simples Nacional","5.01.49 - ETE 495 - Cerejeiras","Pago","Santander",-1729.7604825077199,"2023-01-11","Boleto",{"$f":"IFERROR(IF(OR(VLOOKUP(F30,Validações!$C$2:$D$17,2,FALSE)=1,VLOOKUP(F30,Validações!$C$2:$D$17,2,FALSE)=3),SUM(P29,M30),SUM(P29,-M30)),P29)","v":113148.74070391923}]
["2023-01-03","2023-01-11","2022-12-01",11,"única","2.06 - Impostos","2.06.01 - DAS","NF 0255 - ETE Obra 564 (Med.01)","DAS - Simples Nacional","5.01.50 - ETE 564 - Pavuna Empreendimentos","Pago","Santander",-1729.7604825077199,"2023-01-11","Boleto",{"$f":"IFERROR(IF(OR(VLOOKUP(F31,Validações!$C$2:$D$17,2,FALSE)=1,VLOOKUP(F31,Validações!$C$2:$D$17,2,FALSE)=3),SUM(P30,M31),SUM(P30,-M31)),P30)","v":114878.50118642695}]
["2023-01-03","2023-01-11","2022-12-01",11,"única","2.06 - Impostos","2.06.01 - DAS","NF 0256 - Emissão DAIA LTMC","DAS - Simples Nacional","5.01.20 - State Grid","Pago","Santander",-653.33053424316574,"2023-01-11","Boleto",{"$f":"IFERROR(IF(OR(VLOOKUP(F32,Validações!$C$2:$D$17,2,FALSE)=1,VLOOKUP(F32,Validações!$C$2:$D$17,2,FALSE)=3),SUM(P31,M32),SUM(P31,-M32)),P31)","v":115531.83172067012}]
["2023-01-03","2023-01-11","2022-12-01",11,"única","2.06 - Impostos","2.06.01 - DAS","NF 0257 - IDG - PM Mangaratiba (Produto 4)","DAS - Simples Nacional","5.01.33 - IDG - Mangaratiba - Plano de Manejo","Pago","Santander",-6355.6502920757021,"2023-01-11","Boleto",{"$f":"IFERROR(IF(OR(VLOOKUP(F33,Validações!$C$2:$D$17,2,FALSE)=1,VLOOKUP(F33,Validações!$C$2:$D$17,2,FALSE)=3),SUM(P32,M33),SUM(P32,-M33)),P32)","v":121887.48201274582}]
["2023-01-03","2023-01-11","2022-12-01",11,"única","2.06 - Impostos","2.06.01 - DAS","NF 0258 - IDG - PM Mangaratiba (Produto 5)","DAS - Simples Nacional","5.01.33 - IDG - Mangaratiba - Plano de Manejo","Pago","Santander",-8474.2003894342688,"2023-01-11","Boleto",{"$f":"IFERROR(IF(OR(VLOOKUP(F34,Validações!$C$2:$D$17,2,FALSE)=1,VLOOKUP(F34,Validações!$C$2:$D$17,2,FALSE)=3),SUM(P33,M34),SUM(P33,-M34)),P33)","v":130361.68240218009}]
["2023-01-03","2023-01-11","2022-12-01",11,"única","2.06 - Impostos","2.06.01 - DAS","NF 0259 - ETE Obra 640.01 Parque Tijuca (Proj. Layout)","DAS - Simples Nacional","5.01.51 - ETE 640.01 - Parque Tijuca","Pago","Santander",-605.41616887770192,"2023-01-11","Boleto",{"$f":"IFERROR(IF(OR(VLOOKUP(F35,Validações!$C$2:$D$17,2,FALSE)=1,VLOOKUP(F35,Validações!$C$2:$D$17,2,FALSE)=3),SUM(P34,M35),SUM(P34,-M35)),P34)","v":130967.09857105778}]
["2023-01-03","2023-01-11","2022-12-01",11,"única","2.06 - Impostos","2.06.01 - DAS","NF 0260 - Braskem Caxias - Inventario - parc. 2/2","DAS - Simples Nacional","5.01.31 - Braskem - Unidade Caxias","Pago","Santander",-1331.0506912896903,"2023-01-11","Boleto",{"$f":"IFERROR(IF(OR(VLOOKUP(F36,Validações!$C$2:$D$17,2,FALSE)=1,VLOOKUP(F36,Validações!$C$2:$D$17,2,FALSE)=3),SUM(P35,M36),SUM(P35,-M36)),P35)","v":132298.14926234746}]
["2023-01-03","2023-01-11","2022-12-01",11,"única","2.06 - Impostos","2.06.01 - DAS","NF 0261 - IDG - PM Resende (Produto 3)","DAS - Simples Nacional","5.01.34 - IDG - Resende - Plano de Manejo","Pago","Santander",-6351.6804917683467,"2023-01-11","Boleto",{"$f":"IFERROR(IF(OR(VLOOKUP(F37,Validações!$C$2:$D$17,2,FALSE)=1,VLOOKUP(F37,Validações!$C$2:$D$17,2,FALSE)=3),SUM(P36,M37),SUM(P36,-M37)),P36)","v":138649.82975411581}]
["2023-01-03","2023-01-11","2022-12-01",11,"única","2.06 - Impostos","2.06.01 - DAS","NF 0262 - IDG - PM Resende (Produto 4)","DAS - Simples Nacional","5.01.34 - IDG - Resende - Plano de Manejo","Pago","Santander",-3175.8402458841733,"2023-01-11","Boleto",{"$f":"IFERROR(IF(OR(VLOOKUP(F38,Validações!$C$2:$D$17,2,FALSE)=1,VLOOKUP(F38,Validações!$C$2:$D$17,2,FALSE)=3),SUM(P37,M38),SUM(P37,-M38)),P37)","v":141825.66999999998}]
["2023-01-03","2023-01-06","2022-12-01",6,"única","2.02 - Despesa com pessoal","2.02.10 - FGTS","GRF - FGTS 12.22","FGTS","5.01.32 - IDG - Padua - Plano de Manejo","Pago","Santander",-164.56,"2023-01-06","Boleto",{"$f":"IFERROR(IF(OR(VLOOKUP(F39,Validações!$C$2:$D$17,2,FALSE)=1,VLOOKUP(F39,Validações!$C$2:$D$17,2,FALSE)=3),SUM(P38,M39),SUM(P38,-M39)),P38)","v":141990.22999999998}]
["2023-01-03","2023-01-04","2022-12-01",4,"única","2.02 - Despesa com pessoal","2.02.02 - Salário mensal","Salario Ciro 12.22","Ciro Jose Ribeiro de Moura","5.01.32 - IDG - Padua - Plano de Manejo","Pago","Santander",-1892.3,"2023-01-04","Transferência",{"$f":"IFERROR(IF(OR(VLOOKUP(F40,Validações!$C$2:$D$17,2,FALSE)=1,VLOOKUP(F40,Validações!$C$2:$D$17,2,FALSE)=3),SUM(P39,M40),SUM(P39,-M40)),P39)","v":143882.52999999997}]
["2023-01-03","2023-01-04","2023-01-01",4,"única","2.08 - Retirada de sócios","2.08.02 - Mensal","Retirada 01.23","Rodrigo Imbuzeiro Cardoso","5.01.01 - Sócios","Pago","Santander",-15971.880000000001,"2023-01-04","Transferência",{"$f":"IFERROR(IF(OR(VLOOKUP(F41,Validações!$C$2:$D$17,2,FALSE)=1,VLOOKUP(F41,Validações!$C$2:$D$17,2,FALSE)=3),SUM(P40,M41),SUM(P40,-M41)),P40)","v":159854.40999999997}]
["2023-01-03","2023-01-04","2022-12-01",4,"única","2.02 - Despesa com pessoal","2.02.01 - Pró labore","Pro Labore 12.22","Rodrigo Imbuzeiro Cardoso","5.01.01 - Sócios","Pago","Santander",-1078.68,"2023-01-04","Transferência",{"$f":"IFERROR(IF(OR(VLOOKUP(F42,Validações!$C$2:$D$17,2,FALSE)=1,VLOOKUP(F42,Validações!$C$2:$D$17,2,FALSE)=3),SUM(P41,M42),SUM(P41,-M42)),P41)","v":160933.08999999997}]
["2023-01-06","2023-02-06","2023-01-01",6,"única","1.01 - Receita de vendas","1.01.03 - RE","NF 0268 - ETE Obra 532 (Med.05)","Obra 532 - Conquista Varzea","5.01.43 - ETE 532 - Conquista Varzea","Em aberto","Santander",32448.87,"2023-02-06","Transferência",{"$f":"IFERROR(IF(OR(VLOOKUP(F43,Validações!$C$2:$D$17,2,FALSE)=1,VLOOKUP(F43,Validações!$C$2:$D$17,2,FALSE)=3),SUM(P42,M43),SUM(P42,-M43)),P42)","v":193381.95999999996}]
["2023-02-07","2023-02-15","2023-01-01",15,"única","2.01 - Despesa Operacional","2.01.03 - Serviços de Terceiros","Ana Moura - Serviços de comunicação - Planos de Manejo","Ana Moura","5.01.33 - IDG - Mangaratiba - Plano de Manejo","Em aberto","Santander",-360,"2023-02-15","Transferência",{"$f":"IFERROR(IF(OR(VLOOKUP(F44,Validações!$C$2:$D$17,2,FALSE)=1,VLOOKUP(F44,Validações!$C$2:$D$17,2,FALSE)=3),SUM(P43,M44),SUM(P43,-M44)),P43)","v":193741.95999999996}]
["2023-02-08","2023-02-20","2023-02-22",20,"única","2.01 - Despesa Operacional","2.01.03 - Serviços de Terceiros","Reemb. Pgto Venturini - Lorintech Unidade Caxias - Acompahamento das Condicionantes da LO (parcela 1 - abr.22)","Rodrigo Imbuzeiro Cardoso","5.01.37 - Lorintech - Unidade Caxias","Em aberto","Santander",-552.5,"2023-02-20","Transferência",{"$f":"IFERROR(IF(OR(VLOOKUP(F45,Validações!$C$2:$D$17,2,FALSE)=1,VLOOKUP(F45,Validações!$C$2:$D$17,2,FALSE)=3),SUM(P44,M45),SUM(P44,-M45)),P44)","v":194294.45999999996}]
["2023-01-02","2023-01-08","2022-12-01",8,"única","2.04 - Despesas administrativas","2.04.05 - Contabilidade","Contabiidade 12.22","Ethicos Contabilidade e Consultoria Ltda.","5.01.02 - Administrativo","Pago","Santander",-468,"2023-01-08","Boleto",{"$f":"IFERROR(IF(OR(VLOOKUP(F46,Validações!$C$2:$D$17,2,FALSE)=1,VLOOKUP(F46,Validações!$C$2:$D$17,2,FALSE)=3),SUM(P45,M46),SUM(P45,-M46)),P45)","v":194762.45999999996}]
["2023-01-01","2023-01-10","2023-01-01",10,"única","2.05 - Despesas financeiras","2.05.01 - Despesas bancárias","Anuidade cartão","Sonen Ambiental (Santander)","5.01.02 - Administrativo","Pago","Santander",-18.5,"2023-01-10","Crédito",{"$f":"IFERROR(IF(OR(VLOOKUP(F47,Validações!$C$2:$D$17,2,FALSE)=1,VLOOKUP(F47,Validações!$C$2:$D$17,2,FALSE)=3),SUM(P46,M47),SUM(P46,-M47)),P46)","v":194780.95999999996}]
["2023-01-01","2023-01-10","2023-01-01",10,"única","2.04 - Despesas administrativas","2.04.09 - Informatica","Google - Emails 01/23","Google","5.01.02 - Administrativo","Pago","Santander",-289.2,"2023-01-10","Crédito",{"$f":"IFERROR(IF(OR(VLOOKUP(F48,Validações!$C$2:$D$17,2,FALSE)=1,VLOOKUP(F48,Validações!$C$2:$D$17,2,FALSE)=3),SUM(P47,M48),SUM(P47,-M48)),P47)","v":195070.15999999997}]
["2023-01-01","2023-01-10","2023-01-01",10,"única","2.04 - Despesas administrativas","2.04.09 - Informatica","Adobe PDF","Adobe","5.01.02 - Administrativo","Pago","Santander",-86,"2023-01-10","Crédito",{"$f":"IFERROR(IF(OR(VLOOKUP(F49,Validações!$C$2:$D$17,2,FALSE)=1,VLOOKUP(F49,Validações!$C$2:$D$17,2,FALSE)=3),SUM(P48,M49),SUM(P48,-M49)),P48)","v":195156.15999999997}]
["2022-12-17","2023-01-03","2023-01-01",3,"única","2.02 - Despesa com pessoal","2.02.06 - Assistência médica","Plano de Saude 01.23","Golden Cross - Supermed Adm de Beneficios","5.01.01 - Sócios","Pago","Santander",-1672.67,"2023-01-03","Boleto",{"$f":"IFERROR(IF(OR(VLOOKUP(F50,Validações!$C$2:$D$17,2,FALSE)=1,VLOOKUP(F50,Validações!$C$2:$D$17,2,FALSE)=3),SUM(P49,M50),SUM(P49,-M50)),P49)","v":196828.83}]
["2022-12-15","2023-01-16","2022-12-22",16,"única","1.01 - Receita de vendas","1.01.01 - CEPA","NF 0260 - Braskem Caxias - Inventario - parc. 2/2","Braskem S.A","5.01.31 - Braskem - Unidade Caxias","Pago","Santander",7695,"2023-01-16","Transferência",{"$f":"IFERROR(IF(OR(VLOOKUP(F51,Validações!$C$2:$D$17,2,FALSE)=1,VLOOKUP(F51,Validações!$C$2:$D$17,2,FALSE)=3),SUM(P50,M51),SUM(P50,-M51)),P50)","v":204523.83}]
["2023-02-08","2023-02-20","2023-02-01",20,"única","1.01 - Receita de vendas","1.01.01 - CEPA","NF 0xxx - Lorintech Unidade Caxias - Acompahamento das Condicionantes da LO","Lorintech","5.01.37 - Lorintech - Unidade Caxias","Em aberto","Santander",1290,"2023-02-20","Transferência",{"$f":"IFERROR(IF(OR(VLOOKUP(F52,Validações!$C$2:$D$17,2,FALSE)=1,VLOOKUP(F52,Validações!$C$2:$D$17,2,FALSE)=3),SUM(P51,M52),SUM(P51,-M52)),P51)","v":205813.83}]
["2022-12-02","2023-01-02","2022-11-22",2,"única","1.01 - Receita de vendas","1.01.03 - RE","NF 0255 - ETE Obra 564 (Med.01)","Obra 564 - Pavuna Empreendimentos","5.01.50 - ETE 564 - Pavuna Empreendimentos","Pago","Santander",9800,"2023-01-02","Transferência",{"$f":"IFERROR(IF(OR(VLOOKUP(F53,Validações!$C$2:$D$17,2,FALSE)=1,VLOOKUP(F53,Validações!$C$2:$D$17,2,FALSE)=3),SUM(P52,M53),SUM(P52,-M53)),P52)","v":215613.83}]
["2022-12-02","2023-01-02","2022-11-22",2,"única","1.01 - Receita de vendas","1.01.03 - RE","NF 0254 - ETE Obra 495 (Med.01)","Obra 495 - Cerejeiras","5.01.49 - ETE 495 - Cerejeiras","Pago","Santander",9500,"2023-01-02","Transferência",{"$f":"IFERROR(IF(OR(VLOOKUP(F54,Validações!$C$2:$D$17,2,FALSE)=1,VLOOKUP(F54,Validações!$C$2:$D$17,2,FALSE)=3),SUM(P53,M54),SUM(P53,-M54)),P53)","v":225113.83}]
["2023-02-02","2023-02-20","2023-02-01",20,"única","2.01 - Despesa Operacional","2.01.03 - Serviços de Terceiros","Reemb. Pgto Venturini - Lorintech Unidade Caxias - LO Galpao II (parc. 4/4)","Rodrigo Imbuzeiro Cardoso","5.01.37 - Lorintech - Unidade Caxias","Em aberto","Santander",-3062.5,"2023-02-20","Transferência",{"$f":"IFERROR(IF(OR(VLOOKUP(F55,Validações!$C$2:$D$17,2,FALSE)=1,VLOOKUP(F55,Validações!$C$2:$D$17,2,FALSE)=3),SUM(P54,M55),SUM(P54,-M55)),P54)","v":228176.33}]
["2022-12-01","2023-01-04","2022-12-01",4,"única","2.01 - Despesa Operacional","2.01.03 - Serviços de Terceiros","IAP Galpao II - Lorintech Unidade Caxias (parcela 2/2)","Daniel Marques (Magma)","5.01.37 - Lorintech - Unidade Caxias","Pago","Santander",-2250,"2023-01-04","Transferência",{"$f":"IFERROR(IF(OR(VLOOKUP(F56,Validações!$C$2:$D$17,2,FALSE)=1,VLOOKUP(F56,Validações!$C$2:$D$17,2,FALSE)=3),SUM(P55,M56),SUM(P55,-M56)),P55)","v":230426.33}]
["2023-02-02","2023-02-20","2023-02-01",20,"única","1.01 - Receita de vendas","1.01.01 - CEPA","NF 0xxx - Lorintech - LO Galpao II Caxias (parcela 4/4)","Lorintech","5.01.37 - Lorintech - Unidade Caxias","Em aberto","Santander",3996,"2023-02-20","Transferência",{"$f":"IFERROR(IF(OR(VLOOKUP(F57,Validações!$C$2:$D$17,2,FALSE)=1,VLOOKUP(F57,Validações!$C$2:$D$17,2,FALSE)=3),SUM(P56,M57),SUM(P56,-M57)),P56)","v":234422.33}]
["2023-02-15","2023-02-25","2023-02-01",25,"única","2.01 - Despesa Operacional","2.01.03 - Serviços de Terceiros","Douglas - Elaboração RIT - Cabo Frio (parc.2/2)","Synaz (Douglas - RIT)","5.01.30 - Sao Jose Desenv. Imob. SA","Em aberto","Santander",-9300,"2023-02-25","Transferência",{"$f":"IFERROR(IF(OR(VLOOKUP(F58,Validações!$C$2:$D$17,2,FALSE)=1,VLOOKUP(F58,Validações!$C$2:$D$17,2,FALSE)=3),SUM(P57,M58),SUM(P57,-M58)),P57)","v":243722.33}]
["2023-03-07","2023-03-15","2023-02-01",15,"única","2.01 - Despesa Operacional","2.01.03 - Serviços de Terceiros","Ana Moura - Serviços de comunicação - Planos de Manejo","Ana Moura","5.01.33 - IDG - Mangaratiba - Plano de Manejo","Em aberto","Santander",-360,"2023-03-15","Transferência",{"$f":"IFERROR(IF(OR(VLOOKUP(F59,Validações!$C$2:$D$17,2,FALSE)=1,VLOOKUP(F59,Validações!$C$2:$D$17,2,FALSE)=3),SUM(P58,M59),SUM(P58,-M59)),P58)","v":244082.33}]
["2023-03-08","2023-03-20","2023-03-22",20,"única","2.01 - Despesa Operacional","2.01.03 - Serviços de Terceiros","Reemb. Pgto Venturini - Lorintech Unidade Caxias - Acompahamento das Condicionantes da LO (parcela 1 - abr.22)","Rodrigo Imbuzeiro Cardoso","5.01.37 - Lorintech - Unidade Caxias","Em aberto","Santander",-552.5,"2023-03-20","Transferência",{"$f":"IFERROR(IF(OR(VLOOKUP(F60,Validações!$C$2:$D$17,2,FALSE)=1,VLOOKUP(F60,Validações!$C$2:$D$17,2,FALSE)=3),SUM(P59,M60),SUM(P59,-M60)),P59)","v":244634.83}]
["2023-03-01","2023-03-20","2023-03-01",20,"única","1.01 - Receita de vendas","1.01.01 - CEPA","NF 0xxx - Lorintech Unidade Caxias - Acompahamento das Condicionantes da LO","Lorintech","5.01.37 - Lorintech - Unidade Caxias","Em aberto","Santander",1290,"2023-03-20","Transferência",{"$f":"IFERROR(IF(OR(VLOOKUP(F61,Validações!$C$2:$D$17,2,FALSE)=1,VLOOKUP(F61,Validações!$C$2:$D$17,2,FALSE)=3),SUM(P60,M61),SUM(P60,-M61)),P60)","v":245924.83}]
["2023-04-07","2023-04-15","2023-03-01",15,"única","2.01 - Despesa Operacional","2.01.03 - Serviços de Terceiros","Ana Moura - Serviços de comunicação - Planos de Manejo","Ana Moura","5.01.33 - IDG - Mangaratiba - Plano de Manejo","Em aberto","Santander",-360,"2023-04-15","Transferência",{"$f":"IFERROR(IF(OR(VLOOKUP(F62,Validações!$C$2:$D$17,2,FALSE)=1,VLOOKUP(F62,Validações!$C$2:$D$17,2,FALSE)=3),SUM(P61,M62),SUM(P61,-M62)),P61)","v":246284.83}]
["2023-05-07","2023-05-15","2023-04-01",15,"única","2.01 - Despesa Operacional","2.01.03 - Serviços de Terceiros","Ana Moura - Serviços de comunicação - Planos de Manejo","Ana Moura","5.01.33 - IDG - Mangaratiba - Plano de Manejo","Em aberto","Santander",-360,"2023-05-15","Transferência",{"$f":"IFERROR(IF(OR(VLOOKUP(F63,Validações!$C$2:$D$17,2,FALSE)=1,VLOOKUP(F63,Validações!$C$2:$D$17,2,FALSE)=3),SUM(P62,M63),SUM(P62,-M63)),P62)","v":246644.83}]
["2021-05-21","2023-01-04","2021-05-21",4,"única","2.01 - Despesa Operacional","2.01.03 - Serviços de Terceiros","DAIA LTMC - State Grid - Andre Barata (50% final)","Andre de Souza Santos","5.01.20 - State Grid","Pago","Santander",-3270,"2023-01-04","Transferência",{"$f":"IFERROR(IF(OR(VLOOKUP(F64,Validações!$C$2:$D$17,2,FALSE)=1,VLOOKUP(F64,Validações!$C$2:$D$17,2,FALSE)=3),SUM(P63,M64),SUM(P63,-M64)),P63)","v":249914.83}]

{"sheet":"Validações","index":8,"n_rows":1002,"n_cols":23,"rows_kept":1002,"cut":false,"hidden":false,"merged":[[0,2,0,3],[0,13,0,14]]}
["Pagamento",null,"Entradas ou saídas",null,null,"Contas",null,"Centro de Custo",null,"Clientes e Fornecedores",null,"Status Forecast",null,"Meses",null,null,"Status",null,"Meses TODOS",null,"Forma Pgto",null,"Parcela"]
["Em aberto",null,{"$f":"'1.x PC'!A$9","v":"1.01 - Receita de vendas"},1,null,"TODAS",null,"TODOS",null,"TODOS",null,"Realizado",null,"Janeiro",1,null,"TODOS",null,"TODOS",null,"Boleto",null,"única"]
["Pago",null,{"$f":"'1.x PC'!B$9","v":"1.02 - Receitas financeiras"},1,null,{"$f":"'2.4 PC. Contas'!C7","v":"Itau"},null,{"$f":"'2.5 PC. C. Custo'!B6","v":"Sócios"},null,{"$f":"'2.6 PC. Cli. Fon.'!B6","v":"AAAAAAA"},null,"Prev. Inicial",null,"Fevereiro",2,null,"Em aberto",null,"Janeiro",null,"Débito",null,1]
["Cancelado",null,{"$f":"'1.x PC'!C$9","v":"1.03 - Outras entradas"},1,null,{"$f":"'2.4 PC. Contas'!C8","v":"Santander"},null,{"$f":"'2.5 PC. C. Custo'!B7","v":"Administrativo"},null,{"$f":"'2.6 PC. Cli. Fon.'!B7","v":"BBBBBBB"},null,"Prev. Ajustada",null,"Março",3,null,"Pago",null,"Fevereiro",null,"Transferência",null,2]
[null,null,{"$f":"'1.x PC'!D$9","v":"2.01 - Despesa Operacional"},2,null,{"$f":"'2.4 PC. Contas'!C9","v":0},null,{"$f":"'2.5 PC. C. Custo'!B8","v":"Argo"},null,{"$f":"'2.6 PC. Cli. Fon.'!B8","v":"CCCCCCCC"},null,null,null,"Abril",4,null,null,null,"Março",null,"Saque",null,3]
[null,null,{"$f":"'1.x PC'!E$9","v":"2.02 - Despesa com pessoal"},2,null,{"$f":"'2.4 PC. Contas'!C10","v":0},null,{"$f":"'2.5 PC. C. Custo'!B9","v":"PJI"},null,{"$f":"'2.6 PC. Cli. Fon.'!B9","v":"DDDDDDDDDDDDD"},null,null,null,"Maio",5,null,null,null,"Abril",null,"Débito Automático",null,4]
[null,null,{"$f":"'1.x PC'!F$9","v":"2.03 - Despesas comerciais"},2,null,{"$f":"'2.4 PC. Contas'!C11","v":0},null,{"$f":"'2.5 PC. C. Custo'!B10","v":"Downstream"},null,{"$f":"'2.6 PC. Cli. Fon.'!B10","v":"EEEEEEEEEEEEEEEE"},null,null,null,"Junho",6,null,null,null,"Maio",null,"Crédito",null,5]
[null,null,{"$f":"'1.x PC'!G$9","v":"2.04 - Despesas administrativas"},2,null,null,null,{"$f":"'2.5 PC. C. Custo'!B11","v":"AF 233/17"},null,{"$f":"'2.6 PC. Cli. Fon.'!B11","v":"FFFFFFFFFFFFFFF"},null,null,null,"Julho",7,null,null,null,"Junho",null,null,null,6]
[null,null,{"$f":"'1.x PC'!H$9","v":"2.05 - Despesas financeiras"},2,null,null,null,{"$f":"'2.5 PC. C. Custo'!B12","v":"ET 589"},null,{"$f":"'2.6 PC. Cli. Fon.'!B12","v":"GGGGGGGGGGG"},null,null,null,"Agosto",8,null,null,null,"Julho",null,null,null,7]
[null,null,{"$f":"'1.x PC'!I$9","v":"2.06 - Impostos"},2,null,null,null,{"$f":"'2.5 PC. C. Custo'!B13","v":"PPSJI"},null,{"$f":"'2.6 PC. Cli. Fon.'!B13","v":"HHHHHHHHHHH"},null,null,null,"Setembro",9,null,null,null,"Agosto",null,null,null,8]
[null,null,{"$f":"'1.x PC'!J$9","v":"2.07 - Investimentos"},2,null,null,null,{"$f":"'2.5 PC. C. Custo'!B14","v":"PSB"},null,{"$f":"'2.6 PC. Cli. Fon.'!B14","v":"IIIIIIIIIIIIIIIIIIIIIIIII"},null,null,null,"Outubro",10,null,null,null,"Setembro",null,null,null,9]
[null,null,{"$f":"'1.x PC'!K$9","v":"2.08 - Retirada de sócios"},2,null,null,null,{"$f":"'2.5 PC. C. Custo'!B15","v":0},null,{"$f":"'2.6 PC. Cli. Fon.'!B15","v":0},null,null,null,"Novembro",11,null,null,null,"Outubro",null,null,null,10]
[null,null,{"$f":"'1.x PC'!L$9","v":"2.09 - Outras saídas"},2,null,null,null,{"$f":"'2.5 PC. C. Custo'!B16","v":0},null,{"$f":"'2.6 PC. Cli. Fon.'!B16","v":0},null,null,null,"Dezembro",12,null,null,null,"Novembro",null,null,null,11]
[null,null,{"$f":"'1.x PC'!M$9","v":"3.01 - TRANSFERÊNCIAS (CRÉDITO)"},3,null,null,null,{"$f":"'2.5 PC. C. Custo'!B17","v":0},null,{"$f":"'2.6 PC. Cli. Fon.'!B17","v":0},null,null,null,null,null,null,null,null,"Dezembro",null,null,null,12]
[null,null,{"$f":"'1.x PC'!N$9","v":"3.02 - TRANSFERÊNCIAS (DÉBITO)"},4,null,null,null,{"$f":"'2.5 PC. C. Custo'!B18","v":0},null,{"$f":"'2.6 PC. Cli. Fon.'!B18","v":0}]
[null,null,null,null,null,null,null,{"$f":"'2.5 PC. C. Custo'!B19","v":0},null,{"$f":"'2.6 PC. Cli. Fon.'!B19","v":0}]
[null,null,null,null,null,null,null,{"$f":"'2.5 PC. C. Custo'!B20","v":0},null,{"$f":"'2.6 PC. Cli. Fon.'!B20","v":0}]
[null,null,null,null,null,null,null,{"$f":"'2.5 PC. C. Custo'!B21","v":0},null,{"$f":"'2.6 PC. Cli. Fon.'!B21","v":0}]
[null,null,null,null,null,null,null,{"$f":"'2.5 PC. C. Custo'!B22","v":0},null,{"$f":"'2.6 PC. Cli. Fon.'!B22","v":0}]
[null,null,null,null,null,null,null,{"$f":"'2.5 PC. C. Custo'!B23","v":0},null,{"$f":"'2.6 PC. Cli. Fon.'!B23","v":0}]
[null,null,null,null,null,null,null,{"$f":"'2.5 PC. C. Custo'!B24","v":0},null,{"$f":"'2.6 PC. Cli. Fon.'!B24","v":0}]
[null,null,null,null,null,null,null,{"$f":"'2.5 PC. C. Custo'!B25","v":0},null,{"$f":"'2.6 PC. Cli. Fon.'!B25","v":0}]
[null,null,null,null,null,null,null,{"$f":"'2.5 PC. C. Custo'!B26","v":0},null,{"$f":"'2.6 PC. Cli. Fon.'!B26","v":0}]
[null,null,null,null,null,null,null,{"$f":"'2.5 PC. C. Custo'!B27","v":0},null,{"$f":"'2.6 PC. Cli. Fon.'!B27","v":0}]
[null,null,null,null,null,null,null,{"$f":"'2.5 PC. C. Custo'!B28","v":0},null,{"$f":"'2.6 PC. Cli. Fon.'!B28","v":0}]
[null,null,null,null,null,null,null,{"$f":"'2.5 PC. C. Custo'!B29","v":0},null,{"$f":"'2.6 PC. Cli. Fon.'!B29","v":0}]
[null,null,null,null,null,null,null,{"$f":"'2.5 PC. C. Custo'!B30","v":0},null,{"$f":"'2.6 PC. Cli. Fon.'!B30","v":0}]
[null,null,null,null,null,null,null,{"$f":"'2.5 PC. C. Custo'!B31","v":0},null,{"$f":"'2.6 PC. Cli. Fon.'!B31","v":0}]
[null,null,null,null,null,null,null,{"$f":"'2.5 PC. C. Custo'!B32","v":0},null,{"$f":"'2.6 PC. Cli. Fon.'!B32","v":0}]
[null,null,null,null,null,null,null,{"$f":"'2.5 PC. C. Custo'!B33","v":0},null,{"$f":"'2.6 PC. Cli. Fon.'!B33","v":0}]
[null,null,null,null,null,null,null,{"$f":"'2.5 PC. C. Custo'!B34","v":0},null,{"$f":"'2.6 PC. Cli. Fon.'!B34","v":0}]
[null,null,null,null,null,null,null,{"$f":"'2.5 PC. C. Custo'!B35","v":0},null,{"$f":"'2.6 PC. Cli. Fon.'!B35","v":0}]
[null,null,null,null,null,null,null,{"$f":"'2.5 PC. C. Custo'!B36","v":0},null,{"$f":"'2.6 PC. Cli. Fon.'!B36","v":0}]
[null,null,null,null,null,null,null,{"$f":"'2.5 PC. C. Custo'!B37","v":0},null,{"$f":"'2.6 PC. Cli. Fon.'!B37","v":0}]
[null,null,null,null,null,null,null,{"$f":"'2.5 PC. C. Custo'!B38","v":0},null,{"$f":"'2.6 PC. Cli. Fon.'!B38","v":0}]
[null,null,null,null,null,null,null,{"$f":"'2.5 PC. C. Custo'!B39","v":0},null,{"$f":"'2.6 PC. Cli. Fon.'!B39","v":0}]
[null,null,null,null,null,null,null,{"$f":"'2.5 PC. C. Custo'!B40","v":0},null,{"$f":"'2.6 PC. Cli. Fon.'!B40","v":0}]
[null,null,null,null,null,null,null,{"$f":"'2.5 PC. C. Custo'!B41","v":0},null,{"$f":"'2.6 PC. Cli. Fon.'!B41","v":0}]
[null,null,null,null,null,null,null,{"$f":"'2.5 PC. C. Custo'!B42","v":0},null,{"$f":"'2.6 PC. Cli. Fon.'!B42","v":0}]
[null,null,null,null,null,null,null,{"$f":"'2.5 PC. C. Custo'!B43","v":0},null,{"$f":"'2.6 PC. Cli. Fon.'!B43","v":0}]
[null,null,null,null,null,null,null,{"$f":"'2.5 PC. C. Custo'!B44","v":0},null,{"$f":"'2.6 PC. Cli. Fon.'!B44","v":0}]
[null,null,null,null,null,null,null,{"$f":"'2.5 PC. C. Custo'!B45","v":0},null,{"$f":"'2.6 PC. Cli. Fon.'!B45","v":0}]
[null,null,null,null,null,null,null,{"$f":"'2.5 PC. C. Custo'!B46","v":0},null,{"$f":"'2.6 PC. Cli. Fon.'!B46","v":0}]
[null,null,null,null,null,null,null,{"$f":"'2.5 PC. C. Custo'!B47","v":0},null,{"$f":"'2.6 PC. Cli. Fon.'!B47","v":0}]
[null,null,null,null,null,null,null,{"$f":"'2.5 PC. C. Custo'!B48","v":0},null,{"$f":"'2.6 PC. Cli. Fon.'!B48","v":0}]
[null,null,null,null,null,null,null,{"$f":"'2.5 PC. C. Custo'!B49","v":0},null,{"$f":"'2.6 PC. Cli. Fon.'!B49","v":0}]
[null,null,null,null,null,null,null,{"$f":"'2.5 PC. C. Custo'!B50","v":0},null,{"$f":"'2.6 PC. Cli. Fon.'!B50","v":0}]
[null,null,null,null,null,null,null,{"$f":"'2.5 PC. C. Custo'!B51","v":0},null,{"$f":"'2.6 PC. Cli. Fon.'!B51","v":0}]
[null,null,null,null,null,null,null,{"$f":"'2.5 PC. C. Custo'!B52","v":0},null,{"$f":"'2.6 PC. Cli. Fon.'!B52","v":0}]
[null,null,null,null,null,null,null,{"$f":"'2.5 PC. C. Custo'!B53","v":0},null,{"$f":"'2.6 PC. Cli. Fon.'!B53","v":0}]
[null,null,null,null,null,null,null,{"$f":"'2.5 PC. C. Custo'!B54","v":0},null,{"$f":"'2.6 PC. Cli. Fon.'!B54","v":0}]
[null,null,null,null,null,null,null,{"$f":"'2.5 PC. C. Custo'!B55","v":0},null,{"$f":"'2.6 PC. Cli. Fon.'!B55","v":0}]
[null,null,null,null,null,null,null,{"$f":"'2.5 PC. C. Custo'!B56","v":0},null,{"$f":"'2.6 PC. Cli. Fon.'!B56","v":0}]
[null,null,null,null,null,null,null,{"$f":"'2.5 PC. C. Custo'!B57","v":0},null,{"$f":"'2.6 PC. Cli. Fon.'!B57","v":0}]
[null,null,null,null,null,null,null,{"$f":"'2.5 PC. C. Custo'!B58","v":0},null,{"$f":"'2.6 PC. Cli. Fon.'!B58","v":0}]
[null,null,null,null,null,null,null,{"$f":"'2.5 PC. C. Custo'!B59","v":0},null,{"$f":"'2.6 PC. Cli. Fon.'!B59","v":0}]
[null,null,null,null,null,null,null,{"$f":"'2.5 PC. C. Custo'!B60","v":0},null,{"$f":"'2.6 PC. Cli. Fon.'!B60","v":0}]
[null,null,null,null,null,null,null,{"$f":"'2.5 PC. C. Custo'!B61","v":0},null,{"$f":"'2.6 PC. Cli. Fon.'!B61","v":0}]
[null,null,null,null,null,null,null,{"$f":"'2.5 PC. C. Custo'!B62","v":0},null,{"$f":"'2.6 PC. Cli. Fon.'!B62","v":0}]
[null,null,null,null,null,null,null,{"$f":"'2.5 PC. C. Custo'!B63","v":0},null,{"$f":"'2.6 PC. Cli. Fon.'!B63","v":0}]
[null,null,null,null,null,null,null,{"$f":"'2.5 PC. C. Custo'!B64","v":0},null,{"$f":"'2.6 PC. Cli. Fon.'!B64","v":0}]
[null,null,null,null,null,null,null,{"$f":"'2.5 PC. C. Custo'!B65","v":0},null,{"$f":"'2.6 PC. Cli. Fon.'!B65","v":0}]
[null,null,null,null,null,null,null,{"$f":"'2.5 PC. C. Custo'!B66","v":0},null,{"$f":"'2.6 PC. Cli. Fon.'!B66","v":0}]
[null,null,null,null,null,null,null,{"$f":"'2.5 PC. C. Custo'!B67","v":0},null,{"$f":"'2.6 PC. Cli. Fon.'!B67","v":0}]
[null,null,null,null,null,null,null,{"$f":"'2.5 PC. C. Custo'!B68","v":0},null,{"$f":"'2.6 PC. Cli. Fon.'!B68","v":0}]
[null,null,null,null,null,null,null,{"$f":"'2.5 PC. C. Custo'!B69","v":0},null,{"$f":"'2.6 PC. Cli. Fon.'!B69","v":0}]
[null,null,null,null,null,null,null,{"$f":"'2.5 PC. C. Custo'!B70","v":0},null,{"$f":"'2.6 PC. Cli. Fon.'!B70","v":0}]
[null,null,null,null,null,null,null,{"$f":"'2.5 PC. C. Custo'!B71","v":0},null,{"$f":"'2.6 PC. Cli. Fon.'!B71","v":0}]
[null,null,null,null,null,null,null,{"$f":"'2.5 PC. C. Custo'!B72","v":0},null,{"$f":"'2.6 PC. Cli. Fon.'!B72","v":0}]
[null,null,null,null,null,null,null,{"$f":"'2.5 PC. C. Custo'!B73","v":0},null,{"$f":"'2.6 PC. Cli. Fon.'!B73","v":0}]
[null,null,null,null,null,null,null,{"$f":"'2.5 PC. C. Custo'!B74","v":0},null,{"$f":"'2.6 PC. Cli. Fon.'!B74","v":0}]
[null,null,null,null,null,null,null,{"$f":"'2.5 PC. C. Custo'!B75","v":0},null,{"$f":"'2.6 PC. Cli. Fon.'!B75","v":0}]
[null,null,null,null,null,null,null,{"$f":"'2.5 PC. C. Custo'!B76","v":0},null,{"$f":"'2.6 PC. Cli. Fon.'!B76","v":0}]
[null,null,null,null,null,null,null,{"$f":"'2.5 PC. C. Custo'!B77","v":0},null,{"$f":"'2.6 PC. Cli. Fon.'!B77","v":0}]
[null,null,null,null,null,null,null,{"$f":"'2.5 PC. C. Custo'!B78","v":0},null,{"$f":"'2.6 PC. Cli. Fon.'!B78","v":0}]
[null,null,null,null,null,null,null,{"$f":"'2.5 PC. C. Custo'!B79","v":0},null,{"$f":"'2.6 PC. Cli. Fon.'!B79","v":0}]
[null,null,null,null,null,null,null,{"$f":"'2.5 PC. C. Custo'!B80","v":0},null,{"$f":"'2.6 PC. Cli. Fon.'!B80","v":0}]
[null,null,null,null,null,null,null,{"$f":"'2.5 PC. C. Custo'!B81","v":0},null,{"$f":"'2.6 PC. Cli. Fon.'!B81","v":0}]
[null,null,null,null,null,null,null,{"$f":"'2.5 PC. C. Custo'!B82","v":0},null,{"$f":"'2.6 PC. Cli. Fon.'!B82","v":0}]
[null,null,null,null,null,null,null,{"$f":"'2.5 PC. C. Custo'!B83","v":0},null,{"$f":"'2.6 PC. Cli. Fon.'!B83","v":0}]
[null,null,null,null,null,null,null,{"$f":"'2.5 PC. C. Custo'!B84","v":0},null,{"$f":"'2.6 PC. Cli. Fon.'!B84","v":0}]
[null,null,null,null,null,null,null,{"$f":"'2.5 PC. C. Custo'!B85","v":0},null,{"$f":"'2.6 PC. Cli. Fon.'!B85","v":0}]
[null,null,null,null,null,null,null,{"$f":"'2.5 PC. C. Custo'!B86","v":0},null,{"$f":"'2.6 PC. Cli. Fon.'!B86","v":0}]
[null,null,null,null,null,null,null,{"$f":"'2.5 PC. C. Custo'!B87","v":0},null,{"$f":"'2.6 PC. Cli. Fon.'!B87","v":0}]
[null,null,null,null,null,null,null,{"$f":"'2.5 PC. C. Custo'!B88","v":0},null,{"$f":"'2.6 PC. Cli. Fon.'!B88","v":0}]
[null,null,null,null,null,null,null,{"$f":"'2.5 PC. C. Custo'!B89","v":0},null,{"$f":"'2.6 PC. Cli. Fon.'!B89","v":0}]
[null,null,null,null,null,null,null,{"$f":"'2.5 PC. C. Custo'!B90","v":0},null,{"$f":"'2.6 PC. Cli. Fon.'!B90","v":0}]
[null,null,null,null,null,null,null,{"$f":"'2.5 PC. C. Custo'!B91","v":0},null,{"$f":"'2.6 PC. Cli. Fon.'!B91","v":0}]
[null,null,null,null,null,null,null,{"$f":"'2.5 PC. C. Custo'!B92","v":0},null,{"$f":"'2.6 PC. Cli. Fon.'!B92","v":0}]
[null,null,null,null,null,null,null,{"$f":"'2.5 PC. C. Custo'!B93","v":0},null,{"$f":"'2.6 PC. Cli. Fon.'!B93","v":0}]
[null,null,null,null,null,null,null,{"$f":"'2.5 PC. C. Custo'!B94","v":0},null,{"$f":"'2.6 PC. Cli. Fon.'!B94","v":0}]
[null,null,null,null,null,null,null,{"$f":"'2.5 PC. C. Custo'!B95","v":0},null,{"$f":"'2.6 PC. Cli. Fon.'!B95","v":0}]
[null,null,null,null,null,null,null,{"$f":"'2.5 PC. C. Custo'!B96","v":0},null,{"$f":"'2.6 PC. Cli. Fon.'!B96","v":0}]
[null,null,null,null,null,null,null,{"$f":"'2.5 PC. C. Custo'!B97","v":0},null,{"$f":"'2.6 PC. Cli. Fon.'!B97","v":0}]
[null,null,null,null,null,null,null,{"$f":"'2.5 PC. C. Custo'!B98","v":0},null,{"$f":"'2.6 PC. Cli. Fon.'!B98","v":0}]
[null,null,null,null,null,null,null,{"$f":"'2.5 PC. C. Custo'!B99","v":0},null,{"$f":"'2.6 PC. Cli. Fon.'!B99","v":0}]
[null,null,null,null,null,null,null,{"$f":"'2.5 PC. C. Custo'!B100","v":0},null,{"$f":"'2.6 PC. Cli. Fon.'!B100","v":0}]
[null,null,null,null,null,null,null,{"$f":"'2.5 PC. C. Custo'!B101","v":0},null,{"$f":"'2.6 PC. Cli. Fon.'!B101","v":0}]
[null,null,null,null,null,null,null,{"$f":"'2.5 PC. C. Custo'!B102","v":0},null,{"$f":"'2.6 PC. Cli. Fon.'!B102","v":0}]
[null,null,null,null,null,null,null,{"$f":"'2.5 PC. C. Custo'!B103","v":0},null,{"$f":"'2.6 PC. Cli. Fon.'!B103","v":0}]
[null,null,null,null,null,null,null,{"$f":"'2.5 PC. C. Custo'!B104","v":0},null,{"$f":"'2.6 PC. Cli. Fon.'!B104","v":0}]
[null,null,null,null,null,null,null,{"$f":"'2.5 PC. C. Custo'!B105","v":0},null,{"$f":"'2.6 PC. Cli. Fon.'!B105","v":0}]
[null,null,null,null,null,null,null,null,null,{"$f":"'2.6 PC. Cli. Fon.'!B106","v":0}]
[null,null,null,null,null,null,null,null,null,{"$f":"'2.6 PC. Cli. Fon.'!B107","v":0}]
[null,null,null,null,null,null,null,null,null,{"$f":"'2.6 PC. Cli. Fon.'!B108","v":0}]
[null,null,null,null,null,null,null,null,null,{"$f":"'2.6 PC. Cli. Fon.'!B109","v":0}]
[null,null,null,null,null,null,null,null,null,{"$f":"'2.6 PC. Cli. Fon.'!B110","v":0}]
[null,null,null,null,null,null,null,null,null,{"$f":"'2.6 PC. Cli. Fon.'!B111","v":0}]
[null,null,null,null,null,null,null,null,null,{"$f":"'2.6 PC. Cli. Fon.'!B112","v":0}]
[null,null,null,null,null,null,null,null,null,{"$f":"'2.6 PC. Cli. Fon.'!B113","v":0}]
[null,null,null,null,null,null,null,null,null,{"$f":"'2.6 PC. Cli. Fon.'!B114","v":0}]
[null,null,null,null,null,null,null,null,null,{"$f":"'2.6 PC. Cli. Fon.'!B115","v":0}]
[null,null,null,null,null,null,null,null,null,{"$f":"'2.6 PC. Cli. Fon.'!B116","v":0}]
[null,null,null,null,null,null,null,null,null,{"$f":"'2.6 PC. Cli. Fon.'!B117","v":0}]
[null,null,null,null,null,null,null,null,null,{"$f":"'2.6 PC. Cli. Fon.'!B118","v":0}]
[null,null,null,null,null,null,null,null,null,{"$f":"'2.6 PC. Cli. Fon.'!B119","v":0}]
[null,null,null,null,null,null,null,null,null,{"$f":"'2.6 PC. Cli. Fon.'!B120","v":0}]
[null,null,null,null,null,null,null,null,null,{"$f":"'2.6 PC. Cli. Fon.'!B121","v":0}]
[null,null,null,null,null,null,null,null,null,{"$f":"'2.6 PC. Cli. Fon.'!B122","v":0}]
[null,null,null,null,null,null,null,null,null,{"$f":"'2.6 PC. Cli. Fon.'!B123","v":0}]
[null,null,null,null,null,null,null,null,null,{"$f":"'2.6 PC. Cli. Fon.'!B124","v":0}]
[null,null,null,null,null,null,null,null,null,{"$f":"'2.6 PC. Cli. Fon.'!B125","v":0}]
[null,null,null,null,null,null,null,null,null,{"$f":"'2.6 PC. Cli. Fon.'!B126","v":0}]
[null,null,null,null,null,null,null,null,null,{"$f":"'2.6 PC. Cli. Fon.'!B127","v":0}]
[null,null,null,null,null,null,null,null,null,{"$f":"'2.6 PC. Cli. Fon.'!B128","v":0}]
[null,null,null,null,null,null,null,null,null,{"$f":"'2.6 PC. Cli. Fon.'!B129","v":0}]
[null,null,null,null,null,null,null,null,null,{"$f":"'2.6 PC. Cli. Fon.'!B130","v":0}]
[null,null,null,null,null,null,null,null,null,{"$f":"'2.6 PC. Cli. Fon.'!B131","v":0}]
[null,null,null,null,null,null,null,null,null,{"$f":"'2.6 PC. Cli. Fon.'!B132","v":0}]
[null,null,null,null,null,null,null,null,null,{"$f":"'2.6 PC. Cli. Fon.'!B133","v":0}]
[null,null,null,null,null,null,null,null,null,{"$f":"'2.6 PC. Cli. Fon.'!B134","v":0}]
[null,null,null,null,null,null,null,null,null,{"$f":"'2.6 PC. Cli. Fon.'!B135","v":0}]
[null,null,null,null,null,null,null,null,null,{"$f":"'2.6 PC. Cli. Fon.'!B136","v":0}]
[null,null,null,null,null,null,null,null,null,{"$f":"'2.6 PC. Cli. Fon.'!B137","v":0}]
[null,null,null,null,null,null,null,null,null,{"$f":"'2.6 PC. Cli. Fon.'!B138","v":0}]
[null,null,null,null,null,null,null,null,null,{"$f":"'2.6 PC. Cli. Fon.'!B139","v":0}]
[null,null,null,null,null,null,null,null,null,{"$f":"'2.6 PC. Cli. Fon.'!B140","v":0}]
[null,null,null,null,null,null,null,null,null,{"$f":"'2.6 PC. Cli. Fon.'!B141","v":0}]
[null,null,null,null,null,null,null,null,null,{"$f":"'2.6 PC. Cli. Fon.'!B142","v":0}]
[null,null,null,null,null,null,null,null,null,{"$f":"'2.6 PC. Cli. Fon.'!B143","v":0}]
[null,null,null,null,null,null,null,null,null,{"$f":"'2.6 PC. Cli. Fon.'!B144","v":0}]
[null,null,null,null,null,null,null,null,null,{"$f":"'2.6 PC. Cli. Fon.'!B145","v":0}]
[null,null,null,null,null,null,null,null,null,{"$f":"'2.6 PC. Cli. Fon.'!B146","v":0}]
[null,null,null,null,null,null,null,null,null,{"$f":"'2.6 PC. Cli. Fon.'!B147","v":0}]
[null,null,null,null,null,null,null,null,null,{"$f":"'2.6 PC. Cli. Fon.'!B148","v":0}]
[null,null,null,null,null,null,null,null,null,{"$f":"'2.6 PC. Cli. Fon.'!B149","v":0}]
[null,null,null,null,null,null,null,null,null,{"$f":"'2.6 PC. Cli. Fon.'!B150","v":0}]
[null,null,null,null,null,null,null,null,null,{"$f":"'2.6 PC. Cli. Fon.'!B151","v":0}]
[null,null,null,null,null,null,null,null,null,{"$f":"'2.6 PC. Cli. Fon.'!B152","v":0}]
[null,null,null,null,null,null,null,null,null,{"$f":"'2.6 PC. Cli. Fon.'!B153","v":0}]
[null,null,null,null,null,null,null,null,null,{"$f":"'2.6 PC. Cli. Fon.'!B154","v":0}]
[null,null,null,null,null,null,null,null,null,{"$f":"'2.6 PC. Cli. Fon.'!B155","v":0}]
[null,null,null,null,null,null,null,null,null,{"$f":"'2.6 PC. Cli. Fon.'!B156","v":0}]
[null,null,null,null,null,null,null,null,null,{"$f":"'2.6 PC. Cli. Fon.'!B157","v":0}]
[null,null,null,null,null,null,null,null,null,{"$f":"'2.6 PC. Cli. Fon.'!B158","v":0}]
[null,null,null,null,null,null,null,null,null,{"$f":"'2.6 PC. Cli. Fon.'!B159","v":0}]
[null,null,null,null,null,null,null,null,null,{"$f":"'2.6 PC. Cli. Fon.'!B160","v":0}]
[null,null,null,null,null,null,null,null,null,{"$f":"'2.6 PC. Cli. Fon.'!B161","v":0}]
[null,null,null,null,null,null,null,null,null,{"$f":"'2.6 PC. Cli. Fon.'!B162","v":0}]
[null,null,null,null,null,null,null,null,null,{"$f":"'2.6 PC. Cli. Fon.'!B163","v":0}]
[null,null,null,null,null,null,null,null,null,{"$f":"'2.6 PC. Cli. Fon.'!B164","v":0}]
[null,null,null,null,null,null,null,null,null,{"$f":"'2.6 PC. Cli. Fon.'!B165","v":0}]
[null,null,null,null,null,null,null,null,null,{"$f":"'2.6 PC. Cli. Fon.'!B166","v":0}]
[null,null,null,null,null,null,null,null,null,{"$f":"'2.6 PC. Cli. Fon.'!B167","v":0}]
[null,null,null,null,null,null,null,null,null,{"$f":"'2.6 PC. Cli. Fon.'!B168","v":0}]
[null,null,null,null,null,null,null,null,null,{"$f":"'2.6 PC. Cli. Fon.'!B169","v":0}]
[null,null,null,null,null,null,null,null,null,{"$f":"'2.6 PC. Cli. Fon.'!B170","v":0}]
[null,null,null,null,null,null,null,null,null,{"$f":"'2.6 PC. Cli. Fon.'!B171","v":0}]
[null,null,null,null,null,null,null,null,null,{"$f":"'2.6 PC. Cli. Fon.'!B172","v":0}]
[null,null,null,null,null,null,null,null,null,{"$f":"'2.6 PC. Cli. Fon.'!B173","v":0}]
[null,null,null,null,null,null,null,null,null,{"$f":"'2.6 PC. Cli. Fon.'!B174","v":0}]
[null,null,null,null,null,null,null,null,null,{"$f":"'2.6 PC. Cli. Fon.'!B175","v":0}]
[null,null,null,null,null,null,null,null,null,{"$f":"'2.6 PC. Cli. Fon.'!B176","v":0}]
[null,null,null,null,null,null,null,null,null,{"$f":"'2.6 PC. Cli. Fon.'!B177","v":0}]
[null,null,null,null,null,null,null,null,null,{"$f":"'2.6 PC. Cli. Fon.'!B178","v":0}]
[null,null,null,null,null,null,null,null,null,{"$f":"'2.6 PC. Cli. Fon.'!B179","v":0}]
[null,null,null,null,null,null,null,null,null,{"$f":"'2.6 PC. Cli. Fon.'!B180","v":0}]
[null,null,null,null,null,null,null,null,null,{"$f":"'2.6 PC. Cli. Fon.'!B181","v":0}]
[null,null,null,null,null,null,null,null,null,{"$f":"'2.6 PC. Cli. Fon.'!B182","v":0}]
[null,null,null,null,null,null,null,null,null,{"$f":"'2.6 PC. Cli. Fon.'!B183","v":0}]
[null,null,null,null,null,null,null,null,null,{"$f":"'2.6 PC. Cli. Fon.'!B184","v":0}]
[null,null,null,null,null,null,null,null,null,{"$f":"'2.6 PC. Cli. Fon.'!B185","v":0}]
[null,null,null,null,null,null,null,null,null,{"$f":"'2.6 PC. Cli. Fon.'!B186","v":0}]
[null,null,null,null,null,null,null,null,null,{"$f":"'2.6 PC. Cli. Fon.'!B187","v":0}]
[null,null,null,null,null,null,null,null,null,{"$f":"'2.6 PC. Cli. Fon.'!B188","v":0}]
[null,null,null,null,null,null,null,null,null,{"$f":"'2.6 PC. Cli. Fon.'!B189","v":0}]
[null,null,null,null,null,null,null,null,null,{"$f":"'2.6 PC. Cli. Fon.'!B190","v":0}]
[null,null,null,null,null,null,null,null,null,{"$f":"'2.6 PC. Cli. Fon.'!B191","v":0}]
[null,null,null,null,null,null,null,null,null,{"$f":"'2.6 PC. Cli. Fon.'!B192","v":0}]
[null,null,null,null,null,null,null,null,null,{"$f":"'2.6 PC. Cli. Fon.'!B193","v":0}]
[null,null,null,null,null,null,null,null,null,{"$f":"'2.6 PC. Cli. Fon.'!B194","v":0}]
[null,null,null,null,null,null,null,null,null,{"$f":"'2.6 PC. Cli. Fon.'!B195","v":0}]
[null,null,null,null,null,null,null,null,null,{"$f":"'2.6 PC. Cli. Fon.'!B196","v":0}]
[null,null,null,null,null,null,null,null,null,{"$f":"'2.6 PC. Cli. Fon.'!B197","v":0}]
[null,null,null,null,null,null,null,null,null,{"$f":"'2.6 PC. Cli. Fon.'!B198","v":0}]
[null,null,null,null,null,null,null,null,null,{"$f":"'2.6 PC. Cli. Fon.'!B199","v":0}]
[null,null,null,null,null,null,null,null,null,{"$f":"'2.6 PC. Cli. Fon.'!B200","v":0}]
[null,null,null,null,null,null,null,null,null,{"$f":"'2.6 PC. Cli. Fon.'!B201","v":0}]
[null,null,null,null,null,null,null,null,null,{"$f":"'2.6 PC. Cli. Fon.'!B202","v":0}]
[null,null,null,null,null,null,null,null,null,{"$f":"'2.6 PC. Cli. Fon.'!B203","v":0}]
[null,null,null,null,null,null,null,null,null,{"$f":"'2.6 PC. Cli. Fon.'!B204","v":0}]
[null,null,null,null,null,null,null,null,null,{"$f":"'2.6 PC. Cli. Fon.'!B205","v":0}]
[null,null,null,null,null,null,null,null,null,{"$f":"'2.6 PC. Cli. Fon.'!B206","v":0}]
[null,null,null,null,null,null,null,null,null,{"$f":"'2.6 PC. Cli. Fon.'!B207","v":0}]
[null,null,null,null,null,null,null,null,null,{"$f":"'2.6 PC. Cli. Fon.'!B208","v":0}]
[null,null,null,null,null,null,null,null,null,{"$f":"'2.6 PC. Cli. Fon.'!B209","v":0}]
[null,null,null,null,null,null,null,null,null,{"$f":"'2.6 PC. Cli. Fon.'!B210","v":0}]
[null,null,null,null,null,null,null,null,null,{"$f":"'2.6 PC. Cli. Fon.'!B211","v":0}]
[null,null,null,null,null,null,null,null,null,{"$f":"'2.6 PC. Cli. Fon.'!B212","v":0}]
[null,null,null,null,null,null,null,null,null,{"$f":"'2.6 PC. Cli. Fon.'!B213","v":0}]
[null,null,null,null,null,null,null,null,null,{"$f":"'2.6 PC. Cli. Fon.'!B214","v":0}]
[null,null,null,null,null,null,null,null,null,{"$f":"'2.6 PC. Cli. Fon.'!B215","v":0}]
[null,null,null,null,null,null,null,null,null,{"$f":"'2.6 PC. Cli. Fon.'!B216","v":0}]
[null,null,null,null,null,null,null,null,null,{"$f":"'2.6 PC. Cli. Fon.'!B217","v":0}]
[null,null,null,null,null,null,null,null,null,{"$f":"'2.6 PC. Cli. Fon.'!B218","v":0}]
[null,null,null,null,null,null,null,null,null,{"$f":"'2.6 PC. Cli. Fon.'!B219","v":0}]
[null,null,null,null,null,null,null,null,null,{"$f":"'2.6 PC. Cli. Fon.'!B220","v":0}]
[null,null,null,null,null,null,null,null,null,{"$f":"'2.6 PC. Cli. Fon.'!B221","v":0}]
[null,null,null,null,null,null,null,null,null,{"$f":"'2.6 PC. Cli. Fon.'!B222","v":0}]
[null,null,null,null,null,null,null,null,null,{"$f":"'2.6 PC. Cli. Fon.'!B223","v":0}]
[null,null,null,null,null,null,null,null,null,{"$f":"'2.6 PC. Cli. Fon.'!B224","v":0}]
[null,null,null,null,null,null,null,null,null,{"$f":"'2.6 PC. Cli. Fon.'!B225","v":0}]
[null,null,null,null,null,null,null,null,null,{"$f":"'2.6 PC. Cli. Fon.'!B226","v":0}]
[null,null,null,null,null,null,null,null,null,{"$f":"'2.6 PC. Cli. Fon.'!B227","v":0}]
[null,null,null,null,null,null,null,null,null,{"$f":"'2.6 PC. Cli. Fon.'!B228","v":0}]
[null,null,null,null,null,null,null,null,null,{"$f":"'2.6 PC. Cli. Fon.'!B229","v":0}]
[null,null,null,null,null,null,null,null,null,{"$f":"'2.6 PC. Cli. Fon.'!B230","v":0}]
[null,null,null,null,null,null,null,null,null,{"$f":"'2.6 PC. Cli. Fon.'!B231","v":0}]
[null,null,null,null,null,null,null,null,null,{"$f":"'2.6 PC. Cli. Fon.'!B232","v":0}]
[null,null,null,null,null,null,null,null,null,{"$f":"'2.6 PC. Cli. Fon.'!B233","v":0}]
[null,null,null,null,null,null,null,null,null,{"$f":"'2.6 PC. Cli. Fon.'!B234","v":0}]
[null,null,null,null,null,null,null,null,null,{"$f":"'2.6 PC. Cli. Fon.'!B235","v":0}]
[null,null,null,null,null,null,null,null,null,{"$f":"'2.6 PC. Cli. Fon.'!B236","v":0}]
[null,null,null,null,null,null,null,null,null,{"$f":"'2.6 PC. Cli. Fon.'!B237","v":0}]
[null,null,null,null,null,null,null,null,null,{"$f":"'2.6 PC. Cli. Fon.'!B238","v":0}]
[null,null,null,null,null,null,null,null,null,{"$f":"'2.6 PC. Cli. Fon.'!B239","v":0}]
[null,null,null,null,null,null,null,null,null,{"$f":"'2.6 PC. Cli. Fon.'!B240","v":0}]
[null,null,null,null,null,null,null,null,null,{"$f":"'2.6 PC. Cli. Fon.'!B241","v":0}]
[null,null,null,null,null,null,null,null,null,{"$f":"'2.6 PC. Cli. Fon.'!B242","v":0}]
[null,null,null,null,null,null,null,null,null,{"$f":"'2.6 PC. Cli. Fon.'!B243","v":0}]
[null,null,null,null,null,null,null,null,null,{"$f":"'2.6 PC. Cli. Fon.'!B244","v":0}]
[null,null,null,null,null,null,null,null,null,{"$f":"'2.6 PC. Cli. Fon.'!B245","v":0}]
[null,null,null,null,null,null,null,null,null,{"$f":"'2.6 PC. Cli. Fon.'!B246","v":0}]
[null,null,null,null,null,null,null,null,null,{"$f":"'2.6 PC. Cli. Fon.'!B247","v":0}]
[null,null,null,null,null,null,null,null,null,{"$f":"'2.6 PC. Cli. Fon.'!B248","v":0}]
[null,null,null,null,null,null,null,null,null,{"$f":"'2.6 PC. Cli. Fon.'!B249","v":0}]
[null,null,null,null,null,null,null,null,null,{"$f":"'2.6 PC. Cli. Fon.'!B250","v":0}]
[null,null,null,null,null,null,null,null,null,{"$f":"'2.6 PC. Cli. Fon.'!B251","v":0}]
[null,null,null,null,null,null,null,null,null,{"$f":"'2.6 PC. Cli. Fon.'!B252","v":0}]
[null,null,null,null,null,null,null,null,null,{"$f":"'2.6 PC. Cli. Fon.'!B253","v":0}]
[null,null,null,null,null,null,null,null,null,{"$f":"'2.6 PC. Cli. Fon.'!B254","v":0}]
[null,null,null,null,null,null,null,null,null,{"$f":"'2.6 PC. Cli. Fon.'!B255","v":0}]
[null,null,null,null,null,null,null,null,null,{"$f":"'2.6 PC. Cli. Fon.'!B256","v":0}]
[null,null,null,null,null,null,null,null,null,{"$f":"'2.6 PC. Cli. Fon.'!B257","v":0}]
[null,null,null,null,null,null,null,null,null,{"$f":"'2.6 PC. Cli. Fon.'!B258","v":0}]
[null,null,null,null,null,null,null,null,null,{"$f":"'2.6 PC. Cli. Fon.'!B259","v":0}]
[null,null,null,null,null,null,null,null,null,{"$f":"'2.6 PC. Cli. Fon.'!B260","v":0}]
[null,null,null,null,null,null,null,null,null,{"$f":"'2.6 PC. Cli. Fon.'!B261","v":0}]
[null,null,null,null,null,null,null,null,null,{"$f":"'2.6 PC. Cli. Fon.'!B262","v":0}]
[null,null,null,null,null,null,null,null,null,{"$f":"'2.6 PC. Cli. Fon.'!B263","v":0}]
[null,null,null,null,null,null,null,null,null,{"$f":"'2.6 PC. Cli. Fon.'!B264","v":0}]
[null,null,null,null,null,null,null,null,null,{"$f":"'2.6 PC. Cli. Fon.'!B265","v":0}]
[null,null,null,null,null,null,null,null,null,{"$f":"'2.6 PC. Cli. Fon.'!B266","v":0}]
[null,null,null,null,null,null,null,null,null,{"$f":"'2.6 PC. Cli. Fon.'!B267","v":0}]
[null,null,null,null,null,null,null,null,null,{"$f":"'2.6 PC. Cli. Fon.'!B268","v":0}]
[null,null,null,null,null,null,null,null,null,{"$f":"'2.6 PC. Cli. Fon.'!B269","v":0}]
[null,null,null,null,null,null,null,null,null,{"$f":"'2.6 PC. Cli. Fon.'!B270","v":0}]
[null,null,null,null,null,null,null,null,null,{"$f":"'2.6 PC. Cli. Fon.'!B271","v":0}]
[null,null,null,null,null,null,null,null,null,{"$f":"'2.6 PC. Cli. Fon.'!B272","v":0}]
[null,null,null,null,null,null,null,null,null,{"$f":"'2.6 PC. Cli. Fon.'!B273","v":0}]
[null,null,null,null,null,null,null,null,null,{"$f":"'2.6 PC. Cli. Fon.'!B274","v":0}]
[null,null,null,null,null,null,null,null,null,{"$f":"'2.6 PC. Cli. Fon.'!B275","v":0}]
[null,null,null,null,null,null,null,null,null,{"$f":"'2.6 PC. Cli. Fon.'!B276","v":0}]
[null,null,null,null,null,null,null,null,null,{"$f":"'2.6 PC. Cli. Fon.'!B277","v":0}]
[null,null,null,null,null,null,null,null,null,{"$f":"'2.6 PC. Cli. Fon.'!B278","v":0}]
[null,null,null,null,null,null,null,null,null,{"$f":"'2.6 PC. Cli. Fon.'!B279","v":0}]
[null,null,null,null,null,null,null,null,null,{"$f":"'2.6 PC. Cli. Fon.'!B280","v":0}]
[null,null,null,null,null,null,null,null,null,{"$f":"'2.6 PC. Cli. Fon.'!B281","v":0}]
[null,null,null,null,null,null,null,null,null,{"$f":"'2.6 PC. Cli. Fon.'!B282","v":0}]
[null,null,null,null,null,null,null,null,null,{"$f":"'2.6 PC. Cli. Fon.'!B283","v":0}]
[null,null,null,null,null,null,null,null,null,{"$f":"'2.6 PC. Cli. Fon.'!B284","v":0}]
[null,null,null,null,null,null,null,null,null,{"$f":"'2.6 PC. Cli. Fon.'!B285","v":0}]
[null,null,null,null,null,null,null,null,null,{"$f":"'2.6 PC. Cli. Fon.'!B286","v":0}]
[null,null,null,null,null,null,null,null,null,{"$f":"'2.6 PC. Cli. Fon.'!B287","v":0}]
[null,null,null,null,null,null,null,null,null,{"$f":"'2.6 PC. Cli. Fon.'!B288","v":0}]
[null,null,null,null,null,null,null,null,null,{"$f":"'2.6 PC. Cli. Fon.'!B289","v":0}]
[null,null,null,null,null,null,null,null,null,{"$f":"'2.6 PC. Cli. Fon.'!B290","v":0}]
[null,null,null,null,null,null,null,null,null,{"$f":"'2.6 PC. Cli. Fon.'!B291","v":0}]
[null,null,null,null,null,null,null,null,null,{"$f":"'2.6 PC. Cli. Fon.'!B292","v":0}]
[null,null,null,null,null,null,null,null,null,{"$f":"'2.6 PC. Cli. Fon.'!B293","v":0}]
[null,null,null,null,null,null,null,null,null,{"$f":"'2.6 PC. Cli. Fon.'!B294","v":0}]
[null,null,null,null,null,null,null,null,null,{"$f":"'2.6 PC. Cli. Fon.'!B295","v":0}]
[null,null,null,null,null,null,null,null,null,{"$f":"'2.6 PC. Cli. Fon.'!B296","v":0}]
[null,null,null,null,null,null,null,null,null,{"$f":"'2.6 PC. Cli. Fon.'!B297","v":0}]
[null,null,null,null,null,null,null,null,null,{"$f":"'2.6 PC. Cli. Fon.'!B298","v":0}]
[null,null,null,null,null,null,null,null,null,{"$f":"'2.6 PC. Cli. Fon.'!B299","v":0}]
[null,null,null,null,null,null,null,null,null,{"$f":"'2.6 PC. Cli. Fon.'!B300","v":0}]
[null,null,null,null,null,null,null,null,null,{"$f":"'2.6 PC. Cli. Fon.'!B301","v":0}]
[null,null,null,null,null,null,null,null,null,{"$f":"'2.6 PC. Cli. Fon.'!B302","v":0}]
[null,null,null,null,null,null,null,null,null,{"$f":"'2.6 PC. Cli. Fon.'!B303","v":0}]
[null,null,null,null,null,null,null,null,null,{"$f":"'2.6 PC. Cli. Fon.'!B304","v":0}]
[null,null,null,null,null,null,null,null,null,{"$f":"'2.6 PC. Cli. Fon.'!B305","v":0}]
[null,null,null,null,null,null,null,null,null,{"$f":"'2.6 PC. Cli. Fon.'!B306","v":0}]
[null,null,null,null,null,null,null,null,null,{"$f":"'2.6 PC. Cli. Fon.'!B307","v":0}]
[null,null,null,null,null,null,null,null,null,{"$f":"'2.6 PC. Cli. Fon.'!B308","v":0}]
[null,null,null,null,null,null,null,null,null,{"$f":"'2.6 PC. Cli. Fon.'!B309","v":0}]
[null,null,null,null,null,null,null,null,null,{"$f":"'2.6 PC. Cli. Fon.'!B310","v":0}]
[null,null,null,null,null,null,null,null,null,{"$f":"'2.6 PC. Cli. Fon.'!B311","v":0}]
[null,null,null,null,null,null,null,null,null,{"$f":"'2.6 PC. Cli. Fon.'!B312","v":0}]
[null,null,null,null,null,null,null,null,null,{"$f":"'2.6 PC. Cli. Fon.'!B313","v":0}]
[null,null,null,null,null,null,null,null,null,{"$f":"'2.6 PC. Cli. Fon.'!B314","v":0}]
[null,null,null,null,null,null,null,null,null,{"$f":"'2.6 PC. Cli. Fon.'!B315","v":0}]
[null,null,null,null,null,null,null,null,null,{"$f":"'2.6 PC. Cli. Fon.'!B316","v":0}]
[null,null,null,null,null,null,null,null,null,{"$f":"'2.6 PC. Cli. Fon.'!B317","v":0}]
[null,null,null,null,null,null,null,null,null,{"$f":"'2.6 PC. Cli. Fon.'!B318","v":0}]
[null,null,null,null,null,null,null,null,null,{"$f":"'2.6 PC. Cli. Fon.'!B319","v":0}]
[null,null,null,null,null,null,null,null,null,{"$f":"'2.6 PC. Cli. Fon.'!B320","v":0}]
[null,null,null,null,null,null,null,null,null,{"$f":"'2.6 PC. Cli. Fon.'!B321","v":0}]
[null,null,null,null,null,null,null,null,null,{"$f":"'2.6 PC. Cli. Fon.'!B322","v":0}]
[null,null,null,null,null,null,null,null,null,{"$f":"'2.6 PC. Cli. Fon.'!B323","v":0}]
[null,null,null,null,null,null,null,null,null,{"$f":"'2.6 PC. Cli. Fon.'!B324","v":0}]
[null,null,null,null,null,null,null,null,null,{"$f":"'2.6 PC. Cli. Fon.'!B325","v":0}]
[null,null,null,null,null,null,null,null,null,{"$f":"'2.6 PC. Cli. Fon.'!B326","v":0}]
[null,null,null,null,null,null,null,null,null,{"$f":"'2.6 PC. Cli. Fon.'!B327","v":0}]
[null,null,null,null,null,null,null,null,null,{"$f":"'2.6 PC. Cli. Fon.'!B328","v":0}]
[null,null,null,null,null,null,null,null,null,{"$f":"'2.6 PC. Cli. Fon.'!B329","v":0}]
[null,null,null,null,null,null,null,null,null,{"$f":"'2.6 PC. Cli. Fon.'!B330","v":0}]
[null,null,null,null,null,null,null,null,null,{"$f":"'2.6 PC. Cli. Fon.'!B331","v":0}]
[null,null,null,null,null,null,null,null,null,{"$f":"'2.6 PC. Cli. Fon.'!B332","v":0}]
[null,null,null,null,null,null,null,null,null,{"$f":"'2.6 PC. Cli. Fon.'!B333","v":0}]
[null,null,null,null,null,null,null,null,null,{"$f":"'2.6 PC. Cli. Fon.'!B334","v":0}]
[null,null,null,null,null,null,null,null,null,{"$f":"'2.6 PC. Cli. Fon.'!B335","v":0}]
[null,null,null,null,null,null,null,null,null,{"$f":"'2.6 PC. Cli. Fon.'!B336","v":0}]
[null,null,null,null,null,null,null,null,null,{"$f":"'2.6 PC. Cli. Fon.'!B337","v":0}]
[null,null,null,null,null,null,null,null,null,{"$f":"'2.6 PC. Cli. Fon.'!B338","v":0}]
[null,null,null,null,null,null,null,null,null,{"$f":"'2.6 PC. Cli. Fon.'!B339","v":0}]
[null,null,null,null,null,null,null,null,null,{"$f":"'2.6 PC. Cli. Fon.'!B340","v":0}]
[null,null,null,null,null,null,null,null,null,{"$f":"'2.6 PC. Cli. Fon.'!B341","v":0}]
[null,null,null,null,null,null,null,null,null,{"$f":"'2.6 PC. Cli. Fon.'!B342","v":0}]
[null,null,null,null,null,null,null,null,null,{"$f":"'2.6 PC. Cli. Fon.'!B343","v":0}]
[null,null,null,null,null,null,null,null,null,{"$f":"'2.6 PC. Cli. Fon.'!B344","v":0}]
[null,null,null,null,null,null,null,null,null,{"$f":"'2.6 PC. Cli. Fon.'!B345","v":0}]
[null,null,null,null,null,null,null,null,null,{"$f":"'2.6 PC. Cli. Fon.'!B346","v":0}]
[null,null,null,null,null,null,null,null,null,{"$f":"'2.6 PC. Cli. Fon.'!B347","v":0}]
[null,null,null,null,null,null,null,null,null,{"$f":"'2.6 PC. Cli. Fon.'!B348","v":0}]
[null,null,null,null,null,null,null,null,null,{"$f":"'2.6 PC. Cli. Fon.'!B349","v":0}]
[null,null,null,null,null,null,null,null,null,{"$f":"'2.6 PC. Cli. Fon.'!B350","v":0}]
[null,null,null,null,null,null,null,null,null,{"$f":"'2.6 PC. Cli. Fon.'!B351","v":0}]
[null,null,null,null,null,null,null,null,null,{"$f":"'2.6 PC. Cli. Fon.'!B352","v":0}]
[null,null,null,null,null,null,null,null,null,{"$f":"'2.6 PC. Cli. Fon.'!B353","v":0}]
[null,null,null,null,null,null,null,null,null,{"$f":"'2.6 PC. Cli. Fon.'!B354","v":0}]
[null,null,null,null,null,null,null,null,null,{"$f":"'2.6 PC. Cli. Fon.'!B355","v":0}]
[null,null,null,null,null,null,null,null,null,{"$f":"'2.6 PC. Cli. Fon.'!B356","v":0}]
[null,null,null,null,null,null,null,null,null,{"$f":"'2.6 PC. Cli. Fon.'!B357","v":0}]
[null,null,null,null,null,null,null,null,null,{"$f":"'2.6 PC. Cli. Fon.'!B358","v":0}]
[null,null,null,null,null,null,null,null,null,{"$f":"'2.6 PC. Cli. Fon.'!B359","v":0}]
[null,null,null,null,null,null,null,null,null,{"$f":"'2.6 PC. Cli. Fon.'!B360","v":0}]
[null,null,null,null,null,null,null,null,null,{"$f":"'2.6 PC. Cli. Fon.'!B361","v":0}]
[null,null,null,null,null,null,null,null,null,{"$f":"'2.6 PC. Cli. Fon.'!B362","v":0}]
[null,null,null,null,null,null,null,null,null,{"$f":"'2.6 PC. Cli. Fon.'!B363","v":0}]
[null,null,null,null,null,null,null,null,null,{"$f":"'2.6 PC. Cli. Fon.'!B364","v":0}]
[null,null,null,null,null,null,null,null,null,{"$f":"'2.6 PC. Cli. Fon.'!B365","v":0}]
[null,null,null,null,null,null,null,null,null,{"$f":"'2.6 PC. Cli. Fon.'!B366","v":0}]
[null,null,null,null,null,null,null,null,null,{"$f":"'2.6 PC. Cli. Fon.'!B367","v":0}]
[null,null,null,null,null,null,null,null,null,{"$f":"'2.6 PC. Cli. Fon.'!B368","v":0}]
[null,null,null,null,null,null,null,null,null,{"$f":"'2.6 PC. Cli. Fon.'!B369","v":0}]
[null,null,null,null,null,null,null,null,null,{"$f":"'2.6 PC. Cli. Fon.'!B370","v":0}]
[null,null,null,null,null,null,null,null,null,{"$f":"'2.6 PC. Cli. Fon.'!B371","v":0}]
[null,null,null,null,null,null,null,null,null,{"$f":"'2.6 PC. Cli. Fon.'!B372","v":0}]
[null,null,null,null,null,null,null,null,null,{"$f":"'2.6 PC. Cli. Fon.'!B373","v":0}]
[null,null,null,null,null,null,null,null,null,{"$f":"'2.6 PC. Cli. Fon.'!B374","v":0}]
[null,null,null,null,null,null,null,null,null,{"$f":"'2.6 PC. Cli. Fon.'!B375","v":0}]
[null,null,null,null,null,null,null,null,null,{"$f":"'2.6 PC. Cli. Fon.'!B376","v":0}]
[null,null,null,null,null,null,null,null,null,{"$f":"'2.6 PC. Cli. Fon.'!B377","v":0}]
[null,null,null,null,null,null,null,null,null,{"$f":"'2.6 PC. Cli. Fon.'!B378","v":0}]
[null,null,null,null,null,null,null,null,null,{"$f":"'2.6 PC. Cli. Fon.'!B379","v":0}]
[null,null,null,null,null,null,null,null,null,{"$f":"'2.6 PC. Cli. Fon.'!B380","v":0}]
[null,null,null,null,null,null,null,null,null,{"$f":"'2.6 PC. Cli. Fon.'!B381","v":0}]
[null,null,null,null,null,null,null,null,null,{"$f":"'2.6 PC. Cli. Fon.'!B382","v":0}]
[null,null,null,null,null,null,null,null,null,{"$f":"'2.6 PC. Cli. Fon.'!B383","v":0}]
[null,null,null,null,null,null,null,null,null,{"$f":"'2.6 PC. Cli. Fon.'!B384","v":0}]
[null,null,null,null,null,null,null,null,null,{"$f":"'2.6 PC. Cli. Fon.'!B385","v":0}]
[null,null,null,null,null,null,null,null,null,{"$f":"'2.6 PC. Cli. Fon.'!B386","v":0}]
[null,null,null,null,null,null,null,null,null,{"$f":"'2.6 PC. Cli. Fon.'!B387","v":0}]
[null,null,null,null,null,null,null,null,null,{"$f":"'2.6 PC. Cli. Fon.'!B388","v":0}]
[null,null,null,null,null,null,null,null,null,{"$f":"'2.6 PC. Cli. Fon.'!B389","v":0}]
[null,null,null,null,null,null,null,null,null,{"$f":"'2.6 PC. Cli. Fon.'!B390","v":0}]
[null,null,null,null,null,null,null,null,null,{"$f":"'2.6 PC. Cli. Fon.'!B391","v":0}]
[null,null,null,null,null,null,null,null,null,{"$f":"'2.6 PC. Cli. Fon.'!B392","v":0}]
[null,null,null,null,null,null,null,null,null,{"$f":"'2.6 PC. Cli. Fon.'!B393","v":0}]
[null,null,null,null,null,null,null,null,null,{"$f":"'2.6 PC. Cli. Fon.'!B394","v":0}]
[null,null,null,null,null,null,null,null,null,{"$f":"'2.6 PC. Cli. Fon.'!B395","v":0}]
[null,null,null,null,null,null,null,null,null,{"$f":"'2.6 PC. Cli. Fon.'!B396","v":0}]
[null,null,null,null,null,null,null,null,null,{"$f":"'2.6 PC. Cli. Fon.'!B397","v":0}]
[null,null,null,null,null,null,null,null,null,{"$f":"'2.6 PC. Cli. Fon.'!B398","v":0}]
[null,null,null,null,null,null,null,null,null,{"$f":"'2.6 PC. Cli. Fon.'!B399","v":0}]
[null,null,null,null,null,null,null,null,null,{"$f":"'2.6 PC. Cli. Fon.'!B400","v":0}]
[null,null,null,null,null,null,null,null,null,{"$f":"'2.6 PC. Cli. Fon.'!B401","v":0}]
[null,null,null,null,null,null,null,null,null,{"$f":"'2.6 PC. Cli. Fon.'!B402","v":0}]
[null,null,null,null,null,null,null,null,null,{"$f":"'2.6 PC. Cli. Fon.'!B403","v":0}]
[null,null,null,null,null,null,null,null,null,{"$f":"'2.6 PC. Cli. Fon.'!B404","v":0}]
[null,null,null,null,null,null,null,null,null,{"$f":"'2.6 PC. Cli. Fon.'!B405","v":0}]
[null,null,null,null,null,null,null,null,null,{"$f":"'2.6 PC. Cli. Fon.'!B406","v":0}]
[null,null,null,null,null,null,null,null,null,{"$f":"'2.6 PC. Cli. Fon.'!B407","v":0}]
[null,null,null,null,null,null,null,null,null,{"$f":"'2.6 PC. Cli. Fon.'!B408","v":0}]
[null,null,null,null,null,null,null,null,null,{"$f":"'2.6 PC. Cli. Fon.'!B409","v":0}]
[null,null,null,null,null,null,null,null,null,{"$f":"'2.6 PC. Cli. Fon.'!B410","v":0}]
[null,null,null,null,null,null,null,null,null,{"$f":"'2.6 PC. Cli. Fon.'!B411","v":0}]
[null,null,null,null,null,null,null,null,null,{"$f":"'2.6 PC. Cli. Fon.'!B412","v":0}]
[null,null,null,null,null,null,null,null,null,{"$f":"'2.6 PC. Cli. Fon.'!B413","v":0}]
[null,null,null,null,null,null,null,null,null,{"$f":"'2.6 PC. Cli. Fon.'!B414","v":0}]
[null,null,null,null,null,null,null,null,null,{"$f":"'2.6 PC. Cli. Fon.'!B415","v":0}]
[null,null,null,null,null,null,null,null,null,{"$f":"'2.6 PC. Cli. Fon.'!B416","v":0}]
[null,null,null,null,null,null,null,null,null,{"$f":"'2.6 PC. Cli. Fon.'!B417","v":0}]
[null,null,null,null,null,null,null,null,null,{"$f":"'2.6 PC. Cli. Fon.'!B418","v":0}]
[null,null,null,null,null,null,null,null,null,{"$f":"'2.6 PC. Cli. Fon.'!B419","v":0}]
[null,null,null,null,null,null,null,null,null,{"$f":"'2.6 PC. Cli. Fon.'!B420","v":0}]
[null,null,null,null,null,null,null,null,null,{"$f":"'2.6 PC. Cli. Fon.'!B421","v":0}]
[null,null,null,null,null,null,null,null,null,{"$f":"'2.6 PC. Cli. Fon.'!B422","v":0}]
[null,null,null,null,null,null,null,null,null,{"$f":"'2.6 PC. Cli. Fon.'!B423","v":0}]
[null,null,null,null,null,null,null,null,null,{"$f":"'2.6 PC. Cli. Fon.'!B424","v":0}]
[null,null,null,null,null,null,null,null,null,{"$f":"'2.6 PC. Cli. Fon.'!B425","v":0}]
[null,null,null,null,null,null,null,null,null,{"$f":"'2.6 PC. Cli. Fon.'!B426","v":0}]
[null,null,null,null,null,null,null,null,null,{"$f":"'2.6 PC. Cli. Fon.'!B427","v":0}]
[null,null,null,null,null,null,null,null,null,{"$f":"'2.6 PC. Cli. Fon.'!B428","v":0}]
[null,null,null,null,null,null,null,null,null,{"$f":"'2.6 PC. Cli. Fon.'!B429","v":0}]
[null,null,null,null,null,null,null,null,null,{"$f":"'2.6 PC. Cli. Fon.'!B430","v":0}]
[null,null,null,null,null,null,null,null,null,{"$f":"'2.6 PC. Cli. Fon.'!B431","v":0}]
[null,null,null,null,null,null,null,null,null,{"$f":"'2.6 PC. Cli. Fon.'!B432","v":0}]
[null,null,null,null,null,null,null,null,null,{"$f":"'2.6 PC. Cli. Fon.'!B433","v":0}]
[null,null,null,null,null,null,null,null,null,{"$f":"'2.6 PC. Cli. Fon.'!B434","v":0}]
[null,null,null,null,null,null,null,null,null,{"$f":"'2.6 PC. Cli. Fon.'!B435","v":0}]
[null,null,null,null,null,null,null,null,null,{"$f":"'2.6 PC. Cli. Fon.'!B436","v":0}]
[null,null,null,null,null,null,null,null,null,{"$f":"'2.6 PC. Cli. Fon.'!B437","v":0}]
[null,null,null,null,null,null,null,null,null,{"$f":"'2.6 PC. Cli. Fon.'!B438","v":0}]
[null,null,null,null,null,null,null,null,null,{"$f":"'2.6 PC. Cli. Fon.'!B439","v":0}]
[null,null,null,null,null,null,null,null,null,{"$f":"'2.6 PC. Cli. Fon.'!B440","v":0}]
[null,null,null,null,null,null,null,null,null,{"$f":"'2.6 PC. Cli. Fon.'!B441","v":0}]
[null,null,null,null,null,null,null,null,null,{"$f":"'2.6 PC. Cli. Fon.'!B442","v":0}]
[null,null,null,null,null,null,null,null,null,{"$f":"'2.6 PC. Cli. Fon.'!B443","v":0}]
[null,null,null,null,null,null,null,null,null,{"$f":"'2.6 PC. Cli. Fon.'!B444","v":0}]
[null,null,null,null,null,null,null,null,null,{"$f":"'2.6 PC. Cli. Fon.'!B445","v":0}]
[null,null,null,null,null,null,null,null,null,{"$f":"'2.6 PC. Cli. Fon.'!B446","v":0}]
[null,null,null,null,null,null,null,null,null,{"$f":"'2.6 PC. Cli. Fon.'!B447","v":0}]
[null,null,null,null,null,null,null,null,null,{"$f":"'2.6 PC. Cli. Fon.'!B448","v":0}]
[null,null,null,null,null,null,null,null,null,{"$f":"'2.6 PC. Cli. Fon.'!B449","v":0}]
[null,null,null,null,null,null,null,null,null,{"$f":"'2.6 PC. Cli. Fon.'!B450","v":0}]
[null,null,null,null,null,null,null,null,null,{"$f":"'2.6 PC. Cli. Fon.'!B451","v":0}]
[null,null,null,null,null,null,null,null,null,{"$f":"'2.6 PC. Cli. Fon.'!B452","v":0}]
[null,null,null,null,null,null,null,null,null,{"$f":"'2.6 PC. Cli. Fon.'!B453","v":0}]
[null,null,null,null,null,null,null,null,null,{"$f":"'2.6 PC. Cli. Fon.'!B454","v":0}]
[null,null,null,null,null,null,null,null,null,{"$f":"'2.6 PC. Cli. Fon.'!B455","v":0}]
[null,null,null,null,null,null,null,null,null,{"$f":"'2.6 PC. Cli. Fon.'!B456","v":0}]
[null,null,null,null,null,null,null,null,null,{"$f":"'2.6 PC. Cli. Fon.'!B457","v":0}]
[null,null,null,null,null,null,null,null,null,{"$f":"'2.6 PC. Cli. Fon.'!B458","v":0}]
[null,null,null,null,null,null,null,null,null,{"$f":"'2.6 PC. Cli. Fon.'!B459","v":0}]
[null,null,null,null,null,null,null,null,null,{"$f":"'2.6 PC. Cli. Fon.'!B460","v":0}]
[null,null,null,null,null,null,null,null,null,{"$f":"'2.6 PC. Cli. Fon.'!B461","v":0}]
[null,null,null,null,null,null,null,null,null,{"$f":"'2.6 PC. Cli. Fon.'!B462","v":0}]
[null,null,null,null,null,null,null,null,null,{"$f":"'2.6 PC. Cli. Fon.'!B463","v":0}]
[null,null,null,null,null,null,null,null,null,{"$f":"'2.6 PC. Cli. Fon.'!B464","v":0}]
[null,null,null,null,null,null,null,null,null,{"$f":"'2.6 PC. Cli. Fon.'!B465","v":0}]
[null,null,null,null,null,null,null,null,null,{"$f":"'2.6 PC. Cli. Fon.'!B466","v":0}]
[null,null,null,null,null,null,null,null,null,{"$f":"'2.6 PC. Cli. Fon.'!B467","v":0}]
[null,null,null,null,null,null,null,null,null,{"$f":"'2.6 PC. Cli. Fon.'!B468","v":0}]
[null,null,null,null,null,null,null,null,null,{"$f":"'2.6 PC. Cli. Fon.'!B469","v":0}]
[null,null,null,null,null,null,null,null,null,{"$f":"'2.6 PC. Cli. Fon.'!B470","v":0}]
[null,null,null,null,null,null,null,null,null,{"$f":"'2.6 PC. Cli. Fon.'!B471","v":0}]
[null,null,null,null,null,null,null,null,null,{"$f":"'2.6 PC. Cli. Fon.'!B472","v":0}]
[null,null,null,null,null,null,null,null,null,{"$f":"'2.6 PC. Cli. Fon.'!B473","v":0}]
[null,null,null,null,null,null,null,null,null,{"$f":"'2.6 PC. Cli. Fon.'!B474","v":0}]
[null,null,null,null,null,null,null,null,null,{"$f":"'2.6 PC. Cli. Fon.'!B475","v":0}]
[null,null,null,null,null,null,null,null,null,{"$f":"'2.6 PC. Cli. Fon.'!B476","v":0}]
[null,null,null,null,null,null,null,null,null,{"$f":"'2.6 PC. Cli. Fon.'!B477","v":0}]
[null,null,null,null,null,null,null,null,null,{"$f":"'2.6 PC. Cli. Fon.'!B478","v":0}]
[null,null,null,null,null,null,null,null,null,{"$f":"'2.6 PC. Cli. Fon.'!B479","v":0}]
[null,null,null,null,null,null,null,null,null,{"$f":"'2.6 PC. Cli. Fon.'!B480","v":0}]
[null,null,null,null,null,null,null,null,null,{"$f":"'2.6 PC. Cli. Fon.'!B481","v":0}]
[null,null,null,null,null,null,null,null,null,{"$f":"'2.6 PC. Cli. Fon.'!B482","v":0}]
[null,null,null,null,null,null,null,null,null,{"$f":"'2.6 PC. Cli. Fon.'!B483","v":0}]
[null,null,null,null,null,null,null,null,null,{"$f":"'2.6 PC. Cli. Fon.'!B484","v":0}]
[null,null,null,null,null,null,null,null,null,{"$f":"'2.6 PC. Cli. Fon.'!B485","v":0}]
[null,null,null,null,null,null,null,null,null,{"$f":"'2.6 PC. Cli. Fon.'!B486","v":0}]
[null,null,null,null,null,null,null,null,null,{"$f":"'2.6 PC. Cli. Fon.'!B487","v":0}]
[null,null,null,null,null,null,null,null,null,{"$f":"'2.6 PC. Cli. Fon.'!B488","v":0}]
[null,null,null,null,null,null,null,null,null,{"$f":"'2.6 PC. Cli. Fon.'!B489","v":0}]
[null,null,null,null,null,null,null,null,null,{"$f":"'2.6 PC. Cli. Fon.'!B490","v":0}]
[null,null,null,null,null,null,null,null,null,{"$f":"'2.6 PC. Cli. Fon.'!B491","v":0}]
[null,null,null,null,null,null,null,null,null,{"$f":"'2.6 PC. Cli. Fon.'!B492","v":0}]
[null,null,null,null,null,null,null,null,null,{"$f":"'2.6 PC. Cli. Fon.'!B493","v":0}]
[null,null,null,null,null,null,null,null,null,{"$f":"'2.6 PC. Cli. Fon.'!B494","v":0}]
[null,null,null,null,null,null,null,null,null,{"$f":"'2.6 PC. Cli. Fon.'!B495","v":0}]
[null,null,null,null,null,null,null,null,null,{"$f":"'2.6 PC. Cli. Fon.'!B496","v":0}]
[null,null,null,null,null,null,null,null,null,{"$f":"'2.6 PC. Cli. Fon.'!B497","v":0}]
[null,null,null,null,null,null,null,null,null,{"$f":"'2.6 PC. Cli. Fon.'!B498","v":0}]
[null,null,null,null,null,null,null,null,null,{"$f":"'2.6 PC. Cli. Fon.'!B499","v":0}]
[null,null,null,null,null,null,null,null,null,{"$f":"'2.6 PC. Cli. Fon.'!B500","v":0}]
[null,null,null,null,null,null,null,null,null,{"$f":"'2.6 PC. Cli. Fon.'!B501","v":0}]
[null,null,null,null,null,null,null,null,null,{"$f":"'2.6 PC. Cli. Fon.'!B502","v":0}]
[null,null,null,null,null,null,null,null,null,{"$f":"'2.6 PC. Cli. Fon.'!B503","v":0}]
[null,null,null,null,null,null,null,null,null,{"$f":"'2.6 PC. Cli. Fon.'!B504","v":0}]
[null,null,null,null,null,null,null,null,null,{"$f":"'2.6 PC. Cli. Fon.'!B505","v":0}]
[null,null,null,null,null,null,null,null,null,{"$f":"'2.6 PC. Cli. Fon.'!B506","v":0}]
[null,null,null,null,null,null,null,null,null,{"$f":"'2.6 PC. Cli. Fon.'!B507","v":0}]
[null,null,null,null,null,null,null,null,null,{"$f":"'2.6 PC. Cli. Fon.'!B508","v":0}]
[null,null,null,null,null,null,null,null,null,{"$f":"'2.6 PC. Cli. Fon.'!B509","v":0}]
[null,null,null,null,null,null,null,null,null,{"$f":"'2.6 PC. Cli. Fon.'!B510","v":0}]
[null,null,null,null,null,null,null,null,null,{"$f":"'2.6 PC. Cli. Fon.'!B511","v":0}]
[null,null,null,null,null,null,null,null,null,{"$f":"'2.6 PC. Cli. Fon.'!B512","v":0}]
[null,null,null,null,null,null,null,null,null,{"$f":"'2.6 PC. Cli. Fon.'!B513","v":0}]
[null,null,null,null,null,null,null,null,null,{"$f":"'2.6 PC. Cli. Fon.'!B514","v":0}]
[null,null,null,null,null,null,null,null,null,{"$f":"'2.6 PC. Cli. Fon.'!B515","v":0}]
[null,null,null,null,null,null,null,null,null,{"$f":"'2.6 PC. Cli. Fon.'!B516","v":0}]
[null,null,null,null,null,null,null,null,null,{"$f":"'2.6 PC. Cli. Fon.'!B517","v":0}]
[null,null,null,null,null,null,null,null,null,{"$f":"'2.6 PC. Cli. Fon.'!B518","v":0}]
[null,null,null,null,null,null,null,null,null,{"$f":"'2.6 PC. Cli. Fon.'!B519","v":0}]
[null,null,null,null,null,null,null,null,null,{"$f":"'2.6 PC. Cli. Fon.'!B520","v":0}]
[null,null,null,null,null,null,null,null,null,{"$f":"'2.6 PC. Cli. Fon.'!B521","v":0}]
[null,null,null,null,null,null,null,null,null,{"$f":"'2.6 PC. Cli. Fon.'!B522","v":0}]
[null,null,null,null,null,null,null,null,null,{"$f":"'2.6 PC. Cli. Fon.'!B523","v":0}]
[null,null,null,null,null,null,null,null,null,{"$f":"'2.6 PC. Cli. Fon.'!B524","v":0}]
[null,null,null,null,null,null,null,null,null,{"$f":"'2.6 PC. Cli. Fon.'!B525","v":0}]
[null,null,null,null,null,null,null,null,null,{"$f":"'2.6 PC. Cli. Fon.'!B526","v":0}]
[null,null,null,null,null,null,null,null,null,{"$f":"'2.6 PC. Cli. Fon.'!B527","v":0}]
[null,null,null,null,null,null,null,null,null,{"$f":"'2.6 PC. Cli. Fon.'!B528","v":0}]
[null,null,null,null,null,null,null,null,null,{"$f":"'2.6 PC. Cli. Fon.'!B529","v":0}]
[null,null,null,null,null,null,null,null,null,{"$f":"'2.6 PC. Cli. Fon.'!B530","v":0}]
[null,null,null,null,null,null,null,null,null,{"$f":"'2.6 PC. Cli. Fon.'!B531","v":0}]
[null,null,null,null,null,null,null,null,null,{"$f":"'2.6 PC. Cli. Fon.'!B532","v":0}]
[null,null,null,null,null,null,null,null,null,{"$f":"'2.6 PC. Cli. Fon.'!B533","v":0}]
[null,null,null,null,null,null,null,null,null,{"$f":"'2.6 PC. Cli. Fon.'!B534","v":0}]
[null,null,null,null,null,null,null,null,null,{"$f":"'2.6 PC. Cli. Fon.'!B535","v":0}]
[null,null,null,null,null,null,null,null,null,{"$f":"'2.6 PC. Cli. Fon.'!B536","v":0}]
[null,null,null,null,null,null,null,null,null,{"$f":"'2.6 PC. Cli. Fon.'!B537","v":0}]
[null,null,null,null,null,null,null,null,null,{"$f":"'2.6 PC. Cli. Fon.'!B538","v":0}]
[null,null,null,null,null,null,null,null,null,{"$f":"'2.6 PC. Cli. Fon.'!B539","v":0}]
[null,null,null,null,null,null,null,null,null,{"$f":"'2.6 PC. Cli. Fon.'!B540","v":0}]
[null,null,null,null,null,null,null,null,null,{"$f":"'2.6 PC. Cli. Fon.'!B541","v":0}]
[null,null,null,null,null,null,null,null,null,{"$f":"'2.6 PC. Cli. Fon.'!B542","v":0}]
[null,null,null,null,null,null,null,null,null,{"$f":"'2.6 PC. Cli. Fon.'!B543","v":0}]
[null,null,null,null,null,null,null,null,null,{"$f":"'2.6 PC. Cli. Fon.'!B544","v":0}]
[null,null,null,null,null,null,null,null,null,{"$f":"'2.6 PC. Cli. Fon.'!B545","v":0}]
[null,null,null,null,null,null,null,null,null,{"$f":"'2.6 PC. Cli. Fon.'!B546","v":0}]
[null,null,null,null,null,null,null,null,null,{"$f":"'2.6 PC. Cli. Fon.'!B547","v":0}]
[null,null,null,null,null,null,null,null,null,{"$f":"'2.6 PC. Cli. Fon.'!B548","v":0}]
[null,null,null,null,null,null,null,null,null,{"$f":"'2.6 PC. Cli. Fon.'!B549","v":0}]
[null,null,null,null,null,null,null,null,null,{"$f":"'2.6 PC. Cli. Fon.'!B550","v":0}]
[null,null,null,null,null,null,null,null,null,{"$f":"'2.6 PC. Cli. Fon.'!B551","v":0}]
[null,null,null,null,null,null,null,null,null,{"$f":"'2.6 PC. Cli. Fon.'!B552","v":0}]
[null,null,null,null,null,null,null,null,null,{"$f":"'2.6 PC. Cli. Fon.'!B553","v":0}]
[null,null,null,null,null,null,null,null,null,{"$f":"'2.6 PC. Cli. Fon.'!B554","v":0}]
[null,null,null,null,null,null,null,null,null,{"$f":"'2.6 PC. Cli. Fon.'!B555","v":0}]
[null,null,null,null,null,null,null,null,null,{"$f":"'2.6 PC. Cli. Fon.'!B556","v":0}]
[null,null,null,null,null,null,null,null,null,{"$f":"'2.6 PC. Cli. Fon.'!B557","v":0}]
[null,null,null,null,null,null,null,null,null,{"$f":"'2.6 PC. Cli. Fon.'!B558","v":0}]
[null,null,null,null,null,null,null,null,null,{"$f":"'2.6 PC. Cli. Fon.'!B559","v":0}]
[null,null,null,null,null,null,null,null,null,{"$f":"'2.6 PC. Cli. Fon.'!B560","v":0}]
[null,null,null,null,null,null,null,null,null,{"$f":"'2.6 PC. Cli. Fon.'!B561","v":0}]
[null,null,null,null,null,null,null,null,null,{"$f":"'2.6 PC. Cli. Fon.'!B562","v":0}]
[null,null,null,null,null,null,null,null,null,{"$f":"'2.6 PC. Cli. Fon.'!B563","v":0}]
[null,null,null,null,null,null,null,null,null,{"$f":"'2.6 PC. Cli. Fon.'!B564","v":0}]
[null,null,null,null,null,null,null,null,null,{"$f":"'2.6 PC. Cli. Fon.'!B565","v":0}]
[null,null,null,null,null,null,null,null,null,{"$f":"'2.6 PC. Cli. Fon.'!B566","v":0}]
[null,null,null,null,null,null,null,null,null,{"$f":"'2.6 PC. Cli. Fon.'!B567","v":0}]
[null,null,null,null,null,null,null,null,null,{"$f":"'2.6 PC. Cli. Fon.'!B568","v":0}]
[null,null,null,null,null,null,null,null,null,{"$f":"'2.6 PC. Cli. Fon.'!B569","v":0}]
[null,null,null,null,null,null,null,null,null,{"$f":"'2.6 PC. Cli. Fon.'!B570","v":0}]
[null,null,null,null,null,null,null,null,null,{"$f":"'2.6 PC. Cli. Fon.'!B571","v":0}]
[null,null,null,null,null,null,null,null,null,{"$f":"'2.6 PC. Cli. Fon.'!B572","v":0}]
[null,null,null,null,null,null,null,null,null,{"$f":"'2.6 PC. Cli. Fon.'!B573","v":0}]
[null,null,null,null,null,null,null,null,null,{"$f":"'2.6 PC. Cli. Fon.'!B574","v":0}]
[null,null,null,null,null,null,null,null,null,{"$f":"'2.6 PC. Cli. Fon.'!B575","v":0}]
[null,null,null,null,null,null,null,null,null,{"$f":"'2.6 PC. Cli. Fon.'!B576","v":0}]
[null,null,null,null,null,null,null,null,null,{"$f":"'2.6 PC. Cli. Fon.'!B577","v":0}]
[null,null,null,null,null,null,null,null,null,{"$f":"'2.6 PC. Cli. Fon.'!B578","v":0}]
[null,null,null,null,null,null,null,null,null,{"$f":"'2.6 PC. Cli. Fon.'!B579","v":0}]
[null,null,null,null,null,null,null,null,null,{"$f":"'2.6 PC. Cli. Fon.'!B580","v":0}]
[null,null,null,null,null,null,null,null,null,{"$f":"'2.6 PC. Cli. Fon.'!B581","v":0}]
[null,null,null,null,null,null,null,null,null,{"$f":"'2.6 PC. Cli. Fon.'!B582","v":0}]
[null,null,null,null,null,null,null,null,null,{"$f":"'2.6 PC. Cli. Fon.'!B583","v":0}]
[null,null,null,null,null,null,null,null,null,{"$f":"'2.6 PC. Cli. Fon.'!B584","v":0}]
[null,null,null,null,null,null,null,null,null,{"$f":"'2.6 PC. Cli. Fon.'!B585","v":0}]
[null,null,null,null,null,null,null,null,null,{"$f":"'2.6 PC. Cli. Fon.'!B586","v":0}]
[null,null,null,null,null,null,null,null,null,{"$f":"'2.6 PC. Cli. Fon.'!B587","v":0}]
[null,null,null,null,null,null,null,null,null,{"$f":"'2.6 PC. Cli. Fon.'!B588","v":0}]
[null,null,null,null,null,null,null,null,null,{"$f":"'2.6 PC. Cli. Fon.'!B589","v":0}]
[null,null,null,null,null,null,null,null,null,{"$f":"'2.6 PC. Cli. Fon.'!B590","v":0}]
[null,null,null,null,null,null,null,null,null,{"$f":"'2.6 PC. Cli. Fon.'!B591","v":0}]
[null,null,null,null,null,null,null,null,null,{"$f":"'2.6 PC. Cli. Fon.'!B592","v":0}]
[null,null,null,null,null,null,null,null,null,{"$f":"'2.6 PC. Cli. Fon.'!B593","v":0}]
[null,null,null,null,null,null,null,null,null,{"$f":"'2.6 PC. Cli. Fon.'!B594","v":0}]
[null,null,null,null,null,null,null,null,null,{"$f":"'2.6 PC. Cli. Fon.'!B595","v":0}]
[null,null,null,null,null,null,null,null,null,{"$f":"'2.6 PC. Cli. Fon.'!B596","v":0}]
[null,null,null,null,null,null,null,null,null,{"$f":"'2.6 PC. Cli. Fon.'!B597","v":0}]
[null,null,null,null,null,null,null,null,null,{"$f":"'2.6 PC. Cli. Fon.'!B598","v":0}]
[null,null,null,null,null,null,null,null,null,{"$f":"'2.6 PC. Cli. Fon.'!B599","v":0}]
[null,null,null,null,null,null,null,null,null,{"$f":"'2.6 PC. Cli. Fon.'!B600","v":0}]
[null,null,null,null,null,null,null,null,null,{"$f":"'2.6 PC. Cli. Fon.'!B601","v":0}]
[null,null,null,null,null,null,null,null,null,{"$f":"'2.6 PC. Cli. Fon.'!B602","v":0}]
[null,null,null,null,null,null,null,null,null,{"$f":"'2.6 PC. Cli. Fon.'!B603","v":0}]
[null,null,null,null,null,null,null,null,null,{"$f":"'2.6 PC. Cli. Fon.'!B604","v":0}]
[null,null,null,null,null,null,null,null,null,{"$f":"'2.6 PC. Cli. Fon.'!B605","v":0}]
[null,null,null,null,null,null,null,null,null,{"$f":"'2.6 PC. Cli. Fon.'!B606","v":0}]
[null,null,null,null,null,null,null,null,null,{"$f":"'2.6 PC. Cli. Fon.'!B607","v":0}]
[null,null,null,null,null,null,null,null,null,{"$f":"'2.6 PC. Cli. Fon.'!B608","v":0}]
[null,null,null,null,null,null,null,null,null,{"$f":"'2.6 PC. Cli. Fon.'!B609","v":0}]
[null,null,null,null,null,null,null,null,null,{"$f":"'2.6 PC. Cli. Fon.'!B610","v":0}]
[null,null,null,null,null,null,null,null,null,{"$f":"'2.6 PC. Cli. Fon.'!B611","v":0}]
[null,null,null,null,null,null,null,null,null,{"$f":"'2.6 PC. Cli. Fon.'!B612","v":0}]
[null,null,null,null,null,null,null,null,null,{"$f":"'2.6 PC. Cli. Fon.'!B613","v":0}]
[null,null,null,null,null,null,null,null,null,{"$f":"'2.6 PC. Cli. Fon.'!B614","v":0}]
[null,null,null,null,null,null,null,null,null,{"$f":"'2.6 PC. Cli. Fon.'!B615","v":0}]
[null,null,null,null,null,null,null,null,null,{"$f":"'2.6 PC. Cli. Fon.'!B616","v":0}]
[null,null,null,null,null,null,null,null,null,{"$f":"'2.6 PC. Cli. Fon.'!B617","v":0}]
[null,null,null,null,null,null,null,null,null,{"$f":"'2.6 PC. Cli. Fon.'!B618","v":0}]
[null,null,null,null,null,null,null,null,null,{"$f":"'2.6 PC. Cli. Fon.'!B619","v":0}]
[null,null,null,null,null,null,null,null,null,{"$f":"'2.6 PC. Cli. Fon.'!B620","v":0}]
[null,null,null,null,null,null,null,null,null,{"$f":"'2.6 PC. Cli. Fon.'!B621","v":0}]
[null,null,null,null,null,null,null,null,null,{"$f":"'2.6 PC. Cli. Fon.'!B622","v":0}]
[null,null,null,null,null,null,null,null,null,{"$f":"'2.6 PC. Cli. Fon.'!B623","v":0}]
[null,null,null,null,null,null,null,null,null,{"$f":"'2.6 PC. Cli. Fon.'!B624","v":0}]
[null,null,null,null,null,null,null,null,null,{"$f":"'2.6 PC. Cli. Fon.'!B625","v":0}]
[null,null,null,null,null,null,null,null,null,{"$f":"'2.6 PC. Cli. Fon.'!B626","v":0}]
[null,null,null,null,null,null,null,null,null,{"$f":"'2.6 PC. Cli. Fon.'!B627","v":0}]
[null,null,null,null,null,null,null,null,null,{"$f":"'2.6 PC. Cli. Fon.'!B628","v":0}]
[null,null,null,null,null,null,null,null,null,{"$f":"'2.6 PC. Cli. Fon.'!B629","v":0}]
[null,null,null,null,null,null,null,null,null,{"$f":"'2.6 PC. Cli. Fon.'!B630","v":0}]
[null,null,null,null,null,null,null,null,null,{"$f":"'2.6 PC. Cli. Fon.'!B631","v":0}]
[null,null,null,null,null,null,null,null,null,{"$f":"'2.6 PC. Cli. Fon.'!B632","v":0}]
[null,null,null,null,null,null,null,null,null,{"$f":"'2.6 PC. Cli. Fon.'!B633","v":0}]
[null,null,null,null,null,null,null,null,null,{"$f":"'2.6 PC. Cli. Fon.'!B634","v":0}]
[null,null,null,null,null,null,null,null,null,{"$f":"'2.6 PC. Cli. Fon.'!B635","v":0}]
[null,null,null,null,null,null,null,null,null,{"$f":"'2.6 PC. Cli. Fon.'!B636","v":0}]
[null,null,null,null,null,null,null,null,null,{"$f":"'2.6 PC. Cli. Fon.'!B637","v":0}]
[null,null,null,null,null,null,null,null,null,{"$f":"'2.6 PC. Cli. Fon.'!B638","v":0}]
[null,null,null,null,null,null,null,null,null,{"$f":"'2.6 PC. Cli. Fon.'!B639","v":0}]
[null,null,null,null,null,null,null,null,null,{"$f":"'2.6 PC. Cli. Fon.'!B640","v":0}]
[null,null,null,null,null,null,null,null,null,{"$f":"'2.6 PC. Cli. Fon.'!B641","v":0}]
[null,null,null,null,null,null,null,null,null,{"$f":"'2.6 PC. Cli. Fon.'!B642","v":0}]
[null,null,null,null,null,null,null,null,null,{"$f":"'2.6 PC. Cli. Fon.'!B643","v":0}]
[null,null,null,null,null,null,null,null,null,{"$f":"'2.6 PC. Cli. Fon.'!B644","v":0}]
[null,null,null,null,null,null,null,null,null,{"$f":"'2.6 PC. Cli. Fon.'!B645","v":0}]
[null,null,null,null,null,null,null,null,null,{"$f":"'2.6 PC. Cli. Fon.'!B646","v":0}]
[null,null,null,null,null,null,null,null,null,{"$f":"'2.6 PC. Cli. Fon.'!B647","v":0}]
[null,null,null,null,null,null,null,null,null,{"$f":"'2.6 PC. Cli. Fon.'!B648","v":0}]
[null,null,null,null,null,null,null,null,null,{"$f":"'2.6 PC. Cli. Fon.'!B649","v":0}]
[null,null,null,null,null,null,null,null,null,{"$f":"'2.6 PC. Cli. Fon.'!B650","v":0}]
[null,null,null,null,null,null,null,null,null,{"$f":"'2.6 PC. Cli. Fon.'!B651","v":0}]
[null,null,null,null,null,null,null,null,null,{"$f":"'2.6 PC. Cli. Fon.'!B652","v":0}]
[null,null,null,null,null,null,null,null,null,{"$f":"'2.6 PC. Cli. Fon.'!B653","v":0}]
[null,null,null,null,null,null,null,null,null,{"$f":"'2.6 PC. Cli. Fon.'!B654","v":0}]
[null,null,null,null,null,null,null,null,null,{"$f":"'2.6 PC. Cli. Fon.'!B655","v":0}]
[null,null,null,null,null,null,null,null,null,{"$f":"'2.6 PC. Cli. Fon.'!B656","v":0}]
[null,null,null,null,null,null,null,null,null,{"$f":"'2.6 PC. Cli. Fon.'!B657","v":0}]
[null,null,null,null,null,null,null,null,null,{"$f":"'2.6 PC. Cli. Fon.'!B658","v":0}]
[null,null,null,null,null,null,null,null,null,{"$f":"'2.6 PC. Cli. Fon.'!B659","v":0}]
[null,null,null,null,null,null,null,null,null,{"$f":"'2.6 PC. Cli. Fon.'!B660","v":0}]
[null,null,null,null,null,null,null,null,null,{"$f":"'2.6 PC. Cli. Fon.'!B661","v":0}]
[null,null,null,null,null,null,null,null,null,{"$f":"'2.6 PC. Cli. Fon.'!B662","v":0}]
[null,null,null,null,null,null,null,null,null,{"$f":"'2.6 PC. Cli. Fon.'!B663","v":0}]
[null,null,null,null,null,null,null,null,null,{"$f":"'2.6 PC. Cli. Fon.'!B664","v":0}]
[null,null,null,null,null,null,null,null,null,{"$f":"'2.6 PC. Cli. Fon.'!B665","v":0}]
[null,null,null,null,null,null,null,null,null,{"$f":"'2.6 PC. Cli. Fon.'!B666","v":0}]
[null,null,null,null,null,null,null,null,null,{"$f":"'2.6 PC. Cli. Fon.'!B667","v":0}]
[null,null,null,null,null,null,null,null,null,{"$f":"'2.6 PC. Cli. Fon.'!B668","v":0}]
[null,null,null,null,null,null,null,null,null,{"$f":"'2.6 PC. Cli. Fon.'!B669","v":0}]
[null,null,null,null,null,null,null,null,null,{"$f":"'2.6 PC. Cli. Fon.'!B670","v":0}]
[null,null,null,null,null,null,null,null,null,{"$f":"'2.6 PC. Cli. Fon.'!B671","v":0}]
[null,null,null,null,null,null,null,null,null,{"$f":"'2.6 PC. Cli. Fon.'!B672","v":0}]
[null,null,null,null,null,null,null,null,null,{"$f":"'2.6 PC. Cli. Fon.'!B673","v":0}]
[null,null,null,null,null,null,null,null,null,{"$f":"'2.6 PC. Cli. Fon.'!B674","v":0}]
[null,null,null,null,null,null,null,null,null,{"$f":"'2.6 PC. Cli. Fon.'!B675","v":0}]
[null,null,null,null,null,null,null,null,null,{"$f":"'2.6 PC. Cli. Fon.'!B676","v":0}]
[null,null,null,null,null,null,null,null,null,{"$f":"'2.6 PC. Cli. Fon.'!B677","v":0}]
[null,null,null,null,null,null,null,null,null,{"$f":"'2.6 PC. Cli. Fon.'!B678","v":0}]
[null,null,null,null,null,null,null,null,null,{"$f":"'2.6 PC. Cli. Fon.'!B679","v":0}]
[null,null,null,null,null,null,null,null,null,{"$f":"'2.6 PC. Cli. Fon.'!B680","v":0}]
[null,null,null,null,null,null,null,null,null,{"$f":"'2.6 PC. Cli. Fon.'!B681","v":0}]
[null,null,null,null,null,null,null,null,null,{"$f":"'2.6 PC. Cli. Fon.'!B682","v":0}]
[null,null,null,null,null,null,null,null,null,{"$f":"'2.6 PC. Cli. Fon.'!B683","v":0}]
[null,null,null,null,null,null,null,null,null,{"$f":"'2.6 PC. Cli. Fon.'!B684","v":0}]
[null,null,null,null,null,null,null,null,null,{"$f":"'2.6 PC. Cli. Fon.'!B685","v":0}]
[null,null,null,null,null,null,null,null,null,{"$f":"'2.6 PC. Cli. Fon.'!B686","v":0}]
[null,null,null,null,null,null,null,null,null,{"$f":"'2.6 PC. Cli. Fon.'!B687","v":0}]
[null,null,null,null,null,null,null,null,null,{"$f":"'2.6 PC. Cli. Fon.'!B688","v":0}]
[null,null,null,null,null,null,null,null,null,{"$f":"'2.6 PC. Cli. Fon.'!B689","v":0}]
[null,null,null,null,null,null,null,null,null,{"$f":"'2.6 PC. Cli. Fon.'!B690","v":0}]
[null,null,null,null,null,null,null,null,null,{"$f":"'2.6 PC. Cli. Fon.'!B691","v":0}]
[null,null,null,null,null,null,null,null,null,{"$f":"'2.6 PC. Cli. Fon.'!B692","v":0}]
[null,null,null,null,null,null,null,null,null,{"$f":"'2.6 PC. Cli. Fon.'!B693","v":0}]
[null,null,null,null,null,null,null,null,null,{"$f":"'2.6 PC. Cli. Fon.'!B694","v":0}]
[null,null,null,null,null,null,null,null,null,{"$f":"'2.6 PC. Cli. Fon.'!B695","v":0}]
[null,null,null,null,null,null,null,null,null,{"$f":"'2.6 PC. Cli. Fon.'!B696","v":0}]
[null,null,null,null,null,null,null,null,null,{"$f":"'2.6 PC. Cli. Fon.'!B697","v":0}]
[null,null,null,null,null,null,null,null,null,{"$f":"'2.6 PC. Cli. Fon.'!B698","v":0}]
[null,null,null,null,null,null,null,null,null,{"$f":"'2.6 PC. Cli. Fon.'!B699","v":0}]
[null,null,null,null,null,null,null,null,null,{"$f":"'2.6 PC. Cli. Fon.'!B700","v":0}]
[null,null,null,null,null,null,null,null,null,{"$f":"'2.6 PC. Cli. Fon.'!B701","v":0}]
[null,null,null,null,null,null,null,null,null,{"$f":"'2.6 PC. Cli. Fon.'!B702","v":0}]
[null,null,null,null,null,null,null,null,null,{"$f":"'2.6 PC. Cli. Fon.'!B703","v":0}]
[null,null,null,null,null,null,null,null,null,{"$f":"'2.6 PC. Cli. Fon.'!B704","v":0}]
[null,null,null,null,null,null,null,null,null,{"$f":"'2.6 PC. Cli. Fon.'!B705","v":0}]
[null,null,null,null,null,null,null,null,null,{"$f":"'2.6 PC. Cli. Fon.'!B706","v":0}]
[null,null,null,null,null,null,null,null,null,{"$f":"'2.6 PC. Cli. Fon.'!B707","v":0}]
[null,null,null,null,null,null,null,null,null,{"$f":"'2.6 PC. Cli. Fon.'!B708","v":0}]
[null,null,null,null,null,null,null,null,null,{"$f":"'2.6 PC. Cli. Fon.'!B709","v":0}]
[null,null,null,null,null,null,null,null,null,{"$f":"'2.6 PC. Cli. Fon.'!B710","v":0}]
[null,null,null,null,null,null,null,null,null,{"$f":"'2.6 PC. Cli. Fon.'!B711","v":0}]
[null,null,null,null,null,null,null,null,null,{"$f":"'2.6 PC. Cli. Fon.'!B712","v":0}]
[null,null,null,null,null,null,null,null,null,{"$f":"'2.6 PC. Cli. Fon.'!B713","v":0}]
[null,null,null,null,null,null,null,null,null,{"$f":"'2.6 PC. Cli. Fon.'!B714","v":0}]
[null,null,null,null,null,null,null,null,null,{"$f":"'2.6 PC. Cli. Fon.'!B715","v":0}]
[null,null,null,null,null,null,null,null,null,{"$f":"'2.6 PC. Cli. Fon.'!B716","v":0}]
[null,null,null,null,null,null,null,null,null,{"$f":"'2.6 PC. Cli. Fon.'!B717","v":0}]
[null,null,null,null,null,null,null,null,null,{"$f":"'2.6 PC. Cli. Fon.'!B718","v":0}]
[null,null,null,null,null,null,null,null,null,{"$f":"'2.6 PC. Cli. Fon.'!B719","v":0}]
[null,null,null,null,null,null,null,null,null,{"$f":"'2.6 PC. Cli. Fon.'!B720","v":0}]
[null,null,null,null,null,null,null,null,null,{"$f":"'2.6 PC. Cli. Fon.'!B721","v":0}]
[null,null,null,null,null,null,null,null,null,{"$f":"'2.6 PC. Cli. Fon.'!B722","v":0}]
[null,null,null,null,null,null,null,null,null,{"$f":"'2.6 PC. Cli. Fon.'!B723","v":0}]
[null,null,null,null,null,null,null,null,null,{"$f":"'2.6 PC. Cli. Fon.'!B724","v":0}]
[null,null,null,null,null,null,null,null,null,{"$f":"'2.6 PC. Cli. Fon.'!B725","v":0}]
[null,null,null,null,null,null,null,null,null,{"$f":"'2.6 PC. Cli. Fon.'!B726","v":0}]
[null,null,null,null,null,null,null,null,null,{"$f":"'2.6 PC. Cli. Fon.'!B727","v":0}]
[null,null,null,null,null,null,null,null,null,{"$f":"'2.6 PC. Cli. Fon.'!B728","v":0}]
[null,null,null,null,null,null,null,null,null,{"$f":"'2.6 PC. Cli. Fon.'!B729","v":0}]
[null,null,null,null,null,null,null,null,null,{"$f":"'2.6 PC. Cli. Fon.'!B730","v":0}]
[null,null,null,null,null,null,null,null,null,{"$f":"'2.6 PC. Cli. Fon.'!B731","v":0}]
[null,null,null,null,null,null,null,null,null,{"$f":"'2.6 PC. Cli. Fon.'!B732","v":0}]
[null,null,null,null,null,null,null,null,null,{"$f":"'2.6 PC. Cli. Fon.'!B733","v":0}]
[null,null,null,null,null,null,null,null,null,{"$f":"'2.6 PC. Cli. Fon.'!B734","v":0}]
[null,null,null,null,null,null,null,null,null,{"$f":"'2.6 PC. Cli. Fon.'!B735","v":0}]
[null,null,null,null,null,null,null,null,null,{"$f":"'2.6 PC. Cli. Fon.'!B736","v":0}]
[null,null,null,null,null,null,null,null,null,{"$f":"'2.6 PC. Cli. Fon.'!B737","v":0}]
[null,null,null,null,null,null,null,null,null,{"$f":"'2.6 PC. Cli. Fon.'!B738","v":0}]
[null,null,null,null,null,null,null,null,null,{"$f":"'2.6 PC. Cli. Fon.'!B739","v":0}]
[null,null,null,null,null,null,null,null,null,{"$f":"'2.6 PC. Cli. Fon.'!B740","v":0}]
[null,null,null,null,null,null,null,null,null,{"$f":"'2.6 PC. Cli. Fon.'!B741","v":0}]
[null,null,null,null,null,null,null,null,null,{"$f":"'2.6 PC. Cli. Fon.'!B742","v":0}]
[null,null,null,null,null,null,null,null,null,{"$f":"'2.6 PC. Cli. Fon.'!B743","v":0}]
[null,null,null,null,null,null,null,null,null,{"$f":"'2.6 PC. Cli. Fon.'!B744","v":0}]
[null,null,null,null,null,null,null,null,null,{"$f":"'2.6 PC. Cli. Fon.'!B745","v":0}]
[null,null,null,null,null,null,null,null,null,{"$f":"'2.6 PC. Cli. Fon.'!B746","v":0}]
[null,null,null,null,null,null,null,null,null,{"$f":"'2.6 PC. Cli. Fon.'!B747","v":0}]
[null,null,null,null,null,null,null,null,null,{"$f":"'2.6 PC. Cli. Fon.'!B748","v":0}]
[null,null,null,null,null,null,null,null,null,{"$f":"'2.6 PC. Cli. Fon.'!B749","v":0}]
[null,null,null,null,null,null,null,null,null,{"$f":"'2.6 PC. Cli. Fon.'!B750","v":0}]
[null,null,null,null,null,null,null,null,null,{"$f":"'2.6 PC. Cli. Fon.'!B751","v":0}]
[null,null,null,null,null,null,null,null,null,{"$f":"'2.6 PC. Cli. Fon.'!B752","v":0}]
[null,null,null,null,null,null,null,null,null,{"$f":"'2.6 PC. Cli. Fon.'!B753","v":0}]
[null,null,null,null,null,null,null,null,null,{"$f":"'2.6 PC. Cli. Fon.'!B754","v":0}]
[null,null,null,null,null,null,null,null,null,{"$f":"'2.6 PC. Cli. Fon.'!B755","v":0}]
[null,null,null,null,null,null,null,null,null,{"$f":"'2.6 PC. Cli. Fon.'!B756","v":0}]
[null,null,null,null,null,null,null,null,null,{"$f":"'2.6 PC. Cli. Fon.'!B757","v":0}]
[null,null,null,null,null,null,null,null,null,{"$f":"'2.6 PC. Cli. Fon.'!B758","v":0}]
[null,null,null,null,null,null,null,null,null,{"$f":"'2.6 PC. Cli. Fon.'!B759","v":0}]
[null,null,null,null,null,null,null,null,null,{"$f":"'2.6 PC. Cli. Fon.'!B760","v":0}]
[null,null,null,null,null,null,null,null,null,{"$f":"'2.6 PC. Cli. Fon.'!B761","v":0}]
[null,null,null,null,null,null,null,null,null,{"$f":"'2.6 PC. Cli. Fon.'!B762","v":0}]
[null,null,null,null,null,null,null,null,null,{"$f":"'2.6 PC. Cli. Fon.'!B763","v":0}]
[null,null,null,null,null,null,null,null,null,{"$f":"'2.6 PC. Cli. Fon.'!B764","v":0}]
[null,null,null,null,null,null,null,null,null,{"$f":"'2.6 PC. Cli. Fon.'!B765","v":0}]
[null,null,null,null,null,null,null,null,null,{"$f":"'2.6 PC. Cli. Fon.'!B766","v":0}]
[null,null,null,null,null,null,null,null,null,{"$f":"'2.6 PC. Cli. Fon.'!B767","v":0}]
[null,null,null,null,null,null,null,null,null,{"$f":"'2.6 PC. Cli. Fon.'!B768","v":0}]
[null,null,null,null,null,null,null,null,null,{"$f":"'2.6 PC. Cli. Fon.'!B769","v":0}]
[null,null,null,null,null,null,null,null,null,{"$f":"'2.6 PC. Cli. Fon.'!B770","v":0}]
[null,null,null,null,null,null,null,null,null,{"$f":"'2.6 PC. Cli. Fon.'!B771","v":0}]
[null,null,null,null,null,null,null,null,null,{"$f":"'2.6 PC. Cli. Fon.'!B772","v":0}]
[null,null,null,null,null,null,null,null,null,{"$f":"'2.6 PC. Cli. Fon.'!B773","v":0}]
[null,null,null,null,null,null,null,null,null,{"$f":"'2.6 PC. Cli. Fon.'!B774","v":0}]
[null,null,null,null,null,null,null,null,null,{"$f":"'2.6 PC. Cli. Fon.'!B775","v":0}]
[null,null,null,null,null,null,null,null,null,{"$f":"'2.6 PC. Cli. Fon.'!B776","v":0}]
[null,null,null,null,null,null,null,null,null,{"$f":"'2.6 PC. Cli. Fon.'!B777","v":0}]
[null,null,null,null,null,null,null,null,null,{"$f":"'2.6 PC. Cli. Fon.'!B778","v":0}]
[null,null,null,null,null,null,null,null,null,{"$f":"'2.6 PC. Cli. Fon.'!B779","v":0}]
[null,null,null,null,null,null,null,null,null,{"$f":"'2.6 PC. Cli. Fon.'!B780","v":0}]
[null,null,null,null,null,null,null,null,null,{"$f":"'2.6 PC. Cli. Fon.'!B781","v":0}]
[null,null,null,null,null,null,null,null,null,{"$f":"'2.6 PC. Cli. Fon.'!B782","v":0}]
[null,null,null,null,null,null,null,null,null,{"$f":"'2.6 PC. Cli. Fon.'!B783","v":0}]
[null,null,null,null,null,null,null,null,null,{"$f":"'2.6 PC. Cli. Fon.'!B784","v":0}]
[null,null,null,null,null,null,null,null,null,{"$f":"'2.6 PC. Cli. Fon.'!B785","v":0}]
[null,null,null,null,null,null,null,null,null,{"$f":"'2.6 PC. Cli. Fon.'!B786","v":0}]
[null,null,null,null,null,null,null,null,null,{"$f":"'2.6 PC. Cli. Fon.'!B787","v":0}]
[null,null,null,null,null,null,null,null,null,{"$f":"'2.6 PC. Cli. Fon.'!B788","v":0}]
[null,null,null,null,null,null,null,null,null,{"$f":"'2.6 PC. Cli. Fon.'!B789","v":0}]
[null,null,null,null,null,null,null,null,null,{"$f":"'2.6 PC. Cli. Fon.'!B790","v":0}]
[null,null,null,null,null,null,null,null,null,{"$f":"'2.6 PC. Cli. Fon.'!B791","v":0}]
[null,null,null,null,null,null,null,null,null,{"$f":"'2.6 PC. Cli. Fon.'!B792","v":0}]
[null,null,null,null,null,null,null,null,null,{"$f":"'2.6 PC. Cli. Fon.'!B793","v":0}]
[null,null,null,null,null,null,null,null,null,{"$f":"'2.6 PC. Cli. Fon.'!B794","v":0}]
[null,null,null,null,null,null,null,null,null,{"$f":"'2.6 PC. Cli. Fon.'!B795","v":0}]
[null,null,null,null,null,null,null,null,null,{"$f":"'2.6 PC. Cli. Fon.'!B796","v":0}]
[null,null,null,null,null,null,null,null,null,{"$f":"'2.6 PC. Cli. Fon.'!B797","v":0}]
[null,null,null,null,null,null,null,null,null,{"$f":"'2.6 PC. Cli. Fon.'!B798","v":0}]
[null,null,null,null,null,null,null,null,null,{"$f":"'2.6 PC. Cli. Fon.'!B799","v":0}]
[null,null,null,null,null,null,null,null,null,{"$f":"'2.6 PC. Cli. Fon.'!B800","v":0}]
[null,null,null,null,null,null,null,null,null,{"$f":"'2.6 PC. Cli. Fon.'!B801","v":0}]
[null,null,null,null,null,null,null,null,null,{"$f":"'2.6 PC. Cli. Fon.'!B802","v":0}]
[null,null,null,null,null,null,null,null,null,{"$f":"'2.6 PC. Cli. Fon.'!B803","v":0}]
[null,null,null,null,null,null,null,null,null,{"$f":"'2.6 PC. Cli. Fon.'!B804","v":0}]
[null,null,null,null,null,null,null,null,null,{"$f":"'2.6 PC. Cli. Fon.'!B805","v":0}]
[null,null,null,null,null,null,null,null,null,{"$f":"'2.6 PC. Cli. Fon.'!B806","v":0}]
[null,null,null,null,null,null,null,null,null,{"$f":"'2.6 PC. Cli. Fon.'!B807","v":0}]
[null,null,null,null,null,null,null,null,null,{"$f":"'2.6 PC. Cli. Fon.'!B808","v":0}]
[null,null,null,null,null,null,null,null,null,{"$f":"'2.6 PC. Cli. Fon.'!B809","v":0}]
[null,null,null,null,null,null,null,null,null,{"$f":"'2.6 PC. Cli. Fon.'!B810","v":0}]
[null,null,null,null,null,null,null,null,null,{"$f":"'2.6 PC. Cli. Fon.'!B811","v":0}]
[null,null,null,null,null,null,null,null,null,{"$f":"'2.6 PC. Cli. Fon.'!B812","v":0}]
[null,null,null,null,null,null,null,null,null,{"$f":"'2.6 PC. Cli. Fon.'!B813","v":0}]
[null,null,null,null,null,null,null,null,null,{"$f":"'2.6 PC. Cli. Fon.'!B814","v":0}]
[null,null,null,null,null,null,null,null,null,{"$f":"'2.6 PC. Cli. Fon.'!B815","v":0}]
[null,null,null,null,null,null,null,null,null,{"$f":"'2.6 PC. Cli. Fon.'!B816","v":0}]
[null,null,null,null,null,null,null,null,null,{"$f":"'2.6 PC. Cli. Fon.'!B817","v":0}]
[null,null,null,null,null,null,null,null,null,{"$f":"'2.6 PC. Cli. Fon.'!B818","v":0}]
[null,null,null,null,null,null,null,null,null,{"$f":"'2.6 PC. Cli. Fon.'!B819","v":0}]
[null,null,null,null,null,null,null,null,null,{"$f":"'2.6 PC. Cli. Fon.'!B820","v":0}]
[null,null,null,null,null,null,null,null,null,{"$f":"'2.6 PC. Cli. Fon.'!B821","v":0}]
[null,null,null,null,null,null,null,null,null,{"$f":"'2.6 PC. Cli. Fon.'!B822","v":0}]
[null,null,null,null,null,null,null,null,null,{"$f":"'2.6 PC. Cli. Fon.'!B823","v":0}]
[null,null,null,null,null,null,null,null,null,{"$f":"'2.6 PC. Cli. Fon.'!B824","v":0}]
[null,null,null,null,null,null,null,null,null,{"$f":"'2.6 PC. Cli. Fon.'!B825","v":0}]
[null,null,null,null,null,null,null,null,null,{"$f":"'2.6 PC. Cli. Fon.'!B826","v":0}]
[null,null,null,null,null,null,null,null,null,{"$f":"'2.6 PC. Cli. Fon.'!B827","v":0}]
[null,null,null,null,null,null,null,null,null,{"$f":"'2.6 PC. Cli. Fon.'!B828","v":0}]
[null,null,null,null,null,null,null,null,null,{"$f":"'2.6 PC. Cli. Fon.'!B829","v":0}]
[null,null,null,null,null,null,null,null,null,{"$f":"'2.6 PC. Cli. Fon.'!B830","v":0}]
[null,null,null,null,null,null,null,null,null,{"$f":"'2.6 PC. Cli. Fon.'!B831","v":0}]
[null,null,null,null,null,null,null,null,null,{"$f":"'2.6 PC. Cli. Fon.'!B832","v":0}]
[null,null,null,null,null,null,null,null,null,{"$f":"'2.6 PC. Cli. Fon.'!B833","v":0}]
[null,null,null,null,null,null,null,null,null,{"$f":"'2.6 PC. Cli. Fon.'!B834","v":0}]
[null,null,null,null,null,null,null,null,null,{"$f":"'2.6 PC. Cli. Fon.'!B835","v":0}]
[null,null,null,null,null,null,null,null,null,{"$f":"'2.6 PC. Cli. Fon.'!B836","v":0}]
[null,null,null,null,null,null,null,null,null,{"$f":"'2.6 PC. Cli. Fon.'!B837","v":0}]
[null,null,null,null,null,null,null,null,null,{"$f":"'2.6 PC. Cli. Fon.'!B838","v":0}]
[null,null,null,null,null,null,null,null,null,{"$f":"'2.6 PC. Cli. Fon.'!B839","v":0}]
[null,null,null,null,null,null,null,null,null,{"$f":"'2.6 PC. Cli. Fon.'!B840","v":0}]
[null,null,null,null,null,null,null,null,null,{"$f":"'2.6 PC. Cli. Fon.'!B841","v":0}]
[null,null,null,null,null,null,null,null,null,{"$f":"'2.6 PC. Cli. Fon.'!B842","v":0}]
[null,null,null,null,null,null,null,null,null,{"$f":"'2.6 PC. Cli. Fon.'!B843","v":0}]
[null,null,null,null,null,null,null,null,null,{"$f":"'2.6 PC. Cli. Fon.'!B844","v":0}]
[null,null,null,null,null,null,null,null,null,{"$f":"'2.6 PC. Cli. Fon.'!B845","v":0}]
[null,null,null,null,null,null,null,null,null,{"$f":"'2.6 PC. Cli. Fon.'!B846","v":0}]
[null,null,null,null,null,null,null,null,null,{"$f":"'2.6 PC. Cli. Fon.'!B847","v":0}]
[null,null,null,null,null,null,null,null,null,{"$f":"'2.6 PC. Cli. Fon.'!B848","v":0}]
[null,null,null,null,null,null,null,null,null,{"$f":"'2.6 PC. Cli. Fon.'!B849","v":0}]
[null,null,null,null,null,null,null,null,null,{"$f":"'2.6 PC. Cli. Fon.'!B850","v":0}]
[null,null,null,null,null,null,null,null,null,{"$f":"'2.6 PC. Cli. Fon.'!B851","v":0}]
[null,null,null,null,null,null,null,null,null,{"$f":"'2.6 PC. Cli. Fon.'!B852","v":0}]
[null,null,null,null,null,null,null,null,null,{"$f":"'2.6 PC. Cli. Fon.'!B853","v":0}]
[null,null,null,null,null,null,null,null,null,{"$f":"'2.6 PC. Cli. Fon.'!B854","v":0}]
[null,null,null,null,null,null,null,null,null,{"$f":"'2.6 PC. Cli. Fon.'!B855","v":0}]
[null,null,null,null,null,null,null,null,null,{"$f":"'2.6 PC. Cli. Fon.'!B856","v":0}]
[null,null,null,null,null,null,null,null,null,{"$f":"'2.6 PC. Cli. Fon.'!B857","v":0}]
[null,null,null,null,null,null,null,null,null,{"$f":"'2.6 PC. Cli. Fon.'!B858","v":0}]
[null,null,null,null,null,null,null,null,null,{"$f":"'2.6 PC. Cli. Fon.'!B859","v":0}]
[null,null,null,null,null,null,null,null,null,{"$f":"'2.6 PC. Cli. Fon.'!B860","v":0}]
[null,null,null,null,null,null,null,null,null,{"$f":"'2.6 PC. Cli. Fon.'!B861","v":0}]
[null,null,null,null,null,null,null,null,null,{"$f":"'2.6 PC. Cli. Fon.'!B862","v":0}]
[null,null,null,null,null,null,null,null,null,{"$f":"'2.6 PC. Cli. Fon.'!B863","v":0}]
[null,null,null,null,null,null,null,null,null,{"$f":"'2.6 PC. Cli. Fon.'!B864","v":0}]
[null,null,null,null,null,null,null,null,null,{"$f":"'2.6 PC. Cli. Fon.'!B865","v":0}]
[null,null,null,null,null,null,null,null,null,{"$f":"'2.6 PC. Cli. Fon.'!B866","v":0}]
[null,null,null,null,null,null,null,null,null,{"$f":"'2.6 PC. Cli. Fon.'!B867","v":0}]
[null,null,null,null,null,null,null,null,null,{"$f":"'2.6 PC. Cli. Fon.'!B868","v":0}]
[null,null,null,null,null,null,null,null,null,{"$f":"'2.6 PC. Cli. Fon.'!B869","v":0}]
[null,null,null,null,null,null,null,null,null,{"$f":"'2.6 PC. Cli. Fon.'!B870","v":0}]
[null,null,null,null,null,null,null,null,null,{"$f":"'2.6 PC. Cli. Fon.'!B871","v":0}]
[null,null,null,null,null,null,null,null,null,{"$f":"'2.6 PC. Cli. Fon.'!B872","v":0}]
[null,null,null,null,null,null,null,null,null,{"$f":"'2.6 PC. Cli. Fon.'!B873","v":0}]
[null,null,null,null,null,null,null,null,null,{"$f":"'2.6 PC. Cli. Fon.'!B874","v":0}]
[null,null,null,null,null,null,null,null,null,{"$f":"'2.6 PC. Cli. Fon.'!B875","v":0}]
[null,null,null,null,null,null,null,null,null,{"$f":"'2.6 PC. Cli. Fon.'!B876","v":0}]
[null,null,null,null,null,null,null,null,null,{"$f":"'2.6 PC. Cli. Fon.'!B877","v":0}]
[null,null,null,null,null,null,null,null,null,{"$f":"'2.6 PC. Cli. Fon.'!B878","v":0}]
[null,null,null,null,null,null,null,null,null,{"$f":"'2.6 PC. Cli. Fon.'!B879","v":0}]
[null,null,null,null,null,null,null,null,null,{"$f":"'2.6 PC. Cli. Fon.'!B880","v":0}]
[null,null,null,null,null,null,null,null,null,{"$f":"'2.6 PC. Cli. Fon.'!B881","v":0}]
[null,null,null,null,null,null,null,null,null,{"$f":"'2.6 PC. Cli. Fon.'!B882","v":0}]
[null,null,null,null,null,null,null,null,null,{"$f":"'2.6 PC. Cli. Fon.'!B883","v":0}]
[null,null,null,null,null,null,null,null,null,{"$f":"'2.6 PC. Cli. Fon.'!B884","v":0}]
[null,null,null,null,null,null,null,null,null,{"$f":"'2.6 PC. Cli. Fon.'!B885","v":0}]
[null,null,null,null,null,null,null,null,null,{"$f":"'2.6 PC. Cli. Fon.'!B886","v":0}]
[null,null,null,null,null,null,null,null,null,{"$f":"'2.6 PC. Cli. Fon.'!B887","v":0}]
[null,null,null,null,null,null,null,null,null,{"$f":"'2.6 PC. Cli. Fon.'!B888","v":0}]
[null,null,null,null,null,null,null,null,null,{"$f":"'2.6 PC. Cli. Fon.'!B889","v":0}]
[null,null,null,null,null,null,null,null,null,{"$f":"'2.6 PC. Cli. Fon.'!B890","v":0}]
[null,null,null,null,null,null,null,null,null,{"$f":"'2.6 PC. Cli. Fon.'!B891","v":0}]
[null,null,null,null,null,null,null,null,null,{"$f":"'2.6 PC. Cli. Fon.'!B892","v":0}]
[null,null,null,null,null,null,null,null,null,{"$f":"'2.6 PC. Cli. Fon.'!B893","v":0}]
[null,null,null,null,null,null,null,null,null,{"$f":"'2.6 PC. Cli. Fon.'!B894","v":0}]
[null,null,null,null,null,null,null,null,null,{"$f":"'2.6 PC. Cli. Fon.'!B895","v":0}]
[null,null,null,null,null,null,null,null,null,{"$f":"'2.6 PC. Cli. Fon.'!B896","v":0}]
[null,null,null,null,null,null,null,null,null,{"$f":"'2.6 PC. Cli. Fon.'!B897","v":0}]
[null,null,null,null,null,null,null,null,null,{"$f":"'2.6 PC. Cli. Fon.'!B898","v":0}]
[null,null,null,null,null,null,null,null,null,{"$f":"'2.6 PC. Cli. Fon.'!B899","v":0}]
[null,null,null,null,null,null,null,null,null,{"$f":"'2.6 PC. Cli. Fon.'!B900","v":0}]
[null,null,null,null,null,null,null,null,null,{"$f":"'2.6 PC. Cli. Fon.'!B901","v":0}]
[null,null,null,null,null,null,null,null,null,{"$f":"'2.6 PC. Cli. Fon.'!B902","v":0}]
[null,null,null,null,null,null,null,null,null,{"$f":"'2.6 PC. Cli. Fon.'!B903","v":0}]
[null,null,null,null,null,null,null,null,null,{"$f":"'2.6 PC. Cli. Fon.'!B904","v":0}]
[null,null,null,null,null,null,null,null,null,{"$f":"'2.6 PC. Cli. Fon.'!B905","v":0}]
[null,null,null,null,null,null,null,null,null,{"$f":"'2.6 PC. Cli. Fon.'!B906","v":0}]
[null,null,null,null,null,null,null,null,null,{"$f":"'2.6 PC. Cli. Fon.'!B907","v":0}]
[null,null,null,null,null,null,null,null,null,{"$f":"'2.6 PC. Cli. Fon.'!B908","v":0}]
[null,null,null,null,null,null,null,null,null,{"$f":"'2.6 PC. Cli. Fon.'!B909","v":0}]
[null,null,null,null,null,null,null,null,null,{"$f":"'2.6 PC. Cli. Fon.'!B910","v":0}]
[null,null,null,null,null,null,null,null,null,{"$f":"'2.6 PC. Cli. Fon.'!B911","v":0}]
[null,null,null,null,null,null,null,null,null,{"$f":"'2.6 PC. Cli. Fon.'!B912","v":0}]
[null,null,null,null,null,null,null,null,null,{"$f":"'2.6 PC. Cli. Fon.'!B913","v":0}]
[null,null,null,null,null,null,null,null,null,{"$f":"'2.6 PC. Cli. Fon.'!B914","v":0}]
[null,null,null,null,null,null,null,null,null,{"$f":"'2.6 PC. Cli. Fon.'!B915","v":0}]
[null,null,null,null,null,null,null,null,null,{"$f":"'2.6 PC. Cli. Fon.'!B916","v":0}]
[null,null,null,null,null,null,null,null,null,{"$f":"'2.6 PC. Cli. Fon.'!B917","v":0}]
[null,null,null,null,null,null,null,null,null,{"$f":"'2.6 PC. Cli. Fon.'!B918","v":0}]
[null,null,null,null,null,null,null,null,null,{"$f":"'2.6 PC. Cli. Fon.'!B919","v":0}]
[null,null,null,null,null,null,null,null,null,{"$f":"'2.6 PC. Cli. Fon.'!B920","v":0}]
[null,null,null,null,null,null,null,null,null,{"$f":"'2.6 PC. Cli. Fon.'!B921","v":0}]
[null,null,null,null,null,null,null,null,null,{"$f":"'2.6 PC. Cli. Fon.'!B922","v":0}]
[null,null,null,null,null,null,null,null,null,{"$f":"'2.6 PC. Cli. Fon.'!B923","v":0}]
[null,null,null,null,null,null,null,null,null,{"$f":"'2.6 PC. Cli. Fon.'!B924","v":0}]
[null,null,null,null,null,null,null,null,null,{"$f":"'2.6 PC. Cli. Fon.'!B925","v":0}]
[null,null,null,null,null,null,null,null,null,{"$f":"'2.6 PC. Cli. Fon.'!B926","v":0}]
[null,null,null,null,null,null,null,null,null,{"$f":"'2.6 PC. Cli. Fon.'!B927","v":0}]
[null,null,null,null,null,null,null,null,null,{"$f":"'2.6 PC. Cli. Fon.'!B928","v":0}]
[null,null,null,null,null,null,null,null,null,{"$f":"'2.6 PC. Cli. Fon.'!B929","v":0}]
[null,null,null,null,null,null,null,null,null,{"$f":"'2.6 PC. Cli. Fon.'!B930","v":0}]
[null,null,null,null,null,null,null,null,null,{"$f":"'2.6 PC. Cli. Fon.'!B931","v":0}]
[null,null,null,null,null,null,null,null,null,{"$f":"'2.6 PC. Cli. Fon.'!B932","v":0}]
[null,null,null,null,null,null,null,null,null,{"$f":"'2.6 PC. Cli. Fon.'!B933","v":0}]
[null,null,null,null,null,null,null,null,null,{"$f":"'2.6 PC. Cli. Fon.'!B934","v":0}]
[null,null,null,null,null,null,null,null,null,{"$f":"'2.6 PC. Cli. Fon.'!B935","v":0}]
[null,null,null,null,null,null,null,null,null,{"$f":"'2.6 PC. Cli. Fon.'!B936","v":0}]
[null,null,null,null,null,null,null,null,null,{"$f":"'2.6 PC. Cli. Fon.'!B937","v":0}]
[null,null,null,null,null,null,null,null,null,{"$f":"'2.6 PC. Cli. Fon.'!B938","v":0}]
[null,null,null,null,null,null,null,null,null,{"$f":"'2.6 PC. Cli. Fon.'!B939","v":0}]
[null,null,null,null,null,null,null,null,null,{"$f":"'2.6 PC. Cli. Fon.'!B940","v":0}]
[null,null,null,null,null,null,null,null,null,{"$f":"'2.6 PC. Cli. Fon.'!B941","v":0}]
[null,null,null,null,null,null,null,null,null,{"$f":"'2.6 PC. Cli. Fon.'!B942","v":0}]
[null,null,null,null,null,null,null,null,null,{"$f":"'2.6 PC. Cli. Fon.'!B943","v":0}]
[null,null,null,null,null,null,null,null,null,{"$f":"'2.6 PC. Cli. Fon.'!B944","v":0}]
[null,null,null,null,null,null,null,null,null,{"$f":"'2.6 PC. Cli. Fon.'!B945","v":0}]
[null,null,null,null,null,null,null,null,null,{"$f":"'2.6 PC. Cli. Fon.'!B946","v":0}]
[null,null,null,null,null,null,null,null,null,{"$f":"'2.6 PC. Cli. Fon.'!B947","v":0}]
[null,null,null,null,null,null,null,null,null,{"$f":"'2.6 PC. Cli. Fon.'!B948","v":0}]
[null,null,null,null,null,null,null,null,null,{"$f":"'2.6 PC. Cli. Fon.'!B949","v":0}]
[null,null,null,null,null,null,null,null,null,{"$f":"'2.6 PC. Cli. Fon.'!B950","v":0}]
[null,null,null,null,null,null,null,null,null,{"$f":"'2.6 PC. Cli. Fon.'!B951","v":0}]
[null,null,null,null,null,null,null,null,null,{"$f":"'2.6 PC. Cli. Fon.'!B952","v":0}]
[null,null,null,null,null,null,null,null,null,{"$f":"'2.6 PC. Cli. Fon.'!B953","v":0}]
[null,null,null,null,null,null,null,null,null,{"$f":"'2.6 PC. Cli. Fon.'!B954","v":0}]
[null,null,null,null,null,null,null,null,null,{"$f":"'2.6 PC. Cli. Fon.'!B955","v":0}]
[null,null,null,null,null,null,null,null,null,{"$f":"'2.6 PC. Cli. Fon.'!B956","v":0}]
[null,null,null,null,null,null,null,null,null,{"$f":"'2.6 PC. Cli. Fon.'!B957","v":0}]
[null,null,null,null,null,null,null,null,null,{"$f":"'2.6 PC. Cli. Fon.'!B958","v":0}]
[null,null,null,null,null,null,null,null,null,{"$f":"'2.6 PC. Cli. Fon.'!B959","v":0}]
[null,null,null,null,null,null,null,null,null,{"$f":"'2.6 PC. Cli. Fon.'!B960","v":0}]
[null,null,null,null,null,null,null,null,null,{"$f":"'2.6 PC. Cli. Fon.'!B961","v":0}]
[null,null,null,null,null,null,null,null,null,{"$f":"'2.6 PC. Cli. Fon.'!B962","v":0}]
[null,null,null,null,null,null,null,null,null,{"$f":"'2.6 PC. Cli. Fon.'!B963","v":0}]
[null,null,null,null,null,null,null,null,null,{"$f":"'2.6 PC. Cli. Fon.'!B964","v":0}]
[null,null,null,null,null,null,null,null,null,{"$f":"'2.6 PC. Cli. Fon.'!B965","v":0}]
[null,null,null,null,null,null,null,null,null,{"$f":"'2.6 PC. Cli. Fon.'!B966","v":0}]
[null,null,null,null,null,null,null,null,null,{"$f":"'2.6 PC. Cli. Fon.'!B967","v":0}]
[null,null,null,null,null,null,null,null,null,{"$f":"'2.6 PC. Cli. Fon.'!B968","v":0}]
[null,null,null,null,null,null,null,null,null,{"$f":"'2.6 PC. Cli. Fon.'!B969","v":0}]
[null,null,null,null,null,null,null,null,null,{"$f":"'2.6 PC. Cli. Fon.'!B970","v":0}]
[null,null,null,null,null,null,null,null,null,{"$f":"'2.6 PC. Cli. Fon.'!B971","v":0}]
[null,null,null,null,null,null,null,null,null,{"$f":"'2.6 PC. Cli. Fon.'!B972","v":0}]
[null,null,null,null,null,null,null,null,null,{"$f":"'2.6 PC. Cli. Fon.'!B973","v":0}]
[null,null,null,null,null,null,null,null,null,{"$f":"'2.6 PC. Cli. Fon.'!B974","v":0}]
[null,null,null,null,null,null,null,null,null,{"$f":"'2.6 PC. Cli. Fon.'!B975","v":0}]
[null,null,null,null,null,null,null,null,null,{"$f":"'2.6 PC. Cli. Fon.'!B976","v":0}]
[null,null,null,null,null,null,null,null,null,{"$f":"'2.6 PC. Cli. Fon.'!B977","v":0}]
[null,null,null,null,null,null,null,null,null,{"$f":"'2.6 PC. Cli. Fon.'!B978","v":0}]
[null,null,null,null,null,null,null,null,null,{"$f":"'2.6 PC. Cli. Fon.'!B979","v":0}]
[null,null,null,null,null,null,null,null,null,{"$f":"'2.6 PC. Cli. Fon.'!B980","v":0}]
[null,null,null,null,null,null,null,null,null,{"$f":"'2.6 PC. Cli. Fon.'!B981","v":0}]
[null,null,null,null,null,null,null,null,null,{"$f":"'2.6 PC. Cli. Fon.'!B982","v":0}]
[null,null,null,null,null,null,null,null,null,{"$f":"'2.6 PC. Cli. Fon.'!B983","v":0}]
[null,null,null,null,null,null,null,null,null,{"$f":"'2.6 PC. Cli. Fon.'!B984","v":0}]
[null,null,null,null,null,null,null,null,null,{"$f":"'2.6 PC. Cli. Fon.'!B985","v":0}]
[null,null,null,null,null,null,null,null,null,{"$f":"'2.6 PC. Cli. Fon.'!B986","v":0}]
[null,null,null,null,null,null,null,null,null,{"$f":"'2.6 PC. Cli. Fon.'!B987","v":0}]
[null,null,null,null,null,null,null,null,null,{"$f":"'2.6 PC. Cli. Fon.'!B988","v":0}]
[null,null,null,null,null,null,null,null,null,{"$f":"'2.6 PC. Cli. Fon.'!B989","v":0}]
[null,null,null,null,null,null,null,null,null,{"$f":"'2.6 PC. Cli. Fon.'!B990","v":0}]
[null,null,null,null,null,null,null,null,null,{"$f":"'2.6 PC. Cli. Fon.'!B991","v":0}]
[null,null,null,null,null,null,null,null,null,{"$f":"'2.6 PC. Cli. Fon.'!B992","v":0}]
[null,null,null,null,null,null,null,null,null,{"$f":"'2.6 PC. Cli. Fon.'!B993","v":0}]
[null,null,null,null,null,null,null,null,null,{"$f":"'2.6 PC. Cli. Fon.'!B994","v":0}]
[null,null,null,null,null,null,null,null,null,{"$f":"'2.6 PC. Cli. Fon.'!B995","v":0}]
[null,null,null,null,null,null,null,null,null,{"$f":"'2.6 PC. Cli. Fon.'!B996","v":0}]
[null,null,null,null,null,null,null,null,null,{"$f":"'2.6 PC. Cli. Fon.'!B997","v":0}]
[null,null,null,null,null,null,null,null,null,{"$f":"'2.6 PC. Cli. Fon.'!B998","v":0}]
[null,null,null,null,null,null,null,null,null,{"$f":"'2.6 PC. Cli. Fon.'!B999","v":0}]
[null,null,null,null,null,null,null,null,null,{"$f":"'2.6 PC. Cli. Fon.'!B1000","v":0}]
[null,null,null,null,null,null,null,null,null,{"$f":"'2.6 PC. Cli. Fon.'!B1001","v":0}]
[null,null,null,null,null,null,null,null,null,{"$f":"'2.6 PC. Cli. Fon.'!B1002","v":0}]
[null,null,null,null,null,null,null,null,null,{"$f":"'2.6 PC. Cli. Fon.'!B1003","v":0}]
[null,null,null,null,null,null,null,null,null,{"$f":"'2.6 PC. Cli. Fon.'!B1004","v":0}]
[null,null,null,null,null,null,null,null,null,{"$f":"'2.6 PC. Cli. Fon.'!B1005","v":0}]