{"text_format":"1","workbook":"xlsx","n_sheets":7,"sheets":["Menu Principal","Inventário","Coletores","Impressoras","Planilha2","Inventário Completo","Planilha1"],"not_rendered":{"charts":1,"images":0,"macros":1,"external_links":2,"defined_names":2,"comments":0,"pivot_tables":0},"unopened":[],"bounds":{"document_bytes":16777216,"sheet_cells":100000,"rows_first":2000,"rows_last":500,"rows_between":2000,"halvings":0,"cell_chars":16384,"cell_head_chars":4096},"cells_cut":0,"cells_raw":0,"read":"whole","date_system":"1900"}

{"sheet":"Menu Principal","index":0,"n_rows":1,"n_cols":20,"rows_kept":1,"cut":false,"hidden":false,"merged":[[0,5,0,17]]}
[" ",null,null,null,null,"RELATÓRIO GERENCIAL | CONTRATO",null,null,null,null,null,null,null,null,null,null,null,null,"Ref.:","2023-01-01"]

{"sheet":"Inventário","index":1,"n_rows":1,"n_cols":20,"rows_kept":1,"cut":false,"hidden":false,"merged":[[0,5,0,17]]}
[" ",null,null,null,null,"RELATÓRIO GERENCIAL | CONTRATO ",null,null,null,null,null,null,null,null,null,null,null,null,"Ref.:","2023-01-01"]

{"sheet":"Coletores","index":2,"n_rows":1,"n_cols":20,"rows_kept":1,"cut":false,"hidden":false,"merged":[[0,5,0,17]]}
[" ",null,null,null,null,"RELATÓRIO GERENCIAL | CONTRATO",null,null,null,null,null,null,null,null,null,null,null,null,"Ref.:","2023-01-01"]

{"sheet":"Impressoras","index":3,"n_rows":1,"n_cols":20,"rows_kept":1,"cut":false,"hidden":false,"merged":[[0,5,0,17]]}
[" ",null,null,null,null,"RELATÓRIO GERENCIAL | CONTRATO ",null,null,null,null,null,null,null,null,null,null,null,null,"Ref.:","2023-01-01"]

{"sheet":"Planilha2","index":4,"n_rows":12,"n_cols":1,"rows_kept":12,"cut":false,"hidden":true,"merged":[]}
["2023-01-01"]
["2023-02-01"]
["2023-03-01"]
["2023-04-01"]
["2023-05-01"]
["2023-06-01"]
["2023-07-01"]
["2023-08-01"]
["2023-09-01"]
["2023-10-01"]
["2023-11-01"]
["2023-12-01"]

{"sheet":"Inventário Completo","index":5,"n_rows":715,"n_cols":17,"rows_kept":715,"cut":false,"hidden":true,"merged":[[0,0,5,16]]}
["INVENTÁRIO DE EQUIPAMENTOS CSN 2023."]
[]
[]
[]
[]
[]
[{"$f":"'[1]Inventário Completo'!$A7","v":"Identificador"},{"$f":"'[1]Inventário Completo'!$B7","v":"Numero de serie"},{"$f":"'[1]Inventário Completo'!$C7","v":"Equipamento"},{"$f":"'[1]Inventário Completo'!$D7","v":"Modelo"},{"$f":"'[1]Inventário Completo'!$E7","v":"Fabricante"},{"$f":"'[1]Inventário Completo'!$F7","v":"Razão Social"},{"$f":"'[1]Inventário Completo'!$G7","v":"Site"},{"$f":"'[1]Inventário Completo'!$H7","v":"UF"},{"$f":"'[1]Inventário Completo'!$I7","v":"CNPJ"},{"$f":"'[1]Inventário Completo'!$J7","v":"I.E"},{"$f":"'[1]Inventário Completo'!$K7","v":"Endereço"},{"$f":"'[1]Inventário Completo'!$L7","v":"Analista Responsável"},{"$f":"'[1]Inventário Completo'!$M7","v":"Ramal"},{"$f":"'[1]Inventário Completo'!$N7","v":"Fila"},{"$f":"'[1]Inventário Completo'!$O7","v":"IP"},{"$f":"'[1]Inventário Completo'!$P7","v":"Status"},{"$f":"'[1]Inventário Completo'!$Q7","v":"Observação"}]
[{"$f":"'[2]Inventário Completo'!A8","v":"NA"},{"$f":"'[2]Inventário Completo'!B8","v":13255522200036},{"$f":"'[2]Inventário Completo'!C8","v":"Access Point"},{"$f":"'[2]Inventário Completo'!D8","v":"AP6532"},{"$f":"'[2]Inventário Completo'!E8","v":"Motorola"},{"$f":"'[2]Inventário Completo'!F8","v":"SEPETIBA TECON S/A"},{"$f":"'[2]Inventário Completo'!G8","v":"CSN-SEPETIBA ITAGUAI (TECON)"},{"$f":"'[2]Inventário Completo'!H8","v":"RJ"},{"$f":"'[2]Inventário Completo'!I8","v":"02.394.276/0002-08"},{"$f":"'[2]Inventário Completo'!J8","v":" 86.143.73-9"},{"$f":"'[2]Inventário Completo'!K8","v":"Est Prefeito Wilson Pedro Francisco, S/N, Parte, Ilha Da Madeira, Itaguaí, RJ, CEP 23826-600, Brasil"},{"$f":"'[2]Inventário Completo'!L8","v":"Glauco Viana "},{"$f":"'[2]Inventário Completo'!M8","v":"(21)26889257"},{"$f":"'[2]Inventário Completo'!N8","v":0},{"$f":"'[2]Inventário Completo'!O8","v":0},{"$f":"'[2]Inventário Completo'!P8","v":"Em uso"},{"$f":"'[2]Inventário Completo'!Q8","v":0}]
[{"$f":"'[2]Inventário Completo'!A9","v":"NA"},{"$f":"'[2]Inventário Completo'!B9","v":13255522200082},{"$f":"'[2]Inventário Completo'!C9","v":"Access Point"},{"$f":"'[2]Inventário Completo'!D9","v":"AP6532"},{"$f":"'[2]Inventário Completo'!E9","v":"Motorola"},{"$f":"'[2]Inventário Completo'!F9","v":"SEPETIBA TECON S/A"},{"$f":"'[2]Inventário Completo'!G9","v":"CSN-SEPETIBA ITAGUAI (TECON)"},{"$f":"'[2]Inventário Completo'!H9","v":"RJ"},{"$f":"'[2]Inventário Completo'!I9","v":"02.394.276/0002-08"},{"$f":"'[2]Inventário Completo'!J9","v":" 86.143.73-9"},{"$f":"'[2]Inventário Completo'!K9","v":"Est Prefeito Wilson Pedro Francisco, S/N, Parte, Ilha Da Madeira, Itaguaí, RJ, CEP 23826-600, Brasil"},{"$f":"'[2]Inventário Completo'!L9","v":"Glauco Viana "},{"$f":"'[2]Inventário Completo'!M9","v":"(21)26889257"},{"$f":"'[2]Inventário Completo'!N9","v":0},{"$f":"'[2]Inventário Completo'!O9","v":0},{"$f":"'[2]Inventário Completo'!P9","v":"Em uso"},{"$f":"'[2]Inventário Completo'!Q9","v":0}]
[{"$f":"'[2]Inventário Completo'!A10","v":"NA"},{"$f":"'[2]Inventário Completo'!B10","v":13255522200085},{"$f":"'[2]Inventário Completo'!C10","v":"Access Point"},{"$f":"'[2]Inventário Completo'!D10","v":"AP6532"},{"$f":"'[2]Inventário Completo'!E10","v":"Motorola"},{"$f":"'[2]Inventário Completo'!F10","v":"SEPETIBA TECON S/A"},{"$f":"'[2]Inventário Completo'!G10","v":"CSN-SEPETIBA ITAGUAI (TECON)"},{"$f":"'[2]Inventário Completo'!H10","v":"RJ"},{"$f":"'[2]Inventário Completo'!I10","v":"02.394.276/0002-08"},{"$f":"'[2]Inventário Completo'!J10","v":" 86.143.73-9"},{"$f":"'[2]Inventário Completo'!K10","v":"Est Prefeito Wilson Pedro Francisco, S/N, Parte, Ilha Da Madeira, Itaguaí, RJ, CEP 23826-600, Brasil"},{"$f":"'[2]Inventário Completo'!L10","v":"Glauco Viana "},{"$f":"'[2]Inventário Completo'!M10","v":"(21)26889257"},{"$f":"'[2]Inventário Completo'!N10","v":0},{"$f":"'[2]Inventário Completo'!O10","v":0},{"$f":"'[2]Inventário Completo'!P10","v":"Em uso"},{"$f":"'[2]Inventário Completo'!Q10","v":0}]
[{"$f":"'[2]Inventário Completo'!A11","v":"NA"},{"$f":"'[2]Inventário Completo'!B11","v":13267522200208},{"$f":"'[2]Inventário Completo'!C11","v":"Access Point"},{"$f":"'[2]Inventário Completo'!D11","v":"AP6532"},{"$f":"'[2]Inventário Completo'!E11","v":"Motorola"},{"$f":"'[2]Inventário Completo'!F11","v":"SEPETIBA TECON S/A"},{"$f":"'[2]Inventário Completo'!G11","v":"CSN-SEPETIBA ITAGUAI (TECON)"},{"$f":"'[2]Inventário Completo'!H11","v":"RJ"},{"$f":"'[2]Inventário Completo'!I11","v":"02.394.276/0002-08"},{"$f":"'[2]Inventário Completo'!J11","v":" 86.143.73-9"},{"$f":"'[2]Inventário Completo'!K11","v":"Est Prefeito Wilson Pedro Francisco, S/N, Parte, Ilha Da Madeira, Itaguaí, RJ, CEP 23826-600, Brasil"},{"$f":"'[2]Inventário Completo'!L11","v":"Glauco Viana "},{"$f":"'[2]Inventário Completo'!M11","v":"(21)26889257"},{"$f":"'[2]Inventário Completo'!N11","v":0},{"$f":"'[2]Inventário Completo'!O11","v":0},{"$f":"'[2]Inventário Completo'!P11","v":"Em uso"},{"$f":"'[2]Inventário Completo'!Q11","v":0}]
[{"$f":"'[2]Inventário Completo'!A12","v":"NA"},{"$f":"'[2]Inventário Completo'!B12","v":13267522200210},{"$f":"'[2]Inventário Completo'!C12","v":"Access Point"},{"$f":"'[2]Inventário Completo'!D12","v":"AP6532"},{"$f":"'[2]Inventário Completo'!E12","v":"Motorola"},{"$f":"'[2]Inventário Completo'!F12","v":"SEPETIBA TECON S/A"},{"$f":"'[2]Inventário Completo'!G12","v":"CSN-SEPETIBA ITAGUAI (TECON)"},{"$f":"'[2]Inventário Completo'!H12","v":"RJ"},{"$f":"'[2]Inventário Completo'!I12","v":"02.394.276/0002-08"},{"$f":"'[2]Inventário Completo'!J12","v":" 86.143.73-9"},{"$f":"'[2]Inventário Completo'!K12","v":"Est Prefeito Wilson Pedro Francisco, S/N, Parte, Ilha Da Madeira, Itaguaí, RJ, CEP 23826-600, Brasil"},{"$f":"'[2]Inventário Completo'!L12","v":"Glauco Viana "},{"$f":"'[2]Inventário Completo'!M12","v":"(21)26889257"},{"$f":"'[2]Inventário Completo'!N12","v":0},{"$f":"'[2]Inventário Completo'!O12","v":0},{"$f":"'[2]Inventário Completo'!P12","v":"Em uso"},{"$f":"'[2]Inventário Completo'!Q12","v":0}]
[{"$f":"'[2]Inventário Completo'!A13","v":"NA"},{"$f":"'[2]Inventário Completo'!B13","v":15273522200574},{"$f":"'[2]Inventário Completo'!C13","v":"Access Point"},{"$f":"'[2]Inventário Completo'!D13","v":"AP6532"},{"$f":"'[2]Inventário Completo'!E13","v":"Motorola"},{"$f":"'[2]Inventário Completo'!F13","v":"SEPETIBA TECON S/A"},{"$f":"'[2]Inventário Completo'!G13","v":"CSN-SEPETIBA ITAGUAI (TECON)"},{"$f":"'[2]Inventário Completo'!H13","v":"RJ"},{"$f":"'[2]Inventário Completo'!I13","v":"02.394.276/0002-08"},{"$f":"'[2]Inventário Completo'!J13","v":" 86.143.73-9"},{"$f":"'[2]Inventário Completo'!K13","v":"Est Prefeito Wilson Pedro Francisco, S/N, Parte, Ilha Da Madeira, Itaguaí, RJ, CEP 23826-600, Brasil"},{"$f":"'[2]Inventário Completo'!L13","v":"Glauco Viana "},{"$f":"'[2]Inventário Completo'!M13","v":"(21)26889257"},{"$f":"'[2]Inventário Completo'!N13","v":0},{"$f":"'[2]Inventário Completo'!O13","v":0},{"$f":"'[2]Inventário Completo'!P13","v":"Em uso"},{"$f":"'[2]Inventário Completo'!Q13","v":0}]
[{"$f":"'[2]Inventário Completo'!A14","v":"NA"},{"$f":"'[2]Inventário Completo'!B14","v":15273522200578},{"$f":"'[2]Inventário Completo'!C14","v":"Access Point"},{"$f":"'[2]Inventário Completo'!D14","v":"AP6532"},{"$f":"'[2]Inventário Completo'!E14","v":"Motorola"},{"$f":"'[2]Inventário Completo'!F14","v":"SEPETIBA TECON S/A"},{"$f":"'[2]Inventário Completo'!G14","v":"CSN-SEPETIBA ITAGUAI (TECON)"},{"$f":"'[2]Inventário Completo'!H14","v":"RJ"},{"$f":"'[2]Inventário Completo'!I14","v":"02.394.276/0002-08"},{"$f":"'[2]Inventário Completo'!J14","v":" 86.143.73-9"},{"$f":"'[2]Inventário Completo'!K14","v":"Est Prefeito Wilson Pedro Francisco, S/N, Parte, Ilha Da Madeira, Itaguaí, RJ, CEP 23826-600, Brasil"},{"$f":"'[2]Inventário Completo'!L14","v":"Glauco Viana "},{"$f":"'[2]Inventário Completo'!M14","v":"(21)26889257"},{"$f":"'[2]Inventário Completo'!N14","v":0},{"$f":"'[2]Inventário Completo'!O14","v":0},{"$f":"'[2]Inventário Completo'!P14","v":"Em uso"},{"$f":"'[2]Inventário Completo'!Q14","v":0}]
[{"$f":"'[2]Inventário Completo'!A15","v":"NA"},{"$f":"'[2]Inventário Completo'!B15","v":15273522200584},{"$f":"'[2]Inventário Completo'!C15","v":"Access Point"},{"$f":"'[2]Inventário Completo'!D15","v":"AP6532"},{"$f":"'[2]Inventário Completo'!E15","v":"Motorola"},{"$f":"'[2]Inventário Completo'!F15","v":"SEPETIBA TECON S/A"},{"$f":"'[2]Inventário Completo'!G15","v":"CSN-SEPETIBA ITAGUAI (TECON)"},{"$f":"'[2]Inventário Completo'!H15","v":"RJ"},{"$f":"'[2]Inventário Completo'!I15","v":"02.394.276/0002-08"},{"$f":"'[2]Inventário Completo'!J15","v":" 86.143.73-9"},{"$f":"'[2]Inventário Completo'!K15","v":"Est Prefeito Wilson Pedro Francisco, S/N, Parte, Ilha Da Madeira, Itaguaí, RJ, CEP 23826-600, Brasil"},{"$f":"'[2]Inventário Completo'!L15","v":"Glauco Viana "},{"$f":"'[2]Inventário Completo'!M15","v":"(21)26889257"},{"$f":"'[2]Inventário Completo'!N15","v":0},{"$f":"'[2]Inventário Completo'!O15","v":0},{"$f":"'[2]Inventário Completo'!P15","v":"Em uso"},{"$f":"'[2]Inventário Completo'!Q15","v":0}]
[{"$f":"'[2]Inventário Completo'!A16","v":"NA"},{"$f":"'[2]Inventário Completo'!B16","v":15273522200585},{"$f":"'[2]Inventário Completo'!C16","v":"Access Point"},{"$f":"'[2]Inventário Completo'!D16","v":"AP6532"},{"$f":"'[2]Inventário Completo'!E16","v":"Motorola"},{"$f":"'[2]Inventário Completo'!F16","v":"SEPETIBA TECON S/A"},{"$f":"'[2]Inventário Completo'!G16","v":"CSN-SEPETIBA ITAGUAI (TECON)"},{"$f":"'[2]Inventário Completo'!H16","v":"RJ"},{"$f":"'[2]Inventário Completo'!I16","v":"02.394.276/0002-08"},{"$f":"'[2]Inventário Completo'!J16","v":" 86.143.73-9"},{"$f":"'[2]Inventário Completo'!K16","v":"Est Prefeito Wilson Pedro Francisco, S/N, Parte, Ilha Da Madeira, Itaguaí, RJ, CEP 23826-600, Brasil"},{"$f":"'[2]Inventário Completo'!L16","v":"Glauco Viana "},{"$f":"'[2]Inventário Completo'!M16","v":"(21)26889257"},{"$f":"'[2]Inventário Completo'!N16","v":0},{"$f":"'[2]Inventário Completo'!O16","v":0},{"$f":"'[2]Inventário Completo'!P16","v":"Em uso"},{"$f":"'[2]Inventário Completo'!Q16","v":0}]
[{"$f":"'[2]Inventário Completo'!A17","v":"NA"},{"$f":"'[2]Inventário Completo'!B17","v":15273522200604},{"$f":"'[2]Inventário Completo'!C17","v":"Access Point"},{"$f":"'[2]Inventário Completo'!D17","v":"AP6532"},{"$f":"'[2]Inventário Completo'!E17","v":"Motorola"},{"$f":"'[2]Inventário Completo'!F17","v":"SEPETIBA TECON S/A"},{"$f":"'[2]Inventário Completo'!G17","v":"CSN-SEPETIBA ITAGUAI (TECON)"},{"$f":"'[2]Inventário Completo'!H17","v":"RJ"},{"$f":"'[2]Inventário Completo'!I17","v":"02.394.276/0002-08"},{"$f":"'[2]Inventário Completo'!J17","v":" 86.143.73-9"},{"$f":"'[2]Inventário Completo'!K17","v":"Est Prefeito Wilson Pedro Francisco, S/N, Parte, Ilha Da Madeira, Itaguaí, RJ, CEP 23826-600, Brasil"},{"$f":"'[2]Inventário Completo'!L17","v":"Glauco Viana "},{"$f":"'[2]Inventário Completo'!M17","v":"(21)26889257"},{"$f":"'[2]Inventário Completo'!N17","v":0},{"$f":"'[2]Inventário Completo'!O17","v":0},{"$f":"'[2]Inventário Completo'!P17","v":"Em uso"},{"$f":"'[2]Inventário Completo'!Q17","v":0}]
[{"$f":"'[2]Inventário Completo'!A18","v":"NA"},{"$f":"'[2]Inventário Completo'!B18","v":15273522200605},{"$f":"'[2]Inventário Completo'!C18","v":"Access Point"},{"$f":"'[2]Inventário Completo'!D18","v":"AP6532"},{"$f":"'[2]Inventário Completo'!E18","v":"Motorola"},{"$f":"'[2]Inventário Completo'!F18","v":"SEPETIBA TECON S/A"},{"$f":"'[2]Inventário Completo'!G18","v":"CSN-SEPETIBA ITAGUAI (TECON)"},{"$f":"'[2]Inventário Completo'!H18","v":"RJ"},{"$f":"'[2]Inventário Completo'!I18","v":"02.394.276/0002-08"},{"$f":"'[2]Inventário Completo'!J18","v":" 86.143.73-9"},{"$f":"'[2]Inventário Completo'!K18","v":"Est Prefeito Wilson Pedro Francisco, S/N, Parte, Ilha Da Madeira, Itaguaí, RJ, CEP 23826-600, Brasil"},{"$f":"'[2]Inventário Completo'!L18","v":"Glauco Viana "},{"$f":"'[2]Inventário Completo'!M18","v":"(21)26889257"},{"$f":"'[2]Inventário Completo'!N18","v":0},{"$f":"'[2]Inventário Completo'!O18","v":0},{"$f":"'[2]Inventário Completo'!P18","v":"Em uso"},{"$f":"'[2]Inventário Completo'!Q18","v":0}]
[{"$f":"'[2]Inventário Completo'!A19","v":"NA"},{"$f":"'[2]Inventário Completo'!B19","v":15273522200606},{"$f":"'[2]Inventário Completo'!C19","v":"Access Point"},{"$f":"'[2]Inventário Completo'!D19","v":"AP6532"},{"$f":"'[2]Inventário Completo'!E19","v":"Motorola"},{"$f":"'[2]Inventário Completo'!F19","v":"SEPETIBA TECON S/A"},{"$f":"'[2]Inventário Completo'!G19","v":"CSN-SEPETIBA ITAGUAI (TECON)"},{"$f":"'[2]Inventário Completo'!H19","v":"RJ"},{"$f":"'[2]Inventário Completo'!I19","v":"02.394.276/0002-08"},{"$f":"'[2]Inventário Completo'!J19","v":" 86.143.73-9"},{"$f":"'[2]Inventário Completo'!K19","v":"Est Prefeito Wilson Pedro Francisco, S/N, Parte, Ilha Da Madeira, Itaguaí, RJ, CEP 23826-600, Brasil"},{"$f":"'[2]Inventário Completo'!L19","v":"Glauco Viana "},{"$f":"'[2]Inventário Completo'!M19","v":"(21)26889257"},{"$f":"'[2]Inventário Completo'!N19","v":0},{"$f":"'[2]Inventário Completo'!O19","v":0},{"$f":"'[2]Inventário Completo'!P19","v":"Em uso"},{"$f":"'[2]Inventário Completo'!Q19","v":0}]
[{"$f":"'[2]Inventário Completo'!A20","v":"NA"},{"$f":"'[2]Inventário Completo'!B20","v":15273522200608},{"$f":"'[2]Inventário Completo'!C20","v":"Access Point"},{"$f":"'[2]Inventário Completo'!D20","v":"AP6532"},{"$f":"'[2]Inventário Completo'!E20","v":"Motorola"},{"$f":"'[2]Inventário Completo'!F20","v":"SEPETIBA TECON S/A"},{"$f":"'[2]Inventário Completo'!G20","v":"CSN-SEPETIBA ITAGUAI (TECON)"},{"$f":"'[2]Inventário Completo'!H20","v":"RJ"},{"$f":"'[2]Inventário Completo'!I20","v":"02.394.276/0002-08"},{"$f":"'[2]Inventário Completo'!J20","v":" 86.143.73-9"},{"$f":"'[2]Inventário Completo'!K20","v":"Est Prefeito Wilson Pedro Francisco, S/N, Parte, Ilha Da Madeira, Itaguaí, RJ, CEP 23826-600, Brasil"},{"$f":"'[2]Inventário Completo'!L20","v":"Glauco Viana "},{"$f":"'[2]Inventário Completo'!M20","v":"(21)26889257"},{"$f":"'[2]Inventário Completo'!N20","v":0},{"$f":"'[2]Inventário Completo'!O20","v":0},{"$f":"'[2]Inventário Completo'!P20","v":"Em uso"},{"$f":"'[2]Inventário Completo'!Q20","v":0}]
[{"$f":"'[2]Inventário Completo'!A21","v":"NA"},{"$f":"'[2]Inventário Completo'!B21","v":15273522200611},{"$f":"'[2]Inventário Completo'!C21","v":"Access Point"},{"$f":"'[2]Inventário Completo'!D21","v":"AP6532"},{"$f":"'[2]Inventário Completo'!E21","v":"Motorola"},{"$f":"'[2]Inventário Completo'!F21","v":"SEPETIBA TECON S/A"},{"$f":"'[2]Inventário Completo'!G21","v":"CSN-SEPETIBA ITAGUAI (TECON)"},{"$f":"'[2]Inventário Completo'!H21","v":"RJ"},{"$f":"'[2]Inventário Completo'!I21","v":"02.394.276/0002-08"},{"$f":"'[2]Inventário Completo'!J21","v":" 86.143.73-9"},{"$f":"'[2]Inventário Completo'!K21","v":"Est Prefeito Wilson Pedro Francisco, S/N, Parte, Ilha Da Madeira, Itaguaí, RJ, CEP 23826-600, Brasil"},{"$f":"'[2]Inventário Completo'!L21","v":"Glauco Viana "},{"$f":"'[2]Inventário Completo'!M21","v":"(21)26889257"},{"$f":"'[2]Inventário Completo'!N21","v":0},{"$f":"'[2]Inventário Completo'!O21","v":0},{"$f":"'[2]Inventário Completo'!P21","v":"Em uso"},{"$f":"'[2]Inventário Completo'!Q21","v":0}]
[{"$f":"'[2]Inventário Completo'!A22","v":"NA"},{"$f":"'[2]Inventário Completo'!B22","v":15273522200616},{"$f":"'[2]Inventário Completo'!C22","v":"Access Point"},{"$f":"'[2]Inventário Completo'!D22","v":"AP6532"},{"$f":"'[2]Inventário Completo'!E22","v":"Motorola"},{"$f":"'[2]Inventário Completo'!F22","v":"SEPETIBA TECON S/A"},{"$f":"'[2]Inventário Completo'!G22","v":"CSN-SEPETIBA ITAGUAI (TECON)"},{"$f":"'[2]Inventário Completo'!H22","v":"RJ"},{"$f":"'[2]Inventário Completo'!I22","v":"02.394.276/0002-08"},{"$f":"'[2]Inventário Completo'!J22","v":" 86.143.73-9"},{"$f":"'[2]Inventário Completo'!K22","v":"Est Prefeito Wilson Pedro Francisco, S/N, Parte, Ilha Da Madeira, Itaguaí, RJ, CEP 23826-600, Brasil"},{"$f":"'[2]Inventário Completo'!L22","v":"Glauco Viana "},{"$f":"'[2]Inventário Completo'!M22","v":"(21)26889257"},{"$f":"'[2]Inventário Completo'!N22","v":0},{"$f":"'[2]Inventário Completo'!O22","v":0},{"$f":"'[2]Inventário Completo'!P22","v":"Em uso"},{"$f":"'[2]Inventário Completo'!Q22","v":0}]
[{"$f":"'[2]Inventário Completo'!A23","v":"NA"},{"$f":"'[2]Inventário Completo'!B23","v":15273522200617},{"$f":"'[2]Inventário Completo'!C23","v":"Access Point"},{"$f":"'[2]Inventário Completo'!D23","v":"AP6532"},{"$f":"'[2]Inventário Completo'!E23","v":"Motorola"},{"$f":"'[2]Inventário Completo'!F23","v":"SEPETIBA TECON S/A"},{"$f":"'[2]Inventário Completo'!G23","v":"CSN-SEPETIBA ITAGUAI (TECON)"},{"$f":"'[2]Inventário Completo'!H23","v":"RJ"},{"$f":"'[2]Inventário Completo'!I23","v":"02.394.276/0002-08"},{"$f":"'[2]Inventário Completo'!J23","v":" 86.143.73-9"},{"$f":"'[2]Inventário Completo'!K23","v":"Est Prefeito Wilson Pedro Francisco, S/N, Parte, Ilha Da Madeira, Itaguaí, RJ, CEP 23826-600, Brasil"},{"$f":"'[2]Inventário Completo'!L23","v":"Glauco Viana "},{"$f":"'[2]Inventário Completo'!M23","v":"(21)26889257"},{"$f":"'[2]Inventário Completo'!N23","v":0},{"$f":"'[2]Inventário Completo'!O23","v":0},{"$f":"'[2]Inventário Completo'!P23","v":"Em uso"},{"$f":"'[2]Inventário Completo'!Q23","v":0}]
[{"$f":"'[2]Inventário Completo'!A24","v":"NA"},{"$f":"'[2]Inventário Completo'!B24","v":15273522200621},{"$f":"'[2]Inventário Completo'!C24","v":"Access Point"},{"$f":"'[2]Inventário Completo'!D24","v":"AP6532"},{"$f":"'[2]Inventário Completo'!E24","v":"Motorola"},{"$f":"'[2]Inventário Completo'!F24","v":"SEPETIBA TECON S/A"},{"$f":"'[2]Inventário Completo'!G24","v":"CSN-SEPETIBA ITAGUAI (TECON)"},{"$f":"'[2]Inventário Completo'!H24","v":"RJ"},{"$f":"'[2]Inventário Completo'!I24","v":"02.394.276/0002-08"},{"$f":"'[2]Inventário Completo'!J24","v":" 86.143.73-9"},{"$f":"'[2]Inventário Completo'!K24","v":"Est Prefeito Wilson Pedro Francisco, S/N, Parte, Ilha Da Madeira, Itaguaí, RJ, CEP 23826-600, Brasil"},{"$f":"'[2]Inventário Completo'!L24","v":"Glauco Viana "},{"$f":"'[2]Inventário Completo'!M24","v":"(21)26889257"},{"$f":"'[2]Inventário Completo'!N24","v":0},{"$f":"'[2]Inventário Completo'!O24","v":0},{"$f":"'[2]Inventário Completo'!P24","v":"Em uso"},{"$f":"'[2]Inventário Completo'!Q24","v":0}]
[{"$f":"'[2]Inventário Completo'!A25","v":"NA"},{"$f":"'[2]Inventário Completo'!B25","v":15273522200625},{"$f":"'[2]Inventário Completo'!C25","v":"Access Point"},{"$f":"'[2]Inventário Completo'!D25","v":"AP6532"},{"$f":"'[2]Inventário Completo'!E25","v":"Motorola"},{"$f":"'[2]Inventário Completo'!F25","v":"SEPETIBA TECON S/A"},{"$f":"'[2]Inventário Completo'!G25","v":"CSN-SEPETIBA ITAGUAI (TECON)"},{"$f":"'[2]Inventário Completo'!H25","v":"RJ"},{"$f":"'[2]Inventário Completo'!I25","v":"02.394.276/0002-08"},{"$f":"'[2]Inventário Completo'!J25","v":" 86.143.73-9"},{"$f":"'[2]Inventário Completo'!K25","v":"Est Prefeito Wilson Pedro Francisco, S/N, Parte, Ilha Da Madeira, Itaguaí, RJ, CEP 23826-600, Brasil"},{"$f":"'[2]Inventário Completo'!L25","v":"Glauco Viana "},{"$f":"'[2]Inventário Completo'!M25","v":"(21)26889257"},{"$f":"'[2]Inventário Completo'!N25","v":0},{"$f":"'[2]Inventário Completo'!O25","v":0},{"$f":"'[2]Inventário Completo'!P25","v":"Em uso"},{"$f":"'[2]Inventário Completo'!Q25","v":0}]
[{"$f":"'[2]Inventário Completo'!A26","v":"NA"},{"$f":"'[2]Inventário Completo'!B26","v":15273522200627},{"$f":"'[2]Inventário Completo'!C26","v":"Access Point"},{"$f":"'[2]Inventário Completo'!D26","v":"AP6532"},{"$f":"'[2]Inventário Completo'!E26","v":"Motorola"},{"$f":"'[2]Inventário Completo'!F26","v":"SEPETIBA TECON S/A"},{"$f":"'[2]Inventário Completo'!G26","v":"CSN-SEPETIBA ITAGUAI (TECON)"},{"$f":"'[2]Inventário Completo'!H26","v":"RJ"},{"$f":"'[2]Inventário Completo'!I26","v":"02.394.276/0002-08"},{"$f":"'[2]Inventário Completo'!J26","v":" 86.143.73-9"},{"$f":"'[2]Inventário Completo'!K26","v":"Est Prefeito Wilson Pedro Francisco, S/N, Parte, Ilha Da Madeira, Itaguaí, RJ, CEP 23826-600, Brasil"},{"$f":"'[2]Inventário Completo'!L26","v":"Glauco Viana "},{"$f":"'[2]Inventário Completo'!M26","v":"(21)26889257"},{"$f":"'[2]Inventário Completo'!N26","v":0},{"$f":"'[2]Inventário Completo'!O26","v":0},{"$f":"'[2]Inventário Completo'!P26","v":"Em uso"},{"$f":"'[2]Inventário Completo'!Q26","v":0}]
[{"$f":"'[2]Inventário Completo'!A27","v":"NA"},{"$f":"'[2]Inventário Completo'!B27","v":15273522200637},{"$f":"'[2]Inventário Completo'!C27","v":"Access Point"},{"$f":"'[2]Inventário Completo'!D27","v":"AP6532"},{"$f":"'[2]Inventário Completo'!E27","v":"Motorola"},{"$f":"'[2]Inventário Completo'!F27","v":"SEPETIBA TECON S/A"},{"$f":"'[2]Inventário Completo'!G27","v":"CSN-SEPETIBA ITAGUAI (TECON)"},{"$f":"'[2]Inventário Completo'!H27","v":"RJ"},{"$f":"'[2]Inventário Completo'!I27","v":"02.394.276/0002-08"},{"$f":"'[2]Inventário Completo'!J27","v":" 86.143.73-9"},{"$f":"'[2]Inventário Completo'!K27","v":"Est Prefeito Wilson Pedro Francisco, S/N, Parte, Ilha Da Madeira, Itaguaí, RJ, CEP 23826-600, Brasil"},{"$f":"'[2]Inventário Completo'!L27","v":"Glauco Viana "},{"$f":"'[2]Inventário Completo'!M27","v":"(21)26889257"},{"$f":"'[2]Inventário Completo'!N27","v":0},{"$f":"'[2]Inventário Completo'!O27","v":0},{"$f":"'[2]Inventário Completo'!P27","v":"Em uso"},{"$f":"'[2]Inventário Completo'!Q27","v":0}]
[{"$f":"'[2]Inventário Completo'!A28","v":"NA"},{"$f":"'[2]Inventário Completo'!B28","v":15273522200641},{"$f":"'[2]Inventário Completo'!C28","v":"Access Point"},{"$f":"'[2]Inventário Completo'!D28","v":"AP6532"},{"$f":"'[2]Inventário Completo'!E28","v":"Motorola"},{"$f":"'[2]Inventário Completo'!F28","v":"SEPETIBA TECON S/A"},{"$f":"'[2]Inventário Completo'!G28","v":"CSN-SEPETIBA ITAGUAI (TECON)"},{"$f":"'[2]Inventário Completo'!H28","v":"RJ"},{"$f":"'[2]Inventário Completo'!I28","v":"02.394.276/0002-08"},{"$f":"'[2]Inventário Completo'!J28","v":" 86.143.73-9"},{"$f":"'[2]Inventário Completo'!K28","v":"Est Prefeito Wilson Pedro Francisco, S/N, Parte, Ilha Da Madeira, Itaguaí, RJ, CEP 23826-600, Brasil"},{"$f":"'[2]Inventário Completo'!L28","v":"Glauco Viana "},{"$f":"'[2]Inventário Completo'!M28","v":"(21)26889257"},{"$f":"'[2]Inventário Completo'!N28","v":0},{"$f":"'[2]Inventário Completo'!O28","v":0},{"$f":"'[2]Inventário Completo'!P28","v":"Em uso"},{"$f":"'[2]Inventário Completo'!Q28","v":0}]
[{"$f":"'[2]Inventário Completo'!A29","v":"NA"},{"$f":"'[2]Inventário Completo'!B29","v":15273522200642},{"$f":"'[2]Inventário Completo'!C29","v":"Access Point"},{"$f":"'[2]Inventário Completo'!D29","v":"AP6532"},{"$f":"'[2]Inventário Completo'!E29","v":"Motorola"},{"$f":"'[2]Inventário Completo'!F29","v":"SEPETIBA TECON S/A"},{"$f":"'[2]Inventário Completo'!G29","v":"CSN-SEPETIBA ITAGUAI (TECON)"},{"$f":"'[2]Inventário Completo'!H29","v":"RJ"},{"$f":"'[2]Inventário Completo'!I29","v":"02.394.276/0002-08"},{"$f":"'[2]Inventário Completo'!J29","v":" 86.143.73-9"},{"$f":"'[2]Inventário Completo'!K29","v":"Est Prefeito Wilson Pedro Francisco, S/N, Parte, Ilha Da Madeira, Itaguaí, RJ, CEP 23826-600, Brasil"},{"$f":"'[2]Inventário Completo'!L29","v":"Glauco Viana "},{"$f":"'[2]Inventário Completo'!M29","v":"(21)26889257"},{"$f":"'[2]Inventário Completo'!N29","v":0},{"$f":"'[2]Inventário Completo'!O29","v":0},{"$f":"'[2]Inventário Completo'!P29","v":"Em uso"},{"$f":"'[2]Inventário Completo'!Q29","v":0}]
[{"$f":"'[2]Inventário Completo'!A30","v":"NA"},{"$f":"'[2]Inventário Completo'!B30","v":15273522200643},{"$f":"'[2]Inventário Completo'!C30","v":"Access Point"},{"$f":"'[2]Inventário Completo'!D30","v":"AP6532"},{"$f":"'[2]Inventário Completo'!E30","v":"Motorola"},{"$f":"'[2]Inventário Completo'!F30","v":"SEPETIBA TECON S/A"},{"$f":"'[2]Inventário Completo'!G30","v":"CSN-SEPETIBA ITAGUAI (TECON)"},{"$f":"'[2]Inventário Completo'!H30","v":"RJ"},{"$f":"'[2]Inventário Completo'!I30","v":"02.394.276/0002-08"},{"$f":"'[2]Inventário Completo'!J30","v":" 86.143.73-9"},{"$f":"'[2]Inventário Completo'!K30","v":"Est Prefeito Wilson Pedro Francisco, S/N, Parte, Ilha Da Madeira, Itaguaí, RJ, CEP 23826-600, Brasil"},{"$f":"'[2]Inventário Completo'!L30","v":"Glauco Viana "},{"$f":"'[2]Inventário Completo'!M30","v":"(21)26889257"},{"$f":"'[2]Inventário Completo'!N30","v":0},{"$f":"'[2]Inventário Completo'!O30","v":0},{"$f":"'[2]Inventário Completo'!P30","v":"Em uso"},{"$f":"'[2]Inventário Completo'!Q30","v":0}]
[{"$f":"'[2]Inventário Completo'!A31","v":"NA"},{"$f":"'[2]Inventário Completo'!B31","v":15273522200648},{"$f":"'[2]Inventário Completo'!C31","v":"Access Point"},{"$f":"'[2]Inventário Completo'!D31","v":"AP6532"},{"$f":"'[2]Inventário Completo'!E31","v":"Motorola"},{"$f":"'[2]Inventário Completo'!F31","v":"SEPETIBA TECON S/A"},{"$f":"'[2]Inventário Completo'!G31","v":"CSN-SEPETIBA ITAGUAI (TECON)"},{"$f":"'[2]Inventário Completo'!H31","v":"RJ"},{"$f":"'[2]Inventário Completo'!I31","v":"02.394.276/0002-08"},{"$f":"'[2]Inventário Completo'!J31","v":" 86.143.73-9"},{"$f":"'[2]Inventário Completo'!K31","v":"Est Prefeito Wilson Pedro Francisco, S/N, Parte, Ilha Da Madeira, Itaguaí, RJ, CEP 23826-600, Brasil"},{"$f":"'[2]Inventário Completo'!L31","v":"Glauco Viana "},{"$f":"'[2]Inventário Completo'!M31","v":"(21)26889257"},{"$f":"'[2]Inventário Completo'!N31","v":0},{"$f":"'[2]Inventário Completo'!O31","v":0},{"$f":"'[2]Inventário Completo'!P31","v":"Em uso"},{"$f":"'[2]Inventário Completo'!Q31","v":0}]
[{"$f":"'[2]Inventário Completo'!A32","v":"NA"},{"$f":"'[2]Inventário Completo'!B32","v":15273522200652},{"$f":"'[2]Inventário Completo'!C32","v":"Access Point"},{"$f":"'[2]Inventário Completo'!D32","v":"AP6532"},{"$f":"'[2]Inventário Completo'!E32","v":"Motorola"},{"$f":"'[2]Inventário Completo'!F32","v":"SEPETIBA TECON S/A"},{"$f":"'[2]Inventário Completo'!G32","v":"CSN-SEPETIBA ITAGUAI (TECON)"},{"$f":"'[2]Inventário Completo'!H32","v":"RJ"},{"$f":"'[2]Inventário Completo'!I32","v":"02.394.276/0002-08"},{"$f":"'[2]Inventário Completo'!J32","v":" 86.143.73-9"},{"$f":"'[2]Inventário Completo'!K32","v":"Est Prefeito Wilson Pedro Francisco, S/N, Parte, Ilha Da Madeira, Itaguaí, RJ, CEP 23826-600, Brasil"},{"$f":"'[2]Inventário Completo'!L32","v":"Glauco Viana "},{"$f":"'[2]Inventário Completo'!M32","v":"(21)26889257"},{"$f":"'[2]Inventário Completo'!N32","v":0},{"$f":"'[2]Inventário Completo'!O32","v":0},{"$f":"'[2]Inventário Completo'!P32","v":"Em uso"},{"$f":"'[2]Inventário Completo'!Q32","v":0}]
[{"$f":"'[2]Inventário Completo'!A33","v":"NA"},{"$f":"'[2]Inventário Completo'!B33","v":15273522200655},{"$f":"'[2]Inventário Completo'!C33","v":"Access Point"},{"$f":"'[2]Inventário Completo'!D33","v":"AP6532"},{"$f":"'[2]Inventário Completo'!E33","v":"Motorola"},{"$f":"'[2]Inventário Completo'!F33","v":"SEPETIBA TECON S/A"},{"$f":"'[2]Inventário Completo'!G33","v":"CSN-SEPETIBA ITAGUAI (TECON)"},{"$f":"'[2]Inventário Completo'!H33","v":"RJ"},{"$f":"'[2]Inventário Completo'!I33","v":"02.394.276/0002-08"},{"$f":"'[2]Inventário Completo'!J33","v":" 86.143.73-9"},{"$f":"'[2]Inventário Completo'!K33","v":"Est Prefeito Wilson Pedro Francisco, S/N, Parte, Ilha Da Madeira, Itaguaí, RJ, CEP 23826-600, Brasil"},{"$f":"'[2]Inventário Completo'!L33","v":"Glauco Viana "},{"$f":"'[2]Inventário Completo'!M33","v":"(21)26889257"},{"$f":"'[2]Inventário Completo'!N33","v":0},{"$f":"'[2]Inventário Completo'!O33","v":0},{"$f":"'[2]Inventário Completo'!P33","v":"Em uso"},{"$f":"'[2]Inventário Completo'!Q33","v":0}]
[{"$f":"'[2]Inventário Completo'!A34","v":"NA"},{"$f":"'[2]Inventário Completo'!B34","v":15273522200659},{"$f":"'[2]Inventário Completo'!C34","v":"Access Point"},{"$f":"'[2]Inventário Completo'!D34","v":"AP6532"},{"$f":"'[2]Inventário Completo'!E34","v":"Motorola"},{"$f":"'[2]Inventário Completo'!F34","v":"SEPETIBA TECON S/A"},{"$f":"'[2]Inventário Completo'!G34","v":"CSN-SEPETIBA ITAGUAI (TECON)"},{"$f":"'[2]Inventário Completo'!H34","v":"RJ"},{"$f":"'[2]Inventário Completo'!I34","v":"02.394.276/0002-08"},{"$f":"'[2]Inventário Completo'!J34","v":" 86.143.73-9"},{"$f":"'[2]Inventário Completo'!K34","v":"Est Prefeito Wilson Pedro Francisco, S/N, Parte, Ilha Da Madeira, Itaguaí, RJ, CEP 23826-600, Brasil"},{"$f":"'[2]Inventário Completo'!L34","v":"Glauco Viana "},{"$f":"'[2]Inventário Completo'!M34","v":"(21)26889257"},{"$f":"'[2]Inventário Completo'!N34","v":0},{"$f":"'[2]Inventário Completo'!O34","v":0},{"$f":"'[2]Inventário Completo'!P34","v":"Em uso"},{"$f":"'[2]Inventário Completo'!Q34","v":0}]
[{"$f":"'[2]Inventário Completo'!A35","v":"NA"},{"$f":"'[2]Inventário Completo'!B35","v":15273522200661},{"$f":"'[2]Inventário Completo'!C35","v":"Access Point"},{"$f":"'[2]Inventário Completo'!D35","v":"AP6532"},{"$f":"'[2]Inventário Completo'!E35","v":"Motorola"},{"$f":"'[2]Inventário Completo'!F35","v":"SEPETIBA TECON S/A"},{"$f":"'[2]Inventário Completo'!G35","v":"CSN-SEPETIBA ITAGUAI (TECON)"},{"$f":"'[2]Inventário Completo'!H35","v":"RJ"},{"$f":"'[2]Inventário Completo'!I35","v":"02.394.276/0002-08"},{"$f":"'[2]Inventário Completo'!J35","v":" 86.143.73-9"},{"$f":"'[2]Inventário Completo'!K35","v":"Est Prefeito Wilson Pedro Francisco, S/N, Parte, Ilha Da Madeira, Itaguaí, RJ, CEP 23826-600, Brasil"},{"$f":"'[2]Inventário Completo'!L35","v":"Glauco Viana "},{"$f":"'[2]Inventário Completo'!M35","v":"(21)26889257"},{"$f":"'[2]Inventário Completo'!N35","v":0},{"$f":"'[2]Inventário Completo'!O35","v":0},{"$f":"'[2]Inventário Completo'!P35","v":"Em uso"},{"$f":"'[2]Inventário Completo'!Q35","v":0}]
[{"$f":"'[2]Inventário Completo'!A36","v":"NA"},{"$f":"'[2]Inventário Completo'!B36","v":15273522200663},{"$f":"'[2]Inventário Completo'!C36","v":"Access Point"},{"$f":"'[2]Inventário Completo'!D36","v":"AP6532"},{"$f":"'[2]Inventário Completo'!E36","v":"Motorola"},{"$f":"'[2]Inventário Completo'!F36","v":"SEPETIBA TECON S/A"},{"$f":"'[2]Inventário Completo'!G36","v":"CSN-SEPETIBA ITAGUAI (TECON)"},{"$f":"'[2]Inventário Completo'!H36","v":"RJ"},{"$f":"'[2]Inventário Completo'!I36","v":"02.394.276/0002-08"},{"$f":"'[2]Inventário Completo'!J36","v":" 86.143.73-9"},{"$f":"'[2]Inventário Completo'!K36","v":"Est Prefeito Wilson Pedro Francisco, S/N, Parte, Ilha Da Madeira, Itaguaí, RJ, CEP 23826-600, Brasil"},{"$f":"'[2]Inventário Completo'!L36","v":"Glauco Viana "},{"$f":"'[2]Inventário Completo'!M36","v":"(21)26889257"},{"$f":"'[2]Inventário Completo'!N36","v":0},{"$f":"'[2]Inventário Completo'!O36","v":0},{"$f":"'[2]Inventário Completo'!P36","v":"Em uso"},{"$f":"'[2]Inventário Completo'!Q36","v":0}]
[{"$f":"'[2]Inventário Completo'!A37","v":"NA"},{"$f":"'[2]Inventário Completo'!B37","v":15273522200666},{"$f":"'[2]Inventário Completo'!C37","v":"Access Point"},{"$f":"'[2]Inventário Completo'!D37","v":"AP6532"},{"$f":"'[2]Inventário Completo'!E37","v":"Motorola"},{"$f":"'[2]Inventário Completo'!F37","v":"SEPETIBA TECON S/A"},{"$f":"'[2]Inventário Completo'!G37","v":"CSN-SEPETIBA ITAGUAI (TECON)"},{"$f":"'[2]Inventário Completo'!H37","v":"RJ"},{"$f":"'[2]Inventário Completo'!I37","v":"02.394.276/0002-08"},{"$f":"'[2]Inventário Completo'!J37","v":" 86.143.73-9"},{"$f":"'[2]Inventário Completo'!K37","v":"Est Prefeito Wilson Pedro Francisco, S/N, Parte, Ilha Da Madeira, Itaguaí, RJ, CEP 23826-600, Brasil"},{"$f":"'[2]Inventário Completo'!L37","v":"Glauco Viana "},{"$f":"'[2]Inventário Completo'!M37","v":"(21)26889257"},{"$f":"'[2]Inventário Completo'!N37","v":0},{"$f":"'[2]Inventário Completo'!O37","v":0},{"$f":"'[2]Inventário Completo'!P37","v":"Em uso"},{"$f":"'[2]Inventário Completo'!Q37","v":0}]
[{"$f":"'[2]Inventário Completo'!A38","v":"NA"},{"$f":"'[2]Inventário Completo'!B38","v":15273522200667},{"$f":"'[2]Inventário Completo'!C38","v":"Access Point"},{"$f":"'[2]Inventário Completo'!D38","v":"AP6532"},{"$f":"'[2]Inventário Completo'!E38","v":"Motorola"},{"$f":"'[2]Inventário Completo'!F38","v":"SEPETIBA TECON S/A"},{"$f":"'[2]Inventário Completo'!G38","v":"CSN-SEPETIBA ITAGUAI (TECON)"},{"$f":"'[2]Inventário Completo'!H38","v":"RJ"},{"$f":"'[2]Inventário Completo'!I38","v":"02.394.276/0002-08"},{"$f":"'[2]Inventário Completo'!J38","v":" 86.143.73-9"},{"$f":"'[2]Inventário Completo'!K38","v":"Est Prefeito Wilson Pedro Francisco, S/N, Parte, Ilha Da Madeira, Itaguaí, RJ, CEP 23826-600, Brasil"},{"$f":"'[2]Inventário Completo'!L38","v":"Glauco Viana "},{"$f":"'[2]Inventário Completo'!M38","v":"(21)26889257"},{"$f":"'[2]Inventário Completo'!N38","v":0},{"$f":"'[2]Inventário Completo'!O38","v":0},{"$f":"'[2]Inventário Completo'!P38","v":"Em uso"},{"$f":"'[2]Inventário Completo'!Q38","v":0}]
[{"$f":"'[2]Inventário Completo'!A39","v":"NA"},{"$f":"'[2]Inventário Completo'!B39","v":15273522200669},{"$f":"'[2]Inventário Completo'!C39","v":"Access Point"},{"$f":"'[2]Inventário Completo'!D39","v":"AP6532"},{"$f":"'[2]Inventário Completo'!E39","v":"Motorola"},{"$f":"'[2]Inventário Completo'!F39","v":"SEPETIBA TECON S/A"},{"$f":"'[2]Inventário Completo'!G39","v":"CSN-SEPETIBA ITAGUAI (TECON)"},{"$f":"'[2]Inventário Completo'!H39","v":"RJ"},{"$f":"'[2]Inventário Completo'!I39","v":"02.394.276/0002-08"},{"$f":"'[2]Inventário Completo'!J39","v":" 86.143.73-9"},{"$f":"'[2]Inventário Completo'!K39","v":"Est Prefeito Wilson Pedro Francisco, S/N, Parte, Ilha Da Madeira, Itaguaí, RJ, CEP 23826-600, Brasil"},{"$f":"'[2]Inventário Completo'!L39","v":"Glauco Viana "},{"$f":"'[2]Inventário Completo'!M39","v":"(21)26889257"},{"$f":"'[2]Inventário Completo'!N39","v":0},{"$f":"'[2]Inventário Completo'!O39","v":0},{"$f":"'[2]Inventário Completo'!P39","v":"Em uso"},{"$f":"'[2]Inventário Completo'!Q39","v":0}]
[{"$f":"'[2]Inventário Completo'!A40","v":"NA"},{"$f":"'[2]Inventário Completo'!B40","v":15273522200675},{"$f":"'[2]Inventário Completo'!C40","v":"Access Point"},{"$f":"'[2]Inventário Completo'!D40","v":"AP6532"},{"$f":"'[2]Inventário Completo'!E40","v":"Motorola"},{"$f":"'[2]Inventário Completo'!F40","v":"SEPETIBA TECON S/A"},{"$f":"'[2]Inventário Completo'!G40","v":"CSN-SEPETIBA ITAGUAI (TECON)"},{"$f":"'[2]Inventário Completo'!H40","v":"RJ"},{"$f":"'[2]Inventário Completo'!I40","v":"02.394.276/0002-08"},{"$f":"'[2]Inventário Completo'!J40","v":" 86.143.73-9"},{"$f":"'[2]Inventário Completo'!K40","v":"Est Prefeito Wilson Pedro Francisco, S/N, Parte, Ilha Da Madeira, Itaguaí, RJ, CEP 23826-600, Brasil"},{"$f":"'[2]Inventário Completo'!L40","v":"Glauco Viana "},{"$f":"'[2]Inventário Completo'!M40","v":"(21)26889257"},{"$f":"'[2]Inventário Completo'!N40","v":0},{"$f":"'[2]Inventário Completo'!O40","v":0},{"$f":"'[2]Inventário Completo'!P40","v":"Em uso"},{"$f":"'[2]Inventário Completo'!Q40","v":0}]
[{"$f":"'[2]Inventário Completo'!A41","v":"NA"},{"$f":"'[2]Inventário Completo'!B41","v":15273522200680},{"$f":"'[2]Inventário Completo'!C41","v":"Access Point"},{"$f":"'[2]Inventário Completo'!D41","v":"AP6532"},{"$f":"'[2]Inventário Completo'!E41","v":"Motorola"},{"$f":"'[2]Inventário Completo'!F41","v":"SEPETIBA TECON S/A"},{"$f":"'[2]Inventário Completo'!G41","v":"CSN-SEPETIBA ITAGUAI (TECON)"},{"$f":"'[2]Inventário Completo'!H41","v":"RJ"},{"$f":"'[2]Inventário Completo'!I41","v":"02.394.276/0002-08"},{"$f":"'[2]Inventário Completo'!J41","v":" 86.143.73-9"},{"$f":"'[2]Inventário Completo'!K41","v":"Est Prefeito Wilson Pedro Francisco, S/N, Parte, Ilha Da Madeira, Itaguaí, RJ, CEP 23826-600, Brasil"},{"$f":"'[2]Inventário Completo'!L41","v":"Glauco Viana "},{"$f":"'[2]Inventário Completo'!M41","v":"(21)26889257"},{"$f":"'[2]Inventário Completo'!N41","v":0},{"$f":"'[2]Inventário Completo'!O41","v":0},{"$f":"'[2]Inventário Completo'!P41","v":"Em uso"},{"$f":"'[2]Inventário Completo'!Q41","v":0}]
[{"$f":"'[2]Inventário Completo'!A42","v":"NA"},{"$f":"'[2]Inventário Completo'!B42","v":15273522200683},{"$f":"'[2]Inventário Completo'!C42","v":"Access Point"},{"$f":"'[2]Inventário Completo'!D42","v":"AP6532"},{"$f":"'[2]Inventário Completo'!E42","v":"Motorola"},{"$f":"'[2]Inventário Completo'!F42","v":"SEPETIBA TECON S/A"},{"$f":"'[2]Inventário Completo'!G42","v":"CSN-SEPETIBA ITAGUAI (TECON)"},{"$f":"'[2]Inventário Completo'!H42","v":"RJ"},{"$f":"'[2]Inventário Completo'!I42","v":"02.394.276/0002-08"},{"$f":"'[2]Inventário Completo'!J42","v":" 86.143.73-9"},{"$f":"'[2]Inventário Completo'!K42","v":"Est Prefeito Wilson Pedro Francisco, S/N, Parte, Ilha Da Madeira, Itaguaí, RJ, CEP 23826-600, Brasil"},{"$f":"'[2]Inventário Completo'!L42","v":"Glauco Viana "},{"$f":"'[2]Inventário Completo'!M42","v":"(21)26889257"},{"$f":"'[2]Inventário Completo'!N42","v":0},{"$f":"'[2]Inventário Completo'!O42","v":0},{"$f":"'[2]Inventário Completo'!P42","v":"Em uso"},{"$f":"'[2]Inventário Completo'!Q42","v":0}]
[{"$f":"'[2]Inventário Completo'!A43","v":"NA"},{"$f":"'[2]Inventário Completo'!B43","v":15273522200687},{"$f":"'[2]Inventário Completo'!C43","v":"Access Point"},{"$f":"'[2]Inventário Completo'!D43","v":"AP6532"},{"$f":"'[2]Inventário Completo'!E43","v":"Motorola"},{"$f":"'[2]Inventário Completo'!F43","v":"SEPETIBA TECON S/A"},{"$f":"'[2]Inventário Completo'!G43","v":"CSN-SEPETIBA ITAGUAI (TECON)"},{"$f":"'[2]Inventário Completo'!H43","v":"RJ"},{"$f":"'[2]Inventário Completo'!I43","v":"02.394.276/0002-08"},{"$f":"'[2]Inventário Completo'!J43","v":" 86.143.73-9"},{"$f":"'[2]Inventário Completo'!K43","v":"Est Prefeito Wilson Pedro Francisco, S/N, Parte, Ilha Da Madeira, Itaguaí, RJ, CEP 23826-600, Brasil"},{"$f":"'[2]Inventário Completo'!L43","v":"Glauco Viana "},{"$f":"'[2]Inventário Completo'!M43","v":"(21)26889257"},{"$f":"'[2]Inventário Completo'!N43","v":0},{"$f":"'[2]Inventário Completo'!O43","v":0},{"$f":"'[2]Inventário Completo'!P43","v":"Em uso"},{"$f":"'[2]Inventário Completo'!Q43","v":0}]
[{"$f":"'[2]Inventário Completo'!A44","v":"NA"},{"$f":"'[2]Inventário Completo'!B44","v":15273522200688},{"$f":"'[2]Inventário Completo'!C44","v":"Access Point"},{"$f":"'[2]Inventário Completo'!D44","v":"AP6532"},{"$f":"'[2]Inventário Completo'!E44","v":"Motorola"},{"$f":"'[2]Inventário Completo'!F44","v":"SEPETIBA TECON S/A"},{"$f":"'[2]Inventário Completo'!G44","v":"CSN-SEPETIBA ITAGUAI (TECON)"},{"$f":"'[2]Inventário Completo'!H44","v":"RJ"},{"$f":"'[2]Inventário Completo'!I44","v":"02.394.276/0002-08"},{"$f":"'[2]Inventário Completo'!J44","v":" 86.143.73-9"},{"$f":"'[2]Inventário Completo'!K44","v":"Est Prefeito Wilson Pedro Francisco, S/N, Parte, Ilha Da Madeira, Itaguaí, RJ, CEP 23826-600, Brasil"},{"$f":"'[2]Inventário Completo'!L44","v":"Glauco Viana "},{"$f":"'[2]Inventário Completo'!M44","v":"(21)26889257"},{"$f":"'[2]Inventário Completo'!N44","v":0},{"$f":"'[2]Inventário Completo'!O44","v":0},{"$f":"'[2]Inventário Completo'!P44","v":"Em uso"},{"$f":"'[2]Inventário Completo'!Q44","v":0}]
[{"$f":"'[2]Inventário Completo'!A45","v":"NA"},{"$f":"'[2]Inventário Completo'!B45","v":15273522200695},{"$f":"'[2]Inventário Completo'!C45","v":"Access Point"},{"$f":"'[2]Inventário Completo'!D45","v":"AP6532"},{"$f":"'[2]Inventário Completo'!E45","v":"Motorola"},{"$f":"'[2]Inventário Completo'!F45","v":"SEPETIBA TECON S/A"},{"$f":"'[2]Inventário Completo'!G45","v":"CSN-SEPETIBA ITAGUAI (TECON)"},{"$f":"'[2]Inventário Completo'!H45","v":"RJ"},{"$f":"'[2]Inventário Completo'!I45","v":"02.394.276/0002-08"},{"$f":"'[2]Inventário Completo'!J45","v":" 86.143.73-9"},{"$f":"'[2]Inventário Completo'!K45","v":"Est Prefeito Wilson Pedro Francisco, S/N, Parte, Ilha Da Madeira, Itaguaí, RJ, CEP 23826-600, Brasil"},{"$f":"'[2]Inventário Completo'!L45","v":"Glauco Viana "},{"$f":"'[2]Inventário Completo'!M45","v":"(21)26889257"},{"$f":"'[2]Inventário Completo'!N45","v":0},{"$f":"'[2]Inventário Completo'!O45","v":0},{"$f":"'[2]Inventário Completo'!P45","v":"Em uso"},{"$f":"'[2]Inventário Completo'!Q45","v":0}]
[{"$f":"'[2]Inventário Completo'!A46","v":"NA"},{"$f":"'[2]Inventário Completo'!B46","v":15273522200696},{"$f":"'[2]Inventário Completo'!C46","v":"Access Point"},{"$f":"'[2]Inventário Completo'!D46","v":"AP6532"},{"$f":"'[2]Inventário Completo'!E46","v":"Motorola"},{"$f":"'[2]Inventário Completo'!F46","v":"SEPETIBA TECON S/A"},{"$f":"'[2]Inventário Completo'!G46","v":"CSN-SEPETIBA ITAGUAI (TECON)"},{"$f":"'[2]Inventário Completo'!H46","v":"RJ"},{"$f":"'[2]Inventário Completo'!I46","v":"02.394.276/0002-08"},{"$f":"'[2]Inventário Completo'!J46","v":" 86.143.73-9"},{"$f":"'[2]Inventário Completo'!K46","v":"Est Prefeito Wilson Pedro Francisco, S/N, Parte, Ilha Da Madeira, Itaguaí, RJ, CEP 23826-600, Brasil"},{"$f":"'[2]Inventário Completo'!L46","v":"Glauco Viana "},{"$f":"'[2]Inventário Completo'!M46","v":"(21)26889257"},{"$f":"'[2]Inventário Completo'!N46","v":0},{"$f":"'[2]Inventário Completo'!O46","v":0},{"$f":"'[2]Inventário Completo'!P46","v":"Em uso"},{"$f":"'[2]Inventário Completo'!Q46","v":0}]
[{"$f":"'[2]Inventário Completo'!A47","v":"NA"},{"$f":"'[2]Inventário Completo'!B47","v":15273522200697},{"$f":"'[2]Inventário Completo'!C47","v":"Access Point"},{"$f":"'[2]Inventário Completo'!D47","v":"AP6532"},{"$f":"'[2]Inventário Completo'!E47","v":"Motorola"},{"$f":"'[2]Inventário Completo'!F47","v":"SEPETIBA TECON S/A"},{"$f":"'[2]Inventário Completo'!G47","v":"CSN-SEPETIBA ITAGUAI (TECON)"},{"$f":"'[2]Inventário Completo'!H47","v":"RJ"},{"$f":"'[2]Inventário Completo'!I47","v":"02.394.276/0002-08"},{"$f":"'[2]Inventário Completo'!J47","v":" 86.143.73-9"},{"$f":"'[2]Inventário Completo'!K47","v":"Est Prefeito Wilson Pedro Francisco, S/N, Parte, Ilha Da Madeira, Itaguaí, RJ, CEP 23826-600, Brasil"},{"$f":"'[2]Inventário Completo'!L47","v":"Glauco Viana "},{"$f":"'[2]Inventário Completo'!M47","v":"(21)26889257"},{"$f":"'[2]Inventário Completo'!N47","v":0},{"$f":"'[2]Inventário Completo'!O47","v":0},{"$f":"'[2]Inventário Completo'!P47","v":"Em uso"},{"$f":"'[2]Inventário Completo'!Q47","v":0}]
[{"$f":"'[2]Inventário Completo'!A48","v":"NA"},{"$f":"'[2]Inventário Completo'!B48","v":15273522200701},{"$f":"'[2]Inventário Completo'!C48","v":"Access Point"},{"$f":"'[2]Inventário Completo'!D48","v":"AP6532"},{"$f":"'[2]Inventário Completo'!E48","v":"Motorola"},{"$f":"'[2]Inventário Completo'!F48","v":"SEPETIBA TECON S/A"},{"$f":"'[2]Inventário Completo'!G48","v":"CSN-SEPETIBA ITAGUAI (TECON)"},{"$f":"'[2]Inventário Completo'!H48","v":"RJ"},{"$f":"'[2]Inventário Completo'!I48","v":"02.394.276/0002-08"},{"$f":"'[2]Inventário Completo'!J48","v":" 86.143.73-9"},{"$f":"'[2]Inventário Completo'!K48","v":"Est Prefeito Wilson Pedro Francisco, S/N, Parte, Ilha Da Madeira, Itaguaí, RJ, CEP 23826-600, Brasil"},{"$f":"'[2]Inventário Completo'!L48","v":"Glauco Viana "},{"$f":"'[2]Inventário Completo'!M48","v":"(21)26889257"},{"$f":"'[2]Inventário Completo'!N48","v":0},{"$f":"'[2]Inventário Completo'!O48","v":0},{"$f":"'[2]Inventário Completo'!P48","v":"Em uso"},{"$f":"'[2]Inventário Completo'!Q48","v":0}]
[{"$f":"'[2]Inventário Completo'!A49","v":"NA"},{"$f":"'[2]Inventário Completo'!B49","v":15273522200705},{"$f":"'[2]Inventário Completo'!C49","v":"Access Point"},{"$f":"'[2]Inventário Completo'!D49","v":"AP6532"},{"$f":"'[2]Inventário Completo'!E49","v":"Motorola"},{"$f":"'[2]Inventário Completo'!F49","v":"SEPETIBA TECON S/A"},{"$f":"'[2]Inventário Completo'!G49","v":"CSN-SEPETIBA ITAGUAI (TECON)"},{"$f":"'[2]Inventário Completo'!H49","v":"RJ"},{"$f":"'[2]Inventário Completo'!I49","v":"02.394.276/0002-08"},{"$f":"'[2]Inventário Completo'!J49","v":" 86.143.73-9"},{"$f":"'[2]Inventário Completo'!K49","v":"Est Prefeito Wilson Pedro Francisco, S/N, Parte, Ilha Da Madeira, Itaguaí, RJ, CEP 23826-600, Brasil"},{"$f":"'[2]Inventário Completo'!L49","v":"Glauco Viana "},{"$f":"'[2]Inventário Completo'!M49","v":"(21)26889257"},{"$f":"'[2]Inventário Completo'!N49","v":0},{"$f":"'[2]Inventário Completo'!O49","v":0},{"$f":"'[2]Inventário Completo'!P49","v":"Em uso"},{"$f":"'[2]Inventário Completo'!Q49","v":0}]
[{"$f":"'[2]Inventário Completo'!A50","v":"NA"},{"$f":"'[2]Inventário Completo'!B50","v":15273522200707},{"$f":"'[2]Inventário Completo'!C50","v":"Access Point"},{"$f":"'[2]Inventário Completo'!D50","v":"AP6532"},{"$f":"'[2]Inventário Completo'!E50","v":"Motorola"},{"$f":"'[2]Inventário Completo'!F50","v":"SEPETIBA TECON S/A"},{"$f":"'[2]Inventário Completo'!G50","v":"CSN-SEPETIBA ITAGUAI (TECON)"},{"$f":"'[2]Inventário Completo'!H50","v":"RJ"},{"$f":"'[2]Inventário Completo'!I50","v":"02.394.276/0002-08"},{"$f":"'[2]Inventário Completo'!J50","v":" 86.143.73-9"},{"$f":"'[2]Inventário Completo'!K50","v":"Est Prefeito Wilson Pedro Francisco, S/N, Parte, Ilha Da Madeira, Itaguaí, RJ, CEP 23826-600, Brasil"},{"$f":"'[2]Inventário Completo'!L50","v":"Glauco Viana "},{"$f":"'[2]Inventário Completo'!M50","v":"(21)26889257"},{"$f":"'[2]Inventário Completo'!N50","v":0},{"$f":"'[2]Inventário Completo'!O50","v":0},{"$f":"'[2]Inventário Completo'!P50","v":"Em uso"},{"$f":"'[2]Inventário Completo'!Q50","v":0}]
[{"$f":"'[2]Inventário Completo'!A51","v":"NA"},{"$f":"'[2]Inventário Completo'!B51","v":15273522200712},{"$f":"'[2]Inventário Completo'!C51","v":"Access Point"},{"$f":"'[2]Inventário Completo'!D51","v":"AP6532"},{"$f":"'[2]Inventário Completo'!E51","v":"Motorola"},{"$f":"'[2]Inventário Completo'!F51","v":"SEPETIBA TECON S/A"},{"$f":"'[2]Inventário Completo'!G51","v":"CSN-SEPETIBA ITAGUAI (TECON)"},{"$f":"'[2]Inventário Completo'!H51","v":"RJ"},{"$f":"'[2]Inventário Completo'!I51","v":"02.394.276/0002-08"},{"$f":"'[2]Inventário Completo'!J51","v":" 86.143.73-9"},{"$f":"'[2]Inventário Completo'!K51","v":"Est Prefeito Wilson Pedro Francisco, S/N, Parte, Ilha Da Madeira, Itaguaí, RJ, CEP 23826-600, Brasil"},{"$f":"'[2]Inventário Completo'!L51","v":"Glauco Viana "},{"$f":"'[2]Inventário Completo'!M51","v":"(21)26889257"},{"$f":"'[2]Inventário Completo'!N51","v":0},{"$f":"'[2]Inventário Completo'!O51","v":0},{"$f":"'[2]Inventário Completo'!P51","v":"Em uso"},{"$f":"'[2]Inventário Completo'!Q51","v":0}]
[{"$f":"'[2]Inventário Completo'!A52","v":"NA"},{"$f":"'[2]Inventário Completo'!B52","v":15273522200730},{"$f":"'[2]Inventário Completo'!C52","v":"Access Point"},{"$f":"'[2]Inventário Completo'!D52","v":"AP6532"},{"$f":"'[2]Inventário Completo'!E52","v":"Motorola"},{"$f":"'[2]Inventário Completo'!F52","v":"SEPETIBA TECON S/A"},{"$f":"'[2]Inventário Completo'!G52","v":"CSN-SEPETIBA ITAGUAI (TECON)"},{"$f":"'[2]Inventário Completo'!H52","v":"RJ"},{"$f":"'[2]Inventário Completo'!I52","v":"02.394.276/0002-08"},{"$f":"'[2]Inventário Completo'!J52","v":" 86.143.73-9"},{"$f":"'[2]Inventário Completo'!K52","v":"Est Prefeito Wilson Pedro Francisco, S/N, Parte, Ilha Da Madeira, Itaguaí, RJ, CEP 23826-600, Brasil"},{"$f":"'[2]Inventário Completo'!L52","v":"Glauco Viana "},{"$f":"'[2]Inventário Completo'!M52","v":"(21)26889257"},{"$f":"'[2]Inventário Completo'!N52","v":0},{"$f":"'[2]Inventário Completo'!O52","v":0},{"$f":"'[2]Inventário Completo'!P52","v":"Em uso"},{"$f":"'[2]Inventário Completo'!Q52","v":0}]
[{"$f":"'[2]Inventário Completo'!A53","v":"NA"},{"$f":"'[2]Inventário Completo'!B53","v":15273522200749},{"$f":"'[2]Inventário Completo'!C53","v":"Access Point"},{"$f":"'[2]Inventário Completo'!D53","v":"AP6532"},{"$f":"'[2]Inventário Completo'!E53","v":"Motorola"},{"$f":"'[2]Inventário Completo'!F53","v":"SEPETIBA TECON S/A"},{"$f":"'[2]Inventário Completo'!G53","v":"CSN-SEPETIBA ITAGUAI (TECON)"},{"$f":"'[2]Inventário Completo'!H53","v":"RJ"},{"$f":"'[2]Inventário Completo'!I53","v":"02.394.276/0002-08"},{"$f":"'[2]Inventário Completo'!J53","v":" 86.143.73-9"},{"$f":"'[2]Inventário Completo'!K53","v":"Est Prefeito Wilson Pedro Francisco, S/N, Parte, Ilha Da Madeira, Itaguaí, RJ, CEP 23826-600, Brasil"},{"$f":"'[2]Inventário Completo'!L53","v":"Glauco Viana "},{"$f":"'[2]Inventário Completo'!M53","v":"(21)26889257"},{"$f":"'[2]Inventário Completo'!N53","v":0},{"$f":"'[2]Inventário Completo'!O53","v":0},{"$f":"'[2]Inventário Completo'!P53","v":"Em uso"},{"$f":"'[2]Inventário Completo'!Q53","v":0}]
[{"$f":"'[2]Inventário Completo'!A54","v":"NA"},{"$f":"'[2]Inventário Completo'!B54","v":15273522200762},{"$f":"'[2]Inventário Completo'!C54","v":"Access Point"},{"$f":"'[2]Inventário Completo'!D54","v":"AP6532"},{"$f":"'[2]Inventário Completo'!E54","v":"Motorola"},{"$f":"'[2]Inventário Completo'!F54","v":"SEPETIBA TECON S/A"},{"$f":"'[2]Inventário Completo'!G54","v":"CSN-SEPETIBA ITAGUAI (TECON)"},{"$f":"'[2]Inventário Completo'!H54","v":"RJ"},{"$f":"'[2]Inventário Completo'!I54","v":"02.394.276/0002-08"},{"$f":"'[2]Inventário Completo'!J54","v":" 86.143.73-9"},{"$f":"'[2]Inventário Completo'!K54","v":"Est Prefeito Wilson Pedro Francisco, S/N, Parte, Ilha Da Madeira, Itaguaí, RJ, CEP 23826-600, Brasil"},{"$f":"'[2]Inventário Completo'!L54","v":"Glauco Viana "},{"$f":"'[2]Inventário Completo'!M54","v":"(21)26889257"},{"$f":"'[2]Inventário Completo'!N54","v":0},{"$f":"'[2]Inventário Completo'!O54","v":0},{"$f":"'[2]Inventário Completo'!P54","v":"Em uso"},{"$f":"'[2]Inventário Completo'!Q54","v":0}]
[{"$f":"'[2]Inventário Completo'!A55","v":"NA"},{"$f":"'[2]Inventário Completo'!B55","v":15273522200772},{"$f":"'[2]Inventário Completo'!C55","v":"Access Point"},{"$f":"'[2]Inventário Completo'!D55","v":"AP6532"},{"$f":"'[2]Inventário Completo'!E55","v":"Motorola"},{"$f":"'[2]Inventário Completo'!F55","v":"SEPETIBA TECON S/A"},{"$f":"'[2]Inventário Completo'!G55","v":"CSN-SEPETIBA ITAGUAI (TECON)"},{"$f":"'[2]Inventário Completo'!H55","v":"RJ"},{"$f":"'[2]Inventário Completo'!I55","v":"02.394.276/0002-08"},{"$f":"'[2]Inventário Completo'!J55","v":" 86.143.73-9"},{"$f":"'[2]Inventário Completo'!K55","v":"Est Prefeito Wilson Pedro Francisco, S/N, Parte, Ilha Da Madeira, Itaguaí, RJ, CEP 23826-600, Brasil"},{"$f":"'[2]Inventário Completo'!L55","v":"Glauco Viana "},{"$f":"'[2]Inventário Completo'!M55","v":"(21)26889257"},{"$f":"'[2]Inventário Completo'!N55","v":0},{"$f":"'[2]Inventário Completo'!O55","v":0},{"$f":"'[2]Inventário Completo'!P55","v":"Em uso"},{"$f":"'[2]Inventário Completo'!Q55","v":0}]
[{"$f":"'[2]Inventário Completo'!A56","v":"NA"},{"$f":"'[2]Inventário Completo'!B56","v":15273522200773},{"$f":"'[2]Inventário Completo'!C56","v":"Access Point"},{"$f":"'[2]Inventário Completo'!D56","v":"AP6532"},{"$f":"'[2]Inventário Completo'!E56","v":"Motorola"},{"$f":"'[2]Inventário Completo'!F56","v":"SEPETIBA TECON S/A"},{"$f":"'[2]Inventário Completo'!G56","v":"CSN-SEPETIBA ITAGUAI (TECON)"},{"$f":"'[2]Inventário Completo'!H56","v":"RJ"},{"$f":"'[2]Inventário Completo'!I56","v":"02.394.276/0002-08"},{"$f":"'[2]Inventário Completo'!J56","v":" 86.143.73-9"},{"$f":"'[2]Inventário Completo'!K56","v":"Est Prefeito Wilson Pedro Francisco, S/N, Parte, Ilha Da Madeira, Itaguaí, RJ, CEP 23826-600, Brasil"},{"$f":"'[2]Inventário Completo'!L56","v":"Glauco Viana "},{"$f":"'[2]Inventário Completo'!M56","v":"(21)26889257"},{"$f":"'[2]Inventário Completo'!N56","v":0},{"$f":"'[2]Inventário Completo'!O56","v":0},{"$f":"'[2]Inventário Completo'!P56","v":"Em uso"},{"$f":"'[2]Inventário Completo'!Q56","v":0}]
[{"$f":"'[2]Inventário Completo'!A57","v":"NA"},{"$f":"'[2]Inventário Completo'!B57","v":15273522200775},{"$f":"'[2]Inventário Completo'!C57","v":"Access Point"},{"$f":"'[2]Inventário Completo'!D57","v":"AP6532"},{"$f":"'[2]Inventário Completo'!E57","v":"Motorola"},{"$f":"'[2]Inventário Completo'!F57","v":"SEPETIBA TECON S/A"},{"$f":"'[2]Inventário Completo'!G57","v":"CSN-SEPETIBA ITAGUAI (TECON)"},{"$f":"'[2]Inventário Completo'!H57","v":"RJ"},{"$f":"'[2]Inventário Completo'!I57","v":"02.394.276/0002-08"},{"$f":"'[2]Inventário Completo'!J57","v":" 86.143.73-9"},{"$f":"'[2]Inventário Completo'!K57","v":"Est Prefeito Wilson Pedro Francisco, S/N, Parte, Ilha Da Madeira, Itaguaí, RJ, CEP 23826-600, Brasil"},{"$f":"'[2]Inventário Completo'!L57","v":"Glauco Viana "},{"$f":"'[2]Inventário Completo'!M57","v":"(21)26889257"},{"$f":"'[2]Inventário Completo'!N57","v":0},{"$f":"'[2]Inventário Completo'!O57","v":0},{"$f":"'[2]Inventário Completo'!P57","v":"Em uso"},{"$f":"'[2]Inventário Completo'!Q57","v":0}]
[{"$f":"'[2]Inventário Completo'!A58","v":"NA"},{"$f":"'[2]Inventário Completo'!B58","v":15273522200780},{"$f":"'[2]Inventário Completo'!C58","v":"Access Point"},{"$f":"'[2]Inventário Completo'!D58","v":"AP6532"},{"$f":"'[2]Inventário Completo'!E58","v":"Motorola"},{"$f":"'[2]Inventário Completo'!F58","v":"SEPETIBA TECON S/A"},{"$f":"'[2]Inventário Completo'!G58","v":"CSN-SEPETIBA ITAGUAI (TECON)"},{"$f":"'[2]Inventário Completo'!H58","v":"RJ"},{"$f":"'[2]Inventário Completo'!I58","v":"02.394.276/0002-08"},{"$f":"'[2]Inventário Completo'!J58","v":" 86.143.73-9"},{"$f":"'[2]Inventário Completo'!K58","v":"Est Prefeito Wilson Pedro Francisco, S/N, Parte, Ilha Da Madeira, Itaguaí, RJ, CEP 23826-600, Brasil"},{"$f":"'[2]Inventário Completo'!L58","v":"Glauco Viana "},{"$f":"'[2]Inventário Completo'!M58","v":"(21)26889257"},{"$f":"'[2]Inventário Completo'!N58","v":0},{"$f":"'[2]Inventário Completo'!O58","v":0},{"$f":"'[2]Inventário Completo'!P58","v":"Em uso"},{"$f":"'[2]Inventário Completo'!Q58","v":0}]
[{"$f":"'[2]Inventário Completo'!A59","v":"NA"},{"$f":"'[2]Inventário Completo'!B59","v":15273522200781},{"$f":"'[2]Inventário Completo'!C59","v":"Access Point"},{"$f":"'[2]Inventário Completo'!D59","v":"AP6532"},{"$f":"'[2]Inventário Completo'!E59","v":"Motorola"},{"$f":"'[2]Inventário Completo'!F59","v":"SEPETIBA TECON S/A"},{"$f":"'[2]Inventário Completo'!G59","v":"CSN-SEPETIBA ITAGUAI (TECON)"},{"$f":"'[2]Inventário Completo'!H59","v":"RJ"},{"$f":"'[2]Inventário Completo'!I59","v":"02.394.276/0002-08"},{"$f":"'[2]Inventário Completo'!J59","v":" 86.143.73-9"},{"$f":"'[2]Inventário Completo'!K59","v":"Est Prefeito Wilson Pedro Francisco, S/N, Parte, Ilha Da Madeira, Itaguaí, RJ, CEP 23826-600, Brasil"},{"$f":"'[2]Inventário Completo'!L59","v":"Glauco Viana "},{"$f":"'[2]Inventário Completo'!M59","v":"(21)26889257"},{"$f":"'[2]Inventário Completo'!N59","v":0},{"$f":"'[2]Inventário Completo'!O59","v":0},{"$f":"'[2]Inventário Completo'!P59","v":"Em uso"},{"$f":"'[2]Inventário Completo'!Q59","v":0}]
[{"$f":"'[2]Inventário Completo'!A60","v":"NA"},{"$f":"'[2]Inventário Completo'!B60","v":15273522200987},{"$f":"'[2]Inventário Completo'!C60","v":"Access Point"},{"$f":"'[2]Inventário Completo'!D60","v":"AP6532"},{"$f":"'[2]Inventário Completo'!E60","v":"Motorola"},{"$f":"'[2]Inventário Completo'!F60","v":"SEPETIBA TECON S/A"},{"$f":"'[2]Inventário Completo'!G60","v":"CSN-SEPETIBA ITAGUAI (TECON)"},{"$f":"'[2]Inventário Completo'!H60","v":"RJ"},{"$f":"'[2]Inventário Completo'!I60","v":"02.394.276/0002-08"},{"$f":"'[2]Inventário Completo'!J60","v":" 86.143.73-9"},{"$f":"'[2]Inventário Completo'!K60","v":"Est Prefeito Wilson Pedro Francisco, S/N, Parte, Ilha Da Madeira, Itaguaí, RJ, CEP 23826-600, Brasil"},{"$f":"'[2]Inventário Completo'!L60","v":"Glauco Viana "},{"$f":"'[2]Inventário Completo'!M60","v":"(21)26889257"},{"$f":"'[2]Inventário Completo'!N60","v":0},{"$f":"'[2]Inventário Completo'!O60","v":0},{"$f":"'[2]Inventário Completo'!P60","v":"Em uso"},{"$f":"'[2]Inventário Completo'!Q60","v":0}]
[{"$f":"'[2]Inventário Completo'!A61","v":"NA"},{"$f":"'[2]Inventário Completo'!B61","v":15273522201132},{"$f":"'[2]Inventário Completo'!C61","v":"Access Point"},{"$f":"'[2]Inventário Completo'!D61","v":"AP6532"},{"$f":"'[2]Inventário Completo'!E61","v":"Motorola"},{"$f":"'[2]Inventário Completo'!F61","v":"SEPETIBA TECON S/A"},{"$f":"'[2]Inventário Completo'!G61","v":"CSN-SEPETIBA ITAGUAI (TECON)"},{"$f":"'[2]Inventário Completo'!H61","v":"RJ"},{"$f":"'[2]Inventário Completo'!I61","v":"02.394.276/0002-08"},{"$f":"'[2]Inventário Completo'!J61","v":" 86.143.73-9"},{"$f":"'[2]Inventário Completo'!K61","v":"Est Prefeito Wilson Pedro Francisco, S/N, Parte, Ilha Da Madeira, Itaguaí, RJ, CEP 23826-600, Brasil"},{"$f":"'[2]Inventário Completo'!L61","v":"Glauco Viana "},{"$f":"'[2]Inventário Completo'!M61","v":"(21)26889257"},{"$f":"'[2]Inventário Completo'!N61","v":0},{"$f":"'[2]Inventário Completo'!O61","v":0},{"$f":"'[2]Inventário Completo'!P61","v":"Em uso"},{"$f":"'[2]Inventário Completo'!Q61","v":0}]
[{"$f":"'[2]Inventário Completo'!A62","v":"NA"},{"$f":"'[2]Inventário Completo'!B62","v":15273522201301},{"$f":"'[2]Inventário Completo'!C62","v":"Access Point"},{"$f":"'[2]Inventário Completo'!D62","v":"AP6532"},{"$f":"'[2]Inventário Completo'!E62","v":"Motorola"},{"$f":"'[2]Inventário Completo'!F62","v":"SEPETIBA TECON S/A"},{"$f":"'[2]Inventário Completo'!G62","v":"CSN-SEPETIBA ITAGUAI (TECON)"},{"$f":"'[2]Inventário Completo'!H62","v":"RJ"},{"$f":"'[2]Inventário Completo'!I62","v":"02.394.276/0002-08"},{"$f":"'[2]Inventário Completo'!J62","v":" 86.143.73-9"},{"$f":"'[2]Inventário Completo'!K62","v":"Est Prefeito Wilson Pedro Francisco, S/N, Parte, Ilha Da Madeira, Itaguaí, RJ, CEP 23826-600, Brasil"},{"$f":"'[2]Inventário Completo'!L62","v":"Glauco Viana "},{"$f":"'[2]Inventário Completo'!M62","v":"(21)26889257"},{"$f":"'[2]Inventário Completo'!N62","v":0},{"$f":"'[2]Inventário Completo'!O62","v":0},{"$f":"'[2]Inventário Completo'!P62","v":"Em uso"},{"$f":"'[2]Inventário Completo'!Q62","v":0}]
[{"$f":"'[2]Inventário Completo'!A63","v":"NA"},{"$f":"'[2]Inventário Completo'!B63","v":15273522206656},{"$f":"'[2]Inventário Completo'!C63","v":"Access Point"},{"$f":"'[2]Inventário Completo'!D63","v":"AP6532"},{"$f":"'[2]Inventário Completo'!E63","v":"Motorola"},{"$f":"'[2]Inventário Completo'!F63","v":"SEPETIBA TECON S/A"},{"$f":"'[2]Inventário Completo'!G63","v":"CSN-SEPETIBA ITAGUAI (TECON)"},{"$f":"'[2]Inventário Completo'!H63","v":"RJ"},{"$f":"'[2]Inventário Completo'!I63","v":"02.394.276/0002-08"},{"$f":"'[2]Inventário Completo'!J63","v":" 86.143.73-9"},{"$f":"'[2]Inventário Completo'!K63","v":"Est Prefeito Wilson Pedro Francisco, S/N, Parte, Ilha Da Madeira, Itaguaí, RJ, CEP 23826-600, Brasil"},{"$f":"'[2]Inventário Completo'!L63","v":"Glauco Viana "},{"$f":"'[2]Inventário Completo'!M63","v":"(21)26889257"},{"$f":"'[2]Inventário Completo'!N63","v":0},{"$f":"'[2]Inventário Completo'!O63","v":0},{"$f":"'[2]Inventário Completo'!P63","v":"Em uso"},{"$f":"'[2]Inventário Completo'!Q63","v":0}]
[{"$f":"'[2]Inventário Completo'!A64","v":"NA"},{"$f":"'[2]Inventário Completo'!B64","v":"S/N"},{"$f":"'[2]Inventário Completo'!C64","v":"Access Point"},{"$f":"'[2]Inventário Completo'!D64","v":"AP6532"},{"$f":"'[2]Inventário Completo'!E64","v":"Motorola"},{"$f":"'[2]Inventário Completo'!F64","v":"SEPETIBA TECON S/A"},{"$f":"'[2]Inventário Completo'!G64","v":"CSN-SEPETIBA ITAGUAI (TECON)"},{"$f":"'[2]Inventário Completo'!H64","v":"RJ"},{"$f":"'[2]Inventário Completo'!I64","v":"02.394.276/0002-08"},{"$f":"'[2]Inventário Completo'!J64","v":" 86.143.73-9"},{"$f":"'[2]Inventário Completo'!K64","v":"Est Prefeito Wilson Pedro Francisco, S/N, Parte, Ilha Da Madeira, Itaguaí, RJ, CEP 23826-600, Brasil"},{"$f":"'[2]Inventário Completo'!L64","v":"Glauco Viana "},{"$f":"'[2]Inventário Completo'!M64","v":"(21)26889257"},{"$f":"'[2]Inventário Completo'!N64","v":0},{"$f":"'[2]Inventário Completo'!O64","v":0},{"$f":"'[2]Inventário Completo'!P64","v":"Em uso"},{"$f":"'[2]Inventário Completo'!Q64","v":0}]
[{"$f":"'[2]Inventário Completo'!A65","v":"NA"},{"$f":"'[2]Inventário Completo'!B65","v":"S/N"},{"$f":"'[2]Inventário Completo'!C65","v":"Access Point"},{"$f":"'[2]Inventário Completo'!D65","v":"AP6532"},{"$f":"'[2]Inventário Completo'!E65","v":"Motorola"},{"$f":"'[2]Inventário Completo'!F65","v":"SEPETIBA TECON S/A"},{"$f":"'[2]Inventário Completo'!G65","v":"CSN-SEPETIBA ITAGUAI (TECON)"},{"$f":"'[2]Inventário Completo'!H65","v":"RJ"},{"$f":"'[2]Inventário Completo'!I65","v":"02.394.276/0002-08"},{"$f":"'[2]Inventário Completo'!J65","v":" 86.143.73-9"},{"$f":"'[2]Inventário Completo'!K65","v":"Est Prefeito Wilson Pedro Francisco, S/N, Parte, Ilha Da Madeira, Itaguaí, RJ, CEP 23826-600, Brasil"},{"$f":"'[2]Inventário Completo'!L65","v":"Glauco Viana "},{"$f":"'[2]Inventário Completo'!M65","v":"(21)26889257"},{"$f":"'[2]Inventário Completo'!N65","v":0},{"$f":"'[2]Inventário Completo'!O65","v":0},{"$f":"'[2]Inventário Completo'!P65","v":"Em uso"},{"$f":"'[2]Inventário Completo'!Q65","v":0}]
[{"$f":"'[2]Inventário Completo'!A66","v":0},{"$f":"'[2]Inventário Completo'!B66","v":11092520901712},{"$f":"'[2]Inventário Completo'!C66","v":"Access Point"},{"$f":"'[2]Inventário Completo'!D66","v":"AP5131"},{"$f":"'[2]Inventário Completo'!E66","v":"Symbol"},{"$f":"'[2]Inventário Completo'!F66","v":"COMPANHIA SIDERURGICA NACIONAL"},{"$f":"'[2]Inventário Completo'!G66","v":"CSN-VOLTA REDONDA"},{"$f":"'[2]Inventário Completo'!H66","v":"RJ"},{"$f":"'[2]Inventário Completo'!I66","v":"33.042.730/0017-71"},{"$f":"'[2]Inventário Completo'!J66","v":80541767},{"$f":"'[2]Inventário Completo'!K66","v":"Rodovia BR 393, Lúcio Meira KM 5001, SN°, Vila Santa Cecília, Volta Redonda"},{"$f":"'[2]Inventário Completo'!L66","v":"Luiz Cesar"},{"$f":"'[2]Inventário Completo'!M66","v":3105},{"$f":"'[2]Inventário Completo'!N66","v":0},{"$f":"'[2]Inventário Completo'!O66","v":0},{"$f":"'[2]Inventário Completo'!P66","v":"Em uso"},{"$f":"'[2]Inventário Completo'!Q66","v":0}]
[{"$f":"'[2]Inventário Completo'!A67","v":0},{"$f":"'[2]Inventário Completo'!B67","v":"00A0F84CF594"},{"$f":"'[2]Inventário Completo'!C67","v":"Access Point"},{"$f":"'[2]Inventário Completo'!D67","v":"AP4131"},{"$f":"'[2]Inventário Completo'!E67","v":"Symbol"},{"$f":"'[2]Inventário Completo'!F67","v":"COMPANHIA SIDERURGICA NACIONAL"},{"$f":"'[2]Inventário Completo'!G67","v":"CSN-VOLTA REDONDA"},{"$f":"'[2]Inventário Completo'!H67","v":"RJ"},{"$f":"'[2]Inventário Completo'!I67","v":"33.042.730/0017-71"},{"$f":"'[2]Inventário Completo'!J67","v":80541767},{"$f":"'[2]Inventário Completo'!K67","v":"Rodovia BR 393, Lúcio Meira KM 5001, SN°, Vila Santa Cecília, Volta Redonda"},{"$f":"'[2]Inventário Completo'!L67","v":"Luiz Cesar"},{"$f":"'[2]Inventário Completo'!M67","v":3105},{"$f":"'[2]Inventário Completo'!N67","v":0},{"$f":"'[2]Inventário Completo'!O67","v":0},{"$f":"'[2]Inventário Completo'!P67","v":"Em uso"},{"$f":"'[2]Inventário Completo'!Q67","v":0}]
[{"$f":"'[2]Inventário Completo'!A68","v":0},{"$f":"'[2]Inventário Completo'!B68","v":"00A0F84CF73A"},{"$f":"'[2]Inventário Completo'!C68","v":"Access Point"},{"$f":"'[2]Inventário Completo'!D68","v":"AP4131"},{"$f":"'[2]Inventário Completo'!E68","v":"Symbol"},{"$f":"'[2]Inventário Completo'!F68","v":"COMPANHIA SIDERURGICA NACIONAL"},{"$f":"'[2]Inventário Completo'!G68","v":"CSN-VOLTA REDONDA"},{"$f":"'[2]Inventário Completo'!H68","v":"RJ"},{"$f":"'[2]Inventário Completo'!I68","v":"33.042.730/0017-71"},{"$f":"'[2]Inventário Completo'!J68","v":80541767},{"$f":"'[2]Inventário Completo'!K68","v":"Rodovia BR 393, Lúcio Meira KM 5001, SN°, Vila Santa Cecília, Volta Redonda"},{"$f":"'[2]Inventário Completo'!L68","v":"Luiz Cesar"},{"$f":"'[2]Inventário Completo'!M68","v":3105},{"$f":"'[2]Inventário Completo'!N68","v":0},{"$f":"'[2]Inventário Completo'!O68","v":0},{"$f":"'[2]Inventário Completo'!P68","v":"Em uso"},{"$f":"'[2]Inventário Completo'!Q68","v":0}]
[{"$f":"'[2]Inventário Completo'!A69","v":0},{"$f":"'[2]Inventário Completo'!B69","v":"00A0F84CFD23"},{"$f":"'[2]Inventário Completo'!C69","v":"Access Point"},{"$f":"'[2]Inventário Completo'!D69","v":"AP4131"},{"$f":"'[2]Inventário Completo'!E69","v":"Symbol"},{"$f":"'[2]Inventário Completo'!F69","v":"COMPANHIA SIDERURGICA NACIONAL"},{"$f":"'[2]Inventário Completo'!G69","v":"CSN-VOLTA REDONDA"},{"$f":"'[2]Inventário Completo'!H69","v":"RJ"},{"$f":"'[2]Inventário Completo'!I69","v":"33.042.730/0017-71"},{"$f":"'[2]Inventário Completo'!J69","v":80541767},{"$f":"'[2]Inventário Completo'!K69","v":"Rodovia BR 393, Lúcio Meira KM 5001, SN°, Vila Santa Cecília, Volta Redonda"},{"$f":"'[2]Inventário Completo'!L69","v":"Luiz Cesar"},{"$f":"'[2]Inventário Completo'!M69","v":3105},{"$f":"'[2]Inventário Completo'!N69","v":0},{"$f":"'[2]Inventário Completo'!O69","v":0},{"$f":"'[2]Inventário Completo'!P69","v":"Em uso"},{"$f":"'[2]Inventário Completo'!Q69","v":0}]
[{"$f":"'[2]Inventário Completo'!A70","v":0},{"$f":"'[2]Inventário Completo'!B70","v":"00A0F8A3B407"},{"$f":"'[2]Inventário Completo'!C70","v":"Access Point"},{"$f":"'[2]Inventário Completo'!D70","v":"AP4131"},{"$f":"'[2]Inventário Completo'!E70","v":"Symbol"},{"$f":"'[2]Inventário Completo'!F70","v":"COMPANHIA SIDERURGICA NACIONAL"},{"$f":"'[2]Inventário Completo'!G70","v":"CSN-VOLTA REDONDA"},{"$f":"'[2]Inventário Completo'!H70","v":"RJ"},{"$f":"'[2]Inventário Completo'!I70","v":"33.042.730/0017-71"},{"$f":"'[2]Inventário Completo'!J70","v":80541767},{"$f":"'[2]Inventário Completo'!K70","v":"Rodovia BR 393, Lúcio Meira KM 5001, SN°, Vila Santa Cecília, Volta Redonda"},{"$f":"'[2]Inventário Completo'!L70","v":"Luiz Cesar"},{"$f":"'[2]Inventário Completo'!M70","v":3105},{"$f":"'[2]Inventário Completo'!N70","v":0},{"$f":"'[2]Inventário Completo'!O70","v":0},{"$f":"'[2]Inventário Completo'!P70","v":"Em uso"},{"$f":"'[2]Inventário Completo'!Q70","v":0}]
[{"$f":"'[2]Inventário Completo'!A71","v":0},{"$f":"'[2]Inventário Completo'!B71","v":"00A0F8ADF7B1"},{"$f":"'[2]Inventário Completo'!C71","v":"Access Point"},{"$f":"'[2]Inventário Completo'!D71","v":"AP4131"},{"$f":"'[2]Inventário Completo'!E71","v":"Symbol"},{"$f":"'[2]Inventário Completo'!F71","v":"COMPANHIA SIDERURGICA NACIONAL"},{"$f":"'[2]Inventário Completo'!G71","v":"CSN-VOLTA REDONDA"},{"$f":"'[2]Inventário Completo'!H71","v":"RJ"},{"$f":"'[2]Inventário Completo'!I71","v":"33.042.730/0017-71"},{"$f":"'[2]Inventário Completo'!J71","v":80541767},{"$f":"'[2]Inventário Completo'!K71","v":"Rodovia BR 393, Lúcio Meira KM 5001, SN°, Vila Santa Cecília, Volta Redonda"},{"$f":"'[2]Inventário Completo'!L71","v":"Luiz Cesar"},{"$f":"'[2]Inventário Completo'!M71","v":3105},{"$f":"'[2]Inventário Completo'!N71","v":0},{"$f":"'[2]Inventário Completo'!O71","v":0},{"$f":"'[2]Inventário Completo'!P71","v":"Em uso"},{"$f":"'[2]Inventário Completo'!Q71","v":0}]
[{"$f":"'[2]Inventário Completo'!A72","v":0},{"$f":"'[2]Inventário Completo'!B72","v":"00A0F8ADF7F5"},{"$f":"'[2]Inventário Completo'!C72","v":"Access Point"},{"$f":"'[2]Inventário Completo'!D72","v":"AP4131"},{"$f":"'[2]Inventário Completo'!E72","v":"Symbol"},{"$f":"'[2]Inventário Completo'!F72","v":"COMPANHIA SIDERURGICA NACIONAL"},{"$f":"'[2]Inventário Completo'!G72","v":"CSN-VOLTA REDONDA"},{"$f":"'[2]Inventário Completo'!H72","v":"RJ"},{"$f":"'[2]Inventário Completo'!I72","v":"33.042.730/0017-71"},{"$f":"'[2]Inventário Completo'!J72","v":80541767},{"$f":"'[2]Inventário Completo'!K72","v":"Rodovia BR 393, Lúcio Meira KM 5001, SN°, Vila Santa Cecília, Volta Redonda"},{"$f":"'[2]Inventário Completo'!L72","v":"Luiz Cesar"},{"$f":"'[2]Inventário Completo'!M72","v":3105},{"$f":"'[2]Inventário Completo'!N72","v":0},{"$f":"'[2]Inventário Completo'!O72","v":0},{"$f":"'[2]Inventário Completo'!P72","v":"Em uso"},{"$f":"'[2]Inventário Completo'!Q72","v":0}]
[{"$f":"'[2]Inventário Completo'!A73","v":0},{"$f":"'[2]Inventário Completo'!B73","v":"00A0F8D9AC30"},{"$f":"'[2]Inventário Completo'!C73","v":"Access Point"},{"$f":"'[2]Inventário Completo'!D73","v":"AP4131"},{"$f":"'[2]Inventário Completo'!E73","v":"Symbol"},{"$f":"'[2]Inventário Completo'!F73","v":"COMPANHIA SIDERURGICA NACIONAL"},{"$f":"'[2]Inventário Completo'!G73","v":"CSN-VOLTA REDONDA"},{"$f":"'[2]Inventário Completo'!H73","v":"RJ"},{"$f":"'[2]Inventário Completo'!I73","v":"33.042.730/0017-71"},{"$f":"'[2]Inventário Completo'!J73","v":80541767},{"$f":"'[2]Inventário Completo'!K73","v":"Rodovia BR 393, Lúcio Meira KM 5001, SN°, Vila Santa Cecília, Volta Redonda"},{"$f":"'[2]Inventário Completo'!L73","v":"Luiz Cesar"},{"$f":"'[2]Inventário Completo'!M73","v":3105},{"$f":"'[2]Inventário Completo'!N73","v":0},{"$f":"'[2]Inventário Completo'!O73","v":0},{"$f":"'[2]Inventário Completo'!P73","v":"Em uso"},{"$f":"'[2]Inventário Completo'!Q73","v":0}]
[{"$f":"'[2]Inventário Completo'!A74","v":0},{"$f":"'[2]Inventário Completo'!B74","v":"00A0F8D9AC34"},{"$f":"'[2]Inventário Completo'!C74","v":"Access Point"},{"$f":"'[2]Inventário Completo'!D74","v":"AP4131"},{"$f":"'[2]Inventário Completo'!E74","v":"Symbol"},{"$f":"'[2]Inventário Completo'!F74","v":"COMPANHIA SIDERURGICA NACIONAL"},{"$f":"'[2]Inventário Completo'!G74","v":"CSN-VOLTA REDONDA"},{"$f":"'[2]Inventário Completo'!H74","v":"RJ"},{"$f":"'[2]Inventário Completo'!I74","v":"33.042.730/0017-71"},{"$f":"'[2]Inventário Completo'!J74","v":80541767},{"$f":"'[2]Inventário Completo'!K74","v":"Rodovia BR 393, Lúcio Meira KM 5001, SN°, Vila Santa Cecília, Volta Redonda"},{"$f":"'[2]Inventário Completo'!L74","v":"Luiz Cesar"},{"$f":"'[2]Inventário Completo'!M74","v":3105},{"$f":"'[2]Inventário Completo'!N74","v":0},{"$f":"'[2]Inventário Completo'!O74","v":0},{"$f":"'[2]Inventário Completo'!P74","v":"Em uso"},{"$f":"'[2]Inventário Completo'!Q74","v":0}]
[{"$f":"'[2]Inventário Completo'!A75","v":0},{"$f":"'[2]Inventário Completo'!B75","v":"00A0F8D9ACFF"},{"$f":"'[2]Inventário Completo'!C75","v":"Access Point"},{"$f":"'[2]Inventário Completo'!D75","v":"AP4131"},{"$f":"'[2]Inventário Completo'!E75","v":"Symbol"},{"$f":"'[2]Inventário Completo'!F75","v":"COMPANHIA SIDERURGICA NACIONAL"},{"$f":"'[2]Inventário Completo'!G75","v":"CSN-VOLTA REDONDA"},{"$f":"'[2]Inventário Completo'!H75","v":"RJ"},{"$f":"'[2]Inventário Completo'!I75","v":"33.042.730/0017-71"},{"$f":"'[2]Inventário Completo'!J75","v":80541767},{"$f":"'[2]Inventário Completo'!K75","v":"Rodovia BR 393, Lúcio Meira KM 5001, SN°, Vila Santa Cecília, Volta Redonda"},{"$f":"'[2]Inventário Completo'!L75","v":"Luiz Cesar"},{"$f":"'[2]Inventário Completo'!M75","v":3105},{"$f":"'[2]Inventário Completo'!N75","v":0},{"$f":"'[2]Inventário Completo'!O75","v":0},{"$f":"'[2]Inventário Completo'!P75","v":"Em uso"},{"$f":"'[2]Inventário Completo'!Q75","v":0}]
[{"$f":"'[2]Inventário Completo'!A76","v":0},{"$f":"'[2]Inventário Completo'!B76","v":"00A0F8D9AD55"},{"$f":"'[2]Inventário Completo'!C76","v":"Access Point"},{"$f":"'[2]Inventário Completo'!D76","v":"AP4131"},{"$f":"'[2]Inventário Completo'!E76","v":"Symbol"},{"$f":"'[2]Inventário Completo'!F76","v":"COMPANHIA SIDERURGICA NACIONAL"},{"$f":"'[2]Inventário Completo'!G76","v":"CSN-VOLTA REDONDA"},{"$f":"'[2]Inventário Completo'!H76","v":"RJ"},{"$f":"'[2]Inventário Completo'!I76","v":"33.042.730/0017-71"},{"$f":"'[2]Inventário Completo'!J76","v":80541767},{"$f":"'[2]Inventário Completo'!K76","v":"Rodovia BR 393, Lúcio Meira KM 5001, SN°, Vila Santa Cecília, Volta Redonda"},{"$f":"'[2]Inventário Completo'!L76","v":"Luiz Cesar"},{"$f":"'[2]Inventário Completo'!M76","v":3105},{"$f":"'[2]Inventário Completo'!N76","v":0},{"$f":"'[2]Inventário Completo'!O76","v":0},{"$f":"'[2]Inventário Completo'!P76","v":"Em uso"},{"$f":"'[2]Inventário Completo'!Q76","v":0}]
[{"$f":"'[2]Inventário Completo'!A77","v":0},{"$f":"'[2]Inventário Completo'!B77","v":"00A0F8D9CC9B"},{"$f":"'[2]Inventário Completo'!C77","v":"Access Point"},{"$f":"'[2]Inventário Completo'!D77","v":"AP4131"},{"$f":"'[2]Inventário Completo'!E77","v":"Symbol"},{"$f":"'[2]Inventário Completo'!F77","v":"COMPANHIA SIDERURGICA NACIONAL"},{"$f":"'[2]Inventário Completo'!G77","v":"CSN-VOLTA REDONDA"},{"$f":"'[2]Inventário Completo'!H77","v":"RJ"},{"$f":"'[2]Inventário Completo'!I77","v":"33.042.730/0017-71"},{"$f":"'[2]Inventário Completo'!J77","v":80541767},{"$f":"'[2]Inventário Completo'!K77","v":"Rodovia BR 393, Lúcio Meira KM 5001, SN°, Vila Santa Cecília, Volta Redonda"},{"$f":"'[2]Inventário Completo'!L77","v":"Luiz Cesar"},{"$f":"'[2]Inventário Completo'!M77","v":3105},{"$f":"'[2]Inventário Completo'!N77","v":0},{"$f":"'[2]Inventário Completo'!O77","v":0},{"$f":"'[2]Inventário Completo'!P77","v":"Em uso"},{"$f":"'[2]Inventário Completo'!Q77","v":0}]
[{"$f":"'[2]Inventário Completo'!A78","v":0},{"$f":"'[2]Inventário Completo'!B78","v":"00A0F8DAF963"},{"$f":"'[2]Inventário Completo'!C78","v":"Access Point"},{"$f":"'[2]Inventário Completo'!D78","v":"AP4131"},{"$f":"'[2]Inventário Completo'!E78","v":"Symbol"},{"$f":"'[2]Inventário Completo'!F78","v":"COMPANHIA SIDERURGICA NACIONAL"},{"$f":"'[2]Inventário Completo'!G78","v":"CSN-VOLTA REDONDA"},{"$f":"'[2]Inventário Completo'!H78","v":"RJ"},{"$f":"'[2]Inventário Completo'!I78","v":"33.042.730/0017-71"},{"$f":"'[2]Inventário Completo'!J78","v":80541767},{"$f":"'[2]Inventário Completo'!K78","v":"Rodovia BR 393, Lúcio Meira KM 5001, SN°, Vila Santa Cecília, Volta Redonda"},{"$f":"'[2]Inventário Completo'!L78","v":"Luiz Cesar"},{"$f":"'[2]Inventário Completo'!M78","v":3105},{"$f":"'[2]Inventário Completo'!N78","v":0},{"$f":"'[2]Inventário Completo'!O78","v":0},{"$f":"'[2]Inventário Completo'!P78","v":"Em uso"},{"$f":"'[2]Inventário Completo'!Q78","v":0}]
[{"$f":"'[2]Inventário Completo'!A79","v":0},{"$f":"'[2]Inventário Completo'!B79","v":"00A0F8DAF984"},{"$f":"'[2]Inventário Completo'!C79","v":"Access Point"},{"$f":"'[2]Inventário Completo'!D79","v":"AP4131"},{"$f":"'[2]Inventário Completo'!E79","v":"Symbol"},{"$f":"'[2]Inventário Completo'!F79","v":"COMPANHIA SIDERURGICA NACIONAL"},{"$f":"'[2]Inventário Completo'!G79","v":"CSN-VOLTA REDONDA"},{"$f":"'[2]Inventário Completo'!H79","v":"RJ"},{"$f":"'[2]Inventário Completo'!I79","v":"33.042.730/0017-71"},{"$f":"'[2]Inventário Completo'!J79","v":80541767},{"$f":"'[2]Inventário Completo'!K79","v":"Rodovia BR 393, Lúcio Meira KM 5001, SN°, Vila Santa Cecília, Volta Redonda"},{"$f":"'[2]Inventário Completo'!L79","v":"Luiz Cesar"},{"$f":"'[2]Inventário Completo'!M79","v":3105},{"$f":"'[2]Inventário Completo'!N79","v":0},{"$f":"'[2]Inventário Completo'!O79","v":0},{"$f":"'[2]Inventário Completo'!P79","v":"Em uso"},{"$f":"'[2]Inventário Completo'!Q79","v":0}]
[{"$f":"'[2]Inventário Completo'!A80","v":0},{"$f":"'[2]Inventário Completo'!B80","v":"00A0F8DAF9A1"},{"$f":"'[2]Inventário Completo'!C80","v":"Access Point"},{"$f":"'[2]Inventário Completo'!D80","v":"AP4131"},{"$f":"'[2]Inventário Completo'!E80","v":"Symbol"},{"$f":"'[2]Inventário Completo'!F80","v":"COMPANHIA SIDERURGICA NACIONAL"},{"$f":"'[2]Inventário Completo'!G80","v":"CSN-VOLTA REDONDA"},{"$f":"'[2]Inventário Completo'!H80","v":"RJ"},{"$f":"'[2]Inventário Completo'!I80","v":"33.042.730/0017-71"},{"$f":"'[2]Inventário Completo'!J80","v":80541767},{"$f":"'[2]Inventário Completo'!K80","v":"Rodovia BR 393, Lúcio Meira KM 5001, SN°, Vila Santa Cecília, Volta Redonda"},{"$f":"'[2]Inventário Completo'!L80","v":"Luiz Cesar"},{"$f":"'[2]Inventário Completo'!M80","v":3105},{"$f":"'[2]Inventário Completo'!N80","v":0},{"$f":"'[2]Inventário Completo'!O80","v":0},{"$f":"'[2]Inventário Completo'!P80","v":"Em uso"},{"$f":"'[2]Inventário Completo'!Q80","v":0}]
[{"$f":"'[2]Inventário Completo'!A81","v":0},{"$f":"'[2]Inventário Completo'!B81","v":"00A0F8DAFA95"},{"$f":"'[2]Inventário Completo'!C81","v":"Access Point"},{"$f":"'[2]Inventário Completo'!D81","v":"AP4131"},{"$f":"'[2]Inventário Completo'!E81","v":"Symbol"},{"$f":"'[2]Inventário Completo'!F81","v":"COMPANHIA SIDERURGICA NACIONAL"},{"$f":"'[2]Inventário Completo'!G81","v":"CSN-VOLTA REDONDA"},{"$f":"'[2]Inventário Completo'!H81","v":"RJ"},{"$f":"'[2]Inventário Completo'!I81","v":"33.042.730/0017-71"},{"$f":"'[2]Inventário Completo'!J81","v":80541767},{"$f":"'[2]Inventário Completo'!K81","v":"Rodovia BR 393, Lúcio Meira KM 5001, SN°, Vila Santa Cecília, Volta Redonda"},{"$f":"'[2]Inventário Completo'!L81","v":"Luiz Cesar"},{"$f":"'[2]Inventário Completo'!M81","v":3105},{"$f":"'[2]Inventário Completo'!N81","v":0},{"$f":"'[2]Inventário Completo'!O81","v":0},{"$f":"'[2]Inventário Completo'!P81","v":"Em uso"},{"$f":"'[2]Inventário Completo'!Q81","v":0}]
[{"$f":"'[2]Inventário Completo'!A82","v":0},{"$f":"'[2]Inventário Completo'!B82","v":"00A0F8DAFBE0"},{"$f":"'[2]Inventário Completo'!C82","v":"Access Point"},{"$f":"'[2]Inventário Completo'!D82","v":"AP4131"},{"$f":"'[2]Inventário Completo'!E82","v":"Symbol"},{"$f":"'[2]Inventário Completo'!F82","v":"COMPANHIA SIDERURGICA NACIONAL"},{"$f":"'[2]Inventário Completo'!G82","v":"CSN-VOLTA REDONDA"},{"$f":"'[2]Inventário Completo'!H82","v":"RJ"},{"$f":"'[2]Inventário Completo'!I82","v":"33.042.730/0017-71"},{"$f":"'[2]Inventário Completo'!J82","v":80541767},{"$f":"'[2]Inventário Completo'!K82","v":"Rodovia BR 393, Lúcio Meira KM 5001, SN°, Vila Santa Cecília, Volta Redonda"},{"$f":"'[2]Inventário Completo'!L82","v":"Luiz Cesar"},{"$f":"'[2]Inventário Completo'!M82","v":3105},{"$f":"'[2]Inventário Completo'!N82","v":0},{"$f":"'[2]Inventário Completo'!O82","v":0},{"$f":"'[2]Inventário Completo'!P82","v":"Em uso"},{"$f":"'[2]Inventário Completo'!Q82","v":0}]
[{"$f":"'[2]Inventário Completo'!A83","v":0},{"$f":"'[2]Inventário Completo'!B83","v":"00A0F8DAFC01"},{"$f":"'[2]Inventário Completo'!C83","v":"Access Point"},{"$f":"'[2]Inventário Completo'!D83","v":"AP4131"},{"$f":"'[2]Inventário Completo'!E83","v":"Symbol"},{"$f":"'[2]Inventário Completo'!F83","v":"COMPANHIA SIDERURGICA NACIONAL"},{"$f":"'[2]Inventário Completo'!G83","v":"CSN-VOLTA REDONDA"},{"$f":"'[2]Inventário Completo'!H83","v":"RJ"},{"$f":"'[2]Inventário Completo'!I83","v":"33.042.730/0017-71"},{"$f":"'[2]Inventário Completo'!J83","v":80541767},{"$f":"'[2]Inventário Completo'!K83","v":"Rodovia BR 393, Lúcio Meira KM 5001, SN°, Vila Santa Cecília, Volta Redonda"},{"$f":"'[2]Inventário Completo'!L83","v":"Luiz Cesar"},{"$f":"'[2]Inventário Completo'!M83","v":3105},{"$f":"'[2]Inventário Completo'!N83","v":0},{"$f":"'[2]Inventário Completo'!O83","v":0},{"$f":"'[2]Inventário Completo'!P83","v":"Em uso"},{"$f":"'[2]Inventário Completo'!Q83","v":0}]
[{"$f":"'[2]Inventário Completo'!A84","v":0},{"$f":"'[2]Inventário Completo'!B84","v":"00A0F8DAFC0D"},{"$f":"'[2]Inventário Completo'!C84","v":"Access Point"},{"$f":"'[2]Inventário Completo'!D84","v":"AP4131"},{"$f":"'[2]Inventário Completo'!E84","v":"Symbol"},{"$f":"'[2]Inventário Completo'!F84","v":"COMPANHIA SIDERURGICA NACIONAL"},{"$f":"'[2]Inventário Completo'!G84","v":"CSN-VOLTA REDONDA"},{"$f":"'[2]Inventário Completo'!H84","v":"RJ"},{"$f":"'[2]Inventário Completo'!I84","v":"33.042.730/0017-71"},{"$f":"'[2]Inventário Completo'!J84","v":80541767},{"$f":"'[2]Inventário Completo'!K84","v":"Rodovia BR 393, Lúcio Meira KM 5001, SN°, Vila Santa Cecília, Volta Redonda"},{"$f":"'[2]Inventário Completo'!L84","v":"Luiz Cesar"},{"$f":"'[2]Inventário Completo'!M84","v":3105},{"$f":"'[2]Inventário Completo'!N84","v":0},{"$f":"'[2]Inventário Completo'!O84","v":0},{"$f":"'[2]Inventário Completo'!P84","v":"Em uso"},{"$f":"'[2]Inventário Completo'!Q84","v":0}]
[{"$f":"'[2]Inventário Completo'!A85","v":0},{"$f":"'[2]Inventário Completo'!B85","v":"00A0F8DAFC21"},{"$f":"'[2]Inventário Completo'!C85","v":"Access Point"},{"$f":"'[2]Inventário Completo'!D85","v":"AP4131"},{"$f":"'[2]Inventário Completo'!E85","v":"Symbol"},{"$f":"'[2]Inventário Completo'!F85","v":"COMPANHIA SIDERURGICA NACIONAL"},{"$f":"'[2]Inventário Completo'!G85","v":"CSN-VOLTA REDONDA"},{"$f":"'[2]Inventário Completo'!H85","v":"RJ"},{"$f":"'[2]Inventário Completo'!I85","v":"33.042.730/0017-71"},{"$f":"'[2]Inventário Completo'!J85","v":80541767},{"$f":"'[2]Inventário Completo'!K85","v":"Rodovia BR 393, Lúcio Meira KM 5001, SN°, Vila Santa Cecília, Volta Redonda"},{"$f":"'[2]Inventário Completo'!L85","v":"Luiz Cesar"},{"$f":"'[2]Inventário Completo'!M85","v":3105},{"$f":"'[2]Inventário Completo'!N85","v":0},{"$f":"'[2]Inventário Completo'!O85","v":0},{"$f":"'[2]Inventário Completo'!P85","v":"Em uso"},{"$f":"'[2]Inventário Completo'!Q85","v":0}]
[{"$f":"'[2]Inventário Completo'!A86","v":0},{"$f":"'[2]Inventário Completo'!B86","v":"00A0F8DAFC85"},{"$f":"'[2]Inventário Completo'!C86","v":"Access Point"},{"$f":"'[2]Inventário Completo'!D86","v":"AP4131"},{"$f":"'[2]Inventário Completo'!E86","v":"Symbol"},{"$f":"'[2]Inventário Completo'!F86","v":"COMPANHIA SIDERURGICA NACIONAL"},{"$f":"'[2]Inventário Completo'!G86","v":"CSN-VOLTA REDONDA"},{"$f":"'[2]Inventário Completo'!H86","v":"RJ"},{"$f":"'[2]Inventário Completo'!I86","v":"33.042.730/0017-71"},{"$f":"'[2]Inventário Completo'!J86","v":80541767},{"$f":"'[2]Inventário Completo'!K86","v":"Rodovia BR 393, Lúcio Meira KM 5001, SN°, Vila Santa Cecília, Volta Redonda"},{"$f":"'[2]Inventário Completo'!L86","v":"Luiz Cesar"},{"$f":"'[2]Inventário Completo'!M86","v":3105},{"$f":"'[2]Inventário Completo'!N86","v":0},{"$f":"'[2]Inventário Completo'!O86","v":0},{"$f":"'[2]Inventário Completo'!P86","v":"Em uso"},{"$f":"'[2]Inventário Completo'!Q86","v":0}]
[{"$f":"'[2]Inventário Completo'!A87","v":0},{"$f":"'[2]Inventário Completo'!B87","v":"00A0F8DAFCBC"},{"$f":"'[2]Inventário Completo'!C87","v":"Access Point"},{"$f":"'[2]Inventário Completo'!D87","v":"AP4131"},{"$f":"'[2]Inventário Completo'!E87","v":"Symbol"},{"$f":"'[2]Inventário Completo'!F87","v":"COMPANHIA SIDERURGICA NACIONAL"},{"$f":"'[2]Inventário Completo'!G87","v":"CSN-VOLTA REDONDA"},{"$f":"'[2]Inventário Completo'!H87","v":"RJ"},{"$f":"'[2]Inventário Completo'!I87","v":"33.042.730/0017-71"},{"$f":"'[2]Inventário Completo'!J87","v":80541767},{"$f":"'[2]Inventário Completo'!K87","v":"Rodovia BR 393, Lúcio Meira KM 5001, SN°, Vila Santa Cecília, Volta Redonda"},{"$f":"'[2]Inventário Completo'!L87","v":"Luiz Cesar"},{"$f":"'[2]Inventário Completo'!M87","v":3105},{"$f":"'[2]Inventário Completo'!N87","v":0},{"$f":"'[2]Inventário Completo'!O87","v":0},{"$f":"'[2]Inventário Completo'!P87","v":"Em uso"},{"$f":"'[2]Inventário Completo'!Q87","v":0}]
[{"$f":"'[2]Inventário Completo'!A88","v":0},{"$f":"'[2]Inventário Completo'!B88","v":"00A0F8DAFCD8"},{"$f":"'[2]Inventário Completo'!C88","v":"Access Point"},{"$f":"'[2]Inventário Completo'!D88","v":"AP4131"},{"$f":"'[2]Inventário Completo'!E88","v":"Symbol"},{"$f":"'[2]Inventário Completo'!F88","v":"COMPANHIA SIDERURGICA NACIONAL"},{"$f":"'[2]Inventário Completo'!G88","v":"CSN-VOLTA REDONDA"},{"$f":"'[2]Inventário Completo'!H88","v":"RJ"},{"$f":"'[2]Inventário Completo'!I88","v":"33.042.730/0017-71"},{"$f":"'[2]Inventário Completo'!J88","v":80541767},{"$f":"'[2]Inventário Completo'!K88","v":"Rodovia BR 393, Lúcio Meira KM 5001, SN°, Vila Santa Cecília, Volta Redonda"},{"$f":"'[2]Inventário Completo'!L88","v":"Luiz Cesar"},{"$f":"'[2]Inventário Completo'!M88","v":3105},{"$f":"'[2]Inventário Completo'!N88","v":0},{"$f":"'[2]Inventário Completo'!O88","v":0},{"$f":"'[2]Inventário Completo'!P88","v":"Em uso"},{"$f":"'[2]Inventário Completo'!Q88","v":0}]
[{"$f":"'[2]Inventário Completo'!A89","v":0},{"$f":"'[2]Inventário Completo'!B89","v":"00A0F8DB0EF6"},{"$f":"'[2]Inventário Completo'!C89","v":"Access Point"},{"$f":"'[2]Inventário Completo'!D89","v":"AP4131"},{"$f":"'[2]Inventário Completo'!E89","v":"Symbol"},{"$f":"'[2]Inventário Completo'!F89","v":"COMPANHIA SIDERURGICA NACIONAL"},{"$f":"'[2]Inventário Completo'!G89","v":"CSN-VOLTA REDONDA"},{"$f":"'[2]Inventário Completo'!H89","v":"RJ"},{"$f":"'[2]Inventário Completo'!I89","v":"33.042.730/0017-71"},{"$f":"'[2]Inventário Completo'!J89","v":80541767},{"$f":"'[2]Inventário Completo'!K89","v":"Rodovia BR 393, Lúcio Meira KM 5001, SN°, Vila Santa Cecília, Volta Redonda"},{"$f":"'[2]Inventário Completo'!L89","v":"Luiz Cesar"},{"$f":"'[2]Inventário Completo'!M89","v":3105},{"$f":"'[2]Inventário Completo'!N89","v":0},{"$f":"'[2]Inventário Completo'!O89","v":0},{"$f":"'[2]Inventário Completo'!P89","v":"Em uso"},{"$f":"'[2]Inventário Completo'!Q89","v":0}]
[{"$f":"'[2]Inventário Completo'!A90","v":0},{"$f":"'[2]Inventário Completo'!B90","v":"00A0F8DB0FA2"},{"$f":"'[2]Inventário Completo'!C90","v":"Access Point"},{"$f":"'[2]Inventário Completo'!D90","v":"AP4131"},{"$f":"'[2]Inventário Completo'!E90","v":"Symbol"},{"$f":"'[2]Inventário Completo'!F90","v":"COMPANHIA SIDERURGICA NACIONAL"},{"$f":"'[2]Inventário Completo'!G90","v":"CSN-VOLTA REDONDA"},{"$f":"'[2]Inventário Completo'!H90","v":"RJ"},{"$f":"'[2]Inventário Completo'!I90","v":"33.042.730/0017-71"},{"$f":"'[2]Inventário Completo'!J90","v":80541767},{"$f":"'[2]Inventário Completo'!K90","v":"Rodovia BR 393, Lúcio Meira KM 5001, SN°, Vila Santa Cecília, Volta Redonda"},{"$f":"'[2]Inventário Completo'!L90","v":"Luiz Cesar"},{"$f":"'[2]Inventário Completo'!M90","v":3105},{"$f":"'[2]Inventário Completo'!N90","v":0},{"$f":"'[2]Inventário Completo'!O90","v":0},{"$f":"'[2]Inventário Completo'!P90","v":"Em uso"},{"$f":"'[2]Inventário Completo'!Q90","v":0}]
[{"$f":"'[2]Inventário Completo'!A91","v":0},{"$f":"'[2]Inventário Completo'!B91","v":"00A0F8DB0FAE"},{"$f":"'[2]Inventário Completo'!C91","v":"Access Point"},{"$f":"'[2]Inventário Completo'!D91","v":"AP4131"},{"$f":"'[2]Inventário Completo'!E91","v":"Symbol"},{"$f":"'[2]Inventário Completo'!F91","v":"COMPANHIA SIDERURGICA NACIONAL"},{"$f":"'[2]Inventário Completo'!G91","v":"CSN-VOLTA REDONDA"},{"$f":"'[2]Inventário Completo'!H91","v":"RJ"},{"$f":"'[2]Inventário Completo'!I91","v":"33.042.730/0017-71"},{"$f":"'[2]Inventário Completo'!J91","v":80541767},{"$f":"'[2]Inventário Completo'!K91","v":"Rodovia BR 393, Lúcio Meira KM 5001, SN°, Vila Santa Cecília, Volta Redonda"},{"$f":"'[2]Inventário Completo'!L91","v":"Luiz Cesar"},{"$f":"'[2]Inventário Completo'!M91","v":3105},{"$f":"'[2]Inventário Completo'!N91","v":0},{"$f":"'[2]Inventário Completo'!O91","v":0},{"$f":"'[2]Inventário Completo'!P91","v":"Em uso"},{"$f":"'[2]Inventário Completo'!Q91","v":0}]
[{"$f":"'[2]Inventário Completo'!A92","v":0},{"$f":"'[2]Inventário Completo'!B92","v":"00A0F8DB100C"},{"$f":"'[2]Inventário Completo'!C92","v":"Access Point"},{"$f":"'[2]Inventário Completo'!D92","v":"AP4131"},{"$f":"'[2]Inventário Completo'!E92","v":"Symbol"},{"$f":"'[2]Inventário Completo'!F92","v":"COMPANHIA SIDERURGICA NACIONAL"},{"$f":"'[2]Inventário Completo'!G92","v":"CSN-VOLTA REDONDA"},{"$f":"'[2]Inventário Completo'!H92","v":"RJ"},{"$f":"'[2]Inventário Completo'!I92","v":"33.042.730/0017-71"},{"$f":"'[2]Inventário Completo'!J92","v":80541767},{"$f":"'[2]Inventário Completo'!K92","v":"Rodovia BR 393, Lúcio Meira KM 5001, SN°, Vila Santa Cecília, Volta Redonda"},{"$f":"'[2]Inventário Completo'!L92","v":"Luiz Cesar"},{"$f":"'[2]Inventário Completo'!M92","v":3105},{"$f":"'[2]Inventário Completo'!N92","v":0},{"$f":"'[2]Inventário Completo'!O92","v":0},{"$f":"'[2]Inventário Completo'!P92","v":"Em uso"},{"$f":"'[2]Inventário Completo'!Q92","v":0}]
[{"$f":"'[2]Inventário Completo'!A93","v":0},{"$f":"'[2]Inventário Completo'!B93","v":"00A0F8DB102F"},{"$f":"'[2]Inventário Completo'!C93","v":"Access Point"},{"$f":"'[2]Inventário Completo'!D93","v":"AP4131"},{"$f":"'[2]Inventário Completo'!E93","v":"Symbol"},{"$f":"'[2]Inventário Completo'!F93","v":"COMPANHIA SIDERURGICA NACIONAL"},{"$f":"'[2]Inventário Completo'!G93","v":"CSN-VOLTA REDONDA"},{"$f":"'[2]Inventário Completo'!H93","v":"RJ"},{"$f":"'[2]Inventário Completo'!I93","v":"33.042.730/0017-71"},{"$f":"'[2]Inventário Completo'!J93","v":80541767},{"$f":"'[2]Inventário Completo'!K93","v":"Rodovia BR 393, Lúcio Meira KM 5001, SN°, Vila Santa Cecília, Volta Redonda"},{"$f":"'[2]Inventário Completo'!L93","v":"Luiz Cesar"},{"$f":"'[2]Inventário Completo'!M93","v":3105},{"$f":"'[2]Inventário Completo'!N93","v":0},{"$f":"'[2]Inventário Completo'!O93","v":0},{"$f":"'[2]Inventário Completo'!P93","v":"Em uso"},{"$f":"'[2]Inventário Completo'!Q93","v":0}]
[{"$f":"'[2]Inventário Completo'!A94","v":0},{"$f":"'[2]Inventário Completo'!B94","v":"00A0F8DB1056"},{"$f":"'[2]Inventário Completo'!C94","v":"Access Point"},{"$f":"'[2]Inventário Completo'!D94","v":"AP4131"},{"$f":"'[2]Inventário Completo'!E94","v":"Symbol"},{"$f":"'[2]Inventário Completo'!F94","v":"COMPANHIA SIDERURGICA NACIONAL"},{"$f":"'[2]Inventário Completo'!G94","v":"CSN-VOLTA REDONDA"},{"$f":"'[2]Inventário Completo'!H94","v":"RJ"},{"$f":"'[2]Inventário Completo'!I94","v":"33.042.730/0017-71"},{"$f":"'[2]Inventário Completo'!J94","v":80541767},{"$f":"'[2]Inventário Completo'!K94","v":"Rodovia BR 393, Lúcio Meira KM 5001, SN°, Vila Santa Cecília, Volta Redonda"},{"$f":"'[2]Inventário Completo'!L94","v":"Luiz Cesar"},{"$f":"'[2]Inventário Completo'!M94","v":3105},{"$f":"'[2]Inventário Completo'!N94","v":0},{"$f":"'[2]Inventário Completo'!O94","v":0},{"$f":"'[2]Inventário Completo'!P94","v":"Em uso"},{"$f":"'[2]Inventário Completo'!Q94","v":0}]
[{"$f":"'[2]Inventário Completo'!A95","v":0},{"$f":"'[2]Inventário Completo'!B95","v":"00A0F8DB1084"},{"$f":"'[2]Inventário Completo'!C95","v":"Access Point"},{"$f":"'[2]Inventário Completo'!D95","v":"AP4131"},{"$f":"'[2]Inventário Completo'!E95","v":"Symbol"},{"$f":"'[2]Inventário Completo'!F95","v":"COMPANHIA SIDERURGICA NACIONAL"},{"$f":"'[2]Inventário Completo'!G95","v":"CSN-VOLTA REDONDA"},{"$f":"'[2]Inventário Completo'!H95","v":"RJ"},{"$f":"'[2]Inventário Completo'!I95","v":"33.042.730/0017-71"},{"$f":"'[2]Inventário Completo'!J95","v":80541767},{"$f":"'[2]Inventário Completo'!K95","v":"Rodovia BR 393, Lúcio Meira KM 5001, SN°, Vila Santa Cecília, Volta Redonda"},{"$f":"'[2]Inventário Completo'!L95","v":"Luiz Cesar"},{"$f":"'[2]Inventário Completo'!M95","v":3105},{"$f":"'[2]Inventário Completo'!N95","v":0},{"$f":"'[2]Inventário Completo'!O95","v":0},{"$f":"'[2]Inventário Completo'!P95","v":"Em uso"},{"$f":"'[2]Inventário Completo'!Q95","v":0}]
[{"$f":"'[2]Inventário Completo'!A96","v":0},{"$f":"'[2]Inventário Completo'!B96","v":"00A0F8DB1088"},{"$f":"'[2]Inventário Completo'!C96","v":"Access Point"},{"$f":"'[2]Inventário Completo'!D96","v":"AP4131"},{"$f":"'[2]Inventário Completo'!E96","v":"Symbol"},{"$f":"'[2]Inventário Completo'!F96","v":"COMPANHIA SIDERURGICA NACIONAL"},{"$f":"'[2]Inventário Completo'!G96","v":"CSN-VOLTA REDONDA"},{"$f":"'[2]Inventário Completo'!H96","v":"RJ"},{"$f":"'[2]Inventário Completo'!I96","v":"33.042.730/0017-71"},{"$f":"'[2]Inventário Completo'!J96","v":80541767},{"$f":"'[2]Inventário Completo'!K96","v":"Rodovia BR 393, Lúcio Meira KM 5001, SN°, Vila Santa Cecília, Volta Redonda"},{"$f":"'[2]Inventário Completo'!L96","v":"Luiz Cesar"},{"$f":"'[2]Inventário Completo'!M96","v":3105},{"$f":"'[2]Inventário Completo'!N96","v":0},{"$f":"'[2]Inventário Completo'!O96","v":0},{"$f":"'[2]Inventário Completo'!P96","v":"Em uso"},{"$f":"'[2]Inventário Completo'!Q96","v":0}]
[{"$f":"'[2]Inventário Completo'!A97","v":0},{"$f":"'[2]Inventário Completo'!B97","v":"00A0F8DB10BC"},{"$f":"'[2]Inventário Completo'!C97","v":"Access Point"},{"$f":"'[2]Inventário Completo'!D97","v":"AP4131"},{"$f":"'[2]Inventário Completo'!E97","v":"Symbol"},{"$f":"'[2]Inventário Completo'!F97","v":"COMPANHIA SIDERURGICA NACIONAL"},{"$f":"'[2]Inventário Completo'!G97","v":"CSN-VOLTA REDONDA"},{"$f":"'[2]Inventário Completo'!H97","v":"RJ"},{"$f":"'[2]Inventário Completo'!I97","v":"33.042.730/0017-71"},{"$f":"'[2]Inventário Completo'!J97","v":80541767},{"$f":"'[2]Inventário Completo'!K97","v":"Rodovia BR 393, Lúcio Meira KM 5001, SN°, Vila Santa Cecília, Volta Redonda"},{"$f":"'[2]Inventário Completo'!L97","v":"Luiz Cesar"},{"$f":"'[2]Inventário Completo'!M97","v":3105},{"$f":"'[2]Inventário Completo'!N97","v":0},{"$f":"'[2]Inventário Completo'!O97","v":0},{"$f":"'[2]Inventário Completo'!P97","v":"Em uso"},{"$f":"'[2]Inventário Completo'!Q97","v":0}]
[{"$f":"'[2]Inventário Completo'!A98","v":0},{"$f":"'[2]Inventário Completo'!B98","v":6364520902291},{"$f":"'[2]Inventário Completo'!C98","v":"Access Point"},{"$f":"'[2]Inventário Completo'!D98","v":"AP5131"},{"$f":"'[2]Inventário Completo'!E98","v":"Symbol"},{"$f":"'[2]Inventário Completo'!F98","v":"COMPANHIA SIDERURGICA NACIONAL"},{"$f":"'[2]Inventário Completo'!G98","v":"CSN-VOLTA REDONDA"},{"$f":"'[2]Inventário Completo'!H98","v":"RJ"},{"$f":"'[2]Inventário Completo'!I98","v":"33.042.730/0017-71"},{"$f":"'[2]Inventário Completo'!J98","v":80541767},{"$f":"'[2]Inventário Completo'!K98","v":"Rodovia BR 393, Lúcio Meira KM 5001, SN°, Vila Santa Cecília, Volta Redonda"},{"$f":"'[2]Inventário Completo'!L98","v":"Luiz Cesar"},{"$f":"'[2]Inventário Completo'!M98","v":3105},{"$f":"'[2]Inventário Completo'!N98","v":0},{"$f":"'[2]Inventário Completo'!O98","v":0},{"$f":"'[2]Inventário Completo'!P98","v":"Em uso"},{"$f":"'[2]Inventário Completo'!Q98","v":0}]
[{"$f":"'[2]Inventário Completo'!A99","v":0},{"$f":"'[2]Inventário Completo'!B99","v":7037520902026},{"$f":"'[2]Inventário Completo'!C99","v":"Access Point"},{"$f":"'[2]Inventário Completo'!D99","v":"AP5131"},{"$f":"'[2]Inventário Completo'!E99","v":"Symbol"},{"$f":"'[2]Inventário Completo'!F99","v":"COMPANHIA SIDERURGICA NACIONAL"},{"$f":"'[2]Inventário Completo'!G99","v":"CSN-VOLTA REDONDA"},{"$f":"'[2]Inventário Completo'!H99","v":"RJ"},{"$f":"'[2]Inventário Completo'!I99","v":"33.042.730/0017-71"},{"$f":"'[2]Inventário Completo'!J99","v":80541767},{"$f":"'[2]Inventário Completo'!K99","v":"Rodovia BR 393, Lúcio Meira KM 5001, SN°, Vila Santa Cecília, Volta Redonda"},{"$f":"'[2]Inventário Completo'!L99","v":"Luiz Cesar"},{"$f":"'[2]Inventário Completo'!M99","v":3105},{"$f":"'[2]Inventário Completo'!N99","v":0},{"$f":"'[2]Inventário Completo'!O99","v":0},{"$f":"'[2]Inventário Completo'!P99","v":"Em uso"},{"$f":"'[2]Inventário Completo'!Q99","v":0}]
[{"$f":"'[2]Inventário Completo'!A100","v":0},{"$f":"'[2]Inventário Completo'!B100","v":7131520900125},{"$f":"'[2]Inventário Completo'!C100","v":"Access Point"},{"$f":"'[2]Inventário Completo'!D100","v":"AP5131"},{"$f":"'[2]Inventário Completo'!E100","v":"Symbol"},{"$f":"'[2]Inventário Completo'!F100","v":"COMPANHIA SIDERURGICA NACIONAL"},{"$f":"'[2]Inventário Completo'!G100","v":"CSN-VOLTA REDONDA"},{"$f":"'[2]Inventário Completo'!H100","v":"RJ"},{"$f":"'[2]Inventário Completo'!I100","v":"33.042.730/0017-71"},{"$f":"'[2]Inventário Completo'!J100","v":80541767},{"$f":"'[2]Inventário Completo'!K100","v":"Rodovia BR 393, Lúcio Meira KM 5001, SN°, Vila Santa Cecília, Volta Redonda"},{"$f":"'[2]Inventário Completo'!L100","v":"Luiz Cesar"},{"$f":"'[2]Inventário Completo'!M100","v":3105},{"$f":"'[2]Inventário Completo'!N100","v":0},{"$f":"'[2]Inventário Completo'!O100","v":0},{"$f":"'[2]Inventário Completo'!P100","v":"Em uso"},{"$f":"'[2]Inventário Completo'!Q100","v":0}]
[{"$f":"'[2]Inventário Completo'!A101","v":0},{"$f":"'[2]Inventário Completo'!B101","v":7131520900126},{"$f":"'[2]Inventário Completo'!C101","v":"Access Point"},{"$f":"'[2]Inventário Completo'!D101","v":"AP5131"},{"$f":"'[2]Inventário Completo'!E101","v":"Symbol"},{"$f":"'[2]Inventário Completo'!F101","v":"COMPANHIA SIDERURGICA NACIONAL"},{"$f":"'[2]Inventário Completo'!G101","v":"CSN-VOLTA REDONDA"},{"$f":"'[2]Inventário Completo'!H101","v":"RJ"},{"$f":"'[2]Inventário Completo'!I101","v":"33.042.730/0017-71"},{"$f":"'[2]Inventário Completo'!J101","v":80541767},{"$f":"'[2]Inventário Completo'!K101","v":"Rodovia BR 393, Lúcio Meira KM 5001, SN°, Vila Santa Cecília, Volta Redonda"},{"$f":"'[2]Inventário Completo'!L101","v":"Luiz Cesar"},{"$f":"'[2]Inventário Completo'!M101","v":3105},{"$f":"'[2]Inventário Completo'!N101","v":0},{"$f":"'[2]Inventário Completo'!O101","v":0},{"$f":"'[2]Inventário Completo'!P101","v":"Em uso"},{"$f":"'[2]Inventário Completo'!Q101","v":0}]
[{"$f":"'[2]Inventário Completo'!A102","v":0},{"$f":"'[2]Inventário Completo'!B102","v":7131520900127},{"$f":"'[2]Inventário Completo'!C102","v":"Access Point"},{"$f":"'[2]Inventário Completo'!D102","v":"AP5131"},{"$f":"'[2]Inventário Completo'!E102","v":"Symbol"},{"$f":"'[2]Inventário Completo'!F102","v":"COMPANHIA SIDERURGICA NACIONAL"},{"$f":"'[2]Inventário Completo'!G102","v":"CSN-VOLTA REDONDA"},{"$f":"'[2]Inventário Completo'!H102","v":"RJ"},{"$f":"'[2]Inventário Completo'!I102","v":"33.042.730/0017-71"},{"$f":"'[2]Inventário Completo'!J102","v":80541767},{"$f":"'[2]Inventário Completo'!K102","v":"Rodovia BR 393, Lúcio Meira KM 5001, SN°, Vila Santa Cecília, Volta Redonda"},{"$f":"'[2]Inventário Completo'!L102","v":"Luiz Cesar"},{"$f":"'[2]Inventário Completo'!M102","v":3105},{"$f":"'[2]Inventário Completo'!N102","v":0},{"$f":"'[2]Inventário Completo'!O102","v":0},{"$f":"'[2]Inventário Completo'!P102","v":"Em uso"},{"$f":"'[2]Inventário Completo'!Q102","v":0}]
[{"$f":"'[2]Inventário Completo'!A103","v":0},{"$f":"'[2]Inventário Completo'!B103","v":7131520900143},{"$f":"'[2]Inventário Completo'!C103","v":"Access Point"},{"$f":"'[2]Inventário Completo'!D103","v":"AP5131"},{"$f":"'[2]Inventário Completo'!E103","v":"Symbol"},{"$f":"'[2]Inventário Completo'!F103","v":"COMPANHIA SIDERURGICA NACIONAL"},{"$f":"'[2]Inventário Completo'!G103","v":"CSN-VOLTA REDONDA"},{"$f":"'[2]Inventário Completo'!H103","v":"RJ"},{"$f":"'[2]Inventário Completo'!I103","v":"33.042.730/0017-71"},{"$f":"'[2]Inventário Completo'!J103","v":80541767},{"$f":"'[2]Inventário Completo'!K103","v":"Rodovia BR 393, Lúcio Meira KM 5001, SN°, Vila Santa Cecília, Volta Redonda"},{"$f":"'[2]Inventário Completo'!L103","v":"Luiz Cesar"},{"$f":"'[2]Inventário Completo'!M103","v":3105},{"$f":"'[2]Inventário Completo'!N103","v":0},{"$f":"'[2]Inventário Completo'!O103","v":0},{"$f":"'[2]Inventário Completo'!P103","v":"Em uso"},{"$f":"'[2]Inventário Completo'!Q103","v":0}]
[{"$f":"'[2]Inventário Completo'!A104","v":0},{"$f":"'[2]Inventário Completo'!B104","v":7131520900213},{"$f":"'[2]Inventário Completo'!C104","v":"Access Point"},{"$f":"'[2]Inventário Completo'!D104","v":"AP5131"},{"$f":"'[2]Inventário Completo'!E104","v":"Symbol"},{"$f":"'[2]Inventário Completo'!F104","v":"COMPANHIA SIDERURGICA NACIONAL"},{"$f":"'[2]Inventário Completo'!G104","v":"CSN-VOLTA REDONDA"},{"$f":"'[2]Inventário Completo'!H104","v":"RJ"},{"$f":"'[2]Inventário Completo'!I104","v":"33.042.730/0017-71"},{"$f":"'[2]Inventário Completo'!J104","v":80541767},{"$f":"'[2]Inventário Completo'!K104","v":"Rodovia BR 393, Lúcio Meira KM 5001, SN°, Vila Santa Cecília, Volta Redonda"},{"$f":"'[2]Inventário Completo'!L104","v":"Luiz Cesar"},{"$f":"'[2]Inventário Completo'!M104","v":3105},{"$f":"'[2]Inventário Completo'!N104","v":0},{"$f":"'[2]Inventário Completo'!O104","v":0},{"$f":"'[2]Inventário Completo'!P104","v":"Em uso"},{"$f":"'[2]Inventário Completo'!Q104","v":0}]
[{"$f":"'[2]Inventário Completo'!A105","v":0},{"$f":"'[2]Inventário Completo'!B105","v":7131520900282},{"$f":"'[2]Inventário Completo'!C105","v":"Access Point"},{"$f":"'[2]Inventário Completo'!D105","v":"AP5131"},{"$f":"'[2]Inventário Completo'!E105","v":"Symbol"},{"$f":"'[2]Inventário Completo'!F105","v":"COMPANHIA SIDERURGICA NACIONAL"},{"$f":"'[2]Inventário Completo'!G105","v":"CSN-VOLTA REDONDA"},{"$f":"'[2]Inventário Completo'!H105","v":"RJ"},{"$f":"'[2]Inventário Completo'!I105","v":"33.042.730/0017-71"},{"$f":"'[2]Inventário Completo'!J105","v":80541767},{"$f":"'[2]Inventário Completo'!K105","v":"Rodovia BR 393, Lúcio Meira KM 5001, SN°, Vila Santa Cecília, Volta Redonda"},{"$f":"'[2]Inventário Completo'!L105","v":"Luiz Cesar"},{"$f":"'[2]Inventário Completo'!M105","v":3105},{"$f":"'[2]Inventário Completo'!N105","v":0},{"$f":"'[2]Inventário Completo'!O105","v":0},{"$f":"'[2]Inventário Completo'!P105","v":"Em uso"},{"$f":"'[2]Inventário Completo'!Q105","v":0}]
[{"$f":"'[2]Inventário Completo'!A106","v":0},{"$f":"'[2]Inventário Completo'!B106","v":7131520900303},{"$f":"'[2]Inventário Completo'!C106","v":"Access Point"},{"$f":"'[2]Inventário Completo'!D106","v":"AP5131"},{"$f":"'[2]Inventário Completo'!E106","v":"Symbol"},{"$f":"'[2]Inventário Completo'!F106","v":"COMPANHIA SIDERURGICA NACIONAL"},{"$f":"'[2]Inventário Completo'!G106","v":"CSN-VOLTA REDONDA"},{"$f":"'[2]Inventário Completo'!H106","v":"RJ"},{"$f":"'[2]Inventário Completo'!I106","v":"33.042.730/0017-71"},{"$f":"'[2]Inventário Completo'!J106","v":80541767},{"$f":"'[2]Inventário Completo'!K106","v":"Rodovia BR 393, Lúcio Meira KM 5001, SN°, Vila Santa Cecília, Volta Redonda"},{"$f":"'[2]Inventário Completo'!L106","v":"Luiz Cesar"},{"$f":"'[2]Inventário Completo'!M106","v":3105},{"$f":"'[2]Inventário Completo'!N106","v":0},{"$f":"'[2]Inventário Completo'!O106","v":0},{"$f":"'[2]Inventário Completo'!P106","v":"Em uso"},{"$f":"'[2]Inventário Completo'!Q106","v":0}]
[{"$f":"'[2]Inventário Completo'!A107","v":0},{"$f":"'[2]Inventário Completo'!B107","v":7131520900455},{"$f":"'[2]Inventário Completo'!C107","v":"Access Point"},{"$f":"'[2]Inventário Completo'!D107","v":"AP5131"},{"$f":"'[2]Inventário Completo'!E107","v":"Symbol"},{"$f":"'[2]Inventário Completo'!F107","v":"COMPANHIA SIDERURGICA NACIONAL"},{"$f":"'[2]Inventário Completo'!G107","v":"CSN-VOLTA REDONDA"},{"$f":"'[2]Inventário Completo'!H107","v":"RJ"},{"$f":"'[2]Inventário Completo'!I107","v":"33.042.730/0017-71"},{"$f":"'[2]Inventário Completo'!J107","v":80541767},{"$f":"'[2]Inventário Completo'!K107","v":"Rodovia BR 393, Lúcio Meira KM 5001, SN°, Vila Santa Cecília, Volta Redonda"},{"$f":"'[2]Inventário Completo'!L107","v":"Luiz Cesar"},{"$f":"'[2]Inventário Completo'!M107","v":3105},{"$f":"'[2]Inventário Completo'!N107","v":0},{"$f":"'[2]Inventário Completo'!O107","v":0},{"$f":"'[2]Inventário Completo'!P107","v":"Em uso"},{"$f":"'[2]Inventário Completo'!Q107","v":0}]
[{"$f":"'[2]Inventário Completo'!A108","v":0},{"$f":"'[2]Inventário Completo'!B108","v":7131520900475},{"$f":"'[2]Inventário Completo'!C108","v":"Access Point"},{"$f":"'[2]Inventário Completo'!D108","v":"AP5131"},{"$f":"'[2]Inventário Completo'!E108","v":"Symbol"},{"$f":"'[2]Inventário Completo'!F108","v":"COMPANHIA SIDERURGICA NACIONAL"},{"$f":"'[2]Inventário Completo'!G108","v":"CSN-VOLTA REDONDA"},{"$f":"'[2]Inventário Completo'!H108","v":"RJ"},{"$f":"'[2]Inventário Completo'!I108","v":"33.042.730/0017-71"},{"$f":"'[2]Inventário Completo'!J108","v":80541767},{"$f":"'[2]Inventário Completo'!K108","v":"Rodovia BR 393, Lúcio Meira KM 5001, SN°, Vila Santa Cecília, Volta Redonda"},{"$f":"'[2]Inventário Completo'!L108","v":"Luiz Cesar"},{"$f":"'[2]Inventário Completo'!M108","v":3105},{"$f":"'[2]Inventário Completo'!N108","v":0},{"$f":"'[2]Inventário Completo'!O108","v":0},{"$f":"'[2]Inventário Completo'!P108","v":"Em uso"},{"$f":"'[2]Inventário Completo'!Q108","v":0}]
[{"$f":"'[2]Inventário Completo'!A109","v":0},{"$f":"'[2]Inventário Completo'!B109","v":7131520900479},{"$f":"'[2]Inventário Completo'!C109","v":"Access Point"},{"$f":"'[2]Inventário Completo'!D109","v":"AP5131"},{"$f":"'[2]Inventário Completo'!E109","v":"Symbol"},{"$f":"'[2]Inventário Completo'!F109","v":"COMPANHIA SIDERURGICA NACIONAL"},{"$f":"'[2]Inventário Completo'!G109","v":"CSN-VOLTA REDONDA"},{"$f":"'[2]Inventário Completo'!H109","v":"RJ"},{"$f":"'[2]Inventário Completo'!I109","v":"33.042.730/0017-71"},{"$f":"'[2]Inventário Completo'!J109","v":80541767},{"$f":"'[2]Inventário Completo'!K109","v":"Rodovia BR 393, Lúcio Meira KM 5001, SN°, Vila Santa Cecília, Volta Redonda"},{"$f":"'[2]Inventário Completo'!L109","v":"Luiz Cesar"},{"$f":"'[2]Inventário Completo'!M109","v":3105},{"$f":"'[2]Inventário Completo'!N109","v":0},{"$f":"'[2]Inventário Completo'!O109","v":0},{"$f":"'[2]Inventário Completo'!P109","v":"Em uso"},{"$f":"'[2]Inventário Completo'!Q109","v":0}]
[{"$f":"'[2]Inventário Completo'!A110","v":0},{"$f":"'[2]Inventário Completo'!B110","v":7131520900529},{"$f":"'[2]Inventário Completo'!C110","v":"Access Point"},{"$f":"'[2]Inventário Completo'!D110","v":"AP5131"},{"$f":"'[2]Inventário Completo'!E110","v":"Symbol"},{"$f":"'[2]Inventário Completo'!F110","v":"COMPANHIA SIDERURGICA NACIONAL"},{"$f":"'[2]Inventário Completo'!G110","v":"CSN-VOLTA REDONDA"},{"$f":"'[2]Inventário Completo'!H110","v":"RJ"},{"$f":"'[2]Inventário Completo'!I110","v":"33.042.730/0017-71"},{"$f":"'[2]Inventário Completo'!J110","v":80541767},{"$f":"'[2]Inventário Completo'!K110","v":"Rodovia BR 393, Lúcio Meira KM 5001, SN°, Vila Santa Cecília, Volta Redonda"},{"$f":"'[2]Inventário Completo'!L110","v":"Luiz Cesar"},{"$f":"'[2]Inventário Completo'!M110","v":3105},{"$f":"'[2]Inventário Completo'!N110","v":0},{"$f":"'[2]Inventário Completo'!O110","v":0},{"$f":"'[2]Inventário Completo'!P110","v":"Em uso"},{"$f":"'[2]Inventário Completo'!Q110","v":0}]
[{"$f":"'[2]Inventário Completo'!A111","v":0},{"$f":"'[2]Inventário Completo'!B111","v":7131520900556},{"$f":"'[2]Inventário Completo'!C111","v":"Access Point"},{"$f":"'[2]Inventário Completo'!D111","v":"AP5131"},{"$f":"'[2]Inventário Completo'!E111","v":"Symbol"},{"$f":"'[2]Inventário Completo'!F111","v":"COMPANHIA SIDERURGICA NACIONAL"},{"$f":"'[2]Inventário Completo'!G111","v":"CSN-VOLTA REDONDA"},{"$f":"'[2]Inventário Completo'!H111","v":"RJ"},{"$f":"'[2]Inventário Completo'!I111","v":"33.042.730/0017-71"},{"$f":"'[2]Inventário Completo'!J111","v":80541767},{"$f":"'[2]Inventário Completo'!K111","v":"Rodovia BR 393, Lúcio Meira KM 5001, SN°, Vila Santa Cecília, Volta Redonda"},{"$f":"'[2]Inventário Completo'!L111","v":"Luiz Cesar"},{"$f":"'[2]Inventário Completo'!M111","v":3105},{"$f":"'[2]Inventário Completo'!N111","v":0},{"$f":"'[2]Inventário Completo'!O111","v":0},{"$f":"'[2]Inventário Completo'!P111","v":"Em uso"},{"$f":"'[2]Inventário Completo'!Q111","v":0}]
[{"$f":"'[2]Inventário Completo'!A112","v":0},{"$f":"'[2]Inventário Completo'!B112","v":7131520900558},{"$f":"'[2]Inventário Completo'!C112","v":"Access Point"},{"$f":"'[2]Inventário Completo'!D112","v":"AP5131"},{"$f":"'[2]Inventário Completo'!E112","v":"Symbol"},{"$f":"'[2]Inventário Completo'!F112","v":"COMPANHIA SIDERURGICA NACIONAL"},{"$f":"'[2]Inventário Completo'!G112","v":"CSN-VOLTA REDONDA"},{"$f":"'[2]Inventário Completo'!H112","v":"RJ"},{"$f":"'[2]Inventário Completo'!I112","v":"33.042.730/0017-71"},{"$f":"'[2]Inventário Completo'!J112","v":80541767},{"$f":"'[2]Inventário Completo'!K112","v":"Rodovia BR 393, Lúcio Meira KM 5001, SN°, Vila Santa Cecília, Volta Redonda"},{"$f":"'[2]Inventário Completo'!L112","v":"Luiz Cesar"},{"$f":"'[2]Inventário Completo'!M112","v":3105},{"$f":"'[2]Inventário Completo'!N112","v":0},{"$f":"'[2]Inventário Completo'!O112","v":0},{"$f":"'[2]Inventário Completo'!P112","v":"Em uso"},{"$f":"'[2]Inventário Completo'!Q112","v":0}]
[{"$f":"'[2]Inventário Completo'!A113","v":0},{"$f":"'[2]Inventário Completo'!B113","v":7131520900622},{"$f":"'[2]Inventário Completo'!C113","v":"Access Point"},{"$f":"'[2]Inventário Completo'!D113","v":"AP5131"},{"$f":"'[2]Inventário Completo'!E113","v":"Symbol"},{"$f":"'[2]Inventário Completo'!F113","v":"COMPANHIA SIDERURGICA NACIONAL"},{"$f":"'[2]Inventário Completo'!G113","v":"CSN-VOLTA REDONDA"},{"$f":"'[2]Inventário Completo'!H113","v":"RJ"},{"$f":"'[2]Inventário Completo'!I113","v":"33.042.730/0017-71"},{"$f":"'[2]Inventário Completo'!J113","v":80541767},{"$f":"'[2]Inventário Completo'!K113","v":"Rodovia BR 393, Lúcio Meira KM 5001, SN°, Vila Santa Cecília, Volta Redonda"},{"$f":"'[2]Inventário Completo'!L113","v":"Luiz Cesar"},{"$f":"'[2]Inventário Completo'!M113","v":3105},{"$f":"'[2]Inventário Completo'!N113","v":0},{"$f":"'[2]Inventário Completo'!O113","v":0},{"$f":"'[2]Inventário Completo'!P113","v":"Em uso"},{"$f":"'[2]Inventário Completo'!Q113","v":0}]
[{"$f":"'[2]Inventário Completo'!A114","v":0},{"$f":"'[2]Inventário Completo'!B114","v":7131520900687},{"$f":"'[2]Inventário Completo'!C114","v":"Access Point"},{"$f":"'[2]Inventário Completo'!D114","v":"AP5131"},{"$f":"'[2]Inventário Completo'!E114","v":"Symbol"},{"$f":"'[2]Inventário Completo'!F114","v":"COMPANHIA SIDERURGICA NACIONAL"},{"$f":"'[2]Inventário Completo'!G114","v":"CSN-VOLTA REDONDA"},{"$f":"'[2]Inventário Completo'!H114","v":"RJ"},{"$f":"'[2]Inventário Completo'!I114","v":"33.042.730/0017-71"},{"$f":"'[2]Inventário Completo'!J114","v":80541767},{"$f":"'[2]Inventário Completo'!K114","v":"Rodovia BR 393, Lúcio Meira KM 5001, SN°, Vila Santa Cecília, Volta Redonda"},{"$f":"'[2]Inventário Completo'!L114","v":"Luiz Cesar"},{"$f":"'[2]Inventário Completo'!M114","v":3105},{"$f":"'[2]Inventário Completo'!N114","v":0},{"$f":"'[2]Inventário Completo'!O114","v":0},{"$f":"'[2]Inventário Completo'!P114","v":"Em uso"},{"$f":"'[2]Inventário Completo'!Q114","v":0}]
[{"$f":"'[2]Inventário Completo'!A115","v":0},{"$f":"'[2]Inventário Completo'!B115","v":7272520902755},{"$f":"'[2]Inventário Completo'!C115","v":"Access Point"},{"$f":"'[2]Inventário Completo'!D115","v":"AP5131"},{"$f":"'[2]Inventário Completo'!E115","v":"Symbol"},{"$f":"'[2]Inventário Completo'!F115","v":"COMPANHIA SIDERURGICA NACIONAL"},{"$f":"'[2]Inventário Completo'!G115","v":"CSN-VOLTA REDONDA"},{"$f":"'[2]Inventário Completo'!H115","v":"RJ"},{"$f":"'[2]Inventário Completo'!I115","v":"33.042.730/0017-71"},{"$f":"'[2]Inventário Completo'!J115","v":80541767},{"$f":"'[2]Inventário Completo'!K115","v":"Rodovia BR 393, Lúcio Meira KM 5001, SN°, Vila Santa Cecília, Volta Redonda"},{"$f":"'[2]Inventário Completo'!L115","v":"Luiz Cesar"},{"$f":"'[2]Inventário Completo'!M115","v":3105},{"$f":"'[2]Inventário Completo'!N115","v":0},{"$f":"'[2]Inventário Completo'!O115","v":0},{"$f":"'[2]Inventário Completo'!P115","v":"Em uso"},{"$f":"'[2]Inventário Completo'!Q115","v":0}]
[{"$f":"'[2]Inventário Completo'!A116","v":0},{"$f":"'[2]Inventário Completo'!B116","v":10289520900184},{"$f":"'[2]Inventário Completo'!C116","v":"Access Point"},{"$f":"'[2]Inventário Completo'!D116","v":"AP5131"},{"$f":"'[2]Inventário Completo'!E116","v":"Symbol"},{"$f":"'[2]Inventário Completo'!F116","v":"COMPANHIA SIDERURGICA NACIONAL"},{"$f":"'[2]Inventário Completo'!G116","v":"CSN-VOLTA REDONDA"},{"$f":"'[2]Inventário Completo'!H116","v":"RJ"},{"$f":"'[2]Inventário Completo'!I116","v":"33.042.730/0017-71"},{"$f":"'[2]Inventário Completo'!J116","v":80541767},{"$f":"'[2]Inventário Completo'!K116","v":"Rodovia BR 393, Lúcio Meira KM 5001, SN°, Vila Santa Cecília, Volta Redonda"},{"$f":"'[2]Inventário Completo'!L116","v":"Luiz Cesar"},{"$f":"'[2]Inventário Completo'!M116","v":3105},{"$f":"'[2]Inventário Completo'!N116","v":0},{"$f":"'[2]Inventário Completo'!O116","v":0},{"$f":"'[2]Inventário Completo'!P116","v":"Em uso"},{"$f":"'[2]Inventário Completo'!Q116","v":0}]
[{"$f":"'[2]Inventário Completo'!A117","v":0},{"$f":"'[2]Inventário Completo'!B117","v":10289520900393},{"$f":"'[2]Inventário Completo'!C117","v":"Access Point"},{"$f":"'[2]Inventário Completo'!D117","v":"AP5131"},{"$f":"'[2]Inventário Completo'!E117","v":"Symbol"},{"$f":"'[2]Inventário Completo'!F117","v":"COMPANHIA SIDERURGICA NACIONAL"},{"$f":"'[2]Inventário Completo'!G117","v":"CSN-VOLTA REDONDA"},{"$f":"'[2]Inventário Completo'!H117","v":"RJ"},{"$f":"'[2]Inventário Completo'!I117","v":"33.042.730/0017-71"},{"$f":"'[2]Inventário Completo'!J117","v":80541767},{"$f":"'[2]Inventário Completo'!K117","v":"Rodovia BR 393, Lúcio Meira KM 5001, SN°, Vila Santa Cecília, Volta Redonda"},{"$f":"'[2]Inventário Completo'!L117","v":"Luiz Cesar"},{"$f":"'[2]Inventário Completo'!M117","v":3105},{"$f":"'[2]Inventário Completo'!N117","v":0},{"$f":"'[2]Inventário Completo'!O117","v":0},{"$f":"'[2]Inventário Completo'!P117","v":"Em uso"},{"$f":"'[2]Inventário Completo'!Q117","v":0}]
[{"$f":"'[2]Inventário Completo'!A118","v":0},{"$f":"'[2]Inventário Completo'!B118","v":10289520900409},{"$f":"'[2]Inventário Completo'!C118","v":"Access Point"},{"$f":"'[2]Inventário Completo'!D118","v":"AP5131"},{"$f":"'[2]Inventário Completo'!E118","v":"Symbol"},{"$f":"'[2]Inventário Completo'!F118","v":"COMPANHIA SIDERURGICA NACIONAL"},{"$f":"'[2]Inventário Completo'!G118","v":"CSN-VOLTA REDONDA"},{"$f":"'[2]Inventário Completo'!H118","v":"RJ"},{"$f":"'[2]Inventário Completo'!I118","v":"33.042.730/0017-71"},{"$f":"'[2]Inventário Completo'!J118","v":80541767},{"$f":"'[2]Inventário Completo'!K118","v":"Rodovia BR 393, Lúcio Meira KM 5001, SN°, Vila Santa Cecília, Volta Redonda"},{"$f":"'[2]Inventário Completo'!L118","v":"Luiz Cesar"},{"$f":"'[2]Inventário Completo'!M118","v":3105},{"$f":"'[2]Inventário Completo'!N118","v":0},{"$f":"'[2]Inventário Completo'!O118","v":0},{"$f":"'[2]Inventário Completo'!P118","v":"Em uso"},{"$f":"'[2]Inventário Completo'!Q118","v":0}]
[{"$f":"'[2]Inventário Completo'!A119","v":0},{"$f":"'[2]Inventário Completo'!B119","v":10289520900754},{"$f":"'[2]Inventário Completo'!C119","v":"Access Point"},{"$f":"'[2]Inventário Completo'!D119","v":"AP5131"},{"$f":"'[2]Inventário Completo'!E119","v":"Symbol"},{"$f":"'[2]Inventário Completo'!F119","v":"COMPANHIA SIDERURGICA NACIONAL"},{"$f":"'[2]Inventário Completo'!G119","v":"CSN-VOLTA REDONDA"},{"$f":"'[2]Inventário Completo'!H119","v":"RJ"},{"$f":"'[2]Inventário Completo'!I119","v":"33.042.730/0017-71"},{"$f":"'[2]Inventário Completo'!J119","v":80541767},{"$f":"'[2]Inventário Completo'!K119","v":"Rodovia BR 393, Lúcio Meira KM 5001, SN°, Vila Santa Cecília, Volta Redonda"},{"$f":"'[2]Inventário Completo'!L119","v":"Luiz Cesar"},{"$f":"'[2]Inventário Completo'!M119","v":3105},{"$f":"'[2]Inventário Completo'!N119","v":0},{"$f":"'[2]Inventário Completo'!O119","v":0},{"$f":"'[2]Inventário Completo'!P119","v":"Em uso"},{"$f":"'[2]Inventário Completo'!Q119","v":0}]
[{"$f":"'[2]Inventário Completo'!A120","v":0},{"$f":"'[2]Inventário Completo'!B120","v":10289520900765},{"$f":"'[2]Inventário Completo'!C120","v":"Access Point"},{"$f":"'[2]Inventário Completo'!D120","v":"AP5131"},{"$f":"'[2]Inventário Completo'!E120","v":"Symbol"},{"$f":"'[2]Inventário Completo'!F120","v":"COMPANHIA SIDERURGICA NACIONAL"},{"$f":"'[2]Inventário Completo'!G120","v":"CSN-VOLTA REDONDA"},{"$f":"'[2]Inventário Completo'!H120","v":"RJ"},{"$f":"'[2]Inventário Completo'!I120","v":"33.042.730/0017-71"},{"$f":"'[2]Inventário Completo'!J120","v":80541767},{"$f":"'[2]Inventário Completo'!K120","v":"Rodovia BR 393, Lúcio Meira KM 5001, SN°, Vila Santa Cecília, Volta Redonda"},{"$f":"'[2]Inventário Completo'!L120","v":"Luiz Cesar"},{"$f":"'[2]Inventário Completo'!M120","v":3105},{"$f":"'[2]Inventário Completo'!N120","v":0},{"$f":"'[2]Inventário Completo'!O120","v":0},{"$f":"'[2]Inventário Completo'!P120","v":"Em uso"},{"$f":"'[2]Inventário Completo'!Q120","v":0}]
[{"$f":"'[2]Inventário Completo'!A121","v":0},{"$f":"'[2]Inventário Completo'!B121","v":11092520901746},{"$f":"'[2]Inventário Completo'!C121","v":"Access Point"},{"$f":"'[2]Inventário Completo'!D121","v":"AP5131"},{"$f":"'[2]Inventário Completo'!E121","v":"Symbol"},{"$f":"'[2]Inventário Completo'!F121","v":"COMPANHIA SIDERURGICA NACIONAL"},{"$f":"'[2]Inventário Completo'!G121","v":"CSN-VOLTA REDONDA"},{"$f":"'[2]Inventário Completo'!H121","v":"RJ"},{"$f":"'[2]Inventário Completo'!I121","v":"33.042.730/0017-71"},{"$f":"'[2]Inventário Completo'!J121","v":80541767},{"$f":"'[2]Inventário Completo'!K121","v":"Rodovia BR 393, Lúcio Meira KM 5001, SN°, Vila Santa Cecília, Volta Redonda"},{"$f":"'[2]Inventário Completo'!L121","v":"Luiz Cesar"},{"$f":"'[2]Inventário Completo'!M121","v":3105},{"$f":"'[2]Inventário Completo'!N121","v":0},{"$f":"'[2]Inventário Completo'!O121","v":0},{"$f":"'[2]Inventário Completo'!P121","v":"Em uso"},{"$f":"'[2]Inventário Completo'!Q121","v":0}]
[{"$f":"'[2]Inventário Completo'!A122","v":0},{"$f":"'[2]Inventário Completo'!B122","v":11092520901771},{"$f":"'[2]Inventário Completo'!C122","v":"Access Point"},{"$f":"'[2]Inventário Completo'!D122","v":"AP5131"},{"$f":"'[2]Inventário Completo'!E122","v":"Symbol"},{"$f":"'[2]Inventário Completo'!F122","v":"COMPANHIA SIDERURGICA NACIONAL"},{"$f":"'[2]Inventário Completo'!G122","v":"CSN-VOLTA REDONDA"},{"$f":"'[2]Inventário Completo'!H122","v":"RJ"},{"$f":"'[2]Inventário Completo'!I122","v":"33.042.730/0017-71"},{"$f":"'[2]Inventário Completo'!J122","v":80541767},{"$f":"'[2]Inventário Completo'!K122","v":"Rodovia BR 393, Lúcio Meira KM 5001, SN°, Vila Santa Cecília, Volta Redonda"},{"$f":"'[2]Inventário Completo'!L122","v":"Luiz Cesar"},{"$f":"'[2]Inventário Completo'!M122","v":3105},{"$f":"'[2]Inventário Completo'!N122","v":0},{"$f":"'[2]Inventário Completo'!O122","v":0},{"$f":"'[2]Inventário Completo'!P122","v":"Em uso"},{"$f":"'[2]Inventário Completo'!Q122","v":0}]
[{"$f":"'[2]Inventário Completo'!A123","v":0},{"$f":"'[2]Inventário Completo'!B123","v":11093520900196},{"$f":"'[2]Inventário Completo'!C123","v":"Access Point"},{"$f":"'[2]Inventário Completo'!D123","v":"AP5181"},{"$f":"'[2]Inventário Completo'!E123","v":"Symbol"},{"$f":"'[2]Inventário Completo'!F123","v":"COMPANHIA SIDERURGICA NACIONAL"},{"$f":"'[2]Inventário Completo'!G123","v":"CSN-VOLTA REDONDA"},{"$f":"'[2]Inventário Completo'!H123","v":"RJ"},{"$f":"'[2]Inventário Completo'!I123","v":"33.042.730/0017-71"},{"$f":"'[2]Inventário Completo'!J123","v":80541767},{"$f":"'[2]Inventário Completo'!K123","v":"Rodovia BR 393, Lúcio Meira KM 5001, SN°, Vila Santa Cecília, Volta Redonda"},{"$f":"'[2]Inventário Completo'!L123","v":"Luiz Cesar"},{"$f":"'[2]Inventário Completo'!M123","v":3105},{"$f":"'[2]Inventário Completo'!N123","v":0},{"$f":"'[2]Inventário Completo'!O123","v":0},{"$f":"'[2]Inventário Completo'!P123","v":"Em uso"},{"$f":"'[2]Inventário Completo'!Q123","v":0}]
[{"$f":"'[2]Inventário Completo'!A124","v":0},{"$f":"'[2]Inventário Completo'!B124","v":11134520901840},{"$f":"'[2]Inventário Completo'!C124","v":"Access Point"},{"$f":"'[2]Inventário Completo'!D124","v":"AP5131"},{"$f":"'[2]Inventário Completo'!E124","v":"Symbol"},{"$f":"'[2]Inventário Completo'!F124","v":"COMPANHIA SIDERURGICA NACIONAL"},{"$f":"'[2]Inventário Completo'!G124","v":"CSN-VOLTA REDONDA"},{"$f":"'[2]Inventário Completo'!H124","v":"RJ"},{"$f":"'[2]Inventário Completo'!I124","v":"33.042.730/0017-71"},{"$f":"'[2]Inventário Completo'!J124","v":80541767},{"$f":"'[2]Inventário Completo'!K124","v":"Rodovia BR 393, Lúcio Meira KM 5001, SN°, Vila Santa Cecília, Volta Redonda"},{"$f":"'[2]Inventário Completo'!L124","v":"Luiz Cesar"},{"$f":"'[2]Inventário Completo'!M124","v":3105},{"$f":"'[2]Inventário Completo'!N124","v":0},{"$f":"'[2]Inventário Completo'!O124","v":0},{"$f":"'[2]Inventário Completo'!P124","v":"Em uso"},{"$f":"'[2]Inventário Completo'!Q124","v":0}]
[{"$f":"'[2]Inventário Completo'!A125","v":0},{"$f":"'[2]Inventário Completo'!B125","v":11134520901845},{"$f":"'[2]Inventário Completo'!C125","v":"Access Point"},{"$f":"'[2]Inventário Completo'!D125","v":"AP5131"},{"$f":"'[2]Inventário Completo'!E125","v":"Symbol"},{"$f":"'[2]Inventário Completo'!F125","v":"COMPANHIA SIDERURGICA NACIONAL"},{"$f":"'[2]Inventário Completo'!G125","v":"CSN-VOLTA REDONDA"},{"$f":"'[2]Inventário Completo'!H125","v":"RJ"},{"$f":"'[2]Inventário Completo'!I125","v":"33.042.730/0017-71"},{"$f":"'[2]Inventário Completo'!J125","v":80541767},{"$f":"'[2]Inventário Completo'!K125","v":"Rodovia BR 393, Lúcio Meira KM 5001, SN°, Vila Santa Cecília, Volta Redonda"},{"$f":"'[2]Inventário Completo'!L125","v":"Luiz Cesar"},{"$f":"'[2]Inventário Completo'!M125","v":3105},{"$f":"'[2]Inventário Completo'!N125","v":0},{"$f":"'[2]Inventário Completo'!O125","v":0},{"$f":"'[2]Inventário Completo'!P125","v":"Em uso"},{"$f":"'[2]Inventário Completo'!Q125","v":0}]
[{"$f":"'[2]Inventário Completo'!A126","v":0},{"$f":"'[2]Inventário Completo'!B126","v":11158520900313},{"$f":"'[2]Inventário Completo'!C126","v":"Access Point"},{"$f":"'[2]Inventário Completo'!D126","v":"AP5131"},{"$f":"'[2]Inventário Completo'!E126","v":"Symbol"},{"$f":"'[2]Inventário Completo'!F126","v":"COMPANHIA SIDERURGICA NACIONAL"},{"$f":"'[2]Inventário Completo'!G126","v":"CSN-VOLTA REDONDA"},{"$f":"'[2]Inventário Completo'!H126","v":"RJ"},{"$f":"'[2]Inventário Completo'!I126","v":"33.042.730/0017-71"},{"$f":"'[2]Inventário Completo'!J126","v":80541767},{"$f":"'[2]Inventário Completo'!K126","v":"Rodovia BR 393, Lúcio Meira KM 5001, SN°, Vila Santa Cecília, Volta Redonda"},{"$f":"'[2]Inventário Completo'!L126","v":"Luiz Cesar"},{"$f":"'[2]Inventário Completo'!M126","v":3105},{"$f":"'[2]Inventário Completo'!N126","v":0},{"$f":"'[2]Inventário Completo'!O126","v":0},{"$f":"'[2]Inventário Completo'!P126","v":"Em uso"},{"$f":"'[2]Inventário Completo'!Q126","v":0}]
[{"$f":"'[2]Inventário Completo'!A127","v":0},{"$f":"'[2]Inventário Completo'!B127","v":11158520900318},{"$f":"'[2]Inventário Completo'!C127","v":"Access Point"},{"$f":"'[2]Inventário Completo'!D127","v":"AP5131"},{"$f":"'[2]Inventário Completo'!E127","v":"Symbol"},{"$f":"'[2]Inventário Completo'!F127","v":"COMPANHIA SIDERURGICA NACIONAL"},{"$f":"'[2]Inventário Completo'!G127","v":"CSN-VOLTA REDONDA"},{"$f":"'[2]Inventário Completo'!H127","v":"RJ"},{"$f":"'[2]Inventário Completo'!I127","v":"33.042.730/0017-71"},{"$f":"'[2]Inventário Completo'!J127","v":80541767},{"$f":"'[2]Inventário Completo'!K127","v":"Rodovia BR 393, Lúcio Meira KM 5001, SN°, Vila Santa Cecília, Volta Redonda"},{"$f":"'[2]Inventário Completo'!L127","v":"Luiz Cesar"},{"$f":"'[2]Inventário Completo'!M127","v":3105},{"$f":"'[2]Inventário Completo'!N127","v":0},{"$f":"'[2]Inventário Completo'!O127","v":0},{"$f":"'[2]Inventário Completo'!P127","v":"Em uso"},{"$f":"'[2]Inventário Completo'!Q127","v":0}]
[{"$f":"'[2]Inventário Completo'!A128","v":0},{"$f":"'[2]Inventário Completo'!B128","v":11158520900320},{"$f":"'[2]Inventário Completo'!C128","v":"Access Point"},{"$f":"'[2]Inventário Completo'!D128","v":"AP5131"},{"$f":"'[2]Inventário Completo'!E128","v":"Symbol"},{"$f":"'[2]Inventário Completo'!F128","v":"COMPANHIA SIDERURGICA NACIONAL"},{"$f":"'[2]Inventário Completo'!G128","v":"CSN-VOLTA REDONDA"},{"$f":"'[2]Inventário Completo'!H128","v":"RJ"},{"$f":"'[2]Inventário Completo'!I128","v":"33.042.730/0017-71"},{"$f":"'[2]Inventário Completo'!J128","v":80541767},{"$f":"'[2]Inventário Completo'!K128","v":"Rodovia BR 393, Lúcio Meira KM 5001, SN°, Vila Santa Cecília, Volta Redonda"},{"$f":"'[2]Inventário Completo'!L128","v":"Luiz Cesar"},{"$f":"'[2]Inventário Completo'!M128","v":3105},{"$f":"'[2]Inventário Completo'!N128","v":0},{"$f":"'[2]Inventário Completo'!O128","v":0},{"$f":"'[2]Inventário Completo'!P128","v":"Em uso"},{"$f":"'[2]Inventário Completo'!Q128","v":0}]
[{"$f":"'[2]Inventário Completo'!A129","v":0},{"$f":"'[2]Inventário Completo'!B129","v":11196520902140},{"$f":"'[2]Inventário Completo'!C129","v":"Access Point"},{"$f":"'[2]Inventário Completo'!D129","v":"AP5131"},{"$f":"'[2]Inventário Completo'!E129","v":"Symbol"},{"$f":"'[2]Inventário Completo'!F129","v":"COMPANHIA SIDERURGICA NACIONAL"},{"$f":"'[2]Inventário Completo'!G129","v":"CSN-VOLTA REDONDA"},{"$f":"'[2]Inventário Completo'!H129","v":"RJ"},{"$f":"'[2]Inventário Completo'!I129","v":"33.042.730/0017-71"},{"$f":"'[2]Inventário Completo'!J129","v":80541767},{"$f":"'[2]Inventário Completo'!K129","v":"Rodovia BR 393, Lúcio Meira KM 5001, SN°, Vila Santa Cecília, Volta Redonda"},{"$f":"'[2]Inventário Completo'!L129","v":"Luiz Cesar"},{"$f":"'[2]Inventário Completo'!M129","v":3105},{"$f":"'[2]Inventário Completo'!N129","v":0},{"$f":"'[2]Inventário Completo'!O129","v":0},{"$f":"'[2]Inventário Completo'!P129","v":"Em uso"},{"$f":"'[2]Inventário Completo'!Q129","v":0}]
[{"$f":"'[2]Inventário Completo'!A130","v":0},{"$f":"'[2]Inventário Completo'!B130","v":11196520902572},{"$f":"'[2]Inventário Completo'!C130","v":"Access Point"},{"$f":"'[2]Inventário Completo'!D130","v":"AP5131"},{"$f":"'[2]Inventário Completo'!E130","v":"Symbol"},{"$f":"'[2]Inventário Completo'!F130","v":"COMPANHIA SIDERURGICA NACIONAL"},{"$f":"'[2]Inventário Completo'!G130","v":"CSN-VOLTA REDONDA"},{"$f":"'[2]Inventário Completo'!H130","v":"RJ"},{"$f":"'[2]Inventário Completo'!I130","v":"33.042.730/0017-71"},{"$f":"'[2]Inventário Completo'!J130","v":80541767},{"$f":"'[2]Inventário Completo'!K130","v":"Rodovia BR 393, Lúcio Meira KM 5001, SN°, Vila Santa Cecília, Volta Redonda"},{"$f":"'[2]Inventário Completo'!L130","v":"Luiz Cesar"},{"$f":"'[2]Inventário Completo'!M130","v":3105},{"$f":"'[2]Inventário Completo'!N130","v":0},{"$f":"'[2]Inventário Completo'!O130","v":0},{"$f":"'[2]Inventário Completo'!P130","v":"Em uso"},{"$f":"'[2]Inventário Completo'!Q130","v":0}]
[{"$f":"'[2]Inventário Completo'!A131","v":0},{"$f":"'[2]Inventário Completo'!B131","v":"00A0F8DB10B7"},{"$f":"'[2]Inventário Completo'!C131","v":"Access Point"},{"$f":"'[2]Inventário Completo'!D131","v":"AP4131"},{"$f":"'[2]Inventário Completo'!E131","v":"Symbol"},{"$f":"'[2]Inventário Completo'!F131","v":"COMPANHIA SIDERURGICA NACIONAL"},{"$f":"'[2]Inventário Completo'!G131","v":"CSN-VOLTA REDONDA"},{"$f":"'[2]Inventário Completo'!H131","v":"RJ"},{"$f":"'[2]Inventário Completo'!I131","v":"33.042.730/0017-71"},{"$f":"'[2]Inventário Completo'!J131","v":80541767},{"$f":"'[2]Inventário Completo'!K131","v":"Rodovia BR 393, Lúcio Meira KM 5001, SN°, Vila Santa Cecília, Volta Redonda"},{"$f":"'[2]Inventário Completo'!L131","v":"Luiz Cesar"},{"$f":"'[2]Inventário Completo'!M131","v":3105},{"$f":"'[2]Inventário Completo'!N131","v":0},{"$f":"'[2]Inventário Completo'!O131","v":0},{"$f":"'[2]Inventário Completo'!P131","v":"Em uso"},{"$f":"'[2]Inventário Completo'!Q131","v":0}]
[{"$f":"'[2]Inventário Completo'!A132","v":0},{"$f":"'[2]Inventário Completo'!B132","v":7326520900064},{"$f":"'[2]Inventário Completo'!C132","v":"Access Point"},{"$f":"'[2]Inventário Completo'!D132","v":"AP5181"},{"$f":"'[2]Inventário Completo'!E132","v":"Symbol"},{"$f":"'[2]Inventário Completo'!F132","v":"COMPANHIA SIDERURGICA NACIONAL"},{"$f":"'[2]Inventário Completo'!G132","v":"CSN-VOLTA REDONDA"},{"$f":"'[2]Inventário Completo'!H132","v":"RJ"},{"$f":"'[2]Inventário Completo'!I132","v":"33.042.730/0017-71"},{"$f":"'[2]Inventário Completo'!J132","v":80541767},{"$f":"'[2]Inventário Completo'!K132","v":"Rodovia BR 393, Lúcio Meira KM 5001, SN°, Vila Santa Cecília, Volta Redonda"},{"$f":"'[2]Inventário Completo'!L132","v":"Luiz Cesar"},{"$f":"'[2]Inventário Completo'!M132","v":3105},{"$f":"'[2]Inventário Completo'!N132","v":0},{"$f":"'[2]Inventário Completo'!O132","v":0},{"$f":"'[2]Inventário Completo'!P132","v":"Em uso"},{"$f":"'[2]Inventário Completo'!Q132","v":0}]
[{"$f":"'[2]Inventário Completo'!A133","v":0},{"$f":"'[2]Inventário Completo'!B133","v":7326520900074},{"$f":"'[2]Inventário Completo'!C133","v":"Access Point"},{"$f":"'[2]Inventário Completo'!D133","v":"AP5181"},{"$f":"'[2]Inventário Completo'!E133","v":"Symbol"},{"$f":"'[2]Inventário Completo'!F133","v":"COMPANHIA SIDERURGICA NACIONAL"},{"$f":"'[2]Inventário Completo'!G133","v":"CSN-VOLTA REDONDA"},{"$f":"'[2]Inventário Completo'!H133","v":"RJ"},{"$f":"'[2]Inventário Completo'!I133","v":"33.042.730/0017-71"},{"$f":"'[2]Inventário Completo'!J133","v":80541767},{"$f":"'[2]Inventário Completo'!K133","v":"Rodovia BR 393, Lúcio Meira KM 5001, SN°, Vila Santa Cecília, Volta Redonda"},{"$f":"'[2]Inventário Completo'!L133","v":"Luiz Cesar"},{"$f":"'[2]Inventário Completo'!M133","v":3105},{"$f":"'[2]Inventário Completo'!N133","v":0},{"$f":"'[2]Inventário Completo'!O133","v":0},{"$f":"'[2]Inventário Completo'!P133","v":"Em uso"},{"$f":"'[2]Inventário Completo'!Q133","v":0}]
[{"$f":"'[2]Inventário Completo'!A134","v":0},{"$f":"'[2]Inventário Completo'!B134","v":7331520900006},{"$f":"'[2]Inventário Completo'!C134","v":"Access Point"},{"$f":"'[2]Inventário Completo'!D134","v":"AP5181"},{"$f":"'[2]Inventário Completo'!E134","v":"Symbol"},{"$f":"'[2]Inventário Completo'!F134","v":"COMPANHIA SIDERURGICA NACIONAL"},{"$f":"'[2]Inventário Completo'!G134","v":"CSN-VOLTA REDONDA"},{"$f":"'[2]Inventário Completo'!H134","v":"RJ"},{"$f":"'[2]Inventário Completo'!I134","v":"33.042.730/0017-71"},{"$f":"'[2]Inventário Completo'!J134","v":80541767},{"$f":"'[2]Inventário Completo'!K134","v":"Rodovia BR 393, Lúcio Meira KM 5001, SN°, Vila Santa Cecília, Volta Redonda"},{"$f":"'[2]Inventário Completo'!L134","v":"Luiz Cesar"},{"$f":"'[2]Inventário Completo'!M134","v":3105},{"$f":"'[2]Inventário Completo'!N134","v":0},{"$f":"'[2]Inventário Completo'!O134","v":0},{"$f":"'[2]Inventário Completo'!P134","v":"Em uso"},{"$f":"'[2]Inventário Completo'!Q134","v":0}]
[{"$f":"'[2]Inventário Completo'!A135","v":0},{"$f":"'[2]Inventário Completo'!B135","v":7331520900020},{"$f":"'[2]Inventário Completo'!C135","v":"Access Point"},{"$f":"'[2]Inventário Completo'!D135","v":"AP5181"},{"$f":"'[2]Inventário Completo'!E135","v":"Symbol"},{"$f":"'[2]Inventário Completo'!F135","v":"COMPANHIA SIDERURGICA NACIONAL"},{"$f":"'[2]Inventário Completo'!G135","v":"CSN-VOLTA REDONDA"},{"$f":"'[2]Inventário Completo'!H135","v":"RJ"},{"$f":"'[2]Inventário Completo'!I135","v":"33.042.730/0017-71"},{"$f":"'[2]Inventário Completo'!J135","v":80541767},{"$f":"'[2]Inventário Completo'!K135","v":"Rodovia BR 393, Lúcio Meira KM 5001, SN°, Vila Santa Cecília, Volta Redonda"},{"$f":"'[2]Inventário Completo'!L135","v":"Luiz Cesar"},{"$f":"'[2]Inventário Completo'!M135","v":3105},{"$f":"'[2]Inventário Completo'!N135","v":0},{"$f":"'[2]Inventário Completo'!O135","v":0},{"$f":"'[2]Inventário Completo'!P135","v":"Em uso"},{"$f":"'[2]Inventário Completo'!Q135","v":0}]
[{"$f":"'[2]Inventário Completo'!A136","v":0},{"$f":"'[2]Inventário Completo'!B136","v":7331520900027},{"$f":"'[2]Inventário Completo'!C136","v":"Access Point"},{"$f":"'[2]Inventário Completo'!D136","v":"AP5181"},{"$f":"'[2]Inventário Completo'!E136","v":"Symbol"},{"$f":"'[2]Inventário Completo'!F136","v":"COMPANHIA SIDERURGICA NACIONAL"},{"$f":"'[2]Inventário Completo'!G136","v":"CSN-VOLTA REDONDA"},{"$f":"'[2]Inventário Completo'!H136","v":"RJ"},{"$f":"'[2]Inventário Completo'!I136","v":"33.042.730/0017-71"},{"$f":"'[2]Inventário Completo'!J136","v":80541767},{"$f":"'[2]Inventário Completo'!K136","v":"Rodovia BR 393, Lúcio Meira KM 5001, SN°, Vila Santa Cecília, Volta Redonda"},{"$f":"'[2]Inventário Completo'!L136","v":"Luiz Cesar"},{"$f":"'[2]Inventário Completo'!M136","v":3105},{"$f":"'[2]Inventário Completo'!N136","v":0},{"$f":"'[2]Inventário Completo'!O136","v":0},{"$f":"'[2]Inventário Completo'!P136","v":"Em uso"},{"$f":"'[2]Inventário Completo'!Q136","v":0}]
[{"$f":"'[2]Inventário Completo'!A137","v":0},{"$f":"'[2]Inventário Completo'!B137","v":7331520900039},{"$f":"'[2]Inventário Completo'!C137","v":"Access Point"},{"$f":"'[2]Inventário Completo'!D137","v":"AP5181"},{"$f":"'[2]Inventário Completo'!E137","v":"Symbol"},{"$f":"'[2]Inventário Completo'!F137","v":"COMPANHIA SIDERURGICA NACIONAL"},{"$f":"'[2]Inventário Completo'!G137","v":"CSN-VOLTA REDONDA"},{"$f":"'[2]Inventário Completo'!H137","v":"RJ"},{"$f":"'[2]Inventário Completo'!I137","v":"33.042.730/0017-71"},{"$f":"'[2]Inventário Completo'!J137","v":80541767},{"$f":"'[2]Inventário Completo'!K137","v":"Rodovia BR 393, Lúcio Meira KM 5001, SN°, Vila Santa Cecília, Volta Redonda"},{"$f":"'[2]Inventário Completo'!L137","v":"Luiz Cesar"},{"$f":"'[2]Inventário Completo'!M137","v":3105},{"$f":"'[2]Inventário Completo'!N137","v":0},{"$f":"'[2]Inventário Completo'!O137","v":0},{"$f":"'[2]Inventário Completo'!P137","v":"Em uso"},{"$f":"'[2]Inventário Completo'!Q137","v":0}]
[{"$f":"'[2]Inventário Completo'!A138","v":0},{"$f":"'[2]Inventário Completo'!B138","v":7331520900075},{"$f":"'[2]Inventário Completo'!C138","v":"Access Point"},{"$f":"'[2]Inventário Completo'!D138","v":"AP5181"},{"$f":"'[2]Inventário Completo'!E138","v":"Symbol"},{"$f":"'[2]Inventário Completo'!F138","v":"COMPANHIA SIDERURGICA NACIONAL"},{"$f":"'[2]Inventário Completo'!G138","v":"CSN-VOLTA REDONDA"},{"$f":"'[2]Inventário Completo'!H138","v":"RJ"},{"$f":"'[2]Inventário Completo'!I138","v":"33.042.730/0017-71"},{"$f":"'[2]Inventário Completo'!J138","v":80541767},{"$f":"'[2]Inventário Completo'!K138","v":"Rodovia BR 393, Lúcio Meira KM 5001, SN°, Vila Santa Cecília, Volta Redonda"},{"$f":"'[2]Inventário Completo'!L138","v":"Luiz Cesar"},{"$f":"'[2]Inventário Completo'!M138","v":3105},{"$f":"'[2]Inventário Completo'!N138","v":0},{"$f":"'[2]Inventário Completo'!O138","v":0},{"$f":"'[2]Inventário Completo'!P138","v":"Em uso"},{"$f":"'[2]Inventário Completo'!Q138","v":0}]
[{"$f":"'[2]Inventário Completo'!A139","v":0},{"$f":"'[2]Inventário Completo'!B139","v":8338520900106},{"$f":"'[2]Inventário Completo'!C139","v":"Access Point"},{"$f":"'[2]Inventário Completo'!D139","v":"AP5181"},{"$f":"'[2]Inventário Completo'!E139","v":"Symbol"},{"$f":"'[2]Inventário Completo'!F139","v":"COMPANHIA SIDERURGICA NACIONAL"},{"$f":"'[2]Inventário Completo'!G139","v":"CSN-VOLTA REDONDA"},{"$f":"'[2]Inventário Completo'!H139","v":"RJ"},{"$f":"'[2]Inventário Completo'!I139","v":"33.042.730/0017-71"},{"$f":"'[2]Inventário Completo'!J139","v":80541767},{"$f":"'[2]Inventário Completo'!K139","v":"Rodovia BR 393, Lúcio Meira KM 5001, SN°, Vila Santa Cecília, Volta Redonda"},{"$f":"'[2]Inventário Completo'!L139","v":"Luiz Cesar"},{"$f":"'[2]Inventário Completo'!M139","v":3105},{"$f":"'[2]Inventário Completo'!N139","v":0},{"$f":"'[2]Inventário Completo'!O139","v":0},{"$f":"'[2]Inventário Completo'!P139","v":"Em uso"},{"$f":"'[2]Inventário Completo'!Q139","v":0}]
[{"$f":"'[2]Inventário Completo'!A140","v":0},{"$f":"'[2]Inventário Completo'!B140","v":10114520900829},{"$f":"'[2]Inventário Completo'!C140","v":"Access Point"},{"$f":"'[2]Inventário Completo'!D140","v":"AP5181"},{"$f":"'[2]Inventário Completo'!E140","v":"Symbol"},{"$f":"'[2]Inventário Completo'!F140","v":"COMPANHIA SIDERURGICA NACIONAL"},{"$f":"'[2]Inventário Completo'!G140","v":"CSN-VOLTA REDONDA"},{"$f":"'[2]Inventário Completo'!H140","v":"RJ"},{"$f":"'[2]Inventário Completo'!I140","v":"33.042.730/0017-71"},{"$f":"'[2]Inventário Completo'!J140","v":80541767},{"$f":"'[2]Inventário Completo'!K140","v":"Rodovia BR 393, Lúcio Meira KM 5001, SN°, Vila Santa Cecília, Volta Redonda"},{"$f":"'[2]Inventário Completo'!L140","v":"Luiz Cesar"},{"$f":"'[2]Inventário Completo'!M140","v":3105},{"$f":"'[2]Inventário Completo'!N140","v":0},{"$f":"'[2]Inventário Completo'!O140","v":0},{"$f":"'[2]Inventário Completo'!P140","v":"Em uso"},{"$f":"'[2]Inventário Completo'!Q140","v":0}]
[{"$f":"'[2]Inventário Completo'!A141","v":0},{"$f":"'[2]Inventário Completo'!B141","v":10114520900874},{"$f":"'[2]Inventário Completo'!C141","v":"Access Point"},{"$f":"'[2]Inventário Completo'!D141","v":"AP5181"},{"$f":"'[2]Inventário Completo'!E141","v":"Symbol"},{"$f":"'[2]Inventário Completo'!F141","v":"COMPANHIA SIDERURGICA NACIONAL"},{"$f":"'[2]Inventário Completo'!G141","v":"CSN-VOLTA REDONDA"},{"$f":"'[2]Inventário Completo'!H141","v":"RJ"},{"$f":"'[2]Inventário Completo'!I141","v":"33.042.730/0017-71"},{"$f":"'[2]Inventário Completo'!J141","v":80541767},{"$f":"'[2]Inventário Completo'!K141","v":"Rodovia BR 393, Lúcio Meira KM 5001, SN°, Vila Santa Cecília, Volta Redonda"},{"$f":"'[2]Inventário Completo'!L141","v":"Luiz Cesar"},{"$f":"'[2]Inventário Completo'!M141","v":3105},{"$f":"'[2]Inventário Completo'!N141","v":0},{"$f":"'[2]Inventário Completo'!O141","v":0},{"$f":"'[2]Inventário Completo'!P141","v":"Em uso"},{"$f":"'[2]Inventário Completo'!Q141","v":0}]
[{"$f":"'[2]Inventário Completo'!A142","v":0},{"$f":"'[2]Inventário Completo'!B142","v":10168520900034},{"$f":"'[2]Inventário Completo'!C142","v":"Access Point"},{"$f":"'[2]Inventário Completo'!D142","v":"AP5181"},{"$f":"'[2]Inventário Completo'!E142","v":"Symbol"},{"$f":"'[2]Inventário Completo'!F142","v":"COMPANHIA SIDERURGICA NACIONAL"},{"$f":"'[2]Inventário Completo'!G142","v":"CSN-VOLTA REDONDA"},{"$f":"'[2]Inventário Completo'!H142","v":"RJ"},{"$f":"'[2]Inventário Completo'!I142","v":"33.042.730/0017-71"},{"$f":"'[2]Inventário Completo'!J142","v":80541767},{"$f":"'[2]Inventário Completo'!K142","v":"Rodovia BR 393, Lúcio Meira KM 5001, SN°, Vila Santa Cecília, Volta Redonda"},{"$f":"'[2]Inventário Completo'!L142","v":"Luiz Cesar"},{"$f":"'[2]Inventário Completo'!M142","v":3105},{"$f":"'[2]Inventário Completo'!N142","v":0},{"$f":"'[2]Inventário Completo'!O142","v":0},{"$f":"'[2]Inventário Completo'!P142","v":"Em uso"},{"$f":"'[2]Inventário Completo'!Q142","v":0}]
[{"$f":"'[2]Inventário Completo'!A143","v":0},{"$f":"'[2]Inventário Completo'!B143","v":10168520900050},{"$f":"'[2]Inventário Completo'!C143","v":"Access Point"},{"$f":"'[2]Inventário Completo'!D143","v":"AP5181"},{"$f":"'[2]Inventário Completo'!E143","v":"Symbol"},{"$f":"'[2]Inventário Completo'!F143","v":"COMPANHIA SIDERURGICA NACIONAL"},{"$f":"'[2]Inventário Completo'!G143","v":"CSN-VOLTA REDONDA"},{"$f":"'[2]Inventário Completo'!H143","v":"RJ"},{"$f":"'[2]Inventário Completo'!I143","v":"33.042.730/0017-71"},{"$f":"'[2]Inventário Completo'!J143","v":80541767},{"$f":"'[2]Inventário Completo'!K143","v":"Rodovia BR 393, Lúcio Meira KM 5001, SN°, Vila Santa Cecília, Volta Redonda"},{"$f":"'[2]Inventário Completo'!L143","v":"Luiz Cesar"},{"$f":"'[2]Inventário Completo'!M143","v":3105},{"$f":"'[2]Inventário Completo'!N143","v":0},{"$f":"'[2]Inventário Completo'!O143","v":0},{"$f":"'[2]Inventário Completo'!P143","v":"Em uso"},{"$f":"'[2]Inventário Completo'!Q143","v":0}]
[{"$f":"'[2]Inventário Completo'!A144","v":0},{"$f":"'[2]Inventário Completo'!B144","v":10168520900060},{"$f":"'[2]Inventário Completo'!C144","v":"Access Point"},{"$f":"'[2]Inventário Completo'!D144","v":"AP5181"},{"$f":"'[2]Inventário Completo'!E144","v":"Symbol"},{"$f":"'[2]Inventário Completo'!F144","v":"COMPANHIA SIDERURGICA NACIONAL"},{"$f":"'[2]Inventário Completo'!G144","v":"CSN-VOLTA REDONDA"},{"$f":"'[2]Inventário Completo'!H144","v":"RJ"},{"$f":"'[2]Inventário Completo'!I144","v":"33.042.730/0017-71"},{"$f":"'[2]Inventário Completo'!J144","v":80541767},{"$f":"'[2]Inventário Completo'!K144","v":"Rodovia BR 393, Lúcio Meira KM 5001, SN°, Vila Santa Cecília, Volta Redonda"},{"$f":"'[2]Inventário Completo'!L144","v":"Luiz Cesar"},{"$f":"'[2]Inventário Completo'!M144","v":3105},{"$f":"'[2]Inventário Completo'!N144","v":0},{"$f":"'[2]Inventário Completo'!O144","v":0},{"$f":"'[2]Inventário Completo'!P144","v":"Em uso"},{"$f":"'[2]Inventário Completo'!Q144","v":0}]
[{"$f":"'[2]Inventário Completo'!A145","v":0},{"$f":"'[2]Inventário Completo'!B145","v":10168520900063},{"$f":"'[2]Inventário Completo'!C145","v":"Access Point"},{"$f":"'[2]Inventário Completo'!D145","v":"AP5181"},{"$f":"'[2]Inventário Completo'!E145","v":"Symbol"},{"$f":"'[2]Inventário Completo'!F145","v":"COMPANHIA SIDERURGICA NACIONAL"},{"$f":"'[2]Inventário Completo'!G145","v":"CSN-VOLTA REDONDA"},{"$f":"'[2]Inventário Completo'!H145","v":"RJ"},{"$f":"'[2]Inventário Completo'!I145","v":"33.042.730/0017-71"},{"$f":"'[2]Inventário Completo'!J145","v":80541767},{"$f":"'[2]Inventário Completo'!K145","v":"Rodovia BR 393, Lúcio Meira KM 5001, SN°, Vila Santa Cecília, Volta Redonda"},{"$f":"'[2]Inventário Completo'!L145","v":"Luiz Cesar"},{"$f":"'[2]Inventário Completo'!M145","v":3105},{"$f":"'[2]Inventário Completo'!N145","v":0},{"$f":"'[2]Inventário Completo'!O145","v":0},{"$f":"'[2]Inventário Completo'!P145","v":"Em uso"},{"$f":"'[2]Inventário Completo'!Q145","v":0}]
[{"$f":"'[2]Inventário Completo'!A146","v":0},{"$f":"'[2]Inventário Completo'!B146","v":10235520900116},{"$f":"'[2]Inventário Completo'!C146","v":"Access Point"},{"$f":"'[2]Inventário Completo'!D146","v":"AP5181"},{"$f":"'[2]Inventário Completo'!E146","v":"Symbol"},{"$f":"'[2]Inventário Completo'!F146","v":"COMPANHIA SIDERURGICA NACIONAL"},{"$f":"'[2]Inventário Completo'!G146","v":"CSN-VOLTA REDONDA"},{"$f":"'[2]Inventário Completo'!H146","v":"RJ"},{"$f":"'[2]Inventário Completo'!I146","v":"33.042.730/0017-71"},{"$f":"'[2]Inventário Completo'!J146","v":80541767},{"$f":"'[2]Inventário Completo'!K146","v":"Rodovia BR 393, Lúcio Meira KM 5001, SN°, Vila Santa Cecília, Volta Redonda"},{"$f":"'[2]Inventário Completo'!L146","v":"Luiz Cesar"},{"$f":"'[2]Inventário Completo'!M146","v":3105},{"$f":"'[2]Inventário Completo'!N146","v":0},{"$f":"'[2]Inventário Completo'!O146","v":0},{"$f":"'[2]Inventário Completo'!P146","v":"Em uso"},{"$f":"'[2]Inventário Completo'!Q146","v":0}]
[{"$f":"'[2]Inventário Completo'!A147","v":0},{"$f":"'[2]Inventário Completo'!B147","v":10259520900120},{"$f":"'[2]Inventário Completo'!C147","v":"Access Point"},{"$f":"'[2]Inventário Completo'!D147","v":"AP5181"},{"$f":"'[2]Inventário Completo'!E147","v":"Symbol"},{"$f":"'[2]Inventário Completo'!F147","v":"COMPANHIA SIDERURGICA NACIONAL"},{"$f":"'[2]Inventário Completo'!G147","v":"CSN-VOLTA REDONDA"},{"$f":"'[2]Inventário Completo'!H147","v":"RJ"},{"$f":"'[2]Inventário Completo'!I147","v":"33.042.730/0017-71"},{"$f":"'[2]Inventário Completo'!J147","v":80541767},{"$f":"'[2]Inventário Completo'!K147","v":"Rodovia BR 393, Lúcio Meira KM 5001, SN°, Vila Santa Cecília, Volta Redonda"},{"$f":"'[2]Inventário Completo'!L147","v":"Luiz Cesar"},{"$f":"'[2]Inventário Completo'!M147","v":3105},{"$f":"'[2]Inventário Completo'!N147","v":0},{"$f":"'[2]Inventário Completo'!O147","v":0},{"$f":"'[2]Inventário Completo'!P147","v":"Em uso"},{"$f":"'[2]Inventário Completo'!Q147","v":0}]
[{"$f":"'[2]Inventário Completo'!A148","v":0},{"$f":"'[2]Inventário Completo'!B148","v":11099520901244},{"$f":"'[2]Inventário Completo'!C148","v":"Access Point"},{"$f":"'[2]Inventário Completo'!D148","v":"AP5181"},{"$f":"'[2]Inventário Completo'!E148","v":"Symbol"},{"$f":"'[2]Inventário Completo'!F148","v":"COMPANHIA SIDERURGICA NACIONAL"},{"$f":"'[2]Inventário Completo'!G148","v":"CSN-VOLTA REDONDA"},{"$f":"'[2]Inventário Completo'!H148","v":"RJ"},{"$f":"'[2]Inventário Completo'!I148","v":"33.042.730/0017-71"},{"$f":"'[2]Inventário Completo'!J148","v":80541767},{"$f":"'[2]Inventário Completo'!K148","v":"Rodovia BR 393, Lúcio Meira KM 5001, SN°, Vila Santa Cecília, Volta Redonda"},{"$f":"'[2]Inventário Completo'!L148","v":"Luiz Cesar"},{"$f":"'[2]Inventário Completo'!M148","v":3105},{"$f":"'[2]Inventário Completo'!N148","v":0},{"$f":"'[2]Inventário Completo'!O148","v":0},{"$f":"'[2]Inventário Completo'!P148","v":"Em uso"},{"$f":"'[2]Inventário Completo'!Q148","v":0}]
[{"$f":"'[2]Inventário Completo'!A149","v":0},{"$f":"'[2]Inventário Completo'!B149","v":12090522200337},{"$f":"'[2]Inventário Completo'!C149","v":"Access Point"},{"$f":"'[2]Inventário Completo'!D149","v":"AP6532"},{"$f":"'[2]Inventário Completo'!E149","v":"Motorola"},{"$f":"'[2]Inventário Completo'!F149","v":"COMPANHIA SIDERURGICA NACIONAL"},{"$f":"'[2]Inventário Completo'!G149","v":"CSN-VOLTA REDONDA"},{"$f":"'[2]Inventário Completo'!H149","v":"RJ"},{"$f":"'[2]Inventário Completo'!I149","v":"33.042.730/0017-71"},{"$f":"'[2]Inventário Completo'!J149","v":80541767},{"$f":"'[2]Inventário Completo'!K149","v":"Rodovia BR 393, Lúcio Meira KM 5001, SN°, Vila Santa Cecília, Volta Redonda"},{"$f":"'[2]Inventário Completo'!L149","v":"Luiz Cesar"},{"$f":"'[2]Inventário Completo'!M149","v":3105},{"$f":"'[2]Inventário Completo'!N149","v":0},{"$f":"'[2]Inventário Completo'!O149","v":0},{"$f":"'[2]Inventário Completo'!P149","v":"Em uso"},{"$f":"'[2]Inventário Completo'!Q149","v":0}]
[{"$f":"'[2]Inventário Completo'!A150","v":0},{"$f":"'[2]Inventário Completo'!B150","v":12145522200795},{"$f":"'[2]Inventário Completo'!C150","v":"Access Point"},{"$f":"'[2]Inventário Completo'!D150","v":"AP6532"},{"$f":"'[2]Inventário Completo'!E150","v":"Motorola"},{"$f":"'[2]Inventário Completo'!F150","v":"COMPANHIA SIDERURGICA NACIONAL"},{"$f":"'[2]Inventário Completo'!G150","v":"CSN-VOLTA REDONDA"},{"$f":"'[2]Inventário Completo'!H150","v":"RJ"},{"$f":"'[2]Inventário Completo'!I150","v":"33.042.730/0017-71"},{"$f":"'[2]Inventário Completo'!J150","v":80541767},{"$f":"'[2]Inventário Completo'!K150","v":"Rodovia BR 393, Lúcio Meira KM 5001, SN°, Vila Santa Cecília, Volta Redonda"},{"$f":"'[2]Inventário Completo'!L150","v":"Luiz Cesar"},{"$f":"'[2]Inventário Completo'!M150","v":3105},{"$f":"'[2]Inventário Completo'!N150","v":0},{"$f":"'[2]Inventário Completo'!O150","v":0},{"$f":"'[2]Inventário Completo'!P150","v":"Em uso"},{"$f":"'[2]Inventário Completo'!Q150","v":0}]
[{"$f":"'[2]Inventário Completo'!A151","v":0},{"$f":"'[2]Inventário Completo'!B151","v":12167522202910},{"$f":"'[2]Inventário Completo'!C151","v":"Access Point"},{"$f":"'[2]Inventário Completo'!D151","v":"AP6532"},{"$f":"'[2]Inventário Completo'!E151","v":"Motorola"},{"$f":"'[2]Inventário Completo'!F151","v":"COMPANHIA SIDERURGICA NACIONAL"},{"$f":"'[2]Inventário Completo'!G151","v":"CSN-VOLTA REDONDA"},{"$f":"'[2]Inventário Completo'!H151","v":"RJ"},{"$f":"'[2]Inventário Completo'!I151","v":"33.042.730/0017-71"},{"$f":"'[2]Inventário Completo'!J151","v":80541767},{"$f":"'[2]Inventário Completo'!K151","v":"Rodovia BR 393, Lúcio Meira KM 5001, SN°, Vila Santa Cecília, Volta Redonda"},{"$f":"'[2]Inventário Completo'!L151","v":"Luiz Cesar"},{"$f":"'[2]Inventário Completo'!M151","v":3105},{"$f":"'[2]Inventário Completo'!N151","v":0},{"$f":"'[2]Inventário Completo'!O151","v":0},{"$f":"'[2]Inventário Completo'!P151","v":"Em uso"},{"$f":"'[2]Inventário Completo'!Q151","v":0}]
[{"$f":"'[2]Inventário Completo'!A152","v":0},{"$f":"'[2]Inventário Completo'!B152","v":12201522203257},{"$f":"'[2]Inventário Completo'!C152","v":"Access Point"},{"$f":"'[2]Inventário Completo'!D152","v":"AP6532"},{"$f":"'[2]Inventário Completo'!E152","v":"Motorola"},{"$f":"'[2]Inventário Completo'!F152","v":"COMPANHIA SIDERURGICA NACIONAL"},{"$f":"'[2]Inventário Completo'!G152","v":"CSN-VOLTA REDONDA"},{"$f":"'[2]Inventário Completo'!H152","v":"RJ"},{"$f":"'[2]Inventário Completo'!I152","v":"33.042.730/0017-71"},{"$f":"'[2]Inventário Completo'!J152","v":80541767},{"$f":"'[2]Inventário Completo'!K152","v":"Rodovia BR 393, Lúcio Meira KM 5001, SN°, Vila Santa Cecília, Volta Redonda"},{"$f":"'[2]Inventário Completo'!L152","v":"Luiz Cesar"},{"$f":"'[2]Inventário Completo'!M152","v":3105},{"$f":"'[2]Inventário Completo'!N152","v":0},{"$f":"'[2]Inventário Completo'!O152","v":0},{"$f":"'[2]Inventário Completo'!P152","v":"Em uso"},{"$f":"'[2]Inventário Completo'!Q152","v":0}]
[{"$f":"'[2]Inventário Completo'!A153","v":0},{"$f":"'[2]Inventário Completo'!B153","v":12201522203258},{"$f":"'[2]Inventário Completo'!C153","v":"Access Point"},{"$f":"'[2]Inventário Completo'!D153","v":"AP6532"},{"$f":"'[2]Inventário Completo'!E153","v":"Motorola"},{"$f":"'[2]Inventário Completo'!F153","v":"COMPANHIA SIDERURGICA NACIONAL"},{"$f":"'[2]Inventário Completo'!G153","v":"CSN-VOLTA REDONDA"},{"$f":"'[2]Inventário Completo'!H153","v":"RJ"},{"$f":"'[2]Inventário Completo'!I153","v":"33.042.730/0017-71"},{"$f":"'[2]Inventário Completo'!J153","v":80541767},{"$f":"'[2]Inventário Completo'!K153","v":"Rodovia BR 393, Lúcio Meira KM 5001, SN°, Vila Santa Cecília, Volta Redonda"},{"$f":"'[2]Inventário Completo'!L153","v":"Luiz Cesar"},{"$f":"'[2]Inventário Completo'!M153","v":3105},{"$f":"'[2]Inventário Completo'!N153","v":0},{"$f":"'[2]Inventário Completo'!O153","v":0},{"$f":"'[2]Inventário Completo'!P153","v":"Em uso"},{"$f":"'[2]Inventário Completo'!Q153","v":0}]
[{"$f":"'[2]Inventário Completo'!A154","v":0},{"$f":"'[2]Inventário Completo'!B154","v":14080522201207},{"$f":"'[2]Inventário Completo'!C154","v":"Access Point"},{"$f":"'[2]Inventário Completo'!D154","v":"AP6532"},{"$f":"'[2]Inventário Completo'!E154","v":"Motorola"},{"$f":"'[2]Inventário Completo'!F154","v":"COMPANHIA SIDERURGICA NACIONAL"},{"$f":"'[2]Inventário Completo'!G154","v":"CSN-VOLTA REDONDA"},{"$f":"'[2]Inventário Completo'!H154","v":"RJ"},{"$f":"'[2]Inventário Completo'!I154","v":"33.042.730/0017-71"},{"$f":"'[2]Inventário Completo'!J154","v":80541767},{"$f":"'[2]Inventário Completo'!K154","v":"Rodovia BR 393, Lúcio Meira KM 5001, SN°, Vila Santa Cecília, Volta Redonda"},{"$f":"'[2]Inventário Completo'!L154","v":"Luiz Cesar"},{"$f":"'[2]Inventário Completo'!M154","v":3105},{"$f":"'[2]Inventário Completo'!N154","v":0},{"$f":"'[2]Inventário Completo'!O154","v":0},{"$f":"'[2]Inventário Completo'!P154","v":"Em uso"},{"$f":"'[2]Inventário Completo'!Q154","v":0}]
[{"$f":"'[2]Inventário Completo'!A155","v":0},{"$f":"'[2]Inventário Completo'!B155","v":14080522201233},{"$f":"'[2]Inventário Completo'!C155","v":"Access Point"},{"$f":"'[2]Inventário Completo'!D155","v":"AP6532"},{"$f":"'[2]Inventário Completo'!E155","v":"Motorola"},{"$f":"'[2]Inventário Completo'!F155","v":"COMPANHIA SIDERURGICA NACIONAL"},{"$f":"'[2]Inventário Completo'!G155","v":"CSN-VOLTA REDONDA"},{"$f":"'[2]Inventário Completo'!H155","v":"RJ"},{"$f":"'[2]Inventário Completo'!I155","v":"33.042.730/0017-71"},{"$f":"'[2]Inventário Completo'!J155","v":80541767},{"$f":"'[2]Inventário Completo'!K155","v":"Rodovia BR 393, Lúcio Meira KM 5001, SN°, Vila Santa Cecília, Volta Redonda"},{"$f":"'[2]Inventário Completo'!L155","v":"Luiz Cesar"},{"$f":"'[2]Inventário Completo'!M155","v":3105},{"$f":"'[2]Inventário Completo'!N155","v":0},{"$f":"'[2]Inventário Completo'!O155","v":0},{"$f":"'[2]Inventário Completo'!P155","v":"Em uso"},{"$f":"'[2]Inventário Completo'!Q155","v":0}]
[{"$f":"'[2]Inventário Completo'!A156","v":0},{"$f":"'[2]Inventário Completo'!B156","v":14080522201393},{"$f":"'[2]Inventário Completo'!C156","v":"Access Point"},{"$f":"'[2]Inventário Completo'!D156","v":"AP6532"},{"$f":"'[2]Inventário Completo'!E156","v":"Motorola"},{"$f":"'[2]Inventário Completo'!F156","v":"COMPANHIA SIDERURGICA NACIONAL"},{"$f":"'[2]Inventário Completo'!G156","v":"CSN-VOLTA REDONDA"},{"$f":"'[2]Inventário Completo'!H156","v":"RJ"},{"$f":"'[2]Inventário Completo'!I156","v":"33.042.730/0017-71"},{"$f":"'[2]Inventário Completo'!J156","v":80541767},{"$f":"'[2]Inventário Completo'!K156","v":"Rodovia BR 393, Lúcio Meira KM 5001, SN°, Vila Santa Cecília, Volta Redonda"},{"$f":"'[2]Inventário Completo'!L156","v":"Luiz Cesar"},{"$f":"'[2]Inventário Completo'!M156","v":3105},{"$f":"'[2]Inventário Completo'!N156","v":0},{"$f":"'[2]Inventário Completo'!O156","v":0},{"$f":"'[2]Inventário Completo'!P156","v":"Em uso"},{"$f":"'[2]Inventário Completo'!Q156","v":0}]
[{"$f":"'[2]Inventário Completo'!A157","v":0},{"$f":"'[2]Inventário Completo'!B157","v":14080522201397},{"$f":"'[2]Inventário Completo'!C157","v":"Access Point"},{"$f":"'[2]Inventário Completo'!D157","v":"AP6532"},{"$f":"'[2]Inventário Completo'!E157","v":"Motorola"},{"$f":"'[2]Inventário Completo'!F157","v":"COMPANHIA SIDERURGICA NACIONAL"},{"$f":"'[2]Inventário Completo'!G157","v":"CSN-VOLTA REDONDA"},{"$f":"'[2]Inventário Completo'!H157","v":"RJ"},{"$f":"'[2]Inventário Completo'!I157","v":"33.042.730/0017-71"},{"$f":"'[2]Inventário Completo'!J157","v":80541767},{"$f":"'[2]Inventário Completo'!K157","v":"Rodovia BR 393, Lúcio Meira KM 5001, SN°, Vila Santa Cecília, Volta Redonda"},{"$f":"'[2]Inventário Completo'!L157","v":"Luiz Cesar"},{"$f":"'[2]Inventário Completo'!M157","v":3105},{"$f":"'[2]Inventário Completo'!N157","v":0},{"$f":"'[2]Inventário Completo'!O157","v":0},{"$f":"'[2]Inventário Completo'!P157","v":"Em uso"},{"$f":"'[2]Inventário Completo'!Q157","v":0}]
[{"$f":"'[2]Inventário Completo'!A158","v":0},{"$f":"'[2]Inventário Completo'!B158","v":14346522202215},{"$f":"'[2]Inventário Completo'!C158","v":"Access Point"},{"$f":"'[2]Inventário Completo'!D158","v":"AP6532"},{"$f":"'[2]Inventário Completo'!E158","v":"Motorola"},{"$f":"'[2]Inventário Completo'!F158","v":"COMPANHIA SIDERURGICA NACIONAL"},{"$f":"'[2]Inventário Completo'!G158","v":"CSN-VOLTA REDONDA"},{"$f":"'[2]Inventário Completo'!H158","v":"RJ"},{"$f":"'[2]Inventário Completo'!I158","v":"33.042.730/0017-71"},{"$f":"'[2]Inventário Completo'!J158","v":80541767},{"$f":"'[2]Inventário Completo'!K158","v":"Rodovia BR 393, Lúcio Meira KM 5001, SN°, Vila Santa Cecília, Volta Redonda"},{"$f":"'[2]Inventário Completo'!L158","v":"Luiz Cesar"},{"$f":"'[2]Inventário Completo'!M158","v":3105},{"$f":"'[2]Inventário Completo'!N158","v":0},{"$f":"'[2]Inventário Completo'!O158","v":0},{"$f":"'[2]Inventário Completo'!P158","v":"Em uso"},{"$f":"'[2]Inventário Completo'!Q158","v":0}]
[{"$f":"'[2]Inventário Completo'!A159","v":0},{"$f":"'[2]Inventário Completo'!B159","v":14346522202254},{"$f":"'[2]Inventário Completo'!C159","v":"Access Point"},{"$f":"'[2]Inventário Completo'!D159","v":"AP6532"},{"$f":"'[2]Inventário Completo'!E159","v":"Motorola"},{"$f":"'[2]Inventário Completo'!F159","v":"COMPANHIA SIDERURGICA NACIONAL"},{"$f":"'[2]Inventário Completo'!G159","v":"CSN-VOLTA REDONDA"},{"$f":"'[2]Inventário Completo'!H159","v":"RJ"},{"$f":"'[2]Inventário Completo'!I159","v":"33.042.730/0017-71"},{"$f":"'[2]Inventário Completo'!J159","v":80541767},{"$f":"'[2]Inventário Completo'!K159","v":"Rodovia BR 393, Lúcio Meira KM 5001, SN°, Vila Santa Cecília, Volta Redonda"},{"$f":"'[2]Inventário Completo'!L159","v":"Luiz Cesar"},{"$f":"'[2]Inventário Completo'!M159","v":3105},{"$f":"'[2]Inventário Completo'!N159","v":0},{"$f":"'[2]Inventário Completo'!O159","v":0},{"$f":"'[2]Inventário Completo'!P159","v":"Em uso"},{"$f":"'[2]Inventário Completo'!Q159","v":0}]
[{"$f":"'[2]Inventário Completo'!A160","v":0},{"$f":"'[2]Inventário Completo'!B160","v":14346522202256},{"$f":"'[2]Inventário Completo'!C160","v":"Access Point"},{"$f":"'[2]Inventário Completo'!D160","v":"AP6532"},{"$f":"'[2]Inventário Completo'!E160","v":"Motorola"},{"$f":"'[2]Inventário Completo'!F160","v":"COMPANHIA SIDERURGICA NACIONAL"},{"$f":"'[2]Inventário Completo'!G160","v":"CSN-VOLTA REDONDA"},{"$f":"'[2]Inventário Completo'!H160","v":"RJ"},{"$f":"'[2]Inventário Completo'!I160","v":"33.042.730/0017-71"},{"$f":"'[2]Inventário Completo'!J160","v":80541767},{"$f":"'[2]Inventário Completo'!K160","v":"Rodovia BR 393, Lúcio Meira KM 5001, SN°, Vila Santa Cecília, Volta Redonda"},{"$f":"'[2]Inventário Completo'!L160","v":"Luiz Cesar"},{"$f":"'[2]Inventário Completo'!M160","v":3105},{"$f":"'[2]Inventário Completo'!N160","v":0},{"$f":"'[2]Inventário Completo'!O160","v":0},{"$f":"'[2]Inventário Completo'!P160","v":"Em uso"},{"$f":"'[2]Inventário Completo'!Q160","v":0}]
[{"$f":"'[2]Inventário Completo'!A161","v":0},{"$f":"'[2]Inventário Completo'!B161","v":14346522202364},{"$f":"'[2]Inventário Completo'!C161","v":"Access Point"},{"$f":"'[2]Inventário Completo'!D161","v":"AP6532"},{"$f":"'[2]Inventário Completo'!E161","v":"Motorola"},{"$f":"'[2]Inventário Completo'!F161","v":"COMPANHIA SIDERURGICA NACIONAL"},{"$f":"'[2]Inventário Completo'!G161","v":"CSN-VOLTA REDONDA"},{"$f":"'[2]Inventário Completo'!H161","v":"RJ"},{"$f":"'[2]Inventário Completo'!I161","v":"33.042.730/0017-71"},{"$f":"'[2]Inventário Completo'!J161","v":80541767},{"$f":"'[2]Inventário Completo'!K161","v":"Rodovia BR 393, Lúcio Meira KM 5001, SN°, Vila Santa Cecília, Volta Redonda"},{"$f":"'[2]Inventário Completo'!L161","v":"Luiz Cesar"},{"$f":"'[2]Inventário Completo'!M161","v":3105},{"$f":"'[2]Inventário Completo'!N161","v":0},{"$f":"'[2]Inventário Completo'!O161","v":0},{"$f":"'[2]Inventário Completo'!P161","v":"Em uso"},{"$f":"'[2]Inventário Completo'!Q161","v":0}]
[{"$f":"'[2]Inventário Completo'!A162","v":0},{"$f":"'[2]Inventário Completo'!B162","v":14351522200347},{"$f":"'[2]Inventário Completo'!C162","v":"Access Point"},{"$f":"'[2]Inventário Completo'!D162","v":"AP6532"},{"$f":"'[2]Inventário Completo'!E162","v":"Motorola"},{"$f":"'[2]Inventário Completo'!F162","v":"COMPANHIA SIDERURGICA NACIONAL"},{"$f":"'[2]Inventário Completo'!G162","v":"CSN-VOLTA REDONDA"},{"$f":"'[2]Inventário Completo'!H162","v":"RJ"},{"$f":"'[2]Inventário Completo'!I162","v":"33.042.730/0017-71"},{"$f":"'[2]Inventário Completo'!J162","v":80541767},{"$f":"'[2]Inventário Completo'!K162","v":"Rodovia BR 393, Lúcio Meira KM 5001, SN°, Vila Santa Cecília, Volta Redonda"},{"$f":"'[2]Inventário Completo'!L162","v":"Luiz Cesar"},{"$f":"'[2]Inventário Completo'!M162","v":3105},{"$f":"'[2]Inventário Completo'!N162","v":0},{"$f":"'[2]Inventário Completo'!O162","v":0},{"$f":"'[2]Inventário Completo'!P162","v":"Em uso"},{"$f":"'[2]Inventário Completo'!Q162","v":0}]
[{"$f":"'[2]Inventário Completo'!A163","v":0},{"$f":"'[2]Inventário Completo'!B163","v":14351522200572},{"$f":"'[2]Inventário Completo'!C163","v":"Access Point"},{"$f":"'[2]Inventário Completo'!D163","v":"AP6532"},{"$f":"'[2]Inventário Completo'!E163","v":"Motorola"},{"$f":"'[2]Inventário Completo'!F163","v":"COMPANHIA SIDERURGICA NACIONAL"},{"$f":"'[2]Inventário Completo'!G163","v":"CSN-VOLTA REDONDA"},{"$f":"'[2]Inventário Completo'!H163","v":"RJ"},{"$f":"'[2]Inventário Completo'!I163","v":"33.042.730/0017-71"},{"$f":"'[2]Inventário Completo'!J163","v":80541767},{"$f":"'[2]Inventário Completo'!K163","v":"Rodovia BR 393, Lúcio Meira KM 5001, SN°, Vila Santa Cecília, Volta Redonda"},{"$f":"'[2]Inventário Completo'!L163","v":"Luiz Cesar"},{"$f":"'[2]Inventário Completo'!M163","v":3105},{"$f":"'[2]Inventário Completo'!N163","v":0},{"$f":"'[2]Inventário Completo'!O163","v":0},{"$f":"'[2]Inventário Completo'!P163","v":"Em uso"},{"$f":"'[2]Inventário Completo'!Q163","v":0}]
[{"$f":"'[2]Inventário Completo'!A164","v":0},{"$f":"'[2]Inventário Completo'!B164","v":14351522200583},{"$f":"'[2]Inventário Completo'!C164","v":"Access Point"},{"$f":"'[2]Inventário Completo'!D164","v":"AP6532"},{"$f":"'[2]Inventário Completo'!E164","v":"Motorola"},{"$f":"'[2]Inventário Completo'!F164","v":"COMPANHIA SIDERURGICA NACIONAL"},{"$f":"'[2]Inventário Completo'!G164","v":"CSN-VOLTA REDONDA"},{"$f":"'[2]Inventário Completo'!H164","v":"RJ"},{"$f":"'[2]Inventário Completo'!I164","v":"33.042.730/0017-71"},{"$f":"'[2]Inventário Completo'!J164","v":80541767},{"$f":"'[2]Inventário Completo'!K164","v":"Rodovia BR 393, Lúcio Meira KM 5001, SN°, Vila Santa Cecília, Volta Redonda"},{"$f":"'[2]Inventário Completo'!L164","v":"Luiz Cesar"},{"$f":"'[2]Inventário Completo'!M164","v":3105},{"$f":"'[2]Inventário Completo'!N164","v":0},{"$f":"'[2]Inventário Completo'!O164","v":0},{"$f":"'[2]Inventário Completo'!P164","v":"Em uso"},{"$f":"'[2]Inventário Completo'!Q164","v":0}]
[{"$f":"'[2]Inventário Completo'!A165","v":0},{"$f":"'[2]Inventário Completo'!B165","v":15190522200001},{"$f":"'[2]Inventário Completo'!C165","v":"Access Point"},{"$f":"'[2]Inventário Completo'!D165","v":"AP6532"},{"$f":"'[2]Inventário Completo'!E165","v":"Motorola"},{"$f":"'[2]Inventário Completo'!F165","v":"COMPANHIA SIDERURGICA NACIONAL"},{"$f":"'[2]Inventário Completo'!G165","v":"CSN-VOLTA REDONDA"},{"$f":"'[2]Inventário Completo'!H165","v":"RJ"},{"$f":"'[2]Inventário Completo'!I165","v":"33.042.730/0017-71"},{"$f":"'[2]Inventário Completo'!J165","v":80541767},{"$f":"'[2]Inventário Completo'!K165","v":"Rodovia BR 393, Lúcio Meira KM 5001, SN°, Vila Santa Cecília, Volta Redonda"},{"$f":"'[2]Inventário Completo'!L165","v":"Luiz Cesar"},{"$f":"'[2]Inventário Completo'!M165","v":3105},{"$f":"'[2]Inventário Completo'!N165","v":0},{"$f":"'[2]Inventário Completo'!O165","v":0},{"$f":"'[2]Inventário Completo'!P165","v":"Em uso"},{"$f":"'[2]Inventário Completo'!Q165","v":0}]
[{"$f":"'[2]Inventário Completo'!A166","v":0},{"$f":"'[2]Inventário Completo'!B166","v":15190522200003},{"$f":"'[2]Inventário Completo'!C166","v":"Access Point"},{"$f":"'[2]Inventário Completo'!D166","v":"AP6532"},{"$f":"'[2]Inventário Completo'!E166","v":"Motorola"},{"$f":"'[2]Inventário Completo'!F166","v":"COMPANHIA SIDERURGICA NACIONAL"},{"$f":"'[2]Inventário Completo'!G166","v":"CSN-VOLTA REDONDA"},{"$f":"'[2]Inventário Completo'!H166","v":"RJ"},{"$f":"'[2]Inventário Completo'!I166","v":"33.042.730/0017-71"},{"$f":"'[2]Inventário Completo'!J166","v":80541767},{"$f":"'[2]Inventário Completo'!K166","v":"Rodovia BR 393, Lúcio Meira KM 5001, SN°, Vila Santa Cecília, Volta Redonda"},{"$f":"'[2]Inventário Completo'!L166","v":"Luiz Cesar"},{"$f":"'[2]Inventário Completo'!M166","v":3105},{"$f":"'[2]Inventário Completo'!N166","v":0},{"$f":"'[2]Inventário Completo'!O166","v":0},{"$f":"'[2]Inventário Completo'!P166","v":"Em uso"},{"$f":"'[2]Inventário Completo'!Q166","v":0}]
[{"$f":"'[2]Inventário Completo'!A167","v":0},{"$f":"'[2]Inventário Completo'!B167","v":15190522200023},{"$f":"'[2]Inventário Completo'!C167","v":"Access Point"},{"$f":"'[2]Inventário Completo'!D167","v":"AP6532"},{"$f":"'[2]Inventário Completo'!E167","v":"Motorola"},{"$f":"'[2]Inventário Completo'!F167","v":"COMPANHIA SIDERURGICA NACIONAL"},{"$f":"'[2]Inventário Completo'!G167","v":"CSN-VOLTA REDONDA"},{"$f":"'[2]Inventário Completo'!H167","v":"RJ"},{"$f":"'[2]Inventário Completo'!I167","v":"33.042.730/0017-71"},{"$f":"'[2]Inventário Completo'!J167","v":80541767},{"$f":"'[2]Inventário Completo'!K167","v":"Rodovia BR 393, Lúcio Meira KM 5001, SN°, Vila Santa Cecília, Volta Redonda"},{"$f":"'[2]Inventário Completo'!L167","v":"Luiz Cesar"},{"$f":"'[2]Inventário Completo'!M167","v":3105},{"$f":"'[2]Inventário Completo'!N167","v":0},{"$f":"'[2]Inventário Completo'!O167","v":0},{"$f":"'[2]Inventário Completo'!P167","v":"Em uso"},{"$f":"'[2]Inventário Completo'!Q167","v":0}]
[{"$f":"'[2]Inventário Completo'!A168","v":0},{"$f":"'[2]Inventário Completo'!B168","v":15190522200090},{"$f":"'[2]Inventário Completo'!C168","v":"Access Point"},{"$f":"'[2]Inventário Completo'!D168","v":"AP6532"},{"$f":"'[2]Inventário Completo'!E168","v":"Motorola"},{"$f":"'[2]Inventário Completo'!F168","v":"COMPANHIA SIDERURGICA NACIONAL"},{"$f":"'[2]Inventário Completo'!G168","v":"CSN-VOLTA REDONDA"},{"$f":"'[2]Inventário Completo'!H168","v":"RJ"},{"$f":"'[2]Inventário Completo'!I168","v":"33.042.730/0017-71"},{"$f":"'[2]Inventário Completo'!J168","v":80541767},{"$f":"'[2]Inventário Completo'!K168","v":"Rodovia BR 393, Lúcio Meira KM 5001, SN°, Vila Santa Cecília, Volta Redonda"},{"$f":"'[2]Inventário Completo'!L168","v":"Luiz Cesar"},{"$f":"'[2]Inventário Completo'!M168","v":3105},{"$f":"'[2]Inventário Completo'!N168","v":0},{"$f":"'[2]Inventário Completo'!O168","v":0},{"$f":"'[2]Inventário Completo'!P168","v":"Em uso"},{"$f":"'[2]Inventário Completo'!Q168","v":0}]
[{"$f":"'[2]Inventário Completo'!A169","v":0},{"$f":"'[2]Inventário Completo'!B169","v":15190522200450},{"$f":"'[2]Inventário Completo'!C169","v":"Access Point"},{"$f":"'[2]Inventário Completo'!D169","v":"AP6532"},{"$f":"'[2]Inventário Completo'!E169","v":"Motorola"},{"$f":"'[2]Inventário Completo'!F169","v":"COMPANHIA SIDERURGICA NACIONAL"},{"$f":"'[2]Inventário Completo'!G169","v":"CSN-VOLTA REDONDA"},{"$f":"'[2]Inventário Completo'!H169","v":"RJ"},{"$f":"'[2]Inventário Completo'!I169","v":"33.042.730/0017-71"},{"$f":"'[2]Inventário Completo'!J169","v":80541767},{"$f":"'[2]Inventário Completo'!K169","v":"Rodovia BR 393, Lúcio Meira KM 5001, SN°, Vila Santa Cecília, Volta Redonda"},{"$f":"'[2]Inventário Completo'!L169","v":"Luiz Cesar"},{"$f":"'[2]Inventário Completo'!M169","v":3105},{"$f":"'[2]Inventário Completo'!N169","v":0},{"$f":"'[2]Inventário Completo'!O169","v":0},{"$f":"'[2]Inventário Completo'!P169","v":"Em uso"},{"$f":"'[2]Inventário Completo'!Q169","v":0}]
[{"$f":"'[2]Inventário Completo'!A170","v":0},{"$f":"'[2]Inventário Completo'!B170","v":14351522200566},{"$f":"'[2]Inventário Completo'!C170","v":"Access Point"},{"$f":"'[2]Inventário Completo'!D170","v":"AP6532"},{"$f":"'[2]Inventário Completo'!E170","v":"Motorola"},{"$f":"'[2]Inventário Completo'!F170","v":"COMPANHIA SIDERURGICA NACIONAL"},{"$f":"'[2]Inventário Completo'!G170","v":"CSN-VOLTA REDONDA"},{"$f":"'[2]Inventário Completo'!H170","v":"RJ"},{"$f":"'[2]Inventário Completo'!I170","v":"33.042.730/0017-71"},{"$f":"'[2]Inventário Completo'!J170","v":80541767},{"$f":"'[2]Inventário Completo'!K170","v":"Rodovia BR 393, Lúcio Meira KM 5001, SN°, Vila Santa Cecília, Volta Redonda"},{"$f":"'[2]Inventário Completo'!L170","v":"Luiz Cesar"},{"$f":"'[2]Inventário Completo'!M170","v":3105},{"$f":"'[2]Inventário Completo'!N170","v":0},{"$f":"'[2]Inventário Completo'!O170","v":0},{"$f":"'[2]Inventário Completo'!P170","v":"Em uso"},{"$f":"'[2]Inventário Completo'!Q170","v":0}]
[{"$f":"'[2]Inventário Completo'!A171","v":0},{"$f":"'[2]Inventário Completo'!B171","v":15190522200462},{"$f":"'[2]Inventário Completo'!C171","v":"Access Point"},{"$f":"'[2]Inventário Completo'!D171","v":"AP6532"},{"$f":"'[2]Inventário Completo'!E171","v":"Motorola"},{"$f":"'[2]Inventário Completo'!F171","v":"COMPANHIA SIDERURGICA NACIONAL"},{"$f":"'[2]Inventário Completo'!G171","v":"CSN-VOLTA REDONDA"},{"$f":"'[2]Inventário Completo'!H171","v":"RJ"},{"$f":"'[2]Inventário Completo'!I171","v":"33.042.730/0017-71"},{"$f":"'[2]Inventário Completo'!J171","v":80541767},{"$f":"'[2]Inventário Completo'!K171","v":"Rodovia BR 393, Lúcio Meira KM 5001, SN°, Vila Santa Cecília, Volta Redonda"},{"$f":"'[2]Inventário Completo'!L171","v":"Luiz Cesar"},{"$f":"'[2]Inventário Completo'!M171","v":3105},{"$f":"'[2]Inventário Completo'!N171","v":0},{"$f":"'[2]Inventário Completo'!O171","v":0},{"$f":"'[2]Inventário Completo'!P171","v":"Em uso"},{"$f":"'[2]Inventário Completo'!Q171","v":0}]
[{"$f":"'[2]Inventário Completo'!A172","v":0},{"$f":"'[2]Inventário Completo'!B172","v":10289520900230},{"$f":"'[2]Inventário Completo'!C172","v":"Access Point"},{"$f":"'[2]Inventário Completo'!D172","v":"AP5131"},{"$f":"'[2]Inventário Completo'!E172","v":"Symbol"},{"$f":"'[2]Inventário Completo'!F172","v":"COMPANHIA METALURGICA PRADA"},{"$f":"'[2]Inventário Completo'!G172","v":"PRADA - MOGI DAS CRUZES"},{"$f":"'[2]Inventário Completo'!H172","v":"SP"},{"$f":"'[2]Inventário Completo'!I172","v":"56.993.900/0028-51"},{"$f":"'[2]Inventário Completo'!J172","v":454346682110},{"$f":"'[2]Inventário Completo'!K172","v":"Av. Inal, 190 - Vila Industrial"},{"$f":"'[2]Inventário Completo'!L172","v":"Alexandre Machado"},{"$f":"'[2]Inventário Completo'!M172","v":"(11) 4791-7971"},{"$f":"'[2]Inventário Completo'!N172","v":0},{"$f":"'[2]Inventário Completo'!O172","v":0},{"$f":"'[2]Inventário Completo'!P172","v":"Em uso"},{"$f":"'[2]Inventário Completo'!Q172","v":0}]
[{"$f":"'[2]Inventário Completo'!A173","v":0},{"$f":"'[2]Inventário Completo'!B173","v":10289520900316},{"$f":"'[2]Inventário Completo'!C173","v":"Access Point"},{"$f":"'[2]Inventário Completo'!D173","v":"AP5131"},{"$f":"'[2]Inventário Completo'!E173","v":"Symbol"},{"$f":"'[2]Inventário Completo'!F173","v":"COMPANHIA METALURGICA PRADA"},{"$f":"'[2]Inventário Completo'!G173","v":"PRADA - MOGI DAS CRUZES"},{"$f":"'[2]Inventário Completo'!H173","v":"SP"},{"$f":"'[2]Inventário Completo'!I173","v":"56.993.900/0028-51"},{"$f":"'[2]Inventário Completo'!J173","v":454346682110},{"$f":"'[2]Inventário Completo'!K173","v":"Av. Inal, 190 - Vila Industrial"},{"$f":"'[2]Inventário Completo'!L173","v":"Alexandre Machado"},{"$f":"'[2]Inventário Completo'!M173","v":"(11) 4791-7971"},{"$f":"'[2]Inventário Completo'!N173","v":0},{"$f":"'[2]Inventário Completo'!O173","v":0},{"$f":"'[2]Inventário Completo'!P173","v":"Em uso"},{"$f":"'[2]Inventário Completo'!Q173","v":0}]
[{"$f":"'[2]Inventário Completo'!A174","v":0},{"$f":"'[2]Inventário Completo'!B174","v":10289520900324},{"$f":"'[2]Inventário Completo'!C174","v":"Access Point"},{"$f":"'[2]Inventário Completo'!D174","v":"AP5131"},{"$f":"'[2]Inventário Completo'!E174","v":"Symbol"},{"$f":"'[2]Inventário Completo'!F174","v":"COMPANHIA METALURGICA PRADA"},{"$f":"'[2]Inventário Completo'!G174","v":"PRADA - MOGI DAS CRUZES"},{"$f":"'[2]Inventário Completo'!H174","v":"SP"},{"$f":"'[2]Inventário Completo'!I174","v":"56.993.900/0028-51"},{"$f":"'[2]Inventário Completo'!J174","v":454346682110},{"$f":"'[2]Inventário Completo'!K174","v":"Av. Inal, 190 - Vila Industrial"},{"$f":"'[2]Inventário Completo'!L174","v":"Alexandre Machado"},{"$f":"'[2]Inventário Completo'!M174","v":"(11) 4791-7971"},{"$f":"'[2]Inventário Completo'!N174","v":0},{"$f":"'[2]Inventário Completo'!O174","v":0},{"$f":"'[2]Inventário Completo'!P174","v":"Em uso"},{"$f":"'[2]Inventário Completo'!Q174","v":0}]
[{"$f":"'[2]Inventário Completo'!A175","v":0},{"$f":"'[2]Inventário Completo'!B175","v":10289520900334},{"$f":"'[2]Inventário Completo'!C175","v":"Access Point"},{"$f":"'[2]Inventário Completo'!D175","v":"AP5131"},{"$f":"'[2]Inventário Completo'!E175","v":"Symbol"},{"$f":"'[2]Inventário Completo'!F175","v":"COMPANHIA METALURGICA PRADA"},{"$f":"'[2]Inventário Completo'!G175","v":"PRADA - MOGI DAS CRUZES"},{"$f":"'[2]Inventário Completo'!H175","v":"SP"},{"$f":"'[2]Inventário Completo'!I175","v":"56.993.900/0028-51"},{"$f":"'[2]Inventário Completo'!J175","v":454346682110},{"$f":"'[2]Inventário Completo'!K175","v":"Av. Inal, 190 - Vila Industrial"},{"$f":"'[2]Inventário Completo'!L175","v":"Alexandre Machado"},{"$f":"'[2]Inventário Completo'!M175","v":"(11) 4791-7971"},{"$f":"'[2]Inventário Completo'!N175","v":0},{"$f":"'[2]Inventário Completo'!O175","v":0},{"$f":"'[2]Inventário Completo'!P175","v":"Em uso"},{"$f":"'[2]Inventário Completo'!Q175","v":0}]
[{"$f":"'[2]Inventário Completo'!A176","v":0},{"$f":"'[2]Inventário Completo'!B176","v":10289520900361},{"$f":"'[2]Inventário Completo'!C176","v":"Access Point"},{"$f":"'[2]Inventário Completo'!D176","v":"AP5131"},{"$f":"'[2]Inventário Completo'!E176","v":"Symbol"},{"$f":"'[2]Inventário Completo'!F176","v":"COMPANHIA METALURGICA PRADA"},{"$f":"'[2]Inventário Completo'!G176","v":"PRADA - MOGI DAS CRUZES"},{"$f":"'[2]Inventário Completo'!H176","v":"SP"},{"$f":"'[2]Inventário Completo'!I176","v":"56.993.900/0028-51"},{"$f":"'[2]Inventário Completo'!J176","v":454346682110},{"$f":"'[2]Inventário Completo'!K176","v":"Av. Inal, 190 - Vila Industrial"},{"$f":"'[2]Inventário Completo'!L176","v":"Alexandre Machado"},{"$f":"'[2]Inventário Completo'!M176","v":"(11) 4791-7971"},{"$f":"'[2]Inventário Completo'!N176","v":0},{"$f":"'[2]Inventário Completo'!O176","v":0},{"$f":"'[2]Inventário Completo'!P176","v":"Em uso"},{"$f":"'[2]Inventário Completo'!Q176","v":0}]
[{"$f":"'[2]Inventário Completo'!A177","v":0},{"$f":"'[2]Inventário Completo'!B177","v":10289520900454},{"$f":"'[2]Inventário Completo'!C177","v":"Access Point"},{"$f":"'[2]Inventário Completo'!D177","v":"AP5131"},{"$f":"'[2]Inventário Completo'!E177","v":"Symbol"},{"$f":"'[2]Inventário Completo'!F177","v":"COMPANHIA METALURGICA PRADA"},{"$f":"'[2]Inventário Completo'!G177","v":"PRADA - MOGI DAS CRUZES"},{"$f":"'[2]Inventário Completo'!H177","v":"SP"},{"$f":"'[2]Inventário Completo'!I177","v":"56.993.900/0028-51"},{"$f":"'[2]Inventário Completo'!J177","v":454346682110},{"$f":"'[2]Inventário Completo'!K177","v":"Av. Inal, 190 - Vila Industrial"},{"$f":"'[2]Inventário Completo'!L177","v":"Alexandre Machado"},{"$f":"'[2]Inventário Completo'!M177","v":"(11) 4791-7971"},{"$f":"'[2]Inventário Completo'!N177","v":0},{"$f":"'[2]Inventário Completo'!O177","v":0},{"$f":"'[2]Inventário Completo'!P177","v":"Em uso"},{"$f":"'[2]Inventário Completo'!Q177","v":0}]
[{"$f":"'[2]Inventário Completo'!A178","v":0},{"$f":"'[2]Inventário Completo'!B178","v":10289520900455},{"$f":"'[2]Inventário Completo'!C178","v":"Access Point"},{"$f":"'[2]Inventário Completo'!D178","v":"AP5131"},{"$f":"'[2]Inventário Completo'!E178","v":"Symbol"},{"$f":"'[2]Inventário Completo'!F178","v":"COMPANHIA METALURGICA PRADA"},{"$f":"'[2]Inventário Completo'!G178","v":"PRADA - MOGI DAS CRUZES"},{"$f":"'[2]Inventário Completo'!H178","v":"SP"},{"$f":"'[2]Inventário Completo'!I178","v":"56.993.900/0028-51"},{"$f":"'[2]Inventário Completo'!J178","v":454346682110},{"$f":"'[2]Inventário Completo'!K178","v":"Av. Inal, 190 - Vila Industrial"},{"$f":"'[2]Inventário Completo'!L178","v":"Alexandre Machado"},{"$f":"'[2]Inventário Completo'!M178","v":"(11) 4791-7971"},{"$f":"'[2]Inventário Completo'!N178","v":0},{"$f":"'[2]Inventário Completo'!O178","v":0},{"$f":"'[2]Inventário Completo'!P178","v":"Em uso"},{"$f":"'[2]Inventário Completo'!Q178","v":0}]
[{"$f":"'[2]Inventário Completo'!A179","v":0},{"$f":"'[2]Inventário Completo'!B179","v":10289520900468},{"$f":"'[2]Inventário Completo'!C179","v":"Access Point"},{"$f":"'[2]Inventário Completo'!D179","v":"AP5131"},{"$f":"'[2]Inventário Completo'!E179","v":"Symbol"},{"$f":"'[2]Inventário Completo'!F179","v":"COMPANHIA METALURGICA PRADA"},{"$f":"'[2]Inventário Completo'!G179","v":"PRADA - MOGI DAS CRUZES"},{"$f":"'[2]Inventário Completo'!H179","v":"SP"},{"$f":"'[2]Inventário Completo'!I179","v":"56.993.900/0028-51"},{"$f":"'[2]Inventário Completo'!J179","v":454346682110},{"$f":"'[2]Inventário Completo'!K179","v":"Av. Inal, 190 - Vila Industrial"},{"$f":"'[2]Inventário Completo'!L179","v":"Alexandre Machado"},{"$f":"'[2]Inventário Completo'!M179","v":"(11) 4791-7971"},{"$f":"'[2]Inventário Completo'!N179","v":0},{"$f":"'[2]Inventário Completo'!O179","v":0},{"$f":"'[2]Inventário Completo'!P179","v":"Em uso"},{"$f":"'[2]Inventário Completo'!Q179","v":0}]
[{"$f":"'[2]Inventário Completo'!A180","v":0},{"$f":"'[2]Inventário Completo'!B180","v":10289520900564},{"$f":"'[2]Inventário Completo'!C180","v":"Access Point"},{"$f":"'[2]Inventário Completo'!D180","v":"AP5131"},{"$f":"'[2]Inventário Completo'!E180","v":"Symbol"},{"$f":"'[2]Inventário Completo'!F180","v":"COMPANHIA METALURGICA PRADA"},{"$f":"'[2]Inventário Completo'!G180","v":"PRADA - MOGI DAS CRUZES"},{"$f":"'[2]Inventário Completo'!H180","v":"SP"},{"$f":"'[2]Inventário Completo'!I180","v":"56.993.900/0028-51"},{"$f":"'[2]Inventário Completo'!J180","v":454346682110},{"$f":"'[2]Inventário Completo'!K180","v":"Av. Inal, 190 - Vila Industrial"},{"$f":"'[2]Inventário Completo'!L180","v":"Alexandre Machado"},{"$f":"'[2]Inventário Completo'!M180","v":"(11) 4791-7971"},{"$f":"'[2]Inventário Completo'!N180","v":0},{"$f":"'[2]Inventário Completo'!O180","v":0},{"$f":"'[2]Inventário Completo'!P180","v":"Em uso"},{"$f":"'[2]Inventário Completo'!Q180","v":0}]
[{"$f":"'[2]Inventário Completo'!A181","v":0},{"$f":"'[2]Inventário Completo'!B181","v":11202520900132},{"$f":"'[2]Inventário Completo'!C181","v":"Access Point"},{"$f":"'[2]Inventário Completo'!D181","v":"AP5131"},{"$f":"'[2]Inventário Completo'!E181","v":"Symbol"},{"$f":"'[2]Inventário Completo'!F181","v":"COMPANHIA METALURGICA PRADA"},{"$f":"'[2]Inventário Completo'!G181","v":"PRADA - MOGI DAS CRUZES"},{"$f":"'[2]Inventário Completo'!H181","v":"SP"},{"$f":"'[2]Inventário Completo'!I181","v":"56.993.900/0028-51"},{"$f":"'[2]Inventário Completo'!J181","v":454346682110},{"$f":"'[2]Inventário Completo'!K181","v":"Av. Inal, 190 - Vila Industrial"},{"$f":"'[2]Inventário Completo'!L181","v":"Alexandre Machado"},{"$f":"'[2]Inventário Completo'!M181","v":"(11) 4791-7971"},{"$f":"'[2]Inventário Completo'!N181","v":0},{"$f":"'[2]Inventário Completo'!O181","v":0},{"$f":"'[2]Inventário Completo'!P181","v":"Em uso"},{"$f":"'[2]Inventário Completo'!Q181","v":0}]
[{"$f":"'[2]Inventário Completo'!A182","v":"NA"},{"$f":"'[2]Inventário Completo'!B182","v":7269005500646},{"$f":"'[2]Inventário Completo'!C182","v":"Berço"},{"$f":"'[2]Inventário Completo'!D182","v":"CRD9000"},{"$f":"'[2]Inventário Completo'!E182","v":"Symbol"},{"$f":"'[2]Inventário Completo'!F182","v":"COMPANHIA SIDERURGICA NACIONAL"},{"$f":"'[2]Inventário Completo'!G182","v":"CSN-ARAUCARIA"},{"$f":"'[2]Inventário Completo'!H182","v":"PR"},{"$f":"'[2]Inventário Completo'!I182","v":"33.042.730/0134-35"},{"$f":"'[2]Inventário Completo'!J182","v":"90.212.835-22"},{"$f":"'[2]Inventário Completo'!K182","v":"Rodovia PR-423, 5500-Estação-Araucária-PR 83705-000"},{"$f":"'[2]Inventário Completo'!L182","v":"Clodoaldo de Moraes"},{"$f":"'[2]Inventário Completo'!M182","v":"(041) 3641- 8050"},{"$f":"'[2]Inventário Completo'!N182","v":0},{"$f":"'[2]Inventário Completo'!O182","v":0},{"$f":"'[2]Inventário Completo'!P182","v":"Em uso"},{"$f":"'[2]Inventário Completo'!Q182","v":0}]
[{"$f":"'[2]Inventário Completo'!A183","v":"NA"},{"$f":"'[2]Inventário Completo'!B183","v":"M1H32B22J"},{"$f":"'[2]Inventário Completo'!C183","v":"Berço"},{"$f":"'[2]Inventário Completo'!D183","v":"UBC2000"},{"$f":"'[2]Inventário Completo'!E183","v":"Symbol"},{"$f":"'[2]Inventário Completo'!F183","v":"COMPANHIA SIDERURGICA NACIONAL"},{"$f":"'[2]Inventário Completo'!G183","v":"CSN-ARAUCARIA"},{"$f":"'[2]Inventário Completo'!H183","v":"PR"},{"$f":"'[2]Inventário Completo'!I183","v":"33.042.730/0134-36"},{"$f":"'[2]Inventário Completo'!J183","v":"90.212.835-22"},{"$f":"'[2]Inventário Completo'!K183","v":"Rodovia PR-423, 5500-Estação-Araucária-PR 83705-000"},{"$f":"'[2]Inventário Completo'!L183","v":"Clodoaldo de Moraes"},{"$f":"'[2]Inventário Completo'!M183","v":"(041) 3641- 8050"},{"$f":"'[2]Inventário Completo'!N183","v":0},{"$f":"'[2]Inventário Completo'!O183","v":0},{"$f":"'[2]Inventário Completo'!P183","v":"Em uso"},{"$f":"'[2]Inventário Completo'!Q183","v":0}]
[{"$f":"'[2]Inventário Completo'!A184","v":"NA"},{"$f":"'[2]Inventário Completo'!B184","v":"M1H47M98H"},{"$f":"'[2]Inventário Completo'!C184","v":"Berço"},{"$f":"'[2]Inventário Completo'!D184","v":"UBC2000"},{"$f":"'[2]Inventário Completo'!E184","v":"Symbol"},{"$f":"'[2]Inventário Completo'!F184","v":"COMPANHIA SIDERURGICA NACIONAL"},{"$f":"'[2]Inventário Completo'!G184","v":"CSN-ARAUCARIA"},{"$f":"'[2]Inventário Completo'!H184","v":"PR"},{"$f":"'[2]Inventário Completo'!I184","v":"33.042.730/0134-37"},{"$f":"'[2]Inventário Completo'!J184","v":"90.212.835-22"},{"$f":"'[2]Inventário Completo'!K184","v":"Rodovia PR-423, 5500-Estação-Araucária-PR 83705-000"},{"$f":"'[2]Inventário Completo'!L184","v":"Clodoaldo de Moraes"},{"$f":"'[2]Inventário Completo'!M184","v":"(041) 3641- 8050"},{"$f":"'[2]Inventário Completo'!N184","v":0},{"$f":"'[2]Inventário Completo'!O184","v":0},{"$f":"'[2]Inventário Completo'!P184","v":"Em uso"},{"$f":"'[2]Inventário Completo'!Q184","v":0}]
[{"$f":"'[2]Inventário Completo'!A185","v":"NA"},{"$f":"'[2]Inventário Completo'!B185","v":1011600500155},{"$f":"'[2]Inventário Completo'!C185","v":"Berço"},{"$f":"'[2]Inventário Completo'!D185","v":"CRD9000"},{"$f":"'[2]Inventário Completo'!E185","v":"Symbol"},{"$f":"'[2]Inventário Completo'!F185","v":"SEPETIBA TECON S/A"},{"$f":"'[2]Inventário Completo'!G185","v":"CSN-SEPETIBA ITAGUAI (TECON)"},{"$f":"'[2]Inventário Completo'!H185","v":"RJ"},{"$f":"'[2]Inventário Completo'!I185","v":"02.394.276/0002-08"},{"$f":"'[2]Inventário Completo'!J185","v":" 86.143.73-9"},{"$f":"'[2]Inventário Completo'!K185","v":"Est Prefeito Wilson Pedro Francisco, S/N, Parte, Ilha Da Madeira, Itaguaí, RJ, CEP 23826-600, Brasil"},{"$f":"'[2]Inventário Completo'!L185","v":"Filipe Almeida"},{"$f":"'[2]Inventário Completo'!M185","v":"(21) 26871918"},{"$f":"'[2]Inventário Completo'!N185","v":0},{"$f":"'[2]Inventário Completo'!O185","v":0},{"$f":"'[2]Inventário Completo'!P185","v":"Em uso"},{"$f":"'[2]Inventário Completo'!Q185","v":0}]
[{"$f":"'[2]Inventário Completo'!A186","v":"NA"},{"$f":"'[2]Inventário Completo'!B186","v":1011600500185},{"$f":"'[2]Inventário Completo'!C186","v":"Berço"},{"$f":"'[2]Inventário Completo'!D186","v":"CRD9000"},{"$f":"'[2]Inventário Completo'!E186","v":"Symbol"},{"$f":"'[2]Inventário Completo'!F186","v":"SEPETIBA TECON S/A"},{"$f":"'[2]Inventário Completo'!G186","v":"CSN-SEPETIBA ITAGUAI (TECON)"},{"$f":"'[2]Inventário Completo'!H186","v":"RJ"},{"$f":"'[2]Inventário Completo'!I186","v":"02.394.276/0002-08"},{"$f":"'[2]Inventário Completo'!J186","v":" 86.143.73-9"},{"$f":"'[2]Inventário Completo'!K186","v":"Est Prefeito Wilson Pedro Francisco, S/N, Parte, Ilha Da Madeira, Itaguaí, RJ, CEP 23826-600, Brasil"},{"$f":"'[2]Inventário Completo'!L186","v":"Filipe Almeida"},{"$f":"'[2]Inventário Completo'!M186","v":"(21) 26871918"},{"$f":"'[2]Inventário Completo'!N186","v":0},{"$f":"'[2]Inventário Completo'!O186","v":0},{"$f":"'[2]Inventário Completo'!P186","v":"Em uso"},{"$f":"'[2]Inventário Completo'!Q186","v":0}]
[{"$f":"'[2]Inventário Completo'!A187","v":"NA"},{"$f":"'[2]Inventário Completo'!B187","v":1011600507101},{"$f":"'[2]Inventário Completo'!C187","v":"Berço"},{"$f":"'[2]Inventário Completo'!D187","v":"CRD9000"},{"$f":"'[2]Inventário Completo'!E187","v":"Symbol"},{"$f":"'[2]Inventário Completo'!F187","v":"SEPETIBA TECON S/A"},{"$f":"'[2]Inventário Completo'!G187","v":"CSN-SEPETIBA ITAGUAI (TECON)"},{"$f":"'[2]Inventário Completo'!H187","v":"RJ"},{"$f":"'[2]Inventário Completo'!I187","v":"02.394.276/0002-08"},{"$f":"'[2]Inventário Completo'!J187","v":" 86.143.73-9"},{"$f":"'[2]Inventário Completo'!K187","v":"Est Prefeito Wilson Pedro Francisco, S/N, Parte, Ilha Da Madeira, Itaguaí, RJ, CEP 23826-600, Brasil"},{"$f":"'[2]Inventário Completo'!L187","v":"Filipe Almeida"},{"$f":"'[2]Inventário Completo'!M187","v":"(21) 26871918"},{"$f":"'[2]Inventário Completo'!N187","v":0},{"$f":"'[2]Inventário Completo'!O187","v":0},{"$f":"'[2]Inventário Completo'!P187","v":"Em uso"},{"$f":"'[2]Inventário Completo'!Q187","v":0}]
[{"$f":"'[2]Inventário Completo'!A188","v":"NA"},{"$f":"'[2]Inventário Completo'!B188","v":1027700502370},{"$f":"'[2]Inventário Completo'!C188","v":"Berço"},{"$f":"'[2]Inventário Completo'!D188","v":"CRD9000"},{"$f":"'[2]Inventário Completo'!E188","v":"Symbol"},{"$f":"'[2]Inventário Completo'!F188","v":"SEPETIBA TECON S/A"},{"$f":"'[2]Inventário Completo'!G188","v":"CSN-SEPETIBA ITAGUAI (TECON)"},{"$f":"'[2]Inventário Completo'!H188","v":"RJ"},{"$f":"'[2]Inventário Completo'!I188","v":"02.394.276/0002-08"},{"$f":"'[2]Inventário Completo'!J188","v":" 86.143.73-9"},{"$f":"'[2]Inventário Completo'!K188","v":"Est Prefeito Wilson Pedro Francisco, S/N, Parte, Ilha Da Madeira, Itaguaí, RJ, CEP 23826-600, Brasil"},{"$f":"'[2]Inventário Completo'!L188","v":"Filipe Almeida"},{"$f":"'[2]Inventário Completo'!M188","v":"(21) 26871918"},{"$f":"'[2]Inventário Completo'!N188","v":0},{"$f":"'[2]Inventário Completo'!O188","v":0},{"$f":"'[2]Inventário Completo'!P188","v":"Em uso"},{"$f":"'[2]Inventário Completo'!Q188","v":0}]
[{"$f":"'[2]Inventário Completo'!A189","v":"NA"},{"$f":"'[2]Inventário Completo'!B189","v":1128500504071},{"$f":"'[2]Inventário Completo'!C189","v":"Berço"},{"$f":"'[2]Inventário Completo'!D189","v":"CRD9000"},{"$f":"'[2]Inventário Completo'!E189","v":"Symbol"},{"$f":"'[2]Inventário Completo'!F189","v":"COMPANHIA SIDERURGICA NACIONAL"},{"$f":"'[2]Inventário Completo'!G189","v":"CSN-VOLTA REDONDA"},{"$f":"'[2]Inventário Completo'!H189","v":"RJ"},{"$f":"'[2]Inventário Completo'!I189","v":"33.042.730/0017-71"},{"$f":"'[2]Inventário Completo'!J189","v":80541767},{"$f":"'[2]Inventário Completo'!K189","v":"Rodovia BR 393, Lúcio Meira KM 5001, SN°, Vila Santa Cecília, Volta Redonda"},{"$f":"'[2]Inventário Completo'!L189","v":"Luiz Cesar"},{"$f":"'[2]Inventário Completo'!M189","v":3105},{"$f":"'[2]Inventário Completo'!N189","v":0},{"$f":"'[2]Inventário Completo'!O189","v":0},{"$f":"'[2]Inventário Completo'!P189","v":"Em uso"},{"$f":"'[2]Inventário Completo'!Q189","v":0}]
[{"$f":"'[2]Inventário Completo'!A190","v":"NA"},{"$f":"'[2]Inventário Completo'!B190","v":7072000501873},{"$f":"'[2]Inventário Completo'!C190","v":"Berço"},{"$f":"'[2]Inventário Completo'!D190","v":"CRD9000"},{"$f":"'[2]Inventário Completo'!E190","v":"Symbol"},{"$f":"'[2]Inventário Completo'!F190","v":"COMPANHIA SIDERURGICA NACIONAL"},{"$f":"'[2]Inventário Completo'!G190","v":"CSN-VOLTA REDONDA"},{"$f":"'[2]Inventário Completo'!H190","v":"RJ"},{"$f":"'[2]Inventário Completo'!I190","v":"33.042.730/0017-71"},{"$f":"'[2]Inventário Completo'!J190","v":80541767},{"$f":"'[2]Inventário Completo'!K190","v":"Rodovia BR 393, Lúcio Meira KM 5001, SN°, Vila Santa Cecília, Volta Redonda"},{"$f":"'[2]Inventário Completo'!L190","v":"Luiz Cesar"},{"$f":"'[2]Inventário Completo'!M190","v":3105},{"$f":"'[2]Inventário Completo'!N190","v":0},{"$f":"'[2]Inventário Completo'!O190","v":0},{"$f":"'[2]Inventário Completo'!P190","v":"Em uso"},{"$f":"'[2]Inventário Completo'!Q190","v":0}]
[{"$f":"'[2]Inventário Completo'!A191","v":"NA"},{"$f":"'[2]Inventário Completo'!B191","v":7135000500747},{"$f":"'[2]Inventário Completo'!C191","v":"Berço"},{"$f":"'[2]Inventário Completo'!D191","v":"CRD9000"},{"$f":"'[2]Inventário Completo'!E191","v":"Symbol"},{"$f":"'[2]Inventário Completo'!F191","v":"COMPANHIA SIDERURGICA NACIONAL"},{"$f":"'[2]Inventário Completo'!G191","v":"CSN-VOLTA REDONDA"},{"$f":"'[2]Inventário Completo'!H191","v":"RJ"},{"$f":"'[2]Inventário Completo'!I191","v":"33.042.730/0017-71"},{"$f":"'[2]Inventário Completo'!J191","v":80541767},{"$f":"'[2]Inventário Completo'!K191","v":"Rodovia BR 393, Lúcio Meira KM 5001, SN°, Vila Santa Cecília, Volta Redonda"},{"$f":"'[2]Inventário Completo'!L191","v":"Luiz Cesar"},{"$f":"'[2]Inventário Completo'!M191","v":3105},{"$f":"'[2]Inventário Completo'!N191","v":0},{"$f":"'[2]Inventário Completo'!O191","v":0},{"$f":"'[2]Inventário Completo'!P191","v":"Em uso"},{"$f":"'[2]Inventário Completo'!Q191","v":0}]
[{"$f":"'[2]Inventário Completo'!A192","v":"NA"},{"$f":"'[2]Inventário Completo'!B192","v":7225000500401},{"$f":"'[2]Inventário Completo'!C192","v":"Berço"},{"$f":"'[2]Inventário Completo'!D192","v":"CRD9000"},{"$f":"'[2]Inventário Completo'!E192","v":"Symbol"},{"$f":"'[2]Inventário Completo'!F192","v":"COMPANHIA SIDERURGICA NACIONAL"},{"$f":"'[2]Inventário Completo'!G192","v":"CSN-VOLTA REDONDA"},{"$f":"'[2]Inventário Completo'!H192","v":"RJ"},{"$f":"'[2]Inventário Completo'!I192","v":"33.042.730/0017-71"},{"$f":"'[2]Inventário Completo'!J192","v":80541767},{"$f":"'[2]Inventário Completo'!K192","v":"Rodovia BR 393, Lúcio Meira KM 5001, SN°, Vila Santa Cecília, Volta Redonda"},{"$f":"'[2]Inventário Completo'!L192","v":"Luiz Cesar"},{"$f":"'[2]Inventário Completo'!M192","v":3105},{"$f":"'[2]Inventário Completo'!N192","v":0},{"$f":"'[2]Inventário Completo'!O192","v":0},{"$f":"'[2]Inventário Completo'!P192","v":"Em uso"},{"$f":"'[2]Inventário Completo'!Q192","v":0}]
[{"$f":"'[2]Inventário Completo'!A193","v":"NA"},{"$f":"'[2]Inventário Completo'!B193","v":14240000500576},{"$f":"'[2]Inventário Completo'!C193","v":"Berço"},{"$f":"'[2]Inventário Completo'!D193","v":"CRD9000"},{"$f":"'[2]Inventário Completo'!E193","v":"Symbol"},{"$f":"'[2]Inventário Completo'!F193","v":"COMPANHIA SIDERURGICA NACIONAL"},{"$f":"'[2]Inventário Completo'!G193","v":"CSN-VOLTA REDONDA"},{"$f":"'[2]Inventário Completo'!H193","v":"RJ"},{"$f":"'[2]Inventário Completo'!I193","v":"33.042.730/0017-71"},{"$f":"'[2]Inventário Completo'!J193","v":80541767},{"$f":"'[2]Inventário Completo'!K193","v":"Rodovia BR 393, Lúcio Meira KM 5001, SN°, Vila Santa Cecília, Volta Redonda"},{"$f":"'[2]Inventário Completo'!L193","v":"Luiz Cesar"},{"$f":"'[2]Inventário Completo'!M193","v":3105},{"$f":"'[2]Inventário Completo'!N193","v":0},{"$f":"'[2]Inventário Completo'!O193","v":0},{"$f":"'[2]Inventário Completo'!P193","v":"Em uso"},{"$f":"'[2]Inventário Completo'!Q193","v":0}]
[{"$f":"'[2]Inventário Completo'!A194","v":"NA"},{"$f":"'[2]Inventário Completo'!B194","v":12254000501114},{"$f":"'[2]Inventário Completo'!C194","v":"Berço"},{"$f":"'[2]Inventário Completo'!D194","v":"SAC9000-4000"},{"$f":"'[2]Inventário Completo'!E194","v":"Symbol"},{"$f":"'[2]Inventário Completo'!F194","v":"COMPANHIA SIDERURGICA NACIONAL"},{"$f":"'[2]Inventário Completo'!G194","v":"CSN-VOLTA REDONDA"},{"$f":"'[2]Inventário Completo'!H194","v":"RJ"},{"$f":"'[2]Inventário Completo'!I194","v":"33.042.730/0017-71"},{"$f":"'[2]Inventário Completo'!J194","v":80541767},{"$f":"'[2]Inventário Completo'!K194","v":"Rodovia BR 393, Lúcio Meira KM 5001, SN°, Vila Santa Cecília, Volta Redonda"},{"$f":"'[2]Inventário Completo'!L194","v":"Luiz Cesar"},{"$f":"'[2]Inventário Completo'!M194","v":3105},{"$f":"'[2]Inventário Completo'!N194","v":0},{"$f":"'[2]Inventário Completo'!O194","v":0},{"$f":"'[2]Inventário Completo'!P194","v":"Em uso"},{"$f":"'[2]Inventário Completo'!Q194","v":0}]
[{"$f":"'[2]Inventário Completo'!A195","v":"NA"},{"$f":"'[2]Inventário Completo'!B195","v":"M1H50L73V"},{"$f":"'[2]Inventário Completo'!C195","v":"Berço"},{"$f":"'[2]Inventário Completo'!D195","v":"3365-110"},{"$f":"'[2]Inventário Completo'!E195","v":"Symbol"},{"$f":"'[2]Inventário Completo'!F195","v":"COMPANHIA SIDERURGICA NACIONAL"},{"$f":"'[2]Inventário Completo'!G195","v":"CSN-VOLTA REDONDA"},{"$f":"'[2]Inventário Completo'!H195","v":"RJ"},{"$f":"'[2]Inventário Completo'!I195","v":"33.042.730/0017-71"},{"$f":"'[2]Inventário Completo'!J195","v":80541767},{"$f":"'[2]Inventário Completo'!K195","v":"Rodovia BR 393, Lúcio Meira KM 5001, SN°, Vila Santa Cecília, Volta Redonda"},{"$f":"'[2]Inventário Completo'!L195","v":"Luiz Cesar"},{"$f":"'[2]Inventário Completo'!M195","v":3105},{"$f":"'[2]Inventário Completo'!N195","v":0},{"$f":"'[2]Inventário Completo'!O195","v":0},{"$f":"'[2]Inventário Completo'!P195","v":"Em uso"},{"$f":"'[2]Inventário Completo'!Q195","v":0}]
[{"$f":"'[2]Inventário Completo'!A196","v":"NA"},{"$f":"'[2]Inventário Completo'!B196","v":12302000500525},{"$f":"'[2]Inventário Completo'!C196","v":"Carregador"},{"$f":"'[2]Inventário Completo'!D196","v":"SAC9000-4000"},{"$f":"'[2]Inventário Completo'!E196","v":"Symbol"},{"$f":"'[2]Inventário Completo'!F196","v":"COMPANHIA SIDERURGICA NACIONAL"},{"$f":"'[2]Inventário Completo'!G196","v":"CSN-ARAUCARIA"},{"$f":"'[2]Inventário Completo'!H196","v":"PR"},{"$f":"'[2]Inventário Completo'!I196","v":"33.042.730/0134-38"},{"$f":"'[2]Inventário Completo'!J196","v":"90.212.835-22"},{"$f":"'[2]Inventário Completo'!K196","v":"Rodovia PR-423, 5500-Estação-Araucária-PR 83705-000"},{"$f":"'[2]Inventário Completo'!L196","v":"Clodoaldo de Moraes"},{"$f":"'[2]Inventário Completo'!M196","v":"(041) 3641- 8050"},{"$f":"'[2]Inventário Completo'!N196","v":0},{"$f":"'[2]Inventário Completo'!O196","v":0},{"$f":"'[2]Inventário Completo'!P196","v":"Em uso"},{"$f":"'[2]Inventário Completo'!Q196","v":0}]
[{"$f":"'[2]Inventário Completo'!A197","v":"NA"},{"$f":"'[2]Inventário Completo'!B197","v":12302000500972},{"$f":"'[2]Inventário Completo'!C197","v":"Carregador"},{"$f":"'[2]Inventário Completo'!D197","v":"SAC9000-4000"},{"$f":"'[2]Inventário Completo'!E197","v":"Symbol"},{"$f":"'[2]Inventário Completo'!F197","v":"COMPANHIA SIDERURGICA NACIONAL"},{"$f":"'[2]Inventário Completo'!G197","v":"CSN-ARAUCARIA"},{"$f":"'[2]Inventário Completo'!H197","v":"PR"},{"$f":"'[2]Inventário Completo'!I197","v":"33.042.730/0134-39"},{"$f":"'[2]Inventário Completo'!J197","v":"90.212.835-22"},{"$f":"'[2]Inventário Completo'!K197","v":"Rodovia PR-423, 5500-Estação-Araucária-PR 83705-000"},{"$f":"'[2]Inventário Completo'!L197","v":"Clodoaldo de Moraes"},{"$f":"'[2]Inventário Completo'!M197","v":"(041) 3641- 8050"},{"$f":"'[2]Inventário Completo'!N197","v":0},{"$f":"'[2]Inventário Completo'!O197","v":0},{"$f":"'[2]Inventário Completo'!P197","v":"Em uso"},{"$f":"'[2]Inventário Completo'!Q197","v":0}]
[{"$f":"'[2]Inventário Completo'!A198","v":"NA"},{"$f":"'[2]Inventário Completo'!B198","v":12302000500980},{"$f":"'[2]Inventário Completo'!C198","v":"Carregador"},{"$f":"'[2]Inventário Completo'!D198","v":"SAC9000-4000"},{"$f":"'[2]Inventário Completo'!E198","v":"Symbol"},{"$f":"'[2]Inventário Completo'!F198","v":"COMPANHIA SIDERURGICA NACIONAL"},{"$f":"'[2]Inventário Completo'!G198","v":"CSN-ARAUCARIA"},{"$f":"'[2]Inventário Completo'!H198","v":"PR"},{"$f":"'[2]Inventário Completo'!I198","v":"33.042.730/0134-40"},{"$f":"'[2]Inventário Completo'!J198","v":"90.212.835-22"},{"$f":"'[2]Inventário Completo'!K198","v":"Rodovia PR-423, 5500-Estação-Araucária-PR 83705-000"},{"$f":"'[2]Inventário Completo'!L198","v":"Clodoaldo de Moraes"},{"$f":"'[2]Inventário Completo'!M198","v":"(041) 3641- 8050"},{"$f":"'[2]Inventário Completo'!N198","v":0},{"$f":"'[2]Inventário Completo'!O198","v":0},{"$f":"'[2]Inventário Completo'!P198","v":"Em uso"},{"$f":"'[2]Inventário Completo'!Q198","v":0}]
[{"$f":"'[2]Inventário Completo'!A199","v":"NA"},{"$f":"'[2]Inventário Completo'!B199","v":12302000500983},{"$f":"'[2]Inventário Completo'!C199","v":"Carregador"},{"$f":"'[2]Inventário Completo'!D199","v":"SAC9000-4000"},{"$f":"'[2]Inventário Completo'!E199","v":"Symbol"},{"$f":"'[2]Inventário Completo'!F199","v":"COMPANHIA SIDERURGICA NACIONAL"},{"$f":"'[2]Inventário Completo'!G199","v":"CSN-ARAUCARIA"},{"$f":"'[2]Inventário Completo'!H199","v":"PR"},{"$f":"'[2]Inventário Completo'!I199","v":"33.042.730/0134-41"},{"$f":"'[2]Inventário Completo'!J199","v":"90.212.835-22"},{"$f":"'[2]Inventário Completo'!K199","v":"Rodovia PR-423, 5500-Estação-Araucária-PR 83705-000"},{"$f":"'[2]Inventário Completo'!L199","v":"Clodoaldo de Moraes"},{"$f":"'[2]Inventário Completo'!M199","v":"(041) 3641- 8050"},{"$f":"'[2]Inventário Completo'!N199","v":0},{"$f":"'[2]Inventário Completo'!O199","v":0},{"$f":"'[2]Inventário Completo'!P199","v":"Em uso"},{"$f":"'[2]Inventário Completo'!Q199","v":0}]
[{"$f":"'[2]Inventário Completo'!A200","v":"NA"},{"$f":"'[2]Inventário Completo'!B200","v":12302000500984},{"$f":"'[2]Inventário Completo'!C200","v":"Carregador"},{"$f":"'[2]Inventário Completo'!D200","v":"SAC9000-4000"},{"$f":"'[2]Inventário Completo'!E200","v":"Symbol"},{"$f":"'[2]Inventário Completo'!F200","v":"COMPANHIA SIDERURGICA NACIONAL"},{"$f":"'[2]Inventário Completo'!G200","v":"CSN-ARAUCARIA"},{"$f":"'[2]Inventário Completo'!H200","v":"PR"},{"$f":"'[2]Inventário Completo'!I200","v":"33.042.730/0134-42"},{"$f":"'[2]Inventário Completo'!J200","v":"90.212.835-22"},{"$f":"'[2]Inventário Completo'!K200","v":"Rodovia PR-423, 5500-Estação-Araucária-PR 83705-000"},{"$f":"'[2]Inventário Completo'!L200","v":"Clodoaldo de Moraes"},{"$f":"'[2]Inventário Completo'!M200","v":"(041) 3641- 8050"},{"$f":"'[2]Inventário Completo'!N200","v":0},{"$f":"'[2]Inventário Completo'!O200","v":0},{"$f":"'[2]Inventário Completo'!P200","v":"Em uso"},{"$f":"'[2]Inventário Completo'!Q200","v":0}]
[{"$f":"'[2]Inventário Completo'!A201","v":"NA"},{"$f":"'[2]Inventário Completo'!B201","v":12302000500985},{"$f":"'[2]Inventário Completo'!C201","v":"Carregador"},{"$f":"'[2]Inventário Completo'!D201","v":"SAC9000-4000"},{"$f":"'[2]Inventário Completo'!E201","v":"Symbol"},{"$f":"'[2]Inventário Completo'!F201","v":"COMPANHIA SIDERURGICA NACIONAL"},{"$f":"'[2]Inventário Completo'!G201","v":"CSN-ARAUCARIA"},{"$f":"'[2]Inventário Completo'!H201","v":"PR"},{"$f":"'[2]Inventário Completo'!I201","v":"33.042.730/0134-43"},{"$f":"'[2]Inventário Completo'!J201","v":"90.212.835-22"},{"$f":"'[2]Inventário Completo'!K201","v":"Rodovia PR-423, 5500-Estação-Araucária-PR 83705-000"},{"$f":"'[2]Inventário Completo'!L201","v":"Clodoaldo de Moraes"},{"$f":"'[2]Inventário Completo'!M201","v":"(041) 3641- 8050"},{"$f":"'[2]Inventário Completo'!N201","v":0},{"$f":"'[2]Inventário Completo'!O201","v":0},{"$f":"'[2]Inventário Completo'!P201","v":"Em uso"},{"$f":"'[2]Inventário Completo'!Q201","v":0}]
[{"$f":"'[2]Inventário Completo'!A202","v":"NA"},{"$f":"'[2]Inventário Completo'!B202","v":8066923},{"$f":"'[2]Inventário Completo'!C202","v":"Carregador"},{"$f":"'[2]Inventário Completo'!D202","v":"UBC2000"},{"$f":"'[2]Inventário Completo'!E202","v":"Symbol"},{"$f":"'[2]Inventário Completo'!F202","v":"COMPANHIA SIDERURGICA NACIONAL"},{"$f":"'[2]Inventário Completo'!G202","v":"CSN-ARAUCARIA"},{"$f":"'[2]Inventário Completo'!H202","v":"PR"},{"$f":"'[2]Inventário Completo'!I202","v":"33.042.730/0134-44"},{"$f":"'[2]Inventário Completo'!J202","v":"90.212.835-22"},{"$f":"'[2]Inventário Completo'!K202","v":"Rodovia PR-423, 5500-Estação-Araucária-PR 83705-000"},{"$f":"'[2]Inventário Completo'!L202","v":"Clodoaldo de Moraes"},{"$f":"'[2]Inventário Completo'!M202","v":"(041) 3641- 8050"},{"$f":"'[2]Inventário Completo'!N202","v":0},{"$f":"'[2]Inventário Completo'!O202","v":0},{"$f":"'[2]Inventário Completo'!P202","v":"Em uso"},{"$f":"'[2]Inventário Completo'!Q202","v":0}]
[{"$f":"'[2]Inventário Completo'!A203","v":"NA"},{"$f":"'[2]Inventário Completo'!B203","v":"A1-48122"},{"$f":"'[2]Inventário Completo'!C203","v":"Carregador"},{"$f":"'[2]Inventário Completo'!D203","v":"UBC2000"},{"$f":"'[2]Inventário Completo'!E203","v":"Symbol"},{"$f":"'[2]Inventário Completo'!F203","v":"COMPANHIA SIDERURGICA NACIONAL"},{"$f":"'[2]Inventário Completo'!G203","v":"CSN-ARAUCARIA"},{"$f":"'[2]Inventário Completo'!H203","v":"PR"},{"$f":"'[2]Inventário Completo'!I203","v":"33.042.730/0134-45"},{"$f":"'[2]Inventário Completo'!J203","v":"90.212.835-22"},{"$f":"'[2]Inventário Completo'!K203","v":"Rodovia PR-423, 5500-Estação-Araucária-PR 83705-000"},{"$f":"'[2]Inventário Completo'!L203","v":"Clodoaldo de Moraes"},{"$f":"'[2]Inventário Completo'!M203","v":"(041) 3641- 8050"},{"$f":"'[2]Inventário Completo'!N203","v":0},{"$f":"'[2]Inventário Completo'!O203","v":0},{"$f":"'[2]Inventário Completo'!P203","v":"Em uso"},{"$f":"'[2]Inventário Completo'!Q203","v":0}]
[{"$f":"'[2]Inventário Completo'!A204","v":"NA"},{"$f":"'[2]Inventário Completo'!B204","v":"S/N"},{"$f":"'[2]Inventário Completo'!C204","v":"Carregador"},{"$f":"'[2]Inventário Completo'!D204","v":"UBC2000"},{"$f":"'[2]Inventário Completo'!E204","v":"Symbol"},{"$f":"'[2]Inventário Completo'!F204","v":"COMPANHIA SIDERURGICA NACIONAL"},{"$f":"'[2]Inventário Completo'!G204","v":"CSN-ARAUCARIA"},{"$f":"'[2]Inventário Completo'!H204","v":"PR"},{"$f":"'[2]Inventário Completo'!I204","v":"33.042.730/0134-46"},{"$f":"'[2]Inventário Completo'!J204","v":"90.212.835-22"},{"$f":"'[2]Inventário Completo'!K204","v":"Rodovia PR-423, 5500-Estação-Araucária-PR 83705-000"},{"$f":"'[2]Inventário Completo'!L204","v":"Clodoaldo de Moraes"},{"$f":"'[2]Inventário Completo'!M204","v":"(041) 3641- 8050"},{"$f":"'[2]Inventário Completo'!N204","v":0},{"$f":"'[2]Inventário Completo'!O204","v":0},{"$f":"'[2]Inventário Completo'!P204","v":"Em uso"},{"$f":"'[2]Inventário Completo'!Q204","v":0}]
[{"$f":"'[2]Inventário Completo'!A205","v":"NA"},{"$f":"'[2]Inventário Completo'!B205","v":12302000501013},{"$f":"'[2]Inventário Completo'!C205","v":"Carregador"},{"$f":"'[2]Inventário Completo'!D205","v":"UBC2000"},{"$f":"'[2]Inventário Completo'!E205","v":"Symbol"},{"$f":"'[2]Inventário Completo'!F205","v":"COMPANHIA SIDERURGICA NACIONAL"},{"$f":"'[2]Inventário Completo'!G205","v":"CSN-ARAUCARIA"},{"$f":"'[2]Inventário Completo'!H205","v":"PR"},{"$f":"'[2]Inventário Completo'!I205","v":"33.042.730/0134-47"},{"$f":"'[2]Inventário Completo'!J205","v":"90.212.835-22"},{"$f":"'[2]Inventário Completo'!K205","v":"Rodovia PR-423, 5500-Estação-Araucária-PR 83705-000"},{"$f":"'[2]Inventário Completo'!L205","v":"Clodoaldo de Moraes"},{"$f":"'[2]Inventário Completo'!M205","v":"(041) 3641- 8050"},{"$f":"'[2]Inventário Completo'!N205","v":0},{"$f":"'[2]Inventário Completo'!O205","v":0},{"$f":"'[2]Inventário Completo'!P205","v":"Em uso"},{"$f":"'[2]Inventário Completo'!Q205","v":0}]
[{"$f":"'[2]Inventário Completo'!A206","v":"NA"},{"$f":"'[2]Inventário Completo'!B206","v":1011700516287},{"$f":"'[2]Inventário Completo'!C206","v":"Carregador"},{"$f":"'[2]Inventário Completo'!D206","v":"SAC9000-4000"},{"$f":"'[2]Inventário Completo'!E206","v":"Symbol"},{"$f":"'[2]Inventário Completo'!F206","v":"SEPETIBA TECON S/A"},{"$f":"'[2]Inventário Completo'!G206","v":"CSN-SEPETIBA ITAGUAI (TECON)"},{"$f":"'[2]Inventário Completo'!H206","v":"RJ"},{"$f":"'[2]Inventário Completo'!I206","v":"02.394.276/0002-08"},{"$f":"'[2]Inventário Completo'!J206","v":" 86.143.73-9"},{"$f":"'[2]Inventário Completo'!K206","v":"Est Prefeito Wilson Pedro Francisco, S/N, Parte, Ilha Da Madeira, Itaguaí, RJ, CEP 23826-600, Brasil"},{"$f":"'[2]Inventário Completo'!L206","v":"Filipe Almeida"},{"$f":"'[2]Inventário Completo'!M206","v":"(21) 26871918"},{"$f":"'[2]Inventário Completo'!N206","v":0},{"$f":"'[2]Inventário Completo'!O206","v":0},{"$f":"'[2]Inventário Completo'!P206","v":"Em uso"},{"$f":"'[2]Inventário Completo'!Q206","v":0}]
[{"$f":"'[2]Inventário Completo'!A207","v":"NA"},{"$f":"'[2]Inventário Completo'!B207","v":1026200501238},{"$f":"'[2]Inventário Completo'!C207","v":"Carregador"},{"$f":"'[2]Inventário Completo'!D207","v":"SAC9000-4000"},{"$f":"'[2]Inventário Completo'!E207","v":"Symbol"},{"$f":"'[2]Inventário Completo'!F207","v":"SEPETIBA TECON S/A"},{"$f":"'[2]Inventário Completo'!G207","v":"CSN-SEPETIBA ITAGUAI (TECON)"},{"$f":"'[2]Inventário Completo'!H207","v":"RJ"},{"$f":"'[2]Inventário Completo'!I207","v":"02.394.276/0002-08"},{"$f":"'[2]Inventário Completo'!J207","v":" 86.143.73-9"},{"$f":"'[2]Inventário Completo'!K207","v":"Est Prefeito Wilson Pedro Francisco, S/N, Parte, Ilha Da Madeira, Itaguaí, RJ, CEP 23826-600, Brasil"},{"$f":"'[2]Inventário Completo'!L207","v":"Filipe Almeida"},{"$f":"'[2]Inventário Completo'!M207","v":"(21) 26871918"},{"$f":"'[2]Inventário Completo'!N207","v":0},{"$f":"'[2]Inventário Completo'!O207","v":0},{"$f":"'[2]Inventário Completo'!P207","v":"Em uso"},{"$f":"'[2]Inventário Completo'!Q207","v":0}]
[{"$f":"'[2]Inventário Completo'!A208","v":"NA"},{"$f":"'[2]Inventário Completo'!B208","v":1026200501290},{"$f":"'[2]Inventário Completo'!C208","v":"Carregador"},{"$f":"'[2]Inventário Completo'!D208","v":"SAC9000-4000"},{"$f":"'[2]Inventário Completo'!E208","v":"Symbol"},{"$f":"'[2]Inventário Completo'!F208","v":"SEPETIBA TECON S/A"},{"$f":"'[2]Inventário Completo'!G208","v":"CSN-SEPETIBA ITAGUAI (TECON)"},{"$f":"'[2]Inventário Completo'!H208","v":"RJ"},{"$f":"'[2]Inventário Completo'!I208","v":"02.394.276/0002-08"},{"$f":"'[2]Inventário Completo'!J208","v":" 86.143.73-9"},{"$f":"'[2]Inventário Completo'!K208","v":"Est Prefeito Wilson Pedro Francisco, S/N, Parte, Ilha Da Madeira, Itaguaí, RJ, CEP 23826-600, Brasil"},{"$f":"'[2]Inventário Completo'!L208","v":"Filipe Almeida"},{"$f":"'[2]Inventário Completo'!M208","v":"(21) 26871918"},{"$f":"'[2]Inventário Completo'!N208","v":0},{"$f":"'[2]Inventário Completo'!O208","v":0},{"$f":"'[2]Inventário Completo'!P208","v":"Em uso"},{"$f":"'[2]Inventário Completo'!Q208","v":0}]
[{"$f":"'[2]Inventário Completo'!A209","v":"NA"},{"$f":"'[2]Inventário Completo'!B209","v":1026200501292},{"$f":"'[2]Inventário Completo'!C209","v":"Carregador"},{"$f":"'[2]Inventário Completo'!D209","v":"SAC9000-4000"},{"$f":"'[2]Inventário Completo'!E209","v":"Symbol"},{"$f":"'[2]Inventário Completo'!F209","v":"SEPETIBA TECON S/A"},{"$f":"'[2]Inventário Completo'!G209","v":"CSN-SEPETIBA ITAGUAI (TECON)"},{"$f":"'[2]Inventário Completo'!H209","v":"RJ"},{"$f":"'[2]Inventário Completo'!I209","v":"02.394.276/0002-08"},{"$f":"'[2]Inventário Completo'!J209","v":" 86.143.73-9"},{"$f":"'[2]Inventário Completo'!K209","v":"Est Prefeito Wilson Pedro Francisco, S/N, Parte, Ilha Da Madeira, Itaguaí, RJ, CEP 23826-600, Brasil"},{"$f":"'[2]Inventário Completo'!L209","v":"Filipe Almeida"},{"$f":"'[2]Inventário Completo'!M209","v":"(21) 26871918"},{"$f":"'[2]Inventário Completo'!N209","v":0},{"$f":"'[2]Inventário Completo'!O209","v":0},{"$f":"'[2]Inventário Completo'!P209","v":"Em uso"},{"$f":"'[2]Inventário Completo'!Q209","v":0}]
[{"$f":"'[2]Inventário Completo'!A210","v":"NA"},{"$f":"'[2]Inventário Completo'!B210","v":7197000501137},{"$f":"'[2]Inventário Completo'!C210","v":"Carregador"},{"$f":"'[2]Inventário Completo'!D210","v":"SAC9000-4000"},{"$f":"'[2]Inventário Completo'!E210","v":"Symbol"},{"$f":"'[2]Inventário Completo'!F210","v":"COMPANHIA SIDERURGICA NACIONAL"},{"$f":"'[2]Inventário Completo'!G210","v":"CSN-VOLTA REDONDA"},{"$f":"'[2]Inventário Completo'!H210","v":"RJ"},{"$f":"'[2]Inventário Completo'!I210","v":"33.042.730/0017-71"},{"$f":"'[2]Inventário Completo'!J210","v":80541767},{"$f":"'[2]Inventário Completo'!K210","v":"Rodovia BR 393, Lúcio Meira KM 5001, SN°, Vila Santa Cecília, Volta Redonda"},{"$f":"'[2]Inventário Completo'!L210","v":"Luiz Cesar"},{"$f":"'[2]Inventário Completo'!M210","v":3105},{"$f":"'[2]Inventário Completo'!N210","v":0},{"$f":"'[2]Inventário Completo'!O210","v":0},{"$f":"'[2]Inventário Completo'!P210","v":"Em uso"},{"$f":"'[2]Inventário Completo'!Q210","v":0}]
[{"$f":"'[2]Inventário Completo'!A211","v":"NA"},{"$f":"'[2]Inventário Completo'!B211","v":7197000501138},{"$f":"'[2]Inventário Completo'!C211","v":"Carregador"},{"$f":"'[2]Inventário Completo'!D211","v":"SAC9000-4000"},{"$f":"'[2]Inventário Completo'!E211","v":"Symbol"},{"$f":"'[2]Inventário Completo'!F211","v":"COMPANHIA SIDERURGICA NACIONAL"},{"$f":"'[2]Inventário Completo'!G211","v":"CSN-VOLTA REDONDA"},{"$f":"'[2]Inventário Completo'!H211","v":"RJ"},{"$f":"'[2]Inventário Completo'!I211","v":"33.042.730/0017-71"},{"$f":"'[2]Inventário Completo'!J211","v":80541767},{"$f":"'[2]Inventário Completo'!K211","v":"Rodovia BR 393, Lúcio Meira KM 5001, SN°, Vila Santa Cecília, Volta Redonda"},{"$f":"'[2]Inventário Completo'!L211","v":"Luiz Cesar"},{"$f":"'[2]Inventário Completo'!M211","v":3105},{"$f":"'[2]Inventário Completo'!N211","v":0},{"$f":"'[2]Inventário Completo'!O211","v":0},{"$f":"'[2]Inventário Completo'!P211","v":"Em uso"},{"$f":"'[2]Inventário Completo'!Q211","v":0}]
[{"$f":"'[2]Inventário Completo'!A212","v":"NA"},{"$f":"'[2]Inventário Completo'!B212","v":4040098},{"$f":"'[2]Inventário Completo'!C212","v":"Carregador"},{"$f":"'[2]Inventário Completo'!D212","v":"UBC2000"},{"$f":"'[2]Inventário Completo'!E212","v":"Symbol"},{"$f":"'[2]Inventário Completo'!F212","v":"COMPANHIA SIDERURGICA NACIONAL"},{"$f":"'[2]Inventário Completo'!G212","v":"CSN-VOLTA REDONDA"},{"$f":"'[2]Inventário Completo'!H212","v":"RJ"},{"$f":"'[2]Inventário Completo'!I212","v":"33.042.730/0017-71"},{"$f":"'[2]Inventário Completo'!J212","v":80541767},{"$f":"'[2]Inventário Completo'!K212","v":"Rodovia BR 393, Lúcio Meira KM 5001, SN°, Vila Santa Cecília, Volta Redonda"},{"$f":"'[2]Inventário Completo'!L212","v":"Luiz Cesar"},{"$f":"'[2]Inventário Completo'!M212","v":3105},{"$f":"'[2]Inventário Completo'!N212","v":0},{"$f":"'[2]Inventário Completo'!O212","v":0},{"$f":"'[2]Inventário Completo'!P212","v":"Em uso"},{"$f":"'[2]Inventário Completo'!Q212","v":0}]
[{"$f":"'[2]Inventário Completo'!A213","v":"NA"},{"$f":"'[2]Inventário Completo'!B213","v":8066917},{"$f":"'[2]Inventário Completo'!C213","v":"Carregador"},{"$f":"'[2]Inventário Completo'!D213","v":"UBC2000"},{"$f":"'[2]Inventário Completo'!E213","v":"Symbol"},{"$f":"'[2]Inventário Completo'!F213","v":"COMPANHIA SIDERURGICA NACIONAL"},{"$f":"'[2]Inventário Completo'!G213","v":"CSN-VOLTA REDONDA"},{"$f":"'[2]Inventário Completo'!H213","v":"RJ"},{"$f":"'[2]Inventário Completo'!I213","v":"33.042.730/0017-71"},{"$f":"'[2]Inventário Completo'!J213","v":80541767},{"$f":"'[2]Inventário Completo'!K213","v":"Rodovia BR 393, Lúcio Meira KM 5001, SN°, Vila Santa Cecília, Volta Redonda"},{"$f":"'[2]Inventário Completo'!L213","v":"Luiz Cesar"},{"$f":"'[2]Inventário Completo'!M213","v":3105},{"$f":"'[2]Inventário Completo'!N213","v":0},{"$f":"'[2]Inventário Completo'!O213","v":0},{"$f":"'[2]Inventário Completo'!P213","v":"Em uso"},{"$f":"'[2]Inventário Completo'!Q213","v":0}]
[{"$f":"'[2]Inventário Completo'!A214","v":"NA"},{"$f":"'[2]Inventário Completo'!B214","v":8066937},{"$f":"'[2]Inventário Completo'!C214","v":"Carregador"},{"$f":"'[2]Inventário Completo'!D214","v":"UBC2000"},{"$f":"'[2]Inventário Completo'!E214","v":"Symbol"},{"$f":"'[2]Inventário Completo'!F214","v":"COMPANHIA SIDERURGICA NACIONAL"},{"$f":"'[2]Inventário Completo'!G214","v":"CSN-VOLTA REDONDA"},{"$f":"'[2]Inventário Completo'!H214","v":"RJ"},{"$f":"'[2]Inventário Completo'!I214","v":"33.042.730/0017-71"},{"$f":"'[2]Inventário Completo'!J214","v":80541767},{"$f":"'[2]Inventário Completo'!K214","v":"Rodovia BR 393, Lúcio Meira KM 5001, SN°, Vila Santa Cecília, Volta Redonda"},{"$f":"'[2]Inventário Completo'!L214","v":"Luiz Cesar"},{"$f":"'[2]Inventário Completo'!M214","v":3105},{"$f":"'[2]Inventário Completo'!N214","v":0},{"$f":"'[2]Inventário Completo'!O214","v":0},{"$f":"'[2]Inventário Completo'!P214","v":"Em uso"},{"$f":"'[2]Inventário Completo'!Q214","v":0}]
[{"$f":"'[2]Inventário Completo'!A215","v":"NA"},{"$f":"'[2]Inventário Completo'!B215","v":8067376},{"$f":"'[2]Inventário Completo'!C215","v":"Carregador"},{"$f":"'[2]Inventário Completo'!D215","v":"UBC2000"},{"$f":"'[2]Inventário Completo'!E215","v":"Symbol"},{"$f":"'[2]Inventário Completo'!F215","v":"COMPANHIA SIDERURGICA NACIONAL"},{"$f":"'[2]Inventário Completo'!G215","v":"CSN-VOLTA REDONDA"},{"$f":"'[2]Inventário Completo'!H215","v":"RJ"},{"$f":"'[2]Inventário Completo'!I215","v":"33.042.730/0017-71"},{"$f":"'[2]Inventário Completo'!J215","v":80541767},{"$f":"'[2]Inventário Completo'!K215","v":"Rodovia BR 393, Lúcio Meira KM 5001, SN°, Vila Santa Cecília, Volta Redonda"},{"$f":"'[2]Inventário Completo'!L215","v":"Luiz Cesar"},{"$f":"'[2]Inventário Completo'!M215","v":3105},{"$f":"'[2]Inventário Completo'!N215","v":0},{"$f":"'[2]Inventário Completo'!O215","v":0},{"$f":"'[2]Inventário Completo'!P215","v":"Em uso"},{"$f":"'[2]Inventário Completo'!Q215","v":0}]
[{"$f":"'[2]Inventário Completo'!A216","v":"NA"},{"$f":"'[2]Inventário Completo'!B216","v":"A1-47702"},{"$f":"'[2]Inventário Completo'!C216","v":"Carregador"},{"$f":"'[2]Inventário Completo'!D216","v":"UBC2000"},{"$f":"'[2]Inventário Completo'!E216","v":"Symbol"},{"$f":"'[2]Inventário Completo'!F216","v":"COMPANHIA SIDERURGICA NACIONAL"},{"$f":"'[2]Inventário Completo'!G216","v":"CSN-VOLTA REDONDA"},{"$f":"'[2]Inventário Completo'!H216","v":"RJ"},{"$f":"'[2]Inventário Completo'!I216","v":"33.042.730/0017-71"},{"$f":"'[2]Inventário Completo'!J216","v":80541767},{"$f":"'[2]Inventário Completo'!K216","v":"Rodovia BR 393, Lúcio Meira KM 5001, SN°, Vila Santa Cecília, Volta Redonda"},{"$f":"'[2]Inventário Completo'!L216","v":"Luiz Cesar"},{"$f":"'[2]Inventário Completo'!M216","v":3105},{"$f":"'[2]Inventário Completo'!N216","v":0},{"$f":"'[2]Inventário Completo'!O216","v":0},{"$f":"'[2]Inventário Completo'!P216","v":"Em uso"},{"$f":"'[2]Inventário Completo'!Q216","v":0}]
[{"$f":"'[2]Inventário Completo'!A217","v":"NA"},{"$f":"'[2]Inventário Completo'!B217","v":"A1-76162"},{"$f":"'[2]Inventário Completo'!C217","v":"Carregador"},{"$f":"'[2]Inventário Completo'!D217","v":"UBC2000"},{"$f":"'[2]Inventário Completo'!E217","v":"Symbol"},{"$f":"'[2]Inventário Completo'!F217","v":"COMPANHIA SIDERURGICA NACIONAL"},{"$f":"'[2]Inventário Completo'!G217","v":"CSN-VOLTA REDONDA"},{"$f":"'[2]Inventário Completo'!H217","v":"RJ"},{"$f":"'[2]Inventário Completo'!I217","v":"33.042.730/0017-71"},{"$f":"'[2]Inventário Completo'!J217","v":80541767},{"$f":"'[2]Inventário Completo'!K217","v":"Rodovia BR 393, Lúcio Meira KM 5001, SN°, Vila Santa Cecília, Volta Redonda"},{"$f":"'[2]Inventário Completo'!L217","v":"Luiz Cesar"},{"$f":"'[2]Inventário Completo'!M217","v":3105},{"$f":"'[2]Inventário Completo'!N217","v":0},{"$f":"'[2]Inventário Completo'!O217","v":0},{"$f":"'[2]Inventário Completo'!P217","v":"Em uso"},{"$f":"'[2]Inventário Completo'!Q217","v":0}]
[{"$f":"'[2]Inventário Completo'!A218","v":"NA"},{"$f":"'[2]Inventário Completo'!B218","v":"J70619N0225"},{"$f":"'[2]Inventário Completo'!C218","v":"Carregador"},{"$f":"'[2]Inventário Completo'!D218","v":"HCH-9006"},{"$f":"'[2]Inventário Completo'!E218","v":"Symbol"},{"$f":"'[2]Inventário Completo'!F218","v":"COMPANHIA SIDERURGICA NACIONAL"},{"$f":"'[2]Inventário Completo'!G218","v":"CSN-GALVASUD"},{"$f":"'[2]Inventário Completo'!H218","v":"RJ"},{"$f":"'[2]Inventário Completo'!I218","v":" 33.042.730/0130-01"},{"$f":"'[2]Inventário Completo'!J218","v":"75566417 "},{"$f":"'[2]Inventário Completo'!K218","v":"Avenida Renato Monteiro 7777, Centro, Porto Real"},{"$f":"'[2]Inventário Completo'!L218","v":"Bernardo Passos"},{"$f":"'[2]Inventário Completo'!M218","v":"(24) 33443000"},{"$f":"'[2]Inventário Completo'!N218","v":0},{"$f":"'[2]Inventário Completo'!O218","v":0},{"$f":"'[2]Inventário Completo'!P218","v":"Em uso"},{"$f":"'[2]Inventário Completo'!Q218","v":0}]
[{"$f":"'[2]Inventário Completo'!A219","v":"NA"},{"$f":"'[2]Inventário Completo'!B219","v":1125200500583},{"$f":"'[2]Inventário Completo'!C219","v":"Carregador"},{"$f":"'[2]Inventário Completo'!D219","v":"Carregador "},{"$f":"'[2]Inventário Completo'!E219","v":"Symbol"},{"$f":"'[2]Inventário Completo'!F219","v":"COMPANHIA METALURGICA PRADA"},{"$f":"'[2]Inventário Completo'!G219","v":"PRADA - MOGI DAS CRUZES"},{"$f":"'[2]Inventário Completo'!H219","v":"SP"},{"$f":"'[2]Inventário Completo'!I219","v":"56.993.900/0028-51"},{"$f":"'[2]Inventário Completo'!J219","v":454346682110},{"$f":"'[2]Inventário Completo'!K219","v":"Av. Inal, 190 - Vila Industrial"},{"$f":"'[2]Inventário Completo'!L219","v":"Alexandre Machado"},{"$f":"'[2]Inventário Completo'!M219","v":"(11) 4791-7971"},{"$f":"'[2]Inventário Completo'!N219","v":0},{"$f":"'[2]Inventário Completo'!O219","v":0},{"$f":"'[2]Inventário Completo'!P219","v":"Em uso"},{"$f":"'[2]Inventário Completo'!Q219","v":0}]
[{"$f":"'[2]Inventário Completo'!A220","v":"NA"},{"$f":"'[2]Inventário Completo'!B220","v":1125200500589},{"$f":"'[2]Inventário Completo'!C220","v":"Carregador"},{"$f":"'[2]Inventário Completo'!D220","v":"Carregador "},{"$f":"'[2]Inventário Completo'!E220","v":"Symbol"},{"$f":"'[2]Inventário Completo'!F220","v":"COMPANHIA METALURGICA PRADA"},{"$f":"'[2]Inventário Completo'!G220","v":"PRADA - MOGI DAS CRUZES"},{"$f":"'[2]Inventário Completo'!H220","v":"SP"},{"$f":"'[2]Inventário Completo'!I220","v":"56.993.900/0028-51"},{"$f":"'[2]Inventário Completo'!J220","v":454346682110},{"$f":"'[2]Inventário Completo'!K220","v":"Av. Inal, 190 - Vila Industrial"},{"$f":"'[2]Inventário Completo'!L220","v":"Alexandre Machado"},{"$f":"'[2]Inventário Completo'!M220","v":"(11) 4791-7971"},{"$f":"'[2]Inventário Completo'!N220","v":0},{"$f":"'[2]Inventário Completo'!O220","v":0},{"$f":"'[2]Inventário Completo'!P220","v":"Em uso"},{"$f":"'[2]Inventário Completo'!Q220","v":0}]
[{"$f":"'[2]Inventário Completo'!A221","v":"NA"},{"$f":"'[2]Inventário Completo'!B221","v":1129000501611},{"$f":"'[2]Inventário Completo'!C221","v":"Carregador"},{"$f":"'[2]Inventário Completo'!D221","v":"Carregador "},{"$f":"'[2]Inventário Completo'!E221","v":"Symbol"},{"$f":"'[2]Inventário Completo'!F221","v":"COMPANHIA METALURGICA PRADA"},{"$f":"'[2]Inventário Completo'!G221","v":"PRADA - MOGI DAS CRUZES"},{"$f":"'[2]Inventário Completo'!H221","v":"SP"},{"$f":"'[2]Inventário Completo'!I221","v":"56.993.900/0028-51"},{"$f":"'[2]Inventário Completo'!J221","v":454346682110},{"$f":"'[2]Inventário Completo'!K221","v":"Av. Inal, 190 - Vila Industrial"},{"$f":"'[2]Inventário Completo'!L221","v":"Alexandre Machado"},{"$f":"'[2]Inventário Completo'!M221","v":"(11) 4791-7971"},{"$f":"'[2]Inventário Completo'!N221","v":0},{"$f":"'[2]Inventário Completo'!O221","v":0},{"$f":"'[2]Inventário Completo'!P221","v":"Em uso"},{"$f":"'[2]Inventário Completo'!Q221","v":0}]
[{"$f":"'[2]Inventário Completo'!A222","v":"NA"},{"$f":"'[2]Inventário Completo'!B222","v":21048536},{"$f":"'[2]Inventário Completo'!C222","v":"Carregador"},{"$f":"'[2]Inventário Completo'!D222","v":"1002VV05"},{"$f":"'[2]Inventário Completo'!E222","v":"Symbol"},{"$f":"'[2]Inventário Completo'!F222","v":"COMPANHIA METALURGICA PRADA"},{"$f":"'[2]Inventário Completo'!G222","v":"PRADA - RESENDE"},{"$f":"'[2]Inventário Completo'!H222","v":"RJ"},{"$f":"'[2]Inventário Completo'!I222","v":"56.993.900/0030-76"},{"$f":"'[2]Inventário Completo'!J222","v":79809721},{"$f":"'[2]Inventário Completo'!K222","v":"Rodovia Presidente Dutra, S/Nº - Km 298, Polo Industrial - Resende - RJ - CEP.: 27.537-000                    "},{"$f":"'[2]Inventário Completo'!L222","v":"Alex Candido"},{"$f":"'[2]Inventário Completo'!M222","v":"(24) 3383-8320"},{"$f":"'[2]Inventário Completo'!N222","v":0},{"$f":"'[2]Inventário Completo'!O222","v":0},{"$f":"'[2]Inventário Completo'!P222","v":"Em uso"},{"$f":"'[2]Inventário Completo'!Q222","v":0}]
[{"$f":"'[2]Inventário Completo'!A223","v":"NA"},{"$f":"'[2]Inventário Completo'!B223","v":1225400501127},{"$f":"'[2]Inventário Completo'!C223","v":"Carregador"},{"$f":"'[2]Inventário Completo'!D223","v":"CRD9000"},{"$f":"'[2]Inventário Completo'!E223","v":"Symbol"},{"$f":"'[2]Inventário Completo'!F223","v":"COMPANHIA SIDERURGICA NACIONAL"},{"$f":"'[2]Inventário Completo'!G223","v":"CSN-VOLTA REDONDA"},{"$f":"'[2]Inventário Completo'!H223","v":"RJ"},{"$f":"'[2]Inventário Completo'!I223","v":"33.042.730/0017-71"},{"$f":"'[2]Inventário Completo'!J223","v":80541767},{"$f":"'[2]Inventário Completo'!K223","v":"Rodovia BR 393, Lúcio Meira KM 5001, SN°, Vila Santa Cecília, Volta Redonda"},{"$f":"'[2]Inventário Completo'!L223","v":"Luiz Cesar"},{"$f":"'[2]Inventário Completo'!M223","v":3105},{"$f":"'[2]Inventário Completo'!N223","v":0},{"$f":"'[2]Inventário Completo'!O223","v":0},{"$f":"'[2]Inventário Completo'!P223","v":"Em uso"},{"$f":"'[2]Inventário Completo'!Q223","v":0}]
[{"$f":"'[2]Inventário Completo'!A224","v":"NA"},{"$f":"'[2]Inventário Completo'!B224","v":1024900504441},{"$f":"'[2]Inventário Completo'!C224","v":"Carregador"},{"$f":"'[2]Inventário Completo'!D224","v":"CRD9000"},{"$f":"'[2]Inventário Completo'!E224","v":"Symbol"},{"$f":"'[2]Inventário Completo'!F224","v":"COMPANHIA SIDERURGICA NACIONAL"},{"$f":"'[2]Inventário Completo'!G224","v":"CSN-VOLTA REDONDA"},{"$f":"'[2]Inventário Completo'!H224","v":"RJ"},{"$f":"'[2]Inventário Completo'!I224","v":"33.042.730/0017-71"},{"$f":"'[2]Inventário Completo'!J224","v":80541767},{"$f":"'[2]Inventário Completo'!K224","v":"Rodovia BR 393, Lúcio Meira KM 5001, SN°, Vila Santa Cecília, Volta Redonda"},{"$f":"'[2]Inventário Completo'!L224","v":"Luiz Cesar"},{"$f":"'[2]Inventário Completo'!M224","v":3105},{"$f":"'[2]Inventário Completo'!N224","v":0},{"$f":"'[2]Inventário Completo'!O224","v":0},{"$f":"'[2]Inventário Completo'!P224","v":"Em uso"},{"$f":"'[2]Inventário Completo'!Q224","v":0}]
[{"$f":"'[2]Inventário Completo'!A225","v":"NA"},{"$f":"'[2]Inventário Completo'!B225","v":4039905},{"$f":"'[2]Inventário Completo'!C225","v":"Carregador"},{"$f":"'[2]Inventário Completo'!D225","v":"SAC9000-4000"},{"$f":"'[2]Inventário Completo'!E225","v":"Symbol"},{"$f":"'[2]Inventário Completo'!F225","v":"COMPANHIA SIDERURGICA NACIONAL"},{"$f":"'[2]Inventário Completo'!G225","v":"CSN-VOLTA REDONDA"},{"$f":"'[2]Inventário Completo'!H225","v":"RJ"},{"$f":"'[2]Inventário Completo'!I225","v":"33.042.730/0017-71"},{"$f":"'[2]Inventário Completo'!J225","v":80541767},{"$f":"'[2]Inventário Completo'!K225","v":"Rodovia BR 393, Lúcio Meira KM 5001, SN°, Vila Santa Cecília, Volta Redonda"},{"$f":"'[2]Inventário Completo'!L225","v":"Luiz Cesar"},{"$f":"'[2]Inventário Completo'!M225","v":3105},{"$f":"'[2]Inventário Completo'!N225","v":0},{"$f":"'[2]Inventário Completo'!O225","v":0},{"$f":"'[2]Inventário Completo'!P225","v":"Em uso"},{"$f":"'[2]Inventário Completo'!Q225","v":0}]
[{"$f":"'[2]Inventário Completo'!A226","v":"NA"},{"$f":"'[2]Inventário Completo'!B226","v":"J240118N0186"},{"$f":"'[2]Inventário Completo'!C226","v":"Carregador"},{"$f":"'[2]Inventário Completo'!D226","v":"HCH9006"},{"$f":"'[2]Inventário Completo'!E226","v":"Symbol"},{"$f":"'[2]Inventário Completo'!F226","v":"COMPANHIA SIDERURGICA NACIONAL"},{"$f":"'[2]Inventário Completo'!G226","v":"CSN-VOLTA REDONDA"},{"$f":"'[2]Inventário Completo'!H226","v":"RJ"},{"$f":"'[2]Inventário Completo'!I226","v":"33.042.730/0017-71"},{"$f":"'[2]Inventário Completo'!J226","v":80541767},{"$f":"'[2]Inventário Completo'!K226","v":"Rodovia BR 393, Lúcio Meira KM 5001, SN°, Vila Santa Cecília, Volta Redonda"},{"$f":"'[2]Inventário Completo'!L226","v":"Luiz Cesar"},{"$f":"'[2]Inventário Completo'!M226","v":3105},{"$f":"'[2]Inventário Completo'!N226","v":0},{"$f":"'[2]Inventário Completo'!O226","v":0},{"$f":"'[2]Inventário Completo'!P226","v":"Em uso"},{"$f":"'[2]Inventário Completo'!Q226","v":0}]
[{"$f":"'[2]Inventário Completo'!A227","v":"NA"},{"$f":"'[2]Inventário Completo'!B227","v":12254000501117},{"$f":"'[2]Inventário Completo'!C227","v":"Carregador"},{"$f":"'[2]Inventário Completo'!D227","v":"SAC9000-4000"},{"$f":"'[2]Inventário Completo'!E227","v":"Symbol"},{"$f":"'[2]Inventário Completo'!F227","v":"COMPANHIA SIDERURGICA NACIONAL"},{"$f":"'[2]Inventário Completo'!G227","v":"CSN-VOLTA REDONDA"},{"$f":"'[2]Inventário Completo'!H227","v":"RJ"},{"$f":"'[2]Inventário Completo'!I227","v":"33.042.730/0017-71"},{"$f":"'[2]Inventário Completo'!J227","v":80541767},{"$f":"'[2]Inventário Completo'!K227","v":"Rodovia BR 393, Lúcio Meira KM 5001, SN°, Vila Santa Cecília, Volta Redonda"},{"$f":"'[2]Inventário Completo'!L227","v":"Luiz Cesar"},{"$f":"'[2]Inventário Completo'!M227","v":3105},{"$f":"'[2]Inventário Completo'!N227","v":0},{"$f":"'[2]Inventário Completo'!O227","v":0},{"$f":"'[2]Inventário Completo'!P227","v":"Em uso"},{"$f":"'[2]Inventário Completo'!Q227","v":0}]
[{"$f":"'[2]Inventário Completo'!A228","v":"NA"},{"$f":"'[2]Inventário Completo'!B228","v":12254000501116},{"$f":"'[2]Inventário Completo'!C228","v":"Carregador"},{"$f":"'[2]Inventário Completo'!D228","v":"SAC9000-4000"},{"$f":"'[2]Inventário Completo'!E228","v":"Symbol"},{"$f":"'[2]Inventário Completo'!F228","v":"COMPANHIA SIDERURGICA NACIONAL"},{"$f":"'[2]Inventário Completo'!G228","v":"CSN-VOLTA REDONDA"},{"$f":"'[2]Inventário Completo'!H228","v":"RJ"},{"$f":"'[2]Inventário Completo'!I228","v":"33.042.730/0017-71"},{"$f":"'[2]Inventário Completo'!J228","v":80541767},{"$f":"'[2]Inventário Completo'!K228","v":"Rodovia BR 393, Lúcio Meira KM 5001, SN°, Vila Santa Cecília, Volta Redonda"},{"$f":"'[2]Inventário Completo'!L228","v":"Luiz Cesar"},{"$f":"'[2]Inventário Completo'!M228","v":3105},{"$f":"'[2]Inventário Completo'!N228","v":0},{"$f":"'[2]Inventário Completo'!O228","v":0},{"$f":"'[2]Inventário Completo'!P228","v":"Em uso"},{"$f":"'[2]Inventário Completo'!Q228","v":0}]
[{"$f":"'[2]Inventário Completo'!A229","v":"NA"},{"$f":"'[2]Inventário Completo'!B229","v":12254000501115},{"$f":"'[2]Inventário Completo'!C229","v":"Carregador"},{"$f":"'[2]Inventário Completo'!D229","v":"SAC9000-4000"},{"$f":"'[2]Inventário Completo'!E229","v":"Symbol"},{"$f":"'[2]Inventário Completo'!F229","v":"COMPANHIA SIDERURGICA NACIONAL"},{"$f":"'[2]Inventário Completo'!G229","v":"CSN-VOLTA REDONDA"},{"$f":"'[2]Inventário Completo'!H229","v":"RJ"},{"$f":"'[2]Inventário Completo'!I229","v":"33.042.730/0017-71"},{"$f":"'[2]Inventário Completo'!J229","v":80541767},{"$f":"'[2]Inventário Completo'!K229","v":"Rodovia BR 393, Lúcio Meira KM 5001, SN°, Vila Santa Cecília, Volta Redonda"},{"$f":"'[2]Inventário Completo'!L229","v":"Luiz Cesar"},{"$f":"'[2]Inventário Completo'!M229","v":3105},{"$f":"'[2]Inventário Completo'!N229","v":0},{"$f":"'[2]Inventário Completo'!O229","v":0},{"$f":"'[2]Inventário Completo'!P229","v":"Em uso"},{"$f":"'[2]Inventário Completo'!Q229","v":0}]
[{"$f":"'[2]Inventário Completo'!A230","v":"NA"},{"$f":"'[2]Inventário Completo'!B230","v":1424000500580},{"$f":"'[2]Inventário Completo'!C230","v":"Carregador"},{"$f":"'[2]Inventário Completo'!D230","v":"SAC9000-4000"},{"$f":"'[2]Inventário Completo'!E230","v":"Symbol"},{"$f":"'[2]Inventário Completo'!F230","v":"COMPANHIA SIDERURGICA NACIONAL"},{"$f":"'[2]Inventário Completo'!G230","v":"CSN-VOLTA REDONDA"},{"$f":"'[2]Inventário Completo'!H230","v":"RJ"},{"$f":"'[2]Inventário Completo'!I230","v":"33.042.730/0017-71"},{"$f":"'[2]Inventário Completo'!J230","v":80541767},{"$f":"'[2]Inventário Completo'!K230","v":"Rodovia BR 393, Lúcio Meira KM 5001, SN°, Vila Santa Cecília, Volta Redonda"},{"$f":"'[2]Inventário Completo'!L230","v":"Luiz Cesar"},{"$f":"'[2]Inventário Completo'!M230","v":3105},{"$f":"'[2]Inventário Completo'!N230","v":0},{"$f":"'[2]Inventário Completo'!O230","v":0},{"$f":"'[2]Inventário Completo'!P230","v":"Em uso"},{"$f":"'[2]Inventário Completo'!Q230","v":0}]
[{"$f":"'[2]Inventário Completo'!A231","v":"GCAR0001"},{"$f":"'[2]Inventário Completo'!B231","v":7326000501022},{"$f":"'[2]Inventário Completo'!C231","v":"Coletor"},{"$f":"'[2]Inventário Completo'!D231","v":"MC9090G"},{"$f":"'[2]Inventário Completo'!E231","v":"Motorola"},{"$f":"'[2]Inventário Completo'!F231","v":"COMPANHIA SIDERURGICA NACIONAL"},{"$f":"'[2]Inventário Completo'!G231","v":"CSN-ARAUCARIA"},{"$f":"'[2]Inventário Completo'!H231","v":"PR"},{"$f":"'[2]Inventário Completo'!I231","v":"33.042.730/0134-48"},{"$f":"'[2]Inventário Completo'!J231","v":"90.212.835-22"},{"$f":"'[2]Inventário Completo'!K231","v":"Rodovia PR-423, 5500-Estação-Araucária-PR 83705-000"},{"$f":"'[2]Inventário Completo'!L231","v":"Clodoaldo de Moraes"},{"$f":"'[2]Inventário Completo'!M231","v":"(041) 3641- 8050"},{"$f":"'[2]Inventário Completo'!N231","v":0},{"$f":"'[2]Inventário Completo'!O231","v":0},{"$f":"'[2]Inventário Completo'!P231","v":"Em uso"},{"$f":"'[2]Inventário Completo'!Q231","v":0}]
[{"$f":"'[2]Inventário Completo'!A232","v":"GCAR0002"},{"$f":"'[2]Inventário Completo'!B232","v":7326000501118},{"$f":"'[2]Inventário Completo'!C232","v":"Coletor"},{"$f":"'[2]Inventário Completo'!D232","v":"MC9090G"},{"$f":"'[2]Inventário Completo'!E232","v":"Motorola"},{"$f":"'[2]Inventário Completo'!F232","v":"COMPANHIA SIDERURGICA NACIONAL"},{"$f":"'[2]Inventário Completo'!G232","v":"CSN-ARAUCARIA"},{"$f":"'[2]Inventário Completo'!H232","v":"PR"},{"$f":"'[2]Inventário Completo'!I232","v":"33.042.730/0134-49"},{"$f":"'[2]Inventário Completo'!J232","v":"90.212.835-22"},{"$f":"'[2]Inventário Completo'!K232","v":"Rodovia PR-423, 5500-Estação-Araucária-PR 83705-000"},{"$f":"'[2]Inventário Completo'!L232","v":"Clodoaldo de Moraes"},{"$f":"'[2]Inventário Completo'!M232","v":"(041) 3641- 8050"},{"$f":"'[2]Inventário Completo'!N232","v":0},{"$f":"'[2]Inventário Completo'!O232","v":0},{"$f":"'[2]Inventário Completo'!P232","v":"Em uso"},{"$f":"'[2]Inventário Completo'!Q232","v":0}]
[{"$f":"'[2]Inventário Completo'!A233","v":"GCAR0003"},{"$f":"'[2]Inventário Completo'!B233","v":1318200503784},{"$f":"'[2]Inventário Completo'!C233","v":"Coletor"},{"$f":"'[2]Inventário Completo'!D233","v":"MC9190G"},{"$f":"'[2]Inventário Completo'!E233","v":"Motorola"},{"$f":"'[2]Inventário Completo'!F233","v":"COMPANHIA SIDERURGICA NACIONAL"},{"$f":"'[2]Inventário Completo'!G233","v":"CSN-ARAUCARIA"},{"$f":"'[2]Inventário Completo'!H233","v":"PR"},{"$f":"'[2]Inventário Completo'!I233","v":"33.042.730/0134-50"},{"$f":"'[2]Inventário Completo'!J233","v":"90.212.835-22"},{"$f":"'[2]Inventário Completo'!K233","v":"Rodovia PR-423, 5500-Estação-Araucária-PR 83705-000"},{"$f":"'[2]Inventário Completo'!L233","v":"Clodoaldo de Moraes"},{"$f":"'[2]Inventário Completo'!M233","v":"(041) 3641- 8050"},{"$f":"'[2]Inventário Completo'!N233","v":0},{"$f":"'[2]Inventário Completo'!O233","v":0},{"$f":"'[2]Inventário Completo'!P233","v":"Em uso"},{"$f":"'[2]Inventário Completo'!Q233","v":0}]
[{"$f":"'[2]Inventário Completo'!A234","v":"GCAR0004"},{"$f":"'[2]Inventário Completo'!B234","v":1318200503839},{"$f":"'[2]Inventário Completo'!C234","v":"Coletor"},{"$f":"'[2]Inventário Completo'!D234","v":"MC9190G"},{"$f":"'[2]Inventário Completo'!E234","v":"Motorola"},{"$f":"'[2]Inventário Completo'!F234","v":"COMPANHIA SIDERURGICA NACIONAL"},{"$f":"'[2]Inventário Completo'!G234","v":"CSN-ARAUCARIA"},{"$f":"'[2]Inventário Completo'!H234","v":"PR"},{"$f":"'[2]Inventário Completo'!I234","v":"33.042.730/0134-51"},{"$f":"'[2]Inventário Completo'!J234","v":"90.212.835-22"},{"$f":"'[2]Inventário Completo'!K234","v":"Rodovia PR-423, 5500-Estação-Araucária-PR 83705-000"},{"$f":"'[2]Inventário Completo'!L234","v":"Clodoaldo de Moraes"},{"$f":"'[2]Inventário Completo'!M234","v":"(041) 3641- 8050"},{"$f":"'[2]Inventário Completo'!N234","v":0},{"$f":"'[2]Inventário Completo'!O234","v":0},{"$f":"'[2]Inventário Completo'!P234","v":"Em uso"},{"$f":"'[2]Inventário Completo'!Q234","v":0}]
[{"$f":"'[2]Inventário Completo'!A235","v":"GCAR0005"},{"$f":"'[2]Inventário Completo'!B235","v":1318200503876},{"$f":"'[2]Inventário Completo'!C235","v":"Coletor"},{"$f":"'[2]Inventário Completo'!D235","v":"MC9190G"},{"$f":"'[2]Inventário Completo'!E235","v":"Motorola"},{"$f":"'[2]Inventário Completo'!F235","v":"COMPANHIA SIDERURGICA NACIONAL"},{"$f":"'[2]Inventário Completo'!G235","v":"CSN-ARAUCARIA"},{"$f":"'[2]Inventário Completo'!H235","v":"PR"},{"$f":"'[2]Inventário Completo'!I235","v":"33.042.730/0134-52"},{"$f":"'[2]Inventário Completo'!J235","v":"90.212.835-22"},{"$f":"'[2]Inventário Completo'!K235","v":"Rodovia PR-423, 5500-Estação-Araucária-PR 83705-000"},{"$f":"'[2]Inventário Completo'!L235","v":"Clodoaldo de Moraes"},{"$f":"'[2]Inventário Completo'!M235","v":"(041) 3641- 8050"},{"$f":"'[2]Inventário Completo'!N235","v":0},{"$f":"'[2]Inventário Completo'!O235","v":0},{"$f":"'[2]Inventário Completo'!P235","v":"Em uso"},{"$f":"'[2]Inventário Completo'!Q235","v":0}]
[{"$f":"'[2]Inventário Completo'!A236","v":"GCAR0006"},{"$f":"'[2]Inventário Completo'!B236","v":1318200503907},{"$f":"'[2]Inventário Completo'!C236","v":"Coletor"},{"$f":"'[2]Inventário Completo'!D236","v":"MC9190G"},{"$f":"'[2]Inventário Completo'!E236","v":"Motorola"},{"$f":"'[2]Inventário Completo'!F236","v":"COMPANHIA SIDERURGICA NACIONAL"},{"$f":"'[2]Inventário Completo'!G236","v":"CSN-ARAUCARIA"},{"$f":"'[2]Inventário Completo'!H236","v":"PR"},{"$f":"'[2]Inventário Completo'!I236","v":"33.042.730/0134-53"},{"$f":"'[2]Inventário Completo'!J236","v":"90.212.835-22"},{"$f":"'[2]Inventário Completo'!K236","v":"Rodovia PR-423, 5500-Estação-Araucária-PR 83705-000"},{"$f":"'[2]Inventário Completo'!L236","v":"Clodoaldo de Moraes"},{"$f":"'[2]Inventário Completo'!M236","v":"(041) 3641- 8050"},{"$f":"'[2]Inventário Completo'!N236","v":0},{"$f":"'[2]Inventário Completo'!O236","v":0},{"$f":"'[2]Inventário Completo'!P236","v":"Em uso"},{"$f":"'[2]Inventário Completo'!Q236","v":0}]
[{"$f":"'[2]Inventário Completo'!A237","v":"GCAR0007"},{"$f":"'[2]Inventário Completo'!B237","v":1714200502452},{"$f":"'[2]Inventário Completo'!C237","v":"Coletor"},{"$f":"'[2]Inventário Completo'!D237","v":"MC9200G"},{"$f":"'[2]Inventário Completo'!E237","v":"Motorola"},{"$f":"'[2]Inventário Completo'!F237","v":"COMPANHIA SIDERURGICA NACIONAL"},{"$f":"'[2]Inventário Completo'!G237","v":"CSN-ARAUCARIA"},{"$f":"'[2]Inventário Completo'!H237","v":"PR"},{"$f":"'[2]Inventário Completo'!I237","v":"33.042.730/0134-54"},{"$f":"'[2]Inventário Completo'!J237","v":"90.212.835-22"},{"$f":"'[2]Inventário Completo'!K237","v":"Rodovia PR-423, 5500-Estação-Araucária-PR 83705-000"},{"$f":"'[2]Inventário Completo'!L237","v":"Clodoaldo de Moraes"},{"$f":"'[2]Inventário Completo'!M237","v":"(041) 3641- 8050"},{"$f":"'[2]Inventário Completo'!N237","v":0},{"$f":"'[2]Inventário Completo'!O237","v":0},{"$f":"'[2]Inventário Completo'!P237","v":"Em uso"},{"$f":"'[2]Inventário Completo'!Q237","v":0}]
[{"$f":"'[2]Inventário Completo'!A238","v":"GCAR0008"},{"$f":"'[2]Inventário Completo'!B238","v":1714200502457},{"$f":"'[2]Inventário Completo'!C238","v":"Coletor"},{"$f":"'[2]Inventário Completo'!D238","v":"MC9200G"},{"$f":"'[2]Inventário Completo'!E238","v":"Motorola"},{"$f":"'[2]Inventário Completo'!F238","v":"COMPANHIA SIDERURGICA NACIONAL"},{"$f":"'[2]Inventário Completo'!G238","v":"CSN-ARAUCARIA"},{"$f":"'[2]Inventário Completo'!H238","v":"PR"},{"$f":"'[2]Inventário Completo'!I238","v":"33.042.730/0134-55"},{"$f":"'[2]Inventário Completo'!J238","v":"90.212.835-22"},{"$f":"'[2]Inventário Completo'!K238","v":"Rodovia PR-423, 5500-Estação-Araucária-PR 83705-000"},{"$f":"'[2]Inventário Completo'!L238","v":"Clodoaldo de Moraes"},{"$f":"'[2]Inventário Completo'!M238","v":"(041) 3641- 8050"},{"$f":"'[2]Inventário Completo'!N238","v":0},{"$f":"'[2]Inventário Completo'!O238","v":0},{"$f":"'[2]Inventário Completo'!P238","v":"Em uso"},{"$f":"'[2]Inventário Completo'!Q238","v":0}]
[{"$f":"'[2]Inventário Completo'!A239","v":"GCAR0009"},{"$f":"'[2]Inventário Completo'!B239","v":1714200502453},{"$f":"'[2]Inventário Completo'!C239","v":"Coletor"},{"$f":"'[2]Inventário Completo'!D239","v":"MC9200G"},{"$f":"'[2]Inventário Completo'!E239","v":"Motorola"},{"$f":"'[2]Inventário Completo'!F239","v":"COMPANHIA SIDERURGICA NACIONAL"},{"$f":"'[2]Inventário Completo'!G239","v":"CSN-ARAUCARIA"},{"$f":"'[2]Inventário Completo'!H239","v":"PR"},{"$f":"'[2]Inventário Completo'!I239","v":"33.042.730/0134-56"},{"$f":"'[2]Inventário Completo'!J239","v":"90.212.835-22"},{"$f":"'[2]Inventário Completo'!K239","v":"Rodovia PR-423, 5500-Estação-Araucária-PR 83705-000"},{"$f":"'[2]Inventário Completo'!L239","v":"Clodoaldo de Moraes"},{"$f":"'[2]Inventário Completo'!M239","v":"(041) 3641- 8050"},{"$f":"'[2]Inventário Completo'!N239","v":0},{"$f":"'[2]Inventário Completo'!O239","v":0},{"$f":"'[2]Inventário Completo'!P239","v":"Em uso"},{"$f":"'[2]Inventário Completo'!Q239","v":0}]
[{"$f":"'[2]Inventário Completo'!A240","v":"GCAR0010"},{"$f":"'[2]Inventário Completo'!B240","v":1736200504219},{"$f":"'[2]Inventário Completo'!C240","v":"Coletor"},{"$f":"'[2]Inventário Completo'!D240","v":"MC9200G"},{"$f":"'[2]Inventário Completo'!E240","v":"Motorola"},{"$f":"'[2]Inventário Completo'!F240","v":"COMPANHIA SIDERURGICA NACIONAL"},{"$f":"'[2]Inventário Completo'!G240","v":"CSN-ARAUCARIA"},{"$f":"'[2]Inventário Completo'!H240","v":"PR"},{"$f":"'[2]Inventário Completo'!I240","v":"33.042.730/0134-57"},{"$f":"'[2]Inventário Completo'!J240","v":"90.212.835-22"},{"$f":"'[2]Inventário Completo'!K240","v":"Rodovia PR-423, 5500-Estação-Araucária-PR 83705-000"},{"$f":"'[2]Inventário Completo'!L240","v":"Clodoaldo de Moraes"},{"$f":"'[2]Inventário Completo'!M240","v":"(041) 3641- 8050"},{"$f":"'[2]Inventário Completo'!N240","v":0},{"$f":"'[2]Inventário Completo'!O240","v":0},{"$f":"'[2]Inventário Completo'!P240","v":"Em uso"},{"$f":"'[2]Inventário Completo'!Q240","v":0}]
[{"$f":"'[2]Inventário Completo'!A241","v":"GCAR0011"},{"$f":"'[2]Inventário Completo'!B241","v":1736200504232},{"$f":"'[2]Inventário Completo'!C241","v":"Coletor"},{"$f":"'[2]Inventário Completo'!D241","v":"MC9200G"},{"$f":"'[2]Inventário Completo'!E241","v":"Motorola"},{"$f":"'[2]Inventário Completo'!F241","v":"COMPANHIA SIDERURGICA NACIONAL"},{"$f":"'[2]Inventário Completo'!G241","v":"CSN-ARAUCARIA"},{"$f":"'[2]Inventário Completo'!H241","v":"PR"},{"$f":"'[2]Inventário Completo'!I241","v":"33.042.730/0134-58"},{"$f":"'[2]Inventário Completo'!J241","v":"90.212.835-22"},{"$f":"'[2]Inventário Completo'!K241","v":"Rodovia PR-423, 5500-Estação-Araucária-PR 83705-000"},{"$f":"'[2]Inventário Completo'!L241","v":"Clodoaldo de Moraes"},{"$f":"'[2]Inventário Completo'!M241","v":"(041) 3641- 8050"},{"$f":"'[2]Inventário Completo'!N241","v":0},{"$f":"'[2]Inventário Completo'!O241","v":0},{"$f":"'[2]Inventário Completo'!P241","v":"Em uso"},{"$f":"'[2]Inventário Completo'!Q241","v":0}]
[{"$f":"'[2]Inventário Completo'!A242","v":"GCAR0012"},{"$f":"'[2]Inventário Completo'!B242","v":1736200500936},{"$f":"'[2]Inventário Completo'!C242","v":"Coletor"},{"$f":"'[2]Inventário Completo'!D242","v":"MC9200G"},{"$f":"'[2]Inventário Completo'!E242","v":"Motorola"},{"$f":"'[2]Inventário Completo'!F242","v":"COMPANHIA SIDERURGICA NACIONAL"},{"$f":"'[2]Inventário Completo'!G242","v":"CSN-ARAUCARIA"},{"$f":"'[2]Inventário Completo'!H242","v":"PR"},{"$f":"'[2]Inventário Completo'!I242","v":"33.042.730/0134-59"},{"$f":"'[2]Inventário Completo'!J242","v":"90.212.835-22"},{"$f":"'[2]Inventário Completo'!K242","v":"Rodovia PR-423, 5500-Estação-Araucária-PR 83705-000"},{"$f":"'[2]Inventário Completo'!L242","v":"Clodoaldo de Moraes"},{"$f":"'[2]Inventário Completo'!M242","v":"(041) 3641- 8050"},{"$f":"'[2]Inventário Completo'!N242","v":0},{"$f":"'[2]Inventário Completo'!O242","v":0},{"$f":"'[2]Inventário Completo'!P242","v":"Em uso"},{"$f":"'[2]Inventário Completo'!Q242","v":0}]
[{"$f":"'[2]Inventário Completo'!A243","v":"GCAR0013"},{"$f":"'[2]Inventário Completo'!B243","v":1736200504226},{"$f":"'[2]Inventário Completo'!C243","v":"Coletor"},{"$f":"'[2]Inventário Completo'!D243","v":"MC9200G"},{"$f":"'[2]Inventário Completo'!E243","v":"Motorola"},{"$f":"'[2]Inventário Completo'!F243","v":"COMPANHIA SIDERURGICA NACIONAL"},{"$f":"'[2]Inventário Completo'!G243","v":"CSN-ARAUCARIA"},{"$f":"'[2]Inventário Completo'!H243","v":"PR"},{"$f":"'[2]Inventário Completo'!I243","v":"33.042.730/0134-60"},{"$f":"'[2]Inventário Completo'!J243","v":"90.212.835-22"},{"$f":"'[2]Inventário Completo'!K243","v":"Rodovia PR-423, 5500-Estação-Araucária-PR 83705-000"},{"$f":"'[2]Inventário Completo'!L243","v":"Clodoaldo de Moraes"},{"$f":"'[2]Inventário Completo'!M243","v":"(041) 3641- 8050"},{"$f":"'[2]Inventário Completo'!N243","v":0},{"$f":"'[2]Inventário Completo'!O243","v":0},{"$f":"'[2]Inventário Completo'!P243","v":"Em uso"},{"$f":"'[2]Inventário Completo'!Q243","v":0}]
[{"$f":"'[2]Inventário Completo'!A244","v":"GCAR0014"},{"$f":"'[2]Inventário Completo'!B244","v":1736200504227},{"$f":"'[2]Inventário Completo'!C244","v":"Coletor"},{"$f":"'[2]Inventário Completo'!D244","v":"MC9200G"},{"$f":"'[2]Inventário Completo'!E244","v":"Motorola"},{"$f":"'[2]Inventário Completo'!F244","v":"COMPANHIA SIDERURGICA NACIONAL"},{"$f":"'[2]Inventário Completo'!G244","v":"CSN-ARAUCARIA"},{"$f":"'[2]Inventário Completo'!H244","v":"PR"},{"$f":"'[2]Inventário Completo'!I244","v":"33.042.730/0134-61"},{"$f":"'[2]Inventário Completo'!J244","v":"90.212.835-22"},{"$f":"'[2]Inventário Completo'!K244","v":"Rodovia PR-423, 5500-Estação-Araucária-PR 83705-000"},{"$f":"'[2]Inventário Completo'!L244","v":"Clodoaldo de Moraes"},{"$f":"'[2]Inventário Completo'!M244","v":"(041) 3641- 8050"},{"$f":"'[2]Inventário Completo'!N244","v":0},{"$f":"'[2]Inventário Completo'!O244","v":0},{"$f":"'[2]Inventário Completo'!P244","v":"Em uso"},{"$f":"'[2]Inventário Completo'!Q244","v":0}]
[{"$f":"'[2]Inventário Completo'!A245","v":"GCAR0015"},{"$f":"'[2]Inventário Completo'!B245","v":1730900501457},{"$f":"'[2]Inventário Completo'!C245","v":"Coletor"},{"$f":"'[2]Inventário Completo'!D245","v":"MC9200G"},{"$f":"'[2]Inventário Completo'!E245","v":"Motorola"},{"$f":"'[2]Inventário Completo'!F245","v":"COMPANHIA SIDERURGICA NACIONAL"},{"$f":"'[2]Inventário Completo'!G245","v":"CSN-ARAUCARIA"},{"$f":"'[2]Inventário Completo'!H245","v":"PR"},{"$f":"'[2]Inventário Completo'!I245","v":"33.042.730/0134-62"},{"$f":"'[2]Inventário Completo'!J245","v":"90.212.835-22"},{"$f":"'[2]Inventário Completo'!K245","v":"Rodovia PR-423, 5500-Estação-Araucária-PR 83705-000"},{"$f":"'[2]Inventário Completo'!L245","v":"Clodoaldo de Moraes"},{"$f":"'[2]Inventário Completo'!M245","v":"(041) 3641- 8050"},{"$f":"'[2]Inventário Completo'!N245","v":0},{"$f":"'[2]Inventário Completo'!O245","v":0},{"$f":"'[2]Inventário Completo'!P245","v":"Em uso"},{"$f":"'[2]Inventário Completo'!Q245","v":0}]
[{"$f":"'[2]Inventário Completo'!A246","v":"GCAR0016"},{"$f":"'[2]Inventário Completo'!B246","v":1730900501459},{"$f":"'[2]Inventário Completo'!C246","v":"Coletor"},{"$f":"'[2]Inventário Completo'!D246","v":"MC9200G"},{"$f":"'[2]Inventário Completo'!E246","v":"Motorola"},{"$f":"'[2]Inventário Completo'!F246","v":"COMPANHIA SIDERURGICA NACIONAL"},{"$f":"'[2]Inventário Completo'!G246","v":"CSN-ARAUCARIA"},{"$f":"'[2]Inventário Completo'!H246","v":"PR"},{"$f":"'[2]Inventário Completo'!I246","v":"33.042.730/0134-63"},{"$f":"'[2]Inventário Completo'!J246","v":"90.212.835-22"},{"$f":"'[2]Inventário Completo'!K246","v":"Rodovia PR-423, 5500-Estação-Araucária-PR 83705-000"},{"$f":"'[2]Inventário Completo'!L246","v":"Clodoaldo de Moraes"},{"$f":"'[2]Inventário Completo'!M246","v":"(041) 3641- 8050"},{"$f":"'[2]Inventário Completo'!N246","v":0},{"$f":"'[2]Inventário Completo'!O246","v":0},{"$f":"'[2]Inventário Completo'!P246","v":"Em uso"},{"$f":"'[2]Inventário Completo'!Q246","v":0}]
[{"$f":"'[2]Inventário Completo'!A247","v":"GCAR0017"},{"$f":"'[2]Inventário Completo'!B247","v":1730900501465},{"$f":"'[2]Inventário Completo'!C247","v":"Coletor"},{"$f":"'[2]Inventário Completo'!D247","v":"MC9200G"},{"$f":"'[2]Inventário Completo'!E247","v":"Motorola"},{"$f":"'[2]Inventário Completo'!F247","v":"COMPANHIA SIDERURGICA NACIONAL"},{"$f":"'[2]Inventário Completo'!G247","v":"CSN-ARAUCARIA"},{"$f":"'[2]Inventário Completo'!H247","v":"PR"},{"$f":"'[2]Inventário Completo'!I247","v":"33.042.730/0134-64"},{"$f":"'[2]Inventário Completo'!J247","v":"90.212.835-22"},{"$f":"'[2]Inventário Completo'!K247","v":"Rodovia PR-423, 5500-Estação-Araucária-PR 83705-000"},{"$f":"'[2]Inventário Completo'!L247","v":"Clodoaldo de Moraes"},{"$f":"'[2]Inventário Completo'!M247","v":"(041) 3641- 8050"},{"$f":"'[2]Inventário Completo'!N247","v":0},{"$f":"'[2]Inventário Completo'!O247","v":0},{"$f":"'[2]Inventário Completo'!P247","v":"Em uso"},{"$f":"'[2]Inventário Completo'!Q247","v":0}]
[{"$f":"'[2]Inventário Completo'!A248","v":"GCAR0018"},{"$f":"'[2]Inventário Completo'!B248","v":1730900501473},{"$f":"'[2]Inventário Completo'!C248","v":"Coletor"},{"$f":"'[2]Inventário Completo'!D248","v":"MC9200G"},{"$f":"'[2]Inventário Completo'!E248","v":"Motorola"},{"$f":"'[2]Inventário Completo'!F248","v":"COMPANHIA SIDERURGICA NACIONAL"},{"$f":"'[2]Inventário Completo'!G248","v":"CSN-ARAUCARIA"},{"$f":"'[2]Inventário Completo'!H248","v":"PR"},{"$f":"'[2]Inventário Completo'!I248","v":"33.042.730/0134-65"},{"$f":"'[2]Inventário Completo'!J248","v":"90.212.835-22"},{"$f":"'[2]Inventário Completo'!K248","v":"Rodovia PR-423, 5500-Estação-Araucária-PR 83705-000"},{"$f":"'[2]Inventário Completo'!L248","v":"Clodoaldo de Moraes"},{"$f":"'[2]Inventário Completo'!M248","v":"(041) 3641- 8050"},{"$f":"'[2]Inventário Completo'!N248","v":0},{"$f":"'[2]Inventário Completo'!O248","v":0},{"$f":"'[2]Inventário Completo'!P248","v":"Em uso"},{"$f":"'[2]Inventário Completo'!Q248","v":0}]
[{"$f":"'[2]Inventário Completo'!A249","v":"GCAR0019"},{"$f":"'[2]Inventário Completo'!B249","v":1732500502093},{"$f":"'[2]Inventário Completo'!C249","v":"Coletor"},{"$f":"'[2]Inventário Completo'!D249","v":"MC9200G"},{"$f":"'[2]Inventário Completo'!E249","v":"Motorola"},{"$f":"'[2]Inventário Completo'!F249","v":"COMPANHIA SIDERURGICA NACIONAL"},{"$f":"'[2]Inventário Completo'!G249","v":"CSN-ARAUCARIA"},{"$f":"'[2]Inventário Completo'!H249","v":"PR"},{"$f":"'[2]Inventário Completo'!I249","v":"33.042.730/0134-66"},{"$f":"'[2]Inventário Completo'!J249","v":"90.212.835-22"},{"$f":"'[2]Inventário Completo'!K249","v":"Rodovia PR-423, 5500-Estação-Araucária-PR 83705-000"},{"$f":"'[2]Inventário Completo'!L249","v":"Clodoaldo de Moraes"},{"$f":"'[2]Inventário Completo'!M249","v":"(041) 3641- 8050"},{"$f":"'[2]Inventário Completo'!N249","v":0},{"$f":"'[2]Inventário Completo'!O249","v":0},{"$f":"'[2]Inventário Completo'!P249","v":"Em uso"},{"$f":"'[2]Inventário Completo'!Q249","v":0}]
[{"$f":"'[2]Inventário Completo'!A250","v":"GCIT0001"},{"$f":"'[2]Inventário Completo'!B250","v":1034000507788},{"$f":"'[2]Inventário Completo'!C250","v":"Coletor"},{"$f":"'[2]Inventário Completo'!D250","v":"MC9090G"},{"$f":"'[2]Inventário Completo'!E250","v":"Motorola"},{"$f":"'[2]Inventário Completo'!F250","v":"SEPETIBA TECON S/A"},{"$f":"'[2]Inventário Completo'!G250","v":"CSN-SEPETIBA ITAGUAI (TECON)"},{"$f":"'[2]Inventário Completo'!H250","v":"RJ"},{"$f":"'[2]Inventário Completo'!I250","v":"02.394.276/0002-08"},{"$f":"'[2]Inventário Completo'!J250","v":" 86.143.73-9"},{"$f":"'[2]Inventário Completo'!K250","v":"Est Prefeito Wilson Pedro Francisco, S/N, Parte, Ilha Da Madeira, Itaguaí, RJ, CEP 23826-600, Brasil"},{"$f":"'[2]Inventário Completo'!L250","v":"Filipe Almeida"},{"$f":"'[2]Inventário Completo'!M250","v":"(21) 26871918"},{"$f":"'[2]Inventário Completo'!N250","v":0},{"$f":"'[2]Inventário Completo'!O250","v":0},{"$f":"'[2]Inventário Completo'!P250","v":"Em uso"},{"$f":"'[2]Inventário Completo'!Q250","v":0}]
[{"$f":"'[2]Inventário Completo'!A251","v":"GCIT0002"},{"$f":"'[2]Inventário Completo'!B251","v":1034000507795},{"$f":"'[2]Inventário Completo'!C251","v":"Coletor"},{"$f":"'[2]Inventário Completo'!D251","v":"MC9090G"},{"$f":"'[2]Inventário Completo'!E251","v":"Motorola"},{"$f":"'[2]Inventário Completo'!F251","v":"SEPETIBA TECON S/A"},{"$f":"'[2]Inventário Completo'!G251","v":"CSN-SEPETIBA ITAGUAI (TECON)"},{"$f":"'[2]Inventário Completo'!H251","v":"RJ"},{"$f":"'[2]Inventário Completo'!I251","v":"02.394.276/0002-08"},{"$f":"'[2]Inventário Completo'!J251","v":" 86.143.73-9"},{"$f":"'[2]Inventário Completo'!K251","v":"Est Prefeito Wilson Pedro Francisco, S/N, Parte, Ilha Da Madeira, Itaguaí, RJ, CEP 23826-600, Brasil"},{"$f":"'[2]Inventário Completo'!L251","v":"Filipe Almeida"},{"$f":"'[2]Inventário Completo'!M251","v":"(21) 26871918"},{"$f":"'[2]Inventário Completo'!N251","v":0},{"$f":"'[2]Inventário Completo'!O251","v":0},{"$f":"'[2]Inventário Completo'!P251","v":"Em uso"},{"$f":"'[2]Inventário Completo'!Q251","v":0}]
[{"$f":"'[2]Inventário Completo'!A252","v":"GCIT0003"},{"$f":"'[2]Inventário Completo'!B252","v":1034000507796},{"$f":"'[2]Inventário Completo'!C252","v":"Coletor"},{"$f":"'[2]Inventário Completo'!D252","v":"MC9090G"},{"$f":"'[2]Inventário Completo'!E252","v":"Motorola"},{"$f":"'[2]Inventário Completo'!F252","v":"SEPETIBA TECON S/A"},{"$f":"'[2]Inventário Completo'!G252","v":"CSN-SEPETIBA ITAGUAI (TECON)"},{"$f":"'[2]Inventário Completo'!H252","v":"RJ"},{"$f":"'[2]Inventário Completo'!I252","v":"02.394.276/0002-08"},{"$f":"'[2]Inventário Completo'!J252","v":" 86.143.73-9"},{"$f":"'[2]Inventário Completo'!K252","v":"Est Prefeito Wilson Pedro Francisco, S/N, Parte, Ilha Da Madeira, Itaguaí, RJ, CEP 23826-600, Brasil"},{"$f":"'[2]Inventário Completo'!L252","v":"Filipe Almeida"},{"$f":"'[2]Inventário Completo'!M252","v":"(21) 26871918"},{"$f":"'[2]Inventário Completo'!N252","v":0},{"$f":"'[2]Inventário Completo'!O252","v":0},{"$f":"'[2]Inventário Completo'!P252","v":"Em uso"},{"$f":"'[2]Inventário Completo'!Q252","v":0}]
[{"$f":"'[2]Inventário Completo'!A253","v":"GCIT0004"},{"$f":"'[2]Inventário Completo'!B253","v":1034000507814},{"$f":"'[2]Inventário Completo'!C253","v":"Coletor"},{"$f":"'[2]Inventário Completo'!D253","v":"MC9090G"},{"$f":"'[2]Inventário Completo'!E253","v":"Motorola"},{"$f":"'[2]Inventário Completo'!F253","v":"SEPETIBA TECON S/A"},{"$f":"'[2]Inventário Completo'!G253","v":"CSN-SEPETIBA ITAGUAI (TECON)"},{"$f":"'[2]Inventário Completo'!H253","v":"RJ"},{"$f":"'[2]Inventário Completo'!I253","v":"02.394.276/0002-08"},{"$f":"'[2]Inventário Completo'!J253","v":" 86.143.73-9"},{"$f":"'[2]Inventário Completo'!K253","v":"Est Prefeito Wilson Pedro Francisco, S/N, Parte, Ilha Da Madeira, Itaguaí, RJ, CEP 23826-600, Brasil"},{"$f":"'[2]Inventário Completo'!L253","v":"Filipe Almeida"},{"$f":"'[2]Inventário Completo'!M253","v":"(21) 26871918"},{"$f":"'[2]Inventário Completo'!N253","v":0},{"$f":"'[2]Inventário Completo'!O253","v":0},{"$f":"'[2]Inventário Completo'!P253","v":"Em uso"},{"$f":"'[2]Inventário Completo'!Q253","v":0}]
[{"$f":"'[2]Inventário Completo'!A254","v":"GCIT0005"},{"$f":"'[2]Inventário Completo'!B254","v":1034000507881},{"$f":"'[2]Inventário Completo'!C254","v":"Coletor"},{"$f":"'[2]Inventário Completo'!D254","v":"MC9090G"},{"$f":"'[2]Inventário Completo'!E254","v":"Motorola"},{"$f":"'[2]Inventário Completo'!F254","v":"SEPETIBA TECON S/A"},{"$f":"'[2]Inventário Completo'!G254","v":"CSN-SEPETIBA ITAGUAI (TECON)"},{"$f":"'[2]Inventário Completo'!H254","v":"RJ"},{"$f":"'[2]Inventário Completo'!I254","v":"02.394.276/0002-08"},{"$f":"'[2]Inventário Completo'!J254","v":" 86.143.73-9"},{"$f":"'[2]Inventário Completo'!K254","v":"Est Prefeito Wilson Pedro Francisco, S/N, Parte, Ilha Da Madeira, Itaguaí, RJ, CEP 23826-600, Brasil"},{"$f":"'[2]Inventário Completo'!L254","v":"Filipe Almeida"},{"$f":"'[2]Inventário Completo'!M254","v":"(21) 26871918"},{"$f":"'[2]Inventário Completo'!N254","v":0},{"$f":"'[2]Inventário Completo'!O254","v":0},{"$f":"'[2]Inventário Completo'!P254","v":"Em uso"},{"$f":"'[2]Inventário Completo'!Q254","v":0}]
[{"$f":"'[2]Inventário Completo'!A255","v":"GCIT0006"},{"$f":"'[2]Inventário Completo'!B255","v":1034000507883},{"$f":"'[2]Inventário Completo'!C255","v":"Coletor"},{"$f":"'[2]Inventário Completo'!D255","v":"MC9090G"},{"$f":"'[2]Inventário Completo'!E255","v":"Motorola"},{"$f":"'[2]Inventário Completo'!F255","v":"SEPETIBA TECON S/A"},{"$f":"'[2]Inventário Completo'!G255","v":"CSN-SEPETIBA ITAGUAI (TECON)"},{"$f":"'[2]Inventário Completo'!H255","v":"RJ"},{"$f":"'[2]Inventário Completo'!I255","v":"02.394.276/0002-08"},{"$f":"'[2]Inventário Completo'!J255","v":" 86.143.73-9"},{"$f":"'[2]Inventário Completo'!K255","v":"Est Prefeito Wilson Pedro Francisco, S/N, Parte, Ilha Da Madeira, Itaguaí, RJ, CEP 23826-600, Brasil"},{"$f":"'[2]Inventário Completo'!L255","v":"Filipe Almeida"},{"$f":"'[2]Inventário Completo'!M255","v":"(21) 26871918"},{"$f":"'[2]Inventário Completo'!N255","v":0},{"$f":"'[2]Inventário Completo'!O255","v":0},{"$f":"'[2]Inventário Completo'!P255","v":"Em uso"},{"$f":"'[2]Inventário Completo'!Q255","v":0}]
[{"$f":"'[2]Inventário Completo'!A256","v":"GCIT0007"},{"$f":"'[2]Inventário Completo'!B256","v":1034000507885},{"$f":"'[2]Inventário Completo'!C256","v":"Coletor"},{"$f":"'[2]Inventário Completo'!D256","v":"MC9090G"},{"$f":"'[2]Inventário Completo'!E256","v":"Motorola"},{"$f":"'[2]Inventário Completo'!F256","v":"SEPETIBA TECON S/A"},{"$f":"'[2]Inventário Completo'!G256","v":"CSN-SEPETIBA ITAGUAI (TECON)"},{"$f":"'[2]Inventário Completo'!H256","v":"RJ"},{"$f":"'[2]Inventário Completo'!I256","v":"02.394.276/0002-08"},{"$f":"'[2]Inventário Completo'!J256","v":" 86.143.73-9"},{"$f":"'[2]Inventário Completo'!K256","v":"Est Prefeito Wilson Pedro Francisco, S/N, Parte, Ilha Da Madeira, Itaguaí, RJ, CEP 23826-600, Brasil"},{"$f":"'[2]Inventário Completo'!L256","v":"Filipe Almeida"},{"$f":"'[2]Inventário Completo'!M256","v":"(21) 26871918"},{"$f":"'[2]Inventário Completo'!N256","v":0},{"$f":"'[2]Inventário Completo'!O256","v":0},{"$f":"'[2]Inventário Completo'!P256","v":"Em uso"},{"$f":"'[2]Inventário Completo'!Q256","v":0}]
[{"$f":"'[2]Inventário Completo'!A257","v":"GCIT0008"},{"$f":"'[2]Inventário Completo'!B257","v":1034000507891},{"$f":"'[2]Inventário Completo'!C257","v":"Coletor"},{"$f":"'[2]Inventário Completo'!D257","v":"MC9090G"},{"$f":"'[2]Inventário Completo'!E257","v":"Motorola"},{"$f":"'[2]Inventário Completo'!F257","v":"SEPETIBA TECON S/A"},{"$f":"'[2]Inventário Completo'!G257","v":"CSN-SEPETIBA ITAGUAI (TECON)"},{"$f":"'[2]Inventário Completo'!H257","v":"RJ"},{"$f":"'[2]Inventário Completo'!I257","v":"02.394.276/0002-08"},{"$f":"'[2]Inventário Completo'!J257","v":" 86.143.73-9"},{"$f":"'[2]Inventário Completo'!K257","v":"Est Prefeito Wilson Pedro Francisco, S/N, Parte, Ilha Da Madeira, Itaguaí, RJ, CEP 23826-600, Brasil"},{"$f":"'[2]Inventário Completo'!L257","v":"Filipe Almeida"},{"$f":"'[2]Inventário Completo'!M257","v":"(21) 26871918"},{"$f":"'[2]Inventário Completo'!N257","v":0},{"$f":"'[2]Inventário Completo'!O257","v":0},{"$f":"'[2]Inventário Completo'!P257","v":"Em uso"},{"$f":"'[2]Inventário Completo'!Q257","v":0}]
[{"$f":"'[2]Inventário Completo'!A258","v":"GCIT0009"},{"$f":"'[2]Inventário Completo'!B258","v":1034000507893},{"$f":"'[2]Inventário Completo'!C258","v":"Coletor"},{"$f":"'[2]Inventário Completo'!D258","v":"MC9090G"},{"$f":"'[2]Inventário Completo'!E258","v":"Motorola"},{"$f":"'[2]Inventário Completo'!F258","v":"SEPETIBA TECON S/A"},{"$f":"'[2]Inventário Completo'!G258","v":"CSN-SEPETIBA ITAGUAI (TECON)"},{"$f":"'[2]Inventário Completo'!H258","v":"RJ"},{"$f":"'[2]Inventário Completo'!I258","v":"02.394.276/0002-08"},{"$f":"'[2]Inventário Completo'!J258","v":" 86.143.73-9"},{"$f":"'[2]Inventário Completo'!K258","v":"Est Prefeito Wilson Pedro Francisco, S/N, Parte, Ilha Da Madeira, Itaguaí, RJ, CEP 23826-600, Brasil"},{"$f":"'[2]Inventário Completo'!L258","v":"Filipe Almeida"},{"$f":"'[2]Inventário Completo'!M258","v":"(21) 26871918"},{"$f":"'[2]Inventário Completo'!N258","v":0},{"$f":"'[2]Inventário Completo'!O258","v":0},{"$f":"'[2]Inventário Completo'!P258","v":"Em uso"},{"$f":"'[2]Inventário Completo'!Q258","v":0}]
[{"$f":"'[2]Inventário Completo'!A259","v":"GCIT0010"},{"$f":"'[2]Inventário Completo'!B259","v":1034000507894},{"$f":"'[2]Inventário Completo'!C259","v":"Coletor"},{"$f":"'[2]Inventário Completo'!D259","v":"MC9090G"},{"$f":"'[2]Inventário Completo'!E259","v":"Motorola"},{"$f":"'[2]Inventário Completo'!F259","v":"SEPETIBA TECON S/A"},{"$f":"'[2]Inventário Completo'!G259","v":"CSN-SEPETIBA ITAGUAI (TECON)"},{"$f":"'[2]Inventário Completo'!H259","v":"RJ"},{"$f":"'[2]Inventário Completo'!I259","v":"02.394.276/0002-08"},{"$f":"'[2]Inventário Completo'!J259","v":" 86.143.73-9"},{"$f":"'[2]Inventário Completo'!K259","v":"Est Prefeito Wilson Pedro Francisco, S/N, Parte, Ilha Da Madeira, Itaguaí, RJ, CEP 23826-600, Brasil"},{"$f":"'[2]Inventário Completo'!L259","v":"Filipe Almeida"},{"$f":"'[2]Inventário Completo'!M259","v":"(21) 26871918"},{"$f":"'[2]Inventário Completo'!N259","v":0},{"$f":"'[2]Inventário Completo'!O259","v":0},{"$f":"'[2]Inventário Completo'!P259","v":"Em uso"},{"$f":"'[2]Inventário Completo'!Q259","v":0}]
[{"$f":"'[2]Inventário Completo'!A260","v":"GCIT0011"},{"$f":"'[2]Inventário Completo'!B260","v":1034000507895},{"$f":"'[2]Inventário Completo'!C260","v":"Coletor"},{"$f":"'[2]Inventário Completo'!D260","v":"MC9090G"},{"$f":"'[2]Inventário Completo'!E260","v":"Motorola"},{"$f":"'[2]Inventário Completo'!F260","v":"SEPETIBA TECON S/A"},{"$f":"'[2]Inventário Completo'!G260","v":"CSN-SEPETIBA ITAGUAI (TECON)"},{"$f":"'[2]Inventário Completo'!H260","v":"RJ"},{"$f":"'[2]Inventário Completo'!I260","v":"02.394.276/0002-08"},{"$f":"'[2]Inventário Completo'!J260","v":" 86.143.73-9"},{"$f":"'[2]Inventário Completo'!K260","v":"Est Prefeito Wilson Pedro Francisco, S/N, Parte, Ilha Da Madeira, Itaguaí, RJ, CEP 23826-600, Brasil"},{"$f":"'[2]Inventário Completo'!L260","v":"Filipe Almeida"},{"$f":"'[2]Inventário Completo'!M260","v":"(21) 26871918"},{"$f":"'[2]Inventário Completo'!N260","v":0},{"$f":"'[2]Inventário Completo'!O260","v":0},{"$f":"'[2]Inventário Completo'!P260","v":"Em uso"},{"$f":"'[2]Inventário Completo'!Q260","v":0}]
[{"$f":"'[2]Inventário Completo'!A261","v":"GCIT0012"},{"$f":"'[2]Inventário Completo'!B261","v":1034000507896},{"$f":"'[2]Inventário Completo'!C261","v":"Coletor"},{"$f":"'[2]Inventário Completo'!D261","v":"MC9090G"},{"$f":"'[2]Inventário Completo'!E261","v":"Motorola"},{"$f":"'[2]Inventário Completo'!F261","v":"SEPETIBA TECON S/A"},{"$f":"'[2]Inventário Completo'!G261","v":"CSN-SEPETIBA ITAGUAI (TECON)"},{"$f":"'[2]Inventário Completo'!H261","v":"RJ"},{"$f":"'[2]Inventário Completo'!I261","v":"02.394.276/0002-08"},{"$f":"'[2]Inventário Completo'!J261","v":" 86.143.73-9"},{"$f":"'[2]Inventário Completo'!K261","v":"Est Prefeito Wilson Pedro Francisco, S/N, Parte, Ilha Da Madeira, Itaguaí, RJ, CEP 23826-600, Brasil"},{"$f":"'[2]Inventário Completo'!L261","v":"Filipe Almeida"},{"$f":"'[2]Inventário Completo'!M261","v":"(21) 26871918"},{"$f":"'[2]Inventário Completo'!N261","v":0},{"$f":"'[2]Inventário Completo'!O261","v":0},{"$f":"'[2]Inventário Completo'!P261","v":"Em uso"},{"$f":"'[2]Inventário Completo'!Q261","v":0}]
[{"$f":"'[2]Inventário Completo'!A262","v":"GCIT0013"},{"$f":"'[2]Inventário Completo'!B262","v":1034000507949},{"$f":"'[2]Inventário Completo'!C262","v":"Coletor"},{"$f":"'[2]Inventário Completo'!D262","v":"MC9090G"},{"$f":"'[2]Inventário Completo'!E262","v":"Motorola"},{"$f":"'[2]Inventário Completo'!F262","v":"SEPETIBA TECON S/A"},{"$f":"'[2]Inventário Completo'!G262","v":"CSN-SEPETIBA ITAGUAI (TECON)"},{"$f":"'[2]Inventário Completo'!H262","v":"RJ"},{"$f":"'[2]Inventário Completo'!I262","v":"02.394.276/0002-08"},{"$f":"'[2]Inventário Completo'!J262","v":" 86.143.73-9"},{"$f":"'[2]Inventário Completo'!K262","v":"Est Prefeito Wilson Pedro Francisco, S/N, Parte, Ilha Da Madeira, Itaguaí, RJ, CEP 23826-600, Brasil"},{"$f":"'[2]Inventário Completo'!L262","v":"Filipe Almeida"},{"$f":"'[2]Inventário Completo'!M262","v":"(21) 26871918"},{"$f":"'[2]Inventário Completo'!N262","v":0},{"$f":"'[2]Inventário Completo'!O262","v":0},{"$f":"'[2]Inventário Completo'!P262","v":"Em uso"},{"$f":"'[2]Inventário Completo'!Q262","v":0}]
[{"$f":"'[2]Inventário Completo'!A263","v":"GCIT0014"},{"$f":"'[2]Inventário Completo'!B263","v":1034000507950},{"$f":"'[2]Inventário Completo'!C263","v":"Coletor"},{"$f":"'[2]Inventário Completo'!D263","v":"MC9090G"},{"$f":"'[2]Inventário Completo'!E263","v":"Motorola"},{"$f":"'[2]Inventário Completo'!F263","v":"SEPETIBA TECON S/A"},{"$f":"'[2]Inventário Completo'!G263","v":"CSN-SEPETIBA ITAGUAI (TECON)"},{"$f":"'[2]Inventário Completo'!H263","v":"RJ"},{"$f":"'[2]Inventário Completo'!I263","v":"02.394.276/0002-08"},{"$f":"'[2]Inventário Completo'!J263","v":" 86.143.73-9"},{"$f":"'[2]Inventário Completo'!K263","v":"Est Prefeito Wilson Pedro Francisco, S/N, Parte, Ilha Da Madeira, Itaguaí, RJ, CEP 23826-600, Brasil"},{"$f":"'[2]Inventário Completo'!L263","v":"Filipe Almeida"},{"$f":"'[2]Inventário Completo'!M263","v":"(21) 26871918"},{"$f":"'[2]Inventário Completo'!N263","v":0},{"$f":"'[2]Inventário Completo'!O263","v":0},{"$f":"'[2]Inventário Completo'!P263","v":"Em uso"},{"$f":"'[2]Inventário Completo'!Q263","v":0}]
[{"$f":"'[2]Inventário Completo'!A264","v":"GCIT0015"},{"$f":"'[2]Inventário Completo'!B264","v":1034000507951},{"$f":"'[2]Inventário Completo'!C264","v":"Coletor"},{"$f":"'[2]Inventário Completo'!D264","v":"MC9090G"},{"$f":"'[2]Inventário Completo'!E264","v":"Motorola"},{"$f":"'[2]Inventário Completo'!F264","v":"SEPETIBA TECON S/A"},{"$f":"'[2]Inventário Completo'!G264","v":"CSN-SEPETIBA ITAGUAI (TECON)"},{"$f":"'[2]Inventário Completo'!H264","v":"RJ"},{"$f":"'[2]Inventário Completo'!I264","v":"02.394.276/0002-08"},{"$f":"'[2]Inventário Completo'!J264","v":" 86.143.73-9"},{"$f":"'[2]Inventário Completo'!K264","v":"Est Prefeito Wilson Pedro Francisco, S/N, Parte, Ilha Da Madeira, Itaguaí, RJ, CEP 23826-600, Brasil"},{"$f":"'[2]Inventário Completo'!L264","v":"Filipe Almeida"},{"$f":"'[2]Inventário Completo'!M264","v":"(21) 26871918"},{"$f":"'[2]Inventário Completo'!N264","v":0},{"$f":"'[2]Inventário Completo'!O264","v":0},{"$f":"'[2]Inventário Completo'!P264","v":"Em uso"},{"$f":"'[2]Inventário Completo'!Q264","v":0}]
[{"$f":"'[2]Inventário Completo'!A265","v":"GCIT0016"},{"$f":"'[2]Inventário Completo'!B265","v":1034000507958},{"$f":"'[2]Inventário Completo'!C265","v":"Coletor"},{"$f":"'[2]Inventário Completo'!D265","v":"MC9090G"},{"$f":"'[2]Inventário Completo'!E265","v":"Motorola"},{"$f":"'[2]Inventário Completo'!F265","v":"SEPETIBA TECON S/A"},{"$f":"'[2]Inventário Completo'!G265","v":"CSN-SEPETIBA ITAGUAI (TECON)"},{"$f":"'[2]Inventário Completo'!H265","v":"RJ"},{"$f":"'[2]Inventário Completo'!I265","v":"02.394.276/0002-08"},{"$f":"'[2]Inventário Completo'!J265","v":" 86.143.73-9"},{"$f":"'[2]Inventário Completo'!K265","v":"Est Prefeito Wilson Pedro Francisco, S/N, Parte, Ilha Da Madeira, Itaguaí, RJ, CEP 23826-600, Brasil"},{"$f":"'[2]Inventário Completo'!L265","v":"Filipe Almeida"},{"$f":"'[2]Inventário Completo'!M265","v":"(21) 26871918"},{"$f":"'[2]Inventário Completo'!N265","v":0},{"$f":"'[2]Inventário Completo'!O265","v":0},{"$f":"'[2]Inventário Completo'!P265","v":"Em uso"},{"$f":"'[2]Inventário Completo'!Q265","v":0}]
[{"$f":"'[2]Inventário Completo'!A266","v":"GCIT0017"},{"$f":"'[2]Inventário Completo'!B266","v":1034000507959},{"$f":"'[2]Inventário Completo'!C266","v":"Coletor"},{"$f":"'[2]Inventário Completo'!D266","v":"MC9090G"},{"$f":"'[2]Inventário Completo'!E266","v":"Motorola"},{"$f":"'[2]Inventário Completo'!F266","v":"SEPETIBA TECON S/A"},{"$f":"'[2]Inventário Completo'!G266","v":"CSN-SEPETIBA ITAGUAI (TECON)"},{"$f":"'[2]Inventário Completo'!H266","v":"RJ"},{"$f":"'[2]Inventário Completo'!I266","v":"02.394.276/0002-08"},{"$f":"'[2]Inventário Completo'!J266","v":" 86.143.73-9"},{"$f":"'[2]Inventário Completo'!K266","v":"Est Prefeito Wilson Pedro Francisco, S/N, Parte, Ilha Da Madeira, Itaguaí, RJ, CEP 23826-600, Brasil"},{"$f":"'[2]Inventário Completo'!L266","v":"Filipe Almeida"},{"$f":"'[2]Inventário Completo'!M266","v":"(21) 26871918"},{"$f":"'[2]Inventário Completo'!N266","v":0},{"$f":"'[2]Inventário Completo'!O266","v":0},{"$f":"'[2]Inventário Completo'!P266","v":"Em uso"},{"$f":"'[2]Inventário Completo'!Q266","v":0}]
[{"$f":"'[2]Inventário Completo'!A267","v":"GCIT0018"},{"$f":"'[2]Inventário Completo'!B267","v":1034000507965},{"$f":"'[2]Inventário Completo'!C267","v":"Coletor"},{"$f":"'[2]Inventário Completo'!D267","v":"MC9090G"},{"$f":"'[2]Inventário Completo'!E267","v":"Motorola"},{"$f":"'[2]Inventário Completo'!F267","v":"SEPETIBA TECON S/A"},{"$f":"'[2]Inventário Completo'!G267","v":"CSN-SEPETIBA ITAGUAI (TECON)"},{"$f":"'[2]Inventário Completo'!H267","v":"RJ"},{"$f":"'[2]Inventário Completo'!I267","v":"02.394.276/0002-08"},{"$f":"'[2]Inventário Completo'!J267","v":" 86.143.73-9"},{"$f":"'[2]Inventário Completo'!K267","v":"Est Prefeito Wilson Pedro Francisco, S/N, Parte, Ilha Da Madeira, Itaguaí, RJ, CEP 23826-600, Brasil"},{"$f":"'[2]Inventário Completo'!L267","v":"Filipe Almeida"},{"$f":"'[2]Inventário Completo'!M267","v":"(21) 26871918"},{"$f":"'[2]Inventário Completo'!N267","v":0},{"$f":"'[2]Inventário Completo'!O267","v":0},{"$f":"'[2]Inventário Completo'!P267","v":"Em uso"},{"$f":"'[2]Inventário Completo'!Q267","v":0}]
[{"$f":"'[2]Inventário Completo'!A268","v":"GCIT0019"},{"$f":"'[2]Inventário Completo'!B268","v":1034000508057},{"$f":"'[2]Inventário Completo'!C268","v":"Coletor"},{"$f":"'[2]Inventário Completo'!D268","v":"MC9090G"},{"$f":"'[2]Inventário Completo'!E268","v":"Motorola"},{"$f":"'[2]Inventário Completo'!F268","v":"SEPETIBA TECON S/A"},{"$f":"'[2]Inventário Completo'!G268","v":"CSN-SEPETIBA ITAGUAI (TECON)"},{"$f":"'[2]Inventário Completo'!H268","v":"RJ"},{"$f":"'[2]Inventário Completo'!I268","v":"02.394.276/0002-08"},{"$f":"'[2]Inventário Completo'!J268","v":" 86.143.73-9"},{"$f":"'[2]Inventário Completo'!K268","v":"Est Prefeito Wilson Pedro Francisco, S/N, Parte, Ilha Da Madeira, Itaguaí, RJ, CEP 23826-600, Brasil"},{"$f":"'[2]Inventário Completo'!L268","v":"Filipe Almeida"},{"$f":"'[2]Inventário Completo'!M268","v":"(21) 26871918"},{"$f":"'[2]Inventário Completo'!N268","v":0},{"$f":"'[2]Inventário Completo'!O268","v":0},{"$f":"'[2]Inventário Completo'!P268","v":"Em uso"},{"$f":"'[2]Inventário Completo'!Q268","v":0}]
[{"$f":"'[2]Inventário Completo'!A269","v":"GCIT0020"},{"$f":"'[2]Inventário Completo'!B269","v":1034000508095},{"$f":"'[2]Inventário Completo'!C269","v":"Coletor"},{"$f":"'[2]Inventário Completo'!D269","v":"MC9090G"},{"$f":"'[2]Inventário Completo'!E269","v":"Motorola"},{"$f":"'[2]Inventário Completo'!F269","v":"SEPETIBA TECON S/A"},{"$f":"'[2]Inventário Completo'!G269","v":"CSN-SEPETIBA ITAGUAI (TECON)"},{"$f":"'[2]Inventário Completo'!H269","v":"RJ"},{"$f":"'[2]Inventário Completo'!I269","v":"02.394.276/0002-08"},{"$f":"'[2]Inventário Completo'!J269","v":" 86.143.73-9"},{"$f":"'[2]Inventário Completo'!K269","v":"Est Prefeito Wilson Pedro Francisco, S/N, Parte, Ilha Da Madeira, Itaguaí, RJ, CEP 23826-600, Brasil"},{"$f":"'[2]Inventário Completo'!L269","v":"Filipe Almeida"},{"$f":"'[2]Inventário Completo'!M269","v":"(21) 26871918"},{"$f":"'[2]Inventário Completo'!N269","v":0},{"$f":"'[2]Inventário Completo'!O269","v":0},{"$f":"'[2]Inventário Completo'!P269","v":"Em uso"},{"$f":"'[2]Inventário Completo'!Q269","v":0}]
[{"$f":"'[2]Inventário Completo'!A270","v":"GCMC0001"},{"$f":"'[2]Inventário Completo'!B270","v":1102300501444},{"$f":"'[2]Inventário Completo'!C270","v":"Coletor"},{"$f":"'[2]Inventário Completo'!D270","v":"MC9090G"},{"$f":"'[2]Inventário Completo'!E270","v":"Motorola"},{"$f":"'[2]Inventário Completo'!F270","v":"COMPANHIA METALURGICA PRADA"},{"$f":"'[2]Inventário Completo'!G270","v":"PRADA - MOGI DAS CRUZES"},{"$f":"'[2]Inventário Completo'!H270","v":"SP"},{"$f":"'[2]Inventário Completo'!I270","v":"56.993.900/0028-51"},{"$f":"'[2]Inventário Completo'!J270","v":454346682110},{"$f":"'[2]Inventário Completo'!K270","v":"Av. Inal, 190 - Vila Industrial"},{"$f":"'[2]Inventário Completo'!L270","v":"Alexandre Machado"},{"$f":"'[2]Inventário Completo'!M270","v":"(11) 4791-7971"},{"$f":"'[2]Inventário Completo'!N270","v":0},{"$f":"'[2]Inventário Completo'!O270","v":0},{"$f":"'[2]Inventário Completo'!P270","v":"Em uso"},{"$f":"'[2]Inventário Completo'!Q270","v":0}]
[{"$f":"'[2]Inventário Completo'!A271","v":"GCMC0002"},{"$f":"'[2]Inventário Completo'!B271","v":1103900504094},{"$f":"'[2]Inventário Completo'!C271","v":"Coletor"},{"$f":"'[2]Inventário Completo'!D271","v":"MC9090G"},{"$f":"'[2]Inventário Completo'!E271","v":"Motorola"},{"$f":"'[2]Inventário Completo'!F271","v":"COMPANHIA METALURGICA PRADA"},{"$f":"'[2]Inventário Completo'!G271","v":"PRADA - MOGI DAS CRUZES"},{"$f":"'[2]Inventário Completo'!H271","v":"SP"},{"$f":"'[2]Inventário Completo'!I271","v":"56.993.900/0028-51"},{"$f":"'[2]Inventário Completo'!J271","v":454346682110},{"$f":"'[2]Inventário Completo'!K271","v":"Av. Inal, 190 - Vila Industrial"},{"$f":"'[2]Inventário Completo'!L271","v":"Alexandre Machado"},{"$f":"'[2]Inventário Completo'!M271","v":"(11) 4791-7971"},{"$f":"'[2]Inventário Completo'!N271","v":0},{"$f":"'[2]Inventário Completo'!O271","v":0},{"$f":"'[2]Inventário Completo'!P271","v":"Em uso"},{"$f":"'[2]Inventário Completo'!Q271","v":0}]
[{"$f":"'[2]Inventário Completo'!A272","v":"GCMC0003"},{"$f":"'[2]Inventário Completo'!B272","v":1103900504110},{"$f":"'[2]Inventário Completo'!C272","v":"Coletor"},{"$f":"'[2]Inventário Completo'!D272","v":"MC9090G"},{"$f":"'[2]Inventário Completo'!E272","v":"Motorola"},{"$f":"'[2]Inventário Completo'!F272","v":"COMPANHIA METALURGICA PRADA"},{"$f":"'[2]Inventário Completo'!G272","v":"PRADA - MOGI DAS CRUZES"},{"$f":"'[2]Inventário Completo'!H272","v":"SP"},{"$f":"'[2]Inventário Completo'!I272","v":"56.993.900/0028-51"},{"$f":"'[2]Inventário Completo'!J272","v":454346682110},{"$f":"'[2]Inventário Completo'!K272","v":"Av. Inal, 190 - Vila Industrial"},{"$f":"'[2]Inventário Completo'!L272","v":"Alexandre Machado"},{"$f":"'[2]Inventário Completo'!M272","v":"(11) 4791-7971"},{"$f":"'[2]Inventário Completo'!N272","v":0},{"$f":"'[2]Inventário Completo'!O272","v":0},{"$f":"'[2]Inventário Completo'!P272","v":"Em uso"},{"$f":"'[2]Inventário Completo'!Q272","v":0}]
[{"$f":"'[2]Inventário Completo'!A273","v":"GCMC0004"},{"$f":"'[2]Inventário Completo'!B273","v":1105400502603},{"$f":"'[2]Inventário Completo'!C273","v":"Coletor"},{"$f":"'[2]Inventário Completo'!D273","v":"MC9090G"},{"$f":"'[2]Inventário Completo'!E273","v":"Motorola"},{"$f":"'[2]Inventário Completo'!F273","v":"COMPANHIA METALURGICA PRADA"},{"$f":"'[2]Inventário Completo'!G273","v":"PRADA - MOGI DAS CRUZES"},{"$f":"'[2]Inventário Completo'!H273","v":"SP"},{"$f":"'[2]Inventário Completo'!I273","v":"56.993.900/0028-51"},{"$f":"'[2]Inventário Completo'!J273","v":454346682110},{"$f":"'[2]Inventário Completo'!K273","v":"Av. Inal, 190 - Vila Industrial"},{"$f":"'[2]Inventário Completo'!L273","v":"Alexandre Machado"},{"$f":"'[2]Inventário Completo'!M273","v":"(11) 4791-7971"},{"$f":"'[2]Inventário Completo'!N273","v":0},{"$f":"'[2]Inventário Completo'!O273","v":0},{"$f":"'[2]Inventário Completo'!P273","v":"Em uso"},{"$f":"'[2]Inventário Completo'!Q273","v":0}]
[{"$f":"'[2]Inventário Completo'!A274","v":"GCMC0005"},{"$f":"'[2]Inventário Completo'!B274","v":1105400502607},{"$f":"'[2]Inventário Completo'!C274","v":"Coletor"},{"$f":"'[2]Inventário Completo'!D274","v":"MC9090G"},{"$f":"'[2]Inventário Completo'!E274","v":"Motorola"},{"$f":"'[2]Inventário Completo'!F274","v":"COMPANHIA METALURGICA PRADA"},{"$f":"'[2]Inventário Completo'!G274","v":"PRADA - MOGI DAS CRUZES"},{"$f":"'[2]Inventário Completo'!H274","v":"SP"},{"$f":"'[2]Inventário Completo'!I274","v":"56.993.900/0028-51"},{"$f":"'[2]Inventário Completo'!J274","v":454346682110},{"$f":"'[2]Inventário Completo'!K274","v":"Av. Inal, 190 - Vila Industrial"},{"$f":"'[2]Inventário Completo'!L274","v":"Alexandre Machado"},{"$f":"'[2]Inventário Completo'!M274","v":"(11) 4791-7971"},{"$f":"'[2]Inventário Completo'!N274","v":0},{"$f":"'[2]Inventário Completo'!O274","v":0},{"$f":"'[2]Inventário Completo'!P274","v":"Em uso"},{"$f":"'[2]Inventário Completo'!Q274","v":0}]
[{"$f":"'[2]Inventário Completo'!A275","v":"GCMC0006"},{"$f":"'[2]Inventário Completo'!B275","v":1105400502610},{"$f":"'[2]Inventário Completo'!C275","v":"Coletor"},{"$f":"'[2]Inventário Completo'!D275","v":"MC9090G"},{"$f":"'[2]Inventário Completo'!E275","v":"Motorola"},{"$f":"'[2]Inventário Completo'!F275","v":"COMPANHIA METALURGICA PRADA"},{"$f":"'[2]Inventário Completo'!G275","v":"PRADA - MOGI DAS CRUZES"},{"$f":"'[2]Inventário Completo'!H275","v":"SP"},{"$f":"'[2]Inventário Completo'!I275","v":"56.993.900/0028-51"},{"$f":"'[2]Inventário Completo'!J275","v":454346682110},{"$f":"'[2]Inventário Completo'!K275","v":"Av. Inal, 190 - Vila Industrial"},{"$f":"'[2]Inventário Completo'!L275","v":"Alexandre Machado"},{"$f":"'[2]Inventário Completo'!M275","v":"(11) 4791-7971"},{"$f":"'[2]Inventário Completo'!N275","v":0},{"$f":"'[2]Inventário Completo'!O275","v":0},{"$f":"'[2]Inventário Completo'!P275","v":"Em uso"},{"$f":"'[2]Inventário Completo'!Q275","v":0}]
[{"$f":"'[2]Inventário Completo'!A276","v":"GCMC0007"},{"$f":"'[2]Inventário Completo'!B276","v":1105400502648},{"$f":"'[2]Inventário Completo'!C276","v":"Coletor"},{"$f":"'[2]Inventário Completo'!D276","v":"MC9090G"},{"$f":"'[2]Inventário Completo'!E276","v":"Motorola"},{"$f":"'[2]Inventário Completo'!F276","v":"COMPANHIA METALURGICA PRADA"},{"$f":"'[2]Inventário Completo'!G276","v":"PRADA - MOGI DAS CRUZES"},{"$f":"'[2]Inventário Completo'!H276","v":"SP"},{"$f":"'[2]Inventário Completo'!I276","v":"56.993.900/0028-51"},{"$f":"'[2]Inventário Completo'!J276","v":454346682110},{"$f":"'[2]Inventário Completo'!K276","v":"Av. Inal, 190 - Vila Industrial"},{"$f":"'[2]Inventário Completo'!L276","v":"Alexandre Machado"},{"$f":"'[2]Inventário Completo'!M276","v":"(11) 4791-7971"},{"$f":"'[2]Inventário Completo'!N276","v":0},{"$f":"'[2]Inventário Completo'!O276","v":0},{"$f":"'[2]Inventário Completo'!P276","v":"Em uso"},{"$f":"'[2]Inventário Completo'!Q276","v":0}]
[{"$f":"'[2]Inventário Completo'!A277","v":"GCMC0008"},{"$f":"'[2]Inventário Completo'!B277","v":1105400502654},{"$f":"'[2]Inventário Completo'!C277","v":"Coletor"},{"$f":"'[2]Inventário Completo'!D277","v":"MC9090G"},{"$f":"'[2]Inventário Completo'!E277","v":"Motorola"},{"$f":"'[2]Inventário Completo'!F277","v":"COMPANHIA METALURGICA PRADA"},{"$f":"'[2]Inventário Completo'!G277","v":"PRADA - MOGI DAS CRUZES"},{"$f":"'[2]Inventário Completo'!H277","v":"SP"},{"$f":"'[2]Inventário Completo'!I277","v":"56.993.900/0028-51"},{"$f":"'[2]Inventário Completo'!J277","v":454346682110},{"$f":"'[2]Inventário Completo'!K277","v":"Av. Inal, 190 - Vila Industrial"},{"$f":"'[2]Inventário Completo'!L277","v":"Alexandre Machado"},{"$f":"'[2]Inventário Completo'!M277","v":"(11) 4791-7971"},{"$f":"'[2]Inventário Completo'!N277","v":0},{"$f":"'[2]Inventário Completo'!O277","v":0},{"$f":"'[2]Inventário Completo'!P277","v":"Em uso"},{"$f":"'[2]Inventário Completo'!Q277","v":0}]
[{"$f":"'[2]Inventário Completo'!A278","v":"GCMC0009"},{"$f":"'[2]Inventário Completo'!B278","v":1105400502660},{"$f":"'[2]Inventário Completo'!C278","v":"Coletor"},{"$f":"'[2]Inventário Completo'!D278","v":"MC9090G"},{"$f":"'[2]Inventário Completo'!E278","v":"Motorola"},{"$f":"'[2]Inventário Completo'!F278","v":"COMPANHIA METALURGICA PRADA"},{"$f":"'[2]Inventário Completo'!G278","v":"PRADA - MOGI DAS CRUZES"},{"$f":"'[2]Inventário Completo'!H278","v":"SP"},{"$f":"'[2]Inventário Completo'!I278","v":"56.993.900/0028-51"},{"$f":"'[2]Inventário Completo'!J278","v":454346682110},{"$f":"'[2]Inventário Completo'!K278","v":"Av. Inal, 190 - Vila Industrial"},{"$f":"'[2]Inventário Completo'!L278","v":"Alexandre Machado"},{"$f":"'[2]Inventário Completo'!M278","v":"(11) 4791-7971"},{"$f":"'[2]Inventário Completo'!N278","v":0},{"$f":"'[2]Inventário Completo'!O278","v":0},{"$f":"'[2]Inventário Completo'!P278","v":"Em uso"},{"$f":"'[2]Inventário Completo'!Q278","v":0}]
[{"$f":"'[2]Inventário Completo'!A279","v":"GCMC0010"},{"$f":"'[2]Inventário Completo'!B279","v":1105400502699},{"$f":"'[2]Inventário Completo'!C279","v":"Coletor"},{"$f":"'[2]Inventário Completo'!D279","v":"MC9090G"},{"$f":"'[2]Inventário Completo'!E279","v":"Motorola"},{"$f":"'[2]Inventário Completo'!F279","v":"COMPANHIA METALURGICA PRADA"},{"$f":"'[2]Inventário Completo'!G279","v":"PRADA - MOGI DAS CRUZES"},{"$f":"'[2]Inventário Completo'!H279","v":"SP"},{"$f":"'[2]Inventário Completo'!I279","v":"56.993.900/0028-51"},{"$f":"'[2]Inventário Completo'!J279","v":454346682110},{"$f":"'[2]Inventário Completo'!K279","v":"Av. Inal, 190 - Vila Industrial"},{"$f":"'[2]Inventário Completo'!L279","v":"Alexandre Machado"},{"$f":"'[2]Inventário Completo'!M279","v":"(11) 4791-7971"},{"$f":"'[2]Inventário Completo'!N279","v":0},{"$f":"'[2]Inventário Completo'!O279","v":0},{"$f":"'[2]Inventário Completo'!P279","v":"Em uso"},{"$f":"'[2]Inventário Completo'!Q279","v":0}]
[{"$f":"'[2]Inventário Completo'!A280","v":"GCMC0011"},{"$f":"'[2]Inventário Completo'!B280","v":1122900511751},{"$f":"'[2]Inventário Completo'!C280","v":"Coletor"},{"$f":"'[2]Inventário Completo'!D280","v":"MC9090G"},{"$f":"'[2]Inventário Completo'!E280","v":"Motorola"},{"$f":"'[2]Inventário Completo'!F280","v":"COMPANHIA METALURGICA PRADA"},{"$f":"'[2]Inventário Completo'!G280","v":"PRADA - MOGI DAS CRUZES"},{"$f":"'[2]Inventário Completo'!H280","v":"SP"},{"$f":"'[2]Inventário Completo'!I280","v":"56.993.900/0028-51"},{"$f":"'[2]Inventário Completo'!J280","v":454346682110},{"$f":"'[2]Inventário Completo'!K280","v":"Av. Inal, 190 - Vila Industrial"},{"$f":"'[2]Inventário Completo'!L280","v":"Alexandre Machado"},{"$f":"'[2]Inventário Completo'!M280","v":"(11) 4791-7971"},{"$f":"'[2]Inventário Completo'!N280","v":0},{"$f":"'[2]Inventário Completo'!O280","v":0},{"$f":"'[2]Inventário Completo'!P280","v":"Em uso"},{"$f":"'[2]Inventário Completo'!Q280","v":0}]
[{"$f":"'[2]Inventário Completo'!A281","v":"GCMC0012"},{"$f":"'[2]Inventário Completo'!B281","v":1126100508342},{"$f":"'[2]Inventário Completo'!C281","v":"Coletor"},{"$f":"'[2]Inventário Completo'!D281","v":"MC9090G"},{"$f":"'[2]Inventário Completo'!E281","v":"Motorola"},{"$f":"'[2]Inventário Completo'!F281","v":"COMPANHIA METALURGICA PRADA"},{"$f":"'[2]Inventário Completo'!G281","v":"PRADA - MOGI DAS CRUZES"},{"$f":"'[2]Inventário Completo'!H281","v":"SP"},{"$f":"'[2]Inventário Completo'!I281","v":"56.993.900/0028-51"},{"$f":"'[2]Inventário Completo'!J281","v":454346682110},{"$f":"'[2]Inventário Completo'!K281","v":"Av. Inal, 190 - Vila Industrial"},{"$f":"'[2]Inventário Completo'!L281","v":"Alexandre Machado"},{"$f":"'[2]Inventário Completo'!M281","v":"(11) 4791-7971"},{"$f":"'[2]Inventário Completo'!N281","v":0},{"$f":"'[2]Inventário Completo'!O281","v":0},{"$f":"'[2]Inventário Completo'!P281","v":"Em uso"},{"$f":"'[2]Inventário Completo'!Q281","v":0}]
[{"$f":"'[2]Inventário Completo'!A282","v":"GCMC0013"},{"$f":"'[2]Inventário Completo'!B282","v":1126100508757},{"$f":"'[2]Inventário Completo'!C282","v":"Coletor"},{"$f":"'[2]Inventário Completo'!D282","v":"MC9090G"},{"$f":"'[2]Inventário Completo'!E282","v":"Motorola"},{"$f":"'[2]Inventário Completo'!F282","v":"COMPANHIA METALURGICA PRADA"},{"$f":"'[2]Inventário Completo'!G282","v":"PRADA - MOGI DAS CRUZES"},{"$f":"'[2]Inventário Completo'!H282","v":"SP"},{"$f":"'[2]Inventário Completo'!I282","v":"56.993.900/0028-51"},{"$f":"'[2]Inventário Completo'!J282","v":454346682110},{"$f":"'[2]Inventário Completo'!K282","v":"Av. Inal, 190 - Vila Industrial"},{"$f":"'[2]Inventário Completo'!L282","v":"Alexandre Machado"},{"$f":"'[2]Inventário Completo'!M282","v":"(11) 4791-7971"},{"$f":"'[2]Inventário Completo'!N282","v":0},{"$f":"'[2]Inventário Completo'!O282","v":0},{"$f":"'[2]Inventário Completo'!P282","v":"Em uso"},{"$f":"'[2]Inventário Completo'!Q282","v":0}]
[{"$f":"'[2]Inventário Completo'!A283","v":"GCMC0014"},{"$f":"'[2]Inventário Completo'!B283","v":1126100508800},{"$f":"'[2]Inventário Completo'!C283","v":"Coletor"},{"$f":"'[2]Inventário Completo'!D283","v":"MC9090G"},{"$f":"'[2]Inventário Completo'!E283","v":"Motorola"},{"$f":"'[2]Inventário Completo'!F283","v":"COMPANHIA METALURGICA PRADA"},{"$f":"'[2]Inventário Completo'!G283","v":"PRADA - MOGI DAS CRUZES"},{"$f":"'[2]Inventário Completo'!H283","v":"SP"},{"$f":"'[2]Inventário Completo'!I283","v":"56.993.900/0028-51"},{"$f":"'[2]Inventário Completo'!J283","v":454346682110},{"$f":"'[2]Inventário Completo'!K283","v":"Av. Inal, 190 - Vila Industrial"},{"$f":"'[2]Inventário Completo'!L283","v":"Alexandre Machado"},{"$f":"'[2]Inventário Completo'!M283","v":"(11) 4791-7971"},{"$f":"'[2]Inventário Completo'!N283","v":0},{"$f":"'[2]Inventário Completo'!O283","v":0},{"$f":"'[2]Inventário Completo'!P283","v":"Em uso"},{"$f":"'[2]Inventário Completo'!Q283","v":0}]
[{"$f":"'[2]Inventário Completo'!A284","v":"GCMC0015"},{"$f":"'[2]Inventário Completo'!B284","v":1126100508803},{"$f":"'[2]Inventário Completo'!C284","v":"Coletor"},{"$f":"'[2]Inventário Completo'!D284","v":"MC9090G"},{"$f":"'[2]Inventário Completo'!E284","v":"Motorola"},{"$f":"'[2]Inventário Completo'!F284","v":"COMPANHIA METALURGICA PRADA"},{"$f":"'[2]Inventário Completo'!G284","v":"PRADA - MOGI DAS CRUZES"},{"$f":"'[2]Inventário Completo'!H284","v":"SP"},{"$f":"'[2]Inventário Completo'!I284","v":"56.993.900/0028-51"},{"$f":"'[2]Inventário Completo'!J284","v":454346682110},{"$f":"'[2]Inventário Completo'!K284","v":"Av. Inal, 190 - Vila Industrial"},{"$f":"'[2]Inventário Completo'!L284","v":"Alexandre Machado"},{"$f":"'[2]Inventário Completo'!M284","v":"(11) 4791-7971"},{"$f":"'[2]Inventário Completo'!N284","v":0},{"$f":"'[2]Inventário Completo'!O284","v":0},{"$f":"'[2]Inventário Completo'!P284","v":"Em uso"},{"$f":"'[2]Inventário Completo'!Q284","v":0}]
[{"$f":"'[2]Inventário Completo'!A285","v":"GCMC0016"},{"$f":"'[2]Inventário Completo'!B285","v":1126100508804},{"$f":"'[2]Inventário Completo'!C285","v":"Coletor"},{"$f":"'[2]Inventário Completo'!D285","v":"MC9090G"},{"$f":"'[2]Inventário Completo'!E285","v":"Motorola"},{"$f":"'[2]Inventário Completo'!F285","v":"COMPANHIA METALURGICA PRADA"},{"$f":"'[2]Inventário Completo'!G285","v":"PRADA - MOGI DAS CRUZES"},{"$f":"'[2]Inventário Completo'!H285","v":"SP"},{"$f":"'[2]Inventário Completo'!I285","v":"56.993.900/0028-51"},{"$f":"'[2]Inventário Completo'!J285","v":454346682110},{"$f":"'[2]Inventário Completo'!K285","v":"Av. Inal, 190 - Vila Industrial"},{"$f":"'[2]Inventário Completo'!L285","v":"Alexandre Machado"},{"$f":"'[2]Inventário Completo'!M285","v":"(11) 4791-7971"},{"$f":"'[2]Inventário Completo'!N285","v":0},{"$f":"'[2]Inventário Completo'!O285","v":0},{"$f":"'[2]Inventário Completo'!P285","v":"Em uso"},{"$f":"'[2]Inventário Completo'!Q285","v":0}]
[{"$f":"'[2]Inventário Completo'!A286","v":"GCMC0017"},{"$f":"'[2]Inventário Completo'!B286","v":1126100508805},{"$f":"'[2]Inventário Completo'!C286","v":"Coletor"},{"$f":"'[2]Inventário Completo'!D286","v":"MC9090G"},{"$f":"'[2]Inventário Completo'!E286","v":"Motorola"},{"$f":"'[2]Inventário Completo'!F286","v":"COMPANHIA METALURGICA PRADA"},{"$f":"'[2]Inventário Completo'!G286","v":"PRADA - MOGI DAS CRUZES"},{"$f":"'[2]Inventário Completo'!H286","v":"SP"},{"$f":"'[2]Inventário Completo'!I286","v":"56.993.900/0028-51"},{"$f":"'[2]Inventário Completo'!J286","v":454346682110},{"$f":"'[2]Inventário Completo'!K286","v":"Av. Inal, 190 - Vila Industrial"},{"$f":"'[2]Inventário Completo'!L286","v":"Alexandre Machado"},{"$f":"'[2]Inventário Completo'!M286","v":"(11) 4791-7971"},{"$f":"'[2]Inventário Completo'!N286","v":0},{"$f":"'[2]Inventário Completo'!O286","v":0},{"$f":"'[2]Inventário Completo'!P286","v":"Em uso"},{"$f":"'[2]Inventário Completo'!Q286","v":0}]
[{"$f":"'[2]Inventário Completo'!A287","v":"GCMC0018"},{"$f":"'[2]Inventário Completo'!B287","v":1126100508806},{"$f":"'[2]Inventário Completo'!C287","v":"Coletor"},{"$f":"'[2]Inventário Completo'!D287","v":"MC9090G"},{"$f":"'[2]Inventário Completo'!E287","v":"Motorola"},{"$f":"'[2]Inventário Completo'!F287","v":"COMPANHIA METALURGICA PRADA"},{"$f":"'[2]Inventário Completo'!G287","v":"PRADA - MOGI DAS CRUZES"},{"$f":"'[2]Inventário Completo'!H287","v":"SP"},{"$f":"'[2]Inventário Completo'!I287","v":"56.993.900/0028-51"},{"$f":"'[2]Inventário Completo'!J287","v":454346682110},{"$f":"'[2]Inventário Completo'!K287","v":"Av. Inal, 190 - Vila Industrial"},{"$f":"'[2]Inventário Completo'!L287","v":"Alexandre Machado"},{"$f":"'[2]Inventário Completo'!M287","v":"(11) 4791-7971"},{"$f":"'[2]Inventário Completo'!N287","v":0},{"$f":"'[2]Inventário Completo'!O287","v":0},{"$f":"'[2]Inventário Completo'!P287","v":"Em uso"},{"$f":"'[2]Inventário Completo'!Q287","v":0}]
[{"$f":"'[2]Inventário Completo'!A288","v":"GCMC0019"},{"$f":"'[2]Inventário Completo'!B288","v":1126200500899},{"$f":"'[2]Inventário Completo'!C288","v":"Coletor"},{"$f":"'[2]Inventário Completo'!D288","v":"MC9090G"},{"$f":"'[2]Inventário Completo'!E288","v":"Motorola"},{"$f":"'[2]Inventário Completo'!F288","v":"COMPANHIA METALURGICA PRADA"},{"$f":"'[2]Inventário Completo'!G288","v":"PRADA - MOGI DAS CRUZES"},{"$f":"'[2]Inventário Completo'!H288","v":"SP"},{"$f":"'[2]Inventário Completo'!I288","v":"56.993.900/0028-51"},{"$f":"'[2]Inventário Completo'!J288","v":454346682110},{"$f":"'[2]Inventário Completo'!K288","v":"Av. Inal, 190 - Vila Industrial"},{"$f":"'[2]Inventário Completo'!L288","v":"Alexandre Machado"},{"$f":"'[2]Inventário Completo'!M288","v":"(11) 4791-7971"},{"$f":"'[2]Inventário Completo'!N288","v":0},{"$f":"'[2]Inventário Completo'!O288","v":0},{"$f":"'[2]Inventário Completo'!P288","v":"Em uso"},{"$f":"'[2]Inventário Completo'!Q288","v":0}]
[{"$f":"'[2]Inventário Completo'!A289","v":"GCMC0020"},{"$f":"'[2]Inventário Completo'!B289","v":1126200500905},{"$f":"'[2]Inventário Completo'!C289","v":"Coletor"},{"$f":"'[2]Inventário Completo'!D289","v":"MC9090G"},{"$f":"'[2]Inventário Completo'!E289","v":"Motorola"},{"$f":"'[2]Inventário Completo'!F289","v":"COMPANHIA METALURGICA PRADA"},{"$f":"'[2]Inventário Completo'!G289","v":"PRADA - MOGI DAS CRUZES"},{"$f":"'[2]Inventário Completo'!H289","v":"SP"},{"$f":"'[2]Inventário Completo'!I289","v":"56.993.900/0028-51"},{"$f":"'[2]Inventário Completo'!J289","v":454346682110},{"$f":"'[2]Inventário Completo'!K289","v":"Av. Inal, 190 - Vila Industrial"},{"$f":"'[2]Inventário Completo'!L289","v":"Alexandre Machado"},{"$f":"'[2]Inventário Completo'!M289","v":"(11) 4791-7971"},{"$f":"'[2]Inventário Completo'!N289","v":0},{"$f":"'[2]Inventário Completo'!O289","v":0},{"$f":"'[2]Inventário Completo'!P289","v":"Em uso"},{"$f":"'[2]Inventário Completo'!Q289","v":0}]
[{"$f":"'[2]Inventário Completo'!A290","v":"GCMC0021"},{"$f":"'[2]Inventário Completo'!B290","v":1126200500908},{"$f":"'[2]Inventário Completo'!C290","v":"Coletor"},{"$f":"'[2]Inventário Completo'!D290","v":"MC9090G"},{"$f":"'[2]Inventário Completo'!E290","v":"Motorola"},{"$f":"'[2]Inventário Completo'!F290","v":"COMPANHIA METALURGICA PRADA"},{"$f":"'[2]Inventário Completo'!G290","v":"PRADA - MOGI DAS CRUZES"},{"$f":"'[2]Inventário Completo'!H290","v":"SP"},{"$f":"'[2]Inventário Completo'!I290","v":"56.993.900/0028-51"},{"$f":"'[2]Inventário Completo'!J290","v":454346682110},{"$f":"'[2]Inventário Completo'!K290","v":"Av. Inal, 190 - Vila Industrial"},{"$f":"'[2]Inventário Completo'!L290","v":"Alexandre Machado"},{"$f":"'[2]Inventário Completo'!M290","v":"(11) 4791-7971"},{"$f":"'[2]Inventário Completo'!N290","v":0},{"$f":"'[2]Inventário Completo'!O290","v":0},{"$f":"'[2]Inventário Completo'!P290","v":"Em uso"},{"$f":"'[2]Inventário Completo'!Q290","v":0}]
[{"$f":"'[2]Inventário Completo'!A291","v":"GCMC0022"},{"$f":"'[2]Inventário Completo'!B291","v":1126200500912},{"$f":"'[2]Inventário Completo'!C291","v":"Coletor"},{"$f":"'[2]Inventário Completo'!D291","v":"MC9090G"},{"$f":"'[2]Inventário Completo'!E291","v":"Motorola"},{"$f":"'[2]Inventário Completo'!F291","v":"COMPANHIA METALURGICA PRADA"},{"$f":"'[2]Inventário Completo'!G291","v":"PRADA - MOGI DAS CRUZES"},{"$f":"'[2]Inventário Completo'!H291","v":"SP"},{"$f":"'[2]Inventário Completo'!I291","v":"56.993.900/0028-51"},{"$f":"'[2]Inventário Completo'!J291","v":454346682110},{"$f":"'[2]Inventário Completo'!K291","v":"Av. Inal, 190 - Vila Industrial"},{"$f":"'[2]Inventário Completo'!L291","v":"Alexandre Machado"},{"$f":"'[2]Inventário Completo'!M291","v":"(11) 4791-7971"},{"$f":"'[2]Inventário Completo'!N291","v":0},{"$f":"'[2]Inventário Completo'!O291","v":0},{"$f":"'[2]Inventário Completo'!P291","v":"Em uso"},{"$f":"'[2]Inventário Completo'!Q291","v":0}]
[{"$f":"'[2]Inventário Completo'!A292","v":"GCMC0023"},{"$f":"'[2]Inventário Completo'!B292","v":1126200500964},{"$f":"'[2]Inventário Completo'!C292","v":"Coletor"},{"$f":"'[2]Inventário Completo'!D292","v":"MC9090G"},{"$f":"'[2]Inventário Completo'!E292","v":"Motorola"},{"$f":"'[2]Inventário Completo'!F292","v":"COMPANHIA METALURGICA PRADA"},{"$f":"'[2]Inventário Completo'!G292","v":"PRADA - MOGI DAS CRUZES"},{"$f":"'[2]Inventário Completo'!H292","v":"SP"},{"$f":"'[2]Inventário Completo'!I292","v":"56.993.900/0028-51"},{"$f":"'[2]Inventário Completo'!J292","v":454346682110},{"$f":"'[2]Inventário Completo'!K292","v":"Av. Inal, 190 - Vila Industrial"},{"$f":"'[2]Inventário Completo'!L292","v":"Alexandre Machado"},{"$f":"'[2]Inventário Completo'!M292","v":"(11) 4791-7971"},{"$f":"'[2]Inventário Completo'!N292","v":0},{"$f":"'[2]Inventário Completo'!O292","v":0},{"$f":"'[2]Inventário Completo'!P292","v":"Em uso"},{"$f":"'[2]Inventário Completo'!Q292","v":0}]
[{"$f":"'[2]Inventário Completo'!A293","v":"GCMC0024"},{"$f":"'[2]Inventário Completo'!B293","v":1126200500970},{"$f":"'[2]Inventário Completo'!C293","v":"Coletor"},{"$f":"'[2]Inventário Completo'!D293","v":"MC9090G"},{"$f":"'[2]Inventário Completo'!E293","v":"Motorola"},{"$f":"'[2]Inventário Completo'!F293","v":"COMPANHIA METALURGICA PRADA"},{"$f":"'[2]Inventário Completo'!G293","v":"PRADA - MOGI DAS CRUZES"},{"$f":"'[2]Inventário Completo'!H293","v":"SP"},{"$f":"'[2]Inventário Completo'!I293","v":"56.993.900/0028-51"},{"$f":"'[2]Inventário Completo'!J293","v":454346682110},{"$f":"'[2]Inventário Completo'!K293","v":"Av. Inal, 190 - Vila Industrial"},{"$f":"'[2]Inventário Completo'!L293","v":"Alexandre Machado"},{"$f":"'[2]Inventário Completo'!M293","v":"(11) 4791-7971"},{"$f":"'[2]Inventário Completo'!N293","v":0},{"$f":"'[2]Inventário Completo'!O293","v":0},{"$f":"'[2]Inventário Completo'!P293","v":"Em uso"},{"$f":"'[2]Inventário Completo'!Q293","v":0}]
[{"$f":"'[2]Inventário Completo'!A294","v":"GCMC0025"},{"$f":"'[2]Inventário Completo'!B294","v":1126200500989},{"$f":"'[2]Inventário Completo'!C294","v":"Coletor"},{"$f":"'[2]Inventário Completo'!D294","v":"MC9090G"},{"$f":"'[2]Inventário Completo'!E294","v":"Motorola"},{"$f":"'[2]Inventário Completo'!F294","v":"COMPANHIA METALURGICA PRADA"},{"$f":"'[2]Inventário Completo'!G294","v":"PRADA - MOGI DAS CRUZES"},{"$f":"'[2]Inventário Completo'!H294","v":"SP"},{"$f":"'[2]Inventário Completo'!I294","v":"56.993.900/0028-51"},{"$f":"'[2]Inventário Completo'!J294","v":454346682110},{"$f":"'[2]Inventário Completo'!K294","v":"Av. Inal, 190 - Vila Industrial"},{"$f":"'[2]Inventário Completo'!L294","v":"Alexandre Machado"},{"$f":"'[2]Inventário Completo'!M294","v":"(11) 4791-7971"},{"$f":"'[2]Inventário Completo'!N294","v":0},{"$f":"'[2]Inventário Completo'!O294","v":0},{"$f":"'[2]Inventário Completo'!P294","v":"Em uso"},{"$f":"'[2]Inventário Completo'!Q294","v":0}]
[{"$f":"'[2]Inventário Completo'!A295","v":"GCMC0026"},{"$f":"'[2]Inventário Completo'!B295","v":1126200500994},{"$f":"'[2]Inventário Completo'!C295","v":"Coletor"},{"$f":"'[2]Inventário Completo'!D295","v":"MC9090G"},{"$f":"'[2]Inventário Completo'!E295","v":"Motorola"},{"$f":"'[2]Inventário Completo'!F295","v":"COMPANHIA METALURGICA PRADA"},{"$f":"'[2]Inventário Completo'!G295","v":"PRADA - MOGI DAS CRUZES"},{"$f":"'[2]Inventário Completo'!H295","v":"SP"},{"$f":"'[2]Inventário Completo'!I295","v":"56.993.900/0028-51"},{"$f":"'[2]Inventário Completo'!J295","v":454346682110},{"$f":"'[2]Inventário Completo'!K295","v":"Av. Inal, 190 - Vila Industrial"},{"$f":"'[2]Inventário Completo'!L295","v":"Alexandre Machado"},{"$f":"'[2]Inventário Completo'!M295","v":"(11) 4791-7971"},{"$f":"'[2]Inventário Completo'!N295","v":0},{"$f":"'[2]Inventário Completo'!O295","v":0},{"$f":"'[2]Inventário Completo'!P295","v":"Em uso"},{"$f":"'[2]Inventário Completo'!Q295","v":0}]
[{"$f":"'[2]Inventário Completo'!A296","v":"GCMC0027"},{"$f":"'[2]Inventário Completo'!B296","v":1126200504503},{"$f":"'[2]Inventário Completo'!C296","v":"Coletor"},{"$f":"'[2]Inventário Completo'!D296","v":"MC9090G"},{"$f":"'[2]Inventário Completo'!E296","v":"Motorola"},{"$f":"'[2]Inventário Completo'!F296","v":"COMPANHIA METALURGICA PRADA"},{"$f":"'[2]Inventário Completo'!G296","v":"PRADA - MOGI DAS CRUZES"},{"$f":"'[2]Inventário Completo'!H296","v":"SP"},{"$f":"'[2]Inventário Completo'!I296","v":"56.993.900/0028-51"},{"$f":"'[2]Inventário Completo'!J296","v":454346682110},{"$f":"'[2]Inventário Completo'!K296","v":"Av. Inal, 190 - Vila Industrial"},{"$f":"'[2]Inventário Completo'!L296","v":"Alexandre Machado"},{"$f":"'[2]Inventário Completo'!M296","v":"(11) 4791-7971"},{"$f":"'[2]Inventário Completo'!N296","v":0},{"$f":"'[2]Inventário Completo'!O296","v":0},{"$f":"'[2]Inventário Completo'!P296","v":"Em uso"},{"$f":"'[2]Inventário Completo'!Q296","v":0}]
[{"$f":"'[2]Inventário Completo'!A297","v":"GCMC0028"},{"$f":"'[2]Inventário Completo'!B297","v":1126300503143},{"$f":"'[2]Inventário Completo'!C297","v":"Coletor"},{"$f":"'[2]Inventário Completo'!D297","v":"MC9090G"},{"$f":"'[2]Inventário Completo'!E297","v":"Motorola"},{"$f":"'[2]Inventário Completo'!F297","v":"COMPANHIA METALURGICA PRADA"},{"$f":"'[2]Inventário Completo'!G297","v":"PRADA - MOGI DAS CRUZES"},{"$f":"'[2]Inventário Completo'!H297","v":"SP"},{"$f":"'[2]Inventário Completo'!I297","v":"56.993.900/0028-51"},{"$f":"'[2]Inventário Completo'!J297","v":454346682110},{"$f":"'[2]Inventário Completo'!K297","v":"Av. Inal, 190 - Vila Industrial"},{"$f":"'[2]Inventário Completo'!L297","v":"Alexandre Machado"},{"$f":"'[2]Inventário Completo'!M297","v":"(11) 4791-7971"},{"$f":"'[2]Inventário Completo'!N297","v":0},{"$f":"'[2]Inventário Completo'!O297","v":0},{"$f":"'[2]Inventário Completo'!P297","v":"Em uso"},{"$f":"'[2]Inventário Completo'!Q297","v":0}]
[{"$f":"'[2]Inventário Completo'!A298","v":"GCMC0029"},{"$f":"'[2]Inventário Completo'!B298","v":1134800501333},{"$f":"'[2]Inventário Completo'!C298","v":"Coletor"},{"$f":"'[2]Inventário Completo'!D298","v":"MC9090G"},{"$f":"'[2]Inventário Completo'!E298","v":"Motorola"},{"$f":"'[2]Inventário Completo'!F298","v":"COMPANHIA METALURGICA PRADA"},{"$f":"'[2]Inventário Completo'!G298","v":"PRADA - MOGI DAS CRUZES"},{"$f":"'[2]Inventário Completo'!H298","v":"SP"},{"$f":"'[2]Inventário Completo'!I298","v":"56.993.900/0028-51"},{"$f":"'[2]Inventário Completo'!J298","v":454346682110},{"$f":"'[2]Inventário Completo'!K298","v":"Av. Inal, 190 - Vila Industrial"},{"$f":"'[2]Inventário Completo'!L298","v":"Alexandre Machado"},{"$f":"'[2]Inventário Completo'!M298","v":"(11) 4791-7971"},{"$f":"'[2]Inventário Completo'!N298","v":0},{"$f":"'[2]Inventário Completo'!O298","v":0},{"$f":"'[2]Inventário Completo'!P298","v":"Em uso"},{"$f":"'[2]Inventário Completo'!Q298","v":0}]
[{"$f":"'[2]Inventário Completo'!A299","v":"GCPR0025"},{"$f":"'[2]Inventário Completo'!B299","v":1707100500375},{"$f":"'[2]Inventário Completo'!C299","v":"Coletor"},{"$f":"'[2]Inventário Completo'!D299","v":"MC9200G"},{"$f":"'[2]Inventário Completo'!E299","v":"Motorola"},{"$f":"'[2]Inventário Completo'!F299","v":"COMPANHIA SIDERURGICA NACIONAL"},{"$f":"'[2]Inventário Completo'!G299","v":"CSN-GALVASUD"},{"$f":"'[2]Inventário Completo'!H299","v":"RJ"},{"$f":"'[2]Inventário Completo'!I299","v":" 33.042.730/0130-01"},{"$f":"'[2]Inventário Completo'!J299","v":"75566417 "},{"$f":"'[2]Inventário Completo'!K299","v":"Avenida Renato Monteiro 7777, Centro, Porto Real"},{"$f":"'[2]Inventário Completo'!L299","v":"Bernardo Passos"},{"$f":"'[2]Inventário Completo'!M299","v":"(24) 33443000"},{"$f":"'[2]Inventário Completo'!N299","v":0},{"$f":"'[2]Inventário Completo'!O299","v":0},{"$f":"'[2]Inventário Completo'!P299","v":"Em uso"},{"$f":"'[2]Inventário Completo'!Q299","v":0}]
[{"$f":"'[2]Inventário Completo'!A300","v":"GCPR0026"},{"$f":"'[2]Inventário Completo'!B300","v":1707100500365},{"$f":"'[2]Inventário Completo'!C300","v":"Coletor"},{"$f":"'[2]Inventário Completo'!D300","v":"MC9200G"},{"$f":"'[2]Inventário Completo'!E300","v":"Motorola"},{"$f":"'[2]Inventário Completo'!F300","v":"COMPANHIA SIDERURGICA NACIONAL"},{"$f":"'[2]Inventário Completo'!G300","v":"CSN-GALVASUD"},{"$f":"'[2]Inventário Completo'!H300","v":"RJ"},{"$f":"'[2]Inventário Completo'!I300","v":" 33.042.730/0130-01"},{"$f":"'[2]Inventário Completo'!J300","v":"75566417 "},{"$f":"'[2]Inventário Completo'!K300","v":"Avenida Renato Monteiro 7777, Centro, Porto Real"},{"$f":"'[2]Inventário Completo'!L300","v":"Bernardo Passos"},{"$f":"'[2]Inventário Completo'!M300","v":"(24) 33443000"},{"$f":"'[2]Inventário Completo'!N300","v":0},{"$f":"'[2]Inventário Completo'!O300","v":0},{"$f":"'[2]Inventário Completo'!P300","v":"Em uso"},{"$f":"'[2]Inventário Completo'!Q300","v":0}]
[{"$f":"'[2]Inventário Completo'!A301","v":"GCPR0027"},{"$f":"'[2]Inventário Completo'!B301","v":1706500503621},{"$f":"'[2]Inventário Completo'!C301","v":"Coletor"},{"$f":"'[2]Inventário Completo'!D301","v":"MC9200G"},{"$f":"'[2]Inventário Completo'!E301","v":"Motorola"},{"$f":"'[2]Inventário Completo'!F301","v":"COMPANHIA SIDERURGICA NACIONAL"},{"$f":"'[2]Inventário Completo'!G301","v":"CSN-GALVASUD"},{"$f":"'[2]Inventário Completo'!H301","v":"RJ"},{"$f":"'[2]Inventário Completo'!I301","v":" 33.042.730/0130-01"},{"$f":"'[2]Inventário Completo'!J301","v":"75566417 "},{"$f":"'[2]Inventário Completo'!K301","v":"Avenida Renato Monteiro 7777, Centro, Porto Real"},{"$f":"'[2]Inventário Completo'!L301","v":"Bernardo Passos"},{"$f":"'[2]Inventário Completo'!M301","v":"(24) 33443000"},{"$f":"'[2]Inventário Completo'!N301","v":0},{"$f":"'[2]Inventário Completo'!O301","v":0},{"$f":"'[2]Inventário Completo'!P301","v":"Em uso"},{"$f":"'[2]Inventário Completo'!Q301","v":0}]
[{"$f":"'[2]Inventário Completo'!A302","v":"GCPR0028"},{"$f":"'[2]Inventário Completo'!B302","v":1706500503664},{"$f":"'[2]Inventário Completo'!C302","v":"Coletor"},{"$f":"'[2]Inventário Completo'!D302","v":"MC9200G"},{"$f":"'[2]Inventário Completo'!E302","v":"Motorola"},{"$f":"'[2]Inventário Completo'!F302","v":"COMPANHIA SIDERURGICA NACIONAL"},{"$f":"'[2]Inventário Completo'!G302","v":"CSN-GALVASUD"},{"$f":"'[2]Inventário Completo'!H302","v":"RJ"},{"$f":"'[2]Inventário Completo'!I302","v":" 33.042.730/0130-01"},{"$f":"'[2]Inventário Completo'!J302","v":"75566417 "},{"$f":"'[2]Inventário Completo'!K302","v":"Avenida Renato Monteiro 7777, Centro, Porto Real"},{"$f":"'[2]Inventário Completo'!L302","v":"Bernardo Passos"},{"$f":"'[2]Inventário Completo'!M302","v":"(24) 33443000"},{"$f":"'[2]Inventário Completo'!N302","v":0},{"$f":"'[2]Inventário Completo'!O302","v":0},{"$f":"'[2]Inventário Completo'!P302","v":"Em uso"},{"$f":"'[2]Inventário Completo'!Q302","v":0}]
[{"$f":"'[2]Inventário Completo'!A303","v":"GCPR0029"},{"$f":"'[2]Inventário Completo'!B303","v":1706500503673},{"$f":"'[2]Inventário Completo'!C303","v":"Coletor"},{"$f":"'[2]Inventário Completo'!D303","v":"MC9200G"},{"$f":"'[2]Inventário Completo'!E303","v":"Motorola"},{"$f":"'[2]Inventário Completo'!F303","v":"COMPANHIA SIDERURGICA NACIONAL"},{"$f":"'[2]Inventário Completo'!G303","v":"CSN-GALVASUD"},{"$f":"'[2]Inventário Completo'!H303","v":"RJ"},{"$f":"'[2]Inventário Completo'!I303","v":" 33.042.730/0130-01"},{"$f":"'[2]Inventário Completo'!J303","v":"75566417 "},{"$f":"'[2]Inventário Completo'!K303","v":"Avenida Renato Monteiro 7777, Centro, Porto Real"},{"$f":"'[2]Inventário Completo'!L303","v":"Bernardo Passos"},{"$f":"'[2]Inventário Completo'!M303","v":"(24) 33443000"},{"$f":"'[2]Inventário Completo'!N303","v":0},{"$f":"'[2]Inventário Completo'!O303","v":0},{"$f":"'[2]Inventário Completo'!P303","v":"Em uso"},{"$f":"'[2]Inventário Completo'!Q303","v":0}]
[{"$f":"'[2]Inventário Completo'!A304","v":"GCSA0001"},{"$f":"'[2]Inventário Completo'!B304","v":15821543113},{"$f":"'[2]Inventário Completo'!C304","v":"Coletor"},{"$f":"'[2]Inventário Completo'!D304","v":"CK71"},{"$f":"'[2]Inventário Completo'!E304","v":"Honeywell"},{"$f":"'[2]Inventário Completo'!F304","v":"COMPANHIA METALURGICA PRADA"},{"$f":"'[2]Inventário Completo'!G304","v":"PRADA - SANTO AMARO"},{"$f":"'[2]Inventário Completo'!H304","v":"SP"},{"$f":"'[2]Inventário Completo'!I304","v":"56.993.900/0001-31"},{"$f":"'[2]Inventário Completo'!J304","v":105297962113},{"$f":"'[2]Inventário Completo'!K304","v":"Rua Eng Francisco Pita Brito, 138 Jd Promissão – Cep 04753-080 São Paulo - SP"},{"$f":"'[2]Inventário Completo'!L304","v":"Moisés Bispo"},{"$f":"'[2]Inventário Completo'!M304","v":"(11) 4932-1863"},{"$f":"'[2]Inventário Completo'!N304","v":0},{"$f":"'[2]Inventário Completo'!O304","v":0},{"$f":"'[2]Inventário Completo'!P304","v":"Em uso"},{"$f":"'[2]Inventário Completo'!Q304","v":0}]
[{"$f":"'[2]Inventário Completo'!A305","v":"GCSA0002"},{"$f":"'[2]Inventário Completo'!B305","v":15821543114},{"$f":"'[2]Inventário Completo'!C305","v":"Coletor"},{"$f":"'[2]Inventário Completo'!D305","v":"CK71"},{"$f":"'[2]Inventário Completo'!E305","v":"Honeywell"},{"$f":"'[2]Inventário Completo'!F305","v":"COMPANHIA METALURGICA PRADA"},{"$f":"'[2]Inventário Completo'!G305","v":"PRADA - SANTO AMARO"},{"$f":"'[2]Inventário Completo'!H305","v":"SP"},{"$f":"'[2]Inventário Completo'!I305","v":"56.993.900/0001-31"},{"$f":"'[2]Inventário Completo'!J305","v":105297962113},{"$f":"'[2]Inventário Completo'!K305","v":"Rua Eng Francisco Pita Brito, 138 Jd Promissão – Cep 04753-080 São Paulo - SP"},{"$f":"'[2]Inventário Completo'!L305","v":"Moisés Bispo"},{"$f":"'[2]Inventário Completo'!M305","v":"(11) 4932-1863"},{"$f":"'[2]Inventário Completo'!N305","v":0},{"$f":"'[2]Inventário Completo'!O305","v":0},{"$f":"'[2]Inventário Completo'!P305","v":"Em uso"},{"$f":"'[2]Inventário Completo'!Q305","v":0}]
[{"$f":"'[2]Inventário Completo'!A306","v":"GCSA0003"},{"$f":"'[2]Inventário Completo'!B306","v":15821543122},{"$f":"'[2]Inventário Completo'!C306","v":"Coletor"},{"$f":"'[2]Inventário Completo'!D306","v":"CK71"},{"$f":"'[2]Inventário Completo'!E306","v":"Honeywell"},{"$f":"'[2]Inventário Completo'!F306","v":"COMPANHIA METALURGICA PRADA"},{"$f":"'[2]Inventário Completo'!G306","v":"PRADA - SANTO AMARO"},{"$f":"'[2]Inventário Completo'!H306","v":"SP"},{"$f":"'[2]Inventário Completo'!I306","v":"56.993.900/0001-31"},{"$f":"'[2]Inventário Completo'!J306","v":105297962113},{"$f":"'[2]Inventário Completo'!K306","v":"Rua Eng Francisco Pita Brito, 138 Jd Promissão – Cep 04753-080 São Paulo - SP"},{"$f":"'[2]Inventário Completo'!L306","v":"Moisés Bispo"},{"$f":"'[2]Inventário Completo'!M306","v":"(11) 4932-1863"},{"$f":"'[2]Inventário Completo'!N306","v":0},{"$f":"'[2]Inventário Completo'!O306","v":0},{"$f":"'[2]Inventário Completo'!P306","v":"Em uso"},{"$f":"'[2]Inventário Completo'!Q306","v":0}]
[{"$f":"'[2]Inventário Completo'!A307","v":"GCSA0004"},{"$f":"'[2]Inventário Completo'!B307","v":15821543141},{"$f":"'[2]Inventário Completo'!C307","v":"Coletor"},{"$f":"'[2]Inventário Completo'!D307","v":"CK71"},{"$f":"'[2]Inventário Completo'!E307","v":"Honeywell"},{"$f":"'[2]Inventário Completo'!F307","v":"COMPANHIA METALURGICA PRADA"},{"$f":"'[2]Inventário Completo'!G307","v":"PRADA - SANTO AMARO"},{"$f":"'[2]Inventário Completo'!H307","v":"SP"},{"$f":"'[2]Inventário Completo'!I307","v":"56.993.900/0001-31"},{"$f":"'[2]Inventário Completo'!J307","v":105297962113},{"$f":"'[2]Inventário Completo'!K307","v":"Rua Eng Francisco Pita Brito, 138 Jd Promissão – Cep 04753-080 São Paulo - SP"},{"$f":"'[2]Inventário Completo'!L307","v":"Moisés Bispo"},{"$f":"'[2]Inventário Completo'!M307","v":"(11) 4932-1863"},{"$f":"'[2]Inventário Completo'!N307","v":0},{"$f":"'[2]Inventário Completo'!O307","v":0},{"$f":"'[2]Inventário Completo'!P307","v":"Em uso"},{"$f":"'[2]Inventário Completo'!Q307","v":0}]
[{"$f":"'[2]Inventário Completo'!A308","v":"GCSA0005"},{"$f":"'[2]Inventário Completo'!B308","v":15821543144},{"$f":"'[2]Inventário Completo'!C308","v":"Coletor"},{"$f":"'[2]Inventário Completo'!D308","v":"CK71"},{"$f":"'[2]Inventário Completo'!E308","v":"Honeywell"},{"$f":"'[2]Inventário Completo'!F308","v":"COMPANHIA METALURGICA PRADA"},{"$f":"'[2]Inventário Completo'!G308","v":"PRADA - SANTO AMARO"},{"$f":"'[2]Inventário Completo'!H308","v":"SP"},{"$f":"'[2]Inventário Completo'!I308","v":"56.993.900/0001-31"},{"$f":"'[2]Inventário Completo'!J308","v":105297962113},{"$f":"'[2]Inventário Completo'!K308","v":"Rua Eng Francisco Pita Brito, 138 Jd Promissão – Cep 04753-080 São Paulo - SP"},{"$f":"'[2]Inventário Completo'!L308","v":"Moisés Bispo"},{"$f":"'[2]Inventário Completo'!M308","v":"(11) 4932-1863"},{"$f":"'[2]Inventário Completo'!N308","v":0},{"$f":"'[2]Inventário Completo'!O308","v":0},{"$f":"'[2]Inventário Completo'!P308","v":"Em uso"},{"$f":"'[2]Inventário Completo'!Q308","v":0}]
[{"$f":"'[2]Inventário Completo'!A309","v":"GCSA0006"},{"$f":"'[2]Inventário Completo'!B309","v":15821543178},{"$f":"'[2]Inventário Completo'!C309","v":"Coletor"},{"$f":"'[2]Inventário Completo'!D309","v":"CK71"},{"$f":"'[2]Inventário Completo'!E309","v":"Honeywell"},{"$f":"'[2]Inventário Completo'!F309","v":"COMPANHIA METALURGICA PRADA"},{"$f":"'[2]Inventário Completo'!G309","v":"PRADA - SANTO AMARO"},{"$f":"'[2]Inventário Completo'!H309","v":"SP"},{"$f":"'[2]Inventário Completo'!I309","v":"56.993.900/0001-31"},{"$f":"'[2]Inventário Completo'!J309","v":105297962113},{"$f":"'[2]Inventário Completo'!K309","v":"Rua Eng Francisco Pita Brito, 138 Jd Promissão – Cep 04753-080 São Paulo - SP"},{"$f":"'[2]Inventário Completo'!L309","v":"Moisés Bispo"},{"$f":"'[2]Inventário Completo'!M309","v":"(11) 4932-1863"},{"$f":"'[2]Inventário Completo'!N309","v":0},{"$f":"'[2]Inventário Completo'!O309","v":0},{"$f":"'[2]Inventário Completo'!P309","v":"Em uso"},{"$f":"'[2]Inventário Completo'!Q309","v":0}]
[{"$f":"'[2]Inventário Completo'!A310","v":"GCSA0007"},{"$f":"'[2]Inventário Completo'!B310","v":32012543589},{"$f":"'[2]Inventário Completo'!C310","v":"Coletor"},{"$f":"'[2]Inventário Completo'!D310","v":"CK71"},{"$f":"'[2]Inventário Completo'!E310","v":"Honeywell"},{"$f":"'[2]Inventário Completo'!F310","v":"COMPANHIA METALURGICA PRADA"},{"$f":"'[2]Inventário Completo'!G310","v":"PRADA - SANTO AMARO"},{"$f":"'[2]Inventário Completo'!H310","v":"SP"},{"$f":"'[2]Inventário Completo'!I310","v":"56.993.900/0001-31"},{"$f":"'[2]Inventário Completo'!J310","v":105297962113},{"$f":"'[2]Inventário Completo'!K310","v":"Rua Eng Francisco Pita Brito, 138 Jd Promissão – Cep 04753-080 São Paulo - SP"},{"$f":"'[2]Inventário Completo'!L310","v":"Moisés Bispo"},{"$f":"'[2]Inventário Completo'!M310","v":"(11) 4932-1863"},{"$f":"'[2]Inventário Completo'!N310","v":0},{"$f":"'[2]Inventário Completo'!O310","v":0},{"$f":"'[2]Inventário Completo'!P310","v":"Em uso"},{"$f":"'[2]Inventário Completo'!Q310","v":0}]
[{"$f":"'[2]Inventário Completo'!A311","v":"GCSA0008"},{"$f":"'[2]Inventário Completo'!B311","v":34521543044},{"$f":"'[2]Inventário Completo'!C311","v":"Coletor"},{"$f":"'[2]Inventário Completo'!D311","v":"CK71"},{"$f":"'[2]Inventário Completo'!E311","v":"Honeywell"},{"$f":"'[2]Inventário Completo'!F311","v":"COMPANHIA METALURGICA PRADA"},{"$f":"'[2]Inventário Completo'!G311","v":"PRADA - SANTO AMARO"},{"$f":"'[2]Inventário Completo'!H311","v":"SP"},{"$f":"'[2]Inventário Completo'!I311","v":"56.993.900/0001-31"},{"$f":"'[2]Inventário Completo'!J311","v":105297962113},{"$f":"'[2]Inventário Completo'!K311","v":"Rua Eng Francisco Pita Brito, 138 Jd Promissão – Cep 04753-080 São Paulo - SP"},{"$f":"'[2]Inventário Completo'!L311","v":"Moisés Bispo"},{"$f":"'[2]Inventário Completo'!M311","v":"(11) 4932-1863"},{"$f":"'[2]Inventário Completo'!N311","v":0},{"$f":"'[2]Inventário Completo'!O311","v":0},{"$f":"'[2]Inventário Completo'!P311","v":"Em uso"},{"$f":"'[2]Inventário Completo'!Q311","v":0}]
[{"$f":"'[2]Inventário Completo'!A312","v":"GCSA0009"},{"$f":"'[2]Inventário Completo'!B312","v":34521543090},{"$f":"'[2]Inventário Completo'!C312","v":"Coletor"},{"$f":"'[2]Inventário Completo'!D312","v":"CK71"},{"$f":"'[2]Inventário Completo'!E312","v":"Honeywell"},{"$f":"'[2]Inventário Completo'!F312","v":"COMPANHIA METALURGICA PRADA"},{"$f":"'[2]Inventário Completo'!G312","v":"PRADA - SANTO AMARO"},{"$f":"'[2]Inventário Completo'!H312","v":"SP"},{"$f":"'[2]Inventário Completo'!I312","v":"56.993.900/0001-31"},{"$f":"'[2]Inventário Completo'!J312","v":105297962113},{"$f":"'[2]Inventário Completo'!K312","v":"Rua Eng Francisco Pita Brito, 138 Jd Promissão – Cep 04753-080 São Paulo - SP"},{"$f":"'[2]Inventário Completo'!L312","v":"Moisés Bispo"},{"$f":"'[2]Inventário Completo'!M312","v":"(11) 4932-1863"},{"$f":"'[2]Inventário Completo'!N312","v":0},{"$f":"'[2]Inventário Completo'!O312","v":0},{"$f":"'[2]Inventário Completo'!P312","v":"Em uso"},{"$f":"'[2]Inventário Completo'!Q312","v":0}]
[{"$f":"'[2]Inventário Completo'!A313","v":"GCSA0010"},{"$f":"'[2]Inventário Completo'!B313","v":34521543239},{"$f":"'[2]Inventário Completo'!C313","v":"Coletor"},{"$f":"'[2]Inventário Completo'!D313","v":"CK71"},{"$f":"'[2]Inventário Completo'!E313","v":"Honeywell"},{"$f":"'[2]Inventário Completo'!F313","v":"COMPANHIA METALURGICA PRADA"},{"$f":"'[2]Inventário Completo'!G313","v":"PRADA - SANTO AMARO"},{"$f":"'[2]Inventário Completo'!H313","v":"SP"},{"$f":"'[2]Inventário Completo'!I313","v":"56.993.900/0001-31"},{"$f":"'[2]Inventário Completo'!J313","v":105297962113},{"$f":"'[2]Inventário Completo'!K313","v":"Rua Eng Francisco Pita Brito, 138 Jd Promissão – Cep 04753-080 São Paulo - SP"},{"$f":"'[2]Inventário Completo'!L313","v":"Moisés Bispo"},{"$f":"'[2]Inventário Completo'!M313","v":"(11) 4932-1863"},{"$f":"'[2]Inventário Completo'!N313","v":0},{"$f":"'[2]Inventário Completo'!O313","v":0},{"$f":"'[2]Inventário Completo'!P313","v":"Em uso"},{"$f":"'[2]Inventário Completo'!Q313","v":0}]
[{"$f":"'[2]Inventário Completo'!A314","v":"GCVR0009"},{"$f":"'[2]Inventário Completo'!B314","v":35321443016},{"$f":"'[2]Inventário Completo'!C314","v":"Coletor"},{"$f":"'[2]Inventário Completo'!D314","v":"CK71"},{"$f":"'[2]Inventário Completo'!E314","v":"Honeywell"},{"$f":"'[2]Inventário Completo'!F314","v":"COMPANHIA SIDERURGICA NACIONAL"},{"$f":"'[2]Inventário Completo'!G314","v":"CSN-VOLTA REDONDA"},{"$f":"'[2]Inventário Completo'!H314","v":"RJ"},{"$f":"'[2]Inventário Completo'!I314","v":"33.042.730/0017-71"},{"$f":"'[2]Inventário Completo'!J314","v":80541767},{"$f":"'[2]Inventário Completo'!K314","v":"Rodovia BR 393, Lúcio Meira KM 5001, SN°, Vila Santa Cecília, Volta Redonda"},{"$f":"'[2]Inventário Completo'!L314","v":"Luiz Cesar"},{"$f":"'[2]Inventário Completo'!M314","v":3105},{"$f":"'[2]Inventário Completo'!N314","v":0},{"$f":"'[2]Inventário Completo'!O314","v":0},{"$f":"'[2]Inventário Completo'!P314","v":"Em uso"},{"$f":"'[2]Inventário Completo'!Q314","v":0}]
[{"$f":"'[2]Inventário Completo'!A315","v":"GCVR0010"},{"$f":"'[2]Inventário Completo'!B315","v":5246000500537},{"$f":"'[2]Inventário Completo'!C315","v":"Coletor"},{"$f":"'[2]Inventário Completo'!D315","v":"MC9090G"},{"$f":"'[2]Inventário Completo'!E315","v":"Motorola"},{"$f":"'[2]Inventário Completo'!F315","v":"COMPANHIA SIDERURGICA NACIONAL"},{"$f":"'[2]Inventário Completo'!G315","v":"CSN-VOLTA REDONDA"},{"$f":"'[2]Inventário Completo'!H315","v":"RJ"},{"$f":"'[2]Inventário Completo'!I315","v":"33.042.730/0017-71"},{"$f":"'[2]Inventário Completo'!J315","v":80541767},{"$f":"'[2]Inventário Completo'!K315","v":"Rodovia BR 393, Lúcio Meira KM 5001, SN°, Vila Santa Cecília, Volta Redonda"},{"$f":"'[2]Inventário Completo'!L315","v":"Luiz Cesar"},{"$f":"'[2]Inventário Completo'!M315","v":3105},{"$f":"'[2]Inventário Completo'!N315","v":0},{"$f":"'[2]Inventário Completo'!O315","v":0},{"$f":"'[2]Inventário Completo'!P315","v":"Em uso"},{"$f":"'[2]Inventário Completo'!Q315","v":0}]
[{"$f":"'[2]Inventário Completo'!A316","v":"GCVR0011"},{"$f":"'[2]Inventário Completo'!B316","v":5246000500538},{"$f":"'[2]Inventário Completo'!C316","v":"Coletor"},{"$f":"'[2]Inventário Completo'!D316","v":"MC9060G"},{"$f":"'[2]Inventário Completo'!E316","v":"Symbol"},{"$f":"'[2]Inventário Completo'!F316","v":"COMPANHIA SIDERURGICA NACIONAL"},{"$f":"'[2]Inventário Completo'!G316","v":"CSN-VOLTA REDONDA"},{"$f":"'[2]Inventário Completo'!H316","v":"RJ"},{"$f":"'[2]Inventário Completo'!I316","v":"33.042.730/0017-71"},{"$f":"'[2]Inventário Completo'!J316","v":80541767},{"$f":"'[2]Inventário Completo'!K316","v":"Rodovia BR 393, Lúcio Meira KM 5001, SN°, Vila Santa Cecília, Volta Redonda"},{"$f":"'[2]Inventário Completo'!L316","v":"Luiz Cesar"},{"$f":"'[2]Inventário Completo'!M316","v":3105},{"$f":"'[2]Inventário Completo'!N316","v":0},{"$f":"'[2]Inventário Completo'!O316","v":0},{"$f":"'[2]Inventário Completo'!P316","v":"Em uso"},{"$f":"'[2]Inventário Completo'!Q316","v":0}]
[{"$f":"'[2]Inventário Completo'!A317","v":"GCVR0012"},{"$f":"'[2]Inventário Completo'!B317","v":1027800509789},{"$f":"'[2]Inventário Completo'!C317","v":"Coletor"},{"$f":"'[2]Inventário Completo'!D317","v":"MC9060G"},{"$f":"'[2]Inventário Completo'!E317","v":"Symbol"},{"$f":"'[2]Inventário Completo'!F317","v":"COMPANHIA SIDERURGICA NACIONAL"},{"$f":"'[2]Inventário Completo'!G317","v":"CSN-VOLTA REDONDA"},{"$f":"'[2]Inventário Completo'!H317","v":"RJ"},{"$f":"'[2]Inventário Completo'!I317","v":"33.042.730/0017-71"},{"$f":"'[2]Inventário Completo'!J317","v":80541767},{"$f":"'[2]Inventário Completo'!K317","v":"Rodovia BR 393, Lúcio Meira KM 5001, SN°, Vila Santa Cecília, Volta Redonda"},{"$f":"'[2]Inventário Completo'!L317","v":"Luiz Cesar"},{"$f":"'[2]Inventário Completo'!M317","v":3105},{"$f":"'[2]Inventário Completo'!N317","v":0},{"$f":"'[2]Inventário Completo'!O317","v":0},{"$f":"'[2]Inventário Completo'!P317","v":"Em uso"},{"$f":"'[2]Inventário Completo'!Q317","v":0}]
[{"$f":"'[2]Inventário Completo'!A318","v":"GCVR0013"},{"$f":"'[2]Inventário Completo'!B318","v":5246000500671},{"$f":"'[2]Inventário Completo'!C318","v":"Coletor"},{"$f":"'[2]Inventário Completo'!D318","v":"MC9060G"},{"$f":"'[2]Inventário Completo'!E318","v":"Symbol"},{"$f":"'[2]Inventário Completo'!F318","v":"COMPANHIA SIDERURGICA NACIONAL"},{"$f":"'[2]Inventário Completo'!G318","v":"CSN-VOLTA REDONDA"},{"$f":"'[2]Inventário Completo'!H318","v":"RJ"},{"$f":"'[2]Inventário Completo'!I318","v":"33.042.730/0017-71"},{"$f":"'[2]Inventário Completo'!J318","v":80541767},{"$f":"'[2]Inventário Completo'!K318","v":"Rodovia BR 393, Lúcio Meira KM 5001, SN°, Vila Santa Cecília, Volta Redonda"},{"$f":"'[2]Inventário Completo'!L318","v":"Luiz Cesar"},{"$f":"'[2]Inventário Completo'!M318","v":3105},{"$f":"'[2]Inventário Completo'!N318","v":0},{"$f":"'[2]Inventário Completo'!O318","v":0},{"$f":"'[2]Inventário Completo'!P318","v":"Em uso"},{"$f":"'[2]Inventário Completo'!Q318","v":0}]
[{"$f":"'[2]Inventário Completo'!A319","v":"GCVR0014"},{"$f":"'[2]Inventário Completo'!B319","v":5247000500664},{"$f":"'[2]Inventário Completo'!C319","v":"Coletor"},{"$f":"'[2]Inventário Completo'!D319","v":"MC9060G"},{"$f":"'[2]Inventário Completo'!E319","v":"Symbol"},{"$f":"'[2]Inventário Completo'!F319","v":"COMPANHIA SIDERURGICA NACIONAL"},{"$f":"'[2]Inventário Completo'!G319","v":"CSN-VOLTA REDONDA"},{"$f":"'[2]Inventário Completo'!H319","v":"RJ"},{"$f":"'[2]Inventário Completo'!I319","v":"33.042.730/0017-71"},{"$f":"'[2]Inventário Completo'!J319","v":80541767},{"$f":"'[2]Inventário Completo'!K319","v":"Rodovia BR 393, Lúcio Meira KM 5001, SN°, Vila Santa Cecília, Volta Redonda"},{"$f":"'[2]Inventário Completo'!L319","v":"Luiz Cesar"},{"$f":"'[2]Inventário Completo'!M319","v":3105},{"$f":"'[2]Inventário Completo'!N319","v":0},{"$f":"'[2]Inventário Completo'!O319","v":0},{"$f":"'[2]Inventário Completo'!P319","v":"Em uso"},{"$f":"'[2]Inventário Completo'!Q319","v":0}]
[{"$f":"'[2]Inventário Completo'!A320","v":"GCVR0015"},{"$f":"'[2]Inventário Completo'!B320","v":5247000501637},{"$f":"'[2]Inventário Completo'!C320","v":"Coletor"},{"$f":"'[2]Inventário Completo'!D320","v":"MC9060G"},{"$f":"'[2]Inventário Completo'!E320","v":"Symbol"},{"$f":"'[2]Inventário Completo'!F320","v":"COMPANHIA SIDERURGICA NACIONAL"},{"$f":"'[2]Inventário Completo'!G320","v":"CSN-VOLTA REDONDA"},{"$f":"'[2]Inventário Completo'!H320","v":"RJ"},{"$f":"'[2]Inventário Completo'!I320","v":"33.042.730/0017-71"},{"$f":"'[2]Inventário Completo'!J320","v":80541767},{"$f":"'[2]Inventário Completo'!K320","v":"Rodovia BR 393, Lúcio Meira KM 5001, SN°, Vila Santa Cecília, Volta Redonda"},{"$f":"'[2]Inventário Completo'!L320","v":"Luiz Cesar"},{"$f":"'[2]Inventário Completo'!M320","v":3105},{"$f":"'[2]Inventário Completo'!N320","v":0},{"$f":"'[2]Inventário Completo'!O320","v":0},{"$f":"'[2]Inventário Completo'!P320","v":"Em uso"},{"$f":"'[2]Inventário Completo'!Q320","v":0}]
[{"$f":"'[2]Inventário Completo'!A321","v":"GCVR0016"},{"$f":"'[2]Inventário Completo'!B321","v":5247000501648},{"$f":"'[2]Inventário Completo'!C321","v":"Coletor"},{"$f":"'[2]Inventário Completo'!D321","v":"MC9060G"},{"$f":"'[2]Inventário Completo'!E321","v":"Symbol"},{"$f":"'[2]Inventário Completo'!F321","v":"COMPANHIA SIDERURGICA NACIONAL"},{"$f":"'[2]Inventário Completo'!G321","v":"CSN-VOLTA REDONDA"},{"$f":"'[2]Inventário Completo'!H321","v":"RJ"},{"$f":"'[2]Inventário Completo'!I321","v":"33.042.730/0017-71"},{"$f":"'[2]Inventário Completo'!J321","v":80541767},{"$f":"'[2]Inventário Completo'!K321","v":"Rodovia BR 393, Lúcio Meira KM 5001, SN°, Vila Santa Cecília, Volta Redonda"},{"$f":"'[2]Inventário Completo'!L321","v":"Luiz Cesar"},{"$f":"'[2]Inventário Completo'!M321","v":3105},{"$f":"'[2]Inventário Completo'!N321","v":0},{"$f":"'[2]Inventário Completo'!O321","v":0},{"$f":"'[2]Inventário Completo'!P321","v":"Parada"},{"$f":"'[2]Inventário Completo'!Q321","v":"Em orçamento (OC: 300-120173)"}]
[{"$f":"'[2]Inventário Completo'!A322","v":"GCVR0017"},{"$f":"'[2]Inventário Completo'!B322","v":5247000501649},{"$f":"'[2]Inventário Completo'!C322","v":"Coletor"},{"$f":"'[2]Inventário Completo'!D322","v":"MC9060G"},{"$f":"'[2]Inventário Completo'!E322","v":"Symbol"},{"$f":"'[2]Inventário Completo'!F322","v":"COMPANHIA SIDERURGICA NACIONAL"},{"$f":"'[2]Inventário Completo'!G322","v":"CSN-VOLTA REDONDA"},{"$f":"'[2]Inventário Completo'!H322","v":"RJ"},{"$f":"'[2]Inventário Completo'!I322","v":"33.042.730/0017-71"},{"$f":"'[2]Inventário Completo'!J322","v":80541767},{"$f":"'[2]Inventário Completo'!K322","v":"Rodovia BR 393, Lúcio Meira KM 5001, SN°, Vila Santa Cecília, Volta Redonda"},{"$f":"'[2]Inventário Completo'!L322","v":"Luiz Cesar"},{"$f":"'[2]Inventário Completo'!M322","v":3105},{"$f":"'[2]Inventário Completo'!N322","v":0},{"$f":"'[2]Inventário Completo'!O322","v":0},{"$f":"'[2]Inventário Completo'!P322","v":"Parada"},{"$f":"'[2]Inventário Completo'!Q322","v":"Em orçamento (OC: 300-189022)"}]
[{"$f":"'[2]Inventário Completo'!A323","v":"GCVR0018"},{"$f":"'[2]Inventário Completo'!B323","v":5247000501688},{"$f":"'[2]Inventário Completo'!C323","v":"Coletor"},{"$f":"'[2]Inventário Completo'!D323","v":"MC9060G"},{"$f":"'[2]Inventário Completo'!E323","v":"Symbol"},{"$f":"'[2]Inventário Completo'!F323","v":"COMPANHIA SIDERURGICA NACIONAL"},{"$f":"'[2]Inventário Completo'!G323","v":"CSN-VOLTA REDONDA"},{"$f":"'[2]Inventário Completo'!H323","v":"RJ"},{"$f":"'[2]Inventário Completo'!I323","v":"33.042.730/0017-71"},{"$f":"'[2]Inventário Completo'!J323","v":80541767},{"$f":"'[2]Inventário Completo'!K323","v":"Rodovia BR 393, Lúcio Meira KM 5001, SN°, Vila Santa Cecília, Volta Redonda"},{"$f":"'[2]Inventário Completo'!L323","v":"Luiz Cesar"},{"$f":"'[2]Inventário Completo'!M323","v":3105},{"$f":"'[2]Inventário Completo'!N323","v":0},{"$f":"'[2]Inventário Completo'!O323","v":0},{"$f":"'[2]Inventário Completo'!P323","v":"Em uso"},{"$f":"'[2]Inventário Completo'!Q323","v":0}]
[{"$f":"'[2]Inventário Completo'!A324","v":"GCVR0019"},{"$f":"'[2]Inventário Completo'!B324","v":5247000501690},{"$f":"'[2]Inventário Completo'!C324","v":"Coletor"},{"$f":"'[2]Inventário Completo'!D324","v":"MC9060G"},{"$f":"'[2]Inventário Completo'!E324","v":"Symbol"},{"$f":"'[2]Inventário Completo'!F324","v":"COMPANHIA SIDERURGICA NACIONAL"},{"$f":"'[2]Inventário Completo'!G324","v":"CSN-VOLTA REDONDA"},{"$f":"'[2]Inventário Completo'!H324","v":"RJ"},{"$f":"'[2]Inventário Completo'!I324","v":"33.042.730/0017-71"},{"$f":"'[2]Inventário Completo'!J324","v":80541767},{"$f":"'[2]Inventário Completo'!K324","v":"Rodovia BR 393, Lúcio Meira KM 5001, SN°, Vila Santa Cecília, Volta Redonda"},{"$f":"'[2]Inventário Completo'!L324","v":"Luiz Cesar"},{"$f":"'[2]Inventário Completo'!M324","v":3105},{"$f":"'[2]Inventário Completo'!N324","v":0},{"$f":"'[2]Inventário Completo'!O324","v":0},{"$f":"'[2]Inventário Completo'!P324","v":"Em uso"},{"$f":"'[2]Inventário Completo'!Q324","v":0}]
[{"$f":"'[2]Inventário Completo'!A325","v":"GCVR0020"},{"$f":"'[2]Inventário Completo'!B325","v":5247000501691},{"$f":"'[2]Inventário Completo'!C325","v":"Coletor"},{"$f":"'[2]Inventário Completo'!D325","v":"MC9060G"},{"$f":"'[2]Inventário Completo'!E325","v":"Symbol"},{"$f":"'[2]Inventário Completo'!F325","v":"COMPANHIA SIDERURGICA NACIONAL"},{"$f":"'[2]Inventário Completo'!G325","v":"CSN-VOLTA REDONDA"},{"$f":"'[2]Inventário Completo'!H325","v":"RJ"},{"$f":"'[2]Inventário Completo'!I325","v":"33.042.730/0017-71"},{"$f":"'[2]Inventário Completo'!J325","v":80541767},{"$f":"'[2]Inventário Completo'!K325","v":"Rodovia BR 393, Lúcio Meira KM 5001, SN°, Vila Santa Cecília, Volta Redonda"},{"$f":"'[2]Inventário Completo'!L325","v":"Luiz Cesar"},{"$f":"'[2]Inventário Completo'!M325","v":3105},{"$f":"'[2]Inventário Completo'!N325","v":0},{"$f":"'[2]Inventário Completo'!O325","v":0},{"$f":"'[2]Inventário Completo'!P325","v":"Parada"},{"$f":"'[2]Inventário Completo'!Q325","v":"Em Orçamento (OC: 34806641)"}]
[{"$f":"'[2]Inventário Completo'!A326","v":"GCVR0021"},{"$f":"'[2]Inventário Completo'!B326","v":5247000501694},{"$f":"'[2]Inventário Completo'!C326","v":"Coletor"},{"$f":"'[2]Inventário Completo'!D326","v":"MC9060G"},{"$f":"'[2]Inventário Completo'!E326","v":"Symbol"},{"$f":"'[2]Inventário Completo'!F326","v":"COMPANHIA SIDERURGICA NACIONAL"},{"$f":"'[2]Inventário Completo'!G326","v":"CSN-VOLTA REDONDA"},{"$f":"'[2]Inventário Completo'!H326","v":"RJ"},{"$f":"'[2]Inventário Completo'!I326","v":"33.042.730/0017-71"},{"$f":"'[2]Inventário Completo'!J326","v":80541767},{"$f":"'[2]Inventário Completo'!K326","v":"Rodovia BR 393, Lúcio Meira KM 5001, SN°, Vila Santa Cecília, Volta Redonda"},{"$f":"'[2]Inventário Completo'!L326","v":"Luiz Cesar"},{"$f":"'[2]Inventário Completo'!M326","v":3105},{"$f":"'[2]Inventário Completo'!N326","v":0},{"$f":"'[2]Inventário Completo'!O326","v":0},{"$f":"'[2]Inventário Completo'!P326","v":"Em uso"},{"$f":"'[2]Inventário Completo'!Q326","v":0}]
[{"$f":"'[2]Inventário Completo'!A327","v":"GCVR0022"},{"$f":"'[2]Inventário Completo'!B327","v":5247000501695},{"$f":"'[2]Inventário Completo'!C327","v":"Coletor"},{"$f":"'[2]Inventário Completo'!D327","v":"MC9060G"},{"$f":"'[2]Inventário Completo'!E327","v":"Symbol"},{"$f":"'[2]Inventário Completo'!F327","v":"COMPANHIA SIDERURGICA NACIONAL"},{"$f":"'[2]Inventário Completo'!G327","v":"CSN-VOLTA REDONDA"},{"$f":"'[2]Inventário Completo'!H327","v":"RJ"},{"$f":"'[2]Inventário Completo'!I327","v":"33.042.730/0017-71"},{"$f":"'[2]Inventário Completo'!J327","v":80541767},{"$f":"'[2]Inventário Completo'!K327","v":"Rodovia BR 393, Lúcio Meira KM 5001, SN°, Vila Santa Cecília, Volta Redonda"},{"$f":"'[2]Inventário Completo'!L327","v":"Luiz Cesar"},{"$f":"'[2]Inventário Completo'!M327","v":3105},{"$f":"'[2]Inventário Completo'!N327","v":0},{"$f":"'[2]Inventário Completo'!O327","v":0},{"$f":"'[2]Inventário Completo'!P327","v":"Em uso"},{"$f":"'[2]Inventário Completo'!Q327","v":0}]
[{"$f":"'[2]Inventário Completo'!A328","v":"GCVR0024"},{"$f":"'[2]Inventário Completo'!B328","v":5248000500013},{"$f":"'[2]Inventário Completo'!C328","v":"Coletor"},{"$f":"'[2]Inventário Completo'!D328","v":"MC9060G"},{"$f":"'[2]Inventário Completo'!E328","v":"Symbol"},{"$f":"'[2]Inventário Completo'!F328","v":"COMPANHIA SIDERURGICA NACIONAL"},{"$f":"'[2]Inventário Completo'!G328","v":"CSN-VOLTA REDONDA"},{"$f":"'[2]Inventário Completo'!H328","v":"RJ"},{"$f":"'[2]Inventário Completo'!I328","v":"33.042.730/0017-71"},{"$f":"'[2]Inventário Completo'!J328","v":80541767},{"$f":"'[2]Inventário Completo'!K328","v":"Rodovia BR 393, Lúcio Meira KM 5001, SN°, Vila Santa Cecília, Volta Redonda"},{"$f":"'[2]Inventário Completo'!L328","v":"Luiz Cesar"},{"$f":"'[2]Inventário Completo'!M328","v":3105},{"$f":"'[2]Inventário Completo'!N328","v":0},{"$f":"'[2]Inventário Completo'!O328","v":0},{"$f":"'[2]Inventário Completo'!P328","v":"Em uso"},{"$f":"'[2]Inventário Completo'!Q328","v":0}]
[{"$f":"'[2]Inventário Completo'!A329","v":"GCVR0026"},{"$f":"'[2]Inventário Completo'!B329","v":5248000500272},{"$f":"'[2]Inventário Completo'!C329","v":"Coletor"},{"$f":"'[2]Inventário Completo'!D329","v":"MC9060G"},{"$f":"'[2]Inventário Completo'!E329","v":"Symbol"},{"$f":"'[2]Inventário Completo'!F329","v":"COMPANHIA SIDERURGICA NACIONAL"},{"$f":"'[2]Inventário Completo'!G329","v":"CSN-VOLTA REDONDA"},{"$f":"'[2]Inventário Completo'!H329","v":"RJ"},{"$f":"'[2]Inventário Completo'!I329","v":"33.042.730/0017-71"},{"$f":"'[2]Inventário Completo'!J329","v":80541767},{"$f":"'[2]Inventário Completo'!K329","v":"Rodovia BR 393, Lúcio Meira KM 5001, SN°, Vila Santa Cecília, Volta Redonda"},{"$f":"'[2]Inventário Completo'!L329","v":"Luiz Cesar"},{"$f":"'[2]Inventário Completo'!M329","v":3105},{"$f":"'[2]Inventário Completo'!N329","v":0},{"$f":"'[2]Inventário Completo'!O329","v":0},{"$f":"'[2]Inventário Completo'!P329","v":"Parada"},{"$f":"'[2]Inventário Completo'!Q329","v":"Em orçamento (OC: 300-20429)"}]
[{"$f":"'[2]Inventário Completo'!A330","v":"GCVR0027"},{"$f":"'[2]Inventário Completo'!B330","v":5248000500476},{"$f":"'[2]Inventário Completo'!C330","v":"Coletor"},{"$f":"'[2]Inventário Completo'!D330","v":"MC9060G"},{"$f":"'[2]Inventário Completo'!E330","v":"Symbol"},{"$f":"'[2]Inventário Completo'!F330","v":"COMPANHIA SIDERURGICA NACIONAL"},{"$f":"'[2]Inventário Completo'!G330","v":"CSN-VOLTA REDONDA"},{"$f":"'[2]Inventário Completo'!H330","v":"RJ"},{"$f":"'[2]Inventário Completo'!I330","v":"33.042.730/0017-71"},{"$f":"'[2]Inventário Completo'!J330","v":80541767},{"$f":"'[2]Inventário Completo'!K330","v":"Rodovia BR 393, Lúcio Meira KM 5001, SN°, Vila Santa Cecília, Volta Redonda"},{"$f":"'[2]Inventário Completo'!L330","v":"Luiz Cesar"},{"$f":"'[2]Inventário Completo'!M330","v":3105},{"$f":"'[2]Inventário Completo'!N330","v":0},{"$f":"'[2]Inventário Completo'!O330","v":0},{"$f":"'[2]Inventário Completo'!P330","v":"Em uso"},{"$f":"'[2]Inventário Completo'!Q330","v":0}]
[{"$f":"'[2]Inventário Completo'!A331","v":"GCVR0028"},{"$f":"'[2]Inventário Completo'!B331","v":5248000501696},{"$f":"'[2]Inventário Completo'!C331","v":"Coletor"},{"$f":"'[2]Inventário Completo'!D331","v":"MC9060G"},{"$f":"'[2]Inventário Completo'!E331","v":"Symbol"},{"$f":"'[2]Inventário Completo'!F331","v":"COMPANHIA SIDERURGICA NACIONAL"},{"$f":"'[2]Inventário Completo'!G331","v":"CSN-VOLTA REDONDA"},{"$f":"'[2]Inventário Completo'!H331","v":"RJ"},{"$f":"'[2]Inventário Completo'!I331","v":"33.042.730/0017-71"},{"$f":"'[2]Inventário Completo'!J331","v":80541767},{"$f":"'[2]Inventário Completo'!K331","v":"Rodovia BR 393, Lúcio Meira KM 5001, SN°, Vila Santa Cecília, Volta Redonda"},{"$f":"'[2]Inventário Completo'!L331","v":"Luiz Cesar"},{"$f":"'[2]Inventário Completo'!M331","v":3105},{"$f":"'[2]Inventário Completo'!N331","v":0},{"$f":"'[2]Inventário Completo'!O331","v":0},{"$f":"'[2]Inventário Completo'!P331","v":"Em uso"},{"$f":"'[2]Inventário Completo'!Q331","v":0}]
[{"$f":"'[2]Inventário Completo'!A332","v":"GCVR0029"},{"$f":"'[2]Inventário Completo'!B332","v":1006000500521},{"$f":"'[2]Inventário Completo'!C332","v":"Coletor"},{"$f":"'[2]Inventário Completo'!D332","v":"MC9090G"},{"$f":"'[2]Inventário Completo'!E332","v":"Motorola"},{"$f":"'[2]Inventário Completo'!F332","v":"COMPANHIA SIDERURGICA NACIONAL"},{"$f":"'[2]Inventário Completo'!G332","v":"CSN-VOLTA REDONDA"},{"$f":"'[2]Inventário Completo'!H332","v":"RJ"},{"$f":"'[2]Inventário Completo'!I332","v":"33.042.730/0017-71"},{"$f":"'[2]Inventário Completo'!J332","v":80541767},{"$f":"'[2]Inventário Completo'!K332","v":"Rodovia BR 393, Lúcio Meira KM 5001, SN°, Vila Santa Cecília, Volta Redonda"},{"$f":"'[2]Inventário Completo'!L332","v":"Luiz Cesar"},{"$f":"'[2]Inventário Completo'!M332","v":3105},{"$f":"'[2]Inventário Completo'!N332","v":0},{"$f":"'[2]Inventário Completo'!O332","v":0},{"$f":"'[2]Inventário Completo'!P332","v":"Em uso"},{"$f":"'[2]Inventário Completo'!Q332","v":0}]
[{"$f":"'[2]Inventário Completo'!A333","v":"GCVR0030"},{"$f":"'[2]Inventário Completo'!B333","v":1006000500531},{"$f":"'[2]Inventário Completo'!C333","v":"Coletor"},{"$f":"'[2]Inventário Completo'!D333","v":"MC9090G"},{"$f":"'[2]Inventário Completo'!E333","v":"Motorola"},{"$f":"'[2]Inventário Completo'!F333","v":"COMPANHIA SIDERURGICA NACIONAL"},{"$f":"'[2]Inventário Completo'!G333","v":"CSN-VOLTA REDONDA"},{"$f":"'[2]Inventário Completo'!H333","v":"RJ"},{"$f":"'[2]Inventário Completo'!I333","v":"33.042.730/0017-71"},{"$f":"'[2]Inventário Completo'!J333","v":80541767},{"$f":"'[2]Inventário Completo'!K333","v":"Rodovia BR 393, Lúcio Meira KM 5001, SN°, Vila Santa Cecília, Volta Redonda"},{"$f":"'[2]Inventário Completo'!L333","v":"Luiz Cesar"},{"$f":"'[2]Inventário Completo'!M333","v":3105},{"$f":"'[2]Inventário Completo'!N333","v":0},{"$f":"'[2]Inventário Completo'!O333","v":0},{"$f":"'[2]Inventário Completo'!P333","v":"Em uso"},{"$f":"'[2]Inventário Completo'!Q333","v":0}]
[{"$f":"'[2]Inventário Completo'!A334","v":"GCVR0031"},{"$f":"'[2]Inventário Completo'!B334","v":1006000500620},{"$f":"'[2]Inventário Completo'!C334","v":"Coletor"},{"$f":"'[2]Inventário Completo'!D334","v":"MC9090G"},{"$f":"'[2]Inventário Completo'!E334","v":"Motorola"},{"$f":"'[2]Inventário Completo'!F334","v":"COMPANHIA SIDERURGICA NACIONAL"},{"$f":"'[2]Inventário Completo'!G334","v":"CSN-VOLTA REDONDA"},{"$f":"'[2]Inventário Completo'!H334","v":"RJ"},{"$f":"'[2]Inventário Completo'!I334","v":"33.042.730/0017-71"},{"$f":"'[2]Inventário Completo'!J334","v":80541767},{"$f":"'[2]Inventário Completo'!K334","v":"Rodovia BR 393, Lúcio Meira KM 5001, SN°, Vila Santa Cecília, Volta Redonda"},{"$f":"'[2]Inventário Completo'!L334","v":"Luiz Cesar"},{"$f":"'[2]Inventário Completo'!M334","v":3105},{"$f":"'[2]Inventário Completo'!N334","v":0},{"$f":"'[2]Inventário Completo'!O334","v":0},{"$f":"'[2]Inventário Completo'!P334","v":"Em uso"},{"$f":"'[2]Inventário Completo'!Q334","v":0}]
[{"$f":"'[2]Inventário Completo'!A335","v":"GCVR0032"},{"$f":"'[2]Inventário Completo'!B335","v":1006000500621},{"$f":"'[2]Inventário Completo'!C335","v":"Coletor"},{"$f":"'[2]Inventário Completo'!D335","v":"MC9090G"},{"$f":"'[2]Inventário Completo'!E335","v":"Motorola"},{"$f":"'[2]Inventário Completo'!F335","v":"COMPANHIA SIDERURGICA NACIONAL"},{"$f":"'[2]Inventário Completo'!G335","v":"CSN-VOLTA REDONDA"},{"$f":"'[2]Inventário Completo'!H335","v":"RJ"},{"$f":"'[2]Inventário Completo'!I335","v":"33.042.730/0017-71"},{"$f":"'[2]Inventário Completo'!J335","v":80541767},{"$f":"'[2]Inventário Completo'!K335","v":"Rodovia BR 393, Lúcio Meira KM 5001, SN°, Vila Santa Cecília, Volta Redonda"},{"$f":"'[2]Inventário Completo'!L335","v":"Luiz Cesar"},{"$f":"'[2]Inventário Completo'!M335","v":3105},{"$f":"'[2]Inventário Completo'!N335","v":0},{"$f":"'[2]Inventário Completo'!O335","v":0},{"$f":"'[2]Inventário Completo'!P335","v":"Em uso"},{"$f":"'[2]Inventário Completo'!Q335","v":0}]
[{"$f":"'[2]Inventário Completo'!A336","v":"GCVR0033"},{"$f":"'[2]Inventário Completo'!B336","v":1006000500623},{"$f":"'[2]Inventário Completo'!C336","v":"Coletor"},{"$f":"'[2]Inventário Completo'!D336","v":"MC9090G"},{"$f":"'[2]Inventário Completo'!E336","v":"Motorola"},{"$f":"'[2]Inventário Completo'!F336","v":"COMPANHIA SIDERURGICA NACIONAL"},{"$f":"'[2]Inventário Completo'!G336","v":"CSN-VOLTA REDONDA"},{"$f":"'[2]Inventário Completo'!H336","v":"RJ"},{"$f":"'[2]Inventário Completo'!I336","v":"33.042.730/0017-71"},{"$f":"'[2]Inventário Completo'!J336","v":80541767},{"$f":"'[2]Inventário Completo'!K336","v":"Rodovia BR 393, Lúcio Meira KM 5001, SN°, Vila Santa Cecília, Volta Redonda"},{"$f":"'[2]Inventário Completo'!L336","v":"Luiz Cesar"},{"$f":"'[2]Inventário Completo'!M336","v":3105},{"$f":"'[2]Inventário Completo'!N336","v":0},{"$f":"'[2]Inventário Completo'!O336","v":0},{"$f":"'[2]Inventário Completo'!P336","v":"Em uso"},{"$f":"'[2]Inventário Completo'!Q336","v":0}]
[{"$f":"'[2]Inventário Completo'!A337","v":"GCVR0034"},{"$f":"'[2]Inventário Completo'!B337","v":1006000500624},{"$f":"'[2]Inventário Completo'!C337","v":"Coletor"},{"$f":"'[2]Inventário Completo'!D337","v":"MC9090G"},{"$f":"'[2]Inventário Completo'!E337","v":"Motorola"},{"$f":"'[2]Inventário Completo'!F337","v":"COMPANHIA SIDERURGICA NACIONAL"},{"$f":"'[2]Inventário Completo'!G337","v":"CSN-VOLTA REDONDA"},{"$f":"'[2]Inventário Completo'!H337","v":"RJ"},{"$f":"'[2]Inventário Completo'!I337","v":"33.042.730/0017-71"},{"$f":"'[2]Inventário Completo'!J337","v":80541767},{"$f":"'[2]Inventário Completo'!K337","v":"Rodovia BR 393, Lúcio Meira KM 5001, SN°, Vila Santa Cecília, Volta Redonda"},{"$f":"'[2]Inventário Completo'!L337","v":"Luiz Cesar"},{"$f":"'[2]Inventário Completo'!M337","v":3105},{"$f":"'[2]Inventário Completo'!N337","v":0},{"$f":"'[2]Inventário Completo'!O337","v":0},{"$f":"'[2]Inventário Completo'!P337","v":"Em uso"},{"$f":"'[2]Inventário Completo'!Q337","v":0}]
[{"$f":"'[2]Inventário Completo'!A338","v":"GCVR0035"},{"$f":"'[2]Inventário Completo'!B338","v":1026300502416},{"$f":"'[2]Inventário Completo'!C338","v":"Coletor"},{"$f":"'[2]Inventário Completo'!D338","v":"MC9090G"},{"$f":"'[2]Inventário Completo'!E338","v":"Motorola"},{"$f":"'[2]Inventário Completo'!F338","v":"COMPANHIA SIDERURGICA NACIONAL"},{"$f":"'[2]Inventário Completo'!G338","v":"CSN-VOLTA REDONDA"},{"$f":"'[2]Inventário Completo'!H338","v":"RJ"},{"$f":"'[2]Inventário Completo'!I338","v":"33.042.730/0017-71"},{"$f":"'[2]Inventário Completo'!J338","v":80541767},{"$f":"'[2]Inventário Completo'!K338","v":"Rodovia BR 393, Lúcio Meira KM 5001, SN°, Vila Santa Cecília, Volta Redonda"},{"$f":"'[2]Inventário Completo'!L338","v":"Luiz Cesar"},{"$f":"'[2]Inventário Completo'!M338","v":3105},{"$f":"'[2]Inventário Completo'!N338","v":0},{"$f":"'[2]Inventário Completo'!O338","v":0},{"$f":"'[2]Inventário Completo'!P338","v":"Parada"},{"$f":"'[2]Inventário Completo'!Q338","v":"Em orçamento (OC: 300-317064)"}]
[{"$f":"'[2]Inventário Completo'!A339","v":"GCVR0036"},{"$f":"'[2]Inventário Completo'!B339","v":1026300502442},{"$f":"'[2]Inventário Completo'!C339","v":"Coletor"},{"$f":"'[2]Inventário Completo'!D339","v":"MC9090G"},{"$f":"'[2]Inventário Completo'!E339","v":"Motorola"},{"$f":"'[2]Inventário Completo'!F339","v":"COMPANHIA SIDERURGICA NACIONAL"},{"$f":"'[2]Inventário Completo'!G339","v":"CSN-VOLTA REDONDA"},{"$f":"'[2]Inventário Completo'!H339","v":"RJ"},{"$f":"'[2]Inventário Completo'!I339","v":"33.042.730/0017-71"},{"$f":"'[2]Inventário Completo'!J339","v":80541767},{"$f":"'[2]Inventário Completo'!K339","v":"Rodovia BR 393, Lúcio Meira KM 5001, SN°, Vila Santa Cecília, Volta Redonda"},{"$f":"'[2]Inventário Completo'!L339","v":"Luiz Cesar"},{"$f":"'[2]Inventário Completo'!M339","v":3105},{"$f":"'[2]Inventário Completo'!N339","v":0},{"$f":"'[2]Inventário Completo'!O339","v":0},{"$f":"'[2]Inventário Completo'!P339","v":"Em uso"},{"$f":"'[2]Inventário Completo'!Q339","v":0}]
[{"$f":"'[2]Inventário Completo'!A340","v":"GCVR0037"},{"$f":"'[2]Inventário Completo'!B340","v":1026300502493},{"$f":"'[2]Inventário Completo'!C340","v":"Coletor"},{"$f":"'[2]Inventário Completo'!D340","v":"MC9090G"},{"$f":"'[2]Inventário Completo'!E340","v":"Motorola"},{"$f":"'[2]Inventário Completo'!F340","v":"COMPANHIA SIDERURGICA NACIONAL"},{"$f":"'[2]Inventário Completo'!G340","v":"CSN-VOLTA REDONDA"},{"$f":"'[2]Inventário Completo'!H340","v":"RJ"},{"$f":"'[2]Inventário Completo'!I340","v":"33.042.730/0017-71"},{"$f":"'[2]Inventário Completo'!J340","v":80541767},{"$f":"'[2]Inventário Completo'!K340","v":"Rodovia BR 393, Lúcio Meira KM 5001, SN°, Vila Santa Cecília, Volta Redonda"},{"$f":"'[2]Inventário Completo'!L340","v":"Luiz Cesar"},{"$f":"'[2]Inventário Completo'!M340","v":3105},{"$f":"'[2]Inventário Completo'!N340","v":0},{"$f":"'[2]Inventário Completo'!O340","v":0},{"$f":"'[2]Inventário Completo'!P340","v":"Em uso"},{"$f":"'[2]Inventário Completo'!Q340","v":0}]
[{"$f":"'[2]Inventário Completo'!A341","v":"GCVR0038"},{"$f":"'[2]Inventário Completo'!B341","v":1027800508184},{"$f":"'[2]Inventário Completo'!C341","v":"Coletor"},{"$f":"'[2]Inventário Completo'!D341","v":"MC9090G"},{"$f":"'[2]Inventário Completo'!E341","v":"Motorola"},{"$f":"'[2]Inventário Completo'!F341","v":"COMPANHIA SIDERURGICA NACIONAL"},{"$f":"'[2]Inventário Completo'!G341","v":"CSN-VOLTA REDONDA"},{"$f":"'[2]Inventário Completo'!H341","v":"RJ"},{"$f":"'[2]Inventário Completo'!I341","v":"33.042.730/0017-71"},{"$f":"'[2]Inventário Completo'!J341","v":80541767},{"$f":"'[2]Inventário Completo'!K341","v":"Rodovia BR 393, Lúcio Meira KM 5001, SN°, Vila Santa Cecília, Volta Redonda"},{"$f":"'[2]Inventário Completo'!L341","v":"Luiz Cesar"},{"$f":"'[2]Inventário Completo'!M341","v":3105},{"$f":"'[2]Inventário Completo'!N341","v":0},{"$f":"'[2]Inventário Completo'!O341","v":0},{"$f":"'[2]Inventário Completo'!P341","v":"Em uso"},{"$f":"'[2]Inventário Completo'!Q341","v":0}]
[{"$f":"'[2]Inventário Completo'!A342","v":"GCVR0039"},{"$f":"'[2]Inventário Completo'!B342","v":1027800509165},{"$f":"'[2]Inventário Completo'!C342","v":"Coletor"},{"$f":"'[2]Inventário Completo'!D342","v":"MC9090G"},{"$f":"'[2]Inventário Completo'!E342","v":"Motorola"},{"$f":"'[2]Inventário Completo'!F342","v":"COMPANHIA SIDERURGICA NACIONAL"},{"$f":"'[2]Inventário Completo'!G342","v":"CSN-VOLTA REDONDA"},{"$f":"'[2]Inventário Completo'!H342","v":"RJ"},{"$f":"'[2]Inventário Completo'!I342","v":"33.042.730/0017-71"},{"$f":"'[2]Inventário Completo'!J342","v":80541767},{"$f":"'[2]Inventário Completo'!K342","v":"Rodovia BR 393, Lúcio Meira KM 5001, SN°, Vila Santa Cecília, Volta Redonda"},{"$f":"'[2]Inventário Completo'!L342","v":"Luiz Cesar"},{"$f":"'[2]Inventário Completo'!M342","v":3105},{"$f":"'[2]Inventário Completo'!N342","v":0},{"$f":"'[2]Inventário Completo'!O342","v":0},{"$f":"'[2]Inventário Completo'!P342","v":"Em uso"},{"$f":"'[2]Inventário Completo'!Q342","v":0}]
[{"$f":"'[2]Inventário Completo'!A343","v":"GCVR0040"},{"$f":"'[2]Inventário Completo'!B343","v":1027800509166},{"$f":"'[2]Inventário Completo'!C343","v":"Coletor"},{"$f":"'[2]Inventário Completo'!D343","v":"MC9090G"},{"$f":"'[2]Inventário Completo'!E343","v":"Motorola"},{"$f":"'[2]Inventário Completo'!F343","v":"COMPANHIA SIDERURGICA NACIONAL"},{"$f":"'[2]Inventário Completo'!G343","v":"CSN-VOLTA REDONDA"},{"$f":"'[2]Inventário Completo'!H343","v":"RJ"},{"$f":"'[2]Inventário Completo'!I343","v":"33.042.730/0017-71"},{"$f":"'[2]Inventário Completo'!J343","v":80541767},{"$f":"'[2]Inventário Completo'!K343","v":"Rodovia BR 393, Lúcio Meira KM 5001, SN°, Vila Santa Cecília, Volta Redonda"},{"$f":"'[2]Inventário Completo'!L343","v":"Luiz Cesar"},{"$f":"'[2]Inventário Completo'!M343","v":3105},{"$f":"'[2]Inventário Completo'!N343","v":0},{"$f":"'[2]Inventário Completo'!O343","v":0},{"$f":"'[2]Inventário Completo'!P343","v":"Em uso"},{"$f":"'[2]Inventário Completo'!Q343","v":0}]
[{"$f":"'[2]Inventário Completo'!A344","v":"GCVR0041"},{"$f":"'[2]Inventário Completo'!B344","v":1027800509168},{"$f":"'[2]Inventário Completo'!C344","v":"Coletor"},{"$f":"'[2]Inventário Completo'!D344","v":"MC9190G"},{"$f":"'[2]Inventário Completo'!E344","v":"Motorola"},{"$f":"'[2]Inventário Completo'!F344","v":"COMPANHIA SIDERURGICA NACIONAL"},{"$f":"'[2]Inventário Completo'!G344","v":"CSN-VOLTA REDONDA"},{"$f":"'[2]Inventário Completo'!H344","v":"RJ"},{"$f":"'[2]Inventário Completo'!I344","v":"33.042.730/0017-71"},{"$f":"'[2]Inventário Completo'!J344","v":80541767},{"$f":"'[2]Inventário Completo'!K344","v":"Rodovia BR 393, Lúcio Meira KM 5001, SN°, Vila Santa Cecília, Volta Redonda"},{"$f":"'[2]Inventário Completo'!L344","v":"Luiz Cesar"},{"$f":"'[2]Inventário Completo'!M344","v":3105},{"$f":"'[2]Inventário Completo'!N344","v":0},{"$f":"'[2]Inventário Completo'!O344","v":0},{"$f":"'[2]Inventário Completo'!P344","v":"Em uso"},{"$f":"'[2]Inventário Completo'!Q344","v":0}]
[{"$f":"'[2]Inventário Completo'!A345","v":"GCVR0042"},{"$f":"'[2]Inventário Completo'!B345","v":1027800509172},{"$f":"'[2]Inventário Completo'!C345","v":"Coletor"},{"$f":"'[2]Inventário Completo'!D345","v":"MC9090G"},{"$f":"'[2]Inventário Completo'!E345","v":"Motorola"},{"$f":"'[2]Inventário Completo'!F345","v":"COMPANHIA SIDERURGICA NACIONAL"},{"$f":"'[2]Inventário Completo'!G345","v":"CSN-VOLTA REDONDA"},{"$f":"'[2]Inventário Completo'!H345","v":"RJ"},{"$f":"'[2]Inventário Completo'!I345","v":"33.042.730/0017-71"},{"$f":"'[2]Inventário Completo'!J345","v":80541767},{"$f":"'[2]Inventário Completo'!K345","v":"Rodovia BR 393, Lúcio Meira KM 5001, SN°, Vila Santa Cecília, Volta Redonda"},{"$f":"'[2]Inventário Completo'!L345","v":"Luiz Cesar"},{"$f":"'[2]Inventário Completo'!M345","v":3105},{"$f":"'[2]Inventário Completo'!N345","v":0},{"$f":"'[2]Inventário Completo'!O345","v":0},{"$f":"'[2]Inventário Completo'!P345","v":"Em uso"},{"$f":"'[2]Inventário Completo'!Q345","v":0}]
[{"$f":"'[2]Inventário Completo'!A346","v":"GCVR0043"},{"$f":"'[2]Inventário Completo'!B346","v":1027800509181},{"$f":"'[2]Inventário Completo'!C346","v":"Coletor"},{"$f":"'[2]Inventário Completo'!D346","v":"MC9090G"},{"$f":"'[2]Inventário Completo'!E346","v":"Motorola"},{"$f":"'[2]Inventário Completo'!F346","v":"COMPANHIA SIDERURGICA NACIONAL"},{"$f":"'[2]Inventário Completo'!G346","v":"CSN-VOLTA REDONDA"},{"$f":"'[2]Inventário Completo'!H346","v":"RJ"},{"$f":"'[2]Inventário Completo'!I346","v":"33.042.730/0017-71"},{"$f":"'[2]Inventário Completo'!J346","v":80541767},{"$f":"'[2]Inventário Completo'!K346","v":"Rodovia BR 393, Lúcio Meira KM 5001, SN°, Vila Santa Cecília, Volta Redonda"},{"$f":"'[2]Inventário Completo'!L346","v":"Luiz Cesar"},{"$f":"'[2]Inventário Completo'!M346","v":3105},{"$f":"'[2]Inventário Completo'!N346","v":0},{"$f":"'[2]Inventário Completo'!O346","v":0},{"$f":"'[2]Inventário Completo'!P346","v":"Em uso"},{"$f":"'[2]Inventário Completo'!Q346","v":0}]
[{"$f":"'[2]Inventário Completo'!A347","v":"GCVR0044"},{"$f":"'[2]Inventário Completo'!B347","v":1027800509189},{"$f":"'[2]Inventário Completo'!C347","v":"Coletor"},{"$f":"'[2]Inventário Completo'!D347","v":"MC9060G"},{"$f":"'[2]Inventário Completo'!E347","v":"Symbol"},{"$f":"'[2]Inventário Completo'!F347","v":"COMPANHIA SIDERURGICA NACIONAL"},{"$f":"'[2]Inventário Completo'!G347","v":"CSN-VOLTA REDONDA"},{"$f":"'[2]Inventário Completo'!H347","v":"RJ"},{"$f":"'[2]Inventário Completo'!I347","v":"33.042.730/0017-71"},{"$f":"'[2]Inventário Completo'!J347","v":80541767},{"$f":"'[2]Inventário Completo'!K347","v":"Rodovia BR 393, Lúcio Meira KM 5001, SN°, Vila Santa Cecília, Volta Redonda"},{"$f":"'[2]Inventário Completo'!L347","v":"Luiz Cesar"},{"$f":"'[2]Inventário Completo'!M347","v":3105},{"$f":"'[2]Inventário Completo'!N347","v":0},{"$f":"'[2]Inventário Completo'!O347","v":0},{"$f":"'[2]Inventário Completo'!P347","v":"Parada"},{"$f":"'[2]Inventário Completo'!Q347","v":"Em Orçamento (OC: 34535435)"}]
[{"$f":"'[2]Inventário Completo'!A348","v":"GCVR0046"},{"$f":"'[2]Inventário Completo'!B348","v":1103100502181},{"$f":"'[2]Inventário Completo'!C348","v":"Coletor"},{"$f":"'[2]Inventário Completo'!D348","v":"MC9090G"},{"$f":"'[2]Inventário Completo'!E348","v":"Motorola"},{"$f":"'[2]Inventário Completo'!F348","v":"COMPANHIA SIDERURGICA NACIONAL"},{"$f":"'[2]Inventário Completo'!G348","v":"CSN-VOLTA REDONDA"},{"$f":"'[2]Inventário Completo'!H348","v":"RJ"},{"$f":"'[2]Inventário Completo'!I348","v":"33.042.730/0017-71"},{"$f":"'[2]Inventário Completo'!J348","v":80541767},{"$f":"'[2]Inventário Completo'!K348","v":"Rodovia BR 393, Lúcio Meira KM 5001, SN°, Vila Santa Cecília, Volta Redonda"},{"$f":"'[2]Inventário Completo'!L348","v":"Luiz Cesar"},{"$f":"'[2]Inventário Completo'!M348","v":3105},{"$f":"'[2]Inventário Completo'!N348","v":0},{"$f":"'[2]Inventário Completo'!O348","v":0},{"$f":"'[2]Inventário Completo'!P348","v":"Em uso"},{"$f":"'[2]Inventário Completo'!Q348","v":0}]
[{"$f":"'[2]Inventário Completo'!A349","v":"GCVR0048"},{"$f":"'[2]Inventário Completo'!B349","v":1104700504379},{"$f":"'[2]Inventário Completo'!C349","v":"Coletor"},{"$f":"'[2]Inventário Completo'!D349","v":"MC9090G"},{"$f":"'[2]Inventário Completo'!E349","v":"Motorola"},{"$f":"'[2]Inventário Completo'!F349","v":"COMPANHIA SIDERURGICA NACIONAL"},{"$f":"'[2]Inventário Completo'!G349","v":"CSN-VOLTA REDONDA"},{"$f":"'[2]Inventário Completo'!H349","v":"RJ"},{"$f":"'[2]Inventário Completo'!I349","v":"33.042.730/0017-71"},{"$f":"'[2]Inventário Completo'!J349","v":80541767},{"$f":"'[2]Inventário Completo'!K349","v":"Rodovia BR 393, Lúcio Meira KM 5001, SN°, Vila Santa Cecília, Volta Redonda"},{"$f":"'[2]Inventário Completo'!L349","v":"Luiz Cesar"},{"$f":"'[2]Inventário Completo'!M349","v":3105},{"$f":"'[2]Inventário Completo'!N349","v":0},{"$f":"'[2]Inventário Completo'!O349","v":0},{"$f":"'[2]Inventário Completo'!P349","v":"Em uso"},{"$f":"'[2]Inventário Completo'!Q349","v":0}]
[{"$f":"'[2]Inventário Completo'!A350","v":"GCVR0049"},{"$f":"'[2]Inventário Completo'!B350","v":7093000500168},{"$f":"'[2]Inventário Completo'!C350","v":"Coletor"},{"$f":"'[2]Inventário Completo'!D350","v":"MC9090G"},{"$f":"'[2]Inventário Completo'!E350","v":"Motorola"},{"$f":"'[2]Inventário Completo'!F350","v":"COMPANHIA SIDERURGICA NACIONAL"},{"$f":"'[2]Inventário Completo'!G350","v":"CSN-VOLTA REDONDA"},{"$f":"'[2]Inventário Completo'!H350","v":"RJ"},{"$f":"'[2]Inventário Completo'!I350","v":"33.042.730/0017-71"},{"$f":"'[2]Inventário Completo'!J350","v":80541767},{"$f":"'[2]Inventário Completo'!K350","v":"Rodovia BR 393, Lúcio Meira KM 5001, SN°, Vila Santa Cecília, Volta Redonda"},{"$f":"'[2]Inventário Completo'!L350","v":"Luiz Cesar"},{"$f":"'[2]Inventário Completo'!M350","v":3105},{"$f":"'[2]Inventário Completo'!N350","v":0},{"$f":"'[2]Inventário Completo'!O350","v":0},{"$f":"'[2]Inventário Completo'!P350","v":"Em uso"},{"$f":"'[2]Inventário Completo'!Q350","v":0}]
[{"$f":"'[2]Inventário Completo'!A351","v":"GCVR0050"},{"$f":"'[2]Inventário Completo'!B351","v":7109000500627},{"$f":"'[2]Inventário Completo'!C351","v":"Coletor"},{"$f":"'[2]Inventário Completo'!D351","v":"MC9090G"},{"$f":"'[2]Inventário Completo'!E351","v":"Motorola"},{"$f":"'[2]Inventário Completo'!F351","v":"COMPANHIA SIDERURGICA NACIONAL"},{"$f":"'[2]Inventário Completo'!G351","v":"CSN-VOLTA REDONDA"},{"$f":"'[2]Inventário Completo'!H351","v":"RJ"},{"$f":"'[2]Inventário Completo'!I351","v":"33.042.730/0017-71"},{"$f":"'[2]Inventário Completo'!J351","v":80541767},{"$f":"'[2]Inventário Completo'!K351","v":"Rodovia BR 393, Lúcio Meira KM 5001, SN°, Vila Santa Cecília, Volta Redonda"},{"$f":"'[2]Inventário Completo'!L351","v":"Luiz Cesar"},{"$f":"'[2]Inventário Completo'!M351","v":3105},{"$f":"'[2]Inventário Completo'!N351","v":0},{"$f":"'[2]Inventário Completo'!O351","v":0},{"$f":"'[2]Inventário Completo'!P351","v":"Em uso"},{"$f":"'[2]Inventário Completo'!Q351","v":0}]
[{"$f":"'[2]Inventário Completo'!A352","v":"GCVR0052"},{"$f":"'[2]Inventário Completo'!B352","v":7109000500890},{"$f":"'[2]Inventário Completo'!C352","v":"Coletor"},{"$f":"'[2]Inventário Completo'!D352","v":"MC9090G"},{"$f":"'[2]Inventário Completo'!E352","v":"Motorola"},{"$f":"'[2]Inventário Completo'!F352","v":"COMPANHIA SIDERURGICA NACIONAL"},{"$f":"'[2]Inventário Completo'!G352","v":"CSN-VOLTA REDONDA"},{"$f":"'[2]Inventário Completo'!H352","v":"RJ"},{"$f":"'[2]Inventário Completo'!I352","v":"33.042.730/0017-71"},{"$f":"'[2]Inventário Completo'!J352","v":80541767},{"$f":"'[2]Inventário Completo'!K352","v":"Rodovia BR 393, Lúcio Meira KM 5001, SN°, Vila Santa Cecília, Volta Redonda"},{"$f":"'[2]Inventário Completo'!L352","v":"Luiz Cesar"},{"$f":"'[2]Inventário Completo'!M352","v":3105},{"$f":"'[2]Inventário Completo'!N352","v":0},{"$f":"'[2]Inventário Completo'!O352","v":0},{"$f":"'[2]Inventário Completo'!P352","v":"Em uso"},{"$f":"'[2]Inventário Completo'!Q352","v":0}]
[{"$f":"'[2]Inventário Completo'!A353","v":"GCVR0053"},{"$f":"'[2]Inventário Completo'!B353","v":7109000500891},{"$f":"'[2]Inventário Completo'!C353","v":"Coletor"},{"$f":"'[2]Inventário Completo'!D353","v":"MC9090G"},{"$f":"'[2]Inventário Completo'!E353","v":"Motorola"},{"$f":"'[2]Inventário Completo'!F353","v":"COMPANHIA SIDERURGICA NACIONAL"},{"$f":"'[2]Inventário Completo'!G353","v":"CSN-VOLTA REDONDA"},{"$f":"'[2]Inventário Completo'!H353","v":"RJ"},{"$f":"'[2]Inventário Completo'!I353","v":"33.042.730/0017-71"},{"$f":"'[2]Inventário Completo'!J353","v":80541767},{"$f":"'[2]Inventário Completo'!K353","v":"Rodovia BR 393, Lúcio Meira KM 5001, SN°, Vila Santa Cecília, Volta Redonda"},{"$f":"'[2]Inventário Completo'!L353","v":"Luiz Cesar"},{"$f":"'[2]Inventário Completo'!M353","v":3105},{"$f":"'[2]Inventário Completo'!N353","v":0},{"$f":"'[2]Inventário Completo'!O353","v":0},{"$f":"'[2]Inventário Completo'!P353","v":"Parada"},{"$f":"'[2]Inventário Completo'!Q353","v":"Em Orçamento (OC: 300-117161)"}]
[{"$f":"'[2]Inventário Completo'!A354","v":"GCVR0054"},{"$f":"'[2]Inventário Completo'!B354","v":7109000500903},{"$f":"'[2]Inventário Completo'!C354","v":"Coletor"},{"$f":"'[2]Inventário Completo'!D354","v":"MC9090G"},{"$f":"'[2]Inventário Completo'!E354","v":"Motorola"},{"$f":"'[2]Inventário Completo'!F354","v":"COMPANHIA SIDERURGICA NACIONAL"},{"$f":"'[2]Inventário Completo'!G354","v":"CSN-VOLTA REDONDA"},{"$f":"'[2]Inventário Completo'!H354","v":"RJ"},{"$f":"'[2]Inventário Completo'!I354","v":"33.042.730/0017-71"},{"$f":"'[2]Inventário Completo'!J354","v":80541767},{"$f":"'[2]Inventário Completo'!K354","v":"Rodovia BR 393, Lúcio Meira KM 5001, SN°, Vila Santa Cecília, Volta Redonda"},{"$f":"'[2]Inventário Completo'!L354","v":"Luiz Cesar"},{"$f":"'[2]Inventário Completo'!M354","v":3105},{"$f":"'[2]Inventário Completo'!N354","v":0},{"$f":"'[2]Inventário Completo'!O354","v":0},{"$f":"'[2]Inventário Completo'!P354","v":"Parada"},{"$f":"'[2]Inventário Completo'!Q354","v":"Em Orçamento (OC: 300-318947)"}]
[{"$f":"'[2]Inventário Completo'!A355","v":"GCVR0055"},{"$f":"'[2]Inventário Completo'!B355","v":7109000500907},{"$f":"'[2]Inventário Completo'!C355","v":"Coletor"},{"$f":"'[2]Inventário Completo'!D355","v":"MC9090G"},{"$f":"'[2]Inventário Completo'!E355","v":"Motorola"},{"$f":"'[2]Inventário Completo'!F355","v":"COMPANHIA SIDERURGICA NACIONAL"},{"$f":"'[2]Inventário Completo'!G355","v":"CSN-VOLTA REDONDA"},{"$f":"'[2]Inventário Completo'!H355","v":"RJ"},{"$f":"'[2]Inventário Completo'!I355","v":"33.042.730/0017-71"},{"$f":"'[2]Inventário Completo'!J355","v":80541767},{"$f":"'[2]Inventário Completo'!K355","v":"Rodovia BR 393, Lúcio Meira KM 5001, SN°, Vila Santa Cecília, Volta Redonda"},{"$f":"'[2]Inventário Completo'!L355","v":"Luiz Cesar"},{"$f":"'[2]Inventário Completo'!M355","v":3105},{"$f":"'[2]Inventário Completo'!N355","v":0},{"$f":"'[2]Inventário Completo'!O355","v":0},{"$f":"'[2]Inventário Completo'!P355","v":"Em uso"},{"$f":"'[2]Inventário Completo'!Q355","v":0}]
[{"$f":"'[2]Inventário Completo'!A356","v":"GCVR0056"},{"$f":"'[2]Inventário Completo'!B356","v":7109000500915},{"$f":"'[2]Inventário Completo'!C356","v":"Coletor"},{"$f":"'[2]Inventário Completo'!D356","v":"MC9090G"},{"$f":"'[2]Inventário Completo'!E356","v":"Motorola"},{"$f":"'[2]Inventário Completo'!F356","v":"COMPANHIA SIDERURGICA NACIONAL"},{"$f":"'[2]Inventário Completo'!G356","v":"CSN-VOLTA REDONDA"},{"$f":"'[2]Inventário Completo'!H356","v":"RJ"},{"$f":"'[2]Inventário Completo'!I356","v":"33.042.730/0017-71"},{"$f":"'[2]Inventário Completo'!J356","v":80541767},{"$f":"'[2]Inventário Completo'!K356","v":"Rodovia BR 393, Lúcio Meira KM 5001, SN°, Vila Santa Cecília, Volta Redonda"},{"$f":"'[2]Inventário Completo'!L356","v":"Luiz Cesar"},{"$f":"'[2]Inventário Completo'!M356","v":3105},{"$f":"'[2]Inventário Completo'!N356","v":0},{"$f":"'[2]Inventário Completo'!O356","v":0},{"$f":"'[2]Inventário Completo'!P356","v":"Parada"},{"$f":"'[2]Inventário Completo'!Q356","v":"Em Orçamento (OC: 300-170501)"}]
[{"$f":"'[2]Inventário Completo'!A357","v":"GCVR0057"},{"$f":"'[2]Inventário Completo'!B357","v":7326000501018},{"$f":"'[2]Inventário Completo'!C357","v":"Coletor"},{"$f":"'[2]Inventário Completo'!D357","v":"MC9090G"},{"$f":"'[2]Inventário Completo'!E357","v":"Motorola"},{"$f":"'[2]Inventário Completo'!F357","v":"COMPANHIA SIDERURGICA NACIONAL"},{"$f":"'[2]Inventário Completo'!G357","v":"CSN-VOLTA REDONDA"},{"$f":"'[2]Inventário Completo'!H357","v":"RJ"},{"$f":"'[2]Inventário Completo'!I357","v":"33.042.730/0017-71"},{"$f":"'[2]Inventário Completo'!J357","v":80541767},{"$f":"'[2]Inventário Completo'!K357","v":"Rodovia BR 393, Lúcio Meira KM 5001, SN°, Vila Santa Cecília, Volta Redonda"},{"$f":"'[2]Inventário Completo'!L357","v":"Luiz Cesar"},{"$f":"'[2]Inventário Completo'!M357","v":3105},{"$f":"'[2]Inventário Completo'!N357","v":0},{"$f":"'[2]Inventário Completo'!O357","v":0},{"$f":"'[2]Inventário Completo'!P357","v":"Em uso"},{"$f":"'[2]Inventário Completo'!Q357","v":0}]
[{"$f":"'[2]Inventário Completo'!A358","v":"GCVR0058"},{"$f":"'[2]Inventário Completo'!B358","v":7326000501020},{"$f":"'[2]Inventário Completo'!C358","v":"Coletor"},{"$f":"'[2]Inventário Completo'!D358","v":"MC9090G"},{"$f":"'[2]Inventário Completo'!E358","v":"Motorola"},{"$f":"'[2]Inventário Completo'!F358","v":"COMPANHIA SIDERURGICA NACIONAL"},{"$f":"'[2]Inventário Completo'!G358","v":"CSN-VOLTA REDONDA"},{"$f":"'[2]Inventário Completo'!H358","v":"RJ"},{"$f":"'[2]Inventário Completo'!I358","v":"33.042.730/0017-71"},{"$f":"'[2]Inventário Completo'!J358","v":80541767},{"$f":"'[2]Inventário Completo'!K358","v":"Rodovia BR 393, Lúcio Meira KM 5001, SN°, Vila Santa Cecília, Volta Redonda"},{"$f":"'[2]Inventário Completo'!L358","v":"Luiz Cesar"},{"$f":"'[2]Inventário Completo'!M358","v":3105},{"$f":"'[2]Inventário Completo'!N358","v":0},{"$f":"'[2]Inventário Completo'!O358","v":0},{"$f":"'[2]Inventário Completo'!P358","v":"Em uso"},{"$f":"'[2]Inventário Completo'!Q358","v":0}]
[{"$f":"'[2]Inventário Completo'!A359","v":"GCVR0059"},{"$f":"'[2]Inventário Completo'!B359","v":7326000501023},{"$f":"'[2]Inventário Completo'!C359","v":"Coletor"},{"$f":"'[2]Inventário Completo'!D359","v":"MC9090G"},{"$f":"'[2]Inventário Completo'!E359","v":"Motorola"},{"$f":"'[2]Inventário Completo'!F359","v":"COMPANHIA SIDERURGICA NACIONAL"},{"$f":"'[2]Inventário Completo'!G359","v":"CSN-VOLTA REDONDA"},{"$f":"'[2]Inventário Completo'!H359","v":"RJ"},{"$f":"'[2]Inventário Completo'!I359","v":"33.042.730/0017-71"},{"$f":"'[2]Inventário Completo'!J359","v":80541767},{"$f":"'[2]Inventário Completo'!K359","v":"Rodovia BR 393, Lúcio Meira KM 5001, SN°, Vila Santa Cecília, Volta Redonda"},{"$f":"'[2]Inventário Completo'!L359","v":"Luiz Cesar"},{"$f":"'[2]Inventário Completo'!M359","v":3105},{"$f":"'[2]Inventário Completo'!N359","v":0},{"$f":"'[2]Inventário Completo'!O359","v":0},{"$f":"'[2]Inventário Completo'!P359","v":"Em uso"},{"$f":"'[2]Inventário Completo'!Q359","v":0}]
[{"$f":"'[2]Inventário Completo'!A360","v":"GCVR0060"},{"$f":"'[2]Inventário Completo'!B360","v":7326000501025},{"$f":"'[2]Inventário Completo'!C360","v":"Coletor"},{"$f":"'[2]Inventário Completo'!D360","v":"MC9090G"},{"$f":"'[2]Inventário Completo'!E360","v":"Motorola"},{"$f":"'[2]Inventário Completo'!F360","v":"COMPANHIA SIDERURGICA NACIONAL"},{"$f":"'[2]Inventário Completo'!G360","v":"CSN-VOLTA REDONDA"},{"$f":"'[2]Inventário Completo'!H360","v":"RJ"},{"$f":"'[2]Inventário Completo'!I360","v":"33.042.730/0017-71"},{"$f":"'[2]Inventário Completo'!J360","v":80541767},{"$f":"'[2]Inventário Completo'!K360","v":"Rodovia BR 393, Lúcio Meira KM 5001, SN°, Vila Santa Cecília, Volta Redonda"},{"$f":"'[2]Inventário Completo'!L360","v":"Luiz Cesar"},{"$f":"'[2]Inventário Completo'!M360","v":3105},{"$f":"'[2]Inventário Completo'!N360","v":0},{"$f":"'[2]Inventário Completo'!O360","v":0},{"$f":"'[2]Inventário Completo'!P360","v":"Em uso"},{"$f":"'[2]Inventário Completo'!Q360","v":0}]
[{"$f":"'[2]Inventário Completo'!A361","v":"GCVR0062"},{"$f":"'[2]Inventário Completo'!B361","v":7326000501034},{"$f":"'[2]Inventário Completo'!C361","v":"Coletor"},{"$f":"'[2]Inventário Completo'!D361","v":"MC9090G"},{"$f":"'[2]Inventário Completo'!E361","v":"Motorola"},{"$f":"'[2]Inventário Completo'!F361","v":"COMPANHIA SIDERURGICA NACIONAL"},{"$f":"'[2]Inventário Completo'!G361","v":"CSN-VOLTA REDONDA"},{"$f":"'[2]Inventário Completo'!H361","v":"RJ"},{"$f":"'[2]Inventário Completo'!I361","v":"33.042.730/0017-71"},{"$f":"'[2]Inventário Completo'!J361","v":80541767},{"$f":"'[2]Inventário Completo'!K361","v":"Rodovia BR 393, Lúcio Meira KM 5001, SN°, Vila Santa Cecília, Volta Redonda"},{"$f":"'[2]Inventário Completo'!L361","v":"Luiz Cesar"},{"$f":"'[2]Inventário Completo'!M361","v":3105},{"$f":"'[2]Inventário Completo'!N361","v":0},{"$f":"'[2]Inventário Completo'!O361","v":0},{"$f":"'[2]Inventário Completo'!P361","v":"Parada"},{"$f":"'[2]Inventário Completo'!Q361","v":"Em Orçamento (OC: 35723393)"}]
[{"$f":"'[2]Inventário Completo'!A362","v":"GCVR0063"},{"$f":"'[2]Inventário Completo'!B362","v":7326000501048},{"$f":"'[2]Inventário Completo'!C362","v":"Coletor"},{"$f":"'[2]Inventário Completo'!D362","v":"MC9090G"},{"$f":"'[2]Inventário Completo'!E362","v":"Motorola"},{"$f":"'[2]Inventário Completo'!F362","v":"COMPANHIA SIDERURGICA NACIONAL"},{"$f":"'[2]Inventário Completo'!G362","v":"CSN-VOLTA REDONDA"},{"$f":"'[2]Inventário Completo'!H362","v":"RJ"},{"$f":"'[2]Inventário Completo'!I362","v":"33.042.730/0017-71"},{"$f":"'[2]Inventário Completo'!J362","v":80541767},{"$f":"'[2]Inventário Completo'!K362","v":"Rodovia BR 393, Lúcio Meira KM 5001, SN°, Vila Santa Cecília, Volta Redonda"},{"$f":"'[2]Inventário Completo'!L362","v":"Luiz Cesar"},{"$f":"'[2]Inventário Completo'!M362","v":3105},{"$f":"'[2]Inventário Completo'!N362","v":0},{"$f":"'[2]Inventário Completo'!O362","v":0},{"$f":"'[2]Inventário Completo'!P362","v":"Em uso"},{"$f":"'[2]Inventário Completo'!Q362","v":0}]
[{"$f":"'[2]Inventário Completo'!A363","v":"GCVR0064"},{"$f":"'[2]Inventário Completo'!B363","v":7340000500607},{"$f":"'[2]Inventário Completo'!C363","v":"Coletor"},{"$f":"'[2]Inventário Completo'!D363","v":"MC9090G"},{"$f":"'[2]Inventário Completo'!E363","v":"Motorola"},{"$f":"'[2]Inventário Completo'!F363","v":"COMPANHIA SIDERURGICA NACIONAL"},{"$f":"'[2]Inventário Completo'!G363","v":"CSN-VOLTA REDONDA"},{"$f":"'[2]Inventário Completo'!H363","v":"RJ"},{"$f":"'[2]Inventário Completo'!I363","v":"33.042.730/0017-71"},{"$f":"'[2]Inventário Completo'!J363","v":80541767},{"$f":"'[2]Inventário Completo'!K363","v":"Rodovia BR 393, Lúcio Meira KM 5001, SN°, Vila Santa Cecília, Volta Redonda"},{"$f":"'[2]Inventário Completo'!L363","v":"Luiz Cesar"},{"$f":"'[2]Inventário Completo'!M363","v":3105},{"$f":"'[2]Inventário Completo'!N363","v":0},{"$f":"'[2]Inventário Completo'!O363","v":0},{"$f":"'[2]Inventário Completo'!P363","v":"Em uso"},{"$f":"'[2]Inventário Completo'!Q363","v":0}]
[{"$f":"'[2]Inventário Completo'!A364","v":"GCVR0065"},{"$f":"'[2]Inventário Completo'!B364","v":7340000500612},{"$f":"'[2]Inventário Completo'!C364","v":"Coletor"},{"$f":"'[2]Inventário Completo'!D364","v":"MC9090G"},{"$f":"'[2]Inventário Completo'!E364","v":"Motorola"},{"$f":"'[2]Inventário Completo'!F364","v":"COMPANHIA SIDERURGICA NACIONAL"},{"$f":"'[2]Inventário Completo'!G364","v":"CSN-VOLTA REDONDA"},{"$f":"'[2]Inventário Completo'!H364","v":"RJ"},{"$f":"'[2]Inventário Completo'!I364","v":"33.042.730/0017-71"},{"$f":"'[2]Inventário Completo'!J364","v":80541767},{"$f":"'[2]Inventário Completo'!K364","v":"Rodovia BR 393, Lúcio Meira KM 5001, SN°, Vila Santa Cecília, Volta Redonda"},{"$f":"'[2]Inventário Completo'!L364","v":"Luiz Cesar"},{"$f":"'[2]Inventário Completo'!M364","v":3105},{"$f":"'[2]Inventário Completo'!N364","v":0},{"$f":"'[2]Inventário Completo'!O364","v":0},{"$f":"'[2]Inventário Completo'!P364","v":"Em uso"},{"$f":"'[2]Inventário Completo'!Q364","v":0}]
[{"$f":"'[2]Inventário Completo'!A365","v":"GCVR0066"},{"$f":"'[2]Inventário Completo'!B365","v":7344000500598},{"$f":"'[2]Inventário Completo'!C365","v":"Coletor"},{"$f":"'[2]Inventário Completo'!D365","v":"MC9090G"},{"$f":"'[2]Inventário Completo'!E365","v":"Motorola"},{"$f":"'[2]Inventário Completo'!F365","v":"COMPANHIA SIDERURGICA NACIONAL"},{"$f":"'[2]Inventário Completo'!G365","v":"CSN-VOLTA REDONDA"},{"$f":"'[2]Inventário Completo'!H365","v":"RJ"},{"$f":"'[2]Inventário Completo'!I365","v":"33.042.730/0017-71"},{"$f":"'[2]Inventário Completo'!J365","v":80541767},{"$f":"'[2]Inventário Completo'!K365","v":"Rodovia BR 393, Lúcio Meira KM 5001, SN°, Vila Santa Cecília, Volta Redonda"},{"$f":"'[2]Inventário Completo'!L365","v":"Luiz Cesar"},{"$f":"'[2]Inventário Completo'!M365","v":3105},{"$f":"'[2]Inventário Completo'!N365","v":0},{"$f":"'[2]Inventário Completo'!O365","v":0},{"$f":"'[2]Inventário Completo'!P365","v":"Em uso"},{"$f":"'[2]Inventário Completo'!Q365","v":0}]
[{"$f":"'[2]Inventário Completo'!A366","v":"GCVR0067"},{"$f":"'[2]Inventário Completo'!B366","v":1329400506231},{"$f":"'[2]Inventário Completo'!C366","v":"Coletor"},{"$f":"'[2]Inventário Completo'!D366","v":"MC9190G"},{"$f":"'[2]Inventário Completo'!E366","v":"Motorola"},{"$f":"'[2]Inventário Completo'!F366","v":"COMPANHIA SIDERURGICA NACIONAL"},{"$f":"'[2]Inventário Completo'!G366","v":"CSN-VOLTA REDONDA"},{"$f":"'[2]Inventário Completo'!H366","v":"RJ"},{"$f":"'[2]Inventário Completo'!I366","v":"33.042.730/0017-71"},{"$f":"'[2]Inventário Completo'!J366","v":80541767},{"$f":"'[2]Inventário Completo'!K366","v":"Rodovia BR 393, Lúcio Meira KM 5001, SN°, Vila Santa Cecília, Volta Redonda"},{"$f":"'[2]Inventário Completo'!L366","v":"Luiz Cesar"},{"$f":"'[2]Inventário Completo'!M366","v":3105},{"$f":"'[2]Inventário Completo'!N366","v":0},{"$f":"'[2]Inventário Completo'!O366","v":0},{"$f":"'[2]Inventário Completo'!P366","v":"Em uso"},{"$f":"'[2]Inventário Completo'!Q366","v":0}]
[{"$f":"'[2]Inventário Completo'!A367","v":"GCVR0068"},{"$f":"'[2]Inventário Completo'!B367","v":1329400506249},{"$f":"'[2]Inventário Completo'!C367","v":"Coletor"},{"$f":"'[2]Inventário Completo'!D367","v":"MC9190G"},{"$f":"'[2]Inventário Completo'!E367","v":"Motorola"},{"$f":"'[2]Inventário Completo'!F367","v":"COMPANHIA SIDERURGICA NACIONAL"},{"$f":"'[2]Inventário Completo'!G367","v":"CSN-VOLTA REDONDA"},{"$f":"'[2]Inventário Completo'!H367","v":"RJ"},{"$f":"'[2]Inventário Completo'!I367","v":"33.042.730/0017-71"},{"$f":"'[2]Inventário Completo'!J367","v":80541767},{"$f":"'[2]Inventário Completo'!K367","v":"Rodovia BR 393, Lúcio Meira KM 5001, SN°, Vila Santa Cecília, Volta Redonda"},{"$f":"'[2]Inventário Completo'!L367","v":"Luiz Cesar"},{"$f":"'[2]Inventário Completo'!M367","v":3105},{"$f":"'[2]Inventário Completo'!N367","v":0},{"$f":"'[2]Inventário Completo'!O367","v":0},{"$f":"'[2]Inventário Completo'!P367","v":"Em uso"},{"$f":"'[2]Inventário Completo'!Q367","v":0}]
[{"$f":"'[2]Inventário Completo'!A368","v":"GCVR0069"},{"$f":"'[2]Inventário Completo'!B368","v":1329400506250},{"$f":"'[2]Inventário Completo'!C368","v":"Coletor"},{"$f":"'[2]Inventário Completo'!D368","v":"MC9190G"},{"$f":"'[2]Inventário Completo'!E368","v":"Motorola"},{"$f":"'[2]Inventário Completo'!F368","v":"COMPANHIA SIDERURGICA NACIONAL"},{"$f":"'[2]Inventário Completo'!G368","v":"CSN-VOLTA REDONDA"},{"$f":"'[2]Inventário Completo'!H368","v":"RJ"},{"$f":"'[2]Inventário Completo'!I368","v":"33.042.730/0017-71"},{"$f":"'[2]Inventário Completo'!J368","v":80541767},{"$f":"'[2]Inventário Completo'!K368","v":"Rodovia BR 393, Lúcio Meira KM 5001, SN°, Vila Santa Cecília, Volta Redonda"},{"$f":"'[2]Inventário Completo'!L368","v":"Luiz Cesar"},{"$f":"'[2]Inventário Completo'!M368","v":3105},{"$f":"'[2]Inventário Completo'!N368","v":0},{"$f":"'[2]Inventário Completo'!O368","v":0},{"$f":"'[2]Inventário Completo'!P368","v":"Em uso"},{"$f":"'[2]Inventário Completo'!Q368","v":"teste"}]
[{"$f":"'[2]Inventário Completo'!A369","v":"GCVR0070"},{"$f":"'[2]Inventário Completo'!B369","v":1329500505321},{"$f":"'[2]Inventário Completo'!C369","v":"Coletor"},{"$f":"'[2]Inventário Completo'!D369","v":"MC9190G"},{"$f":"'[2]Inventário Completo'!E369","v":"Motorola"},{"$f":"'[2]Inventário Completo'!F369","v":"COMPANHIA SIDERURGICA NACIONAL"},{"$f":"'[2]Inventário Completo'!G369","v":"CSN-VOLTA REDONDA"},{"$f":"'[2]Inventário Completo'!H369","v":"RJ"},{"$f":"'[2]Inventário Completo'!I369","v":"33.042.730/0017-71"},{"$f":"'[2]Inventário Completo'!J369","v":80541767},{"$f":"'[2]Inventário Completo'!K369","v":"Rodovia BR 393, Lúcio Meira KM 5001, SN°, Vila Santa Cecília, Volta Redonda"},{"$f":"'[2]Inventário Completo'!L369","v":"Luiz Cesar"},{"$f":"'[2]Inventário Completo'!M369","v":3105},{"$f":"'[2]Inventário Completo'!N369","v":0},{"$f":"'[2]Inventário Completo'!O369","v":0},{"$f":"'[2]Inventário Completo'!P369","v":"Em uso"},{"$f":"'[2]Inventário Completo'!Q369","v":0}]
[{"$f":"'[2]Inventário Completo'!A370","v":"GCVR0073"},{"$f":"'[2]Inventário Completo'!B370","v":1329500505381},{"$f":"'[2]Inventário Completo'!C370","v":"Coletor"},{"$f":"'[2]Inventário Completo'!D370","v":"MC9190G"},{"$f":"'[2]Inventário Completo'!E370","v":"Motorola"},{"$f":"'[2]Inventário Completo'!F370","v":"COMPANHIA SIDERURGICA NACIONAL"},{"$f":"'[2]Inventário Completo'!G370","v":"CSN-VOLTA REDONDA"},{"$f":"'[2]Inventário Completo'!H370","v":"RJ"},{"$f":"'[2]Inventário Completo'!I370","v":"33.042.730/0017-71"},{"$f":"'[2]Inventário Completo'!J370","v":80541767},{"$f":"'[2]Inventário Completo'!K370","v":"Rodovia BR 393, Lúcio Meira KM 5001, SN°, Vila Santa Cecília, Volta Redonda"},{"$f":"'[2]Inventário Completo'!L370","v":"Luiz Cesar"},{"$f":"'[2]Inventário Completo'!M370","v":3105},{"$f":"'[2]Inventário Completo'!N370","v":0},{"$f":"'[2]Inventário Completo'!O370","v":0},{"$f":"'[2]Inventário Completo'!P370","v":"Em uso"},{"$f":"'[2]Inventário Completo'!Q370","v":0}]
[{"$f":"'[2]Inventário Completo'!A371","v":"GCVR0074"},{"$f":"'[2]Inventário Completo'!B371","v":1329500505389},{"$f":"'[2]Inventário Completo'!C371","v":"Coletor"},{"$f":"'[2]Inventário Completo'!D371","v":"MC9190G"},{"$f":"'[2]Inventário Completo'!E371","v":"Motorola"},{"$f":"'[2]Inventário Completo'!F371","v":"COMPANHIA SIDERURGICA NACIONAL"},{"$f":"'[2]Inventário Completo'!G371","v":"CSN-VOLTA REDONDA"},{"$f":"'[2]Inventário Completo'!H371","v":"RJ"},{"$f":"'[2]Inventário Completo'!I371","v":"33.042.730/0017-71"},{"$f":"'[2]Inventário Completo'!J371","v":80541767},{"$f":"'[2]Inventário Completo'!K371","v":"Rodovia BR 393, Lúcio Meira KM 5001, SN°, Vila Santa Cecília, Volta Redonda"},{"$f":"'[2]Inventário Completo'!L371","v":"Luiz Cesar"},{"$f":"'[2]Inventário Completo'!M371","v":3105},{"$f":"'[2]Inventário Completo'!N371","v":0},{"$f":"'[2]Inventário Completo'!O371","v":0},{"$f":"'[2]Inventário Completo'!P371","v":"Em uso"},{"$f":"'[2]Inventário Completo'!Q371","v":0}]
[{"$f":"'[2]Inventário Completo'!A372","v":"GCVR0075"},{"$f":"'[2]Inventário Completo'!B372","v":1329500505390},{"$f":"'[2]Inventário Completo'!C372","v":"Coletor"},{"$f":"'[2]Inventário Completo'!D372","v":"MC9190G"},{"$f":"'[2]Inventário Completo'!E372","v":"Motorola"},{"$f":"'[2]Inventário Completo'!F372","v":"COMPANHIA SIDERURGICA NACIONAL"},{"$f":"'[2]Inventário Completo'!G372","v":"CSN-VOLTA REDONDA"},{"$f":"'[2]Inventário Completo'!H372","v":"RJ"},{"$f":"'[2]Inventário Completo'!I372","v":"33.042.730/0017-71"},{"$f":"'[2]Inventário Completo'!J372","v":80541767},{"$f":"'[2]Inventário Completo'!K372","v":"Rodovia BR 393, Lúcio Meira KM 5001, SN°, Vila Santa Cecília, Volta Redonda"},{"$f":"'[2]Inventário Completo'!L372","v":"Luiz Cesar"},{"$f":"'[2]Inventário Completo'!M372","v":3105},{"$f":"'[2]Inventário Completo'!N372","v":0},{"$f":"'[2]Inventário Completo'!O372","v":0},{"$f":"'[2]Inventário Completo'!P372","v":"Em uso"},{"$f":"'[2]Inventário Completo'!Q372","v":0}]
[{"$f":"'[2]Inventário Completo'!A373","v":"GCVR0076"},{"$f":"'[2]Inventário Completo'!B373","v":1400700500777},{"$f":"'[2]Inventário Completo'!C373","v":"Coletor"},{"$f":"'[2]Inventário Completo'!D373","v":"MC9190G"},{"$f":"'[2]Inventário Completo'!E373","v":"Motorola"},{"$f":"'[2]Inventário Completo'!F373","v":"COMPANHIA SIDERURGICA NACIONAL"},{"$f":"'[2]Inventário Completo'!G373","v":"CSN-VOLTA REDONDA"},{"$f":"'[2]Inventário Completo'!H373","v":"RJ"},{"$f":"'[2]Inventário Completo'!I373","v":"33.042.730/0017-71"},{"$f":"'[2]Inventário Completo'!J373","v":80541767},{"$f":"'[2]Inventário Completo'!K373","v":"Rodovia BR 393, Lúcio Meira KM 5001, SN°, Vila Santa Cecília, Volta Redonda"},{"$f":"'[2]Inventário Completo'!L373","v":"Luiz Cesar"},{"$f":"'[2]Inventário Completo'!M373","v":3105},{"$f":"'[2]Inventário Completo'!N373","v":0},{"$f":"'[2]Inventário Completo'!O373","v":0},{"$f":"'[2]Inventário Completo'!P373","v":"Em uso"},{"$f":"'[2]Inventário Completo'!Q373","v":0}]
[{"$f":"'[2]Inventário Completo'!A374","v":"GCVR0077"},{"$f":"'[2]Inventário Completo'!B374","v":1400700500785},{"$f":"'[2]Inventário Completo'!C374","v":"Coletor"},{"$f":"'[2]Inventário Completo'!D374","v":"MC9190G"},{"$f":"'[2]Inventário Completo'!E374","v":"Motorola"},{"$f":"'[2]Inventário Completo'!F374","v":"COMPANHIA SIDERURGICA NACIONAL"},{"$f":"'[2]Inventário Completo'!G374","v":"CSN-VOLTA REDONDA"},{"$f":"'[2]Inventário Completo'!H374","v":"RJ"},{"$f":"'[2]Inventário Completo'!I374","v":"33.042.730/0017-71"},{"$f":"'[2]Inventário Completo'!J374","v":80541767},{"$f":"'[2]Inventário Completo'!K374","v":"Rodovia BR 393, Lúcio Meira KM 5001, SN°, Vila Santa Cecília, Volta Redonda"},{"$f":"'[2]Inventário Completo'!L374","v":"Luiz Cesar"},{"$f":"'[2]Inventário Completo'!M374","v":3105},{"$f":"'[2]Inventário Completo'!N374","v":0},{"$f":"'[2]Inventário Completo'!O374","v":0},{"$f":"'[2]Inventário Completo'!P374","v":"Em uso"},{"$f":"'[2]Inventário Completo'!Q374","v":0}]
[{"$f":"'[2]Inventário Completo'!A375","v":"GCVR0078"},{"$f":"'[2]Inventário Completo'!B375","v":1400700500794},{"$f":"'[2]Inventário Completo'!C375","v":"Coletor"},{"$f":"'[2]Inventário Completo'!D375","v":"MC9190G"},{"$f":"'[2]Inventário Completo'!E375","v":"Motorola"},{"$f":"'[2]Inventário Completo'!F375","v":"COMPANHIA SIDERURGICA NACIONAL"},{"$f":"'[2]Inventário Completo'!G375","v":"CSN-VOLTA REDONDA"},{"$f":"'[2]Inventário Completo'!H375","v":"RJ"},{"$f":"'[2]Inventário Completo'!I375","v":"33.042.730/0017-71"},{"$f":"'[2]Inventário Completo'!J375","v":80541767},{"$f":"'[2]Inventário Completo'!K375","v":"Rodovia BR 393, Lúcio Meira KM 5001, SN°, Vila Santa Cecília, Volta Redonda"},{"$f":"'[2]Inventário Completo'!L375","v":"Luiz Cesar"},{"$f":"'[2]Inventário Completo'!M375","v":3105},{"$f":"'[2]Inventário Completo'!N375","v":0},{"$f":"'[2]Inventário Completo'!O375","v":0},{"$f":"'[2]Inventário Completo'!P375","v":"Em uso"},{"$f":"'[2]Inventário Completo'!Q375","v":0}]
[{"$f":"'[2]Inventário Completo'!A376","v":"GCVR0079"},{"$f":"'[2]Inventário Completo'!B376","v":1400700500991},{"$f":"'[2]Inventário Completo'!C376","v":"Coletor"},{"$f":"'[2]Inventário Completo'!D376","v":"MC9190G"},{"$f":"'[2]Inventário Completo'!E376","v":"Motorola"},{"$f":"'[2]Inventário Completo'!F376","v":"COMPANHIA SIDERURGICA NACIONAL"},{"$f":"'[2]Inventário Completo'!G376","v":"CSN-VOLTA REDONDA"},{"$f":"'[2]Inventário Completo'!H376","v":"RJ"},{"$f":"'[2]Inventário Completo'!I376","v":"33.042.730/0017-71"},{"$f":"'[2]Inventário Completo'!J376","v":80541767},{"$f":"'[2]Inventário Completo'!K376","v":"Rodovia BR 393, Lúcio Meira KM 5001, SN°, Vila Santa Cecília, Volta Redonda"},{"$f":"'[2]Inventário Completo'!L376","v":"Luiz Cesar"},{"$f":"'[2]Inventário Completo'!M376","v":3105},{"$f":"'[2]Inventário Completo'!N376","v":0},{"$f":"'[2]Inventário Completo'!O376","v":0},{"$f":"'[2]Inventário Completo'!P376","v":"Em uso"},{"$f":"'[2]Inventário Completo'!Q376","v":0}]
[{"$f":"'[2]Inventário Completo'!A377","v":"GCVR0080"},{"$f":"'[2]Inventário Completo'!B377","v":1400700501011},{"$f":"'[2]Inventário Completo'!C377","v":"Coletor"},{"$f":"'[2]Inventário Completo'!D377","v":"MC9190G"},{"$f":"'[2]Inventário Completo'!E377","v":"Motorola"},{"$f":"'[2]Inventário Completo'!F377","v":"COMPANHIA SIDERURGICA NACIONAL"},{"$f":"'[2]Inventário Completo'!G377","v":"CSN-VOLTA REDONDA"},{"$f":"'[2]Inventário Completo'!H377","v":"RJ"},{"$f":"'[2]Inventário Completo'!I377","v":"33.042.730/0017-71"},{"$f":"'[2]Inventário Completo'!J377","v":80541767},{"$f":"'[2]Inventário Completo'!K377","v":"Rodovia BR 393, Lúcio Meira KM 5001, SN°, Vila Santa Cecília, Volta Redonda"},{"$f":"'[2]Inventário Completo'!L377","v":"Luiz Cesar"},{"$f":"'[2]Inventário Completo'!M377","v":3105},{"$f":"'[2]Inventário Completo'!N377","v":0},{"$f":"'[2]Inventário Completo'!O377","v":0},{"$f":"'[2]Inventário Completo'!P377","v":"Em uso"},{"$f":"'[2]Inventário Completo'!Q377","v":0}]
[{"$f":"'[2]Inventário Completo'!A378","v":"GCVR0082"},{"$f":"'[2]Inventário Completo'!B378","v":1130000501654},{"$f":"'[2]Inventário Completo'!C378","v":"Coletor"},{"$f":"'[2]Inventário Completo'!D378","v":"MC9090G"},{"$f":"'[2]Inventário Completo'!E378","v":"Motorola"},{"$f":"'[2]Inventário Completo'!F378","v":"COMPANHIA SIDERURGICA NACIONAL"},{"$f":"'[2]Inventário Completo'!G378","v":"CSN-VOLTA REDONDA"},{"$f":"'[2]Inventário Completo'!H378","v":"RJ"},{"$f":"'[2]Inventário Completo'!I378","v":"33.042.730/0017-71"},{"$f":"'[2]Inventário Completo'!J378","v":80541767},{"$f":"'[2]Inventário Completo'!K378","v":"Rodovia BR 393, Lúcio Meira KM 5001, SN°, Vila Santa Cecília, Volta Redonda"},{"$f":"'[2]Inventário Completo'!L378","v":"Luiz Cesar"},{"$f":"'[2]Inventário Completo'!M378","v":3105},{"$f":"'[2]Inventário Completo'!N378","v":0},{"$f":"'[2]Inventário Completo'!O378","v":0},{"$f":"'[2]Inventário Completo'!P378","v":"Em uso"},{"$f":"'[2]Inventário Completo'!Q378","v":0}]
[{"$f":"'[2]Inventário Completo'!A379","v":"GCVR0083"},{"$f":"'[2]Inventário Completo'!B379","v":1706500503815},{"$f":"'[2]Inventário Completo'!C379","v":"Coletor"},{"$f":"'[2]Inventário Completo'!D379","v":"MC9200G"},{"$f":"'[2]Inventário Completo'!E379","v":"Motorola"},{"$f":"'[2]Inventário Completo'!F379","v":"COMPANHIA SIDERURGICA NACIONAL"},{"$f":"'[2]Inventário Completo'!G379","v":"CSN-VOLTA REDONDA"},{"$f":"'[2]Inventário Completo'!H379","v":"RJ"},{"$f":"'[2]Inventário Completo'!I379","v":"33.042.730/0017-71"},{"$f":"'[2]Inventário Completo'!J379","v":80541767},{"$f":"'[2]Inventário Completo'!K379","v":"Rodovia BR 393, Lúcio Meira KM 5001, SN°, Vila Santa Cecília, Volta Redonda"},{"$f":"'[2]Inventário Completo'!L379","v":"Luiz Cesar"},{"$f":"'[2]Inventário Completo'!M379","v":3105},{"$f":"'[2]Inventário Completo'!N379","v":0},{"$f":"'[2]Inventário Completo'!O379","v":0},{"$f":"'[2]Inventário Completo'!P379","v":"Em uso"},{"$f":"'[2]Inventário Completo'!Q379","v":0}]
[{"$f":"'[2]Inventário Completo'!A380","v":"GCVR0084"},{"$f":"'[2]Inventário Completo'!B380","v":1208500507817},{"$f":"'[2]Inventário Completo'!C380","v":"Coletor"},{"$f":"'[2]Inventário Completo'!D380","v":"MC9090G"},{"$f":"'[2]Inventário Completo'!E380","v":"Motorola"},{"$f":"'[2]Inventário Completo'!F380","v":"COMPANHIA SIDERURGICA NACIONAL"},{"$f":"'[2]Inventário Completo'!G380","v":"CSN-VOLTA REDONDA"},{"$f":"'[2]Inventário Completo'!H380","v":"RJ"},{"$f":"'[2]Inventário Completo'!I380","v":"33.042.730/0017-71"},{"$f":"'[2]Inventário Completo'!J380","v":80541767},{"$f":"'[2]Inventário Completo'!K380","v":"Rodovia BR 393, Lúcio Meira KM 5001, SN°, Vila Santa Cecília, Volta Redonda"},{"$f":"'[2]Inventário Completo'!L380","v":"Luiz Cesar"},{"$f":"'[2]Inventário Completo'!M380","v":3105},{"$f":"'[2]Inventário Completo'!N380","v":0},{"$f":"'[2]Inventário Completo'!O380","v":0},{"$f":"'[2]Inventário Completo'!P380","v":"Em uso"},{"$f":"'[2]Inventário Completo'!Q380","v":0}]
[{"$f":"'[2]Inventário Completo'!A381","v":"GCVR0085"},{"$f":"'[2]Inventário Completo'!B381","v":1714200502460},{"$f":"'[2]Inventário Completo'!C381","v":"Coletor"},{"$f":"'[2]Inventário Completo'!D381","v":"MC9200G"},{"$f":"'[2]Inventário Completo'!E381","v":"Motorola"},{"$f":"'[2]Inventário Completo'!F381","v":"COMPANHIA SIDERURGICA NACIONAL"},{"$f":"'[2]Inventário Completo'!G381","v":"CSN-VOLTA REDONDA"},{"$f":"'[2]Inventário Completo'!H381","v":"RJ"},{"$f":"'[2]Inventário Completo'!I381","v":"33.042.730/0017-71"},{"$f":"'[2]Inventário Completo'!J381","v":80541767},{"$f":"'[2]Inventário Completo'!K381","v":"Rodovia BR 393, Lúcio Meira KM 5001, SN°, Vila Santa Cecília, Volta Redonda"},{"$f":"'[2]Inventário Completo'!L381","v":"Luiz Cesar"},{"$f":"'[2]Inventário Completo'!M381","v":3105},{"$f":"'[2]Inventário Completo'!N381","v":0},{"$f":"'[2]Inventário Completo'!O381","v":0},{"$f":"'[2]Inventário Completo'!P381","v":"Em uso"},{"$f":"'[2]Inventário Completo'!Q381","v":0}]
[{"$f":"'[2]Inventário Completo'!A382","v":"GCVR0086"},{"$f":"'[2]Inventário Completo'!B382","v":1714200502448},{"$f":"'[2]Inventário Completo'!C382","v":"Coletor"},{"$f":"'[2]Inventário Completo'!D382","v":"MC9200G"},{"$f":"'[2]Inventário Completo'!E382","v":"Motorola"},{"$f":"'[2]Inventário Completo'!F382","v":"COMPANHIA SIDERURGICA NACIONAL"},{"$f":"'[2]Inventário Completo'!G382","v":"CSN-VOLTA REDONDA"},{"$f":"'[2]Inventário Completo'!H382","v":"RJ"},{"$f":"'[2]Inventário Completo'!I382","v":"33.042.730/0017-71"},{"$f":"'[2]Inventário Completo'!J382","v":80541767},{"$f":"'[2]Inventário Completo'!K382","v":"Rodovia BR 393, Lúcio Meira KM 5001, SN°, Vila Santa Cecília, Volta Redonda"},{"$f":"'[2]Inventário Completo'!L382","v":"Luiz Cesar"},{"$f":"'[2]Inventário Completo'!M382","v":3105},{"$f":"'[2]Inventário Completo'!N382","v":0},{"$f":"'[2]Inventário Completo'!O382","v":0},{"$f":"'[2]Inventário Completo'!P382","v":"Em uso"},{"$f":"'[2]Inventário Completo'!Q382","v":0}]
[{"$f":"'[2]Inventário Completo'!A383","v":"GCVR0087"},{"$f":"'[2]Inventário Completo'!B383","v":1714200502461},{"$f":"'[2]Inventário Completo'!C383","v":"Coletor"},{"$f":"'[2]Inventário Completo'!D383","v":"MC9200G"},{"$f":"'[2]Inventário Completo'!E383","v":"Motorola"},{"$f":"'[2]Inventário Completo'!F383","v":"COMPANHIA SIDERURGICA NACIONAL"},{"$f":"'[2]Inventário Completo'!G383","v":"CSN-VOLTA REDONDA"},{"$f":"'[2]Inventário Completo'!H383","v":"RJ"},{"$f":"'[2]Inventário Completo'!I383","v":"33.042.730/0017-71"},{"$f":"'[2]Inventário Completo'!J383","v":80541767},{"$f":"'[2]Inventário Completo'!K383","v":"Rodovia BR 393, Lúcio Meira KM 5001, SN°, Vila Santa Cecília, Volta Redonda"},{"$f":"'[2]Inventário Completo'!L383","v":"Luiz Cesar"},{"$f":"'[2]Inventário Completo'!M383","v":3105},{"$f":"'[2]Inventário Completo'!N383","v":0},{"$f":"'[2]Inventário Completo'!O383","v":0},{"$f":"'[2]Inventário Completo'!P383","v":"Em uso"},{"$f":"'[2]Inventário Completo'!Q383","v":0}]
[{"$f":"'[2]Inventário Completo'!A384","v":"GCVR0088"},{"$f":"'[2]Inventário Completo'!B384","v":1714200502451},{"$f":"'[2]Inventário Completo'!C384","v":"Coletor"},{"$f":"'[2]Inventário Completo'!D384","v":"MC9200G"},{"$f":"'[2]Inventário Completo'!E384","v":"Motorola"},{"$f":"'[2]Inventário Completo'!F384","v":"COMPANHIA SIDERURGICA NACIONAL"},{"$f":"'[2]Inventário Completo'!G384","v":"CSN-VOLTA REDONDA"},{"$f":"'[2]Inventário Completo'!H384","v":"RJ"},{"$f":"'[2]Inventário Completo'!I384","v":"33.042.730/0017-71"},{"$f":"'[2]Inventário Completo'!J384","v":80541767},{"$f":"'[2]Inventário Completo'!K384","v":"Rodovia BR 393, Lúcio Meira KM 5001, SN°, Vila Santa Cecília, Volta Redonda"},{"$f":"'[2]Inventário Completo'!L384","v":"Luiz Cesar"},{"$f":"'[2]Inventário Completo'!M384","v":3105},{"$f":"'[2]Inventário Completo'!N384","v":0},{"$f":"'[2]Inventário Completo'!O384","v":0},{"$f":"'[2]Inventário Completo'!P384","v":"Em uso"},{"$f":"'[2]Inventário Completo'!Q384","v":0}]
[{"$f":"'[2]Inventário Completo'!A385","v":"GCVR0089"},{"$f":"'[2]Inventário Completo'!B385","v":1714200502456},{"$f":"'[2]Inventário Completo'!C385","v":"Coletor"},{"$f":"'[2]Inventário Completo'!D385","v":"MC9200G"},{"$f":"'[2]Inventário Completo'!E385","v":"Motorola"},{"$f":"'[2]Inventário Completo'!F385","v":"COMPANHIA SIDERURGICA NACIONAL"},{"$f":"'[2]Inventário Completo'!G385","v":"CSN-VOLTA REDONDA"},{"$f":"'[2]Inventário Completo'!H385","v":"RJ"},{"$f":"'[2]Inventário Completo'!I385","v":"33.042.730/0017-71"},{"$f":"'[2]Inventário Completo'!J385","v":80541767},{"$f":"'[2]Inventário Completo'!K385","v":"Rodovia BR 393, Lúcio Meira KM 5001, SN°, Vila Santa Cecília, Volta Redonda"},{"$f":"'[2]Inventário Completo'!L385","v":"Luiz Cesar"},{"$f":"'[2]Inventário Completo'!M385","v":3105},{"$f":"'[2]Inventário Completo'!N385","v":0},{"$f":"'[2]Inventário Completo'!O385","v":0},{"$f":"'[2]Inventário Completo'!P385","v":"Em uso"},{"$f":"'[2]Inventário Completo'!Q385","v":0}]
[{"$f":"'[2]Inventário Completo'!A386","v":"GCVR0090"},{"$f":"'[2]Inventário Completo'!B386","v":1027800509185},{"$f":"'[2]Inventário Completo'!C386","v":"Coletor"},{"$f":"'[2]Inventário Completo'!D386","v":"MC9090G"},{"$f":"'[2]Inventário Completo'!E386","v":"Motorola"},{"$f":"'[2]Inventário Completo'!F386","v":"COMPANHIA SIDERURGICA NACIONAL"},{"$f":"'[2]Inventário Completo'!G386","v":"CSN-VOLTA REDONDA"},{"$f":"'[2]Inventário Completo'!H386","v":"RJ"},{"$f":"'[2]Inventário Completo'!I386","v":"33.042.730/0017-71"},{"$f":"'[2]Inventário Completo'!J386","v":80541767},{"$f":"'[2]Inventário Completo'!K386","v":"Rodovia BR 393, Lúcio Meira KM 5001, SN°, Vila Santa Cecília, Volta Redonda"},{"$f":"'[2]Inventário Completo'!L386","v":"Luiz Cesar"},{"$f":"'[2]Inventário Completo'!M386","v":3105},{"$f":"'[2]Inventário Completo'!N386","v":0},{"$f":"'[2]Inventário Completo'!O386","v":0},{"$f":"'[2]Inventário Completo'!P386","v":"Em uso"},{"$f":"'[2]Inventário Completo'!Q386","v":0}]
[{"$f":"'[2]Inventário Completo'!A387","v":"GCVR0091"},{"$f":"'[2]Inventário Completo'!B387","v":1730900501462},{"$f":"'[2]Inventário Completo'!C387","v":"Coletor"},{"$f":"'[2]Inventário Completo'!D387","v":"MC9200G"},{"$f":"'[2]Inventário Completo'!E387","v":"Motorola"},{"$f":"'[2]Inventário Completo'!F387","v":"COMPANHIA SIDERURGICA NACIONAL"},{"$f":"'[2]Inventário Completo'!G387","v":"CSN-VOLTA REDONDA"},{"$f":"'[2]Inventário Completo'!H387","v":"RJ"},{"$f":"'[2]Inventário Completo'!I387","v":"33.042.730/0017-71"},{"$f":"'[2]Inventário Completo'!J387","v":80541767},{"$f":"'[2]Inventário Completo'!K387","v":"Rodovia BR 393, Lúcio Meira KM 5001, SN°, Vila Santa Cecília, Volta Redonda"},{"$f":"'[2]Inventário Completo'!L387","v":"Luiz Cesar"},{"$f":"'[2]Inventário Completo'!M387","v":3105},{"$f":"'[2]Inventário Completo'!N387","v":0},{"$f":"'[2]Inventário Completo'!O387","v":0},{"$f":"'[2]Inventário Completo'!P387","v":"Em uso"},{"$f":"'[2]Inventário Completo'!Q387","v":0}]
[{"$f":"'[2]Inventário Completo'!A388","v":"GCVR0092"},{"$f":"'[2]Inventário Completo'!B388","v":1732500502102},{"$f":"'[2]Inventário Completo'!C388","v":"Coletor"},{"$f":"'[2]Inventário Completo'!D388","v":"MC9200G"},{"$f":"'[2]Inventário Completo'!E388","v":"Motorola"},{"$f":"'[2]Inventário Completo'!F388","v":"COMPANHIA SIDERURGICA NACIONAL"},{"$f":"'[2]Inventário Completo'!G388","v":"CSN-VOLTA REDONDA"},{"$f":"'[2]Inventário Completo'!H388","v":"RJ"},{"$f":"'[2]Inventário Completo'!I388","v":"33.042.730/0017-71"},{"$f":"'[2]Inventário Completo'!J388","v":80541767},{"$f":"'[2]Inventário Completo'!K388","v":"Rodovia BR 393, Lúcio Meira KM 5001, SN°, Vila Santa Cecília, Volta Redonda"},{"$f":"'[2]Inventário Completo'!L388","v":"Luiz Cesar"},{"$f":"'[2]Inventário Completo'!M388","v":3105},{"$f":"'[2]Inventário Completo'!N388","v":0},{"$f":"'[2]Inventário Completo'!O388","v":0},{"$f":"'[2]Inventário Completo'!P388","v":"Em uso"},{"$f":"'[2]Inventário Completo'!Q388","v":0}]
[{"$f":"'[2]Inventário Completo'!A389","v":"NA"},{"$f":"'[2]Inventário Completo'!B389","v":33221543096},{"$f":"'[2]Inventário Completo'!C389","v":"Coletor"},{"$f":"'[2]Inventário Completo'!D389","v":"CK71"},{"$f":"'[2]Inventário Completo'!E389","v":"Honeywell"},{"$f":"'[2]Inventário Completo'!F389","v":"COMPANHIA METALURGICA PRADA"},{"$f":"'[2]Inventário Completo'!G389","v":"PRADA - RESENDE"},{"$f":"'[2]Inventário Completo'!H389","v":"RJ"},{"$f":"'[2]Inventário Completo'!I389","v":"56.993.900/0030-76"},{"$f":"'[2]Inventário Completo'!J389","v":79809721},{"$f":"'[2]Inventário Completo'!K389","v":"Rodovia Presidente Dutra, S/Nº - Km 298, Polo Industrial - Resende - RJ - CEP.: 27.537-000                    "},{"$f":"'[2]Inventário Completo'!L389","v":"Alex Candido"},{"$f":"'[2]Inventário Completo'!M389","v":"(24) 3383-8320"},{"$f":"'[2]Inventário Completo'!N389","v":0},{"$f":"'[2]Inventário Completo'!O389","v":0},{"$f":"'[2]Inventário Completo'!P389","v":"Em uso"},{"$f":"'[2]Inventário Completo'!Q389","v":0}]
[{"$f":"'[2]Inventário Completo'!A390","v":"NA"},{"$f":"'[2]Inventário Completo'!B390","v":34521543085},{"$f":"'[2]Inventário Completo'!C390","v":"Coletor"},{"$f":"'[2]Inventário Completo'!D390","v":"CK71"},{"$f":"'[2]Inventário Completo'!E390","v":"Honeywell"},{"$f":"'[2]Inventário Completo'!F390","v":"COMPANHIA METALURGICA PRADA"},{"$f":"'[2]Inventário Completo'!G390","v":"PRADA - RESENDE"},{"$f":"'[2]Inventário Completo'!H390","v":"RJ"},{"$f":"'[2]Inventário Completo'!I390","v":"56.993.900/0030-76"},{"$f":"'[2]Inventário Completo'!J390","v":79809721},{"$f":"'[2]Inventário Completo'!K390","v":"Rodovia Presidente Dutra, S/Nº - Km 298, Polo Industrial - Resende - RJ - CEP.: 27.537-000                    "},{"$f":"'[2]Inventário Completo'!L390","v":"Alex Candido"},{"$f":"'[2]Inventário Completo'!M390","v":"(24) 3383-8320"},{"$f":"'[2]Inventário Completo'!N390","v":0},{"$f":"'[2]Inventário Completo'!O390","v":0},{"$f":"'[2]Inventário Completo'!P390","v":"Em uso"},{"$f":"'[2]Inventário Completo'!Q390","v":0}]
[{"$f":"'[2]Inventário Completo'!A391","v":"GCVR0093"},{"$f":"'[2]Inventário Completo'!B391","v":1413200504004},{"$f":"'[2]Inventário Completo'!C391","v":"Coletor"},{"$f":"'[2]Inventário Completo'!D391","v":"MC9190G"},{"$f":"'[2]Inventário Completo'!E391","v":"Motorola"},{"$f":"'[2]Inventário Completo'!F391","v":"COMPANHIA SIDERURGICA NACIONAL"},{"$f":"'[2]Inventário Completo'!G391","v":"CSN-VOLTA REDONDA"},{"$f":"'[2]Inventário Completo'!H391","v":"RJ"},{"$f":"'[2]Inventário Completo'!I391","v":"33.042.730/0017-71"},{"$f":"'[2]Inventário Completo'!J391","v":80541767},{"$f":"'[2]Inventário Completo'!K391","v":"Rodovia BR 393, Lúcio Meira KM 5001, SN°, Vila Santa Cecília, Volta Redonda"},{"$f":"'[2]Inventário Completo'!L391","v":"Luiz Cesar"},{"$f":"'[2]Inventário Completo'!M391","v":3105},{"$f":"'[2]Inventário Completo'!N391","v":0},{"$f":"'[2]Inventário Completo'!O391","v":0},{"$f":"'[2]Inventário Completo'!P391","v":"Em uso"},{"$f":"'[2]Inventário Completo'!Q391","v":0}]
[{"$f":"'[2]Inventário Completo'!A392","v":"GCVR0094"},{"$f":"'[2]Inventário Completo'!B392","v":19274010558129},{"$f":"'[2]Inventário Completo'!C392","v":"Coletor"},{"$f":"'[2]Inventário Completo'!D392","v":"MC9200G"},{"$f":"'[2]Inventário Completo'!E392","v":"Motorola"},{"$f":"'[2]Inventário Completo'!F392","v":"COMPANHIA SIDERURGICA NACIONAL"},{"$f":"'[2]Inventário Completo'!G392","v":"CSN-VOLTA REDONDA"},{"$f":"'[2]Inventário Completo'!H392","v":"RJ"},{"$f":"'[2]Inventário Completo'!I392","v":"33.042.730/0017-71"},{"$f":"'[2]Inventário Completo'!J392","v":80541767},{"$f":"'[2]Inventário Completo'!K392","v":"Rodovia BR 393, Lúcio Meira KM 5001, SN°, Vila Santa Cecília, Volta Redonda"},{"$f":"'[2]Inventário Completo'!L392","v":"Luiz Cesar"},{"$f":"'[2]Inventário Completo'!M392","v":3105},{"$f":"'[2]Inventário Completo'!N392","v":0},{"$f":"'[2]Inventário Completo'!O392","v":0},{"$f":"'[2]Inventário Completo'!P392","v":"Em uso"},{"$f":"'[2]Inventário Completo'!Q392","v":0}]
[{"$f":"'[2]Inventário Completo'!A393","v":"GCVR0095"},{"$f":"'[2]Inventário Completo'!B393","v":19270010554245},{"$f":"'[2]Inventário Completo'!C393","v":"Coletor"},{"$f":"'[2]Inventário Completo'!D393","v":"MC9200G"},{"$f":"'[2]Inventário Completo'!E393","v":"Motorola"},{"$f":"'[2]Inventário Completo'!F393","v":"COMPANHIA SIDERURGICA NACIONAL"},{"$f":"'[2]Inventário Completo'!G393","v":"CSN-VOLTA REDONDA"},{"$f":"'[2]Inventário Completo'!H393","v":"RJ"},{"$f":"'[2]Inventário Completo'!I393","v":"33.042.730/0017-71"},{"$f":"'[2]Inventário Completo'!J393","v":80541767},{"$f":"'[2]Inventário Completo'!K393","v":"Rodovia BR 393, Lúcio Meira KM 5001, SN°, Vila Santa Cecília, Volta Redonda"},{"$f":"'[2]Inventário Completo'!L393","v":"Luiz Cesar"},{"$f":"'[2]Inventário Completo'!M393","v":3105},{"$f":"'[2]Inventário Completo'!N393","v":0},{"$f":"'[2]Inventário Completo'!O393","v":0},{"$f":"'[2]Inventário Completo'!P393","v":"Em uso"},{"$f":"'[2]Inventário Completo'!Q393","v":0}]
[{"$f":"'[2]Inventário Completo'!A394","v":"GCVR0096"},{"$f":"'[2]Inventário Completo'!B394","v":1905700501233},{"$f":"'[2]Inventário Completo'!C394","v":"Coletor"},{"$f":"'[2]Inventário Completo'!D394","v":"MC9200G"},{"$f":"'[2]Inventário Completo'!E394","v":"Motorola"},{"$f":"'[2]Inventário Completo'!F394","v":"COMPANHIA SIDERURGICA NACIONAL"},{"$f":"'[2]Inventário Completo'!G394","v":"CSN-VOLTA REDONDA"},{"$f":"'[2]Inventário Completo'!H394","v":"RJ"},{"$f":"'[2]Inventário Completo'!I394","v":"33.042.730/0017-71"},{"$f":"'[2]Inventário Completo'!J394","v":80541767},{"$f":"'[2]Inventário Completo'!K394","v":"Rodovia BR 393, Lúcio Meira KM 5001, SN°, Vila Santa Cecília, Volta Redonda"},{"$f":"'[2]Inventário Completo'!L394","v":"Luiz Cesar"},{"$f":"'[2]Inventário Completo'!M394","v":3105},{"$f":"'[2]Inventário Completo'!N394","v":0},{"$f":"'[2]Inventário Completo'!O394","v":0},{"$f":"'[2]Inventário Completo'!P394","v":"Em uso"},{"$f":"'[2]Inventário Completo'!Q394","v":0}]
[{"$f":"'[2]Inventário Completo'!A395","v":"GCVR0097"},{"$f":"'[2]Inventário Completo'!B395","v":1905700501085},{"$f":"'[2]Inventário Completo'!C395","v":"Coletor"},{"$f":"'[2]Inventário Completo'!D395","v":"MC9200G"},{"$f":"'[2]Inventário Completo'!E395","v":"Motorola"},{"$f":"'[2]Inventário Completo'!F395","v":"COMPANHIA SIDERURGICA NACIONAL"},{"$f":"'[2]Inventário Completo'!G395","v":"CSN-VOLTA REDONDA"},{"$f":"'[2]Inventário Completo'!H395","v":"RJ"},{"$f":"'[2]Inventário Completo'!I395","v":"33.042.730/0017-71"},{"$f":"'[2]Inventário Completo'!J395","v":80541767},{"$f":"'[2]Inventário Completo'!K395","v":"Rodovia BR 393, Lúcio Meira KM 5001, SN°, Vila Santa Cecília, Volta Redonda"},{"$f":"'[2]Inventário Completo'!L395","v":"Luiz Cesar"},{"$f":"'[2]Inventário Completo'!M395","v":3105},{"$f":"'[2]Inventário Completo'!N395","v":0},{"$f":"'[2]Inventário Completo'!O395","v":0},{"$f":"'[2]Inventário Completo'!P395","v":"Em uso"},{"$f":"'[2]Inventário Completo'!Q395","v":0}]
[{"$f":"'[2]Inventário Completo'!A396","v":"GCVR0098"},{"$f":"'[2]Inventário Completo'!B396","v":19332010557782},{"$f":"'[2]Inventário Completo'!C396","v":"Coletor"},{"$f":"'[2]Inventário Completo'!D396","v":"MC9200G"},{"$f":"'[2]Inventário Completo'!E396","v":"Motorola"},{"$f":"'[2]Inventário Completo'!F396","v":"COMPANHIA SIDERURGICA NACIONAL"},{"$f":"'[2]Inventário Completo'!G396","v":"CSN-VOLTA REDONDA"},{"$f":"'[2]Inventário Completo'!H396","v":"RJ"},{"$f":"'[2]Inventário Completo'!I396","v":"33.042.730/0017-71"},{"$f":"'[2]Inventário Completo'!J396","v":80541767},{"$f":"'[2]Inventário Completo'!K396","v":"Rodovia BR 393, Lúcio Meira KM 5001, SN°, Vila Santa Cecília, Volta Redonda"},{"$f":"'[2]Inventário Completo'!L396","v":"Luiz Cesar"},{"$f":"'[2]Inventário Completo'!M396","v":3105},{"$f":"'[2]Inventário Completo'!N396","v":0},{"$f":"'[2]Inventário Completo'!O396","v":0},{"$f":"'[2]Inventário Completo'!P396","v":"Em uso"},{"$f":"'[2]Inventário Completo'!Q396","v":0}]
[{"$f":"'[2]Inventário Completo'!A397","v":"GCVR0099"},{"$f":"'[2]Inventário Completo'!B397","v":1933201557787},{"$f":"'[2]Inventário Completo'!C397","v":"Coletor"},{"$f":"'[2]Inventário Completo'!D397","v":"MC9200G"},{"$f":"'[2]Inventário Completo'!E397","v":"Motorola"},{"$f":"'[2]Inventário Completo'!F397","v":"COMPANHIA SIDERURGICA NACIONAL"},{"$f":"'[2]Inventário Completo'!G397","v":"CSN-VOLTA REDONDA"},{"$f":"'[2]Inventário Completo'!H397","v":"RJ"},{"$f":"'[2]Inventário Completo'!I397","v":"33.042.730/0017-71"},{"$f":"'[2]Inventário Completo'!J397","v":80541767},{"$f":"'[2]Inventário Completo'!K397","v":"Rodovia BR 393, Lúcio Meira KM 5001, SN°, Vila Santa Cecília, Volta Redonda"},{"$f":"'[2]Inventário Completo'!L397","v":"Luiz Cesar"},{"$f":"'[2]Inventário Completo'!M397","v":3105},{"$f":"'[2]Inventário Completo'!N397","v":0},{"$f":"'[2]Inventário Completo'!O397","v":0},{"$f":"'[2]Inventário Completo'!P397","v":"Em uso"},{"$f":"'[2]Inventário Completo'!Q397","v":0}]
[{"$f":"'[2]Inventário Completo'!A398","v":"GCVR0100"},{"$f":"'[2]Inventário Completo'!B398","v":19332010557812},{"$f":"'[2]Inventário Completo'!C398","v":"Coletor"},{"$f":"'[2]Inventário Completo'!D398","v":"MC9200G"},{"$f":"'[2]Inventário Completo'!E398","v":"Motorola"},{"$f":"'[2]Inventário Completo'!F398","v":"COMPANHIA SIDERURGICA NACIONAL"},{"$f":"'[2]Inventário Completo'!G398","v":"CSN-VOLTA REDONDA"},{"$f":"'[2]Inventário Completo'!H398","v":"RJ"},{"$f":"'[2]Inventário Completo'!I398","v":"33.042.730/0017-71"},{"$f":"'[2]Inventário Completo'!J398","v":80541767},{"$f":"'[2]Inventário Completo'!K398","v":"Rodovia BR 393, Lúcio Meira KM 5001, SN°, Vila Santa Cecília, Volta Redonda"},{"$f":"'[2]Inventário Completo'!L398","v":"Luiz Cesar"},{"$f":"'[2]Inventário Completo'!M398","v":3105},{"$f":"'[2]Inventário Completo'!N398","v":0},{"$f":"'[2]Inventário Completo'!O398","v":0},{"$f":"'[2]Inventário Completo'!P398","v":"Em uso"},{"$f":"'[2]Inventário Completo'!Q398","v":0}]
[{"$f":"'[2]Inventário Completo'!A399","v":"JCAU0020"},{"$f":"'[2]Inventário Completo'!B399","v":"52J172001075"},{"$f":"'[2]Inventário Completo'!C399","v":"Impressora Térmicas"},{"$f":"'[2]Inventário Completo'!D399","v":"ZT230"},{"$f":"'[2]Inventário Completo'!E399","v":"Zebra"},{"$f":"'[2]Inventário Completo'!F399","v":"COMPANHIA SIDERURGICA NACIONAL"},{"$f":"'[2]Inventário Completo'!G399","v":"CSN-ARAUCARIA"},{"$f":"'[2]Inventário Completo'!H399","v":"PR"},{"$f":"'[2]Inventário Completo'!I399","v":"33.042.730/0134-67"},{"$f":"'[2]Inventário Completo'!J399","v":"90.212.835-22"},{"$f":"'[2]Inventário Completo'!K399","v":"Rodovia PR-423, 5500-Estação-Araucária-PR 83705-000"},{"$f":"'[2]Inventário Completo'!L399","v":"Clodoaldo de Moraes"},{"$f":"'[2]Inventário Completo'!M399","v":"(41) 3641- 8050"},{"$f":"'[2]Inventário Completo'!N399","v":0},{"$f":"'[2]Inventário Completo'!O399","v":0},{"$f":"'[2]Inventário Completo'!P399","v":"Em uso"},{"$f":"'[2]Inventário Completo'!Q399","v":0}]
[{"$f":"'[2]Inventário Completo'!A400","v":"JCAU0021"},{"$f":"'[2]Inventário Completo'!B400","v":"52J172001260"},{"$f":"'[2]Inventário Completo'!C400","v":"Impressora Térmicas"},{"$f":"'[2]Inventário Completo'!D400","v":"ZT230"},{"$f":"'[2]Inventário Completo'!E400","v":"Zebra"},{"$f":"'[2]Inventário Completo'!F400","v":"COMPANHIA SIDERURGICA NACIONAL"},{"$f":"'[2]Inventário Completo'!G400","v":"CSN-ARAUCARIA"},{"$f":"'[2]Inventário Completo'!H400","v":"PR"},{"$f":"'[2]Inventário Completo'!I400","v":"33.042.730/0134-67"},{"$f":"'[2]Inventário Completo'!J400","v":"90.212.835-22"},{"$f":"'[2]Inventário Completo'!K400","v":"Rodovia PR-423, 5500-Estação-Araucária-PR 83705-000"},{"$f":"'[2]Inventário Completo'!L400","v":"Clodoaldo de Moraes"},{"$f":"'[2]Inventário Completo'!M400","v":"(41) 3641- 8050"},{"$f":"'[2]Inventário Completo'!N400","v":0},{"$f":"'[2]Inventário Completo'!O400","v":0},{"$f":"'[2]Inventário Completo'!P400","v":"Em uso"},{"$f":"'[2]Inventário Completo'!Q400","v":0}]
[{"$f":"'[2]Inventário Completo'!A401","v":"JCAU0026"},{"$f":"'[2]Inventário Completo'!B401","v":"52J183700466"},{"$f":"'[2]Inventário Completo'!C401","v":"Impressora Térmicas"},{"$f":"'[2]Inventário Completo'!D401","v":"ZT230"},{"$f":"'[2]Inventário Completo'!E401","v":"Zebra"},{"$f":"'[2]Inventário Completo'!F401","v":"COMPANHIA SIDERURGICA NACIONAL"},{"$f":"'[2]Inventário Completo'!G401","v":"CSN-ARAUCARIA"},{"$f":"'[2]Inventário Completo'!H401","v":"PR"},{"$f":"'[2]Inventário Completo'!I401","v":"33.042.730/0134-67"},{"$f":"'[2]Inventário Completo'!J401","v":"90.212.835-22"},{"$f":"'[2]Inventário Completo'!K401","v":"Rodovia PR-423, 5500-Estação-Araucária-PR 83705-000"},{"$f":"'[2]Inventário Completo'!L401","v":"Clodoaldo de Moraes"},{"$f":"'[2]Inventário Completo'!M401","v":"(41) 3641- 8050"},{"$f":"'[2]Inventário Completo'!N401","v":0},{"$f":"'[2]Inventário Completo'!O401","v":0},{"$f":"'[2]Inventário Completo'!P401","v":"Em uso"},{"$f":"'[2]Inventário Completo'!Q401","v":0}]
[{"$f":"'[2]Inventário Completo'!A402","v":"JCAU0027"},{"$f":"'[2]Inventário Completo'!B402","v":"52J180461034"},{"$f":"'[2]Inventário Completo'!C402","v":"Impressora Térmicas"},{"$f":"'[2]Inventário Completo'!D402","v":"ZT230"},{"$f":"'[2]Inventário Completo'!E402","v":"Zebra"},{"$f":"'[2]Inventário Completo'!F402","v":"COMPANHIA SIDERURGICA NACIONAL"},{"$f":"'[2]Inventário Completo'!G402","v":"CSN-ARAUCARIA"},{"$f":"'[2]Inventário Completo'!H402","v":"PR"},{"$f":"'[2]Inventário Completo'!I402","v":"33.042.730/0134-67"},{"$f":"'[2]Inventário Completo'!J402","v":"90.212.835-22"},{"$f":"'[2]Inventário Completo'!K402","v":"Rodovia PR-423, 5500-Estação-Araucária-PR 83705-000"},{"$f":"'[2]Inventário Completo'!L402","v":"Clodoaldo de Moraes"},{"$f":"'[2]Inventário Completo'!M402","v":"(41) 3641- 8050"},{"$f":"'[2]Inventário Completo'!N402","v":0},{"$f":"'[2]Inventário Completo'!O402","v":0},{"$f":"'[2]Inventário Completo'!P402","v":"Em uso"},{"$f":"'[2]Inventário Completo'!Q402","v":0}]
[{"$f":"'[2]Inventário Completo'!A403","v":"JCAU0015"},{"$f":"'[2]Inventário Completo'!B403","v":"52J143002494"},{"$f":"'[2]Inventário Completo'!C403","v":"Impressora Térmicas"},{"$f":"'[2]Inventário Completo'!D403","v":"ZT230"},{"$f":"'[2]Inventário Completo'!E403","v":"Zebra"},{"$f":"'[2]Inventário Completo'!F403","v":"COMPANHIA SIDERURGICA NACIONAL"},{"$f":"'[2]Inventário Completo'!G403","v":"CSN-ARAUCARIA"},{"$f":"'[2]Inventário Completo'!H403","v":"PR"},{"$f":"'[2]Inventário Completo'!I403","v":"33.042.730/0134-67"},{"$f":"'[2]Inventário Completo'!J403","v":"90.212.835-22"},{"$f":"'[2]Inventário Completo'!K403","v":"Rodovia PR-423, 5500-Estação-Araucária-PR 83705-000"},{"$f":"'[2]Inventário Completo'!L403","v":"Clodoaldo de Moraes"},{"$f":"'[2]Inventário Completo'!M403","v":"(41) 3641- 8050"},{"$f":"'[2]Inventário Completo'!N403","v":0},{"$f":"'[2]Inventário Completo'!O403","v":0},{"$f":"'[2]Inventário Completo'!P403","v":"Em uso"},{"$f":"'[2]Inventário Completo'!Q403","v":0}]
[{"$f":"'[2]Inventário Completo'!A404","v":"JCAU0029"},{"$f":"'[2]Inventário Completo'!B404","v":"52J180307866"},{"$f":"'[2]Inventário Completo'!C404","v":"Impressora Térmicas"},{"$f":"'[2]Inventário Completo'!D404","v":"ZT230"},{"$f":"'[2]Inventário Completo'!E404","v":"Zebra"},{"$f":"'[2]Inventário Completo'!F404","v":"COMPANHIA SIDERURGICA NACIONAL"},{"$f":"'[2]Inventário Completo'!G404","v":"CSN-ARAUCARIA"},{"$f":"'[2]Inventário Completo'!H404","v":"PR"},{"$f":"'[2]Inventário Completo'!I404","v":"33.042.730/0134-67"},{"$f":"'[2]Inventário Completo'!J404","v":"90.212.835-22"},{"$f":"'[2]Inventário Completo'!K404","v":"Rodovia PR-423, 5500-Estação-Araucária-PR 83705-000"},{"$f":"'[2]Inventário Completo'!L404","v":"Clodoaldo de Moraes"},{"$f":"'[2]Inventário Completo'!M404","v":"(41) 3641- 8050"},{"$f":"'[2]Inventário Completo'!N404","v":0},{"$f":"'[2]Inventário Completo'!O404","v":0},{"$f":"'[2]Inventário Completo'!P404","v":"Em uso"},{"$f":"'[2]Inventário Completo'!Q404","v":0}]
[{"$f":"'[2]Inventário Completo'!A405","v":"JCAU0028"},{"$f":"'[2]Inventário Completo'!B405","v":"52J180307863"},{"$f":"'[2]Inventário Completo'!C405","v":"Impressora Térmicas"},{"$f":"'[2]Inventário Completo'!D405","v":"ZT230"},{"$f":"'[2]Inventário Completo'!E405","v":"Zebra"},{"$f":"'[2]Inventário Completo'!F405","v":"COMPANHIA SIDERURGICA NACIONAL"},{"$f":"'[2]Inventário Completo'!G405","v":"CSN-ARAUCARIA"},{"$f":"'[2]Inventário Completo'!H405","v":"PR"},{"$f":"'[2]Inventário Completo'!I405","v":"33.042.730/0134-67"},{"$f":"'[2]Inventário Completo'!J405","v":"90.212.835-22"},{"$f":"'[2]Inventário Completo'!K405","v":"Rodovia PR-423, 5500-Estação-Araucária-PR 83705-000"},{"$f":"'[2]Inventário Completo'!L405","v":"Clodoaldo de Moraes"},{"$f":"'[2]Inventário Completo'!M405","v":"(41) 3641- 8050"},{"$f":"'[2]Inventário Completo'!N405","v":0},{"$f":"'[2]Inventário Completo'!O405","v":0},{"$f":"'[2]Inventário Completo'!P405","v":"Em uso"},{"$f":"'[2]Inventário Completo'!Q405","v":0}]
[{"$f":"'[2]Inventário Completo'!A406","v":"JCAU0031"},{"$f":"'[2]Inventário Completo'!B406","v":"52N212101523"},{"$f":"'[2]Inventário Completo'!C406","v":"Impressora Térmicas"},{"$f":"'[2]Inventário Completo'!D406","v":"ZT230"},{"$f":"'[2]Inventário Completo'!E406","v":"Zebra"},{"$f":"'[2]Inventário Completo'!F406","v":"COMPANHIA SIDERURGICA NACIONAL"},{"$f":"'[2]Inventário Completo'!G406","v":"CSN-ARAUCARIA"},{"$f":"'[2]Inventário Completo'!H406","v":"PR"},{"$f":"'[2]Inventário Completo'!I406","v":"33.042.730/0134-67"},{"$f":"'[2]Inventário Completo'!J406","v":"90.212.835-22"},{"$f":"'[2]Inventário Completo'!K406","v":"Rodovia PR-423, 5500-Estação-Araucária-PR 83705-000"},{"$f":"'[2]Inventário Completo'!L406","v":"Clodoaldo de Moraes"},{"$f":"'[2]Inventário Completo'!M406","v":"(41) 3641- 8050"},{"$f":"'[2]Inventário Completo'!N406","v":0},{"$f":"'[2]Inventário Completo'!O406","v":0},{"$f":"'[2]Inventário Completo'!P406","v":"Em uso"},{"$f":"'[2]Inventário Completo'!Q406","v":0}]
[{"$f":"'[2]Inventário Completo'!A407","v":"JCAU0014"},{"$f":"'[2]Inventário Completo'!B407","v":"52J143001823"},{"$f":"'[2]Inventário Completo'!C407","v":"Impressora Térmicas"},{"$f":"'[2]Inventário Completo'!D407","v":"ZT230"},{"$f":"'[2]Inventário Completo'!E407","v":"Zebra"},{"$f":"'[2]Inventário Completo'!F407","v":"COMPANHIA SIDERURGICA NACIONAL"},{"$f":"'[2]Inventário Completo'!G407","v":"CSN-ARAUCARIA"},{"$f":"'[2]Inventário Completo'!H407","v":"PR"},{"$f":"'[2]Inventário Completo'!I407","v":"33.042.730/0134-67"},{"$f":"'[2]Inventário Completo'!J407","v":"90.212.835-22"},{"$f":"'[2]Inventário Completo'!K407","v":"Rodovia PR-423, 5500-Estação-Araucária-PR 83705-000"},{"$f":"'[2]Inventário Completo'!L407","v":"Clodoaldo de Moraes"},{"$f":"'[2]Inventário Completo'!M407","v":"(41) 3641- 8050"},{"$f":"'[2]Inventário Completo'!N407","v":0},{"$f":"'[2]Inventário Completo'!O407","v":0},{"$f":"'[2]Inventário Completo'!P407","v":"Em uso"},{"$f":"'[2]Inventário Completo'!Q407","v":0}]
[{"$f":"'[2]Inventário Completo'!A408","v":"JCAU0008"},{"$f":"'[2]Inventário Completo'!B408","v":"52J135000208"},{"$f":"'[2]Inventário Completo'!C408","v":"Impressora Térmicas"},{"$f":"'[2]Inventário Completo'!D408","v":"ZT230"},{"$f":"'[2]Inventário Completo'!E408","v":"Zebra"},{"$f":"'[2]Inventário Completo'!F408","v":"COMPANHIA SIDERURGICA NACIONAL"},{"$f":"'[2]Inventário Completo'!G408","v":"CSN-ARAUCARIA"},{"$f":"'[2]Inventário Completo'!H408","v":"PR"},{"$f":"'[2]Inventário Completo'!I408","v":"33.042.730/0134-67"},{"$f":"'[2]Inventário Completo'!J408","v":"90.212.835-22"},{"$f":"'[2]Inventário Completo'!K408","v":"Rodovia PR-423, 5500-Estação-Araucária-PR 83705-000"},{"$f":"'[2]Inventário Completo'!L408","v":"Clodoaldo de Moraes"},{"$f":"'[2]Inventário Completo'!M408","v":"(41) 3641- 8050"},{"$f":"'[2]Inventário Completo'!N408","v":0},{"$f":"'[2]Inventário Completo'!O408","v":0},{"$f":"'[2]Inventário Completo'!P408","v":"Em uso"},{"$f":"'[2]Inventário Completo'!Q408","v":0}]
[{"$f":"'[2]Inventário Completo'!A409","v":"JCAU0009"},{"$f":"'[2]Inventário Completo'!B409","v":"52J135000217"},{"$f":"'[2]Inventário Completo'!C409","v":"Impressora Térmicas"},{"$f":"'[2]Inventário Completo'!D409","v":"ZT230"},{"$f":"'[2]Inventário Completo'!E409","v":"Zebra"},{"$f":"'[2]Inventário Completo'!F409","v":"COMPANHIA SIDERURGICA NACIONAL"},{"$f":"'[2]Inventário Completo'!G409","v":"CSN-ARAUCARIA"},{"$f":"'[2]Inventário Completo'!H409","v":"PR"},{"$f":"'[2]Inventário Completo'!I409","v":"33.042.730/0134-67"},{"$f":"'[2]Inventário Completo'!J409","v":"90.212.835-22"},{"$f":"'[2]Inventário Completo'!K409","v":"Rodovia PR-423, 5500-Estação-Araucária-PR 83705-000"},{"$f":"'[2]Inventário Completo'!L409","v":"Clodoaldo de Moraes"},{"$f":"'[2]Inventário Completo'!M409","v":"(41) 3641- 8050"},{"$f":"'[2]Inventário Completo'!N409","v":0},{"$f":"'[2]Inventário Completo'!O409","v":0},{"$f":"'[2]Inventário Completo'!P409","v":"Em uso"},{"$f":"'[2]Inventário Completo'!Q409","v":0}]
[{"$f":"'[2]Inventário Completo'!A410","v":"JCAU0016"},{"$f":"'[2]Inventário Completo'!B410","v":"52J143002499"},{"$f":"'[2]Inventário Completo'!C410","v":"Impressora Térmicas"},{"$f":"'[2]Inventário Completo'!D410","v":"ZT230"},{"$f":"'[2]Inventário Completo'!E410","v":"Zebra"},{"$f":"'[2]Inventário Completo'!F410","v":"COMPANHIA SIDERURGICA NACIONAL"},{"$f":"'[2]Inventário Completo'!G410","v":"CSN-ARAUCARIA"},{"$f":"'[2]Inventário Completo'!H410","v":"PR"},{"$f":"'[2]Inventário Completo'!I410","v":"33.042.730/0134-67"},{"$f":"'[2]Inventário Completo'!J410","v":"90.212.835-22"},{"$f":"'[2]Inventário Completo'!K410","v":"Rodovia PR-423, 5500-Estação-Araucária-PR 83705-000"},{"$f":"'[2]Inventário Completo'!L410","v":"Clodoaldo de Moraes"},{"$f":"'[2]Inventário Completo'!M410","v":"(41) 3641- 8050"},{"$f":"'[2]Inventário Completo'!N410","v":0},{"$f":"'[2]Inventário Completo'!O410","v":0},{"$f":"'[2]Inventário Completo'!P410","v":"Em uso"},{"$f":"'[2]Inventário Completo'!Q410","v":0}]
[{"$f":"'[2]Inventário Completo'!A411","v":"JCAU0022"},{"$f":"'[2]Inventário Completo'!B411","v":"52J183700450"},{"$f":"'[2]Inventário Completo'!C411","v":"Impressora Térmicas"},{"$f":"'[2]Inventário Completo'!D411","v":"ZT230"},{"$f":"'[2]Inventário Completo'!E411","v":"Zebra"},{"$f":"'[2]Inventário Completo'!F411","v":"COMPANHIA SIDERURGICA NACIONAL"},{"$f":"'[2]Inventário Completo'!G411","v":"CSN-ARAUCARIA"},{"$f":"'[2]Inventário Completo'!H411","v":"PR"},{"$f":"'[2]Inventário Completo'!I411","v":"33.042.730/0134-67"},{"$f":"'[2]Inventário Completo'!J411","v":"90.212.835-22"},{"$f":"'[2]Inventário Completo'!K411","v":"Rodovia PR-423, 5500-Estação-Araucária-PR 83705-000"},{"$f":"'[2]Inventário Completo'!L411","v":"Clodoaldo de Moraes"},{"$f":"'[2]Inventário Completo'!M411","v":"(41) 3641- 8050"},{"$f":"'[2]Inventário Completo'!N411","v":0},{"$f":"'[2]Inventário Completo'!O411","v":0},{"$f":"'[2]Inventário Completo'!P411","v":"Em uso"},{"$f":"'[2]Inventário Completo'!Q411","v":0}]
[{"$f":"'[2]Inventário Completo'!A412","v":"JCAU0024"},{"$f":"'[2]Inventário Completo'!B412","v":"52J183700352"},{"$f":"'[2]Inventário Completo'!C412","v":"Impressora Térmicas"},{"$f":"'[2]Inventário Completo'!D412","v":"ZT230"},{"$f":"'[2]Inventário Completo'!E412","v":"Zebra"},{"$f":"'[2]Inventário Completo'!F412","v":"COMPANHIA SIDERURGICA NACIONAL"},{"$f":"'[2]Inventário Completo'!G412","v":"CSN-ARAUCARIA"},{"$f":"'[2]Inventário Completo'!H412","v":"PR"},{"$f":"'[2]Inventário Completo'!I412","v":"33.042.730/0134-67"},{"$f":"'[2]Inventário Completo'!J412","v":"90.212.835-22"},{"$f":"'[2]Inventário Completo'!K412","v":"Rodovia PR-423, 5500-Estação-Araucária-PR 83705-000"},{"$f":"'[2]Inventário Completo'!L412","v":"Clodoaldo de Moraes"},{"$f":"'[2]Inventário Completo'!M412","v":"(41) 3641- 8050"},{"$f":"'[2]Inventário Completo'!N412","v":0},{"$f":"'[2]Inventário Completo'!O412","v":0},{"$f":"'[2]Inventário Completo'!P412","v":"Em uso"},{"$f":"'[2]Inventário Completo'!Q412","v":0}]
[{"$f":"'[2]Inventário Completo'!A413","v":"JCAU0025"},{"$f":"'[2]Inventário Completo'!B413","v":"52J184402687"},{"$f":"'[2]Inventário Completo'!C413","v":"Impressora Térmicas"},{"$f":"'[2]Inventário Completo'!D413","v":"ZT230"},{"$f":"'[2]Inventário Completo'!E413","v":"Zebra"},{"$f":"'[2]Inventário Completo'!F413","v":"COMPANHIA SIDERURGICA NACIONAL"},{"$f":"'[2]Inventário Completo'!G413","v":"CSN-ARAUCARIA"},{"$f":"'[2]Inventário Completo'!H413","v":"PR"},{"$f":"'[2]Inventário Completo'!I413","v":"33.042.730/0134-67"},{"$f":"'[2]Inventário Completo'!J413","v":"90.212.835-22"},{"$f":"'[2]Inventário Completo'!K413","v":"Rodovia PR-423, 5500-Estação-Araucária-PR 83705-000"},{"$f":"'[2]Inventário Completo'!L413","v":"Clodoaldo de Moraes"},{"$f":"'[2]Inventário Completo'!M413","v":"(41) 3641- 8050"},{"$f":"'[2]Inventário Completo'!N413","v":0},{"$f":"'[2]Inventário Completo'!O413","v":0},{"$f":"'[2]Inventário Completo'!P413","v":"Em uso"},{"$f":"'[2]Inventário Completo'!Q413","v":0}]
[{"$f":"'[2]Inventário Completo'!A414","v":"JCAU0011"},{"$f":"'[2]Inventário Completo'!B414","v":"52J135001516"},{"$f":"'[2]Inventário Completo'!C414","v":"Impressora Térmicas"},{"$f":"'[2]Inventário Completo'!D414","v":"ZT230"},{"$f":"'[2]Inventário Completo'!E414","v":"Zebra"},{"$f":"'[2]Inventário Completo'!F414","v":"COMPANHIA SIDERURGICA NACIONAL"},{"$f":"'[2]Inventário Completo'!G414","v":"CSN-ARAUCARIA"},{"$f":"'[2]Inventário Completo'!H414","v":"PR"},{"$f":"'[2]Inventário Completo'!I414","v":"33.042.730/0134-67"},{"$f":"'[2]Inventário Completo'!J414","v":"90.212.835-22"},{"$f":"'[2]Inventário Completo'!K414","v":"Rodovia PR-423, 5500-Estação-Araucária-PR 83705-000"},{"$f":"'[2]Inventário Completo'!L414","v":"Clodoaldo de Moraes"},{"$f":"'[2]Inventário Completo'!M414","v":"(41) 3641- 8050"},{"$f":"'[2]Inventário Completo'!N414","v":0},{"$f":"'[2]Inventário Completo'!O414","v":0},{"$f":"'[2]Inventário Completo'!P414","v":"Em uso"},{"$f":"'[2]Inventário Completo'!Q414","v":0}]
[{"$f":"'[2]Inventário Completo'!A415","v":"JCAU0012"},{"$f":"'[2]Inventário Completo'!B415","v":"52J135001529"},{"$f":"'[2]Inventário Completo'!C415","v":"Impressora Térmicas"},{"$f":"'[2]Inventário Completo'!D415","v":"ZT230"},{"$f":"'[2]Inventário Completo'!E415","v":"Zebra"},{"$f":"'[2]Inventário Completo'!F415","v":"COMPANHIA SIDERURGICA NACIONAL"},{"$f":"'[2]Inventário Completo'!G415","v":"CSN-ARAUCARIA"},{"$f":"'[2]Inventário Completo'!H415","v":"PR"},{"$f":"'[2]Inventário Completo'!I415","v":"33.042.730/0134-67"},{"$f":"'[2]Inventário Completo'!J415","v":"90.212.835-22"},{"$f":"'[2]Inventário Completo'!K415","v":"Rodovia PR-423, 5500-Estação-Araucária-PR 83705-000"},{"$f":"'[2]Inventário Completo'!L415","v":"Clodoaldo de Moraes"},{"$f":"'[2]Inventário Completo'!M415","v":"(41) 3641- 8050"},{"$f":"'[2]Inventário Completo'!N415","v":0},{"$f":"'[2]Inventário Completo'!O415","v":0},{"$f":"'[2]Inventário Completo'!P415","v":"Em uso"},{"$f":"'[2]Inventário Completo'!Q415","v":0}]
[{"$f":"'[2]Inventário Completo'!A416","v":"JCAU0013"},{"$f":"'[2]Inventário Completo'!B416","v":"52J135001538"},{"$f":"'[2]Inventário Completo'!C416","v":"Impressora Térmicas"},{"$f":"'[2]Inventário Completo'!D416","v":"ZT230"},{"$f":"'[2]Inventário Completo'!E416","v":"Zebra"},{"$f":"'[2]Inventário Completo'!F416","v":"COMPANHIA SIDERURGICA NACIONAL"},{"$f":"'[2]Inventário Completo'!G416","v":"CSN-ARAUCARIA"},{"$f":"'[2]Inventário Completo'!H416","v":"PR"},{"$f":"'[2]Inventário Completo'!I416","v":"33.042.730/0134-67"},{"$f":"'[2]Inventário Completo'!J416","v":"90.212.835-22"},{"$f":"'[2]Inventário Completo'!K416","v":"Rodovia PR-423, 5500-Estação-Araucária-PR 83705-000"},{"$f":"'[2]Inventário Completo'!L416","v":"Clodoaldo de Moraes"},{"$f":"'[2]Inventário Completo'!M416","v":"(41) 3641- 8050"},{"$f":"'[2]Inventário Completo'!N416","v":0},{"$f":"'[2]Inventário Completo'!O416","v":0},{"$f":"'[2]Inventário Completo'!P416","v":"Em uso"},{"$f":"'[2]Inventário Completo'!Q416","v":0}]
[{"$f":"'[2]Inventário Completo'!A417","v":"JCAU0017"},{"$f":"'[2]Inventário Completo'!B417","v":"52J143001825"},{"$f":"'[2]Inventário Completo'!C417","v":"Impressora Térmicas"},{"$f":"'[2]Inventário Completo'!D417","v":"ZT230"},{"$f":"'[2]Inventário Completo'!E417","v":"Zebra"},{"$f":"'[2]Inventário Completo'!F417","v":"COMPANHIA SIDERURGICA NACIONAL"},{"$f":"'[2]Inventário Completo'!G417","v":"CSN-ARAUCARIA"},{"$f":"'[2]Inventário Completo'!H417","v":"PR"},{"$f":"'[2]Inventário Completo'!I417","v":"33.042.730/0134-67"},{"$f":"'[2]Inventário Completo'!J417","v":"90.212.835-22"},{"$f":"'[2]Inventário Completo'!K417","v":"Rodovia PR-423, 5500-Estação-Araucária-PR 83705-000"},{"$f":"'[2]Inventário Completo'!L417","v":"Clodoaldo de Moraes"},{"$f":"'[2]Inventário Completo'!M417","v":"(41) 3641- 8050"},{"$f":"'[2]Inventário Completo'!N417","v":0},{"$f":"'[2]Inventário Completo'!O417","v":0},{"$f":"'[2]Inventário Completo'!P417","v":"Em uso"},{"$f":"'[2]Inventário Completo'!Q417","v":0}]
[{"$f":"'[2]Inventário Completo'!A418","v":"JCAU0019"},{"$f":"'[2]Inventário Completo'!B418","v":"52J143002519"},{"$f":"'[2]Inventário Completo'!C418","v":"Impressora Térmicas"},{"$f":"'[2]Inventário Completo'!D418","v":"ZT230"},{"$f":"'[2]Inventário Completo'!E418","v":"Zebra"},{"$f":"'[2]Inventário Completo'!F418","v":"COMPANHIA SIDERURGICA NACIONAL"},{"$f":"'[2]Inventário Completo'!G418","v":"CSN-ARAUCARIA"},{"$f":"'[2]Inventário Completo'!H418","v":"PR"},{"$f":"'[2]Inventário Completo'!I418","v":"33.042.730/0134-67"},{"$f":"'[2]Inventário Completo'!J418","v":"90.212.835-22"},{"$f":"'[2]Inventário Completo'!K418","v":"Rodovia PR-423, 5500-Estação-Araucária-PR 83705-000"},{"$f":"'[2]Inventário Completo'!L418","v":"Clodoaldo de Moraes"},{"$f":"'[2]Inventário Completo'!M418","v":"(41) 3641- 8050"},{"$f":"'[2]Inventário Completo'!N418","v":0},{"$f":"'[2]Inventário Completo'!O418","v":0},{"$f":"'[2]Inventário Completo'!P418","v":"Em uso"},{"$f":"'[2]Inventário Completo'!Q418","v":0}]
[{"$f":"'[2]Inventário Completo'!A419","v":"JCAU0023"},{"$f":"'[2]Inventário Completo'!B419","v":"52J184402587"},{"$f":"'[2]Inventário Completo'!C419","v":"Impressora Térmicas"},{"$f":"'[2]Inventário Completo'!D419","v":"ZT230"},{"$f":"'[2]Inventário Completo'!E419","v":"Zebra"},{"$f":"'[2]Inventário Completo'!F419","v":"COMPANHIA SIDERURGICA NACIONAL"},{"$f":"'[2]Inventário Completo'!G419","v":"CSN-ARAUCARIA"},{"$f":"'[2]Inventário Completo'!H419","v":"PR"},{"$f":"'[2]Inventário Completo'!I419","v":"33.042.730/0134-67"},{"$f":"'[2]Inventário Completo'!J419","v":"90.212.835-22"},{"$f":"'[2]Inventário Completo'!K419","v":"Rodovia PR-423, 5500-Estação-Araucária-PR 83705-000"},{"$f":"'[2]Inventário Completo'!L419","v":"Clodoaldo de Moraes"},{"$f":"'[2]Inventário Completo'!M419","v":"(41) 3641- 8050"},{"$f":"'[2]Inventário Completo'!N419","v":0},{"$f":"'[2]Inventário Completo'!O419","v":0},{"$f":"'[2]Inventário Completo'!P419","v":"Em uso"},{"$f":"'[2]Inventário Completo'!Q419","v":0}]
[{"$f":"'[2]Inventário Completo'!A420","v":"JCAU0032"},{"$f":"'[2]Inventário Completo'!B420","v":"52N214700967"},{"$f":"'[2]Inventário Completo'!C420","v":"Impressora Térmicas"},{"$f":"'[2]Inventário Completo'!D420","v":"ZT230"},{"$f":"'[2]Inventário Completo'!E420","v":"Zebra"},{"$f":"'[2]Inventário Completo'!F420","v":"COMPANHIA SIDERURGICA NACIONAL"},{"$f":"'[2]Inventário Completo'!G420","v":"CSN-ARAUCARIA"},{"$f":"'[2]Inventário Completo'!H420","v":"PR"},{"$f":"'[2]Inventário Completo'!I420","v":"33.042.730/0134-67"},{"$f":"'[2]Inventário Completo'!J420","v":"90.212.835-22"},{"$f":"'[2]Inventário Completo'!K420","v":"Rodovia PR-423, 5500-Estação-Araucária-PR 83705-000"},{"$f":"'[2]Inventário Completo'!L420","v":"Clodoaldo de Moraes"},{"$f":"'[2]Inventário Completo'!M420","v":"(41) 3641- 8050"},{"$f":"'[2]Inventário Completo'!N420","v":0},{"$f":"'[2]Inventário Completo'!O420","v":0},{"$f":"'[2]Inventário Completo'!P420","v":"Em uso"},{"$f":"'[2]Inventário Completo'!Q420","v":0}]
[{"$f":"'[2]Inventário Completo'!A421","v":"JCAC0001"},{"$f":"'[2]Inventário Completo'!B421","v":"52J180401736"},{"$f":"'[2]Inventário Completo'!C421","v":"Impressora Térmicas"},{"$f":"'[2]Inventário Completo'!D421","v":"ZT230"},{"$f":"'[2]Inventário Completo'!E421","v":"Zebra"},{"$f":"'[2]Inventário Completo'!F421","v":"CSN CIMENTOS S.A"},{"$f":"'[2]Inventário Completo'!G421","v":"CSN-ARCOS"},{"$f":"'[2]Inventário Completo'!H421","v":"MG"},{"$f":"'[2]Inventário Completo'!I421","v":"38.282.487/0002-04"},{"$f":"'[2]Inventário Completo'!J421","v":"00387266.00-25 "},{"$f":"'[2]Inventário Completo'!K421","v":"Rodovia MG 170, S/N, KM 69. Arcos-MG. Cep 35588-000."},{"$f":"'[2]Inventário Completo'!L421","v":"Karla Costa"},{"$f":"'[2]Inventário Completo'!M421","v":"(37) 3359-7112"},{"$f":"'[2]Inventário Completo'!N421","v":0},{"$f":"'[2]Inventário Completo'!O421","v":0},{"$f":"'[2]Inventário Completo'!P421","v":"Em uso"},{"$f":"'[2]Inventário Completo'!Q421","v":0}]
[{"$f":"'[2]Inventário Completo'!A422","v":"JCBE0001"},{"$f":"'[2]Inventário Completo'!B422","v":"52J143001818"},{"$f":"'[2]Inventário Completo'!C422","v":"Impressora Térmicas"},{"$f":"'[2]Inventário Completo'!D422","v":"ZT230"},{"$f":"'[2]Inventário Completo'!E422","v":"Zebra"},{"$f":"'[2]Inventário Completo'!F422","v":"COMPANHIA METALURGICA PRADA"},{"$f":"'[2]Inventário Completo'!G422","v":"PRADA - BEBEDOURO"},{"$f":"'[2]Inventário Completo'!H422","v":"SP"},{"$f":"'[2]Inventário Completo'!I422","v":"56.993.900/0008-08"},{"$f":"'[2]Inventário Completo'!J422","v":148436272110},{"$f":"'[2]Inventário Completo'!K422","v":"AV EMBAIXADOR MACEDO SOARES, 10735 - VILA ANASTACIO"},{"$f":"'[2]Inventário Completo'!L422","v":"Alexandre Machado"},{"$f":"'[2]Inventário Completo'!M422","v":"(11) 4791-7971"},{"$f":"'[2]Inventário Completo'!N422","v":0},{"$f":"'[2]Inventário Completo'!O422","v":0},{"$f":"'[2]Inventário Completo'!P422","v":0},{"$f":"'[2]Inventário Completo'!Q422","v":0}]
[{"$f":"'[2]Inventário Completo'!A423","v":"JCBE0002"},{"$f":"'[2]Inventário Completo'!B423","v":"52J143002513"},{"$f":"'[2]Inventário Completo'!C423","v":"Impressora Térmicas"},{"$f":"'[2]Inventário Completo'!D423","v":"ZT230"},{"$f":"'[2]Inventário Completo'!E423","v":"Zebra"},{"$f":"'[2]Inventário Completo'!F423","v":"COMPANHIA METALURGICA PRADA"},{"$f":"'[2]Inventário Completo'!G423","v":"PRADA - BEBEDOURO"},{"$f":"'[2]Inventário Completo'!H423","v":"SP"},{"$f":"'[2]Inventário Completo'!I423","v":"56.993.900/0008-08"},{"$f":"'[2]Inventário Completo'!J423","v":148436272110},{"$f":"'[2]Inventário Completo'!K423","v":"AV EMBAIXADOR MACEDO SOARES, 10735 - VILA ANASTACIO"},{"$f":"'[2]Inventário Completo'!L423","v":"Alexandre Machado"},{"$f":"'[2]Inventário Completo'!M423","v":"(11) 4791-7971"},{"$f":"'[2]Inventário Completo'!N423","v":0},{"$f":"'[2]Inventário Completo'!O423","v":0},{"$f":"'[2]Inventário Completo'!P423","v":0},{"$f":"'[2]Inventário Completo'!Q423","v":0}]
[{"$f":"'[2]Inventário Completo'!A424","v":"JCCA0001"},{"$f":"'[2]Inventário Completo'!B424","v":"03C08241130"},{"$f":"'[2]Inventário Completo'!C424","v":"Impressora Térmicas"},{"$f":"'[2]Inventário Completo'!D424","v":"S4M"},{"$f":"'[2]Inventário Completo'!E424","v":"Zebra"},{"$f":"'[2]Inventário Completo'!F424","v":"COMPANHIA SIDERURGICA NACIONAL"},{"$f":"'[2]Inventário Completo'!G424","v":"CSN-CAMAÇARI"},{"$f":"'[2]Inventário Completo'!H424","v":"BA"},{"$f":"'[2]Inventário Completo'!I424","v":"33.042.730/0019-33"},{"$f":"'[2]Inventário Completo'!J424","v":58857890},{"$f":"'[2]Inventário Completo'!K424","v":"Rua do Alumínio S/N - Lt 01 a 06 QD 02 - Ponto Certo "},{"$f":"'[2]Inventário Completo'!L424","v":"Alexandre Machado"},{"$f":"'[2]Inventário Completo'!M424","v":"(11) 4791-7971"},{"$f":"'[2]Inventário Completo'!N424","v":0},{"$f":"'[2]Inventário Completo'!O424","v":0},{"$f":"'[2]Inventário Completo'!P424","v":"Em uso"},{"$f":"'[2]Inventário Completo'!Q424","v":0}]
[{"$f":"'[2]Inventário Completo'!A425","v":"JCCA0002"},{"$f":"'[2]Inventário Completo'!B425","v":"03C08260741"},{"$f":"'[2]Inventário Completo'!C425","v":"Impressora Térmicas"},{"$f":"'[2]Inventário Completo'!D425","v":"S4M"},{"$f":"'[2]Inventário Completo'!E425","v":"Zebra"},{"$f":"'[2]Inventário Completo'!F425","v":"COMPANHIA SIDERURGICA NACIONAL"},{"$f":"'[2]Inventário Completo'!G425","v":"CSN-CAMAÇARI"},{"$f":"'[2]Inventário Completo'!H425","v":"BA"},{"$f":"'[2]Inventário Completo'!I425","v":"33.042.730/0019-33"},{"$f":"'[2]Inventário Completo'!J425","v":58857890},{"$f":"'[2]Inventário Completo'!K425","v":"Rua do Alumínio S/N - Lt 01 a 06 QD 02 - Ponto Certo "},{"$f":"'[2]Inventário Completo'!L425","v":"Alexandre Machado"},{"$f":"'[2]Inventário Completo'!M425","v":"(11) 4791-7971"},{"$f":"'[2]Inventário Completo'!N425","v":0},{"$f":"'[2]Inventário Completo'!O425","v":0},{"$f":"'[2]Inventário Completo'!P425","v":"Em uso"},{"$f":"'[2]Inventário Completo'!Q425","v":0}]
[{"$f":"'[2]Inventário Completo'!A426","v":"JCCA0003"},{"$f":"'[2]Inventário Completo'!B426","v":"52J135000635"},{"$f":"'[2]Inventário Completo'!C426","v":"Impressora Térmicas"},{"$f":"'[2]Inventário Completo'!D426","v":"ZT230"},{"$f":"'[2]Inventário Completo'!E426","v":"Zebra"},{"$f":"'[2]Inventário Completo'!F426","v":"COMPANHIA SIDERURGICA NACIONAL"},{"$f":"'[2]Inventário Completo'!G426","v":"CSN-CAMAÇARI"},{"$f":"'[2]Inventário Completo'!H426","v":"BA"},{"$f":"'[2]Inventário Completo'!I426","v":"33.042.730/0019-33"},{"$f":"'[2]Inventário Completo'!J426","v":58857890},{"$f":"'[2]Inventário Completo'!K426","v":"Rua do Alumínio S/N - Lt 01 a 06 QD 02 - Ponto Certo "},{"$f":"'[2]Inventário Completo'!L426","v":"Alexandre Machado"},{"$f":"'[2]Inventário Completo'!M426","v":"(11) 4791-7971"},{"$f":"'[2]Inventário Completo'!N426","v":0},{"$f":"'[2]Inventário Completo'!O426","v":0},{"$f":"'[2]Inventário Completo'!P426","v":"Em uso"},{"$f":"'[2]Inventário Completo'!Q426","v":0}]
[{"$f":"'[2]Inventário Completo'!A427","v":"JCCA0004"},{"$f":"'[2]Inventário Completo'!B427","v":"52J150702770"},{"$f":"'[2]Inventário Completo'!C427","v":"Impressora Térmicas"},{"$f":"'[2]Inventário Completo'!D427","v":"ZT230"},{"$f":"'[2]Inventário Completo'!E427","v":"Zebra"},{"$f":"'[2]Inventário Completo'!F427","v":"COMPANHIA SIDERURGICA NACIONAL"},{"$f":"'[2]Inventário Completo'!G427","v":"CSN-CAMAÇARI"},{"$f":"'[2]Inventário Completo'!H427","v":"BA"},{"$f":"'[2]Inventário Completo'!I427","v":"33.042.730/0019-33"},{"$f":"'[2]Inventário Completo'!J427","v":58857890},{"$f":"'[2]Inventário Completo'!K427","v":"Rua do Alumínio S/N - Lt 01 a 06 QD 02 - Ponto Certo "},{"$f":"'[2]Inventário Completo'!L427","v":"Alexandre Machado"},{"$f":"'[2]Inventário Completo'!M427","v":"(11) 4791-7971"},{"$f":"'[2]Inventário Completo'!N427","v":0},{"$f":"'[2]Inventário Completo'!O427","v":0},{"$f":"'[2]Inventário Completo'!P427","v":"Em uso"},{"$f":"'[2]Inventário Completo'!Q427","v":0}]
[{"$f":"'[2]Inventário Completo'!A428","v":"JCCA0005"},{"$f":"'[2]Inventário Completo'!B428","v":"52J143001832"},{"$f":"'[2]Inventário Completo'!C428","v":"Impressora Térmicas"},{"$f":"'[2]Inventário Completo'!D428","v":"ZT230"},{"$f":"'[2]Inventário Completo'!E428","v":"Zebra"},{"$f":"'[2]Inventário Completo'!F428","v":"COMPANHIA SIDERURGICA NACIONAL"},{"$f":"'[2]Inventário Completo'!G428","v":"CSN-CAMAÇARI"},{"$f":"'[2]Inventário Completo'!H428","v":"BA"},{"$f":"'[2]Inventário Completo'!I428","v":"33.042.730/0019-33"},{"$f":"'[2]Inventário Completo'!J428","v":58857890},{"$f":"'[2]Inventário Completo'!K428","v":"Rua do Alumínio S/N - Lt 01 a 06 QD 02 - Ponto Certo "},{"$f":"'[2]Inventário Completo'!L428","v":"Alexandre Machado"},{"$f":"'[2]Inventário Completo'!M428","v":"(11) 4791-7971"},{"$f":"'[2]Inventário Completo'!N428","v":0},{"$f":"'[2]Inventário Completo'!O428","v":0},{"$f":"'[2]Inventário Completo'!P428","v":"Em uso"},{"$f":"'[2]Inventário Completo'!Q428","v":0}]
[{"$f":"'[2]Inventário Completo'!A429","v":"JCCA0006"},{"$f":"'[2]Inventário Completo'!B429","v":"52j172001244"},{"$f":"'[2]Inventário Completo'!C429","v":"Impressora Térmicas"},{"$f":"'[2]Inventário Completo'!D429","v":"ZT230"},{"$f":"'[2]Inventário Completo'!E429","v":"Zebra"},{"$f":"'[2]Inventário Completo'!F429","v":"COMPANHIA SIDERURGICA NACIONAL"},{"$f":"'[2]Inventário Completo'!G429","v":"CSN-CAMAÇARI"},{"$f":"'[2]Inventário Completo'!H429","v":"BA"},{"$f":"'[2]Inventário Completo'!I429","v":"33.042.730/0019-33"},{"$f":"'[2]Inventário Completo'!J429","v":58857890},{"$f":"'[2]Inventário Completo'!K429","v":"Rua do Alumínio S/N - Lt 01 a 06 QD 02 - Ponto Certo "},{"$f":"'[2]Inventário Completo'!L429","v":"Alexandre Machado"},{"$f":"'[2]Inventário Completo'!M429","v":"(11) 4791-7971"},{"$f":"'[2]Inventário Completo'!N429","v":0},{"$f":"'[2]Inventário Completo'!O429","v":0},{"$f":"'[2]Inventário Completo'!P429","v":"Em uso"},{"$f":"'[2]Inventário Completo'!Q429","v":0}]
[{"$f":"'[2]Inventário Completo'!A430","v":"JCCA0007"},{"$f":"'[2]Inventário Completo'!B430","v":"52J150702361"},{"$f":"'[2]Inventário Completo'!C430","v":"Impressora Térmicas"},{"$f":"'[2]Inventário Completo'!D430","v":"ZT230"},{"$f":"'[2]Inventário Completo'!E430","v":"Zebra"},{"$f":"'[2]Inventário Completo'!F430","v":"COMPANHIA SIDERURGICA NACIONAL"},{"$f":"'[2]Inventário Completo'!G430","v":"CSN-CAMAÇARI"},{"$f":"'[2]Inventário Completo'!H430","v":"BA"},{"$f":"'[2]Inventário Completo'!I430","v":"33.042.730/0019-33"},{"$f":"'[2]Inventário Completo'!J430","v":58857890},{"$f":"'[2]Inventário Completo'!K430","v":"Rua do Alumínio S/N - Lt 01 a 06 QD 02 - Ponto Certo "},{"$f":"'[2]Inventário Completo'!L430","v":"Alexandre Machado"},{"$f":"'[2]Inventário Completo'!M430","v":"(11) 4791-7971"},{"$f":"'[2]Inventário Completo'!N430","v":0},{"$f":"'[2]Inventário Completo'!O430","v":0},{"$f":"'[2]Inventário Completo'!P430","v":"Em uso"},{"$f":"'[2]Inventário Completo'!Q430","v":0}]
[{"$f":"'[2]Inventário Completo'!A431","v":"JCCA0008"},{"$f":"'[2]Inventário Completo'!B431","v":"52J180401728"},{"$f":"'[2]Inventário Completo'!C431","v":"Impressora Térmicas"},{"$f":"'[2]Inventário Completo'!D431","v":"ZT230"},{"$f":"'[2]Inventário Completo'!E431","v":"Zebra"},{"$f":"'[2]Inventário Completo'!F431","v":"COMPANHIA SIDERURGICA NACIONAL"},{"$f":"'[2]Inventário Completo'!G431","v":"CSN-CAMAÇARI"},{"$f":"'[2]Inventário Completo'!H431","v":"BA"},{"$f":"'[2]Inventário Completo'!I431","v":"33.042.730/0019-33"},{"$f":"'[2]Inventário Completo'!J431","v":58857890},{"$f":"'[2]Inventário Completo'!K431","v":"Rua do Alumínio S/N - Lt 01 a 06 QD 02 - Ponto Certo "},{"$f":"'[2]Inventário Completo'!L431","v":"Alexandre Machado"},{"$f":"'[2]Inventário Completo'!M431","v":"(11) 4791-7971"},{"$f":"'[2]Inventário Completo'!N431","v":0},{"$f":"'[2]Inventário Completo'!O431","v":0},{"$f":"'[2]Inventário Completo'!P431","v":"Em uso"},{"$f":"'[2]Inventário Completo'!Q431","v":0}]
[{"$f":"'[2]Inventário Completo'!A432","v":"JCCA0009"},{"$f":"'[2]Inventário Completo'!B432","v":"52N214700642"},{"$f":"'[2]Inventário Completo'!C432","v":"Impressora Térmicas"},{"$f":"'[2]Inventário Completo'!D432","v":"ZT230"},{"$f":"'[2]Inventário Completo'!E432","v":"Zebra"},{"$f":"'[2]Inventário Completo'!F432","v":"COMPANHIA SIDERURGICA NACIONAL"},{"$f":"'[2]Inventário Completo'!G432","v":"CSN-CAMAÇARI"},{"$f":"'[2]Inventário Completo'!H432","v":"BA"},{"$f":"'[2]Inventário Completo'!I432","v":"33.042.730/0019-33"},{"$f":"'[2]Inventário Completo'!J432","v":58857890},{"$f":"'[2]Inventário Completo'!K432","v":"Rua do Alumínio S/N - Lt 01 a 06 QD 02 - Ponto Certo "},{"$f":"'[2]Inventário Completo'!L432","v":"Alexandre Machado"},{"$f":"'[2]Inventário Completo'!M432","v":"(11) 4791-7971"},{"$f":"'[2]Inventário Completo'!N432","v":0},{"$f":"'[2]Inventário Completo'!O432","v":0},{"$f":"'[2]Inventário Completo'!P432","v":"Em uso"},{"$f":"'[2]Inventário Completo'!Q432","v":0}]
[{"$f":"'[2]Inventário Completo'!A433","v":"JCCA0010"},{"$f":"'[2]Inventário Completo'!B433","v":"52J143001852"},{"$f":"'[2]Inventário Completo'!C433","v":"Impressora Térmicas"},{"$f":"'[2]Inventário Completo'!D433","v":"ZT230"},{"$f":"'[2]Inventário Completo'!E433","v":"Zebra"},{"$f":"'[2]Inventário Completo'!F433","v":"COMPANHIA SIDERURGICA NACIONAL"},{"$f":"'[2]Inventário Completo'!G433","v":"CSN-CAMAÇARI"},{"$f":"'[2]Inventário Completo'!H433","v":"BA"},{"$f":"'[2]Inventário Completo'!I433","v":"33.042.730/0019-33"},{"$f":"'[2]Inventário Completo'!J433","v":58857890},{"$f":"'[2]Inventário Completo'!K433","v":"Rua do Alumínio S/N - Lt 01 a 06 QD 02 - Ponto Certo "},{"$f":"'[2]Inventário Completo'!L433","v":"Alexandre Machado"},{"$f":"'[2]Inventário Completo'!M433","v":"(11) 4791-7971"},{"$f":"'[2]Inventário Completo'!N433","v":0},{"$f":"'[2]Inventário Completo'!O433","v":0},{"$f":"'[2]Inventário Completo'!P433","v":"Em uso"},{"$f":"'[2]Inventário Completo'!Q433","v":0}]
[{"$f":"'[2]Inventário Completo'!A434","v":"JCCA0011"},{"$f":"'[2]Inventário Completo'!B434","v":"52N214700949"},{"$f":"'[2]Inventário Completo'!C434","v":"Impressora Térmicas"},{"$f":"'[2]Inventário Completo'!D434","v":"ZT230"},{"$f":"'[2]Inventário Completo'!E434","v":"Zebra"},{"$f":"'[2]Inventário Completo'!F434","v":"COMPANHIA SIDERURGICA NACIONAL"},{"$f":"'[2]Inventário Completo'!G434","v":"CSN-CAMAÇARI"},{"$f":"'[2]Inventário Completo'!H434","v":"BA"},{"$f":"'[2]Inventário Completo'!I434","v":"33.042.730/0019-33"},{"$f":"'[2]Inventário Completo'!J434","v":58857890},{"$f":"'[2]Inventário Completo'!K434","v":"Rua do Alumínio S/N - Lt 01 a 06 QD 02 - Ponto Certo "},{"$f":"'[2]Inventário Completo'!L434","v":"Alexandre Machado"},{"$f":"'[2]Inventário Completo'!M434","v":"(11) 4791-7971"},{"$f":"'[2]Inventário Completo'!N434","v":0},{"$f":"'[2]Inventário Completo'!O434","v":0},{"$f":"'[2]Inventário Completo'!P434","v":"Em uso"},{"$f":"'[2]Inventário Completo'!Q434","v":0}]
[{"$f":"'[2]Inventário Completo'!A435","v":"JCCN0002"},{"$f":"'[2]Inventário Completo'!B435","v":"52J161104741"},{"$f":"'[2]Inventário Completo'!C435","v":"Impressora Térmicas"},{"$f":"'[2]Inventário Completo'!D435","v":"ZT230"},{"$f":"'[2]Inventário Completo'!E435","v":"Zebra"},{"$f":"'[2]Inventário Completo'!F435","v":"COMPANHIA SIDERURGICA NACIONAL"},{"$f":"'[2]Inventário Completo'!G435","v":"CSN-CANOAS"},{"$f":"'[2]Inventário Completo'!H435","v":"RS"},{"$f":"'[2]Inventário Completo'!I435","v":"33.042.730/0028-24"},{"$f":"'[2]Inventário Completo'!J435","v":240389484},{"$f":"'[2]Inventário Completo'!K435","v":"R. JOAO GOULART 121 - SAO LUIS"},{"$f":"'[2]Inventário Completo'!L435","v":"Alexandre Machado"},{"$f":"'[2]Inventário Completo'!M435","v":"(11) 4791-7971"},{"$f":"'[2]Inventário Completo'!N435","v":0},{"$f":"'[2]Inventário Completo'!O435","v":0},{"$f":"'[2]Inventário Completo'!P435","v":"Em uso"},{"$f":"'[2]Inventário Completo'!Q435","v":0}]
[{"$f":"'[2]Inventário Completo'!A436","v":"JCCN0003"},{"$f":"'[2]Inventário Completo'!B436","v":"52J172001254"},{"$f":"'[2]Inventário Completo'!C436","v":"Impressora Térmicas"},{"$f":"'[2]Inventário Completo'!D436","v":"ZT230"},{"$f":"'[2]Inventário Completo'!E436","v":"Zebra"},{"$f":"'[2]Inventário Completo'!F436","v":"COMPANHIA SIDERURGICA NACIONAL"},{"$f":"'[2]Inventário Completo'!G436","v":"CSN-CANOAS"},{"$f":"'[2]Inventário Completo'!H436","v":"RS"},{"$f":"'[2]Inventário Completo'!I436","v":"33.042.730/0028-24"},{"$f":"'[2]Inventário Completo'!J436","v":240389484},{"$f":"'[2]Inventário Completo'!K436","v":"R. JOAO GOULART 121 - SAO LUIS"},{"$f":"'[2]Inventário Completo'!L436","v":"Alexandre Machado"},{"$f":"'[2]Inventário Completo'!M436","v":"(11) 4791-7971"},{"$f":"'[2]Inventário Completo'!N436","v":0},{"$f":"'[2]Inventário Completo'!O436","v":0},{"$f":"'[2]Inventário Completo'!P436","v":"Em uso"},{"$f":"'[2]Inventário Completo'!Q436","v":0}]
[{"$f":"'[2]Inventário Completo'!A437","v":"JCCP0006"},{"$f":"'[2]Inventário Completo'!B437","v":"52J183603642"},{"$f":"'[2]Inventário Completo'!C437","v":"Impressora Térmicas"},{"$f":"'[2]Inventário Completo'!D437","v":"ZT230"},{"$f":"'[2]Inventário Completo'!E437","v":"Zebra"},{"$f":"'[2]Inventário Completo'!F437","v":"CSN MINERACAO S.A."},{"$f":"'[2]Inventário Completo'!G437","v":"CSN-CONGONHAS"},{"$f":"'[2]Inventário Completo'!H437","v":"MG"},{"$f":"'[2]Inventário Completo'!I437","v":"08.902.291/0001-15"},{"$f":"'[2]Inventário Completo'!J437","v":14001060264},{"$f":"'[2]Inventário Completo'!K437","v":"Casa de Pedra, S/N, ZONA RURAL, CONGONHAS CEP 36415-000"},{"$f":"'[2]Inventário Completo'!L437","v":"Classius Marcelo de Andrade "},{"$f":"'[2]Inventário Completo'!M437","v":"(31) 3749-1896 "},{"$f":"'[2]Inventário Completo'!N437","v":0},{"$f":"'[2]Inventário Completo'!O437","v":0},{"$f":"'[2]Inventário Completo'!P437","v":0},{"$f":"'[2]Inventário Completo'!Q437","v":0}]
[{"$f":"'[2]Inventário Completo'!A438","v":"JCCP0007"},{"$f":"'[2]Inventário Completo'!B438","v":"52J183407984"},{"$f":"'[2]Inventário Completo'!C438","v":"Impressora Térmicas"},{"$f":"'[2]Inventário Completo'!D438","v":"ZT230"},{"$f":"'[2]Inventário Completo'!E438","v":"Zebra"},{"$f":"'[2]Inventário Completo'!F438","v":"CSN MINERACAO S.A."},{"$f":"'[2]Inventário Completo'!G438","v":"CSN-CONGONHAS"},{"$f":"'[2]Inventário Completo'!H438","v":"MG"},{"$f":"'[2]Inventário Completo'!I438","v":"08.902.291/0001-15"},{"$f":"'[2]Inventário Completo'!J438","v":14001060264},{"$f":"'[2]Inventário Completo'!K438","v":"Casa de Pedra, S/N, ZONA RURAL, CONGONHAS CEP 36415-000"},{"$f":"'[2]Inventário Completo'!L438","v":"Classius Marcelo de Andrade "},{"$f":"'[2]Inventário Completo'!M438","v":"(31) 3749-1896 "},{"$f":"'[2]Inventário Completo'!N438","v":0},{"$f":"'[2]Inventário Completo'!O438","v":0},{"$f":"'[2]Inventário Completo'!P438","v":0},{"$f":"'[2]Inventário Completo'!Q438","v":0}]
[{"$f":"'[2]Inventário Completo'!A439","v":"JCCP0008"},{"$f":"'[2]Inventário Completo'!B439","v":"52J190303176"},{"$f":"'[2]Inventário Completo'!C439","v":"Impressora Térmicas"},{"$f":"'[2]Inventário Completo'!D439","v":"ZT230"},{"$f":"'[2]Inventário Completo'!E439","v":"Zebra"},{"$f":"'[2]Inventário Completo'!F439","v":"CSN MINERACAO S.A."},{"$f":"'[2]Inventário Completo'!G439","v":"CSN-CONGONHAS"},{"$f":"'[2]Inventário Completo'!H439","v":"MG"},{"$f":"'[2]Inventário Completo'!I439","v":"08.902.291/0001-15"},{"$f":"'[2]Inventário Completo'!J439","v":14001060264},{"$f":"'[2]Inventário Completo'!K439","v":"Casa de Pedra, S/N, ZONA RURAL, CONGONHAS CEP 36415-000"},{"$f":"'[2]Inventário Completo'!L439","v":"Classius Marcelo de Andrade "},{"$f":"'[2]Inventário Completo'!M439","v":"(31) 3749-1896 "},{"$f":"'[2]Inventário Completo'!N439","v":0},{"$f":"'[2]Inventário Completo'!O439","v":0},{"$f":"'[2]Inventário Completo'!P439","v":0},{"$f":"'[2]Inventário Completo'!Q439","v":0}]
[{"$f":"'[2]Inventário Completo'!A440","v":"JCCP0009"},{"$f":"'[2]Inventário Completo'!B440","v":"52J190303423"},{"$f":"'[2]Inventário Completo'!C440","v":"Impressora Térmicas"},{"$f":"'[2]Inventário Completo'!D440","v":"ZT230"},{"$f":"'[2]Inventário Completo'!E440","v":"Zebra"},{"$f":"'[2]Inventário Completo'!F440","v":"CSN MINERACAO S.A."},{"$f":"'[2]Inventário Completo'!G440","v":"CSN-CONGONHAS"},{"$f":"'[2]Inventário Completo'!H440","v":"MG"},{"$f":"'[2]Inventário Completo'!I440","v":"08.902.291/0001-15"},{"$f":"'[2]Inventário Completo'!J440","v":14001060264},{"$f":"'[2]Inventário Completo'!K440","v":"Casa de Pedra, S/N, ZONA RURAL, CONGONHAS CEP 36415-000"},{"$f":"'[2]Inventário Completo'!L440","v":"Classius Marcelo de Andrade "},{"$f":"'[2]Inventário Completo'!M440","v":"(31) 3749-1896 "},{"$f":"'[2]Inventário Completo'!N440","v":0},{"$f":"'[2]Inventário Completo'!O440","v":0},{"$f":"'[2]Inventário Completo'!P440","v":0},{"$f":"'[2]Inventário Completo'!Q440","v":0}]
[{"$f":"'[2]Inventário Completo'!A441","v":"JCCP0010"},{"$f":"'[2]Inventário Completo'!B441","v":"52J190800010"},{"$f":"'[2]Inventário Completo'!C441","v":"Impressora Térmicas"},{"$f":"'[2]Inventário Completo'!D441","v":"ZT230"},{"$f":"'[2]Inventário Completo'!E441","v":"Zebra"},{"$f":"'[2]Inventário Completo'!F441","v":"CSN MINERACAO S.A."},{"$f":"'[2]Inventário Completo'!G441","v":"CSN-CONGONHAS"},{"$f":"'[2]Inventário Completo'!H441","v":"MG"},{"$f":"'[2]Inventário Completo'!I441","v":"08.902.291/0001-15"},{"$f":"'[2]Inventário Completo'!J441","v":14001060264},{"$f":"'[2]Inventário Completo'!K441","v":"Casa de Pedra, S/N, ZONA RURAL, CONGONHAS CEP 36415-000"},{"$f":"'[2]Inventário Completo'!L441","v":"Classius Marcelo de Andrade "},{"$f":"'[2]Inventário Completo'!M441","v":"(31) 3749-1896 "},{"$f":"'[2]Inventário Completo'!N441","v":0},{"$f":"'[2]Inventário Completo'!O441","v":0},{"$f":"'[2]Inventário Completo'!P441","v":0},{"$f":"'[2]Inventário Completo'!Q441","v":0}]
[{"$f":"'[2]Inventário Completo'!A442","v":"JCCP0011"},{"$f":"'[2]Inventário Completo'!B442","v":"52J161904833"},{"$f":"'[2]Inventário Completo'!C442","v":"Impressora Térmicas"},{"$f":"'[2]Inventário Completo'!D442","v":"ZT230"},{"$f":"'[2]Inventário Completo'!E442","v":"Zebra"},{"$f":"'[2]Inventário Completo'!F442","v":"CSN MINERACAO S.A."},{"$f":"'[2]Inventário Completo'!G442","v":"CSN-CONGONHAS"},{"$f":"'[2]Inventário Completo'!H442","v":"MG"},{"$f":"'[2]Inventário Completo'!I442","v":"08.902.291/0001-15"},{"$f":"'[2]Inventário Completo'!J442","v":14001060264},{"$f":"'[2]Inventário Completo'!K442","v":"Casa de Pedra, S/N, ZONA RURAL, CONGONHAS CEP 36415-000"},{"$f":"'[2]Inventário Completo'!L442","v":"Classius Marcelo de Andrade "},{"$f":"'[2]Inventário Completo'!M442","v":"(31) 3749-1896 "},{"$f":"'[2]Inventário Completo'!N442","v":0},{"$f":"'[2]Inventário Completo'!O442","v":0},{"$f":"'[2]Inventário Completo'!P442","v":0},{"$f":"'[2]Inventário Completo'!Q442","v":0}]
[{"$f":"'[2]Inventário Completo'!A443","v":"JCCP0012"},{"$f":"'[2]Inventário Completo'!B443","v":"52J180401041"},{"$f":"'[2]Inventário Completo'!C443","v":"Impressora Térmicas"},{"$f":"'[2]Inventário Completo'!D443","v":"ZT230"},{"$f":"'[2]Inventário Completo'!E443","v":"Zebra"},{"$f":"'[2]Inventário Completo'!F443","v":"CSN MINERACAO S.A."},{"$f":"'[2]Inventário Completo'!G443","v":"CSN-CONGONHAS"},{"$f":"'[2]Inventário Completo'!H443","v":"MG"},{"$f":"'[2]Inventário Completo'!I443","v":"08.902.291/0001-15"},{"$f":"'[2]Inventário Completo'!J443","v":14001060264},{"$f":"'[2]Inventário Completo'!K443","v":"Casa de Pedra, S/N, ZONA RURAL, CONGONHAS CEP 36415-000"},{"$f":"'[2]Inventário Completo'!L443","v":"Classius Marcelo de Andrade "},{"$f":"'[2]Inventário Completo'!M443","v":"(31) 3749-1896 "},{"$f":"'[2]Inventário Completo'!N443","v":0},{"$f":"'[2]Inventário Completo'!O443","v":0},{"$f":"'[2]Inventário Completo'!P443","v":0},{"$f":"'[2]Inventário Completo'!Q443","v":0}]
[{"$f":"'[2]Inventário Completo'!A444","v":"JCCP0013"},{"$f":"'[2]Inventário Completo'!B444","v":"52N212101444"},{"$f":"'[2]Inventário Completo'!C444","v":"Impressora Térmicas"},{"$f":"'[2]Inventário Completo'!D444","v":"ZT230"},{"$f":"'[2]Inventário Completo'!E444","v":"Zebra"},{"$f":"'[2]Inventário Completo'!F444","v":"CSN MINERACAO S.A."},{"$f":"'[2]Inventário Completo'!G444","v":"CSN-CONGONHAS"},{"$f":"'[2]Inventário Completo'!H444","v":"MG"},{"$f":"'[2]Inventário Completo'!I444","v":"08.902.291/0001-15"},{"$f":"'[2]Inventário Completo'!J444","v":14001060264},{"$f":"'[2]Inventário Completo'!K444","v":"Casa de Pedra, S/N, ZONA RURAL, CONGONHAS CEP 36415-000"},{"$f":"'[2]Inventário Completo'!L444","v":"Classius Marcelo de Andrade "},{"$f":"'[2]Inventário Completo'!M444","v":"(31) 3749-1896 "},{"$f":"'[2]Inventário Completo'!N444","v":0},{"$f":"'[2]Inventário Completo'!O444","v":0},{"$f":"'[2]Inventário Completo'!P444","v":0},{"$f":"'[2]Inventário Completo'!Q444","v":0}]
[{"$f":"'[2]Inventário Completo'!A445","v":"JCCO0002"},{"$f":"'[2]Inventário Completo'!B445","v":"52J135000497"},{"$f":"'[2]Inventário Completo'!C445","v":"Impressora Térmicas"},{"$f":"'[2]Inventário Completo'!D445","v":"ZT230"},{"$f":"'[2]Inventário Completo'!E445","v":"Zebra"},{"$f":"'[2]Inventário Completo'!F445","v":"COMPANHIA METALURGICA PRADA"},{"$f":"'[2]Inventário Completo'!G445","v":"PRADA - CONTAGEM"},{"$f":"'[2]Inventário Completo'!H445","v":"MG"},{"$f":"'[2]Inventário Completo'!I445","v":"56.993.900/0026-90"},{"$f":"'[2]Inventário Completo'!J445","v":7025134740241},{"$f":"'[2]Inventário Completo'!K445","v":"Via Ápio Cardoso, 20 galpão 13 - Pq. São João"},{"$f":"'[2]Inventário Completo'!L445","v":"Alexandre Machado"},{"$f":"'[2]Inventário Completo'!M445","v":"(11) 4791-7971"},{"$f":"'[2]Inventário Completo'!N445","v":0},{"$f":"'[2]Inventário Completo'!O445","v":0},{"$f":"'[2]Inventário Completo'!P445","v":0},{"$f":"'[2]Inventário Completo'!Q445","v":0}]
[{"$f":"'[2]Inventário Completo'!A446","v":"JCCO0003"},{"$f":"'[2]Inventário Completo'!B446","v":"52J124800120"},{"$f":"'[2]Inventário Completo'!C446","v":"Impressora Térmicas"},{"$f":"'[2]Inventário Completo'!D446","v":"ZT230"},{"$f":"'[2]Inventário Completo'!E446","v":"Zebra"},{"$f":"'[2]Inventário Completo'!F446","v":"COMPANHIA METALURGICA PRADA"},{"$f":"'[2]Inventário Completo'!G446","v":"PRADA - CONTAGEM"},{"$f":"'[2]Inventário Completo'!H446","v":"MG"},{"$f":"'[2]Inventário Completo'!I446","v":"56.993.900/0026-90"},{"$f":"'[2]Inventário Completo'!J446","v":7025134740241},{"$f":"'[2]Inventário Completo'!K446","v":"Via Ápio Cardoso, 20 galpão 13 - Pq. São João"},{"$f":"'[2]Inventário Completo'!L446","v":"Alexandre Machado"},{"$f":"'[2]Inventário Completo'!M446","v":"(11) 4791-7971"},{"$f":"'[2]Inventário Completo'!N446","v":0},{"$f":"'[2]Inventário Completo'!O446","v":0},{"$f":"'[2]Inventário Completo'!P446","v":0},{"$f":"'[2]Inventário Completo'!Q446","v":0}]
[{"$f":"'[2]Inventário Completo'!A447","v":"JCFO0001"},{"$f":"'[2]Inventário Completo'!B447","v":"52J191104176"},{"$f":"'[2]Inventário Completo'!C447","v":"Impressora Térmicas"},{"$f":"'[2]Inventário Completo'!D447","v":"ZT230"},{"$f":"'[2]Inventário Completo'!E447","v":"Zebra"},{"$f":"'[2]Inventário Completo'!F447","v":"FTL - FERROVIA TRANSNORDESTINA LOGISTICA S.A"},{"$f":"'[2]Inventário Completo'!G447","v":"TLSA-FORTALEZA"},{"$f":"'[2]Inventário Completo'!H447","v":"CE"},{"$f":"'[2]Inventário Completo'!I447","v":"02.281.836/0001-37"},{"$f":"'[2]Inventário Completo'!J447","v":"06.264305-3"},{"$f":"'[2]Inventário Completo'!K447","v":"AVENIDA FRANCISCO AS Nº 4829 – BAIRRO: ALVARO WEYNE – CEP 60335-195"},{"$f":"'[2]Inventário Completo'!L447","v":"Jonathan Nogueira"},{"$f":"'[2]Inventário Completo'!M447","v":" (85) 4008-2632"},{"$f":"'[2]Inventário Completo'!N447","v":0},{"$f":"'[2]Inventário Completo'!O447","v":0},{"$f":"'[2]Inventário Completo'!P447","v":0},{"$f":"'[2]Inventário Completo'!Q447","v":0}]
[{"$f":"'[2]Inventário Completo'!A448","v":"JCSL0001"},{"$f":"'[2]Inventário Completo'!B448","v":"52J200800127"},{"$f":"'[2]Inventário Completo'!C448","v":"Impressora Térmicas"},{"$f":"'[2]Inventário Completo'!D448","v":"ZT230"},{"$f":"'[2]Inventário Completo'!E448","v":"Zebra"},{"$f":"'[2]Inventário Completo'!F448","v":"FTL - FERROVIA TRANSNORDESTINA LOGISTICA S.A"},{"$f":"'[2]Inventário Completo'!G448","v":"FTL - SÃO LUIS"},{"$f":"'[2]Inventário Completo'!H448","v":"MA"},{"$f":"'[2]Inventário Completo'!I448","v":"17.234.244/0007-27"},{"$f":"'[2]Inventário Completo'!J448","v":"12.421.954-3"},{"$f":"'[2]Inventário Completo'!K448","v":"Rua: PTO. Ferroviário de itararé - Bairro: Dirceu de Andrade - CEP: 64078-225"},{"$f":"'[2]Inventário Completo'!L448","v":"Jonathan Nogueira"},{"$f":"'[2]Inventário Completo'!M448","v":" (85) 40082632"},{"$f":"'[2]Inventário Completo'!N448","v":0},{"$f":"'[2]Inventário Completo'!O448","v":0},{"$f":"'[2]Inventário Completo'!P448","v":0},{"$f":"'[2]Inventário Completo'!Q448","v":0}]
[{"$f":"'[2]Inventário Completo'!A449","v":"JCTE0001"},{"$f":"'[2]Inventário Completo'!B449","v":"52J194801855"},{"$f":"'[2]Inventário Completo'!C449","v":"Impressora Térmicas"},{"$f":"'[2]Inventário Completo'!D449","v":"ZT230"},{"$f":"'[2]Inventário Completo'!E449","v":"Zebra"},{"$f":"'[2]Inventário Completo'!F449","v":"FTL - FERROVIA TRANSNORDESTINA LOGISTICA S.A"},{"$f":"'[2]Inventário Completo'!G449","v":"FTL - TERESINA"},{"$f":"'[2]Inventário Completo'!H449","v":"PI"},{"$f":"'[2]Inventário Completo'!I449","v":"17.234.244/0003-01"},{"$f":"'[2]Inventário Completo'!J449","v":"19.519.172-2"},{"$f":"'[2]Inventário Completo'!K449","v":"Av. Engenheiro Emiliano Macieira, 29 – Bairro: Tibiri - CEP 65.095-600"},{"$f":"'[2]Inventário Completo'!L449","v":"Jonathan Nogueira"},{"$f":"'[2]Inventário Completo'!M449","v":" (85) 40082632"},{"$f":"'[2]Inventário Completo'!N449","v":0},{"$f":"'[2]Inventário Completo'!O449","v":0},{"$f":"'[2]Inventário Completo'!P449","v":0},{"$f":"'[2]Inventário Completo'!Q449","v":0}]
[{"$f":"'[2]Inventário Completo'!A450","v":"JCPO0004"},{"$f":"'[2]Inventário Completo'!B450","v":"91C09320103"},{"$f":"'[2]Inventário Completo'!C450","v":"Impressora Térmicas"},{"$f":"'[2]Inventário Completo'!D450","v":"Z110 Xi3"},{"$f":"'[2]Inventário Completo'!E450","v":"Zebra"},{"$f":"'[2]Inventário Completo'!F450","v":"COMPANHIA SIDERURGICA NACIONAL"},{"$f":"'[2]Inventário Completo'!G450","v":"CSN-GALVASUD"},{"$f":"'[2]Inventário Completo'!H450","v":"RJ"},{"$f":"'[2]Inventário Completo'!I450","v":" 33.042.730/0130-01"},{"$f":"'[2]Inventário Completo'!J450","v":"75566417 "},{"$f":"'[2]Inventário Completo'!K450","v":"Avenida Renato Monteiro 7777, Centro, Porto Real"},{"$f":"'[2]Inventário Completo'!L450","v":"Wallace Santana Dos Santos "},{"$f":"'[2]Inventário Completo'!M450","v":"(24) 33443000"},{"$f":"'[2]Inventário Completo'!N450","v":0},{"$f":"'[2]Inventário Completo'!O450","v":0},{"$f":"'[2]Inventário Completo'!P450","v":0},{"$f":"'[2]Inventário Completo'!Q450","v":0}]
[{"$f":"'[2]Inventário Completo'!A451","v":"JCPO0007"},{"$f":"'[2]Inventário Completo'!B451","v":"91CO9320102"},{"$f":"'[2]Inventário Completo'!C451","v":"Impressora Térmicas"},{"$f":"'[2]Inventário Completo'!D451","v":"Z110 Xi3"},{"$f":"'[2]Inventário Completo'!E451","v":"Zebra"},{"$f":"'[2]Inventário Completo'!F451","v":"COMPANHIA SIDERURGICA NACIONAL"},{"$f":"'[2]Inventário Completo'!G451","v":"CSN-GALVASUD"},{"$f":"'[2]Inventário Completo'!H451","v":"RJ"},{"$f":"'[2]Inventário Completo'!I451","v":" 33.042.730/0130-01"},{"$f":"'[2]Inventário Completo'!J451","v":"75566417 "},{"$f":"'[2]Inventário Completo'!K451","v":"Avenida Renato Monteiro 7777, Centro, Porto Real"},{"$f":"'[2]Inventário Completo'!L451","v":"Wallace Santana Dos Santos "},{"$f":"'[2]Inventário Completo'!M451","v":"(24) 33443000"},{"$f":"'[2]Inventário Completo'!N451","v":0},{"$f":"'[2]Inventário Completo'!O451","v":0},{"$f":"'[2]Inventário Completo'!P451","v":0},{"$f":"'[2]Inventário Completo'!Q451","v":0}]
[{"$f":"'[2]Inventário Completo'!A452","v":0},{"$f":"'[2]Inventário Completo'!B452","v":"52N222500794"},{"$f":"'[2]Inventário Completo'!C452","v":"Impressora Térmicas"},{"$f":"'[2]Inventário Completo'!D452","v":"ZT230"},{"$f":"'[2]Inventário Completo'!E452","v":"Zebra"},{"$f":"'[2]Inventário Completo'!F452","v":"COMPANHIA SIDERURGICA NACIONAL"},{"$f":"'[2]Inventário Completo'!G452","v":"CSN-GALVASUD"},{"$f":"'[2]Inventário Completo'!H452","v":"RJ"},{"$f":"'[2]Inventário Completo'!I452","v":" 33.042.730/0130-01"},{"$f":"'[2]Inventário Completo'!J452","v":"75566417 "},{"$f":"'[2]Inventário Completo'!K452","v":"Avenida Renato Monteiro 7777, Centro, Porto Real"},{"$f":"'[2]Inventário Completo'!L452","v":"Wallace Santana Dos Santos "},{"$f":"'[2]Inventário Completo'!M452","v":"(24) 33443000"},{"$f":"'[2]Inventário Completo'!N452","v":0},{"$f":"'[2]Inventário Completo'!O452","v":0},{"$f":"'[2]Inventário Completo'!P452","v":0},{"$f":"'[2]Inventário Completo'!Q452","v":0}]
[{"$f":"'[2]Inventário Completo'!A453","v":0},{"$f":"'[2]Inventário Completo'!B453","v":"52N222500787"},{"$f":"'[2]Inventário Completo'!C453","v":"Impressora Térmicas"},{"$f":"'[2]Inventário Completo'!D453","v":"ZT230"},{"$f":"'[2]Inventário Completo'!E453","v":"Zebra"},{"$f":"'[2]Inventário Completo'!F453","v":"COMPANHIA SIDERURGICA NACIONAL"},{"$f":"'[2]Inventário Completo'!G453","v":"CSN-GALVASUD"},{"$f":"'[2]Inventário Completo'!H453","v":"RJ"},{"$f":"'[2]Inventário Completo'!I453","v":" 33.042.730/0130-01"},{"$f":"'[2]Inventário Completo'!J453","v":"75566417 "},{"$f":"'[2]Inventário Completo'!K453","v":"Avenida Renato Monteiro 7777, Centro, Porto Real"},{"$f":"'[2]Inventário Completo'!L453","v":"Wallace Santana Dos Santos "},{"$f":"'[2]Inventário Completo'!M453","v":"(24) 33443000"},{"$f":"'[2]Inventário Completo'!N453","v":0},{"$f":"'[2]Inventário Completo'!O453","v":0},{"$f":"'[2]Inventário Completo'!P453","v":0},{"$f":"'[2]Inventário Completo'!Q453","v":0}]
[{"$f":"'[2]Inventário Completo'!A454","v":"JCPO0008"},{"$f":"'[2]Inventário Completo'!B454","v":"02CO241314"},{"$f":"'[2]Inventário Completo'!C454","v":"Impressora Térmicas"},{"$f":"'[2]Inventário Completo'!D454","v":"Z6M"},{"$f":"'[2]Inventário Completo'!E454","v":"Zebra"},{"$f":"'[2]Inventário Completo'!F454","v":"COMPANHIA SIDERURGICA NACIONAL"},{"$f":"'[2]Inventário Completo'!G454","v":"CSN-GALVASUD"},{"$f":"'[2]Inventário Completo'!H454","v":"RJ"},{"$f":"'[2]Inventário Completo'!I454","v":" 33.042.730/0130-01"},{"$f":"'[2]Inventário Completo'!J454","v":"75566417 "},{"$f":"'[2]Inventário Completo'!K454","v":"Avenida Renato Monteiro 7777, Centro, Porto Real"},{"$f":"'[2]Inventário Completo'!L454","v":"Wallace Santana Dos Santos "},{"$f":"'[2]Inventário Completo'!M454","v":"(24) 33443000"},{"$f":"'[2]Inventário Completo'!N454","v":0},{"$f":"'[2]Inventário Completo'!O454","v":0},{"$f":"'[2]Inventário Completo'!P454","v":0},{"$f":"'[2]Inventário Completo'!Q454","v":0}]
[{"$f":"'[2]Inventário Completo'!A455","v":"JCPO0011"},{"$f":"'[2]Inventário Completo'!B455","v":"02C07490352"},{"$f":"'[2]Inventário Completo'!C455","v":"Impressora Térmicas"},{"$f":"'[2]Inventário Completo'!D455","v":"Z6M"},{"$f":"'[2]Inventário Completo'!E455","v":"Zebra"},{"$f":"'[2]Inventário Completo'!F455","v":"COMPANHIA SIDERURGICA NACIONAL"},{"$f":"'[2]Inventário Completo'!G455","v":"CSN-GALVASUD"},{"$f":"'[2]Inventário Completo'!H455","v":"RJ"},{"$f":"'[2]Inventário Completo'!I455","v":" 33.042.730/0130-01"},{"$f":"'[2]Inventário Completo'!J455","v":"75566417 "},{"$f":"'[2]Inventário Completo'!K455","v":"Avenida Renato Monteiro 7777, Centro, Porto Real"},{"$f":"'[2]Inventário Completo'!L455","v":"Wallace Santana Dos Santos "},{"$f":"'[2]Inventário Completo'!M455","v":"(24) 33443000"},{"$f":"'[2]Inventário Completo'!N455","v":0},{"$f":"'[2]Inventário Completo'!O455","v":0},{"$f":"'[2]Inventário Completo'!P455","v":0},{"$f":"'[2]Inventário Completo'!Q455","v":0}]
[{"$f":"'[2]Inventário Completo'!A456","v":"JCPO0005"},{"$f":"'[2]Inventário Completo'!B456","v":"02C027490368"},{"$f":"'[2]Inventário Completo'!C456","v":"Impressora Térmicas"},{"$f":"'[2]Inventário Completo'!D456","v":"Z6M"},{"$f":"'[2]Inventário Completo'!E456","v":"Zebra"},{"$f":"'[2]Inventário Completo'!F456","v":"COMPANHIA SIDERURGICA NACIONAL"},{"$f":"'[2]Inventário Completo'!G456","v":"CSN-GALVASUD"},{"$f":"'[2]Inventário Completo'!H456","v":"RJ"},{"$f":"'[2]Inventário Completo'!I456","v":" 33.042.730/0130-01"},{"$f":"'[2]Inventário Completo'!J456","v":"75566417 "},{"$f":"'[2]Inventário Completo'!K456","v":"Avenida Renato Monteiro 7777, Centro, Porto Real"},{"$f":"'[2]Inventário Completo'!L456","v":"Wallace Santana Dos Santos "},{"$f":"'[2]Inventário Completo'!M456","v":"(24) 33443000"},{"$f":"'[2]Inventário Completo'!N456","v":0},{"$f":"'[2]Inventário Completo'!O456","v":0},{"$f":"'[2]Inventário Completo'!P456","v":0},{"$f":"'[2]Inventário Completo'!Q456","v":0}]
[{"$f":"'[2]Inventário Completo'!A457","v":"JCPO0015"},{"$f":"'[2]Inventário Completo'!B457","v":"52J180307861"},{"$f":"'[2]Inventário Completo'!C457","v":"Impressora Térmicas"},{"$f":"'[2]Inventário Completo'!D457","v":"ZT230"},{"$f":"'[2]Inventário Completo'!E457","v":"Zebra"},{"$f":"'[2]Inventário Completo'!F457","v":"COMPANHIA SIDERURGICA NACIONAL"},{"$f":"'[2]Inventário Completo'!G457","v":"CSN-GALVASUD"},{"$f":"'[2]Inventário Completo'!H457","v":"RJ"},{"$f":"'[2]Inventário Completo'!I457","v":" 33.042.730/0130-01"},{"$f":"'[2]Inventário Completo'!J457","v":"75566417 "},{"$f":"'[2]Inventário Completo'!K457","v":"Avenida Renato Monteiro 7777, Centro, Porto Real"},{"$f":"'[2]Inventário Completo'!L457","v":"Wallace Santana Dos Santos "},{"$f":"'[2]Inventário Completo'!M457","v":"(24) 33443000"},{"$f":"'[2]Inventário Completo'!N457","v":0},{"$f":"'[2]Inventário Completo'!O457","v":0},{"$f":"'[2]Inventário Completo'!P457","v":0},{"$f":"'[2]Inventário Completo'!Q457","v":0}]
[{"$f":"'[2]Inventário Completo'!A458","v":"JCPO0013"},{"$f":"'[2]Inventário Completo'!B458","v":"52J180307887"},{"$f":"'[2]Inventário Completo'!C458","v":"Impressora Térmicas"},{"$f":"'[2]Inventário Completo'!D458","v":"ZT230"},{"$f":"'[2]Inventário Completo'!E458","v":"Zebra"},{"$f":"'[2]Inventário Completo'!F458","v":"COMPANHIA SIDERURGICA NACIONAL"},{"$f":"'[2]Inventário Completo'!G458","v":"CSN-GALVASUD"},{"$f":"'[2]Inventário Completo'!H458","v":"RJ"},{"$f":"'[2]Inventário Completo'!I458","v":" 33.042.730/0130-01"},{"$f":"'[2]Inventário Completo'!J458","v":"75566417 "},{"$f":"'[2]Inventário Completo'!K458","v":"Avenida Renato Monteiro 7777, Centro, Porto Real"},{"$f":"'[2]Inventário Completo'!L458","v":"Wallace Santana Dos Santos "},{"$f":"'[2]Inventário Completo'!M458","v":"(24) 33443000"},{"$f":"'[2]Inventário Completo'!N458","v":0},{"$f":"'[2]Inventário Completo'!O458","v":0},{"$f":"'[2]Inventário Completo'!P458","v":0},{"$f":"'[2]Inventário Completo'!Q458","v":0}]
[{"$f":"'[2]Inventário Completo'!A459","v":"JCPO0014"},{"$f":"'[2]Inventário Completo'!B459","v":"52J180401037"},{"$f":"'[2]Inventário Completo'!C459","v":"Impressora Térmicas"},{"$f":"'[2]Inventário Completo'!D459","v":"ZT230"},{"$f":"'[2]Inventário Completo'!E459","v":"Zebra"},{"$f":"'[2]Inventário Completo'!F459","v":"COMPANHIA SIDERURGICA NACIONAL"},{"$f":"'[2]Inventário Completo'!G459","v":"CSN-GALVASUD"},{"$f":"'[2]Inventário Completo'!H459","v":"RJ"},{"$f":"'[2]Inventário Completo'!I459","v":" 33.042.730/0130-01"},{"$f":"'[2]Inventário Completo'!J459","v":"75566417 "},{"$f":"'[2]Inventário Completo'!K459","v":"Avenida Renato Monteiro 7777, Centro, Porto Real"},{"$f":"'[2]Inventário Completo'!L459","v":"Wallace Santana Dos Santos "},{"$f":"'[2]Inventário Completo'!M459","v":"(24) 33443000"},{"$f":"'[2]Inventário Completo'!N459","v":0},{"$f":"'[2]Inventário Completo'!O459","v":0},{"$f":"'[2]Inventário Completo'!P459","v":0},{"$f":"'[2]Inventário Completo'!Q459","v":0}]
[{"$f":"'[2]Inventário Completo'!A460","v":"JCVR0128"},{"$f":"'[2]Inventário Completo'!B460","v":"52N211101086"},{"$f":"'[2]Inventário Completo'!C460","v":"Impressora Térmicas"},{"$f":"'[2]Inventário Completo'!D460","v":"ZT230"},{"$f":"'[2]Inventário Completo'!E460","v":"Zebra"},{"$f":"'[2]Inventário Completo'!F460","v":"COMPANHIA SIDERURGICA NACIONAL"},{"$f":"'[2]Inventário Completo'!G460","v":"CSN-GALVASUD"},{"$f":"'[2]Inventário Completo'!H460","v":"RJ"},{"$f":"'[2]Inventário Completo'!I460","v":" 33.042.730/0130-01"},{"$f":"'[2]Inventário Completo'!J460","v":"75566417 "},{"$f":"'[2]Inventário Completo'!K460","v":"Avenida Renato Monteiro 7777, Centro, Porto Real"},{"$f":"'[2]Inventário Completo'!L460","v":"Wallace Santana Dos Santos "},{"$f":"'[2]Inventário Completo'!M460","v":"(24) 33443000"},{"$f":"'[2]Inventário Completo'!N460","v":0},{"$f":"'[2]Inventário Completo'!O460","v":0},{"$f":"'[2]Inventário Completo'!P460","v":0},{"$f":"'[2]Inventário Completo'!Q460","v":0}]
[{"$f":"'[2]Inventário Completo'!A461","v":"JCMC0015"},{"$f":"'[2]Inventário Completo'!B461","v":"52J180307862"},{"$f":"'[2]Inventário Completo'!C461","v":"Impressora Térmicas"},{"$f":"'[2]Inventário Completo'!D461","v":"ZT230"},{"$f":"'[2]Inventário Completo'!E461","v":"Zebra"},{"$f":"'[2]Inventário Completo'!F461","v":"COMPANHIA METALURGICA PRADA"},{"$f":"'[2]Inventário Completo'!G461","v":"PRADA - MOGI DAS CRUZES"},{"$f":"'[2]Inventário Completo'!H461","v":"SP"},{"$f":"'[2]Inventário Completo'!I461","v":"56.993.900/0028-51"},{"$f":"'[2]Inventário Completo'!J461","v":454346682110},{"$f":"'[2]Inventário Completo'!K461","v":"Av. Inal, 190 - Vila Industrial"},{"$f":"'[2]Inventário Completo'!L461","v":"Alexandre Machado"},{"$f":"'[2]Inventário Completo'!M461","v":"(11) 4791-7971"},{"$f":"'[2]Inventário Completo'!N461","v":0},{"$f":"'[2]Inventário Completo'!O461","v":0},{"$f":"'[2]Inventário Completo'!P461","v":0},{"$f":"'[2]Inventário Completo'!Q461","v":0}]
[{"$f":"'[2]Inventário Completo'!A462","v":"JCMC0009"},{"$f":"'[2]Inventário Completo'!B462","v":"52J143004197"},{"$f":"'[2]Inventário Completo'!C462","v":"Impressora Térmicas"},{"$f":"'[2]Inventário Completo'!D462","v":"ZT230"},{"$f":"'[2]Inventário Completo'!E462","v":"Zebra"},{"$f":"'[2]Inventário Completo'!F462","v":"COMPANHIA METALURGICA PRADA"},{"$f":"'[2]Inventário Completo'!G462","v":"PRADA - MOGI DAS CRUZES"},{"$f":"'[2]Inventário Completo'!H462","v":"SP"},{"$f":"'[2]Inventário Completo'!I462","v":"56.993.900/0028-51"},{"$f":"'[2]Inventário Completo'!J462","v":454346682110},{"$f":"'[2]Inventário Completo'!K462","v":"Av. Inal, 190 - Vila Industrial"},{"$f":"'[2]Inventário Completo'!L462","v":"Alexandre Machado"},{"$f":"'[2]Inventário Completo'!M462","v":"(11) 4791-7971"},{"$f":"'[2]Inventário Completo'!N462","v":0},{"$f":"'[2]Inventário Completo'!O462","v":0},{"$f":"'[2]Inventário Completo'!P462","v":0},{"$f":"'[2]Inventário Completo'!Q462","v":0}]
[{"$f":"'[2]Inventário Completo'!A463","v":"JCMC0019"},{"$f":"'[2]Inventário Completo'!B463","v":"52N214700792"},{"$f":"'[2]Inventário Completo'!C463","v":"Impressora Térmicas"},{"$f":"'[2]Inventário Completo'!D463","v":"ZT230"},{"$f":"'[2]Inventário Completo'!E463","v":"Zebra"},{"$f":"'[2]Inventário Completo'!F463","v":"COMPANHIA METALURGICA PRADA"},{"$f":"'[2]Inventário Completo'!G463","v":"PRADA - MOGI DAS CRUZES"},{"$f":"'[2]Inventário Completo'!H463","v":"SP"},{"$f":"'[2]Inventário Completo'!I463","v":"56.993.900/0028-51"},{"$f":"'[2]Inventário Completo'!J463","v":454346682110},{"$f":"'[2]Inventário Completo'!K463","v":"Av. Inal, 190 - Vila Industrial"},{"$f":"'[2]Inventário Completo'!L463","v":"Alexandre Machado"},{"$f":"'[2]Inventário Completo'!M463","v":"(11) 4791-7971"},{"$f":"'[2]Inventário Completo'!N463","v":0},{"$f":"'[2]Inventário Completo'!O463","v":0},{"$f":"'[2]Inventário Completo'!P463","v":0},{"$f":"'[2]Inventário Completo'!Q463","v":0}]
[{"$f":"'[2]Inventário Completo'!A464","v":"JCMC0005"},{"$f":"'[2]Inventário Completo'!B464","v":"52J135000220"},{"$f":"'[2]Inventário Completo'!C464","v":"Impressora Térmicas"},{"$f":"'[2]Inventário Completo'!D464","v":"ZT230"},{"$f":"'[2]Inventário Completo'!E464","v":"Zebra"},{"$f":"'[2]Inventário Completo'!F464","v":"COMPANHIA METALURGICA PRADA"},{"$f":"'[2]Inventário Completo'!G464","v":"PRADA - MOGI DAS CRUZES"},{"$f":"'[2]Inventário Completo'!H464","v":"SP"},{"$f":"'[2]Inventário Completo'!I464","v":"56.993.900/0028-51"},{"$f":"'[2]Inventário Completo'!J464","v":454346682110},{"$f":"'[2]Inventário Completo'!K464","v":"Av. Inal, 190 - Vila Industrial"},{"$f":"'[2]Inventário Completo'!L464","v":"Alexandre Machado"},{"$f":"'[2]Inventário Completo'!M464","v":"(11) 4791-7971"},{"$f":"'[2]Inventário Completo'!N464","v":0},{"$f":"'[2]Inventário Completo'!O464","v":0},{"$f":"'[2]Inventário Completo'!P464","v":0},{"$f":"'[2]Inventário Completo'!Q464","v":0}]
[{"$f":"'[2]Inventário Completo'!A465","v":"JCMC0011"},{"$f":"'[2]Inventário Completo'!B465","v":"52J143004202"},{"$f":"'[2]Inventário Completo'!C465","v":"Impressora Térmicas"},{"$f":"'[2]Inventário Completo'!D465","v":"ZT230"},{"$f":"'[2]Inventário Completo'!E465","v":"Zebra"},{"$f":"'[2]Inventário Completo'!F465","v":"COMPANHIA METALURGICA PRADA"},{"$f":"'[2]Inventário Completo'!G465","v":"PRADA - MOGI DAS CRUZES"},{"$f":"'[2]Inventário Completo'!H465","v":"SP"},{"$f":"'[2]Inventário Completo'!I465","v":"56.993.900/0028-51"},{"$f":"'[2]Inventário Completo'!J465","v":454346682110},{"$f":"'[2]Inventário Completo'!K465","v":"Av. Inal, 190 - Vila Industrial"},{"$f":"'[2]Inventário Completo'!L465","v":"Alexandre Machado"},{"$f":"'[2]Inventário Completo'!M465","v":"(11) 4791-7971"},{"$f":"'[2]Inventário Completo'!N465","v":0},{"$f":"'[2]Inventário Completo'!O465","v":0},{"$f":"'[2]Inventário Completo'!P465","v":0},{"$f":"'[2]Inventário Completo'!Q465","v":0}]
[{"$f":"'[2]Inventário Completo'!A466","v":"JCMC0012"},{"$f":"'[2]Inventário Completo'!B466","v":"52J143004234"},{"$f":"'[2]Inventário Completo'!C466","v":"Impressora Térmicas"},{"$f":"'[2]Inventário Completo'!D466","v":"ZT230"},{"$f":"'[2]Inventário Completo'!E466","v":"Zebra"},{"$f":"'[2]Inventário Completo'!F466","v":"COMPANHIA METALURGICA PRADA"},{"$f":"'[2]Inventário Completo'!G466","v":"PRADA - MOGI DAS CRUZES"},{"$f":"'[2]Inventário Completo'!H466","v":"SP"},{"$f":"'[2]Inventário Completo'!I466","v":"56.993.900/0028-51"},{"$f":"'[2]Inventário Completo'!J466","v":454346682110},{"$f":"'[2]Inventário Completo'!K466","v":"Av. Inal, 190 - Vila Industrial"},{"$f":"'[2]Inventário Completo'!L466","v":"Alexandre Machado"},{"$f":"'[2]Inventário Completo'!M466","v":"(11) 4791-7971"},{"$f":"'[2]Inventário Completo'!N466","v":0},{"$f":"'[2]Inventário Completo'!O466","v":0},{"$f":"'[2]Inventário Completo'!P466","v":0},{"$f":"'[2]Inventário Completo'!Q466","v":0}]
[{"$f":"'[2]Inventário Completo'!A467","v":"JCMC0007"},{"$f":"'[2]Inventário Completo'!B467","v":"52J143001850"},{"$f":"'[2]Inventário Completo'!C467","v":"Impressora Térmicas"},{"$f":"'[2]Inventário Completo'!D467","v":"ZT230"},{"$f":"'[2]Inventário Completo'!E467","v":"Zebra"},{"$f":"'[2]Inventário Completo'!F467","v":"COMPANHIA METALURGICA PRADA"},{"$f":"'[2]Inventário Completo'!G467","v":"PRADA - MOGI DAS CRUZES"},{"$f":"'[2]Inventário Completo'!H467","v":"SP"},{"$f":"'[2]Inventário Completo'!I467","v":"56.993.900/0028-51"},{"$f":"'[2]Inventário Completo'!J467","v":454346682110},{"$f":"'[2]Inventário Completo'!K467","v":"Av. Inal, 190 - Vila Industrial"},{"$f":"'[2]Inventário Completo'!L467","v":"Alexandre Machado"},{"$f":"'[2]Inventário Completo'!M467","v":"(11) 4791-7971"},{"$f":"'[2]Inventário Completo'!N467","v":0},{"$f":"'[2]Inventário Completo'!O467","v":0},{"$f":"'[2]Inventário Completo'!P467","v":0},{"$f":"'[2]Inventário Completo'!Q467","v":0}]
[{"$f":"'[2]Inventário Completo'!A468","v":"JCMC0016"},{"$f":"'[2]Inventário Completo'!B468","v":"52N211101064"},{"$f":"'[2]Inventário Completo'!C468","v":"Impressora Térmicas"},{"$f":"'[2]Inventário Completo'!D468","v":"ZT230"},{"$f":"'[2]Inventário Completo'!E468","v":"Zebra"},{"$f":"'[2]Inventário Completo'!F468","v":"COMPANHIA METALURGICA PRADA"},{"$f":"'[2]Inventário Completo'!G468","v":"PRADA - MOGI DAS CRUZES"},{"$f":"'[2]Inventário Completo'!H468","v":"SP"},{"$f":"'[2]Inventário Completo'!I468","v":"56.993.900/0028-51"},{"$f":"'[2]Inventário Completo'!J468","v":454346682110},{"$f":"'[2]Inventário Completo'!K468","v":"Av. Inal, 190 - Vila Industrial"},{"$f":"'[2]Inventário Completo'!L468","v":"Alexandre Machado"},{"$f":"'[2]Inventário Completo'!M468","v":"(11) 4791-7971"},{"$f":"'[2]Inventário Completo'!N468","v":0},{"$f":"'[2]Inventário Completo'!O468","v":0},{"$f":"'[2]Inventário Completo'!P468","v":0},{"$f":"'[2]Inventário Completo'!Q468","v":0}]
[{"$f":"'[2]Inventário Completo'!A469","v":"JCMC0006"},{"$f":"'[2]Inventário Completo'!B469","v":"52J143001824"},{"$f":"'[2]Inventário Completo'!C469","v":"Impressora Térmicas"},{"$f":"'[2]Inventário Completo'!D469","v":"ZT230"},{"$f":"'[2]Inventário Completo'!E469","v":"Zebra"},{"$f":"'[2]Inventário Completo'!F469","v":"COMPANHIA METALURGICA PRADA"},{"$f":"'[2]Inventário Completo'!G469","v":"PRADA - MOGI DAS CRUZES"},{"$f":"'[2]Inventário Completo'!H469","v":"SP"},{"$f":"'[2]Inventário Completo'!I469","v":"56.993.900/0028-51"},{"$f":"'[2]Inventário Completo'!J469","v":454346682110},{"$f":"'[2]Inventário Completo'!K469","v":"Av. Inal, 190 - Vila Industrial"},{"$f":"'[2]Inventário Completo'!L469","v":"Alexandre Machado"},{"$f":"'[2]Inventário Completo'!M469","v":"(11) 4791-7971"},{"$f":"'[2]Inventário Completo'!N469","v":0},{"$f":"'[2]Inventário Completo'!O469","v":0},{"$f":"'[2]Inventário Completo'!P469","v":0},{"$f":"'[2]Inventário Completo'!Q469","v":0}]
[{"$f":"'[2]Inventário Completo'!A470","v":"JCMC0010"},{"$f":"'[2]Inventário Completo'!B470","v":"52J143004200"},{"$f":"'[2]Inventário Completo'!C470","v":"Impressora Térmicas"},{"$f":"'[2]Inventário Completo'!D470","v":"ZT230"},{"$f":"'[2]Inventário Completo'!E470","v":"Zebra"},{"$f":"'[2]Inventário Completo'!F470","v":"COMPANHIA METALURGICA PRADA"},{"$f":"'[2]Inventário Completo'!G470","v":"PRADA - MOGI DAS CRUZES"},{"$f":"'[2]Inventário Completo'!H470","v":"SP"},{"$f":"'[2]Inventário Completo'!I470","v":"56.993.900/0028-51"},{"$f":"'[2]Inventário Completo'!J470","v":454346682110},{"$f":"'[2]Inventário Completo'!K470","v":"Av. Inal, 190 - Vila Industrial"},{"$f":"'[2]Inventário Completo'!L470","v":"Alexandre Machado"},{"$f":"'[2]Inventário Completo'!M470","v":"(11) 4791-7971"},{"$f":"'[2]Inventário Completo'!N470","v":0},{"$f":"'[2]Inventário Completo'!O470","v":0},{"$f":"'[2]Inventário Completo'!P470","v":0},{"$f":"'[2]Inventário Completo'!Q470","v":0}]
[{"$f":"'[2]Inventário Completo'!A471","v":"JCMC0018"},{"$f":"'[2]Inventário Completo'!B471","v":"52N211101082"},{"$f":"'[2]Inventário Completo'!C471","v":"Impressora Térmicas"},{"$f":"'[2]Inventário Completo'!D471","v":"ZT230"},{"$f":"'[2]Inventário Completo'!E471","v":"Zebra"},{"$f":"'[2]Inventário Completo'!F471","v":"COMPANHIA METALURGICA PRADA"},{"$f":"'[2]Inventário Completo'!G471","v":"PRADA - MOGI DAS CRUZES"},{"$f":"'[2]Inventário Completo'!H471","v":"SP"},{"$f":"'[2]Inventário Completo'!I471","v":"56.993.900/0028-51"},{"$f":"'[2]Inventário Completo'!J471","v":454346682110},{"$f":"'[2]Inventário Completo'!K471","v":"Av. Inal, 190 - Vila Industrial"},{"$f":"'[2]Inventário Completo'!L471","v":"Alexandre Machado"},{"$f":"'[2]Inventário Completo'!M471","v":"(11) 4791-7971"},{"$f":"'[2]Inventário Completo'!N471","v":0},{"$f":"'[2]Inventário Completo'!O471","v":0},{"$f":"'[2]Inventário Completo'!P471","v":0},{"$f":"'[2]Inventário Completo'!Q471","v":0}]
[{"$f":"'[2]Inventário Completo'!A472","v":"JCMC0008"},{"$f":"'[2]Inventário Completo'!B472","v":"52J143002486"},{"$f":"'[2]Inventário Completo'!C472","v":"Impressora Térmicas"},{"$f":"'[2]Inventário Completo'!D472","v":"ZT230"},{"$f":"'[2]Inventário Completo'!E472","v":"Zebra"},{"$f":"'[2]Inventário Completo'!F472","v":"COMPANHIA METALURGICA PRADA"},{"$f":"'[2]Inventário Completo'!G472","v":"PRADA - MOGI DAS CRUZES"},{"$f":"'[2]Inventário Completo'!H472","v":"SP"},{"$f":"'[2]Inventário Completo'!I472","v":"56.993.900/0028-51"},{"$f":"'[2]Inventário Completo'!J472","v":454346682110},{"$f":"'[2]Inventário Completo'!K472","v":"Av. Inal, 190 - Vila Industrial"},{"$f":"'[2]Inventário Completo'!L472","v":"Alexandre Machado"},{"$f":"'[2]Inventário Completo'!M472","v":"(11) 4791-7971"},{"$f":"'[2]Inventário Completo'!N472","v":0},{"$f":"'[2]Inventário Completo'!O472","v":0},{"$f":"'[2]Inventário Completo'!P472","v":0},{"$f":"'[2]Inventário Completo'!Q472","v":0}]
[{"$f":"'[2]Inventário Completo'!A473","v":"JCMC0020"},{"$f":"'[2]Inventário Completo'!B473","v":"52N214701416"},{"$f":"'[2]Inventário Completo'!C473","v":"Impressora Térmicas"},{"$f":"'[2]Inventário Completo'!D473","v":"ZT230"},{"$f":"'[2]Inventário Completo'!E473","v":"Zebra"},{"$f":"'[2]Inventário Completo'!F473","v":"COMPANHIA METALURGICA PRADA"},{"$f":"'[2]Inventário Completo'!G473","v":"PRADA - MOGI DAS CRUZES"},{"$f":"'[2]Inventário Completo'!H473","v":"SP"},{"$f":"'[2]Inventário Completo'!I473","v":"56.993.900/0028-51"},{"$f":"'[2]Inventário Completo'!J473","v":454346682110},{"$f":"'[2]Inventário Completo'!K473","v":"Av. Inal, 190 - Vila Industrial"},{"$f":"'[2]Inventário Completo'!L473","v":"Alexandre Machado"},{"$f":"'[2]Inventário Completo'!M473","v":"(11) 4791-7971"},{"$f":"'[2]Inventário Completo'!N473","v":0},{"$f":"'[2]Inventário Completo'!O473","v":0},{"$f":"'[2]Inventário Completo'!P473","v":0},{"$f":"'[2]Inventário Completo'!Q473","v":0}]
[{"$f":"'[2]Inventário Completo'!A474","v":"JCMC0014"},{"$f":"'[2]Inventário Completo'!B474","v":"52J172001238"},{"$f":"'[2]Inventário Completo'!C474","v":"Impressora Térmicas"},{"$f":"'[2]Inventário Completo'!D474","v":"ZT230"},{"$f":"'[2]Inventário Completo'!E474","v":"Zebra"},{"$f":"'[2]Inventário Completo'!F474","v":"COMPANHIA METALURGICA PRADA"},{"$f":"'[2]Inventário Completo'!G474","v":"PRADA - MOGI DAS CRUZES"},{"$f":"'[2]Inventário Completo'!H474","v":"SP"},{"$f":"'[2]Inventário Completo'!I474","v":"56.993.900/0028-51"},{"$f":"'[2]Inventário Completo'!J474","v":454346682110},{"$f":"'[2]Inventário Completo'!K474","v":"Av. Inal, 190 - Vila Industrial"},{"$f":"'[2]Inventário Completo'!L474","v":"Alexandre Machado"},{"$f":"'[2]Inventário Completo'!M474","v":"(11) 4791-7971"},{"$f":"'[2]Inventário Completo'!N474","v":0},{"$f":"'[2]Inventário Completo'!O474","v":0},{"$f":"'[2]Inventário Completo'!P474","v":0},{"$f":"'[2]Inventário Completo'!Q474","v":0}]
[{"$f":"'[2]Inventário Completo'!A475","v":"JCMC0013"},{"$f":"'[2]Inventário Completo'!B475","v":"52J164601039"},{"$f":"'[2]Inventário Completo'!C475","v":"Impressora Térmicas"},{"$f":"'[2]Inventário Completo'!D475","v":"ZT230"},{"$f":"'[2]Inventário Completo'!E475","v":"Zebra"},{"$f":"'[2]Inventário Completo'!F475","v":"COMPANHIA METALURGICA PRADA"},{"$f":"'[2]Inventário Completo'!G475","v":"PRADA - MOGI DAS CRUZES"},{"$f":"'[2]Inventário Completo'!H475","v":"SP"},{"$f":"'[2]Inventário Completo'!I475","v":"56.993.900/0028-51"},{"$f":"'[2]Inventário Completo'!J475","v":454346682110},{"$f":"'[2]Inventário Completo'!K475","v":"Av. Inal, 190 - Vila Industrial"},{"$f":"'[2]Inventário Completo'!L475","v":"Alexandre Machado"},{"$f":"'[2]Inventário Completo'!M475","v":"(11) 4791-7971"},{"$f":"'[2]Inventário Completo'!N475","v":0},{"$f":"'[2]Inventário Completo'!O475","v":0},{"$f":"'[2]Inventário Completo'!P475","v":0},{"$f":"'[2]Inventário Completo'!Q475","v":0}]
[{"$f":"'[2]Inventário Completo'!A476","v":"JCMC0017"},{"$f":"'[2]Inventário Completo'!B476","v":"52N212101768"},{"$f":"'[2]Inventário Completo'!C476","v":"Impressora Térmicas"},{"$f":"'[2]Inventário Completo'!D476","v":"ZT230"},{"$f":"'[2]Inventário Completo'!E476","v":"Zebra"},{"$f":"'[2]Inventário Completo'!F476","v":"COMPANHIA METALURGICA PRADA"},{"$f":"'[2]Inventário Completo'!G476","v":"PRADA - MOGI DAS CRUZES"},{"$f":"'[2]Inventário Completo'!H476","v":"SP"},{"$f":"'[2]Inventário Completo'!I476","v":"56.993.900/0028-51"},{"$f":"'[2]Inventário Completo'!J476","v":454346682110},{"$f":"'[2]Inventário Completo'!K476","v":"Av. Inal, 190 - Vila Industrial"},{"$f":"'[2]Inventário Completo'!L476","v":"Alexandre Machado"},{"$f":"'[2]Inventário Completo'!M476","v":"(11) 4791-7971"},{"$f":"'[2]Inventário Completo'!N476","v":0},{"$f":"'[2]Inventário Completo'!O476","v":0},{"$f":"'[2]Inventário Completo'!P476","v":0},{"$f":"'[2]Inventário Completo'!Q476","v":0}]
[{"$f":"'[2]Inventário Completo'!A477","v":"JCCA0010"},{"$f":"'[2]Inventário Completo'!B477","v":"91C07390055"},{"$f":"'[2]Inventário Completo'!C477","v":"Impressora Térmicas"},{"$f":"'[2]Inventário Completo'!D477","v":"Z110 Xi3"},{"$f":"'[2]Inventário Completo'!E477","v":"Zebra"},{"$f":"'[2]Inventário Completo'!F477","v":"CSN MINERACAO S.A."},{"$f":"'[2]Inventário Completo'!G477","v":"CSN-OURO PRETO"},{"$f":"'[2]Inventário Completo'!H477","v":"MG"},{"$f":"'[2]Inventário Completo'!I477","v":"08.902.291/0004-68"},{"$f":"'[2]Inventário Completo'!J477","v":"062339588.00-19"},{"$f":"'[2]Inventário Completo'!K477","v":"ROD BR 040 S/N, ZONA RURAL, DISTRITO DE MIGUEL BURNIER, OURO PRETO CEP 35400-000"},{"$f":"'[2]Inventário Completo'!L477","v":"Classius Marcelo de Andrade "},{"$f":"'[2]Inventário Completo'!M477","v":"(31) 3749-1896 "},{"$f":"'[2]Inventário Completo'!N477","v":0},{"$f":"'[2]Inventário Completo'!O477","v":0},{"$f":"'[2]Inventário Completo'!P477","v":0},{"$f":"'[2]Inventário Completo'!Q477","v":0}]
[{"$f":"'[2]Inventário Completo'!A478","v":"JCCP0002"},{"$f":"'[2]Inventário Completo'!B478","v":"91C07380098"},{"$f":"'[2]Inventário Completo'!C478","v":"Impressora Térmicas"},{"$f":"'[2]Inventário Completo'!D478","v":"Z110 Xi3"},{"$f":"'[2]Inventário Completo'!E478","v":"Zebra"},{"$f":"'[2]Inventário Completo'!F478","v":"CSN MINERACAO S.A."},{"$f":"'[2]Inventário Completo'!G478","v":"CSN-OURO PRETO"},{"$f":"'[2]Inventário Completo'!H478","v":"MG"},{"$f":"'[2]Inventário Completo'!I478","v":"08.902.291/0004-68"},{"$f":"'[2]Inventário Completo'!J478","v":"062339588.00-19"},{"$f":"'[2]Inventário Completo'!K478","v":"ROD BR 040 S/N, ZONA RURAL, DISTRITO DE MIGUEL BURNIER, OURO PRETO CEP 35400-000"},{"$f":"'[2]Inventário Completo'!L478","v":"Classius Marcelo de Andrade "},{"$f":"'[2]Inventário Completo'!M478","v":"(31) 3749-1896 "},{"$f":"'[2]Inventário Completo'!N478","v":0},{"$f":"'[2]Inventário Completo'!O478","v":0},{"$f":"'[2]Inventário Completo'!P478","v":0},{"$f":"'[2]Inventário Completo'!Q478","v":0}]
[{"$f":"'[2]Inventário Completo'!A479","v":"JCCP0005"},{"$f":"'[2]Inventário Completo'!B479","v":"14J113600961"},{"$f":"'[2]Inventário Completo'!C479","v":"Impressora Térmicas"},{"$f":"'[2]Inventário Completo'!D479","v":"Z110 Xi4"},{"$f":"'[2]Inventário Completo'!E479","v":"Zebra"},{"$f":"'[2]Inventário Completo'!F479","v":"CSN MINERACAO S.A."},{"$f":"'[2]Inventário Completo'!G479","v":"CSN-OURO PRETO"},{"$f":"'[2]Inventário Completo'!H479","v":"MG"},{"$f":"'[2]Inventário Completo'!I479","v":"08.902.291/0004-68"},{"$f":"'[2]Inventário Completo'!J479","v":"062339588.00-19"},{"$f":"'[2]Inventário Completo'!K479","v":"ROD BR 040 S/N, ZONA RURAL, DISTRITO DE MIGUEL BURNIER, OURO PRETO CEP 35400-000"},{"$f":"'[2]Inventário Completo'!L479","v":"Classius Marcelo de Andrade "},{"$f":"'[2]Inventário Completo'!M479","v":"(31) 3749-1896 "},{"$f":"'[2]Inventário Completo'!N479","v":0},{"$f":"'[2]Inventário Completo'!O479","v":0},{"$f":"'[2]Inventário Completo'!P479","v":0},{"$f":"'[2]Inventário Completo'!Q479","v":0}]
[{"$f":"'[2]Inventário Completo'!A480","v":"JCOP0001"},{"$f":"'[2]Inventário Completo'!B480","v":"14J140200268"},{"$f":"'[2]Inventário Completo'!C480","v":"Impressora Térmicas"},{"$f":"'[2]Inventário Completo'!D480","v":"Z110 Xi4"},{"$f":"'[2]Inventário Completo'!E480","v":"Zebra"},{"$f":"'[2]Inventário Completo'!F480","v":"CSN MINERACAO S.A."},{"$f":"'[2]Inventário Completo'!G480","v":"CSN-OURO PRETO"},{"$f":"'[2]Inventário Completo'!H480","v":"MG"},{"$f":"'[2]Inventário Completo'!I480","v":"08.902.291/0004-68"},{"$f":"'[2]Inventário Completo'!J480","v":"062339588.00-19"},{"$f":"'[2]Inventário Completo'!K480","v":"ROD BR 040 S/N, ZONA RURAL, DISTRITO DE MIGUEL BURNIER, OURO PRETO CEP 35400-000"},{"$f":"'[2]Inventário Completo'!L480","v":"Classius Marcelo de Andrade "},{"$f":"'[2]Inventário Completo'!M480","v":"(31) 3749-1896 "},{"$f":"'[2]Inventário Completo'!N480","v":0},{"$f":"'[2]Inventário Completo'!O480","v":0},{"$f":"'[2]Inventário Completo'!P480","v":0},{"$f":"'[2]Inventário Completo'!Q480","v":0}]
[{"$f":"'[2]Inventário Completo'!A481","v":"JCOP0002"},{"$f":"'[2]Inventário Completo'!B481","v":"52N212101750"},{"$f":"'[2]Inventário Completo'!C481","v":"Impressora Térmicas"},{"$f":"'[2]Inventário Completo'!D481","v":"ZT230"},{"$f":"'[2]Inventário Completo'!E481","v":"Zebra"},{"$f":"'[2]Inventário Completo'!F481","v":"CSN MINERACAO S.A."},{"$f":"'[2]Inventário Completo'!G481","v":"CSN-OURO PRETO"},{"$f":"'[2]Inventário Completo'!H481","v":"MG"},{"$f":"'[2]Inventário Completo'!I481","v":"08.902.291/0004-68"},{"$f":"'[2]Inventário Completo'!J481","v":"062339588.00-19"},{"$f":"'[2]Inventário Completo'!K481","v":"ROD BR 040 S/N, ZONA RURAL, DISTRITO DE MIGUEL BURNIER, OURO PRETO CEP 35400-000"},{"$f":"'[2]Inventário Completo'!L481","v":"Classius Marcelo de Andrade "},{"$f":"'[2]Inventário Completo'!M481","v":"(31) 3749-1896 "},{"$f":"'[2]Inventário Completo'!N481","v":0},{"$f":"'[2]Inventário Completo'!O481","v":0},{"$f":"'[2]Inventário Completo'!P481","v":0},{"$f":"'[2]Inventário Completo'!Q481","v":0}]
[{"$f":"'[2]Inventário Completo'!A482","v":"JCOP0003"},{"$f":"'[2]Inventário Completo'!B482","v":"52J184204496"},{"$f":"'[2]Inventário Completo'!C482","v":"Impressora Térmicas"},{"$f":"'[2]Inventário Completo'!D482","v":"ZT230"},{"$f":"'[2]Inventário Completo'!E482","v":"Zebra"},{"$f":"'[2]Inventário Completo'!F482","v":"CSN MINERACAO S.A."},{"$f":"'[2]Inventário Completo'!G482","v":"CSN-OURO PRETO"},{"$f":"'[2]Inventário Completo'!H482","v":"MG"},{"$f":"'[2]Inventário Completo'!I482","v":"08.902.291/0004-68"},{"$f":"'[2]Inventário Completo'!J482","v":"062339588.00-19"},{"$f":"'[2]Inventário Completo'!K482","v":"ROD BR 040 S/N, ZONA RURAL, DISTRITO DE MIGUEL BURNIER, OURO PRETO CEP 35400-000"},{"$f":"'[2]Inventário Completo'!L482","v":"Classius Marcelo de Andrade "},{"$f":"'[2]Inventário Completo'!M482","v":"(31) 3749-1896 "},{"$f":"'[2]Inventário Completo'!N482","v":0},{"$f":"'[2]Inventário Completo'!O482","v":0},{"$f":"'[2]Inventário Completo'!P482","v":0},{"$f":"'[2]Inventário Completo'!Q482","v":0}]
[{"$f":"'[2]Inventário Completo'!A483","v":"JCOP0004"},{"$f":"'[2]Inventário Completo'!B483","v":"52J183700351"},{"$f":"'[2]Inventário Completo'!C483","v":"Impressora Térmicas"},{"$f":"'[2]Inventário Completo'!D483","v":"ZT230"},{"$f":"'[2]Inventário Completo'!E483","v":"Zebra"},{"$f":"'[2]Inventário Completo'!F483","v":"CSN MINERACAO S.A."},{"$f":"'[2]Inventário Completo'!G483","v":"CSN-OURO PRETO"},{"$f":"'[2]Inventário Completo'!H483","v":"MG"},{"$f":"'[2]Inventário Completo'!I483","v":"08.902.291/0004-68"},{"$f":"'[2]Inventário Completo'!J483","v":"062339588.00-19"},{"$f":"'[2]Inventário Completo'!K483","v":"ROD BR 040 S/N, ZONA RURAL, DISTRITO DE MIGUEL BURNIER, OURO PRETO CEP 35400-000"},{"$f":"'[2]Inventário Completo'!L483","v":"Classius Marcelo de Andrade "},{"$f":"'[2]Inventário Completo'!M483","v":"(31) 3749-1896 "},{"$f":"'[2]Inventário Completo'!N483","v":0},{"$f":"'[2]Inventário Completo'!O483","v":0},{"$f":"'[2]Inventário Completo'!P483","v":0},{"$f":"'[2]Inventário Completo'!Q483","v":0}]
[{"$f":"'[2]Inventário Completo'!A484","v":"JCOP0005"},{"$f":"'[2]Inventário Completo'!B484","v":"52J185100961"},{"$f":"'[2]Inventário Completo'!C484","v":"Impressora Térmicas"},{"$f":"'[2]Inventário Completo'!D484","v":"ZT230"},{"$f":"'[2]Inventário Completo'!E484","v":"Zebra"},{"$f":"'[2]Inventário Completo'!F484","v":"CSN MINERACAO S.A."},{"$f":"'[2]Inventário Completo'!G484","v":"CSN-OURO PRETO"},{"$f":"'[2]Inventário Completo'!H484","v":"MG"},{"$f":"'[2]Inventário Completo'!I484","v":"08.902.291/0004-68"},{"$f":"'[2]Inventário Completo'!J484","v":"062339588.00-19"},{"$f":"'[2]Inventário Completo'!K484","v":"ROD BR 040 S/N, ZONA RURAL, DISTRITO DE MIGUEL BURNIER, OURO PRETO CEP 35400-000"},{"$f":"'[2]Inventário Completo'!L484","v":"Classius Marcelo de Andrade "},{"$f":"'[2]Inventário Completo'!M484","v":"(31) 3749-1896 "},{"$f":"'[2]Inventário Completo'!N484","v":0},{"$f":"'[2]Inventário Completo'!O484","v":0},{"$f":"'[2]Inventário Completo'!P484","v":0},{"$f":"'[2]Inventário Completo'!Q484","v":0}]
[{"$f":"'[2]Inventário Completo'!A485","v":"JCOP0006"},{"$f":"'[2]Inventário Completo'!B485","v":"52J190303524"},{"$f":"'[2]Inventário Completo'!C485","v":"Impressora Térmicas"},{"$f":"'[2]Inventário Completo'!D485","v":"ZT230"},{"$f":"'[2]Inventário Completo'!E485","v":"Zebra"},{"$f":"'[2]Inventário Completo'!F485","v":"CSN MINERACAO S.A."},{"$f":"'[2]Inventário Completo'!G485","v":"CSN-OURO PRETO"},{"$f":"'[2]Inventário Completo'!H485","v":"MG"},{"$f":"'[2]Inventário Completo'!I485","v":"08.902.291/0004-68"},{"$f":"'[2]Inventário Completo'!J485","v":"062339588.00-19"},{"$f":"'[2]Inventário Completo'!K485","v":"ROD BR 040 S/N, ZONA RURAL, DISTRITO DE MIGUEL BURNIER, OURO PRETO CEP 35400-000"},{"$f":"'[2]Inventário Completo'!L485","v":"Classius Marcelo de Andrade "},{"$f":"'[2]Inventário Completo'!M485","v":"(31) 3749-1896 "},{"$f":"'[2]Inventário Completo'!N485","v":0},{"$f":"'[2]Inventário Completo'!O485","v":0},{"$f":"'[2]Inventário Completo'!P485","v":0},{"$f":"'[2]Inventário Completo'!Q485","v":0}]
[{"$f":"'[2]Inventário Completo'!A486","v":"JCOP0007"},{"$f":"'[2]Inventário Completo'!B486","v":"52J190303425"},{"$f":"'[2]Inventário Completo'!C486","v":"Impressora Térmicas"},{"$f":"'[2]Inventário Completo'!D486","v":"ZT230"},{"$f":"'[2]Inventário Completo'!E486","v":"Zebra"},{"$f":"'[2]Inventário Completo'!F486","v":"CSN MINERACAO S.A."},{"$f":"'[2]Inventário Completo'!G486","v":"CSN-OURO PRETO"},{"$f":"'[2]Inventário Completo'!H486","v":"MG"},{"$f":"'[2]Inventário Completo'!I486","v":"08.902.291/0004-68"},{"$f":"'[2]Inventário Completo'!J486","v":"062339588.00-19"},{"$f":"'[2]Inventário Completo'!K486","v":"ROD BR 040 S/N, ZONA RURAL, DISTRITO DE MIGUEL BURNIER, OURO PRETO CEP 35400-000"},{"$f":"'[2]Inventário Completo'!L486","v":"Classius Marcelo de Andrade "},{"$f":"'[2]Inventário Completo'!M486","v":"(31) 3749-1896 "},{"$f":"'[2]Inventário Completo'!N486","v":0},{"$f":"'[2]Inventário Completo'!O486","v":0},{"$f":"'[2]Inventário Completo'!P486","v":0},{"$f":"'[2]Inventário Completo'!Q486","v":0}]
[{"$f":"'[2]Inventário Completo'!A487","v":"JCOP0008"},{"$f":"'[2]Inventário Completo'!B487","v":"52J161203154"},{"$f":"'[2]Inventário Completo'!C487","v":"Impressora Térmicas"},{"$f":"'[2]Inventário Completo'!D487","v":"ZT230"},{"$f":"'[2]Inventário Completo'!E487","v":"Zebra"},{"$f":"'[2]Inventário Completo'!F487","v":"CSN MINERACAO S.A."},{"$f":"'[2]Inventário Completo'!G487","v":"CSN-OURO PRETO"},{"$f":"'[2]Inventário Completo'!H487","v":"MG"},{"$f":"'[2]Inventário Completo'!I487","v":"08.902.291/0004-68"},{"$f":"'[2]Inventário Completo'!J487","v":"062339588.00-19"},{"$f":"'[2]Inventário Completo'!K487","v":"ROD BR 040 S/N, ZONA RURAL, DISTRITO DE MIGUEL BURNIER, OURO PRETO CEP 35400-000"},{"$f":"'[2]Inventário Completo'!L487","v":"Classius Marcelo de Andrade "},{"$f":"'[2]Inventário Completo'!M487","v":"(31) 3749-1896 "},{"$f":"'[2]Inventário Completo'!N487","v":0},{"$f":"'[2]Inventário Completo'!O487","v":0},{"$f":"'[2]Inventário Completo'!P487","v":0},{"$f":"'[2]Inventário Completo'!Q487","v":0}]
[{"$f":"'[2]Inventário Completo'!A488","v":"JCOP0009"},{"$f":"'[2]Inventário Completo'!B488","v":"52J180401732"},{"$f":"'[2]Inventário Completo'!C488","v":"Impressora Térmicas"},{"$f":"'[2]Inventário Completo'!D488","v":"ZT230"},{"$f":"'[2]Inventário Completo'!E488","v":"Zebra"},{"$f":"'[2]Inventário Completo'!F488","v":"CSN MINERACAO S.A."},{"$f":"'[2]Inventário Completo'!G488","v":"CSN-OURO PRETO"},{"$f":"'[2]Inventário Completo'!H488","v":"MG"},{"$f":"'[2]Inventário Completo'!I488","v":"08.902.291/0004-68"},{"$f":"'[2]Inventário Completo'!J488","v":"062339588.00-19"},{"$f":"'[2]Inventário Completo'!K488","v":"ROD BR 040 S/N, ZONA RURAL, DISTRITO DE MIGUEL BURNIER, OURO PRETO CEP 35400-000"},{"$f":"'[2]Inventário Completo'!L488","v":"Classius Marcelo de Andrade "},{"$f":"'[2]Inventário Completo'!M488","v":"(31) 3749-1896 "},{"$f":"'[2]Inventário Completo'!N488","v":0},{"$f":"'[2]Inventário Completo'!O488","v":0},{"$f":"'[2]Inventário Completo'!P488","v":0},{"$f":"'[2]Inventário Completo'!Q488","v":0}]
[{"$f":"'[2]Inventário Completo'!A489","v":"JCPE0001"},{"$f":"'[2]Inventário Completo'!B489","v":"52J151303055"},{"$f":"'[2]Inventário Completo'!C489","v":"Impressora Térmicas"},{"$f":"'[2]Inventário Completo'!D489","v":"ZT230"},{"$f":"'[2]Inventário Completo'!E489","v":"Zebra"},{"$f":"'[2]Inventário Completo'!F489","v":"COMPANHIA METALURGICA PRADA"},{"$f":"'[2]Inventário Completo'!G489","v":"PRADA - PELOTAS"},{"$f":"'[2]Inventário Completo'!H489","v":"RS"},{"$f":"'[2]Inventário Completo'!I489","v":"56.993.900/0032-38"},{"$f":"'[2]Inventário Completo'!J489","v":"093/0458800"},{"$f":"'[2]Inventário Completo'!K489","v":"Av. Senador Salgado Filho, Nº 1241B, Três Vendas - Pelotas/RS - Cep.: 96.055-740 "},{"$f":"'[2]Inventário Completo'!L489","v":"Alex Candido"},{"$f":"'[2]Inventário Completo'!M489","v":"(24) 3383-8320"},{"$f":"'[2]Inventário Completo'!N489","v":0},{"$f":"'[2]Inventário Completo'!O489","v":0},{"$f":"'[2]Inventário Completo'!P489","v":0},{"$f":"'[2]Inventário Completo'!Q489","v":0}]
[{"$f":"'[2]Inventário Completo'!A490","v":"JCPI0002"},{"$f":"'[2]Inventário Completo'!B490","v":"52J135000504"},{"$f":"'[2]Inventário Completo'!C490","v":"Impressora Térmicas"},{"$f":"'[2]Inventário Completo'!D490","v":"ZT230"},{"$f":"'[2]Inventário Completo'!E490","v":"Zebra"},{"$f":"'[2]Inventário Completo'!F490","v":"COMPANHIA METALURGICA PRADA"},{"$f":"'[2]Inventário Completo'!G490","v":"PRADA - PIRACICABA"},{"$f":"'[2]Inventário Completo'!H490","v":"SP"},{"$f":"'[2]Inventário Completo'!I490","v":"56.993.900/0023-47"},{"$f":"'[2]Inventário Completo'!J490","v":535452747113},{"$f":"'[2]Inventário Completo'!K490","v":"Rua Dr. José Rodrigues de Almeida, 88 - Vila Paulicéia"},{"$f":"'[2]Inventário Completo'!L490","v":"Alexandre Machado"},{"$f":"'[2]Inventário Completo'!M490","v":"(11) 4791-7971"},{"$f":"'[2]Inventário Completo'!N490","v":0},{"$f":"'[2]Inventário Completo'!O490","v":0},{"$f":"'[2]Inventário Completo'!P490","v":0},{"$f":"'[2]Inventário Completo'!Q490","v":0}]
[{"$f":"'[2]Inventário Completo'!A491","v":"JCPI0003"},{"$f":"'[2]Inventário Completo'!B491","v":"52J143001827"},{"$f":"'[2]Inventário Completo'!C491","v":"Impressora Térmicas"},{"$f":"'[2]Inventário Completo'!D491","v":"ZT230"},{"$f":"'[2]Inventário Completo'!E491","v":"Zebra"},{"$f":"'[2]Inventário Completo'!F491","v":"COMPANHIA METALURGICA PRADA"},{"$f":"'[2]Inventário Completo'!G491","v":"PRADA - PIRACICABA"},{"$f":"'[2]Inventário Completo'!H491","v":"SP"},{"$f":"'[2]Inventário Completo'!I491","v":"56.993.900/0023-47"},{"$f":"'[2]Inventário Completo'!J491","v":535452747113},{"$f":"'[2]Inventário Completo'!K491","v":"Rua Dr. José Rodrigues de Almeida, 88 - Vila Paulicéia"},{"$f":"'[2]Inventário Completo'!L491","v":"Alexandre Machado"},{"$f":"'[2]Inventário Completo'!M491","v":"(11) 4791-7971"},{"$f":"'[2]Inventário Completo'!N491","v":0},{"$f":"'[2]Inventário Completo'!O491","v":0},{"$f":"'[2]Inventário Completo'!P491","v":0},{"$f":"'[2]Inventário Completo'!Q491","v":0}]
[{"$f":"'[2]Inventário Completo'!A492","v":"JCIT0003"},{"$f":"'[2]Inventário Completo'!B492","v":"03J101500136"},{"$f":"'[2]Inventário Completo'!C492","v":"Impressora Térmicas"},{"$f":"'[2]Inventário Completo'!D492","v":"S4M"},{"$f":"'[2]Inventário Completo'!E492","v":"Zebra"},{"$f":"'[2]Inventário Completo'!F492","v":"SEPETIBA TECON S/A"},{"$f":"'[2]Inventário Completo'!G492","v":"CSN-SEPETIBA ITAGUAI (TECON)"},{"$f":"'[2]Inventário Completo'!H492","v":"RJ"},{"$f":"'[2]Inventário Completo'!I492","v":"02.394.276/0002-08"},{"$f":"'[2]Inventário Completo'!J492","v":" 86.143.73-9"},{"$f":"'[2]Inventário Completo'!K492","v":"Est Prefeito Wilson Pedro Francisco, S/N, Parte, Ilha Da Madeira, Itaguaí, RJ, CEP 23826-600, Brasil"},{"$f":"'[2]Inventário Completo'!L492","v":"Glauco Viana "},{"$f":"'[2]Inventário Completo'!M492","v":"(21)2688-9257"},{"$f":"'[2]Inventário Completo'!N492","v":0},{"$f":"'[2]Inventário Completo'!O492","v":0},{"$f":"'[2]Inventário Completo'!P492","v":0},{"$f":"'[2]Inventário Completo'!Q492","v":0}]
[{"$f":"'[2]Inventário Completo'!A493","v":"JCIT0004"},{"$f":"'[2]Inventário Completo'!B493","v":"03J104400440"},{"$f":"'[2]Inventário Completo'!C493","v":"Impressora Térmicas"},{"$f":"'[2]Inventário Completo'!D493","v":"S4M"},{"$f":"'[2]Inventário Completo'!E493","v":"Zebra"},{"$f":"'[2]Inventário Completo'!F493","v":"SEPETIBA TECON S/A"},{"$f":"'[2]Inventário Completo'!G493","v":"CSN-SEPETIBA ITAGUAI (TECON)"},{"$f":"'[2]Inventário Completo'!H493","v":"RJ"},{"$f":"'[2]Inventário Completo'!I493","v":"02.394.276/0002-08"},{"$f":"'[2]Inventário Completo'!J493","v":" 86.143.73-9"},{"$f":"'[2]Inventário Completo'!K493","v":"Est Prefeito Wilson Pedro Francisco, S/N, Parte, Ilha Da Madeira, Itaguaí, RJ, CEP 23826-600, Brasil"},{"$f":"'[2]Inventário Completo'!L493","v":"Glauco Viana "},{"$f":"'[2]Inventário Completo'!M493","v":"(21)2688-9257"},{"$f":"'[2]Inventário Completo'!N493","v":0},{"$f":"'[2]Inventário Completo'!O493","v":0},{"$f":"'[2]Inventário Completo'!P493","v":0},{"$f":"'[2]Inventário Completo'!Q493","v":0}]
[{"$f":"'[2]Inventário Completo'!A494","v":"JCIT0002"},{"$f":"'[2]Inventário Completo'!B494","v":"08J133602304"},{"$f":"'[2]Inventário Completo'!C494","v":"Impressora Térmicas"},{"$f":"'[2]Inventário Completo'!D494","v":"ZM400"},{"$f":"'[2]Inventário Completo'!E494","v":"Zebra"},{"$f":"'[2]Inventário Completo'!F494","v":"SEPETIBA TECON S/A"},{"$f":"'[2]Inventário Completo'!G494","v":"CSN-SEPETIBA ITAGUAI (TECON)"},{"$f":"'[2]Inventário Completo'!H494","v":"RJ"},{"$f":"'[2]Inventário Completo'!I494","v":"02.394.276/0002-08"},{"$f":"'[2]Inventário Completo'!J494","v":" 86.143.73-9"},{"$f":"'[2]Inventário Completo'!K494","v":"Est Prefeito Wilson Pedro Francisco, S/N, Parte, Ilha Da Madeira, Itaguaí, RJ, CEP 23826-600, Brasil"},{"$f":"'[2]Inventário Completo'!L494","v":"Glauco Viana "},{"$f":"'[2]Inventário Completo'!M494","v":"(21)2688-9257"},{"$f":"'[2]Inventário Completo'!N494","v":0},{"$f":"'[2]Inventário Completo'!O494","v":0},{"$f":"'[2]Inventário Completo'!P494","v":0},{"$f":"'[2]Inventário Completo'!Q494","v":0}]
[{"$f":"'[2]Inventário Completo'!A495","v":"JCIT0089"},{"$f":"'[2]Inventário Completo'!B495","v":"52J164603428"},{"$f":"'[2]Inventário Completo'!C495","v":"Impressora Térmicas"},{"$f":"'[2]Inventário Completo'!D495","v":"ZT230"},{"$f":"'[2]Inventário Completo'!E495","v":"Zebra"},{"$f":"'[2]Inventário Completo'!F495","v":"SEPETIBA TECAR S/A"},{"$f":"'[2]Inventário Completo'!G495","v":"CSN-SEPETIBA ITAGUAI (TECAR)"},{"$f":"'[2]Inventário Completo'!H495","v":"RJ"},{"$f":"'[2]Inventário Completo'!I495","v":"02.394.276/0002-08"},{"$f":"'[2]Inventário Completo'!J495","v":" 86.143.73-9"},{"$f":"'[2]Inventário Completo'!K495","v":"Est Prefeito Wilson Pedro Francisco, S/N, Parte, Ilha Da Madeira, Itaguaí, RJ, CEP 23826-600, Brasil"},{"$f":"'[2]Inventário Completo'!L495","v":"Glauco Viana "},{"$f":"'[2]Inventário Completo'!M495","v":"(21)2688-9257"},{"$f":"'[2]Inventário Completo'!N495","v":0},{"$f":"'[2]Inventário Completo'!O495","v":0},{"$f":"'[2]Inventário Completo'!P495","v":0},{"$f":"'[2]Inventário Completo'!Q495","v":0}]
[{"$f":"'[2]Inventário Completo'!A496","v":"JCIT0097"},{"$f":"'[2]Inventário Completo'!B496","v":"52J180307912"},{"$f":"'[2]Inventário Completo'!C496","v":"Impressora Térmicas"},{"$f":"'[2]Inventário Completo'!D496","v":"ZT230"},{"$f":"'[2]Inventário Completo'!E496","v":"Zebra"},{"$f":"'[2]Inventário Completo'!F496","v":"SEPETIBA TECAR S/A"},{"$f":"'[2]Inventário Completo'!G496","v":"CSN-SEPETIBA ITAGUAI (TECAR)"},{"$f":"'[2]Inventário Completo'!H496","v":"RJ"},{"$f":"'[2]Inventário Completo'!I496","v":"02.394.276/0002-08"},{"$f":"'[2]Inventário Completo'!J496","v":" 86.143.73-9"},{"$f":"'[2]Inventário Completo'!K496","v":"Est Prefeito Wilson Pedro Francisco, S/N, Parte, Ilha Da Madeira, Itaguaí, RJ, CEP 23826-600, Brasil"},{"$f":"'[2]Inventário Completo'!L496","v":"Glauco Viana "},{"$f":"'[2]Inventário Completo'!M496","v":"(21)2688-9257"},{"$f":"'[2]Inventário Completo'!N496","v":0},{"$f":"'[2]Inventário Completo'!O496","v":0},{"$f":"'[2]Inventário Completo'!P496","v":0},{"$f":"'[2]Inventário Completo'!Q496","v":0}]
[{"$f":"'[2]Inventário Completo'!A497","v":"JCIT0096"},{"$f":"'[2]Inventário Completo'!B497","v":"52J185100959"},{"$f":"'[2]Inventário Completo'!C497","v":"Impressora Térmicas"},{"$f":"'[2]Inventário Completo'!D497","v":"ZT230"},{"$f":"'[2]Inventário Completo'!E497","v":"Zebra"},{"$f":"'[2]Inventário Completo'!F497","v":"SEPETIBA TECON S/A"},{"$f":"'[2]Inventário Completo'!G497","v":"CSN-SEPETIBA ITAGUAI (TECON)"},{"$f":"'[2]Inventário Completo'!H497","v":"RJ"},{"$f":"'[2]Inventário Completo'!I497","v":"02.394.276/0002-08"},{"$f":"'[2]Inventário Completo'!J497","v":" 86.143.73-9"},{"$f":"'[2]Inventário Completo'!K497","v":"Est Prefeito Wilson Pedro Francisco, S/N, Parte, Ilha Da Madeira, Itaguaí, RJ, CEP 23826-600, Brasil"},{"$f":"'[2]Inventário Completo'!L497","v":"Glauco Viana "},{"$f":"'[2]Inventário Completo'!M497","v":"(21)2688-9257"},{"$f":"'[2]Inventário Completo'!N497","v":0},{"$f":"'[2]Inventário Completo'!O497","v":0},{"$f":"'[2]Inventário Completo'!P497","v":0},{"$f":"'[2]Inventário Completo'!Q497","v":0}]
[{"$f":"'[2]Inventário Completo'!A498","v":"JCIT0098"},{"$f":"'[2]Inventário Completo'!B498","v":"52J201700688"},{"$f":"'[2]Inventário Completo'!C498","v":"Impressora Térmicas"},{"$f":"'[2]Inventário Completo'!D498","v":"ZT230"},{"$f":"'[2]Inventário Completo'!E498","v":"Zebra"},{"$f":"'[2]Inventário Completo'!F498","v":"SEPETIBA TECON S/A"},{"$f":"'[2]Inventário Completo'!G498","v":"CSN-SEPETIBA ITAGUAI (TECON)"},{"$f":"'[2]Inventário Completo'!H498","v":"RJ"},{"$f":"'[2]Inventário Completo'!I498","v":"02.394.276/0002-08"},{"$f":"'[2]Inventário Completo'!J498","v":" 86.143.73-9"},{"$f":"'[2]Inventário Completo'!K498","v":"Est Prefeito Wilson Pedro Francisco, S/N, Parte, Ilha Da Madeira, Itaguaí, RJ, CEP 23826-600, Brasil"},{"$f":"'[2]Inventário Completo'!L498","v":"Glauco Viana "},{"$f":"'[2]Inventário Completo'!M498","v":"(21)2688-9257"},{"$f":"'[2]Inventário Completo'!N498","v":0},{"$f":"'[2]Inventário Completo'!O498","v":0},{"$f":"'[2]Inventário Completo'!P498","v":0},{"$f":"'[2]Inventário Completo'!Q498","v":0}]
[{"$f":"'[2]Inventário Completo'!A499","v":"JCRE0001"},{"$f":"'[2]Inventário Completo'!B499","v":"52J151202047"},{"$f":"'[2]Inventário Completo'!C499","v":"Impressora Térmicas"},{"$f":"'[2]Inventário Completo'!D499","v":"ZT230"},{"$f":"'[2]Inventário Completo'!E499","v":"Zebra"},{"$f":"'[2]Inventário Completo'!F499","v":"COMPANHIA METALURGICA PRADA"},{"$f":"'[2]Inventário Completo'!G499","v":"PRADA - RESENDE"},{"$f":"'[2]Inventário Completo'!H499","v":"RJ"},{"$f":"'[2]Inventário Completo'!I499","v":"56.993.900/0030-76"},{"$f":"'[2]Inventário Completo'!J499","v":79809721},{"$f":"'[2]Inventário Completo'!K499","v":"Rodovia Presidente Dutra, S/Nº - Km 298, Polo Industrial - Resende - RJ - CEP.: 27.537-000                    "},{"$f":"'[2]Inventário Completo'!L499","v":"Bernardo Passos"},{"$f":"'[2]Inventário Completo'!M499","v":"(24) 3383-8320"},{"$f":"'[2]Inventário Completo'!N499","v":0},{"$f":"'[2]Inventário Completo'!O499","v":0},{"$f":"'[2]Inventário Completo'!P499","v":0},{"$f":"'[2]Inventário Completo'!Q499","v":0}]
[{"$f":"'[2]Inventário Completo'!A500","v":"JCRE0002"},{"$f":"'[2]Inventário Completo'!B500","v":"52J151202201"},{"$f":"'[2]Inventário Completo'!C500","v":"Impressora Térmicas"},{"$f":"'[2]Inventário Completo'!D500","v":"ZT230"},{"$f":"'[2]Inventário Completo'!E500","v":"Zebra"},{"$f":"'[2]Inventário Completo'!F500","v":"COMPANHIA METALURGICA PRADA"},{"$f":"'[2]Inventário Completo'!G500","v":"PRADA - RESENDE"},{"$f":"'[2]Inventário Completo'!H500","v":"RJ"},{"$f":"'[2]Inventário Completo'!I500","v":"56.993.900/0030-76"},{"$f":"'[2]Inventário Completo'!J500","v":79809721},{"$f":"'[2]Inventário Completo'!K500","v":"Rodovia Presidente Dutra, S/Nº - Km 298, Polo Industrial - Resende - RJ - CEP.: 27.537-000                    "},{"$f":"'[2]Inventário Completo'!L500","v":"Bernardo Passos"},{"$f":"'[2]Inventário Completo'!M500","v":"(24) 3383-8320"},{"$f":"'[2]Inventário Completo'!N500","v":0},{"$f":"'[2]Inventário Completo'!O500","v":0},{"$f":"'[2]Inventário Completo'!P500","v":0},{"$f":"'[2]Inventário Completo'!Q500","v":0}]
[{"$f":"'[2]Inventário Completo'!A501","v":"JCRE0003"},{"$f":"'[2]Inventário Completo'!B501","v":"52J151202048"},{"$f":"'[2]Inventário Completo'!C501","v":"Impressora Térmicas"},{"$f":"'[2]Inventário Completo'!D501","v":"ZT230"},{"$f":"'[2]Inventário Completo'!E501","v":"Zebra"},{"$f":"'[2]Inventário Completo'!F501","v":"COMPANHIA METALURGICA PRADA"},{"$f":"'[2]Inventário Completo'!G501","v":"PRADA - RESENDE"},{"$f":"'[2]Inventário Completo'!H501","v":"RJ"},{"$f":"'[2]Inventário Completo'!I501","v":"56.993.900/0030-76"},{"$f":"'[2]Inventário Completo'!J501","v":79809721},{"$f":"'[2]Inventário Completo'!K501","v":"Rodovia Presidente Dutra, S/Nº - Km 298, Polo Industrial - Resende - RJ - CEP.: 27.537-000                    "},{"$f":"'[2]Inventário Completo'!L501","v":"Bernardo Passos"},{"$f":"'[2]Inventário Completo'!M501","v":"(24) 3383-8320"},{"$f":"'[2]Inventário Completo'!N501","v":0},{"$f":"'[2]Inventário Completo'!O501","v":0},{"$f":"'[2]Inventário Completo'!P501","v":0},{"$f":"'[2]Inventário Completo'!Q501","v":0}]
[{"$f":"'[2]Inventário Completo'!A502","v":"JCRE0004"},{"$f":"'[2]Inventário Completo'!B502","v":"52J151202055"},{"$f":"'[2]Inventário Completo'!C502","v":"Impressora Térmicas"},{"$f":"'[2]Inventário Completo'!D502","v":"ZT230"},{"$f":"'[2]Inventário Completo'!E502","v":"Zebra"},{"$f":"'[2]Inventário Completo'!F502","v":"COMPANHIA METALURGICA PRADA"},{"$f":"'[2]Inventário Completo'!G502","v":"PRADA - RESENDE"},{"$f":"'[2]Inventário Completo'!H502","v":"RJ"},{"$f":"'[2]Inventário Completo'!I502","v":"56.993.900/0030-76"},{"$f":"'[2]Inventário Completo'!J502","v":79809721},{"$f":"'[2]Inventário Completo'!K502","v":"Rodovia Presidente Dutra, S/Nº - Km 298, Polo Industrial - Resende - RJ - CEP.: 27.537-000                    "},{"$f":"'[2]Inventário Completo'!L502","v":"Bernardo Passos"},{"$f":"'[2]Inventário Completo'!M502","v":"(24) 3383-8320"},{"$f":"'[2]Inventário Completo'!N502","v":0},{"$f":"'[2]Inventário Completo'!O502","v":0},{"$f":"'[2]Inventário Completo'!P502","v":0},{"$f":"'[2]Inventário Completo'!Q502","v":0}]
[{"$f":"'[2]Inventário Completo'!A503","v":"JCRE0005"},{"$f":"'[2]Inventário Completo'!B503","v":"52J151202203"},{"$f":"'[2]Inventário Completo'!C503","v":"Impressora Térmicas"},{"$f":"'[2]Inventário Completo'!D503","v":"ZT230"},{"$f":"'[2]Inventário Completo'!E503","v":"Zebra"},{"$f":"'[2]Inventário Completo'!F503","v":"COMPANHIA METALURGICA PRADA"},{"$f":"'[2]Inventário Completo'!G503","v":"PRADA - RESENDE"},{"$f":"'[2]Inventário Completo'!H503","v":"RJ"},{"$f":"'[2]Inventário Completo'!I503","v":"56.993.900/0030-76"},{"$f":"'[2]Inventário Completo'!J503","v":79809721},{"$f":"'[2]Inventário Completo'!K503","v":"Rodovia Presidente Dutra, S/Nº - Km 298, Polo Industrial - Resende - RJ - CEP.: 27.537-000                    "},{"$f":"'[2]Inventário Completo'!L503","v":"Bernardo Passos"},{"$f":"'[2]Inventário Completo'!M503","v":"(24) 3383-8320"},{"$f":"'[2]Inventário Completo'!N503","v":0},{"$f":"'[2]Inventário Completo'!O503","v":0},{"$f":"'[2]Inventário Completo'!P503","v":0},{"$f":"'[2]Inventário Completo'!Q503","v":0}]
[{"$f":"'[2]Inventário Completo'!A504","v":"JCRE0006"},{"$f":"'[2]Inventário Completo'!B504","v":"52J151303050"},{"$f":"'[2]Inventário Completo'!C504","v":"Impressora Térmicas"},{"$f":"'[2]Inventário Completo'!D504","v":"ZT230"},{"$f":"'[2]Inventário Completo'!E504","v":"Zebra"},{"$f":"'[2]Inventário Completo'!F504","v":"COMPANHIA METALURGICA PRADA"},{"$f":"'[2]Inventário Completo'!G504","v":"PRADA - RESENDE"},{"$f":"'[2]Inventário Completo'!H504","v":"RJ"},{"$f":"'[2]Inventário Completo'!I504","v":"56.993.900/0030-76"},{"$f":"'[2]Inventário Completo'!J504","v":79809721},{"$f":"'[2]Inventário Completo'!K504","v":"Rodovia Presidente Dutra, S/Nº - Km 298, Polo Industrial - Resende - RJ - CEP.: 27.537-000                    "},{"$f":"'[2]Inventário Completo'!L504","v":"Bernardo Passos"},{"$f":"'[2]Inventário Completo'!M504","v":"(24) 3383-8320"},{"$f":"'[2]Inventário Completo'!N504","v":0},{"$f":"'[2]Inventário Completo'!O504","v":0},{"$f":"'[2]Inventário Completo'!P504","v":0},{"$f":"'[2]Inventário Completo'!Q504","v":0}]
[{"$f":"'[2]Inventário Completo'!A505","v":"JCRE0007"},{"$f":"'[2]Inventário Completo'!B505","v":"52J151202080"},{"$f":"'[2]Inventário Completo'!C505","v":"Impressora Térmicas"},{"$f":"'[2]Inventário Completo'!D505","v":"ZT230"},{"$f":"'[2]Inventário Completo'!E505","v":"Zebra"},{"$f":"'[2]Inventário Completo'!F505","v":"COMPANHIA METALURGICA PRADA"},{"$f":"'[2]Inventário Completo'!G505","v":"PRADA - RESENDE"},{"$f":"'[2]Inventário Completo'!H505","v":"RJ"},{"$f":"'[2]Inventário Completo'!I505","v":"56.993.900/0030-76"},{"$f":"'[2]Inventário Completo'!J505","v":79809721},{"$f":"'[2]Inventário Completo'!K505","v":"Rodovia Presidente Dutra, S/Nº - Km 298, Polo Industrial - Resende - RJ - CEP.: 27.537-000                    "},{"$f":"'[2]Inventário Completo'!L505","v":"Bernardo Passos"},{"$f":"'[2]Inventário Completo'!M505","v":"(24) 3383-8320"},{"$f":"'[2]Inventário Completo'!N505","v":0},{"$f":"'[2]Inventário Completo'!O505","v":0},{"$f":"'[2]Inventário Completo'!P505","v":0},{"$f":"'[2]Inventário Completo'!Q505","v":0}]
[{"$f":"'[2]Inventário Completo'!A506","v":"JCRE0008"},{"$f":"'[2]Inventário Completo'!B506","v":"52J151202194"},{"$f":"'[2]Inventário Completo'!C506","v":"Impressora Térmicas"},{"$f":"'[2]Inventário Completo'!D506","v":"ZT230"},{"$f":"'[2]Inventário Completo'!E506","v":"Zebra"},{"$f":"'[2]Inventário Completo'!F506","v":"COMPANHIA METALURGICA PRADA"},{"$f":"'[2]Inventário Completo'!G506","v":"PRADA - RESENDE"},{"$f":"'[2]Inventário Completo'!H506","v":"RJ"},{"$f":"'[2]Inventário Completo'!I506","v":"56.993.900/0030-76"},{"$f":"'[2]Inventário Completo'!J506","v":79809721},{"$f":"'[2]Inventário Completo'!K506","v":"Rodovia Presidente Dutra, S/Nº - Km 298, Polo Industrial - Resende - RJ - CEP.: 27.537-000                    "},{"$f":"'[2]Inventário Completo'!L506","v":"Bernardo Passos"},{"$f":"'[2]Inventário Completo'!M506","v":"(24) 3383-8320"},{"$f":"'[2]Inventário Completo'!N506","v":0},{"$f":"'[2]Inventário Completo'!O506","v":0},{"$f":"'[2]Inventário Completo'!P506","v":0},{"$f":"'[2]Inventário Completo'!Q506","v":0}]
[{"$f":"'[2]Inventário Completo'!A507","v":"JCRE0009"},{"$f":"'[2]Inventário Completo'!B507","v":"52J151202190"},{"$f":"'[2]Inventário Completo'!C507","v":"Impressora Térmicas"},{"$f":"'[2]Inventário Completo'!D507","v":"ZT230"},{"$f":"'[2]Inventário Completo'!E507","v":"Zebra"},{"$f":"'[2]Inventário Completo'!F507","v":"COMPANHIA METALURGICA PRADA"},{"$f":"'[2]Inventário Completo'!G507","v":"PRADA - RESENDE"},{"$f":"'[2]Inventário Completo'!H507","v":"RJ"},{"$f":"'[2]Inventário Completo'!I507","v":"56.993.900/0030-76"},{"$f":"'[2]Inventário Completo'!J507","v":79809721},{"$f":"'[2]Inventário Completo'!K507","v":"Rodovia Presidente Dutra, S/Nº - Km 298, Polo Industrial - Resende - RJ - CEP.: 27.537-000                    "},{"$f":"'[2]Inventário Completo'!L507","v":"Bernardo Passos"},{"$f":"'[2]Inventário Completo'!M507","v":"(24) 3383-8320"},{"$f":"'[2]Inventário Completo'!N507","v":0},{"$f":"'[2]Inventário Completo'!O507","v":0},{"$f":"'[2]Inventário Completo'!P507","v":0},{"$f":"'[2]Inventário Completo'!Q507","v":0}]
[{"$f":"'[2]Inventário Completo'!A508","v":"JCRE0010"},{"$f":"'[2]Inventário Completo'!B508","v":"52J151303048"},{"$f":"'[2]Inventário Completo'!C508","v":"Impressora Térmicas"},{"$f":"'[2]Inventário Completo'!D508","v":"ZT230"},{"$f":"'[2]Inventário Completo'!E508","v":"Zebra"},{"$f":"'[2]Inventário Completo'!F508","v":"COMPANHIA METALURGICA PRADA"},{"$f":"'[2]Inventário Completo'!G508","v":"PRADA - RESENDE"},{"$f":"'[2]Inventário Completo'!H508","v":"RJ"},{"$f":"'[2]Inventário Completo'!I508","v":"56.993.900/0030-76"},{"$f":"'[2]Inventário Completo'!J508","v":79809721},{"$f":"'[2]Inventário Completo'!K508","v":"Rodovia Presidente Dutra, S/Nº - Km 298, Polo Industrial - Resende - RJ - CEP.: 27.537-000                    "},{"$f":"'[2]Inventário Completo'!L508","v":"Bernardo Passos"},{"$f":"'[2]Inventário Completo'!M508","v":"(24) 3383-8320"},{"$f":"'[2]Inventário Completo'!N508","v":0},{"$f":"'[2]Inventário Completo'!O508","v":0},{"$f":"'[2]Inventário Completo'!P508","v":0},{"$f":"'[2]Inventário Completo'!Q508","v":0}]
[{"$f":"'[2]Inventário Completo'!A509","v":"JCRE0011"},{"$f":"'[2]Inventário Completo'!B509","v":"52J151202195"},{"$f":"'[2]Inventário Completo'!C509","v":"Impressora Térmicas"},{"$f":"'[2]Inventário Completo'!D509","v":"ZT230"},{"$f":"'[2]Inventário Completo'!E509","v":"Zebra"},{"$f":"'[2]Inventário Completo'!F509","v":"COMPANHIA METALURGICA PRADA"},{"$f":"'[2]Inventário Completo'!G509","v":"PRADA - RESENDE"},{"$f":"'[2]Inventário Completo'!H509","v":"RJ"},{"$f":"'[2]Inventário Completo'!I509","v":"56.993.900/0030-76"},{"$f":"'[2]Inventário Completo'!J509","v":79809721},{"$f":"'[2]Inventário Completo'!K509","v":"Rodovia Presidente Dutra, S/Nº - Km 298, Polo Industrial - Resende - RJ - CEP.: 27.537-000                    "},{"$f":"'[2]Inventário Completo'!L509","v":"Bernardo Passos"},{"$f":"'[2]Inventário Completo'!M509","v":"(24) 3383-8320"},{"$f":"'[2]Inventário Completo'!N509","v":0},{"$f":"'[2]Inventário Completo'!O509","v":0},{"$f":"'[2]Inventário Completo'!P509","v":0},{"$f":"'[2]Inventário Completo'!Q509","v":0}]
[{"$f":"'[2]Inventário Completo'!A510","v":"JCRE0012"},{"$f":"'[2]Inventário Completo'!B510","v":"52J151402012"},{"$f":"'[2]Inventário Completo'!C510","v":"Impressora Térmicas"},{"$f":"'[2]Inventário Completo'!D510","v":"ZT230"},{"$f":"'[2]Inventário Completo'!E510","v":"Zebra"},{"$f":"'[2]Inventário Completo'!F510","v":"COMPANHIA METALURGICA PRADA"},{"$f":"'[2]Inventário Completo'!G510","v":"PRADA - RESENDE"},{"$f":"'[2]Inventário Completo'!H510","v":"RJ"},{"$f":"'[2]Inventário Completo'!I510","v":"56.993.900/0030-76"},{"$f":"'[2]Inventário Completo'!J510","v":79809721},{"$f":"'[2]Inventário Completo'!K510","v":"Rodovia Presidente Dutra, S/Nº - Km 298, Polo Industrial - Resende - RJ - CEP.: 27.537-000                    "},{"$f":"'[2]Inventário Completo'!L510","v":"Bernardo Passos"},{"$f":"'[2]Inventário Completo'!M510","v":"(24) 3383-8320"},{"$f":"'[2]Inventário Completo'!N510","v":0},{"$f":"'[2]Inventário Completo'!O510","v":0},{"$f":"'[2]Inventário Completo'!P510","v":0},{"$f":"'[2]Inventário Completo'!Q510","v":0}]
[{"$f":"'[2]Inventário Completo'!A511","v":"JCRE0013"},{"$f":"'[2]Inventário Completo'!B511","v":"52J151202189"},{"$f":"'[2]Inventário Completo'!C511","v":"Impressora Térmicas"},{"$f":"'[2]Inventário Completo'!D511","v":"ZT230"},{"$f":"'[2]Inventário Completo'!E511","v":"Zebra"},{"$f":"'[2]Inventário Completo'!F511","v":"COMPANHIA METALURGICA PRADA"},{"$f":"'[2]Inventário Completo'!G511","v":"PRADA - RESENDE"},{"$f":"'[2]Inventário Completo'!H511","v":"RJ"},{"$f":"'[2]Inventário Completo'!I511","v":"56.993.900/0030-76"},{"$f":"'[2]Inventário Completo'!J511","v":79809721},{"$f":"'[2]Inventário Completo'!K511","v":"Rodovia Presidente Dutra, S/Nº - Km 298, Polo Industrial - Resende - RJ - CEP.: 27.537-000                    "},{"$f":"'[2]Inventário Completo'!L511","v":"Bernardo Passos"},{"$f":"'[2]Inventário Completo'!M511","v":"(24) 3383-8320"},{"$f":"'[2]Inventário Completo'!N511","v":0},{"$f":"'[2]Inventário Completo'!O511","v":0},{"$f":"'[2]Inventário Completo'!P511","v":0},{"$f":"'[2]Inventário Completo'!Q511","v":0}]
[{"$f":"'[2]Inventário Completo'!A512","v":"JCRE0014"},{"$f":"'[2]Inventário Completo'!B512","v":"52J151202054"},{"$f":"'[2]Inventário Completo'!C512","v":"Impressora Térmicas"},{"$f":"'[2]Inventário Completo'!D512","v":"ZT230"},{"$f":"'[2]Inventário Completo'!E512","v":"Zebra"},{"$f":"'[2]Inventário Completo'!F512","v":"COMPANHIA METALURGICA PRADA"},{"$f":"'[2]Inventário Completo'!G512","v":"PRADA - RESENDE"},{"$f":"'[2]Inventário Completo'!H512","v":"RJ"},{"$f":"'[2]Inventário Completo'!I512","v":"56.993.900/0030-76"},{"$f":"'[2]Inventário Completo'!J512","v":79809721},{"$f":"'[2]Inventário Completo'!K512","v":"Rodovia Presidente Dutra, S/Nº - Km 298, Polo Industrial - Resende - RJ - CEP.: 27.537-000                    "},{"$f":"'[2]Inventário Completo'!L512","v":"Bernardo Passos"},{"$f":"'[2]Inventário Completo'!M512","v":"(24) 3383-8320"},{"$f":"'[2]Inventário Completo'!N512","v":0},{"$f":"'[2]Inventário Completo'!O512","v":0},{"$f":"'[2]Inventário Completo'!P512","v":0},{"$f":"'[2]Inventário Completo'!Q512","v":0}]
[{"$f":"'[2]Inventário Completo'!A513","v":"JCRE0015"},{"$f":"'[2]Inventário Completo'!B513","v":"52J151501931"},{"$f":"'[2]Inventário Completo'!C513","v":"Impressora Térmicas"},{"$f":"'[2]Inventário Completo'!D513","v":"ZT230"},{"$f":"'[2]Inventário Completo'!E513","v":"Zebra"},{"$f":"'[2]Inventário Completo'!F513","v":"COMPANHIA METALURGICA PRADA"},{"$f":"'[2]Inventário Completo'!G513","v":"PRADA - RESENDE"},{"$f":"'[2]Inventário Completo'!H513","v":"RJ"},{"$f":"'[2]Inventário Completo'!I513","v":"56.993.900/0030-76"},{"$f":"'[2]Inventário Completo'!J513","v":79809721},{"$f":"'[2]Inventário Completo'!K513","v":"Rodovia Presidente Dutra, S/Nº - Km 298, Polo Industrial - Resende - RJ - CEP.: 27.537-000                    "},{"$f":"'[2]Inventário Completo'!L513","v":"Bernardo Passos"},{"$f":"'[2]Inventário Completo'!M513","v":"(24) 3383-8320"},{"$f":"'[2]Inventário Completo'!N513","v":0},{"$f":"'[2]Inventário Completo'!O513","v":0},{"$f":"'[2]Inventário Completo'!P513","v":0},{"$f":"'[2]Inventário Completo'!Q513","v":0}]
[{"$f":"'[2]Inventário Completo'!A514","v":"JCRE0016"},{"$f":"'[2]Inventário Completo'!B514","v":"52J151202184"},{"$f":"'[2]Inventário Completo'!C514","v":"Impressora Térmicas"},{"$f":"'[2]Inventário Completo'!D514","v":"ZT230"},{"$f":"'[2]Inventário Completo'!E514","v":"Zebra"},{"$f":"'[2]Inventário Completo'!F514","v":"COMPANHIA METALURGICA PRADA"},{"$f":"'[2]Inventário Completo'!G514","v":"PRADA - RESENDE"},{"$f":"'[2]Inventário Completo'!H514","v":"RJ"},{"$f":"'[2]Inventário Completo'!I514","v":"56.993.900/0030-76"},{"$f":"'[2]Inventário Completo'!J514","v":79809721},{"$f":"'[2]Inventário Completo'!K514","v":"Rodovia Presidente Dutra, S/Nº - Km 298, Polo Industrial - Resende - RJ - CEP.: 27.537-000                    "},{"$f":"'[2]Inventário Completo'!L514","v":"Bernardo Passos"},{"$f":"'[2]Inventário Completo'!M514","v":"(24) 3383-8320"},{"$f":"'[2]Inventário Completo'!N514","v":0},{"$f":"'[2]Inventário Completo'!O514","v":0},{"$f":"'[2]Inventário Completo'!P514","v":0},{"$f":"'[2]Inventário Completo'!Q514","v":0}]
[{"$f":"'[2]Inventário Completo'!A515","v":"JCRE0017"},{"$f":"'[2]Inventário Completo'!B515","v":"52N214300016"},{"$f":"'[2]Inventário Completo'!C515","v":"Impressora Térmicas"},{"$f":"'[2]Inventário Completo'!D515","v":"ZT230"},{"$f":"'[2]Inventário Completo'!E515","v":"Zebra"},{"$f":"'[2]Inventário Completo'!F515","v":"COMPANHIA METALURGICA PRADA"},{"$f":"'[2]Inventário Completo'!G515","v":"PRADA - RESENDE"},{"$f":"'[2]Inventário Completo'!H515","v":"RJ"},{"$f":"'[2]Inventário Completo'!I515","v":"56.993.900/0030-76"},{"$f":"'[2]Inventário Completo'!J515","v":79809721},{"$f":"'[2]Inventário Completo'!K515","v":"Rodovia Presidente Dutra, S/Nº - Km 298, Polo Industrial - Resende - RJ - CEP.: 27.537-000                    "},{"$f":"'[2]Inventário Completo'!L515","v":"Bernardo Passos"},{"$f":"'[2]Inventário Completo'!M515","v":"(24) 3383-8320"},{"$f":"'[2]Inventário Completo'!N515","v":0},{"$f":"'[2]Inventário Completo'!O515","v":0},{"$f":"'[2]Inventário Completo'!P515","v":0},{"$f":"'[2]Inventário Completo'!Q515","v":0}]
[{"$f":"'[2]Inventário Completo'!A516","v":"JCRE0018"},{"$f":"'[2]Inventário Completo'!B516","v":"52N214601945"},{"$f":"'[2]Inventário Completo'!C516","v":"Impressora Térmicas"},{"$f":"'[2]Inventário Completo'!D516","v":"ZT230"},{"$f":"'[2]Inventário Completo'!E516","v":"Zebra"},{"$f":"'[2]Inventário Completo'!F516","v":"COMPANHIA METALURGICA PRADA"},{"$f":"'[2]Inventário Completo'!G516","v":"PRADA - RESENDE"},{"$f":"'[2]Inventário Completo'!H516","v":"RJ"},{"$f":"'[2]Inventário Completo'!I516","v":"56.993.900/0030-76"},{"$f":"'[2]Inventário Completo'!J516","v":79809721},{"$f":"'[2]Inventário Completo'!K516","v":"Rodovia Presidente Dutra, S/Nº - Km 298, Polo Industrial - Resende - RJ - CEP.: 27.537-000                    "},{"$f":"'[2]Inventário Completo'!L516","v":"Bernardo Passos"},{"$f":"'[2]Inventário Completo'!M516","v":"(24) 3383-8320"},{"$f":"'[2]Inventário Completo'!N516","v":0},{"$f":"'[2]Inventário Completo'!O516","v":0},{"$f":"'[2]Inventário Completo'!P516","v":0},{"$f":"'[2]Inventário Completo'!Q516","v":0}]
[{"$f":"'[2]Inventário Completo'!A517","v":"JCRA0001"},{"$f":"'[2]Inventário Completo'!B517","v":"52J180401741"},{"$f":"'[2]Inventário Completo'!C517","v":"Impressora Térmicas"},{"$f":"'[2]Inventário Completo'!D517","v":"ZT230"},{"$f":"'[2]Inventário Completo'!E517","v":"Zebra"},{"$f":"'[2]Inventário Completo'!F517","v":"MINERIOS NACIONAL S.A."},{"$f":"'[2]Inventário Completo'!G517","v":"CSN-RIO ACIMA"},{"$f":"'[2]Inventário Completo'!H517","v":"MG"},{"$f":"'[2]Inventário Completo'!I517","v":"09.294.881/0004-18"},{"$f":"'[2]Inventário Completo'!J517","v":10576690295},{"$f":"'[2]Inventário Completo'!K517","v":"ROD DOS INCONFIDENTES, S/N, KM 40 PARTE, CEP 34.300-000"},{"$f":"'[2]Inventário Completo'!L517","v":"Classius Marcelo de Andrade "},{"$f":"'[2]Inventário Completo'!M517","v":"(31) 3749-1896 "},{"$f":"'[2]Inventário Completo'!N517","v":0},{"$f":"'[2]Inventário Completo'!O517","v":0},{"$f":"'[2]Inventário Completo'!P517","v":"Em uso"},{"$f":"'[2]Inventário Completo'!Q517","v":0}]
[{"$f":"'[2]Inventário Completo'!A518","v":"JCSA0003"},{"$f":"'[2]Inventário Completo'!B518","v":"03C08350893"},{"$f":"'[2]Inventário Completo'!C518","v":"Impressora Térmicas"},{"$f":"'[2]Inventário Completo'!D518","v":"S4M"},{"$f":"'[2]Inventário Completo'!E518","v":"Zebra"},{"$f":"'[2]Inventário Completo'!F518","v":"COMPANHIA METALURGICA PRADA"},{"$f":"'[2]Inventário Completo'!G518","v":"PRADA - SANTO AMARO"},{"$f":"'[2]Inventário Completo'!H518","v":"SP"},{"$f":"'[2]Inventário Completo'!I518","v":"56.993.900/0001-31"},{"$f":"'[2]Inventário Completo'!J518","v":105297962113},{"$f":"'[2]Inventário Completo'!K518","v":"Rua Eng Francisco Pita Brito, 138 Jd Promissão – Cep 04753-080 São Paulo - SP"},{"$f":"'[2]Inventário Completo'!L518","v":"Moisés Bispo"},{"$f":"'[2]Inventário Completo'!M518","v":"(11) 4932-1863"},{"$f":"'[2]Inventário Completo'!N518","v":0},{"$f":"'[2]Inventário Completo'!O518","v":0},{"$f":"'[2]Inventário Completo'!P518","v":0},{"$f":"'[2]Inventário Completo'!Q518","v":0}]
[{"$f":"'[2]Inventário Completo'!A519","v":"JCSA0004"},{"$f":"'[2]Inventário Completo'!B519","v":"03C08351154"},{"$f":"'[2]Inventário Completo'!C519","v":"Impressora Térmicas"},{"$f":"'[2]Inventário Completo'!D519","v":"S4M"},{"$f":"'[2]Inventário Completo'!E519","v":"Zebra"},{"$f":"'[2]Inventário Completo'!F519","v":"COMPANHIA METALURGICA PRADA"},{"$f":"'[2]Inventário Completo'!G519","v":"PRADA - SANTO AMARO"},{"$f":"'[2]Inventário Completo'!H519","v":"SP"},{"$f":"'[2]Inventário Completo'!I519","v":"56.993.900/0001-31"},{"$f":"'[2]Inventário Completo'!J519","v":105297962113},{"$f":"'[2]Inventário Completo'!K519","v":"Rua Eng Francisco Pita Brito, 138 Jd Promissão – Cep 04753-080 São Paulo - SP"},{"$f":"'[2]Inventário Completo'!L519","v":"Moisés Bispo"},{"$f":"'[2]Inventário Completo'!M519","v":"(11) 4932-1863"},{"$f":"'[2]Inventário Completo'!N519","v":0},{"$f":"'[2]Inventário Completo'!O519","v":0},{"$f":"'[2]Inventário Completo'!P519","v":0},{"$f":"'[2]Inventário Completo'!Q519","v":0}]
[{"$f":"'[2]Inventário Completo'!A520","v":"JCSA0005"},{"$f":"'[2]Inventário Completo'!B520","v":"03C08351155"},{"$f":"'[2]Inventário Completo'!C520","v":"Impressora Térmicas"},{"$f":"'[2]Inventário Completo'!D520","v":"S4M"},{"$f":"'[2]Inventário Completo'!E520","v":"Zebra"},{"$f":"'[2]Inventário Completo'!F520","v":"COMPANHIA METALURGICA PRADA"},{"$f":"'[2]Inventário Completo'!G520","v":"PRADA - SANTO AMARO"},{"$f":"'[2]Inventário Completo'!H520","v":"SP"},{"$f":"'[2]Inventário Completo'!I520","v":"56.993.900/0001-31"},{"$f":"'[2]Inventário Completo'!J520","v":105297962113},{"$f":"'[2]Inventário Completo'!K520","v":"Rua Eng Francisco Pita Brito, 138 Jd Promissão – Cep 04753-080 São Paulo - SP"},{"$f":"'[2]Inventário Completo'!L520","v":"Moisés Bispo"},{"$f":"'[2]Inventário Completo'!M520","v":"(11) 4932-1863"},{"$f":"'[2]Inventário Completo'!N520","v":0},{"$f":"'[2]Inventário Completo'!O520","v":0},{"$f":"'[2]Inventário Completo'!P520","v":0},{"$f":"'[2]Inventário Completo'!Q520","v":0}]
[{"$f":"'[2]Inventário Completo'!A521","v":"JCSA0006"},{"$f":"'[2]Inventário Completo'!B521","v":"03J123101098"},{"$f":"'[2]Inventário Completo'!C521","v":"Impressora Térmicas"},{"$f":"'[2]Inventário Completo'!D521","v":"S4M"},{"$f":"'[2]Inventário Completo'!E521","v":"Zebra"},{"$f":"'[2]Inventário Completo'!F521","v":"COMPANHIA METALURGICA PRADA"},{"$f":"'[2]Inventário Completo'!G521","v":"PRADA - SANTO AMARO"},{"$f":"'[2]Inventário Completo'!H521","v":"SP"},{"$f":"'[2]Inventário Completo'!I521","v":"56.993.900/0001-31"},{"$f":"'[2]Inventário Completo'!J521","v":105297962113},{"$f":"'[2]Inventário Completo'!K521","v":"Rua Eng Francisco Pita Brito, 138 Jd Promissão – Cep 04753-080 São Paulo - SP"},{"$f":"'[2]Inventário Completo'!L521","v":"Moisés Bispo"},{"$f":"'[2]Inventário Completo'!M521","v":"(11) 4932-1863"},{"$f":"'[2]Inventário Completo'!N521","v":0},{"$f":"'[2]Inventário Completo'!O521","v":0},{"$f":"'[2]Inventário Completo'!P521","v":0},{"$f":"'[2]Inventário Completo'!Q521","v":0}]
[{"$f":"'[2]Inventário Completo'!A522","v":"JCSA0011"},{"$f":"'[2]Inventário Completo'!B522","v":"03C08350821"},{"$f":"'[2]Inventário Completo'!C522","v":"Impressora Térmicas"},{"$f":"'[2]Inventário Completo'!D522","v":"S4M"},{"$f":"'[2]Inventário Completo'!E522","v":"Zebra"},{"$f":"'[2]Inventário Completo'!F522","v":"COMPANHIA METALURGICA PRADA"},{"$f":"'[2]Inventário Completo'!G522","v":"PRADA - SANTO AMARO"},{"$f":"'[2]Inventário Completo'!H522","v":"SP"},{"$f":"'[2]Inventário Completo'!I522","v":"56.993.900/0001-31"},{"$f":"'[2]Inventário Completo'!J522","v":105297962113},{"$f":"'[2]Inventário Completo'!K522","v":"Rua Eng Francisco Pita Brito, 138 Jd Promissão – Cep 04753-080 São Paulo - SP"},{"$f":"'[2]Inventário Completo'!L522","v":"Moisés Bispo"},{"$f":"'[2]Inventário Completo'!M522","v":"(11) 4932-1863"},{"$f":"'[2]Inventário Completo'!N522","v":0},{"$f":"'[2]Inventário Completo'!O522","v":0},{"$f":"'[2]Inventário Completo'!P522","v":0},{"$f":"'[2]Inventário Completo'!Q522","v":0}]
[{"$f":"'[2]Inventário Completo'!A523","v":"JCSA0012"},{"$f":"'[2]Inventário Completo'!B523","v":"03C08350891"},{"$f":"'[2]Inventário Completo'!C523","v":"Impressora Térmicas"},{"$f":"'[2]Inventário Completo'!D523","v":"S4M"},{"$f":"'[2]Inventário Completo'!E523","v":"Zebra"},{"$f":"'[2]Inventário Completo'!F523","v":"COMPANHIA METALURGICA PRADA"},{"$f":"'[2]Inventário Completo'!G523","v":"PRADA - SANTO AMARO"},{"$f":"'[2]Inventário Completo'!H523","v":"SP"},{"$f":"'[2]Inventário Completo'!I523","v":"56.993.900/0001-31"},{"$f":"'[2]Inventário Completo'!J523","v":105297962113},{"$f":"'[2]Inventário Completo'!K523","v":"Rua Eng Francisco Pita Brito, 138 Jd Promissão – Cep 04753-080 São Paulo - SP"},{"$f":"'[2]Inventário Completo'!L523","v":"Moisés Bispo"},{"$f":"'[2]Inventário Completo'!M523","v":"(11) 4932-1863"},{"$f":"'[2]Inventário Completo'!N523","v":0},{"$f":"'[2]Inventário Completo'!O523","v":0},{"$f":"'[2]Inventário Completo'!P523","v":0},{"$f":"'[2]Inventário Completo'!Q523","v":0}]
[{"$f":"'[2]Inventário Completo'!A524","v":"JCLI0001"},{"$f":"'[2]Inventário Completo'!B524","v":"50J151202188"},{"$f":"'[2]Inventário Completo'!C524","v":"Impressora Térmicas"},{"$f":"'[2]Inventário Completo'!D524","v":"ZT230"},{"$f":"'[2]Inventário Completo'!E524","v":"Zebra"},{"$f":"'[2]Inventário Completo'!F524","v":"COMPANHIA METALURGICA PRADA"},{"$f":"'[2]Inventário Completo'!G524","v":"PRADA - SANTO AMARO"},{"$f":"'[2]Inventário Completo'!H524","v":"SP"},{"$f":"'[2]Inventário Completo'!I524","v":"56.993.900/0001-31"},{"$f":"'[2]Inventário Completo'!J524","v":105297962113},{"$f":"'[2]Inventário Completo'!K524","v":"Rua Eng Francisco Pita Brito, 138 Jd Promissão – Cep 04753-080 São Paulo - SP"},{"$f":"'[2]Inventário Completo'!L524","v":"Moisés Bispo"},{"$f":"'[2]Inventário Completo'!M524","v":"(11) 4932-1863"},{"$f":"'[2]Inventário Completo'!N524","v":0},{"$f":"'[2]Inventário Completo'!O524","v":0},{"$f":"'[2]Inventário Completo'!P524","v":0},{"$f":"'[2]Inventário Completo'!Q524","v":0}]
[{"$f":"'[2]Inventário Completo'!A525","v":"JCLI0002"},{"$f":"'[2]Inventário Completo'!B525","v":"50J151202200"},{"$f":"'[2]Inventário Completo'!C525","v":"Impressora Térmicas"},{"$f":"'[2]Inventário Completo'!D525","v":"ZT230"},{"$f":"'[2]Inventário Completo'!E525","v":"Zebra"},{"$f":"'[2]Inventário Completo'!F525","v":"COMPANHIA METALURGICA PRADA"},{"$f":"'[2]Inventário Completo'!G525","v":"PRADA - SANTO AMARO"},{"$f":"'[2]Inventário Completo'!H525","v":"SP"},{"$f":"'[2]Inventário Completo'!I525","v":"56.993.900/0001-31"},{"$f":"'[2]Inventário Completo'!J525","v":105297962113},{"$f":"'[2]Inventário Completo'!K525","v":"Rua Eng Francisco Pita Brito, 138 Jd Promissão – Cep 04753-080 São Paulo - SP"},{"$f":"'[2]Inventário Completo'!L525","v":"Moisés Bispo"},{"$f":"'[2]Inventário Completo'!M525","v":"(11) 4932-1863"},{"$f":"'[2]Inventário Completo'!N525","v":0},{"$f":"'[2]Inventário Completo'!O525","v":0},{"$f":"'[2]Inventário Completo'!P525","v":0},{"$f":"'[2]Inventário Completo'!Q525","v":0}]
[{"$f":"'[2]Inventário Completo'!A526","v":"JCLI0003"},{"$f":"'[2]Inventário Completo'!B526","v":"52J151202163"},{"$f":"'[2]Inventário Completo'!C526","v":"Impressora Térmicas"},{"$f":"'[2]Inventário Completo'!D526","v":"ZT230"},{"$f":"'[2]Inventário Completo'!E526","v":"Zebra"},{"$f":"'[2]Inventário Completo'!F526","v":"COMPANHIA METALURGICA PRADA"},{"$f":"'[2]Inventário Completo'!G526","v":"PRADA - SANTO AMARO"},{"$f":"'[2]Inventário Completo'!H526","v":"SP"},{"$f":"'[2]Inventário Completo'!I526","v":"56.993.900/0001-31"},{"$f":"'[2]Inventário Completo'!J526","v":105297962113},{"$f":"'[2]Inventário Completo'!K526","v":"Rua Eng Francisco Pita Brito, 138 Jd Promissão – Cep 04753-080 São Paulo - SP"},{"$f":"'[2]Inventário Completo'!L526","v":"Moisés Bispo"},{"$f":"'[2]Inventário Completo'!M526","v":"(11) 4932-1863"},{"$f":"'[2]Inventário Completo'!N526","v":0},{"$f":"'[2]Inventário Completo'!O526","v":0},{"$f":"'[2]Inventário Completo'!P526","v":0},{"$f":"'[2]Inventário Completo'!Q526","v":0}]
[{"$f":"'[2]Inventário Completo'!A527","v":"JCLU0002"},{"$f":"'[2]Inventário Completo'!B527","v":"52J151202043"},{"$f":"'[2]Inventário Completo'!C527","v":"Impressora Térmicas"},{"$f":"'[2]Inventário Completo'!D527","v":"ZT230"},{"$f":"'[2]Inventário Completo'!E527","v":"Zebra"},{"$f":"'[2]Inventário Completo'!F527","v":"COMPANHIA METALURGICA PRADA"},{"$f":"'[2]Inventário Completo'!G527","v":"PRADA - SANTO AMARO"},{"$f":"'[2]Inventário Completo'!H527","v":"SP"},{"$f":"'[2]Inventário Completo'!I527","v":"56.993.900/0001-31"},{"$f":"'[2]Inventário Completo'!J527","v":105297962113},{"$f":"'[2]Inventário Completo'!K527","v":"Rua Eng Francisco Pita Brito, 138 Jd Promissão – Cep 04753-080 São Paulo - SP"},{"$f":"'[2]Inventário Completo'!L527","v":"Moisés Bispo"},{"$f":"'[2]Inventário Completo'!M527","v":"(11) 4932-1863"},{"$f":"'[2]Inventário Completo'!N527","v":0},{"$f":"'[2]Inventário Completo'!O527","v":0},{"$f":"'[2]Inventário Completo'!P527","v":0},{"$f":"'[2]Inventário Completo'!Q527","v":0}]
[{"$f":"'[2]Inventário Completo'!A528","v":"JCSA0026"},{"$f":"'[2]Inventário Completo'!B528","v":"52N214601950"},{"$f":"'[2]Inventário Completo'!C528","v":"Impressora Térmicas"},{"$f":"'[2]Inventário Completo'!D528","v":"ZT230"},{"$f":"'[2]Inventário Completo'!E528","v":"Zebra"},{"$f":"'[2]Inventário Completo'!F528","v":"COMPANHIA METALURGICA PRADA"},{"$f":"'[2]Inventário Completo'!G528","v":"PRADA - SANTO AMARO"},{"$f":"'[2]Inventário Completo'!H528","v":"SP"},{"$f":"'[2]Inventário Completo'!I528","v":"56.993.900/0001-31"},{"$f":"'[2]Inventário Completo'!J528","v":105297962113},{"$f":"'[2]Inventário Completo'!K528","v":"Rua Eng Francisco Pita Brito, 138 Jd Promissão – Cep 04753-080 São Paulo - SP"},{"$f":"'[2]Inventário Completo'!L528","v":"Moisés Bispo"},{"$f":"'[2]Inventário Completo'!M528","v":"(11) 4932-1863"},{"$f":"'[2]Inventário Completo'!N528","v":0},{"$f":"'[2]Inventário Completo'!O528","v":0},{"$f":"'[2]Inventário Completo'!P528","v":0},{"$f":"'[2]Inventário Completo'!Q528","v":0}]
[{"$f":"'[2]Inventário Completo'!A529","v":"JCSA0027"},{"$f":"'[2]Inventário Completo'!B529","v":"52N214300706"},{"$f":"'[2]Inventário Completo'!C529","v":"Impressora Térmicas"},{"$f":"'[2]Inventário Completo'!D529","v":"ZT230"},{"$f":"'[2]Inventário Completo'!E529","v":"Zebra"},{"$f":"'[2]Inventário Completo'!F529","v":"COMPANHIA METALURGICA PRADA"},{"$f":"'[2]Inventário Completo'!G529","v":"PRADA - SANTO AMARO"},{"$f":"'[2]Inventário Completo'!H529","v":"SP"},{"$f":"'[2]Inventário Completo'!I529","v":"56.993.900/0001-31"},{"$f":"'[2]Inventário Completo'!J529","v":105297962113},{"$f":"'[2]Inventário Completo'!K529","v":"Rua Eng Francisco Pita Brito, 138 Jd Promissão – Cep 04753-080 São Paulo - SP"},{"$f":"'[2]Inventário Completo'!L529","v":"Moisés Bispo"},{"$f":"'[2]Inventário Completo'!M529","v":"(11) 4932-1863"},{"$f":"'[2]Inventário Completo'!N529","v":0},{"$f":"'[2]Inventário Completo'!O529","v":0},{"$f":"'[2]Inventário Completo'!P529","v":0},{"$f":"'[2]Inventário Completo'!Q529","v":0}]
[{"$f":"'[2]Inventário Completo'!A530","v":"JCSA0028"},{"$f":"'[2]Inventário Completo'!B530","v":"52N214700930"},{"$f":"'[2]Inventário Completo'!C530","v":"Impressora Térmicas"},{"$f":"'[2]Inventário Completo'!D530","v":"ZT230"},{"$f":"'[2]Inventário Completo'!E530","v":"Zebra"},{"$f":"'[2]Inventário Completo'!F530","v":"COMPANHIA METALURGICA PRADA"},{"$f":"'[2]Inventário Completo'!G530","v":"PRADA - SANTO AMARO"},{"$f":"'[2]Inventário Completo'!H530","v":"SP"},{"$f":"'[2]Inventário Completo'!I530","v":"56.993.900/0001-31"},{"$f":"'[2]Inventário Completo'!J530","v":105297962113},{"$f":"'[2]Inventário Completo'!K530","v":"Rua Eng Francisco Pita Brito, 138 Jd Promissão – Cep 04753-080 São Paulo - SP"},{"$f":"'[2]Inventário Completo'!L530","v":"Moisés Bispo"},{"$f":"'[2]Inventário Completo'!M530","v":"(11) 4932-1863"},{"$f":"'[2]Inventário Completo'!N530","v":0},{"$f":"'[2]Inventário Completo'!O530","v":0},{"$f":"'[2]Inventário Completo'!P530","v":0},{"$f":"'[2]Inventário Completo'!Q530","v":0}]
[{"$f":"'[2]Inventário Completo'!A531","v":"JCSA0029"},{"$f":"'[2]Inventário Completo'!B531","v":"52N214700490"},{"$f":"'[2]Inventário Completo'!C531","v":"Impressora Térmicas"},{"$f":"'[2]Inventário Completo'!D531","v":"ZT230"},{"$f":"'[2]Inventário Completo'!E531","v":"Zebra"},{"$f":"'[2]Inventário Completo'!F531","v":"COMPANHIA METALURGICA PRADA"},{"$f":"'[2]Inventário Completo'!G531","v":"PRADA - SANTO AMARO"},{"$f":"'[2]Inventário Completo'!H531","v":"SP"},{"$f":"'[2]Inventário Completo'!I531","v":"56.993.900/0001-31"},{"$f":"'[2]Inventário Completo'!J531","v":105297962113},{"$f":"'[2]Inventário Completo'!K531","v":"Rua Eng Francisco Pita Brito, 138 Jd Promissão – Cep 04753-080 São Paulo - SP"},{"$f":"'[2]Inventário Completo'!L531","v":"Moisés Bispo"},{"$f":"'[2]Inventário Completo'!M531","v":"(11) 4932-1863"},{"$f":"'[2]Inventário Completo'!N531","v":0},{"$f":"'[2]Inventário Completo'!O531","v":0},{"$f":"'[2]Inventário Completo'!P531","v":0},{"$f":"'[2]Inventário Completo'!Q531","v":0}]
[{"$f":"'[2]Inventário Completo'!A532","v":"JCSA0030"},{"$f":"'[2]Inventário Completo'!B532","v":"52N214700819"},{"$f":"'[2]Inventário Completo'!C532","v":"Impressora Térmicas"},{"$f":"'[2]Inventário Completo'!D532","v":"ZT230"},{"$f":"'[2]Inventário Completo'!E532","v":"Zebra"},{"$f":"'[2]Inventário Completo'!F532","v":"COMPANHIA METALURGICA PRADA"},{"$f":"'[2]Inventário Completo'!G532","v":"PRADA - SANTO AMARO"},{"$f":"'[2]Inventário Completo'!H532","v":"SP"},{"$f":"'[2]Inventário Completo'!I532","v":"56.993.900/0001-31"},{"$f":"'[2]Inventário Completo'!J532","v":105297962113},{"$f":"'[2]Inventário Completo'!K532","v":"Rua Eng Francisco Pita Brito, 138 Jd Promissão – Cep 04753-080 São Paulo - SP"},{"$f":"'[2]Inventário Completo'!L532","v":"Moisés Bispo"},{"$f":"'[2]Inventário Completo'!M532","v":"(11) 4932-1863"},{"$f":"'[2]Inventário Completo'!N532","v":0},{"$f":"'[2]Inventário Completo'!O532","v":0},{"$f":"'[2]Inventário Completo'!P532","v":0},{"$f":"'[2]Inventário Completo'!Q532","v":0}]
[{"$f":"'[2]Inventário Completo'!A533","v":"JCSA0018"},{"$f":"'[2]Inventário Completo'!B533","v":"52J141801196"},{"$f":"'[2]Inventário Completo'!C533","v":"Impressora Térmicas"},{"$f":"'[2]Inventário Completo'!D533","v":"ZT230"},{"$f":"'[2]Inventário Completo'!E533","v":"Zebra"},{"$f":"'[2]Inventário Completo'!F533","v":"COMPANHIA METALURGICA PRADA"},{"$f":"'[2]Inventário Completo'!G533","v":"PRADA - SANTO AMARO"},{"$f":"'[2]Inventário Completo'!H533","v":"SP"},{"$f":"'[2]Inventário Completo'!I533","v":"56.993.900/0001-31"},{"$f":"'[2]Inventário Completo'!J533","v":105297962113},{"$f":"'[2]Inventário Completo'!K533","v":"Rua Eng Francisco Pita Brito, 138 Jd Promissão – Cep 04753-080 São Paulo - SP"},{"$f":"'[2]Inventário Completo'!L533","v":"Moisés Bispo"},{"$f":"'[2]Inventário Completo'!M533","v":"(11) 4932-1863"},{"$f":"'[2]Inventário Completo'!N533","v":0},{"$f":"'[2]Inventário Completo'!O533","v":0},{"$f":"'[2]Inventário Completo'!P533","v":0},{"$f":"'[2]Inventário Completo'!Q533","v":0}]
[{"$f":"'[2]Inventário Completo'!A534","v":"JCSA0019"},{"$f":"'[2]Inventário Completo'!B534","v":"52J141801214"},{"$f":"'[2]Inventário Completo'!C534","v":"Impressora Térmicas"},{"$f":"'[2]Inventário Completo'!D534","v":"ZT230"},{"$f":"'[2]Inventário Completo'!E534","v":"Zebra"},{"$f":"'[2]Inventário Completo'!F534","v":"COMPANHIA METALURGICA PRADA"},{"$f":"'[2]Inventário Completo'!G534","v":"PRADA - SANTO AMARO"},{"$f":"'[2]Inventário Completo'!H534","v":"SP"},{"$f":"'[2]Inventário Completo'!I534","v":"56.993.900/0001-31"},{"$f":"'[2]Inventário Completo'!J534","v":105297962113},{"$f":"'[2]Inventário Completo'!K534","v":"Rua Eng Francisco Pita Brito, 138 Jd Promissão – Cep 04753-080 São Paulo - SP"},{"$f":"'[2]Inventário Completo'!L534","v":"Moisés Bispo"},{"$f":"'[2]Inventário Completo'!M534","v":"(11) 4932-1863"},{"$f":"'[2]Inventário Completo'!N534","v":0},{"$f":"'[2]Inventário Completo'!O534","v":0},{"$f":"'[2]Inventário Completo'!P534","v":0},{"$f":"'[2]Inventário Completo'!Q534","v":0}]
[{"$f":"'[2]Inventário Completo'!A535","v":"JCSA0020"},{"$f":"'[2]Inventário Completo'!B535","v":"52J142802495"},{"$f":"'[2]Inventário Completo'!C535","v":"Impressora Térmicas"},{"$f":"'[2]Inventário Completo'!D535","v":"ZT230"},{"$f":"'[2]Inventário Completo'!E535","v":"Zebra"},{"$f":"'[2]Inventário Completo'!F535","v":"COMPANHIA METALURGICA PRADA"},{"$f":"'[2]Inventário Completo'!G535","v":"PRADA - SANTO AMARO"},{"$f":"'[2]Inventário Completo'!H535","v":"SP"},{"$f":"'[2]Inventário Completo'!I535","v":"56.993.900/0001-31"},{"$f":"'[2]Inventário Completo'!J535","v":105297962113},{"$f":"'[2]Inventário Completo'!K535","v":"Rua Eng Francisco Pita Brito, 138 Jd Promissão – Cep 04753-080 São Paulo - SP"},{"$f":"'[2]Inventário Completo'!L535","v":"Moisés Bispo"},{"$f":"'[2]Inventário Completo'!M535","v":"(11) 4932-1863"},{"$f":"'[2]Inventário Completo'!N535","v":0},{"$f":"'[2]Inventário Completo'!O535","v":0},{"$f":"'[2]Inventário Completo'!P535","v":0},{"$f":"'[2]Inventário Completo'!Q535","v":0}]
[{"$f":"'[2]Inventário Completo'!A536","v":"JCSA0022"},{"$f":"'[2]Inventário Completo'!B536","v":"52J142802510"},{"$f":"'[2]Inventário Completo'!C536","v":"Impressora Térmicas"},{"$f":"'[2]Inventário Completo'!D536","v":"ZT230"},{"$f":"'[2]Inventário Completo'!E536","v":"Zebra"},{"$f":"'[2]Inventário Completo'!F536","v":"COMPANHIA METALURGICA PRADA"},{"$f":"'[2]Inventário Completo'!G536","v":"PRADA - SANTO AMARO"},{"$f":"'[2]Inventário Completo'!H536","v":"SP"},{"$f":"'[2]Inventário Completo'!I536","v":"56.993.900/0001-31"},{"$f":"'[2]Inventário Completo'!J536","v":105297962113},{"$f":"'[2]Inventário Completo'!K536","v":"Rua Eng Francisco Pita Brito, 138 Jd Promissão – Cep 04753-080 São Paulo - SP"},{"$f":"'[2]Inventário Completo'!L536","v":"Moisés Bispo"},{"$f":"'[2]Inventário Completo'!M536","v":"(11) 4932-1863"},{"$f":"'[2]Inventário Completo'!N536","v":0},{"$f":"'[2]Inventário Completo'!O536","v":0},{"$f":"'[2]Inventário Completo'!P536","v":0},{"$f":"'[2]Inventário Completo'!Q536","v":0}]
[{"$f":"'[2]Inventário Completo'!A537","v":"JCSA0023"},{"$f":"'[2]Inventário Completo'!B537","v":"52J143000509"},{"$f":"'[2]Inventário Completo'!C537","v":"Impressora Térmicas"},{"$f":"'[2]Inventário Completo'!D537","v":"ZT230"},{"$f":"'[2]Inventário Completo'!E537","v":"Zebra"},{"$f":"'[2]Inventário Completo'!F537","v":"COMPANHIA METALURGICA PRADA"},{"$f":"'[2]Inventário Completo'!G537","v":"PRADA - SANTO AMARO"},{"$f":"'[2]Inventário Completo'!H537","v":"SP"},{"$f":"'[2]Inventário Completo'!I537","v":"56.993.900/0001-31"},{"$f":"'[2]Inventário Completo'!J537","v":105297962113},{"$f":"'[2]Inventário Completo'!K537","v":"Rua Eng Francisco Pita Brito, 138 Jd Promissão – Cep 04753-080 São Paulo - SP"},{"$f":"'[2]Inventário Completo'!L537","v":"Alex Candido"},{"$f":"'[2]Inventário Completo'!M537","v":"(24) 3383-8320"},{"$f":"'[2]Inventário Completo'!N537","v":0},{"$f":"'[2]Inventário Completo'!O537","v":0},{"$f":"'[2]Inventário Completo'!P537","v":0},{"$f":"'[2]Inventário Completo'!Q537","v":0}]
[{"$f":"'[2]Inventário Completo'!A538","v":"JCSA0024"},{"$f":"'[2]Inventário Completo'!B538","v":"52J143003647"},{"$f":"'[2]Inventário Completo'!C538","v":"Impressora Térmicas"},{"$f":"'[2]Inventário Completo'!D538","v":"ZT230"},{"$f":"'[2]Inventário Completo'!E538","v":"Zebra"},{"$f":"'[2]Inventário Completo'!F538","v":"COMPANHIA METALURGICA PRADA"},{"$f":"'[2]Inventário Completo'!G538","v":"PRADA - SANTO AMARO"},{"$f":"'[2]Inventário Completo'!H538","v":"SP"},{"$f":"'[2]Inventário Completo'!I538","v":"56.993.900/0001-31"},{"$f":"'[2]Inventário Completo'!J538","v":105297962113},{"$f":"'[2]Inventário Completo'!K538","v":"Rua Eng Francisco Pita Brito, 138 Jd Promissão – Cep 04753-080 São Paulo - SP"},{"$f":"'[2]Inventário Completo'!L538","v":"Alex Candido"},{"$f":"'[2]Inventário Completo'!M538","v":"(24) 3383-8320"},{"$f":"'[2]Inventário Completo'!N538","v":0},{"$f":"'[2]Inventário Completo'!O538","v":0},{"$f":"'[2]Inventário Completo'!P538","v":0},{"$f":"'[2]Inventário Completo'!Q538","v":0}]
[{"$f":"'[2]Inventário Completo'!A539","v":"JCSA0025"},{"$f":"'[2]Inventário Completo'!B539","v":"52J180509918"},{"$f":"'[2]Inventário Completo'!C539","v":"Impressora Térmicas"},{"$f":"'[2]Inventário Completo'!D539","v":"ZT230"},{"$f":"'[2]Inventário Completo'!E539","v":"Zebra"},{"$f":"'[2]Inventário Completo'!F539","v":"COMPANHIA METALURGICA PRADA"},{"$f":"'[2]Inventário Completo'!G539","v":"PRADA - SANTO AMARO"},{"$f":"'[2]Inventário Completo'!H539","v":"SP"},{"$f":"'[2]Inventário Completo'!I539","v":"56.993.900/0001-31"},{"$f":"'[2]Inventário Completo'!J539","v":105297962113},{"$f":"'[2]Inventário Completo'!K539","v":"Rua Eng Francisco Pita Brito, 138 Jd Promissão – Cep 04753-080 São Paulo - SP"},{"$f":"'[2]Inventário Completo'!L539","v":"Alex Candido"},{"$f":"'[2]Inventário Completo'!M539","v":"(24) 3383-8320"},{"$f":"'[2]Inventário Completo'!N539","v":0},{"$f":"'[2]Inventário Completo'!O539","v":0},{"$f":"'[2]Inventário Completo'!P539","v":0},{"$f":"'[2]Inventário Completo'!Q539","v":0}]
[{"$f":"'[2]Inventário Completo'!A540","v":"JCUB0005"},{"$f":"'[2]Inventário Completo'!B540","v":"52J143001822"},{"$f":"'[2]Inventário Completo'!C540","v":"Impressora Térmicas"},{"$f":"'[2]Inventário Completo'!D540","v":"ZT230"},{"$f":"'[2]Inventário Completo'!E540","v":"Zebra"},{"$f":"'[2]Inventário Completo'!F540","v":"COMPANHIA METALURGICA PRADA"},{"$f":"'[2]Inventário Completo'!G540","v":"PRADA - UBERLANDIA"},{"$f":"'[2]Inventário Completo'!H540","v":"MG"},{"$f":"'[2]Inventário Completo'!I540","v":"56.993.900/0009-99"},{"$f":"'[2]Inventário Completo'!J540","v":"702.513.474/0080"},{"$f":"'[2]Inventário Completo'!K540","v":"Av. Andraus Gassani, 1193 – Distrito Industrial – Uberlândia - MG"},{"$f":"'[2]Inventário Completo'!L540","v":"Moisés Bispo"},{"$f":"'[2]Inventário Completo'!M540","v":"(11) 4932-1863"},{"$f":"'[2]Inventário Completo'!N540","v":0},{"$f":"'[2]Inventário Completo'!O540","v":0},{"$f":"'[2]Inventário Completo'!P540","v":0},{"$f":"'[2]Inventário Completo'!Q540","v":0}]
[{"$f":"'[2]Inventário Completo'!A541","v":"JCUB0004"},{"$f":"'[2]Inventário Completo'!B541","v":"52J142802507"},{"$f":"'[2]Inventário Completo'!C541","v":"Impressora Térmicas"},{"$f":"'[2]Inventário Completo'!D541","v":"ZT230"},{"$f":"'[2]Inventário Completo'!E541","v":"Zebra"},{"$f":"'[2]Inventário Completo'!F541","v":"COMPANHIA METALURGICA PRADA"},{"$f":"'[2]Inventário Completo'!G541","v":"PRADA - UBERLANDIA"},{"$f":"'[2]Inventário Completo'!H541","v":"MG"},{"$f":"'[2]Inventário Completo'!I541","v":"56.993.900/0009-99"},{"$f":"'[2]Inventário Completo'!J541","v":"702.513.474/0080"},{"$f":"'[2]Inventário Completo'!K541","v":"Av. Andraus Gassani, 1193 – Distrito Industrial – Uberlândia - MG"},{"$f":"'[2]Inventário Completo'!L541","v":"Moisés Bispo"},{"$f":"'[2]Inventário Completo'!M541","v":"(11) 4932-1863"},{"$f":"'[2]Inventário Completo'!N541","v":0},{"$f":"'[2]Inventário Completo'!O541","v":0},{"$f":"'[2]Inventário Completo'!P541","v":0},{"$f":"'[2]Inventário Completo'!Q541","v":0}]
[{"$f":"'[2]Inventário Completo'!A542","v":"JCUB0006"},{"$f":"'[2]Inventário Completo'!B542","v":"52N211100927"},{"$f":"'[2]Inventário Completo'!C542","v":"Impressora Térmicas"},{"$f":"'[2]Inventário Completo'!D542","v":"ZT230"},{"$f":"'[2]Inventário Completo'!E542","v":"Zebra"},{"$f":"'[2]Inventário Completo'!F542","v":"COMPANHIA METALURGICA PRADA"},{"$f":"'[2]Inventário Completo'!G542","v":"PRADA - UBERLANDIA"},{"$f":"'[2]Inventário Completo'!H542","v":"MG"},{"$f":"'[2]Inventário Completo'!I542","v":"56.993.900/0009-99"},{"$f":"'[2]Inventário Completo'!J542","v":"702.513.474/0080"},{"$f":"'[2]Inventário Completo'!K542","v":"Av. Andraus Gassani, 1193 – Distrito Industrial – Uberlândia - MG"},{"$f":"'[2]Inventário Completo'!L542","v":"Moisés Bispo"},{"$f":"'[2]Inventário Completo'!M542","v":"(11) 4932-1863"},{"$f":"'[2]Inventário Completo'!N542","v":0},{"$f":"'[2]Inventário Completo'!O542","v":0},{"$f":"'[2]Inventário Completo'!P542","v":0},{"$f":"'[2]Inventário Completo'!Q542","v":0}]
[{"$f":"'[2]Inventário Completo'!A543","v":"JCUB0007"},{"$f":"'[2]Inventário Completo'!B543","v":"52N211100531"},{"$f":"'[2]Inventário Completo'!C543","v":"Impressora Térmicas"},{"$f":"'[2]Inventário Completo'!D543","v":"ZT230"},{"$f":"'[2]Inventário Completo'!E543","v":"Zebra"},{"$f":"'[2]Inventário Completo'!F543","v":"COMPANHIA METALURGICA PRADA"},{"$f":"'[2]Inventário Completo'!G543","v":"PRADA - UBERLANDIA"},{"$f":"'[2]Inventário Completo'!H543","v":"MG"},{"$f":"'[2]Inventário Completo'!I543","v":"56.993.900/0009-99"},{"$f":"'[2]Inventário Completo'!J543","v":"702.513.474/0080"},{"$f":"'[2]Inventário Completo'!K543","v":"Av. Andraus Gassani, 1193 – Distrito Industrial – Uberlândia - MG"},{"$f":"'[2]Inventário Completo'!L543","v":"Moisés Bispo"},{"$f":"'[2]Inventário Completo'!M543","v":"(11) 4932-1863"},{"$f":"'[2]Inventário Completo'!N543","v":0},{"$f":"'[2]Inventário Completo'!O543","v":0},{"$f":"'[2]Inventário Completo'!P543","v":0},{"$f":"'[2]Inventário Completo'!Q543","v":0}]
[{"$f":"'[2]Inventário Completo'!A544","v":"JCVR0001"},{"$f":"'[2]Inventário Completo'!B544","v":94466416},{"$f":"'[2]Inventário Completo'!C544","v":"Impressora Térmicas"},{"$f":"'[2]Inventário Completo'!D544","v":"Allegro Flex 4206"},{"$f":"'[2]Inventário Completo'!E544","v":"Zebra"},{"$f":"'[2]Inventário Completo'!F544","v":"COMPANHIA SIDERURGICA NACIONAL"},{"$f":"'[2]Inventário Completo'!G544","v":"CSN-VOLTA REDONDA"},{"$f":"'[2]Inventário Completo'!H544","v":"RJ"},{"$f":"'[2]Inventário Completo'!I544","v":"33.042.730/0017-71"},{"$f":"'[2]Inventário Completo'!J544","v":80541767},{"$f":"'[2]Inventário Completo'!K544","v":"Rodovia BR 393, Lúcio Meira KM 5001, SN°, Vila Santa Cecília, Volta Redonda"},{"$f":"'[2]Inventário Completo'!L544","v":"Luiz Cesar"},{"$f":"'[2]Inventário Completo'!M544","v":3105},{"$f":"'[2]Inventário Completo'!N544","v":0},{"$f":"'[2]Inventário Completo'!O544","v":0},{"$f":"'[2]Inventário Completo'!P544","v":0},{"$f":"'[2]Inventário Completo'!Q544","v":0}]
[{"$f":"'[2]Inventário Completo'!A545","v":"JCVR0002"},{"$f":"'[2]Inventário Completo'!B545","v":94466432},{"$f":"'[2]Inventário Completo'!C545","v":"Impressora Térmicas"},{"$f":"'[2]Inventário Completo'!D545","v":"Allegro Flex 4206"},{"$f":"'[2]Inventário Completo'!E545","v":"Zebra"},{"$f":"'[2]Inventário Completo'!F545","v":"COMPANHIA SIDERURGICA NACIONAL"},{"$f":"'[2]Inventário Completo'!G545","v":"CSN-VOLTA REDONDA"},{"$f":"'[2]Inventário Completo'!H545","v":"RJ"},{"$f":"'[2]Inventário Completo'!I545","v":"33.042.730/0017-71"},{"$f":"'[2]Inventário Completo'!J545","v":80541767},{"$f":"'[2]Inventário Completo'!K545","v":"Rodovia BR 393, Lúcio Meira KM 5001, SN°, Vila Santa Cecília, Volta Redonda"},{"$f":"'[2]Inventário Completo'!L545","v":"Luiz Cesar"},{"$f":"'[2]Inventário Completo'!M545","v":3105},{"$f":"'[2]Inventário Completo'!N545","v":0},{"$f":"'[2]Inventário Completo'!O545","v":0},{"$f":"'[2]Inventário Completo'!P545","v":0},{"$f":"'[2]Inventário Completo'!Q545","v":0}]
[{"$f":"'[2]Inventário Completo'!A546","v":"JCVR0003"},{"$f":"'[2]Inventário Completo'!B546","v":94466456},{"$f":"'[2]Inventário Completo'!C546","v":"Impressora Térmicas"},{"$f":"'[2]Inventário Completo'!D546","v":"Allegro Flex 4206"},{"$f":"'[2]Inventário Completo'!E546","v":"Zebra"},{"$f":"'[2]Inventário Completo'!F546","v":"COMPANHIA SIDERURGICA NACIONAL"},{"$f":"'[2]Inventário Completo'!G546","v":"CSN-VOLTA REDONDA"},{"$f":"'[2]Inventário Completo'!H546","v":"RJ"},{"$f":"'[2]Inventário Completo'!I546","v":"33.042.730/0017-71"},{"$f":"'[2]Inventário Completo'!J546","v":80541767},{"$f":"'[2]Inventário Completo'!K546","v":"Rodovia BR 393, Lúcio Meira KM 5001, SN°, Vila Santa Cecília, Volta Redonda"},{"$f":"'[2]Inventário Completo'!L546","v":"Luiz Cesar"},{"$f":"'[2]Inventário Completo'!M546","v":3105},{"$f":"'[2]Inventário Completo'!N546","v":0},{"$f":"'[2]Inventário Completo'!O546","v":0},{"$f":"'[2]Inventário Completo'!P546","v":0},{"$f":"'[2]Inventário Completo'!Q546","v":0}]
[{"$f":"'[2]Inventário Completo'!A547","v":"JCVR0004"},{"$f":"'[2]Inventário Completo'!B547","v":94466454},{"$f":"'[2]Inventário Completo'!C547","v":"Impressora Térmicas"},{"$f":"'[2]Inventário Completo'!D547","v":"Allegro Flex 4206"},{"$f":"'[2]Inventário Completo'!E547","v":"Zebra"},{"$f":"'[2]Inventário Completo'!F547","v":"COMPANHIA SIDERURGICA NACIONAL"},{"$f":"'[2]Inventário Completo'!G547","v":"CSN-VOLTA REDONDA"},{"$f":"'[2]Inventário Completo'!H547","v":"RJ"},{"$f":"'[2]Inventário Completo'!I547","v":"33.042.730/0017-71"},{"$f":"'[2]Inventário Completo'!J547","v":80541767},{"$f":"'[2]Inventário Completo'!K547","v":"Rodovia BR 393, Lúcio Meira KM 5001, SN°, Vila Santa Cecília, Volta Redonda"},{"$f":"'[2]Inventário Completo'!L547","v":"Luiz Cesar"},{"$f":"'[2]Inventário Completo'!M547","v":3105},{"$f":"'[2]Inventário Completo'!N547","v":0},{"$f":"'[2]Inventário Completo'!O547","v":0},{"$f":"'[2]Inventário Completo'!P547","v":0},{"$f":"'[2]Inventário Completo'!Q547","v":0}]
[{"$f":"'[2]Inventário Completo'!A548","v":"JCVR0005"},{"$f":"'[2]Inventário Completo'!B548","v":94466465},{"$f":"'[2]Inventário Completo'!C548","v":"Impressora Térmicas"},{"$f":"'[2]Inventário Completo'!D548","v":"Allegro Flex 4206"},{"$f":"'[2]Inventário Completo'!E548","v":"Zebra"},{"$f":"'[2]Inventário Completo'!F548","v":"COMPANHIA SIDERURGICA NACIONAL"},{"$f":"'[2]Inventário Completo'!G548","v":"CSN-VOLTA REDONDA"},{"$f":"'[2]Inventário Completo'!H548","v":"RJ"},{"$f":"'[2]Inventário Completo'!I548","v":"33.042.730/0017-71"},{"$f":"'[2]Inventário Completo'!J548","v":80541767},{"$f":"'[2]Inventário Completo'!K548","v":"Rodovia BR 393, Lúcio Meira KM 5001, SN°, Vila Santa Cecília, Volta Redonda"},{"$f":"'[2]Inventário Completo'!L548","v":"Luiz Cesar"},{"$f":"'[2]Inventário Completo'!M548","v":3105},{"$f":"'[2]Inventário Completo'!N548","v":0},{"$f":"'[2]Inventário Completo'!O548","v":0},{"$f":"'[2]Inventário Completo'!P548","v":0},{"$f":"'[2]Inventário Completo'!Q548","v":0}]
[{"$f":"'[2]Inventário Completo'!A549","v":"JCVR0006"},{"$f":"'[2]Inventário Completo'!B549","v":52266157},{"$f":"'[2]Inventário Completo'!C549","v":"Impressora Térmicas"},{"$f":"'[2]Inventário Completo'!D549","v":"Allegro Flex 4206"},{"$f":"'[2]Inventário Completo'!E549","v":"Zebra"},{"$f":"'[2]Inventário Completo'!F549","v":"COMPANHIA SIDERURGICA NACIONAL"},{"$f":"'[2]Inventário Completo'!G549","v":"CSN-VOLTA REDONDA"},{"$f":"'[2]Inventário Completo'!H549","v":"RJ"},{"$f":"'[2]Inventário Completo'!I549","v":"33.042.730/0017-71"},{"$f":"'[2]Inventário Completo'!J549","v":80541767},{"$f":"'[2]Inventário Completo'!K549","v":"Rodovia BR 393, Lúcio Meira KM 5001, SN°, Vila Santa Cecília, Volta Redonda"},{"$f":"'[2]Inventário Completo'!L549","v":"Luiz Cesar"},{"$f":"'[2]Inventário Completo'!M549","v":3105},{"$f":"'[2]Inventário Completo'!N549","v":0},{"$f":"'[2]Inventário Completo'!O549","v":0},{"$f":"'[2]Inventário Completo'!P549","v":0},{"$f":"'[2]Inventário Completo'!Q549","v":0}]
[{"$f":"'[2]Inventário Completo'!A550","v":"JCVR0091"},{"$f":"'[2]Inventário Completo'!B550","v":"14J113500317"},{"$f":"'[2]Inventário Completo'!C550","v":"Impressora Térmicas"},{"$f":"'[2]Inventário Completo'!D550","v":"R110 Xi4"},{"$f":"'[2]Inventário Completo'!E550","v":"Zebra"},{"$f":"'[2]Inventário Completo'!F550","v":"COMPANHIA SIDERURGICA NACIONAL"},{"$f":"'[2]Inventário Completo'!G550","v":"CSN-VOLTA REDONDA"},{"$f":"'[2]Inventário Completo'!H550","v":"RJ"},{"$f":"'[2]Inventário Completo'!I550","v":"33.042.730/0017-71"},{"$f":"'[2]Inventário Completo'!J550","v":80541767},{"$f":"'[2]Inventário Completo'!K550","v":"Rodovia BR 393, Lúcio Meira KM 5001, SN°, Vila Santa Cecília, Volta Redonda"},{"$f":"'[2]Inventário Completo'!L550","v":"Luiz Cesar"},{"$f":"'[2]Inventário Completo'!M550","v":3105},{"$f":"'[2]Inventário Completo'!N550","v":0},{"$f":"'[2]Inventário Completo'!O550","v":0},{"$f":"'[2]Inventário Completo'!P550","v":0},{"$f":"'[2]Inventário Completo'!Q550","v":0}]
[{"$f":"'[2]Inventário Completo'!A551","v":"JCVR0007"},{"$f":"'[2]Inventário Completo'!B551","v":"03J113200345"},{"$f":"'[2]Inventário Completo'!C551","v":"Impressora Térmicas"},{"$f":"'[2]Inventário Completo'!D551","v":"S4M"},{"$f":"'[2]Inventário Completo'!E551","v":"Zebra"},{"$f":"'[2]Inventário Completo'!F551","v":"COMPANHIA SIDERURGICA NACIONAL"},{"$f":"'[2]Inventário Completo'!G551","v":"CSN-VOLTA REDONDA"},{"$f":"'[2]Inventário Completo'!H551","v":"RJ"},{"$f":"'[2]Inventário Completo'!I551","v":"33.042.730/0017-71"},{"$f":"'[2]Inventário Completo'!J551","v":80541767},{"$f":"'[2]Inventário Completo'!K551","v":"Rodovia BR 393, Lúcio Meira KM 5001, SN°, Vila Santa Cecília, Volta Redonda"},{"$f":"'[2]Inventário Completo'!L551","v":"Luiz Cesar"},{"$f":"'[2]Inventário Completo'!M551","v":3105},{"$f":"'[2]Inventário Completo'!N551","v":0},{"$f":"'[2]Inventário Completo'!O551","v":0},{"$f":"'[2]Inventário Completo'!P551","v":0},{"$f":"'[2]Inventário Completo'!Q551","v":0}]
[{"$f":"'[2]Inventário Completo'!A552","v":"JCVR0008"},{"$f":"'[2]Inventário Completo'!B552","v":"03J113200452"},{"$f":"'[2]Inventário Completo'!C552","v":"Impressora Térmicas"},{"$f":"'[2]Inventário Completo'!D552","v":"S4M"},{"$f":"'[2]Inventário Completo'!E552","v":"Zebra"},{"$f":"'[2]Inventário Completo'!F552","v":"COMPANHIA SIDERURGICA NACIONAL"},{"$f":"'[2]Inventário Completo'!G552","v":"CSN-VOLTA REDONDA"},{"$f":"'[2]Inventário Completo'!H552","v":"RJ"},{"$f":"'[2]Inventário Completo'!I552","v":"33.042.730/0017-71"},{"$f":"'[2]Inventário Completo'!J552","v":80541767},{"$f":"'[2]Inventário Completo'!K552","v":"Rodovia BR 393, Lúcio Meira KM 5001, SN°, Vila Santa Cecília, Volta Redonda"},{"$f":"'[2]Inventário Completo'!L552","v":"Luiz Cesar"},{"$f":"'[2]Inventário Completo'!M552","v":3105},{"$f":"'[2]Inventário Completo'!N552","v":0},{"$f":"'[2]Inventário Completo'!O552","v":0},{"$f":"'[2]Inventário Completo'!P552","v":0},{"$f":"'[2]Inventário Completo'!Q552","v":0}]
[{"$f":"'[2]Inventário Completo'!A553","v":"JCVR0009"},{"$f":"'[2]Inventário Completo'!B553","v":"03J113200459"},{"$f":"'[2]Inventário Completo'!C553","v":"Impressora Térmicas"},{"$f":"'[2]Inventário Completo'!D553","v":"S4M"},{"$f":"'[2]Inventário Completo'!E553","v":"Zebra"},{"$f":"'[2]Inventário Completo'!F553","v":"COMPANHIA SIDERURGICA NACIONAL"},{"$f":"'[2]Inventário Completo'!G553","v":"CSN-VOLTA REDONDA"},{"$f":"'[2]Inventário Completo'!H553","v":"RJ"},{"$f":"'[2]Inventário Completo'!I553","v":"33.042.730/0017-71"},{"$f":"'[2]Inventário Completo'!J553","v":80541767},{"$f":"'[2]Inventário Completo'!K553","v":"Rodovia BR 393, Lúcio Meira KM 5001, SN°, Vila Santa Cecília, Volta Redonda"},{"$f":"'[2]Inventário Completo'!L553","v":"Luiz Cesar"},{"$f":"'[2]Inventário Completo'!M553","v":3105},{"$f":"'[2]Inventário Completo'!N553","v":0},{"$f":"'[2]Inventário Completo'!O553","v":0},{"$f":"'[2]Inventário Completo'!P553","v":0},{"$f":"'[2]Inventário Completo'!Q553","v":0}]
[{"$f":"'[2]Inventário Completo'!A554","v":"JCVR0010"},{"$f":"'[2]Inventário Completo'!B554","v":"03J113200460"},{"$f":"'[2]Inventário Completo'!C554","v":"Impressora Térmicas"},{"$f":"'[2]Inventário Completo'!D554","v":"S4M"},{"$f":"'[2]Inventário Completo'!E554","v":"Zebra"},{"$f":"'[2]Inventário Completo'!F554","v":"COMPANHIA SIDERURGICA NACIONAL"},{"$f":"'[2]Inventário Completo'!G554","v":"CSN-VOLTA REDONDA"},{"$f":"'[2]Inventário Completo'!H554","v":"RJ"},{"$f":"'[2]Inventário Completo'!I554","v":"33.042.730/0017-71"},{"$f":"'[2]Inventário Completo'!J554","v":80541767},{"$f":"'[2]Inventário Completo'!K554","v":"Rodovia BR 393, Lúcio Meira KM 5001, SN°, Vila Santa Cecília, Volta Redonda"},{"$f":"'[2]Inventário Completo'!L554","v":"Luiz Cesar"},{"$f":"'[2]Inventário Completo'!M554","v":3105},{"$f":"'[2]Inventário Completo'!N554","v":0},{"$f":"'[2]Inventário Completo'!O554","v":0},{"$f":"'[2]Inventário Completo'!P554","v":0},{"$f":"'[2]Inventário Completo'!Q554","v":0}]
[{"$f":"'[2]Inventário Completo'!A555","v":"JCVR0011"},{"$f":"'[2]Inventário Completo'!B555","v":"03J113200463"},{"$f":"'[2]Inventário Completo'!C555","v":"Impressora Térmicas"},{"$f":"'[2]Inventário Completo'!D555","v":"S4M"},{"$f":"'[2]Inventário Completo'!E555","v":"Zebra"},{"$f":"'[2]Inventário Completo'!F555","v":"COMPANHIA SIDERURGICA NACIONAL"},{"$f":"'[2]Inventário Completo'!G555","v":"CSN-VOLTA REDONDA"},{"$f":"'[2]Inventário Completo'!H555","v":"RJ"},{"$f":"'[2]Inventário Completo'!I555","v":"33.042.730/0017-71"},{"$f":"'[2]Inventário Completo'!J555","v":80541767},{"$f":"'[2]Inventário Completo'!K555","v":"Rodovia BR 393, Lúcio Meira KM 5001, SN°, Vila Santa Cecília, Volta Redonda"},{"$f":"'[2]Inventário Completo'!L555","v":"Luiz Cesar"},{"$f":"'[2]Inventário Completo'!M555","v":3105},{"$f":"'[2]Inventário Completo'!N555","v":0},{"$f":"'[2]Inventário Completo'!O555","v":0},{"$f":"'[2]Inventário Completo'!P555","v":0},{"$f":"'[2]Inventário Completo'!Q555","v":0}]
[{"$f":"'[2]Inventário Completo'!A556","v":"JCVR0012"},{"$f":"'[2]Inventário Completo'!B556","v":"03J120700230"},{"$f":"'[2]Inventário Completo'!C556","v":"Impressora Térmicas"},{"$f":"'[2]Inventário Completo'!D556","v":"S4M"},{"$f":"'[2]Inventário Completo'!E556","v":"Zebra"},{"$f":"'[2]Inventário Completo'!F556","v":"COMPANHIA SIDERURGICA NACIONAL"},{"$f":"'[2]Inventário Completo'!G556","v":"CSN-VOLTA REDONDA"},{"$f":"'[2]Inventário Completo'!H556","v":"RJ"},{"$f":"'[2]Inventário Completo'!I556","v":"33.042.730/0017-71"},{"$f":"'[2]Inventário Completo'!J556","v":80541767},{"$f":"'[2]Inventário Completo'!K556","v":"Rodovia BR 393, Lúcio Meira KM 5001, SN°, Vila Santa Cecília, Volta Redonda"},{"$f":"'[2]Inventário Completo'!L556","v":"Luiz Cesar"},{"$f":"'[2]Inventário Completo'!M556","v":3105},{"$f":"'[2]Inventário Completo'!N556","v":0},{"$f":"'[2]Inventário Completo'!O556","v":0},{"$f":"'[2]Inventário Completo'!P556","v":0},{"$f":"'[2]Inventário Completo'!Q556","v":0}]
[{"$f":"'[2]Inventário Completo'!A557","v":"JCVR0015"},{"$f":"'[2]Inventário Completo'!B557","v":5274370},{"$f":"'[2]Inventário Completo'!C557","v":"Impressora Térmicas"},{"$f":"'[2]Inventário Completo'!D557","v":"S600"},{"$f":"'[2]Inventário Completo'!E557","v":"Zebra"},{"$f":"'[2]Inventário Completo'!F557","v":"COMPANHIA SIDERURGICA NACIONAL"},{"$f":"'[2]Inventário Completo'!G557","v":"CSN-VOLTA REDONDA"},{"$f":"'[2]Inventário Completo'!H557","v":"RJ"},{"$f":"'[2]Inventário Completo'!I557","v":"33.042.730/0017-71"},{"$f":"'[2]Inventário Completo'!J557","v":80541767},{"$f":"'[2]Inventário Completo'!K557","v":"Rodovia BR 393, Lúcio Meira KM 5001, SN°, Vila Santa Cecília, Volta Redonda"},{"$f":"'[2]Inventário Completo'!L557","v":"Luiz Cesar"},{"$f":"'[2]Inventário Completo'!M557","v":3105},{"$f":"'[2]Inventário Completo'!N557","v":0},{"$f":"'[2]Inventário Completo'!O557","v":0},{"$f":"'[2]Inventário Completo'!P557","v":0},{"$f":"'[2]Inventário Completo'!Q557","v":0}]
[{"$f":"'[2]Inventário Completo'!A558","v":"JCVR0016"},{"$f":"'[2]Inventário Completo'!B558","v":5274376},{"$f":"'[2]Inventário Completo'!C558","v":"Impressora Térmicas"},{"$f":"'[2]Inventário Completo'!D558","v":"S600"},{"$f":"'[2]Inventário Completo'!E558","v":"Zebra"},{"$f":"'[2]Inventário Completo'!F558","v":"COMPANHIA SIDERURGICA NACIONAL"},{"$f":"'[2]Inventário Completo'!G558","v":"CSN-VOLTA REDONDA"},{"$f":"'[2]Inventário Completo'!H558","v":"RJ"},{"$f":"'[2]Inventário Completo'!I558","v":"33.042.730/0017-71"},{"$f":"'[2]Inventário Completo'!J558","v":80541767},{"$f":"'[2]Inventário Completo'!K558","v":"Rodovia BR 393, Lúcio Meira KM 5001, SN°, Vila Santa Cecília, Volta Redonda"},{"$f":"'[2]Inventário Completo'!L558","v":"Luiz Cesar"},{"$f":"'[2]Inventário Completo'!M558","v":3105},{"$f":"'[2]Inventário Completo'!N558","v":0},{"$f":"'[2]Inventário Completo'!O558","v":0},{"$f":"'[2]Inventário Completo'!P558","v":0},{"$f":"'[2]Inventário Completo'!Q558","v":0}]
[{"$f":"'[2]Inventário Completo'!A559","v":"JCVR0017"},{"$f":"'[2]Inventário Completo'!B559","v":5295953},{"$f":"'[2]Inventário Completo'!C559","v":"Impressora Térmicas"},{"$f":"'[2]Inventário Completo'!D559","v":"S600"},{"$f":"'[2]Inventário Completo'!E559","v":"Zebra"},{"$f":"'[2]Inventário Completo'!F559","v":"COMPANHIA SIDERURGICA NACIONAL"},{"$f":"'[2]Inventário Completo'!G559","v":"CSN-VOLTA REDONDA"},{"$f":"'[2]Inventário Completo'!H559","v":"RJ"},{"$f":"'[2]Inventário Completo'!I559","v":"33.042.730/0017-71"},{"$f":"'[2]Inventário Completo'!J559","v":80541767},{"$f":"'[2]Inventário Completo'!K559","v":"Rodovia BR 393, Lúcio Meira KM 5001, SN°, Vila Santa Cecília, Volta Redonda"},{"$f":"'[2]Inventário Completo'!L559","v":"Luiz Cesar"},{"$f":"'[2]Inventário Completo'!M559","v":3105},{"$f":"'[2]Inventário Completo'!N559","v":0},{"$f":"'[2]Inventário Completo'!O559","v":0},{"$f":"'[2]Inventário Completo'!P559","v":0},{"$f":"'[2]Inventário Completo'!Q559","v":0}]
[{"$f":"'[2]Inventário Completo'!A560","v":"JCVR0018"},{"$f":"'[2]Inventário Completo'!B560","v":5301100},{"$f":"'[2]Inventário Completo'!C560","v":"Impressora Térmicas"},{"$f":"'[2]Inventário Completo'!D560","v":"S600"},{"$f":"'[2]Inventário Completo'!E560","v":"Zebra"},{"$f":"'[2]Inventário Completo'!F560","v":"COMPANHIA SIDERURGICA NACIONAL"},{"$f":"'[2]Inventário Completo'!G560","v":"CSN-VOLTA REDONDA"},{"$f":"'[2]Inventário Completo'!H560","v":"RJ"},{"$f":"'[2]Inventário Completo'!I560","v":"33.042.730/0017-71"},{"$f":"'[2]Inventário Completo'!J560","v":80541767},{"$f":"'[2]Inventário Completo'!K560","v":"Rodovia BR 393, Lúcio Meira KM 5001, SN°, Vila Santa Cecília, Volta Redonda"},{"$f":"'[2]Inventário Completo'!L560","v":"Luiz Cesar"},{"$f":"'[2]Inventário Completo'!M560","v":3105},{"$f":"'[2]Inventário Completo'!N560","v":0},{"$f":"'[2]Inventário Completo'!O560","v":0},{"$f":"'[2]Inventário Completo'!P560","v":0},{"$f":"'[2]Inventário Completo'!Q560","v":0}]
[{"$f":"'[2]Inventário Completo'!A561","v":"JCVR0095"},{"$f":"'[2]Inventário Completo'!B561","v":"91J09390066"},{"$f":"'[2]Inventário Completo'!C561","v":"Impressora Térmicas"},{"$f":"'[2]Inventário Completo'!D561","v":"Z110 Xi3"},{"$f":"'[2]Inventário Completo'!E561","v":"Zebra"},{"$f":"'[2]Inventário Completo'!F561","v":"COMPANHIA SIDERURGICA NACIONAL"},{"$f":"'[2]Inventário Completo'!G561","v":"CSN-VOLTA REDONDA"},{"$f":"'[2]Inventário Completo'!H561","v":"RJ"},{"$f":"'[2]Inventário Completo'!I561","v":"33.042.730/0017-71"},{"$f":"'[2]Inventário Completo'!J561","v":80541767},{"$f":"'[2]Inventário Completo'!K561","v":"Rodovia BR 393, Lúcio Meira KM 5001, SN°, Vila Santa Cecília, Volta Redonda"},{"$f":"'[2]Inventário Completo'!L561","v":"Luiz Cesar"},{"$f":"'[2]Inventário Completo'!M561","v":3105},{"$f":"'[2]Inventário Completo'!N561","v":0},{"$f":"'[2]Inventário Completo'!O561","v":0},{"$f":"'[2]Inventário Completo'!P561","v":0},{"$f":"'[2]Inventário Completo'!Q561","v":0}]
[{"$f":"'[2]Inventário Completo'!A562","v":"JCVR0131"},{"$f":"'[2]Inventário Completo'!B562","v":"91J09390062"},{"$f":"'[2]Inventário Completo'!C562","v":"Impressora Térmicas"},{"$f":"'[2]Inventário Completo'!D562","v":"Z110 Xi3"},{"$f":"'[2]Inventário Completo'!E562","v":"Zebra"},{"$f":"'[2]Inventário Completo'!F562","v":"COMPANHIA SIDERURGICA NACIONAL"},{"$f":"'[2]Inventário Completo'!G562","v":"CSN-VOLTA REDONDA"},{"$f":"'[2]Inventário Completo'!H562","v":"RJ"},{"$f":"'[2]Inventário Completo'!I562","v":"33.042.730/0017-71"},{"$f":"'[2]Inventário Completo'!J562","v":80541767},{"$f":"'[2]Inventário Completo'!K562","v":"Rodovia BR 393, Lúcio Meira KM 5001, SN°, Vila Santa Cecília, Volta Redonda"},{"$f":"'[2]Inventário Completo'!L562","v":"Luiz Cesar"},{"$f":"'[2]Inventário Completo'!M562","v":3105},{"$f":"'[2]Inventário Completo'!N562","v":0},{"$f":"'[2]Inventário Completo'!O562","v":0},{"$f":"'[2]Inventário Completo'!P562","v":0},{"$f":"'[2]Inventário Completo'!Q562","v":0}]
[{"$f":"'[2]Inventário Completo'!A563","v":"JCVR0025"},{"$f":"'[2]Inventário Completo'!B563","v":"91C03250107"},{"$f":"'[2]Inventário Completo'!C563","v":"Impressora Térmicas"},{"$f":"'[2]Inventário Completo'!D563","v":"Z110 Xi3"},{"$f":"'[2]Inventário Completo'!E563","v":"Zebra"},{"$f":"'[2]Inventário Completo'!F563","v":"COMPANHIA SIDERURGICA NACIONAL"},{"$f":"'[2]Inventário Completo'!G563","v":"CSN-VOLTA REDONDA"},{"$f":"'[2]Inventário Completo'!H563","v":"RJ"},{"$f":"'[2]Inventário Completo'!I563","v":"33.042.730/0017-71"},{"$f":"'[2]Inventário Completo'!J563","v":80541767},{"$f":"'[2]Inventário Completo'!K563","v":"Rodovia BR 393, Lúcio Meira KM 5001, SN°, Vila Santa Cecília, Volta Redonda"},{"$f":"'[2]Inventário Completo'!L563","v":"Luiz Cesar"},{"$f":"'[2]Inventário Completo'!M563","v":3105},{"$f":"'[2]Inventário Completo'!N563","v":0},{"$f":"'[2]Inventário Completo'!O563","v":0},{"$f":"'[2]Inventário Completo'!P563","v":0},{"$f":"'[2]Inventário Completo'!Q563","v":0}]
[{"$f":"'[2]Inventário Completo'!A564","v":"JCVR0040"},{"$f":"'[2]Inventário Completo'!B564","v":"91C04370122"},{"$f":"'[2]Inventário Completo'!C564","v":"Impressora Térmicas"},{"$f":"'[2]Inventário Completo'!D564","v":"Z110 Xi3"},{"$f":"'[2]Inventário Completo'!E564","v":"Zebra"},{"$f":"'[2]Inventário Completo'!F564","v":"COMPANHIA SIDERURGICA NACIONAL"},{"$f":"'[2]Inventário Completo'!G564","v":"CSN-VOLTA REDONDA"},{"$f":"'[2]Inventário Completo'!H564","v":"RJ"},{"$f":"'[2]Inventário Completo'!I564","v":"33.042.730/0017-71"},{"$f":"'[2]Inventário Completo'!J564","v":80541767},{"$f":"'[2]Inventário Completo'!K564","v":"Rodovia BR 393, Lúcio Meira KM 5001, SN°, Vila Santa Cecília, Volta Redonda"},{"$f":"'[2]Inventário Completo'!L564","v":"Luiz Cesar"},{"$f":"'[2]Inventário Completo'!M564","v":3105},{"$f":"'[2]Inventário Completo'!N564","v":0},{"$f":"'[2]Inventário Completo'!O564","v":0},{"$f":"'[2]Inventário Completo'!P564","v":0},{"$f":"'[2]Inventário Completo'!Q564","v":0}]
[{"$f":"'[2]Inventário Completo'!A565","v":"JCVR0041"},{"$f":"'[2]Inventário Completo'!B565","v":"91C04370123"},{"$f":"'[2]Inventário Completo'!C565","v":"Impressora Térmicas"},{"$f":"'[2]Inventário Completo'!D565","v":"Z110 Xi3"},{"$f":"'[2]Inventário Completo'!E565","v":"Zebra"},{"$f":"'[2]Inventário Completo'!F565","v":"COMPANHIA SIDERURGICA NACIONAL"},{"$f":"'[2]Inventário Completo'!G565","v":"CSN-VOLTA REDONDA"},{"$f":"'[2]Inventário Completo'!H565","v":"RJ"},{"$f":"'[2]Inventário Completo'!I565","v":"33.042.730/0017-71"},{"$f":"'[2]Inventário Completo'!J565","v":80541767},{"$f":"'[2]Inventário Completo'!K565","v":"Rodovia BR 393, Lúcio Meira KM 5001, SN°, Vila Santa Cecília, Volta Redonda"},{"$f":"'[2]Inventário Completo'!L565","v":"Luiz Cesar"},{"$f":"'[2]Inventário Completo'!M565","v":3105},{"$f":"'[2]Inventário Completo'!N565","v":0},{"$f":"'[2]Inventário Completo'!O565","v":0},{"$f":"'[2]Inventário Completo'!P565","v":0},{"$f":"'[2]Inventário Completo'!Q565","v":0}]
[{"$f":"'[2]Inventário Completo'!A566","v":"JCVR0050"},{"$f":"'[2]Inventário Completo'!B566","v":"91C07410007"},{"$f":"'[2]Inventário Completo'!C566","v":"Impressora Térmicas"},{"$f":"'[2]Inventário Completo'!D566","v":"Z110 Xi3"},{"$f":"'[2]Inventário Completo'!E566","v":"Zebra"},{"$f":"'[2]Inventário Completo'!F566","v":"COMPANHIA SIDERURGICA NACIONAL"},{"$f":"'[2]Inventário Completo'!G566","v":"CSN-VOLTA REDONDA"},{"$f":"'[2]Inventário Completo'!H566","v":"RJ"},{"$f":"'[2]Inventário Completo'!I566","v":"33.042.730/0017-71"},{"$f":"'[2]Inventário Completo'!J566","v":80541767},{"$f":"'[2]Inventário Completo'!K566","v":"Rodovia BR 393, Lúcio Meira KM 5001, SN°, Vila Santa Cecília, Volta Redonda"},{"$f":"'[2]Inventário Completo'!L566","v":"Luiz Cesar"},{"$f":"'[2]Inventário Completo'!M566","v":3105},{"$f":"'[2]Inventário Completo'!N566","v":0},{"$f":"'[2]Inventário Completo'!O566","v":0},{"$f":"'[2]Inventário Completo'!P566","v":0},{"$f":"'[2]Inventário Completo'!Q566","v":0}]
[{"$f":"'[2]Inventário Completo'!A567","v":"JCVR0019"},{"$f":"'[2]Inventário Completo'!B567","v":"91C03210059"},{"$f":"'[2]Inventário Completo'!C567","v":"Impressora Térmicas"},{"$f":"'[2]Inventário Completo'!D567","v":"Z110 Xi3"},{"$f":"'[2]Inventário Completo'!E567","v":"Zebra"},{"$f":"'[2]Inventário Completo'!F567","v":"COMPANHIA SIDERURGICA NACIONAL"},{"$f":"'[2]Inventário Completo'!G567","v":"CSN-VOLTA REDONDA"},{"$f":"'[2]Inventário Completo'!H567","v":"RJ"},{"$f":"'[2]Inventário Completo'!I567","v":"33.042.730/0017-71"},{"$f":"'[2]Inventário Completo'!J567","v":80541767},{"$f":"'[2]Inventário Completo'!K567","v":"Rodovia BR 393, Lúcio Meira KM 5001, SN°, Vila Santa Cecília, Volta Redonda"},{"$f":"'[2]Inventário Completo'!L567","v":"Luiz Cesar"},{"$f":"'[2]Inventário Completo'!M567","v":3105},{"$f":"'[2]Inventário Completo'!N567","v":0},{"$f":"'[2]Inventário Completo'!O567","v":0},{"$f":"'[2]Inventário Completo'!P567","v":0},{"$f":"'[2]Inventário Completo'!Q567","v":0}]
[{"$f":"'[2]Inventário Completo'!A568","v":"JCVR0052"},{"$f":"'[2]Inventário Completo'!B568","v":"91C09260127"},{"$f":"'[2]Inventário Completo'!C568","v":"Impressora Térmicas"},{"$f":"'[2]Inventário Completo'!D568","v":"Z110 Xi3"},{"$f":"'[2]Inventário Completo'!E568","v":"Zebra"},{"$f":"'[2]Inventário Completo'!F568","v":"COMPANHIA SIDERURGICA NACIONAL"},{"$f":"'[2]Inventário Completo'!G568","v":"CSN-VOLTA REDONDA"},{"$f":"'[2]Inventário Completo'!H568","v":"RJ"},{"$f":"'[2]Inventário Completo'!I568","v":"33.042.730/0017-71"},{"$f":"'[2]Inventário Completo'!J568","v":80541767},{"$f":"'[2]Inventário Completo'!K568","v":"Rodovia BR 393, Lúcio Meira KM 5001, SN°, Vila Santa Cecília, Volta Redonda"},{"$f":"'[2]Inventário Completo'!L568","v":"Luiz Cesar"},{"$f":"'[2]Inventário Completo'!M568","v":3105},{"$f":"'[2]Inventário Completo'!N568","v":0},{"$f":"'[2]Inventário Completo'!O568","v":0},{"$f":"'[2]Inventário Completo'!P568","v":0},{"$f":"'[2]Inventário Completo'!Q568","v":0}]
[{"$f":"'[2]Inventário Completo'!A569","v":"JCVR0032"},{"$f":"'[2]Inventário Completo'!B569","v":"91C03330066"},{"$f":"'[2]Inventário Completo'!C569","v":"Impressora Térmicas"},{"$f":"'[2]Inventário Completo'!D569","v":"Z110 Xi3"},{"$f":"'[2]Inventário Completo'!E569","v":"Zebra"},{"$f":"'[2]Inventário Completo'!F569","v":"COMPANHIA SIDERURGICA NACIONAL"},{"$f":"'[2]Inventário Completo'!G569","v":"CSN-VOLTA REDONDA"},{"$f":"'[2]Inventário Completo'!H569","v":"RJ"},{"$f":"'[2]Inventário Completo'!I569","v":"33.042.730/0017-71"},{"$f":"'[2]Inventário Completo'!J569","v":80541767},{"$f":"'[2]Inventário Completo'!K569","v":"Rodovia BR 393, Lúcio Meira KM 5001, SN°, Vila Santa Cecília, Volta Redonda"},{"$f":"'[2]Inventário Completo'!L569","v":"Luiz Cesar"},{"$f":"'[2]Inventário Completo'!M569","v":3105},{"$f":"'[2]Inventário Completo'!N569","v":0},{"$f":"'[2]Inventário Completo'!O569","v":0},{"$f":"'[2]Inventário Completo'!P569","v":0},{"$f":"'[2]Inventário Completo'!Q569","v":0}]
[{"$f":"'[2]Inventário Completo'!A570","v":"JCVR0020"},{"$f":"'[2]Inventário Completo'!B570","v":"91C03210062"},{"$f":"'[2]Inventário Completo'!C570","v":"Impressora Térmicas"},{"$f":"'[2]Inventário Completo'!D570","v":"Z110 Xi3"},{"$f":"'[2]Inventário Completo'!E570","v":"Zebra"},{"$f":"'[2]Inventário Completo'!F570","v":"COMPANHIA SIDERURGICA NACIONAL"},{"$f":"'[2]Inventário Completo'!G570","v":"CSN-VOLTA REDONDA"},{"$f":"'[2]Inventário Completo'!H570","v":"RJ"},{"$f":"'[2]Inventário Completo'!I570","v":"33.042.730/0017-71"},{"$f":"'[2]Inventário Completo'!J570","v":80541767},{"$f":"'[2]Inventário Completo'!K570","v":"Rodovia BR 393, Lúcio Meira KM 5001, SN°, Vila Santa Cecília, Volta Redonda"},{"$f":"'[2]Inventário Completo'!L570","v":"Luiz Cesar"},{"$f":"'[2]Inventário Completo'!M570","v":3105},{"$f":"'[2]Inventário Completo'!N570","v":0},{"$f":"'[2]Inventário Completo'!O570","v":0},{"$f":"'[2]Inventário Completo'!P570","v":0},{"$f":"'[2]Inventário Completo'!Q570","v":0}]
[{"$f":"'[2]Inventário Completo'!A571","v":"JCVR0021"},{"$f":"'[2]Inventário Completo'!B571","v":"91C03210063"},{"$f":"'[2]Inventário Completo'!C571","v":"Impressora Térmicas"},{"$f":"'[2]Inventário Completo'!D571","v":"Z110 Xi3"},{"$f":"'[2]Inventário Completo'!E571","v":"Zebra"},{"$f":"'[2]Inventário Completo'!F571","v":"COMPANHIA SIDERURGICA NACIONAL"},{"$f":"'[2]Inventário Completo'!G571","v":"CSN-VOLTA REDONDA"},{"$f":"'[2]Inventário Completo'!H571","v":"RJ"},{"$f":"'[2]Inventário Completo'!I571","v":"33.042.730/0017-71"},{"$f":"'[2]Inventário Completo'!J571","v":80541767},{"$f":"'[2]Inventário Completo'!K571","v":"Rodovia BR 393, Lúcio Meira KM 5001, SN°, Vila Santa Cecília, Volta Redonda"},{"$f":"'[2]Inventário Completo'!L571","v":"Luiz Cesar"},{"$f":"'[2]Inventário Completo'!M571","v":3105},{"$f":"'[2]Inventário Completo'!N571","v":0},{"$f":"'[2]Inventário Completo'!O571","v":0},{"$f":"'[2]Inventário Completo'!P571","v":0},{"$f":"'[2]Inventário Completo'!Q571","v":0}]
[{"$f":"'[2]Inventário Completo'!A572","v":"JCVR0022"},{"$f":"'[2]Inventário Completo'!B572","v":"91C03210110"},{"$f":"'[2]Inventário Completo'!C572","v":"Impressora Térmicas"},{"$f":"'[2]Inventário Completo'!D572","v":"Z110 Xi3"},{"$f":"'[2]Inventário Completo'!E572","v":"Zebra"},{"$f":"'[2]Inventário Completo'!F572","v":"COMPANHIA SIDERURGICA NACIONAL"},{"$f":"'[2]Inventário Completo'!G572","v":"CSN-VOLTA REDONDA"},{"$f":"'[2]Inventário Completo'!H572","v":"RJ"},{"$f":"'[2]Inventário Completo'!I572","v":"33.042.730/0017-71"},{"$f":"'[2]Inventário Completo'!J572","v":80541767},{"$f":"'[2]Inventário Completo'!K572","v":"Rodovia BR 393, Lúcio Meira KM 5001, SN°, Vila Santa Cecília, Volta Redonda"},{"$f":"'[2]Inventário Completo'!L572","v":"Luiz Cesar"},{"$f":"'[2]Inventário Completo'!M572","v":3105},{"$f":"'[2]Inventário Completo'!N572","v":0},{"$f":"'[2]Inventário Completo'!O572","v":0},{"$f":"'[2]Inventário Completo'!P572","v":0},{"$f":"'[2]Inventário Completo'!Q572","v":0}]
[{"$f":"'[2]Inventário Completo'!A573","v":"JCVR0023"},{"$f":"'[2]Inventário Completo'!B573","v":"91C04370121"},{"$f":"'[2]Inventário Completo'!C573","v":"Impressora Térmicas"},{"$f":"'[2]Inventário Completo'!D573","v":"Z110 Xi3"},{"$f":"'[2]Inventário Completo'!E573","v":"Zebra"},{"$f":"'[2]Inventário Completo'!F573","v":"COMPANHIA SIDERURGICA NACIONAL"},{"$f":"'[2]Inventário Completo'!G573","v":"CSN-VOLTA REDONDA"},{"$f":"'[2]Inventário Completo'!H573","v":"RJ"},{"$f":"'[2]Inventário Completo'!I573","v":"33.042.730/0017-71"},{"$f":"'[2]Inventário Completo'!J573","v":80541767},{"$f":"'[2]Inventário Completo'!K573","v":"Rodovia BR 393, Lúcio Meira KM 5001, SN°, Vila Santa Cecília, Volta Redonda"},{"$f":"'[2]Inventário Completo'!L573","v":"Luiz Cesar"},{"$f":"'[2]Inventário Completo'!M573","v":3105},{"$f":"'[2]Inventário Completo'!N573","v":0},{"$f":"'[2]Inventário Completo'!O573","v":0},{"$f":"'[2]Inventário Completo'!P573","v":0},{"$f":"'[2]Inventário Completo'!Q573","v":0}]
[{"$f":"'[2]Inventário Completo'!A574","v":"JCVR0026"},{"$f":"'[2]Inventário Completo'!B574","v":"91C03280102"},{"$f":"'[2]Inventário Completo'!C574","v":"Impressora Térmicas"},{"$f":"'[2]Inventário Completo'!D574","v":"Z110 Xi3"},{"$f":"'[2]Inventário Completo'!E574","v":"Zebra"},{"$f":"'[2]Inventário Completo'!F574","v":"COMPANHIA SIDERURGICA NACIONAL"},{"$f":"'[2]Inventário Completo'!G574","v":"CSN-VOLTA REDONDA"},{"$f":"'[2]Inventário Completo'!H574","v":"RJ"},{"$f":"'[2]Inventário Completo'!I574","v":"33.042.730/0017-71"},{"$f":"'[2]Inventário Completo'!J574","v":80541767},{"$f":"'[2]Inventário Completo'!K574","v":"Rodovia BR 393, Lúcio Meira KM 5001, SN°, Vila Santa Cecília, Volta Redonda"},{"$f":"'[2]Inventário Completo'!L574","v":"Luiz Cesar"},{"$f":"'[2]Inventário Completo'!M574","v":3105},{"$f":"'[2]Inventário Completo'!N574","v":0},{"$f":"'[2]Inventário Completo'!O574","v":0},{"$f":"'[2]Inventário Completo'!P574","v":0},{"$f":"'[2]Inventário Completo'!Q574","v":0}]
[{"$f":"'[2]Inventário Completo'!A575","v":"JCVR0027"},{"$f":"'[2]Inventário Completo'!B575","v":"91C03280105"},{"$f":"'[2]Inventário Completo'!C575","v":"Impressora Térmicas"},{"$f":"'[2]Inventário Completo'!D575","v":"Z110 Xi3"},{"$f":"'[2]Inventário Completo'!E575","v":"Zebra"},{"$f":"'[2]Inventário Completo'!F575","v":"COMPANHIA SIDERURGICA NACIONAL"},{"$f":"'[2]Inventário Completo'!G575","v":"CSN-VOLTA REDONDA"},{"$f":"'[2]Inventário Completo'!H575","v":"RJ"},{"$f":"'[2]Inventário Completo'!I575","v":"33.042.730/0017-71"},{"$f":"'[2]Inventário Completo'!J575","v":80541767},{"$f":"'[2]Inventário Completo'!K575","v":"Rodovia BR 393, Lúcio Meira KM 5001, SN°, Vila Santa Cecília, Volta Redonda"},{"$f":"'[2]Inventário Completo'!L575","v":"Luiz Cesar"},{"$f":"'[2]Inventário Completo'!M575","v":3105},{"$f":"'[2]Inventário Completo'!N575","v":0},{"$f":"'[2]Inventário Completo'!O575","v":0},{"$f":"'[2]Inventário Completo'!P575","v":0},{"$f":"'[2]Inventário Completo'!Q575","v":0}]
[{"$f":"'[2]Inventário Completo'!A576","v":"JCVR0028"},{"$f":"'[2]Inventário Completo'!B576","v":"91C03280107"},{"$f":"'[2]Inventário Completo'!C576","v":"Impressora Térmicas"},{"$f":"'[2]Inventário Completo'!D576","v":"Z110 Xi3"},{"$f":"'[2]Inventário Completo'!E576","v":"Zebra"},{"$f":"'[2]Inventário Completo'!F576","v":"COMPANHIA SIDERURGICA NACIONAL"},{"$f":"'[2]Inventário Completo'!G576","v":"CSN-VOLTA REDONDA"},{"$f":"'[2]Inventário Completo'!H576","v":"RJ"},{"$f":"'[2]Inventário Completo'!I576","v":"33.042.730/0017-71"},{"$f":"'[2]Inventário Completo'!J576","v":80541767},{"$f":"'[2]Inventário Completo'!K576","v":"Rodovia BR 393, Lúcio Meira KM 5001, SN°, Vila Santa Cecília, Volta Redonda"},{"$f":"'[2]Inventário Completo'!L576","v":"Luiz Cesar"},{"$f":"'[2]Inventário Completo'!M576","v":3105},{"$f":"'[2]Inventário Completo'!N576","v":0},{"$f":"'[2]Inventário Completo'!O576","v":0},{"$f":"'[2]Inventário Completo'!P576","v":0},{"$f":"'[2]Inventário Completo'!Q576","v":0}]
[{"$f":"'[2]Inventário Completo'!A577","v":"JCVR0029"},{"$f":"'[2]Inventário Completo'!B577","v":"91C03300127"},{"$f":"'[2]Inventário Completo'!C577","v":"Impressora Térmicas"},{"$f":"'[2]Inventário Completo'!D577","v":"Z110 Xi3"},{"$f":"'[2]Inventário Completo'!E577","v":"Zebra"},{"$f":"'[2]Inventário Completo'!F577","v":"COMPANHIA SIDERURGICA NACIONAL"},{"$f":"'[2]Inventário Completo'!G577","v":"CSN-VOLTA REDONDA"},{"$f":"'[2]Inventário Completo'!H577","v":"RJ"},{"$f":"'[2]Inventário Completo'!I577","v":"33.042.730/0017-71"},{"$f":"'[2]Inventário Completo'!J577","v":80541767},{"$f":"'[2]Inventário Completo'!K577","v":"Rodovia BR 393, Lúcio Meira KM 5001, SN°, Vila Santa Cecília, Volta Redonda"},{"$f":"'[2]Inventário Completo'!L577","v":"Luiz Cesar"},{"$f":"'[2]Inventário Completo'!M577","v":3105},{"$f":"'[2]Inventário Completo'!N577","v":0},{"$f":"'[2]Inventário Completo'!O577","v":0},{"$f":"'[2]Inventário Completo'!P577","v":0},{"$f":"'[2]Inventário Completo'!Q577","v":0}]
[{"$f":"'[2]Inventário Completo'!A578","v":"JCVR0031"},{"$f":"'[2]Inventário Completo'!B578","v":"91C03310078"},{"$f":"'[2]Inventário Completo'!C578","v":"Impressora Térmicas"},{"$f":"'[2]Inventário Completo'!D578","v":"Z110 Xi3"},{"$f":"'[2]Inventário Completo'!E578","v":"Zebra"},{"$f":"'[2]Inventário Completo'!F578","v":"COMPANHIA SIDERURGICA NACIONAL"},{"$f":"'[2]Inventário Completo'!G578","v":"CSN-VOLTA REDONDA"},{"$f":"'[2]Inventário Completo'!H578","v":"RJ"},{"$f":"'[2]Inventário Completo'!I578","v":"33.042.730/0017-71"},{"$f":"'[2]Inventário Completo'!J578","v":80541767},{"$f":"'[2]Inventário Completo'!K578","v":"Rodovia BR 393, Lúcio Meira KM 5001, SN°, Vila Santa Cecília, Volta Redonda"},{"$f":"'[2]Inventário Completo'!L578","v":"Luiz Cesar"},{"$f":"'[2]Inventário Completo'!M578","v":3105},{"$f":"'[2]Inventário Completo'!N578","v":0},{"$f":"'[2]Inventário Completo'!O578","v":0},{"$f":"'[2]Inventário Completo'!P578","v":0},{"$f":"'[2]Inventário Completo'!Q578","v":0}]
[{"$f":"'[2]Inventário Completo'!A579","v":"JCVR0034"},{"$f":"'[2]Inventário Completo'!B579","v":"91C03380055"},{"$f":"'[2]Inventário Completo'!C579","v":"Impressora Térmicas"},{"$f":"'[2]Inventário Completo'!D579","v":"Z110 Xi3"},{"$f":"'[2]Inventário Completo'!E579","v":"Zebra"},{"$f":"'[2]Inventário Completo'!F579","v":"COMPANHIA SIDERURGICA NACIONAL"},{"$f":"'[2]Inventário Completo'!G579","v":"CSN-VOLTA REDONDA"},{"$f":"'[2]Inventário Completo'!H579","v":"RJ"},{"$f":"'[2]Inventário Completo'!I579","v":"33.042.730/0017-71"},{"$f":"'[2]Inventário Completo'!J579","v":80541767},{"$f":"'[2]Inventário Completo'!K579","v":"Rodovia BR 393, Lúcio Meira KM 5001, SN°, Vila Santa Cecília, Volta Redonda"},{"$f":"'[2]Inventário Completo'!L579","v":"Luiz Cesar"},{"$f":"'[2]Inventário Completo'!M579","v":3105},{"$f":"'[2]Inventário Completo'!N579","v":0},{"$f":"'[2]Inventário Completo'!O579","v":0},{"$f":"'[2]Inventário Completo'!P579","v":0},{"$f":"'[2]Inventário Completo'!Q579","v":0}]
[{"$f":"'[2]Inventário Completo'!A580","v":"JCVR0036"},{"$f":"'[2]Inventário Completo'!B580","v":"91C04370118"},{"$f":"'[2]Inventário Completo'!C580","v":"Impressora Térmicas"},{"$f":"'[2]Inventário Completo'!D580","v":"Z110 Xi3"},{"$f":"'[2]Inventário Completo'!E580","v":"Zebra"},{"$f":"'[2]Inventário Completo'!F580","v":"COMPANHIA SIDERURGICA NACIONAL"},{"$f":"'[2]Inventário Completo'!G580","v":"CSN-VOLTA REDONDA"},{"$f":"'[2]Inventário Completo'!H580","v":"RJ"},{"$f":"'[2]Inventário Completo'!I580","v":"33.042.730/0017-71"},{"$f":"'[2]Inventário Completo'!J580","v":80541767},{"$f":"'[2]Inventário Completo'!K580","v":"Rodovia BR 393, Lúcio Meira KM 5001, SN°, Vila Santa Cecília, Volta Redonda"},{"$f":"'[2]Inventário Completo'!L580","v":"Luiz Cesar"},{"$f":"'[2]Inventário Completo'!M580","v":3105},{"$f":"'[2]Inventário Completo'!N580","v":0},{"$f":"'[2]Inventário Completo'!O580","v":0},{"$f":"'[2]Inventário Completo'!P580","v":0},{"$f":"'[2]Inventário Completo'!Q580","v":0}]
[{"$f":"'[2]Inventário Completo'!A581","v":"JCVR0038"},{"$f":"'[2]Inventário Completo'!B581","v":"91C04370120"},{"$f":"'[2]Inventário Completo'!C581","v":"Impressora Térmicas"},{"$f":"'[2]Inventário Completo'!D581","v":"Z110 Xi3"},{"$f":"'[2]Inventário Completo'!E581","v":"Zebra"},{"$f":"'[2]Inventário Completo'!F581","v":"COMPANHIA SIDERURGICA NACIONAL"},{"$f":"'[2]Inventário Completo'!G581","v":"CSN-VOLTA REDONDA"},{"$f":"'[2]Inventário Completo'!H581","v":"RJ"},{"$f":"'[2]Inventário Completo'!I581","v":"33.042.730/0017-71"},{"$f":"'[2]Inventário Completo'!J581","v":80541767},{"$f":"'[2]Inventário Completo'!K581","v":"Rodovia BR 393, Lúcio Meira KM 5001, SN°, Vila Santa Cecília, Volta Redonda"},{"$f":"'[2]Inventário Completo'!L581","v":"Luiz Cesar"},{"$f":"'[2]Inventário Completo'!M581","v":3105},{"$f":"'[2]Inventário Completo'!N581","v":0},{"$f":"'[2]Inventário Completo'!O581","v":0},{"$f":"'[2]Inventário Completo'!P581","v":0},{"$f":"'[2]Inventário Completo'!Q581","v":0}]
[{"$f":"'[2]Inventário Completo'!A582","v":"JCVR0043"},{"$f":"'[2]Inventário Completo'!B582","v":"91C04370125"},{"$f":"'[2]Inventário Completo'!C582","v":"Impressora Térmicas"},{"$f":"'[2]Inventário Completo'!D582","v":"Z110 Xi3"},{"$f":"'[2]Inventário Completo'!E582","v":"Zebra"},{"$f":"'[2]Inventário Completo'!F582","v":"COMPANHIA SIDERURGICA NACIONAL"},{"$f":"'[2]Inventário Completo'!G582","v":"CSN-VOLTA REDONDA"},{"$f":"'[2]Inventário Completo'!H582","v":"RJ"},{"$f":"'[2]Inventário Completo'!I582","v":"33.042.730/0017-71"},{"$f":"'[2]Inventário Completo'!J582","v":80541767},{"$f":"'[2]Inventário Completo'!K582","v":"Rodovia BR 393, Lúcio Meira KM 5001, SN°, Vila Santa Cecília, Volta Redonda"},{"$f":"'[2]Inventário Completo'!L582","v":"Luiz Cesar"},{"$f":"'[2]Inventário Completo'!M582","v":3105},{"$f":"'[2]Inventário Completo'!N582","v":0},{"$f":"'[2]Inventário Completo'!O582","v":0},{"$f":"'[2]Inventário Completo'!P582","v":0},{"$f":"'[2]Inventário Completo'!Q582","v":0}]
[{"$f":"'[2]Inventário Completo'!A583","v":"JCVR0044"},{"$f":"'[2]Inventário Completo'!B583","v":"91C04370126"},{"$f":"'[2]Inventário Completo'!C583","v":"Impressora Térmicas"},{"$f":"'[2]Inventário Completo'!D583","v":"Z110 Xi3"},{"$f":"'[2]Inventário Completo'!E583","v":"Zebra"},{"$f":"'[2]Inventário Completo'!F583","v":"COMPANHIA SIDERURGICA NACIONAL"},{"$f":"'[2]Inventário Completo'!G583","v":"CSN-VOLTA REDONDA"},{"$f":"'[2]Inventário Completo'!H583","v":"RJ"},{"$f":"'[2]Inventário Completo'!I583","v":"33.042.730/0017-71"},{"$f":"'[2]Inventário Completo'!J583","v":80541767},{"$f":"'[2]Inventário Completo'!K583","v":"Rodovia BR 393, Lúcio Meira KM 5001, SN°, Vila Santa Cecília, Volta Redonda"},{"$f":"'[2]Inventário Completo'!L583","v":"Luiz Cesar"},{"$f":"'[2]Inventário Completo'!M583","v":3105},{"$f":"'[2]Inventário Completo'!N583","v":0},{"$f":"'[2]Inventário Completo'!O583","v":0},{"$f":"'[2]Inventário Completo'!P583","v":0},{"$f":"'[2]Inventário Completo'!Q583","v":0}]
[{"$f":"'[2]Inventário Completo'!A584","v":"JCVR0045"},{"$f":"'[2]Inventário Completo'!B584","v":"91C04370127"},{"$f":"'[2]Inventário Completo'!C584","v":"Impressora Térmicas"},{"$f":"'[2]Inventário Completo'!D584","v":"Z110 Xi3"},{"$f":"'[2]Inventário Completo'!E584","v":"Zebra"},{"$f":"'[2]Inventário Completo'!F584","v":"COMPANHIA SIDERURGICA NACIONAL"},{"$f":"'[2]Inventário Completo'!G584","v":"CSN-VOLTA REDONDA"},{"$f":"'[2]Inventário Completo'!H584","v":"RJ"},{"$f":"'[2]Inventário Completo'!I584","v":"33.042.730/0017-71"},{"$f":"'[2]Inventário Completo'!J584","v":80541767},{"$f":"'[2]Inventário Completo'!K584","v":"Rodovia BR 393, Lúcio Meira KM 5001, SN°, Vila Santa Cecília, Volta Redonda"},{"$f":"'[2]Inventário Completo'!L584","v":"Luiz Cesar"},{"$f":"'[2]Inventário Completo'!M584","v":3105},{"$f":"'[2]Inventário Completo'!N584","v":0},{"$f":"'[2]Inventário Completo'!O584","v":0},{"$f":"'[2]Inventário Completo'!P584","v":0},{"$f":"'[2]Inventário Completo'!Q584","v":0}]
[{"$f":"'[2]Inventário Completo'!A585","v":"JCVR0046"},{"$f":"'[2]Inventário Completo'!B585","v":"91C04370128"},{"$f":"'[2]Inventário Completo'!C585","v":"Impressora Térmicas"},{"$f":"'[2]Inventário Completo'!D585","v":"Z110 Xi3"},{"$f":"'[2]Inventário Completo'!E585","v":"Zebra"},{"$f":"'[2]Inventário Completo'!F585","v":"COMPANHIA SIDERURGICA NACIONAL"},{"$f":"'[2]Inventário Completo'!G585","v":"CSN-VOLTA REDONDA"},{"$f":"'[2]Inventário Completo'!H585","v":"RJ"},{"$f":"'[2]Inventário Completo'!I585","v":"33.042.730/0017-71"},{"$f":"'[2]Inventário Completo'!J585","v":80541767},{"$f":"'[2]Inventário Completo'!K585","v":"Rodovia BR 393, Lúcio Meira KM 5001, SN°, Vila Santa Cecília, Volta Redonda"},{"$f":"'[2]Inventário Completo'!L585","v":"Luiz Cesar"},{"$f":"'[2]Inventário Completo'!M585","v":3105},{"$f":"'[2]Inventário Completo'!N585","v":0},{"$f":"'[2]Inventário Completo'!O585","v":0},{"$f":"'[2]Inventário Completo'!P585","v":0},{"$f":"'[2]Inventário Completo'!Q585","v":0}]
[{"$f":"'[2]Inventário Completo'!A586","v":"JCVR0047"},{"$f":"'[2]Inventário Completo'!B586","v":"91C04370129"},{"$f":"'[2]Inventário Completo'!C586","v":"Impressora Térmicas"},{"$f":"'[2]Inventário Completo'!D586","v":"Z110 Xi3"},{"$f":"'[2]Inventário Completo'!E586","v":"Zebra"},{"$f":"'[2]Inventário Completo'!F586","v":"COMPANHIA SIDERURGICA NACIONAL"},{"$f":"'[2]Inventário Completo'!G586","v":"CSN-VOLTA REDONDA"},{"$f":"'[2]Inventário Completo'!H586","v":"RJ"},{"$f":"'[2]Inventário Completo'!I586","v":"33.042.730/0017-71"},{"$f":"'[2]Inventário Completo'!J586","v":80541767},{"$f":"'[2]Inventário Completo'!K586","v":"Rodovia BR 393, Lúcio Meira KM 5001, SN°, Vila Santa Cecília, Volta Redonda"},{"$f":"'[2]Inventário Completo'!L586","v":"Luiz Cesar"},{"$f":"'[2]Inventário Completo'!M586","v":3105},{"$f":"'[2]Inventário Completo'!N586","v":0},{"$f":"'[2]Inventário Completo'!O586","v":0},{"$f":"'[2]Inventário Completo'!P586","v":0},{"$f":"'[2]Inventário Completo'!Q586","v":0}]
[{"$f":"'[2]Inventário Completo'!A587","v":"JCVR0048"},{"$f":"'[2]Inventário Completo'!B587","v":"91C04370130"},{"$f":"'[2]Inventário Completo'!C587","v":"Impressora Térmicas"},{"$f":"'[2]Inventário Completo'!D587","v":"Z110 Xi3"},{"$f":"'[2]Inventário Completo'!E587","v":"Zebra"},{"$f":"'[2]Inventário Completo'!F587","v":"COMPANHIA SIDERURGICA NACIONAL"},{"$f":"'[2]Inventário Completo'!G587","v":"CSN-VOLTA REDONDA"},{"$f":"'[2]Inventário Completo'!H587","v":"RJ"},{"$f":"'[2]Inventário Completo'!I587","v":"33.042.730/0017-71"},{"$f":"'[2]Inventário Completo'!J587","v":80541767},{"$f":"'[2]Inventário Completo'!K587","v":"Rodovia BR 393, Lúcio Meira KM 5001, SN°, Vila Santa Cecília, Volta Redonda"},{"$f":"'[2]Inventário Completo'!L587","v":"Luiz Cesar"},{"$f":"'[2]Inventário Completo'!M587","v":3105},{"$f":"'[2]Inventário Completo'!N587","v":0},{"$f":"'[2]Inventário Completo'!O587","v":0},{"$f":"'[2]Inventário Completo'!P587","v":0},{"$f":"'[2]Inventário Completo'!Q587","v":0}]
[{"$f":"'[2]Inventário Completo'!A588","v":"JCVR0049"},{"$f":"'[2]Inventário Completo'!B588","v":"91C04370131"},{"$f":"'[2]Inventário Completo'!C588","v":"Impressora Térmicas"},{"$f":"'[2]Inventário Completo'!D588","v":"Z110 Xi3"},{"$f":"'[2]Inventário Completo'!E588","v":"Zebra"},{"$f":"'[2]Inventário Completo'!F588","v":"COMPANHIA SIDERURGICA NACIONAL"},{"$f":"'[2]Inventário Completo'!G588","v":"CSN-VOLTA REDONDA"},{"$f":"'[2]Inventário Completo'!H588","v":"RJ"},{"$f":"'[2]Inventário Completo'!I588","v":"33.042.730/0017-71"},{"$f":"'[2]Inventário Completo'!J588","v":80541767},{"$f":"'[2]Inventário Completo'!K588","v":"Rodovia BR 393, Lúcio Meira KM 5001, SN°, Vila Santa Cecília, Volta Redonda"},{"$f":"'[2]Inventário Completo'!L588","v":"Luiz Cesar"},{"$f":"'[2]Inventário Completo'!M588","v":3105},{"$f":"'[2]Inventário Completo'!N588","v":0},{"$f":"'[2]Inventário Completo'!O588","v":0},{"$f":"'[2]Inventário Completo'!P588","v":0},{"$f":"'[2]Inventário Completo'!Q588","v":0}]
[{"$f":"'[2]Inventário Completo'!A589","v":"JCVR0051"},{"$f":"'[2]Inventário Completo'!B589","v":"91C09170109"},{"$f":"'[2]Inventário Completo'!C589","v":"Impressora Térmicas"},{"$f":"'[2]Inventário Completo'!D589","v":"Z110 Xi3"},{"$f":"'[2]Inventário Completo'!E589","v":"Zebra"},{"$f":"'[2]Inventário Completo'!F589","v":"COMPANHIA SIDERURGICA NACIONAL"},{"$f":"'[2]Inventário Completo'!G589","v":"CSN-VOLTA REDONDA"},{"$f":"'[2]Inventário Completo'!H589","v":"RJ"},{"$f":"'[2]Inventário Completo'!I589","v":"33.042.730/0017-71"},{"$f":"'[2]Inventário Completo'!J589","v":80541767},{"$f":"'[2]Inventário Completo'!K589","v":"Rodovia BR 393, Lúcio Meira KM 5001, SN°, Vila Santa Cecília, Volta Redonda"},{"$f":"'[2]Inventário Completo'!L589","v":"Luiz Cesar"},{"$f":"'[2]Inventário Completo'!M589","v":3105},{"$f":"'[2]Inventário Completo'!N589","v":0},{"$f":"'[2]Inventário Completo'!O589","v":0},{"$f":"'[2]Inventário Completo'!P589","v":0},{"$f":"'[2]Inventário Completo'!Q589","v":0}]
[{"$f":"'[2]Inventário Completo'!A590","v":"JCVR0081"},{"$f":"'[2]Inventário Completo'!B590","v":"91J09480198"},{"$f":"'[2]Inventário Completo'!C590","v":"Impressora Térmicas"},{"$f":"'[2]Inventário Completo'!D590","v":"Z110 Xi3"},{"$f":"'[2]Inventário Completo'!E590","v":"Zebra"},{"$f":"'[2]Inventário Completo'!F590","v":"COMPANHIA SIDERURGICA NACIONAL"},{"$f":"'[2]Inventário Completo'!G590","v":"CSN-VOLTA REDONDA"},{"$f":"'[2]Inventário Completo'!H590","v":"RJ"},{"$f":"'[2]Inventário Completo'!I590","v":"33.042.730/0017-71"},{"$f":"'[2]Inventário Completo'!J590","v":80541767},{"$f":"'[2]Inventário Completo'!K590","v":"Rodovia BR 393, Lúcio Meira KM 5001, SN°, Vila Santa Cecília, Volta Redonda"},{"$f":"'[2]Inventário Completo'!L590","v":"Luiz Cesar"},{"$f":"'[2]Inventário Completo'!M590","v":3105},{"$f":"'[2]Inventário Completo'!N590","v":0},{"$f":"'[2]Inventário Completo'!O590","v":0},{"$f":"'[2]Inventário Completo'!P590","v":0},{"$f":"'[2]Inventário Completo'!Q590","v":0}]
[{"$f":"'[2]Inventário Completo'!A591","v":"JCVR0087"},{"$f":"'[2]Inventário Completo'!B591","v":"91J10060263"},{"$f":"'[2]Inventário Completo'!C591","v":"Impressora Térmicas"},{"$f":"'[2]Inventário Completo'!D591","v":"Z110 Xi3"},{"$f":"'[2]Inventário Completo'!E591","v":"Zebra"},{"$f":"'[2]Inventário Completo'!F591","v":"COMPANHIA SIDERURGICA NACIONAL"},{"$f":"'[2]Inventário Completo'!G591","v":"CSN-VOLTA REDONDA"},{"$f":"'[2]Inventário Completo'!H591","v":"RJ"},{"$f":"'[2]Inventário Completo'!I591","v":"33.042.730/0017-71"},{"$f":"'[2]Inventário Completo'!J591","v":80541767},{"$f":"'[2]Inventário Completo'!K591","v":"Rodovia BR 393, Lúcio Meira KM 5001, SN°, Vila Santa Cecília, Volta Redonda"},{"$f":"'[2]Inventário Completo'!L591","v":"Luiz Cesar"},{"$f":"'[2]Inventário Completo'!M591","v":3105},{"$f":"'[2]Inventário Completo'!N591","v":0},{"$f":"'[2]Inventário Completo'!O591","v":0},{"$f":"'[2]Inventário Completo'!P591","v":0},{"$f":"'[2]Inventário Completo'!Q591","v":0}]
[{"$f":"'[2]Inventário Completo'!A592","v":"JCVR0042"},{"$f":"'[2]Inventário Completo'!B592","v":"91C04370124"},{"$f":"'[2]Inventário Completo'!C592","v":"Impressora Térmicas"},{"$f":"'[2]Inventário Completo'!D592","v":"Z110 Xi3"},{"$f":"'[2]Inventário Completo'!E592","v":"Zebra"},{"$f":"'[2]Inventário Completo'!F592","v":"COMPANHIA SIDERURGICA NACIONAL"},{"$f":"'[2]Inventário Completo'!G592","v":"CSN-VOLTA REDONDA"},{"$f":"'[2]Inventário Completo'!H592","v":"RJ"},{"$f":"'[2]Inventário Completo'!I592","v":"33.042.730/0017-71"},{"$f":"'[2]Inventário Completo'!J592","v":80541767},{"$f":"'[2]Inventário Completo'!K592","v":"Rodovia BR 393, Lúcio Meira KM 5001, SN°, Vila Santa Cecília, Volta Redonda"},{"$f":"'[2]Inventário Completo'!L592","v":"Luiz Cesar"},{"$f":"'[2]Inventário Completo'!M592","v":3105},{"$f":"'[2]Inventário Completo'!N592","v":0},{"$f":"'[2]Inventário Completo'!O592","v":0},{"$f":"'[2]Inventário Completo'!P592","v":0},{"$f":"'[2]Inventário Completo'!Q592","v":0}]
[{"$f":"'[2]Inventário Completo'!A593","v":"JCVR0057"},{"$f":"'[2]Inventário Completo'!B593","v":"14J130600296"},{"$f":"'[2]Inventário Completo'!C593","v":"Impressora Térmicas"},{"$f":"'[2]Inventário Completo'!D593","v":"Z110 Xi4"},{"$f":"'[2]Inventário Completo'!E593","v":"Zebra"},{"$f":"'[2]Inventário Completo'!F593","v":"COMPANHIA SIDERURGICA NACIONAL"},{"$f":"'[2]Inventário Completo'!G593","v":"CSN-VOLTA REDONDA"},{"$f":"'[2]Inventário Completo'!H593","v":"RJ"},{"$f":"'[2]Inventário Completo'!I593","v":"33.042.730/0017-71"},{"$f":"'[2]Inventário Completo'!J593","v":80541767},{"$f":"'[2]Inventário Completo'!K593","v":"Rodovia BR 393, Lúcio Meira KM 5001, SN°, Vila Santa Cecília, Volta Redonda"},{"$f":"'[2]Inventário Completo'!L593","v":"Luiz Cesar"},{"$f":"'[2]Inventário Completo'!M593","v":3105},{"$f":"'[2]Inventário Completo'!N593","v":0},{"$f":"'[2]Inventário Completo'!O593","v":0},{"$f":"'[2]Inventário Completo'!P593","v":0},{"$f":"'[2]Inventário Completo'!Q593","v":0}]
[{"$f":"'[2]Inventário Completo'!A594","v":"JCVR0058"},{"$f":"'[2]Inventário Completo'!B594","v":"14J131900782"},{"$f":"'[2]Inventário Completo'!C594","v":"Impressora Térmicas"},{"$f":"'[2]Inventário Completo'!D594","v":"Z110 Xi4"},{"$f":"'[2]Inventário Completo'!E594","v":"Zebra"},{"$f":"'[2]Inventário Completo'!F594","v":"COMPANHIA SIDERURGICA NACIONAL"},{"$f":"'[2]Inventário Completo'!G594","v":"CSN-VOLTA REDONDA"},{"$f":"'[2]Inventário Completo'!H594","v":"RJ"},{"$f":"'[2]Inventário Completo'!I594","v":"33.042.730/0017-71"},{"$f":"'[2]Inventário Completo'!J594","v":80541767},{"$f":"'[2]Inventário Completo'!K594","v":"Rodovia BR 393, Lúcio Meira KM 5001, SN°, Vila Santa Cecília, Volta Redonda"},{"$f":"'[2]Inventário Completo'!L594","v":"Luiz Cesar"},{"$f":"'[2]Inventário Completo'!M594","v":3105},{"$f":"'[2]Inventário Completo'!N594","v":0},{"$f":"'[2]Inventário Completo'!O594","v":0},{"$f":"'[2]Inventário Completo'!P594","v":0},{"$f":"'[2]Inventário Completo'!Q594","v":0}]
[{"$f":"'[2]Inventário Completo'!A595","v":"JCVR0061"},{"$f":"'[2]Inventário Completo'!B595","v":"14J131900813"},{"$f":"'[2]Inventário Completo'!C595","v":"Impressora Térmicas"},{"$f":"'[2]Inventário Completo'!D595","v":"Z110 Xi4"},{"$f":"'[2]Inventário Completo'!E595","v":"Zebra"},{"$f":"'[2]Inventário Completo'!F595","v":"COMPANHIA SIDERURGICA NACIONAL"},{"$f":"'[2]Inventário Completo'!G595","v":"CSN-VOLTA REDONDA"},{"$f":"'[2]Inventário Completo'!H595","v":"RJ"},{"$f":"'[2]Inventário Completo'!I595","v":"33.042.730/0017-71"},{"$f":"'[2]Inventário Completo'!J595","v":80541767},{"$f":"'[2]Inventário Completo'!K595","v":"Rodovia BR 393, Lúcio Meira KM 5001, SN°, Vila Santa Cecília, Volta Redonda"},{"$f":"'[2]Inventário Completo'!L595","v":"Luiz Cesar"},{"$f":"'[2]Inventário Completo'!M595","v":3105},{"$f":"'[2]Inventário Completo'!N595","v":0},{"$f":"'[2]Inventário Completo'!O595","v":0},{"$f":"'[2]Inventário Completo'!P595","v":0},{"$f":"'[2]Inventário Completo'!Q595","v":0}]
[{"$f":"'[2]Inventário Completo'!A596","v":"JCVR0060"},{"$f":"'[2]Inventário Completo'!B596","v":"14J131900790"},{"$f":"'[2]Inventário Completo'!C596","v":"Impressora Térmicas"},{"$f":"'[2]Inventário Completo'!D596","v":"Z110 Xi4"},{"$f":"'[2]Inventário Completo'!E596","v":"Zebra"},{"$f":"'[2]Inventário Completo'!F596","v":"COMPANHIA SIDERURGICA NACIONAL"},{"$f":"'[2]Inventário Completo'!G596","v":"CSN-VOLTA REDONDA"},{"$f":"'[2]Inventário Completo'!H596","v":"RJ"},{"$f":"'[2]Inventário Completo'!I596","v":"33.042.730/0017-71"},{"$f":"'[2]Inventário Completo'!J596","v":80541767},{"$f":"'[2]Inventário Completo'!K596","v":"Rodovia BR 393, Lúcio Meira KM 5001, SN°, Vila Santa Cecília, Volta Redonda"},{"$f":"'[2]Inventário Completo'!L596","v":"Luiz Cesar"},{"$f":"'[2]Inventário Completo'!M596","v":3105},{"$f":"'[2]Inventário Completo'!N596","v":0},{"$f":"'[2]Inventário Completo'!O596","v":0},{"$f":"'[2]Inventário Completo'!P596","v":0},{"$f":"'[2]Inventário Completo'!Q596","v":0}]
[{"$f":"'[2]Inventário Completo'!A597","v":"JCVR0056"},{"$f":"'[2]Inventário Completo'!B597","v":"14J121000249"},{"$f":"'[2]Inventário Completo'!C597","v":"Impressora Térmicas"},{"$f":"'[2]Inventário Completo'!D597","v":"Z110 Xi4"},{"$f":"'[2]Inventário Completo'!E597","v":"Zebra"},{"$f":"'[2]Inventário Completo'!F597","v":"COMPANHIA SIDERURGICA NACIONAL"},{"$f":"'[2]Inventário Completo'!G597","v":"CSN-VOLTA REDONDA"},{"$f":"'[2]Inventário Completo'!H597","v":"RJ"},{"$f":"'[2]Inventário Completo'!I597","v":"33.042.730/0017-71"},{"$f":"'[2]Inventário Completo'!J597","v":80541767},{"$f":"'[2]Inventário Completo'!K597","v":"Rodovia BR 393, Lúcio Meira KM 5001, SN°, Vila Santa Cecília, Volta Redonda"},{"$f":"'[2]Inventário Completo'!L597","v":"Luiz Cesar"},{"$f":"'[2]Inventário Completo'!M597","v":3105},{"$f":"'[2]Inventário Completo'!N597","v":0},{"$f":"'[2]Inventário Completo'!O597","v":0},{"$f":"'[2]Inventário Completo'!P597","v":0},{"$f":"'[2]Inventário Completo'!Q597","v":0}]
[{"$f":"'[2]Inventário Completo'!A598","v":"JCVR0062"},{"$f":"'[2]Inventário Completo'!B598","v":"14J132100374"},{"$f":"'[2]Inventário Completo'!C598","v":"Impressora Térmicas"},{"$f":"'[2]Inventário Completo'!D598","v":"Z110 Xi4"},{"$f":"'[2]Inventário Completo'!E598","v":"Zebra"},{"$f":"'[2]Inventário Completo'!F598","v":"COMPANHIA SIDERURGICA NACIONAL"},{"$f":"'[2]Inventário Completo'!G598","v":"CSN-VOLTA REDONDA"},{"$f":"'[2]Inventário Completo'!H598","v":"RJ"},{"$f":"'[2]Inventário Completo'!I598","v":"33.042.730/0017-71"},{"$f":"'[2]Inventário Completo'!J598","v":80541767},{"$f":"'[2]Inventário Completo'!K598","v":"Rodovia BR 393, Lúcio Meira KM 5001, SN°, Vila Santa Cecília, Volta Redonda"},{"$f":"'[2]Inventário Completo'!L598","v":"Luiz Cesar"},{"$f":"'[2]Inventário Completo'!M598","v":3105},{"$f":"'[2]Inventário Completo'!N598","v":0},{"$f":"'[2]Inventário Completo'!O598","v":0},{"$f":"'[2]Inventário Completo'!P598","v":0},{"$f":"'[2]Inventário Completo'!Q598","v":0}]
[{"$f":"'[2]Inventário Completo'!A599","v":"JCVR0063"},{"$f":"'[2]Inventário Completo'!B599","v":"14J132800135"},{"$f":"'[2]Inventário Completo'!C599","v":"Impressora Térmicas"},{"$f":"'[2]Inventário Completo'!D599","v":"Z110 Xi4"},{"$f":"'[2]Inventário Completo'!E599","v":"Zebra"},{"$f":"'[2]Inventário Completo'!F599","v":"COMPANHIA SIDERURGICA NACIONAL"},{"$f":"'[2]Inventário Completo'!G599","v":"CSN-VOLTA REDONDA"},{"$f":"'[2]Inventário Completo'!H599","v":"RJ"},{"$f":"'[2]Inventário Completo'!I599","v":"33.042.730/0017-71"},{"$f":"'[2]Inventário Completo'!J599","v":80541767},{"$f":"'[2]Inventário Completo'!K599","v":"Rodovia BR 393, Lúcio Meira KM 5001, SN°, Vila Santa Cecília, Volta Redonda"},{"$f":"'[2]Inventário Completo'!L599","v":"Luiz Cesar"},{"$f":"'[2]Inventário Completo'!M599","v":3105},{"$f":"'[2]Inventário Completo'!N599","v":0},{"$f":"'[2]Inventário Completo'!O599","v":0},{"$f":"'[2]Inventário Completo'!P599","v":0},{"$f":"'[2]Inventário Completo'!Q599","v":0}]
[{"$f":"'[2]Inventário Completo'!A600","v":"JCVR0054"},{"$f":"'[2]Inventário Completo'!B600","v":"14J111800288"},{"$f":"'[2]Inventário Completo'!C600","v":"Impressora Térmicas"},{"$f":"'[2]Inventário Completo'!D600","v":"Z110 Xi4"},{"$f":"'[2]Inventário Completo'!E600","v":"Zebra"},{"$f":"'[2]Inventário Completo'!F600","v":"COMPANHIA SIDERURGICA NACIONAL"},{"$f":"'[2]Inventário Completo'!G600","v":"CSN-VOLTA REDONDA"},{"$f":"'[2]Inventário Completo'!H600","v":"RJ"},{"$f":"'[2]Inventário Completo'!I600","v":"33.042.730/0017-71"},{"$f":"'[2]Inventário Completo'!J600","v":80541767},{"$f":"'[2]Inventário Completo'!K600","v":"Rodovia BR 393, Lúcio Meira KM 5001, SN°, Vila Santa Cecília, Volta Redonda"},{"$f":"'[2]Inventário Completo'!L600","v":"Luiz Cesar"},{"$f":"'[2]Inventário Completo'!M600","v":3105},{"$f":"'[2]Inventário Completo'!N600","v":0},{"$f":"'[2]Inventário Completo'!O600","v":0},{"$f":"'[2]Inventário Completo'!P600","v":0},{"$f":"'[2]Inventário Completo'!Q600","v":0}]
[{"$f":"'[2]Inventário Completo'!A601","v":"JCVR0064"},{"$f":"'[2]Inventário Completo'!B601","v":"14J142801114"},{"$f":"'[2]Inventário Completo'!C601","v":"Impressora Térmicas"},{"$f":"'[2]Inventário Completo'!D601","v":"Z110 Xi4"},{"$f":"'[2]Inventário Completo'!E601","v":"Zebra"},{"$f":"'[2]Inventário Completo'!F601","v":"COMPANHIA SIDERURGICA NACIONAL"},{"$f":"'[2]Inventário Completo'!G601","v":"CSN-VOLTA REDONDA"},{"$f":"'[2]Inventário Completo'!H601","v":"RJ"},{"$f":"'[2]Inventário Completo'!I601","v":"33.042.730/0017-71"},{"$f":"'[2]Inventário Completo'!J601","v":80541767},{"$f":"'[2]Inventário Completo'!K601","v":"Rodovia BR 393, Lúcio Meira KM 5001, SN°, Vila Santa Cecília, Volta Redonda"},{"$f":"'[2]Inventário Completo'!L601","v":"Luiz Cesar"},{"$f":"'[2]Inventário Completo'!M601","v":3105},{"$f":"'[2]Inventário Completo'!N601","v":0},{"$f":"'[2]Inventário Completo'!O601","v":0},{"$f":"'[2]Inventário Completo'!P601","v":0},{"$f":"'[2]Inventário Completo'!Q601","v":0}]
[{"$f":"'[2]Inventário Completo'!A602","v":"JCVR0066"},{"$f":"'[2]Inventário Completo'!B602","v":"14J143001189"},{"$f":"'[2]Inventário Completo'!C602","v":"Impressora Térmicas"},{"$f":"'[2]Inventário Completo'!D602","v":"Z110 Xi4"},{"$f":"'[2]Inventário Completo'!E602","v":"Zebra"},{"$f":"'[2]Inventário Completo'!F602","v":"COMPANHIA SIDERURGICA NACIONAL"},{"$f":"'[2]Inventário Completo'!G602","v":"CSN-VOLTA REDONDA"},{"$f":"'[2]Inventário Completo'!H602","v":"RJ"},{"$f":"'[2]Inventário Completo'!I602","v":"33.042.730/0017-71"},{"$f":"'[2]Inventário Completo'!J602","v":80541767},{"$f":"'[2]Inventário Completo'!K602","v":"Rodovia BR 393, Lúcio Meira KM 5001, SN°, Vila Santa Cecília, Volta Redonda"},{"$f":"'[2]Inventário Completo'!L602","v":"Luiz Cesar"},{"$f":"'[2]Inventário Completo'!M602","v":3105},{"$f":"'[2]Inventário Completo'!N602","v":0},{"$f":"'[2]Inventário Completo'!O602","v":0},{"$f":"'[2]Inventário Completo'!P602","v":0},{"$f":"'[2]Inventário Completo'!Q602","v":0}]
[{"$f":"'[2]Inventário Completo'!A603","v":"JCVR0067"},{"$f":"'[2]Inventário Completo'!B603","v":"14J143001191"},{"$f":"'[2]Inventário Completo'!C603","v":"Impressora Térmicas"},{"$f":"'[2]Inventário Completo'!D603","v":"Z110 Xi4"},{"$f":"'[2]Inventário Completo'!E603","v":"Zebra"},{"$f":"'[2]Inventário Completo'!F603","v":"COMPANHIA SIDERURGICA NACIONAL"},{"$f":"'[2]Inventário Completo'!G603","v":"CSN-VOLTA REDONDA"},{"$f":"'[2]Inventário Completo'!H603","v":"RJ"},{"$f":"'[2]Inventário Completo'!I603","v":"33.042.730/0017-71"},{"$f":"'[2]Inventário Completo'!J603","v":80541767},{"$f":"'[2]Inventário Completo'!K603","v":"Rodovia BR 393, Lúcio Meira KM 5001, SN°, Vila Santa Cecília, Volta Redonda"},{"$f":"'[2]Inventário Completo'!L603","v":"Luiz Cesar"},{"$f":"'[2]Inventário Completo'!M603","v":3105},{"$f":"'[2]Inventário Completo'!N603","v":0},{"$f":"'[2]Inventário Completo'!O603","v":0},{"$f":"'[2]Inventário Completo'!P603","v":0},{"$f":"'[2]Inventário Completo'!Q603","v":0}]
[{"$f":"'[2]Inventário Completo'!A604","v":"JCVR0037"},{"$f":"'[2]Inventário Completo'!B604","v":"14J120800073"},{"$f":"'[2]Inventário Completo'!C604","v":"Impressora Térmicas"},{"$f":"'[2]Inventário Completo'!D604","v":"Z110 Xi4"},{"$f":"'[2]Inventário Completo'!E604","v":"Zebra"},{"$f":"'[2]Inventário Completo'!F604","v":"COMPANHIA SIDERURGICA NACIONAL"},{"$f":"'[2]Inventário Completo'!G604","v":"CSN-VOLTA REDONDA"},{"$f":"'[2]Inventário Completo'!H604","v":"RJ"},{"$f":"'[2]Inventário Completo'!I604","v":"33.042.730/0017-71"},{"$f":"'[2]Inventário Completo'!J604","v":80541767},{"$f":"'[2]Inventário Completo'!K604","v":"Rodovia BR 393, Lúcio Meira KM 5001, SN°, Vila Santa Cecília, Volta Redonda"},{"$f":"'[2]Inventário Completo'!L604","v":"Luiz Cesar"},{"$f":"'[2]Inventário Completo'!M604","v":3105},{"$f":"'[2]Inventário Completo'!N604","v":0},{"$f":"'[2]Inventário Completo'!O604","v":0},{"$f":"'[2]Inventário Completo'!P604","v":0},{"$f":"'[2]Inventário Completo'!Q604","v":0}]
[{"$f":"'[2]Inventário Completo'!A605","v":"JCVR0055"},{"$f":"'[2]Inventário Completo'!B605","v":"14J111800289"},{"$f":"'[2]Inventário Completo'!C605","v":"Impressora Térmicas"},{"$f":"'[2]Inventário Completo'!D605","v":"Z110 Xi4"},{"$f":"'[2]Inventário Completo'!E605","v":"Zebra"},{"$f":"'[2]Inventário Completo'!F605","v":"COMPANHIA SIDERURGICA NACIONAL"},{"$f":"'[2]Inventário Completo'!G605","v":"CSN-VOLTA REDONDA"},{"$f":"'[2]Inventário Completo'!H605","v":"RJ"},{"$f":"'[2]Inventário Completo'!I605","v":"33.042.730/0017-71"},{"$f":"'[2]Inventário Completo'!J605","v":80541767},{"$f":"'[2]Inventário Completo'!K605","v":"Rodovia BR 393, Lúcio Meira KM 5001, SN°, Vila Santa Cecília, Volta Redonda"},{"$f":"'[2]Inventário Completo'!L605","v":"Luiz Cesar"},{"$f":"'[2]Inventário Completo'!M605","v":3105},{"$f":"'[2]Inventário Completo'!N605","v":0},{"$f":"'[2]Inventário Completo'!O605","v":0},{"$f":"'[2]Inventário Completo'!P605","v":0},{"$f":"'[2]Inventário Completo'!Q605","v":0}]
[{"$f":"'[2]Inventário Completo'!A606","v":"JCVR0059"},{"$f":"'[2]Inventário Completo'!B606","v":"14J131900788"},{"$f":"'[2]Inventário Completo'!C606","v":"Impressora Térmicas"},{"$f":"'[2]Inventário Completo'!D606","v":"Z110 Xi4"},{"$f":"'[2]Inventário Completo'!E606","v":"Zebra"},{"$f":"'[2]Inventário Completo'!F606","v":"COMPANHIA SIDERURGICA NACIONAL"},{"$f":"'[2]Inventário Completo'!G606","v":"CSN-VOLTA REDONDA"},{"$f":"'[2]Inventário Completo'!H606","v":"RJ"},{"$f":"'[2]Inventário Completo'!I606","v":"33.042.730/0017-71"},{"$f":"'[2]Inventário Completo'!J606","v":80541767},{"$f":"'[2]Inventário Completo'!K606","v":"Rodovia BR 393, Lúcio Meira KM 5001, SN°, Vila Santa Cecília, Volta Redonda"},{"$f":"'[2]Inventário Completo'!L606","v":"Luiz Cesar"},{"$f":"'[2]Inventário Completo'!M606","v":3105},{"$f":"'[2]Inventário Completo'!N606","v":0},{"$f":"'[2]Inventário Completo'!O606","v":0},{"$f":"'[2]Inventário Completo'!P606","v":0},{"$f":"'[2]Inventário Completo'!Q606","v":0}]
[{"$f":"'[2]Inventário Completo'!A607","v":"JCVR0065"},{"$f":"'[2]Inventário Completo'!B607","v":"14J142801125"},{"$f":"'[2]Inventário Completo'!C607","v":"Impressora Térmicas"},{"$f":"'[2]Inventário Completo'!D607","v":"Z110 Xi4"},{"$f":"'[2]Inventário Completo'!E607","v":"Zebra"},{"$f":"'[2]Inventário Completo'!F607","v":"COMPANHIA SIDERURGICA NACIONAL"},{"$f":"'[2]Inventário Completo'!G607","v":"CSN-VOLTA REDONDA"},{"$f":"'[2]Inventário Completo'!H607","v":"RJ"},{"$f":"'[2]Inventário Completo'!I607","v":"33.042.730/0017-71"},{"$f":"'[2]Inventário Completo'!J607","v":80541767},{"$f":"'[2]Inventário Completo'!K607","v":"Rodovia BR 393, Lúcio Meira KM 5001, SN°, Vila Santa Cecília, Volta Redonda"},{"$f":"'[2]Inventário Completo'!L607","v":"Luiz Cesar"},{"$f":"'[2]Inventário Completo'!M607","v":3105},{"$f":"'[2]Inventário Completo'!N607","v":0},{"$f":"'[2]Inventário Completo'!O607","v":0},{"$f":"'[2]Inventário Completo'!P607","v":0},{"$f":"'[2]Inventário Completo'!Q607","v":0}]
[{"$f":"'[2]Inventário Completo'!A608","v":"JCVR0071"},{"$f":"'[2]Inventário Completo'!B608","v":8569229},{"$f":"'[2]Inventário Completo'!C608","v":"Impressora Térmicas"},{"$f":"'[2]Inventário Completo'!D608","v":"Z140 Xi3"},{"$f":"'[2]Inventário Completo'!E608","v":"Zebra"},{"$f":"'[2]Inventário Completo'!F608","v":"COMPANHIA SIDERURGICA NACIONAL"},{"$f":"'[2]Inventário Completo'!G608","v":"CSN-VOLTA REDONDA"},{"$f":"'[2]Inventário Completo'!H608","v":"RJ"},{"$f":"'[2]Inventário Completo'!I608","v":"33.042.730/0017-71"},{"$f":"'[2]Inventário Completo'!J608","v":80541767},{"$f":"'[2]Inventário Completo'!K608","v":"Rodovia BR 393, Lúcio Meira KM 5001, SN°, Vila Santa Cecília, Volta Redonda"},{"$f":"'[2]Inventário Completo'!L608","v":"Luiz Cesar"},{"$f":"'[2]Inventário Completo'!M608","v":3105},{"$f":"'[2]Inventário Completo'!N608","v":0},{"$f":"'[2]Inventário Completo'!O608","v":0},{"$f":"'[2]Inventário Completo'!P608","v":0},{"$f":"'[2]Inventário Completo'!Q608","v":0}]
[{"$f":"'[2]Inventário Completo'!A609","v":"JCVR0072"},{"$f":"'[2]Inventário Completo'!B609","v":"85C08390133"},{"$f":"'[2]Inventário Completo'!C609","v":"Impressora Térmicas"},{"$f":"'[2]Inventário Completo'!D609","v":"Z140 Xi3"},{"$f":"'[2]Inventário Completo'!E609","v":"Zebra"},{"$f":"'[2]Inventário Completo'!F609","v":"COMPANHIA SIDERURGICA NACIONAL"},{"$f":"'[2]Inventário Completo'!G609","v":"CSN-VOLTA REDONDA"},{"$f":"'[2]Inventário Completo'!H609","v":"RJ"},{"$f":"'[2]Inventário Completo'!I609","v":"33.042.730/0017-71"},{"$f":"'[2]Inventário Completo'!J609","v":80541767},{"$f":"'[2]Inventário Completo'!K609","v":"Rodovia BR 393, Lúcio Meira KM 5001, SN°, Vila Santa Cecília, Volta Redonda"},{"$f":"'[2]Inventário Completo'!L609","v":"Luiz Cesar"},{"$f":"'[2]Inventário Completo'!M609","v":3105},{"$f":"'[2]Inventário Completo'!N609","v":0},{"$f":"'[2]Inventário Completo'!O609","v":0},{"$f":"'[2]Inventário Completo'!P609","v":0},{"$f":"'[2]Inventário Completo'!Q609","v":0}]
[{"$f":"'[2]Inventário Completo'!A610","v":"JCVR0082"},{"$f":"'[2]Inventário Completo'!B610","v":8569326},{"$f":"'[2]Inventário Completo'!C610","v":"Impressora Térmicas"},{"$f":"'[2]Inventário Completo'!D610","v":"Z140 Xi3"},{"$f":"'[2]Inventário Completo'!E610","v":"Zebra"},{"$f":"'[2]Inventário Completo'!F610","v":"COMPANHIA SIDERURGICA NACIONAL"},{"$f":"'[2]Inventário Completo'!G610","v":"CSN-VOLTA REDONDA"},{"$f":"'[2]Inventário Completo'!H610","v":"RJ"},{"$f":"'[2]Inventário Completo'!I610","v":"33.042.730/0017-71"},{"$f":"'[2]Inventário Completo'!J610","v":80541767},{"$f":"'[2]Inventário Completo'!K610","v":"Rodovia BR 393, Lúcio Meira KM 5001, SN°, Vila Santa Cecília, Volta Redonda"},{"$f":"'[2]Inventário Completo'!L610","v":"Luiz Cesar"},{"$f":"'[2]Inventário Completo'!M610","v":3105},{"$f":"'[2]Inventário Completo'!N610","v":0},{"$f":"'[2]Inventário Completo'!O610","v":0},{"$f":"'[2]Inventário Completo'!P610","v":0},{"$f":"'[2]Inventário Completo'!Q610","v":0}]
[{"$f":"'[2]Inventário Completo'!A611","v":"JCVR0079"},{"$f":"'[2]Inventário Completo'!B611","v":"70C08260088"},{"$f":"'[2]Inventário Completo'!C611","v":"Impressora Térmicas"},{"$f":"'[2]Inventário Completo'!D611","v":"Z170 Xi3"},{"$f":"'[2]Inventário Completo'!E611","v":"Zebra"},{"$f":"'[2]Inventário Completo'!F611","v":"COMPANHIA SIDERURGICA NACIONAL"},{"$f":"'[2]Inventário Completo'!G611","v":"CSN-VOLTA REDONDA"},{"$f":"'[2]Inventário Completo'!H611","v":"RJ"},{"$f":"'[2]Inventário Completo'!I611","v":"33.042.730/0017-71"},{"$f":"'[2]Inventário Completo'!J611","v":80541767},{"$f":"'[2]Inventário Completo'!K611","v":"Rodovia BR 393, Lúcio Meira KM 5001, SN°, Vila Santa Cecília, Volta Redonda"},{"$f":"'[2]Inventário Completo'!L611","v":"Luiz Cesar"},{"$f":"'[2]Inventário Completo'!M611","v":3105},{"$f":"'[2]Inventário Completo'!N611","v":0},{"$f":"'[2]Inventário Completo'!O611","v":0},{"$f":"'[2]Inventário Completo'!P611","v":0},{"$f":"'[2]Inventário Completo'!Q611","v":0}]
[{"$f":"'[2]Inventário Completo'!A612","v":"JCVR0076"},{"$f":"'[2]Inventário Completo'!B612","v":"70C09280026"},{"$f":"'[2]Inventário Completo'!C612","v":"Impressora Térmicas"},{"$f":"'[2]Inventário Completo'!D612","v":"Z170 Xi3"},{"$f":"'[2]Inventário Completo'!E612","v":"Zebra"},{"$f":"'[2]Inventário Completo'!F612","v":"COMPANHIA SIDERURGICA NACIONAL"},{"$f":"'[2]Inventário Completo'!G612","v":"CSN-VOLTA REDONDA"},{"$f":"'[2]Inventário Completo'!H612","v":"RJ"},{"$f":"'[2]Inventário Completo'!I612","v":"33.042.730/0017-71"},{"$f":"'[2]Inventário Completo'!J612","v":80541767},{"$f":"'[2]Inventário Completo'!K612","v":"Rodovia BR 393, Lúcio Meira KM 5001, SN°, Vila Santa Cecília, Volta Redonda"},{"$f":"'[2]Inventário Completo'!L612","v":"Luiz Cesar"},{"$f":"'[2]Inventário Completo'!M612","v":3105},{"$f":"'[2]Inventário Completo'!N612","v":0},{"$f":"'[2]Inventário Completo'!O612","v":0},{"$f":"'[2]Inventário Completo'!P612","v":0},{"$f":"'[2]Inventário Completo'!Q612","v":0}]
[{"$f":"'[2]Inventário Completo'!A613","v":"JCVR0077"},{"$f":"'[2]Inventário Completo'!B613","v":"70C09460024"},{"$f":"'[2]Inventário Completo'!C613","v":"Impressora Térmicas"},{"$f":"'[2]Inventário Completo'!D613","v":"Z170 Xi3"},{"$f":"'[2]Inventário Completo'!E613","v":"Zebra"},{"$f":"'[2]Inventário Completo'!F613","v":"COMPANHIA SIDERURGICA NACIONAL"},{"$f":"'[2]Inventário Completo'!G613","v":"CSN-VOLTA REDONDA"},{"$f":"'[2]Inventário Completo'!H613","v":"RJ"},{"$f":"'[2]Inventário Completo'!I613","v":"33.042.730/0017-71"},{"$f":"'[2]Inventário Completo'!J613","v":80541767},{"$f":"'[2]Inventário Completo'!K613","v":"Rodovia BR 393, Lúcio Meira KM 5001, SN°, Vila Santa Cecília, Volta Redonda"},{"$f":"'[2]Inventário Completo'!L613","v":"Luiz Cesar"},{"$f":"'[2]Inventário Completo'!M613","v":3105},{"$f":"'[2]Inventário Completo'!N613","v":0},{"$f":"'[2]Inventário Completo'!O613","v":0},{"$f":"'[2]Inventário Completo'!P613","v":0},{"$f":"'[2]Inventário Completo'!Q613","v":0}]
[{"$f":"'[2]Inventário Completo'!A614","v":"JCVR0078"},{"$f":"'[2]Inventário Completo'!B614","v":"70J09260040"},{"$f":"'[2]Inventário Completo'!C614","v":"Impressora Térmicas"},{"$f":"'[2]Inventário Completo'!D614","v":"Z170 Xi3"},{"$f":"'[2]Inventário Completo'!E614","v":"Zebra"},{"$f":"'[2]Inventário Completo'!F614","v":"COMPANHIA SIDERURGICA NACIONAL"},{"$f":"'[2]Inventário Completo'!G614","v":"CSN-VOLTA REDONDA"},{"$f":"'[2]Inventário Completo'!H614","v":"RJ"},{"$f":"'[2]Inventário Completo'!I614","v":"33.042.730/0017-71"},{"$f":"'[2]Inventário Completo'!J614","v":80541767},{"$f":"'[2]Inventário Completo'!K614","v":"Rodovia BR 393, Lúcio Meira KM 5001, SN°, Vila Santa Cecília, Volta Redonda"},{"$f":"'[2]Inventário Completo'!L614","v":"Luiz Cesar"},{"$f":"'[2]Inventário Completo'!M614","v":3105},{"$f":"'[2]Inventário Completo'!N614","v":0},{"$f":"'[2]Inventário Completo'!O614","v":0},{"$f":"'[2]Inventário Completo'!P614","v":0},{"$f":"'[2]Inventário Completo'!Q614","v":0}]
[{"$f":"'[2]Inventário Completo'!A615","v":"JCVR0073"},{"$f":"'[2]Inventário Completo'!B615","v":"70C08260087"},{"$f":"'[2]Inventário Completo'!C615","v":"Impressora Térmicas"},{"$f":"'[2]Inventário Completo'!D615","v":"Z170 Xi3"},{"$f":"'[2]Inventário Completo'!E615","v":"Zebra"},{"$f":"'[2]Inventário Completo'!F615","v":"COMPANHIA SIDERURGICA NACIONAL"},{"$f":"'[2]Inventário Completo'!G615","v":"CSN-VOLTA REDONDA"},{"$f":"'[2]Inventário Completo'!H615","v":"RJ"},{"$f":"'[2]Inventário Completo'!I615","v":"33.042.730/0017-71"},{"$f":"'[2]Inventário Completo'!J615","v":80541767},{"$f":"'[2]Inventário Completo'!K615","v":"Rodovia BR 393, Lúcio Meira KM 5001, SN°, Vila Santa Cecília, Volta Redonda"},{"$f":"'[2]Inventário Completo'!L615","v":"Luiz Cesar"},{"$f":"'[2]Inventário Completo'!M615","v":3105},{"$f":"'[2]Inventário Completo'!N615","v":0},{"$f":"'[2]Inventário Completo'!O615","v":0},{"$f":"'[2]Inventário Completo'!P615","v":0},{"$f":"'[2]Inventário Completo'!Q615","v":0}]
[{"$f":"'[2]Inventário Completo'!A616","v":"JCVR0075"},{"$f":"'[2]Inventário Completo'!B616","v":"70C08410012"},{"$f":"'[2]Inventário Completo'!C616","v":"Impressora Térmicas"},{"$f":"'[2]Inventário Completo'!D616","v":"Z170 Xi3"},{"$f":"'[2]Inventário Completo'!E616","v":"Zebra"},{"$f":"'[2]Inventário Completo'!F616","v":"COMPANHIA SIDERURGICA NACIONAL"},{"$f":"'[2]Inventário Completo'!G616","v":"CSN-VOLTA REDONDA"},{"$f":"'[2]Inventário Completo'!H616","v":"RJ"},{"$f":"'[2]Inventário Completo'!I616","v":"33.042.730/0017-71"},{"$f":"'[2]Inventário Completo'!J616","v":80541767},{"$f":"'[2]Inventário Completo'!K616","v":"Rodovia BR 393, Lúcio Meira KM 5001, SN°, Vila Santa Cecília, Volta Redonda"},{"$f":"'[2]Inventário Completo'!L616","v":"Luiz Cesar"},{"$f":"'[2]Inventário Completo'!M616","v":3105},{"$f":"'[2]Inventário Completo'!N616","v":0},{"$f":"'[2]Inventário Completo'!O616","v":0},{"$f":"'[2]Inventário Completo'!P616","v":0},{"$f":"'[2]Inventário Completo'!Q616","v":0}]
[{"$f":"'[2]Inventário Completo'!A617","v":"JCVR0136"},{"$f":"'[2]Inventário Completo'!B617","v":"52N214700451"},{"$f":"'[2]Inventário Completo'!C617","v":"Impressora Térmicas"},{"$f":"'[2]Inventário Completo'!D617","v":"ZT230"},{"$f":"'[2]Inventário Completo'!E617","v":"Zebra"},{"$f":"'[2]Inventário Completo'!F617","v":"COMPANHIA SIDERURGICA NACIONAL"},{"$f":"'[2]Inventário Completo'!G617","v":"CSN-VOLTA REDONDA"},{"$f":"'[2]Inventário Completo'!H617","v":"RJ"},{"$f":"'[2]Inventário Completo'!I617","v":"33.042.730/0017-71"},{"$f":"'[2]Inventário Completo'!J617","v":80541767},{"$f":"'[2]Inventário Completo'!K617","v":"Rodovia BR 393, Lúcio Meira KM 5001, SN°, Vila Santa Cecília, Volta Redonda"},{"$f":"'[2]Inventário Completo'!L617","v":"Luiz Cesar"},{"$f":"'[2]Inventário Completo'!M617","v":3105},{"$f":"'[2]Inventário Completo'!N617","v":0},{"$f":"'[2]Inventário Completo'!O617","v":0},{"$f":"'[2]Inventário Completo'!P617","v":0},{"$f":"'[2]Inventário Completo'!Q617","v":0}]
[{"$f":"'[2]Inventário Completo'!A618","v":"JCVR0106"},{"$f":"'[2]Inventário Completo'!B618","v":"52J201204636"},{"$f":"'[2]Inventário Completo'!C618","v":"Impressora Térmicas"},{"$f":"'[2]Inventário Completo'!D618","v":"ZT230"},{"$f":"'[2]Inventário Completo'!E618","v":"Zebra"},{"$f":"'[2]Inventário Completo'!F618","v":"COMPANHIA SIDERURGICA NACIONAL"},{"$f":"'[2]Inventário Completo'!G618","v":"CSN-VOLTA REDONDA"},{"$f":"'[2]Inventário Completo'!H618","v":"RJ"},{"$f":"'[2]Inventário Completo'!I618","v":"33.042.730/0017-71"},{"$f":"'[2]Inventário Completo'!J618","v":80541767},{"$f":"'[2]Inventário Completo'!K618","v":"Rodovia BR 393, Lúcio Meira KM 5001, SN°, Vila Santa Cecília, Volta Redonda"},{"$f":"'[2]Inventário Completo'!L618","v":"Luiz Cesar"},{"$f":"'[2]Inventário Completo'!M618","v":3105},{"$f":"'[2]Inventário Completo'!N618","v":0},{"$f":"'[2]Inventário Completo'!O618","v":0},{"$f":"'[2]Inventário Completo'!P618","v":0},{"$f":"'[2]Inventário Completo'!Q618","v":0}]
[{"$f":"'[2]Inventário Completo'!A619","v":"JCVR0107"},{"$f":"'[2]Inventário Completo'!B619","v":"52J201204856"},{"$f":"'[2]Inventário Completo'!C619","v":"Impressora Térmicas"},{"$f":"'[2]Inventário Completo'!D619","v":"ZT230"},{"$f":"'[2]Inventário Completo'!E619","v":"Zebra"},{"$f":"'[2]Inventário Completo'!F619","v":"COMPANHIA SIDERURGICA NACIONAL"},{"$f":"'[2]Inventário Completo'!G619","v":"CSN-VOLTA REDONDA"},{"$f":"'[2]Inventário Completo'!H619","v":"RJ"},{"$f":"'[2]Inventário Completo'!I619","v":"33.042.730/0017-71"},{"$f":"'[2]Inventário Completo'!J619","v":80541767},{"$f":"'[2]Inventário Completo'!K619","v":"Rodovia BR 393, Lúcio Meira KM 5001, SN°, Vila Santa Cecília, Volta Redonda"},{"$f":"'[2]Inventário Completo'!L619","v":"Luiz Cesar"},{"$f":"'[2]Inventário Completo'!M619","v":3105},{"$f":"'[2]Inventário Completo'!N619","v":0},{"$f":"'[2]Inventário Completo'!O619","v":0},{"$f":"'[2]Inventário Completo'!P619","v":0},{"$f":"'[2]Inventário Completo'!Q619","v":0}]
[{"$f":"'[2]Inventário Completo'!A620","v":"JCVR0101"},{"$f":"'[2]Inventário Completo'!B620","v":"52J164603384"},{"$f":"'[2]Inventário Completo'!C620","v":"Impressora Térmicas"},{"$f":"'[2]Inventário Completo'!D620","v":"ZT230"},{"$f":"'[2]Inventário Completo'!E620","v":"Zebra"},{"$f":"'[2]Inventário Completo'!F620","v":"COMPANHIA SIDERURGICA NACIONAL"},{"$f":"'[2]Inventário Completo'!G620","v":"CSN-VOLTA REDONDA"},{"$f":"'[2]Inventário Completo'!H620","v":"RJ"},{"$f":"'[2]Inventário Completo'!I620","v":"33.042.730/0017-71"},{"$f":"'[2]Inventário Completo'!J620","v":80541767},{"$f":"'[2]Inventário Completo'!K620","v":"Rodovia BR 393, Lúcio Meira KM 5001, SN°, Vila Santa Cecília, Volta Redonda"},{"$f":"'[2]Inventário Completo'!L620","v":"Luiz Cesar"},{"$f":"'[2]Inventário Completo'!M620","v":3105},{"$f":"'[2]Inventário Completo'!N620","v":0},{"$f":"'[2]Inventário Completo'!O620","v":0},{"$f":"'[2]Inventário Completo'!P620","v":0},{"$f":"'[2]Inventário Completo'!Q620","v":0}]
[{"$f":"'[2]Inventário Completo'!A621","v":"JCVR0090"},{"$f":"'[2]Inventário Completo'!B621","v":"52J164603427"},{"$f":"'[2]Inventário Completo'!C621","v":"Impressora Térmicas"},{"$f":"'[2]Inventário Completo'!D621","v":"ZT230"},{"$f":"'[2]Inventário Completo'!E621","v":"Zebra"},{"$f":"'[2]Inventário Completo'!F621","v":"COMPANHIA SIDERURGICA NACIONAL"},{"$f":"'[2]Inventário Completo'!G621","v":"CSN-VOLTA REDONDA"},{"$f":"'[2]Inventário Completo'!H621","v":"RJ"},{"$f":"'[2]Inventário Completo'!I621","v":"33.042.730/0017-71"},{"$f":"'[2]Inventário Completo'!J621","v":80541767},{"$f":"'[2]Inventário Completo'!K621","v":"Rodovia BR 393, Lúcio Meira KM 5001, SN°, Vila Santa Cecília, Volta Redonda"},{"$f":"'[2]Inventário Completo'!L621","v":"Luiz Cesar"},{"$f":"'[2]Inventário Completo'!M621","v":3105},{"$f":"'[2]Inventário Completo'!N621","v":0},{"$f":"'[2]Inventário Completo'!O621","v":0},{"$f":"'[2]Inventário Completo'!P621","v":0},{"$f":"'[2]Inventário Completo'!Q621","v":0}]
[{"$f":"'[2]Inventário Completo'!A622","v":"JCVR0098"},{"$f":"'[2]Inventário Completo'!B622","v":"52J184704418"},{"$f":"'[2]Inventário Completo'!C622","v":"Impressora Térmicas"},{"$f":"'[2]Inventário Completo'!D622","v":"ZT230"},{"$f":"'[2]Inventário Completo'!E622","v":"Zebra"},{"$f":"'[2]Inventário Completo'!F622","v":"COMPANHIA SIDERURGICA NACIONAL"},{"$f":"'[2]Inventário Completo'!G622","v":"CSN-VOLTA REDONDA"},{"$f":"'[2]Inventário Completo'!H622","v":"RJ"},{"$f":"'[2]Inventário Completo'!I622","v":"33.042.730/0017-71"},{"$f":"'[2]Inventário Completo'!J622","v":80541767},{"$f":"'[2]Inventário Completo'!K622","v":"Rodovia BR 393, Lúcio Meira KM 5001, SN°, Vila Santa Cecília, Volta Redonda"},{"$f":"'[2]Inventário Completo'!L622","v":"Luiz Cesar"},{"$f":"'[2]Inventário Completo'!M622","v":3105},{"$f":"'[2]Inventário Completo'!N622","v":0},{"$f":"'[2]Inventário Completo'!O622","v":0},{"$f":"'[2]Inventário Completo'!P622","v":0},{"$f":"'[2]Inventário Completo'!Q622","v":0}]
[{"$f":"'[2]Inventário Completo'!A623","v":"JCVR0099"},{"$f":"'[2]Inventário Completo'!B623","v":"52J183407989"},{"$f":"'[2]Inventário Completo'!C623","v":"Impressora Térmicas"},{"$f":"'[2]Inventário Completo'!D623","v":"ZT230"},{"$f":"'[2]Inventário Completo'!E623","v":"Zebra"},{"$f":"'[2]Inventário Completo'!F623","v":"COMPANHIA SIDERURGICA NACIONAL"},{"$f":"'[2]Inventário Completo'!G623","v":"CSN-VOLTA REDONDA"},{"$f":"'[2]Inventário Completo'!H623","v":"RJ"},{"$f":"'[2]Inventário Completo'!I623","v":"33.042.730/0017-71"},{"$f":"'[2]Inventário Completo'!J623","v":80541767},{"$f":"'[2]Inventário Completo'!K623","v":"Rodovia BR 393, Lúcio Meira KM 5001, SN°, Vila Santa Cecília, Volta Redonda"},{"$f":"'[2]Inventário Completo'!L623","v":"Luiz Cesar"},{"$f":"'[2]Inventário Completo'!M623","v":3105},{"$f":"'[2]Inventário Completo'!N623","v":0},{"$f":"'[2]Inventário Completo'!O623","v":0},{"$f":"'[2]Inventário Completo'!P623","v":0},{"$f":"'[2]Inventário Completo'!Q623","v":0}]
[{"$f":"'[2]Inventário Completo'!A624","v":"JCVR0083"},{"$f":"'[2]Inventário Completo'!B624","v":"52J164504863"},{"$f":"'[2]Inventário Completo'!C624","v":"Impressora Térmicas"},{"$f":"'[2]Inventário Completo'!D624","v":"ZT230"},{"$f":"'[2]Inventário Completo'!E624","v":"Zebra"},{"$f":"'[2]Inventário Completo'!F624","v":"COMPANHIA SIDERURGICA NACIONAL"},{"$f":"'[2]Inventário Completo'!G624","v":"CSN-VOLTA REDONDA"},{"$f":"'[2]Inventário Completo'!H624","v":"RJ"},{"$f":"'[2]Inventário Completo'!I624","v":"33.042.730/0017-71"},{"$f":"'[2]Inventário Completo'!J624","v":80541767},{"$f":"'[2]Inventário Completo'!K624","v":"Rodovia BR 393, Lúcio Meira KM 5001, SN°, Vila Santa Cecília, Volta Redonda"},{"$f":"'[2]Inventário Completo'!L624","v":"Luiz Cesar"},{"$f":"'[2]Inventário Completo'!M624","v":3105},{"$f":"'[2]Inventário Completo'!N624","v":0},{"$f":"'[2]Inventário Completo'!O624","v":0},{"$f":"'[2]Inventário Completo'!P624","v":0},{"$f":"'[2]Inventário Completo'!Q624","v":0}]
[{"$f":"'[2]Inventário Completo'!A625","v":"JCVR0120"},{"$f":"'[2]Inventário Completo'!B625","v":"52N211100524"},{"$f":"'[2]Inventário Completo'!C625","v":"Impressora Térmicas"},{"$f":"'[2]Inventário Completo'!D625","v":"ZT230"},{"$f":"'[2]Inventário Completo'!E625","v":"Zebra"},{"$f":"'[2]Inventário Completo'!F625","v":"COMPANHIA SIDERURGICA NACIONAL"},{"$f":"'[2]Inventário Completo'!G625","v":"CSN-VOLTA REDONDA"},{"$f":"'[2]Inventário Completo'!H625","v":"RJ"},{"$f":"'[2]Inventário Completo'!I625","v":"33.042.730/0017-71"},{"$f":"'[2]Inventário Completo'!J625","v":80541767},{"$f":"'[2]Inventário Completo'!K625","v":"Rodovia BR 393, Lúcio Meira KM 5001, SN°, Vila Santa Cecília, Volta Redonda"},{"$f":"'[2]Inventário Completo'!L625","v":"Luiz Cesar"},{"$f":"'[2]Inventário Completo'!M625","v":3105},{"$f":"'[2]Inventário Completo'!N625","v":0},{"$f":"'[2]Inventário Completo'!O625","v":0},{"$f":"'[2]Inventário Completo'!P625","v":0},{"$f":"'[2]Inventário Completo'!Q625","v":0}]
[{"$f":"'[2]Inventário Completo'!A626","v":"JCVR0103"},{"$f":"'[2]Inventário Completo'!B626","v":"52J194801846"},{"$f":"'[2]Inventário Completo'!C626","v":"Impressora Térmicas"},{"$f":"'[2]Inventário Completo'!D626","v":"ZT230"},{"$f":"'[2]Inventário Completo'!E626","v":"Zebra"},{"$f":"'[2]Inventário Completo'!F626","v":"COMPANHIA SIDERURGICA NACIONAL"},{"$f":"'[2]Inventário Completo'!G626","v":"CSN-VOLTA REDONDA"},{"$f":"'[2]Inventário Completo'!H626","v":"RJ"},{"$f":"'[2]Inventário Completo'!I626","v":"33.042.730/0017-71"},{"$f":"'[2]Inventário Completo'!J626","v":80541767},{"$f":"'[2]Inventário Completo'!K626","v":"Rodovia BR 393, Lúcio Meira KM 5001, SN°, Vila Santa Cecília, Volta Redonda"},{"$f":"'[2]Inventário Completo'!L626","v":"Luiz Cesar"},{"$f":"'[2]Inventário Completo'!M626","v":3105},{"$f":"'[2]Inventário Completo'!N626","v":0},{"$f":"'[2]Inventário Completo'!O626","v":0},{"$f":"'[2]Inventário Completo'!P626","v":0},{"$f":"'[2]Inventário Completo'!Q626","v":0}]
[{"$f":"'[2]Inventário Completo'!A627","v":"JCVR0096"},{"$f":"'[2]Inventário Completo'!B627","v":"52J180401038"},{"$f":"'[2]Inventário Completo'!C627","v":"Impressora Térmicas"},{"$f":"'[2]Inventário Completo'!D627","v":"ZT230"},{"$f":"'[2]Inventário Completo'!E627","v":"Zebra"},{"$f":"'[2]Inventário Completo'!F627","v":"COMPANHIA SIDERURGICA NACIONAL"},{"$f":"'[2]Inventário Completo'!G627","v":"CSN-VOLTA REDONDA"},{"$f":"'[2]Inventário Completo'!H627","v":"RJ"},{"$f":"'[2]Inventário Completo'!I627","v":"33.042.730/0017-71"},{"$f":"'[2]Inventário Completo'!J627","v":80541767},{"$f":"'[2]Inventário Completo'!K627","v":"Rodovia BR 393, Lúcio Meira KM 5001, SN°, Vila Santa Cecília, Volta Redonda"},{"$f":"'[2]Inventário Completo'!L627","v":"Luiz Cesar"},{"$f":"'[2]Inventário Completo'!M627","v":3105},{"$f":"'[2]Inventário Completo'!N627","v":0},{"$f":"'[2]Inventário Completo'!O627","v":0},{"$f":"'[2]Inventário Completo'!P627","v":0},{"$f":"'[2]Inventário Completo'!Q627","v":0}]
[{"$f":"'[2]Inventário Completo'!A628","v":"JCVR0109"},{"$f":"'[2]Inventário Completo'!B628","v":"52J201204806"},{"$f":"'[2]Inventário Completo'!C628","v":"Impressora Térmicas"},{"$f":"'[2]Inventário Completo'!D628","v":"ZT230"},{"$f":"'[2]Inventário Completo'!E628","v":"Zebra"},{"$f":"'[2]Inventário Completo'!F628","v":"COMPANHIA SIDERURGICA NACIONAL"},{"$f":"'[2]Inventário Completo'!G628","v":"CSN-VOLTA REDONDA"},{"$f":"'[2]Inventário Completo'!H628","v":"RJ"},{"$f":"'[2]Inventário Completo'!I628","v":"33.042.730/0017-71"},{"$f":"'[2]Inventário Completo'!J628","v":80541767},{"$f":"'[2]Inventário Completo'!K628","v":"Rodovia BR 393, Lúcio Meira KM 5001, SN°, Vila Santa Cecília, Volta Redonda"},{"$f":"'[2]Inventário Completo'!L628","v":"Luiz Cesar"},{"$f":"'[2]Inventário Completo'!M628","v":3105},{"$f":"'[2]Inventário Completo'!N628","v":0},{"$f":"'[2]Inventário Completo'!O628","v":0},{"$f":"'[2]Inventário Completo'!P628","v":0},{"$f":"'[2]Inventário Completo'!Q628","v":0}]
[{"$f":"'[2]Inventário Completo'!A629","v":"JCVR0113"},{"$f":"'[2]Inventário Completo'!B629","v":"52J200800101"},{"$f":"'[2]Inventário Completo'!C629","v":"Impressora Térmicas"},{"$f":"'[2]Inventário Completo'!D629","v":"ZT230"},{"$f":"'[2]Inventário Completo'!E629","v":"Zebra"},{"$f":"'[2]Inventário Completo'!F629","v":"COMPANHIA SIDERURGICA NACIONAL"},{"$f":"'[2]Inventário Completo'!G629","v":"CSN-VOLTA REDONDA"},{"$f":"'[2]Inventário Completo'!H629","v":"RJ"},{"$f":"'[2]Inventário Completo'!I629","v":"33.042.730/0017-71"},{"$f":"'[2]Inventário Completo'!J629","v":80541767},{"$f":"'[2]Inventário Completo'!K629","v":"Rodovia BR 393, Lúcio Meira KM 5001, SN°, Vila Santa Cecília, Volta Redonda"},{"$f":"'[2]Inventário Completo'!L629","v":"Luiz Cesar"},{"$f":"'[2]Inventário Completo'!M629","v":3105},{"$f":"'[2]Inventário Completo'!N629","v":0},{"$f":"'[2]Inventário Completo'!O629","v":0},{"$f":"'[2]Inventário Completo'!P629","v":0},{"$f":"'[2]Inventário Completo'!Q629","v":0}]
[{"$f":"'[2]Inventário Completo'!A630","v":"JCVR0108"},{"$f":"'[2]Inventário Completo'!B630","v":"52J201204862"},{"$f":"'[2]Inventário Completo'!C630","v":"Impressora Térmicas"},{"$f":"'[2]Inventário Completo'!D630","v":"ZT230"},{"$f":"'[2]Inventário Completo'!E630","v":"Zebra"},{"$f":"'[2]Inventário Completo'!F630","v":"COMPANHIA SIDERURGICA NACIONAL"},{"$f":"'[2]Inventário Completo'!G630","v":"CSN-VOLTA REDONDA"},{"$f":"'[2]Inventário Completo'!H630","v":"RJ"},{"$f":"'[2]Inventário Completo'!I630","v":"33.042.730/0017-71"},{"$f":"'[2]Inventário Completo'!J630","v":80541767},{"$f":"'[2]Inventário Completo'!K630","v":"Rodovia BR 393, Lúcio Meira KM 5001, SN°, Vila Santa Cecília, Volta Redonda"},{"$f":"'[2]Inventário Completo'!L630","v":"Luiz Cesar"},{"$f":"'[2]Inventário Completo'!M630","v":3105},{"$f":"'[2]Inventário Completo'!N630","v":0},{"$f":"'[2]Inventário Completo'!O630","v":0},{"$f":"'[2]Inventário Completo'!P630","v":0},{"$f":"'[2]Inventário Completo'!Q630","v":0}]
[{"$f":"'[2]Inventário Completo'!A631","v":"JCVR0112"},{"$f":"'[2]Inventário Completo'!B631","v":"52J200300365"},{"$f":"'[2]Inventário Completo'!C631","v":"Impressora Térmicas"},{"$f":"'[2]Inventário Completo'!D631","v":"ZT230"},{"$f":"'[2]Inventário Completo'!E631","v":"Zebra"},{"$f":"'[2]Inventário Completo'!F631","v":"COMPANHIA SIDERURGICA NACIONAL"},{"$f":"'[2]Inventário Completo'!G631","v":"CSN-VOLTA REDONDA"},{"$f":"'[2]Inventário Completo'!H631","v":"RJ"},{"$f":"'[2]Inventário Completo'!I631","v":"33.042.730/0017-71"},{"$f":"'[2]Inventário Completo'!J631","v":80541767},{"$f":"'[2]Inventário Completo'!K631","v":"Rodovia BR 393, Lúcio Meira KM 5001, SN°, Vila Santa Cecília, Volta Redonda"},{"$f":"'[2]Inventário Completo'!L631","v":"Luiz Cesar"},{"$f":"'[2]Inventário Completo'!M631","v":3105},{"$f":"'[2]Inventário Completo'!N631","v":0},{"$f":"'[2]Inventário Completo'!O631","v":0},{"$f":"'[2]Inventário Completo'!P631","v":0},{"$f":"'[2]Inventário Completo'!Q631","v":0}]
[{"$f":"'[2]Inventário Completo'!A632","v":"JCVR0114"},{"$f":"'[2]Inventário Completo'!B632","v":"52J200800063"},{"$f":"'[2]Inventário Completo'!C632","v":"Impressora Térmicas"},{"$f":"'[2]Inventário Completo'!D632","v":"ZT230"},{"$f":"'[2]Inventário Completo'!E632","v":"Zebra"},{"$f":"'[2]Inventário Completo'!F632","v":"COMPANHIA SIDERURGICA NACIONAL"},{"$f":"'[2]Inventário Completo'!G632","v":"CSN-VOLTA REDONDA"},{"$f":"'[2]Inventário Completo'!H632","v":"RJ"},{"$f":"'[2]Inventário Completo'!I632","v":"33.042.730/0017-71"},{"$f":"'[2]Inventário Completo'!J632","v":80541767},{"$f":"'[2]Inventário Completo'!K632","v":"Rodovia BR 393, Lúcio Meira KM 5001, SN°, Vila Santa Cecília, Volta Redonda"},{"$f":"'[2]Inventário Completo'!L632","v":"Luiz Cesar"},{"$f":"'[2]Inventário Completo'!M632","v":3105},{"$f":"'[2]Inventário Completo'!N632","v":0},{"$f":"'[2]Inventário Completo'!O632","v":0},{"$f":"'[2]Inventário Completo'!P632","v":0},{"$f":"'[2]Inventário Completo'!Q632","v":0}]
[{"$f":"'[2]Inventário Completo'!A633","v":"JCVR0105"},{"$f":"'[2]Inventário Completo'!B633","v":"52J201204653"},{"$f":"'[2]Inventário Completo'!C633","v":"Impressora Térmicas"},{"$f":"'[2]Inventário Completo'!D633","v":"ZT230"},{"$f":"'[2]Inventário Completo'!E633","v":"Zebra"},{"$f":"'[2]Inventário Completo'!F633","v":"COMPANHIA SIDERURGICA NACIONAL"},{"$f":"'[2]Inventário Completo'!G633","v":"CSN-VOLTA REDONDA"},{"$f":"'[2]Inventário Completo'!H633","v":"RJ"},{"$f":"'[2]Inventário Completo'!I633","v":"33.042.730/0017-71"},{"$f":"'[2]Inventário Completo'!J633","v":80541767},{"$f":"'[2]Inventário Completo'!K633","v":"Rodovia BR 393, Lúcio Meira KM 5001, SN°, Vila Santa Cecília, Volta Redonda"},{"$f":"'[2]Inventário Completo'!L633","v":"Luiz Cesar"},{"$f":"'[2]Inventário Completo'!M633","v":3105},{"$f":"'[2]Inventário Completo'!N633","v":0},{"$f":"'[2]Inventário Completo'!O633","v":0},{"$f":"'[2]Inventário Completo'!P633","v":0},{"$f":"'[2]Inventário Completo'!Q633","v":0}]
[{"$f":"'[2]Inventário Completo'!A634","v":"JCVR0110"},{"$f":"'[2]Inventário Completo'!B634","v":"52J200305059"},{"$f":"'[2]Inventário Completo'!C634","v":"Impressora Térmicas"},{"$f":"'[2]Inventário Completo'!D634","v":"ZT230"},{"$f":"'[2]Inventário Completo'!E634","v":"Zebra"},{"$f":"'[2]Inventário Completo'!F634","v":"COMPANHIA SIDERURGICA NACIONAL"},{"$f":"'[2]Inventário Completo'!G634","v":"CSN-VOLTA REDONDA"},{"$f":"'[2]Inventário Completo'!H634","v":"RJ"},{"$f":"'[2]Inventário Completo'!I634","v":"33.042.730/0017-71"},{"$f":"'[2]Inventário Completo'!J634","v":80541767},{"$f":"'[2]Inventário Completo'!K634","v":"Rodovia BR 393, Lúcio Meira KM 5001, SN°, Vila Santa Cecília, Volta Redonda"},{"$f":"'[2]Inventário Completo'!L634","v":"Luiz Cesar"},{"$f":"'[2]Inventário Completo'!M634","v":3105},{"$f":"'[2]Inventário Completo'!N634","v":0},{"$f":"'[2]Inventário Completo'!O634","v":0},{"$f":"'[2]Inventário Completo'!P634","v":0},{"$f":"'[2]Inventário Completo'!Q634","v":0}]
[{"$f":"'[2]Inventário Completo'!A635","v":"JCVR0129"},{"$f":"'[2]Inventário Completo'!B635","v":"52N211101098"},{"$f":"'[2]Inventário Completo'!C635","v":"Impressora Térmicas"},{"$f":"'[2]Inventário Completo'!D635","v":"ZT230"},{"$f":"'[2]Inventário Completo'!E635","v":"Zebra"},{"$f":"'[2]Inventário Completo'!F635","v":"COMPANHIA SIDERURGICA NACIONAL"},{"$f":"'[2]Inventário Completo'!G635","v":"CSN-VOLTA REDONDA"},{"$f":"'[2]Inventário Completo'!H635","v":"RJ"},{"$f":"'[2]Inventário Completo'!I635","v":"33.042.730/0017-71"},{"$f":"'[2]Inventário Completo'!J635","v":80541767},{"$f":"'[2]Inventário Completo'!K635","v":"Rodovia BR 393, Lúcio Meira KM 5001, SN°, Vila Santa Cecília, Volta Redonda"},{"$f":"'[2]Inventário Completo'!L635","v":"Luiz Cesar"},{"$f":"'[2]Inventário Completo'!M635","v":3105},{"$f":"'[2]Inventário Completo'!N635","v":0},{"$f":"'[2]Inventário Completo'!O635","v":0},{"$f":"'[2]Inventário Completo'!P635","v":0},{"$f":"'[2]Inventário Completo'!Q635","v":0}]
[{"$f":"'[2]Inventário Completo'!A636","v":"JCVR0121"},{"$f":"'[2]Inventário Completo'!B636","v":"52J204500780"},{"$f":"'[2]Inventário Completo'!C636","v":"Impressora Térmicas"},{"$f":"'[2]Inventário Completo'!D636","v":"ZT230"},{"$f":"'[2]Inventário Completo'!E636","v":"Zebra"},{"$f":"'[2]Inventário Completo'!F636","v":"COMPANHIA SIDERURGICA NACIONAL"},{"$f":"'[2]Inventário Completo'!G636","v":"CSN-VOLTA REDONDA"},{"$f":"'[2]Inventário Completo'!H636","v":"RJ"},{"$f":"'[2]Inventário Completo'!I636","v":"33.042.730/0017-71"},{"$f":"'[2]Inventário Completo'!J636","v":80541767},{"$f":"'[2]Inventário Completo'!K636","v":"Rodovia BR 393, Lúcio Meira KM 5001, SN°, Vila Santa Cecília, Volta Redonda"},{"$f":"'[2]Inventário Completo'!L636","v":"Luiz Cesar"},{"$f":"'[2]Inventário Completo'!M636","v":3105},{"$f":"'[2]Inventário Completo'!N636","v":0},{"$f":"'[2]Inventário Completo'!O636","v":0},{"$f":"'[2]Inventário Completo'!P636","v":0},{"$f":"'[2]Inventário Completo'!Q636","v":0}]
[{"$f":"'[2]Inventário Completo'!A637","v":"JCVR0124"},{"$f":"'[2]Inventário Completo'!B637","v":"52N211101200"},{"$f":"'[2]Inventário Completo'!C637","v":"Impressora Térmicas"},{"$f":"'[2]Inventário Completo'!D637","v":"ZT230"},{"$f":"'[2]Inventário Completo'!E637","v":"Zebra"},{"$f":"'[2]Inventário Completo'!F637","v":"COMPANHIA SIDERURGICA NACIONAL"},{"$f":"'[2]Inventário Completo'!G637","v":"CSN-VOLTA REDONDA"},{"$f":"'[2]Inventário Completo'!H637","v":"RJ"},{"$f":"'[2]Inventário Completo'!I637","v":"33.042.730/0017-71"},{"$f":"'[2]Inventário Completo'!J637","v":80541767},{"$f":"'[2]Inventário Completo'!K637","v":"Rodovia BR 393, Lúcio Meira KM 5001, SN°, Vila Santa Cecília, Volta Redonda"},{"$f":"'[2]Inventário Completo'!L637","v":"Luiz Cesar"},{"$f":"'[2]Inventário Completo'!M637","v":3105},{"$f":"'[2]Inventário Completo'!N637","v":0},{"$f":"'[2]Inventário Completo'!O637","v":0},{"$f":"'[2]Inventário Completo'!P637","v":0},{"$f":"'[2]Inventário Completo'!Q637","v":0}]
[{"$f":"'[2]Inventário Completo'!A638","v":"JCVR0085"},{"$f":"'[2]Inventário Completo'!B638","v":"52J164402922"},{"$f":"'[2]Inventário Completo'!C638","v":"Impressora Térmicas"},{"$f":"'[2]Inventário Completo'!D638","v":"ZT230"},{"$f":"'[2]Inventário Completo'!E638","v":"Zebra"},{"$f":"'[2]Inventário Completo'!F638","v":"COMPANHIA SIDERURGICA NACIONAL"},{"$f":"'[2]Inventário Completo'!G638","v":"CSN-VOLTA REDONDA"},{"$f":"'[2]Inventário Completo'!H638","v":"RJ"},{"$f":"'[2]Inventário Completo'!I638","v":"33.042.730/0017-71"},{"$f":"'[2]Inventário Completo'!J638","v":80541767},{"$f":"'[2]Inventário Completo'!K638","v":"Rodovia BR 393, Lúcio Meira KM 5001, SN°, Vila Santa Cecília, Volta Redonda"},{"$f":"'[2]Inventário Completo'!L638","v":"Luiz Cesar"},{"$f":"'[2]Inventário Completo'!M638","v":3105},{"$f":"'[2]Inventário Completo'!N638","v":0},{"$f":"'[2]Inventário Completo'!O638","v":0},{"$f":"'[2]Inventário Completo'!P638","v":0},{"$f":"'[2]Inventário Completo'!Q638","v":0}]
[{"$f":"'[2]Inventário Completo'!A639","v":"JCVR0125"},{"$f":"'[2]Inventário Completo'!B639","v":"52N204500368"},{"$f":"'[2]Inventário Completo'!C639","v":"Impressora Térmicas"},{"$f":"'[2]Inventário Completo'!D639","v":"ZT230"},{"$f":"'[2]Inventário Completo'!E639","v":"Zebra"},{"$f":"'[2]Inventário Completo'!F639","v":"COMPANHIA SIDERURGICA NACIONAL"},{"$f":"'[2]Inventário Completo'!G639","v":"CSN-VOLTA REDONDA"},{"$f":"'[2]Inventário Completo'!H639","v":"RJ"},{"$f":"'[2]Inventário Completo'!I639","v":"33.042.730/0017-71"},{"$f":"'[2]Inventário Completo'!J639","v":80541767},{"$f":"'[2]Inventário Completo'!K639","v":"Rodovia BR 393, Lúcio Meira KM 5001, SN°, Vila Santa Cecília, Volta Redonda"},{"$f":"'[2]Inventário Completo'!L639","v":"Luiz Cesar"},{"$f":"'[2]Inventário Completo'!M639","v":3105},{"$f":"'[2]Inventário Completo'!N639","v":0},{"$f":"'[2]Inventário Completo'!O639","v":0},{"$f":"'[2]Inventário Completo'!P639","v":0},{"$f":"'[2]Inventário Completo'!Q639","v":0}]
[{"$f":"'[2]Inventário Completo'!A640","v":"JCVR0086"},{"$f":"'[2]Inventário Completo'!B640","v":"52J164402992"},{"$f":"'[2]Inventário Completo'!C640","v":"Impressora Térmicas"},{"$f":"'[2]Inventário Completo'!D640","v":"ZT230"},{"$f":"'[2]Inventário Completo'!E640","v":"Zebra"},{"$f":"'[2]Inventário Completo'!F640","v":"COMPANHIA SIDERURGICA NACIONAL"},{"$f":"'[2]Inventário Completo'!G640","v":"CSN-VOLTA REDONDA"},{"$f":"'[2]Inventário Completo'!H640","v":"RJ"},{"$f":"'[2]Inventário Completo'!I640","v":"33.042.730/0017-71"},{"$f":"'[2]Inventário Completo'!J640","v":80541767},{"$f":"'[2]Inventário Completo'!K640","v":"Rodovia BR 393, Lúcio Meira KM 5001, SN°, Vila Santa Cecília, Volta Redonda"},{"$f":"'[2]Inventário Completo'!L640","v":"Luiz Cesar"},{"$f":"'[2]Inventário Completo'!M640","v":3105},{"$f":"'[2]Inventário Completo'!N640","v":0},{"$f":"'[2]Inventário Completo'!O640","v":0},{"$f":"'[2]Inventário Completo'!P640","v":0},{"$f":"'[2]Inventário Completo'!Q640","v":0}]
[{"$f":"'[2]Inventário Completo'!A641","v":"JCVR0088"},{"$f":"'[2]Inventário Completo'!B641","v":"52J164504870"},{"$f":"'[2]Inventário Completo'!C641","v":"Impressora Térmicas"},{"$f":"'[2]Inventário Completo'!D641","v":"ZT230"},{"$f":"'[2]Inventário Completo'!E641","v":"Zebra"},{"$f":"'[2]Inventário Completo'!F641","v":"COMPANHIA SIDERURGICA NACIONAL"},{"$f":"'[2]Inventário Completo'!G641","v":"CSN-VOLTA REDONDA"},{"$f":"'[2]Inventário Completo'!H641","v":"RJ"},{"$f":"'[2]Inventário Completo'!I641","v":"33.042.730/0017-71"},{"$f":"'[2]Inventário Completo'!J641","v":80541767},{"$f":"'[2]Inventário Completo'!K641","v":"Rodovia BR 393, Lúcio Meira KM 5001, SN°, Vila Santa Cecília, Volta Redonda"},{"$f":"'[2]Inventário Completo'!L641","v":"Luiz Cesar"},{"$f":"'[2]Inventário Completo'!M641","v":3105},{"$f":"'[2]Inventário Completo'!N641","v":0},{"$f":"'[2]Inventário Completo'!O641","v":0},{"$f":"'[2]Inventário Completo'!P641","v":0},{"$f":"'[2]Inventário Completo'!Q641","v":0}]
[{"$f":"'[2]Inventário Completo'!A642","v":"JCVR0104"},{"$f":"'[2]Inventário Completo'!B642","v":"52J201204800"},{"$f":"'[2]Inventário Completo'!C642","v":"Impressora Térmicas"},{"$f":"'[2]Inventário Completo'!D642","v":"ZT230"},{"$f":"'[2]Inventário Completo'!E642","v":"Zebra"},{"$f":"'[2]Inventário Completo'!F642","v":"COMPANHIA SIDERURGICA NACIONAL"},{"$f":"'[2]Inventário Completo'!G642","v":"CSN-VOLTA REDONDA"},{"$f":"'[2]Inventário Completo'!H642","v":"RJ"},{"$f":"'[2]Inventário Completo'!I642","v":"33.042.730/0017-71"},{"$f":"'[2]Inventário Completo'!J642","v":80541767},{"$f":"'[2]Inventário Completo'!K642","v":"Rodovia BR 393, Lúcio Meira KM 5001, SN°, Vila Santa Cecília, Volta Redonda"},{"$f":"'[2]Inventário Completo'!L642","v":"Luiz Cesar"},{"$f":"'[2]Inventário Completo'!M642","v":3105},{"$f":"'[2]Inventário Completo'!N642","v":0},{"$f":"'[2]Inventário Completo'!O642","v":0},{"$f":"'[2]Inventário Completo'!P642","v":0},{"$f":"'[2]Inventário Completo'!Q642","v":0}]
[{"$f":"'[2]Inventário Completo'!A643","v":"JCVR0111"},{"$f":"'[2]Inventário Completo'!B643","v":"52J201204661"},{"$f":"'[2]Inventário Completo'!C643","v":"Impressora Térmicas"},{"$f":"'[2]Inventário Completo'!D643","v":"ZT230"},{"$f":"'[2]Inventário Completo'!E643","v":"Zebra"},{"$f":"'[2]Inventário Completo'!F643","v":"COMPANHIA SIDERURGICA NACIONAL"},{"$f":"'[2]Inventário Completo'!G643","v":"CSN-VOLTA REDONDA"},{"$f":"'[2]Inventário Completo'!H643","v":"RJ"},{"$f":"'[2]Inventário Completo'!I643","v":"33.042.730/0017-71"},{"$f":"'[2]Inventário Completo'!J643","v":80541767},{"$f":"'[2]Inventário Completo'!K643","v":"Rodovia BR 393, Lúcio Meira KM 5001, SN°, Vila Santa Cecília, Volta Redonda"},{"$f":"'[2]Inventário Completo'!L643","v":"Luiz Cesar"},{"$f":"'[2]Inventário Completo'!M643","v":3105},{"$f":"'[2]Inventário Completo'!N643","v":0},{"$f":"'[2]Inventário Completo'!O643","v":0},{"$f":"'[2]Inventário Completo'!P643","v":0},{"$f":"'[2]Inventário Completo'!Q643","v":0}]
[{"$f":"'[2]Inventário Completo'!A644","v":"JCVR0100"},{"$f":"'[2]Inventário Completo'!B644","v":"52J184704558"},{"$f":"'[2]Inventário Completo'!C644","v":"Impressora Térmicas"},{"$f":"'[2]Inventário Completo'!D644","v":"ZT230"},{"$f":"'[2]Inventário Completo'!E644","v":"Zebra"},{"$f":"'[2]Inventário Completo'!F644","v":"COMPANHIA SIDERURGICA NACIONAL"},{"$f":"'[2]Inventário Completo'!G644","v":"CSN-VOLTA REDONDA"},{"$f":"'[2]Inventário Completo'!H644","v":"RJ"},{"$f":"'[2]Inventário Completo'!I644","v":"33.042.730/0017-71"},{"$f":"'[2]Inventário Completo'!J644","v":80541767},{"$f":"'[2]Inventário Completo'!K644","v":"Rodovia BR 393, Lúcio Meira KM 5001, SN°, Vila Santa Cecília, Volta Redonda"},{"$f":"'[2]Inventário Completo'!L644","v":"Luiz Cesar"},{"$f":"'[2]Inventário Completo'!M644","v":3105},{"$f":"'[2]Inventário Completo'!N644","v":0},{"$f":"'[2]Inventário Completo'!O644","v":0},{"$f":"'[2]Inventário Completo'!P644","v":0},{"$f":"'[2]Inventário Completo'!Q644","v":0}]
[{"$f":"'[2]Inventário Completo'!A645","v":"JCVR0084"},{"$f":"'[2]Inventário Completo'!B645","v":"52J164504858"},{"$f":"'[2]Inventário Completo'!C645","v":"Impressora Térmicas"},{"$f":"'[2]Inventário Completo'!D645","v":"ZT230"},{"$f":"'[2]Inventário Completo'!E645","v":"Zebra"},{"$f":"'[2]Inventário Completo'!F645","v":"COMPANHIA SIDERURGICA NACIONAL"},{"$f":"'[2]Inventário Completo'!G645","v":"CSN-VOLTA REDONDA"},{"$f":"'[2]Inventário Completo'!H645","v":"RJ"},{"$f":"'[2]Inventário Completo'!I645","v":"33.042.730/0017-71"},{"$f":"'[2]Inventário Completo'!J645","v":80541767},{"$f":"'[2]Inventário Completo'!K645","v":"Rodovia BR 393, Lúcio Meira KM 5001, SN°, Vila Santa Cecília, Volta Redonda"},{"$f":"'[2]Inventário Completo'!L645","v":"Luiz Cesar"},{"$f":"'[2]Inventário Completo'!M645","v":3105},{"$f":"'[2]Inventário Completo'!N645","v":0},{"$f":"'[2]Inventário Completo'!O645","v":0},{"$f":"'[2]Inventário Completo'!P645","v":0},{"$f":"'[2]Inventário Completo'!Q645","v":0}]
[{"$f":"'[2]Inventário Completo'!A646","v":"JCVR0133"},{"$f":"'[2]Inventário Completo'!B646","v":"52N214700820"},{"$f":"'[2]Inventário Completo'!C646","v":"Impressora Térmicas"},{"$f":"'[2]Inventário Completo'!D646","v":"ZT230"},{"$f":"'[2]Inventário Completo'!E646","v":"Zebra"},{"$f":"'[2]Inventário Completo'!F646","v":"COMPANHIA SIDERURGICA NACIONAL"},{"$f":"'[2]Inventário Completo'!G646","v":"CSN-VOLTA REDONDA"},{"$f":"'[2]Inventário Completo'!H646","v":"RJ"},{"$f":"'[2]Inventário Completo'!I646","v":"33.042.730/0017-71"},{"$f":"'[2]Inventário Completo'!J646","v":80541767},{"$f":"'[2]Inventário Completo'!K646","v":"Rodovia BR 393, Lúcio Meira KM 5001, SN°, Vila Santa Cecília, Volta Redonda"},{"$f":"'[2]Inventário Completo'!L646","v":"Luiz Cesar"},{"$f":"'[2]Inventário Completo'!M646","v":3105},{"$f":"'[2]Inventário Completo'!N646","v":0},{"$f":"'[2]Inventário Completo'!O646","v":0},{"$f":"'[2]Inventário Completo'!P646","v":0},{"$f":"'[2]Inventário Completo'!Q646","v":0}]
[{"$f":"'[2]Inventário Completo'!A647","v":"JCVR0134"},{"$f":"'[2]Inventário Completo'!B647","v":"52N214700447"},{"$f":"'[2]Inventário Completo'!C647","v":"Impressora Térmicas"},{"$f":"'[2]Inventário Completo'!D647","v":"ZT230"},{"$f":"'[2]Inventário Completo'!E647","v":"Zebra"},{"$f":"'[2]Inventário Completo'!F647","v":"COMPANHIA SIDERURGICA NACIONAL"},{"$f":"'[2]Inventário Completo'!G647","v":"CSN-VOLTA REDONDA"},{"$f":"'[2]Inventário Completo'!H647","v":"RJ"},{"$f":"'[2]Inventário Completo'!I647","v":"33.042.730/0017-71"},{"$f":"'[2]Inventário Completo'!J647","v":80541767},{"$f":"'[2]Inventário Completo'!K647","v":"Rodovia BR 393, Lúcio Meira KM 5001, SN°, Vila Santa Cecília, Volta Redonda"},{"$f":"'[2]Inventário Completo'!L647","v":"Luiz Cesar"},{"$f":"'[2]Inventário Completo'!M647","v":3105},{"$f":"'[2]Inventário Completo'!N647","v":0},{"$f":"'[2]Inventário Completo'!O647","v":0},{"$f":"'[2]Inventário Completo'!P647","v":0},{"$f":"'[2]Inventário Completo'!Q647","v":0}]
[{"$f":"'[2]Inventário Completo'!A648","v":"JCVR0135"},{"$f":"'[2]Inventário Completo'!B648","v":"52N214700601"},{"$f":"'[2]Inventário Completo'!C648","v":"Impressora Térmicas"},{"$f":"'[2]Inventário Completo'!D648","v":"ZT230"},{"$f":"'[2]Inventário Completo'!E648","v":"Zebra"},{"$f":"'[2]Inventário Completo'!F648","v":"COMPANHIA SIDERURGICA NACIONAL"},{"$f":"'[2]Inventário Completo'!G648","v":"CSN-VOLTA REDONDA"},{"$f":"'[2]Inventário Completo'!H648","v":"RJ"},{"$f":"'[2]Inventário Completo'!I648","v":"33.042.730/0017-71"},{"$f":"'[2]Inventário Completo'!J648","v":80541767},{"$f":"'[2]Inventário Completo'!K648","v":"Rodovia BR 393, Lúcio Meira KM 5001, SN°, Vila Santa Cecília, Volta Redonda"},{"$f":"'[2]Inventário Completo'!L648","v":"Luiz Cesar"},{"$f":"'[2]Inventário Completo'!M648","v":3105},{"$f":"'[2]Inventário Completo'!N648","v":0},{"$f":"'[2]Inventário Completo'!O648","v":0},{"$f":"'[2]Inventário Completo'!P648","v":0},{"$f":"'[2]Inventário Completo'!Q648","v":0}]
[{"$f":"'[2]Inventário Completo'!A649","v":"JCVR0122"},{"$f":"'[2]Inventário Completo'!B649","v":"52J204500766"},{"$f":"'[2]Inventário Completo'!C649","v":"Impressora Térmicas"},{"$f":"'[2]Inventário Completo'!D649","v":"ZT230"},{"$f":"'[2]Inventário Completo'!E649","v":"Zebra"},{"$f":"'[2]Inventário Completo'!F649","v":"COMPANHIA SIDERURGICA NACIONAL"},{"$f":"'[2]Inventário Completo'!G649","v":"CSN-VOLTA REDONDA"},{"$f":"'[2]Inventário Completo'!H649","v":"RJ"},{"$f":"'[2]Inventário Completo'!I649","v":"33.042.730/0017-71"},{"$f":"'[2]Inventário Completo'!J649","v":80541767},{"$f":"'[2]Inventário Completo'!K649","v":"Rodovia BR 393, Lúcio Meira KM 5001, SN°, Vila Santa Cecília, Volta Redonda"},{"$f":"'[2]Inventário Completo'!L649","v":"Luiz Cesar"},{"$f":"'[2]Inventário Completo'!M649","v":3105},{"$f":"'[2]Inventário Completo'!N649","v":0},{"$f":"'[2]Inventário Completo'!O649","v":0},{"$f":"'[2]Inventário Completo'!P649","v":0},{"$f":"'[2]Inventário Completo'!Q649","v":0}]
[{"$f":"'[2]Inventário Completo'!A650","v":"JCVR0132"},{"$f":"'[2]Inventário Completo'!B650","v":"52N214700815"},{"$f":"'[2]Inventário Completo'!C650","v":"Impressora Térmicas"},{"$f":"'[2]Inventário Completo'!D650","v":"ZT230"},{"$f":"'[2]Inventário Completo'!E650","v":"Zebra"},{"$f":"'[2]Inventário Completo'!F650","v":"COMPANHIA SIDERURGICA NACIONAL"},{"$f":"'[2]Inventário Completo'!G650","v":"CSN-VOLTA REDONDA"},{"$f":"'[2]Inventário Completo'!H650","v":"RJ"},{"$f":"'[2]Inventário Completo'!I650","v":"33.042.730/0017-71"},{"$f":"'[2]Inventário Completo'!J650","v":80541767},{"$f":"'[2]Inventário Completo'!K650","v":"Rodovia BR 393, Lúcio Meira KM 5001, SN°, Vila Santa Cecília, Volta Redonda"},{"$f":"'[2]Inventário Completo'!L650","v":"Luiz Cesar"},{"$f":"'[2]Inventário Completo'!M650","v":3105},{"$f":"'[2]Inventário Completo'!N650","v":0},{"$f":"'[2]Inventário Completo'!O650","v":0},{"$f":"'[2]Inventário Completo'!P650","v":0},{"$f":"'[2]Inventário Completo'!Q650","v":0}]
[{"$f":"'[2]Inventário Completo'!A651","v":"JCVR0093"},{"$f":"'[2]Inventário Completo'!B651","v":"52J183407956"},{"$f":"'[2]Inventário Completo'!C651","v":"Impressora Térmicas"},{"$f":"'[2]Inventário Completo'!D651","v":"ZT230"},{"$f":"'[2]Inventário Completo'!E651","v":"Zebra"},{"$f":"'[2]Inventário Completo'!F651","v":"COMPANHIA SIDERURGICA NACIONAL"},{"$f":"'[2]Inventário Completo'!G651","v":"CSN-VOLTA REDONDA"},{"$f":"'[2]Inventário Completo'!H651","v":"RJ"},{"$f":"'[2]Inventário Completo'!I651","v":"33.042.730/0017-71"},{"$f":"'[2]Inventário Completo'!J651","v":80541767},{"$f":"'[2]Inventário Completo'!K651","v":"Rodovia BR 393, Lúcio Meira KM 5001, SN°, Vila Santa Cecília, Volta Redonda"},{"$f":"'[2]Inventário Completo'!L651","v":"Luiz Cesar"},{"$f":"'[2]Inventário Completo'!M651","v":3105},{"$f":"'[2]Inventário Completo'!N651","v":0},{"$f":"'[2]Inventário Completo'!O651","v":0},{"$f":"'[2]Inventário Completo'!P651","v":0},{"$f":"'[2]Inventário Completo'!Q651","v":0}]
[{"$f":"'[2]Inventário Completo'!A652","v":"JCVR0119"},{"$f":"'[2]Inventário Completo'!B652","v":"52N211101095"},{"$f":"'[2]Inventário Completo'!C652","v":"Impressora Térmicas"},{"$f":"'[2]Inventário Completo'!D652","v":"ZT230"},{"$f":"'[2]Inventário Completo'!E652","v":"Zebra"},{"$f":"'[2]Inventário Completo'!F652","v":"COMPANHIA SIDERURGICA NACIONAL"},{"$f":"'[2]Inventário Completo'!G652","v":"CSN-VOLTA REDONDA"},{"$f":"'[2]Inventário Completo'!H652","v":"RJ"},{"$f":"'[2]Inventário Completo'!I652","v":"33.042.730/0017-71"},{"$f":"'[2]Inventário Completo'!J652","v":80541767},{"$f":"'[2]Inventário Completo'!K652","v":"Rodovia BR 393, Lúcio Meira KM 5001, SN°, Vila Santa Cecília, Volta Redonda"},{"$f":"'[2]Inventário Completo'!L652","v":"Luiz Cesar"},{"$f":"'[2]Inventário Completo'!M652","v":3105},{"$f":"'[2]Inventário Completo'!N652","v":0},{"$f":"'[2]Inventário Completo'!O652","v":0},{"$f":"'[2]Inventário Completo'!P652","v":0},{"$f":"'[2]Inventário Completo'!Q652","v":0}]
[{"$f":"'[2]Inventário Completo'!A653","v":"JCVR0115"},{"$f":"'[2]Inventário Completo'!B653","v":"52N211100934"},{"$f":"'[2]Inventário Completo'!C653","v":"Impressora Térmicas"},{"$f":"'[2]Inventário Completo'!D653","v":"ZT230"},{"$f":"'[2]Inventário Completo'!E653","v":"Zebra"},{"$f":"'[2]Inventário Completo'!F653","v":"COMPANHIA SIDERURGICA NACIONAL"},{"$f":"'[2]Inventário Completo'!G653","v":"CSN-VOLTA REDONDA"},{"$f":"'[2]Inventário Completo'!H653","v":"RJ"},{"$f":"'[2]Inventário Completo'!I653","v":"33.042.730/0017-71"},{"$f":"'[2]Inventário Completo'!J653","v":80541767},{"$f":"'[2]Inventário Completo'!K653","v":"Rodovia BR 393, Lúcio Meira KM 5001, SN°, Vila Santa Cecília, Volta Redonda"},{"$f":"'[2]Inventário Completo'!L653","v":"Luiz Cesar"},{"$f":"'[2]Inventário Completo'!M653","v":3105},{"$f":"'[2]Inventário Completo'!N653","v":0},{"$f":"'[2]Inventário Completo'!O653","v":0},{"$f":"'[2]Inventário Completo'!P653","v":0},{"$f":"'[2]Inventário Completo'!Q653","v":0}]
[{"$f":"'[2]Inventário Completo'!A654","v":"JCVR0116"},{"$f":"'[2]Inventário Completo'!B654","v":"52N211100993"},{"$f":"'[2]Inventário Completo'!C654","v":"Impressora Térmicas"},{"$f":"'[2]Inventário Completo'!D654","v":"ZT230"},{"$f":"'[2]Inventário Completo'!E654","v":"Zebra"},{"$f":"'[2]Inventário Completo'!F654","v":"COMPANHIA SIDERURGICA NACIONAL"},{"$f":"'[2]Inventário Completo'!G654","v":"CSN-VOLTA REDONDA"},{"$f":"'[2]Inventário Completo'!H654","v":"RJ"},{"$f":"'[2]Inventário Completo'!I654","v":"33.042.730/0017-71"},{"$f":"'[2]Inventário Completo'!J654","v":80541767},{"$f":"'[2]Inventário Completo'!K654","v":"Rodovia BR 393, Lúcio Meira KM 5001, SN°, Vila Santa Cecília, Volta Redonda"},{"$f":"'[2]Inventário Completo'!L654","v":"Luiz Cesar"},{"$f":"'[2]Inventário Completo'!M654","v":3105},{"$f":"'[2]Inventário Completo'!N654","v":0},{"$f":"'[2]Inventário Completo'!O654","v":0},{"$f":"'[2]Inventário Completo'!P654","v":0},{"$f":"'[2]Inventário Completo'!Q654","v":0}]
[{"$f":"'[2]Inventário Completo'!A655","v":"JCVR0117"},{"$f":"'[2]Inventário Completo'!B655","v":"52N210300299"},{"$f":"'[2]Inventário Completo'!C655","v":"Impressora Térmicas"},{"$f":"'[2]Inventário Completo'!D655","v":"ZT230"},{"$f":"'[2]Inventário Completo'!E655","v":"Zebra"},{"$f":"'[2]Inventário Completo'!F655","v":"COMPANHIA SIDERURGICA NACIONAL"},{"$f":"'[2]Inventário Completo'!G655","v":"CSN-VOLTA REDONDA"},{"$f":"'[2]Inventário Completo'!H655","v":"RJ"},{"$f":"'[2]Inventário Completo'!I655","v":"33.042.730/0017-71"},{"$f":"'[2]Inventário Completo'!J655","v":80541767},{"$f":"'[2]Inventário Completo'!K655","v":"Rodovia BR 393, Lúcio Meira KM 5001, SN°, Vila Santa Cecília, Volta Redonda"},{"$f":"'[2]Inventário Completo'!L655","v":"Luiz Cesar"},{"$f":"'[2]Inventário Completo'!M655","v":3105},{"$f":"'[2]Inventário Completo'!N655","v":0},{"$f":"'[2]Inventário Completo'!O655","v":0},{"$f":"'[2]Inventário Completo'!P655","v":0},{"$f":"'[2]Inventário Completo'!Q655","v":0}]
[{"$f":"'[2]Inventário Completo'!A656","v":"JCVR0118"},{"$f":"'[2]Inventário Completo'!B656","v":"52N211101100"},{"$f":"'[2]Inventário Completo'!C656","v":"Impressora Térmicas"},{"$f":"'[2]Inventário Completo'!D656","v":"ZT230"},{"$f":"'[2]Inventário Completo'!E656","v":"Zebra"},{"$f":"'[2]Inventário Completo'!F656","v":"COMPANHIA SIDERURGICA NACIONAL"},{"$f":"'[2]Inventário Completo'!G656","v":"CSN-VOLTA REDONDA"},{"$f":"'[2]Inventário Completo'!H656","v":"RJ"},{"$f":"'[2]Inventário Completo'!I656","v":"33.042.730/0017-71"},{"$f":"'[2]Inventário Completo'!J656","v":80541767},{"$f":"'[2]Inventário Completo'!K656","v":"Rodovia BR 393, Lúcio Meira KM 5001, SN°, Vila Santa Cecília, Volta Redonda"},{"$f":"'[2]Inventário Completo'!L656","v":"Luiz Cesar"},{"$f":"'[2]Inventário Completo'!M656","v":3105},{"$f":"'[2]Inventário Completo'!N656","v":0},{"$f":"'[2]Inventário Completo'!O656","v":0},{"$f":"'[2]Inventário Completo'!P656","v":0},{"$f":"'[2]Inventário Completo'!Q656","v":0}]
[{"$f":"'[2]Inventário Completo'!A657","v":"JCVR0123"},{"$f":"'[2]Inventário Completo'!B657","v":"52N211101156"},{"$f":"'[2]Inventário Completo'!C657","v":"Impressora Térmicas"},{"$f":"'[2]Inventário Completo'!D657","v":"ZT230"},{"$f":"'[2]Inventário Completo'!E657","v":"Zebra"},{"$f":"'[2]Inventário Completo'!F657","v":"COMPANHIA SIDERURGICA NACIONAL"},{"$f":"'[2]Inventário Completo'!G657","v":"CSN-VOLTA REDONDA"},{"$f":"'[2]Inventário Completo'!H657","v":"RJ"},{"$f":"'[2]Inventário Completo'!I657","v":"33.042.730/0017-71"},{"$f":"'[2]Inventário Completo'!J657","v":80541767},{"$f":"'[2]Inventário Completo'!K657","v":"Rodovia BR 393, Lúcio Meira KM 5001, SN°, Vila Santa Cecília, Volta Redonda"},{"$f":"'[2]Inventário Completo'!L657","v":"Luiz Cesar"},{"$f":"'[2]Inventário Completo'!M657","v":3105},{"$f":"'[2]Inventário Completo'!N657","v":0},{"$f":"'[2]Inventário Completo'!O657","v":0},{"$f":"'[2]Inventário Completo'!P657","v":0},{"$f":"'[2]Inventário Completo'!Q657","v":0}]
[{"$f":"'[2]Inventário Completo'!A658","v":"JCVR0080"},{"$f":"'[2]Inventário Completo'!B658","v":"52J151202057"},{"$f":"'[2]Inventário Completo'!C658","v":"Impressora Térmicas"},{"$f":"'[2]Inventário Completo'!D658","v":"ZT230"},{"$f":"'[2]Inventário Completo'!E658","v":"Zebra"},{"$f":"'[2]Inventário Completo'!F658","v":"COMPANHIA SIDERURGICA NACIONAL"},{"$f":"'[2]Inventário Completo'!G658","v":"CSN-VOLTA REDONDA"},{"$f":"'[2]Inventário Completo'!H658","v":"RJ"},{"$f":"'[2]Inventário Completo'!I658","v":"33.042.730/0017-71"},{"$f":"'[2]Inventário Completo'!J658","v":80541767},{"$f":"'[2]Inventário Completo'!K658","v":"Rodovia BR 393, Lúcio Meira KM 5001, SN°, Vila Santa Cecília, Volta Redonda"},{"$f":"'[2]Inventário Completo'!L658","v":"Luiz Cesar"},{"$f":"'[2]Inventário Completo'!M658","v":3105},{"$f":"'[2]Inventário Completo'!N658","v":0},{"$f":"'[2]Inventário Completo'!O658","v":0},{"$f":"'[2]Inventário Completo'!P658","v":0},{"$f":"'[2]Inventário Completo'!Q658","v":0}]
[{"$f":"'[2]Inventário Completo'!A659","v":"JCVR0127"},{"$f":"'[2]Inventário Completo'!B659","v":"52N204500548"},{"$f":"'[2]Inventário Completo'!C659","v":"Impressora Térmicas"},{"$f":"'[2]Inventário Completo'!D659","v":"ZT230"},{"$f":"'[2]Inventário Completo'!E659","v":"Zebra"},{"$f":"'[2]Inventário Completo'!F659","v":"COMPANHIA SIDERURGICA NACIONAL"},{"$f":"'[2]Inventário Completo'!G659","v":"CSN-VOLTA REDONDA"},{"$f":"'[2]Inventário Completo'!H659","v":"RJ"},{"$f":"'[2]Inventário Completo'!I659","v":"33.042.730/0017-71"},{"$f":"'[2]Inventário Completo'!J659","v":80541767},{"$f":"'[2]Inventário Completo'!K659","v":"Rodovia BR 393, Lúcio Meira KM 5001, SN°, Vila Santa Cecília, Volta Redonda"},{"$f":"'[2]Inventário Completo'!L659","v":"Luiz Cesar"},{"$f":"'[2]Inventário Completo'!M659","v":3105},{"$f":"'[2]Inventário Completo'!N659","v":0},{"$f":"'[2]Inventário Completo'!O659","v":0},{"$f":"'[2]Inventário Completo'!P659","v":0},{"$f":"'[2]Inventário Completo'!Q659","v":0}]
[{"$f":"'[2]Inventário Completo'!A660","v":"JCVR0137"},{"$f":"'[2]Inventário Completo'!B660","v":"52N212101891"},{"$f":"'[2]Inventário Completo'!C660","v":"Impressora Térmicas"},{"$f":"'[2]Inventário Completo'!D660","v":"ZT230"},{"$f":"'[2]Inventário Completo'!E660","v":"Zebra"},{"$f":"'[2]Inventário Completo'!F660","v":"COMPANHIA SIDERURGICA NACIONAL"},{"$f":"'[2]Inventário Completo'!G660","v":"CSN-VOLTA REDONDA"},{"$f":"'[2]Inventário Completo'!H660","v":"RJ"},{"$f":"'[2]Inventário Completo'!I660","v":"33.042.730/0017-71"},{"$f":"'[2]Inventário Completo'!J660","v":80541767},{"$f":"'[2]Inventário Completo'!K660","v":"Rodovia BR 393, Lúcio Meira KM 5001, SN°, Vila Santa Cecília, Volta Redonda"},{"$f":"'[2]Inventário Completo'!L660","v":"Luiz Cesar"},{"$f":"'[2]Inventário Completo'!M660","v":3105},{"$f":"'[2]Inventário Completo'!N660","v":0},{"$f":"'[2]Inventário Completo'!O660","v":0},{"$f":"'[2]Inventário Completo'!P660","v":0},{"$f":"'[2]Inventário Completo'!Q660","v":0}]
[{"$f":"'[2]Inventário Completo'!A661","v":"JCVR0138"},{"$f":"'[2]Inventário Completo'!B661","v":"52N212101833"},{"$f":"'[2]Inventário Completo'!C661","v":"Impressora Térmicas"},{"$f":"'[2]Inventário Completo'!D661","v":"ZT230"},{"$f":"'[2]Inventário Completo'!E661","v":"Zebra"},{"$f":"'[2]Inventário Completo'!F661","v":"COMPANHIA SIDERURGICA NACIONAL"},{"$f":"'[2]Inventário Completo'!G661","v":"CSN-VOLTA REDONDA"},{"$f":"'[2]Inventário Completo'!H661","v":"RJ"},{"$f":"'[2]Inventário Completo'!I661","v":"33.042.730/0017-71"},{"$f":"'[2]Inventário Completo'!J661","v":80541767},{"$f":"'[2]Inventário Completo'!K661","v":"Rodovia BR 393, Lúcio Meira KM 5001, SN°, Vila Santa Cecília, Volta Redonda"},{"$f":"'[2]Inventário Completo'!L661","v":"Luiz Cesar"},{"$f":"'[2]Inventário Completo'!M661","v":3105},{"$f":"'[2]Inventário Completo'!N661","v":0},{"$f":"'[2]Inventário Completo'!O661","v":0},{"$f":"'[2]Inventário Completo'!P661","v":0},{"$f":"'[2]Inventário Completo'!Q661","v":0}]
[{"$f":"'[2]Inventário Completo'!A662","v":"JCVR0126"},{"$f":"'[2]Inventário Completo'!B662","v":"52N210300294"},{"$f":"'[2]Inventário Completo'!C662","v":"Impressora Térmicas"},{"$f":"'[2]Inventário Completo'!D662","v":"ZT230"},{"$f":"'[2]Inventário Completo'!E662","v":"Zebra"},{"$f":"'[2]Inventário Completo'!F662","v":"COMPANHIA SIDERURGICA NACIONAL"},{"$f":"'[2]Inventário Completo'!G662","v":"CSN-VOLTA REDONDA"},{"$f":"'[2]Inventário Completo'!H662","v":"RJ"},{"$f":"'[2]Inventário Completo'!I662","v":"33.042.730/0017-71"},{"$f":"'[2]Inventário Completo'!J662","v":80541767},{"$f":"'[2]Inventário Completo'!K662","v":"Rodovia BR 393, Lúcio Meira KM 5001, SN°, Vila Santa Cecília, Volta Redonda"},{"$f":"'[2]Inventário Completo'!L662","v":"Luiz Cesar"},{"$f":"'[2]Inventário Completo'!M662","v":3105},{"$f":"'[2]Inventário Completo'!N662","v":0},{"$f":"'[2]Inventário Completo'!O662","v":0},{"$f":"'[2]Inventário Completo'!P662","v":0},{"$f":"'[2]Inventário Completo'!Q662","v":0}]
[{"$f":"'[2]Inventário Completo'!A663","v":"JCVR0102"},{"$f":"'[2]Inventário Completo'!B663","v":"52J180401735"},{"$f":"'[2]Inventário Completo'!C663","v":"Impressora Térmicas"},{"$f":"'[2]Inventário Completo'!D663","v":"ZT230"},{"$f":"'[2]Inventário Completo'!E663","v":"Zebra"},{"$f":"'[2]Inventário Completo'!F663","v":"COMPANHIA SIDERURGICA NACIONAL"},{"$f":"'[2]Inventário Completo'!G663","v":"CSN-VOLTA REDONDA"},{"$f":"'[2]Inventário Completo'!H663","v":"RJ"},{"$f":"'[2]Inventário Completo'!I663","v":"33.042.730/0017-71"},{"$f":"'[2]Inventário Completo'!J663","v":80541767},{"$f":"'[2]Inventário Completo'!K663","v":"Rodovia BR 393, Lúcio Meira KM 5001, SN°, Vila Santa Cecília, Volta Redonda"},{"$f":"'[2]Inventário Completo'!L663","v":"Luiz Cesar"},{"$f":"'[2]Inventário Completo'!M663","v":3105},{"$f":"'[2]Inventário Completo'!N663","v":0},{"$f":"'[2]Inventário Completo'!O663","v":0},{"$f":"'[2]Inventário Completo'!P663","v":0},{"$f":"'[2]Inventário Completo'!Q663","v":0}]
[{"$f":"'[2]Inventário Completo'!A664","v":"JCVR0130"},{"$f":"'[2]Inventário Completo'!B664","v":"71J194500101"},{"$f":"'[2]Inventário Completo'!C664","v":"Impressora Térmicas"},{"$f":"'[2]Inventário Completo'!D664","v":"ZT610"},{"$f":"'[2]Inventário Completo'!E664","v":"Zebra"},{"$f":"'[2]Inventário Completo'!F664","v":"COMPANHIA SIDERURGICA NACIONAL"},{"$f":"'[2]Inventário Completo'!G664","v":"CSN-VOLTA REDONDA"},{"$f":"'[2]Inventário Completo'!H664","v":"RJ"},{"$f":"'[2]Inventário Completo'!I664","v":"33.042.730/0017-71"},{"$f":"'[2]Inventário Completo'!J664","v":80541767},{"$f":"'[2]Inventário Completo'!K664","v":"Rodovia BR 393, Lúcio Meira KM 5001, SN°, Vila Santa Cecília, Volta Redonda"},{"$f":"'[2]Inventário Completo'!L664","v":"Luiz Cesar"},{"$f":"'[2]Inventário Completo'!M664","v":3105},{"$f":"'[2]Inventário Completo'!N664","v":0},{"$f":"'[2]Inventário Completo'!O664","v":0},{"$f":"'[2]Inventário Completo'!P664","v":0},{"$f":"'[2]Inventário Completo'!Q664","v":0}]
[{"$f":"'[2]Inventário Completo'!A665","v":"JCVR0092"},{"$f":"'[2]Inventário Completo'!B665","v":"71J185100812"},{"$f":"'[2]Inventário Completo'!C665","v":"Impressora Térmicas"},{"$f":"'[2]Inventário Completo'!D665","v":"ZT610"},{"$f":"'[2]Inventário Completo'!E665","v":"Zebra"},{"$f":"'[2]Inventário Completo'!F665","v":"COMPANHIA SIDERURGICA NACIONAL"},{"$f":"'[2]Inventário Completo'!G665","v":"CSN-VOLTA REDONDA"},{"$f":"'[2]Inventário Completo'!H665","v":"RJ"},{"$f":"'[2]Inventário Completo'!I665","v":"33.042.730/0017-71"},{"$f":"'[2]Inventário Completo'!J665","v":80541767},{"$f":"'[2]Inventário Completo'!K665","v":"Rodovia BR 393, Lúcio Meira KM 5001, SN°, Vila Santa Cecília, Volta Redonda"},{"$f":"'[2]Inventário Completo'!L665","v":"Luiz Cesar"},{"$f":"'[2]Inventário Completo'!M665","v":3105},{"$f":"'[2]Inventário Completo'!N665","v":0},{"$f":"'[2]Inventário Completo'!O665","v":0},{"$f":"'[2]Inventário Completo'!P665","v":0},{"$f":"'[2]Inventário Completo'!Q665","v":0}]
[{"$f":"'[2]Inventário Completo'!A666","v":"JCVR0142"},{"$f":"'[2]Inventário Completo'!B666","v":"71N222000333"},{"$f":"'[2]Inventário Completo'!C666","v":"Impressora Térmicas"},{"$f":"'[2]Inventário Completo'!D666","v":"ZT610"},{"$f":"'[2]Inventário Completo'!E666","v":"Zebra"},{"$f":"'[2]Inventário Completo'!F666","v":"COMPANHIA SIDERURGICA NACIONAL"},{"$f":"'[2]Inventário Completo'!G666","v":"CSN-VOLTA REDONDA"},{"$f":"'[2]Inventário Completo'!H666","v":"RJ"},{"$f":"'[2]Inventário Completo'!I666","v":"33.042.730/0017-71"},{"$f":"'[2]Inventário Completo'!J666","v":80541767},{"$f":"'[2]Inventário Completo'!K666","v":"Rodovia BR 393, Lúcio Meira KM 5001, SN°, Vila Santa Cecília, Volta Redonda"},{"$f":"'[2]Inventário Completo'!L666","v":"Luiz Cesar"},{"$f":"'[2]Inventário Completo'!M666","v":3105},{"$f":"'[2]Inventário Completo'!N666","v":0},{"$f":"'[2]Inventário Completo'!O666","v":0},{"$f":"'[2]Inventário Completo'!P666","v":0},{"$f":"'[2]Inventário Completo'!Q666","v":0}]
[{"$f":"'[2]Inventário Completo'!A667","v":"JCVR0141"},{"$f":"'[2]Inventário Completo'!B667","v":"71N222000347"},{"$f":"'[2]Inventário Completo'!C667","v":"Impressora Térmicas"},{"$f":"'[2]Inventário Completo'!D667","v":"ZT610"},{"$f":"'[2]Inventário Completo'!E667","v":"Zebra"},{"$f":"'[2]Inventário Completo'!F667","v":"COMPANHIA SIDERURGICA NACIONAL"},{"$f":"'[2]Inventário Completo'!G667","v":"CSN-VOLTA REDONDA"},{"$f":"'[2]Inventário Completo'!H667","v":"RJ"},{"$f":"'[2]Inventário Completo'!I667","v":"33.042.730/0017-71"},{"$f":"'[2]Inventário Completo'!J667","v":80541767},{"$f":"'[2]Inventário Completo'!K667","v":"Rodovia BR 393, Lúcio Meira KM 5001, SN°, Vila Santa Cecília, Volta Redonda"},{"$f":"'[2]Inventário Completo'!L667","v":"Luiz Cesar"},{"$f":"'[2]Inventário Completo'!M667","v":3105},{"$f":"'[2]Inventário Completo'!N667","v":0},{"$f":"'[2]Inventário Completo'!O667","v":0},{"$f":"'[2]Inventário Completo'!P667","v":0},{"$f":"'[2]Inventário Completo'!Q667","v":0}]
[{"$f":"'[2]Inventário Completo'!A668","v":"JCVR0140"},{"$f":"'[2]Inventário Completo'!B668","v":"71N222000329"},{"$f":"'[2]Inventário Completo'!C668","v":"Impressora Térmicas"},{"$f":"'[2]Inventário Completo'!D668","v":"ZT610"},{"$f":"'[2]Inventário Completo'!E668","v":"Zebra"},{"$f":"'[2]Inventário Completo'!F668","v":"COMPANHIA SIDERURGICA NACIONAL"},{"$f":"'[2]Inventário Completo'!G668","v":"CSN-VOLTA REDONDA"},{"$f":"'[2]Inventário Completo'!H668","v":"RJ"},{"$f":"'[2]Inventário Completo'!I668","v":"33.042.730/0017-71"},{"$f":"'[2]Inventário Completo'!J668","v":80541767},{"$f":"'[2]Inventário Completo'!K668","v":"Rodovia BR 393, Lúcio Meira KM 5001, SN°, Vila Santa Cecília, Volta Redonda"},{"$f":"'[2]Inventário Completo'!L668","v":"Luiz Cesar"},{"$f":"'[2]Inventário Completo'!M668","v":3105},{"$f":"'[2]Inventário Completo'!N668","v":0},{"$f":"'[2]Inventário Completo'!O668","v":0},{"$f":"'[2]Inventário Completo'!P668","v":0},{"$f":"'[2]Inventário Completo'!Q668","v":0}]
[{"$f":"'[2]Inventário Completo'!A669","v":"JCVR0143"},{"$f":"'[2]Inventário Completo'!B669","v":"71N222000283"},{"$f":"'[2]Inventário Completo'!C669","v":"Impressora Térmicas"},{"$f":"'[2]Inventário Completo'!D669","v":"ZT610"},{"$f":"'[2]Inventário Completo'!E669","v":"Zebra"},{"$f":"'[2]Inventário Completo'!F669","v":"COMPANHIA SIDERURGICA NACIONAL"},{"$f":"'[2]Inventário Completo'!G669","v":"CSN-VOLTA REDONDA"},{"$f":"'[2]Inventário Completo'!H669","v":"RJ"},{"$f":"'[2]Inventário Completo'!I669","v":"33.042.730/0017-71"},{"$f":"'[2]Inventário Completo'!J669","v":80541767},{"$f":"'[2]Inventário Completo'!K669","v":"Rodovia BR 393, Lúcio Meira KM 5001, SN°, Vila Santa Cecília, Volta Redonda"},{"$f":"'[2]Inventário Completo'!L669","v":"Luiz Cesar"},{"$f":"'[2]Inventário Completo'!M669","v":3105},{"$f":"'[2]Inventário Completo'!N669","v":0},{"$f":"'[2]Inventário Completo'!O669","v":0},{"$f":"'[2]Inventário Completo'!P669","v":0},{"$f":"'[2]Inventário Completo'!Q669","v":0}]
[{"$f":"'[2]Inventário Completo'!A670","v":"JCVR0139"},{"$f":"'[2]Inventário Completo'!B670","v":"71N222000187"},{"$f":"'[2]Inventário Completo'!C670","v":"Impressora Térmicas"},{"$f":"'[2]Inventário Completo'!D670","v":"ZT610"},{"$f":"'[2]Inventário Completo'!E670","v":"Zebra"},{"$f":"'[2]Inventário Completo'!F670","v":"COMPANHIA SIDERURGICA NACIONAL"},{"$f":"'[2]Inventário Completo'!G670","v":"CSN-VOLTA REDONDA"},{"$f":"'[2]Inventário Completo'!H670","v":"RJ"},{"$f":"'[2]Inventário Completo'!I670","v":"33.042.730/0017-71"},{"$f":"'[2]Inventário Completo'!J670","v":80541767},{"$f":"'[2]Inventário Completo'!K670","v":"Rodovia BR 393, Lúcio Meira KM 5001, SN°, Vila Santa Cecília, Volta Redonda"},{"$f":"'[2]Inventário Completo'!L670","v":"Luiz Cesar"},{"$f":"'[2]Inventário Completo'!M670","v":3105},{"$f":"'[2]Inventário Completo'!N670","v":0},{"$f":"'[2]Inventário Completo'!O670","v":0},{"$f":"'[2]Inventário Completo'!P670","v":0},{"$f":"'[2]Inventário Completo'!Q670","v":0}]
[{"$f":"'[2]Inventário Completo'!A671","v":"JCVR0094"},{"$f":"'[2]Inventário Completo'!B671","v":"71J184700582"},{"$f":"'[2]Inventário Completo'!C671","v":"Impressora Térmicas"},{"$f":"'[2]Inventário Completo'!D671","v":"ZT610"},{"$f":"'[2]Inventário Completo'!E671","v":"Zebra"},{"$f":"'[2]Inventário Completo'!F671","v":"COMPANHIA SIDERURGICA NACIONAL"},{"$f":"'[2]Inventário Completo'!G671","v":"CSN-VOLTA REDONDA"},{"$f":"'[2]Inventário Completo'!H671","v":"RJ"},{"$f":"'[2]Inventário Completo'!I671","v":"33.042.730/0017-71"},{"$f":"'[2]Inventário Completo'!J671","v":80541767},{"$f":"'[2]Inventário Completo'!K671","v":"Rodovia BR 393, Lúcio Meira KM 5001, SN°, Vila Santa Cecília, Volta Redonda"},{"$f":"'[2]Inventário Completo'!L671","v":"Luiz Cesar"},{"$f":"'[2]Inventário Completo'!M671","v":3105},{"$f":"'[2]Inventário Completo'!N671","v":0},{"$f":"'[2]Inventário Completo'!O671","v":0},{"$f":"'[2]Inventário Completo'!P671","v":0},{"$f":"'[2]Inventário Completo'!Q671","v":0}]
[{"$f":"'[2]Inventário Completo'!A672","v":"JCVL0001"},{"$f":"'[2]Inventário Completo'!B672","v":"52J180401733"},{"$f":"'[2]Inventário Completo'!C672","v":"Impressora Térmicas"},{"$f":"'[2]Inventário Completo'!D672","v":"ZT230"},{"$f":"'[2]Inventário Completo'!E672","v":"Zebra"},{"$f":"'[2]Inventário Completo'!F672","v":"COMPANHIA METALURGICA PRADA"},{"$f":"'[2]Inventário Completo'!G672","v":"PRADA VALENÇA"},{"$f":"'[2]Inventário Completo'!H672","v":"RJ"},{"$f":"'[2]Inventário Completo'!I672","v":"56.993.900/0034-08"},{"$f":"'[2]Inventário Completo'!J672","v":11470513},{"$f":"'[2]Inventário Completo'!K672","v":"Rua Galdino Mariano Pacheco 1011 – Barão de Juparanã"},{"$f":"'[2]Inventário Completo'!L672","v":"Alexandre Machado"},{"$f":"'[2]Inventário Completo'!M672","v":"(11) 4791-7971"},{"$f":"'[2]Inventário Completo'!N672","v":0},{"$f":"'[2]Inventário Completo'!O672","v":0},{"$f":"'[2]Inventário Completo'!P672","v":0},{"$f":"'[2]Inventário Completo'!Q672","v":0}]
[{"$f":"'[2]Inventário Completo'!A673","v":"JCVL0002"},{"$f":"'[2]Inventário Completo'!B673","v":"52J201204840"},{"$f":"'[2]Inventário Completo'!C673","v":"Impressora Térmicas"},{"$f":"'[2]Inventário Completo'!D673","v":"ZT230"},{"$f":"'[2]Inventário Completo'!E673","v":"Zebra"},{"$f":"'[2]Inventário Completo'!F673","v":"COMPANHIA METALURGICA PRADA"},{"$f":"'[2]Inventário Completo'!G673","v":"PRADA VALENÇA"},{"$f":"'[2]Inventário Completo'!H673","v":"RJ"},{"$f":"'[2]Inventário Completo'!I673","v":"56.993.900/0034-08"},{"$f":"'[2]Inventário Completo'!J673","v":11470513},{"$f":"'[2]Inventário Completo'!K673","v":"Rua Galdino Mariano Pacheco 1011 – Barão de Juparanã"},{"$f":"'[2]Inventário Completo'!L673","v":"Alexandre Machado"},{"$f":"'[2]Inventário Completo'!M673","v":"(11) 4791-7971"},{"$f":"'[2]Inventário Completo'!N673","v":0},{"$f":"'[2]Inventário Completo'!O673","v":0},{"$f":"'[2]Inventário Completo'!P673","v":0},{"$f":"'[2]Inventário Completo'!Q673","v":0}]
[{"$f":"'[2]Inventário Completo'!A674","v":"JCVL0003"},{"$f":"'[2]Inventário Completo'!B674","v":"52J201204838"},{"$f":"'[2]Inventário Completo'!C674","v":"Impressora Térmicas"},{"$f":"'[2]Inventário Completo'!D674","v":"ZT230"},{"$f":"'[2]Inventário Completo'!E674","v":"Zebra"},{"$f":"'[2]Inventário Completo'!F674","v":"COMPANHIA METALURGICA PRADA"},{"$f":"'[2]Inventário Completo'!G674","v":"PRADA VALENÇA"},{"$f":"'[2]Inventário Completo'!H674","v":"RJ"},{"$f":"'[2]Inventário Completo'!I674","v":"56.993.900/0034-08"},{"$f":"'[2]Inventário Completo'!J674","v":11470513},{"$f":"'[2]Inventário Completo'!K674","v":"Rua Galdino Mariano Pacheco 1011 – Barão de Juparanã"},{"$f":"'[2]Inventário Completo'!L674","v":"Alexandre Machado"},{"$f":"'[2]Inventário Completo'!M674","v":"(11) 4791-7971"},{"$f":"'[2]Inventário Completo'!N674","v":0},{"$f":"'[2]Inventário Completo'!O674","v":0},{"$f":"'[2]Inventário Completo'!P674","v":0},{"$f":"'[2]Inventário Completo'!Q674","v":0}]
[{"$f":"'[2]Inventário Completo'!A675","v":"JCVL0004"},{"$f":"'[2]Inventário Completo'!B675","v":"52J151202163"},{"$f":"'[2]Inventário Completo'!C675","v":"Impressora Térmicas"},{"$f":"'[2]Inventário Completo'!D675","v":"ZT230"},{"$f":"'[2]Inventário Completo'!E675","v":"Zebra"},{"$f":"'[2]Inventário Completo'!F675","v":"COMPANHIA METALURGICA PRADA"},{"$f":"'[2]Inventário Completo'!G675","v":"PRADA VALENÇA"},{"$f":"'[2]Inventário Completo'!H675","v":"RJ"},{"$f":"'[2]Inventário Completo'!I675","v":"56.993.900/0034-08"},{"$f":"'[2]Inventário Completo'!J675","v":11470513},{"$f":"'[2]Inventário Completo'!K675","v":"Rua Galdino Mariano Pacheco 1011 – Barão de Juparanã"},{"$f":"'[2]Inventário Completo'!L675","v":"Alexandre Machado"},{"$f":"'[2]Inventário Completo'!M675","v":"(11) 4791-7971"},{"$f":"'[2]Inventário Completo'!N675","v":0},{"$f":"'[2]Inventário Completo'!O675","v":0},{"$f":"'[2]Inventário Completo'!P675","v":0},{"$f":"'[2]Inventário Completo'!Q675","v":0}]
[{"$f":"'[2]Inventário Completo'!A676","v":"JCVL0005"},{"$f":"'[2]Inventário Completo'!B676","v":"52J201204843"},{"$f":"'[2]Inventário Completo'!C676","v":"Impressora Térmicas"},{"$f":"'[2]Inventário Completo'!D676","v":"ZT230"},{"$f":"'[2]Inventário Completo'!E676","v":"Zebra"},{"$f":"'[2]Inventário Completo'!F676","v":"COMPANHIA METALURGICA PRADA"},{"$f":"'[2]Inventário Completo'!G676","v":"PRADA VALENÇA"},{"$f":"'[2]Inventário Completo'!H676","v":"RJ"},{"$f":"'[2]Inventário Completo'!I676","v":"56.993.900/0034-08"},{"$f":"'[2]Inventário Completo'!J676","v":11470513},{"$f":"'[2]Inventário Completo'!K676","v":"Rua Galdino Mariano Pacheco 1011 – Barão de Juparanã"},{"$f":"'[2]Inventário Completo'!L676","v":"Alexandre Machado"},{"$f":"'[2]Inventário Completo'!M676","v":"(11) 4791-7971"},{"$f":"'[2]Inventário Completo'!N676","v":0},{"$f":"'[2]Inventário Completo'!O676","v":0},{"$f":"'[2]Inventário Completo'!P676","v":0},{"$f":"'[2]Inventário Completo'!Q676","v":0}]
[{"$f":"'[2]Inventário Completo'!A677","v":"JCVL0006"},{"$f":"'[2]Inventário Completo'!B677","v":"52J201204810"},{"$f":"'[2]Inventário Completo'!C677","v":"Impressora Térmicas"},{"$f":"'[2]Inventário Completo'!D677","v":"ZT230"},{"$f":"'[2]Inventário Completo'!E677","v":"Zebra"},{"$f":"'[2]Inventário Completo'!F677","v":"COMPANHIA METALURGICA PRADA"},{"$f":"'[2]Inventário Completo'!G677","v":"PRADA VALENÇA"},{"$f":"'[2]Inventário Completo'!H677","v":"RJ"},{"$f":"'[2]Inventário Completo'!I677","v":"56.993.900/0034-08"},{"$f":"'[2]Inventário Completo'!J677","v":11470513},{"$f":"'[2]Inventário Completo'!K677","v":"Rua Galdino Mariano Pacheco 1011 – Barão de Juparanã"},{"$f":"'[2]Inventário Completo'!L677","v":"Alexandre Machado"},{"$f":"'[2]Inventário Completo'!M677","v":"(11) 4791-7971"},{"$f":"'[2]Inventário Completo'!N677","v":0},{"$f":"'[2]Inventário Completo'!O677","v":0},{"$f":"'[2]Inventário Completo'!P677","v":0},{"$f":"'[2]Inventário Completo'!Q677","v":0}]
[{"$f":"'[2]Inventário Completo'!A678","v":"JCVL0007"},{"$f":"'[2]Inventário Completo'!B678","v":"52J143001826"},{"$f":"'[2]Inventário Completo'!C678","v":"Impressora Térmicas"},{"$f":"'[2]Inventário Completo'!D678","v":"ZT230"},{"$f":"'[2]Inventário Completo'!E678","v":"Zebra"},{"$f":"'[2]Inventário Completo'!F678","v":"COMPANHIA METALURGICA PRADA"},{"$f":"'[2]Inventário Completo'!G678","v":"PRADA VALENÇA"},{"$f":"'[2]Inventário Completo'!H678","v":"RJ"},{"$f":"'[2]Inventário Completo'!I678","v":"56.993.900/0034-08"},{"$f":"'[2]Inventário Completo'!J678","v":11470513},{"$f":"'[2]Inventário Completo'!K678","v":"Rua Galdino Mariano Pacheco 1011 – Barão de Juparanã"},{"$f":"'[2]Inventário Completo'!L678","v":"Alexandre Machado"},{"$f":"'[2]Inventário Completo'!M678","v":"(11) 4791-7971"},{"$f":"'[2]Inventário Completo'!N678","v":0},{"$f":"'[2]Inventário Completo'!O678","v":0},{"$f":"'[2]Inventário Completo'!P678","v":0},{"$f":"'[2]Inventário Completo'!Q678","v":0}]
[{"$f":"'[2]Inventário Completo'!A679","v":"JCVL0008"},{"$f":"'[2]Inventário Completo'!B679","v":"52J164601044"},{"$f":"'[2]Inventário Completo'!C679","v":"Impressora Térmicas"},{"$f":"'[2]Inventário Completo'!D679","v":"ZT230"},{"$f":"'[2]Inventário Completo'!E679","v":"Zebra"},{"$f":"'[2]Inventário Completo'!F679","v":"COMPANHIA METALURGICA PRADA"},{"$f":"'[2]Inventário Completo'!G679","v":"PRADA VALENÇA"},{"$f":"'[2]Inventário Completo'!H679","v":"RJ"},{"$f":"'[2]Inventário Completo'!I679","v":"56.993.900/0034-08"},{"$f":"'[2]Inventário Completo'!J679","v":11470513},{"$f":"'[2]Inventário Completo'!K679","v":"Rua Galdino Mariano Pacheco 1011 – Barão de Juparanã"},{"$f":"'[2]Inventário Completo'!L679","v":"Alexandre Machado"},{"$f":"'[2]Inventário Completo'!M679","v":"(11) 4791-7971"},{"$f":"'[2]Inventário Completo'!N679","v":0},{"$f":"'[2]Inventário Completo'!O679","v":0},{"$f":"'[2]Inventário Completo'!P679","v":0},{"$f":"'[2]Inventário Completo'!Q679","v":0}]
[{"$f":"'[2]Inventário Completo'!A680","v":"JCMC0024"},{"$f":"'[2]Inventário Completo'!B680","v":"52J180205301"},{"$f":"'[2]Inventário Completo'!C680","v":"Impressora Térmicas"},{"$f":"'[2]Inventário Completo'!D680","v":"ZT230"},{"$f":"'[2]Inventário Completo'!E680","v":"Zebra"},{"$f":"'[2]Inventário Completo'!F680","v":"CSN Vargem Grande Paulista"},{"$f":"'[2]Inventário Completo'!G680","v":"PRADA - VARGEM GRANDE"},{"$f":"'[2]Inventário Completo'!H680","v":"SP"},{"$f":"'[2]Inventário Completo'!I680","v":"33.042.730/0045-25"},{"$f":"'[2]Inventário Completo'!J680","v":720081340117},{"$f":"'[2]Inventário Completo'!K680","v":"AVELINO SOARES RODRIGUES / GALPAO04 - PORTAO VERMELHO"},{"$f":"'[2]Inventário Completo'!L680","v":"Alexandre Machado"},{"$f":"'[2]Inventário Completo'!M680","v":"(11) 4791-7971"},{"$f":"'[2]Inventário Completo'!N680","v":0},{"$f":"'[2]Inventário Completo'!O680","v":0},{"$f":"'[2]Inventário Completo'!P680","v":0},{"$f":"'[2]Inventário Completo'!Q680","v":0}]
[{"$f":"'[2]Inventário Completo'!A681","v":"JCMC0025"},{"$f":"'[2]Inventário Completo'!B681","v":"52N212101256"},{"$f":"'[2]Inventário Completo'!C681","v":"Impressora Térmicas"},{"$f":"'[2]Inventário Completo'!D681","v":"ZT230"},{"$f":"'[2]Inventário Completo'!E681","v":"Zebra"},{"$f":"'[2]Inventário Completo'!F681","v":"CSN Vargem Grande Paulista"},{"$f":"'[2]Inventário Completo'!G681","v":"PRADA - VARGEM GRANDE"},{"$f":"'[2]Inventário Completo'!H681","v":"SP"},{"$f":"'[2]Inventário Completo'!I681","v":"33.042.730/0045-25"},{"$f":"'[2]Inventário Completo'!J681","v":720081340117},{"$f":"'[2]Inventário Completo'!K681","v":"AVELINO SOARES RODRIGUES / GALPAO04 - PORTAO VERMELHO"},{"$f":"'[2]Inventário Completo'!L681","v":"Alexandre Machado"},{"$f":"'[2]Inventário Completo'!M681","v":"(11) 4791-7971"},{"$f":"'[2]Inventário Completo'!N681","v":0},{"$f":"'[2]Inventário Completo'!O681","v":0},{"$f":"'[2]Inventário Completo'!P681","v":0},{"$f":"'[2]Inventário Completo'!Q681","v":0}]
[{"$f":"'[2]Inventário Completo'!A682","v":"JCMC0026"},{"$f":"'[2]Inventário Completo'!B682","v":"52J183408012"},{"$f":"'[2]Inventário Completo'!C682","v":"Impressora Térmicas"},{"$f":"'[2]Inventário Completo'!D682","v":"ZT230"},{"$f":"'[2]Inventário Completo'!E682","v":"Zebra"},{"$f":"'[2]Inventário Completo'!F682","v":"CSN Vargem Grande Paulista"},{"$f":"'[2]Inventário Completo'!G682","v":"PRADA - VARGEM GRANDE"},{"$f":"'[2]Inventário Completo'!H682","v":"SP"},{"$f":"'[2]Inventário Completo'!I682","v":"33.042.730/0045-25"},{"$f":"'[2]Inventário Completo'!J682","v":720081340117},{"$f":"'[2]Inventário Completo'!K682","v":"AVELINO SOARES RODRIGUES / GALPAO04 - PORTAO VERMELHO"},{"$f":"'[2]Inventário Completo'!L682","v":"Alexandre Machado"},{"$f":"'[2]Inventário Completo'!M682","v":"(11) 4791-7971"},{"$f":"'[2]Inventário Completo'!N682","v":0},{"$f":"'[2]Inventário Completo'!O682","v":0},{"$f":"'[2]Inventário Completo'!P682","v":0},{"$f":"'[2]Inventário Completo'!Q682","v":0}]
[{"$f":"'[2]Inventário Completo'!A683","v":0},{"$f":"'[2]Inventário Completo'!B683","v":0},{"$f":"'[2]Inventário Completo'!C683","v":0},{"$f":"'[2]Inventário Completo'!D683","v":0},{"$f":"'[2]Inventário Completo'!E683","v":0},{"$f":"'[2]Inventário Completo'!F683","v":0},{"$f":"'[2]Inventário Completo'!G683","v":0},{"$f":"'[2]Inventário Completo'!H683","v":0},{"$f":"'[2]Inventário Completo'!I683","v":0},{"$f":"'[2]Inventário Completo'!J683","v":0},{"$f":"'[2]Inventário Completo'!K683","v":0},{"$f":"'[2]Inventário Completo'!L683","v":0},{"$f":"'[2]Inventário Completo'!M683","v":0},{"$f":"'[2]Inventário Completo'!N683","v":0},{"$f":"'[2]Inventário Completo'!O683","v":0},{"$f":"'[2]Inventário Completo'!P683","v":0},{"$f":"'[2]Inventário Completo'!Q683","v":0}]
[{"$f":"'[2]Inventário Completo'!A684","v":0},{"$f":"'[2]Inventário Completo'!B684","v":0},{"$f":"'[2]Inventário Completo'!C684","v":0},{"$f":"'[2]Inventário Completo'!D684","v":0},{"$f":"'[2]Inventário Completo'!E684","v":0},{"$f":"'[2]Inventário Completo'!F684","v":0},{"$f":"'[2]Inventário Completo'!G684","v":0},{"$f":"'[2]Inventário Completo'!H684","v":0},{"$f":"'[2]Inventário Completo'!I684","v":0},{"$f":"'[2]Inventário Completo'!J684","v":0},{"$f":"'[2]Inventário Completo'!K684","v":0},{"$f":"'[2]Inventário Completo'!L684","v":0},{"$f":"'[2]Inventário Completo'!M684","v":0},{"$f":"'[2]Inventário Completo'!N684","v":0},{"$f":"'[2]Inventário Completo'!O684","v":0},{"$f":"'[2]Inventário Completo'!P684","v":0},{"$f":"'[2]Inventário Completo'!Q684","v":0}]
[{"$f":"'[2]Inventário Completo'!A685","v":0},{"$f":"'[2]Inventário Completo'!B685","v":0},{"$f":"'[2]Inventário Completo'!C685","v":0},{"$f":"'[2]Inventário Completo'!D685","v":0},{"$f":"'[2]Inventário Completo'!E685","v":0},{"$f":"'[2]Inventário Completo'!F685","v":0},{"$f":"'[2]Inventário Completo'!G685","v":0},{"$f":"'[2]Inventário Completo'!H685","v":0},{"$f":"'[2]Inventário Completo'!I685","v":0},{"$f":"'[2]Inventário Completo'!J685","v":0},{"$f":"'[2]Inventário Completo'!K685","v":0},{"$f":"'[2]Inventário Completo'!L685","v":0},{"$f":"'[2]Inventário Completo'!M685","v":0},{"$f":"'[2]Inventário Completo'!N685","v":0},{"$f":"'[2]Inventário Completo'!O685","v":0},{"$f":"'[2]Inventário Completo'!P685","v":0},{"$f":"'[2]Inventário Completo'!Q685","v":0}]
[{"$f":"'[2]Inventário Completo'!A686","v":0},{"$f":"'[2]Inventário Completo'!B686","v":0},{"$f":"'[2]Inventário Completo'!C686","v":0},{"$f":"'[2]Inventário Completo'!D686","v":0},{"$f":"'[2]Inventário Completo'!E686","v":0},{"$f":"'[2]Inventário Completo'!F686","v":0},{"$f":"'[2]Inventário Completo'!G686","v":0},{"$f":"'[2]Inventário Completo'!H686","v":0},{"$f":"'[2]Inventário Completo'!I686","v":0},{"$f":"'[2]Inventário Completo'!J686","v":0},{"$f":"'[2]Inventário Completo'!K686","v":0},{"$f":"'[2]Inventário Completo'!L686","v":0},{"$f":"'[2]Inventário Completo'!M686","v":0},{"$f":"'[2]Inventário Completo'!N686","v":0},{"$f":"'[2]Inventário Completo'!O686","v":0},{"$f":"'[2]Inventário Completo'!P686","v":0},{"$f":"'[2]Inventário Completo'!Q686","v":0}]
[{"$f":"'[2]Inventário Completo'!A687","v":0},{"$f":"'[2]Inventário Completo'!B687","v":0},{"$f":"'[2]Inventário Completo'!C687","v":0},{"$f":"'[2]Inventário Completo'!D687","v":0},{"$f":"'[2]Inventário Completo'!E687","v":0},{"$f":"'[2]Inventário Completo'!F687","v":0},{"$f":"'[2]Inventário Completo'!G687","v":0},{"$f":"'[2]Inventário Completo'!H687","v":0},{"$f":"'[2]Inventário Completo'!I687","v":0},{"$f":"'[2]Inventário Completo'!J687","v":0},{"$f":"'[2]Inventário Completo'!K687","v":0},{"$f":"'[2]Inventário Completo'!L687","v":0},{"$f":"'[2]Inventário Completo'!M687","v":0},{"$f":"'[2]Inventário Completo'!N687","v":0},{"$f":"'[2]Inventário Completo'!O687","v":0},{"$f":"'[2]Inventário Completo'!P687","v":0},{"$f":"'[2]Inventário Completo'!Q687","v":0}]
[{"$f":"'[2]Inventário Completo'!A688","v":0},{"$f":"'[2]Inventário Completo'!B688","v":0},{"$f":"'[2]Inventário Completo'!C688","v":0},{"$f":"'[2]Inventário Completo'!D688","v":0},{"$f":"'[2]Inventário Completo'!E688","v":0},{"$f":"'[2]Inventário Completo'!F688","v":0},{"$f":"'[2]Inventário Completo'!G688","v":0},{"$f":"'[2]Inventário Completo'!H688","v":0},{"$f":"'[2]Inventário Completo'!I688","v":0},{"$f":"'[2]Inventário Completo'!J688","v":0},{"$f":"'[2]Inventário Completo'!K688","v":0},{"$f":"'[2]Inventário Completo'!L688","v":0},{"$f":"'[2]Inventário Completo'!M688","v":0},{"$f":"'[2]Inventário Completo'!N688","v":0},{"$f":"'[2]Inventário Completo'!O688","v":0},{"$f":"'[2]Inventário Completo'!P688","v":0},{"$f":"'[2]Inventário Completo'!Q688","v":0}]
[{"$f":"'[2]Inventário Completo'!A689","v":0},{"$f":"'[2]Inventário Completo'!B689","v":0},{"$f":"'[2]Inventário Completo'!C689","v":0},{"$f":"'[2]Inventário Completo'!D689","v":0},{"$f":"'[2]Inventário Completo'!E689","v":0},{"$f":"'[2]Inventário Completo'!F689","v":0},{"$f":"'[2]Inventário Completo'!G689","v":0},{"$f":"'[2]Inventário Completo'!H689","v":0},{"$f":"'[2]Inventário Completo'!I689","v":0},{"$f":"'[2]Inventário Completo'!J689","v":0},{"$f":"'[2]Inventário Completo'!K689","v":0},{"$f":"'[2]Inventário Completo'!L689","v":0},{"$f":"'[2]Inventário Completo'!M689","v":0},{"$f":"'[2]Inventário Completo'!N689","v":0},{"$f":"'[2]Inventário Completo'!O689","v":0},{"$f":"'[2]Inventário Completo'!P689","v":0},{"$f":"'[2]Inventário Completo'!Q689","v":0}]
[{"$f":"'[2]Inventário Completo'!A690","v":0},{"$f":"'[2]Inventário Completo'!B690","v":0},{"$f":"'[2]Inventário Completo'!C690","v":0},{"$f":"'[2]Inventário Completo'!D690","v":0},{"$f":"'[2]Inventário Completo'!E690","v":0},{"$f":"'[2]Inventário Completo'!F690","v":0},{"$f":"'[2]Inventário Completo'!G690","v":0},{"$f":"'[2]Inventário Completo'!H690","v":0},{"$f":"'[2]Inventário Completo'!I690","v":0},{"$f":"'[2]Inventário Completo'!J690","v":0},{"$f":"'[2]Inventário Completo'!K690","v":0},{"$f":"'[2]Inventário Completo'!L690","v":0},{"$f":"'[2]Inventário Completo'!M690","v":0},{"$f":"'[2]Inventário Completo'!N690","v":0},{"$f":"'[2]Inventário Completo'!O690","v":0},{"$f":"'[2]Inventário Completo'!P690","v":0},{"$f":"'[2]Inventário Completo'!Q690","v":0}]
[{"$f":"'[2]Inventário Completo'!A691","v":"JCVR0138"},{"$f":"'[2]Inventário Completo'!B691","v":"52N212101833"},{"$f":"'[2]Inventário Completo'!C691","v":0},{"$f":"'[2]Inventário Completo'!D691","v":0},{"$f":"'[2]Inventário Completo'!E691","v":0},{"$f":"'[2]Inventário Completo'!F691","v":0},{"$f":"'[2]Inventário Completo'!G691","v":0},{"$f":"'[2]Inventário Completo'!H691","v":0},{"$f":"'[2]Inventário Completo'!I691","v":0},{"$f":"'[2]Inventário Completo'!J691","v":0},{"$f":"'[2]Inventário Completo'!K691","v":0},{"$f":"'[2]Inventário Completo'!L691","v":0},{"$f":"'[2]Inventário Completo'!M691","v":0},{"$f":"'[2]Inventário Completo'!N691","v":0},{"$f":"'[2]Inventário Completo'!O691","v":0},{"$f":"'[2]Inventário Completo'!P691","v":0},{"$f":"'[2]Inventário Completo'!Q691","v":0}]
[{"$f":"'[2]Inventário Completo'!A692","v":"JCVR0126"},{"$f":"'[2]Inventário Completo'!B692","v":"52N210300294"},{"$f":"'[2]Inventário Completo'!C692","v":0},{"$f":"'[2]Inventário Completo'!D692","v":0},{"$f":"'[2]Inventário Completo'!E692","v":0},{"$f":"'[2]Inventário Completo'!F692","v":0},{"$f":"'[2]Inventário Completo'!G692","v":0},{"$f":"'[2]Inventário Completo'!H692","v":0},{"$f":"'[2]Inventário Completo'!I692","v":0},{"$f":"'[2]Inventário Completo'!J692","v":0},{"$f":"'[2]Inventário Completo'!K692","v":0},{"$f":"'[2]Inventário Completo'!L692","v":0},{"$f":"'[2]Inventário Completo'!M692","v":0},{"$f":"'[2]Inventário Completo'!N692","v":0},{"$f":"'[2]Inventário Completo'!O692","v":0},{"$f":"'[2]Inventário Completo'!P692","v":0},{"$f":"'[2]Inventário Completo'!Q692","v":0}]
[{"$f":"'[2]Inventário Completo'!A693","v":"JCVR0102"},{"$f":"'[2]Inventário Completo'!B693","v":"52J180401735"},{"$f":"'[2]Inventário Completo'!C693","v":0},{"$f":"'[2]Inventário Completo'!D693","v":0},{"$f":"'[2]Inventário Completo'!E693","v":0},{"$f":"'[2]Inventário Completo'!F693","v":0},{"$f":"'[2]Inventário Completo'!G693","v":0},{"$f":"'[2]Inventário Completo'!H693","v":0},{"$f":"'[2]Inventário Completo'!I693","v":0},{"$f":"'[2]Inventário Completo'!J693","v":0},{"$f":"'[2]Inventário Completo'!K693","v":0},{"$f":"'[2]Inventário Completo'!L693","v":0},{"$f":"'[2]Inventário Completo'!M693","v":0},{"$f":"'[2]Inventário Completo'!N693","v":0},{"$f":"'[2]Inventário Completo'!O693","v":0},{"$f":"'[2]Inventário Completo'!P693","v":0},{"$f":"'[2]Inventário Completo'!Q693","v":0}]
[{"$f":"'[2]Inventário Completo'!A694","v":"JCVR0130"},{"$f":"'[2]Inventário Completo'!B694","v":"71J194500101"},{"$f":"'[2]Inventário Completo'!C694","v":0},{"$f":"'[2]Inventário Completo'!D694","v":0},{"$f":"'[2]Inventário Completo'!E694","v":0},{"$f":"'[2]Inventário Completo'!F694","v":0},{"$f":"'[2]Inventário Completo'!G694","v":0},{"$f":"'[2]Inventário Completo'!H694","v":0},{"$f":"'[2]Inventário Completo'!I694","v":0},{"$f":"'[2]Inventário Completo'!J694","v":0},{"$f":"'[2]Inventário Completo'!K694","v":0},{"$f":"'[2]Inventário Completo'!L694","v":0},{"$f":"'[2]Inventário Completo'!M694","v":0},{"$f":"'[2]Inventário Completo'!N694","v":0},{"$f":"'[2]Inventário Completo'!O694","v":0},{"$f":"'[2]Inventário Completo'!P694","v":0},{"$f":"'[2]Inventário Completo'!Q694","v":0}]
[{"$f":"'[2]Inventário Completo'!A695","v":"JCVR0092"},{"$f":"'[2]Inventário Completo'!B695","v":"71J185100812"},{"$f":"'[2]Inventário Completo'!C695","v":0},{"$f":"'[2]Inventário Completo'!D695","v":0},{"$f":"'[2]Inventário Completo'!E695","v":0},{"$f":"'[2]Inventário Completo'!F695","v":0},{"$f":"'[2]Inventário Completo'!G695","v":0},{"$f":"'[2]Inventário Completo'!H695","v":0},{"$f":"'[2]Inventário Completo'!I695","v":0},{"$f":"'[2]Inventário Completo'!J695","v":0},{"$f":"'[2]Inventário Completo'!K695","v":0},{"$f":"'[2]Inventário Completo'!L695","v":0},{"$f":"'[2]Inventário Completo'!M695","v":0},{"$f":"'[2]Inventário Completo'!N695","v":0},{"$f":"'[2]Inventário Completo'!O695","v":0},{"$f":"'[2]Inventário Completo'!P695","v":0},{"$f":"'[2]Inventário Completo'!Q695","v":0}]
[{"$f":"'[2]Inventário Completo'!A696","v":"JCVR0142"},{"$f":"'[2]Inventário Completo'!B696","v":"71N222000333"},{"$f":"'[2]Inventário Completo'!C696","v":0},{"$f":"'[2]Inventário Completo'!D696","v":0},{"$f":"'[2]Inventário Completo'!E696","v":0},{"$f":"'[2]Inventário Completo'!F696","v":0},{"$f":"'[2]Inventário Completo'!G696","v":0},{"$f":"'[2]Inventário Completo'!H696","v":0},{"$f":"'[2]Inventário Completo'!I696","v":0},{"$f":"'[2]Inventário Completo'!J696","v":0},{"$f":"'[2]Inventário Completo'!K696","v":0},{"$f":"'[2]Inventário Completo'!L696","v":0},{"$f":"'[2]Inventário Completo'!M696","v":0},{"$f":"'[2]Inventário Completo'!N696","v":0},{"$f":"'[2]Inventário Completo'!O696","v":0},{"$f":"'[2]Inventário Completo'!P696","v":0},{"$f":"'[2]Inventário Completo'!Q696","v":0}]
[{"$f":"'[2]Inventário Completo'!A697","v":"JCVR0141"},{"$f":"'[2]Inventário Completo'!B697","v":"71N222000347"},{"$f":"'[2]Inventário Completo'!C697","v":0},{"$f":"'[2]Inventário Completo'!D697","v":0},{"$f":"'[2]Inventário Completo'!E697","v":0},{"$f":"'[2]Inventário Completo'!F697","v":0},{"$f":"'[2]Inventário Completo'!G697","v":0},{"$f":"'[2]Inventário Completo'!H697","v":0},{"$f":"'[2]Inventário Completo'!I697","v":0},{"$f":"'[2]Inventário Completo'!J697","v":0},{"$f":"'[2]Inventário Completo'!K697","v":0},{"$f":"'[2]Inventário Completo'!L697","v":0},{"$f":"'[2]Inventário Completo'!M697","v":0},{"$f":"'[2]Inventário Completo'!N697","v":0},{"$f":"'[2]Inventário Completo'!O697","v":0},{"$f":"'[2]Inventário Completo'!P697","v":0},{"$f":"'[2]Inventário Completo'!Q697","v":0}]
[{"$f":"'[2]Inventário Completo'!A698","v":"JCVR0140"},{"$f":"'[2]Inventário Completo'!B698","v":"71N222000329"},{"$f":"'[2]Inventário Completo'!C698","v":0},{"$f":"'[2]Inventário Completo'!D698","v":0},{"$f":"'[2]Inventário Completo'!E698","v":0},{"$f":"'[2]Inventário Completo'!F698","v":0},{"$f":"'[2]Inventário Completo'!G698","v":0},{"$f":"'[2]Inventário Completo'!H698","v":0},{"$f":"'[2]Inventário Completo'!I698","v":0},{"$f":"'[2]Inventário Completo'!J698","v":0},{"$f":"'[2]Inventário Completo'!K698","v":0},{"$f":"'[2]Inventário Completo'!L698","v":0},{"$f":"'[2]Inventário Completo'!M698","v":0},{"$f":"'[2]Inventário Completo'!N698","v":0},{"$f":"'[2]Inventário Completo'!O698","v":0},{"$f":"'[2]Inventário Completo'!P698","v":0},{"$f":"'[2]Inventário Completo'!Q698","v":0}]
[{"$f":"'[2]Inventário Completo'!A699","v":"JCVR0143"},{"$f":"'[2]Inventário Completo'!B699","v":"71N222000283"},{"$f":"'[2]Inventário Completo'!C699","v":0},{"$f":"'[2]Inventário Completo'!D699","v":0},{"$f":"'[2]Inventário Completo'!E699","v":0},{"$f":"'[2]Inventário Completo'!F699","v":0},{"$f":"'[2]Inventário Completo'!G699","v":0},{"$f":"'[2]Inventário Completo'!H699","v":0},{"$f":"'[2]Inventário Completo'!I699","v":0},{"$f":"'[2]Inventário Completo'!J699","v":0},{"$f":"'[2]Inventário Completo'!K699","v":0},{"$f":"'[2]Inventário Completo'!L699","v":0},{"$f":"'[2]Inventário Completo'!M699","v":0},{"$f":"'[2]Inventário Completo'!N699","v":0},{"$f":"'[2]Inventário Completo'!O699","v":0},{"$f":"'[2]Inventário Completo'!P699","v":0},{"$f":"'[2]Inventário Completo'!Q699","v":0}]
[{"$f":"'[2]Inventário Completo'!A700","v":"JCVR0139"},{"$f":"'[2]Inventário Completo'!B700","v":"71N222000187"},{"$f":"'[2]Inventário Completo'!C700","v":0},{"$f":"'[2]Inventário Completo'!D700","v":0},{"$f":"'[2]Inventário Completo'!E700","v":0},{"$f":"'[2]Inventário Completo'!F700","v":0},{"$f":"'[2]Inventário Completo'!G700","v":0},{"$f":"'[2]Inventário Completo'!H700","v":0},{"$f":"'[2]Inventário Completo'!I700","v":0},{"$f":"'[2]Inventário Completo'!J700","v":0},{"$f":"'[2]Inventário Completo'!K700","v":0},{"$f":"'[2]Inventário Completo'!L700","v":0},{"$f":"'[2]Inventário Completo'!M700","v":0},{"$f":"'[2]Inventário Completo'!N700","v":0},{"$f":"'[2]Inventário Completo'!O700","v":0},{"$f":"'[2]Inventário Completo'!P700","v":0},{"$f":"'[2]Inventário Completo'!Q700","v":0}]
[{"$f":"'[2]Inventário Completo'!A701","v":"JCVR0094"},{"$f":"'[2]Inventário Completo'!B701","v":"71J184700582"},{"$f":"'[2]Inventário Completo'!C701","v":0},{"$f":"'[2]Inventário Completo'!D701","v":0},{"$f":"'[2]Inventário Completo'!E701","v":0},{"$f":"'[2]Inventário Completo'!F701","v":0},{"$f":"'[2]Inventário Completo'!G701","v":0},{"$f":"'[2]Inventário Completo'!H701","v":0},{"$f":"'[2]Inventário Completo'!I701","v":0},{"$f":"'[2]Inventário Completo'!J701","v":0},{"$f":"'[2]Inventário Completo'!K701","v":0},{"$f":"'[2]Inventário Completo'!L701","v":0},{"$f":"'[2]Inventário Completo'!M701","v":0},{"$f":"'[2]Inventário Completo'!N701","v":0},{"$f":"'[2]Inventário Completo'!O701","v":0},{"$f":"'[2]Inventário Completo'!P701","v":0},{"$f":"'[2]Inventário Completo'!Q701","v":0}]
[{"$f":"'[2]Inventário Completo'!A702","v":0},{"$f":"'[2]Inventário Completo'!B702","v":0},{"$f":"'[2]Inventário Completo'!C702","v":0},{"$f":"'[2]Inventário Completo'!D702","v":0},{"$f":"'[2]Inventário Completo'!E702","v":0},{"$f":"'[2]Inventário Completo'!F702","v":0},{"$f":"'[2]Inventário Completo'!G702","v":0},{"$f":"'[2]Inventário Completo'!H702","v":0},{"$f":"'[2]Inventário Completo'!I702","v":0},{"$f":"'[2]Inventário Completo'!J702","v":0},{"$f":"'[2]Inventário Completo'!K702","v":0},{"$f":"'[2]Inventário Completo'!L702","v":0},{"$f":"'[2]Inventário Completo'!M702","v":0},{"$f":"'[2]Inventário Completo'!N702","v":0},{"$f":"'[2]Inventário Completo'!O702","v":0},{"$f":"'[2]Inventário Completo'!P702","v":0},{"$f":"'[2]Inventário Completo'!Q702","v":0}]
[{"$f":"'[2]Inventário Completo'!A703","v":0},{"$f":"'[2]Inventário Completo'!B703","v":0},{"$f":"'[2]Inventário Completo'!C703","v":0},{"$f":"'[2]Inventário Completo'!D703","v":0},{"$f":"'[2]Inventário Completo'!E703","v":0},{"$f":"'[2]Inventário Completo'!F703","v":0},{"$f":"'[2]Inventário Completo'!G703","v":0},{"$f":"'[2]Inventário Completo'!H703","v":0},{"$f":"'[2]Inventário Completo'!I703","v":0},{"$f":"'[2]Inventário Completo'!J703","v":0},{"$f":"'[2]Inventário Completo'!K703","v":0},{"$f":"'[2]Inventário Completo'!L703","v":0},{"$f":"'[2]Inventário Completo'!M703","v":0},{"$f":"'[2]Inventário Completo'!N703","v":0},{"$f":"'[2]Inventário Completo'!O703","v":0},{"$f":"'[2]Inventário Completo'!P703","v":0},{"$f":"'[2]Inventário Completo'!Q703","v":0}]
[{"$f":"'[2]Inventário Completo'!A704","v":0},{"$f":"'[2]Inventário Completo'!B704","v":0},{"$f":"'[2]Inventário Completo'!C704","v":0},{"$f":"'[2]Inventário Completo'!D704","v":0},{"$f":"'[2]Inventário Completo'!E704","v":0},{"$f":"'[2]Inventário Completo'!F704","v":0},{"$f":"'[2]Inventário Completo'!G704","v":0},{"$f":"'[2]Inventário Completo'!H704","v":0},{"$f":"'[2]Inventário Completo'!I704","v":0},{"$f":"'[2]Inventário Completo'!J704","v":0},{"$f":"'[2]Inventário Completo'!K704","v":0},{"$f":"'[2]Inventário Completo'!L704","v":0},{"$f":"'[2]Inventário Completo'!M704","v":0},{"$f":"'[2]Inventário Completo'!N704","v":0},{"$f":"'[2]Inventário Completo'!O704","v":0},{"$f":"'[2]Inventário Completo'!P704","v":0},{"$f":"'[2]Inventário Completo'!Q704","v":0}]
[{"$f":"'[2]Inventário Completo'!A705","v":0},{"$f":"'[2]Inventário Completo'!B705","v":0},{"$f":"'[2]Inventário Completo'!C705","v":0},{"$f":"'[2]Inventário Completo'!D705","v":0},{"$f":"'[2]Inventário Completo'!E705","v":0},{"$f":"'[2]Inventário Completo'!F705","v":0},{"$f":"'[2]Inventário Completo'!G705","v":0},{"$f":"'[2]Inventário Completo'!H705","v":0},{"$f":"'[2]Inventário Completo'!I705","v":0},{"$f":"'[2]Inventário Completo'!J705","v":0},{"$f":"'[2]Inventário Completo'!K705","v":0},{"$f":"'[2]Inventário Completo'!L705","v":0},{"$f":"'[2]Inventário Completo'!M705","v":0},{"$f":"'[2]Inventário Completo'!N705","v":0},{"$f":"'[2]Inventário Completo'!O705","v":0},{"$f":"'[2]Inventário Completo'!P705","v":0},{"$f":"'[2]Inventário Completo'!Q705","v":0}]
[{"$f":"'[2]Inventário Completo'!A706","v":0},{"$f":"'[2]Inventário Completo'!B706","v":0},{"$f":"'[2]Inventário Completo'!C706","v":0},{"$f":"'[2]Inventário Completo'!D706","v":0},{"$f":"'[2]Inventário Completo'!E706","v":0},{"$f":"'[2]Inventário Completo'!F706","v":0},{"$f":"'[2]Inventário Completo'!G706","v":0},{"$f":"'[2]Inventário Completo'!H706","v":0},{"$f":"'[2]Inventário Completo'!I706","v":0},{"$f":"'[2]Inventário Completo'!J706","v":0},{"$f":"'[2]Inventário Completo'!K706","v":0},{"$f":"'[2]Inventário Completo'!L706","v":0},{"$f":"'[2]Inventário Completo'!M706","v":0},{"$f":"'[2]Inventário Completo'!N706","v":0},{"$f":"'[2]Inventário Completo'!O706","v":0},{"$f":"'[2]Inventário Completo'!P706","v":0},{"$f":"'[2]Inventário Completo'!Q706","v":0}]
[{"$f":"'[2]Inventário Completo'!A707","v":0},{"$f":"'[2]Inventário Completo'!B707","v":0},{"$f":"'[2]Inventário Completo'!C707","v":0},{"$f":"'[2]Inventário Completo'!D707","v":0},{"$f":"'[2]Inventário Completo'!E707","v":0},{"$f":"'[2]Inventário Completo'!F707","v":0},{"$f":"'[2]Inventário Completo'!G707","v":0},{"$f":"'[2]Inventário Completo'!H707","v":0},{"$f":"'[2]Inventário Completo'!I707","v":0},{"$f":"'[2]Inventário Completo'!J707","v":0},{"$f":"'[2]Inventário Completo'!K707","v":0},{"$f":"'[2]Inventário Completo'!L707","v":0},{"$f":"'[2]Inventário Completo'!M707","v":0},{"$f":"'[2]Inventário Completo'!N707","v":0},{"$f":"'[2]Inventário Completo'!O707","v":0},{"$f":"'[2]Inventário Completo'!P707","v":0},{"$f":"'[2]Inventário Completo'!Q707","v":0}]
[{"$f":"'[2]Inventário Completo'!A708","v":0},{"$f":"'[2]Inventário Completo'!B708","v":0},{"$f":"'[2]Inventário Completo'!C708","v":0},{"$f":"'[2]Inventário Completo'!D708","v":0},{"$f":"'[2]Inventário Completo'!E708","v":0},{"$f":"'[2]Inventário Completo'!F708","v":0},{"$f":"'[2]Inventário Completo'!G708","v":0},{"$f":"'[2]Inventário Completo'!H708","v":0},{"$f":"'[2]Inventário Completo'!I708","v":0},{"$f":"'[2]Inventário Completo'!J708","v":0},{"$f":"'[2]Inventário Completo'!K708","v":0},{"$f":"'[2]Inventário Completo'!L708","v":0},{"$f":"'[2]Inventário Completo'!M708","v":0},{"$f":"'[2]Inventário Completo'!N708","v":0},{"$f":"'[2]Inventário Completo'!O708","v":0},{"$f":"'[2]Inventário Completo'!P708","v":0},{"$f":"'[2]Inventário Completo'!Q708","v":0}]
[{"$f":"'[2]Inventário Completo'!A709","v":0},{"$f":"'[2]Inventário Completo'!B709","v":0},{"$f":"'[2]Inventário Completo'!C709","v":0},{"$f":"'[2]Inventário Completo'!D709","v":0},{"$f":"'[2]Inventário Completo'!E709","v":0},{"$f":"'[2]Inventário Completo'!F709","v":0},{"$f":"'[2]Inventário Completo'!G709","v":0},{"$f":"'[2]Inventário Completo'!H709","v":0},{"$f":"'[2]Inventário Completo'!I709","v":0},{"$f":"'[2]Inventário Completo'!J709","v":0},{"$f":"'[2]Inventário Completo'!K709","v":0},{"$f":"'[2]Inventário Completo'!L709","v":0},{"$f":"'[2]Inventário Completo'!M709","v":0},{"$f":"'[2]Inventário Completo'!N709","v":0},{"$f":"'[2]Inventário Completo'!O709","v":0},{"$f":"'[2]Inventário Completo'!P709","v":0},{"$f":"'[2]Inventário Completo'!Q709","v":0}]
[{"$f":"'[2]Inventário Completo'!A710","v":0},{"$f":"'[2]Inventário Completo'!B710","v":0},{"$f":"'[2]Inventário Completo'!C710","v":0},{"$f":"'[2]Inventário Completo'!D710","v":0},{"$f":"'[2]Inventário Completo'!E710","v":0},{"$f":"'[2]Inventário Completo'!F710","v":0},{"$f":"'[2]Inventário Completo'!G710","v":0},{"$f":"'[2]Inventário Completo'!H710","v":0},{"$f":"'[2]Inventário Completo'!I710","v":0},{"$f":"'[2]Inventário Completo'!J710","v":0},{"$f":"'[2]Inventário Completo'!K710","v":0},{"$f":"'[2]Inventário Completo'!L710","v":0},{"$f":"'[2]Inventário Completo'!M710","v":0},{"$f":"'[2]Inventário Completo'!N710","v":0},{"$f":"'[2]Inventário Completo'!O710","v":0},{"$f":"'[2]Inventário Completo'!P710","v":0},{"$f":"'[2]Inventário Completo'!Q710","v":0}]
[{"$f":"'[2]Inventário Completo'!A711","v":0},{"$f":"'[2]Inventário Completo'!B711","v":0},{"$f":"'[2]Inventário Completo'!C711","v":0},{"$f":"'[2]Inventário Completo'!D711","v":0},{"$f":"'[2]Inventário Completo'!E711","v":0},{"$f":"'[2]Inventário Completo'!F711","v":0},{"$f":"'[2]Inventário Completo'!G711","v":0},{"$f":"'[2]Inventário Completo'!H711","v":0},{"$f":"'[2]Inventário Completo'!I711","v":0},{"$f":"'[2]Inventário Completo'!J711","v":0},{"$f":"'[2]Inventário Completo'!K711","v":0},{"$f":"'[2]Inventário Completo'!L711","v":0},{"$f":"'[2]Inventário Completo'!M711","v":0},{"$f":"'[2]Inventário Completo'!N711","v":0},{"$f":"'[2]Inventário Completo'!O711","v":0},{"$f":"'[2]Inventário Completo'!P711","v":0},{"$f":"'[2]Inventário Completo'!Q711","v":0}]
[{"$f":"'[2]Inventário Completo'!A712","v":0},{"$f":"'[2]Inventário Completo'!B712","v":0},{"$f":"'[2]Inventário Completo'!C712","v":0},{"$f":"'[2]Inventário Completo'!D712","v":0},{"$f":"'[2]Inventário Completo'!E712","v":0},{"$f":"'[2]Inventário Completo'!F712","v":0},{"$f":"'[2]Inventário Completo'!G712","v":0},{"$f":"'[2]Inventário Completo'!H712","v":0},{"$f":"'[2]Inventário Completo'!I712","v":0},{"$f":"'[2]Inventário Completo'!J712","v":0},{"$f":"'[2]Inventário Completo'!K712","v":0},{"$f":"'[2]Inventário Completo'!L712","v":0},{"$f":"'[2]Inventário Completo'!M712","v":0},{"$f":"'[2]Inventário Completo'!N712","v":0},{"$f":"'[2]Inventário Completo'!O712","v":0},{"$f":"'[2]Inventário Completo'!P712","v":0},{"$f":"'[2]Inventário Completo'!Q712","v":0}]
[{"$f":"'[2]Inventário Completo'!A713","v":0},{"$f":"'[2]Inventário Completo'!B713","v":0},{"$f":"'[2]Inventário Completo'!C713","v":0},{"$f":"'[2]Inventário Completo'!D713","v":0},{"$f":"'[2]Inventário Completo'!E713","v":0},{"$f":"'[2]Inventário Completo'!F713","v":0},{"$f":"'[2]Inventário Completo'!G713","v":0},{"$f":"'[2]Inventário Completo'!H713","v":0},{"$f":"'[2]Inventário Completo'!I713","v":0},{"$f":"'[2]Inventário Completo'!J713","v":0},{"$f":"'[2]Inventário Completo'!K713","v":0},{"$f":"'[2]Inventário Completo'!L713","v":0},{"$f":"'[2]Inventário Completo'!M713","v":0},{"$f":"'[2]Inventário Completo'!N713","v":0},{"$f":"'[2]Inventário Completo'!O713","v":0},{"$f":"'[2]Inventário Completo'!P713","v":0},{"$f":"'[2]Inventário Completo'!Q713","v":0}]
[{"$f":"'[2]Inventário Completo'!A714","v":0},{"$f":"'[2]Inventário Completo'!B714","v":0},{"$f":"'[2]Inventário Completo'!C714","v":0},{"$f":"'[2]Inventário Completo'!D714","v":0},{"$f":"'[2]Inventário Completo'!E714","v":0},{"$f":"'[2]Inventário Completo'!F714","v":0},{"$f":"'[2]Inventário Completo'!G714","v":0},{"$f":"'[2]Inventário Completo'!H714","v":0},{"$f":"'[2]Inventário Completo'!I714","v":0},{"$f":"'[2]Inventário Completo'!J714","v":0},{"$f":"'[2]Inventário Completo'!K714","v":0},{"$f":"'[2]Inventário Completo'!L714","v":0},{"$f":"'[2]Inventário Completo'!M714","v":0},{"$f":"'[2]Inventário Completo'!N714","v":0},{"$f":"'[2]Inventário Completo'!O714","v":0},{"$f":"'[2]Inventário Completo'!P714","v":0},{"$f":"'[2]Inventário Completo'!Q714","v":0}]
[{"$f":"'[2]Inventário Completo'!A715","v":0},{"$f":"'[2]Inventário Completo'!B715","v":0},{"$f":"'[2]Inventário Completo'!C715","v":0},{"$f":"'[2]Inventário Completo'!D715","v":0},{"$f":"'[2]Inventário Completo'!E715","v":0},{"$f":"'[2]Inventário Completo'!F715","v":0},{"$f":"'[2]Inventário Completo'!G715","v":0},{"$f":"'[2]Inventário Completo'!H715","v":0},{"$f":"'[2]Inventário Completo'!I715","v":0},{"$f":"'[2]Inventário Completo'!J715","v":0},{"$f":"'[2]Inventário Completo'!K715","v":0},{"$f":"'[2]Inventário Completo'!L715","v":0},{"$f":"'[2]Inventário Completo'!M715","v":0},{"$f":"'[2]Inventário Completo'!N715","v":0},{"$f":"'[2]Inventário Completo'!O715","v":0},{"$f":"'[2]Inventário Completo'!P715","v":0},{"$f":"'[2]Inventário Completo'!Q715","v":0}]

{"sheet":"Planilha1","index":6,"n_rows":800,"n_cols":10,"rows_kept":800,"cut":false,"hidden":true,"merged":[]}
[{"$f":"'[2]Inventário Completo'!$C7","v":"Equipamento"},{"$f":"'[2]Inventário Completo'!$D7","v":"Modelo"},{"$f":"'[2]Inventário Completo'!$G7","v":"Site"},"Análise","Retorno da análise",null,"Site","Análise","Status","Total"]
[{"$f":"'[2]Inventário Completo'!$C8","v":"Access Point"},{"$f":"'[2]Inventário Completo'!$D8","v":"AP6532"},{"$f":"'[2]Inventário Completo'!$G8","v":"CSN-SEPETIBA ITAGUAI (TECON)"},{"$f":"VLOOKUP(C2,$G$1:$I$25,3,0)","v":0},{"$f":"IF(D2=1,C2,0)","v":0},null,"CSN-ARAUCARIA",false,{"$f":"IF(H2=TRUE,1,0)","v":0},{"$f":"COUNTIF($E$2:$E$800,$C$176)","v":0}]
[{"$f":"'[2]Inventário Completo'!$C9","v":"Access Point"},{"$f":"'[2]Inventário Completo'!$D9","v":"AP6532"},{"$f":"'[2]Inventário Completo'!$G9","v":"CSN-SEPETIBA ITAGUAI (TECON)"},{"$f":"VLOOKUP(C3,$G$1:$I$25,3,0)","v":0},{"$f":"IF(D3=1,C3,0)","v":0},null,"CSN-ARCOS",false,{"$f":"IF(H3=TRUE,1,0)","v":0},{"$f":"COUNTIF($E$2:$E$800,$C$415)","v":0}]
[{"$f":"'[2]Inventário Completo'!$C10","v":"Access Point"},{"$f":"'[2]Inventário Completo'!$D10","v":"AP6532"},{"$f":"'[2]Inventário Completo'!$G10","v":"CSN-SEPETIBA ITAGUAI (TECON)"},0,0,null,"CSN-CAMAÇARI",false,0,{"$f":"COUNTIF($E$2:$E$800,$C$418)","v":0}]
[{"$f":"'[2]Inventário Completo'!$C11","v":"Access Point"},{"$f":"'[2]Inventário Completo'!$D11","v":"AP6532"},{"$f":"'[2]Inventário Completo'!$G11","v":"CSN-SEPETIBA ITAGUAI (TECON)"},0,0,null,"CSN-CANOAS",false,0,{"$f":"COUNTIF($E$2:$E$800,$C$429)","v":0}]
[{"$f":"'[2]Inventário Completo'!$C12","v":"Access Point"},{"$f":"'[2]Inventário Completo'!$D12","v":"AP6532"},{"$f":"'[2]Inventário Completo'!$G12","v":"CSN-SEPETIBA ITAGUAI (TECON)"},0,0,null,"CSN-CONGONHAS",false,0,{"$f":"COUNTIF($E$2:$E$800,$C$431)","v":0}]
[{"$f":"'[2]Inventário Completo'!$C13","v":"Access Point"},{"$f":"'[2]Inventário Completo'!$D13","v":"AP6532"},{"$f":"'[2]Inventário Completo'!$G13","v":"CSN-SEPETIBA ITAGUAI (TECON)"},0,0,null,"CSN-GALVASUD",false,0,{"$f":"COUNTIF($E$2:$E$800,$C$212)","v":0}]
[{"$f":"'[2]Inventário Completo'!$C14","v":"Access Point"},{"$f":"'[2]Inventário Completo'!$D14","v":"AP6532"},{"$f":"'[2]Inventário Completo'!$G14","v":"CSN-SEPETIBA ITAGUAI (TECON)"},0,0,null,"CSN-OURO PRETO",false,0,{"$f":"COUNTIF($E$2:$E$800,$C$471)","v":0}]
[{"$f":"'[2]Inventário Completo'!$C15","v":"Access Point"},{"$f":"'[2]Inventário Completo'!$D15","v":"AP6532"},{"$f":"'[2]Inventário Completo'!$G15","v":"CSN-SEPETIBA ITAGUAI (TECON)"},0,0,null,"CSN-RIO ACIMA",false,0,{"$f":"COUNTIF($E$2:$E$800,$C$511)","v":0}]
[{"$f":"'[2]Inventário Completo'!$C16","v":"Access Point"},{"$f":"'[2]Inventário Completo'!$D16","v":"AP6532"},{"$f":"'[2]Inventário Completo'!$G16","v":"CSN-SEPETIBA ITAGUAI (TECON)"},0,0,null,"CSN-SEPETIBA ITAGUAI (TECAR)",false,0,{"$f":"COUNTIF($E$2:$E$800,$C$489)","v":0}]
[{"$f":"'[2]Inventário Completo'!$C17","v":"Access Point"},{"$f":"'[2]Inventário Completo'!$D17","v":"AP6532"},{"$f":"'[2]Inventário Completo'!$G17","v":"CSN-SEPETIBA ITAGUAI (TECON)"},0,0,null,"CSN-SEPETIBA ITAGUAI (TECON)",false,0,{"$f":"COUNTIF($E$2:$E$800,$C$2)","v":0}]
[{"$f":"'[2]Inventário Completo'!$C18","v":"Access Point"},{"$f":"'[2]Inventário Completo'!$D18","v":"AP6532"},{"$f":"'[2]Inventário Completo'!$G18","v":"CSN-SEPETIBA ITAGUAI (TECON)"},0,0,null,"CSN-VOLTA REDONDA",false,0,{"$f":"COUNTIF($E$2:$E$800,$C$60)","v":0}]
[{"$f":"'[2]Inventário Completo'!$C19","v":"Access Point"},{"$f":"'[2]Inventário Completo'!$D19","v":"AP6532"},{"$f":"'[2]Inventário Completo'!$G19","v":"CSN-SEPETIBA ITAGUAI (TECON)"},0,0,null,"FTL - SÃO LUIS",false,0,{"$f":"COUNTIF($E$2:$E$800,$C$442)","v":0}]
[{"$f":"'[2]Inventário Completo'!$C20","v":"Access Point"},{"$f":"'[2]Inventário Completo'!$D20","v":"AP6532"},{"$f":"'[2]Inventário Completo'!$G20","v":"CSN-SEPETIBA ITAGUAI (TECON)"},0,0,null,"FTL - TERESINA",false,0,{"$f":"COUNTIF($E$2:$E$800,$C$443)","v":0}]
[{"$f":"'[2]Inventário Completo'!$C21","v":"Access Point"},{"$f":"'[2]Inventário Completo'!$D21","v":"AP6532"},{"$f":"'[2]Inventário Completo'!$G21","v":"CSN-SEPETIBA ITAGUAI (TECON)"},0,0,null,"PRADA - BEBEDOURO",false,0,{"$f":"COUNTIF($E$2:$E$800,$C$416)","v":0}]
[{"$f":"'[2]Inventário Completo'!$C22","v":"Access Point"},{"$f":"'[2]Inventário Completo'!$D22","v":"AP6532"},{"$f":"'[2]Inventário Completo'!$G22","v":"CSN-SEPETIBA ITAGUAI (TECON)"},0,0,null,"PRADA - CONTAGEM",false,0,{"$f":"COUNTIF($E$2:$E$800,$C$439)","v":0}]
[{"$f":"'[2]Inventário Completo'!$C23","v":"Access Point"},{"$f":"'[2]Inventário Completo'!$D23","v":"AP6532"},{"$f":"'[2]Inventário Completo'!$G23","v":"CSN-SEPETIBA ITAGUAI (TECON)"},0,0,null,"PRADA - MOGI DAS CRUZES",false,0,{"$f":"COUNTIF($E$2:$E$800,$C$166)","v":0}]
[{"$f":"'[2]Inventário Completo'!$C24","v":"Access Point"},{"$f":"'[2]Inventário Completo'!$D24","v":"AP6532"},{"$f":"'[2]Inventário Completo'!$G24","v":"CSN-SEPETIBA ITAGUAI (TECON)"},0,0,null,"PRADA - PELOTAS",false,0,{"$f":"COUNTIF($E$2:$E$800,$C$483)","v":0}]
[{"$f":"'[2]Inventário Completo'!$C25","v":"Access Point"},{"$f":"'[2]Inventário Completo'!$D25","v":"AP6532"},{"$f":"'[2]Inventário Completo'!$G25","v":"CSN-SEPETIBA ITAGUAI (TECON)"},0,0,null,"PRADA - PIRACICABA",false,0,{"$f":"COUNTIF($E$2:$E$800,$C$484)","v":0}]
[{"$f":"'[2]Inventário Completo'!$C26","v":"Access Point"},{"$f":"'[2]Inventário Completo'!$D26","v":"AP6532"},{"$f":"'[2]Inventário Completo'!$G26","v":"CSN-SEPETIBA ITAGUAI (TECON)"},0,0,null,"PRADA - RESENDE",false,0,{"$f":"COUNTIF($E$2:$E$800,$C$216)","v":0}]
[{"$f":"'[2]Inventário Completo'!$C27","v":"Access Point"},{"$f":"'[2]Inventário Completo'!$D27","v":"AP6532"},{"$f":"'[2]Inventário Completo'!$G27","v":"CSN-SEPETIBA ITAGUAI (TECON)"},0,0,null,"PRADA - SANTO AMARO",false,0,{"$f":"COUNTIF($E$2:$E$800,$C$298)","v":0}]
[{"$f":"'[2]Inventário Completo'!$C28","v":"Access Point"},{"$f":"'[2]Inventário Completo'!$D28","v":"AP6532"},{"$f":"'[2]Inventário Completo'!$G28","v":"CSN-SEPETIBA ITAGUAI (TECON)"},0,0,null,"PRADA - UBERLANDIA",false,0,{"$f":"COUNTIF($E$2:$E$800,$C$534)","v":0}]
[{"$f":"'[2]Inventário Completo'!$C29","v":"Access Point"},{"$f":"'[2]Inventário Completo'!$D29","v":"AP6532"},{"$f":"'[2]Inventário Completo'!$G29","v":"CSN-SEPETIBA ITAGUAI (TECON)"},0,0,null,"PRADA - VARGEM GRANDE",false,0,{"$f":"COUNTIF($E$2:$E$800,$C$674)","v":0}]
[{"$f":"'[2]Inventário Completo'!$C30","v":"Access Point"},{"$f":"'[2]Inventário Completo'!$D30","v":"AP6532"},{"$f":"'[2]Inventário Completo'!$G30","v":"CSN-SEPETIBA ITAGUAI (TECON)"},0,0,null,"PRADA VALENÇA",false,0,{"$f":"COUNTIF($E$2:$E$800,$C$666)","v":0}]
[{"$f":"'[2]Inventário Completo'!$C31","v":"Access Point"},{"$f":"'[2]Inventário Completo'!$D31","v":"AP6532"},{"$f":"'[2]Inventário Completo'!$G31","v":"CSN-SEPETIBA ITAGUAI (TECON)"},0,0,null,"TLSA-FORTALEZA",false,0,{"$f":"COUNTIF($E$2:$E$800,$C$441)","v":0}]
[{"$f":"'[2]Inventário Completo'!$C32","v":"Access Point"},{"$f":"'[2]Inventário Completo'!$D32","v":"AP6532"},{"$f":"'[2]Inventário Completo'!$G32","v":"CSN-SEPETIBA ITAGUAI (TECON)"},0,0]
[{"$f":"'[2]Inventário Completo'!$C33","v":"Access Point"},{"$f":"'[2]Inventário Completo'!$D33","v":"AP6532"},{"$f":"'[2]Inventário Completo'!$G33","v":"CSN-SEPETIBA ITAGUAI (TECON)"},0,0,null,null,"Total",{"$f":"COUNTIF($D$2:$D$800,1)","v":0}]
[{"$f":"'[2]Inventário Completo'!$C34","v":"Access Point"},{"$f":"'[2]Inventário Completo'!$D34","v":"AP6532"},{"$f":"'[2]Inventário Completo'!$G34","v":"CSN-SEPETIBA ITAGUAI (TECON)"},0,0]
[{"$f":"'[2]Inventário Completo'!$C35","v":"Access Point"},{"$f":"'[2]Inventário Completo'!$D35","v":"AP6532"},{"$f":"'[2]Inventário Completo'!$G35","v":"CSN-SEPETIBA ITAGUAI (TECON)"},0,0]
[{"$f":"'[2]Inventário Completo'!$C36","v":"Access Point"},{"$f":"'[2]Inventário Completo'!$D36","v":"AP6532"},{"$f":"'[2]Inventário Completo'!$G36","v":"CSN-SEPETIBA ITAGUAI (TECON)"},0,0]
[{"$f":"'[2]Inventário Completo'!$C37","v":"Access Point"},{"$f":"'[2]Inventário Completo'!$D37","v":"AP6532"},{"$f":"'[2]Inventário Completo'!$G37","v":"CSN-SEPETIBA ITAGUAI (TECON)"},0,0]
[{"$f":"'[2]Inventário Completo'!$C38","v":"Access Point"},{"$f":"'[2]Inventário Completo'!$D38","v":"AP6532"},{"$f":"'[2]Inventário Completo'!$G38","v":"CSN-SEPETIBA ITAGUAI (TECON)"},0,0]
[{"$f":"'[2]Inventário Completo'!$C39","v":"Access Point"},{"$f":"'[2]Inventário Completo'!$D39","v":"AP6532"},{"$f":"'[2]Inventário Completo'!$G39","v":"CSN-SEPETIBA ITAGUAI (TECON)"},0,0]
[{"$f":"'[2]Inventário Completo'!$C40","v":"Access Point"},{"$f":"'[2]Inventário Completo'!$D40","v":"AP6532"},{"$f":"'[2]Inventário Completo'!$G40","v":"CSN-SEPETIBA ITAGUAI (TECON)"},0,0]
[{"$f":"'[2]Inventário Completo'!$C41","v":"Access Point"},{"$f":"'[2]Inventário Completo'!$D41","v":"AP6532"},{"$f":"'[2]Inventário Completo'!$G41","v":"CSN-SEPETIBA ITAGUAI (TECON)"},0,0]
[{"$f":"'[2]Inventário Completo'!$C42","v":"Access Point"},{"$f":"'[2]Inventário Completo'!$D42","v":"AP6532"},{"$f":"'[2]Inventário Completo'!$G42","v":"CSN-SEPETIBA ITAGUAI (TECON)"},0,0]
[{"$f":"'[2]Inventário Completo'!$C43","v":"Access Point"},{"$f":"'[2]Inventário Completo'!$D43","v":"AP6532"},{"$f":"'[2]Inventário Completo'!$G43","v":"CSN-SEPETIBA ITAGUAI (TECON)"},0,0]
[{"$f":"'[2]Inventário Completo'!$C44","v":"Access Point"},{"$f":"'[2]Inventário Completo'!$D44","v":"AP6532"},{"$f":"'[2]Inventário Completo'!$G44","v":"CSN-SEPETIBA ITAGUAI (TECON)"},0,0]
[{"$f":"'[2]Inventário Completo'!$C45","v":"Access Point"},{"$f":"'[2]Inventário Completo'!$D45","v":"AP6532"},{"$f":"'[2]Inventário Completo'!$G45","v":"CSN-SEPETIBA ITAGUAI (TECON)"},0,0]
[{"$f":"'[2]Inventário Completo'!$C46","v":"Access Point"},{"$f":"'[2]Inventário Completo'!$D46","v":"AP6532"},{"$f":"'[2]Inventário Completo'!$G46","v":"CSN-SEPETIBA ITAGUAI (TECON)"},0,0]
[{"$f":"'[2]Inventário Completo'!$C47","v":"Access Point"},{"$f":"'[2]Inventário Completo'!$D47","v":"AP6532"},{"$f":"'[2]Inventário Completo'!$G47","v":"CSN-SEPETIBA ITAGUAI (TECON)"},0,0]
[{"$f":"'[2]Inventário Completo'!$C48","v":"Access Point"},{"$f":"'[2]Inventário Completo'!$D48","v":"AP6532"},{"$f":"'[2]Inventário Completo'!$G48","v":"CSN-SEPETIBA ITAGUAI (TECON)"},0,0]
[{"$f":"'[2]Inventário Completo'!$C49","v":"Access Point"},{"$f":"'[2]Inventário Completo'!$D49","v":"AP6532"},{"$f":"'[2]Inventário Completo'!$G49","v":"CSN-SEPETIBA ITAGUAI (TECON)"},0,0]
[{"$f":"'[2]Inventário Completo'!$C50","v":"Access Point"},{"$f":"'[2]Inventário Completo'!$D50","v":"AP6532"},{"$f":"'[2]Inventário Completo'!$G50","v":"CSN-SEPETIBA ITAGUAI (TECON)"},0,0]
[{"$f":"'[2]Inventário Completo'!$C51","v":"Access Point"},{"$f":"'[2]Inventário Completo'!$D51","v":"AP6532"},{"$f":"'[2]Inventário Completo'!$G51","v":"CSN-SEPETIBA ITAGUAI (TECON)"},0,0]
[{"$f":"'[2]Inventário Completo'!$C52","v":"Access Point"},{"$f":"'[2]Inventário Completo'!$D52","v":"AP6532"},{"$f":"'[2]Inventário Completo'!$G52","v":"CSN-SEPETIBA ITAGUAI (TECON)"},0,0]
[{"$f":"'[2]Inventário Completo'!$C53","v":"Access Point"},{"$f":"'[2]Inventário Completo'!$D53","v":"AP6532"},{"$f":"'[2]Inventário Completo'!$G53","v":"CSN-SEPETIBA ITAGUAI (TECON)"},0,0]
[{"$f":"'[2]Inventário Completo'!$C54","v":"Access Point"},{"$f":"'[2]Inventário Completo'!$D54","v":"AP6532"},{"$f":"'[2]Inventário Completo'!$G54","v":"CSN-SEPETIBA ITAGUAI (TECON)"},0,0]
[{"$f":"'[2]Inventário Completo'!$C55","v":"Access Point"},{"$f":"'[2]Inventário Completo'!$D55","v":"AP6532"},{"$f":"'[2]Inventário Completo'!$G55","v":"CSN-SEPETIBA ITAGUAI (TECON)"},0,0]
[{"$f":"'[2]Inventário Completo'!$C56","v":"Access Point"},{"$f":"'[2]Inventário Completo'!$D56","v":"AP6532"},{"$f":"'[2]Inventário Completo'!$G56","v":"CSN-SEPETIBA ITAGUAI (TECON)"},0,0]
[{"$f":"'[2]Inventário Completo'!$C57","v":"Access Point"},{"$f":"'[2]Inventário Completo'!$D57","v":"AP6532"},{"$f":"'[2]Inventário Completo'!$G57","v":"CSN-SEPETIBA ITAGUAI (TECON)"},0,0]
[{"$f":"'[2]Inventário Completo'!$C58","v":"Access Point"},{"$f":"'[2]Inventário Completo'!$D58","v":"AP6532"},{"$f":"'[2]Inventário Completo'!$G58","v":"CSN-SEPETIBA ITAGUAI (TECON)"},0,0]
[{"$f":"'[2]Inventário Completo'!$C59","v":"Access Point"},{"$f":"'[2]Inventário Completo'!$D59","v":"AP6532"},{"$f":"'[2]Inventário Completo'!$G59","v":"CSN-SEPETIBA ITAGUAI (TECON)"},0,0]
[{"$f":"'[2]Inventário Completo'!$C60","v":"Access Point"},{"$f":"'[2]Inventário Completo'!$D60","v":"AP6532"},{"$f":"'[2]Inventário Completo'!$G60","v":"CSN-SEPETIBA ITAGUAI (TECON)"},0,0]
[{"$f":"'[2]Inventário Completo'!$C61","v":"Access Point"},{"$f":"'[2]Inventário Completo'!$D61","v":"AP6532"},{"$f":"'[2]Inventário Completo'!$G61","v":"CSN-SEPETIBA ITAGUAI (TECON)"},0,0]
[{"$f":"'[2]Inventário Completo'!$C62","v":"Access Point"},{"$f":"'[2]Inventário Completo'!$D62","v":"AP6532"},{"$f":"'[2]Inventário Completo'!$G62","v":"CSN-SEPETIBA ITAGUAI (TECON)"},0,0]
[{"$f":"'[2]Inventário Completo'!$C63","v":"Access Point"},{"$f":"'[2]Inventário Completo'!$D63","v":"AP6532"},{"$f":"'[2]Inventário Completo'!$G63","v":"CSN-SEPETIBA ITAGUAI (TECON)"},0,0]
[{"$f":"'[2]Inventário Completo'!$C64","v":"Access Point"},{"$f":"'[2]Inventário Completo'!$D64","v":"AP6532"},{"$f":"'[2]Inventário Completo'!$G64","v":"CSN-SEPETIBA ITAGUAI (TECON)"},0,0]
[{"$f":"'[2]Inventário Completo'!$C65","v":"Access Point"},{"$f":"'[2]Inventário Completo'!$D65","v":"AP6532"},{"$f":"'[2]Inventário Completo'!$G65","v":"CSN-SEPETIBA ITAGUAI (TECON)"},0,0]
[{"$f":"'[2]Inventário Completo'!$C66","v":"Access Point"},{"$f":"'[2]Inventário Completo'!$D66","v":"AP5131"},{"$f":"'[2]Inventário Completo'!$G66","v":"CSN-VOLTA REDONDA"},0,0]
[{"$f":"'[2]Inventário Completo'!$C67","v":"Access Point"},{"$f":"'[2]Inventário Completo'!$D67","v":"AP4131"},{"$f":"'[2]Inventário Completo'!$G67","v":"CSN-VOLTA REDONDA"},0,0]
[{"$f":"'[2]Inventário Completo'!$C68","v":"Access Point"},{"$f":"'[2]Inventário Completo'!$D68","v":"AP4131"},{"$f":"'[2]Inventário Completo'!$G68","v":"CSN-VOLTA REDONDA"},0,0]
[{"$f":"'[2]Inventário Completo'!$C69","v":"Access Point"},{"$f":"'[2]Inventário Completo'!$D69","v":"AP4131"},{"$f":"'[2]Inventário Completo'!$G69","v":"CSN-VOLTA REDONDA"},0,0]
[{"$f":"'[2]Inventário Completo'!$C70","v":"Access Point"},{"$f":"'[2]Inventário Completo'!$D70","v":"AP4131"},{"$f":"'[2]Inventário Completo'!$G70","v":"CSN-VOLTA REDONDA"},0,0]
[{"$f":"'[2]Inventário Completo'!$C71","v":"Access Point"},{"$f":"'[2]Inventário Completo'!$D71","v":"AP4131"},{"$f":"'[2]Inventário Completo'!$G71","v":"CSN-VOLTA REDONDA"},0,0]
[{"$f":"'[2]Inventário Completo'!$C72","v":"Access Point"},{"$f":"'[2]Inventário Completo'!$D72","v":"AP4131"},{"$f":"'[2]Inventário Completo'!$G72","v":"CSN-VOLTA REDONDA"},0,0]
[{"$f":"'[2]Inventário Completo'!$C73","v":"Access Point"},{"$f":"'[2]Inventário Completo'!$D73","v":"AP4131"},{"$f":"'[2]Inventário Completo'!$G73","v":"CSN-VOLTA REDONDA"},{"$f":"VLOOKUP(C67,$G$1:$I$25,3,0)","v":0},{"$f":"IF(D67=1,C67,0)","v":0}]
[{"$f":"'[2]Inventário Completo'!$C74","v":"Access Point"},{"$f":"'[2]Inventário Completo'!$D74","v":"AP4131"},{"$f":"'[2]Inventário Completo'!$G74","v":"CSN-VOLTA REDONDA"},0,0]
[{"$f":"'[2]Inventário Completo'!$C75","v":"Access Point"},{"$f":"'[2]Inventário Completo'!$D75","v":"AP4131"},{"$f":"'[2]Inventário Completo'!$G75","v":"CSN-VOLTA REDONDA"},0,0]
[{"$f":"'[2]Inventário Completo'!$C76","v":"Access Point"},{"$f":"'[2]Inventário Completo'!$D76","v":"AP4131"},{"$f":"'[2]Inventário Completo'!$G76","v":"CSN-VOLTA REDONDA"},0,0]
[{"$f":"'[2]Inventário Completo'!$C77","v":"Access Point"},{"$f":"'[2]Inventário Completo'!$D77","v":"AP4131"},{"$f":"'[2]Inventário Completo'!$G77","v":"CSN-VOLTA REDONDA"},0,0]
[{"$f":"'[2]Inventário Completo'!$C78","v":"Access Point"},{"$f":"'[2]Inventário Completo'!$D78","v":"AP4131"},{"$f":"'[2]Inventário Completo'!$G78","v":"CSN-VOLTA REDONDA"},0,0]
[{"$f":"'[2]Inventário Completo'!$C79","v":"Access Point"},{"$f":"'[2]Inventário Completo'!$D79","v":"AP4131"},{"$f":"'[2]Inventário Completo'!$G79","v":"CSN-VOLTA REDONDA"},0,0]
[{"$f":"'[2]Inventário Completo'!$C80","v":"Access Point"},{"$f":"'[2]Inventário Completo'!$D80","v":"AP4131"},{"$f":"'[2]Inventário Completo'!$G80","v":"CSN-VOLTA REDONDA"},0,0]
[{"$f":"'[2]Inventário Completo'!$C81","v":"Access Point"},{"$f":"'[2]Inventário Completo'!$D81","v":"AP4131"},{"$f":"'[2]Inventário Completo'!$G81","v":"CSN-VOLTA REDONDA"},0,0]
[{"$f":"'[2]Inventário Completo'!$C82","v":"Access Point"},{"$f":"'[2]Inventário Completo'!$D82","v":"AP4131"},{"$f":"'[2]Inventário Completo'!$G82","v":"CSN-VOLTA REDONDA"},0,0]
[{"$f":"'[2]Inventário Completo'!$C83","v":"Access Point"},{"$f":"'[2]Inventário Completo'!$D83","v":"AP4131"},{"$f":"'[2]Inventário Completo'!$G83","v":"CSN-VOLTA REDONDA"},0,0]
[{"$f":"'[2]Inventário Completo'!$C84","v":"Access Point"},{"$f":"'[2]Inventário Completo'!$D84","v":"AP4131"},{"$f":"'[2]Inventário Completo'!$G84","v":"CSN-VOLTA REDONDA"},0,0]
[{"$f":"'[2]Inventário Completo'!$C85","v":"Access Point"},{"$f":"'[2]Inventário Completo'!$D85","v":"AP4131"},{"$f":"'[2]Inventário Completo'!$G85","v":"CSN-VOLTA REDONDA"},0,0]
[{"$f":"'[2]Inventário Completo'!$C86","v":"Access Point"},{"$f":"'[2]Inventário Completo'!$D86","v":"AP4131"},{"$f":"'[2]Inventário Completo'!$G86","v":"CSN-VOLTA REDONDA"},0,0]
[{"$f":"'[2]Inventário Completo'!$C87","v":"Access Point"},{"$f":"'[2]Inventário Completo'!$D87","v":"AP4131"},{"$f":"'[2]Inventário Completo'!$G87","v":"CSN-VOLTA REDONDA"},0,0]
[{"$f":"'[2]Inventário Completo'!$C88","v":"Access Point"},{"$f":"'[2]Inventário Completo'!$D88","v":"AP4131"},{"$f":"'[2]Inventário Completo'!$G88","v":"CSN-VOLTA REDONDA"},0,0]
[{"$f":"'[2]Inventário Completo'!$C89","v":"Access Point"},{"$f":"'[2]Inventário Completo'!$D89","v":"AP4131"},{"$f":"'[2]Inventário Completo'!$G89","v":"CSN-VOLTA REDONDA"},0,0]
[{"$f":"'[2]Inventário Completo'!$C90","v":"Access Point"},{"$f":"'[2]Inventário Completo'!$D90","v":"AP4131"},{"$f":"'[2]Inventário Completo'!$G90","v":"CSN-VOLTA REDONDA"},0,0]
[{"$f":"'[2]Inventário Completo'!$C91","v":"Access Point"},{"$f":"'[2]Inventário Completo'!$D91","v":"AP4131"},{"$f":"'[2]Inventário Completo'!$G91","v":"CSN-VOLTA REDONDA"},0,0]
[{"$f":"'[2]Inventário Completo'!$C92","v":"Access Point"},{"$f":"'[2]Inventário Completo'!$D92","v":"AP4131"},{"$f":"'[2]Inventário Completo'!$G92","v":"CSN-VOLTA REDONDA"},0,0]
[{"$f":"'[2]Inventário Completo'!$C93","v":"Access Point"},{"$f":"'[2]Inventário Completo'!$D93","v":"AP4131"},{"$f":"'[2]Inventário Completo'!$G93","v":"CSN-VOLTA REDONDA"},0,0]
[{"$f":"'[2]Inventário Completo'!$C94","v":"Access Point"},{"$f":"'[2]Inventário Completo'!$D94","v":"AP4131"},{"$f":"'[2]Inventário Completo'!$G94","v":"CSN-VOLTA REDONDA"},0,0]
[{"$f":"'[2]Inventário Completo'!$C95","v":"Access Point"},{"$f":"'[2]Inventário Completo'!$D95","v":"AP4131"},{"$f":"'[2]Inventário Completo'!$G95","v":"CSN-VOLTA REDONDA"},0,0]
[{"$f":"'[2]Inventário Completo'!$C96","v":"Access Point"},{"$f":"'[2]Inventário Completo'!$D96","v":"AP4131"},{"$f":"'[2]Inventário Completo'!$G96","v":"CSN-VOLTA REDONDA"},0,0]
[{"$f":"'[2]Inventário Completo'!$C97","v":"Access Point"},{"$f":"'[2]Inventário Completo'!$D97","v":"AP4131"},{"$f":"'[2]Inventário Completo'!$G97","v":"CSN-VOLTA REDONDA"},0,0]
[{"$f":"'[2]Inventário Completo'!$C98","v":"Access Point"},{"$f":"'[2]Inventário Completo'!$D98","v":"AP5131"},{"$f":"'[2]Inventário Completo'!$G98","v":"CSN-VOLTA REDONDA"},0,0]
[{"$f":"'[2]Inventário Completo'!$C99","v":"Access Point"},{"$f":"'[2]Inventário Completo'!$D99","v":"AP5131"},{"$f":"'[2]Inventário Completo'!$G99","v":"CSN-VOLTA REDONDA"},0,0]
[{"$f":"'[2]Inventário Completo'!$C100","v":"Access Point"},{"$f":"'[2]Inventário Completo'!$D100","v":"AP5131"},{"$f":"'[2]Inventário Completo'!$G100","v":"CSN-VOLTA REDONDA"},0,0]
[{"$f":"'[2]Inventário Completo'!$C101","v":"Access Point"},{"$f":"'[2]Inventário Completo'!$D101","v":"AP5131"},{"$f":"'[2]Inventário Completo'!$G101","v":"CSN-VOLTA REDONDA"},0,0]
[{"$f":"'[2]Inventário Completo'!$C102","v":"Access Point"},{"$f":"'[2]Inventário Completo'!$D102","v":"AP5131"},{"$f":"'[2]Inventário Completo'!$G102","v":"CSN-VOLTA REDONDA"},0,0]
[{"$f":"'[2]Inventário Completo'!$C103","v":"Access Point"},{"$f":"'[2]Inventário Completo'!$D103","v":"AP5131"},{"$f":"'[2]Inventário Completo'!$G103","v":"CSN-VOLTA REDONDA"},0,0]
[{"$f":"'[2]Inventário Completo'!$C104","v":"Access Point"},{"$f":"'[2]Inventário Completo'!$D104","v":"AP5131"},{"$f":"'[2]Inventário Completo'!$G104","v":"CSN-VOLTA REDONDA"},0,0]
[{"$f":"'[2]Inventário Completo'!$C105","v":"Access Point"},{"$f":"'[2]Inventário Completo'!$D105","v":"AP5131"},{"$f":"'[2]Inventário Completo'!$G105","v":"CSN-VOLTA REDONDA"},0,0]
[{"$f":"'[2]Inventário Completo'!$C106","v":"Access Point"},{"$f":"'[2]Inventário Completo'!$D106","v":"AP5131"},{"$f":"'[2]Inventário Completo'!$G106","v":"CSN-VOLTA REDONDA"},0,0]
[{"$f":"'[2]Inventário Completo'!$C107","v":"Access Point"},{"$f":"'[2]Inventário Completo'!$D107","v":"AP5131"},{"$f":"'[2]Inventário Completo'!$G107","v":"CSN-VOLTA REDONDA"},0,0]
[{"$f":"'[2]Inventário Completo'!$C108","v":"Access Point"},{"$f":"'[2]Inventário Completo'!$D108","v":"AP5131"},{"$f":"'[2]Inventário Completo'!$G108","v":"CSN-VOLTA REDONDA"},0,0]
[{"$f":"'[2]Inventário Completo'!$C109","v":"Access Point"},{"$f":"'[2]Inventário Completo'!$D109","v":"AP5131"},{"$f":"'[2]Inventário Completo'!$G109","v":"CSN-VOLTA REDONDA"},0,0]
[{"$f":"'[2]Inventário Completo'!$C110","v":"Access Point"},{"$f":"'[2]Inventário Completo'!$D110","v":"AP5131"},{"$f":"'[2]Inventário Completo'!$G110","v":"CSN-VOLTA REDONDA"},0,0]
[{"$f":"'[2]Inventário Completo'!$C111","v":"Access Point"},{"$f":"'[2]Inventário Completo'!$D111","v":"AP5131"},{"$f":"'[2]Inventário Completo'!$G111","v":"CSN-VOLTA REDONDA"},0,0]
[{"$f":"'[2]Inventário Completo'!$C112","v":"Access Point"},{"$f":"'[2]Inventário Completo'!$D112","v":"AP5131"},{"$f":"'[2]Inventário Completo'!$G112","v":"CSN-VOLTA REDONDA"},0,0]
[{"$f":"'[2]Inventário Completo'!$C113","v":"Access Point"},{"$f":"'[2]Inventário Completo'!$D113","v":"AP5131"},{"$f":"'[2]Inventário Completo'!$G113","v":"CSN-VOLTA REDONDA"},0,0]
[{"$f":"'[2]Inventário Completo'!$C114","v":"Access Point"},{"$f":"'[2]Inventário Completo'!$D114","v":"AP5131"},{"$f":"'[2]Inventário Completo'!$G114","v":"CSN-VOLTA REDONDA"},0,0]
[{"$f":"'[2]Inventário Completo'!$C115","v":"Access Point"},{"$f":"'[2]Inventário Completo'!$D115","v":"AP5131"},{"$f":"'[2]Inventário Completo'!$G115","v":"CSN-VOLTA REDONDA"},0,0]
[{"$f":"'[2]Inventário Completo'!$C116","v":"Access Point"},{"$f":"'[2]Inventário Completo'!$D116","v":"AP5131"},{"$f":"'[2]Inventário Completo'!$G116","v":"CSN-VOLTA REDONDA"},0,0]
[{"$f":"'[2]Inventário Completo'!$C117","v":"Access Point"},{"$f":"'[2]Inventário Completo'!$D117","v":"AP5131"},{"$f":"'[2]Inventário Completo'!$G117","v":"CSN-VOLTA REDONDA"},0,0]
[{"$f":"'[2]Inventário Completo'!$C118","v":"Access Point"},{"$f":"'[2]Inventário Completo'!$D118","v":"AP5131"},{"$f":"'[2]Inventário Completo'!$G118","v":"CSN-VOLTA REDONDA"},0,0]
[{"$f":"'[2]Inventário Completo'!$C119","v":"Access Point"},{"$f":"'[2]Inventário Completo'!$D119","v":"AP5131"},{"$f":"'[2]Inventário Completo'!$G119","v":"CSN-VOLTA REDONDA"},0,0]
[{"$f":"'[2]Inventário Completo'!$C120","v":"Access Point"},{"$f":"'[2]Inventário Completo'!$D120","v":"AP5131"},{"$f":"'[2]Inventário Completo'!$G120","v":"CSN-VOLTA REDONDA"},0,0]
[{"$f":"'[2]Inventário Completo'!$C121","v":"Access Point"},{"$f":"'[2]Inventário Completo'!$D121","v":"AP5131"},{"$f":"'[2]Inventário Completo'!$G121","v":"CSN-VOLTA REDONDA"},0,0]
[{"$f":"'[2]Inventário Completo'!$C122","v":"Access Point"},{"$f":"'[2]Inventário Completo'!$D122","v":"AP5131"},{"$f":"'[2]Inventário Completo'!$G122","v":"CSN-VOLTA REDONDA"},0,0]
[{"$f":"'[2]Inventário Completo'!$C123","v":"Access Point"},{"$f":"'[2]Inventário Completo'!$D123","v":"AP5181"},{"$f":"'[2]Inventário Completo'!$G123","v":"CSN-VOLTA REDONDA"},0,0]
[{"$f":"'[2]Inventário Completo'!$C124","v":"Access Point"},{"$f":"'[2]Inventário Completo'!$D124","v":"AP5131"},{"$f":"'[2]Inventário Completo'!$G124","v":"CSN-VOLTA REDONDA"},0,0]
[{"$f":"'[2]Inventário Completo'!$C125","v":"Access Point"},{"$f":"'[2]Inventário Completo'!$D125","v":"AP5131"},{"$f":"'[2]Inventário Completo'!$G125","v":"CSN-VOLTA REDONDA"},0,0]
[{"$f":"'[2]Inventário Completo'!$C126","v":"Access Point"},{"$f":"'[2]Inventário Completo'!$D126","v":"AP5131"},{"$f":"'[2]Inventário Completo'!$G126","v":"CSN-VOLTA REDONDA"},0,0]
[{"$f":"'[2]Inventário Completo'!$C127","v":"Access Point"},{"$f":"'[2]Inventário Completo'!$D127","v":"AP5131"},{"$f":"'[2]Inventário Completo'!$G127","v":"CSN-VOLTA REDONDA"},0,0]
[{"$f":"'[2]Inventário Completo'!$C128","v":"Access Point"},{"$f":"'[2]Inventário Completo'!$D128","v":"AP5131"},{"$f":"'[2]Inventário Completo'!$G128","v":"CSN-VOLTA REDONDA"},0,0]
[{"$f":"'[2]Inventário Completo'!$C129","v":"Access Point"},{"$f":"'[2]Inventário Completo'!$D129","v":"AP5131"},{"$f":"'[2]Inventário Completo'!$G129","v":"CSN-VOLTA REDONDA"},0,0]
[{"$f":"'[2]Inventário Completo'!$C130","v":"Access Point"},{"$f":"'[2]Inventário Completo'!$D130","v":"AP5131"},{"$f":"'[2]Inventário Completo'!$G130","v":"CSN-VOLTA REDONDA"},0,0]
[{"$f":"'[2]Inventário Completo'!$C131","v":"Access Point"},{"$f":"'[2]Inventário Completo'!$D131","v":"AP4131"},{"$f":"'[2]Inventário Completo'!$G131","v":"CSN-VOLTA REDONDA"},0,0]
[{"$f":"'[2]Inventário Completo'!$C132","v":"Access Point"},{"$f":"'[2]Inventário Completo'!$D132","v":"AP5181"},{"$f":"'[2]Inventário Completo'!$G132","v":"CSN-VOLTA REDONDA"},0,0]
[{"$f":"'[2]Inventário Completo'!$C133","v":"Access Point"},{"$f":"'[2]Inventário Completo'!$D133","v":"AP5181"},{"$f":"'[2]Inventário Completo'!$G133","v":"CSN-VOLTA REDONDA"},0,0]
[{"$f":"'[2]Inventário Completo'!$C134","v":"Access Point"},{"$f":"'[2]Inventário Completo'!$D134","v":"AP5181"},{"$f":"'[2]Inventário Completo'!$G134","v":"CSN-VOLTA REDONDA"},0,0]
[{"$f":"'[2]Inventário Completo'!$C135","v":"Access Point"},{"$f":"'[2]Inventário Completo'!$D135","v":"AP5181"},{"$f":"'[2]Inventário Completo'!$G135","v":"CSN-VOLTA REDONDA"},0,0]
[{"$f":"'[2]Inventário Completo'!$C136","v":"Access Point"},{"$f":"'[2]Inventário Completo'!$D136","v":"AP5181"},{"$f":"'[2]Inventário Completo'!$G136","v":"CSN-VOLTA REDONDA"},0,0]
[{"$f":"'[2]Inventário Completo'!$C137","v":"Access Point"},{"$f":"'[2]Inventário Completo'!$D137","v":"AP5181"},{"$f":"'[2]Inventário Completo'!$G137","v":"CSN-VOLTA REDONDA"},{"$f":"VLOOKUP(C131,$G$1:$I$25,3,0)","v":0},{"$f":"IF(D131=1,C131,0)","v":0}]
[{"$f":"'[2]Inventário Completo'!$C138","v":"Access Point"},{"$f":"'[2]Inventário Completo'!$D138","v":"AP5181"},{"$f":"'[2]Inventário Completo'!$G138","v":"CSN-VOLTA REDONDA"},0,0]
[{"$f":"'[2]Inventário Completo'!$C139","v":"Access Point"},{"$f":"'[2]Inventário Completo'!$D139","v":"AP5181"},{"$f":"'[2]Inventário Completo'!$G139","v":"CSN-VOLTA REDONDA"},0,0]
[{"$f":"'[2]Inventário Completo'!$C140","v":"Access Point"},{"$f":"'[2]Inventário Completo'!$D140","v":"AP5181"},{"$f":"'[2]Inventário Completo'!$G140","v":"CSN-VOLTA REDONDA"},0,0]
[{"$f":"'[2]Inventário Completo'!$C141","v":"Access Point"},{"$f":"'[2]Inventário Completo'!$D141","v":"AP5181"},{"$f":"'[2]Inventário Completo'!$G141","v":"CSN-VOLTA REDONDA"},0,0]
[{"$f":"'[2]Inventário Completo'!$C142","v":"Access Point"},{"$f":"'[2]Inventário Completo'!$D142","v":"AP5181"},{"$f":"'[2]Inventário Completo'!$G142","v":"CSN-VOLTA REDONDA"},0,0]
[{"$f":"'[2]Inventário Completo'!$C143","v":"Access Point"},{"$f":"'[2]Inventário Completo'!$D143","v":"AP5181"},{"$f":"'[2]Inventário Completo'!$G143","v":"CSN-VOLTA REDONDA"},0,0]
[{"$f":"'[2]Inventário Completo'!$C144","v":"Access Point"},{"$f":"'[2]Inventário Completo'!$D144","v":"AP5181"},{"$f":"'[2]Inventário Completo'!$G144","v":"CSN-VOLTA REDONDA"},0,0]
[{"$f":"'[2]Inventário Completo'!$C145","v":"Access Point"},{"$f":"'[2]Inventário Completo'!$D145","v":"AP5181"},{"$f":"'[2]Inventário Completo'!$G145","v":"CSN-VOLTA REDONDA"},0,0]
[{"$f":"'[2]Inventário Completo'!$C146","v":"Access Point"},{"$f":"'[2]Inventário Completo'!$D146","v":"AP5181"},{"$f":"'[2]Inventário Completo'!$G146","v":"CSN-VOLTA REDONDA"},0,0]
[{"$f":"'[2]Inventário Completo'!$C147","v":"Access Point"},{"$f":"'[2]Inventário Completo'!$D147","v":"AP5181"},{"$f":"'[2]Inventário Completo'!$G147","v":"CSN-VOLTA REDONDA"},0,0]
[{"$f":"'[2]Inventário Completo'!$C148","v":"Access Point"},{"$f":"'[2]Inventário Completo'!$D148","v":"AP5181"},{"$f":"'[2]Inventário Completo'!$G148","v":"CSN-VOLTA REDONDA"},0,0]
[{"$f":"'[2]Inventário Completo'!$C149","v":"Access Point"},{"$f":"'[2]Inventário Completo'!$D149","v":"AP6532"},{"$f":"'[2]Inventário Completo'!$G149","v":"CSN-VOLTA REDONDA"},0,0]
[{"$f":"'[2]Inventário Completo'!$C150","v":"Access Point"},{"$f":"'[2]Inventário Completo'!$D150","v":"AP6532"},{"$f":"'[2]Inventário Completo'!$G150","v":"CSN-VOLTA REDONDA"},0,0]
[{"$f":"'[2]Inventário Completo'!$C151","v":"Access Point"},{"$f":"'[2]Inventário Completo'!$D151","v":"AP6532"},{"$f":"'[2]Inventário Completo'!$G151","v":"CSN-VOLTA REDONDA"},0,0]
[{"$f":"'[2]Inventário Completo'!$C152","v":"Access Point"},{"$f":"'[2]Inventário Completo'!$D152","v":"AP6532"},{"$f":"'[2]Inventário Completo'!$G152","v":"CSN-VOLTA REDONDA"},0,0]
[{"$f":"'[2]Inventário Completo'!$C153","v":"Access Point"},{"$f":"'[2]Inventário Completo'!$D153","v":"AP6532"},{"$f":"'[2]Inventário Completo'!$G153","v":"CSN-VOLTA REDONDA"},0,0]
[{"$f":"'[2]Inventário Completo'!$C154","v":"Access Point"},{"$f":"'[2]Inventário Completo'!$D154","v":"AP6532"},{"$f":"'[2]Inventário Completo'!$G154","v":"CSN-VOLTA REDONDA"},0,0]
[{"$f":"'[2]Inventário Completo'!$C155","v":"Access Point"},{"$f":"'[2]Inventário Completo'!$D155","v":"AP6532"},{"$f":"'[2]Inventário Completo'!$G155","v":"CSN-VOLTA REDONDA"},0,0]
[{"$f":"'[2]Inventário Completo'!$C156","v":"Access Point"},{"$f":"'[2]Inventário Completo'!$D156","v":"AP6532"},{"$f":"'[2]Inventário Completo'!$G156","v":"CSN-VOLTA REDONDA"},0,0]
[{"$f":"'[2]Inventário Completo'!$C157","v":"Access Point"},{"$f":"'[2]Inventário Completo'!$D157","v":"AP6532"},{"$f":"'[2]Inventário Completo'!$G157","v":"CSN-VOLTA REDONDA"},0,0]
[{"$f":"'[2]Inventário Completo'!$C158","v":"Access Point"},{"$f":"'[2]Inventário Completo'!$D158","v":"AP6532"},{"$f":"'[2]Inventário Completo'!$G158","v":"CSN-VOLTA REDONDA"},0,0]
[{"$f":"'[2]Inventário Completo'!$C159","v":"Access Point"},{"$f":"'[2]Inventário Completo'!$D159","v":"AP6532"},{"$f":"'[2]Inventário Completo'!$G159","v":"CSN-VOLTA REDONDA"},0,0]
[{"$f":"'[2]Inventário Completo'!$C160","v":"Access Point"},{"$f":"'[2]Inventário Completo'!$D160","v":"AP6532"},{"$f":"'[2]Inventário Completo'!$G160","v":"CSN-VOLTA REDONDA"},0,0]
[{"$f":"'[2]Inventário Completo'!$C161","v":"Access Point"},{"$f":"'[2]Inventário Completo'!$D161","v":"AP6532"},{"$f":"'[2]Inventário Completo'!$G161","v":"CSN-VOLTA REDONDA"},0,0]
[{"$f":"'[2]Inventário Completo'!$C162","v":"Access Point"},{"$f":"'[2]Inventário Completo'!$D162","v":"AP6532"},{"$f":"'[2]Inventário Completo'!$G162","v":"CSN-VOLTA REDONDA"},0,0]
[{"$f":"'[2]Inventário Completo'!$C163","v":"Access Point"},{"$f":"'[2]Inventário Completo'!$D163","v":"AP6532"},{"$f":"'[2]Inventário Completo'!$G163","v":"CSN-VOLTA REDONDA"},0,0]
[{"$f":"'[2]Inventário Completo'!$C164","v":"Access Point"},{"$f":"'[2]Inventário Completo'!$D164","v":"AP6532"},{"$f":"'[2]Inventário Completo'!$G164","v":"CSN-VOLTA REDONDA"},0,0]
[{"$f":"'[2]Inventário Completo'!$C165","v":"Access Point"},{"$f":"'[2]Inventário Completo'!$D165","v":"AP6532"},{"$f":"'[2]Inventário Completo'!$G165","v":"CSN-VOLTA REDONDA"},0,0]
[{"$f":"'[2]Inventário Completo'!$C166","v":"Access Point"},{"$f":"'[2]Inventário Completo'!$D166","v":"AP6532"},{"$f":"'[2]Inventário Completo'!$G166","v":"CSN-VOLTA REDONDA"},0,0]
[{"$f":"'[2]Inventário Completo'!$C167","v":"Access Point"},{"$f":"'[2]Inventário Completo'!$D167","v":"AP6532"},{"$f":"'[2]Inventário Completo'!$G167","v":"CSN-VOLTA REDONDA"},0,0]
[{"$f":"'[2]Inventário Completo'!$C168","v":"Access Point"},{"$f":"'[2]Inventário Completo'!$D168","v":"AP6532"},{"$f":"'[2]Inventário Completo'!$G168","v":"CSN-VOLTA REDONDA"},0,0]
[{"$f":"'[2]Inventário Completo'!$C169","v":"Access Point"},{"$f":"'[2]Inventário Completo'!$D169","v":"AP6532"},{"$f":"'[2]Inventário Completo'!$G169","v":"CSN-VOLTA REDONDA"},0,0]
[{"$f":"'[2]Inventário Completo'!$C170","v":"Access Point"},{"$f":"'[2]Inventário Completo'!$D170","v":"AP6532"},{"$f":"'[2]Inventário Completo'!$G170","v":"CSN-VOLTA REDONDA"},0,0]
[{"$f":"'[2]Inventário Completo'!$C171","v":"Access Point"},{"$f":"'[2]Inventário Completo'!$D171","v":"AP6532"},{"$f":"'[2]Inventário Completo'!$G171","v":"CSN-VOLTA REDONDA"},0,0]
[{"$f":"'[2]Inventário Completo'!$C172","v":"Access Point"},{"$f":"'[2]Inventário Completo'!$D172","v":"AP5131"},{"$f":"'[2]Inventário Completo'!$G172","v":"PRADA - MOGI DAS CRUZES"},0,0]
[{"$f":"'[2]Inventário Completo'!$C173","v":"Access Point"},{"$f":"'[2]Inventário Completo'!$D173","v":"AP5131"},{"$f":"'[2]Inventário Completo'!$G173","v":"PRADA - MOGI DAS CRUZES"},0,0]
[{"$f":"'[2]Inventário Completo'!$C174","v":"Access Point"},{"$f":"'[2]Inventário Completo'!$D174","v":"AP5131"},{"$f":"'[2]Inventário Completo'!$G174","v":"PRADA - MOGI DAS CRUZES"},0,0]
[{"$f":"'[2]Inventário Completo'!$C175","v":"Access Point"},{"$f":"'[2]Inventário Completo'!$D175","v":"AP5131"},{"$f":"'[2]Inventário Completo'!$G175","v":"PRADA - MOGI DAS CRUZES"},0,0]
[{"$f":"'[2]Inventário Completo'!$C176","v":"Access Point"},{"$f":"'[2]Inventário Completo'!$D176","v":"AP5131"},{"$f":"'[2]Inventário Completo'!$G176","v":"PRADA - MOGI DAS CRUZES"},0,0]
[{"$f":"'[2]Inventário Completo'!$C177","v":"Access Point"},{"$f":"'[2]Inventário Completo'!$D177","v":"AP5131"},{"$f":"'[2]Inventário Completo'!$G177","v":"PRADA - MOGI DAS CRUZES"},0,0]
[{"$f":"'[2]Inventário Completo'!$C178","v":"Access Point"},{"$f":"'[2]Inventário Completo'!$D178","v":"AP5131"},{"$f":"'[2]Inventário Completo'!$G178","v":"PRADA - MOGI DAS CRUZES"},0,0]
[{"$f":"'[2]Inventário Completo'!$C179","v":"Access Point"},{"$f":"'[2]Inventário Completo'!$D179","v":"AP5131"},{"$f":"'[2]Inventário Completo'!$G179","v":"PRADA - MOGI DAS CRUZES"},0,0]
[{"$f":"'[2]Inventário Completo'!$C180","v":"Access Point"},{"$f":"'[2]Inventário Completo'!$D180","v":"AP5131"},{"$f":"'[2]Inventário Completo'!$G180","v":"PRADA - MOGI DAS CRUZES"},0,0]
[{"$f":"'[2]Inventário Completo'!$C181","v":"Access Point"},{"$f":"'[2]Inventário Completo'!$D181","v":"AP5131"},{"$f":"'[2]Inventário Completo'!$G181","v":"PRADA - MOGI DAS CRUZES"},0,0]
[{"$f":"'[2]Inventário Completo'!$C182","v":"Berço"},{"$f":"'[2]Inventário Completo'!$D182","v":"CRD9000"},{"$f":"'[2]Inventário Completo'!$G182","v":"CSN-ARAUCARIA"},0,0]
[{"$f":"'[2]Inventário Completo'!$C183","v":"Berço"},{"$f":"'[2]Inventário Completo'!$D183","v":"UBC2000"},{"$f":"'[2]Inventário Completo'!$G183","v":"CSN-ARAUCARIA"},0,0]
[{"$f":"'[2]Inventário Completo'!$C184","v":"Berço"},{"$f":"'[2]Inventário Completo'!$D184","v":"UBC2000"},{"$f":"'[2]Inventário Completo'!$G184","v":"CSN-ARAUCARIA"},0,0]
[{"$f":"'[2]Inventário Completo'!$C185","v":"Berço"},{"$f":"'[2]Inventário Completo'!$D185","v":"CRD9000"},{"$f":"'[2]Inventário Completo'!$G185","v":"CSN-SEPETIBA ITAGUAI (TECON)"},0,0]
[{"$f":"'[2]Inventário Completo'!$C186","v":"Berço"},{"$f":"'[2]Inventário Completo'!$D186","v":"CRD9000"},{"$f":"'[2]Inventário Completo'!$G186","v":"CSN-SEPETIBA ITAGUAI (TECON)"},0,0]
[{"$f":"'[2]Inventário Completo'!$C187","v":"Berço"},{"$f":"'[2]Inventário Completo'!$D187","v":"CRD9000"},{"$f":"'[2]Inventário Completo'!$G187","v":"CSN-SEPETIBA ITAGUAI (TECON)"},0,0]
[{"$f":"'[2]Inventário Completo'!$C188","v":"Berço"},{"$f":"'[2]Inventário Completo'!$D188","v":"CRD9000"},{"$f":"'[2]Inventário Completo'!$G188","v":"CSN-SEPETIBA ITAGUAI (TECON)"},0,0]
[{"$f":"'[2]Inventário Completo'!$C189","v":"Berço"},{"$f":"'[2]Inventário Completo'!$D189","v":"CRD9000"},{"$f":"'[2]Inventário Completo'!$G189","v":"CSN-VOLTA REDONDA"},0,0]
[{"$f":"'[2]Inventário Completo'!$C190","v":"Berço"},{"$f":"'[2]Inventário Completo'!$D190","v":"CRD9000"},{"$f":"'[2]Inventário Completo'!$G190","v":"CSN-VOLTA REDONDA"},0,0]
[{"$f":"'[2]Inventário Completo'!$C191","v":"Berço"},{"$f":"'[2]Inventário Completo'!$D191","v":"CRD9000"},{"$f":"'[2]Inventário Completo'!$G191","v":"CSN-VOLTA REDONDA"},0,0]
[{"$f":"'[2]Inventário Completo'!$C192","v":"Berço"},{"$f":"'[2]Inventário Completo'!$D192","v":"CRD9000"},{"$f":"'[2]Inventário Completo'!$G192","v":"CSN-VOLTA REDONDA"},0,0]
[{"$f":"'[2]Inventário Completo'!$C193","v":"Berço"},{"$f":"'[2]Inventário Completo'!$D193","v":"CRD9000"},{"$f":"'[2]Inventário Completo'!$G193","v":"CSN-VOLTA REDONDA"},0,0]
[{"$f":"'[2]Inventário Completo'!$C194","v":"Berço"},{"$f":"'[2]Inventário Completo'!$D194","v":"SAC9000-4000"},{"$f":"'[2]Inventário Completo'!$G194","v":"CSN-VOLTA REDONDA"},0,0]
[{"$f":"'[2]Inventário Completo'!$C195","v":"Berço"},{"$f":"'[2]Inventário Completo'!$D195","v":"3365-110"},{"$f":"'[2]Inventário Completo'!$G195","v":"CSN-VOLTA REDONDA"},0,0]
[{"$f":"'[2]Inventário Completo'!$C196","v":"Carregador"},{"$f":"'[2]Inventário Completo'!$D196","v":"SAC9000-4000"},{"$f":"'[2]Inventário Completo'!$G196","v":"CSN-ARAUCARIA"},0,0]
[{"$f":"'[2]Inventário Completo'!$C197","v":"Carregador"},{"$f":"'[2]Inventário Completo'!$D197","v":"SAC9000-4000"},{"$f":"'[2]Inventário Completo'!$G197","v":"CSN-ARAUCARIA"},0,0]
[{"$f":"'[2]Inventário Completo'!$C198","v":"Carregador"},{"$f":"'[2]Inventário Completo'!$D198","v":"SAC9000-4000"},{"$f":"'[2]Inventário Completo'!$G198","v":"CSN-ARAUCARIA"},0,0]
[{"$f":"'[2]Inventário Completo'!$C199","v":"Carregador"},{"$f":"'[2]Inventário Completo'!$D199","v":"SAC9000-4000"},{"$f":"'[2]Inventário Completo'!$G199","v":"CSN-ARAUCARIA"},0,0]
[{"$f":"'[2]Inventário Completo'!$C200","v":"Carregador"},{"$f":"'[2]Inventário Completo'!$D200","v":"SAC9000-4000"},{"$f":"'[2]Inventário Completo'!$G200","v":"CSN-ARAUCARIA"},0,0]
[{"$f":"'[2]Inventário Completo'!$C201","v":"Carregador"},{"$f":"'[2]Inventário Completo'!$D201","v":"SAC9000-4000"},{"$f":"'[2]Inventário Completo'!$G201","v":"CSN-ARAUCARIA"},{"$f":"VLOOKUP(C195,$G$1:$I$25,3,0)","v":0},{"$f":"IF(D195=1,C195,0)","v":0}]
[{"$f":"'[2]Inventário Completo'!$C202","v":"Carregador"},{"$f":"'[2]Inventário Completo'!$D202","v":"UBC2000"},{"$f":"'[2]Inventário Completo'!$G202","v":"CSN-ARAUCARIA"},0,0]
[{"$f":"'[2]Inventário Completo'!$C203","v":"Carregador"},{"$f":"'[2]Inventário Completo'!$D203","v":"UBC2000"},{"$f":"'[2]Inventário Completo'!$G203","v":"CSN-ARAUCARIA"},0,0]
[{"$f":"'[2]Inventário Completo'!$C204","v":"Carregador"},{"$f":"'[2]Inventário Completo'!$D204","v":"UBC2000"},{"$f":"'[2]Inventário Completo'!$G204","v":"CSN-ARAUCARIA"},0,0]
[{"$f":"'[2]Inventário Completo'!$C205","v":"Carregador"},{"$f":"'[2]Inventário Completo'!$D205","v":"UBC2000"},{"$f":"'[2]Inventário Completo'!$G205","v":"CSN-ARAUCARIA"},0,0]
[{"$f":"'[2]Inventário Completo'!$C206","v":"Carregador"},{"$f":"'[2]Inventário Completo'!$D206","v":"SAC9000-4000"},{"$f":"'[2]Inventário Completo'!$G206","v":"CSN-SEPETIBA ITAGUAI (TECON)"},0,0]
[{"$f":"'[2]Inventário Completo'!$C207","v":"Carregador"},{"$f":"'[2]Inventário Completo'!$D207","v":"SAC9000-4000"},{"$f":"'[2]Inventário Completo'!$G207","v":"CSN-SEPETIBA ITAGUAI (TECON)"},0,0]
[{"$f":"'[2]Inventário Completo'!$C208","v":"Carregador"},{"$f":"'[2]Inventário Completo'!$D208","v":"SAC9000-4000"},{"$f":"'[2]Inventário Completo'!$G208","v":"CSN-SEPETIBA ITAGUAI (TECON)"},0,0]
[{"$f":"'[2]Inventário Completo'!$C209","v":"Carregador"},{"$f":"'[2]Inventário Completo'!$D209","v":"SAC9000-4000"},{"$f":"'[2]Inventário Completo'!$G209","v":"CSN-SEPETIBA ITAGUAI (TECON)"},0,0]
[{"$f":"'[2]Inventário Completo'!$C210","v":"Carregador"},{"$f":"'[2]Inventário Completo'!$D210","v":"SAC9000-4000"},{"$f":"'[2]Inventário Completo'!$G210","v":"CSN-VOLTA REDONDA"},0,0]
[{"$f":"'[2]Inventário Completo'!$C211","v":"Carregador"},{"$f":"'[2]Inventário Completo'!$D211","v":"SAC9000-4000"},{"$f":"'[2]Inventário Completo'!$G211","v":"CSN-VOLTA REDONDA"},0,0]
[{"$f":"'[2]Inventário Completo'!$C212","v":"Carregador"},{"$f":"'[2]Inventário Completo'!$D212","v":"UBC2000"},{"$f":"'[2]Inventário Completo'!$G212","v":"CSN-VOLTA REDONDA"},0,0]
[{"$f":"'[2]Inventário Completo'!$C213","v":"Carregador"},{"$f":"'[2]Inventário Completo'!$D213","v":"UBC2000"},{"$f":"'[2]Inventário Completo'!$G213","v":"CSN-VOLTA REDONDA"},0,0]
[{"$f":"'[2]Inventário Completo'!$C214","v":"Carregador"},{"$f":"'[2]Inventário Completo'!$D214","v":"UBC2000"},{"$f":"'[2]Inventário Completo'!$G214","v":"CSN-VOLTA REDONDA"},0,0]
[{"$f":"'[2]Inventário Completo'!$C215","v":"Carregador"},{"$f":"'[2]Inventário Completo'!$D215","v":"UBC2000"},{"$f":"'[2]Inventário Completo'!$G215","v":"CSN-VOLTA REDONDA"},0,0]
[{"$f":"'[2]Inventário Completo'!$C216","v":"Carregador"},{"$f":"'[2]Inventário Completo'!$D216","v":"UBC2000"},{"$f":"'[2]Inventário Completo'!$G216","v":"CSN-VOLTA REDONDA"},0,0]
[{"$f":"'[2]Inventário Completo'!$C217","v":"Carregador"},{"$f":"'[2]Inventário Completo'!$D217","v":"UBC2000"},{"$f":"'[2]Inventário Completo'!$G217","v":"CSN-VOLTA REDONDA"},0,0]
[{"$f":"'[2]Inventário Completo'!$C218","v":"Carregador"},{"$f":"'[2]Inventário Completo'!$D218","v":"HCH-9006"},{"$f":"'[2]Inventário Completo'!$G218","v":"CSN-GALVASUD"},0,0]
[{"$f":"'[2]Inventário Completo'!$C219","v":"Carregador"},{"$f":"'[2]Inventário Completo'!$D219","v":"Carregador "},{"$f":"'[2]Inventário Completo'!$G219","v":"PRADA - MOGI DAS CRUZES"},0,0]
[{"$f":"'[2]Inventário Completo'!$C220","v":"Carregador"},{"$f":"'[2]Inventário Completo'!$D220","v":"Carregador "},{"$f":"'[2]Inventário Completo'!$G220","v":"PRADA - MOGI DAS CRUZES"},0,0]
[{"$f":"'[2]Inventário Completo'!$C221","v":"Carregador"},{"$f":"'[2]Inventário Completo'!$D221","v":"Carregador "},{"$f":"'[2]Inventário Completo'!$G221","v":"PRADA - MOGI DAS CRUZES"},0,0]
[{"$f":"'[2]Inventário Completo'!$C222","v":"Carregador"},{"$f":"'[2]Inventário Completo'!$D222","v":"1002VV05"},{"$f":"'[2]Inventário Completo'!$G222","v":"PRADA - RESENDE"},0,0]
[{"$f":"'[2]Inventário Completo'!$C223","v":"Carregador"},{"$f":"'[2]Inventário Completo'!$D223","v":"CRD9000"},{"$f":"'[2]Inventário Completo'!$G223","v":"CSN-VOLTA REDONDA"},0,0]
[{"$f":"'[2]Inventário Completo'!$C224","v":"Carregador"},{"$f":"'[2]Inventário Completo'!$D224","v":"CRD9000"},{"$f":"'[2]Inventário Completo'!$G224","v":"CSN-VOLTA REDONDA"},0,0]
[{"$f":"'[2]Inventário Completo'!$C225","v":"Carregador"},{"$f":"'[2]Inventário Completo'!$D225","v":"SAC9000-4000"},{"$f":"'[2]Inventário Completo'!$G225","v":"CSN-VOLTA REDONDA"},0,0]
[{"$f":"'[2]Inventário Completo'!$C226","v":"Carregador"},{"$f":"'[2]Inventário Completo'!$D226","v":"HCH9006"},{"$f":"'[2]Inventário Completo'!$G226","v":"CSN-VOLTA REDONDA"},0,0]
[{"$f":"'[2]Inventário Completo'!$C227","v":"Carregador"},{"$f":"'[2]Inventário Completo'!$D227","v":"SAC9000-4000"},{"$f":"'[2]Inventário Completo'!$G227","v":"CSN-VOLTA REDONDA"},0,0]
[{"$f":"'[2]Inventário Completo'!$C228","v":"Carregador"},{"$f":"'[2]Inventário Completo'!$D228","v":"SAC9000-4000"},{"$f":"'[2]Inventário Completo'!$G228","v":"CSN-VOLTA REDONDA"},0,0]
[{"$f":"'[2]Inventário Completo'!$C229","v":"Carregador"},{"$f":"'[2]Inventário Completo'!$D229","v":"SAC9000-4000"},{"$f":"'[2]Inventário Completo'!$G229","v":"CSN-VOLTA REDONDA"},0,0]
[{"$f":"'[2]Inventário Completo'!$C230","v":"Carregador"},{"$f":"'[2]Inventário Completo'!$D230","v":"SAC9000-4000"},{"$f":"'[2]Inventário Completo'!$G230","v":"CSN-VOLTA REDONDA"},0,0]
[{"$f":"'[2]Inventário Completo'!$C231","v":"Coletor"},{"$f":"'[2]Inventário Completo'!$D231","v":"MC9090G"},{"$f":"'[2]Inventário Completo'!$G231","v":"CSN-ARAUCARIA"},0,0]
[{"$f":"'[2]Inventário Completo'!$C232","v":"Coletor"},{"$f":"'[2]Inventário Completo'!$D232","v":"MC9090G"},{"$f":"'[2]Inventário Completo'!$G232","v":"CSN-ARAUCARIA"},0,0]
[{"$f":"'[2]Inventário Completo'!$C233","v":"Coletor"},{"$f":"'[2]Inventário Completo'!$D233","v":"MC9190G"},{"$f":"'[2]Inventário Completo'!$G233","v":"CSN-ARAUCARIA"},0,0]
[{"$f":"'[2]Inventário Completo'!$C234","v":"Coletor"},{"$f":"'[2]Inventário Completo'!$D234","v":"MC9190G"},{"$f":"'[2]Inventário Completo'!$G234","v":"CSN-ARAUCARIA"},0,0]
[{"$f":"'[2]Inventário Completo'!$C235","v":"Coletor"},{"$f":"'[2]Inventário Completo'!$D235","v":"MC9190G"},{"$f":"'[2]Inventário Completo'!$G235","v":"CSN-ARAUCARIA"},0,0]
[{"$f":"'[2]Inventário Completo'!$C236","v":"Coletor"},{"$f":"'[2]Inventário Completo'!$D236","v":"MC9190G"},{"$f":"'[2]Inventário Completo'!$G236","v":"CSN-ARAUCARIA"},0,0]
[{"$f":"'[2]Inventário Completo'!$C237","v":"Coletor"},{"$f":"'[2]Inventário Completo'!$D237","v":"MC9200G"},{"$f":"'[2]Inventário Completo'!$G237","v":"CSN-ARAUCARIA"},0,0]
[{"$f":"'[2]Inventário Completo'!$C238","v":"Coletor"},{"$f":"'[2]Inventário Completo'!$D238","v":"MC9200G"},{"$f":"'[2]Inventário Completo'!$G238","v":"CSN-ARAUCARIA"},0,0]
[{"$f":"'[2]Inventário Completo'!$C239","v":"Coletor"},{"$f":"'[2]Inventário Completo'!$D239","v":"MC9200G"},{"$f":"'[2]Inventário Completo'!$G239","v":"CSN-ARAUCARIA"},0,0]
[{"$f":"'[2]Inventário Completo'!$C240","v":"Coletor"},{"$f":"'[2]Inventário Completo'!$D240","v":"MC9200G"},{"$f":"'[2]Inventário Completo'!$G240","v":"CSN-ARAUCARIA"},0,0]
[{"$f":"'[2]Inventário Completo'!$C241","v":"Coletor"},{"$f":"'[2]Inventário Completo'!$D241","v":"MC9200G"},{"$f":"'[2]Inventário Completo'!$G241","v":"CSN-ARAUCARIA"},0,0]
[{"$f":"'[2]Inventário Completo'!$C242","v":"Coletor"},{"$f":"'[2]Inventário Completo'!$D242","v":"MC9200G"},{"$f":"'[2]Inventário Completo'!$G242","v":"CSN-ARAUCARIA"},0,0]
[{"$f":"'[2]Inventário Completo'!$C243","v":"Coletor"},{"$f":"'[2]Inventário Completo'!$D243","v":"MC9200G"},{"$f":"'[2]Inventário Completo'!$G243","v":"CSN-ARAUCARIA"},0,0]
[{"$f":"'[2]Inventário Completo'!$C244","v":"Coletor"},{"$f":"'[2]Inventário Completo'!$D244","v":"MC9200G"},{"$f":"'[2]Inventário Completo'!$G244","v":"CSN-ARAUCARIA"},0,0]
[{"$f":"'[2]Inventário Completo'!$C245","v":"Coletor"},{"$f":"'[2]Inventário Completo'!$D245","v":"MC9200G"},{"$f":"'[2]Inventário Completo'!$G245","v":"CSN-ARAUCARIA"},0,0]
[{"$f":"'[2]Inventário Completo'!$C246","v":"Coletor"},{"$f":"'[2]Inventário Completo'!$D246","v":"MC9200G"},{"$f":"'[2]Inventário Completo'!$G246","v":"CSN-ARAUCARIA"},0,0]
[{"$f":"'[2]Inventário Completo'!$C247","v":"Coletor"},{"$f":"'[2]Inventário Completo'!$D247","v":"MC9200G"},{"$f":"'[2]Inventário Completo'!$G247","v":"CSN-ARAUCARIA"},0,0]
[{"$f":"'[2]Inventário Completo'!$C248","v":"Coletor"},{"$f":"'[2]Inventário Completo'!$D248","v":"MC9200G"},{"$f":"'[2]Inventário Completo'!$G248","v":"CSN-ARAUCARIA"},0,0]
[{"$f":"'[2]Inventário Completo'!$C249","v":"Coletor"},{"$f":"'[2]Inventário Completo'!$D249","v":"MC9200G"},{"$f":"'[2]Inventário Completo'!$G249","v":"CSN-ARAUCARIA"},0,0]
[{"$f":"'[2]Inventário Completo'!$C250","v":"Coletor"},{"$f":"'[2]Inventário Completo'!$D250","v":"MC9090G"},{"$f":"'[2]Inventário Completo'!$G250","v":"CSN-SEPETIBA ITAGUAI (TECON)"},0,0]
[{"$f":"'[2]Inventário Completo'!$C251","v":"Coletor"},{"$f":"'[2]Inventário Completo'!$D251","v":"MC9090G"},{"$f":"'[2]Inventário Completo'!$G251","v":"CSN-SEPETIBA ITAGUAI (TECON)"},0,0]
[{"$f":"'[2]Inventário Completo'!$C252","v":"Coletor"},{"$f":"'[2]Inventário Completo'!$D252","v":"MC9090G"},{"$f":"'[2]Inventário Completo'!$G252","v":"CSN-SEPETIBA ITAGUAI (TECON)"},0,0]
[{"$f":"'[2]Inventário Completo'!$C253","v":"Coletor"},{"$f":"'[2]Inventário Completo'!$D253","v":"MC9090G"},{"$f":"'[2]Inventário Completo'!$G253","v":"CSN-SEPETIBA ITAGUAI (TECON)"},0,0]
[{"$f":"'[2]Inventário Completo'!$C254","v":"Coletor"},{"$f":"'[2]Inventário Completo'!$D254","v":"MC9090G"},{"$f":"'[2]Inventário Completo'!$G254","v":"CSN-SEPETIBA ITAGUAI (TECON)"},0,0]
[{"$f":"'[2]Inventário Completo'!$C255","v":"Coletor"},{"$f":"'[2]Inventário Completo'!$D255","v":"MC9090G"},{"$f":"'[2]Inventário Completo'!$G255","v":"CSN-SEPETIBA ITAGUAI (TECON)"},0,0]
[{"$f":"'[2]Inventário Completo'!$C256","v":"Coletor"},{"$f":"'[2]Inventário Completo'!$D256","v":"MC9090G"},{"$f":"'[2]Inventário Completo'!$G256","v":"CSN-SEPETIBA ITAGUAI (TECON)"},0,0]
[{"$f":"'[2]Inventário Completo'!$C257","v":"Coletor"},{"$f":"'[2]Inventário Completo'!$D257","v":"MC9090G"},{"$f":"'[2]Inventário Completo'!$G257","v":"CSN-SEPETIBA ITAGUAI (TECON)"},0,0]
[{"$f":"'[2]Inventário Completo'!$C258","v":"Coletor"},{"$f":"'[2]Inventário Completo'!$D258","v":"MC9090G"},{"$f":"'[2]Inventário Completo'!$G258","v":"CSN-SEPETIBA ITAGUAI (TECON)"},0,0]
[{"$f":"'[2]Inventário Completo'!$C259","v":"Coletor"},{"$f":"'[2]Inventário Completo'!$D259","v":"MC9090G"},{"$f":"'[2]Inventário Completo'!$G259","v":"CSN-SEPETIBA ITAGUAI (TECON)"},0,0]
[{"$f":"'[2]Inventário Completo'!$C260","v":"Coletor"},{"$f":"'[2]Inventário Completo'!$D260","v":"MC9090G"},{"$f":"'[2]Inventário Completo'!$G260","v":"CSN-SEPETIBA ITAGUAI (TECON)"},0,0]
[{"$f":"'[2]Inventário Completo'!$C261","v":"Coletor"},{"$f":"'[2]Inventário Completo'!$D261","v":"MC9090G"},{"$f":"'[2]Inventário Completo'!$G261","v":"CSN-SEPETIBA ITAGUAI (TECON)"},0,0]
[{"$f":"'[2]Inventário Completo'!$C262","v":"Coletor"},{"$f":"'[2]Inventário Completo'!$D262","v":"MC9090G"},{"$f":"'[2]Inventário Completo'!$G262","v":"CSN-SEPETIBA ITAGUAI (TECON)"},0,0]
[{"$f":"'[2]Inventário Completo'!$C263","v":"Coletor"},{"$f":"'[2]Inventário Completo'!$D263","v":"MC9090G"},{"$f":"'[2]Inventário Completo'!$G263","v":"CSN-SEPETIBA ITAGUAI (TECON)"},0,0]
[{"$f":"'[2]Inventário Completo'!$C264","v":"Coletor"},{"$f":"'[2]Inventário Completo'!$D264","v":"MC9090G"},{"$f":"'[2]Inventário Completo'!$G264","v":"CSN-SEPETIBA ITAGUAI (TECON)"},0,0]
[{"$f":"'[2]Inventário Completo'!$C265","v":"Coletor"},{"$f":"'[2]Inventário Completo'!$D265","v":"MC9090G"},{"$f":"'[2]Inventário Completo'!$G265","v":"CSN-SEPETIBA ITAGUAI (TECON)"},{"$f":"VLOOKUP(C259,$G$1:$I$25,3,0)","v":0},{"$f":"IF(D259=1,C259,0)","v":0}]
[{"$f":"'[2]Inventário Completo'!$C266","v":"Coletor"},{"$f":"'[2]Inventário Completo'!$D266","v":"MC9090G"},{"$f":"'[2]Inventário Completo'!$G266","v":"CSN-SEPETIBA ITAGUAI (TECON)"},0,0]
[{"$f":"'[2]Inventário Completo'!$C267","v":"Coletor"},{"$f":"'[2]Inventário Completo'!$D267","v":"MC9090G"},{"$f":"'[2]Inventário Completo'!$G267","v":"CSN-SEPETIBA ITAGUAI (TECON)"},0,0]
[{"$f":"'[2]Inventário Completo'!$C268","v":"Coletor"},{"$f":"'[2]Inventário Completo'!$D268","v":"MC9090G"},{"$f":"'[2]Inventário Completo'!$G268","v":"CSN-SEPETIBA ITAGUAI (TECON)"},0,0]
[{"$f":"'[2]Inventário Completo'!$C269","v":"Coletor"},{"$f":"'[2]Inventário Completo'!$D269","v":"MC9090G"},{"$f":"'[2]Inventário Completo'!$G269","v":"CSN-SEPETIBA ITAGUAI (TECON)"},0,0]
[{"$f":"'[2]Inventário Completo'!$C270","v":"Coletor"},{"$f":"'[2]Inventário Completo'!$D270","v":"MC9090G"},{"$f":"'[2]Inventário Completo'!$G270","v":"PRADA - MOGI DAS CRUZES"},0,0]
[{"$f":"'[2]Inventário Completo'!$C271","v":"Coletor"},{"$f":"'[2]Inventário Completo'!$D271","v":"MC9090G"},{"$f":"'[2]Inventário Completo'!$G271","v":"PRADA - MOGI DAS CRUZES"},0,0]
[{"$f":"'[2]Inventário Completo'!$C272","v":"Coletor"},{"$f":"'[2]Inventário Completo'!$D272","v":"MC9090G"},{"$f":"'[2]Inventário Completo'!$G272","v":"PRADA - MOGI DAS CRUZES"},0,0]
[{"$f":"'[2]Inventário Completo'!$C273","v":"Coletor"},{"$f":"'[2]Inventário Completo'!$D273","v":"MC9090G"},{"$f":"'[2]Inventário Completo'!$G273","v":"PRADA - MOGI DAS CRUZES"},0,0]
[{"$f":"'[2]Inventário Completo'!$C274","v":"Coletor"},{"$f":"'[2]Inventário Completo'!$D274","v":"MC9090G"},{"$f":"'[2]Inventário Completo'!$G274","v":"PRADA - MOGI DAS CRUZES"},0,0]
[{"$f":"'[2]Inventário Completo'!$C275","v":"Coletor"},{"$f":"'[2]Inventário Completo'!$D275","v":"MC9090G"},{"$f":"'[2]Inventário Completo'!$G275","v":"PRADA - MOGI DAS CRUZES"},0,0]
[{"$f":"'[2]Inventário Completo'!$C276","v":"Coletor"},{"$f":"'[2]Inventário Completo'!$D276","v":"MC9090G"},{"$f":"'[2]Inventário Completo'!$G276","v":"PRADA - MOGI DAS CRUZES"},0,0]
[{"$f":"'[2]Inventário Completo'!$C277","v":"Coletor"},{"$f":"'[2]Inventário Completo'!$D277","v":"MC9090G"},{"$f":"'[2]Inventário Completo'!$G277","v":"PRADA - MOGI DAS CRUZES"},0,0]
[{"$f":"'[2]Inventário Completo'!$C278","v":"Coletor"},{"$f":"'[2]Inventário Completo'!$D278","v":"MC9090G"},{"$f":"'[2]Inventário Completo'!$G278","v":"PRADA - MOGI DAS CRUZES"},0,0]
[{"$f":"'[2]Inventário Completo'!$C279","v":"Coletor"},{"$f":"'[2]Inventário Completo'!$D279","v":"MC9090G"},{"$f":"'[2]Inventário Completo'!$G279","v":"PRADA - MOGI DAS CRUZES"},0,0]
[{"$f":"'[2]Inventário Completo'!$C280","v":"Coletor"},{"$f":"'[2]Inventário Completo'!$D280","v":"MC9090G"},{"$f":"'[2]Inventário Completo'!$G280","v":"PRADA - MOGI DAS CRUZES"},0,0]
[{"$f":"'[2]Inventário Completo'!$C281","v":"Coletor"},{"$f":"'[2]Inventário Completo'!$D281","v":"MC9090G"},{"$f":"'[2]Inventário Completo'!$G281","v":"PRADA - MOGI DAS CRUZES"},0,0]
[{"$f":"'[2]Inventário Completo'!$C282","v":"Coletor"},{"$f":"'[2]Inventário Completo'!$D282","v":"MC9090G"},{"$f":"'[2]Inventário Completo'!$G282","v":"PRADA - MOGI DAS CRUZES"},0,0]
[{"$f":"'[2]Inventário Completo'!$C283","v":"Coletor"},{"$f":"'[2]Inventário Completo'!$D283","v":"MC9090G"},{"$f":"'[2]Inventário Completo'!$G283","v":"PRADA - MOGI DAS CRUZES"},0,0]
[{"$f":"'[2]Inventário Completo'!$C284","v":"Coletor"},{"$f":"'[2]Inventário Completo'!$D284","v":"MC9090G"},{"$f":"'[2]Inventário Completo'!$G284","v":"PRADA - MOGI DAS CRUZES"},0,0]
[{"$f":"'[2]Inventário Completo'!$C285","v":"Coletor"},{"$f":"'[2]Inventário Completo'!$D285","v":"MC9090G"},{"$f":"'[2]Inventário Completo'!$G285","v":"PRADA - MOGI DAS CRUZES"},0,0]
[{"$f":"'[2]Inventário Completo'!$C286","v":"Coletor"},{"$f":"'[2]Inventário Completo'!$D286","v":"MC9090G"},{"$f":"'[2]Inventário Completo'!$G286","v":"PRADA - MOGI DAS CRUZES"},0,0]
[{"$f":"'[2]Inventário Completo'!$C287","v":"Coletor"},{"$f":"'[2]Inventário Completo'!$D287","v":"MC9090G"},{"$f":"'[2]Inventário Completo'!$G287","v":"PRADA - MOGI DAS CRUZES"},0,0]
[{"$f":"'[2]Inventário Completo'!$C288","v":"Coletor"},{"$f":"'[2]Inventário Completo'!$D288","v":"MC9090G"},{"$f":"'[2]Inventário Completo'!$G288","v":"PRADA - MOGI DAS CRUZES"},0,0]
[{"$f":"'[2]Inventário Completo'!$C289","v":"Coletor"},{"$f":"'[2]Inventário Completo'!$D289","v":"MC9090G"},{"$f":"'[2]Inventário Completo'!$G289","v":"PRADA - MOGI DAS CRUZES"},0,0]
[{"$f":"'[2]Inventário Completo'!$C290","v":"Coletor"},{"$f":"'[2]Inventário Completo'!$D290","v":"MC9090G"},{"$f":"'[2]Inventário Completo'!$G290","v":"PRADA - MOGI DAS CRUZES"},0,0]
[{"$f":"'[2]Inventário Completo'!$C291","v":"Coletor"},{"$f":"'[2]Inventário Completo'!$D291","v":"MC9090G"},{"$f":"'[2]Inventário Completo'!$G291","v":"PRADA - MOGI DAS CRUZES"},0,0]
[{"$f":"'[2]Inventário Completo'!$C292","v":"Coletor"},{"$f":"'[2]Inventário Completo'!$D292","v":"MC9090G"},{"$f":"'[2]Inventário Completo'!$G292","v":"PRADA - MOGI DAS CRUZES"},0,0]
[{"$f":"'[2]Inventário Completo'!$C293","v":"Coletor"},{"$f":"'[2]Inventário Completo'!$D293","v":"MC9090G"},{"$f":"'[2]Inventário Completo'!$G293","v":"PRADA - MOGI DAS CRUZES"},0,0]
[{"$f":"'[2]Inventário Completo'!$C294","v":"Coletor"},{"$f":"'[2]Inventário Completo'!$D294","v":"MC9090G"},{"$f":"'[2]Inventário Completo'!$G294","v":"PRADA - MOGI DAS CRUZES"},0,0]
[{"$f":"'[2]Inventário Completo'!$C295","v":"Coletor"},{"$f":"'[2]Inventário Completo'!$D295","v":"MC9090G"},{"$f":"'[2]Inventário Completo'!$G295","v":"PRADA - MOGI DAS CRUZES"},0,0]
[{"$f":"'[2]Inventário Completo'!$C296","v":"Coletor"},{"$f":"'[2]Inventário Completo'!$D296","v":"MC9090G"},{"$f":"'[2]Inventário Completo'!$G296","v":"PRADA - MOGI DAS CRUZES"},0,0]
[{"$f":"'[2]Inventário Completo'!$C297","v":"Coletor"},{"$f":"'[2]Inventário Completo'!$D297","v":"MC9090G"},{"$f":"'[2]Inventário Completo'!$G297","v":"PRADA - MOGI DAS CRUZES"},0,0]
[{"$f":"'[2]Inventário Completo'!$C298","v":"Coletor"},{"$f":"'[2]Inventário Completo'!$D298","v":"MC9090G"},{"$f":"'[2]Inventário Completo'!$G298","v":"PRADA - MOGI DAS CRUZES"},0,0]
[{"$f":"'[2]Inventário Completo'!$C299","v":"Coletor"},{"$f":"'[2]Inventário Completo'!$D299","v":"MC9200G"},{"$f":"'[2]Inventário Completo'!$G299","v":"CSN-GALVASUD"},0,0]
[{"$f":"'[2]Inventário Completo'!$C300","v":"Coletor"},{"$f":"'[2]Inventário Completo'!$D300","v":"MC9200G"},{"$f":"'[2]Inventário Completo'!$G300","v":"CSN-GALVASUD"},0,0]
[{"$f":"'[2]Inventário Completo'!$C301","v":"Coletor"},{"$f":"'[2]Inventário Completo'!$D301","v":"MC9200G"},{"$f":"'[2]Inventário Completo'!$G301","v":"CSN-GALVASUD"},0,0]
[{"$f":"'[2]Inventário Completo'!$C302","v":"Coletor"},{"$f":"'[2]Inventário Completo'!$D302","v":"MC9200G"},{"$f":"'[2]Inventário Completo'!$G302","v":"CSN-GALVASUD"},0,0]
[{"$f":"'[2]Inventário Completo'!$C303","v":"Coletor"},{"$f":"'[2]Inventário Completo'!$D303","v":"MC9200G"},{"$f":"'[2]Inventário Completo'!$G303","v":"CSN-GALVASUD"},0,0]
[{"$f":"'[2]Inventário Completo'!$C304","v":"Coletor"},{"$f":"'[2]Inventário Completo'!$D304","v":"CK71"},{"$f":"'[2]Inventário Completo'!$G304","v":"PRADA - SANTO AMARO"},0,0]
[{"$f":"'[2]Inventário Completo'!$C305","v":"Coletor"},{"$f":"'[2]Inventário Completo'!$D305","v":"CK71"},{"$f":"'[2]Inventário Completo'!$G305","v":"PRADA - SANTO AMARO"},0,0]
[{"$f":"'[2]Inventário Completo'!$C306","v":"Coletor"},{"$f":"'[2]Inventário Completo'!$D306","v":"CK71"},{"$f":"'[2]Inventário Completo'!$G306","v":"PRADA - SANTO AMARO"},0,0]
[{"$f":"'[2]Inventário Completo'!$C307","v":"Coletor"},{"$f":"'[2]Inventário Completo'!$D307","v":"CK71"},{"$f":"'[2]Inventário Completo'!$G307","v":"PRADA - SANTO AMARO"},0,0]
[{"$f":"'[2]Inventário Completo'!$C308","v":"Coletor"},{"$f":"'[2]Inventário Completo'!$D308","v":"CK71"},{"$f":"'[2]Inventário Completo'!$G308","v":"PRADA - SANTO AMARO"},0,0]
[{"$f":"'[2]Inventário Completo'!$C309","v":"Coletor"},{"$f":"'[2]Inventário Completo'!$D309","v":"CK71"},{"$f":"'[2]Inventário Completo'!$G309","v":"PRADA - SANTO AMARO"},0,0]
[{"$f":"'[2]Inventário Completo'!$C310","v":"Coletor"},{"$f":"'[2]Inventário Completo'!$D310","v":"CK71"},{"$f":"'[2]Inventário Completo'!$G310","v":"PRADA - SANTO AMARO"},0,0]
[{"$f":"'[2]Inventário Completo'!$C311","v":"Coletor"},{"$f":"'[2]Inventário Completo'!$D311","v":"CK71"},{"$f":"'[2]Inventário Completo'!$G311","v":"PRADA - SANTO AMARO"},0,0]
[{"$f":"'[2]Inventário Completo'!$C312","v":"Coletor"},{"$f":"'[2]Inventário Completo'!$D312","v":"CK71"},{"$f":"'[2]Inventário Completo'!$G312","v":"PRADA - SANTO AMARO"},0,0]
[{"$f":"'[2]Inventário Completo'!$C313","v":"Coletor"},{"$f":"'[2]Inventário Completo'!$D313","v":"CK71"},{"$f":"'[2]Inventário Completo'!$G313","v":"PRADA - SANTO AMARO"},0,0]
[{"$f":"'[2]Inventário Completo'!$C314","v":"Coletor"},{"$f":"'[2]Inventário Completo'!$D314","v":"CK71"},{"$f":"'[2]Inventário Completo'!$G314","v":"CSN-VOLTA REDONDA"},0,0]
[{"$f":"'[2]Inventário Completo'!$C315","v":"Coletor"},{"$f":"'[2]Inventário Completo'!$D315","v":"MC9090G"},{"$f":"'[2]Inventário Completo'!$G315","v":"CSN-VOLTA REDONDA"},0,0]
[{"$f":"'[2]Inventário Completo'!$C316","v":"Coletor"},{"$f":"'[2]Inventário Completo'!$D316","v":"MC9060G"},{"$f":"'[2]Inventário Completo'!$G316","v":"CSN-VOLTA REDONDA"},0,0]
[{"$f":"'[2]Inventário Completo'!$C317","v":"Coletor"},{"$f":"'[2]Inventário Completo'!$D317","v":"MC9060G"},{"$f":"'[2]Inventário Completo'!$G317","v":"CSN-VOLTA REDONDA"},0,0]
[{"$f":"'[2]Inventário Completo'!$C318","v":"Coletor"},{"$f":"'[2]Inventário Completo'!$D318","v":"MC9060G"},{"$f":"'[2]Inventário Completo'!$G318","v":"CSN-VOLTA REDONDA"},0,0]
[{"$f":"'[2]Inventário Completo'!$C319","v":"Coletor"},{"$f":"'[2]Inventário Completo'!$D319","v":"MC9060G"},{"$f":"'[2]Inventário Completo'!$G319","v":"CSN-VOLTA REDONDA"},0,0]
[{"$f":"'[2]Inventário Completo'!$C320","v":"Coletor"},{"$f":"'[2]Inventário Completo'!$D320","v":"MC9060G"},{"$f":"'[2]Inventário Completo'!$G320","v":"CSN-VOLTA REDONDA"},0,0]
[{"$f":"'[2]Inventário Completo'!$C321","v":"Coletor"},{"$f":"'[2]Inventário Completo'!$D321","v":"MC9060G"},{"$f":"'[2]Inventário Completo'!$G321","v":"CSN-VOLTA REDONDA"},0,0]
[{"$f":"'[2]Inventário Completo'!$C322","v":"Coletor"},{"$f":"'[2]Inventário Completo'!$D322","v":"MC9060G"},{"$f":"'[2]Inventário Completo'!$G322","v":"CSN-VOLTA REDONDA"},0,0]
[{"$f":"'[2]Inventário Completo'!$C323","v":"Coletor"},{"$f":"'[2]Inventário Completo'!$D323","v":"MC9060G"},{"$f":"'[2]Inventário Completo'!$G323","v":"CSN-VOLTA REDONDA"},0,0]
[{"$f":"'[2]Inventário Completo'!$C324","v":"Coletor"},{"$f":"'[2]Inventário Completo'!$D324","v":"MC9060G"},{"$f":"'[2]Inventário Completo'!$G324","v":"CSN-VOLTA REDONDA"},0,0]
[{"$f":"'[2]Inventário Completo'!$C325","v":"Coletor"},{"$f":"'[2]Inventário Completo'!$D325","v":"MC9060G"},{"$f":"'[2]Inventário Completo'!$G325","v":"CSN-VOLTA REDONDA"},0,0]
[{"$f":"'[2]Inventário Completo'!$C326","v":"Coletor"},{"$f":"'[2]Inventário Completo'!$D326","v":"MC9060G"},{"$f":"'[2]Inventário Completo'!$G326","v":"CSN-VOLTA REDONDA"},0,0]
[{"$f":"'[2]Inventário Completo'!$C327","v":"Coletor"},{"$f":"'[2]Inventário Completo'!$D327","v":"MC9060G"},{"$f":"'[2]Inventário Completo'!$G327","v":"CSN-VOLTA REDONDA"},0,0]
[{"$f":"'[2]Inventário Completo'!$C328","v":"Coletor"},{"$f":"'[2]Inventário Completo'!$D328","v":"MC9060G"},{"$f":"'[2]Inventário Completo'!$G328","v":"CSN-VOLTA REDONDA"},0,0]
[{"$f":"'[2]Inventário Completo'!$C329","v":"Coletor"},{"$f":"'[2]Inventário Completo'!$D329","v":"MC9060G"},{"$f":"'[2]Inventário Completo'!$G329","v":"CSN-VOLTA REDONDA"},{"$f":"VLOOKUP(C323,$G$1:$I$25,3,0)","v":0},{"$f":"IF(D323=1,C323,0)","v":0}]
[{"$f":"'[2]Inventário Completo'!$C330","v":"Coletor"},{"$f":"'[2]Inventário Completo'!$D330","v":"MC9060G"},{"$f":"'[2]Inventário Completo'!$G330","v":"CSN-VOLTA REDONDA"},0,0]
[{"$f":"'[2]Inventário Completo'!$C331","v":"Coletor"},{"$f":"'[2]Inventário Completo'!$D331","v":"MC9060G"},{"$f":"'[2]Inventário Completo'!$G331","v":"CSN-VOLTA REDONDA"},0,0]
[{"$f":"'[2]Inventário Completo'!$C332","v":"Coletor"},{"$f":"'[2]Inventário Completo'!$D332","v":"MC9090G"},{"$f":"'[2]Inventário Completo'!$G332","v":"CSN-VOLTA REDONDA"},0,0]
[{"$f":"'[2]Inventário Completo'!$C333","v":"Coletor"},{"$f":"'[2]Inventário Completo'!$D333","v":"MC9090G"},{"$f":"'[2]Inventário Completo'!$G333","v":"CSN-VOLTA REDONDA"},0,0]
[{"$f":"'[2]Inventário Completo'!$C334","v":"Coletor"},{"$f":"'[2]Inventário Completo'!$D334","v":"MC9090G"},{"$f":"'[2]Inventário Completo'!$G334","v":"CSN-VOLTA REDONDA"},0,0]
[{"$f":"'[2]Inventário Completo'!$C335","v":"Coletor"},{"$f":"'[2]Inventário Completo'!$D335","v":"MC9090G"},{"$f":"'[2]Inventário Completo'!$G335","v":"CSN-VOLTA REDONDA"},0,0]
[{"$f":"'[2]Inventário Completo'!$C336","v":"Coletor"},{"$f":"'[2]Inventário Completo'!$D336","v":"MC9090G"},{"$f":"'[2]Inventário Completo'!$G336","v":"CSN-VOLTA REDONDA"},0,0]
[{"$f":"'[2]Inventário Completo'!$C337","v":"Coletor"},{"$f":"'[2]Inventário Completo'!$D337","v":"MC9090G"},{"$f":"'[2]Inventário Completo'!$G337","v":"CSN-VOLTA REDONDA"},0,0]
[{"$f":"'[2]Inventário Completo'!$C338","v":"Coletor"},{"$f":"'[2]Inventário Completo'!$D338","v":"MC9090G"},{"$f":"'[2]Inventário Completo'!$G338","v":"CSN-VOLTA REDONDA"},0,0]
[{"$f":"'[2]Inventário Completo'!$C339","v":"Coletor"},{"$f":"'[2]Inventário Completo'!$D339","v":"MC9090G"},{"$f":"'[2]Inventário Completo'!$G339","v":"CSN-VOLTA REDONDA"},0,0]
[{"$f":"'[2]Inventário Completo'!$C340","v":"Coletor"},{"$f":"'[2]Inventário Completo'!$D340","v":"MC9090G"},{"$f":"'[2]Inventário Completo'!$G340","v":"CSN-VOLTA REDONDA"},0,0]
[{"$f":"'[2]Inventário Completo'!$C341","v":"Coletor"},{"$f":"'[2]Inventário Completo'!$D341","v":"MC9090G"},{"$f":"'[2]Inventário Completo'!$G341","v":"CSN-VOLTA REDONDA"},0,0]
[{"$f":"'[2]Inventário Completo'!$C342","v":"Coletor"},{"$f":"'[2]Inventário Completo'!$D342","v":"MC9090G"},{"$f":"'[2]Inventário Completo'!$G342","v":"CSN-VOLTA REDONDA"},0,0]
[{"$f":"'[2]Inventário Completo'!$C343","v":"Coletor"},{"$f":"'[2]Inventário Completo'!$D343","v":"MC9090G"},{"$f":"'[2]Inventário Completo'!$G343","v":"CSN-VOLTA REDONDA"},0,0]
[{"$f":"'[2]Inventário Completo'!$C344","v":"Coletor"},{"$f":"'[2]Inventário Completo'!$D344","v":"MC9190G"},{"$f":"'[2]Inventário Completo'!$G344","v":"CSN-VOLTA REDONDA"},0,0]
[{"$f":"'[2]Inventário Completo'!$C345","v":"Coletor"},{"$f":"'[2]Inventário Completo'!$D345","v":"MC9090G"},{"$f":"'[2]Inventário Completo'!$G345","v":"CSN-VOLTA REDONDA"},0,0]
[{"$f":"'[2]Inventário Completo'!$C346","v":"Coletor"},{"$f":"'[2]Inventário Completo'!$D346","v":"MC9090G"},{"$f":"'[2]Inventário Completo'!$G346","v":"CSN-VOLTA REDONDA"},0,0]
[{"$f":"'[2]Inventário Completo'!$C347","v":"Coletor"},{"$f":"'[2]Inventário Completo'!$D347","v":"MC9060G"},{"$f":"'[2]Inventário Completo'!$G347","v":"CSN-VOLTA REDONDA"},0,0]
[{"$f":"'[2]Inventário Completo'!$C348","v":"Coletor"},{"$f":"'[2]Inventário Completo'!$D348","v":"MC9090G"},{"$f":"'[2]Inventário Completo'!$G348","v":"CSN-VOLTA REDONDA"},0,0]
[{"$f":"'[2]Inventário Completo'!$C349","v":"Coletor"},{"$f":"'[2]Inventário Completo'!$D349","v":"MC9090G"},{"$f":"'[2]Inventário Completo'!$G349","v":"CSN-VOLTA REDONDA"},0,0]
[{"$f":"'[2]Inventário Completo'!$C350","v":"Coletor"},{"$f":"'[2]Inventário Completo'!$D350","v":"MC9090G"},{"$f":"'[2]Inventário Completo'!$G350","v":"CSN-VOLTA REDONDA"},0,0]
[{"$f":"'[2]Inventário Completo'!$C351","v":"Coletor"},{"$f":"'[2]Inventário Completo'!$D351","v":"MC9090G"},{"$f":"'[2]Inventário Completo'!$G351","v":"CSN-VOLTA REDONDA"},0,0]
[{"$f":"'[2]Inventário Completo'!$C352","v":"Coletor"},{"$f":"'[2]Inventário Completo'!$D352","v":"MC9090G"},{"$f":"'[2]Inventário Completo'!$G352","v":"CSN-VOLTA REDONDA"},0,0]
[{"$f":"'[2]Inventário Completo'!$C353","v":"Coletor"},{"$f":"'[2]Inventário Completo'!$D353","v":"MC9090G"},{"$f":"'[2]Inventário Completo'!$G353","v":"CSN-VOLTA REDONDA"},0,0]
[{"$f":"'[2]Inventário Completo'!$C354","v":"Coletor"},{"$f":"'[2]Inventário Completo'!$D354","v":"MC9090G"},{"$f":"'[2]Inventário Completo'!$G354","v":"CSN-VOLTA REDONDA"},0,0]
[{"$f":"'[2]Inventário Completo'!$C355","v":"Coletor"},{"$f":"'[2]Inventário Completo'!$D355","v":"MC9090G"},{"$f":"'[2]Inventário Completo'!$G355","v":"CSN-VOLTA REDONDA"},0,0]
[{"$f":"'[2]Inventário Completo'!$C356","v":"Coletor"},{"$f":"'[2]Inventário Completo'!$D356","v":"MC9090G"},{"$f":"'[2]Inventário Completo'!$G356","v":"CSN-VOLTA REDONDA"},0,0]
[{"$f":"'[2]Inventário Completo'!$C357","v":"Coletor"},{"$f":"'[2]Inventário Completo'!$D357","v":"MC9090G"},{"$f":"'[2]Inventário Completo'!$G357","v":"CSN-VOLTA REDONDA"},0,0]
[{"$f":"'[2]Inventário Completo'!$C358","v":"Coletor"},{"$f":"'[2]Inventário Completo'!$D358","v":"MC9090G"},{"$f":"'[2]Inventário Completo'!$G358","v":"CSN-VOLTA REDONDA"},0,0]
[{"$f":"'[2]Inventário Completo'!$C359","v":"Coletor"},{"$f":"'[2]Inventário Completo'!$D359","v":"MC9090G"},{"$f":"'[2]Inventário Completo'!$G359","v":"CSN-VOLTA REDONDA"},0,0]
[{"$f":"'[2]Inventário Completo'!$C360","v":"Coletor"},{"$f":"'[2]Inventário Completo'!$D360","v":"MC9090G"},{"$f":"'[2]Inventário Completo'!$G360","v":"CSN-VOLTA REDONDA"},0,0]
[{"$f":"'[2]Inventário Completo'!$C361","v":"Coletor"},{"$f":"'[2]Inventário Completo'!$D361","v":"MC9090G"},{"$f":"'[2]Inventário Completo'!$G361","v":"CSN-VOLTA REDONDA"},0,0]
[{"$f":"'[2]Inventário Completo'!$C362","v":"Coletor"},{"$f":"'[2]Inventário Completo'!$D362","v":"MC9090G"},{"$f":"'[2]Inventário Completo'!$G362","v":"CSN-VOLTA REDONDA"},0,0]
[{"$f":"'[2]Inventário Completo'!$C363","v":"Coletor"},{"$f":"'[2]Inventário Completo'!$D363","v":"MC9090G"},{"$f":"'[2]Inventário Completo'!$G363","v":"CSN-VOLTA REDONDA"},0,0]
[{"$f":"'[2]Inventário Completo'!$C364","v":"Coletor"},{"$f":"'[2]Inventário Completo'!$D364","v":"MC9090G"},{"$f":"'[2]Inventário Completo'!$G364","v":"CSN-VOLTA REDONDA"},0,0]
[{"$f":"'[2]Inventário Completo'!$C365","v":"Coletor"},{"$f":"'[2]Inventário Completo'!$D365","v":"MC9090G"},{"$f":"'[2]Inventário Completo'!$G365","v":"CSN-VOLTA REDONDA"},0,0]
[{"$f":"'[2]Inventário Completo'!$C366","v":"Coletor"},{"$f":"'[2]Inventário Completo'!$D366","v":"MC9190G"},{"$f":"'[2]Inventário Completo'!$G366","v":"CSN-VOLTA REDONDA"},0,0]
[{"$f":"'[2]Inventário Completo'!$C367","v":"Coletor"},{"$f":"'[2]Inventário Completo'!$D367","v":"MC9190G"},{"$f":"'[2]Inventário Completo'!$G367","v":"CSN-VOLTA REDONDA"},0,0]
[{"$f":"'[2]Inventário Completo'!$C368","v":"Coletor"},{"$f":"'[2]Inventário Completo'!$D368","v":"MC9190G"},{"$f":"'[2]Inventário Completo'!$G368","v":"CSN-VOLTA REDONDA"},0,0]
[{"$f":"'[2]Inventário Completo'!$C369","v":"Coletor"},{"$f":"'[2]Inventário Completo'!$D369","v":"MC9190G"},{"$f":"'[2]Inventário Completo'!$G369","v":"CSN-VOLTA REDONDA"},0,0]
[{"$f":"'[2]Inventário Completo'!$C370","v":"Coletor"},{"$f":"'[2]Inventário Completo'!$D370","v":"MC9190G"},{"$f":"'[2]Inventário Completo'!$G370","v":"CSN-VOLTA REDONDA"},0,0]
[{"$f":"'[2]Inventário Completo'!$C371","v":"Coletor"},{"$f":"'[2]Inventário Completo'!$D371","v":"MC9190G"},{"$f":"'[2]Inventário Completo'!$G371","v":"CSN-VOLTA REDONDA"},0,0]
[{"$f":"'[2]Inventário Completo'!$C372","v":"Coletor"},{"$f":"'[2]Inventário Completo'!$D372","v":"MC9190G"},{"$f":"'[2]Inventário Completo'!$G372","v":"CSN-VOLTA REDONDA"},0,0]
[{"$f":"'[2]Inventário Completo'!$C373","v":"Coletor"},{"$f":"'[2]Inventário Completo'!$D373","v":"MC9190G"},{"$f":"'[2]Inventário Completo'!$G373","v":"CSN-VOLTA REDONDA"},0,0]
[{"$f":"'[2]Inventário Completo'!$C374","v":"Coletor"},{"$f":"'[2]Inventário Completo'!$D374","v":"MC9190G"},{"$f":"'[2]Inventário Completo'!$G374","v":"CSN-VOLTA REDONDA"},0,0]
[{"$f":"'[2]Inventário Completo'!$C375","v":"Coletor"},{"$f":"'[2]Inventário Completo'!$D375","v":"MC9190G"},{"$f":"'[2]Inventário Completo'!$G375","v":"CSN-VOLTA REDONDA"},0,0]
[{"$f":"'[2]Inventário Completo'!$C376","v":"Coletor"},{"$f":"'[2]Inventário Completo'!$D376","v":"MC9190G"},{"$f":"'[2]Inventário Completo'!$G376","v":"CSN-VOLTA REDONDA"},0,0]
[{"$f":"'[2]Inventário Completo'!$C377","v":"Coletor"},{"$f":"'[2]Inventário Completo'!$D377","v":"MC9190G"},{"$f":"'[2]Inventário Completo'!$G377","v":"CSN-VOLTA REDONDA"},0,0]
[{"$f":"'[2]Inventário Completo'!$C378","v":"Coletor"},{"$f":"'[2]Inventário Completo'!$D378","v":"MC9090G"},{"$f":"'[2]Inventário Completo'!$G378","v":"CSN-VOLTA REDONDA"},0,0]
[{"$f":"'[2]Inventário Completo'!$C379","v":"Coletor"},{"$f":"'[2]Inventário Completo'!$D379","v":"MC9200G"},{"$f":"'[2]Inventário Completo'!$G379","v":"CSN-VOLTA REDONDA"},0,0]
[{"$f":"'[2]Inventário Completo'!$C380","v":"Coletor"},{"$f":"'[2]Inventário Completo'!$D380","v":"MC9090G"},{"$f":"'[2]Inventário Completo'!$G380","v":"CSN-VOLTA REDONDA"},0,0]
[{"$f":"'[2]Inventário Completo'!$C381","v":"Coletor"},{"$f":"'[2]Inventário Completo'!$D381","v":"MC9200G"},{"$f":"'[2]Inventário Completo'!$G381","v":"CSN-VOLTA REDONDA"},0,0]
[{"$f":"'[2]Inventário Completo'!$C382","v":"Coletor"},{"$f":"'[2]Inventário Completo'!$D382","v":"MC9200G"},{"$f":"'[2]Inventário Completo'!$G382","v":"CSN-VOLTA REDONDA"},0,0]
[{"$f":"'[2]Inventário Completo'!$C383","v":"Coletor"},{"$f":"'[2]Inventário Completo'!$D383","v":"MC9200G"},{"$f":"'[2]Inventário Completo'!$G383","v":"CSN-VOLTA REDONDA"},0,0]
[{"$f":"'[2]Inventário Completo'!$C384","v":"Coletor"},{"$f":"'[2]Inventário Completo'!$D384","v":"MC9200G"},{"$f":"'[2]Inventário Completo'!$G384","v":"CSN-VOLTA REDONDA"},0,0]
[{"$f":"'[2]Inventário Completo'!$C385","v":"Coletor"},{"$f":"'[2]Inventário Completo'!$D385","v":"MC9200G"},{"$f":"'[2]Inventário Completo'!$G385","v":"CSN-VOLTA REDONDA"},0,0]
[{"$f":"'[2]Inventário Completo'!$C386","v":"Coletor"},{"$f":"'[2]Inventário Completo'!$D386","v":"MC9090G"},{"$f":"'[2]Inventário Completo'!$G386","v":"CSN-VOLTA REDONDA"},0,0]
[{"$f":"'[2]Inventário Completo'!$C387","v":"Coletor"},{"$f":"'[2]Inventário Completo'!$D387","v":"MC9200G"},{"$f":"'[2]Inventário Completo'!$G387","v":"CSN-VOLTA REDONDA"},0,0]
[{"$f":"'[2]Inventário Completo'!$C388","v":"Coletor"},{"$f":"'[2]Inventário Completo'!$D388","v":"MC9200G"},{"$f":"'[2]Inventário Completo'!$G388","v":"CSN-VOLTA REDONDA"},0,0]
[{"$f":"'[2]Inventário Completo'!$C389","v":"Coletor"},{"$f":"'[2]Inventário Completo'!$D389","v":"CK71"},{"$f":"'[2]Inventário Completo'!$G389","v":"PRADA - RESENDE"},0,0]
[{"$f":"'[2]Inventário Completo'!$C390","v":"Coletor"},{"$f":"'[2]Inventário Completo'!$D390","v":"CK71"},{"$f":"'[2]Inventário Completo'!$G390","v":"PRADA - RESENDE"},0,0]
[{"$f":"'[2]Inventário Completo'!$C391","v":"Coletor"},{"$f":"'[2]Inventário Completo'!$D391","v":"MC9190G"},{"$f":"'[2]Inventário Completo'!$G391","v":"CSN-VOLTA REDONDA"},0,0]
[{"$f":"'[2]Inventário Completo'!$C392","v":"Coletor"},{"$f":"'[2]Inventário Completo'!$D392","v":"MC9200G"},{"$f":"'[2]Inventário Completo'!$G392","v":"CSN-VOLTA REDONDA"},0,0]
[{"$f":"'[2]Inventário Completo'!$C393","v":"Coletor"},{"$f":"'[2]Inventário Completo'!$D393","v":"MC9200G"},{"$f":"'[2]Inventário Completo'!$G393","v":"CSN-VOLTA REDONDA"},{"$f":"VLOOKUP(C387,$G$1:$I$25,3,0)","v":0},{"$f":"IF(D387=1,C387,0)","v":0}]
[{"$f":"'[2]Inventário Completo'!$C394","v":"Coletor"},{"$f":"'[2]Inventário Completo'!$D394","v":"MC9200G"},{"$f":"'[2]Inventário Completo'!$G394","v":"CSN-VOLTA REDONDA"},0,0]
[{"$f":"'[2]Inventário Completo'!$C395","v":"Coletor"},{"$f":"'[2]Inventário Completo'!$D395","v":"MC9200G"},{"$f":"'[2]Inventário Completo'!$G395","v":"CSN-VOLTA REDONDA"},0,0]
[{"$f":"'[2]Inventário Completo'!$C396","v":"Coletor"},{"$f":"'[2]Inventário Completo'!$D396","v":"MC9200G"},{"$f":"'[2]Inventário Completo'!$G396","v":"CSN-VOLTA REDONDA"},0,0]
[{"$f":"'[2]Inventário Completo'!$C397","v":"Coletor"},{"$f":"'[2]Inventário Completo'!$D397","v":"MC9200G"},{"$f":"'[2]Inventário Completo'!$G397","v":"CSN-VOLTA REDONDA"},0,0]
[{"$f":"'[2]Inventário Completo'!$C398","v":"Coletor"},{"$f":"'[2]Inventário Completo'!$D398","v":"MC9200G"},{"$f":"'[2]Inventário Completo'!$G398","v":"CSN-VOLTA REDONDA"},0,0]
[{"$f":"'[2]Inventário Completo'!$C399","v":"Impressora Térmicas"},{"$f":"'[2]Inventário Completo'!$D399","v":"ZT230"},{"$f":"'[2]Inventário Completo'!$G399","v":"CSN-ARAUCARIA"},0,0]
[{"$f":"'[2]Inventário Completo'!$C400","v":"Impressora Térmicas"},{"$f":"'[2]Inventário Completo'!$D400","v":"ZT230"},{"$f":"'[2]Inventário Completo'!$G400","v":"CSN-ARAUCARIA"},0,0]
[{"$f":"'[2]Inventário Completo'!$C401","v":"Impressora Térmicas"},{"$f":"'[2]Inventário Completo'!$D401","v":"ZT230"},{"$f":"'[2]Inventário Completo'!$G401","v":"CSN-ARAUCARIA"},0,0]
[{"$f":"'[2]Inventário Completo'!$C402","v":"Impressora Térmicas"},{"$f":"'[2]Inventário Completo'!$D402","v":"ZT230"},{"$f":"'[2]Inventário Completo'!$G402","v":"CSN-ARAUCARIA"},0,0]
[{"$f":"'[2]Inventário Completo'!$C403","v":"Impressora Térmicas"},{"$f":"'[2]Inventário Completo'!$D403","v":"ZT230"},{"$f":"'[2]Inventário Completo'!$G403","v":"CSN-ARAUCARIA"},0,0]
[{"$f":"'[2]Inventário Completo'!$C404","v":"Impressora Térmicas"},{"$f":"'[2]Inventário Completo'!$D404","v":"ZT230"},{"$f":"'[2]Inventário Completo'!$G404","v":"CSN-ARAUCARIA"},0,0]
[{"$f":"'[2]Inventário Completo'!$C405","v":"Impressora Térmicas"},{"$f":"'[2]Inventário Completo'!$D405","v":"ZT230"},{"$f":"'[2]Inventário Completo'!$G405","v":"CSN-ARAUCARIA"},0,0]
[{"$f":"'[2]Inventário Completo'!$C406","v":"Impressora Térmicas"},{"$f":"'[2]Inventário Completo'!$D406","v":"ZT230"},{"$f":"'[2]Inventário Completo'!$G406","v":"CSN-ARAUCARIA"},0,0]
[{"$f":"'[2]Inventário Completo'!$C407","v":"Impressora Térmicas"},{"$f":"'[2]Inventário Completo'!$D407","v":"ZT230"},{"$f":"'[2]Inventário Completo'!$G407","v":"CSN-ARAUCARIA"},0,0]
[{"$f":"'[2]Inventário Completo'!$C408","v":"Impressora Térmicas"},{"$f":"'[2]Inventário Completo'!$D408","v":"ZT230"},{"$f":"'[2]Inventário Completo'!$G408","v":"CSN-ARAUCARIA"},0,0]
[{"$f":"'[2]Inventário Completo'!$C409","v":"Impressora Térmicas"},{"$f":"'[2]Inventário Completo'!$D409","v":"ZT230"},{"$f":"'[2]Inventário Completo'!$G409","v":"CSN-ARAUCARIA"},0,0]
[{"$f":"'[2]Inventário Completo'!$C410","v":"Impressora Térmicas"},{"$f":"'[2]Inventário Completo'!$D410","v":"ZT230"},{"$f":"'[2]Inventário Completo'!$G410","v":"CSN-ARAUCARIA"},0,0]
[{"$f":"'[2]Inventário Completo'!$C411","v":"Impressora Térmicas"},{"$f":"'[2]Inventário Completo'!$D411","v":"ZT230"},{"$f":"'[2]Inventário Completo'!$G411","v":"CSN-ARAUCARIA"},0,0]
[{"$f":"'[2]Inventário Completo'!$C412","v":"Impressora Térmicas"},{"$f":"'[2]Inventário Completo'!$D412","v":"ZT230"},{"$f":"'[2]Inventário Completo'!$G412","v":"CSN-ARAUCARIA"},0,0]
[{"$f":"'[2]Inventário Completo'!$C413","v":"Impressora Térmicas"},{"$f":"'[2]Inventário Completo'!$D413","v":"ZT230"},{"$f":"'[2]Inventário Completo'!$G413","v":"CSN-ARAUCARIA"},0,0]
[{"$f":"'[2]Inventário Completo'!$C414","v":"Impressora Térmicas"},{"$f":"'[2]Inventário Completo'!$D414","v":"ZT230"},{"$f":"'[2]Inventário Completo'!$G414","v":"CSN-ARAUCARIA"},0,0]
[{"$f":"'[2]Inventário Completo'!$C415","v":"Impressora Térmicas"},{"$f":"'[2]Inventário Completo'!$D415","v":"ZT230"},{"$f":"'[2]Inventário Completo'!$G415","v":"CSN-ARAUCARIA"},0,0]
[{"$f":"'[2]Inventário Completo'!$C416","v":"Impressora Térmicas"},{"$f":"'[2]Inventário Completo'!$D416","v":"ZT230"},{"$f":"'[2]Inventário Completo'!$G416","v":"CSN-ARAUCARIA"},0,0]
[{"$f":"'[2]Inventário Completo'!$C417","v":"Impressora Térmicas"},{"$f":"'[2]Inventário Completo'!$D417","v":"ZT230"},{"$f":"'[2]Inventário Completo'!$G417","v":"CSN-ARAUCARIA"},0,0]
[{"$f":"'[2]Inventário Completo'!$C418","v":"Impressora Térmicas"},{"$f":"'[2]Inventário Completo'!$D418","v":"ZT230"},{"$f":"'[2]Inventário Completo'!$G418","v":"CSN-ARAUCARIA"},0,0]
[{"$f":"'[2]Inventário Completo'!$C419","v":"Impressora Térmicas"},{"$f":"'[2]Inventário Completo'!$D419","v":"ZT230"},{"$f":"'[2]Inventário Completo'!$G419","v":"CSN-ARAUCARIA"},0,0]
[{"$f":"'[2]Inventário Completo'!$C420","v":"Impressora Térmicas"},{"$f":"'[2]Inventário Completo'!$D420","v":"ZT230"},{"$f":"'[2]Inventário Completo'!$G420","v":"CSN-ARAUCARIA"},0,0]
[{"$f":"'[2]Inventário Completo'!$C421","v":"Impressora Térmicas"},{"$f":"'[2]Inventário Completo'!$D421","v":"ZT230"},{"$f":"'[2]Inventário Completo'!$G421","v":"CSN-ARCOS"},0,0]
[{"$f":"'[2]Inventário Completo'!$C422","v":"Impressora Térmicas"},{"$f":"'[2]Inventário Completo'!$D422","v":"ZT230"},{"$f":"'[2]Inventário Completo'!$G422","v":"PRADA - BEBEDOURO"},0,0]
[{"$f":"'[2]Inventário Completo'!$C423","v":"Impressora Térmicas"},{"$f":"'[2]Inventário Completo'!$D423","v":"ZT230"},{"$f":"'[2]Inventário Completo'!$G423","v":"PRADA - BEBEDOURO"},0,0]
[{"$f":"'[2]Inventário Completo'!$C424","v":"Impressora Térmicas"},{"$f":"'[2]Inventário Completo'!$D424","v":"S4M"},{"$f":"'[2]Inventário Completo'!$G424","v":"CSN-CAMAÇARI"},0,0]
[{"$f":"'[2]Inventário Completo'!$C425","v":"Impressora Térmicas"},{"$f":"'[2]Inventário Completo'!$D425","v":"S4M"},{"$f":"'[2]Inventário Completo'!$G425","v":"CSN-CAMAÇARI"},0,0]
[{"$f":"'[2]Inventário Completo'!$C426","v":"Impressora Térmicas"},{"$f":"'[2]Inventário Completo'!$D426","v":"ZT230"},{"$f":"'[2]Inventário Completo'!$G426","v":"CSN-CAMAÇARI"},0,0]
[{"$f":"'[2]Inventário Completo'!$C427","v":"Impressora Térmicas"},{"$f":"'[2]Inventário Completo'!$D427","v":"ZT230"},{"$f":"'[2]Inventário Completo'!$G427","v":"CSN-CAMAÇARI"},0,0]
[{"$f":"'[2]Inventário Completo'!$C428","v":"Impressora Térmicas"},{"$f":"'[2]Inventário Completo'!$D428","v":"ZT230"},{"$f":"'[2]Inventário Completo'!$G428","v":"CSN-CAMAÇARI"},0,0]
[{"$f":"'[2]Inventário Completo'!$C429","v":"Impressora Térmicas"},{"$f":"'[2]Inventário Completo'!$D429","v":"ZT230"},{"$f":"'[2]Inventário Completo'!$G429","v":"CSN-CAMAÇARI"},0,0]
[{"$f":"'[2]Inventário Completo'!$C430","v":"Impressora Térmicas"},{"$f":"'[2]Inventário Completo'!$D430","v":"ZT230"},{"$f":"'[2]Inventário Completo'!$G430","v":"CSN-CAMAÇARI"},0,0]
[{"$f":"'[2]Inventário Completo'!$C431","v":"Impressora Térmicas"},{"$f":"'[2]Inventário Completo'!$D431","v":"ZT230"},{"$f":"'[2]Inventário Completo'!$G431","v":"CSN-CAMAÇARI"},0,0]
[{"$f":"'[2]Inventário Completo'!$C432","v":"Impressora Térmicas"},{"$f":"'[2]Inventário Completo'!$D432","v":"ZT230"},{"$f":"'[2]Inventário Completo'!$G432","v":"CSN-CAMAÇARI"},0,0]
[{"$f":"'[2]Inventário Completo'!$C433","v":"Impressora Térmicas"},{"$f":"'[2]Inventário Completo'!$D433","v":"ZT230"},{"$f":"'[2]Inventário Completo'!$G433","v":"CSN-CAMAÇARI"},0,0]
[{"$f":"'[2]Inventário Completo'!$C434","v":"Impressora Térmicas"},{"$f":"'[2]Inventário Completo'!$D434","v":"ZT230"},{"$f":"'[2]Inventário Completo'!$G434","v":"CSN-CAMAÇARI"},0,0]
[{"$f":"'[2]Inventário Completo'!$C435","v":"Impressora Térmicas"},{"$f":"'[2]Inventário Completo'!$D435","v":"ZT230"},{"$f":"'[2]Inventário Completo'!$G435","v":"CSN-CANOAS"},0,0]
[{"$f":"'[2]Inventário Completo'!$C436","v":"Impressora Térmicas"},{"$f":"'[2]Inventário Completo'!$D436","v":"ZT230"},{"$f":"'[2]Inventário Completo'!$G436","v":"CSN-CANOAS"},0,0]
[{"$f":"'[2]Inventário Completo'!$C437","v":"Impressora Térmicas"},{"$f":"'[2]Inventário Completo'!$D437","v":"ZT230"},{"$f":"'[2]Inventário Completo'!$G437","v":"CSN-CONGONHAS"},0,0]
[{"$f":"'[2]Inventário Completo'!$C438","v":"Impressora Térmicas"},{"$f":"'[2]Inventário Completo'!$D438","v":"ZT230"},{"$f":"'[2]Inventário Completo'!$G438","v":"CSN-CONGONHAS"},0,0]
[{"$f":"'[2]Inventário Completo'!$C439","v":"Impressora Térmicas"},{"$f":"'[2]Inventário Completo'!$D439","v":"ZT230"},{"$f":"'[2]Inventário Completo'!$G439","v":"CSN-CONGONHAS"},0,0]
[{"$f":"'[2]Inventário Completo'!$C440","v":"Impressora Térmicas"},{"$f":"'[2]Inventário Completo'!$D440","v":"ZT230"},{"$f":"'[2]Inventário Completo'!$G440","v":"CSN-CONGONHAS"},0,0]
[{"$f":"'[2]Inventário Completo'!$C441","v":"Impressora Térmicas"},{"$f":"'[2]Inventário Completo'!$D441","v":"ZT230"},{"$f":"'[2]Inventário Completo'!$G441","v":"CSN-CONGONHAS"},0,0]
[{"$f":"'[2]Inventário Completo'!$C442","v":"Impressora Térmicas"},{"$f":"'[2]Inventário Completo'!$D442","v":"ZT230"},{"$f":"'[2]Inventário Completo'!$G442","v":"CSN-CONGONHAS"},0,0]
[{"$f":"'[2]Inventário Completo'!$C443","v":"Impressora Térmicas"},{"$f":"'[2]Inventário Completo'!$D443","v":"ZT230"},{"$f":"'[2]Inventário Completo'!$G443","v":"CSN-CONGONHAS"},0,0]
[{"$f":"'[2]Inventário Completo'!$C444","v":"Impressora Térmicas"},{"$f":"'[2]Inventário Completo'!$D444","v":"ZT230"},{"$f":"'[2]Inventário Completo'!$G444","v":"CSN-CONGONHAS"},0,0]
[{"$f":"'[2]Inventário Completo'!$C445","v":"Impressora Térmicas"},{"$f":"'[2]Inventário Completo'!$D445","v":"ZT230"},{"$f":"'[2]Inventário Completo'!$G445","v":"PRADA - CONTAGEM"},0,0]
[{"$f":"'[2]Inventário Completo'!$C446","v":"Impressora Térmicas"},{"$f":"'[2]Inventário Completo'!$D446","v":"ZT230"},{"$f":"'[2]Inventário Completo'!$G446","v":"PRADA - CONTAGEM"},0,0]
[{"$f":"'[2]Inventário Completo'!$C447","v":"Impressora Térmicas"},{"$f":"'[2]Inventário Completo'!$D447","v":"ZT230"},{"$f":"'[2]Inventário Completo'!$G447","v":"TLSA-FORTALEZA"},0,0]
[{"$f":"'[2]Inventário Completo'!$C448","v":"Impressora Térmicas"},{"$f":"'[2]Inventário Completo'!$D448","v":"ZT230"},{"$f":"'[2]Inventário Completo'!$G448","v":"FTL - SÃO LUIS"},0,0]
[{"$f":"'[2]Inventário Completo'!$C449","v":"Impressora Térmicas"},{"$f":"'[2]Inventário Completo'!$D449","v":"ZT230"},{"$f":"'[2]Inventário Completo'!$G449","v":"FTL - TERESINA"},0,0]
[{"$f":"'[2]Inventário Completo'!$C450","v":"Impressora Térmicas"},{"$f":"'[2]Inventário Completo'!$D450","v":"Z110 Xi3"},{"$f":"'[2]Inventário Completo'!$G450","v":"CSN-GALVASUD"},0,0]
[{"$f":"'[2]Inventário Completo'!$C451","v":"Impressora Térmicas"},{"$f":"'[2]Inventário Completo'!$D451","v":"Z110 Xi3"},{"$f":"'[2]Inventário Completo'!$G451","v":"CSN-GALVASUD"},0,0]
[{"$f":"'[2]Inventário Completo'!$C452","v":"Impressora Térmicas"},{"$f":"'[2]Inventário Completo'!$D452","v":"ZT230"},{"$f":"'[2]Inventário Completo'!$G452","v":"CSN-GALVASUD"},0,0]
[{"$f":"'[2]Inventário Completo'!$C453","v":"Impressora Térmicas"},{"$f":"'[2]Inventário Completo'!$D453","v":"ZT230"},{"$f":"'[2]Inventário Completo'!$G453","v":"CSN-GALVASUD"},0,0]
[{"$f":"'[2]Inventário Completo'!$C454","v":"Impressora Térmicas"},{"$f":"'[2]Inventário Completo'!$D454","v":"Z6M"},{"$f":"'[2]Inventário Completo'!$G454","v":"CSN-GALVASUD"},0,0]
[{"$f":"'[2]Inventário Completo'!$C455","v":"Impressora Térmicas"},{"$f":"'[2]Inventário Completo'!$D455","v":"Z6M"},{"$f":"'[2]Inventário Completo'!$G455","v":"CSN-GALVASUD"},0,0]
[{"$f":"'[2]Inventário Completo'!$C456","v":"Impressora Térmicas"},{"$f":"'[2]Inventário Completo'!$D456","v":"Z6M"},{"$f":"'[2]Inventário Completo'!$G456","v":"CSN-GALVASUD"},0,0]
[{"$f":"'[2]Inventário Completo'!$C457","v":"Impressora Térmicas"},{"$f":"'[2]Inventário Completo'!$D457","v":"ZT230"},{"$f":"'[2]Inventário Completo'!$G457","v":"CSN-GALVASUD"},{"$f":"VLOOKUP(C451,$G$1:$I$25,3,0)","v":0},{"$f":"IF(D451=1,C451,0)","v":0}]
[{"$f":"'[2]Inventário Completo'!$C458","v":"Impressora Térmicas"},{"$f":"'[2]Inventário Completo'!$D458","v":"ZT230"},{"$f":"'[2]Inventário Completo'!$G458","v":"CSN-GALVASUD"},0,0]
[{"$f":"'[2]Inventário Completo'!$C459","v":"Impressora Térmicas"},{"$f":"'[2]Inventário Completo'!$D459","v":"ZT230"},{"$f":"'[2]Inventário Completo'!$G459","v":"CSN-GALVASUD"},0,0]
[{"$f":"'[2]Inventário Completo'!$C460","v":"Impressora Térmicas"},{"$f":"'[2]Inventário Completo'!$D460","v":"ZT230"},{"$f":"'[2]Inventário Completo'!$G460","v":"CSN-GALVASUD"},0,0]
[{"$f":"'[2]Inventário Completo'!$C461","v":"Impressora Térmicas"},{"$f":"'[2]Inventário Completo'!$D461","v":"ZT230"},{"$f":"'[2]Inventário Completo'!$G461","v":"PRADA - MOGI DAS CRUZES"},0,0]
[{"$f":"'[2]Inventário Completo'!$C462","v":"Impressora Térmicas"},{"$f":"'[2]Inventário Completo'!$D462","v":"ZT230"},{"$f":"'[2]Inventário Completo'!$G462","v":"PRADA - MOGI DAS CRUZES"},0,0]
[{"$f":"'[2]Inventário Completo'!$C463","v":"Impressora Térmicas"},{"$f":"'[2]Inventário Completo'!$D463","v":"ZT230"},{"$f":"'[2]Inventário Completo'!$G463","v":"PRADA - MOGI DAS CRUZES"},0,0]
[{"$f":"'[2]Inventário Completo'!$C464","v":"Impressora Térmicas"},{"$f":"'[2]Inventário Completo'!$D464","v":"ZT230"},{"$f":"'[2]Inventário Completo'!$G464","v":"PRADA - MOGI DAS CRUZES"},0,0]
[{"$f":"'[2]Inventário Completo'!$C465","v":"Impressora Térmicas"},{"$f":"'[2]Inventário Completo'!$D465","v":"ZT230"},{"$f":"'[2]Inventário Completo'!$G465","v":"PRADA - MOGI DAS CRUZES"},0,0]
[{"$f":"'[2]Inventário Completo'!$C466","v":"Impressora Térmicas"},{"$f":"'[2]Inventário Completo'!$D466","v":"ZT230"},{"$f":"'[2]Inventário Completo'!$G466","v":"PRADA - MOGI DAS CRUZES"},0,0]
[{"$f":"'[2]Inventário Completo'!$C467","v":"Impressora Térmicas"},{"$f":"'[2]Inventário Completo'!$D467","v":"ZT230"},{"$f":"'[2]Inventário Completo'!$G467","v":"PRADA - MOGI DAS CRUZES"},0,0]
[{"$f":"'[2]Inventário Completo'!$C468","v":"Impressora Térmicas"},{"$f":"'[2]Inventário Completo'!$D468","v":"ZT230"},{"$f":"'[2]Inventário Completo'!$G468","v":"PRADA - MOGI DAS CRUZES"},0,0]
[{"$f":"'[2]Inventário Completo'!$C469","v":"Impressora Térmicas"},{"$f":"'[2]Inventário Completo'!$D469","v":"ZT230"},{"$f":"'[2]Inventário Completo'!$G469","v":"PRADA - MOGI DAS CRUZES"},0,0]
[{"$f":"'[2]Inventário Completo'!$C470","v":"Impressora Térmicas"},{"$f":"'[2]Inventário Completo'!$D470","v":"ZT230"},{"$f":"'[2]Inventário Completo'!$G470","v":"PRADA - MOGI DAS CRUZES"},0,0]
[{"$f":"'[2]Inventário Completo'!$C471","v":"Impressora Térmicas"},{"$f":"'[2]Inventário Completo'!$D471","v":"ZT230"},{"$f":"'[2]Inventário Completo'!$G471","v":"PRADA - MOGI DAS CRUZES"},0,0]
[{"$f":"'[2]Inventário Completo'!$C472","v":"Impressora Térmicas"},{"$f":"'[2]Inventário Completo'!$D472","v":"ZT230"},{"$f":"'[2]Inventário Completo'!$G472","v":"PRADA - MOGI DAS CRUZES"},0,0]
[{"$f":"'[2]Inventário Completo'!$C473","v":"Impressora Térmicas"},{"$f":"'[2]Inventário Completo'!$D473","v":"ZT230"},{"$f":"'[2]Inventário Completo'!$G473","v":"PRADA - MOGI DAS CRUZES"},0,0]
[{"$f":"'[2]Inventário Completo'!$C474","v":"Impressora Térmicas"},{"$f":"'[2]Inventário Completo'!$D474","v":"ZT230"},{"$f":"'[2]Inventário Completo'!$G474","v":"PRADA - MOGI DAS CRUZES"},0,0]
[{"$f":"'[2]Inventário Completo'!$C475","v":"Impressora Térmicas"},{"$f":"'[2]Inventário Completo'!$D475","v":"ZT230"},{"$f":"'[2]Inventário Completo'!$G475","v":"PRADA - MOGI DAS CRUZES"},0,0]
[{"$f":"'[2]Inventário Completo'!$C476","v":"Impressora Térmicas"},{"$f":"'[2]Inventário Completo'!$D476","v":"ZT230"},{"$f":"'[2]Inventário Completo'!$G476","v":"PRADA - MOGI DAS CRUZES"},0,0]
[{"$f":"'[2]Inventário Completo'!$C477","v":"Impressora Térmicas"},{"$f":"'[2]Inventário Completo'!$D477","v":"Z110 Xi3"},{"$f":"'[2]Inventário Completo'!$G477","v":"CSN-OURO PRETO"},0,0]
[{"$f":"'[2]Inventário Completo'!$C478","v":"Impressora Térmicas"},{"$f":"'[2]Inventário Completo'!$D478","v":"Z110 Xi3"},{"$f":"'[2]Inventário Completo'!$G478","v":"CSN-OURO PRETO"},0,0]
[{"$f":"'[2]Inventário Completo'!$C479","v":"Impressora Térmicas"},{"$f":"'[2]Inventário Completo'!$D479","v":"Z110 Xi4"},{"$f":"'[2]Inventário Completo'!$G479","v":"CSN-OURO PRETO"},0,0]
[{"$f":"'[2]Inventário Completo'!$C480","v":"Impressora Térmicas"},{"$f":"'[2]Inventário Completo'!$D480","v":"Z110 Xi4"},{"$f":"'[2]Inventário Completo'!$G480","v":"CSN-OURO PRETO"},0,0]
[{"$f":"'[2]Inventário Completo'!$C481","v":"Impressora Térmicas"},{"$f":"'[2]Inventário Completo'!$D481","v":"ZT230"},{"$f":"'[2]Inventário Completo'!$G481","v":"CSN-OURO PRETO"},0,0]
[{"$f":"'[2]Inventário Completo'!$C482","v":"Impressora Térmicas"},{"$f":"'[2]Inventário Completo'!$D482","v":"ZT230"},{"$f":"'[2]Inventário Completo'!$G482","v":"CSN-OURO PRETO"},0,0]
[{"$f":"'[2]Inventário Completo'!$C483","v":"Impressora Térmicas"},{"$f":"'[2]Inventário Completo'!$D483","v":"ZT230"},{"$f":"'[2]Inventário Completo'!$G483","v":"CSN-OURO PRETO"},0,0]
[{"$f":"'[2]Inventário Completo'!$C484","v":"Impressora Térmicas"},{"$f":"'[2]Inventário Completo'!$D484","v":"ZT230"},{"$f":"'[2]Inventário Completo'!$G484","v":"CSN-OURO PRETO"},0,0]
[{"$f":"'[2]Inventário Completo'!$C485","v":"Impressora Térmicas"},{"$f":"'[2]Inventário Completo'!$D485","v":"ZT230"},{"$f":"'[2]Inventário Completo'!$G485","v":"CSN-OURO PRETO"},0,0]
[{"$f":"'[2]Inventário Completo'!$C486","v":"Impressora Térmicas"},{"$f":"'[2]Inventário Completo'!$D486","v":"ZT230"},{"$f":"'[2]Inventário Completo'!$G486","v":"CSN-OURO PRETO"},0,0]
[{"$f":"'[2]Inventário Completo'!$C487","v":"Impressora Térmicas"},{"$f":"'[2]Inventário Completo'!$D487","v":"ZT230"},{"$f":"'[2]Inventário Completo'!$G487","v":"CSN-OURO PRETO"},0,0]
[{"$f":"'[2]Inventário Completo'!$C488","v":"Impressora Térmicas"},{"$f":"'[2]Inventário Completo'!$D488","v":"ZT230"},{"$f":"'[2]Inventário Completo'!$G488","v":"CSN-OURO PRETO"},0,0]
[{"$f":"'[2]Inventário Completo'!$C489","v":"Impressora Térmicas"},{"$f":"'[2]Inventário Completo'!$D489","v":"ZT230"},{"$f":"'[2]Inventário Completo'!$G489","v":"PRADA - PELOTAS"},0,0]
[{"$f":"'[2]Inventário Completo'!$C490","v":"Impressora Térmicas"},{"$f":"'[2]Inventário Completo'!$D490","v":"ZT230"},{"$f":"'[2]Inventário Completo'!$G490","v":"PRADA - PIRACICABA"},0,0]
[{"$f":"'[2]Inventário Completo'!$C491","v":"Impressora Térmicas"},{"$f":"'[2]Inventário Completo'!$D491","v":"ZT230"},{"$f":"'[2]Inventário Completo'!$G491","v":"PRADA - PIRACICABA"},0,0]
[{"$f":"'[2]Inventário Completo'!$C492","v":"Impressora Térmicas"},{"$f":"'[2]Inventário Completo'!$D492","v":"S4M"},{"$f":"'[2]Inventário Completo'!$G492","v":"CSN-SEPETIBA ITAGUAI (TECON)"},0,0]
[{"$f":"'[2]Inventário Completo'!$C493","v":"Impressora Térmicas"},{"$f":"'[2]Inventário Completo'!$D493","v":"S4M"},{"$f":"'[2]Inventário Completo'!$G493","v":"CSN-SEPETIBA ITAGUAI (TECON)"},0,0]
[{"$f":"'[2]Inventário Completo'!$C494","v":"Impressora Térmicas"},{"$f":"'[2]Inventário Completo'!$D494","v":"ZM400"},{"$f":"'[2]Inventário Completo'!$G494","v":"CSN-SEPETIBA ITAGUAI (TECON)"},0,0]
[{"$f":"'[2]Inventário Completo'!$C495","v":"Impressora Térmicas"},{"$f":"'[2]Inventário Completo'!$D495","v":"ZT230"},{"$f":"'[2]Inventário Completo'!$G495","v":"CSN-SEPETIBA ITAGUAI (TECAR)"},0,0]
[{"$f":"'[2]Inventário Completo'!$C496","v":"Impressora Térmicas"},{"$f":"'[2]Inventário Completo'!$D496","v":"ZT230"},{"$f":"'[2]Inventário Completo'!$G496","v":"CSN-SEPETIBA ITAGUAI (TECAR)"},0,0]
[{"$f":"'[2]Inventário Completo'!$C497","v":"Impressora Térmicas"},{"$f":"'[2]Inventário Completo'!$D497","v":"ZT230"},{"$f":"'[2]Inventário Completo'!$G497","v":"CSN-SEPETIBA ITAGUAI (TECON)"},0,0]
[{"$f":"'[2]Inventário Completo'!$C498","v":"Impressora Térmicas"},{"$f":"'[2]Inventário Completo'!$D498","v":"ZT230"},{"$f":"'[2]Inventário Completo'!$G498","v":"CSN-SEPETIBA ITAGUAI (TECON)"},0,0]
[{"$f":"'[2]Inventário Completo'!$C499","v":"Impressora Térmicas"},{"$f":"'[2]Inventário Completo'!$D499","v":"ZT230"},{"$f":"'[2]Inventário Completo'!$G499","v":"PRADA - RESENDE"},0,0]
[{"$f":"'[2]Inventário Completo'!$C500","v":"Impressora Térmicas"},{"$f":"'[2]Inventário Completo'!$D500","v":"ZT230"},{"$f":"'[2]Inventário Completo'!$G500","v":"PRADA - RESENDE"},0,0]
[{"$f":"'[2]Inventário Completo'!$C501","v":"Impressora Térmicas"},{"$f":"'[2]Inventário Completo'!$D501","v":"ZT230"},{"$f":"'[2]Inventário Completo'!$G501","v":"PRADA - RESENDE"},0,0]
[{"$f":"'[2]Inventário Completo'!$C502","v":"Impressora Térmicas"},{"$f":"'[2]Inventário Completo'!$D502","v":"ZT230"},{"$f":"'[2]Inventário Completo'!$G502","v":"PRADA - RESENDE"},0,0]
[{"$f":"'[2]Inventário Completo'!$C503","v":"Impressora Térmicas"},{"$f":"'[2]Inventário Completo'!$D503","v":"ZT230"},{"$f":"'[2]Inventário Completo'!$G503","v":"PRADA - RESENDE"},0,0]
[{"$f":"'[2]Inventário Completo'!$C504","v":"Impressora Térmicas"},{"$f":"'[2]Inventário Completo'!$D504","v":"ZT230"},{"$f":"'[2]Inventário Completo'!$G504","v":"PRADA - RESENDE"},0,0]
[{"$f":"'[2]Inventário Completo'!$C505","v":"Impressora Térmicas"},{"$f":"'[2]Inventário Completo'!$D505","v":"ZT230"},{"$f":"'[2]Inventário Completo'!$G505","v":"PRADA - RESENDE"},0,0]
[{"$f":"'[2]Inventário Completo'!$C506","v":"Impressora Térmicas"},{"$f":"'[2]Inventário Completo'!$D506","v":"ZT230"},{"$f":"'[2]Inventário Completo'!$G506","v":"PRADA - RESENDE"},0,0]
[{"$f":"'[2]Inventário Completo'!$C507","v":"Impressora Térmicas"},{"$f":"'[2]Inventário Completo'!$D507","v":"ZT230"},{"$f":"'[2]Inventário Completo'!$G507","v":"PRADA - RESENDE"},0,0]
[{"$f":"'[2]Inventário Completo'!$C508","v":"Impressora Térmicas"},{"$f":"'[2]Inventário Completo'!$D508","v":"ZT230"},{"$f":"'[2]Inventário Completo'!$G508","v":"PRADA - RESENDE"},0,0]
[{"$f":"'[2]Inventário Completo'!$C509","v":"Impressora Térmicas"},{"$f":"'[2]Inventário Completo'!$D509","v":"ZT230"},{"$f":"'[2]Inventário Completo'!$G509","v":"PRADA - RESENDE"},0,0]
[{"$f":"'[2]Inventário Completo'!$C510","v":"Impressora Térmicas"},{"$f":"'[2]Inventário Completo'!$D510","v":"ZT230"},{"$f":"'[2]Inventário Completo'!$G510","v":"PRADA - RESENDE"},0,0]
[{"$f":"'[2]Inventário Completo'!$C511","v":"Impressora Térmicas"},{"$f":"'[2]Inventário Completo'!$D511","v":"ZT230"},{"$f":"'[2]Inventário Completo'!$G511","v":"PRADA - RESENDE"},0,0]
[{"$f":"'[2]Inventário Completo'!$C512","v":"Impressora Térmicas"},{"$f":"'[2]Inventário Completo'!$D512","v":"ZT230"},{"$f":"'[2]Inventário Completo'!$G512","v":"PRADA - RESENDE"},0,0]
[{"$f":"'[2]Inventário Completo'!$C513","v":"Impressora Térmicas"},{"$f":"'[2]Inventário Completo'!$D513","v":"ZT230"},{"$f":"'[2]Inventário Completo'!$G513","v":"PRADA - RESENDE"},0,0]
[{"$f":"'[2]Inventário Completo'!$C514","v":"Impressora Térmicas"},{"$f":"'[2]Inventário Completo'!$D514","v":"ZT230"},{"$f":"'[2]Inventário Completo'!$G514","v":"PRADA - RESENDE"},0,0]
[{"$f":"'[2]Inventário Completo'!$C515","v":"Impressora Térmicas"},{"$f":"'[2]Inventário Completo'!$D515","v":"ZT230"},{"$f":"'[2]Inventário Completo'!$G515","v":"PRADA - RESENDE"},0,0]
[{"$f":"'[2]Inventário Completo'!$C516","v":"Impressora Térmicas"},{"$f":"'[2]Inventário Completo'!$D516","v":"ZT230"},{"$f":"'[2]Inventário Completo'!$G516","v":"PRADA - RESENDE"},0,0]
[{"$f":"'[2]Inventário Completo'!$C517","v":"Impressora Térmicas"},{"$f":"'[2]Inventário Completo'!$D517","v":"ZT230"},{"$f":"'[2]Inventário Completo'!$G517","v":"CSN-RIO ACIMA"},0,0]
[{"$f":"'[2]Inventário Completo'!$C518","v":"Impressora Térmicas"},{"$f":"'[2]Inventário Completo'!$D518","v":"S4M"},{"$f":"'[2]Inventário Completo'!$G518","v":"PRADA - SANTO AMARO"},0,0]
[{"$f":"'[2]Inventário Completo'!$C519","v":"Impressora Térmicas"},{"$f":"'[2]Inventário Completo'!$D519","v":"S4M"},{"$f":"'[2]Inventário Completo'!$G519","v":"PRADA - SANTO AMARO"},0,0]
[{"$f":"'[2]Inventário Completo'!$C520","v":"Impressora Térmicas"},{"$f":"'[2]Inventário Completo'!$D520","v":"S4M"},{"$f":"'[2]Inventário Completo'!$G520","v":"PRADA - SANTO AMARO"},0,0]
[{"$f":"'[2]Inventário Completo'!$C521","v":"Impressora Térmicas"},{"$f":"'[2]Inventário Completo'!$D521","v":"S4M"},{"$f":"'[2]Inventário Completo'!$G521","v":"PRADA - SANTO AMARO"},{"$f":"VLOOKUP(C515,$G$1:$I$25,3,0)","v":0},{"$f":"IF(D515=1,C515,0)","v":0}]
[{"$f":"'[2]Inventário Completo'!$C522","v":"Impressora Térmicas"},{"$f":"'[2]Inventário Completo'!$D522","v":"S4M"},{"$f":"'[2]Inventário Completo'!$G522","v":"PRADA - SANTO AMARO"},0,0]
[{"$f":"'[2]Inventário Completo'!$C523","v":"Impressora Térmicas"},{"$f":"'[2]Inventário Completo'!$D523","v":"S4M"},{"$f":"'[2]Inventário Completo'!$G523","v":"PRADA - SANTO AMARO"},0,0]
[{"$f":"'[2]Inventário Completo'!$C524","v":"Impressora Térmicas"},{"$f":"'[2]Inventário Completo'!$D524","v":"ZT230"},{"$f":"'[2]Inventário Completo'!$G524","v":"PRADA - SANTO AMARO"},0,0]
[{"$f":"'[2]Inventário Completo'!$C525","v":"Impressora Térmicas"},{"$f":"'[2]Inventário Completo'!$D525","v":"ZT230"},{"$f":"'[2]Inventário Completo'!$G525","v":"PRADA - SANTO AMARO"},0,0]
[{"$f":"'[2]Inventário Completo'!$C526","v":"Impressora Térmicas"},{"$f":"'[2]Inventário Completo'!$D526","v":"ZT230"},{"$f":"'[2]Inventário Completo'!$G526","v":"PRADA - SANTO AMARO"},0,0]
[{"$f":"'[2]Inventário Completo'!$C527","v":"Impressora Térmicas"},{"$f":"'[2]Inventário Completo'!$D527","v":"ZT230"},{"$f":"'[2]Inventário Completo'!$G527","v":"PRADA - SANTO AMARO"},0,0]
[{"$f":"'[2]Inventário Completo'!$C528","v":"Impressora Térmicas"},{"$f":"'[2]Inventário Completo'!$D528","v":"ZT230"},{"$f":"'[2]Inventário Completo'!$G528","v":"PRADA - SANTO AMARO"},0,0]
[{"$f":"'[2]Inventário Completo'!$C529","v":"Impressora Térmicas"},{"$f":"'[2]Inventário Completo'!$D529","v":"ZT230"},{"$f":"'[2]Inventário Completo'!$G529","v":"PRADA - SANTO AMARO"},0,0]
[{"$f":"'[2]Inventário Completo'!$C530","v":"Impressora Térmicas"},{"$f":"'[2]Inventário Completo'!$D530","v":"ZT230"},{"$f":"'[2]Inventário Completo'!$G530","v":"PRADA - SANTO AMARO"},0,0]
[{"$f":"'[2]Inventário Completo'!$C531","v":"Impressora Térmicas"},{"$f":"'[2]Inventário Completo'!$D531","v":"ZT230"},{"$f":"'[2]Inventário Completo'!$G531","v":"PRADA - SANTO AMARO"},0,0]
[{"$f":"'[2]Inventário Completo'!$C532","v":"Impressora Térmicas"},{"$f":"'[2]Inventário Completo'!$D532","v":"ZT230"},{"$f":"'[2]Inventário Completo'!$G532","v":"PRADA - SANTO AMARO"},0,0]
[{"$f":"'[2]Inventário Completo'!$C533","v":"Impressora Térmicas"},{"$f":"'[2]Inventário Completo'!$D533","v":"ZT230"},{"$f":"'[2]Inventário Completo'!$G533","v":"PRADA - SANTO AMARO"},0,0]
[{"$f":"'[2]Inventário Completo'!$C534","v":"Impressora Térmicas"},{"$f":"'[2]Inventário Completo'!$D534","v":"ZT230"},{"$f":"'[2]Inventário Completo'!$G534","v":"PRADA - SANTO AMARO"},0,0]
[{"$f":"'[2]Inventário Completo'!$C535","v":"Impressora Térmicas"},{"$f":"'[2]Inventário Completo'!$D535","v":"ZT230"},{"$f":"'[2]Inventário Completo'!$G535","v":"PRADA - SANTO AMARO"},0,0]
[{"$f":"'[2]Inventário Completo'!$C536","v":"Impressora Térmicas"},{"$f":"'[2]Inventário Completo'!$D536","v":"ZT230"},{"$f":"'[2]Inventário Completo'!$G536","v":"PRADA - SANTO AMARO"},0,0]
[{"$f":"'[2]Inventário Completo'!$C537","v":"Impressora Térmicas"},{"$f":"'[2]Inventário Completo'!$D537","v":"ZT230"},{"$f":"'[2]Inventário Completo'!$G537","v":"PRADA - SANTO AMARO"},0,0]
[{"$f":"'[2]Inventário Completo'!$C538","v":"Impressora Térmicas"},{"$f":"'[2]Inventário Completo'!$D538","v":"ZT230"},{"$f":"'[2]Inventário Completo'!$G538","v":"PRADA - SANTO AMARO"},0,0]
[{"$f":"'[2]Inventário Completo'!$C539","v":"Impressora Térmicas"},{"$f":"'[2]Inventário Completo'!$D539","v":"ZT230"},{"$f":"'[2]Inventário Completo'!$G539","v":"PRADA - SANTO AMARO"},0,0]
[{"$f":"'[2]Inventário Completo'!$C540","v":"Impressora Térmicas"},{"$f":"'[2]Inventário Completo'!$D540","v":"ZT230"},{"$f":"'[2]Inventário Completo'!$G540","v":"PRADA - UBERLANDIA"},0,0]
[{"$f":"'[2]Inventário Completo'!$C541","v":"Impressora Térmicas"},{"$f":"'[2]Inventário Completo'!$D541","v":"ZT230"},{"$f":"'[2]Inventário Completo'!$G541","v":"PRADA - UBERLANDIA"},0,0]
[{"$f":"'[2]Inventário Completo'!$C542","v":"Impressora Térmicas"},{"$f":"'[2]Inventário Completo'!$D542","v":"ZT230"},{"$f":"'[2]Inventário Completo'!$G542","v":"PRADA - UBERLANDIA"},0,0]
[{"$f":"'[2]Inventário Completo'!$C543","v":"Impressora Térmicas"},{"$f":"'[2]Inventário Completo'!$D543","v":"ZT230"},{"$f":"'[2]Inventário Completo'!$G543","v":"PRADA - UBERLANDIA"},0,0]
[{"$f":"'[2]Inventário Completo'!$C544","v":"Impressora Térmicas"},{"$f":"'[2]Inventário Completo'!$D544","v":"Allegro Flex 4206"},{"$f":"'[2]Inventário Completo'!$G544","v":"CSN-VOLTA REDONDA"},0,0]
[{"$f":"'[2]Inventário Completo'!$C545","v":"Impressora Térmicas"},{"$f":"'[2]Inventário Completo'!$D545","v":"Allegro Flex 4206"},{"$f":"'[2]Inventário Completo'!$G545","v":"CSN-VOLTA REDONDA"},0,0]
[{"$f":"'[2]Inventário Completo'!$C546","v":"Impressora Térmicas"},{"$f":"'[2]Inventário Completo'!$D546","v":"Allegro Flex 4206"},{"$f":"'[2]Inventário Completo'!$G546","v":"CSN-VOLTA REDONDA"},0,0]
[{"$f":"'[2]Inventário Completo'!$C547","v":"Impressora Térmicas"},{"$f":"'[2]Inventário Completo'!$D547","v":"Allegro Flex 4206"},{"$f":"'[2]Inventário Completo'!$G547","v":"CSN-VOLTA REDONDA"},0,0]
[{"$f":"'[2]Inventário Completo'!$C548","v":"Impressora Térmicas"},{"$f":"'[2]Inventário Completo'!$D548","v":"Allegro Flex 4206"},{"$f":"'[2]Inventário Completo'!$G548","v":"CSN-VOLTA REDONDA"},0,0]
[{"$f":"'[2]Inventário Completo'!$C549","v":"Impressora Térmicas"},{"$f":"'[2]Inventário Completo'!$D549","v":"Allegro Flex 4206"},{"$f":"'[2]Inventário Completo'!$G549","v":"CSN-VOLTA REDONDA"},0,0]
[{"$f":"'[2]Inventário Completo'!$C550","v":"Impressora Térmicas"},{"$f":"'[2]Inventário Completo'!$D550","v":"R110 Xi4"},{"$f":"'[2]Inventário Completo'!$G550","v":"CSN-VOLTA REDONDA"},0,0]
[{"$f":"'[2]Inventário Completo'!$C551","v":"Impressora Térmicas"},{"$f":"'[2]Inventário Completo'!$D551","v":"S4M"},{"$f":"'[2]Inventário Completo'!$G551","v":"CSN-VOLTA REDONDA"},0,0]
[{"$f":"'[2]Inventário Completo'!$C552","v":"Impressora Térmicas"},{"$f":"'[2]Inventário Completo'!$D552","v":"S4M"},{"$f":"'[2]Inventário Completo'!$G552","v":"CSN-VOLTA REDONDA"},0,0]
[{"$f":"'[2]Inventário Completo'!$C553","v":"Impressora Térmicas"},{"$f":"'[2]Inventário Completo'!$D553","v":"S4M"},{"$f":"'[2]Inventário Completo'!$G553","v":"CSN-VOLTA REDONDA"},0,0]
[{"$f":"'[2]Inventário Completo'!$C554","v":"Impressora Térmicas"},{"$f":"'[2]Inventário Completo'!$D554","v":"S4M"},{"$f":"'[2]Inventário Completo'!$G554","v":"CSN-VOLTA REDONDA"},0,0]
[{"$f":"'[2]Inventário Completo'!$C555","v":"Impressora Térmicas"},{"$f":"'[2]Inventário Completo'!$D555","v":"S4M"},{"$f":"'[2]Inventário Completo'!$G555","v":"CSN-VOLTA REDONDA"},0,0]
[{"$f":"'[2]Inventário Completo'!$C556","v":"Impressora Térmicas"},{"$f":"'[2]Inventário Completo'!$D556","v":"S4M"},{"$f":"'[2]Inventário Completo'!$G556","v":"CSN-VOLTA REDONDA"},0,0]
[{"$f":"'[2]Inventário Completo'!$C557","v":"Impressora Térmicas"},{"$f":"'[2]Inventário Completo'!$D557","v":"S600"},{"$f":"'[2]Inventário Completo'!$G557","v":"CSN-VOLTA REDONDA"},0,0]
[{"$f":"'[2]Inventário Completo'!$C558","v":"Impressora Térmicas"},{"$f":"'[2]Inventário Completo'!$D558","v":"S600"},{"$f":"'[2]Inventário Completo'!$G558","v":"CSN-VOLTA REDONDA"},0,0]
[{"$f":"'[2]Inventário Completo'!$C559","v":"Impressora Térmicas"},{"$f":"'[2]Inventário Completo'!$D559","v":"S600"},{"$f":"'[2]Inventário Completo'!$G559","v":"CSN-VOLTA REDONDA"},0,0]
[{"$f":"'[2]Inventário Completo'!$C560","v":"Impressora Térmicas"},{"$f":"'[2]Inventário Completo'!$D560","v":"S600"},{"$f":"'[2]Inventário Completo'!$G560","v":"CSN-VOLTA REDONDA"},0,0]
[{"$f":"'[2]Inventário Completo'!$C561","v":"Impressora Térmicas"},{"$f":"'[2]Inventário Completo'!$D561","v":"Z110 Xi3"},{"$f":"'[2]Inventário Completo'!$G561","v":"CSN-VOLTA REDONDA"},0,0]
[{"$f":"'[2]Inventário Completo'!$C562","v":"Impressora Térmicas"},{"$f":"'[2]Inventário Completo'!$D562","v":"Z110 Xi3"},{"$f":"'[2]Inventário Completo'!$G562","v":"CSN-VOLTA REDONDA"},0,0]
[{"$f":"'[2]Inventário Completo'!$C563","v":"Impressora Térmicas"},{"$f":"'[2]Inventário Completo'!$D563","v":"Z110 Xi3"},{"$f":"'[2]Inventário Completo'!$G563","v":"CSN-VOLTA REDONDA"},0,0]
[{"$f":"'[2]Inventário Completo'!$C564","v":"Impressora Térmicas"},{"$f":"'[2]Inventário Completo'!$D564","v":"Z110 Xi3"},{"$f":"'[2]Inventário Completo'!$G564","v":"CSN-VOLTA REDONDA"},0,0]
[{"$f":"'[2]Inventário Completo'!$C565","v":"Impressora Térmicas"},{"$f":"'[2]Inventário Completo'!$D565","v":"Z110 Xi3"},{"$f":"'[2]Inventário Completo'!$G565","v":"CSN-VOLTA REDONDA"},0,0]
[{"$f":"'[2]Inventário Completo'!$C566","v":"Impressora Térmicas"},{"$f":"'[2]Inventário Completo'!$D566","v":"Z110 Xi3"},{"$f":"'[2]Inventário Completo'!$G566","v":"CSN-VOLTA REDONDA"},0,0]
[{"$f":"'[2]Inventário Completo'!$C567","v":"Impressora Térmicas"},{"$f":"'[2]Inventário Completo'!$D567","v":"Z110 Xi3"},{"$f":"'[2]Inventário Completo'!$G567","v":"CSN-VOLTA REDONDA"},0,0]
[{"$f":"'[2]Inventário Completo'!$C568","v":"Impressora Térmicas"},{"$f":"'[2]Inventário Completo'!$D568","v":"Z110 Xi3"},{"$f":"'[2]Inventário Completo'!$G568","v":"CSN-VOLTA REDONDA"},0,0]
[{"$f":"'[2]Inventário Completo'!$C569","v":"Impressora Térmicas"},{"$f":"'[2]Inventário Completo'!$D569","v":"Z110 Xi3"},{"$f":"'[2]Inventário Completo'!$G569","v":"CSN-VOLTA REDONDA"},0,0]
[{"$f":"'[2]Inventário Completo'!$C570","v":"Impressora Térmicas"},{"$f":"'[2]Inventário Completo'!$D570","v":"Z110 Xi3"},{"$f":"'[2]Inventário Completo'!$G570","v":"CSN-VOLTA REDONDA"},0,0]
[{"$f":"'[2]Inventário Completo'!$C571","v":"Impressora Térmicas"},{"$f":"'[2]Inventário Completo'!$D571","v":"Z110 Xi3"},{"$f":"'[2]Inventário Completo'!$G571","v":"CSN-VOLTA REDONDA"},0,0]
[{"$f":"'[2]Inventário Completo'!$C572","v":"Impressora Térmicas"},{"$f":"'[2]Inventário Completo'!$D572","v":"Z110 Xi3"},{"$f":"'[2]Inventário Completo'!$G572","v":"CSN-VOLTA REDONDA"},0,0]
[{"$f":"'[2]Inventário Completo'!$C573","v":"Impressora Térmicas"},{"$f":"'[2]Inventário Completo'!$D573","v":"Z110 Xi3"},{"$f":"'[2]Inventário Completo'!$G573","v":"CSN-VOLTA REDONDA"},0,0]
[{"$f":"'[2]Inventário Completo'!$C574","v":"Impressora Térmicas"},{"$f":"'[2]Inventário Completo'!$D574","v":"Z110 Xi3"},{"$f":"'[2]Inventário Completo'!$G574","v":"CSN-VOLTA REDONDA"},0,0]
[{"$f":"'[2]Inventário Completo'!$C575","v":"Impressora Térmicas"},{"$f":"'[2]Inventário Completo'!$D575","v":"Z110 Xi3"},{"$f":"'[2]Inventário Completo'!$G575","v":"CSN-VOLTA REDONDA"},0,0]
[{"$f":"'[2]Inventário Completo'!$C576","v":"Impressora Térmicas"},{"$f":"'[2]Inventário Completo'!$D576","v":"Z110 Xi3"},{"$f":"'[2]Inventário Completo'!$G576","v":"CSN-VOLTA REDONDA"},0,0]
[{"$f":"'[2]Inventário Completo'!$C577","v":"Impressora Térmicas"},{"$f":"'[2]Inventário Completo'!$D577","v":"Z110 Xi3"},{"$f":"'[2]Inventário Completo'!$G577","v":"CSN-VOLTA REDONDA"},0,0]
[{"$f":"'[2]Inventário Completo'!$C578","v":"Impressora Térmicas"},{"$f":"'[2]Inventário Completo'!$D578","v":"Z110 Xi3"},{"$f":"'[2]Inventário Completo'!$G578","v":"CSN-VOLTA REDONDA"},0,0]
[{"$f":"'[2]Inventário Completo'!$C579","v":"Impressora Térmicas"},{"$f":"'[2]Inventário Completo'!$D579","v":"Z110 Xi3"},{"$f":"'[2]Inventário Completo'!$G579","v":"CSN-VOLTA REDONDA"},0,0]
[{"$f":"'[2]Inventário Completo'!$C580","v":"Impressora Térmicas"},{"$f":"'[2]Inventário Completo'!$D580","v":"Z110 Xi3"},{"$f":"'[2]Inventário Completo'!$G580","v":"CSN-VOLTA REDONDA"},0,0]
[{"$f":"'[2]Inventário Completo'!$C581","v":"Impressora Térmicas"},{"$f":"'[2]Inventário Completo'!$D581","v":"Z110 Xi3"},{"$f":"'[2]Inventário Completo'!$G581","v":"CSN-VOLTA REDONDA"},0,0]
[{"$f":"'[2]Inventário Completo'!$C582","v":"Impressora Térmicas"},{"$f":"'[2]Inventário Completo'!$D582","v":"Z110 Xi3"},{"$f":"'[2]Inventário Completo'!$G582","v":"CSN-VOLTA REDONDA"},0,0]
[{"$f":"'[2]Inventário Completo'!$C583","v":"Impressora Térmicas"},{"$f":"'[2]Inventário Completo'!$D583","v":"Z110 Xi3"},{"$f":"'[2]Inventário Completo'!$G583","v":"CSN-VOLTA REDONDA"},0,0]
[{"$f":"'[2]Inventário Completo'!$C584","v":"Impressora Térmicas"},{"$f":"'[2]Inventário Completo'!$D584","v":"Z110 Xi3"},{"$f":"'[2]Inventário Completo'!$G584","v":"CSN-VOLTA REDONDA"},0,0]
[{"$f":"'[2]Inventário Completo'!$C585","v":"Impressora Térmicas"},{"$f":"'[2]Inventário Completo'!$D585","v":"Z110 Xi3"},{"$f":"'[2]Inventário Completo'!$G585","v":"CSN-VOLTA REDONDA"},{"$f":"VLOOKUP(C579,$G$1:$I$25,3,0)","v":0},{"$f":"IF(D579=1,C579,0)","v":0}]
[{"$f":"'[2]Inventário Completo'!$C586","v":"Impressora Térmicas"},{"$f":"'[2]Inventário Completo'!$D586","v":"Z110 Xi3"},{"$f":"'[2]Inventário Completo'!$G586","v":"CSN-VOLTA REDONDA"},0,0]
[{"$f":"'[2]Inventário Completo'!$C587","v":"Impressora Térmicas"},{"$f":"'[2]Inventário Completo'!$D587","v":"Z110 Xi3"},{"$f":"'[2]Inventário Completo'!$G587","v":"CSN-VOLTA REDONDA"},0,0]
[{"$f":"'[2]Inventário Completo'!$C588","v":"Impressora Térmicas"},{"$f":"'[2]Inventário Completo'!$D588","v":"Z110 Xi3"},{"$f":"'[2]Inventário Completo'!$G588","v":"CSN-VOLTA REDONDA"},0,0]
[{"$f":"'[2]Inventário Completo'!$C589","v":"Impressora Térmicas"},{"$f":"'[2]Inventário Completo'!$D589","v":"Z110 Xi3"},{"$f":"'[2]Inventário Completo'!$G589","v":"CSN-VOLTA REDONDA"},0,0]
[{"$f":"'[2]Inventário Completo'!$C590","v":"Impressora Térmicas"},{"$f":"'[2]Inventário Completo'!$D590","v":"Z110 Xi3"},{"$f":"'[2]Inventário Completo'!$G590","v":"CSN-VOLTA REDONDA"},0,0]
[{"$f":"'[2]Inventário Completo'!$C591","v":"Impressora Térmicas"},{"$f":"'[2]Inventário Completo'!$D591","v":"Z110 Xi3"},{"$f":"'[2]Inventário Completo'!$G591","v":"CSN-VOLTA REDONDA"},0,0]
[{"$f":"'[2]Inventário Completo'!$C592","v":"Impressora Térmicas"},{"$f":"'[2]Inventário Completo'!$D592","v":"Z110 Xi3"},{"$f":"'[2]Inventário Completo'!$G592","v":"CSN-VOLTA REDONDA"},0,0]
[{"$f":"'[2]Inventário Completo'!$C593","v":"Impressora Térmicas"},{"$f":"'[2]Inventário Completo'!$D593","v":"Z110 Xi4"},{"$f":"'[2]Inventário Completo'!$G593","v":"CSN-VOLTA REDONDA"},0,0]
[{"$f":"'[2]Inventário Completo'!$C594","v":"Impressora Térmicas"},{"$f":"'[2]Inventário Completo'!$D594","v":"Z110 Xi4"},{"$f":"'[2]Inventário Completo'!$G594","v":"CSN-VOLTA REDONDA"},0,0]
[{"$f":"'[2]Inventário Completo'!$C595","v":"Impressora Térmicas"},{"$f":"'[2]Inventário Completo'!$D595","v":"Z110 Xi4"},{"$f":"'[2]Inventário Completo'!$G595","v":"CSN-VOLTA REDONDA"},0,0]
[{"$f":"'[2]Inventário Completo'!$C596","v":"Impressora Térmicas"},{"$f":"'[2]Inventário Completo'!$D596","v":"Z110 Xi4"},{"$f":"'[2]Inventário Completo'!$G596","v":"CSN-VOLTA REDONDA"},0,0]
[{"$f":"'[2]Inventário Completo'!$C597","v":"Impressora Térmicas"},{"$f":"'[2]Inventário Completo'!$D597","v":"Z110 Xi4"},{"$f":"'[2]Inventário Completo'!$G597","v":"CSN-VOLTA REDONDA"},0,0]
[{"$f":"'[2]Inventário Completo'!$C598","v":"Impressora Térmicas"},{"$f":"'[2]Inventário Completo'!$D598","v":"Z110 Xi4"},{"$f":"'[2]Inventário Completo'!$G598","v":"CSN-VOLTA REDONDA"},0,0]
[{"$f":"'[2]Inventário Completo'!$C599","v":"Impressora Térmicas"},{"$f":"'[2]Inventário Completo'!$D599","v":"Z110 Xi4"},{"$f":"'[2]Inventário Completo'!$G599","v":"CSN-VOLTA REDONDA"},0,0]
[{"$f":"'[2]Inventário Completo'!$C600","v":"Impressora Térmicas"},{"$f":"'[2]Inventário Completo'!$D600","v":"Z110 Xi4"},{"$f":"'[2]Inventário Completo'!$G600","v":"CSN-VOLTA REDONDA"},0,0]
[{"$f":"'[2]Inventário Completo'!$C601","v":"Impressora Térmicas"},{"$f":"'[2]Inventário Completo'!$D601","v":"Z110 Xi4"},{"$f":"'[2]Inventário Completo'!$G601","v":"CSN-VOLTA REDONDA"},0,0]
[{"$f":"'[2]Inventário Completo'!$C602","v":"Impressora Térmicas"},{"$f":"'[2]Inventário Completo'!$D602","v":"Z110 Xi4"},{"$f":"'[2]Inventário Completo'!$G602","v":"CSN-VOLTA REDONDA"},0,0]
[{"$f":"'[2]Inventário Completo'!$C603","v":"Impressora Térmicas"},{"$f":"'[2]Inventário Completo'!$D603","v":"Z110 Xi4"},{"$f":"'[2]Inventário Completo'!$G603","v":"CSN-VOLTA REDONDA"},0,0]
[{"$f":"'[2]Inventário Completo'!$C604","v":"Impressora Térmicas"},{"$f":"'[2]Inventário Completo'!$D604","v":"Z110 Xi4"},{"$f":"'[2]Inventário Completo'!$G604","v":"CSN-VOLTA REDONDA"},0,0]
[{"$f":"'[2]Inventário Completo'!$C605","v":"Impressora Térmicas"},{"$f":"'[2]Inventário Completo'!$D605","v":"Z110 Xi4"},{"$f":"'[2]Inventário Completo'!$G605","v":"CSN-VOLTA REDONDA"},0,0]
[{"$f":"'[2]Inventário Completo'!$C606","v":"Impressora Térmicas"},{"$f":"'[2]Inventário Completo'!$D606","v":"Z110 Xi4"},{"$f":"'[2]Inventário Completo'!$G606","v":"CSN-VOLTA REDONDA"},0,0]
[{"$f":"'[2]Inventário Completo'!$C607","v":"Impressora Térmicas"},{"$f":"'[2]Inventário Completo'!$D607","v":"Z110 Xi4"},{"$f":"'[2]Inventário Completo'!$G607","v":"CSN-VOLTA REDONDA"},0,0]
[{"$f":"'[2]Inventário Completo'!$C608","v":"Impressora Térmicas"},{"$f":"'[2]Inventário Completo'!$D608","v":"Z140 Xi3"},{"$f":"'[2]Inventário Completo'!$G608","v":"CSN-VOLTA REDONDA"},0,0]
[{"$f":"'[2]Inventário Completo'!$C609","v":"Impressora Térmicas"},{"$f":"'[2]Inventário Completo'!$D609","v":"Z140 Xi3"},{"$f":"'[2]Inventário Completo'!$G609","v":"CSN-VOLTA REDONDA"},0,0]
[{"$f":"'[2]Inventário Completo'!$C610","v":"Impressora Térmicas"},{"$f":"'[2]Inventário Completo'!$D610","v":"Z140 Xi3"},{"$f":"'[2]Inventário Completo'!$G610","v":"CSN-VOLTA REDONDA"},0,0]
[{"$f":"'[2]Inventário Completo'!$C611","v":"Impressora Térmicas"},{"$f":"'[2]Inventário Completo'!$D611","v":"Z170 Xi3"},{"$f":"'[2]Inventário Completo'!$G611","v":"CSN-VOLTA REDONDA"},0,0]
[{"$f":"'[2]Inventário Completo'!$C612","v":"Impressora Térmicas"},{"$f":"'[2]Inventário Completo'!$D612","v":"Z170 Xi3"},{"$f":"'[2]Inventário Completo'!$G612","v":"CSN-VOLTA REDONDA"},0,0]
[{"$f":"'[2]Inventário Completo'!$C613","v":"Impressora Térmicas"},{"$f":"'[2]Inventário Completo'!$D613","v":"Z170 Xi3"},{"$f":"'[2]Inventário Completo'!$G613","v":"CSN-VOLTA REDONDA"},0,0]
[{"$f":"'[2]Inventário Completo'!$C614","v":"Impressora Térmicas"},{"$f":"'[2]Inventário Completo'!$D614","v":"Z170 Xi3"},{"$f":"'[2]Inventário Completo'!$G614","v":"CSN-VOLTA REDONDA"},0,0]
[{"$f":"'[2]Inventário Completo'!$C615","v":"Impressora Térmicas"},{"$f":"'[2]Inventário Completo'!$D615","v":"Z170 Xi3"},{"$f":"'[2]Inventário Completo'!$G615","v":"CSN-VOLTA REDONDA"},0,0]
[{"$f":"'[2]Inventário Completo'!$C616","v":"Impressora Térmicas"},{"$f":"'[2]Inventário Completo'!$D616","v":"Z170 Xi3"},{"$f":"'[2]Inventário Completo'!$G616","v":"CSN-VOLTA REDONDA"},0,0]
[{"$f":"'[2]Inventário Completo'!$C617","v":"Impressora Térmicas"},{"$f":"'[2]Inventário Completo'!$D617","v":"ZT230"},{"$f":"'[2]Inventário Completo'!$G617","v":"CSN-VOLTA REDONDA"},0,0]
[{"$f":"'[2]Inventário Completo'!$C618","v":"Impressora Térmicas"},{"$f":"'[2]Inventário Completo'!$D618","v":"ZT230"},{"$f":"'[2]Inventário Completo'!$G618","v":"CSN-VOLTA REDONDA"},0,0]
[{"$f":"'[2]Inventário Completo'!$C619","v":"Impressora Térmicas"},{"$f":"'[2]Inventário Completo'!$D619","v":"ZT230"},{"$f":"'[2]Inventário Completo'!$G619","v":"CSN-VOLTA REDONDA"},0,0]
[{"$f":"'[2]Inventário Completo'!$C620","v":"Impressora Térmicas"},{"$f":"'[2]Inventário Completo'!$D620","v":"ZT230"},{"$f":"'[2]Inventário Completo'!$G620","v":"CSN-VOLTA REDONDA"},0,0]
[{"$f":"'[2]Inventário Completo'!$C621","v":"Impressora Térmicas"},{"$f":"'[2]Inventário Completo'!$D621","v":"ZT230"},{"$f":"'[2]Inventário Completo'!$G621","v":"CSN-VOLTA REDONDA"},0,0]
[{"$f":"'[2]Inventário Completo'!$C622","v":"Impressora Térmicas"},{"$f":"'[2]Inventário Completo'!$D622","v":"ZT230"},{"$f":"'[2]Inventário Completo'!$G622","v":"CSN-VOLTA REDONDA"},0,0]
[{"$f":"'[2]Inventário Completo'!$C623","v":"Impressora Térmicas"},{"$f":"'[2]Inventário Completo'!$D623","v":"ZT230"},{"$f":"'[2]Inventário Completo'!$G623","v":"CSN-VOLTA REDONDA"},0,0]
[{"$f":"'[2]Inventário Completo'!$C624","v":"Impressora Térmicas"},{"$f":"'[2]Inventário Completo'!$D624","v":"ZT230"},{"$f":"'[2]Inventário Completo'!$G624","v":"CSN-VOLTA REDONDA"},0,0]
[{"$f":"'[2]Inventário Completo'!$C625","v":"Impressora Térmicas"},{"$f":"'[2]Inventário Completo'!$D625","v":"ZT230"},{"$f":"'[2]Inventário Completo'!$G625","v":"CSN-VOLTA REDONDA"},0,0]
[{"$f":"'[2]Inventário Completo'!$C626","v":"Impressora Térmicas"},{"$f":"'[2]Inventário Completo'!$D626","v":"ZT230"},{"$f":"'[2]Inventário Completo'!$G626","v":"CSN-VOLTA REDONDA"},0,0]
[{"$f":"'[2]Inventário Completo'!$C627","v":"Impressora Térmicas"},{"$f":"'[2]Inventário Completo'!$D627","v":"ZT230"},{"$f":"'[2]Inventário Completo'!$G627","v":"CSN-VOLTA REDONDA"},0,0]
[{"$f":"'[2]Inventário Completo'!$C628","v":"Impressora Térmicas"},{"$f":"'[2]Inventário Completo'!$D628","v":"ZT230"},{"$f":"'[2]Inventário Completo'!$G628","v":"CSN-VOLTA REDONDA"},0,0]
[{"$f":"'[2]Inventário Completo'!$C629","v":"Impressora Térmicas"},{"$f":"'[2]Inventário Completo'!$D629","v":"ZT230"},{"$f":"'[2]Inventário Completo'!$G629","v":"CSN-VOLTA REDONDA"},0,0]
[{"$f":"'[2]Inventário Completo'!$C630","v":"Impressora Térmicas"},{"$f":"'[2]Inventário Completo'!$D630","v":"ZT230"},{"$f":"'[2]Inventário Completo'!$G630","v":"CSN-VOLTA REDONDA"},0,0]
[{"$f":"'[2]Inventário Completo'!$C631","v":"Impressora Térmicas"},{"$f":"'[2]Inventário Completo'!$D631","v":"ZT230"},{"$f":"'[2]Inventário Completo'!$G631","v":"CSN-VOLTA REDONDA"},0,0]
[{"$f":"'[2]Inventário Completo'!$C632","v":"Impressora Térmicas"},{"$f":"'[2]Inventário Completo'!$D632","v":"ZT230"},{"$f":"'[2]Inventário Completo'!$G632","v":"CSN-VOLTA REDONDA"},0,0]
[{"$f":"'[2]Inventário Completo'!$C633","v":"Impressora Térmicas"},{"$f":"'[2]Inventário Completo'!$D633","v":"ZT230"},{"$f":"'[2]Inventário Completo'!$G633","v":"CSN-VOLTA REDONDA"},0,0]
[{"$f":"'[2]Inventário Completo'!$C634","v":"Impressora Térmicas"},{"$f":"'[2]Inventário Completo'!$D634","v":"ZT230"},{"$f":"'[2]Inventário Completo'!$G634","v":"CSN-VOLTA REDONDA"},0,0]
[{"$f":"'[2]Inventário Completo'!$C635","v":"Impressora Térmicas"},{"$f":"'[2]Inventário Completo'!$D635","v":"ZT230"},{"$f":"'[2]Inventário Completo'!$G635","v":"CSN-VOLTA REDONDA"},0,0]
[{"$f":"'[2]Inventário Completo'!$C636","v":"Impressora Térmicas"},{"$f":"'[2]Inventário Completo'!$D636","v":"ZT230"},{"$f":"'[2]Inventário Completo'!$G636","v":"CSN-VOLTA REDONDA"},0,0]
[{"$f":"'[2]Inventário Completo'!$C637","v":"Impressora Térmicas"},{"$f":"'[2]Inventário Completo'!$D637","v":"ZT230"},{"$f":"'[2]Inventário Completo'!$G637","v":"CSN-VOLTA REDONDA"},0,0]
[{"$f":"'[2]Inventário Completo'!$C638","v":"Impressora Térmicas"},{"$f":"'[2]Inventário Completo'!$D638","v":"ZT230"},{"$f":"'[2]Inventário Completo'!$G638","v":"CSN-VOLTA REDONDA"},0,0]
[{"$f":"'[2]Inventário Completo'!$C639","v":"Impressora Térmicas"},{"$f":"'[2]Inventário Completo'!$D639","v":"ZT230"},{"$f":"'[2]Inventário Completo'!$G639","v":"CSN-VOLTA REDONDA"},0,0]
[{"$f":"'[2]Inventário Completo'!$C640","v":"Impressora Térmicas"},{"$f":"'[2]Inventário Completo'!$D640","v":"ZT230"},{"$f":"'[2]Inventário Completo'!$G640","v":"CSN-VOLTA REDONDA"},0,0]
[{"$f":"'[2]Inventário Completo'!$C641","v":"Impressora Térmicas"},{"$f":"'[2]Inventário Completo'!$D641","v":"ZT230"},{"$f":"'[2]Inventário Completo'!$G641","v":"CSN-VOLTA REDONDA"},0,0]
[{"$f":"'[2]Inventário Completo'!$C642","v":"Impressora Térmicas"},{"$f":"'[2]Inventário Completo'!$D642","v":"ZT230"},{"$f":"'[2]Inventário Completo'!$G642","v":"CSN-VOLTA REDONDA"},0,0]
[{"$f":"'[2]Inventário Completo'!$C643","v":"Impressora Térmicas"},{"$f":"'[2]Inventário Completo'!$D643","v":"ZT230"},{"$f":"'[2]Inventário Completo'!$G643","v":"CSN-VOLTA REDONDA"},0,0]
[{"$f":"'[2]Inventário Completo'!$C644","v":"Impressora Térmicas"},{"$f":"'[2]Inventário Completo'!$D644","v":"ZT230"},{"$f":"'[2]Inventário Completo'!$G644","v":"CSN-VOLTA REDONDA"},0,0]
[{"$f":"'[2]Inventário Completo'!$C645","v":"Impressora Térmicas"},{"$f":"'[2]Inventário Completo'!$D645","v":"ZT230"},{"$f":"'[2]Inventário Completo'!$G645","v":"CSN-VOLTA REDONDA"},0,0]
[{"$f":"'[2]Inventário Completo'!$C646","v":"Impressora Térmicas"},{"$f":"'[2]Inventário Completo'!$D646","v":"ZT230"},{"$f":"'[2]Inventário Completo'!$G646","v":"CSN-VOLTA REDONDA"},0,0]
[{"$f":"'[2]Inventário Completo'!$C647","v":"Impressora Térmicas"},{"$f":"'[2]Inventário Completo'!$D647","v":"ZT230"},{"$f":"'[2]Inventário Completo'!$G647","v":"CSN-VOLTA REDONDA"},0,0]
[{"$f":"'[2]Inventário Completo'!$C648","v":"Impressora Térmicas"},{"$f":"'[2]Inventário Completo'!$D648","v":"ZT230"},{"$f":"'[2]Inventário Completo'!$G648","v":"CSN-VOLTA REDONDA"},0,0]
[{"$f":"'[2]Inventário Completo'!$C649","v":"Impressora Térmicas"},{"$f":"'[2]Inventário Completo'!$D649","v":"ZT230"},{"$f":"'[2]Inventário Completo'!$G649","v":"CSN-VOLTA REDONDA"},{"$f":"VLOOKUP(C643,$G$1:$I$25,3,0)","v":0},{"$f":"IF(D643=1,C643,0)","v":0}]
[{"$f":"'[2]Inventário Completo'!$C650","v":"Impressora Térmicas"},{"$f":"'[2]Inventário Completo'!$D650","v":"ZT230"},{"$f":"'[2]Inventário Completo'!$G650","v":"CSN-VOLTA REDONDA"},0,0]
[{"$f":"'[2]Inventário Completo'!$C651","v":"Impressora Térmicas"},{"$f":"'[2]Inventário Completo'!$D651","v":"ZT230"},{"$f":"'[2]Inventário Completo'!$G651","v":"CSN-VOLTA REDONDA"},0,0]
[{"$f":"'[2]Inventário Completo'!$C652","v":"Impressora Térmicas"},{"$f":"'[2]Inventário Completo'!$D652","v":"ZT230"},{"$f":"'[2]Inventário Completo'!$G652","v":"CSN-VOLTA REDONDA"},0,0]
[{"$f":"'[2]Inventário Completo'!$C653","v":"Impressora Térmicas"},{"$f":"'[2]Inventário Completo'!$D653","v":"ZT230"},{"$f":"'[2]Inventário Completo'!$G653","v":"CSN-VOLTA REDONDA"},0,0]
[{"$f":"'[2]Inventário Completo'!$C654","v":"Impressora Térmicas"},{"$f":"'[2]Inventário Completo'!$D654","v":"ZT230"},{"$f":"'[2]Inventário Completo'!$G654","v":"CSN-VOLTA REDONDA"},0,0]
[{"$f":"'[2]Inventário Completo'!$C655","v":"Impressora Térmicas"},{"$f":"'[2]Inventário Completo'!$D655","v":"ZT230"},{"$f":"'[2]Inventário Completo'!$G655","v":"CSN-VOLTA REDONDA"},0,0]
[{"$f":"'[2]Inventário Completo'!$C656","v":"Impressora Térmicas"},{"$f":"'[2]Inventário Completo'!$D656","v":"ZT230"},{"$f":"'[2]Inventário Completo'!$G656","v":"CSN-VOLTA REDONDA"},0,0]
[{"$f":"'[2]Inventário Completo'!$C657","v":"Impressora Térmicas"},{"$f":"'[2]Inventário Completo'!$D657","v":"ZT230"},{"$f":"'[2]Inventário Completo'!$G657","v":"CSN-VOLTA REDONDA"},0,0]
[{"$f":"'[2]Inventário Completo'!$C658","v":"Impressora Térmicas"},{"$f":"'[2]Inventário Completo'!$D658","v":"ZT230"},{"$f":"'[2]Inventário Completo'!$G658","v":"CSN-VOLTA REDONDA"},0,0]
[{"$f":"'[2]Inventário Completo'!$C659","v":"Impressora Térmicas"},{"$f":"'[2]Inventário Completo'!$D659","v":"ZT230"},{"$f":"'[2]Inventário Completo'!$G659","v":"CSN-VOLTA REDONDA"},0,0]
[{"$f":"'[2]Inventário Completo'!$C660","v":"Impressora Térmicas"},{"$f":"'[2]Inventário Completo'!$D660","v":"ZT230"},{"$f":"'[2]Inventário Completo'!$G660","v":"CSN-VOLTA REDONDA"},0,0]
[{"$f":"'[2]Inventário Completo'!$C661","v":"Impressora Térmicas"},{"$f":"'[2]Inventário Completo'!$D661","v":"ZT230"},{"$f":"'[2]Inventário Completo'!$G661","v":"CSN-VOLTA REDONDA"},0,0]
[{"$f":"'[2]Inventário Completo'!$C662","v":"Impressora Térmicas"},{"$f":"'[2]Inventário Completo'!$D662","v":"ZT230"},{"$f":"'[2]Inventário Completo'!$G662","v":"CSN-VOLTA REDONDA"},0,0]
[{"$f":"'[2]Inventário Completo'!$C663","v":"Impressora Térmicas"},{"$f":"'[2]Inventário Completo'!$D663","v":"ZT230"},{"$f":"'[2]Inventário Completo'!$G663","v":"CSN-VOLTA REDONDA"},0,0]
[{"$f":"'[2]Inventário Completo'!$C664","v":"Impressora Térmicas"},{"$f":"'[2]Inventário Completo'!$D664","v":"ZT610"},{"$f":"'[2]Inventário Completo'!$G664","v":"CSN-VOLTA REDONDA"},0,0]
[{"$f":"'[2]Inventário Completo'!$C665","v":"Impressora Térmicas"},{"$f":"'[2]Inventário Completo'!$D665","v":"ZT610"},{"$f":"'[2]Inventário Completo'!$G665","v":"CSN-VOLTA REDONDA"},0,0]
[{"$f":"'[2]Inventário Completo'!$C666","v":"Impressora Térmicas"},{"$f":"'[2]Inventário Completo'!$D666","v":"ZT610"},{"$f":"'[2]Inventário Completo'!$G666","v":"CSN-VOLTA REDONDA"},0,0]
[{"$f":"'[2]Inventário Completo'!$C667","v":"Impressora Térmicas"},{"$f":"'[2]Inventário Completo'!$D667","v":"ZT610"},{"$f":"'[2]Inventário Completo'!$G667","v":"CSN-VOLTA REDONDA"},0,0]
[{"$f":"'[2]Inventário Completo'!$C668","v":"Impressora Térmicas"},{"$f":"'[2]Inventário Completo'!$D668","v":"ZT610"},{"$f":"'[2]Inventário Completo'!$G668","v":"CSN-VOLTA REDONDA"},0,0]
[{"$f":"'[2]Inventário Completo'!$C669","v":"Impressora Térmicas"},{"$f":"'[2]Inventário Completo'!$D669","v":"ZT610"},{"$f":"'[2]Inventário Completo'!$G669","v":"CSN-VOLTA REDONDA"},0,0]
[{"$f":"'[2]Inventário Completo'!$C670","v":"Impressora Térmicas"},{"$f":"'[2]Inventário Completo'!$D670","v":"ZT610"},{"$f":"'[2]Inventário Completo'!$G670","v":"CSN-VOLTA REDONDA"},0,0]
[{"$f":"'[2]Inventário Completo'!$C671","v":"Impressora Térmicas"},{"$f":"'[2]Inventário Completo'!$D671","v":"ZT610"},{"$f":"'[2]Inventário Completo'!$G671","v":"CSN-VOLTA REDONDA"},0,0]
[{"$f":"'[2]Inventário Completo'!$C672","v":"Impressora Térmicas"},{"$f":"'[2]Inventário Completo'!$D672","v":"ZT230"},{"$f":"'[2]Inventário Completo'!$G672","v":"PRADA VALENÇA"},0,0]
[{"$f":"'[2]Inventário Completo'!$C673","v":"Impressora Térmicas"},{"$f":"'[2]Inventário Completo'!$D673","v":"ZT230"},{"$f":"'[2]Inventário Completo'!$G673","v":"PRADA VALENÇA"},0,0]
[{"$f":"'[2]Inventário Completo'!$C674","v":"Impressora Térmicas"},{"$f":"'[2]Inventário Completo'!$D674","v":"ZT230"},{"$f":"'[2]Inventário Completo'!$G674","v":"PRADA VALENÇA"},0,0]
[{"$f":"'[2]Inventário Completo'!$C675","v":"Impressora Térmicas"},{"$f":"'[2]Inventário Completo'!$D675","v":"ZT230"},{"$f":"'[2]Inventário Completo'!$G675","v":"PRADA VALENÇA"},0,0]
[{"$f":"'[2]Inventário Completo'!$C676","v":"Impressora Térmicas"},{"$f":"'[2]Inventário Completo'!$D676","v":"ZT230"},{"$f":"'[2]Inventário Completo'!$G676","v":"PRADA VALENÇA"},0,0]
[{"$f":"'[2]Inventário Completo'!$C677","v":"Impressora Térmicas"},{"$f":"'[2]Inventário Completo'!$D677","v":"ZT230"},{"$f":"'[2]Inventário Completo'!$G677","v":"PRADA VALENÇA"},0,0]
[{"$f":"'[2]Inventário Completo'!$C678","v":"Impressora Térmicas"},{"$f":"'[2]Inventário Completo'!$D678","v":"ZT230"},{"$f":"'[2]Inventário Completo'!$G678","v":"PRADA VALENÇA"},0,0]
[{"$f":"'[2]Inventário Completo'!$C679","v":"Impressora Térmicas"},{"$f":"'[2]Inventário Completo'!$D679","v":"ZT230"},{"$f":"'[2]Inventário Completo'!$G679","v":"PRADA VALENÇA"},0,0]
[{"$f":"'[2]Inventário Completo'!$C680","v":"Impressora Térmicas"},{"$f":"'[2]Inventário Completo'!$D680","v":"ZT230"},{"$f":"'[2]Inventário Completo'!$G680","v":"PRADA - VARGEM GRANDE"},0,0]
[{"$f":"'[2]Inventário Completo'!$C681","v":"Impressora Térmicas"},{"$f":"'[2]Inventário Completo'!$D681","v":"ZT230"},{"$f":"'[2]Inventário Completo'!$G681","v":"PRADA - VARGEM GRANDE"},0,0]
[{"$f":"'[2]Inventário Completo'!$C682","v":"Impressora Térmicas"},{"$f":"'[2]Inventário Completo'!$D682","v":"ZT230"},{"$f":"'[2]Inventário Completo'!$G682","v":"PRADA - VARGEM GRANDE"},0,0]
[{"$f":"'[2]Inventário Completo'!$C683","v":0},{"$f":"'[2]Inventário Completo'!$D683","v":0},{"$f":"'[2]Inventário Completo'!$G683","v":0},{"$error":"#N/A"},{"$error":"#N/A"}]
[{"$f":"'[2]Inventário Completo'!$C684","v":0},{"$f":"'[2]Inventário Completo'!$D684","v":0},{"$f":"'[2]Inventário Completo'!$G684","v":0},{"$error":"#N/A"},{"$error":"#N/A"}]
[{"$f":"'[2]Inventário Completo'!$C685","v":0},{"$f":"'[2]Inventário Completo'!$D685","v":0},{"$f":"'[2]Inventário Completo'!$G685","v":0},{"$error":"#N/A"},{"$error":"#N/A"}]
[{"$f":"'[2]Inventário Completo'!$C686","v":0},{"$f":"'[2]Inventário Completo'!$D686","v":0},{"$f":"'[2]Inventário Completo'!$G686","v":0},{"$error":"#N/A"},{"$error":"#N/A"}]
[{"$f":"'[2]Inventário Completo'!$C687","v":0},{"$f":"'[2]Inventário Completo'!$D687","v":0},{"$f":"'[2]Inventário Completo'!$G687","v":0},{"$error":"#N/A"},{"$error":"#N/A"}]
[{"$f":"'[2]Inventário Completo'!$C688","v":0},{"$f":"'[2]Inventário Completo'!$D688","v":0},{"$f":"'[2]Inventário Completo'!$G688","v":0},{"$error":"#N/A"},{"$error":"#N/A"}]
[{"$f":"'[2]Inventário Completo'!$C689","v":0},{"$f":"'[2]Inventário Completo'!$D689","v":0},{"$f":"'[2]Inventário Completo'!$G689","v":0},{"$error":"#N/A"},{"$error":"#N/A"}]
[{"$f":"'[2]Inventário Completo'!$C690","v":0},{"$f":"'[2]Inventário Completo'!$D690","v":0},{"$f":"'[2]Inventário Completo'!$G690","v":0},{"$error":"#N/A"},{"$error":"#N/A"}]
[{"$f":"'[2]Inventário Completo'!$C691","v":0},{"$f":"'[2]Inventário Completo'!$D691","v":0},{"$f":"'[2]Inventário Completo'!$G691","v":0},{"$error":"#N/A"},{"$error":"#N/A"}]
[{"$f":"'[2]Inventário Completo'!$C692","v":0},{"$f":"'[2]Inventário Completo'!$D692","v":0},{"$f":"'[2]Inventário Completo'!$G692","v":0},{"$error":"#N/A"},{"$error":"#N/A"}]
[{"$f":"'[2]Inventário Completo'!$C693","v":0},{"$f":"'[2]Inventário Completo'!$D693","v":0},{"$f":"'[2]Inventário Completo'!$G693","v":0},{"$error":"#N/A"},{"$error":"#N/A"}]
[{"$f":"'[2]Inventário Completo'!$C694","v":0},{"$f":"'[2]Inventário Completo'!$D694","v":0},{"$f":"'[2]Inventário Completo'!$G694","v":0},{"$error":"#N/A"},{"$error":"#N/A"}]
[{"$f":"'[2]Inventário Completo'!$C695","v":0},{"$f":"'[2]Inventário Completo'!$D695","v":0},{"$f":"'[2]Inventário Completo'!$G695","v":0},{"$error":"#N/A"},{"$error":"#N/A"}]
[{"$f":"'[2]Inventário Completo'!$C696","v":0},{"$f":"'[2]Inventário Completo'!$D696","v":0},{"$f":"'[2]Inventário Completo'!$G696","v":0},{"$error":"#N/A"},{"$error":"#N/A"}]
[{"$f":"'[2]Inventário Completo'!$C697","v":0},{"$f":"'[2]Inventário Completo'!$D697","v":0},{"$f":"'[2]Inventário Completo'!$G697","v":0},{"$error":"#N/A"},{"$error":"#N/A"}]
[{"$f":"'[2]Inventário Completo'!$C698","v":0},{"$f":"'[2]Inventário Completo'!$D698","v":0},{"$f":"'[2]Inventário Completo'!$G698","v":0},{"$error":"#N/A"},{"$error":"#N/A"}]
[{"$f":"'[2]Inventário Completo'!$C699","v":0},{"$f":"'[2]Inventário Completo'!$D699","v":0},{"$f":"'[2]Inventário Completo'!$G699","v":0},{"$error":"#N/A"},{"$error":"#N/A"}]
[{"$f":"'[2]Inventário Completo'!$C700","v":0},{"$f":"'[2]Inventário Completo'!$D700","v":0},{"$f":"'[2]Inventário Completo'!$G700","v":0},{"$error":"#N/A"},{"$error":"#N/A"}]
[{"$f":"'[2]Inventário Completo'!$C701","v":0},{"$f":"'[2]Inventário Completo'!$D701","v":0},{"$f":"'[2]Inventário Completo'!$G701","v":0},{"$error":"#N/A"},{"$error":"#N/A"}]
[{"$f":"'[2]Inventário Completo'!$C702","v":0},{"$f":"'[2]Inventário Completo'!$D702","v":0},{"$f":"'[2]Inventário Completo'!$G702","v":0},{"$error":"#N/A"},{"$error":"#N/A"}]
[{"$f":"'[2]Inventário Completo'!$C703","v":0},{"$f":"'[2]Inventário Completo'!$D703","v":0},{"$f":"'[2]Inventário Completo'!$G703","v":0},{"$error":"#N/A"},{"$error":"#N/A"}]
[{"$f":"'[2]Inventário Completo'!$C704","v":0},{"$f":"'[2]Inventário Completo'!$D704","v":0},{"$f":"'[2]Inventário Completo'!$G704","v":0},{"$error":"#N/A"},{"$error":"#N/A"}]
[{"$f":"'[2]Inventário Completo'!$C705","v":0},{"$f":"'[2]Inventário Completo'!$D705","v":0},{"$f":"'[2]Inventário Completo'!$G705","v":0},{"$error":"#N/A"},{"$error":"#N/A"}]
[{"$f":"'[2]Inventário Completo'!$C706","v":0},{"$f":"'[2]Inventário Completo'!$D706","v":0},{"$f":"'[2]Inventário Completo'!$G706","v":0},{"$error":"#N/A"},{"$error":"#N/A"}]
[{"$f":"'[2]Inventário Completo'!$C707","v":0},{"$f":"'[2]Inventário Completo'!$D707","v":0},{"$f":"'[2]Inventário Completo'!$G707","v":0},{"$error":"#N/A"},{"$error":"#N/A"}]
[{"$f":"'[2]Inventário Completo'!$C708","v":0},{"$f":"'[2]Inventário Completo'!$D708","v":0},{"$f":"'[2]Inventário Completo'!$G708","v":0},{"$error":"#N/A"},{"$error":"#N/A"}]
[{"$f":"'[2]Inventário Completo'!$C709","v":0},{"$f":"'[2]Inventário Completo'!$D709","v":0},{"$f":"'[2]Inventário Completo'!$G709","v":0},{"$error":"#N/A"},{"$error":"#N/A"}]
[{"$f":"'[2]Inventário Completo'!$C710","v":0},{"$f":"'[2]Inventário Completo'!$D710","v":0},{"$f":"'[2]Inventário Completo'!$G710","v":0},{"$error":"#N/A"},{"$error":"#N/A"}]
[{"$f":"'[2]Inventário Completo'!$C711","v":0},{"$f":"'[2]Inventário Completo'!$D711","v":0},{"$f":"'[2]Inventário Completo'!$G711","v":0},{"$error":"#N/A"},{"$error":"#N/A"}]
[{"$f":"'[2]Inventário Completo'!$C712","v":0},{"$f":"'[2]Inventário Completo'!$D712","v":0},{"$f":"'[2]Inventário Completo'!$G712","v":0},{"$error":"#N/A"},{"$error":"#N/A"}]
[{"$f":"'[2]Inventário Completo'!$C713","v":0},{"$f":"'[2]Inventário Completo'!$D713","v":0},{"$f":"'[2]Inventário Completo'!$G713","v":0},{"$f":"VLOOKUP(C707,$G$1:$I$25,3,0)","v":{"$error":"#N/A"}},{"$f":"IF(D707=1,C707,0)","v":{"$error":"#N/A"}}]
[{"$f":"'[2]Inventário Completo'!$C714","v":0},{"$f":"'[2]Inventário Completo'!$D714","v":0},{"$f":"'[2]Inventário Completo'!$G714","v":0},{"$error":"#N/A"},{"$error":"#N/A"}]
[{"$f":"'[2]Inventário Completo'!$C715","v":0},{"$f":"'[2]Inventário Completo'!$D715","v":0},{"$f":"'[2]Inventário Completo'!$G715","v":0},{"$error":"#N/A"},{"$error":"#N/A"}]
[{"$f":"'[2]Inventário Completo'!$C716","v":0},{"$f":"'[2]Inventário Completo'!$D716","v":0},{"$f":"'[2]Inventário Completo'!$G716","v":0},{"$error":"#N/A"},{"$error":"#N/A"}]
[{"$f":"'[2]Inventário Completo'!$C717","v":0},{"$f":"'[2]Inventário Completo'!$D717","v":0},{"$f":"'[2]Inventário Completo'!$G717","v":0},{"$error":"#N/A"},{"$error":"#N/A"}]
[{"$f":"'[2]Inventário Completo'!$C718","v":0},{"$f":"'[2]Inventário Completo'!$D718","v":0},{"$f":"'[2]Inventário Completo'!$G718","v":0},{"$error":"#N/A"},{"$error":"#N/A"}]
[{"$f":"'[2]Inventário Completo'!$C719","v":0},{"$f":"'[2]Inventário Completo'!$D719","v":0},{"$f":"'[2]Inventário Completo'!$G719","v":0},{"$error":"#N/A"},{"$error":"#N/A"}]
[{"$f":"'[2]Inventário Completo'!$C720","v":0},{"$f":"'[2]Inventário Completo'!$D720","v":0},{"$f":"'[2]Inventário Completo'!$G720","v":0},{"$error":"#N/A"},{"$error":"#N/A"}]
[{"$f":"'[2]Inventário Completo'!$C721","v":0},{"$f":"'[2]Inventário Completo'!$D721","v":0},{"$f":"'[2]Inventário Completo'!$G721","v":0},{"$error":"#N/A"},{"$error":"#N/A"}]
[{"$f":"'[2]Inventário Completo'!$C722","v":0},{"$f":"'[2]Inventário Completo'!$D722","v":0},{"$f":"'[2]Inventário Completo'!$G722","v":0},{"$error":"#N/A"},{"$error":"#N/A"}]
[{"$f":"'[2]Inventário Completo'!$C723","v":0},{"$f":"'[2]Inventário Completo'!$D723","v":0},{"$f":"'[2]Inventário Completo'!$G723","v":0},{"$error":"#N/A"},{"$error":"#N/A"}]
[{"$f":"'[2]Inventário Completo'!$C724","v":0},{"$f":"'[2]Inventário Completo'!$D724","v":0},{"$f":"'[2]Inventário Completo'!$G724","v":0},{"$error":"#N/A"},{"$error":"#N/A"}]
[{"$f":"'[2]Inventário Completo'!$C725","v":0},{"$f":"'[2]Inventário Completo'!$D725","v":0},{"$f":"'[2]Inventário Completo'!$G725","v":0},{"$error":"#N/A"},{"$error":"#N/A"}]
[{"$f":"'[2]Inventário Completo'!$C726","v":0},{"$f":"'[2]Inventário Completo'!$D726","v":0},{"$f":"'[2]Inventário Completo'!$G726","v":0},{"$error":"#N/A"},{"$error":"#N/A"}]
[{"$f":"'[2]Inventário Completo'!$C727","v":0},{"$f":"'[2]Inventário Completo'!$D727","v":0},{"$f":"'[2]Inventário Completo'!$G727","v":0},{"$error":"#N/A"},{"$error":"#N/A"}]
[{"$f":"'[2]Inventário Completo'!$C728","v":0},{"$f":"'[2]Inventário Completo'!$D728","v":0},{"$f":"'[2]Inventário Completo'!$G728","v":0},{"$error":"#N/A"},{"$error":"#N/A"}]
[{"$f":"'[2]Inventário Completo'!$C729","v":0},{"$f":"'[2]Inventário Completo'!$D729","v":0},{"$f":"'[2]Inventário Completo'!$G729","v":0},{"$error":"#N/A"},{"$error":"#N/A"}]
[{"$f":"'[2]Inventário Completo'!$C730","v":0},{"$f":"'[2]Inventário Completo'!$D730","v":0},{"$f":"'[2]Inventário Completo'!$G730","v":0},{"$error":"#N/A"},{"$error":"#N/A"}]
[{"$f":"'[2]Inventário Completo'!$C731","v":0},{"$f":"'[2]Inventário Completo'!$D731","v":0},{"$f":"'[2]Inventário Completo'!$G731","v":0},{"$error":"#N/A"},{"$error":"#N/A"}]
[{"$f":"'[2]Inventário Completo'!$C732","v":0},{"$f":"'[2]Inventário Completo'!$D732","v":0},{"$f":"'[2]Inventário Completo'!$G732","v":0},{"$error":"#N/A"},{"$error":"#N/A"}]
[{"$f":"'[2]Inventário Completo'!$C733","v":0},{"$f":"'[2]Inventário Completo'!$D733","v":0},{"$f":"'[2]Inventário Completo'!$G733","v":0},{"$error":"#N/A"},{"$error":"#N/A"}]
[{"$f":"'[2]Inventário Completo'!$C734","v":0},{"$f":"'[2]Inventário Completo'!$D734","v":0},{"$f":"'[2]Inventário Completo'!$G734","v":0},{"$error":"#N/A"},{"$error":"#N/A"}]
[{"$f":"'[2]Inventário Completo'!$C735","v":0},{"$f":"'[2]Inventário Completo'!$D735","v":0},{"$f":"'[2]Inventário Completo'!$G735","v":0},{"$error":"#N/A"},{"$error":"#N/A"}]
[{"$f":"'[2]Inventário Completo'!$C736","v":0},{"$f":"'[2]Inventário Completo'!$D736","v":0},{"$f":"'[2]Inventário Completo'!$G736","v":0},{"$error":"#N/A"},{"$error":"#N/A"}]
[{"$f":"'[2]Inventário Completo'!$C737","v":0},{"$f":"'[2]Inventário Completo'!$D737","v":0},{"$f":"'[2]Inventário Completo'!$G737","v":0},{"$error":"#N/A"},{"$error":"#N/A"}]
[{"$f":"'[2]Inventário Completo'!$C738","v":0},{"$f":"'[2]Inventário Completo'!$D738","v":0},{"$f":"'[2]Inventário Completo'!$G738","v":0},{"$error":"#N/A"},{"$error":"#N/A"}]
[{"$f":"'[2]Inventário Completo'!$C739","v":0},{"$f":"'[2]Inventário Completo'!$D739","v":0},{"$f":"'[2]Inventário Completo'!$G739","v":0},{"$error":"#N/A"},{"$error":"#N/A"}]
[{"$f":"'[2]Inventário Completo'!$C740","v":0},{"$f":"'[2]Inventário Completo'!$D740","v":0},{"$f":"'[2]Inventário Completo'!$G740","v":0},{"$error":"#N/A"},{"$error":"#N/A"}]
[{"$f":"'[2]Inventário Completo'!$C741","v":0},{"$f":"'[2]Inventário Completo'!$D741","v":0},{"$f":"'[2]Inventário Completo'!$G741","v":0},{"$error":"#N/A"},{"$error":"#N/A"}]
[{"$f":"'[2]Inventário Completo'!$C742","v":0},{"$f":"'[2]Inventário Completo'!$D742","v":0},{"$f":"'[2]Inventário Completo'!$G742","v":0},{"$error":"#N/A"},{"$error":"#N/A"}]
[{"$f":"'[2]Inventário Completo'!$C743","v":0},{"$f":"'[2]Inventário Completo'!$D743","v":0},{"$f":"'[2]Inventário Completo'!$G743","v":0},{"$error":"#N/A"},{"$error":"#N/A"}]
[{"$f":"'[2]Inventário Completo'!$C744","v":0},{"$f":"'[2]Inventário Completo'!$D744","v":0},{"$f":"'[2]Inventário Completo'!$G744","v":0},{"$error":"#N/A"},{"$error":"#N/A"}]
[{"$f":"'[2]Inventário Completo'!$C745","v":0},{"$f":"'[2]Inventário Completo'!$D745","v":0},{"$f":"'[2]Inventário Completo'!$G745","v":0},{"$error":"#N/A"},{"$error":"#N/A"}]
[{"$f":"'[2]Inventário Completo'!$C746","v":0},{"$f":"'[2]Inventário Completo'!$D746","v":0},{"$f":"'[2]Inventário Completo'!$G746","v":0},{"$error":"#N/A"},{"$error":"#N/A"}]
[{"$f":"'[2]Inventário Completo'!$C747","v":0},{"$f":"'[2]Inventário Completo'!$D747","v":0},{"$f":"'[2]Inventário Completo'!$G747","v":0},{"$error":"#N/A"},{"$error":"#N/A"}]
[{"$f":"'[2]Inventário Completo'!$C748","v":0},{"$f":"'[2]Inventário Completo'!$D748","v":0},{"$f":"'[2]Inventário Completo'!$G748","v":0},{"$error":"#N/A"},{"$error":"#N/A"}]
[{"$f":"'[2]Inventário Completo'!$C749","v":0},{"$f":"'[2]Inventário Completo'!$D749","v":0},{"$f":"'[2]Inventário Completo'!$G749","v":0},{"$error":"#N/A"},{"$error":"#N/A"}]
[{"$f":"'[2]Inventário Completo'!$C750","v":0},{"$f":"'[2]Inventário Completo'!$D750","v":0},{"$f":"'[2]Inventário Completo'!$G750","v":0},{"$error":"#N/A"},{"$error":"#N/A"}]
[{"$f":"'[2]Inventário Completo'!$C751","v":0},{"$f":"'[2]Inventário Completo'!$D751","v":0},{"$f":"'[2]Inventário Completo'!$G751","v":0},{"$error":"#N/A"},{"$error":"#N/A"}]
[{"$f":"'[2]Inventário Completo'!$C752","v":0},{"$f":"'[2]Inventário Completo'!$D752","v":0},{"$f":"'[2]Inventário Completo'!$G752","v":0},{"$error":"#N/A"},{"$error":"#N/A"}]
[{"$f":"'[2]Inventário Completo'!$C753","v":0},{"$f":"'[2]Inventário Completo'!$D753","v":0},{"$f":"'[2]Inventário Completo'!$G753","v":0},{"$error":"#N/A"},{"$error":"#N/A"}]
[{"$f":"'[2]Inventário Completo'!$C754","v":0},{"$f":"'[2]Inventário Completo'!$D754","v":0},{"$f":"'[2]Inventário Completo'!$G754","v":0},{"$error":"#N/A"},{"$error":"#N/A"}]
[{"$f":"'[2]Inventário Completo'!$C755","v":0},{"$f":"'[2]Inventário Completo'!$D755","v":0},{"$f":"'[2]Inventário Completo'!$G755","v":0},{"$error":"#N/A"},{"$error":"#N/A"}]
[{"$f":"'[2]Inventário Completo'!$C756","v":0},{"$f":"'[2]Inventário Completo'!$D756","v":0},{"$f":"'[2]Inventário Completo'!$G756","v":0},{"$error":"#N/A"},{"$error":"#N/A"}]
[null,{"$f":"'[2]Inventário Completo'!$D757","v":0},{"$f":"'[2]Inventário Completo'!$G757","v":0},{"$error":"#N/A"},{"$error":"#N/A"}]
[null,{"$f":"'[2]Inventário Completo'!$D758","v":0},{"$f":"'[2]Inventário Completo'!$G758","v":0},{"$error":"#N/A"},{"$error":"#N/A"}]
[null,{"$f":"'[2]Inventário Completo'!$D759","v":0},{"$f":"'[2]Inventário Completo'!$G759","v":0},{"$error":"#N/A"},{"$error":"#N/A"}]
[null,{"$f":"'[2]Inventário Completo'!$D760","v":0},{"$f":"'[2]Inventário Completo'!$G760","v":0},{"$error":"#N/A"},{"$error":"#N/A"}]
[null,{"$f":"'[2]Inventário Completo'!$D761","v":0},{"$f":"'[2]Inventário Completo'!$G761","v":0},{"$error":"#N/A"},{"$error":"#N/A"}]
[null,{"$f":"'[2]Inventário Completo'!$D762","v":0},{"$f":"'[2]Inventário Completo'!$G762","v":0},{"$error":"#N/A"},{"$error":"#N/A"}]
[null,{"$f":"'[2]Inventário Completo'!$D763","v":0},{"$f":"'[2]Inventário Completo'!$G763","v":0},{"$error":"#N/A"},{"$error":"#N/A"}]
[null,{"$f":"'[2]Inventário Completo'!$D764","v":0},{"$f":"'[2]Inventário Completo'!$G764","v":0},{"$error":"#N/A"},{"$error":"#N/A"}]
[null,{"$f":"'[2]Inventário Completo'!$D765","v":0},{"$f":"'[2]Inventário Completo'!$G765","v":0},{"$error":"#N/A"},{"$error":"#N/A"}]
[null,{"$f":"'[2]Inventário Completo'!$D766","v":0},{"$f":"'[2]Inventário Completo'!$G766","v":0},{"$error":"#N/A"},{"$error":"#N/A"}]
[null,{"$f":"'[2]Inventário Completo'!$D767","v":0},{"$f":"'[2]Inventário Completo'!$G767","v":0},{"$error":"#N/A"},{"$error":"#N/A"}]
[null,{"$f":"'[2]Inventário Completo'!$D768","v":0},{"$f":"'[2]Inventário Completo'!$G768","v":0},{"$error":"#N/A"},{"$error":"#N/A"}]
[null,{"$f":"'[2]Inventário Completo'!$D769","v":0},{"$f":"'[2]Inventário Completo'!$G769","v":0},{"$error":"#N/A"},{"$error":"#N/A"}]
[null,{"$f":"'[2]Inventário Completo'!$D770","v":0},{"$f":"'[2]Inventário Completo'!$G770","v":0},{"$error":"#N/A"},{"$error":"#N/A"}]
[null,{"$f":"'[2]Inventário Completo'!$D771","v":0},{"$f":"'[2]Inventário Completo'!$G771","v":0},{"$error":"#N/A"},{"$error":"#N/A"}]
[null,{"$f":"'[2]Inventário Completo'!$D772","v":0},{"$f":"'[2]Inventário Completo'!$G772","v":0},{"$error":"#N/A"},{"$error":"#N/A"}]
[null,{"$f":"'[2]Inventário Completo'!$D773","v":0},{"$f":"'[2]Inventário Completo'!$G773","v":0},{"$error":"#N/A"},{"$error":"#N/A"}]
[null,{"$f":"'[2]Inventário Completo'!$D774","v":0},{"$f":"'[2]Inventário Completo'!$G774","v":0},{"$error":"#N/A"},{"$error":"#N/A"}]
[null,{"$f":"'[2]Inventário Completo'!$D775","v":0},{"$f":"'[2]Inventário Completo'!$G775","v":0},{"$error":"#N/A"},{"$error":"#N/A"}]
[null,{"$f":"'[2]Inventário Completo'!$D776","v":0},{"$f":"'[2]Inventário Completo'!$G776","v":0},{"$error":"#N/A"},{"$error":"#N/A"}]
[null,{"$f":"'[2]Inventário Completo'!$D777","v":0},{"$f":"'[2]Inventário Completo'!$G777","v":0},{"$f":"VLOOKUP(C771,$G$1:$I$25,3,0)","v":{"$error":"#N/A"}},{"$f":"IF(D771=1,C771,0)","v":{"$error":"#N/A"}}]
[null,{"$f":"'[2]Inventário Completo'!$D778","v":0},{"$f":"'[2]Inventário Completo'!$G778","v":0},{"$error":"#N/A"},{"$error":"#N/A"}]
[null,{"$f":"'[2]Inventário Completo'!$D779","v":0},{"$f":"'[2]Inventário Completo'!$G779","v":0},{"$error":"#N/A"},{"$error":"#N/A"}]
[null,{"$f":"'[2]Inventário Completo'!$D780","v":0},{"$f":"'[2]Inventário Completo'!$G780","v":0},{"$error":"#N/A"},{"$error":"#N/A"}]
[null,{"$f":"'[2]Inventário Completo'!$D781","v":0},{"$f":"'[2]Inventário Completo'!$G781","v":0},{"$error":"#N/A"},{"$error":"#N/A"}]
[null,{"$f":"'[2]Inventário Completo'!$D782","v":0},{"$f":"'[2]Inventário Completo'!$G782","v":0},{"$error":"#N/A"},{"$error":"#N/A"}]
[null,{"$f":"'[2]Inventário Completo'!$D783","v":0},{"$f":"'[2]Inventário Completo'!$G783","v":0},{"$error":"#N/A"},{"$error":"#N/A"}]
[null,{"$f":"'[2]Inventário Completo'!$D784","v":0},{"$f":"'[2]Inventário Completo'!$G784","v":0},{"$error":"#N/A"},{"$error":"#N/A"}]
[null,{"$f":"'[2]Inventário Completo'!$D785","v":0},{"$f":"'[2]Inventário Completo'!$G785","v":0},{"$error":"#N/A"},{"$error":"#N/A"}]
[null,{"$f":"'[2]Inventário Completo'!$D786","v":0},{"$f":"'[2]Inventário Completo'!$G786","v":0},{"$error":"#N/A"},{"$error":"#N/A"}]
[null,{"$f":"'[2]Inventário Completo'!$D787","v":0},{"$f":"'[2]Inventário Completo'!$G787","v":0},{"$error":"#N/A"},{"$error":"#N/A"}]
[null,{"$f":"'[2]Inventário Completo'!$D788","v":0},{"$f":"'[2]Inventário Completo'!$G788","v":0},{"$error":"#N/A"},{"$error":"#N/A"}]
[null,{"$f":"'[2]Inventário Completo'!$D789","v":0},{"$f":"'[2]Inventário Completo'!$G789","v":0},{"$error":"#N/A"},{"$error":"#N/A"}]
[null,{"$f":"'[2]Inventário Completo'!$D790","v":0},{"$f":"'[2]Inventário Completo'!$G790","v":0},{"$error":"#N/A"},{"$error":"#N/A"}]
[null,{"$f":"'[2]Inventário Completo'!$D791","v":0},{"$f":"'[2]Inventário Completo'!$G791","v":0},{"$error":"#N/A"},{"$error":"#N/A"}]
[null,{"$f":"'[2]Inventário Completo'!$D792","v":0},{"$f":"'[2]Inventário Completo'!$G792","v":0},{"$error":"#N/A"},{"$error":"#N/A"}]
[null,{"$f":"'[2]Inventário Completo'!$D793","v":0},{"$f":"'[2]Inventário Completo'!$G793","v":0},{"$error":"#N/A"},{"$error":"#N/A"}]
[null,{"$f":"'[2]Inventário Completo'!$D794","v":0},{"$f":"'[2]Inventário Completo'!$G794","v":0},{"$error":"#N/A"},{"$error":"#N/A"}]
[null,{"$f":"'[2]Inventário Completo'!$D795","v":0},{"$f":"'[2]Inventário Completo'!$G795","v":0},{"$error":"#N/A"},{"$error":"#N/A"}]
[null,{"$f":"'[2]Inventário Completo'!$D796","v":0},{"$f":"'[2]Inventário Completo'!$G796","v":0},{"$error":"#N/A"},{"$error":"#N/A"}]
[null,{"$f":"'[2]Inventário Completo'!$D797","v":0},{"$f":"'[2]Inventário Completo'!$G797","v":0},{"$error":"#N/A"},{"$error":"#N/A"}]
[null,{"$f":"'[2]Inventário Completo'!$D798","v":0},{"$f":"'[2]Inventário Completo'!$G798","v":0},{"$error":"#N/A"},{"$error":"#N/A"}]
[null,{"$f":"'[2]Inventário Completo'!$D799","v":0},{"$f":"'[2]Inventário Completo'!$G799","v":0},{"$error":"#N/A"},{"$error":"#N/A"}]
[null,{"$f":"'[2]Inventário Completo'!$D800","v":0},{"$f":"'[2]Inventário Completo'!$G800","v":0},{"$error":"#N/A"},{"$error":"#N/A"}]
[null,{"$f":"'[2]Inventário Completo'!$D801","v":0},{"$f":"'[2]Inventário Completo'!$G801","v":0},{"$error":"#N/A"},{"$error":"#N/A"}]
[null,{"$f":"'[2]Inventário Completo'!$D802","v":0},{"$f":"'[2]Inventário Completo'!$G802","v":0},{"$error":"#N/A"},{"$error":"#N/A"}]
[null,{"$f":"'[2]Inventário Completo'!$D803","v":0},{"$f":"'[2]Inventário Completo'!$G803","v":0},{"$error":"#N/A"},{"$error":"#N/A"}]
[null,{"$f":"'[2]Inventário Completo'!$D804","v":0},{"$f":"'[2]Inventário Completo'!$G804","v":0},{"$error":"#N/A"},{"$error":"#N/A"}]
[null,{"$f":"'[2]Inventário Completo'!$D805","v":0},{"$f":"'[2]Inventário Completo'!$G805","v":0},{"$error":"#N/A"},{"$error":"#N/A"}]
[null,{"$f":"'[2]Inventário Completo'!$D806","v":0},{"$f":"'[2]Inventário Completo'!$G806","v":0},{"$error":"#N/A"},{"$error":"#N/A"}]