{"text_format":"1","workbook":"xlsx","n_sheets":2,"sheets":["SI_Ind","Screw"],"not_rendered":{"charts":0,"images":0,"macros":1,"external_links":0,"defined_names":16,"comments":0,"pivot_tables":0},"unopened":[],"bounds":{"document_bytes":16777216,"sheet_cells":100000,"rows_first":2000,"rows_last":500,"rows_between":2000,"halvings":0,"cell_chars":16384,"cell_head_chars":4096},"cells_cut":0,"cells_raw":0,"read":"whole","date_system":"1900"}

{"sheet":"SI_Ind","index":0,"n_rows":493,"n_cols":26,"rows_kept":493,"cut":false,"hidden":false,"merged":[[1,11,2,13],[1,14,2,16],[1,19,2,25],[1,17,2,18]]}
[null,null,null,null,null,null,null,null,null,null,null,null,null,null,null,null,null,null,null,null,null,{"$f":"NOW()","v":"2023-06-24T08:01:47.980"}]
[null,null,null,null,null,null,null,null,null,null,null,"Supervisor de Produção",null,null,"Automatic",null,null,"PC&L",null,"Prep. Lotes"]
[]
[null,null,null,null,null,null,null,null,null,null,null,"Machine","WorkDay","Batch ID","Part Number","2023-11-05T14:38:00","# Pieces","URGENTE","Delivery Date","Op.Prep.","Prep. (Y/N)","Date/Time","Anode","Cathode","Paper","Comments"]
[{"$f":"L5&LEFT(P5,3)&B5","v":{"$error":"#REF!"}},{"$f":"IF(VLOOKUP(M5,#REF!,2,FALSE)<=#REF!+1,\"OK\",\"X\")","v":{"$error":"#REF!"}},{"$f":"IF(P5=\"start dummy operation\",0,1)","v":1},{"$f":"IF(U5=\"Y\",1,0)","v":1},{"$f":"SUM(C5:D5)","v":2},{"$f":"IF(E5>0,\"OK\",\"X2\")","v":"OK"},{"$f":"WEEKDAY(V5)&T5","v":"7"},{"$f":"L5&M5","v":"2Thursday_n-1"},{"$f":"M5&L5&U5","v":"Thursday_n-12y"},{"$f":"M5&L5&F5","v":"Thursday_n-12OK"},null,2,"Thursday_n-1",23222166,{"$f":"IFERROR(VLOOKUP(N5,#REF!,3,FALSE),\"_\")","v":"_"},{"$f":"IFERROR(VLOOKUP(N5,#REF!,7,FALSE),\"_\")","v":"_"},{"$f":"IFERROR(VLOOKUP(N5,#REF!,12,FALSE),\"_\")","v":"_"},{"$f":"IFERROR(VLOOKUP(N5,#REF!,3,FALSE),\"\")","v":""},{"$f":"IFERROR(VLOOKUP(N5,#REF!,2,FALSE),\"\")","v":""},null,"y"]
[{"$f":"L6&LEFT(P6,3)&B6","v":{"$error":"#REF!"}},{"$f":"IF(VLOOKUP(M6,#REF!,2,FALSE)<=#REF!+1,\"OK\",\"X\")","v":{"$error":"#REF!"}},{"$f":"IF(P6=\"start dummy operation\",0,1)","v":1},{"$f":"IF(U6=\"Y\",1,0)","v":1},{"$f":"SUM(C6:D6)","v":2},{"$f":"IF(E6>0,\"OK\",\"X2\")","v":"OK"},{"$f":"WEEKDAY(V6)&T6","v":"7"},{"$f":"L6&M6","v":"2Thursday_n-1"},{"$f":"M6&L6&U6","v":"Thursday_n-12y"},{"$f":"M6&L6&F6","v":"Thursday_n-12OK"},null,2,"Thursday_n-1",23222165,{"$f":"IFERROR(VLOOKUP(N6,#REF!,3,FALSE),\"_\")","v":"_"},{"$f":"IFERROR(VLOOKUP(N6,#REF!,7,FALSE),\"_\")","v":"_"},{"$f":"IFERROR(VLOOKUP(N6,#REF!,12,FALSE),\"_\")","v":"_"},{"$f":"IFERROR(VLOOKUP(N6,#REF!,3,FALSE),\"\")","v":""},{"$f":"IFERROR(VLOOKUP(N6,#REF!,2,FALSE),\"\")","v":""},null,"y"]
[{"$error":"#REF!"},{"$f":"IF(VLOOKUP(M7,#REF!,2,FALSE)<=#REF!+1,\"OK\",\"X\")","v":{"$error":"#REF!"}},1,1,2,"OK","7","2Thursday_n-1","Thursday_n-12y","Thursday_n-12OK",null,2,"Thursday_n-1",23222167,{"$f":"IFERROR(VLOOKUP(N7,#REF!,3,FALSE),\"_\")","v":"_"},{"$f":"IFERROR(VLOOKUP(N7,#REF!,7,FALSE),\"_\")","v":"_"},{"$f":"IFERROR(VLOOKUP(N7,#REF!,12,FALSE),\"_\")","v":"_"},{"$f":"IFERROR(VLOOKUP(N7,#REF!,3,FALSE),\"\")","v":""},{"$f":"IFERROR(VLOOKUP(N7,#REF!,2,FALSE),\"\")","v":""},null,"y"]
[{"$error":"#REF!"},{"$f":"IF(VLOOKUP(M8,#REF!,2,FALSE)<=#REF!+1,\"OK\",\"X\")","v":{"$error":"#REF!"}},1,1,2,"OK","7Joao Cebola","2Thursday_n-1","Thursday_n-12Y","Thursday_n-12OK",null,2,"Thursday_n-1",23212162,{"$f":"IFERROR(VLOOKUP(N8,#REF!,3,FALSE),\"_\")","v":"_"},{"$f":"IFERROR(VLOOKUP(N8,#REF!,7,FALSE),\"_\")","v":"_"},{"$f":"IFERROR(VLOOKUP(N8,#REF!,12,FALSE),\"_\")","v":"_"},{"$f":"IFERROR(VLOOKUP(N8,#REF!,3,FALSE),\"\")","v":""},{"$f":"IFERROR(VLOOKUP(N8,#REF!,2,FALSE),\"\")","v":""},"Joao Cebola","Y"]
[{"$error":"#REF!"},{"$f":"IF(VLOOKUP(M9,#REF!,2,FALSE)<=#REF!+1,\"OK\",\"X\")","v":{"$error":"#REF!"}},1,1,2,"OK","7Paulo M.","2Friday_n-1","Friday_n-12Y","Friday_n-12OK",null,2,"Friday_n-1",23232082,{"$f":"IFERROR(VLOOKUP(N9,#REF!,3,FALSE),\"_\")","v":"_"},{"$f":"IFERROR(VLOOKUP(N9,#REF!,7,FALSE),\"_\")","v":"_"},{"$f":"IFERROR(VLOOKUP(N9,#REF!,12,FALSE),\"_\")","v":"_"},{"$f":"IFERROR(VLOOKUP(N9,#REF!,3,FALSE),\"\")","v":""},{"$f":"IFERROR(VLOOKUP(N9,#REF!,2,FALSE),\"\")","v":""},"Paulo M.","Y"]
[{"$error":"#REF!"},{"$f":"IF(VLOOKUP(M10,#REF!,2,FALSE)<=#REF!+1,\"OK\",\"X\")","v":{"$error":"#REF!"}},1,1,2,"OK","7Paulo M.","2Friday_n-1","Friday_n-12Y","Friday_n-12OK",null,2,"Friday_n-1",23232083,{"$f":"IFERROR(VLOOKUP(N10,#REF!,3,FALSE),\"_\")","v":"_"},{"$f":"IFERROR(VLOOKUP(N10,#REF!,7,FALSE),\"_\")","v":"_"},{"$f":"IFERROR(VLOOKUP(N10,#REF!,12,FALSE),\"_\")","v":"_"},{"$f":"IFERROR(VLOOKUP(N10,#REF!,3,FALSE),\"\")","v":""},{"$f":"IFERROR(VLOOKUP(N10,#REF!,2,FALSE),\"\")","v":""},"Paulo M.","Y"]
[{"$error":"#REF!"},{"$f":"IF(VLOOKUP(M11,#REF!,2,FALSE)<=#REF!+1,\"OK\",\"X\")","v":{"$error":"#REF!"}},1,0,1,"OK","7Paulo M.","2Friday_n-1","Friday_n-12n","Friday_n-12OK",null,2,"Friday_n-1",23232084,{"$f":"IFERROR(VLOOKUP(N11,#REF!,3,FALSE),\"_\")","v":"_"},{"$f":"IFERROR(VLOOKUP(N11,#REF!,7,FALSE),\"_\")","v":"_"},{"$f":"IFERROR(VLOOKUP(N11,#REF!,12,FALSE),\"_\")","v":"_"},{"$f":"IFERROR(VLOOKUP(N11,#REF!,3,FALSE),\"\")","v":""},{"$f":"IFERROR(VLOOKUP(N11,#REF!,2,FALSE),\"\")","v":""},"Paulo M.","n",null,null,null,"4070D074","OK"]
[{"$error":"#REF!"},{"$f":"IF(VLOOKUP(M12,#REF!,2,FALSE)<=#REF!+1,\"OK\",\"X\")","v":{"$error":"#REF!"}},1,1,2,"OK","7Paulo M.","2Friday_n-1","Friday_n-12Y","Friday_n-12OK",null,2,"Friday_n-1",23202140,{"$f":"IFERROR(VLOOKUP(N12,#REF!,3,FALSE),\"_\")","v":"_"},{"$f":"IFERROR(VLOOKUP(N12,#REF!,7,FALSE),\"_\")","v":"_"},{"$f":"IFERROR(VLOOKUP(N12,#REF!,12,FALSE),\"_\")","v":"_"},{"$f":"IFERROR(VLOOKUP(N12,#REF!,3,FALSE),\"\")","v":""},{"$f":"IFERROR(VLOOKUP(N12,#REF!,2,FALSE),\"\")","v":""},"Paulo M.","Y"]
[{"$error":"#REF!"},{"$f":"IF(VLOOKUP(M13,#REF!,2,FALSE)<=#REF!+1,\"OK\",\"X\")","v":{"$error":"#REF!"}},1,1,2,"OK","7Paulo M.","2Friday_n-1","Friday_n-12Y","Friday_n-12OK",null,2,"Friday_n-1",23202141,{"$f":"IFERROR(VLOOKUP(N13,#REF!,3,FALSE),\"_\")","v":"_"},{"$f":"IFERROR(VLOOKUP(N13,#REF!,7,FALSE),\"_\")","v":"_"},{"$f":"IFERROR(VLOOKUP(N13,#REF!,12,FALSE),\"_\")","v":"_"},{"$f":"IFERROR(VLOOKUP(N13,#REF!,3,FALSE),\"\")","v":""},{"$f":"IFERROR(VLOOKUP(N13,#REF!,2,FALSE),\"\")","v":""},"Paulo M.","Y"]
[{"$error":"#REF!"},{"$f":"IF(VLOOKUP(M14,#REF!,2,FALSE)<=#REF!+1,\"OK\",\"X\")","v":{"$error":"#REF!"}},1,1,2,"OK","7Paulo M.","2Saturday_n-1","Saturday_n-12Y","Saturday_n-12OK",null,2,"Saturday_n-1",23202142,{"$f":"IFERROR(VLOOKUP(N14,#REF!,3,FALSE),\"_\")","v":"_"},{"$f":"IFERROR(VLOOKUP(N14,#REF!,7,FALSE),\"_\")","v":"_"},{"$f":"IFERROR(VLOOKUP(N14,#REF!,12,FALSE),\"_\")","v":"_"},{"$f":"IFERROR(VLOOKUP(N14,#REF!,3,FALSE),\"\")","v":""},{"$f":"IFERROR(VLOOKUP(N14,#REF!,2,FALSE),\"\")","v":""},"Paulo M.","Y"]
[{"$error":"#REF!"},{"$f":"IF(VLOOKUP(M15,#REF!,2,FALSE)<=#REF!+1,\"OK\",\"X\")","v":{"$error":"#REF!"}},1,1,2,"OK","7Paulo M.","2Saturday_n-1","Saturday_n-12Y","Saturday_n-12OK",null,2,"Saturday_n-1",23212169,{"$f":"IFERROR(VLOOKUP(N15,#REF!,3,FALSE),\"_\")","v":"_"},{"$f":"IFERROR(VLOOKUP(N15,#REF!,7,FALSE),\"_\")","v":"_"},{"$f":"IFERROR(VLOOKUP(N15,#REF!,12,FALSE),\"_\")","v":"_"},{"$f":"IFERROR(VLOOKUP(N15,#REF!,3,FALSE),\"\")","v":""},{"$f":"IFERROR(VLOOKUP(N15,#REF!,2,FALSE),\"\")","v":""},"Paulo M.","Y"]
[{"$error":"#REF!"},{"$f":"IF(VLOOKUP(M16,#REF!,2,FALSE)<=#REF!+1,\"OK\",\"X\")","v":{"$error":"#REF!"}},1,1,2,"OK","7Paulo M.","2Saturday_n-1","Saturday_n-12Y","Saturday_n-12OK",null,2,"Saturday_n-1",23212171,{"$f":"IFERROR(VLOOKUP(N16,#REF!,3,FALSE),\"_\")","v":"_"},{"$f":"IFERROR(VLOOKUP(N16,#REF!,7,FALSE),\"_\")","v":"_"},{"$f":"IFERROR(VLOOKUP(N16,#REF!,12,FALSE),\"_\")","v":"_"},{"$f":"IFERROR(VLOOKUP(N16,#REF!,3,FALSE),\"\")","v":""},{"$f":"IFERROR(VLOOKUP(N16,#REF!,2,FALSE),\"\")","v":""},"Paulo M.","Y"]
[{"$error":"#REF!"},{"$f":"IF(VLOOKUP(M17,#REF!,2,FALSE)<=#REF!+1,\"OK\",\"X\")","v":{"$error":"#REF!"}},1,0,1,"OK","7Wagner Ferreira","2Saturday_n-1","Saturday_n-12N","Saturday_n-12OK",null,2,"Saturday_n-1",23252010,{"$f":"IFERROR(VLOOKUP(N17,#REF!,3,FALSE),\"_\")","v":"_"},{"$f":"IFERROR(VLOOKUP(N17,#REF!,7,FALSE),\"_\")","v":"_"},{"$f":"IFERROR(VLOOKUP(N17,#REF!,12,FALSE),\"_\")","v":"_"},{"$f":"IFERROR(VLOOKUP(N17,#REF!,3,FALSE),\"\")","v":""},{"$f":"IFERROR(VLOOKUP(N17,#REF!,2,FALSE),\"\")","v":""},"Wagner Ferreira","N",null,"110HL10760089",null,"3068D098","CAP GAIN SUPERIOR A PN"]
[{"$f":"L18&LEFT(P18,3)&B18","v":{"$error":"#REF!"}},{"$f":"IF(VLOOKUP(M18,#REF!,2,FALSE)<=#REF!+1,\"OK\",\"X\")","v":{"$error":"#REF!"}},{"$f":"IF(P18=\"start dummy operation\",0,1)","v":1},{"$f":"IF(U18=\"Y\",1,0)","v":0},{"$f":"SUM(C18:D18)","v":1},{"$f":"IF(E18>0,\"OK\",\"X2\")","v":"OK"},{"$f":"WEEKDAY(V18)&T18","v":"7Wagner Ferreira"},{"$f":"L18&M18","v":"2Saturday_n-1"},{"$f":"M18&L18&U18","v":"Saturday_n-12N"},{"$f":"M18&L18&F18","v":"Saturday_n-12OK"},null,2,"Saturday_n-1",23192088,{"$f":"IFERROR(VLOOKUP(N18,#REF!,3,FALSE),\"_\")","v":"_"},{"$f":"IFERROR(VLOOKUP(N18,#REF!,7,FALSE),\"_\")","v":"_"},{"$f":"IFERROR(VLOOKUP(N18,#REF!,12,FALSE),\"_\")","v":"_"},{"$f":"IFERROR(VLOOKUP(N18,#REF!,3,FALSE),\"\")","v":""},{"$f":"IFERROR(VLOOKUP(N18,#REF!,2,FALSE),\"\")","v":""},"Wagner Ferreira","N",null,null,null,"5030L089"]
[{"$error":"#REF!"},{"$f":"IF(VLOOKUP(M19,#REF!,2,FALSE)<=#REF!+1,\"OK\",\"X\")","v":{"$error":"#REF!"}},1,0,1,"OK","7Wagner Ferreira","2Saturday_n-1","Saturday_n-12N","Saturday_n-12OK",null,2,"Saturday_n-1",23172195,{"$f":"IFERROR(VLOOKUP(N19,#REF!,3,FALSE),\"_\")","v":"_"},{"$f":"IFERROR(VLOOKUP(N19,#REF!,7,FALSE),\"_\")","v":"_"},{"$f":"IFERROR(VLOOKUP(N19,#REF!,12,FALSE),\"_\")","v":"_"},{"$f":"IFERROR(VLOOKUP(N19,#REF!,3,FALSE),\"\")","v":""},{"$f":"IFERROR(VLOOKUP(N19,#REF!,2,FALSE),\"\")","v":""},"Wagner Ferreira","N",null,null,null,"5030L089"]
[{"$error":"#REF!"},{"$f":"IF(VLOOKUP(M20,#REF!,2,FALSE)<=#REF!+1,\"OK\",\"X\")","v":{"$error":"#REF!"}},1,0,1,"OK","7Wagner Ferreira","2Saturday_n-1","Saturday_n-12N","Saturday_n-12OK",null,2,"Saturday_n-1",23252011,{"$f":"IFERROR(VLOOKUP(N20,#REF!,3,FALSE),\"_\")","v":"_"},{"$f":"IFERROR(VLOOKUP(N20,#REF!,7,FALSE),\"_\")","v":"_"},{"$f":"IFERROR(VLOOKUP(N20,#REF!,12,FALSE),\"_\")","v":"_"},{"$f":"IFERROR(VLOOKUP(N20,#REF!,3,FALSE),\"\")","v":""},{"$f":"IFERROR(VLOOKUP(N20,#REF!,2,FALSE),\"\")","v":""},"Wagner Ferreira","N",null,null,null,"5030L096"]
[{"$error":"#REF!"},{"$f":"IF(VLOOKUP(M21,#REF!,2,FALSE)<=#REF!+1,\"OK\",\"X\")","v":{"$error":"#REF!"}},1,0,1,"OK","7Wagner Ferreira","2Saturday_n-1","Saturday_n-12N","Saturday_n-12OK",null,2,"Saturday_n-1",23252002,{"$f":"IFERROR(VLOOKUP(N21,#REF!,3,FALSE),\"_\")","v":"_"},{"$f":"IFERROR(VLOOKUP(N21,#REF!,7,FALSE),\"_\")","v":"_"},{"$f":"IFERROR(VLOOKUP(N21,#REF!,12,FALSE),\"_\")","v":"_"},{"$f":"IFERROR(VLOOKUP(N21,#REF!,3,FALSE),\"\")","v":""},{"$f":"IFERROR(VLOOKUP(N21,#REF!,2,FALSE),\"\")","v":""},"Wagner Ferreira","N",null,"Y110LN02087087"]
[{"$error":"#REF!"},{"$f":"IF(VLOOKUP(M22,#REF!,2,FALSE)<=#REF!+1,\"OK\",\"X\")","v":{"$error":"#REF!"}},1,1,2,"OK",{"$f":"WEEKDAY(V22)&T22","v":"7Wagner Ferreira"},{"$f":"L22&M22","v":"2Saturday_n-1"},{"$f":"M22&L22&U22","v":"Saturday_n-12Y"},{"$f":"M22&L22&F22","v":"Saturday_n-12OK"},null,2,"Saturday_n-1",23222177,{"$f":"IFERROR(VLOOKUP(N22,#REF!,3,FALSE),\"_\")","v":"_"},{"$f":"IFERROR(VLOOKUP(N22,#REF!,7,FALSE),\"_\")","v":"_"},{"$f":"IFERROR(VLOOKUP(N22,#REF!,12,FALSE),\"_\")","v":"_"},{"$f":"IFERROR(VLOOKUP(N22,#REF!,3,FALSE),\"\")","v":""},{"$f":"IFERROR(VLOOKUP(N22,#REF!,2,FALSE),\"\")","v":""},"Wagner Ferreira","Y"]
[{"$error":"#REF!"},{"$f":"IF(VLOOKUP(M23,#REF!,2,FALSE)<=#REF!+1,\"OK\",\"X\")","v":{"$error":"#REF!"}},1,1,2,"OK","7","2Sunday_n-1","Sunday_n-12y","Sunday_n-12OK",null,2,"Sunday_n-1",23222168,{"$f":"IFERROR(VLOOKUP(N23,#REF!,3,FALSE),\"_\")","v":"_"},{"$f":"IFERROR(VLOOKUP(N23,#REF!,7,FALSE),\"_\")","v":"_"},{"$f":"IFERROR(VLOOKUP(N23,#REF!,12,FALSE),\"_\")","v":"_"},{"$f":"IFERROR(VLOOKUP(N23,#REF!,3,FALSE),\"\")","v":""},{"$f":"IFERROR(VLOOKUP(N23,#REF!,2,FALSE),\"\")","v":""},null,"y"]
[{"$error":"#REF!"},{"$f":"IF(VLOOKUP(M24,#REF!,2,FALSE)<=#REF!+1,\"OK\",\"X\")","v":{"$error":"#REF!"}},1,1,2,"OK","7","2Sunday_n-1","Sunday_n-12y","Sunday_n-12OK",null,2,"Sunday_n-1",23222170,{"$f":"IFERROR(VLOOKUP(N24,#REF!,3,FALSE),\"_\")","v":"_"},{"$f":"IFERROR(VLOOKUP(N24,#REF!,7,FALSE),\"_\")","v":"_"},{"$f":"IFERROR(VLOOKUP(N24,#REF!,12,FALSE),\"_\")","v":"_"},{"$f":"IFERROR(VLOOKUP(N24,#REF!,3,FALSE),\"\")","v":""},{"$f":"IFERROR(VLOOKUP(N24,#REF!,2,FALSE),\"\")","v":""},null,"y"]
[{"$error":"#REF!"},{"$f":"IF(VLOOKUP(M25,#REF!,2,FALSE)<=#REF!+1,\"OK\",\"X\")","v":{"$error":"#REF!"}},1,1,2,"OK","7","2Sunday_n-1","Sunday_n-12y","Sunday_n-12OK",null,2,"Sunday_n-1",23222171,{"$f":"IFERROR(VLOOKUP(N25,#REF!,3,FALSE),\"_\")","v":"_"},{"$f":"IFERROR(VLOOKUP(N25,#REF!,7,FALSE),\"_\")","v":"_"},{"$f":"IFERROR(VLOOKUP(N25,#REF!,12,FALSE),\"_\")","v":"_"},{"$f":"IFERROR(VLOOKUP(N25,#REF!,3,FALSE),\"\")","v":""},{"$f":"IFERROR(VLOOKUP(N25,#REF!,2,FALSE),\"\")","v":""},null,"y"]
[{"$error":"#REF!"},{"$f":"IF(VLOOKUP(M26,#REF!,2,FALSE)<=#REF!+1,\"OK\",\"X\")","v":{"$error":"#REF!"}},1,1,2,"OK","7","2Sunday_n-1","Sunday_n-12y","Sunday_n-12OK",null,2,"Sunday_n-1",23222172,{"$f":"IFERROR(VLOOKUP(N26,#REF!,3,FALSE),\"_\")","v":"_"},{"$f":"IFERROR(VLOOKUP(N26,#REF!,7,FALSE),\"_\")","v":"_"},{"$f":"IFERROR(VLOOKUP(N26,#REF!,12,FALSE),\"_\")","v":"_"},{"$f":"IFERROR(VLOOKUP(N26,#REF!,3,FALSE),\"\")","v":""},{"$f":"IFERROR(VLOOKUP(N26,#REF!,2,FALSE),\"\")","v":""},null,"y"]
[{"$error":"#REF!"},{"$f":"IF(VLOOKUP(M27,#REF!,2,FALSE)<=#REF!+1,\"OK\",\"X\")","v":{"$error":"#REF!"}},1,0,1,"OK","7","2Monday","Monday2","Monday2OK",null,2,"Monday",23252013,{"$f":"IFERROR(VLOOKUP(N27,#REF!,3,FALSE),\"_\")","v":"_"},{"$f":"IFERROR(VLOOKUP(N27,#REF!,7,FALSE),\"_\")","v":"_"},{"$f":"IFERROR(VLOOKUP(N27,#REF!,12,FALSE),\"_\")","v":"_"},{"$f":"IFERROR(VLOOKUP(N27,#REF!,3,FALSE),\"\")","v":""},{"$f":"IFERROR(VLOOKUP(N27,#REF!,2,FALSE),\"\")","v":""}]
[{"$error":"#REF!"},{"$f":"IF(VLOOKUP(M28,#REF!,2,FALSE)<=#REF!+1,\"OK\",\"X\")","v":{"$error":"#REF!"}},1,0,1,"OK","7","2Monday","Monday2","Monday2OK",null,2,"Monday",23252014,{"$f":"IFERROR(VLOOKUP(N28,#REF!,3,FALSE),\"_\")","v":"_"},{"$f":"IFERROR(VLOOKUP(N28,#REF!,7,FALSE),\"_\")","v":"_"},{"$f":"IFERROR(VLOOKUP(N28,#REF!,12,FALSE),\"_\")","v":"_"},{"$f":"IFERROR(VLOOKUP(N28,#REF!,3,FALSE),\"\")","v":""},{"$f":"IFERROR(VLOOKUP(N28,#REF!,2,FALSE),\"\")","v":""}]
[{"$error":"#REF!"},{"$f":"IF(VLOOKUP(M29,#REF!,2,FALSE)<=#REF!+1,\"OK\",\"X\")","v":{"$error":"#REF!"}},1,0,1,"OK","7","2Monday","Monday2","Monday2OK",null,2,"Monday",23242158,{"$f":"IFERROR(VLOOKUP(N29,#REF!,3,FALSE),\"_\")","v":"_"},{"$f":"IFERROR(VLOOKUP(N29,#REF!,7,FALSE),\"_\")","v":"_"},{"$f":"IFERROR(VLOOKUP(N29,#REF!,12,FALSE),\"_\")","v":"_"},{"$f":"IFERROR(VLOOKUP(N29,#REF!,3,FALSE),\"\")","v":""},{"$f":"IFERROR(VLOOKUP(N29,#REF!,2,FALSE),\"\")","v":""}]
[{"$error":"#REF!"},{"$f":"IF(VLOOKUP(M30,#REF!,2,FALSE)<=#REF!+1,\"OK\",\"X\")","v":{"$error":"#REF!"}},1,0,1,"OK","7","2Tuesday","Tuesday2","Tuesday2OK",null,2,"Tuesday",23242159,{"$f":"IFERROR(VLOOKUP(N30,#REF!,3,FALSE),\"_\")","v":"_"},{"$f":"IFERROR(VLOOKUP(N30,#REF!,7,FALSE),\"_\")","v":"_"},{"$f":"IFERROR(VLOOKUP(N30,#REF!,12,FALSE),\"_\")","v":"_"},{"$f":"IFERROR(VLOOKUP(N30,#REF!,3,FALSE),\"\")","v":""},{"$f":"IFERROR(VLOOKUP(N30,#REF!,2,FALSE),\"\")","v":""}]
[{"$f":"L31&LEFT(P31,3)&B31","v":{"$error":"#REF!"}},{"$f":"IF(VLOOKUP(M31,#REF!,2,FALSE)<=#REF!+1,\"OK\",\"X\")","v":{"$error":"#REF!"}},{"$f":"IF(P31=\"start dummy operation\",0,1)","v":1},{"$f":"IF(U31=\"Y\",1,0)","v":0},{"$f":"SUM(C31:D31)","v":1},{"$f":"IF(E31>0,\"OK\",\"X2\")","v":"OK"},{"$f":"WEEKDAY(V31)&T31","v":"7"},{"$f":"L31&M31","v":"2Tuesday"},{"$f":"M31&L31&U31","v":"Tuesday2"},{"$f":"M31&L31&F31","v":"Tuesday2OK"},null,2,"Tuesday",23242160,{"$f":"IFERROR(VLOOKUP(N31,#REF!,3,FALSE),\"_\")","v":"_"},{"$f":"IFERROR(VLOOKUP(N31,#REF!,7,FALSE),\"_\")","v":"_"},{"$f":"IFERROR(VLOOKUP(N31,#REF!,12,FALSE),\"_\")","v":"_"},{"$f":"IFERROR(VLOOKUP(N31,#REF!,3,FALSE),\"\")","v":""},{"$f":"IFERROR(VLOOKUP(N31,#REF!,2,FALSE),\"\")","v":""}]
[{"$error":"#REF!"},{"$f":"IF(VLOOKUP(M32,#REF!,2,FALSE)<=#REF!+1,\"OK\",\"X\")","v":{"$error":"#REF!"}},1,0,1,"OK","7","2Tuesday","Tuesday2","Tuesday2OK",null,2,"Tuesday",23242161,{"$f":"IFERROR(VLOOKUP(N32,#REF!,3,FALSE),\"_\")","v":"_"},{"$f":"IFERROR(VLOOKUP(N32,#REF!,7,FALSE),\"_\")","v":"_"},{"$f":"IFERROR(VLOOKUP(N32,#REF!,12,FALSE),\"_\")","v":"_"},{"$f":"IFERROR(VLOOKUP(N32,#REF!,3,FALSE),\"\")","v":""},{"$f":"IFERROR(VLOOKUP(N32,#REF!,2,FALSE),\"\")","v":""}]
[{"$error":"#REF!"},{"$f":"IF(VLOOKUP(M33,#REF!,2,FALSE)<=#REF!+1,\"OK\",\"X\")","v":{"$error":"#REF!"}},1,0,1,"OK","7","2Tuesday","Tuesday2","Tuesday2OK",null,2,"Tuesday",23242162,{"$f":"IFERROR(VLOOKUP(N33,#REF!,3,FALSE),\"_\")","v":"_"},{"$f":"IFERROR(VLOOKUP(N33,#REF!,7,FALSE),\"_\")","v":"_"},{"$f":"IFERROR(VLOOKUP(N33,#REF!,12,FALSE),\"_\")","v":"_"},{"$f":"IFERROR(VLOOKUP(N33,#REF!,3,FALSE),\"\")","v":""},{"$f":"IFERROR(VLOOKUP(N33,#REF!,2,FALSE),\"\")","v":""}]
[{"$error":"#REF!"},{"$f":"IF(VLOOKUP(M34,#REF!,2,FALSE)<=#REF!+1,\"OK\",\"X\")","v":{"$error":"#REF!"}},1,0,1,"OK","7","2Wednesday","Wednesday2","Wednesday2OK",null,2,"Wednesday",23242163,{"$f":"IFERROR(VLOOKUP(N34,#REF!,3,FALSE),\"_\")","v":"_"},{"$f":"IFERROR(VLOOKUP(N34,#REF!,7,FALSE),\"_\")","v":"_"},{"$f":"IFERROR(VLOOKUP(N34,#REF!,12,FALSE),\"_\")","v":"_"},{"$f":"IFERROR(VLOOKUP(N34,#REF!,3,FALSE),\"\")","v":""},{"$f":"IFERROR(VLOOKUP(N34,#REF!,2,FALSE),\"\")","v":""}]
[{"$error":"#REF!"},{"$f":"IF(VLOOKUP(M35,#REF!,2,FALSE)<=#REF!+1,\"OK\",\"X\")","v":{"$error":"#REF!"}},1,0,1,"OK","7","2Wednesday","Wednesday2","Wednesday2OK",null,2,"Wednesday",null,{"$f":"IFERROR(VLOOKUP(N35,#REF!,3,FALSE),\"_\")","v":"_"},{"$f":"IFERROR(VLOOKUP(N35,#REF!,7,FALSE),\"_\")","v":"_"},{"$f":"IFERROR(VLOOKUP(N35,#REF!,12,FALSE),\"_\")","v":"_"},{"$f":"IFERROR(VLOOKUP(N35,#REF!,3,FALSE),\"\")","v":""},{"$f":"IFERROR(VLOOKUP(N35,#REF!,2,FALSE),\"\")","v":""},null,null,null,null,null,null,"eliminado"]
[{"$error":"#REF!"},{"$f":"IF(VLOOKUP(M36,#REF!,2,FALSE)<=#REF!+1,\"OK\",\"X\")","v":{"$error":"#REF!"}},1,0,1,"OK","7","2Wednesday","Wednesday2","Wednesday2OK",null,2,"Wednesday",null,{"$f":"IFERROR(VLOOKUP(N36,#REF!,3,FALSE),\"_\")","v":"_"},{"$f":"IFERROR(VLOOKUP(N36,#REF!,7,FALSE),\"_\")","v":"_"},{"$f":"IFERROR(VLOOKUP(N36,#REF!,12,FALSE),\"_\")","v":"_"},{"$f":"IFERROR(VLOOKUP(N36,#REF!,3,FALSE),\"\")","v":""},{"$f":"IFERROR(VLOOKUP(N36,#REF!,2,FALSE),\"\")","v":""},null,null,null,null,null,null,"eliminado"]
[{"$error":"#REF!"},{"$f":"IF(VLOOKUP(M37,#REF!,2,FALSE)<=#REF!+1,\"OK\",\"X\")","v":{"$error":"#REF!"}},1,0,1,"OK","7","2Wednesday","Wednesday2","Wednesday2OK",null,2,"Wednesday",null,{"$f":"IFERROR(VLOOKUP(N37,#REF!,3,FALSE),\"_\")","v":"_"},{"$f":"IFERROR(VLOOKUP(N37,#REF!,7,FALSE),\"_\")","v":"_"},{"$f":"IFERROR(VLOOKUP(N37,#REF!,12,FALSE),\"_\")","v":"_"},{"$f":"IFERROR(VLOOKUP(N37,#REF!,3,FALSE),\"\")","v":""},{"$f":"IFERROR(VLOOKUP(N37,#REF!,2,FALSE),\"\")","v":""},null,null,null,null,null,null,"eliminado"]
[{"$error":"#REF!"},{"$f":"IF(VLOOKUP(M38,#REF!,2,FALSE)<=#REF!+1,\"OK\",\"X\")","v":{"$error":"#REF!"}},1,0,1,"OK","7","2Wednesday","Wednesday2","Wednesday2OK",null,2,"Wednesday",null,{"$f":"IFERROR(VLOOKUP(N38,#REF!,3,FALSE),\"_\")","v":"_"},{"$f":"IFERROR(VLOOKUP(N38,#REF!,7,FALSE),\"_\")","v":"_"},{"$f":"IFERROR(VLOOKUP(N38,#REF!,12,FALSE),\"_\")","v":"_"},{"$f":"IFERROR(VLOOKUP(N38,#REF!,3,FALSE),\"\")","v":""},{"$f":"IFERROR(VLOOKUP(N38,#REF!,2,FALSE),\"\")","v":""},null,null,null,null,null,null,"eliminado"]
[{"$error":"#REF!"},{"$f":"IF(VLOOKUP(M39,#REF!,2,FALSE)<=#REF!+1,\"OK\",\"X\")","v":{"$error":"#REF!"}},1,0,1,"OK","7","2Thursday","Thursday2","Thursday2OK",null,2,"Thursday",23242173,{"$f":"IFERROR(VLOOKUP(N39,#REF!,3,FALSE),\"_\")","v":"_"},{"$f":"IFERROR(VLOOKUP(N39,#REF!,7,FALSE),\"_\")","v":"_"},{"$f":"IFERROR(VLOOKUP(N39,#REF!,12,FALSE),\"_\")","v":"_"},{"$f":"IFERROR(VLOOKUP(N39,#REF!,3,FALSE),\"\")","v":""},{"$f":"IFERROR(VLOOKUP(N39,#REF!,2,FALSE),\"\")","v":""}]
[{"$error":"#REF!"},{"$f":"IF(VLOOKUP(M40,#REF!,2,FALSE)<=#REF!+1,\"OK\",\"X\")","v":{"$error":"#REF!"}},1,0,1,"OK","7","2Thursday","Thursday2","Thursday2OK",null,2,"Thursday",23242174,{"$f":"IFERROR(VLOOKUP(N40,#REF!,3,FALSE),\"_\")","v":"_"},{"$f":"IFERROR(VLOOKUP(N40,#REF!,7,FALSE),\"_\")","v":"_"},{"$f":"IFERROR(VLOOKUP(N40,#REF!,12,FALSE),\"_\")","v":"_"},{"$f":"IFERROR(VLOOKUP(N40,#REF!,3,FALSE),\"\")","v":""},{"$f":"IFERROR(VLOOKUP(N40,#REF!,2,FALSE),\"\")","v":""}]
[{"$error":"#REF!"},{"$f":"IF(VLOOKUP(M41,#REF!,2,FALSE)<=#REF!+1,\"OK\",\"X\")","v":{"$error":"#REF!"}},1,0,1,"OK","7","2Thursday","Thursday2","Thursday2OK",null,2,"Thursday",23242175,{"$f":"IFERROR(VLOOKUP(N41,#REF!,3,FALSE),\"_\")","v":"_"},{"$f":"IFERROR(VLOOKUP(N41,#REF!,7,FALSE),\"_\")","v":"_"},{"$f":"IFERROR(VLOOKUP(N41,#REF!,12,FALSE),\"_\")","v":"_"},{"$f":"IFERROR(VLOOKUP(N41,#REF!,3,FALSE),\"\")","v":""},{"$f":"IFERROR(VLOOKUP(N41,#REF!,2,FALSE),\"\")","v":""}]
[{"$error":"#REF!"},{"$f":"IF(VLOOKUP(M42,#REF!,2,FALSE)<=#REF!+1,\"OK\",\"X\")","v":{"$error":"#REF!"}},1,0,1,"OK","7","2Thursday","Thursday2","Thursday2OK",null,2,"Thursday",23242176,{"$f":"IFERROR(VLOOKUP(N42,#REF!,3,FALSE),\"_\")","v":"_"},{"$f":"IFERROR(VLOOKUP(N42,#REF!,7,FALSE),\"_\")","v":"_"},{"$f":"IFERROR(VLOOKUP(N42,#REF!,12,FALSE),\"_\")","v":"_"},{"$f":"IFERROR(VLOOKUP(N42,#REF!,3,FALSE),\"\")","v":""},{"$f":"IFERROR(VLOOKUP(N42,#REF!,2,FALSE),\"\")","v":""}]
[{"$error":"#REF!"},{"$f":"IF(VLOOKUP(M43,#REF!,2,FALSE)<=#REF!+1,\"OK\",\"X\")","v":{"$error":"#REF!"}},1,0,1,"OK","7","2Thursday","Thursday2","Thursday2OK",null,2,"Thursday",23242182,{"$f":"IFERROR(VLOOKUP(N43,#REF!,3,FALSE),\"_\")","v":"_"},{"$f":"IFERROR(VLOOKUP(N43,#REF!,7,FALSE),\"_\")","v":"_"},{"$f":"IFERROR(VLOOKUP(N43,#REF!,12,FALSE),\"_\")","v":"_"},{"$f":"IFERROR(VLOOKUP(N43,#REF!,3,FALSE),\"\")","v":""},{"$f":"IFERROR(VLOOKUP(N43,#REF!,2,FALSE),\"\")","v":""}]
[{"$error":"#REF!"},{"$f":"IF(VLOOKUP(M44,#REF!,2,FALSE)<=#REF!+1,\"OK\",\"X\")","v":{"$error":"#REF!"}},1,0,1,"OK","7","2Thursday","Thursday2","Thursday2OK",null,2,"Thursday",23242183,{"$f":"IFERROR(VLOOKUP(N44,#REF!,3,FALSE),\"_\")","v":"_"},{"$f":"IFERROR(VLOOKUP(N44,#REF!,7,FALSE),\"_\")","v":"_"},{"$f":"IFERROR(VLOOKUP(N44,#REF!,12,FALSE),\"_\")","v":"_"},{"$f":"IFERROR(VLOOKUP(N44,#REF!,3,FALSE),\"\")","v":""},{"$f":"IFERROR(VLOOKUP(N44,#REF!,2,FALSE),\"\")","v":""}]
[{"$error":"#REF!"},{"$f":"IF(VLOOKUP(M45,#REF!,2,FALSE)<=#REF!+1,\"OK\",\"X\")","v":{"$error":"#REF!"}},1,0,1,"OK","7","2Thursday","Thursday2","Thursday2OK",null,2,"Thursday",23232085,{"$f":"IFERROR(VLOOKUP(N45,#REF!,3,FALSE),\"_\")","v":"_"},{"$f":"IFERROR(VLOOKUP(N45,#REF!,7,FALSE),\"_\")","v":"_"},{"$f":"IFERROR(VLOOKUP(N45,#REF!,12,FALSE),\"_\")","v":"_"},{"$f":"IFERROR(VLOOKUP(N45,#REF!,3,FALSE),\"\")","v":""},{"$f":"IFERROR(VLOOKUP(N45,#REF!,2,FALSE),\"\")","v":""}]
[{"$error":"#REF!"},{"$f":"IF(VLOOKUP(M46,#REF!,2,FALSE)<=#REF!+1,\"OK\",\"X\")","v":{"$error":"#REF!"}},1,0,1,"OK","7","2Friday","Friday2","Friday2OK",null,2,"Friday",23232086,{"$f":"IFERROR(VLOOKUP(N46,#REF!,3,FALSE),\"_\")","v":"_"},{"$f":"IFERROR(VLOOKUP(N46,#REF!,7,FALSE),\"_\")","v":"_"},{"$f":"IFERROR(VLOOKUP(N46,#REF!,12,FALSE),\"_\")","v":"_"},{"$f":"IFERROR(VLOOKUP(N46,#REF!,3,FALSE),\"\")","v":""},{"$f":"IFERROR(VLOOKUP(N46,#REF!,2,FALSE),\"\")","v":""}]
[{"$error":"#REF!"},{"$f":"IF(VLOOKUP(M47,#REF!,2,FALSE)<=#REF!+1,\"OK\",\"X\")","v":{"$error":"#REF!"}},1,0,1,"OK","7","2Friday","Friday2","Friday2OK",null,2,"Friday",23232087,{"$f":"IFERROR(VLOOKUP(N47,#REF!,3,FALSE),\"_\")","v":"_"},{"$f":"IFERROR(VLOOKUP(N47,#REF!,7,FALSE),\"_\")","v":"_"},{"$f":"IFERROR(VLOOKUP(N47,#REF!,12,FALSE),\"_\")","v":"_"},{"$f":"IFERROR(VLOOKUP(N47,#REF!,3,FALSE),\"\")","v":""},{"$f":"IFERROR(VLOOKUP(N47,#REF!,2,FALSE),\"\")","v":""}]
[{"$error":"#REF!"},{"$f":"IF(VLOOKUP(M48,#REF!,2,FALSE)<=#REF!+1,\"OK\",\"X\")","v":{"$error":"#REF!"}},1,0,1,"OK","7","2Friday","Friday2","Friday2OK",null,2,"Friday",23232088,{"$f":"IFERROR(VLOOKUP(N48,#REF!,3,FALSE),\"_\")","v":"_"},{"$f":"IFERROR(VLOOKUP(N48,#REF!,7,FALSE),\"_\")","v":"_"},{"$f":"IFERROR(VLOOKUP(N48,#REF!,12,FALSE),\"_\")","v":"_"},{"$f":"IFERROR(VLOOKUP(N48,#REF!,3,FALSE),\"\")","v":""},{"$f":"IFERROR(VLOOKUP(N48,#REF!,2,FALSE),\"\")","v":""}]
[{"$error":"#REF!"},{"$f":"IF(VLOOKUP(M49,#REF!,2,FALSE)<=#REF!+1,\"OK\",\"X\")","v":{"$error":"#REF!"}},1,0,1,"OK","7","2Saturday","Saturday2","Saturday2OK",null,2,"Saturday",23232089,{"$f":"IFERROR(VLOOKUP(N49,#REF!,3,FALSE),\"_\")","v":"_"},{"$f":"IFERROR(VLOOKUP(N49,#REF!,7,FALSE),\"_\")","v":"_"},{"$f":"IFERROR(VLOOKUP(N49,#REF!,12,FALSE),\"_\")","v":"_"},{"$f":"IFERROR(VLOOKUP(N49,#REF!,3,FALSE),\"\")","v":""},{"$f":"IFERROR(VLOOKUP(N49,#REF!,2,FALSE),\"\")","v":""}]
[{"$error":"#REF!"},{"$f":"IF(VLOOKUP(M50,#REF!,2,FALSE)<=#REF!+1,\"OK\",\"X\")","v":{"$error":"#REF!"}},1,0,1,"OK","7","2Saturday","Saturday2","Saturday2OK",null,2,"Saturday",23232090,{"$f":"IFERROR(VLOOKUP(N50,#REF!,3,FALSE),\"_\")","v":"_"},{"$f":"IFERROR(VLOOKUP(N50,#REF!,7,FALSE),\"_\")","v":"_"},{"$f":"IFERROR(VLOOKUP(N50,#REF!,12,FALSE),\"_\")","v":"_"},{"$f":"IFERROR(VLOOKUP(N50,#REF!,3,FALSE),\"\")","v":""},{"$f":"IFERROR(VLOOKUP(N50,#REF!,2,FALSE),\"\")","v":""}]
[{"$error":"#REF!"},{"$f":"IF(VLOOKUP(M51,#REF!,2,FALSE)<=#REF!+1,\"OK\",\"X\")","v":{"$error":"#REF!"}},1,0,1,"OK","7","2Saturday","Saturday2","Saturday2OK",null,2,"Saturday",23232091,{"$f":"IFERROR(VLOOKUP(N51,#REF!,3,FALSE),\"_\")","v":"_"},{"$f":"IFERROR(VLOOKUP(N51,#REF!,7,FALSE),\"_\")","v":"_"},{"$f":"IFERROR(VLOOKUP(N51,#REF!,12,FALSE),\"_\")","v":"_"},{"$f":"IFERROR(VLOOKUP(N51,#REF!,3,FALSE),\"\")","v":""},{"$f":"IFERROR(VLOOKUP(N51,#REF!,2,FALSE),\"\")","v":""}]
[{"$error":"#REF!"},{"$f":"IF(VLOOKUP(M52,#REF!,2,FALSE)<=#REF!+1,\"OK\",\"X\")","v":{"$error":"#REF!"}},1,0,1,"OK","7","2Saturday","Saturday2","Saturday2OK",null,2,"Saturday",23232092,{"$f":"IFERROR(VLOOKUP(N52,#REF!,3,FALSE),\"_\")","v":"_"},{"$f":"IFERROR(VLOOKUP(N52,#REF!,7,FALSE),\"_\")","v":"_"},{"$f":"IFERROR(VLOOKUP(N52,#REF!,12,FALSE),\"_\")","v":"_"},{"$f":"IFERROR(VLOOKUP(N52,#REF!,3,FALSE),\"\")","v":""},{"$f":"IFERROR(VLOOKUP(N52,#REF!,2,FALSE),\"\")","v":""}]
[{"$error":"#REF!"},{"$f":"IF(VLOOKUP(M53,#REF!,2,FALSE)<=#REF!+1,\"OK\",\"X\")","v":{"$error":"#REF!"}},1,0,1,"OK","7","2Sunday","Sunday2e","Sunday2OK",null,2,"Sunday",23252003,{"$f":"IFERROR(VLOOKUP(N53,#REF!,3,FALSE),\"_\")","v":"_"},{"$f":"IFERROR(VLOOKUP(N53,#REF!,7,FALSE),\"_\")","v":"_"},{"$f":"IFERROR(VLOOKUP(N53,#REF!,12,FALSE),\"_\")","v":"_"},{"$f":"IFERROR(VLOOKUP(N53,#REF!,3,FALSE),\"\")","v":""},{"$f":"IFERROR(VLOOKUP(N53,#REF!,2,FALSE),\"\")","v":""},null,"e"]
[{"$error":"#REF!"},{"$f":"IF(VLOOKUP(M54,#REF!,2,FALSE)<=#REF!+1,\"OK\",\"X\")","v":{"$error":"#REF!"}},1,1,2,"OK","7","2Sunday","Sunday2y","Sunday2OK",null,2,"Sunday",23152373,{"$f":"IFERROR(VLOOKUP(N54,#REF!,3,FALSE),\"_\")","v":"_"},{"$f":"IFERROR(VLOOKUP(N54,#REF!,7,FALSE),\"_\")","v":"_"},{"$f":"IFERROR(VLOOKUP(N54,#REF!,12,FALSE),\"_\")","v":"_"},{"$f":"IFERROR(VLOOKUP(N54,#REF!,3,FALSE),\"\")","v":""},{"$f":"IFERROR(VLOOKUP(N54,#REF!,2,FALSE),\"\")","v":""},null,"y"]
[{"$error":"#REF!"},{"$f":"IF(VLOOKUP(M55,#REF!,2,FALSE)<=#REF!+1,\"OK\",\"X\")","v":{"$error":"#REF!"}},1,0,1,"OK","7","2Sunday","Sunday2","Sunday2OK",null,2,"Sunday",23232195,{"$f":"IFERROR(VLOOKUP(N55,#REF!,3,FALSE),\"_\")","v":"_"},{"$f":"IFERROR(VLOOKUP(N55,#REF!,7,FALSE),\"_\")","v":"_"},{"$f":"IFERROR(VLOOKUP(N55,#REF!,12,FALSE),\"_\")","v":"_"},{"$f":"IFERROR(VLOOKUP(N55,#REF!,3,FALSE),\"\")","v":""},{"$f":"IFERROR(VLOOKUP(N55,#REF!,2,FALSE),\"\")","v":""}]
[{"$error":"#REF!"},{"$f":"IF(VLOOKUP(M56,#REF!,2,FALSE)<=#REF!+1,\"OK\",\"X\")","v":{"$error":"#REF!"}},1,0,1,"OK","7","2Sunday","Sunday2","Sunday2OK",null,2,"Sunday",23232196,{"$f":"IFERROR(VLOOKUP(N56,#REF!,3,FALSE),\"_\")","v":"_"},{"$f":"IFERROR(VLOOKUP(N56,#REF!,7,FALSE),\"_\")","v":"_"},{"$f":"IFERROR(VLOOKUP(N56,#REF!,12,FALSE),\"_\")","v":"_"},{"$f":"IFERROR(VLOOKUP(N56,#REF!,3,FALSE),\"\")","v":""},{"$f":"IFERROR(VLOOKUP(N56,#REF!,2,FALSE),\"\")","v":""}]
[{"$error":"#REF!"},{"$f":"IF(VLOOKUP(M57,#REF!,2,FALSE)<=#REF!+1,\"OK\",\"X\")","v":{"$error":"#REF!"}},1,0,1,"OK","7","2EXTRA","EXTRA2","EXTRA2OK",null,2,"EXTRA",23232197,{"$f":"IFERROR(VLOOKUP(N57,#REF!,3,FALSE),\"_\")","v":"_"},{"$f":"IFERROR(VLOOKUP(N57,#REF!,7,FALSE),\"_\")","v":"_"},{"$f":"IFERROR(VLOOKUP(N57,#REF!,12,FALSE),\"_\")","v":"_"},{"$f":"IFERROR(VLOOKUP(N57,#REF!,3,FALSE),\"\")","v":""},{"$f":"IFERROR(VLOOKUP(N57,#REF!,2,FALSE),\"\")","v":""}]
[{"$error":"#REF!"},{"$f":"IF(VLOOKUP(M58,#REF!,2,FALSE)<=#REF!+1,\"OK\",\"X\")","v":{"$error":"#REF!"}},1,1,2,"OK","7","2EXTRA","EXTRA2y","EXTRA2OK",null,2,"EXTRA",23212193,{"$f":"IFERROR(VLOOKUP(N58,#REF!,3,FALSE),\"_\")","v":"_"},{"$f":"IFERROR(VLOOKUP(N58,#REF!,7,FALSE),\"_\")","v":"_"},{"$f":"IFERROR(VLOOKUP(N58,#REF!,12,FALSE),\"_\")","v":"_"},{"$f":"IFERROR(VLOOKUP(N58,#REF!,3,FALSE),\"\")","v":""},{"$f":"IFERROR(VLOOKUP(N58,#REF!,2,FALSE),\"\")","v":""},null,"y"]
[{"$error":"#REF!"},{"$f":"IF(VLOOKUP(M59,#REF!,2,FALSE)<=#REF!+1,\"OK\",\"X\")","v":{"$error":"#REF!"}},1,0,1,"OK","7","2EXTRA","EXTRA2","EXTRA2OK",null,2,"EXTRA",23232274,{"$f":"IFERROR(VLOOKUP(N59,#REF!,3,FALSE),\"_\")","v":"_"},{"$f":"IFERROR(VLOOKUP(N59,#REF!,7,FALSE),\"_\")","v":"_"},{"$f":"IFERROR(VLOOKUP(N59,#REF!,12,FALSE),\"_\")","v":"_"},{"$f":"IFERROR(VLOOKUP(N59,#REF!,3,FALSE),\"\")","v":""},{"$f":"IFERROR(VLOOKUP(N59,#REF!,2,FALSE),\"\")","v":""}]
[{"$error":"#REF!"},{"$f":"IF(VLOOKUP(M60,#REF!,2,FALSE)<=#REF!+1,\"OK\",\"X\")","v":{"$error":"#REF!"}},1,0,1,"OK","7","2EXTRA","EXTRA2","EXTRA2OK",null,2,"EXTRA",23242155,{"$f":"IFERROR(VLOOKUP(N60,#REF!,3,FALSE),\"_\")","v":"_"},{"$f":"IFERROR(VLOOKUP(N60,#REF!,7,FALSE),\"_\")","v":"_"},{"$f":"IFERROR(VLOOKUP(N60,#REF!,12,FALSE),\"_\")","v":"_"},{"$f":"IFERROR(VLOOKUP(N60,#REF!,3,FALSE),\"\")","v":""},{"$f":"IFERROR(VLOOKUP(N60,#REF!,2,FALSE),\"\")","v":""}]
[{"$error":"#REF!"},{"$f":"IF(VLOOKUP(M61,#REF!,2,FALSE)<=#REF!+1,\"OK\",\"X\")","v":{"$error":"#REF!"}},1,0,1,"OK","7","2EXTRA","EXTRA2","EXTRA2OK",null,2,"EXTRA",23242156,{"$f":"IFERROR(VLOOKUP(N61,#REF!,3,FALSE),\"_\")","v":"_"},{"$f":"IFERROR(VLOOKUP(N61,#REF!,7,FALSE),\"_\")","v":"_"},{"$f":"IFERROR(VLOOKUP(N61,#REF!,12,FALSE),\"_\")","v":"_"},{"$f":"IFERROR(VLOOKUP(N61,#REF!,3,FALSE),\"\")","v":""},{"$f":"IFERROR(VLOOKUP(N61,#REF!,2,FALSE),\"\")","v":""}]
[{"$error":"#REF!"},{"$f":"IF(VLOOKUP(M62,#REF!,2,FALSE)<=#REF!+1,\"OK\",\"X\")","v":{"$error":"#REF!"}},1,0,1,"OK","7","2EXTRA","EXTRA2","EXTRA2OK",null,2,"EXTRA",23242157,{"$f":"IFERROR(VLOOKUP(N62,#REF!,3,FALSE),\"_\")","v":"_"},{"$f":"IFERROR(VLOOKUP(N62,#REF!,7,FALSE),\"_\")","v":"_"},{"$f":"IFERROR(VLOOKUP(N62,#REF!,12,FALSE),\"_\")","v":"_"},{"$f":"IFERROR(VLOOKUP(N62,#REF!,3,FALSE),\"\")","v":""},{"$f":"IFERROR(VLOOKUP(N62,#REF!,2,FALSE),\"\")","v":""}]
[{"$error":"#REF!"},{"$f":"IF(VLOOKUP(M63,#REF!,2,FALSE)<=#REF!+1,\"OK\",\"X\")","v":{"$error":"#REF!"}},1,1,2,"OK","7","3Thursday_n-1","Thursday_n-13y","Thursday_n-13OK",null,3,"Thursday_n-1",23232123,{"$f":"IFERROR(VLOOKUP(N63,#REF!,3,FALSE),\"_\")","v":"_"},{"$f":"IFERROR(VLOOKUP(N63,#REF!,7,FALSE),\"_\")","v":"_"},{"$f":"IFERROR(VLOOKUP(N63,#REF!,12,FALSE),\"_\")","v":"_"},{"$f":"IFERROR(VLOOKUP(N63,#REF!,3,FALSE),\"\")","v":""},{"$f":"IFERROR(VLOOKUP(N63,#REF!,2,FALSE),\"\")","v":""},null,"y"]
[{"$error":"#REF!"},{"$f":"IF(VLOOKUP(M64,#REF!,2,FALSE)<=#REF!+1,\"OK\",\"X\")","v":{"$error":"#REF!"}},1,1,2,"OK","7","3Friday_n-1","Friday_n-13y","Friday_n-13OK",null,3,"Friday_n-1",23232124,{"$f":"IFERROR(VLOOKUP(N64,#REF!,3,FALSE),\"_\")","v":"_"},{"$f":"IFERROR(VLOOKUP(N64,#REF!,7,FALSE),\"_\")","v":"_"},{"$f":"IFERROR(VLOOKUP(N64,#REF!,12,FALSE),\"_\")","v":"_"},{"$f":"IFERROR(VLOOKUP(N64,#REF!,3,FALSE),\"\")","v":""},{"$f":"IFERROR(VLOOKUP(N64,#REF!,2,FALSE),\"\")","v":""},null,"y"]
[{"$error":"#REF!"},{"$f":"IF(VLOOKUP(M65,#REF!,2,FALSE)<=#REF!+1,\"OK\",\"X\")","v":{"$error":"#REF!"}},1,1,2,"OK","7","3Friday_n-1","Friday_n-13y","Friday_n-13OK",null,3,"Friday_n-1",23232125,{"$f":"IFERROR(VLOOKUP(N65,#REF!,3,FALSE),\"_\")","v":"_"},{"$f":"IFERROR(VLOOKUP(N65,#REF!,7,FALSE),\"_\")","v":"_"},{"$f":"IFERROR(VLOOKUP(N65,#REF!,12,FALSE),\"_\")","v":"_"},{"$f":"IFERROR(VLOOKUP(N65,#REF!,3,FALSE),\"\")","v":""},{"$f":"IFERROR(VLOOKUP(N65,#REF!,2,FALSE),\"\")","v":""},null,"y"]
[{"$error":"#REF!"},{"$f":"IF(VLOOKUP(M66,#REF!,2,FALSE)<=#REF!+1,\"OK\",\"X\")","v":{"$error":"#REF!"}},1,1,2,"OK","7","3Friday_n-1","Friday_n-13y","Friday_n-13OK",null,3,"Friday_n-1",23222206,{"$f":"IFERROR(VLOOKUP(N66,#REF!,3,FALSE),\"_\")","v":"_"},{"$f":"IFERROR(VLOOKUP(N66,#REF!,7,FALSE),\"_\")","v":"_"},{"$f":"IFERROR(VLOOKUP(N66,#REF!,12,FALSE),\"_\")","v":"_"},{"$f":"IFERROR(VLOOKUP(N66,#REF!,3,FALSE),\"\")","v":""},{"$f":"IFERROR(VLOOKUP(N66,#REF!,2,FALSE),\"\")","v":""},null,"y"]
[{"$error":"#REF!"},{"$f":"IF(VLOOKUP(M67,#REF!,2,FALSE)<=#REF!+1,\"OK\",\"X\")","v":{"$error":"#REF!"}},1,1,2,"OK","7","3Saturday_n-1","Saturday_n-13y","Saturday_n-13OK",null,3,"Saturday_n-1",23222202,{"$f":"IFERROR(VLOOKUP(N67,#REF!,3,FALSE),\"_\")","v":"_"},{"$f":"IFERROR(VLOOKUP(N67,#REF!,7,FALSE),\"_\")","v":"_"},{"$f":"IFERROR(VLOOKUP(N67,#REF!,12,FALSE),\"_\")","v":"_"},{"$f":"IFERROR(VLOOKUP(N67,#REF!,3,FALSE),\"\")","v":""},{"$f":"IFERROR(VLOOKUP(N67,#REF!,2,FALSE),\"\")","v":""},null,"y"]
[{"$error":"#REF!"},{"$f":"IF(VLOOKUP(M68,#REF!,2,FALSE)<=#REF!+1,\"OK\",\"X\")","v":{"$error":"#REF!"}},1,1,2,"OK","7","3Saturday_n-1","Saturday_n-13y","Saturday_n-13OK",null,3,"Saturday_n-1",23222203,{"$f":"IFERROR(VLOOKUP(N68,#REF!,3,FALSE),\"_\")","v":"_"},{"$f":"IFERROR(VLOOKUP(N68,#REF!,7,FALSE),\"_\")","v":"_"},{"$f":"IFERROR(VLOOKUP(N68,#REF!,12,FALSE),\"_\")","v":"_"},{"$f":"IFERROR(VLOOKUP(N68,#REF!,3,FALSE),\"\")","v":""},{"$f":"IFERROR(VLOOKUP(N68,#REF!,2,FALSE),\"\")","v":""},null,"y"]
[{"$error":"#REF!"},{"$f":"IF(VLOOKUP(M69,#REF!,2,FALSE)<=#REF!+1,\"OK\",\"X\")","v":{"$error":"#REF!"}},1,1,2,"OK","7","3Saturday_n-1","Saturday_n-13y","Saturday_n-13OK",null,3,"Saturday_n-1",23222204,{"$f":"IFERROR(VLOOKUP(N69,#REF!,3,FALSE),\"_\")","v":"_"},{"$f":"IFERROR(VLOOKUP(N69,#REF!,7,FALSE),\"_\")","v":"_"},{"$f":"IFERROR(VLOOKUP(N69,#REF!,12,FALSE),\"_\")","v":"_"},{"$f":"IFERROR(VLOOKUP(N69,#REF!,3,FALSE),\"\")","v":""},{"$f":"IFERROR(VLOOKUP(N69,#REF!,2,FALSE),\"\")","v":""},null,"y"]
[{"$error":"#REF!"},{"$f":"IF(VLOOKUP(M70,#REF!,2,FALSE)<=#REF!+1,\"OK\",\"X\")","v":{"$error":"#REF!"}},1,1,2,"OK","7","3Saturday_n-1","Saturday_n-13y","Saturday_n-13OK",null,3,"Saturday_n-1",23222205,{"$f":"IFERROR(VLOOKUP(N70,#REF!,3,FALSE),\"_\")","v":"_"},{"$f":"IFERROR(VLOOKUP(N70,#REF!,7,FALSE),\"_\")","v":"_"},{"$f":"IFERROR(VLOOKUP(N70,#REF!,12,FALSE),\"_\")","v":"_"},{"$f":"IFERROR(VLOOKUP(N70,#REF!,3,FALSE),\"\")","v":""},{"$f":"IFERROR(VLOOKUP(N70,#REF!,2,FALSE),\"\")","v":""},null,"y"]
[{"$error":"#REF!"},{"$f":"IF(VLOOKUP(M71,#REF!,2,FALSE)<=#REF!+1,\"OK\",\"X\")","v":{"$error":"#REF!"}},1,1,2,"OK","7","3Saturday_n-1","Saturday_n-13y","Saturday_n-13OK",null,3,"Saturday_n-1",23222207,{"$f":"IFERROR(VLOOKUP(N71,#REF!,3,FALSE),\"_\")","v":"_"},{"$f":"IFERROR(VLOOKUP(N71,#REF!,7,FALSE),\"_\")","v":"_"},{"$f":"IFERROR(VLOOKUP(N71,#REF!,12,FALSE),\"_\")","v":"_"},{"$f":"IFERROR(VLOOKUP(N71,#REF!,3,FALSE),\"\")","v":""},{"$f":"IFERROR(VLOOKUP(N71,#REF!,2,FALSE),\"\")","v":""},null,"y"]
[{"$error":"#REF!"},{"$f":"IF(VLOOKUP(M72,#REF!,2,FALSE)<=#REF!+1,\"OK\",\"X\")","v":{"$error":"#REF!"}},1,1,2,"OK","7","3Saturday_n-1","Saturday_n-13y","Saturday_n-13OK",null,3,"Saturday_n-1",23222208,{"$f":"IFERROR(VLOOKUP(N72,#REF!,3,FALSE),\"_\")","v":"_"},{"$f":"IFERROR(VLOOKUP(N72,#REF!,7,FALSE),\"_\")","v":"_"},{"$f":"IFERROR(VLOOKUP(N72,#REF!,12,FALSE),\"_\")","v":"_"},{"$f":"IFERROR(VLOOKUP(N72,#REF!,3,FALSE),\"\")","v":""},{"$f":"IFERROR(VLOOKUP(N72,#REF!,2,FALSE),\"\")","v":""},null,"y"]
[{"$error":"#REF!"},{"$f":"IF(VLOOKUP(M73,#REF!,2,FALSE)<=#REF!+1,\"OK\",\"X\")","v":{"$error":"#REF!"}},1,1,2,"OK","7","3Sunday_n-1","Sunday_n-13y","Sunday_n-13OK",null,3,"Sunday_n-1",23212091,{"$f":"IFERROR(VLOOKUP(N73,#REF!,3,FALSE),\"_\")","v":"_"},{"$f":"IFERROR(VLOOKUP(N73,#REF!,7,FALSE),\"_\")","v":"_"},{"$f":"IFERROR(VLOOKUP(N73,#REF!,12,FALSE),\"_\")","v":"_"},{"$f":"IFERROR(VLOOKUP(N73,#REF!,3,FALSE),\"\")","v":""},{"$f":"IFERROR(VLOOKUP(N73,#REF!,2,FALSE),\"\")","v":""},null,"y"]
[{"$error":"#REF!"},{"$f":"IF(VLOOKUP(M74,#REF!,2,FALSE)<=#REF!+1,\"OK\",\"X\")","v":{"$error":"#REF!"}},1,1,2,"OK","7","3Sunday_n-1","Sunday_n-13y","Sunday_n-13OK",null,3,"Sunday_n-1",23222210,{"$f":"IFERROR(VLOOKUP(N74,#REF!,3,FALSE),\"_\")","v":"_"},{"$f":"IFERROR(VLOOKUP(N74,#REF!,7,FALSE),\"_\")","v":"_"},{"$f":"IFERROR(VLOOKUP(N74,#REF!,12,FALSE),\"_\")","v":"_"},{"$f":"IFERROR(VLOOKUP(N74,#REF!,3,FALSE),\"\")","v":""},{"$f":"IFERROR(VLOOKUP(N74,#REF!,2,FALSE),\"\")","v":""},null,"y"]
[{"$error":"#REF!"},{"$f":"IF(VLOOKUP(M75,#REF!,2,FALSE)<=#REF!+1,\"OK\",\"X\")","v":{"$error":"#REF!"}},1,1,2,"OK","7Paulo M.","3Sunday_n-1","Sunday_n-13Y","Sunday_n-13OK",null,3,"Sunday_n-1",23232182,{"$f":"IFERROR(VLOOKUP(N75,#REF!,3,FALSE),\"_\")","v":"_"},{"$f":"IFERROR(VLOOKUP(N75,#REF!,7,FALSE),\"_\")","v":"_"},{"$f":"IFERROR(VLOOKUP(N75,#REF!,12,FALSE),\"_\")","v":"_"},{"$f":"IFERROR(VLOOKUP(N75,#REF!,3,FALSE),\"\")","v":""},{"$f":"IFERROR(VLOOKUP(N75,#REF!,2,FALSE),\"\")","v":""},"Paulo M.","Y",null,null,"K204036"]
[{"$error":"#REF!"},{"$f":"IF(VLOOKUP(M76,#REF!,2,FALSE)<=#REF!+1,\"OK\",\"X\")","v":{"$error":"#REF!"}},1,1,2,"OK","7Paulo M.","3Sunday_n-1","Sunday_n-13Y","Sunday_n-13OK",null,3,"Sunday_n-1",23182243,{"$f":"IFERROR(VLOOKUP(N76,#REF!,3,FALSE),\"_\")","v":"_"},{"$f":"IFERROR(VLOOKUP(N76,#REF!,7,FALSE),\"_\")","v":"_"},{"$f":"IFERROR(VLOOKUP(N76,#REF!,12,FALSE),\"_\")","v":"_"},{"$f":"IFERROR(VLOOKUP(N76,#REF!,3,FALSE),\"\")","v":""},{"$f":"IFERROR(VLOOKUP(N76,#REF!,2,FALSE),\"\")","v":""},"Paulo M.","Y"]
[{"$error":"#REF!"},{"$f":"IF(VLOOKUP(M77,#REF!,2,FALSE)<=#REF!+1,\"OK\",\"X\")","v":{"$error":"#REF!"}},1,0,1,"OK","7Wagner Ferreira","3Sunday_n-1","Sunday_n-13N","Sunday_n-13OK",null,3,"Sunday_n-1",23232126,{"$f":"IFERROR(VLOOKUP(N77,#REF!,3,FALSE),\"_\")","v":"_"},{"$f":"IFERROR(VLOOKUP(N77,#REF!,7,FALSE),\"_\")","v":"_"},{"$f":"IFERROR(VLOOKUP(N77,#REF!,12,FALSE),\"_\")","v":"_"},{"$f":"IFERROR(VLOOKUP(N77,#REF!,3,FALSE),\"\")","v":""},{"$f":"IFERROR(VLOOKUP(N77,#REF!,2,FALSE),\"\")","v":""},"Wagner Ferreira","N",null,"120HL17630064"]
[{"$error":"#REF!"},{"$f":"IF(VLOOKUP(M78,#REF!,2,FALSE)<=#REF!+1,\"OK\",\"X\")","v":{"$error":"#REF!"}},1,0,1,"OK","7Wagner Ferreira","3Sunday_n-1","Sunday_n-13N","Sunday_n-13OK",null,3,"Sunday_n-1",23242192,{"$f":"IFERROR(VLOOKUP(N78,#REF!,3,FALSE),\"_\")","v":"_"},{"$f":"IFERROR(VLOOKUP(N78,#REF!,7,FALSE),\"_\")","v":"_"},{"$f":"IFERROR(VLOOKUP(N78,#REF!,12,FALSE),\"_\")","v":"_"},{"$f":"IFERROR(VLOOKUP(N78,#REF!,3,FALSE),\"\")","v":""},{"$f":"IFERROR(VLOOKUP(N78,#REF!,2,FALSE),\"\")","v":""},"Wagner Ferreira","N",null,"Y110LN02095057",null,"3030M064"]
[{"$error":"#REF!"},{"$f":"IF(VLOOKUP(M79,#REF!,2,FALSE)<=#REF!+1,\"OK\",\"X\")","v":{"$error":"#REF!"}},1,1,2,"OK","7Wagner Ferreira","3Sunday_n-1","Sunday_n-13Y","Sunday_n-13OK",null,3,"Sunday_n-1",23232104,{"$f":"IFERROR(VLOOKUP(N79,#REF!,3,FALSE),\"_\")","v":"_"},{"$f":"IFERROR(VLOOKUP(N79,#REF!,7,FALSE),\"_\")","v":"_"},{"$f":"IFERROR(VLOOKUP(N79,#REF!,12,FALSE),\"_\")","v":"_"},{"$f":"IFERROR(VLOOKUP(N79,#REF!,3,FALSE),\"\")","v":""},{"$f":"IFERROR(VLOOKUP(N79,#REF!,2,FALSE),\"\")","v":""},"Wagner Ferreira","Y"]
[{"$error":"#REF!"},{"$f":"IF(VLOOKUP(M80,#REF!,2,FALSE)<=#REF!+1,\"OK\",\"X\")","v":{"$error":"#REF!"}},1,1,2,"OK","7Wagner Ferreira","3Monday","Monday3Y","Monday3OK",null,3,"Monday",23232105,{"$f":"IFERROR(VLOOKUP(N80,#REF!,3,FALSE),\"_\")","v":"_"},{"$f":"IFERROR(VLOOKUP(N80,#REF!,7,FALSE),\"_\")","v":"_"},{"$f":"IFERROR(VLOOKUP(N80,#REF!,12,FALSE),\"_\")","v":"_"},{"$f":"IFERROR(VLOOKUP(N80,#REF!,3,FALSE),\"\")","v":""},{"$f":"IFERROR(VLOOKUP(N80,#REF!,2,FALSE),\"\")","v":""},"Wagner Ferreira","Y"]
[{"$error":"#REF!"},{"$f":"IF(VLOOKUP(M81,#REF!,2,FALSE)<=#REF!+1,\"OK\",\"X\")","v":{"$error":"#REF!"}},1,1,2,"OK","7Wagner Ferreira","3Monday","Monday3Y","Monday3OK",null,3,"Monday",23232106,{"$f":"IFERROR(VLOOKUP(N81,#REF!,3,FALSE),\"_\")","v":"_"},{"$f":"IFERROR(VLOOKUP(N81,#REF!,7,FALSE),\"_\")","v":"_"},{"$f":"IFERROR(VLOOKUP(N81,#REF!,12,FALSE),\"_\")","v":"_"},{"$f":"IFERROR(VLOOKUP(N81,#REF!,3,FALSE),\"\")","v":""},{"$f":"IFERROR(VLOOKUP(N81,#REF!,2,FALSE),\"\")","v":""},"Wagner Ferreira","Y"]
[{"$error":"#REF!"},{"$f":"IF(VLOOKUP(M82,#REF!,2,FALSE)<=#REF!+1,\"OK\",\"X\")","v":{"$error":"#REF!"}},1,1,2,"OK","7Wagner Ferreira","3Monday","Monday3Y","Monday3OK",null,3,"Monday",23232107,{"$f":"IFERROR(VLOOKUP(N82,#REF!,3,FALSE),\"_\")","v":"_"},{"$f":"IFERROR(VLOOKUP(N82,#REF!,7,FALSE),\"_\")","v":"_"},{"$f":"IFERROR(VLOOKUP(N82,#REF!,12,FALSE),\"_\")","v":"_"},{"$f":"IFERROR(VLOOKUP(N82,#REF!,3,FALSE),\"\")","v":""},{"$f":"IFERROR(VLOOKUP(N82,#REF!,2,FALSE),\"\")","v":""},"Wagner Ferreira","Y"]
[{"$error":"#REF!"},{"$f":"IF(VLOOKUP(M83,#REF!,2,FALSE)<=#REF!+1,\"OK\",\"X\")","v":{"$error":"#REF!"}},1,1,2,"OK","7","3Monday","Monday3y","Monday3OK",null,3,"Monday",23212206,{"$f":"IFERROR(VLOOKUP(N83,#REF!,3,FALSE),\"_\")","v":"_"},{"$f":"IFERROR(VLOOKUP(N83,#REF!,7,FALSE),\"_\")","v":"_"},{"$f":"IFERROR(VLOOKUP(N83,#REF!,12,FALSE),\"_\")","v":"_"},{"$f":"IFERROR(VLOOKUP(N83,#REF!,3,FALSE),\"\")","v":""},{"$f":"IFERROR(VLOOKUP(N83,#REF!,2,FALSE),\"\")","v":""},null,"y"]
[{"$error":"#REF!"},{"$f":"IF(VLOOKUP(M84,#REF!,2,FALSE)<=#REF!+1,\"OK\",\"X\")","v":{"$error":"#REF!"}},1,0,1,"OK","7Paulo M.","3Monday","Monday3N","Monday3OK",null,3,"Monday",23242191,{"$f":"IFERROR(VLOOKUP(N84,#REF!,3,FALSE),\"_\")","v":"_"},{"$f":"IFERROR(VLOOKUP(N84,#REF!,7,FALSE),\"_\")","v":"_"},{"$f":"IFERROR(VLOOKUP(N84,#REF!,12,FALSE),\"_\")","v":"_"},{"$f":"IFERROR(VLOOKUP(N84,#REF!,3,FALSE),\"\")","v":""},{"$f":"IFERROR(VLOOKUP(N84,#REF!,2,FALSE),\"\")","v":""},"Paulo M.","N",null,null,null,"3068D064","poucos rolo encontrado p lote"]
[{"$error":"#REF!"},{"$f":"IF(VLOOKUP(M85,#REF!,2,FALSE)<=#REF!+1,\"OK\",\"X\")","v":{"$error":"#REF!"}},1,0,1,"OK","7Paulo M.","3Monday","Monday3N","Monday3OK",null,3,"Monday",23222213,{"$f":"IFERROR(VLOOKUP(N85,#REF!,3,FALSE),\"_\")","v":"_"},{"$f":"IFERROR(VLOOKUP(N85,#REF!,7,FALSE),\"_\")","v":"_"},{"$f":"IFERROR(VLOOKUP(N85,#REF!,12,FALSE),\"_\")","v":"_"},{"$f":"IFERROR(VLOOKUP(N85,#REF!,3,FALSE),\"\")","v":""},{"$f":"IFERROR(VLOOKUP(N85,#REF!,2,FALSE),\"\")","v":""},"Paulo M.","N",null,"YH115MV8300054"]
[{"$error":"#REF!"},{"$f":"IF(VLOOKUP(M86,#REF!,2,FALSE)<=#REF!+1,\"OK\",\"X\")","v":{"$error":"#REF!"}},1,1,2,"OK","7Paulo M.","3Monday","Monday3Y","Monday3OK",null,3,"Monday",23232093,{"$f":"IFERROR(VLOOKUP(N86,#REF!,3,FALSE),\"_\")","v":"_"},{"$f":"IFERROR(VLOOKUP(N86,#REF!,7,FALSE),\"_\")","v":"_"},{"$f":"IFERROR(VLOOKUP(N86,#REF!,12,FALSE),\"_\")","v":"_"},{"$f":"IFERROR(VLOOKUP(N86,#REF!,3,FALSE),\"\")","v":""},{"$f":"IFERROR(VLOOKUP(N86,#REF!,2,FALSE),\"\")","v":""},"Paulo M.","Y"]
[{"$error":"#REF!"},{"$f":"IF(VLOOKUP(M87,#REF!,2,FALSE)<=#REF!+1,\"OK\",\"X\")","v":{"$error":"#REF!"}},1,1,2,"OK","7Paulo M.","3Tuesday","Tuesday3Y","Tuesday3OK",null,3,"Tuesday",23232094,{"$f":"IFERROR(VLOOKUP(N87,#REF!,3,FALSE),\"_\")","v":"_"},{"$f":"IFERROR(VLOOKUP(N87,#REF!,7,FALSE),\"_\")","v":"_"},{"$f":"IFERROR(VLOOKUP(N87,#REF!,12,FALSE),\"_\")","v":"_"},{"$f":"IFERROR(VLOOKUP(N87,#REF!,3,FALSE),\"\")","v":""},{"$f":"IFERROR(VLOOKUP(N87,#REF!,2,FALSE),\"\")","v":""},"Paulo M.","Y"]
[{"$error":"#REF!"},{"$f":"IF(VLOOKUP(M88,#REF!,2,FALSE)<=#REF!+1,\"OK\",\"X\")","v":{"$error":"#REF!"}},1,1,2,"OK","7Francisco A.","3Wednesday","Wednesday3Y","Wednesday3OK",null,3,"Wednesday",23232095,{"$f":"IFERROR(VLOOKUP(N88,#REF!,3,FALSE),\"_\")","v":"_"},{"$f":"IFERROR(VLOOKUP(N88,#REF!,7,FALSE),\"_\")","v":"_"},{"$f":"IFERROR(VLOOKUP(N88,#REF!,12,FALSE),\"_\")","v":"_"},{"$f":"IFERROR(VLOOKUP(N88,#REF!,3,FALSE),\"\")","v":""},{"$f":"IFERROR(VLOOKUP(N88,#REF!,2,FALSE),\"\")","v":""},"Francisco A.","Y"]
[{"$error":"#REF!"},{"$f":"IF(VLOOKUP(M89,#REF!,2,FALSE)<=#REF!+1,\"OK\",\"X\")","v":{"$error":"#REF!"}},1,1,2,"OK","7Francisco A.","3Wednesday","Wednesday3Y","Wednesday3OK",null,3,"Wednesday",23232096,{"$f":"IFERROR(VLOOKUP(N89,#REF!,3,FALSE),\"_\")","v":"_"},{"$f":"IFERROR(VLOOKUP(N89,#REF!,7,FALSE),\"_\")","v":"_"},{"$f":"IFERROR(VLOOKUP(N89,#REF!,12,FALSE),\"_\")","v":"_"},{"$f":"IFERROR(VLOOKUP(N89,#REF!,3,FALSE),\"\")","v":""},{"$f":"IFERROR(VLOOKUP(N89,#REF!,2,FALSE),\"\")","v":""},"Francisco A.","Y"]
[{"$error":"#REF!"},{"$f":"IF(VLOOKUP(M90,#REF!,2,FALSE)<=#REF!+1,\"OK\",\"X\")","v":{"$error":"#REF!"}},1,0,1,"OK","7","3Thursday","Thursday3","Thursday3OK",null,3,"Thursday",23232097,{"$f":"IFERROR(VLOOKUP(N90,#REF!,3,FALSE),\"_\")","v":"_"},{"$f":"IFERROR(VLOOKUP(N90,#REF!,7,FALSE),\"_\")","v":"_"},{"$f":"IFERROR(VLOOKUP(N90,#REF!,12,FALSE),\"_\")","v":"_"},{"$f":"IFERROR(VLOOKUP(N90,#REF!,3,FALSE),\"\")","v":""},{"$f":"IFERROR(VLOOKUP(N90,#REF!,2,FALSE),\"\")","v":""}]
[{"$f":"L91&LEFT(P91,3)&B91","v":{"$error":"#REF!"}},{"$f":"IF(VLOOKUP(M91,#REF!,2,FALSE)<=#REF!+1,\"OK\",\"X\")","v":{"$error":"#REF!"}},{"$f":"IF(P91=\"start dummy operation\",0,1)","v":1},{"$f":"IF(U91=\"Y\",1,0)","v":0},{"$f":"SUM(C91:D91)","v":1},{"$f":"IF(E91>0,\"OK\",\"X2\")","v":"OK"},{"$f":"WEEKDAY(V91)&T91","v":"7"},{"$f":"L91&M91","v":"3Thursday"},{"$f":"M91&L91&U91","v":"Thursday3"},{"$f":"M91&L91&F91","v":"Thursday3OK"},null,3,"Thursday",23232098,{"$f":"IFERROR(VLOOKUP(N91,#REF!,3,FALSE),\"_\")","v":"_"},{"$f":"IFERROR(VLOOKUP(N91,#REF!,7,FALSE),\"_\")","v":"_"},{"$f":"IFERROR(VLOOKUP(N91,#REF!,12,FALSE),\"_\")","v":"_"},{"$f":"IFERROR(VLOOKUP(N91,#REF!,3,FALSE),\"\")","v":""},{"$f":"IFERROR(VLOOKUP(N91,#REF!,2,FALSE),\"\")","v":""}]
[{"$error":"#REF!"},{"$f":"IF(VLOOKUP(M92,#REF!,2,FALSE)<=#REF!+1,\"OK\",\"X\")","v":{"$error":"#REF!"}},1,0,1,"OK","7","3Friday","Friday3","Friday3OK",null,3,"Friday",23232099,{"$f":"IFERROR(VLOOKUP(N92,#REF!,3,FALSE),\"_\")","v":"_"},{"$f":"IFERROR(VLOOKUP(N92,#REF!,7,FALSE),\"_\")","v":"_"},{"$f":"IFERROR(VLOOKUP(N92,#REF!,12,FALSE),\"_\")","v":"_"},{"$f":"IFERROR(VLOOKUP(N92,#REF!,3,FALSE),\"\")","v":""},{"$f":"IFERROR(VLOOKUP(N92,#REF!,2,FALSE),\"\")","v":""}]
[{"$error":"#REF!"},{"$f":"IF(VLOOKUP(M93,#REF!,2,FALSE)<=#REF!+1,\"OK\",\"X\")","v":{"$error":"#REF!"}},1,0,1,"OK","7","3Friday","Friday3","Friday3OK",null,3,"Friday",23232100,{"$f":"IFERROR(VLOOKUP(N93,#REF!,3,FALSE),\"_\")","v":"_"},{"$f":"IFERROR(VLOOKUP(N93,#REF!,7,FALSE),\"_\")","v":"_"},{"$f":"IFERROR(VLOOKUP(N93,#REF!,12,FALSE),\"_\")","v":"_"},{"$f":"IFERROR(VLOOKUP(N93,#REF!,3,FALSE),\"\")","v":""},{"$f":"IFERROR(VLOOKUP(N93,#REF!,2,FALSE),\"\")","v":""}]
[{"$error":"#REF!"},{"$f":"IF(VLOOKUP(M94,#REF!,2,FALSE)<=#REF!+1,\"OK\",\"X\")","v":{"$error":"#REF!"}},1,0,1,"OK","7","3Saturday","Saturday3","Saturday3OK",null,3,"Saturday",23232101,{"$f":"IFERROR(VLOOKUP(N94,#REF!,3,FALSE),\"_\")","v":"_"},{"$f":"IFERROR(VLOOKUP(N94,#REF!,7,FALSE),\"_\")","v":"_"},{"$f":"IFERROR(VLOOKUP(N94,#REF!,12,FALSE),\"_\")","v":"_"},{"$f":"IFERROR(VLOOKUP(N94,#REF!,3,FALSE),\"\")","v":""},{"$f":"IFERROR(VLOOKUP(N94,#REF!,2,FALSE),\"\")","v":""}]
[{"$error":"#REF!"},{"$f":"IF(VLOOKUP(M95,#REF!,2,FALSE)<=#REF!+1,\"OK\",\"X\")","v":{"$error":"#REF!"}},1,0,1,"OK","7","3Sunday","Sunday3","Sunday3OK",null,3,"Sunday",23232102,{"$f":"IFERROR(VLOOKUP(N95,#REF!,3,FALSE),\"_\")","v":"_"},{"$f":"IFERROR(VLOOKUP(N95,#REF!,7,FALSE),\"_\")","v":"_"},{"$f":"IFERROR(VLOOKUP(N95,#REF!,12,FALSE),\"_\")","v":"_"},{"$f":"IFERROR(VLOOKUP(N95,#REF!,3,FALSE),\"\")","v":""},{"$f":"IFERROR(VLOOKUP(N95,#REF!,2,FALSE),\"\")","v":""}]
[{"$error":"#REF!"},{"$f":"IF(VLOOKUP(M96,#REF!,2,FALSE)<=#REF!+1,\"OK\",\"X\")","v":{"$error":"#REF!"}},1,0,1,"OK","7","3Sunday","Sunday3","Sunday3OK",null,3,"Sunday",23232103,{"$f":"IFERROR(VLOOKUP(N96,#REF!,3,FALSE),\"_\")","v":"_"},{"$f":"IFERROR(VLOOKUP(N96,#REF!,7,FALSE),\"_\")","v":"_"},{"$f":"IFERROR(VLOOKUP(N96,#REF!,12,FALSE),\"_\")","v":"_"},{"$f":"IFERROR(VLOOKUP(N96,#REF!,3,FALSE),\"\")","v":""},{"$f":"IFERROR(VLOOKUP(N96,#REF!,2,FALSE),\"\")","v":""}]
[{"$error":"#REF!"},{"$f":"IF(VLOOKUP(M97,#REF!,2,FALSE)<=#REF!+1,\"OK\",\"X\")","v":{"$error":"#REF!"}},1,0,1,"OK","7","3EXTRA","EXTRA3","EXTRA3OK",null,3,"EXTRA",23242177,{"$f":"IFERROR(VLOOKUP(N97,#REF!,3,FALSE),\"_\")","v":"_"},{"$f":"IFERROR(VLOOKUP(N97,#REF!,7,FALSE),\"_\")","v":"_"},{"$f":"IFERROR(VLOOKUP(N97,#REF!,12,FALSE),\"_\")","v":"_"},{"$f":"IFERROR(VLOOKUP(N97,#REF!,3,FALSE),\"\")","v":""},{"$f":"IFERROR(VLOOKUP(N97,#REF!,2,FALSE),\"\")","v":""}]
[{"$error":"#REF!"},{"$f":"IF(VLOOKUP(M98,#REF!,2,FALSE)<=#REF!+1,\"OK\",\"X\")","v":{"$error":"#REF!"}},1,0,1,"OK","7","3EXTRA","EXTRA3","EXTRA3OK",null,3,"EXTRA",23242178,{"$f":"IFERROR(VLOOKUP(N98,#REF!,3,FALSE),\"_\")","v":"_"},{"$f":"IFERROR(VLOOKUP(N98,#REF!,7,FALSE),\"_\")","v":"_"},{"$f":"IFERROR(VLOOKUP(N98,#REF!,12,FALSE),\"_\")","v":"_"},{"$f":"IFERROR(VLOOKUP(N98,#REF!,3,FALSE),\"\")","v":""},{"$f":"IFERROR(VLOOKUP(N98,#REF!,2,FALSE),\"\")","v":""}]
[{"$error":"#REF!"},{"$f":"IF(VLOOKUP(M99,#REF!,2,FALSE)<=#REF!+1,\"OK\",\"X\")","v":{"$error":"#REF!"}},1,0,1,"OK","7","3EXTRA","EXTRA3","EXTRA3OK",null,3,"EXTRA",23242179,{"$f":"IFERROR(VLOOKUP(N99,#REF!,3,FALSE),\"_\")","v":"_"},{"$f":"IFERROR(VLOOKUP(N99,#REF!,7,FALSE),\"_\")","v":"_"},{"$f":"IFERROR(VLOOKUP(N99,#REF!,12,FALSE),\"_\")","v":"_"},{"$f":"IFERROR(VLOOKUP(N99,#REF!,3,FALSE),\"\")","v":""},{"$f":"IFERROR(VLOOKUP(N99,#REF!,2,FALSE),\"\")","v":""}]
[{"$error":"#REF!"},{"$f":"IF(VLOOKUP(M100,#REF!,2,FALSE)<=#REF!+1,\"OK\",\"X\")","v":{"$error":"#REF!"}},1,0,1,"OK","7","3EXTRA","EXTRA3","EXTRA3OK",null,3,"EXTRA",23242180,{"$f":"IFERROR(VLOOKUP(N100,#REF!,3,FALSE),\"_\")","v":"_"},{"$f":"IFERROR(VLOOKUP(N100,#REF!,7,FALSE),\"_\")","v":"_"},{"$f":"IFERROR(VLOOKUP(N100,#REF!,12,FALSE),\"_\")","v":"_"},{"$f":"IFERROR(VLOOKUP(N100,#REF!,3,FALSE),\"\")","v":""},{"$f":"IFERROR(VLOOKUP(N100,#REF!,2,FALSE),\"\")","v":""}]
[{"$error":"#REF!"},{"$f":"IF(VLOOKUP(M101,#REF!,2,FALSE)<=#REF!+1,\"OK\",\"X\")","v":{"$error":"#REF!"}},1,0,1,"OK","7","3EXTRA","EXTRA3","EXTRA3OK",null,3,"EXTRA",23242181,{"$f":"IFERROR(VLOOKUP(N101,#REF!,3,FALSE),\"_\")","v":"_"},{"$f":"IFERROR(VLOOKUP(N101,#REF!,7,FALSE),\"_\")","v":"_"},{"$f":"IFERROR(VLOOKUP(N101,#REF!,12,FALSE),\"_\")","v":"_"},{"$f":"IFERROR(VLOOKUP(N101,#REF!,3,FALSE),\"\")","v":""},{"$f":"IFERROR(VLOOKUP(N101,#REF!,2,FALSE),\"\")","v":""}]
[{"$error":"#REF!"},{"$f":"IF(VLOOKUP(M102,#REF!,2,FALSE)<=#REF!+1,\"OK\",\"X\")","v":{"$error":"#REF!"}},1,0,1,"OK","7","3EXTRA","EXTRA3","EXTRA3OK",null,3,"EXTRA",23242193,{"$f":"IFERROR(VLOOKUP(N102,#REF!,3,FALSE),\"_\")","v":"_"},{"$f":"IFERROR(VLOOKUP(N102,#REF!,7,FALSE),\"_\")","v":"_"},{"$f":"IFERROR(VLOOKUP(N102,#REF!,12,FALSE),\"_\")","v":"_"},{"$f":"IFERROR(VLOOKUP(N102,#REF!,3,FALSE),\"\")","v":""},{"$f":"IFERROR(VLOOKUP(N102,#REF!,2,FALSE),\"\")","v":""}]
[{"$error":"#REF!"},{"$f":"IF(VLOOKUP(M103,#REF!,2,FALSE)<=#REF!+1,\"OK\",\"X\")","v":{"$error":"#REF!"}},1,0,1,"OK","7","3EXTRA","EXTRA3","EXTRA3OK",null,3,"EXTRA",23242194,{"$f":"IFERROR(VLOOKUP(N103,#REF!,3,FALSE),\"_\")","v":"_"},{"$f":"IFERROR(VLOOKUP(N103,#REF!,7,FALSE),\"_\")","v":"_"},{"$f":"IFERROR(VLOOKUP(N103,#REF!,12,FALSE),\"_\")","v":"_"},{"$f":"IFERROR(VLOOKUP(N103,#REF!,3,FALSE),\"\")","v":""},{"$f":"IFERROR(VLOOKUP(N103,#REF!,2,FALSE),\"\")","v":""}]
[{"$error":"#REF!"},{"$f":"IF(VLOOKUP(M104,#REF!,2,FALSE)<=#REF!+1,\"OK\",\"X\")","v":{"$error":"#REF!"}},1,0,1,"OK","7","3EXTRA","EXTRA3","EXTRA3OK",null,3,"EXTRA",23242195,{"$f":"IFERROR(VLOOKUP(N104,#REF!,3,FALSE),\"_\")","v":"_"},{"$f":"IFERROR(VLOOKUP(N104,#REF!,7,FALSE),\"_\")","v":"_"},{"$f":"IFERROR(VLOOKUP(N104,#REF!,12,FALSE),\"_\")","v":"_"},{"$f":"IFERROR(VLOOKUP(N104,#REF!,3,FALSE),\"\")","v":""},{"$f":"IFERROR(VLOOKUP(N104,#REF!,2,FALSE),\"\")","v":""}]
[{"$error":"#REF!"},{"$f":"IF(VLOOKUP(M105,#REF!,2,FALSE)<=#REF!+1,\"OK\",\"X\")","v":{"$error":"#REF!"}},1,0,1,"OK","7","3EXTRA","EXTRA3","EXTRA3OK",null,3,"EXTRA",23242196,{"$f":"IFERROR(VLOOKUP(N105,#REF!,3,FALSE),\"_\")","v":"_"},{"$f":"IFERROR(VLOOKUP(N105,#REF!,7,FALSE),\"_\")","v":"_"},{"$f":"IFERROR(VLOOKUP(N105,#REF!,12,FALSE),\"_\")","v":"_"},{"$f":"IFERROR(VLOOKUP(N105,#REF!,3,FALSE),\"\")","v":""},{"$f":"IFERROR(VLOOKUP(N105,#REF!,2,FALSE),\"\")","v":""}]
[{"$error":"#REF!"},{"$f":"IF(VLOOKUP(M106,#REF!,2,FALSE)<=#REF!+1,\"OK\",\"X\")","v":{"$error":"#REF!"}},1,0,1,"OK","7","3EXTRA","EXTRA3","EXTRA3OK",null,3,"EXTRA",23242197,{"$f":"IFERROR(VLOOKUP(N106,#REF!,3,FALSE),\"_\")","v":"_"},{"$f":"IFERROR(VLOOKUP(N106,#REF!,7,FALSE),\"_\")","v":"_"},{"$f":"IFERROR(VLOOKUP(N106,#REF!,12,FALSE),\"_\")","v":"_"},{"$f":"IFERROR(VLOOKUP(N106,#REF!,3,FALSE),\"\")","v":""},{"$f":"IFERROR(VLOOKUP(N106,#REF!,2,FALSE),\"\")","v":""}]
[{"$error":"#REF!"},{"$f":"IF(VLOOKUP(M107,#REF!,2,FALSE)<=#REF!+1,\"OK\",\"X\")","v":{"$error":"#REF!"}},1,0,1,"OK","7","3EXTRA","EXTRA3","EXTRA3OK",null,3,"EXTRA",23242198,{"$f":"IFERROR(VLOOKUP(N107,#REF!,3,FALSE),\"_\")","v":"_"},{"$f":"IFERROR(VLOOKUP(N107,#REF!,7,FALSE),\"_\")","v":"_"},{"$f":"IFERROR(VLOOKUP(N107,#REF!,12,FALSE),\"_\")","v":"_"},{"$f":"IFERROR(VLOOKUP(N107,#REF!,3,FALSE),\"\")","v":""},{"$f":"IFERROR(VLOOKUP(N107,#REF!,2,FALSE),\"\")","v":""}]
[{"$error":"#REF!"},{"$f":"IF(VLOOKUP(M108,#REF!,2,FALSE)<=#REF!+1,\"OK\",\"X\")","v":{"$error":"#REF!"}},1,0,1,"OK","7","3EXTRA","EXTRA3","EXTRA3OK",null,3,"EXTRA",23242199,{"$f":"IFERROR(VLOOKUP(N108,#REF!,3,FALSE),\"_\")","v":"_"},{"$f":"IFERROR(VLOOKUP(N108,#REF!,7,FALSE),\"_\")","v":"_"},{"$f":"IFERROR(VLOOKUP(N108,#REF!,12,FALSE),\"_\")","v":"_"},{"$f":"IFERROR(VLOOKUP(N108,#REF!,3,FALSE),\"\")","v":""},{"$f":"IFERROR(VLOOKUP(N108,#REF!,2,FALSE),\"\")","v":""}]
[{"$error":"#REF!"},{"$f":"IF(VLOOKUP(M109,#REF!,2,FALSE)<=#REF!+1,\"OK\",\"X\")","v":{"$error":"#REF!"}},1,0,1,"OK","7","3EXTRA","EXTRA3","EXTRA3OK",null,3,"EXTRA",23242200,{"$f":"IFERROR(VLOOKUP(N109,#REF!,3,FALSE),\"_\")","v":"_"},{"$f":"IFERROR(VLOOKUP(N109,#REF!,7,FALSE),\"_\")","v":"_"},{"$f":"IFERROR(VLOOKUP(N109,#REF!,12,FALSE),\"_\")","v":"_"},{"$f":"IFERROR(VLOOKUP(N109,#REF!,3,FALSE),\"\")","v":""},{"$f":"IFERROR(VLOOKUP(N109,#REF!,2,FALSE),\"\")","v":""}]
[{"$error":"#REF!"},{"$f":"IF(VLOOKUP(M110,#REF!,2,FALSE)<=#REF!+1,\"OK\",\"X\")","v":{"$error":"#REF!"}},1,1,2,"OK","7","8Thursday_n-1","Thursday_n-18y","Thursday_n-18OK",null,8,"Thursday_n-1",23232153,{"$f":"IFERROR(VLOOKUP(N110,#REF!,3,FALSE),\"_\")","v":"_"},{"$f":"IFERROR(VLOOKUP(N110,#REF!,7,FALSE),\"_\")","v":"_"},{"$f":"IFERROR(VLOOKUP(N110,#REF!,12,FALSE),\"_\")","v":"_"},{"$f":"IFERROR(VLOOKUP(N110,#REF!,3,FALSE),\"\")","v":""},{"$f":"IFERROR(VLOOKUP(N110,#REF!,2,FALSE),\"\")","v":""},null,"y"]
[{"$error":"#REF!"},{"$f":"IF(VLOOKUP(M111,#REF!,2,FALSE)<=#REF!+1,\"OK\",\"X\")","v":{"$error":"#REF!"}},1,1,2,"OK","7","8Thursday_n-1","Thursday_n-18y","Thursday_n-18OK",null,8,"Thursday_n-1",23232154,{"$f":"IFERROR(VLOOKUP(N111,#REF!,3,FALSE),\"_\")","v":"_"},{"$f":"IFERROR(VLOOKUP(N111,#REF!,7,FALSE),\"_\")","v":"_"},{"$f":"IFERROR(VLOOKUP(N111,#REF!,12,FALSE),\"_\")","v":"_"},{"$f":"IFERROR(VLOOKUP(N111,#REF!,3,FALSE),\"\")","v":""},{"$f":"IFERROR(VLOOKUP(N111,#REF!,2,FALSE),\"\")","v":""},null,"y"]
[{"$error":"#REF!"},{"$f":"IF(VLOOKUP(M112,#REF!,2,FALSE)<=#REF!+1,\"OK\",\"X\")","v":{"$error":"#REF!"}},1,0,1,"OK","7","8Thursday_n-1","Thursday_n-18e","Thursday_n-18OK",null,8,"Thursday_n-1",23232155,{"$f":"IFERROR(VLOOKUP(N112,#REF!,3,FALSE),\"_\")","v":"_"},{"$f":"IFERROR(VLOOKUP(N112,#REF!,7,FALSE),\"_\")","v":"_"},{"$f":"IFERROR(VLOOKUP(N112,#REF!,12,FALSE),\"_\")","v":"_"},{"$f":"IFERROR(VLOOKUP(N112,#REF!,3,FALSE),\"\")","v":""},{"$f":"IFERROR(VLOOKUP(N112,#REF!,2,FALSE),\"\")","v":""},null,"e",null,null,null,null,"NCNEVE230616021457823"]
[{"$error":"#REF!"},{"$f":"IF(VLOOKUP(M113,#REF!,2,FALSE)<=#REF!+1,\"OK\",\"X\")","v":{"$error":"#REF!"}},1,1,2,"OK","7","8Thursday_n-1","Thursday_n-18y","Thursday_n-18OK",null,8,"Thursday_n-1",23162312,{"$f":"IFERROR(VLOOKUP(N113,#REF!,3,FALSE),\"_\")","v":"_"},{"$f":"IFERROR(VLOOKUP(N113,#REF!,7,FALSE),\"_\")","v":"_"},{"$f":"IFERROR(VLOOKUP(N113,#REF!,12,FALSE),\"_\")","v":"_"},{"$f":"IFERROR(VLOOKUP(N113,#REF!,3,FALSE),\"\")","v":""},{"$f":"IFERROR(VLOOKUP(N113,#REF!,2,FALSE),\"\")","v":""},null,"y"]
[{"$error":"#REF!"},{"$f":"IF(VLOOKUP(M114,#REF!,2,FALSE)<=#REF!+1,\"OK\",\"X\")","v":{"$error":"#REF!"}},1,0,1,"OK","7Joao Cebola","8Thursday_n-1","Thursday_n-18N","Thursday_n-18OK",null,8,"Thursday_n-1",23222223,{"$f":"IFERROR(VLOOKUP(N114,#REF!,3,FALSE),\"_\")","v":"_"},{"$f":"IFERROR(VLOOKUP(N114,#REF!,7,FALSE),\"_\")","v":"_"},{"$f":"IFERROR(VLOOKUP(N114,#REF!,12,FALSE),\"_\")","v":"_"},{"$f":"IFERROR(VLOOKUP(N114,#REF!,3,FALSE),\"\")","v":""},{"$f":"IFERROR(VLOOKUP(N114,#REF!,2,FALSE),\"\")","v":""},"Joao Cebola","N",null,"115HL13480029",null,null,"OK"]
[{"$error":"#REF!"},{"$f":"IF(VLOOKUP(M115,#REF!,2,FALSE)<=#REF!+1,\"OK\",\"X\")","v":{"$error":"#REF!"}},1,1,2,"OK","7Joao Cebola","8Thursday_n-1","Thursday_n-18Y","Thursday_n-18OK",null,8,"Thursday_n-1",23182251,{"$f":"IFERROR(VLOOKUP(N115,#REF!,3,FALSE),\"_\")","v":"_"},{"$f":"IFERROR(VLOOKUP(N115,#REF!,7,FALSE),\"_\")","v":"_"},{"$f":"IFERROR(VLOOKUP(N115,#REF!,12,FALSE),\"_\")","v":"_"},{"$f":"IFERROR(VLOOKUP(N115,#REF!,3,FALSE),\"\")","v":""},{"$f":"IFERROR(VLOOKUP(N115,#REF!,2,FALSE),\"\")","v":""},"Joao Cebola","Y",null,null,null,"3030M036"]
[{"$error":"#REF!"},{"$f":"IF(VLOOKUP(M116,#REF!,2,FALSE)<=#REF!+1,\"OK\",\"X\")","v":{"$error":"#REF!"}},1,0,1,"OK","7Joao Cebola","8Thursday_n-1","Thursday_n-18N","Thursday_n-18OK",null,8,"Thursday_n-1",23212218,{"$f":"IFERROR(VLOOKUP(N116,#REF!,3,FALSE),\"_\")","v":"_"},{"$f":"IFERROR(VLOOKUP(N116,#REF!,7,FALSE),\"_\")","v":"_"},{"$f":"IFERROR(VLOOKUP(N116,#REF!,12,FALSE),\"_\")","v":"_"},{"$f":"IFERROR(VLOOKUP(N116,#REF!,3,FALSE),\"\")","v":""},{"$f":"IFERROR(VLOOKUP(N116,#REF!,2,FALSE),\"\")","v":""},"Joao Cebola","N",null,null,null,"3030M036","AGUARDA DEV"]
[{"$error":"#REF!"},{"$f":"IF(VLOOKUP(M117,#REF!,2,FALSE)<=#REF!+1,\"OK\",\"X\")","v":{"$error":"#REF!"}},1,0,1,"OK","7Joao Cebola","8Thursday_n-1","Thursday_n-18N","Thursday_n-18OK",null,8,"Thursday_n-1",23232127,{"$f":"IFERROR(VLOOKUP(N117,#REF!,3,FALSE),\"_\")","v":"_"},{"$f":"IFERROR(VLOOKUP(N117,#REF!,7,FALSE),\"_\")","v":"_"},{"$f":"IFERROR(VLOOKUP(N117,#REF!,12,FALSE),\"_\")","v":"_"},{"$f":"IFERROR(VLOOKUP(N117,#REF!,3,FALSE),\"\")","v":""},{"$f":"IFERROR(VLOOKUP(N117,#REF!,2,FALSE),\"\")","v":""},"Joao Cebola","N",null,null,null,"3030M036","AGUARDA DEV"]
[{"$error":"#REF!"},{"$f":"IF(VLOOKUP(M118,#REF!,2,FALSE)<=#REF!+1,\"OK\",\"X\")","v":{"$error":"#REF!"}},1,1,2,"OK","7","8Friday_n-1","Friday_n-18y","Friday_n-18OK",null,8,"Friday_n-1",23112138,{"$f":"IFERROR(VLOOKUP(N118,#REF!,3,FALSE),\"_\")","v":"_"},{"$f":"IFERROR(VLOOKUP(N118,#REF!,7,FALSE),\"_\")","v":"_"},{"$f":"IFERROR(VLOOKUP(N118,#REF!,12,FALSE),\"_\")","v":"_"},{"$f":"IFERROR(VLOOKUP(N118,#REF!,3,FALSE),\"\")","v":""},{"$f":"IFERROR(VLOOKUP(N118,#REF!,2,FALSE),\"\")","v":""},null,"y"]
[{"$error":"#REF!"},{"$f":"IF(VLOOKUP(M119,#REF!,2,FALSE)<=#REF!+1,\"OK\",\"X\")","v":{"$error":"#REF!"}},1,0,1,"OK","7Joao Cebola","8Friday_n-1","Friday_n-18N","Friday_n-18OK",null,8,"Friday_n-1",23252015,{"$f":"IFERROR(VLOOKUP(N119,#REF!,3,FALSE),\"_\")","v":"_"},{"$f":"IFERROR(VLOOKUP(N119,#REF!,7,FALSE),\"_\")","v":"_"},{"$f":"IFERROR(VLOOKUP(N119,#REF!,12,FALSE),\"_\")","v":"_"},{"$f":"IFERROR(VLOOKUP(N119,#REF!,3,FALSE),\"\")","v":""},{"$f":"IFERROR(VLOOKUP(N119,#REF!,2,FALSE),\"\")","v":""},"Joao Cebola","N",null,null,"K204026",null,"AGUARDA T39"]
[{"$error":"#REF!"},{"$f":"IF(VLOOKUP(M120,#REF!,2,FALSE)<=#REF!+1,\"OK\",\"X\")","v":{"$error":"#REF!"}},1,1,2,"OK","7","8Friday_n-1","Friday_n-18y","Friday_n-18OK",null,8,"Friday_n-1",23232150,{"$f":"IFERROR(VLOOKUP(N120,#REF!,3,FALSE),\"_\")","v":"_"},{"$f":"IFERROR(VLOOKUP(N120,#REF!,7,FALSE),\"_\")","v":"_"},{"$f":"IFERROR(VLOOKUP(N120,#REF!,12,FALSE),\"_\")","v":"_"},{"$f":"IFERROR(VLOOKUP(N120,#REF!,3,FALSE),\"\")","v":""},{"$f":"IFERROR(VLOOKUP(N120,#REF!,2,FALSE),\"\")","v":""},null,"y"]
[{"$error":"#REF!"},{"$f":"IF(VLOOKUP(M121,#REF!,2,FALSE)<=#REF!+1,\"OK\",\"X\")","v":{"$error":"#REF!"}},1,1,2,"OK","7","8Friday_n-1","Friday_n-18y","Friday_n-18OK",null,8,"Friday_n-1",23232151,{"$f":"IFERROR(VLOOKUP(N121,#REF!,3,FALSE),\"_\")","v":"_"},{"$f":"IFERROR(VLOOKUP(N121,#REF!,7,FALSE),\"_\")","v":"_"},{"$f":"IFERROR(VLOOKUP(N121,#REF!,12,FALSE),\"_\")","v":"_"},{"$f":"IFERROR(VLOOKUP(N121,#REF!,3,FALSE),\"\")","v":""},{"$f":"IFERROR(VLOOKUP(N121,#REF!,2,FALSE),\"\")","v":""},null,"y"]
[{"$error":"#REF!"},{"$f":"IF(VLOOKUP(M122,#REF!,2,FALSE)<=#REF!+1,\"OK\",\"X\")","v":{"$error":"#REF!"}},1,1,2,"OK","7","8Friday_n-1","Friday_n-18y","Friday_n-18OK",null,8,"Friday_n-1",23082237,{"$f":"IFERROR(VLOOKUP(N122,#REF!,3,FALSE),\"_\")","v":"_"},{"$f":"IFERROR(VLOOKUP(N122,#REF!,7,FALSE),\"_\")","v":"_"},{"$f":"IFERROR(VLOOKUP(N122,#REF!,12,FALSE),\"_\")","v":"_"},{"$f":"IFERROR(VLOOKUP(N122,#REF!,3,FALSE),\"\")","v":""},{"$f":"IFERROR(VLOOKUP(N122,#REF!,2,FALSE),\"\")","v":""},null,"y"]
[{"$error":"#REF!"},{"$f":"IF(VLOOKUP(M123,#REF!,2,FALSE)<=#REF!+1,\"OK\",\"X\")","v":{"$error":"#REF!"}},1,1,2,"OK","7Wagner Ferreira","8Friday_n-1","Friday_n-18Y","Friday_n-18OK",null,8,"Friday_n-1",23242201,{"$f":"IFERROR(VLOOKUP(N123,#REF!,3,FALSE),\"_\")","v":"_"},{"$f":"IFERROR(VLOOKUP(N123,#REF!,7,FALSE),\"_\")","v":"_"},{"$f":"IFERROR(VLOOKUP(N123,#REF!,12,FALSE),\"_\")","v":"_"},{"$f":"IFERROR(VLOOKUP(N123,#REF!,3,FALSE),\"\")","v":""},{"$f":"IFERROR(VLOOKUP(N123,#REF!,2,FALSE),\"\")","v":""},"Wagner Ferreira","Y"]
[{"$error":"#REF!"},{"$f":"IF(VLOOKUP(M124,#REF!,2,FALSE)<=#REF!+1,\"OK\",\"X\")","v":{"$error":"#REF!"}},1,1,2,"OK","7Wagner Ferreira","8Friday_n-1","Friday_n-18Y","Friday_n-18OK",null,8,"Friday_n-1",23242202,{"$f":"IFERROR(VLOOKUP(N124,#REF!,3,FALSE),\"_\")","v":"_"},{"$f":"IFERROR(VLOOKUP(N124,#REF!,7,FALSE),\"_\")","v":"_"},{"$f":"IFERROR(VLOOKUP(N124,#REF!,12,FALSE),\"_\")","v":"_"},{"$f":"IFERROR(VLOOKUP(N124,#REF!,3,FALSE),\"\")","v":""},{"$f":"IFERROR(VLOOKUP(N124,#REF!,2,FALSE),\"\")","v":""},"Wagner Ferreira","Y"]
[{"$error":"#REF!"},{"$f":"IF(VLOOKUP(M125,#REF!,2,FALSE)<=#REF!+1,\"OK\",\"X\")","v":{"$error":"#REF!"}},1,1,2,"OK","7Wagner Ferreira","8Friday_n-1","Friday_n-18Y","Friday_n-18OK",null,8,"Friday_n-1",23242203,{"$f":"IFERROR(VLOOKUP(N125,#REF!,3,FALSE),\"_\")","v":"_"},{"$f":"IFERROR(VLOOKUP(N125,#REF!,7,FALSE),\"_\")","v":"_"},{"$f":"IFERROR(VLOOKUP(N125,#REF!,12,FALSE),\"_\")","v":"_"},{"$f":"IFERROR(VLOOKUP(N125,#REF!,3,FALSE),\"\")","v":""},{"$f":"IFERROR(VLOOKUP(N125,#REF!,2,FALSE),\"\")","v":""},"Wagner Ferreira","Y",null,null,"K204033"]
[{"$error":"#REF!"},{"$f":"IF(VLOOKUP(M126,#REF!,2,FALSE)<=#REF!+1,\"OK\",\"X\")","v":{"$error":"#REF!"}},1,1,2,"OK","7Wagner Ferreira","8Friday_n-1","Friday_n-18Y","Friday_n-18OK",null,8,"Friday_n-1",23242204,{"$f":"IFERROR(VLOOKUP(N126,#REF!,3,FALSE),\"_\")","v":"_"},{"$f":"IFERROR(VLOOKUP(N126,#REF!,7,FALSE),\"_\")","v":"_"},{"$f":"IFERROR(VLOOKUP(N126,#REF!,12,FALSE),\"_\")","v":"_"},{"$f":"IFERROR(VLOOKUP(N126,#REF!,3,FALSE),\"\")","v":""},{"$f":"IFERROR(VLOOKUP(N126,#REF!,2,FALSE),\"\")","v":""},"Wagner Ferreira","Y",null,null,"K204033"]
[{"$error":"#REF!"},{"$f":"IF(VLOOKUP(M127,#REF!,2,FALSE)<=#REF!+1,\"OK\",\"X\")","v":{"$error":"#REF!"}},1,1,2,"OK","7Wagner Ferreira","8Friday_n-1","Friday_n-18Y","Friday_n-18OK",null,8,"Friday_n-1",23242205,{"$f":"IFERROR(VLOOKUP(N127,#REF!,3,FALSE),\"_\")","v":"_"},{"$f":"IFERROR(VLOOKUP(N127,#REF!,7,FALSE),\"_\")","v":"_"},{"$f":"IFERROR(VLOOKUP(N127,#REF!,12,FALSE),\"_\")","v":"_"},{"$f":"IFERROR(VLOOKUP(N127,#REF!,3,FALSE),\"\")","v":""},{"$f":"IFERROR(VLOOKUP(N127,#REF!,2,FALSE),\"\")","v":""},"Wagner Ferreira","Y",null,null,"K204033"]
[{"$error":"#REF!"},{"$f":"IF(VLOOKUP(M128,#REF!,2,FALSE)<=#REF!+1,\"OK\",\"X\")","v":{"$error":"#REF!"}},1,1,2,"OK","7Wagner Ferreira","8Friday_n-1","Friday_n-18Y","Friday_n-18OK",null,8,"Friday_n-1",23242206,{"$f":"IFERROR(VLOOKUP(N128,#REF!,3,FALSE),\"_\")","v":"_"},{"$f":"IFERROR(VLOOKUP(N128,#REF!,7,FALSE),\"_\")","v":"_"},{"$f":"IFERROR(VLOOKUP(N128,#REF!,12,FALSE),\"_\")","v":"_"},{"$f":"IFERROR(VLOOKUP(N128,#REF!,3,FALSE),\"\")","v":""},{"$f":"IFERROR(VLOOKUP(N128,#REF!,2,FALSE),\"\")","v":""},"Wagner Ferreira","Y",null,null,"K204033"]
[{"$error":"#REF!"},{"$f":"IF(VLOOKUP(M129,#REF!,2,FALSE)<=#REF!+1,\"OK\",\"X\")","v":{"$error":"#REF!"}},1,1,2,"OK","7Wagner Ferreira","8Friday_n-1","Friday_n-18Y","Friday_n-18OK",null,8,"Friday_n-1",23242207,{"$f":"IFERROR(VLOOKUP(N129,#REF!,3,FALSE),\"_\")","v":"_"},{"$f":"IFERROR(VLOOKUP(N129,#REF!,7,FALSE),\"_\")","v":"_"},{"$f":"IFERROR(VLOOKUP(N129,#REF!,12,FALSE),\"_\")","v":"_"},{"$f":"IFERROR(VLOOKUP(N129,#REF!,3,FALSE),\"\")","v":""},{"$f":"IFERROR(VLOOKUP(N129,#REF!,2,FALSE),\"\")","v":""},"Wagner Ferreira","Y",null,null,"K204033"]
[{"$error":"#REF!"},{"$f":"IF(VLOOKUP(M130,#REF!,2,FALSE)<=#REF!+1,\"OK\",\"X\")","v":{"$error":"#REF!"}},1,1,2,"OK","7Wagner Ferreira","8Friday_n-1","Friday_n-18Y","Friday_n-18OK",null,8,"Friday_n-1",23242208,{"$f":"IFERROR(VLOOKUP(N130,#REF!,3,FALSE),\"_\")","v":"_"},{"$f":"IFERROR(VLOOKUP(N130,#REF!,7,FALSE),\"_\")","v":"_"},{"$f":"IFERROR(VLOOKUP(N130,#REF!,12,FALSE),\"_\")","v":"_"},{"$f":"IFERROR(VLOOKUP(N130,#REF!,3,FALSE),\"\")","v":""},{"$f":"IFERROR(VLOOKUP(N130,#REF!,2,FALSE),\"\")","v":""},"Wagner Ferreira","Y",null,null,"K204033"]
[{"$error":"#REF!"},{"$f":"IF(VLOOKUP(M131,#REF!,2,FALSE)<=#REF!+1,\"OK\",\"X\")","v":{"$error":"#REF!"}},1,1,2,"OK","7Wagner Ferreira","8Saturday_n-1","Saturday_n-18Y","Saturday_n-18OK",null,8,"Saturday_n-1",23242209,{"$f":"IFERROR(VLOOKUP(N131,#REF!,3,FALSE),\"_\")","v":"_"},{"$f":"IFERROR(VLOOKUP(N131,#REF!,7,FALSE),\"_\")","v":"_"},{"$f":"IFERROR(VLOOKUP(N131,#REF!,12,FALSE),\"_\")","v":"_"},{"$f":"IFERROR(VLOOKUP(N131,#REF!,3,FALSE),\"\")","v":""},{"$f":"IFERROR(VLOOKUP(N131,#REF!,2,FALSE),\"\")","v":""},"Wagner Ferreira","Y",null,null,"K204033"]
[{"$error":"#REF!"},{"$f":"IF(VLOOKUP(M132,#REF!,2,FALSE)<=#REF!+1,\"OK\",\"X\")","v":{"$error":"#REF!"}},1,1,2,"OK","7Wagner Ferreira","8Saturday_n-1","Saturday_n-18Y","Saturday_n-18OK",null,8,"Saturday_n-1",23242210,{"$f":"IFERROR(VLOOKUP(N132,#REF!,3,FALSE),\"_\")","v":"_"},{"$f":"IFERROR(VLOOKUP(N132,#REF!,7,FALSE),\"_\")","v":"_"},{"$f":"IFERROR(VLOOKUP(N132,#REF!,12,FALSE),\"_\")","v":"_"},{"$f":"IFERROR(VLOOKUP(N132,#REF!,3,FALSE),\"\")","v":""},{"$f":"IFERROR(VLOOKUP(N132,#REF!,2,FALSE),\"\")","v":""},"Wagner Ferreira","Y",null,null,"K204033"]
[{"$error":"#REF!"},{"$f":"IF(VLOOKUP(M133,#REF!,2,FALSE)<=#REF!+1,\"OK\",\"X\")","v":{"$error":"#REF!"}},1,1,2,"OK","7Wagner Ferreira","8Saturday_n-1","Saturday_n-18Y","Saturday_n-18OK",null,8,"Saturday_n-1",23242211,{"$f":"IFERROR(VLOOKUP(N133,#REF!,3,FALSE),\"_\")","v":"_"},{"$f":"IFERROR(VLOOKUP(N133,#REF!,7,FALSE),\"_\")","v":"_"},{"$f":"IFERROR(VLOOKUP(N133,#REF!,12,FALSE),\"_\")","v":"_"},{"$f":"IFERROR(VLOOKUP(N133,#REF!,3,FALSE),\"\")","v":""},{"$f":"IFERROR(VLOOKUP(N133,#REF!,2,FALSE),\"\")","v":""},"Wagner Ferreira","Y",null,null,"K204033"]
[{"$error":"#REF!"},{"$f":"IF(VLOOKUP(M134,#REF!,2,FALSE)<=#REF!+1,\"OK\",\"X\")","v":{"$error":"#REF!"}},1,1,2,"OK","7Wagner Ferreira","8Saturday_n-1","Saturday_n-18Y","Saturday_n-18OK",null,8,"Saturday_n-1",23242212,{"$f":"IFERROR(VLOOKUP(N134,#REF!,3,FALSE),\"_\")","v":"_"},{"$f":"IFERROR(VLOOKUP(N134,#REF!,7,FALSE),\"_\")","v":"_"},{"$f":"IFERROR(VLOOKUP(N134,#REF!,12,FALSE),\"_\")","v":"_"},{"$f":"IFERROR(VLOOKUP(N134,#REF!,3,FALSE),\"\")","v":""},{"$f":"IFERROR(VLOOKUP(N134,#REF!,2,FALSE),\"\")","v":""},"Wagner Ferreira","Y",null,null,"K204033"]
[{"$error":"#REF!"},{"$f":"IF(VLOOKUP(M135,#REF!,2,FALSE)<=#REF!+1,\"OK\",\"X\")","v":{"$error":"#REF!"}},1,0,1,"OK","7Wagner Ferreira","8Saturday_n-1","Saturday_n-18N","Saturday_n-18OK",null,8,"Saturday_n-1",23242213,{"$f":"IFERROR(VLOOKUP(N135,#REF!,3,FALSE),\"_\")","v":"_"},{"$f":"IFERROR(VLOOKUP(N135,#REF!,7,FALSE),\"_\")","v":"_"},{"$f":"IFERROR(VLOOKUP(N135,#REF!,12,FALSE),\"_\")","v":"_"},{"$f":"IFERROR(VLOOKUP(N135,#REF!,3,FALSE),\"\")","v":""},{"$f":"IFERROR(VLOOKUP(N135,#REF!,2,FALSE),\"\")","v":""},"Wagner Ferreira","N",null,"Y100LN03085027"]
[{"$error":"#REF!"},{"$f":"IF(VLOOKUP(M136,#REF!,2,FALSE)<=#REF!+1,\"OK\",\"X\")","v":{"$error":"#REF!"}},1,1,2,"OK","7Wagner Ferreira","8Saturday_n-1","Saturday_n-18Y","Saturday_n-18OK",null,8,"Saturday_n-1",23242214,{"$f":"IFERROR(VLOOKUP(N136,#REF!,3,FALSE),\"_\")","v":"_"},{"$f":"IFERROR(VLOOKUP(N136,#REF!,7,FALSE),\"_\")","v":"_"},{"$f":"IFERROR(VLOOKUP(N136,#REF!,12,FALSE),\"_\")","v":"_"},{"$f":"IFERROR(VLOOKUP(N136,#REF!,3,FALSE),\"\")","v":""},{"$f":"IFERROR(VLOOKUP(N136,#REF!,2,FALSE),\"\")","v":""},"Wagner Ferreira","Y"]
[{"$error":"#REF!"},{"$f":"IF(VLOOKUP(M137,#REF!,2,FALSE)<=#REF!+1,\"OK\",\"X\")","v":{"$error":"#REF!"}},1,0,1,"OK","7Wagner Ferreira","8Saturday_n-1","Saturday_n-18N","Saturday_n-18OK",null,8,"Saturday_n-1",23242215,{"$f":"IFERROR(VLOOKUP(N137,#REF!,3,FALSE),\"_\")","v":"_"},{"$f":"IFERROR(VLOOKUP(N137,#REF!,7,FALSE),\"_\")","v":"_"},{"$f":"IFERROR(VLOOKUP(N137,#REF!,12,FALSE),\"_\")","v":"_"},{"$f":"IFERROR(VLOOKUP(N137,#REF!,3,FALSE),\"\")","v":""},{"$f":"IFERROR(VLOOKUP(N137,#REF!,2,FALSE),\"\")","v":""},"Wagner Ferreira","N",null,"115HL13480029"]
[{"$error":"#REF!"},{"$f":"IF(VLOOKUP(M138,#REF!,2,FALSE)<=#REF!+1,\"OK\",\"X\")","v":{"$error":"#REF!"}},1,0,1,"OK","7Paulo M.","8Saturday_n-1","Saturday_n-18N","Saturday_n-18OK",null,8,"Saturday_n-1",23242216,{"$f":"IFERROR(VLOOKUP(N138,#REF!,3,FALSE),\"_\")","v":"_"},{"$f":"IFERROR(VLOOKUP(N138,#REF!,7,FALSE),\"_\")","v":"_"},{"$f":"IFERROR(VLOOKUP(N138,#REF!,12,FALSE),\"_\")","v":"_"},{"$f":"IFERROR(VLOOKUP(N138,#REF!,3,FALSE),\"\")","v":""},{"$f":"IFERROR(VLOOKUP(N138,#REF!,2,FALSE),\"\")","v":""},"Paulo M.","N",null,null,null,"2080S036"]
[{"$error":"#REF!"},{"$f":"IF(VLOOKUP(M139,#REF!,2,FALSE)<=#REF!+1,\"OK\",\"X\")","v":{"$error":"#REF!"}},1,1,2,"OK","7Paulo M.","8Saturday_n-1","Saturday_n-18Y","Saturday_n-18OK",null,8,"Saturday_n-1",23242217,{"$f":"IFERROR(VLOOKUP(N139,#REF!,3,FALSE),\"_\")","v":"_"},{"$f":"IFERROR(VLOOKUP(N139,#REF!,7,FALSE),\"_\")","v":"_"},{"$f":"IFERROR(VLOOKUP(N139,#REF!,12,FALSE),\"_\")","v":"_"},{"$f":"IFERROR(VLOOKUP(N139,#REF!,3,FALSE),\"\")","v":""},{"$f":"IFERROR(VLOOKUP(N139,#REF!,2,FALSE),\"\")","v":""},"Paulo M.","Y"]
[{"$error":"#REF!"},{"$f":"IF(VLOOKUP(M140,#REF!,2,FALSE)<=#REF!+1,\"OK\",\"X\")","v":{"$error":"#REF!"}},1,1,2,"OK","7Paulo M.","8Saturday_n-1","Saturday_n-18Y","Saturday_n-18OK",null,8,"Saturday_n-1",23242218,{"$f":"IFERROR(VLOOKUP(N140,#REF!,3,FALSE),\"_\")","v":"_"},{"$f":"IFERROR(VLOOKUP(N140,#REF!,7,FALSE),\"_\")","v":"_"},{"$f":"IFERROR(VLOOKUP(N140,#REF!,12,FALSE),\"_\")","v":"_"},{"$f":"IFERROR(VLOOKUP(N140,#REF!,3,FALSE),\"\")","v":""},{"$f":"IFERROR(VLOOKUP(N140,#REF!,2,FALSE),\"\")","v":""},"Paulo M.","Y"]
[{"$error":"#REF!"},{"$f":"IF(VLOOKUP(M141,#REF!,2,FALSE)<=#REF!+1,\"OK\",\"X\")","v":{"$error":"#REF!"}},1,1,2,"OK","7Paulo M.","8Sunday_n-1","Sunday_n-18Y","Sunday_n-18OK",null,8,"Sunday_n-1",23242219,{"$f":"IFERROR(VLOOKUP(N141,#REF!,3,FALSE),\"_\")","v":"_"},{"$f":"IFERROR(VLOOKUP(N141,#REF!,7,FALSE),\"_\")","v":"_"},{"$f":"IFERROR(VLOOKUP(N141,#REF!,12,FALSE),\"_\")","v":"_"},{"$f":"IFERROR(VLOOKUP(N141,#REF!,3,FALSE),\"\")","v":""},{"$f":"IFERROR(VLOOKUP(N141,#REF!,2,FALSE),\"\")","v":""},"Paulo M.","Y"]
[{"$error":"#REF!"},{"$f":"IF(VLOOKUP(M142,#REF!,2,FALSE)<=#REF!+1,\"OK\",\"X\")","v":{"$error":"#REF!"}},1,1,2,"OK","7Paulo M.","8Sunday_n-1","Sunday_n-18Y","Sunday_n-18OK",null,8,"Sunday_n-1",23242220,{"$f":"IFERROR(VLOOKUP(N142,#REF!,3,FALSE),\"_\")","v":"_"},{"$f":"IFERROR(VLOOKUP(N142,#REF!,7,FALSE),\"_\")","v":"_"},{"$f":"IFERROR(VLOOKUP(N142,#REF!,12,FALSE),\"_\")","v":"_"},{"$f":"IFERROR(VLOOKUP(N142,#REF!,3,FALSE),\"\")","v":""},{"$f":"IFERROR(VLOOKUP(N142,#REF!,2,FALSE),\"\")","v":""},"Paulo M.","Y"]
[{"$error":"#REF!"},{"$f":"IF(VLOOKUP(M143,#REF!,2,FALSE)<=#REF!+1,\"OK\",\"X\")","v":{"$error":"#REF!"}},1,1,2,"OK","7Maio Silva","8Sunday_n-1","Sunday_n-18Y","Sunday_n-18OK",null,8,"Sunday_n-1",23242221,{"$f":"IFERROR(VLOOKUP(N143,#REF!,3,FALSE),\"_\")","v":"_"},{"$f":"IFERROR(VLOOKUP(N143,#REF!,7,FALSE),\"_\")","v":"_"},{"$f":"IFERROR(VLOOKUP(N143,#REF!,12,FALSE),\"_\")","v":"_"},{"$f":"IFERROR(VLOOKUP(N143,#REF!,3,FALSE),\"\")","v":""},{"$f":"IFERROR(VLOOKUP(N143,#REF!,2,FALSE),\"\")","v":""},"Maio Silva","Y"]
[{"$error":"#REF!"},{"$f":"IF(VLOOKUP(M144,#REF!,2,FALSE)<=#REF!+1,\"OK\",\"X\")","v":{"$error":"#REF!"}},1,1,2,"OK","7Maio Silva","8Sunday_n-1","Sunday_n-18Y","Sunday_n-18OK",null,8,"Sunday_n-1",23242222,{"$f":"IFERROR(VLOOKUP(N144,#REF!,3,FALSE),\"_\")","v":"_"},{"$f":"IFERROR(VLOOKUP(N144,#REF!,7,FALSE),\"_\")","v":"_"},{"$f":"IFERROR(VLOOKUP(N144,#REF!,12,FALSE),\"_\")","v":"_"},{"$f":"IFERROR(VLOOKUP(N144,#REF!,3,FALSE),\"\")","v":""},{"$f":"IFERROR(VLOOKUP(N144,#REF!,2,FALSE),\"\")","v":""},"Maio Silva","Y"]
[{"$error":"#REF!"},{"$f":"IF(VLOOKUP(M145,#REF!,2,FALSE)<=#REF!+1,\"OK\",\"X\")","v":{"$error":"#REF!"}},1,1,2,"OK","7Maio Silva","8Sunday_n-1","Sunday_n-18Y","Sunday_n-18OK",null,8,"Sunday_n-1",23242223,{"$f":"IFERROR(VLOOKUP(N145,#REF!,3,FALSE),\"_\")","v":"_"},{"$f":"IFERROR(VLOOKUP(N145,#REF!,7,FALSE),\"_\")","v":"_"},{"$f":"IFERROR(VLOOKUP(N145,#REF!,12,FALSE),\"_\")","v":"_"},{"$f":"IFERROR(VLOOKUP(N145,#REF!,3,FALSE),\"\")","v":""},{"$f":"IFERROR(VLOOKUP(N145,#REF!,2,FALSE),\"\")","v":""},"Maio Silva","Y"]
[{"$error":"#REF!"},{"$f":"IF(VLOOKUP(M146,#REF!,2,FALSE)<=#REF!+1,\"OK\",\"X\")","v":{"$error":"#REF!"}},1,1,2,"OK","7Maio Silva","8Sunday_n-1","Sunday_n-18Y","Sunday_n-18OK",null,8,"Sunday_n-1",23242224,{"$f":"IFERROR(VLOOKUP(N146,#REF!,3,FALSE),\"_\")","v":"_"},{"$f":"IFERROR(VLOOKUP(N146,#REF!,7,FALSE),\"_\")","v":"_"},{"$f":"IFERROR(VLOOKUP(N146,#REF!,12,FALSE),\"_\")","v":"_"},{"$f":"IFERROR(VLOOKUP(N146,#REF!,3,FALSE),\"\")","v":""},{"$f":"IFERROR(VLOOKUP(N146,#REF!,2,FALSE),\"\")","v":""},"Maio Silva","Y"]
[{"$error":"#REF!"},{"$f":"IF(VLOOKUP(M147,#REF!,2,FALSE)<=#REF!+1,\"OK\",\"X\")","v":{"$error":"#REF!"}},1,1,2,"OK","7Maio Silva","8Monday","Monday8Y","Monday8OK",null,8,"Monday",23242184,{"$f":"IFERROR(VLOOKUP(N147,#REF!,3,FALSE),\"_\")","v":"_"},{"$f":"IFERROR(VLOOKUP(N147,#REF!,7,FALSE),\"_\")","v":"_"},{"$f":"IFERROR(VLOOKUP(N147,#REF!,12,FALSE),\"_\")","v":"_"},{"$f":"IFERROR(VLOOKUP(N147,#REF!,3,FALSE),\"\")","v":""},{"$f":"IFERROR(VLOOKUP(N147,#REF!,2,FALSE),\"\")","v":""},"Maio Silva","Y",null,null,null,"2080S044"]
[{"$error":"#REF!"},{"$f":"IF(VLOOKUP(M148,#REF!,2,FALSE)<=#REF!+1,\"OK\",\"X\")","v":{"$error":"#REF!"}},1,1,2,"OK","7Maio Silva","8Monday","Monday8Y","Monday8OK",null,8,"Monday",23242185,{"$f":"IFERROR(VLOOKUP(N148,#REF!,3,FALSE),\"_\")","v":"_"},{"$f":"IFERROR(VLOOKUP(N148,#REF!,7,FALSE),\"_\")","v":"_"},{"$f":"IFERROR(VLOOKUP(N148,#REF!,12,FALSE),\"_\")","v":"_"},{"$f":"IFERROR(VLOOKUP(N148,#REF!,3,FALSE),\"\")","v":""},{"$f":"IFERROR(VLOOKUP(N148,#REF!,2,FALSE),\"\")","v":""},"Maio Silva","Y",null,null,null,"2080S044"]
[{"$error":"#REF!"},{"$f":"IF(VLOOKUP(M149,#REF!,2,FALSE)<=#REF!+1,\"OK\",\"X\")","v":{"$error":"#REF!"}},1,1,2,"OK","7Maio Silva","8Tuesday","Tuesday8Y","Tuesday8OK",null,8,"Tuesday",23242186,{"$f":"IFERROR(VLOOKUP(N149,#REF!,3,FALSE),\"_\")","v":"_"},{"$f":"IFERROR(VLOOKUP(N149,#REF!,7,FALSE),\"_\")","v":"_"},{"$f":"IFERROR(VLOOKUP(N149,#REF!,12,FALSE),\"_\")","v":"_"},{"$f":"IFERROR(VLOOKUP(N149,#REF!,3,FALSE),\"\")","v":""},{"$f":"IFERROR(VLOOKUP(N149,#REF!,2,FALSE),\"\")","v":""},"Maio Silva","Y",null,null,null,"2080S044"]
[{"$error":"#REF!"},{"$f":"IF(VLOOKUP(M150,#REF!,2,FALSE)<=#REF!+1,\"OK\",\"X\")","v":{"$error":"#REF!"}},1,1,2,"OK","7Maio Silva","8Tuesday","Tuesday8Y","Tuesday8OK",null,8,"Tuesday",23242187,{"$f":"IFERROR(VLOOKUP(N150,#REF!,3,FALSE),\"_\")","v":"_"},{"$f":"IFERROR(VLOOKUP(N150,#REF!,7,FALSE),\"_\")","v":"_"},{"$f":"IFERROR(VLOOKUP(N150,#REF!,12,FALSE),\"_\")","v":"_"},{"$f":"IFERROR(VLOOKUP(N150,#REF!,3,FALSE),\"\")","v":""},{"$f":"IFERROR(VLOOKUP(N150,#REF!,2,FALSE),\"\")","v":""},"Maio Silva","Y",null,null,null,"2080S044"]
[{"$error":"#REF!"},{"$f":"IF(VLOOKUP(M151,#REF!,2,FALSE)<=#REF!+1,\"OK\",\"X\")","v":{"$error":"#REF!"}},1,1,2,"OK","7Maio Silva","8Tuesday","Tuesday8Y","Tuesday8OK",null,8,"Tuesday",23242188,{"$f":"IFERROR(VLOOKUP(N151,#REF!,3,FALSE),\"_\")","v":"_"},{"$f":"IFERROR(VLOOKUP(N151,#REF!,7,FALSE),\"_\")","v":"_"},{"$f":"IFERROR(VLOOKUP(N151,#REF!,12,FALSE),\"_\")","v":"_"},{"$f":"IFERROR(VLOOKUP(N151,#REF!,3,FALSE),\"\")","v":""},{"$f":"IFERROR(VLOOKUP(N151,#REF!,2,FALSE),\"\")","v":""},"Maio Silva","Y",null,null,null,"2080S044"]
[{"$error":"#REF!"},{"$f":"IF(VLOOKUP(M152,#REF!,2,FALSE)<=#REF!+1,\"OK\",\"X\")","v":{"$error":"#REF!"}},1,0,1,"OK","7Paulo M.","8Wednesday","Wednesday8n","Wednesday8OK",null,8,"Wednesday",23242189,{"$f":"IFERROR(VLOOKUP(N152,#REF!,3,FALSE),\"_\")","v":"_"},{"$f":"IFERROR(VLOOKUP(N152,#REF!,7,FALSE),\"_\")","v":"_"},{"$f":"IFERROR(VLOOKUP(N152,#REF!,12,FALSE),\"_\")","v":"_"},{"$f":"IFERROR(VLOOKUP(N152,#REF!,3,FALSE),\"\")","v":""},{"$f":"IFERROR(VLOOKUP(N152,#REF!,2,FALSE),\"\")","v":""},"Paulo M.","n",null,null,null,"2080S044"]
[{"$error":"#REF!"},{"$f":"IF(VLOOKUP(M153,#REF!,2,FALSE)<=#REF!+1,\"OK\",\"X\")","v":{"$error":"#REF!"}},1,0,1,"OK","7Paulo M.","8Wednesday","Wednesday8n","Wednesday8OK",null,8,"Wednesday",23242190,{"$f":"IFERROR(VLOOKUP(N153,#REF!,3,FALSE),\"_\")","v":"_"},{"$f":"IFERROR(VLOOKUP(N153,#REF!,7,FALSE),\"_\")","v":"_"},{"$f":"IFERROR(VLOOKUP(N153,#REF!,12,FALSE),\"_\")","v":"_"},{"$f":"IFERROR(VLOOKUP(N153,#REF!,3,FALSE),\"\")","v":""},{"$f":"IFERROR(VLOOKUP(N153,#REF!,2,FALSE),\"\")","v":""},"Paulo M.","n",null,null,null,"2080S044"]
[{"$error":"#REF!"},{"$f":"IF(VLOOKUP(M154,#REF!,2,FALSE)<=#REF!+1,\"OK\",\"X\")","v":{"$error":"#REF!"}},1,1,2,"OK","7Paulo M.","8Thursday","Thursday8Y","Thursday8OK",null,8,"Thursday",23242225,{"$f":"IFERROR(VLOOKUP(N154,#REF!,3,FALSE),\"_\")","v":"_"},{"$f":"IFERROR(VLOOKUP(N154,#REF!,7,FALSE),\"_\")","v":"_"},{"$f":"IFERROR(VLOOKUP(N154,#REF!,12,FALSE),\"_\")","v":"_"},{"$f":"IFERROR(VLOOKUP(N154,#REF!,3,FALSE),\"\")","v":""},{"$f":"IFERROR(VLOOKUP(N154,#REF!,2,FALSE),\"\")","v":""},"Paulo M.","Y"]
[{"$f":"L155&LEFT(P155,3)&B155","v":{"$error":"#REF!"}},{"$f":"IF(VLOOKUP(M155,#REF!,2,FALSE)<=#REF!+1,\"OK\",\"X\")","v":{"$error":"#REF!"}},{"$f":"IF(P155=\"start dummy operation\",0,1)","v":1},{"$f":"IF(U155=\"Y\",1,0)","v":1},{"$f":"SUM(C155:D155)","v":2},{"$f":"IF(E155>0,\"OK\",\"X2\")","v":"OK"},{"$f":"WEEKDAY(V155)&T155","v":"7Paulo M."},{"$f":"L155&M155","v":"8Thursday"},{"$f":"M155&L155&U155","v":"Thursday8Y"},{"$f":"M155&L155&F155","v":"Thursday8OK"},null,8,"Thursday",23242226,{"$f":"IFERROR(VLOOKUP(N155,#REF!,3,FALSE),\"_\")","v":"_"},{"$f":"IFERROR(VLOOKUP(N155,#REF!,7,FALSE),\"_\")","v":"_"},{"$f":"IFERROR(VLOOKUP(N155,#REF!,12,FALSE),\"_\")","v":"_"},{"$f":"IFERROR(VLOOKUP(N155,#REF!,3,FALSE),\"\")","v":""},{"$f":"IFERROR(VLOOKUP(N155,#REF!,2,FALSE),\"\")","v":""},"Paulo M.","Y"]
[{"$error":"#REF!"},{"$f":"IF(VLOOKUP(M156,#REF!,2,FALSE)<=#REF!+1,\"OK\",\"X\")","v":{"$error":"#REF!"}},1,1,2,"OK","7Paulo M.","8Thursday","Thursday8Y","Thursday8OK",null,8,"Thursday",23242227,{"$f":"IFERROR(VLOOKUP(N156,#REF!,3,FALSE),\"_\")","v":"_"},{"$f":"IFERROR(VLOOKUP(N156,#REF!,7,FALSE),\"_\")","v":"_"},{"$f":"IFERROR(VLOOKUP(N156,#REF!,12,FALSE),\"_\")","v":"_"},{"$f":"IFERROR(VLOOKUP(N156,#REF!,3,FALSE),\"\")","v":""},{"$f":"IFERROR(VLOOKUP(N156,#REF!,2,FALSE),\"\")","v":""},"Paulo M.","Y"]
[{"$error":"#REF!"},{"$f":"IF(VLOOKUP(M157,#REF!,2,FALSE)<=#REF!+1,\"OK\",\"X\")","v":{"$error":"#REF!"}},1,1,2,"OK","7","9Thursday","Thursday9y","Thursday9OK",null,9,"Thursday",23232199,{"$f":"IFERROR(VLOOKUP(N157,#REF!,3,FALSE),\"_\")","v":"_"},{"$f":"IFERROR(VLOOKUP(N157,#REF!,7,FALSE),\"_\")","v":"_"},{"$f":"IFERROR(VLOOKUP(N157,#REF!,12,FALSE),\"_\")","v":"_"},{"$f":"IFERROR(VLOOKUP(N157,#REF!,3,FALSE),\"\")","v":""},{"$f":"IFERROR(VLOOKUP(N157,#REF!,2,FALSE),\"\")","v":""},null,"y"]
[{"$error":"#REF!"},{"$f":"IF(VLOOKUP(M158,#REF!,2,FALSE)<=#REF!+1,\"OK\",\"X\")","v":{"$error":"#REF!"}},1,1,2,"OK","7Joao Cebola","9Thursday_n-1","Thursday_n-19Y","Thursday_n-19OK",null,9,"Thursday_n-1",23232156,{"$f":"IFERROR(VLOOKUP(N158,#REF!,3,FALSE),\"_\")","v":"_"},{"$f":"IFERROR(VLOOKUP(N158,#REF!,7,FALSE),\"_\")","v":"_"},{"$f":"IFERROR(VLOOKUP(N158,#REF!,12,FALSE),\"_\")","v":"_"},{"$f":"IFERROR(VLOOKUP(N158,#REF!,3,FALSE),\"\")","v":""},{"$f":"IFERROR(VLOOKUP(N158,#REF!,2,FALSE),\"\")","v":""},"Joao Cebola","Y"]
[{"$error":"#REF!"},{"$f":"IF(VLOOKUP(M159,#REF!,2,FALSE)<=#REF!+1,\"OK\",\"X\")","v":{"$error":"#REF!"}},1,1,2,"OK","7Joao Cebola","9Thursday_n-1","Thursday_n-19Y","Thursday_n-19OK",null,9,"Thursday_n-1",23232159,{"$f":"IFERROR(VLOOKUP(N159,#REF!,3,FALSE),\"_\")","v":"_"},{"$f":"IFERROR(VLOOKUP(N159,#REF!,7,FALSE),\"_\")","v":"_"},{"$f":"IFERROR(VLOOKUP(N159,#REF!,12,FALSE),\"_\")","v":"_"},{"$f":"IFERROR(VLOOKUP(N159,#REF!,3,FALSE),\"\")","v":""},{"$f":"IFERROR(VLOOKUP(N159,#REF!,2,FALSE),\"\")","v":""},"Joao Cebola","Y"]
[{"$error":"#REF!"},{"$f":"IF(VLOOKUP(M160,#REF!,2,FALSE)<=#REF!+1,\"OK\",\"X\")","v":{"$error":"#REF!"}},1,1,2,"OK","7Joao Cebola","9Thursday_n-1","Thursday_n-19Y","Thursday_n-19OK",null,9,"Thursday_n-1",23232160,{"$f":"IFERROR(VLOOKUP(N160,#REF!,3,FALSE),\"_\")","v":"_"},{"$f":"IFERROR(VLOOKUP(N160,#REF!,7,FALSE),\"_\")","v":"_"},{"$f":"IFERROR(VLOOKUP(N160,#REF!,12,FALSE),\"_\")","v":"_"},{"$f":"IFERROR(VLOOKUP(N160,#REF!,3,FALSE),\"\")","v":""},{"$f":"IFERROR(VLOOKUP(N160,#REF!,2,FALSE),\"\")","v":""},"Joao Cebola","Y"]
[{"$error":"#REF!"},{"$f":"IF(VLOOKUP(M161,#REF!,2,FALSE)<=#REF!+1,\"OK\",\"X\")","v":{"$error":"#REF!"}},1,1,2,"OK","7Joao Cebola","9Thursday_n-1","Thursday_n-19Y","Thursday_n-19OK",null,9,"Thursday_n-1",23232161,{"$f":"IFERROR(VLOOKUP(N161,#REF!,3,FALSE),\"_\")","v":"_"},{"$f":"IFERROR(VLOOKUP(N161,#REF!,7,FALSE),\"_\")","v":"_"},{"$f":"IFERROR(VLOOKUP(N161,#REF!,12,FALSE),\"_\")","v":"_"},{"$f":"IFERROR(VLOOKUP(N161,#REF!,3,FALSE),\"\")","v":""},{"$f":"IFERROR(VLOOKUP(N161,#REF!,2,FALSE),\"\")","v":""},"Joao Cebola","Y"]
[{"$error":"#REF!"},{"$f":"IF(VLOOKUP(M162,#REF!,2,FALSE)<=#REF!+1,\"OK\",\"X\")","v":{"$error":"#REF!"}},1,1,2,"OK","7Joao Cebola","9Thursday_n-1","Thursday_n-19Y","Thursday_n-19OK",null,9,"Thursday_n-1",23232162,{"$f":"IFERROR(VLOOKUP(N162,#REF!,3,FALSE),\"_\")","v":"_"},{"$f":"IFERROR(VLOOKUP(N162,#REF!,7,FALSE),\"_\")","v":"_"},{"$f":"IFERROR(VLOOKUP(N162,#REF!,12,FALSE),\"_\")","v":"_"},{"$f":"IFERROR(VLOOKUP(N162,#REF!,3,FALSE),\"\")","v":""},{"$f":"IFERROR(VLOOKUP(N162,#REF!,2,FALSE),\"\")","v":""},"Joao Cebola","Y"]
[{"$error":"#REF!"},{"$f":"IF(VLOOKUP(M163,#REF!,2,FALSE)<=#REF!+1,\"OK\",\"X\")","v":{"$error":"#REF!"}},1,1,2,"OK","7Joao Cebola","9Thursday_n-1","Thursday_n-19Y","Thursday_n-19OK",null,9,"Thursday_n-1",23232163,{"$f":"IFERROR(VLOOKUP(N163,#REF!,3,FALSE),\"_\")","v":"_"},{"$f":"IFERROR(VLOOKUP(N163,#REF!,7,FALSE),\"_\")","v":"_"},{"$f":"IFERROR(VLOOKUP(N163,#REF!,12,FALSE),\"_\")","v":"_"},{"$f":"IFERROR(VLOOKUP(N163,#REF!,3,FALSE),\"\")","v":""},{"$f":"IFERROR(VLOOKUP(N163,#REF!,2,FALSE),\"\")","v":""},"Joao Cebola","Y"]
[{"$error":"#REF!"},{"$f":"IF(VLOOKUP(M164,#REF!,2,FALSE)<=#REF!+1,\"OK\",\"X\")","v":{"$error":"#REF!"}},1,1,2,"OK","7","9Thursday_n-1","Thursday_n-19y","Thursday_n-19OK",null,9,"Thursday_n-1",23232171,{"$f":"IFERROR(VLOOKUP(N164,#REF!,3,FALSE),\"_\")","v":"_"},{"$f":"IFERROR(VLOOKUP(N164,#REF!,7,FALSE),\"_\")","v":"_"},{"$f":"IFERROR(VLOOKUP(N164,#REF!,12,FALSE),\"_\")","v":"_"},{"$f":"IFERROR(VLOOKUP(N164,#REF!,3,FALSE),\"\")","v":""},{"$f":"IFERROR(VLOOKUP(N164,#REF!,2,FALSE),\"\")","v":""},null,"y"]
[{"$error":"#REF!"},{"$f":"IF(VLOOKUP(M165,#REF!,2,FALSE)<=#REF!+1,\"OK\",\"X\")","v":{"$error":"#REF!"}},1,1,2,"OK","7Paulo M.","9Thursday_n-1","Thursday_n-19y","Thursday_n-19OK",null,9,"Thursday_n-1",23232172,{"$f":"IFERROR(VLOOKUP(N165,#REF!,3,FALSE),\"_\")","v":"_"},{"$f":"IFERROR(VLOOKUP(N165,#REF!,7,FALSE),\"_\")","v":"_"},{"$f":"IFERROR(VLOOKUP(N165,#REF!,12,FALSE),\"_\")","v":"_"},{"$f":"IFERROR(VLOOKUP(N165,#REF!,3,FALSE),\"\")","v":""},{"$f":"IFERROR(VLOOKUP(N165,#REF!,2,FALSE),\"\")","v":""},"Paulo M.","y",null,null,null,"3068D035","APENAS UM ROLO NA POSICAO"]
[{"$error":"#REF!"},{"$f":"IF(VLOOKUP(M166,#REF!,2,FALSE)<=#REF!+1,\"OK\",\"X\")","v":{"$error":"#REF!"}},1,1,2,"OK","7Paulo M.","9Thursday_n-1","Thursday_n-19y","Thursday_n-19OK",null,9,"Thursday_n-1",23232173,{"$f":"IFERROR(VLOOKUP(N166,#REF!,3,FALSE),\"_\")","v":"_"},{"$f":"IFERROR(VLOOKUP(N166,#REF!,7,FALSE),\"_\")","v":"_"},{"$f":"IFERROR(VLOOKUP(N166,#REF!,12,FALSE),\"_\")","v":"_"},{"$f":"IFERROR(VLOOKUP(N166,#REF!,3,FALSE),\"\")","v":""},{"$f":"IFERROR(VLOOKUP(N166,#REF!,2,FALSE),\"\")","v":""},"Paulo M.","y",null,null,null,"3068D035","APENAS UM ROLO NA POSICAO"]
[{"$error":"#REF!"},{"$f":"IF(VLOOKUP(M167,#REF!,2,FALSE)<=#REF!+1,\"OK\",\"X\")","v":{"$error":"#REF!"}},1,1,2,"OK","7Paulo M.","9Thursday_n-1","Thursday_n-19y","Thursday_n-19OK",null,9,"Thursday_n-1",23232174,{"$f":"IFERROR(VLOOKUP(N167,#REF!,3,FALSE),\"_\")","v":"_"},{"$f":"IFERROR(VLOOKUP(N167,#REF!,7,FALSE),\"_\")","v":"_"},{"$f":"IFERROR(VLOOKUP(N167,#REF!,12,FALSE),\"_\")","v":"_"},{"$f":"IFERROR(VLOOKUP(N167,#REF!,3,FALSE),\"\")","v":""},{"$f":"IFERROR(VLOOKUP(N167,#REF!,2,FALSE),\"\")","v":""},"Paulo M.","y",null,null,null,"3068D035","APENAS UM ROLO NA POSICAO"]
[{"$error":"#REF!"},{"$f":"IF(VLOOKUP(M168,#REF!,2,FALSE)<=#REF!+1,\"OK\",\"X\")","v":{"$error":"#REF!"}},1,1,2,"OK","7","9Thursday_n-1","Thursday_n-19y","Thursday_n-19OK",null,9,"Thursday_n-1",23232121,{"$f":"IFERROR(VLOOKUP(N168,#REF!,3,FALSE),\"_\")","v":"_"},{"$f":"IFERROR(VLOOKUP(N168,#REF!,7,FALSE),\"_\")","v":"_"},{"$f":"IFERROR(VLOOKUP(N168,#REF!,12,FALSE),\"_\")","v":"_"},{"$f":"IFERROR(VLOOKUP(N168,#REF!,3,FALSE),\"\")","v":""},{"$f":"IFERROR(VLOOKUP(N168,#REF!,2,FALSE),\"\")","v":""},null,"y"]
[{"$error":"#REF!"},{"$f":"IF(VLOOKUP(M169,#REF!,2,FALSE)<=#REF!+1,\"OK\",\"X\")","v":{"$error":"#REF!"}},1,1,2,"OK","7Paulo M.","9Friday_n-1","Friday_n-19Y","Friday_n-19OK",null,9,"Friday_n-1",23202333,{"$f":"IFERROR(VLOOKUP(N169,#REF!,3,FALSE),\"_\")","v":"_"},{"$f":"IFERROR(VLOOKUP(N169,#REF!,7,FALSE),\"_\")","v":"_"},{"$f":"IFERROR(VLOOKUP(N169,#REF!,12,FALSE),\"_\")","v":"_"},{"$f":"IFERROR(VLOOKUP(N169,#REF!,3,FALSE),\"\")","v":""},{"$f":"IFERROR(VLOOKUP(N169,#REF!,2,FALSE),\"\")","v":""},"Paulo M.","Y"]
[{"$error":"#REF!"},{"$f":"IF(VLOOKUP(M170,#REF!,2,FALSE)<=#REF!+1,\"OK\",\"X\")","v":{"$error":"#REF!"}},1,1,2,"OK","7","9Friday_n-1","Friday_n-19Y","Friday_n-19OK",null,9,"Friday_n-1",23232176,{"$f":"IFERROR(VLOOKUP(N170,#REF!,3,FALSE),\"_\")","v":"_"},{"$f":"IFERROR(VLOOKUP(N170,#REF!,7,FALSE),\"_\")","v":"_"},{"$f":"IFERROR(VLOOKUP(N170,#REF!,12,FALSE),\"_\")","v":"_"},{"$f":"IFERROR(VLOOKUP(N170,#REF!,3,FALSE),\"\")","v":""},{"$f":"IFERROR(VLOOKUP(N170,#REF!,2,FALSE),\"\")","v":""},null,"Y",null,null,null,null,"FOLHA N ENCONTRADA"]
[{"$error":"#REF!"},{"$f":"IF(VLOOKUP(M171,#REF!,2,FALSE)<=#REF!+1,\"OK\",\"X\")","v":{"$error":"#REF!"}},1,1,2,"OK","7","9Friday_n-1","Friday_n-19Y","Friday_n-19OK",null,9,"Friday_n-1",23232177,{"$f":"IFERROR(VLOOKUP(N171,#REF!,3,FALSE),\"_\")","v":"_"},{"$f":"IFERROR(VLOOKUP(N171,#REF!,7,FALSE),\"_\")","v":"_"},{"$f":"IFERROR(VLOOKUP(N171,#REF!,12,FALSE),\"_\")","v":"_"},{"$f":"IFERROR(VLOOKUP(N171,#REF!,3,FALSE),\"\")","v":""},{"$f":"IFERROR(VLOOKUP(N171,#REF!,2,FALSE),\"\")","v":""},null,"Y",null,null,null,null,"FOLHA N ENCONTRADA"]
[{"$error":"#REF!"},{"$f":"IF(VLOOKUP(M172,#REF!,2,FALSE)<=#REF!+1,\"OK\",\"X\")","v":{"$error":"#REF!"}},1,1,2,"OK","7","9Friday_n-1","Friday_n-19Y","Friday_n-19OK",null,9,"Friday_n-1",23232178,{"$f":"IFERROR(VLOOKUP(N172,#REF!,3,FALSE),\"_\")","v":"_"},{"$f":"IFERROR(VLOOKUP(N172,#REF!,7,FALSE),\"_\")","v":"_"},{"$f":"IFERROR(VLOOKUP(N172,#REF!,12,FALSE),\"_\")","v":"_"},{"$f":"IFERROR(VLOOKUP(N172,#REF!,3,FALSE),\"\")","v":""},{"$f":"IFERROR(VLOOKUP(N172,#REF!,2,FALSE),\"\")","v":""},null,"Y"]
[{"$error":"#REF!"},{"$f":"IF(VLOOKUP(M173,#REF!,2,FALSE)<=#REF!+1,\"OK\",\"X\")","v":{"$error":"#REF!"}},1,1,2,"OK","7","9Saturday_n-1","Saturday_n-19y","Saturday_n-19OK",null,9,"Saturday_n-1",23232179,{"$f":"IFERROR(VLOOKUP(N173,#REF!,3,FALSE),\"_\")","v":"_"},{"$f":"IFERROR(VLOOKUP(N173,#REF!,7,FALSE),\"_\")","v":"_"},{"$f":"IFERROR(VLOOKUP(N173,#REF!,12,FALSE),\"_\")","v":"_"},{"$f":"IFERROR(VLOOKUP(N173,#REF!,3,FALSE),\"\")","v":""},{"$f":"IFERROR(VLOOKUP(N173,#REF!,2,FALSE),\"\")","v":""},null,"y"]
[{"$error":"#REF!"},{"$f":"IF(VLOOKUP(M174,#REF!,2,FALSE)<=#REF!+1,\"OK\",\"X\")","v":{"$error":"#REF!"}},1,1,2,"OK","7","9Saturday_n-1","Saturday_n-19y","Saturday_n-19OK",null,9,"Saturday_n-1",23232180,{"$f":"IFERROR(VLOOKUP(N174,#REF!,3,FALSE),\"_\")","v":"_"},{"$f":"IFERROR(VLOOKUP(N174,#REF!,7,FALSE),\"_\")","v":"_"},{"$f":"IFERROR(VLOOKUP(N174,#REF!,12,FALSE),\"_\")","v":"_"},{"$f":"IFERROR(VLOOKUP(N174,#REF!,3,FALSE),\"\")","v":""},{"$f":"IFERROR(VLOOKUP(N174,#REF!,2,FALSE),\"\")","v":""},null,"y"]
[{"$error":"#REF!"},{"$f":"IF(VLOOKUP(M175,#REF!,2,FALSE)<=#REF!+1,\"OK\",\"X\")","v":{"$error":"#REF!"}},1,1,2,"OK","7Wagner Ferreira","9Sunday_n-1","Sunday_n-19y","Sunday_n-19OK",null,9,"Sunday_n-1",23242237,{"$f":"IFERROR(VLOOKUP(N175,#REF!,3,FALSE),\"_\")","v":"_"},{"$f":"IFERROR(VLOOKUP(N175,#REF!,7,FALSE),\"_\")","v":"_"},{"$f":"IFERROR(VLOOKUP(N175,#REF!,12,FALSE),\"_\")","v":"_"},{"$f":"IFERROR(VLOOKUP(N175,#REF!,3,FALSE),\"\")","v":""},{"$f":"IFERROR(VLOOKUP(N175,#REF!,2,FALSE),\"\")","v":""},"Wagner Ferreira","y"]
[{"$error":"#REF!"},{"$f":"IF(VLOOKUP(M176,#REF!,2,FALSE)<=#REF!+1,\"OK\",\"X\")","v":{"$error":"#REF!"}},1,1,2,"OK","7Wagner Ferreira","9Sunday_n-1","Sunday_n-19y","Sunday_n-19OK",null,9,"Sunday_n-1",23242238,{"$f":"IFERROR(VLOOKUP(N176,#REF!,3,FALSE),\"_\")","v":"_"},{"$f":"IFERROR(VLOOKUP(N176,#REF!,7,FALSE),\"_\")","v":"_"},{"$f":"IFERROR(VLOOKUP(N176,#REF!,12,FALSE),\"_\")","v":"_"},{"$f":"IFERROR(VLOOKUP(N176,#REF!,3,FALSE),\"\")","v":""},{"$f":"IFERROR(VLOOKUP(N176,#REF!,2,FALSE),\"\")","v":""},"Wagner Ferreira","y"]
[{"$error":"#REF!"},{"$f":"IF(VLOOKUP(M177,#REF!,2,FALSE)<=#REF!+1,\"OK\",\"X\")","v":{"$error":"#REF!"}},1,1,2,"OK","7Wagner Ferreira","9Sunday_n-1","Sunday_n-19y","Sunday_n-19OK",null,9,"Sunday_n-1",23242239,{"$f":"IFERROR(VLOOKUP(N177,#REF!,3,FALSE),\"_\")","v":"_"},{"$f":"IFERROR(VLOOKUP(N177,#REF!,7,FALSE),\"_\")","v":"_"},{"$f":"IFERROR(VLOOKUP(N177,#REF!,12,FALSE),\"_\")","v":"_"},{"$f":"IFERROR(VLOOKUP(N177,#REF!,3,FALSE),\"\")","v":""},{"$f":"IFERROR(VLOOKUP(N177,#REF!,2,FALSE),\"\")","v":""},"Wagner Ferreira","y"]
[{"$error":"#REF!"},{"$f":"IF(VLOOKUP(M178,#REF!,2,FALSE)<=#REF!+1,\"OK\",\"X\")","v":{"$error":"#REF!"}},1,1,2,"OK","7","9Monday","Monday9y","Monday9OK",null,9,"Monday",23242240,{"$f":"IFERROR(VLOOKUP(N178,#REF!,3,FALSE),\"_\")","v":"_"},{"$f":"IFERROR(VLOOKUP(N178,#REF!,7,FALSE),\"_\")","v":"_"},{"$f":"IFERROR(VLOOKUP(N178,#REF!,12,FALSE),\"_\")","v":"_"},{"$f":"IFERROR(VLOOKUP(N178,#REF!,3,FALSE),\"\")","v":""},{"$f":"IFERROR(VLOOKUP(N178,#REF!,2,FALSE),\"\")","v":""},null,"y"]
[{"$error":"#REF!"},{"$f":"IF(VLOOKUP(M179,#REF!,2,FALSE)<=#REF!+1,\"OK\",\"X\")","v":{"$error":"#REF!"}},1,1,2,"OK","7","9Monday","Monday9y","Monday9OK",null,9,"Monday",23242241,{"$f":"IFERROR(VLOOKUP(N179,#REF!,3,FALSE),\"_\")","v":"_"},{"$f":"IFERROR(VLOOKUP(N179,#REF!,7,FALSE),\"_\")","v":"_"},{"$f":"IFERROR(VLOOKUP(N179,#REF!,12,FALSE),\"_\")","v":"_"},{"$f":"IFERROR(VLOOKUP(N179,#REF!,3,FALSE),\"\")","v":""},{"$f":"IFERROR(VLOOKUP(N179,#REF!,2,FALSE),\"\")","v":""},null,"y"]
[{"$error":"#REF!"},{"$f":"IF(VLOOKUP(M180,#REF!,2,FALSE)<=#REF!+1,\"OK\",\"X\")","v":{"$error":"#REF!"}},1,1,2,"OK","7Paulo M.","9Tuesday","Tuesday9y","Tuesday9OK",null,9,"Tuesday",23242242,{"$f":"IFERROR(VLOOKUP(N180,#REF!,3,FALSE),\"_\")","v":"_"},{"$f":"IFERROR(VLOOKUP(N180,#REF!,7,FALSE),\"_\")","v":"_"},{"$f":"IFERROR(VLOOKUP(N180,#REF!,12,FALSE),\"_\")","v":"_"},{"$f":"IFERROR(VLOOKUP(N180,#REF!,3,FALSE),\"\")","v":""},{"$f":"IFERROR(VLOOKUP(N180,#REF!,2,FALSE),\"\")","v":""},"Paulo M.","y"]
[{"$error":"#REF!"},{"$f":"IF(VLOOKUP(M181,#REF!,2,FALSE)<=#REF!+1,\"OK\",\"X\")","v":{"$error":"#REF!"}},1,1,2,"OK","7Paulo M.","9Tuesday","Tuesday9y","Tuesday9OK",null,9,"Tuesday",23242243,{"$f":"IFERROR(VLOOKUP(N181,#REF!,3,FALSE),\"_\")","v":"_"},{"$f":"IFERROR(VLOOKUP(N181,#REF!,7,FALSE),\"_\")","v":"_"},{"$f":"IFERROR(VLOOKUP(N181,#REF!,12,FALSE),\"_\")","v":"_"},{"$f":"IFERROR(VLOOKUP(N181,#REF!,3,FALSE),\"\")","v":""},{"$f":"IFERROR(VLOOKUP(N181,#REF!,2,FALSE),\"\")","v":""},"Paulo M.","y"]
[{"$error":"#REF!"},{"$f":"IF(VLOOKUP(M182,#REF!,2,FALSE)<=#REF!+1,\"OK\",\"X\")","v":{"$error":"#REF!"}},1,0,1,"OK","7","9Tuesday","Tuesday9","Tuesday9OK",null,9,"Tuesday",null,{"$f":"IFERROR(VLOOKUP(N182,#REF!,3,FALSE),\"_\")","v":"_"},{"$f":"IFERROR(VLOOKUP(N182,#REF!,7,FALSE),\"_\")","v":"_"},{"$f":"IFERROR(VLOOKUP(N182,#REF!,12,FALSE),\"_\")","v":"_"},{"$f":"IFERROR(VLOOKUP(N182,#REF!,3,FALSE),\"\")","v":""},{"$f":"IFERROR(VLOOKUP(N182,#REF!,2,FALSE),\"\")","v":""},null,null,null,null,null,null,"Eliminado "]
[{"$error":"#REF!"},{"$f":"IF(VLOOKUP(M183,#REF!,2,FALSE)<=#REF!+1,\"OK\",\"X\")","v":{"$error":"#REF!"}},1,0,1,"OK","7","9Wednesday","Wednesday9","Wednesday9OK",null,9,"Wednesday",null,{"$f":"IFERROR(VLOOKUP(N183,#REF!,3,FALSE),\"_\")","v":"_"},{"$f":"IFERROR(VLOOKUP(N183,#REF!,7,FALSE),\"_\")","v":"_"},{"$f":"IFERROR(VLOOKUP(N183,#REF!,12,FALSE),\"_\")","v":"_"},{"$f":"IFERROR(VLOOKUP(N183,#REF!,3,FALSE),\"\")","v":""},{"$f":"IFERROR(VLOOKUP(N183,#REF!,2,FALSE),\"\")","v":""},null,null,null,null,null,null,"Eliminado "]
[{"$error":"#REF!"},{"$f":"IF(VLOOKUP(M184,#REF!,2,FALSE)<=#REF!+1,\"OK\",\"X\")","v":{"$error":"#REF!"}},1,0,1,"OK","7","9Wednesday","Wednesday9","Wednesday9OK",null,9,"Wednesday",null,{"$f":"IFERROR(VLOOKUP(N184,#REF!,3,FALSE),\"_\")","v":"_"},{"$f":"IFERROR(VLOOKUP(N184,#REF!,7,FALSE),\"_\")","v":"_"},{"$f":"IFERROR(VLOOKUP(N184,#REF!,12,FALSE),\"_\")","v":"_"},{"$f":"IFERROR(VLOOKUP(N184,#REF!,3,FALSE),\"\")","v":""},{"$f":"IFERROR(VLOOKUP(N184,#REF!,2,FALSE),\"\")","v":""},null,null,null,null,null,null,"Eliminado "]
[{"$error":"#REF!"},{"$f":"IF(VLOOKUP(M185,#REF!,2,FALSE)<=#REF!+1,\"OK\",\"X\")","v":{"$error":"#REF!"}},1,1,2,"OK","7Maio Silva","9Wednesday","Wednesday9Y","Wednesday9OK",null,9,"Wednesday",23242235,{"$f":"IFERROR(VLOOKUP(N185,#REF!,3,FALSE),\"_\")","v":"_"},{"$f":"IFERROR(VLOOKUP(N185,#REF!,7,FALSE),\"_\")","v":"_"},{"$f":"IFERROR(VLOOKUP(N185,#REF!,12,FALSE),\"_\")","v":"_"},{"$f":"IFERROR(VLOOKUP(N185,#REF!,3,FALSE),\"\")","v":""},{"$f":"IFERROR(VLOOKUP(N185,#REF!,2,FALSE),\"\")","v":""},"Maio Silva","Y"]
[{"$error":"#REF!"},{"$f":"IF(VLOOKUP(M186,#REF!,2,FALSE)<=#REF!+1,\"OK\",\"X\")","v":{"$error":"#REF!"}},1,1,2,"OK","7Maio Silva","9Wednesday","Wednesday9Y","Wednesday9OK",null,9,"Wednesday",23242236,{"$f":"IFERROR(VLOOKUP(N186,#REF!,3,FALSE),\"_\")","v":"_"},{"$f":"IFERROR(VLOOKUP(N186,#REF!,7,FALSE),\"_\")","v":"_"},{"$f":"IFERROR(VLOOKUP(N186,#REF!,12,FALSE),\"_\")","v":"_"},{"$f":"IFERROR(VLOOKUP(N186,#REF!,3,FALSE),\"\")","v":""},{"$f":"IFERROR(VLOOKUP(N186,#REF!,2,FALSE),\"\")","v":""},"Maio Silva","Y"]
[{"$error":"#REF!"},{"$f":"IF(VLOOKUP(M187,#REF!,2,FALSE)<=#REF!+1,\"OK\",\"X\")","v":{"$error":"#REF!"}},1,1,2,"OK","7Maio Silva","9Thursday","Thursday9Y","Thursday9OK",null,9,"Thursday",23242232,{"$f":"IFERROR(VLOOKUP(N187,#REF!,3,FALSE),\"_\")","v":"_"},{"$f":"IFERROR(VLOOKUP(N187,#REF!,7,FALSE),\"_\")","v":"_"},{"$f":"IFERROR(VLOOKUP(N187,#REF!,12,FALSE),\"_\")","v":"_"},{"$f":"IFERROR(VLOOKUP(N187,#REF!,3,FALSE),\"\")","v":""},{"$f":"IFERROR(VLOOKUP(N187,#REF!,2,FALSE),\"\")","v":""},"Maio Silva","Y"]
[{"$error":"#REF!"},{"$f":"IF(VLOOKUP(M188,#REF!,2,FALSE)<=#REF!+1,\"OK\",\"X\")","v":{"$error":"#REF!"}},1,1,2,"OK","7Maio Silva","9Thursday","Thursday9Y","Thursday9OK",null,9,"Thursday",23242233,{"$f":"IFERROR(VLOOKUP(N188,#REF!,3,FALSE),\"_\")","v":"_"},{"$f":"IFERROR(VLOOKUP(N188,#REF!,7,FALSE),\"_\")","v":"_"},{"$f":"IFERROR(VLOOKUP(N188,#REF!,12,FALSE),\"_\")","v":"_"},{"$f":"IFERROR(VLOOKUP(N188,#REF!,3,FALSE),\"\")","v":""},{"$f":"IFERROR(VLOOKUP(N188,#REF!,2,FALSE),\"\")","v":""},"Maio Silva","Y"]
[{"$error":"#REF!"},{"$f":"IF(VLOOKUP(M189,#REF!,2,FALSE)<=#REF!+1,\"OK\",\"X\")","v":{"$error":"#REF!"}},1,1,2,"OK","7Maio Silva","9Thursday","Thursday9Y","Thursday9OK",null,9,"Thursday",23242234,{"$f":"IFERROR(VLOOKUP(N189,#REF!,3,FALSE),\"_\")","v":"_"},{"$f":"IFERROR(VLOOKUP(N189,#REF!,7,FALSE),\"_\")","v":"_"},{"$f":"IFERROR(VLOOKUP(N189,#REF!,12,FALSE),\"_\")","v":"_"},{"$f":"IFERROR(VLOOKUP(N189,#REF!,3,FALSE),\"\")","v":""},{"$f":"IFERROR(VLOOKUP(N189,#REF!,2,FALSE),\"\")","v":""},"Maio Silva","Y"]
[{"$error":"#REF!"},{"$f":"IF(VLOOKUP(M190,#REF!,2,FALSE)<=#REF!+1,\"OK\",\"X\")","v":{"$error":"#REF!"}},1,0,1,"OK","7","9Thursday","Thursday9","Thursday9OK",null,9,"Thursday",23242230,{"$f":"IFERROR(VLOOKUP(N190,#REF!,3,FALSE),\"_\")","v":"_"},{"$f":"IFERROR(VLOOKUP(N190,#REF!,7,FALSE),\"_\")","v":"_"},{"$f":"IFERROR(VLOOKUP(N190,#REF!,12,FALSE),\"_\")","v":"_"},{"$f":"IFERROR(VLOOKUP(N190,#REF!,3,FALSE),\"\")","v":""},{"$f":"IFERROR(VLOOKUP(N190,#REF!,2,FALSE),\"\")","v":""}]
[{"$error":"#REF!"},{"$f":"IF(VLOOKUP(M191,#REF!,2,FALSE)<=#REF!+1,\"OK\",\"X\")","v":{"$error":"#REF!"}},1,0,1,"OK","7","9Thursday","Thursday9","Thursday9OK",null,9,"Thursday",23242231,{"$f":"IFERROR(VLOOKUP(N191,#REF!,3,FALSE),\"_\")","v":"_"},{"$f":"IFERROR(VLOOKUP(N191,#REF!,7,FALSE),\"_\")","v":"_"},{"$f":"IFERROR(VLOOKUP(N191,#REF!,12,FALSE),\"_\")","v":"_"},{"$f":"IFERROR(VLOOKUP(N191,#REF!,3,FALSE),\"\")","v":""},{"$f":"IFERROR(VLOOKUP(N191,#REF!,2,FALSE),\"\")","v":""}]
[{"$error":"#REF!"},{"$f":"IF(VLOOKUP(M192,#REF!,2,FALSE)<=#REF!+1,\"OK\",\"X\")","v":{"$error":"#REF!"}},1,0,1,"OK","7","9Thursday","Thursday9","Thursday9OK",null,9,"Thursday",23242228,{"$f":"IFERROR(VLOOKUP(N192,#REF!,3,FALSE),\"_\")","v":"_"},{"$f":"IFERROR(VLOOKUP(N192,#REF!,7,FALSE),\"_\")","v":"_"},{"$f":"IFERROR(VLOOKUP(N192,#REF!,12,FALSE),\"_\")","v":"_"},{"$f":"IFERROR(VLOOKUP(N192,#REF!,3,FALSE),\"\")","v":""},{"$f":"IFERROR(VLOOKUP(N192,#REF!,2,FALSE),\"\")","v":""}]
[{"$error":"#REF!"},{"$f":"IF(VLOOKUP(M193,#REF!,2,FALSE)<=#REF!+1,\"OK\",\"X\")","v":{"$error":"#REF!"}},1,0,1,"OK","7","9Thursday","Thursday9","Thursday9OK",null,9,"Thursday",23242229,{"$f":"IFERROR(VLOOKUP(N193,#REF!,3,FALSE),\"_\")","v":"_"},{"$f":"IFERROR(VLOOKUP(N193,#REF!,7,FALSE),\"_\")","v":"_"},{"$f":"IFERROR(VLOOKUP(N193,#REF!,12,FALSE),\"_\")","v":"_"},{"$f":"IFERROR(VLOOKUP(N193,#REF!,3,FALSE),\"\")","v":""},{"$f":"IFERROR(VLOOKUP(N193,#REF!,2,FALSE),\"\")","v":""}]
[{"$error":"#REF!"},{"$f":"IF(VLOOKUP(M194,#REF!,2,FALSE)<=#REF!+1,\"OK\",\"X\")","v":{"$error":"#REF!"}},1,1,2,"OK","7","15Thursday_n-1","Thursday_n-115y","Thursday_n-115OK",null,15,"Thursday_n-1",23221002,{"$f":"IFERROR(VLOOKUP(N194,#REF!,3,FALSE),\"_\")","v":"_"},{"$f":"IFERROR(VLOOKUP(N194,#REF!,7,FALSE),\"_\")","v":"_"},{"$f":"IFERROR(VLOOKUP(N194,#REF!,12,FALSE),\"_\")","v":"_"},{"$f":"IFERROR(VLOOKUP(N194,#REF!,3,FALSE),\"\")","v":""},{"$f":"IFERROR(VLOOKUP(N194,#REF!,2,FALSE),\"\")","v":""},null,"y"]
[{"$error":"#REF!"},{"$f":"IF(VLOOKUP(M195,#REF!,2,FALSE)<=#REF!+1,\"OK\",\"X\")","v":{"$error":"#REF!"}},1,1,2,"OK","7","15Thursday_n-1","Thursday_n-115y","Thursday_n-115OK",null,15,"Thursday_n-1",23221003,{"$f":"IFERROR(VLOOKUP(N195,#REF!,3,FALSE),\"_\")","v":"_"},{"$f":"IFERROR(VLOOKUP(N195,#REF!,7,FALSE),\"_\")","v":"_"},{"$f":"IFERROR(VLOOKUP(N195,#REF!,12,FALSE),\"_\")","v":"_"},{"$f":"IFERROR(VLOOKUP(N195,#REF!,3,FALSE),\"\")","v":""},{"$f":"IFERROR(VLOOKUP(N195,#REF!,2,FALSE),\"\")","v":""},null,"y"]
[{"$error":"#REF!"},{"$f":"IF(VLOOKUP(M196,#REF!,2,FALSE)<=#REF!+1,\"OK\",\"X\")","v":{"$error":"#REF!"}},1,0,1,"OK",{"$error":"#VALUE!"},"15Thursday_n-1","Thursday_n-115N","Thursday_n-115OK",null,15,"Thursday_n-1",23251001,{"$f":"IFERROR(VLOOKUP(N196,#REF!,3,FALSE),\"_\")","v":"_"},{"$f":"IFERROR(VLOOKUP(N196,#REF!,7,FALSE),\"_\")","v":"_"},{"$f":"IFERROR(VLOOKUP(N196,#REF!,12,FALSE),\"_\")","v":"_"},{"$f":"IFERROR(VLOOKUP(N196,#REF!,3,FALSE),\"\")","v":""},{"$f":"IFERROR(VLOOKUP(N196,#REF!,2,FALSE),\"\")","v":""},"Wagner Ferreira","N","N",null,null,"3068D034","OK"]
[{"$error":"#REF!"},{"$f":"IF(VLOOKUP(M197,#REF!,2,FALSE)<=#REF!+1,\"OK\",\"X\")","v":{"$error":"#REF!"}},1,1,2,"OK","7","15Thursday_n-1","Thursday_n-115y","Thursday_n-115OK",null,15,"Thursday_n-1",23232175,{"$f":"IFERROR(VLOOKUP(N197,#REF!,3,FALSE),\"_\")","v":"_"},{"$f":"IFERROR(VLOOKUP(N197,#REF!,7,FALSE),\"_\")","v":"_"},{"$f":"IFERROR(VLOOKUP(N197,#REF!,12,FALSE),\"_\")","v":"_"},{"$f":"IFERROR(VLOOKUP(N197,#REF!,3,FALSE),\"\")","v":""},{"$f":"IFERROR(VLOOKUP(N197,#REF!,2,FALSE),\"\")","v":""},null,"y"]
[{"$error":"#REF!"},{"$f":"IF(VLOOKUP(M198,#REF!,2,FALSE)<=#REF!+1,\"OK\",\"X\")","v":{"$error":"#REF!"}},1,1,2,"OK","7","15Thursday_n-1","Thursday_n-115y","Thursday_n-115OK",null,15,"Thursday_n-1",23202222,{"$f":"IFERROR(VLOOKUP(N198,#REF!,3,FALSE),\"_\")","v":"_"},{"$f":"IFERROR(VLOOKUP(N198,#REF!,7,FALSE),\"_\")","v":"_"},{"$f":"IFERROR(VLOOKUP(N198,#REF!,12,FALSE),\"_\")","v":"_"},{"$f":"IFERROR(VLOOKUP(N198,#REF!,3,FALSE),\"\")","v":""},{"$f":"IFERROR(VLOOKUP(N198,#REF!,2,FALSE),\"\")","v":""},null,"y"]
[{"$error":"#REF!"},{"$f":"IF(VLOOKUP(M199,#REF!,2,FALSE)<=#REF!+1,\"OK\",\"X\")","v":{"$error":"#REF!"}},1,1,2,"OK","7","15Thursday_n-1","Thursday_n-115y","Thursday_n-115OK",null,15,"Thursday_n-1",23232183,{"$f":"IFERROR(VLOOKUP(N199,#REF!,3,FALSE),\"_\")","v":"_"},{"$f":"IFERROR(VLOOKUP(N199,#REF!,7,FALSE),\"_\")","v":"_"},{"$f":"IFERROR(VLOOKUP(N199,#REF!,12,FALSE),\"_\")","v":"_"},{"$f":"IFERROR(VLOOKUP(N199,#REF!,3,FALSE),\"\")","v":""},{"$f":"IFERROR(VLOOKUP(N199,#REF!,2,FALSE),\"\")","v":""},null,"y"]
[{"$error":"#REF!"},{"$f":"IF(VLOOKUP(M200,#REF!,2,FALSE)<=#REF!+1,\"OK\",\"X\")","v":{"$error":"#REF!"}},1,1,2,"OK","7","15Thursday_n-1","Thursday_n-115y","Thursday_n-115OK",null,15,"Thursday_n-1",23232184,{"$f":"IFERROR(VLOOKUP(N200,#REF!,3,FALSE),\"_\")","v":"_"},{"$f":"IFERROR(VLOOKUP(N200,#REF!,7,FALSE),\"_\")","v":"_"},{"$f":"IFERROR(VLOOKUP(N200,#REF!,12,FALSE),\"_\")","v":"_"},{"$f":"IFERROR(VLOOKUP(N200,#REF!,3,FALSE),\"\")","v":""},{"$f":"IFERROR(VLOOKUP(N200,#REF!,2,FALSE),\"\")","v":""},null,"y"]
[{"$error":"#REF!"},{"$f":"IF(VLOOKUP(M201,#REF!,2,FALSE)<=#REF!+1,\"OK\",\"X\")","v":{"$error":"#REF!"}},1,1,2,"OK","7","15Thursday_n-1","Thursday_n-115y","Thursday_n-115OK",null,15,"Thursday_n-1",23232185,{"$f":"IFERROR(VLOOKUP(N201,#REF!,3,FALSE),\"_\")","v":"_"},{"$f":"IFERROR(VLOOKUP(N201,#REF!,7,FALSE),\"_\")","v":"_"},{"$f":"IFERROR(VLOOKUP(N201,#REF!,12,FALSE),\"_\")","v":"_"},{"$f":"IFERROR(VLOOKUP(N201,#REF!,3,FALSE),\"\")","v":""},{"$f":"IFERROR(VLOOKUP(N201,#REF!,2,FALSE),\"\")","v":""},null,"y"]
[{"$error":"#REF!"},{"$f":"IF(VLOOKUP(M202,#REF!,2,FALSE)<=#REF!+1,\"OK\",\"X\")","v":{"$error":"#REF!"}},1,1,2,"OK","7","15Thursday_n-1","Thursday_n-115y","Thursday_n-115OK",null,15,"Thursday_n-1",23232186,{"$f":"IFERROR(VLOOKUP(N202,#REF!,3,FALSE),\"_\")","v":"_"},{"$f":"IFERROR(VLOOKUP(N202,#REF!,7,FALSE),\"_\")","v":"_"},{"$f":"IFERROR(VLOOKUP(N202,#REF!,12,FALSE),\"_\")","v":"_"},{"$f":"IFERROR(VLOOKUP(N202,#REF!,3,FALSE),\"\")","v":""},{"$f":"IFERROR(VLOOKUP(N202,#REF!,2,FALSE),\"\")","v":""},null,"y"]
[{"$error":"#REF!"},{"$f":"IF(VLOOKUP(M203,#REF!,2,FALSE)<=#REF!+1,\"OK\",\"X\")","v":{"$error":"#REF!"}},1,1,2,"OK","7","15Thursday_n-1","Thursday_n-115y","Thursday_n-115OK",null,15,"Thursday_n-1",23232187,{"$f":"IFERROR(VLOOKUP(N203,#REF!,3,FALSE),\"_\")","v":"_"},{"$f":"IFERROR(VLOOKUP(N203,#REF!,7,FALSE),\"_\")","v":"_"},{"$f":"IFERROR(VLOOKUP(N203,#REF!,12,FALSE),\"_\")","v":"_"},{"$f":"IFERROR(VLOOKUP(N203,#REF!,3,FALSE),\"\")","v":""},{"$f":"IFERROR(VLOOKUP(N203,#REF!,2,FALSE),\"\")","v":""},null,"y"]
[{"$error":"#REF!"},{"$f":"IF(VLOOKUP(M204,#REF!,2,FALSE)<=#REF!+1,\"OK\",\"X\")","v":{"$error":"#REF!"}},1,1,2,"OK","7","15Thursday_n-1","Thursday_n-115y","Thursday_n-115OK",null,15,"Thursday_n-1",23232188,{"$f":"IFERROR(VLOOKUP(N204,#REF!,3,FALSE),\"_\")","v":"_"},{"$f":"IFERROR(VLOOKUP(N204,#REF!,7,FALSE),\"_\")","v":"_"},{"$f":"IFERROR(VLOOKUP(N204,#REF!,12,FALSE),\"_\")","v":"_"},{"$f":"IFERROR(VLOOKUP(N204,#REF!,3,FALSE),\"\")","v":""},{"$f":"IFERROR(VLOOKUP(N204,#REF!,2,FALSE),\"\")","v":""},null,"y"]
[{"$error":"#REF!"},{"$f":"IF(VLOOKUP(M205,#REF!,2,FALSE)<=#REF!+1,\"OK\",\"X\")","v":{"$error":"#REF!"}},1,1,2,"OK","7","15Friday_n-1","Friday_n-115y","Friday_n-115OK",null,15,"Friday_n-1",23232189,{"$f":"IFERROR(VLOOKUP(N205,#REF!,3,FALSE),\"_\")","v":"_"},{"$f":"IFERROR(VLOOKUP(N205,#REF!,7,FALSE),\"_\")","v":"_"},{"$f":"IFERROR(VLOOKUP(N205,#REF!,12,FALSE),\"_\")","v":"_"},{"$f":"IFERROR(VLOOKUP(N205,#REF!,3,FALSE),\"\")","v":""},{"$f":"IFERROR(VLOOKUP(N205,#REF!,2,FALSE),\"\")","v":""},null,"y"]
[{"$error":"#REF!"},{"$f":"IF(VLOOKUP(M206,#REF!,2,FALSE)<=#REF!+1,\"OK\",\"X\")","v":{"$error":"#REF!"}},1,1,2,"OK","7Joao Cebola","15Friday_n-1","Friday_n-115Y","Friday_n-115OK",null,15,"Friday_n-1",23232190,{"$f":"IFERROR(VLOOKUP(N206,#REF!,3,FALSE),\"_\")","v":"_"},{"$f":"IFERROR(VLOOKUP(N206,#REF!,7,FALSE),\"_\")","v":"_"},{"$f":"IFERROR(VLOOKUP(N206,#REF!,12,FALSE),\"_\")","v":"_"},{"$f":"IFERROR(VLOOKUP(N206,#REF!,3,FALSE),\"\")","v":""},{"$f":"IFERROR(VLOOKUP(N206,#REF!,2,FALSE),\"\")","v":""},"Joao Cebola","Y"]
[{"$error":"#REF!"},{"$f":"IF(VLOOKUP(M207,#REF!,2,FALSE)<=#REF!+1,\"OK\",\"X\")","v":{"$error":"#REF!"}},1,1,2,"OK","7Joao Cebola","15Friday_n-1","Friday_n-115Y","Friday_n-115OK",null,15,"Friday_n-1",23232191,{"$f":"IFERROR(VLOOKUP(N207,#REF!,3,FALSE),\"_\")","v":"_"},{"$f":"IFERROR(VLOOKUP(N207,#REF!,7,FALSE),\"_\")","v":"_"},{"$f":"IFERROR(VLOOKUP(N207,#REF!,12,FALSE),\"_\")","v":"_"},{"$f":"IFERROR(VLOOKUP(N207,#REF!,3,FALSE),\"\")","v":""},{"$f":"IFERROR(VLOOKUP(N207,#REF!,2,FALSE),\"\")","v":""},"Joao Cebola","Y"]
[{"$error":"#REF!"},{"$f":"IF(VLOOKUP(M208,#REF!,2,FALSE)<=#REF!+1,\"OK\",\"X\")","v":{"$error":"#REF!"}},1,1,2,"OK","7Paulo M.","15Saturday_n-1","Saturday_n-115Y","Saturday_n-115OK",null,15,"Saturday_n-1",23232200,{"$f":"IFERROR(VLOOKUP(N208,#REF!,3,FALSE),\"_\")","v":"_"},{"$f":"IFERROR(VLOOKUP(N208,#REF!,7,FALSE),\"_\")","v":"_"},{"$f":"IFERROR(VLOOKUP(N208,#REF!,12,FALSE),\"_\")","v":"_"},{"$f":"IFERROR(VLOOKUP(N208,#REF!,3,FALSE),\"\")","v":""},{"$f":"IFERROR(VLOOKUP(N208,#REF!,2,FALSE),\"\")","v":""},"Paulo M.","Y"]
[{"$error":"#REF!"},{"$f":"IF(VLOOKUP(M209,#REF!,2,FALSE)<=#REF!+1,\"OK\",\"X\")","v":{"$error":"#REF!"}},1,1,2,"OK","7Paulo M.","15Saturday_n-1","Saturday_n-115Y","Saturday_n-115OK",null,15,"Saturday_n-1",23232201,{"$f":"IFERROR(VLOOKUP(N209,#REF!,3,FALSE),\"_\")","v":"_"},{"$f":"IFERROR(VLOOKUP(N209,#REF!,7,FALSE),\"_\")","v":"_"},{"$f":"IFERROR(VLOOKUP(N209,#REF!,12,FALSE),\"_\")","v":"_"},{"$f":"IFERROR(VLOOKUP(N209,#REF!,3,FALSE),\"\")","v":""},{"$f":"IFERROR(VLOOKUP(N209,#REF!,2,FALSE),\"\")","v":""},"Paulo M.","Y"]
[{"$error":"#REF!"},{"$f":"IF(VLOOKUP(M210,#REF!,2,FALSE)<=#REF!+1,\"OK\",\"X\")","v":{"$error":"#REF!"}},1,1,2,"OK","7Paulo M.","15Saturday_n-1","Saturday_n-115Y","Saturday_n-115OK",null,15,"Saturday_n-1",23232202,{"$f":"IFERROR(VLOOKUP(N210,#REF!,3,FALSE),\"_\")","v":"_"},{"$f":"IFERROR(VLOOKUP(N210,#REF!,7,FALSE),\"_\")","v":"_"},{"$f":"IFERROR(VLOOKUP(N210,#REF!,12,FALSE),\"_\")","v":"_"},{"$f":"IFERROR(VLOOKUP(N210,#REF!,3,FALSE),\"\")","v":""},{"$f":"IFERROR(VLOOKUP(N210,#REF!,2,FALSE),\"\")","v":""},"Paulo M.","Y"]
[{"$error":"#REF!"},{"$f":"IF(VLOOKUP(M211,#REF!,2,FALSE)<=#REF!+1,\"OK\",\"X\")","v":{"$error":"#REF!"}},1,1,2,"OK","7Paulo M.","15Saturday_n-1","Saturday_n-115Y","Saturday_n-115OK",null,15,"Saturday_n-1",23232203,{"$f":"IFERROR(VLOOKUP(N211,#REF!,3,FALSE),\"_\")","v":"_"},{"$f":"IFERROR(VLOOKUP(N211,#REF!,7,FALSE),\"_\")","v":"_"},{"$f":"IFERROR(VLOOKUP(N211,#REF!,12,FALSE),\"_\")","v":"_"},{"$f":"IFERROR(VLOOKUP(N211,#REF!,3,FALSE),\"\")","v":""},{"$f":"IFERROR(VLOOKUP(N211,#REF!,2,FALSE),\"\")","v":""},"Paulo M.","Y"]
[{"$error":"#REF!"},{"$f":"IF(VLOOKUP(M212,#REF!,2,FALSE)<=#REF!+1,\"OK\",\"X\")","v":{"$error":"#REF!"}},1,1,2,"OK","7Wagner Ferreira","15Saturday_n-1","Saturday_n-115Y","Saturday_n-115OK",null,15,"Saturday_n-1",23232192,{"$f":"IFERROR(VLOOKUP(N212,#REF!,3,FALSE),\"_\")","v":"_"},{"$f":"IFERROR(VLOOKUP(N212,#REF!,7,FALSE),\"_\")","v":"_"},{"$f":"IFERROR(VLOOKUP(N212,#REF!,12,FALSE),\"_\")","v":"_"},{"$f":"IFERROR(VLOOKUP(N212,#REF!,3,FALSE),\"\")","v":""},{"$f":"IFERROR(VLOOKUP(N212,#REF!,2,FALSE),\"\")","v":""},"Wagner Ferreira","Y"]
[{"$error":"#REF!"},{"$f":"IF(VLOOKUP(M213,#REF!,2,FALSE)<=#REF!+1,\"OK\",\"X\")","v":{"$error":"#REF!"}},1,1,2,"OK","7Wagner Ferreira","15Saturday_n-1","Saturday_n-115Y","Saturday_n-115OK",null,15,"Saturday_n-1",23232193,{"$f":"IFERROR(VLOOKUP(N213,#REF!,3,FALSE),\"_\")","v":"_"},{"$f":"IFERROR(VLOOKUP(N213,#REF!,7,FALSE),\"_\")","v":"_"},{"$f":"IFERROR(VLOOKUP(N213,#REF!,12,FALSE),\"_\")","v":"_"},{"$f":"IFERROR(VLOOKUP(N213,#REF!,3,FALSE),\"\")","v":""},{"$f":"IFERROR(VLOOKUP(N213,#REF!,2,FALSE),\"\")","v":""},"Wagner Ferreira","Y"]
[{"$error":"#REF!"},{"$f":"IF(VLOOKUP(M214,#REF!,2,FALSE)<=#REF!+1,\"OK\",\"X\")","v":{"$error":"#REF!"}},1,1,2,"OK","7Wagner Ferreira","15Saturday_n-1","Saturday_n-115Y","Saturday_n-115OK",null,15,"Saturday_n-1",23232194,{"$f":"IFERROR(VLOOKUP(N214,#REF!,3,FALSE),\"_\")","v":"_"},{"$f":"IFERROR(VLOOKUP(N214,#REF!,7,FALSE),\"_\")","v":"_"},{"$f":"IFERROR(VLOOKUP(N214,#REF!,12,FALSE),\"_\")","v":"_"},{"$f":"IFERROR(VLOOKUP(N214,#REF!,3,FALSE),\"\")","v":""},{"$f":"IFERROR(VLOOKUP(N214,#REF!,2,FALSE),\"\")","v":""},"Wagner Ferreira","Y"]
[{"$error":"#REF!"},{"$f":"IF(VLOOKUP(M215,#REF!,2,FALSE)<=#REF!+1,\"OK\",\"X\")","v":{"$error":"#REF!"}},1,1,2,"OK","7Andre M.","15Saturday_n-1","Saturday_n-115Y","Saturday_n-115OK",null,15,"Saturday_n-1",23252006,{"$f":"IFERROR(VLOOKUP(N215,#REF!,3,FALSE),\"_\")","v":"_"},{"$f":"IFERROR(VLOOKUP(N215,#REF!,7,FALSE),\"_\")","v":"_"},{"$f":"IFERROR(VLOOKUP(N215,#REF!,12,FALSE),\"_\")","v":"_"},{"$f":"IFERROR(VLOOKUP(N215,#REF!,3,FALSE),\"\")","v":""},{"$f":"IFERROR(VLOOKUP(N215,#REF!,2,FALSE),\"\")","v":""},"Andre M.","Y",null,null,null,"3068D040"]
[{"$error":"#REF!"},{"$f":"IF(VLOOKUP(M216,#REF!,2,FALSE)<=#REF!+1,\"OK\",\"X\")","v":{"$error":"#REF!"}},1,1,2,"OK","7Andre M.","15Saturday_n-1","Saturday_n-115Y","Saturday_n-115OK",null,15,"Saturday_n-1",23252007,{"$f":"IFERROR(VLOOKUP(N216,#REF!,3,FALSE),\"_\")","v":"_"},{"$f":"IFERROR(VLOOKUP(N216,#REF!,7,FALSE),\"_\")","v":"_"},{"$f":"IFERROR(VLOOKUP(N216,#REF!,12,FALSE),\"_\")","v":"_"},{"$f":"IFERROR(VLOOKUP(N216,#REF!,3,FALSE),\"\")","v":""},{"$f":"IFERROR(VLOOKUP(N216,#REF!,2,FALSE),\"\")","v":""},"Andre M.","Y",null,null,null,"3068D040"]
[{"$error":"#REF!"},{"$f":"IF(VLOOKUP(M217,#REF!,2,FALSE)<=#REF!+1,\"OK\",\"X\")","v":{"$error":"#REF!"}},1,1,2,"OK","7Andre M.","15Sunday_n-1","Sunday_n-115y","Sunday_n-115OK",null,15,"Sunday_n-1",23252004,{"$f":"IFERROR(VLOOKUP(N217,#REF!,3,FALSE),\"_\")","v":"_"},{"$f":"IFERROR(VLOOKUP(N217,#REF!,7,FALSE),\"_\")","v":"_"},{"$f":"IFERROR(VLOOKUP(N217,#REF!,12,FALSE),\"_\")","v":"_"},{"$f":"IFERROR(VLOOKUP(N217,#REF!,3,FALSE),\"\")","v":""},{"$f":"IFERROR(VLOOKUP(N217,#REF!,2,FALSE),\"\")","v":""},"Andre M.","y"]
[{"$error":"#REF!"},{"$f":"IF(VLOOKUP(M218,#REF!,2,FALSE)<=#REF!+1,\"OK\",\"X\")","v":{"$error":"#REF!"}},1,1,2,"OK","7Andre M.","15Sunday_n-1","Sunday_n-115y","Sunday_n-115OK",null,15,"Sunday_n-1",23252005,{"$f":"IFERROR(VLOOKUP(N218,#REF!,3,FALSE),\"_\")","v":"_"},{"$f":"IFERROR(VLOOKUP(N218,#REF!,7,FALSE),\"_\")","v":"_"},{"$f":"IFERROR(VLOOKUP(N218,#REF!,12,FALSE),\"_\")","v":"_"},{"$f":"IFERROR(VLOOKUP(N218,#REF!,3,FALSE),\"\")","v":""},{"$f":"IFERROR(VLOOKUP(N218,#REF!,2,FALSE),\"\")","v":""},"Andre M.","y"]
[{"$f":"L219&LEFT(P219,3)&B219","v":{"$error":"#REF!"}},{"$f":"IF(VLOOKUP(M219,#REF!,2,FALSE)<=#REF!+1,\"OK\",\"X\")","v":{"$error":"#REF!"}},{"$f":"IF(P219=\"start dummy operation\",0,1)","v":1},{"$f":"IF(U219=\"Y\",1,0)","v":1},{"$f":"SUM(C219:D219)","v":2},{"$f":"IF(E219>0,\"OK\",\"X2\")","v":"OK"},{"$f":"WEEKDAY(V219)&T219","v":"7Francisco A."},{"$f":"L219&M219","v":"15Monday"},{"$f":"M219&L219&U219","v":"Monday15Y"},{"$f":"M219&L219&F219","v":"Monday15OK"},null,15,"Monday",23242249,{"$f":"IFERROR(VLOOKUP(N219,#REF!,3,FALSE),\"_\")","v":"_"},{"$f":"IFERROR(VLOOKUP(N219,#REF!,7,FALSE),\"_\")","v":"_"},{"$f":"IFERROR(VLOOKUP(N219,#REF!,12,FALSE),\"_\")","v":"_"},{"$f":"IFERROR(VLOOKUP(N219,#REF!,3,FALSE),\"\")","v":""},{"$f":"IFERROR(VLOOKUP(N219,#REF!,2,FALSE),\"\")","v":""},"Francisco A.","Y"]
[{"$error":"#REF!"},{"$f":"IF(VLOOKUP(M220,#REF!,2,FALSE)<=#REF!+1,\"OK\",\"X\")","v":{"$error":"#REF!"}},1,1,2,"OK","7Paulo M.","15Monday","Monday15Y","Monday15OK",null,15,"Monday",23242252,{"$f":"IFERROR(VLOOKUP(N220,#REF!,3,FALSE),\"_\")","v":"_"},{"$f":"IFERROR(VLOOKUP(N220,#REF!,7,FALSE),\"_\")","v":"_"},{"$f":"IFERROR(VLOOKUP(N220,#REF!,12,FALSE),\"_\")","v":"_"},{"$f":"IFERROR(VLOOKUP(N220,#REF!,3,FALSE),\"\")","v":""},{"$f":"IFERROR(VLOOKUP(N220,#REF!,2,FALSE),\"\")","v":""},"Paulo M.","Y",null,"120HL12880037"]
[{"$error":"#REF!"},{"$f":"IF(VLOOKUP(M221,#REF!,2,FALSE)<=#REF!+1,\"OK\",\"X\")","v":{"$error":"#REF!"}},1,0,1,"OK","7Wagner Ferreira","15Tuesday","Tuesday15N","Tuesday15OK",null,15,"Tuesday",23242253,{"$f":"IFERROR(VLOOKUP(N221,#REF!,3,FALSE),\"_\")","v":"_"},{"$f":"IFERROR(VLOOKUP(N221,#REF!,7,FALSE),\"_\")","v":"_"},{"$f":"IFERROR(VLOOKUP(N221,#REF!,12,FALSE),\"_\")","v":"_"},{"$f":"IFERROR(VLOOKUP(N221,#REF!,3,FALSE),\"\")","v":""},{"$f":"IFERROR(VLOOKUP(N221,#REF!,2,FALSE),\"\")","v":""},"Wagner Ferreira","N",null,"120HL12880037"]
[{"$error":"#REF!"},{"$f":"IF(VLOOKUP(M222,#REF!,2,FALSE)<=#REF!+1,\"OK\",\"X\")","v":{"$error":"#REF!"}},1,1,2,"OK","7Wagner Ferreira","15Tuesday","Tuesday15Y","Tuesday15OK",null,15,"Tuesday",23242254,{"$f":"IFERROR(VLOOKUP(N222,#REF!,3,FALSE),\"_\")","v":"_"},{"$f":"IFERROR(VLOOKUP(N222,#REF!,7,FALSE),\"_\")","v":"_"},{"$f":"IFERROR(VLOOKUP(N222,#REF!,12,FALSE),\"_\")","v":"_"},{"$f":"IFERROR(VLOOKUP(N222,#REF!,3,FALSE),\"\")","v":""},{"$f":"IFERROR(VLOOKUP(N222,#REF!,2,FALSE),\"\")","v":""},"Wagner Ferreira","Y",null,null,null,"2080S044"]
[{"$error":"#REF!"},{"$f":"IF(VLOOKUP(M223,#REF!,2,FALSE)<=#REF!+1,\"OK\",\"X\")","v":{"$error":"#REF!"}},1,0,1,"OK","7Paulo M.","15Tuesday","Tuesday15N","Tuesday15OK",null,15,"Tuesday",23252008,{"$f":"IFERROR(VLOOKUP(N223,#REF!,3,FALSE),\"_\")","v":"_"},{"$f":"IFERROR(VLOOKUP(N223,#REF!,7,FALSE),\"_\")","v":"_"},{"$f":"IFERROR(VLOOKUP(N223,#REF!,12,FALSE),\"_\")","v":"_"},{"$f":"IFERROR(VLOOKUP(N223,#REF!,3,FALSE),\"\")","v":""},{"$f":"IFERROR(VLOOKUP(N223,#REF!,2,FALSE),\"\")","v":""},"Paulo M.","N",null,null,null,"2080S044"]
[{"$error":"#REF!"},{"$f":"IF(VLOOKUP(M224,#REF!,2,FALSE)<=#REF!+1,\"OK\",\"X\")","v":{"$error":"#REF!"}},1,1,2,"OK","7Paulo M.","15Tuesday","Tuesday15Y","Tuesday15OK",null,15,"Tuesday",23242255,{"$f":"IFERROR(VLOOKUP(N224,#REF!,3,FALSE),\"_\")","v":"_"},{"$f":"IFERROR(VLOOKUP(N224,#REF!,7,FALSE),\"_\")","v":"_"},{"$f":"IFERROR(VLOOKUP(N224,#REF!,12,FALSE),\"_\")","v":"_"},{"$f":"IFERROR(VLOOKUP(N224,#REF!,3,FALSE),\"\")","v":""},{"$f":"IFERROR(VLOOKUP(N224,#REF!,2,FALSE),\"\")","v":""},"Paulo M.","Y"]
[{"$error":"#REF!"},{"$f":"IF(VLOOKUP(M225,#REF!,2,FALSE)<=#REF!+1,\"OK\",\"X\")","v":{"$error":"#REF!"}},1,1,2,"OK","7Paulo M.","15Tuesday","Tuesday15Y","Tuesday15OK",null,15,"Tuesday",23242256,{"$f":"IFERROR(VLOOKUP(N225,#REF!,3,FALSE),\"_\")","v":"_"},{"$f":"IFERROR(VLOOKUP(N225,#REF!,7,FALSE),\"_\")","v":"_"},{"$f":"IFERROR(VLOOKUP(N225,#REF!,12,FALSE),\"_\")","v":"_"},{"$f":"IFERROR(VLOOKUP(N225,#REF!,3,FALSE),\"\")","v":""},{"$f":"IFERROR(VLOOKUP(N225,#REF!,2,FALSE),\"\")","v":""},"Paulo M.","Y"]
[{"$error":"#REF!"},{"$f":"IF(VLOOKUP(M226,#REF!,2,FALSE)<=#REF!+1,\"OK\",\"X\")","v":{"$error":"#REF!"}},1,0,1,"OK","7","","","OK",null,null,null,null,{"$f":"IFERROR(VLOOKUP(N226,#REF!,3,FALSE),\"_\")","v":"_"},{"$f":"IFERROR(VLOOKUP(N226,#REF!,7,FALSE),\"_\")","v":"_"},{"$f":"IFERROR(VLOOKUP(N226,#REF!,12,FALSE),\"_\")","v":"_"},{"$f":"IFERROR(VLOOKUP(N226,#REF!,3,FALSE),\"\")","v":""},{"$f":"IFERROR(VLOOKUP(N226,#REF!,2,FALSE),\"\")","v":""}]
[{"$error":"#REF!"},{"$f":"IF(VLOOKUP(M227,#REF!,2,FALSE)<=#REF!+1,\"OK\",\"X\")","v":{"$error":"#REF!"}},1,0,1,"OK","7","","","OK",null,null,null,null,{"$f":"IFERROR(VLOOKUP(N227,#REF!,3,FALSE),\"_\")","v":"_"},{"$f":"IFERROR(VLOOKUP(N227,#REF!,7,FALSE),\"_\")","v":"_"},{"$f":"IFERROR(VLOOKUP(N227,#REF!,12,FALSE),\"_\")","v":"_"},{"$f":"IFERROR(VLOOKUP(N227,#REF!,3,FALSE),\"\")","v":""},{"$f":"IFERROR(VLOOKUP(N227,#REF!,2,FALSE),\"\")","v":""}]
[{"$error":"#REF!"},{"$f":"IF(VLOOKUP(M228,#REF!,2,FALSE)<=#REF!+1,\"OK\",\"X\")","v":{"$error":"#REF!"}},1,0,1,"OK","7","","","OK",null,null,null,null,{"$f":"IFERROR(VLOOKUP(N228,#REF!,3,FALSE),\"_\")","v":"_"},{"$f":"IFERROR(VLOOKUP(N228,#REF!,7,FALSE),\"_\")","v":"_"},{"$f":"IFERROR(VLOOKUP(N228,#REF!,12,FALSE),\"_\")","v":"_"},{"$f":"IFERROR(VLOOKUP(N228,#REF!,3,FALSE),\"\")","v":""},{"$f":"IFERROR(VLOOKUP(N228,#REF!,2,FALSE),\"\")","v":""}]
[{"$error":"#REF!"},{"$f":"IF(VLOOKUP(M229,#REF!,2,FALSE)<=#REF!+1,\"OK\",\"X\")","v":{"$error":"#REF!"}},1,0,1,"OK","7","","","OK",null,null,null,null,{"$f":"IFERROR(VLOOKUP(N229,#REF!,3,FALSE),\"_\")","v":"_"},{"$f":"IFERROR(VLOOKUP(N229,#REF!,7,FALSE),\"_\")","v":"_"},{"$f":"IFERROR(VLOOKUP(N229,#REF!,12,FALSE),\"_\")","v":"_"},{"$f":"IFERROR(VLOOKUP(N229,#REF!,3,FALSE),\"\")","v":""},{"$f":"IFERROR(VLOOKUP(N229,#REF!,2,FALSE),\"\")","v":""}]
[{"$error":"#REF!"},{"$f":"IF(VLOOKUP(M230,#REF!,2,FALSE)<=#REF!+1,\"OK\",\"X\")","v":{"$error":"#REF!"}},1,0,1,"OK","7","","","OK",null,null,null,null,{"$f":"IFERROR(VLOOKUP(N230,#REF!,3,FALSE),\"_\")","v":"_"},{"$f":"IFERROR(VLOOKUP(N230,#REF!,7,FALSE),\"_\")","v":"_"},{"$f":"IFERROR(VLOOKUP(N230,#REF!,12,FALSE),\"_\")","v":"_"},{"$f":"IFERROR(VLOOKUP(N230,#REF!,3,FALSE),\"\")","v":""},{"$f":"IFERROR(VLOOKUP(N230,#REF!,2,FALSE),\"\")","v":""}]
[{"$error":"#REF!"},{"$f":"IF(VLOOKUP(M231,#REF!,2,FALSE)<=#REF!+1,\"OK\",\"X\")","v":{"$error":"#REF!"}},1,0,1,"OK","7","","","OK",null,null,null,null,{"$f":"IFERROR(VLOOKUP(N231,#REF!,3,FALSE),\"_\")","v":"_"},{"$f":"IFERROR(VLOOKUP(N231,#REF!,7,FALSE),\"_\")","v":"_"},{"$f":"IFERROR(VLOOKUP(N231,#REF!,12,FALSE),\"_\")","v":"_"},{"$f":"IFERROR(VLOOKUP(N231,#REF!,3,FALSE),\"\")","v":""},{"$f":"IFERROR(VLOOKUP(N231,#REF!,2,FALSE),\"\")","v":""}]
[{"$error":"#REF!"},{"$f":"IF(VLOOKUP(M232,#REF!,2,FALSE)<=#REF!+1,\"OK\",\"X\")","v":{"$error":"#REF!"}},1,0,1,"OK","7","","","OK",null,null,null,null,{"$f":"IFERROR(VLOOKUP(N232,#REF!,3,FALSE),\"_\")","v":"_"},{"$f":"IFERROR(VLOOKUP(N232,#REF!,7,FALSE),\"_\")","v":"_"},{"$f":"IFERROR(VLOOKUP(N232,#REF!,12,FALSE),\"_\")","v":"_"},{"$f":"IFERROR(VLOOKUP(N232,#REF!,3,FALSE),\"\")","v":""},{"$f":"IFERROR(VLOOKUP(N232,#REF!,2,FALSE),\"\")","v":""}]
[{"$error":"#REF!"},{"$f":"IF(VLOOKUP(M233,#REF!,2,FALSE)<=#REF!+1,\"OK\",\"X\")","v":{"$error":"#REF!"}},1,0,1,"OK","7","","","OK",null,null,null,null,{"$f":"IFERROR(VLOOKUP(N233,#REF!,3,FALSE),\"_\")","v":"_"},{"$f":"IFERROR(VLOOKUP(N233,#REF!,7,FALSE),\"_\")","v":"_"},{"$f":"IFERROR(VLOOKUP(N233,#REF!,12,FALSE),\"_\")","v":"_"},{"$f":"IFERROR(VLOOKUP(N233,#REF!,3,FALSE),\"\")","v":""},{"$f":"IFERROR(VLOOKUP(N233,#REF!,2,FALSE),\"\")","v":""}]
[{"$error":"#REF!"},{"$f":"IF(VLOOKUP(M234,#REF!,2,FALSE)<=#REF!+1,\"OK\",\"X\")","v":{"$error":"#REF!"}},1,0,1,"OK","7","","","OK",null,null,null,null,{"$f":"IFERROR(VLOOKUP(N234,#REF!,3,FALSE),\"_\")","v":"_"},{"$f":"IFERROR(VLOOKUP(N234,#REF!,7,FALSE),\"_\")","v":"_"},{"$f":"IFERROR(VLOOKUP(N234,#REF!,12,FALSE),\"_\")","v":"_"},{"$f":"IFERROR(VLOOKUP(N234,#REF!,3,FALSE),\"\")","v":""},{"$f":"IFERROR(VLOOKUP(N234,#REF!,2,FALSE),\"\")","v":""}]
[{"$error":"#REF!"},{"$f":"IF(VLOOKUP(M235,#REF!,2,FALSE)<=#REF!+1,\"OK\",\"X\")","v":{"$error":"#REF!"}},1,0,1,"OK","7","","","OK",null,null,null,null,{"$f":"IFERROR(VLOOKUP(N235,#REF!,3,FALSE),\"_\")","v":"_"},{"$f":"IFERROR(VLOOKUP(N235,#REF!,7,FALSE),\"_\")","v":"_"},{"$f":"IFERROR(VLOOKUP(N235,#REF!,12,FALSE),\"_\")","v":"_"},{"$f":"IFERROR(VLOOKUP(N235,#REF!,3,FALSE),\"\")","v":""},{"$f":"IFERROR(VLOOKUP(N235,#REF!,2,FALSE),\"\")","v":""}]
[{"$error":"#REF!"},{"$f":"IF(VLOOKUP(M236,#REF!,2,FALSE)<=#REF!+1,\"OK\",\"X\")","v":{"$error":"#REF!"}},1,0,1,"OK","7","","","OK",null,null,null,null,{"$f":"IFERROR(VLOOKUP(N236,#REF!,3,FALSE),\"_\")","v":"_"},{"$f":"IFERROR(VLOOKUP(N236,#REF!,7,FALSE),\"_\")","v":"_"},{"$f":"IFERROR(VLOOKUP(N236,#REF!,12,FALSE),\"_\")","v":"_"},{"$f":"IFERROR(VLOOKUP(N236,#REF!,3,FALSE),\"\")","v":""},{"$f":"IFERROR(VLOOKUP(N236,#REF!,2,FALSE),\"\")","v":""}]
[{"$error":"#REF!"},{"$f":"IF(VLOOKUP(M237,#REF!,2,FALSE)<=#REF!+1,\"OK\",\"X\")","v":{"$error":"#REF!"}},1,0,1,"OK","7","","","OK",null,null,null,null,{"$f":"IFERROR(VLOOKUP(N237,#REF!,3,FALSE),\"_\")","v":"_"},{"$f":"IFERROR(VLOOKUP(N237,#REF!,7,FALSE),\"_\")","v":"_"},{"$f":"IFERROR(VLOOKUP(N237,#REF!,12,FALSE),\"_\")","v":"_"},{"$f":"IFERROR(VLOOKUP(N237,#REF!,3,FALSE),\"\")","v":""},{"$f":"IFERROR(VLOOKUP(N237,#REF!,2,FALSE),\"\")","v":""}]
[{"$error":"#REF!"},{"$f":"IF(VLOOKUP(M238,#REF!,2,FALSE)<=#REF!+1,\"OK\",\"X\")","v":{"$error":"#REF!"}},1,0,1,"OK","7","","","OK",null,null,null,null,{"$f":"IFERROR(VLOOKUP(N238,#REF!,3,FALSE),\"_\")","v":"_"},{"$f":"IFERROR(VLOOKUP(N238,#REF!,7,FALSE),\"_\")","v":"_"},{"$f":"IFERROR(VLOOKUP(N238,#REF!,12,FALSE),\"_\")","v":"_"},{"$f":"IFERROR(VLOOKUP(N238,#REF!,3,FALSE),\"\")","v":""},{"$f":"IFERROR(VLOOKUP(N238,#REF!,2,FALSE),\"\")","v":""}]
[{"$error":"#REF!"},{"$f":"IF(VLOOKUP(M239,#REF!,2,FALSE)<=#REF!+1,\"OK\",\"X\")","v":{"$error":"#REF!"}},1,0,1,"OK","7","","","OK",null,null,null,null,{"$f":"IFERROR(VLOOKUP(N239,#REF!,3,FALSE),\"_\")","v":"_"},{"$f":"IFERROR(VLOOKUP(N239,#REF!,7,FALSE),\"_\")","v":"_"},{"$f":"IFERROR(VLOOKUP(N239,#REF!,12,FALSE),\"_\")","v":"_"},{"$f":"IFERROR(VLOOKUP(N239,#REF!,3,FALSE),\"\")","v":""},{"$f":"IFERROR(VLOOKUP(N239,#REF!,2,FALSE),\"\")","v":""}]
[{"$error":"#REF!"},{"$f":"IF(VLOOKUP(M240,#REF!,2,FALSE)<=#REF!+1,\"OK\",\"X\")","v":{"$error":"#REF!"}},1,0,1,"OK","7","","","OK",null,null,null,null,{"$f":"IFERROR(VLOOKUP(N240,#REF!,3,FALSE),\"_\")","v":"_"},{"$f":"IFERROR(VLOOKUP(N240,#REF!,7,FALSE),\"_\")","v":"_"},{"$f":"IFERROR(VLOOKUP(N240,#REF!,12,FALSE),\"_\")","v":"_"},{"$f":"IFERROR(VLOOKUP(N240,#REF!,3,FALSE),\"\")","v":""},{"$f":"IFERROR(VLOOKUP(N240,#REF!,2,FALSE),\"\")","v":""}]
[{"$error":"#REF!"},{"$f":"IF(VLOOKUP(M241,#REF!,2,FALSE)<=#REF!+1,\"OK\",\"X\")","v":{"$error":"#REF!"}},1,0,1,"OK","7","","","OK",null,null,null,null,{"$f":"IFERROR(VLOOKUP(N241,#REF!,3,FALSE),\"_\")","v":"_"},{"$f":"IFERROR(VLOOKUP(N241,#REF!,7,FALSE),\"_\")","v":"_"},{"$f":"IFERROR(VLOOKUP(N241,#REF!,12,FALSE),\"_\")","v":"_"},{"$f":"IFERROR(VLOOKUP(N241,#REF!,3,FALSE),\"\")","v":""},{"$f":"IFERROR(VLOOKUP(N241,#REF!,2,FALSE),\"\")","v":""}]
[{"$error":"#REF!"},{"$f":"IF(VLOOKUP(M242,#REF!,2,FALSE)<=#REF!+1,\"OK\",\"X\")","v":{"$error":"#REF!"}},1,0,1,"OK","7","","","OK",null,null,null,null,{"$f":"IFERROR(VLOOKUP(N242,#REF!,3,FALSE),\"_\")","v":"_"},{"$f":"IFERROR(VLOOKUP(N242,#REF!,7,FALSE),\"_\")","v":"_"},{"$f":"IFERROR(VLOOKUP(N242,#REF!,12,FALSE),\"_\")","v":"_"},{"$f":"IFERROR(VLOOKUP(N242,#REF!,3,FALSE),\"\")","v":""},{"$f":"IFERROR(VLOOKUP(N242,#REF!,2,FALSE),\"\")","v":""}]
[{"$error":"#REF!"},{"$f":"IF(VLOOKUP(M243,#REF!,2,FALSE)<=#REF!+1,\"OK\",\"X\")","v":{"$error":"#REF!"}},1,0,1,"OK","7","","","OK",null,null,null,null,{"$f":"IFERROR(VLOOKUP(N243,#REF!,3,FALSE),\"_\")","v":"_"},{"$f":"IFERROR(VLOOKUP(N243,#REF!,7,FALSE),\"_\")","v":"_"},{"$f":"IFERROR(VLOOKUP(N243,#REF!,12,FALSE),\"_\")","v":"_"},{"$f":"IFERROR(VLOOKUP(N243,#REF!,3,FALSE),\"\")","v":""},{"$f":"IFERROR(VLOOKUP(N243,#REF!,2,FALSE),\"\")","v":""}]
[{"$error":"#REF!"},{"$f":"IF(VLOOKUP(M244,#REF!,2,FALSE)<=#REF!+1,\"OK\",\"X\")","v":{"$error":"#REF!"}},1,0,1,"OK","7","","","OK",null,null,null,null,{"$f":"IFERROR(VLOOKUP(N244,#REF!,3,FALSE),\"_\")","v":"_"},{"$f":"IFERROR(VLOOKUP(N244,#REF!,7,FALSE),\"_\")","v":"_"},{"$f":"IFERROR(VLOOKUP(N244,#REF!,12,FALSE),\"_\")","v":"_"},{"$f":"IFERROR(VLOOKUP(N244,#REF!,3,FALSE),\"\")","v":""},{"$f":"IFERROR(VLOOKUP(N244,#REF!,2,FALSE),\"\")","v":""}]
[{"$error":"#REF!"},{"$f":"IF(VLOOKUP(M245,#REF!,2,FALSE)<=#REF!+1,\"OK\",\"X\")","v":{"$error":"#REF!"}},1,0,1,"OK","7","","","OK",null,null,null,null,{"$f":"IFERROR(VLOOKUP(N245,#REF!,3,FALSE),\"_\")","v":"_"},{"$f":"IFERROR(VLOOKUP(N245,#REF!,7,FALSE),\"_\")","v":"_"},{"$f":"IFERROR(VLOOKUP(N245,#REF!,12,FALSE),\"_\")","v":"_"},{"$f":"IFERROR(VLOOKUP(N245,#REF!,3,FALSE),\"\")","v":""},{"$f":"IFERROR(VLOOKUP(N245,#REF!,2,FALSE),\"\")","v":""}]
[{"$error":"#REF!"},{"$f":"IF(VLOOKUP(M246,#REF!,2,FALSE)<=#REF!+1,\"OK\",\"X\")","v":{"$error":"#REF!"}},1,0,1,"OK","7","","","OK",null,null,null,null,{"$f":"IFERROR(VLOOKUP(N246,#REF!,3,FALSE),\"_\")","v":"_"},{"$f":"IFERROR(VLOOKUP(N246,#REF!,7,FALSE),\"_\")","v":"_"},{"$f":"IFERROR(VLOOKUP(N246,#REF!,12,FALSE),\"_\")","v":"_"},{"$f":"IFERROR(VLOOKUP(N246,#REF!,3,FALSE),\"\")","v":""},{"$f":"IFERROR(VLOOKUP(N246,#REF!,2,FALSE),\"\")","v":""}]
[{"$error":"#REF!"},{"$f":"IF(VLOOKUP(M247,#REF!,2,FALSE)<=#REF!+1,\"OK\",\"X\")","v":{"$error":"#REF!"}},1,0,1,"OK","7","","","OK",null,null,null,null,{"$f":"IFERROR(VLOOKUP(N247,#REF!,3,FALSE),\"_\")","v":"_"},{"$f":"IFERROR(VLOOKUP(N247,#REF!,7,FALSE),\"_\")","v":"_"},{"$f":"IFERROR(VLOOKUP(N247,#REF!,12,FALSE),\"_\")","v":"_"},{"$f":"IFERROR(VLOOKUP(N247,#REF!,3,FALSE),\"\")","v":""},{"$f":"IFERROR(VLOOKUP(N247,#REF!,2,FALSE),\"\")","v":""}]
[{"$error":"#REF!"},{"$f":"IF(VLOOKUP(M248,#REF!,2,FALSE)<=#REF!+1,\"OK\",\"X\")","v":{"$error":"#REF!"}},1,0,1,"OK","7","","","OK",null,null,null,null,{"$f":"IFERROR(VLOOKUP(N248,#REF!,3,FALSE),\"_\")","v":"_"},{"$f":"IFERROR(VLOOKUP(N248,#REF!,7,FALSE),\"_\")","v":"_"},{"$f":"IFERROR(VLOOKUP(N248,#REF!,12,FALSE),\"_\")","v":"_"},{"$f":"IFERROR(VLOOKUP(N248,#REF!,3,FALSE),\"\")","v":""},{"$f":"IFERROR(VLOOKUP(N248,#REF!,2,FALSE),\"\")","v":""}]
[{"$error":"#REF!"},{"$f":"IF(VLOOKUP(M249,#REF!,2,FALSE)<=#REF!+1,\"OK\",\"X\")","v":{"$error":"#REF!"}},1,0,1,"OK","7","","","OK",null,null,null,null,{"$f":"IFERROR(VLOOKUP(N249,#REF!,3,FALSE),\"_\")","v":"_"},{"$f":"IFERROR(VLOOKUP(N249,#REF!,7,FALSE),\"_\")","v":"_"},{"$f":"IFERROR(VLOOKUP(N249,#REF!,12,FALSE),\"_\")","v":"_"},{"$f":"IFERROR(VLOOKUP(N249,#REF!,3,FALSE),\"\")","v":""},{"$f":"IFERROR(VLOOKUP(N249,#REF!,2,FALSE),\"\")","v":""}]
[{"$error":"#REF!"},{"$f":"IF(VLOOKUP(M250,#REF!,2,FALSE)<=#REF!+1,\"OK\",\"X\")","v":{"$error":"#REF!"}},1,0,1,"OK","7","","","OK",null,null,null,null,{"$f":"IFERROR(VLOOKUP(N250,#REF!,3,FALSE),\"_\")","v":"_"},{"$f":"IFERROR(VLOOKUP(N250,#REF!,7,FALSE),\"_\")","v":"_"},{"$f":"IFERROR(VLOOKUP(N250,#REF!,12,FALSE),\"_\")","v":"_"},{"$f":"IFERROR(VLOOKUP(N250,#REF!,3,FALSE),\"\")","v":""},{"$f":"IFERROR(VLOOKUP(N250,#REF!,2,FALSE),\"\")","v":""}]
[{"$error":"#REF!"},{"$f":"IF(VLOOKUP(M251,#REF!,2,FALSE)<=#REF!+1,\"OK\",\"X\")","v":{"$error":"#REF!"}},1,0,1,"OK","7","","","OK",null,null,null,null,{"$f":"IFERROR(VLOOKUP(N251,#REF!,3,FALSE),\"_\")","v":"_"},{"$f":"IFERROR(VLOOKUP(N251,#REF!,7,FALSE),\"_\")","v":"_"},{"$f":"IFERROR(VLOOKUP(N251,#REF!,12,FALSE),\"_\")","v":"_"},{"$f":"IFERROR(VLOOKUP(N251,#REF!,3,FALSE),\"\")","v":""},{"$f":"IFERROR(VLOOKUP(N251,#REF!,2,FALSE),\"\")","v":""}]
[{"$error":"#REF!"},{"$f":"IF(VLOOKUP(M252,#REF!,2,FALSE)<=#REF!+1,\"OK\",\"X\")","v":{"$error":"#REF!"}},1,0,1,"OK","7","","","OK",null,null,null,null,{"$f":"IFERROR(VLOOKUP(N252,#REF!,3,FALSE),\"_\")","v":"_"},{"$f":"IFERROR(VLOOKUP(N252,#REF!,7,FALSE),\"_\")","v":"_"},{"$f":"IFERROR(VLOOKUP(N252,#REF!,12,FALSE),\"_\")","v":"_"},{"$f":"IFERROR(VLOOKUP(N252,#REF!,3,FALSE),\"\")","v":""},{"$f":"IFERROR(VLOOKUP(N252,#REF!,2,FALSE),\"\")","v":""}]
[{"$error":"#REF!"},{"$f":"IF(VLOOKUP(M253,#REF!,2,FALSE)<=#REF!+1,\"OK\",\"X\")","v":{"$error":"#REF!"}},1,0,1,"OK","7","","","OK",null,null,null,null,{"$f":"IFERROR(VLOOKUP(N253,#REF!,3,FALSE),\"_\")","v":"_"},{"$f":"IFERROR(VLOOKUP(N253,#REF!,7,FALSE),\"_\")","v":"_"},{"$f":"IFERROR(VLOOKUP(N253,#REF!,12,FALSE),\"_\")","v":"_"},{"$f":"IFERROR(VLOOKUP(N253,#REF!,3,FALSE),\"\")","v":""},{"$f":"IFERROR(VLOOKUP(N253,#REF!,2,FALSE),\"\")","v":""}]
[{"$error":"#REF!"},{"$f":"IF(VLOOKUP(M254,#REF!,2,FALSE)<=#REF!+1,\"OK\",\"X\")","v":{"$error":"#REF!"}},1,0,1,"OK","7","","","OK",null,null,null,null,{"$f":"IFERROR(VLOOKUP(N254,#REF!,3,FALSE),\"_\")","v":"_"},{"$f":"IFERROR(VLOOKUP(N254,#REF!,7,FALSE),\"_\")","v":"_"},{"$f":"IFERROR(VLOOKUP(N254,#REF!,12,FALSE),\"_\")","v":"_"},{"$f":"IFERROR(VLOOKUP(N254,#REF!,3,FALSE),\"\")","v":""},{"$f":"IFERROR(VLOOKUP(N254,#REF!,2,FALSE),\"\")","v":""}]
[{"$error":"#REF!"},{"$f":"IF(VLOOKUP(M255,#REF!,2,FALSE)<=#REF!+1,\"OK\",\"X\")","v":{"$error":"#REF!"}},1,0,1,"OK","7","","","OK",null,null,null,null,{"$f":"IFERROR(VLOOKUP(N255,#REF!,3,FALSE),\"_\")","v":"_"},{"$f":"IFERROR(VLOOKUP(N255,#REF!,7,FALSE),\"_\")","v":"_"},{"$f":"IFERROR(VLOOKUP(N255,#REF!,12,FALSE),\"_\")","v":"_"},{"$f":"IFERROR(VLOOKUP(N255,#REF!,3,FALSE),\"\")","v":""},{"$f":"IFERROR(VLOOKUP(N255,#REF!,2,FALSE),\"\")","v":""}]
[{"$error":"#REF!"},{"$f":"IF(VLOOKUP(M256,#REF!,2,FALSE)<=#REF!+1,\"OK\",\"X\")","v":{"$error":"#REF!"}},1,0,1,"OK","7","","","OK",null,null,null,null,{"$f":"IFERROR(VLOOKUP(N256,#REF!,3,FALSE),\"_\")","v":"_"},{"$f":"IFERROR(VLOOKUP(N256,#REF!,7,FALSE),\"_\")","v":"_"},{"$f":"IFERROR(VLOOKUP(N256,#REF!,12,FALSE),\"_\")","v":"_"},{"$f":"IFERROR(VLOOKUP(N256,#REF!,3,FALSE),\"\")","v":""},{"$f":"IFERROR(VLOOKUP(N256,#REF!,2,FALSE),\"\")","v":""}]
[{"$error":"#REF!"},{"$f":"IF(VLOOKUP(M257,#REF!,2,FALSE)<=#REF!+1,\"OK\",\"X\")","v":{"$error":"#REF!"}},1,0,1,"OK","7","","","OK",null,null,null,null,{"$f":"IFERROR(VLOOKUP(N257,#REF!,3,FALSE),\"_\")","v":"_"},{"$f":"IFERROR(VLOOKUP(N257,#REF!,7,FALSE),\"_\")","v":"_"},{"$f":"IFERROR(VLOOKUP(N257,#REF!,12,FALSE),\"_\")","v":"_"},{"$f":"IFERROR(VLOOKUP(N257,#REF!,3,FALSE),\"\")","v":""},{"$f":"IFERROR(VLOOKUP(N257,#REF!,2,FALSE),\"\")","v":""}]
[{"$error":"#REF!"},{"$f":"IF(VLOOKUP(M258,#REF!,2,FALSE)<=#REF!+1,\"OK\",\"X\")","v":{"$error":"#REF!"}},1,0,1,"OK","7","","","OK",null,null,null,null,{"$f":"IFERROR(VLOOKUP(N258,#REF!,3,FALSE),\"_\")","v":"_"},{"$f":"IFERROR(VLOOKUP(N258,#REF!,7,FALSE),\"_\")","v":"_"},{"$f":"IFERROR(VLOOKUP(N258,#REF!,12,FALSE),\"_\")","v":"_"},{"$f":"IFERROR(VLOOKUP(N258,#REF!,3,FALSE),\"\")","v":""},{"$f":"IFERROR(VLOOKUP(N258,#REF!,2,FALSE),\"\")","v":""}]
[{"$error":"#REF!"},{"$f":"IF(VLOOKUP(M259,#REF!,2,FALSE)<=#REF!+1,\"OK\",\"X\")","v":{"$error":"#REF!"}},1,0,1,"OK","7","","","OK",null,null,null,null,{"$f":"IFERROR(VLOOKUP(N259,#REF!,3,FALSE),\"_\")","v":"_"},{"$f":"IFERROR(VLOOKUP(N259,#REF!,7,FALSE),\"_\")","v":"_"},{"$f":"IFERROR(VLOOKUP(N259,#REF!,12,FALSE),\"_\")","v":"_"},{"$f":"IFERROR(VLOOKUP(N259,#REF!,3,FALSE),\"\")","v":""},{"$f":"IFERROR(VLOOKUP(N259,#REF!,2,FALSE),\"\")","v":""}]
[{"$error":"#REF!"},{"$f":"IF(VLOOKUP(M260,#REF!,2,FALSE)<=#REF!+1,\"OK\",\"X\")","v":{"$error":"#REF!"}},1,0,1,"OK","7","","","OK",null,null,null,null,{"$f":"IFERROR(VLOOKUP(N260,#REF!,3,FALSE),\"_\")","v":"_"},{"$f":"IFERROR(VLOOKUP(N260,#REF!,7,FALSE),\"_\")","v":"_"},{"$f":"IFERROR(VLOOKUP(N260,#REF!,12,FALSE),\"_\")","v":"_"},{"$f":"IFERROR(VLOOKUP(N260,#REF!,3,FALSE),\"\")","v":""},{"$f":"IFERROR(VLOOKUP(N260,#REF!,2,FALSE),\"\")","v":""}]
[{"$error":"#REF!"},{"$f":"IF(VLOOKUP(M261,#REF!,2,FALSE)<=#REF!+1,\"OK\",\"X\")","v":{"$error":"#REF!"}},1,0,1,"OK","7","","","OK",null,null,null,null,{"$f":"IFERROR(VLOOKUP(N261,#REF!,3,FALSE),\"_\")","v":"_"},{"$f":"IFERROR(VLOOKUP(N261,#REF!,7,FALSE),\"_\")","v":"_"},{"$f":"IFERROR(VLOOKUP(N261,#REF!,12,FALSE),\"_\")","v":"_"},{"$f":"IFERROR(VLOOKUP(N261,#REF!,3,FALSE),\"\")","v":""},{"$f":"IFERROR(VLOOKUP(N261,#REF!,2,FALSE),\"\")","v":""}]
[{"$error":"#REF!"},{"$f":"IF(VLOOKUP(M262,#REF!,2,FALSE)<=#REF!+1,\"OK\",\"X\")","v":{"$error":"#REF!"}},1,0,1,"OK","7","","","OK",null,null,null,null,{"$f":"IFERROR(VLOOKUP(N262,#REF!,3,FALSE),\"_\")","v":"_"},{"$f":"IFERROR(VLOOKUP(N262,#REF!,7,FALSE),\"_\")","v":"_"},{"$f":"IFERROR(VLOOKUP(N262,#REF!,12,FALSE),\"_\")","v":"_"},{"$f":"IFERROR(VLOOKUP(N262,#REF!,3,FALSE),\"\")","v":""},{"$f":"IFERROR(VLOOKUP(N262,#REF!,2,FALSE),\"\")","v":""}]
[{"$error":"#REF!"},{"$f":"IF(VLOOKUP(M263,#REF!,2,FALSE)<=#REF!+1,\"OK\",\"X\")","v":{"$error":"#REF!"}},1,0,1,"OK","7","","","OK",null,null,null,null,{"$f":"IFERROR(VLOOKUP(N263,#REF!,3,FALSE),\"_\")","v":"_"},{"$f":"IFERROR(VLOOKUP(N263,#REF!,7,FALSE),\"_\")","v":"_"},{"$f":"IFERROR(VLOOKUP(N263,#REF!,12,FALSE),\"_\")","v":"_"},{"$f":"IFERROR(VLOOKUP(N263,#REF!,3,FALSE),\"\")","v":""},{"$f":"IFERROR(VLOOKUP(N263,#REF!,2,FALSE),\"\")","v":""}]
[{"$error":"#REF!"},{"$f":"IF(VLOOKUP(M264,#REF!,2,FALSE)<=#REF!+1,\"OK\",\"X\")","v":{"$error":"#REF!"}},1,0,1,"OK","7","","","OK",null,null,null,null,{"$f":"IFERROR(VLOOKUP(N264,#REF!,3,FALSE),\"_\")","v":"_"},{"$f":"IFERROR(VLOOKUP(N264,#REF!,7,FALSE),\"_\")","v":"_"},{"$f":"IFERROR(VLOOKUP(N264,#REF!,12,FALSE),\"_\")","v":"_"},{"$f":"IFERROR(VLOOKUP(N264,#REF!,3,FALSE),\"\")","v":""},{"$f":"IFERROR(VLOOKUP(N264,#REF!,2,FALSE),\"\")","v":""}]
[{"$error":"#REF!"},{"$f":"IF(VLOOKUP(M265,#REF!,2,FALSE)<=#REF!+1,\"OK\",\"X\")","v":{"$error":"#REF!"}},1,0,1,"OK","7","","","OK",null,null,null,null,{"$f":"IFERROR(VLOOKUP(N265,#REF!,3,FALSE),\"_\")","v":"_"},{"$f":"IFERROR(VLOOKUP(N265,#REF!,7,FALSE),\"_\")","v":"_"},{"$f":"IFERROR(VLOOKUP(N265,#REF!,12,FALSE),\"_\")","v":"_"},{"$f":"IFERROR(VLOOKUP(N265,#REF!,3,FALSE),\"\")","v":""},{"$f":"IFERROR(VLOOKUP(N265,#REF!,2,FALSE),\"\")","v":""}]
[{"$error":"#REF!"},{"$f":"IF(VLOOKUP(M266,#REF!,2,FALSE)<=#REF!+1,\"OK\",\"X\")","v":{"$error":"#REF!"}},1,0,1,"OK","7","","","OK",null,null,null,null,{"$f":"IFERROR(VLOOKUP(N266,#REF!,3,FALSE),\"_\")","v":"_"},{"$f":"IFERROR(VLOOKUP(N266,#REF!,7,FALSE),\"_\")","v":"_"},{"$f":"IFERROR(VLOOKUP(N266,#REF!,12,FALSE),\"_\")","v":"_"},{"$f":"IFERROR(VLOOKUP(N266,#REF!,3,FALSE),\"\")","v":""},{"$f":"IFERROR(VLOOKUP(N266,#REF!,2,FALSE),\"\")","v":""}]
[{"$error":"#REF!"},{"$f":"IF(VLOOKUP(M267,#REF!,2,FALSE)<=#REF!+1,\"OK\",\"X\")","v":{"$error":"#REF!"}},1,0,1,"OK","7","","","OK",null,null,null,null,{"$f":"IFERROR(VLOOKUP(N267,#REF!,3,FALSE),\"_\")","v":"_"},{"$f":"IFERROR(VLOOKUP(N267,#REF!,7,FALSE),\"_\")","v":"_"},{"$f":"IFERROR(VLOOKUP(N267,#REF!,12,FALSE),\"_\")","v":"_"},{"$f":"IFERROR(VLOOKUP(N267,#REF!,3,FALSE),\"\")","v":""},{"$f":"IFERROR(VLOOKUP(N267,#REF!,2,FALSE),\"\")","v":""}]
[{"$error":"#REF!"},{"$f":"IF(VLOOKUP(M268,#REF!,2,FALSE)<=#REF!+1,\"OK\",\"X\")","v":{"$error":"#REF!"}},1,0,1,"OK","7","","","OK",null,null,null,null,{"$f":"IFERROR(VLOOKUP(N268,#REF!,3,FALSE),\"_\")","v":"_"},{"$f":"IFERROR(VLOOKUP(N268,#REF!,7,FALSE),\"_\")","v":"_"},{"$f":"IFERROR(VLOOKUP(N268,#REF!,12,FALSE),\"_\")","v":"_"},{"$f":"IFERROR(VLOOKUP(N268,#REF!,3,FALSE),\"\")","v":""},{"$f":"IFERROR(VLOOKUP(N268,#REF!,2,FALSE),\"\")","v":""}]
[{"$error":"#REF!"},{"$f":"IF(VLOOKUP(M269,#REF!,2,FALSE)<=#REF!+1,\"OK\",\"X\")","v":{"$error":"#REF!"}},1,0,1,"OK","7","","","OK",null,null,null,null,{"$f":"IFERROR(VLOOKUP(N269,#REF!,3,FALSE),\"_\")","v":"_"},{"$f":"IFERROR(VLOOKUP(N269,#REF!,7,FALSE),\"_\")","v":"_"},{"$f":"IFERROR(VLOOKUP(N269,#REF!,12,FALSE),\"_\")","v":"_"},{"$f":"IFERROR(VLOOKUP(N269,#REF!,3,FALSE),\"\")","v":""},{"$f":"IFERROR(VLOOKUP(N269,#REF!,2,FALSE),\"\")","v":""}]
[{"$error":"#REF!"},{"$f":"IF(VLOOKUP(M270,#REF!,2,FALSE)<=#REF!+1,\"OK\",\"X\")","v":{"$error":"#REF!"}},1,0,1,"OK","7","","","OK",null,null,null,null,{"$f":"IFERROR(VLOOKUP(N270,#REF!,3,FALSE),\"_\")","v":"_"},{"$f":"IFERROR(VLOOKUP(N270,#REF!,7,FALSE),\"_\")","v":"_"},{"$f":"IFERROR(VLOOKUP(N270,#REF!,12,FALSE),\"_\")","v":"_"},{"$f":"IFERROR(VLOOKUP(N270,#REF!,3,FALSE),\"\")","v":""},{"$f":"IFERROR(VLOOKUP(N270,#REF!,2,FALSE),\"\")","v":""}]
[{"$error":"#REF!"},{"$f":"IF(VLOOKUP(M271,#REF!,2,FALSE)<=#REF!+1,\"OK\",\"X\")","v":{"$error":"#REF!"}},1,0,1,"OK","7","","","OK",null,null,null,null,{"$f":"IFERROR(VLOOKUP(N271,#REF!,3,FALSE),\"_\")","v":"_"},{"$f":"IFERROR(VLOOKUP(N271,#REF!,7,FALSE),\"_\")","v":"_"},{"$f":"IFERROR(VLOOKUP(N271,#REF!,12,FALSE),\"_\")","v":"_"},{"$f":"IFERROR(VLOOKUP(N271,#REF!,3,FALSE),\"\")","v":""},{"$f":"IFERROR(VLOOKUP(N271,#REF!,2,FALSE),\"\")","v":""}]
[{"$error":"#REF!"},{"$f":"IF(VLOOKUP(M272,#REF!,2,FALSE)<=#REF!+1,\"OK\",\"X\")","v":{"$error":"#REF!"}},1,0,1,"OK","7","","","OK",null,null,null,null,{"$f":"IFERROR(VLOOKUP(N272,#REF!,3,FALSE),\"_\")","v":"_"},{"$f":"IFERROR(VLOOKUP(N272,#REF!,7,FALSE),\"_\")","v":"_"},{"$f":"IFERROR(VLOOKUP(N272,#REF!,12,FALSE),\"_\")","v":"_"},{"$f":"IFERROR(VLOOKUP(N272,#REF!,3,FALSE),\"\")","v":""},{"$f":"IFERROR(VLOOKUP(N272,#REF!,2,FALSE),\"\")","v":""}]
[{"$error":"#REF!"},{"$f":"IF(VLOOKUP(M273,#REF!,2,FALSE)<=#REF!+1,\"OK\",\"X\")","v":{"$error":"#REF!"}},1,0,1,"OK","7","","","OK",null,null,null,null,{"$f":"IFERROR(VLOOKUP(N273,#REF!,3,FALSE),\"_\")","v":"_"},{"$f":"IFERROR(VLOOKUP(N273,#REF!,7,FALSE),\"_\")","v":"_"},{"$f":"IFERROR(VLOOKUP(N273,#REF!,12,FALSE),\"_\")","v":"_"},{"$f":"IFERROR(VLOOKUP(N273,#REF!,3,FALSE),\"\")","v":""},{"$f":"IFERROR(VLOOKUP(N273,#REF!,2,FALSE),\"\")","v":""}]
[{"$error":"#REF!"},{"$f":"IF(VLOOKUP(M274,#REF!,2,FALSE)<=#REF!+1,\"OK\",\"X\")","v":{"$error":"#REF!"}},1,0,1,"OK","7","","","OK",null,null,null,null,{"$f":"IFERROR(VLOOKUP(N274,#REF!,3,FALSE),\"_\")","v":"_"},{"$f":"IFERROR(VLOOKUP(N274,#REF!,7,FALSE),\"_\")","v":"_"},{"$f":"IFERROR(VLOOKUP(N274,#REF!,12,FALSE),\"_\")","v":"_"},{"$f":"IFERROR(VLOOKUP(N274,#REF!,3,FALSE),\"\")","v":""},{"$f":"IFERROR(VLOOKUP(N274,#REF!,2,FALSE),\"\")","v":""}]
[{"$error":"#REF!"},{"$f":"IF(VLOOKUP(M275,#REF!,2,FALSE)<=#REF!+1,\"OK\",\"X\")","v":{"$error":"#REF!"}},1,0,1,"OK","7","","","OK",null,null,null,null,{"$f":"IFERROR(VLOOKUP(N275,#REF!,3,FALSE),\"_\")","v":"_"},{"$f":"IFERROR(VLOOKUP(N275,#REF!,7,FALSE),\"_\")","v":"_"},{"$f":"IFERROR(VLOOKUP(N275,#REF!,12,FALSE),\"_\")","v":"_"},{"$f":"IFERROR(VLOOKUP(N275,#REF!,3,FALSE),\"\")","v":""},{"$f":"IFERROR(VLOOKUP(N275,#REF!,2,FALSE),\"\")","v":""}]
[{"$error":"#REF!"},{"$f":"IF(VLOOKUP(M276,#REF!,2,FALSE)<=#REF!+1,\"OK\",\"X\")","v":{"$error":"#REF!"}},1,0,1,"OK","7","","","OK",null,null,null,null,{"$f":"IFERROR(VLOOKUP(N276,#REF!,3,FALSE),\"_\")","v":"_"},{"$f":"IFERROR(VLOOKUP(N276,#REF!,7,FALSE),\"_\")","v":"_"},{"$f":"IFERROR(VLOOKUP(N276,#REF!,12,FALSE),\"_\")","v":"_"},{"$f":"IFERROR(VLOOKUP(N276,#REF!,3,FALSE),\"\")","v":""},{"$f":"IFERROR(VLOOKUP(N276,#REF!,2,FALSE),\"\")","v":""}]
[{"$error":"#REF!"},{"$f":"IF(VLOOKUP(M277,#REF!,2,FALSE)<=#REF!+1,\"OK\",\"X\")","v":{"$error":"#REF!"}},1,0,1,"OK","7","","","OK",null,null,null,null,{"$f":"IFERROR(VLOOKUP(N277,#REF!,3,FALSE),\"_\")","v":"_"},{"$f":"IFERROR(VLOOKUP(N277,#REF!,7,FALSE),\"_\")","v":"_"},{"$f":"IFERROR(VLOOKUP(N277,#REF!,12,FALSE),\"_\")","v":"_"},{"$f":"IFERROR(VLOOKUP(N277,#REF!,3,FALSE),\"\")","v":""},{"$f":"IFERROR(VLOOKUP(N277,#REF!,2,FALSE),\"\")","v":""}]
[{"$error":"#REF!"},{"$f":"IF(VLOOKUP(M278,#REF!,2,FALSE)<=#REF!+1,\"OK\",\"X\")","v":{"$error":"#REF!"}},1,0,1,"OK","7","","","OK",null,null,null,null,{"$f":"IFERROR(VLOOKUP(N278,#REF!,3,FALSE),\"_\")","v":"_"},{"$f":"IFERROR(VLOOKUP(N278,#REF!,7,FALSE),\"_\")","v":"_"},{"$f":"IFERROR(VLOOKUP(N278,#REF!,12,FALSE),\"_\")","v":"_"},{"$f":"IFERROR(VLOOKUP(N278,#REF!,3,FALSE),\"\")","v":""},{"$f":"IFERROR(VLOOKUP(N278,#REF!,2,FALSE),\"\")","v":""}]
[{"$f":"L279&LEFT(P279,3)&B279","v":{"$error":"#REF!"}},{"$f":"IF(VLOOKUP(M279,#REF!,2,FALSE)<=#REF!+1,\"OK\",\"X\")","v":{"$error":"#REF!"}},{"$f":"IF(P279=\"start dummy operation\",0,1)","v":1},{"$f":"IF(U279=\"Y\",1,0)","v":0},{"$f":"SUM(C279:D279)","v":1},{"$f":"IF(E279>0,\"OK\",\"X2\")","v":"OK"},{"$f":"WEEKDAY(V279)&T279","v":"7"},{"$f":"L279&M279","v":""},{"$f":"M279&L279&U279","v":""},{"$f":"M279&L279&F279","v":"OK"},null,null,null,null,{"$f":"IFERROR(VLOOKUP(N279,#REF!,3,FALSE),\"_\")","v":"_"},{"$f":"IFERROR(VLOOKUP(N279,#REF!,7,FALSE),\"_\")","v":"_"},{"$f":"IFERROR(VLOOKUP(N279,#REF!,12,FALSE),\"_\")","v":"_"},{"$f":"IFERROR(VLOOKUP(N279,#REF!,3,FALSE),\"\")","v":""},{"$f":"IFERROR(VLOOKUP(N279,#REF!,2,FALSE),\"\")","v":""}]
[{"$error":"#REF!"},{"$f":"IF(VLOOKUP(M280,#REF!,2,FALSE)<=#REF!+1,\"OK\",\"X\")","v":{"$error":"#REF!"}},1,0,1,"OK","7","","","OK",null,null,null,null,{"$f":"IFERROR(VLOOKUP(N280,#REF!,3,FALSE),\"_\")","v":"_"},{"$f":"IFERROR(VLOOKUP(N280,#REF!,7,FALSE),\"_\")","v":"_"},{"$f":"IFERROR(VLOOKUP(N280,#REF!,12,FALSE),\"_\")","v":"_"},{"$f":"IFERROR(VLOOKUP(N280,#REF!,3,FALSE),\"\")","v":""},{"$f":"IFERROR(VLOOKUP(N280,#REF!,2,FALSE),\"\")","v":""}]
[{"$error":"#REF!"},{"$f":"IF(VLOOKUP(M281,#REF!,2,FALSE)<=#REF!+1,\"OK\",\"X\")","v":{"$error":"#REF!"}},1,0,1,"OK","7","","","OK",null,null,null,null,{"$f":"IFERROR(VLOOKUP(N281,#REF!,3,FALSE),\"_\")","v":"_"},{"$f":"IFERROR(VLOOKUP(N281,#REF!,7,FALSE),\"_\")","v":"_"},{"$f":"IFERROR(VLOOKUP(N281,#REF!,12,FALSE),\"_\")","v":"_"},{"$f":"IFERROR(VLOOKUP(N281,#REF!,3,FALSE),\"\")","v":""},{"$f":"IFERROR(VLOOKUP(N281,#REF!,2,FALSE),\"\")","v":""}]
[{"$error":"#REF!"},{"$f":"IF(VLOOKUP(M282,#REF!,2,FALSE)<=#REF!+1,\"OK\",\"X\")","v":{"$error":"#REF!"}},1,0,1,"OK","7","","","OK",null,null,null,null,{"$f":"IFERROR(VLOOKUP(N282,#REF!,3,FALSE),\"_\")","v":"_"},{"$f":"IFERROR(VLOOKUP(N282,#REF!,7,FALSE),\"_\")","v":"_"},{"$f":"IFERROR(VLOOKUP(N282,#REF!,12,FALSE),\"_\")","v":"_"},{"$f":"IFERROR(VLOOKUP(N282,#REF!,3,FALSE),\"\")","v":""},{"$f":"IFERROR(VLOOKUP(N282,#REF!,2,FALSE),\"\")","v":""}]
[{"$error":"#REF!"},{"$f":"IF(VLOOKUP(M283,#REF!,2,FALSE)<=#REF!+1,\"OK\",\"X\")","v":{"$error":"#REF!"}},1,0,1,"OK","7","","","OK",null,null,null,null,{"$f":"IFERROR(VLOOKUP(N283,#REF!,3,FALSE),\"_\")","v":"_"},{"$f":"IFERROR(VLOOKUP(N283,#REF!,7,FALSE),\"_\")","v":"_"},{"$f":"IFERROR(VLOOKUP(N283,#REF!,12,FALSE),\"_\")","v":"_"},{"$f":"IFERROR(VLOOKUP(N283,#REF!,3,FALSE),\"\")","v":""},{"$f":"IFERROR(VLOOKUP(N283,#REF!,2,FALSE),\"\")","v":""}]
[{"$error":"#REF!"},{"$f":"IF(VLOOKUP(M284,#REF!,2,FALSE)<=#REF!+1,\"OK\",\"X\")","v":{"$error":"#REF!"}},1,0,1,"OK","7","","","OK",null,null,null,null,{"$f":"IFERROR(VLOOKUP(N284,#REF!,3,FALSE),\"_\")","v":"_"},{"$f":"IFERROR(VLOOKUP(N284,#REF!,7,FALSE),\"_\")","v":"_"},{"$f":"IFERROR(VLOOKUP(N284,#REF!,12,FALSE),\"_\")","v":"_"},{"$f":"IFERROR(VLOOKUP(N284,#REF!,3,FALSE),\"\")","v":""},{"$f":"IFERROR(VLOOKUP(N284,#REF!,2,FALSE),\"\")","v":""}]
[{"$error":"#REF!"},{"$f":"IF(VLOOKUP(M285,#REF!,2,FALSE)<=#REF!+1,\"OK\",\"X\")","v":{"$error":"#REF!"}},1,0,1,"OK","7","","","OK",null,null,null,null,{"$f":"IFERROR(VLOOKUP(N285,#REF!,3,FALSE),\"_\")","v":"_"},{"$f":"IFERROR(VLOOKUP(N285,#REF!,7,FALSE),\"_\")","v":"_"},{"$f":"IFERROR(VLOOKUP(N285,#REF!,12,FALSE),\"_\")","v":"_"},{"$f":"IFERROR(VLOOKUP(N285,#REF!,3,FALSE),\"\")","v":""},{"$f":"IFERROR(VLOOKUP(N285,#REF!,2,FALSE),\"\")","v":""}]
[{"$error":"#REF!"},{"$f":"IF(VLOOKUP(M286,#REF!,2,FALSE)<=#REF!+1,\"OK\",\"X\")","v":{"$error":"#REF!"}},1,0,1,"OK","7","","","OK",null,null,null,null,{"$f":"IFERROR(VLOOKUP(N286,#REF!,3,FALSE),\"_\")","v":"_"},{"$f":"IFERROR(VLOOKUP(N286,#REF!,7,FALSE),\"_\")","v":"_"},{"$f":"IFERROR(VLOOKUP(N286,#REF!,12,FALSE),\"_\")","v":"_"},{"$f":"IFERROR(VLOOKUP(N286,#REF!,3,FALSE),\"\")","v":""},{"$f":"IFERROR(VLOOKUP(N286,#REF!,2,FALSE),\"\")","v":""}]
[{"$error":"#REF!"},{"$f":"IF(VLOOKUP(M287,#REF!,2,FALSE)<=#REF!+1,\"OK\",\"X\")","v":{"$error":"#REF!"}},1,0,1,"OK","7","","","OK",null,null,null,null,{"$f":"IFERROR(VLOOKUP(N287,#REF!,3,FALSE),\"_\")","v":"_"},{"$f":"IFERROR(VLOOKUP(N287,#REF!,7,FALSE),\"_\")","v":"_"},{"$f":"IFERROR(VLOOKUP(N287,#REF!,12,FALSE),\"_\")","v":"_"},{"$f":"IFERROR(VLOOKUP(N287,#REF!,3,FALSE),\"\")","v":""},{"$f":"IFERROR(VLOOKUP(N287,#REF!,2,FALSE),\"\")","v":""}]
[{"$error":"#REF!"},{"$f":"IF(VLOOKUP(M288,#REF!,2,FALSE)<=#REF!+1,\"OK\",\"X\")","v":{"$error":"#REF!"}},1,0,1,"OK","7","","","OK",null,null,null,null,{"$f":"IFERROR(VLOOKUP(N288,#REF!,3,FALSE),\"_\")","v":"_"},{"$f":"IFERROR(VLOOKUP(N288,#REF!,7,FALSE),\"_\")","v":"_"},{"$f":"IFERROR(VLOOKUP(N288,#REF!,12,FALSE),\"_\")","v":"_"},{"$f":"IFERROR(VLOOKUP(N288,#REF!,3,FALSE),\"\")","v":""},{"$f":"IFERROR(VLOOKUP(N288,#REF!,2,FALSE),\"\")","v":""}]
[{"$error":"#REF!"},{"$f":"IF(VLOOKUP(M289,#REF!,2,FALSE)<=#REF!+1,\"OK\",\"X\")","v":{"$error":"#REF!"}},1,0,1,"OK","7","","","OK",null,null,null,null,{"$f":"IFERROR(VLOOKUP(N289,#REF!,3,FALSE),\"_\")","v":"_"},{"$f":"IFERROR(VLOOKUP(N289,#REF!,7,FALSE),\"_\")","v":"_"},{"$f":"IFERROR(VLOOKUP(N289,#REF!,12,FALSE),\"_\")","v":"_"},{"$f":"IFERROR(VLOOKUP(N289,#REF!,3,FALSE),\"\")","v":""},{"$f":"IFERROR(VLOOKUP(N289,#REF!,2,FALSE),\"\")","v":""}]
[{"$error":"#REF!"},{"$f":"IF(VLOOKUP(M290,#REF!,2,FALSE)<=#REF!+1,\"OK\",\"X\")","v":{"$error":"#REF!"}},1,0,1,"OK","7","","","OK",null,null,null,null,{"$f":"IFERROR(VLOOKUP(N290,#REF!,3,FALSE),\"_\")","v":"_"},{"$f":"IFERROR(VLOOKUP(N290,#REF!,7,FALSE),\"_\")","v":"_"},{"$f":"IFERROR(VLOOKUP(N290,#REF!,12,FALSE),\"_\")","v":"_"},{"$f":"IFERROR(VLOOKUP(N290,#REF!,3,FALSE),\"\")","v":""},{"$f":"IFERROR(VLOOKUP(N290,#REF!,2,FALSE),\"\")","v":""}]
[{"$error":"#REF!"},{"$f":"IF(VLOOKUP(M291,#REF!,2,FALSE)<=#REF!+1,\"OK\",\"X\")","v":{"$error":"#REF!"}},1,0,1,"OK","7","","","OK",null,null,null,null,{"$f":"IFERROR(VLOOKUP(N291,#REF!,3,FALSE),\"_\")","v":"_"},{"$f":"IFERROR(VLOOKUP(N291,#REF!,7,FALSE),\"_\")","v":"_"},{"$f":"IFERROR(VLOOKUP(N291,#REF!,12,FALSE),\"_\")","v":"_"},{"$f":"IFERROR(VLOOKUP(N291,#REF!,3,FALSE),\"\")","v":""},{"$f":"IFERROR(VLOOKUP(N291,#REF!,2,FALSE),\"\")","v":""}]
[{"$error":"#REF!"},{"$f":"IF(VLOOKUP(M292,#REF!,2,FALSE)<=#REF!+1,\"OK\",\"X\")","v":{"$error":"#REF!"}},1,0,1,"OK","7","","","OK",null,null,null,null,{"$f":"IFERROR(VLOOKUP(N292,#REF!,3,FALSE),\"_\")","v":"_"},{"$f":"IFERROR(VLOOKUP(N292,#REF!,7,FALSE),\"_\")","v":"_"},{"$f":"IFERROR(VLOOKUP(N292,#REF!,12,FALSE),\"_\")","v":"_"},{"$f":"IFERROR(VLOOKUP(N292,#REF!,3,FALSE),\"\")","v":""},{"$f":"IFERROR(VLOOKUP(N292,#REF!,2,FALSE),\"\")","v":""}]
[{"$error":"#REF!"},{"$f":"IF(VLOOKUP(M293,#REF!,2,FALSE)<=#REF!+1,\"OK\",\"X\")","v":{"$error":"#REF!"}},1,0,1,"OK","7","","","OK",null,null,null,null,{"$f":"IFERROR(VLOOKUP(N293,#REF!,3,FALSE),\"_\")","v":"_"},{"$f":"IFERROR(VLOOKUP(N293,#REF!,7,FALSE),\"_\")","v":"_"},{"$f":"IFERROR(VLOOKUP(N293,#REF!,12,FALSE),\"_\")","v":"_"},{"$f":"IFERROR(VLOOKUP(N293,#REF!,3,FALSE),\"\")","v":""},{"$f":"IFERROR(VLOOKUP(N293,#REF!,2,FALSE),\"\")","v":""}]
[{"$error":"#REF!"},{"$f":"IF(VLOOKUP(M294,#REF!,2,FALSE)<=#REF!+1,\"OK\",\"X\")","v":{"$error":"#REF!"}},1,0,1,"OK","7","","","OK",null,null,null,null,{"$f":"IFERROR(VLOOKUP(N294,#REF!,3,FALSE),\"_\")","v":"_"},{"$f":"IFERROR(VLOOKUP(N294,#REF!,7,FALSE),\"_\")","v":"_"},{"$f":"IFERROR(VLOOKUP(N294,#REF!,12,FALSE),\"_\")","v":"_"},{"$f":"IFERROR(VLOOKUP(N294,#REF!,3,FALSE),\"\")","v":""},{"$f":"IFERROR(VLOOKUP(N294,#REF!,2,FALSE),\"\")","v":""}]
[{"$error":"#REF!"},{"$f":"IF(VLOOKUP(M295,#REF!,2,FALSE)<=#REF!+1,\"OK\",\"X\")","v":{"$error":"#REF!"}},1,0,1,"OK","7","","","OK",null,null,null,null,{"$f":"IFERROR(VLOOKUP(N295,#REF!,3,FALSE),\"_\")","v":"_"},{"$f":"IFERROR(VLOOKUP(N295,#REF!,7,FALSE),\"_\")","v":"_"},{"$f":"IFERROR(VLOOKUP(N295,#REF!,12,FALSE),\"_\")","v":"_"},{"$f":"IFERROR(VLOOKUP(N295,#REF!,3,FALSE),\"\")","v":""},{"$f":"IFERROR(VLOOKUP(N295,#REF!,2,FALSE),\"\")","v":""}]
[{"$error":"#REF!"},{"$f":"IF(VLOOKUP(M296,#REF!,2,FALSE)<=#REF!+1,\"OK\",\"X\")","v":{"$error":"#REF!"}},1,0,1,"OK","7","","","OK",null,null,null,null,{"$f":"IFERROR(VLOOKUP(N296,#REF!,3,FALSE),\"_\")","v":"_"},{"$f":"IFERROR(VLOOKUP(N296,#REF!,7,FALSE),\"_\")","v":"_"},{"$f":"IFERROR(VLOOKUP(N296,#REF!,12,FALSE),\"_\")","v":"_"},{"$f":"IFERROR(VLOOKUP(N296,#REF!,3,FALSE),\"\")","v":""},{"$f":"IFERROR(VLOOKUP(N296,#REF!,2,FALSE),\"\")","v":""}]
[{"$error":"#REF!"},{"$f":"IF(VLOOKUP(M297,#REF!,2,FALSE)<=#REF!+1,\"OK\",\"X\")","v":{"$error":"#REF!"}},1,0,1,"OK","7","","","OK",null,null,null,null,{"$f":"IFERROR(VLOOKUP(N297,#REF!,3,FALSE),\"_\")","v":"_"},{"$f":"IFERROR(VLOOKUP(N297,#REF!,7,FALSE),\"_\")","v":"_"},{"$f":"IFERROR(VLOOKUP(N297,#REF!,12,FALSE),\"_\")","v":"_"},{"$f":"IFERROR(VLOOKUP(N297,#REF!,3,FALSE),\"\")","v":""},{"$f":"IFERROR(VLOOKUP(N297,#REF!,2,FALSE),\"\")","v":""}]
[{"$error":"#REF!"},{"$f":"IF(VLOOKUP(M298,#REF!,2,FALSE)<=#REF!+1,\"OK\",\"X\")","v":{"$error":"#REF!"}},1,0,1,"OK","7","","","OK",null,null,null,null,{"$f":"IFERROR(VLOOKUP(N298,#REF!,3,FALSE),\"_\")","v":"_"},{"$f":"IFERROR(VLOOKUP(N298,#REF!,7,FALSE),\"_\")","v":"_"},{"$f":"IFERROR(VLOOKUP(N298,#REF!,12,FALSE),\"_\")","v":"_"},{"$f":"IFERROR(VLOOKUP(N298,#REF!,3,FALSE),\"\")","v":""},{"$f":"IFERROR(VLOOKUP(N298,#REF!,2,FALSE),\"\")","v":""}]
[{"$error":"#REF!"},{"$f":"IF(VLOOKUP(M299,#REF!,2,FALSE)<=#REF!+1,\"OK\",\"X\")","v":{"$error":"#REF!"}},1,0,1,"OK","7","","","OK",null,null,null,null,{"$f":"IFERROR(VLOOKUP(N299,#REF!,3,FALSE),\"_\")","v":"_"},{"$f":"IFERROR(VLOOKUP(N299,#REF!,7,FALSE),\"_\")","v":"_"},{"$f":"IFERROR(VLOOKUP(N299,#REF!,12,FALSE),\"_\")","v":"_"},{"$f":"IFERROR(VLOOKUP(N299,#REF!,3,FALSE),\"\")","v":""},{"$f":"IFERROR(VLOOKUP(N299,#REF!,2,FALSE),\"\")","v":""}]
[{"$error":"#REF!"},{"$f":"IF(VLOOKUP(M300,#REF!,2,FALSE)<=#REF!+1,\"OK\",\"X\")","v":{"$error":"#REF!"}},1,0,1,"OK","7","","","OK",null,null,null,null,{"$f":"IFERROR(VLOOKUP(N300,#REF!,3,FALSE),\"_\")","v":"_"},{"$f":"IFERROR(VLOOKUP(N300,#REF!,7,FALSE),\"_\")","v":"_"},{"$f":"IFERROR(VLOOKUP(N300,#REF!,12,FALSE),\"_\")","v":"_"},{"$f":"IFERROR(VLOOKUP(N300,#REF!,3,FALSE),\"\")","v":""},{"$f":"IFERROR(VLOOKUP(N300,#REF!,2,FALSE),\"\")","v":""}]
[{"$error":"#REF!"},{"$f":"IF(VLOOKUP(M301,#REF!,2,FALSE)<=#REF!+1,\"OK\",\"X\")","v":{"$error":"#REF!"}},1,0,1,"OK","7","","","OK",null,null,null,null,{"$f":"IFERROR(VLOOKUP(N301,#REF!,3,FALSE),\"_\")","v":"_"},{"$f":"IFERROR(VLOOKUP(N301,#REF!,7,FALSE),\"_\")","v":"_"},{"$f":"IFERROR(VLOOKUP(N301,#REF!,12,FALSE),\"_\")","v":"_"},{"$f":"IFERROR(VLOOKUP(N301,#REF!,3,FALSE),\"\")","v":""},{"$f":"IFERROR(VLOOKUP(N301,#REF!,2,FALSE),\"\")","v":""}]
[{"$error":"#REF!"},{"$f":"IF(VLOOKUP(M302,#REF!,2,FALSE)<=#REF!+1,\"OK\",\"X\")","v":{"$error":"#REF!"}},1,0,1,"OK","7","","","OK",null,null,null,null,{"$f":"IFERROR(VLOOKUP(N302,#REF!,3,FALSE),\"_\")","v":"_"},{"$f":"IFERROR(VLOOKUP(N302,#REF!,7,FALSE),\"_\")","v":"_"},{"$f":"IFERROR(VLOOKUP(N302,#REF!,12,FALSE),\"_\")","v":"_"},{"$f":"IFERROR(VLOOKUP(N302,#REF!,3,FALSE),\"\")","v":""},{"$f":"IFERROR(VLOOKUP(N302,#REF!,2,FALSE),\"\")","v":""}]
[{"$error":"#REF!"},{"$f":"IF(VLOOKUP(M303,#REF!,2,FALSE)<=#REF!+1,\"OK\",\"X\")","v":{"$error":"#REF!"}},1,0,1,"OK","7","","","OK",null,null,null,null,{"$f":"IFERROR(VLOOKUP(N303,#REF!,3,FALSE),\"_\")","v":"_"},{"$f":"IFERROR(VLOOKUP(N303,#REF!,7,FALSE),\"_\")","v":"_"},{"$f":"IFERROR(VLOOKUP(N303,#REF!,12,FALSE),\"_\")","v":"_"},{"$f":"IFERROR(VLOOKUP(N303,#REF!,3,FALSE),\"\")","v":""},{"$f":"IFERROR(VLOOKUP(N303,#REF!,2,FALSE),\"\")","v":""}]
[{"$error":"#REF!"},{"$f":"IF(VLOOKUP(M304,#REF!,2,FALSE)<=#REF!+1,\"OK\",\"X\")","v":{"$error":"#REF!"}},1,0,1,"OK","7","","","OK",null,null,null,null,{"$f":"IFERROR(VLOOKUP(N304,#REF!,3,FALSE),\"_\")","v":"_"},{"$f":"IFERROR(VLOOKUP(N304,#REF!,7,FALSE),\"_\")","v":"_"},{"$f":"IFERROR(VLOOKUP(N304,#REF!,12,FALSE),\"_\")","v":"_"},{"$f":"IFERROR(VLOOKUP(N304,#REF!,3,FALSE),\"\")","v":""},{"$f":"IFERROR(VLOOKUP(N304,#REF!,2,FALSE),\"\")","v":""}]
[{"$error":"#REF!"},{"$f":"IF(VLOOKUP(M305,#REF!,2,FALSE)<=#REF!+1,\"OK\",\"X\")","v":{"$error":"#REF!"}},1,0,1,"OK","7","","","OK",null,null,null,null,{"$f":"IFERROR(VLOOKUP(N305,#REF!,3,FALSE),\"_\")","v":"_"},{"$f":"IFERROR(VLOOKUP(N305,#REF!,7,FALSE),\"_\")","v":"_"},{"$f":"IFERROR(VLOOKUP(N305,#REF!,12,FALSE),\"_\")","v":"_"},{"$f":"IFERROR(VLOOKUP(N305,#REF!,3,FALSE),\"\")","v":""},{"$f":"IFERROR(VLOOKUP(N305,#REF!,2,FALSE),\"\")","v":""}]
[{"$error":"#REF!"},{"$f":"IF(VLOOKUP(M306,#REF!,2,FALSE)<=#REF!+1,\"OK\",\"X\")","v":{"$error":"#REF!"}},1,0,1,"OK","7","","","OK",null,null,null,null,{"$f":"IFERROR(VLOOKUP(N306,#REF!,3,FALSE),\"_\")","v":"_"},{"$f":"IFERROR(VLOOKUP(N306,#REF!,7,FALSE),\"_\")","v":"_"},{"$f":"IFERROR(VLOOKUP(N306,#REF!,12,FALSE),\"_\")","v":"_"},{"$f":"IFERROR(VLOOKUP(N306,#REF!,3,FALSE),\"\")","v":""},{"$f":"IFERROR(VLOOKUP(N306,#REF!,2,FALSE),\"\")","v":""}]
[{"$error":"#REF!"},{"$f":"IF(VLOOKUP(M307,#REF!,2,FALSE)<=#REF!+1,\"OK\",\"X\")","v":{"$error":"#REF!"}},1,0,1,"OK","7","","","OK",null,null,null,null,{"$f":"IFERROR(VLOOKUP(N307,#REF!,3,FALSE),\"_\")","v":"_"},{"$f":"IFERROR(VLOOKUP(N307,#REF!,7,FALSE),\"_\")","v":"_"},{"$f":"IFERROR(VLOOKUP(N307,#REF!,12,FALSE),\"_\")","v":"_"},{"$f":"IFERROR(VLOOKUP(N307,#REF!,3,FALSE),\"\")","v":""},{"$f":"IFERROR(VLOOKUP(N307,#REF!,2,FALSE),\"\")","v":""}]
[{"$error":"#REF!"},{"$f":"IF(VLOOKUP(M308,#REF!,2,FALSE)<=#REF!+1,\"OK\",\"X\")","v":{"$error":"#REF!"}},1,0,1,"OK","7","","","OK",null,null,null,null,{"$f":"IFERROR(VLOOKUP(N308,#REF!,3,FALSE),\"_\")","v":"_"},{"$f":"IFERROR(VLOOKUP(N308,#REF!,7,FALSE),\"_\")","v":"_"},{"$f":"IFERROR(VLOOKUP(N308,#REF!,12,FALSE),\"_\")","v":"_"},{"$f":"IFERROR(VLOOKUP(N308,#REF!,3,FALSE),\"\")","v":""},{"$f":"IFERROR(VLOOKUP(N308,#REF!,2,FALSE),\"\")","v":""}]
[{"$error":"#REF!"},{"$f":"IF(VLOOKUP(M309,#REF!,2,FALSE)<=#REF!+1,\"OK\",\"X\")","v":{"$error":"#REF!"}},1,0,1,"OK","7","","","OK",null,null,null,null,{"$f":"IFERROR(VLOOKUP(N309,#REF!,3,FALSE),\"_\")","v":"_"},{"$f":"IFERROR(VLOOKUP(N309,#REF!,7,FALSE),\"_\")","v":"_"},{"$f":"IFERROR(VLOOKUP(N309,#REF!,12,FALSE),\"_\")","v":"_"},{"$f":"IFERROR(VLOOKUP(N309,#REF!,3,FALSE),\"\")","v":""},{"$f":"IFERROR(VLOOKUP(N309,#REF!,2,FALSE),\"\")","v":""}]
[{"$error":"#REF!"},{"$f":"IF(VLOOKUP(M310,#REF!,2,FALSE)<=#REF!+1,\"OK\",\"X\")","v":{"$error":"#REF!"}},1,0,1,"OK","7","","","OK",null,null,null,null,{"$f":"IFERROR(VLOOKUP(N310,#REF!,3,FALSE),\"_\")","v":"_"},{"$f":"IFERROR(VLOOKUP(N310,#REF!,7,FALSE),\"_\")","v":"_"},{"$f":"IFERROR(VLOOKUP(N310,#REF!,12,FALSE),\"_\")","v":"_"},{"$f":"IFERROR(VLOOKUP(N310,#REF!,3,FALSE),\"\")","v":""},{"$f":"IFERROR(VLOOKUP(N310,#REF!,2,FALSE),\"\")","v":""}]
[{"$error":"#REF!"},{"$f":"IF(VLOOKUP(M311,#REF!,2,FALSE)<=#REF!+1,\"OK\",\"X\")","v":{"$error":"#REF!"}},1,0,1,"OK","7","","","OK",null,null,null,null,{"$f":"IFERROR(VLOOKUP(N311,#REF!,3,FALSE),\"_\")","v":"_"},{"$f":"IFERROR(VLOOKUP(N311,#REF!,7,FALSE),\"_\")","v":"_"},{"$f":"IFERROR(VLOOKUP(N311,#REF!,12,FALSE),\"_\")","v":"_"},{"$f":"IFERROR(VLOOKUP(N311,#REF!,3,FALSE),\"\")","v":""},{"$f":"IFERROR(VLOOKUP(N311,#REF!,2,FALSE),\"\")","v":""}]
[{"$error":"#REF!"},{"$f":"IF(VLOOKUP(M312,#REF!,2,FALSE)<=#REF!+1,\"OK\",\"X\")","v":{"$error":"#REF!"}},1,0,1,"OK","7","","","OK",null,null,null,null,{"$f":"IFERROR(VLOOKUP(N312,#REF!,3,FALSE),\"_\")","v":"_"},{"$f":"IFERROR(VLOOKUP(N312,#REF!,7,FALSE),\"_\")","v":"_"},{"$f":"IFERROR(VLOOKUP(N312,#REF!,12,FALSE),\"_\")","v":"_"},{"$f":"IFERROR(VLOOKUP(N312,#REF!,3,FALSE),\"\")","v":""},{"$f":"IFERROR(VLOOKUP(N312,#REF!,2,FALSE),\"\")","v":""}]
[{"$error":"#REF!"},{"$f":"IF(VLOOKUP(M313,#REF!,2,FALSE)<=#REF!+1,\"OK\",\"X\")","v":{"$error":"#REF!"}},1,0,1,"OK","7","","","OK",null,null,null,null,{"$f":"IFERROR(VLOOKUP(N313,#REF!,3,FALSE),\"_\")","v":"_"},{"$f":"IFERROR(VLOOKUP(N313,#REF!,7,FALSE),\"_\")","v":"_"},{"$f":"IFERROR(VLOOKUP(N313,#REF!,12,FALSE),\"_\")","v":"_"},{"$f":"IFERROR(VLOOKUP(N313,#REF!,3,FALSE),\"\")","v":""},{"$f":"IFERROR(VLOOKUP(N313,#REF!,2,FALSE),\"\")","v":""}]
[{"$error":"#REF!"},{"$f":"IF(VLOOKUP(M314,#REF!,2,FALSE)<=#REF!+1,\"OK\",\"X\")","v":{"$error":"#REF!"}},1,0,1,"OK","7","","","OK",null,null,null,null,{"$f":"IFERROR(VLOOKUP(N314,#REF!,3,FALSE),\"_\")","v":"_"},{"$f":"IFERROR(VLOOKUP(N314,#REF!,7,FALSE),\"_\")","v":"_"},{"$f":"IFERROR(VLOOKUP(N314,#REF!,12,FALSE),\"_\")","v":"_"},{"$f":"IFERROR(VLOOKUP(N314,#REF!,3,FALSE),\"\")","v":""},{"$f":"IFERROR(VLOOKUP(N314,#REF!,2,FALSE),\"\")","v":""}]
[{"$error":"#REF!"},{"$f":"IF(VLOOKUP(M315,#REF!,2,FALSE)<=#REF!+1,\"OK\",\"X\")","v":{"$error":"#REF!"}},1,0,1,"OK","7","","","OK",null,null,null,null,{"$f":"IFERROR(VLOOKUP(N315,#REF!,3,FALSE),\"_\")","v":"_"},{"$f":"IFERROR(VLOOKUP(N315,#REF!,7,FALSE),\"_\")","v":"_"},{"$f":"IFERROR(VLOOKUP(N315,#REF!,12,FALSE),\"_\")","v":"_"},{"$f":"IFERROR(VLOOKUP(N315,#REF!,3,FALSE),\"\")","v":""},{"$f":"IFERROR(VLOOKUP(N315,#REF!,2,FALSE),\"\")","v":""}]
[{"$error":"#REF!"},{"$f":"IF(VLOOKUP(M316,#REF!,2,FALSE)<=#REF!+1,\"OK\",\"X\")","v":{"$error":"#REF!"}},1,0,1,"OK","7","","","OK",null,null,null,null,{"$f":"IFERROR(VLOOKUP(N316,#REF!,3,FALSE),\"_\")","v":"_"},{"$f":"IFERROR(VLOOKUP(N316,#REF!,7,FALSE),\"_\")","v":"_"},{"$f":"IFERROR(VLOOKUP(N316,#REF!,12,FALSE),\"_\")","v":"_"},{"$f":"IFERROR(VLOOKUP(N316,#REF!,3,FALSE),\"\")","v":""},{"$f":"IFERROR(VLOOKUP(N316,#REF!,2,FALSE),\"\")","v":""}]
[{"$error":"#REF!"},{"$f":"IF(VLOOKUP(M317,#REF!,2,FALSE)<=#REF!+1,\"OK\",\"X\")","v":{"$error":"#REF!"}},1,0,1,"OK","7","","","OK",null,null,null,null,{"$f":"IFERROR(VLOOKUP(N317,#REF!,3,FALSE),\"_\")","v":"_"},{"$f":"IFERROR(VLOOKUP(N317,#REF!,7,FALSE),\"_\")","v":"_"},{"$f":"IFERROR(VLOOKUP(N317,#REF!,12,FALSE),\"_\")","v":"_"},{"$f":"IFERROR(VLOOKUP(N317,#REF!,3,FALSE),\"\")","v":""},{"$f":"IFERROR(VLOOKUP(N317,#REF!,2,FALSE),\"\")","v":""}]
[{"$error":"#REF!"},{"$f":"IF(VLOOKUP(M318,#REF!,2,FALSE)<=#REF!+1,\"OK\",\"X\")","v":{"$error":"#REF!"}},1,0,1,"OK","7","","","OK",null,null,null,null,{"$f":"IFERROR(VLOOKUP(N318,#REF!,3,FALSE),\"_\")","v":"_"},{"$f":"IFERROR(VLOOKUP(N318,#REF!,7,FALSE),\"_\")","v":"_"},{"$f":"IFERROR(VLOOKUP(N318,#REF!,12,FALSE),\"_\")","v":"_"},{"$f":"IFERROR(VLOOKUP(N318,#REF!,3,FALSE),\"\")","v":""},{"$f":"IFERROR(VLOOKUP(N318,#REF!,2,FALSE),\"\")","v":""}]
[{"$error":"#REF!"},{"$f":"IF(VLOOKUP(M319,#REF!,2,FALSE)<=#REF!+1,\"OK\",\"X\")","v":{"$error":"#REF!"}},1,0,1,"OK","7","","","OK",null,null,null,null,{"$f":"IFERROR(VLOOKUP(N319,#REF!,3,FALSE),\"_\")","v":"_"},{"$f":"IFERROR(VLOOKUP(N319,#REF!,7,FALSE),\"_\")","v":"_"},{"$f":"IFERROR(VLOOKUP(N319,#REF!,12,FALSE),\"_\")","v":"_"},{"$f":"IFERROR(VLOOKUP(N319,#REF!,3,FALSE),\"\")","v":""},{"$f":"IFERROR(VLOOKUP(N319,#REF!,2,FALSE),\"\")","v":""}]
[{"$error":"#REF!"},{"$f":"IF(VLOOKUP(M320,#REF!,2,FALSE)<=#REF!+1,\"OK\",\"X\")","v":{"$error":"#REF!"}},1,0,1,"OK","7","","","OK",null,null,null,null,{"$f":"IFERROR(VLOOKUP(N320,#REF!,3,FALSE),\"_\")","v":"_"},{"$f":"IFERROR(VLOOKUP(N320,#REF!,7,FALSE),\"_\")","v":"_"},{"$f":"IFERROR(VLOOKUP(N320,#REF!,12,FALSE),\"_\")","v":"_"},{"$f":"IFERROR(VLOOKUP(N320,#REF!,3,FALSE),\"\")","v":""},{"$f":"IFERROR(VLOOKUP(N320,#REF!,2,FALSE),\"\")","v":""}]
[{"$error":"#REF!"},{"$f":"IF(VLOOKUP(M321,#REF!,2,FALSE)<=#REF!+1,\"OK\",\"X\")","v":{"$error":"#REF!"}},1,0,1,"OK","7","","","OK",null,null,null,null,{"$f":"IFERROR(VLOOKUP(N321,#REF!,3,FALSE),\"_\")","v":"_"},{"$f":"IFERROR(VLOOKUP(N321,#REF!,7,FALSE),\"_\")","v":"_"},{"$f":"IFERROR(VLOOKUP(N321,#REF!,12,FALSE),\"_\")","v":"_"},{"$f":"IFERROR(VLOOKUP(N321,#REF!,3,FALSE),\"\")","v":""},{"$f":"IFERROR(VLOOKUP(N321,#REF!,2,FALSE),\"\")","v":""}]
[{"$error":"#REF!"},{"$f":"IF(VLOOKUP(M322,#REF!,2,FALSE)<=#REF!+1,\"OK\",\"X\")","v":{"$error":"#REF!"}},1,0,1,"OK","7","","","OK",null,null,null,null,{"$f":"IFERROR(VLOOKUP(N322,#REF!,3,FALSE),\"_\")","v":"_"},{"$f":"IFERROR(VLOOKUP(N322,#REF!,7,FALSE),\"_\")","v":"_"},{"$f":"IFERROR(VLOOKUP(N322,#REF!,12,FALSE),\"_\")","v":"_"},{"$f":"IFERROR(VLOOKUP(N322,#REF!,3,FALSE),\"\")","v":""},{"$f":"IFERROR(VLOOKUP(N322,#REF!,2,FALSE),\"\")","v":""}]
[{"$error":"#REF!"},{"$f":"IF(VLOOKUP(M323,#REF!,2,FALSE)<=#REF!+1,\"OK\",\"X\")","v":{"$error":"#REF!"}},1,0,1,"OK","7","","","OK",null,null,null,null,{"$f":"IFERROR(VLOOKUP(N323,#REF!,3,FALSE),\"_\")","v":"_"},{"$f":"IFERROR(VLOOKUP(N323,#REF!,7,FALSE),\"_\")","v":"_"},{"$f":"IFERROR(VLOOKUP(N323,#REF!,12,FALSE),\"_\")","v":"_"},{"$f":"IFERROR(VLOOKUP(N323,#REF!,3,FALSE),\"\")","v":""},{"$f":"IFERROR(VLOOKUP(N323,#REF!,2,FALSE),\"\")","v":""}]
[{"$error":"#REF!"},{"$f":"IF(VLOOKUP(M324,#REF!,2,FALSE)<=#REF!+1,\"OK\",\"X\")","v":{"$error":"#REF!"}},1,0,1,"OK","7","","","OK",null,null,null,null,{"$f":"IFERROR(VLOOKUP(N324,#REF!,3,FALSE),\"_\")","v":"_"},{"$f":"IFERROR(VLOOKUP(N324,#REF!,7,FALSE),\"_\")","v":"_"},{"$f":"IFERROR(VLOOKUP(N324,#REF!,12,FALSE),\"_\")","v":"_"},{"$f":"IFERROR(VLOOKUP(N324,#REF!,3,FALSE),\"\")","v":""},{"$f":"IFERROR(VLOOKUP(N324,#REF!,2,FALSE),\"\")","v":""}]
[{"$error":"#REF!"},{"$f":"IF(VLOOKUP(M325,#REF!,2,FALSE)<=#REF!+1,\"OK\",\"X\")","v":{"$error":"#REF!"}},1,0,1,"OK","7","","","OK",null,null,null,null,{"$f":"IFERROR(VLOOKUP(N325,#REF!,3,FALSE),\"_\")","v":"_"},{"$f":"IFERROR(VLOOKUP(N325,#REF!,7,FALSE),\"_\")","v":"_"},{"$f":"IFERROR(VLOOKUP(N325,#REF!,12,FALSE),\"_\")","v":"_"},{"$f":"IFERROR(VLOOKUP(N325,#REF!,3,FALSE),\"\")","v":""},{"$f":"IFERROR(VLOOKUP(N325,#REF!,2,FALSE),\"\")","v":""}]
[{"$error":"#REF!"},{"$f":"IF(VLOOKUP(M326,#REF!,2,FALSE)<=#REF!+1,\"OK\",\"X\")","v":{"$error":"#REF!"}},1,0,1,"OK","7","","","OK",null,null,null,null,{"$f":"IFERROR(VLOOKUP(N326,#REF!,3,FALSE),\"_\")","v":"_"},{"$f":"IFERROR(VLOOKUP(N326,#REF!,7,FALSE),\"_\")","v":"_"},{"$f":"IFERROR(VLOOKUP(N326,#REF!,12,FALSE),\"_\")","v":"_"},{"$f":"IFERROR(VLOOKUP(N326,#REF!,3,FALSE),\"\")","v":""},{"$f":"IFERROR(VLOOKUP(N326,#REF!,2,FALSE),\"\")","v":""}]
[{"$error":"#REF!"},{"$f":"IF(VLOOKUP(M327,#REF!,2,FALSE)<=#REF!+1,\"OK\",\"X\")","v":{"$error":"#REF!"}},1,0,1,"OK","7","","","OK",null,null,null,null,{"$f":"IFERROR(VLOOKUP(N327,#REF!,3,FALSE),\"_\")","v":"_"},{"$f":"IFERROR(VLOOKUP(N327,#REF!,7,FALSE),\"_\")","v":"_"},{"$f":"IFERROR(VLOOKUP(N327,#REF!,12,FALSE),\"_\")","v":"_"},{"$f":"IFERROR(VLOOKUP(N327,#REF!,3,FALSE),\"\")","v":""},{"$f":"IFERROR(VLOOKUP(N327,#REF!,2,FALSE),\"\")","v":""}]
[{"$error":"#REF!"},{"$f":"IF(VLOOKUP(M328,#REF!,2,FALSE)<=#REF!+1,\"OK\",\"X\")","v":{"$error":"#REF!"}},1,0,1,"OK","7","","","OK",null,null,null,null,{"$f":"IFERROR(VLOOKUP(N328,#REF!,3,FALSE),\"_\")","v":"_"},{"$f":"IFERROR(VLOOKUP(N328,#REF!,7,FALSE),\"_\")","v":"_"},{"$f":"IFERROR(VLOOKUP(N328,#REF!,12,FALSE),\"_\")","v":"_"},{"$f":"IFERROR(VLOOKUP(N328,#REF!,3,FALSE),\"\")","v":""},{"$f":"IFERROR(VLOOKUP(N328,#REF!,2,FALSE),\"\")","v":""}]
[{"$error":"#REF!"},{"$f":"IF(VLOOKUP(M329,#REF!,2,FALSE)<=#REF!+1,\"OK\",\"X\")","v":{"$error":"#REF!"}},1,0,1,"OK","7","","","OK",null,null,null,null,{"$f":"IFERROR(VLOOKUP(N329,#REF!,3,FALSE),\"_\")","v":"_"},{"$f":"IFERROR(VLOOKUP(N329,#REF!,7,FALSE),\"_\")","v":"_"},{"$f":"IFERROR(VLOOKUP(N329,#REF!,12,FALSE),\"_\")","v":"_"},{"$f":"IFERROR(VLOOKUP(N329,#REF!,3,FALSE),\"\")","v":""},{"$f":"IFERROR(VLOOKUP(N329,#REF!,2,FALSE),\"\")","v":""}]
[{"$error":"#REF!"},{"$f":"IF(VLOOKUP(M330,#REF!,2,FALSE)<=#REF!+1,\"OK\",\"X\")","v":{"$error":"#REF!"}},1,0,1,"OK","7","","","OK",null,null,null,null,{"$f":"IFERROR(VLOOKUP(N330,#REF!,3,FALSE),\"_\")","v":"_"},{"$f":"IFERROR(VLOOKUP(N330,#REF!,7,FALSE),\"_\")","v":"_"},{"$f":"IFERROR(VLOOKUP(N330,#REF!,12,FALSE),\"_\")","v":"_"},{"$f":"IFERROR(VLOOKUP(N330,#REF!,3,FALSE),\"\")","v":""},{"$f":"IFERROR(VLOOKUP(N330,#REF!,2,FALSE),\"\")","v":""}]
[{"$error":"#REF!"},{"$f":"IF(VLOOKUP(M331,#REF!,2,FALSE)<=#REF!+1,\"OK\",\"X\")","v":{"$error":"#REF!"}},1,0,1,"OK","7","","","OK",null,null,null,null,{"$f":"IFERROR(VLOOKUP(N331,#REF!,3,FALSE),\"_\")","v":"_"},{"$f":"IFERROR(VLOOKUP(N331,#REF!,7,FALSE),\"_\")","v":"_"},{"$f":"IFERROR(VLOOKUP(N331,#REF!,12,FALSE),\"_\")","v":"_"},{"$f":"IFERROR(VLOOKUP(N331,#REF!,3,FALSE),\"\")","v":""},{"$f":"IFERROR(VLOOKUP(N331,#REF!,2,FALSE),\"\")","v":""}]
[{"$error":"#REF!"},{"$f":"IF(VLOOKUP(M332,#REF!,2,FALSE)<=#REF!+1,\"OK\",\"X\")","v":{"$error":"#REF!"}},1,0,1,"OK","7","","","OK",null,null,null,null,{"$f":"IFERROR(VLOOKUP(N332,#REF!,3,FALSE),\"_\")","v":"_"},{"$f":"IFERROR(VLOOKUP(N332,#REF!,7,FALSE),\"_\")","v":"_"},{"$f":"IFERROR(VLOOKUP(N332,#REF!,12,FALSE),\"_\")","v":"_"},{"$f":"IFERROR(VLOOKUP(N332,#REF!,3,FALSE),\"\")","v":""},{"$f":"IFERROR(VLOOKUP(N332,#REF!,2,FALSE),\"\")","v":""}]
[{"$error":"#REF!"},{"$f":"IF(VLOOKUP(M333,#REF!,2,FALSE)<=#REF!+1,\"OK\",\"X\")","v":{"$error":"#REF!"}},1,0,1,"OK","7","","","OK",null,null,null,null,{"$f":"IFERROR(VLOOKUP(N333,#REF!,3,FALSE),\"_\")","v":"_"},{"$f":"IFERROR(VLOOKUP(N333,#REF!,7,FALSE),\"_\")","v":"_"},{"$f":"IFERROR(VLOOKUP(N333,#REF!,12,FALSE),\"_\")","v":"_"},{"$f":"IFERROR(VLOOKUP(N333,#REF!,3,FALSE),\"\")","v":""},{"$f":"IFERROR(VLOOKUP(N333,#REF!,2,FALSE),\"\")","v":""}]
[{"$error":"#REF!"},{"$f":"IF(VLOOKUP(M334,#REF!,2,FALSE)<=#REF!+1,\"OK\",\"X\")","v":{"$error":"#REF!"}},1,0,1,"OK","7","","","OK",null,null,null,null,{"$f":"IFERROR(VLOOKUP(N334,#REF!,3,FALSE),\"_\")","v":"_"},{"$f":"IFERROR(VLOOKUP(N334,#REF!,7,FALSE),\"_\")","v":"_"},{"$f":"IFERROR(VLOOKUP(N334,#REF!,12,FALSE),\"_\")","v":"_"},{"$f":"IFERROR(VLOOKUP(N334,#REF!,3,FALSE),\"\")","v":""},{"$f":"IFERROR(VLOOKUP(N334,#REF!,2,FALSE),\"\")","v":""}]
[{"$error":"#REF!"},{"$f":"IF(VLOOKUP(M335,#REF!,2,FALSE)<=#REF!+1,\"OK\",\"X\")","v":{"$error":"#REF!"}},1,0,1,"OK","7","","","OK",null,null,null,null,{"$f":"IFERROR(VLOOKUP(N335,#REF!,3,FALSE),\"_\")","v":"_"},{"$f":"IFERROR(VLOOKUP(N335,#REF!,7,FALSE),\"_\")","v":"_"},{"$f":"IFERROR(VLOOKUP(N335,#REF!,12,FALSE),\"_\")","v":"_"},{"$f":"IFERROR(VLOOKUP(N335,#REF!,3,FALSE),\"\")","v":""},{"$f":"IFERROR(VLOOKUP(N335,#REF!,2,FALSE),\"\")","v":""}]
[{"$error":"#REF!"},{"$f":"IF(VLOOKUP(M336,#REF!,2,FALSE)<=#REF!+1,\"OK\",\"X\")","v":{"$error":"#REF!"}},1,0,1,"OK","7","","","OK",null,null,null,null,{"$f":"IFERROR(VLOOKUP(N336,#REF!,3,FALSE),\"_\")","v":"_"},{"$f":"IFERROR(VLOOKUP(N336,#REF!,7,FALSE),\"_\")","v":"_"},{"$f":"IFERROR(VLOOKUP(N336,#REF!,12,FALSE),\"_\")","v":"_"},{"$f":"IFERROR(VLOOKUP(N336,#REF!,3,FALSE),\"\")","v":""},{"$f":"IFERROR(VLOOKUP(N336,#REF!,2,FALSE),\"\")","v":""}]
[{"$error":"#REF!"},{"$f":"IF(VLOOKUP(M337,#REF!,2,FALSE)<=#REF!+1,\"OK\",\"X\")","v":{"$error":"#REF!"}},1,0,1,"OK","7","","","OK",null,null,null,null,{"$f":"IFERROR(VLOOKUP(N337,#REF!,3,FALSE),\"_\")","v":"_"},{"$f":"IFERROR(VLOOKUP(N337,#REF!,7,FALSE),\"_\")","v":"_"},{"$f":"IFERROR(VLOOKUP(N337,#REF!,12,FALSE),\"_\")","v":"_"},{"$f":"IFERROR(VLOOKUP(N337,#REF!,3,FALSE),\"\")","v":""},{"$f":"IFERROR(VLOOKUP(N337,#REF!,2,FALSE),\"\")","v":""}]
[{"$error":"#REF!"},{"$f":"IF(VLOOKUP(M338,#REF!,2,FALSE)<=#REF!+1,\"OK\",\"X\")","v":{"$error":"#REF!"}},1,0,1,"OK","7","","","OK",null,null,null,null,{"$f":"IFERROR(VLOOKUP(N338,#REF!,3,FALSE),\"_\")","v":"_"},{"$f":"IFERROR(VLOOKUP(N338,#REF!,7,FALSE),\"_\")","v":"_"},{"$f":"IFERROR(VLOOKUP(N338,#REF!,12,FALSE),\"_\")","v":"_"},{"$f":"IFERROR(VLOOKUP(N338,#REF!,3,FALSE),\"\")","v":""},{"$f":"IFERROR(VLOOKUP(N338,#REF!,2,FALSE),\"\")","v":""}]
[{"$error":"#REF!"},{"$f":"IF(VLOOKUP(M339,#REF!,2,FALSE)<=#REF!+1,\"OK\",\"X\")","v":{"$error":"#REF!"}},1,0,1,"OK","7","","","OK",null,null,null,null,{"$f":"IFERROR(VLOOKUP(N339,#REF!,3,FALSE),\"_\")","v":"_"},{"$f":"IFERROR(VLOOKUP(N339,#REF!,7,FALSE),\"_\")","v":"_"},{"$f":"IFERROR(VLOOKUP(N339,#REF!,12,FALSE),\"_\")","v":"_"},{"$f":"IFERROR(VLOOKUP(N339,#REF!,3,FALSE),\"\")","v":""},{"$f":"IFERROR(VLOOKUP(N339,#REF!,2,FALSE),\"\")","v":""}]
[{"$error":"#REF!"},{"$f":"IF(VLOOKUP(M340,#REF!,2,FALSE)<=#REF!+1,\"OK\",\"X\")","v":{"$error":"#REF!"}},1,0,1,"OK","7","","","OK",null,null,null,null,{"$f":"IFERROR(VLOOKUP(N340,#REF!,3,FALSE),\"_\")","v":"_"},{"$f":"IFERROR(VLOOKUP(N340,#REF!,7,FALSE),\"_\")","v":"_"},{"$f":"IFERROR(VLOOKUP(N340,#REF!,12,FALSE),\"_\")","v":"_"},{"$f":"IFERROR(VLOOKUP(N340,#REF!,3,FALSE),\"\")","v":""},{"$f":"IFERROR(VLOOKUP(N340,#REF!,2,FALSE),\"\")","v":""}]
[{"$error":"#REF!"},{"$f":"IF(VLOOKUP(M341,#REF!,2,FALSE)<=#REF!+1,\"OK\",\"X\")","v":{"$error":"#REF!"}},1,0,1,"OK","7","","","OK",null,null,null,null,{"$f":"IFERROR(VLOOKUP(N341,#REF!,3,FALSE),\"_\")","v":"_"},{"$f":"IFERROR(VLOOKUP(N341,#REF!,7,FALSE),\"_\")","v":"_"},{"$f":"IFERROR(VLOOKUP(N341,#REF!,12,FALSE),\"_\")","v":"_"},{"$f":"IFERROR(VLOOKUP(N341,#REF!,3,FALSE),\"\")","v":""},{"$f":"IFERROR(VLOOKUP(N341,#REF!,2,FALSE),\"\")","v":""}]
[{"$error":"#REF!"},{"$f":"IF(VLOOKUP(M342,#REF!,2,FALSE)<=#REF!+1,\"OK\",\"X\")","v":{"$error":"#REF!"}},1,0,1,"OK","7","","","OK"]
[{"$f":"L343&LEFT(P343,3)&B343","v":{"$error":"#REF!"}},{"$f":"IF(VLOOKUP(M343,#REF!,2,FALSE)<=#REF!+1,\"OK\",\"X\")","v":{"$error":"#REF!"}},{"$f":"IF(P343=\"start dummy operation\",0,1)","v":1},{"$f":"IF(U343=\"Y\",1,0)","v":0},{"$f":"SUM(C343:D343)","v":1},{"$f":"IF(E343>0,\"OK\",\"X2\")","v":"OK"},{"$f":"WEEKDAY(V343)&T343","v":"7"},{"$f":"L343&M343","v":""},{"$f":"M343&L343&U343","v":""},{"$f":"M343&L343&F343","v":"OK"}]
[{"$error":"#REF!"},{"$f":"IF(VLOOKUP(M344,#REF!,2,FALSE)<=#REF!+1,\"OK\",\"X\")","v":{"$error":"#REF!"}},1,0,1,"OK","7","","","OK"]
[{"$error":"#REF!"},{"$f":"IF(VLOOKUP(M345,#REF!,2,FALSE)<=#REF!+1,\"OK\",\"X\")","v":{"$error":"#REF!"}},1,0,1,"OK","7","","","OK"]
[{"$error":"#REF!"},{"$f":"IF(VLOOKUP(M346,#REF!,2,FALSE)<=#REF!+1,\"OK\",\"X\")","v":{"$error":"#REF!"}},1,0,1,"OK","7","","","OK"]
[{"$error":"#REF!"},{"$f":"IF(VLOOKUP(M347,#REF!,2,FALSE)<=#REF!+1,\"OK\",\"X\")","v":{"$error":"#REF!"}},1,0,1,"OK","7","","","OK"]
[{"$error":"#REF!"},{"$f":"IF(VLOOKUP(M348,#REF!,2,FALSE)<=#REF!+1,\"OK\",\"X\")","v":{"$error":"#REF!"}},1,0,1,"OK","7","","","OK"]
[{"$error":"#REF!"},{"$f":"IF(VLOOKUP(M349,#REF!,2,FALSE)<=#REF!+1,\"OK\",\"X\")","v":{"$error":"#REF!"}},1,0,1,"OK","7","","","OK"]
[{"$error":"#REF!"},{"$f":"IF(VLOOKUP(M350,#REF!,2,FALSE)<=#REF!+1,\"OK\",\"X\")","v":{"$error":"#REF!"}},1,0,1,"OK","7","","","OK"]
[{"$error":"#REF!"},{"$f":"IF(VLOOKUP(M351,#REF!,2,FALSE)<=#REF!+1,\"OK\",\"X\")","v":{"$error":"#REF!"}},1,0,1,"OK","7","","","OK"]
[{"$error":"#REF!"},{"$f":"IF(VLOOKUP(M352,#REF!,2,FALSE)<=#REF!+1,\"OK\",\"X\")","v":{"$error":"#REF!"}},1,0,1,"OK","7","","","OK"]
[{"$error":"#REF!"},{"$f":"IF(VLOOKUP(M353,#REF!,2,FALSE)<=#REF!+1,\"OK\",\"X\")","v":{"$error":"#REF!"}},1,0,1,"OK","7","","","OK"]
[{"$error":"#REF!"},{"$f":"IF(VLOOKUP(M354,#REF!,2,FALSE)<=#REF!+1,\"OK\",\"X\")","v":{"$error":"#REF!"}},1,0,1,"OK","7","","","OK"]
[{"$error":"#REF!"},{"$f":"IF(VLOOKUP(M355,#REF!,2,FALSE)<=#REF!+1,\"OK\",\"X\")","v":{"$error":"#REF!"}},1,0,1,"OK","7","","","OK"]
[{"$error":"#REF!"},{"$f":"IF(VLOOKUP(M356,#REF!,2,FALSE)<=#REF!+1,\"OK\",\"X\")","v":{"$error":"#REF!"}},1,0,1,"OK","7","","","OK"]
[{"$error":"#REF!"},{"$f":"IF(VLOOKUP(M357,#REF!,2,FALSE)<=#REF!+1,\"OK\",\"X\")","v":{"$error":"#REF!"}},1,0,1,"OK","7","","","OK"]
[{"$error":"#REF!"},{"$f":"IF(VLOOKUP(M358,#REF!,2,FALSE)<=#REF!+1,\"OK\",\"X\")","v":{"$error":"#REF!"}},1,0,1,"OK","7","","","OK"]
[{"$error":"#REF!"},{"$f":"IF(VLOOKUP(M359,#REF!,2,FALSE)<=#REF!+1,\"OK\",\"X\")","v":{"$error":"#REF!"}},1,0,1,"OK","7","","","OK"]
[{"$error":"#REF!"},{"$f":"IF(VLOOKUP(M360,#REF!,2,FALSE)<=#REF!+1,\"OK\",\"X\")","v":{"$error":"#REF!"}},1,0,1,"OK","7","","","OK"]
[{"$error":"#REF!"},{"$f":"IF(VLOOKUP(M361,#REF!,2,FALSE)<=#REF!+1,\"OK\",\"X\")","v":{"$error":"#REF!"}},1,0,1,"OK","7","","","OK"]
[{"$error":"#REF!"},{"$f":"IF(VLOOKUP(M362,#REF!,2,FALSE)<=#REF!+1,\"OK\",\"X\")","v":{"$error":"#REF!"}},1,0,1,"OK","7","","","OK"]
[{"$error":"#REF!"},{"$f":"IF(VLOOKUP(M363,#REF!,2,FALSE)<=#REF!+1,\"OK\",\"X\")","v":{"$error":"#REF!"}},1,0,1,"OK","7","","","OK"]
[{"$error":"#REF!"},{"$f":"IF(VLOOKUP(M364,#REF!,2,FALSE)<=#REF!+1,\"OK\",\"X\")","v":{"$error":"#REF!"}},1,0,1,"OK","7","","","OK"]
[{"$error":"#REF!"},{"$f":"IF(VLOOKUP(M365,#REF!,2,FALSE)<=#REF!+1,\"OK\",\"X\")","v":{"$error":"#REF!"}},1,0,1,"OK","7","","","OK"]
[{"$error":"#REF!"},{"$f":"IF(VLOOKUP(M366,#REF!,2,FALSE)<=#REF!+1,\"OK\",\"X\")","v":{"$error":"#REF!"}},1,0,1,"OK","7","","","OK"]
[{"$error":"#REF!"},{"$f":"IF(VLOOKUP(M367,#REF!,2,FALSE)<=#REF!+1,\"OK\",\"X\")","v":{"$error":"#REF!"}},1,0,1,"OK","7","","","OK"]
[{"$error":"#REF!"},{"$f":"IF(VLOOKUP(M368,#REF!,2,FALSE)<=#REF!+1,\"OK\",\"X\")","v":{"$error":"#REF!"}},1,0,1,"OK","7","","","OK"]
[{"$error":"#REF!"},{"$f":"IF(VLOOKUP(M369,#REF!,2,FALSE)<=#REF!+1,\"OK\",\"X\")","v":{"$error":"#REF!"}},1,0,1,"OK","7","","","OK"]
[{"$error":"#REF!"},{"$f":"IF(VLOOKUP(M370,#REF!,2,FALSE)<=#REF!+1,\"OK\",\"X\")","v":{"$error":"#REF!"}},1,0,1,"OK","7","","","OK"]
[{"$error":"#REF!"},{"$f":"IF(VLOOKUP(M371,#REF!,2,FALSE)<=#REF!+1,\"OK\",\"X\")","v":{"$error":"#REF!"}},1,0,1,"OK","7","","","OK"]
[{"$error":"#REF!"},{"$f":"IF(VLOOKUP(M372,#REF!,2,FALSE)<=#REF!+1,\"OK\",\"X\")","v":{"$error":"#REF!"}},1,0,1,"OK","7","","","OK"]
[{"$error":"#REF!"},{"$f":"IF(VLOOKUP(M373,#REF!,2,FALSE)<=#REF!+1,\"OK\",\"X\")","v":{"$error":"#REF!"}},1,0,1,"OK","7","","","OK"]
[{"$error":"#REF!"},{"$f":"IF(VLOOKUP(M374,#REF!,2,FALSE)<=#REF!+1,\"OK\",\"X\")","v":{"$error":"#REF!"}},1,0,1,"OK","7","","","OK"]
[{"$error":"#REF!"},{"$f":"IF(VLOOKUP(M375,#REF!,2,FALSE)<=#REF!+1,\"OK\",\"X\")","v":{"$error":"#REF!"}},1,0,1,"OK","7","","","OK"]
[{"$error":"#REF!"},{"$f":"IF(VLOOKUP(M376,#REF!,2,FALSE)<=#REF!+1,\"OK\",\"X\")","v":{"$error":"#REF!"}},1,0,1,"OK","7","","","OK"]
[{"$error":"#REF!"},{"$f":"IF(VLOOKUP(M377,#REF!,2,FALSE)<=#REF!+1,\"OK\",\"X\")","v":{"$error":"#REF!"}},1,0,1,"OK","7","","","OK"]
[{"$error":"#REF!"},{"$f":"IF(VLOOKUP(M378,#REF!,2,FALSE)<=#REF!+1,\"OK\",\"X\")","v":{"$error":"#REF!"}},1,0,1,"OK","7","","","OK"]
[{"$error":"#REF!"},{"$f":"IF(VLOOKUP(M379,#REF!,2,FALSE)<=#REF!+1,\"OK\",\"X\")","v":{"$error":"#REF!"}},1,0,1,"OK","7","","","OK"]
[{"$error":"#REF!"},{"$f":"IF(VLOOKUP(M380,#REF!,2,FALSE)<=#REF!+1,\"OK\",\"X\")","v":{"$error":"#REF!"}},1,0,1,"OK","7","","","OK"]
[{"$error":"#REF!"},{"$f":"IF(VLOOKUP(M381,#REF!,2,FALSE)<=#REF!+1,\"OK\",\"X\")","v":{"$error":"#REF!"}},1,0,1,"OK","7","","","OK"]
[{"$error":"#REF!"},{"$f":"IF(VLOOKUP(M382,#REF!,2,FALSE)<=#REF!+1,\"OK\",\"X\")","v":{"$error":"#REF!"}},1,0,1,"OK","7","","","OK"]
[{"$error":"#REF!"},{"$f":"IF(VLOOKUP(M383,#REF!,2,FALSE)<=#REF!+1,\"OK\",\"X\")","v":{"$error":"#REF!"}},1,0,1,"OK","7","","","OK"]
[{"$error":"#REF!"},{"$f":"IF(VLOOKUP(M384,#REF!,2,FALSE)<=#REF!+1,\"OK\",\"X\")","v":{"$error":"#REF!"}},1,0,1,"OK","7","","","OK"]
[{"$error":"#REF!"},{"$f":"IF(VLOOKUP(M385,#REF!,2,FALSE)<=#REF!+1,\"OK\",\"X\")","v":{"$error":"#REF!"}},1,0,1,"OK","7","","","OK"]
[{"$error":"#REF!"},{"$f":"IF(VLOOKUP(M386,#REF!,2,FALSE)<=#REF!+1,\"OK\",\"X\")","v":{"$error":"#REF!"}},1,0,1,"OK","7","","","OK"]
[{"$error":"#REF!"},{"$f":"IF(VLOOKUP(M387,#REF!,2,FALSE)<=#REF!+1,\"OK\",\"X\")","v":{"$error":"#REF!"}},1,0,1,"OK","7","","","OK"]
[{"$error":"#REF!"},{"$f":"IF(VLOOKUP(M388,#REF!,2,FALSE)<=#REF!+1,\"OK\",\"X\")","v":{"$error":"#REF!"}},1,0,1,"OK","7","","","OK"]
[{"$error":"#REF!"},{"$f":"IF(VLOOKUP(M389,#REF!,2,FALSE)<=#REF!+1,\"OK\",\"X\")","v":{"$error":"#REF!"}},1,0,1,"OK","7","","","OK"]
[{"$error":"#REF!"},{"$f":"IF(VLOOKUP(M390,#REF!,2,FALSE)<=#REF!+1,\"OK\",\"X\")","v":{"$error":"#REF!"}},1,0,1,"OK","7","","","OK"]
[{"$error":"#REF!"},{"$f":"IF(VLOOKUP(M391,#REF!,2,FALSE)<=#REF!+1,\"OK\",\"X\")","v":{"$error":"#REF!"}},1,0,1,"OK","7","","","OK"]
[{"$error":"#REF!"},{"$f":"IF(VLOOKUP(M392,#REF!,2,FALSE)<=#REF!+1,\"OK\",\"X\")","v":{"$error":"#REF!"}},1,0,1,"OK","7","","","OK"]
[{"$error":"#REF!"},{"$f":"IF(VLOOKUP(M393,#REF!,2,FALSE)<=#REF!+1,\"OK\",\"X\")","v":{"$error":"#REF!"}},1,0,1,"OK","7","","","OK"]
[{"$error":"#REF!"},{"$f":"IF(VLOOKUP(M394,#REF!,2,FALSE)<=#REF!+1,\"OK\",\"X\")","v":{"$error":"#REF!"}},1,0,1,"OK","7","","","OK"]
[{"$error":"#REF!"},{"$f":"IF(VLOOKUP(M395,#REF!,2,FALSE)<=#REF!+1,\"OK\",\"X\")","v":{"$error":"#REF!"}},1,0,1,"OK","7","","","OK"]
[{"$error":"#REF!"},{"$f":"IF(VLOOKUP(M396,#REF!,2,FALSE)<=#REF!+1,\"OK\",\"X\")","v":{"$error":"#REF!"}},1,0,1,"OK","7","","","OK"]
[{"$error":"#REF!"},{"$f":"IF(VLOOKUP(M397,#REF!,2,FALSE)<=#REF!+1,\"OK\",\"X\")","v":{"$error":"#REF!"}},1,0,1,"OK","7","","","OK"]
[{"$error":"#REF!"},{"$f":"IF(VLOOKUP(M398,#REF!,2,FALSE)<=#REF!+1,\"OK\",\"X\")","v":{"$error":"#REF!"}},1,0,1,"OK","7","","","OK"]
[{"$error":"#REF!"},{"$f":"IF(VLOOKUP(M399,#REF!,2,FALSE)<=#REF!+1,\"OK\",\"X\")","v":{"$error":"#REF!"}},1,0,1,"OK","7","","","OK"]
[{"$error":"#REF!"},{"$f":"IF(VLOOKUP(M400,#REF!,2,FALSE)<=#REF!+1,\"OK\",\"X\")","v":{"$error":"#REF!"}},1,0,1,"OK","7","","","OK"]
[{"$error":"#REF!"},{"$f":"IF(VLOOKUP(M401,#REF!,2,FALSE)<=#REF!+1,\"OK\",\"X\")","v":{"$error":"#REF!"}},1,0,1,"OK","7","","","OK"]
[{"$error":"#REF!"},{"$f":"IF(VLOOKUP(M402,#REF!,2,FALSE)<=#REF!+1,\"OK\",\"X\")","v":{"$error":"#REF!"}},1,0,1,"OK","7","","","OK"]
[{"$error":"#REF!"},{"$f":"IF(VLOOKUP(M403,#REF!,2,FALSE)<=#REF!+1,\"OK\",\"X\")","v":{"$error":"#REF!"}},1,0,1,"OK","7","","","OK"]
[{"$error":"#REF!"},{"$f":"IF(VLOOKUP(M404,#REF!,2,FALSE)<=#REF!+1,\"OK\",\"X\")","v":{"$error":"#REF!"}},1,0,1,"OK","7","","","OK"]
[{"$error":"#REF!"},{"$f":"IF(VLOOKUP(M405,#REF!,2,FALSE)<=#REF!+1,\"OK\",\"X\")","v":{"$error":"#REF!"}},1,0,1,"OK","7","","","OK"]
[{"$error":"#REF!"},{"$f":"IF(VLOOKUP(M406,#REF!,2,FALSE)<=#REF!+1,\"OK\",\"X\")","v":{"$error":"#REF!"}},1,0,1,"OK","7","","","OK"]
[{"$f":"L407&LEFT(P407,3)&B407","v":{"$error":"#REF!"}},{"$f":"IF(VLOOKUP(M407,#REF!,2,FALSE)<=#REF!+1,\"OK\",\"X\")","v":{"$error":"#REF!"}},{"$f":"IF(P407=\"start dummy operation\",0,1)","v":1},{"$f":"IF(U407=\"Y\",1,0)","v":0},{"$f":"SUM(C407:D407)","v":1},{"$f":"IF(E407>0,\"OK\",\"X2\")","v":"OK"},{"$f":"WEEKDAY(V407)&T407","v":"7"},{"$f":"L407&M407","v":""},{"$f":"M407&L407&U407","v":""},{"$f":"M407&L407&F407","v":"OK"}]
[{"$error":"#REF!"},{"$f":"IF(VLOOKUP(M408,#REF!,2,FALSE)<=#REF!+1,\"OK\",\"X\")","v":{"$error":"#REF!"}},1,0,1,"OK","7","","","OK"]
[{"$error":"#REF!"},{"$f":"IF(VLOOKUP(M409,#REF!,2,FALSE)<=#REF!+1,\"OK\",\"X\")","v":{"$error":"#REF!"}},1,0,1,"OK","7","","","OK"]
[{"$error":"#REF!"},{"$f":"IF(VLOOKUP(M410,#REF!,2,FALSE)<=#REF!+1,\"OK\",\"X\")","v":{"$error":"#REF!"}},1,0,1,"OK","7","","","OK"]
[{"$error":"#REF!"},{"$f":"IF(VLOOKUP(M411,#REF!,2,FALSE)<=#REF!+1,\"OK\",\"X\")","v":{"$error":"#REF!"}},1,0,1,"OK","7","","","OK"]
[{"$error":"#REF!"},{"$f":"IF(VLOOKUP(M412,#REF!,2,FALSE)<=#REF!+1,\"OK\",\"X\")","v":{"$error":"#REF!"}},1,0,1,"OK","7","","","OK"]
[{"$error":"#REF!"},{"$f":"IF(VLOOKUP(M413,#REF!,2,FALSE)<=#REF!+1,\"OK\",\"X\")","v":{"$error":"#REF!"}},1,0,1,"OK","7","","","OK"]
[{"$error":"#REF!"},{"$f":"IF(VLOOKUP(M414,#REF!,2,FALSE)<=#REF!+1,\"OK\",\"X\")","v":{"$error":"#REF!"}},1,0,1,"OK","7","","","OK"]
[{"$error":"#REF!"},{"$f":"IF(VLOOKUP(M415,#REF!,2,FALSE)<=#REF!+1,\"OK\",\"X\")","v":{"$error":"#REF!"}},1,0,1,"OK","7","","","OK"]
[{"$error":"#REF!"},{"$f":"IF(VLOOKUP(M416,#REF!,2,FALSE)<=#REF!+1,\"OK\",\"X\")","v":{"$error":"#REF!"}},1,0,1,"OK","7","","","OK"]
[{"$error":"#REF!"},{"$f":"IF(VLOOKUP(M417,#REF!,2,FALSE)<=#REF!+1,\"OK\",\"X\")","v":{"$error":"#REF!"}},1,0,1,"OK","7","","","OK"]
[{"$error":"#REF!"},{"$f":"IF(VLOOKUP(M418,#REF!,2,FALSE)<=#REF!+1,\"OK\",\"X\")","v":{"$error":"#REF!"}},1,0,1,"OK","7","","","OK"]
[{"$error":"#REF!"},{"$f":"IF(VLOOKUP(M419,#REF!,2,FALSE)<=#REF!+1,\"OK\",\"X\")","v":{"$error":"#REF!"}},1,0,1,"OK","7","","","OK"]
[{"$error":"#REF!"},{"$f":"IF(VLOOKUP(M420,#REF!,2,FALSE)<=#REF!+1,\"OK\",\"X\")","v":{"$error":"#REF!"}},1,0,1,"OK","7","","","OK"]
[{"$error":"#REF!"},{"$f":"IF(VLOOKUP(M421,#REF!,2,FALSE)<=#REF!+1,\"OK\",\"X\")","v":{"$error":"#REF!"}},1,0,1,"OK","7","","","OK"]
[{"$error":"#REF!"},{"$f":"IF(VLOOKUP(M422,#REF!,2,FALSE)<=#REF!+1,\"OK\",\"X\")","v":{"$error":"#REF!"}},1,0,1,"OK","7","","","OK"]
[{"$error":"#REF!"},{"$f":"IF(VLOOKUP(M423,#REF!,2,FALSE)<=#REF!+1,\"OK\",\"X\")","v":{"$error":"#REF!"}},1,0,1,"OK","7","","","OK"]
[{"$error":"#REF!"},{"$f":"IF(VLOOKUP(M424,#REF!,2,FALSE)<=#REF!+1,\"OK\",\"X\")","v":{"$error":"#REF!"}},1,0,1,"OK","7","","","OK"]
[{"$error":"#REF!"},{"$f":"IF(VLOOKUP(M425,#REF!,2,FALSE)<=#REF!+1,\"OK\",\"X\")","v":{"$error":"#REF!"}},1,0,1,"OK","7","","","OK"]
[{"$error":"#REF!"},{"$f":"IF(VLOOKUP(M426,#REF!,2,FALSE)<=#REF!+1,\"OK\",\"X\")","v":{"$error":"#REF!"}},1,0,1,"OK","7","","","OK"]
[{"$error":"#REF!"},{"$f":"IF(VLOOKUP(M427,#REF!,2,FALSE)<=#REF!+1,\"OK\",\"X\")","v":{"$error":"#REF!"}},1,0,1,"OK","7","","","OK"]
[{"$error":"#REF!"},{"$f":"IF(VLOOKUP(M428,#REF!,2,FALSE)<=#REF!+1,\"OK\",\"X\")","v":{"$error":"#REF!"}},1,0,1,"OK","7","","","OK"]
[{"$error":"#REF!"},{"$f":"IF(VLOOKUP(M429,#REF!,2,FALSE)<=#REF!+1,\"OK\",\"X\")","v":{"$error":"#REF!"}},1,0,1,"OK","7","","","OK"]
[{"$error":"#REF!"},{"$f":"IF(VLOOKUP(M430,#REF!,2,FALSE)<=#REF!+1,\"OK\",\"X\")","v":{"$error":"#REF!"}},1,0,1,"OK","7","","","OK"]
[{"$error":"#REF!"},{"$f":"IF(VLOOKUP(M431,#REF!,2,FALSE)<=#REF!+1,\"OK\",\"X\")","v":{"$error":"#REF!"}},1,0,1,"OK","7","","","OK"]
[{"$error":"#REF!"},{"$f":"IF(VLOOKUP(M432,#REF!,2,FALSE)<=#REF!+1,\"OK\",\"X\")","v":{"$error":"#REF!"}},1,0,1,"OK","7","","","OK"]
[{"$error":"#REF!"},{"$f":"IF(VLOOKUP(M433,#REF!,2,FALSE)<=#REF!+1,\"OK\",\"X\")","v":{"$error":"#REF!"}},1,0,1,"OK","7","","","OK"]
[{"$error":"#REF!"},{"$f":"IF(VLOOKUP(M434,#REF!,2,FALSE)<=#REF!+1,\"OK\",\"X\")","v":{"$error":"#REF!"}},1,0,1,"OK","7","","","OK"]
[{"$error":"#REF!"},{"$f":"IF(VLOOKUP(M435,#REF!,2,FALSE)<=#REF!+1,\"OK\",\"X\")","v":{"$error":"#REF!"}},1,0,1,"OK","7","","","OK"]
[{"$error":"#REF!"},{"$f":"IF(VLOOKUP(M436,#REF!,2,FALSE)<=#REF!+1,\"OK\",\"X\")","v":{"$error":"#REF!"}},1,0,1,"OK","7","","","OK"]
[{"$error":"#REF!"},{"$f":"IF(VLOOKUP(M437,#REF!,2,FALSE)<=#REF!+1,\"OK\",\"X\")","v":{"$error":"#REF!"}},1,0,1,"OK","7","","","OK"]
[{"$error":"#REF!"},{"$f":"IF(VLOOKUP(M438,#REF!,2,FALSE)<=#REF!+1,\"OK\",\"X\")","v":{"$error":"#REF!"}},1,0,1,"OK","7","","","OK"]
[{"$error":"#REF!"},{"$f":"IF(VLOOKUP(M439,#REF!,2,FALSE)<=#REF!+1,\"OK\",\"X\")","v":{"$error":"#REF!"}},1,0,1,"OK","7","","","OK"]
[{"$error":"#REF!"},{"$f":"IF(VLOOKUP(M440,#REF!,2,FALSE)<=#REF!+1,\"OK\",\"X\")","v":{"$error":"#REF!"}},1,0,1,"OK","7","","","OK"]
[{"$error":"#REF!"},{"$f":"IF(VLOOKUP(M441,#REF!,2,FALSE)<=#REF!+1,\"OK\",\"X\")","v":{"$error":"#REF!"}},1,0,1,"OK","7","","","OK"]
[{"$error":"#REF!"},{"$f":"IF(VLOOKUP(M442,#REF!,2,FALSE)<=#REF!+1,\"OK\",\"X\")","v":{"$error":"#REF!"}},1,0,1,"OK","7","","","OK"]
[{"$error":"#REF!"},{"$f":"IF(VLOOKUP(M443,#REF!,2,FALSE)<=#REF!+1,\"OK\",\"X\")","v":{"$error":"#REF!"}},1,0,1,"OK","7","","","OK"]
[{"$error":"#REF!"},{"$f":"IF(VLOOKUP(M444,#REF!,2,FALSE)<=#REF!+1,\"OK\",\"X\")","v":{"$error":"#REF!"}},1,0,1,"OK","7","","","OK"]
[{"$error":"#REF!"},{"$f":"IF(VLOOKUP(M445,#REF!,2,FALSE)<=#REF!+1,\"OK\",\"X\")","v":{"$error":"#REF!"}},1,0,1,"OK","7","","","OK"]
[{"$error":"#REF!"},{"$f":"IF(VLOOKUP(M446,#REF!,2,FALSE)<=#REF!+1,\"OK\",\"X\")","v":{"$error":"#REF!"}},1,0,1,"OK","7","","","OK"]
[{"$error":"#REF!"},{"$f":"IF(VLOOKUP(M447,#REF!,2,FALSE)<=#REF!+1,\"OK\",\"X\")","v":{"$error":"#REF!"}},1,0,1,"OK","7","","","OK"]
[{"$error":"#REF!"},{"$f":"IF(VLOOKUP(M448,#REF!,2,FALSE)<=#REF!+1,\"OK\",\"X\")","v":{"$error":"#REF!"}},1,0,1,"OK","7","","","OK"]
[{"$error":"#REF!"},{"$f":"IF(VLOOKUP(M449,#REF!,2,FALSE)<=#REF!+1,\"OK\",\"X\")","v":{"$error":"#REF!"}},1,0,1,"OK","7","","","OK"]
[{"$error":"#REF!"},{"$f":"IF(VLOOKUP(M450,#REF!,2,FALSE)<=#REF!+1,\"OK\",\"X\")","v":{"$error":"#REF!"}},1,0,1,"OK","7","","","OK"]
[{"$error":"#REF!"},{"$f":"IF(VLOOKUP(M451,#REF!,2,FALSE)<=#REF!+1,\"OK\",\"X\")","v":{"$error":"#REF!"}},1,0,1,"OK","7","","","OK"]
[{"$error":"#REF!"},{"$f":"IF(VLOOKUP(M452,#REF!,2,FALSE)<=#REF!+1,\"OK\",\"X\")","v":{"$error":"#REF!"}},1,0,1,"OK","7","","","OK"]
[{"$error":"#REF!"},{"$f":"IF(VLOOKUP(M453,#REF!,2,FALSE)<=#REF!+1,\"OK\",\"X\")","v":{"$error":"#REF!"}},1,0,1,"OK","7","","","OK"]
[{"$error":"#REF!"},{"$f":"IF(VLOOKUP(M454,#REF!,2,FALSE)<=#REF!+1,\"OK\",\"X\")","v":{"$error":"#REF!"}},1,0,1,"OK","7","","","OK"]
[{"$error":"#REF!"},{"$f":"IF(VLOOKUP(M455,#REF!,2,FALSE)<=#REF!+1,\"OK\",\"X\")","v":{"$error":"#REF!"}},1,0,1,"OK","7","","","OK"]
[{"$error":"#REF!"},{"$f":"IF(VLOOKUP(M456,#REF!,2,FALSE)<=#REF!+1,\"OK\",\"X\")","v":{"$error":"#REF!"}},1,0,1,"OK","7","","","OK"]
[{"$error":"#REF!"},{"$f":"IF(VLOOKUP(M457,#REF!,2,FALSE)<=#REF!+1,\"OK\",\"X\")","v":{"$error":"#REF!"}},1,0,1,"OK","7","","","OK"]
[{"$error":"#REF!"},{"$f":"IF(VLOOKUP(M458,#REF!,2,FALSE)<=#REF!+1,\"OK\",\"X\")","v":{"$error":"#REF!"}},1,0,1,"OK","7","","","OK"]
[{"$error":"#REF!"},{"$f":"IF(VLOOKUP(M459,#REF!,2,FALSE)<=#REF!+1,\"OK\",\"X\")","v":{"$error":"#REF!"}},1,0,1,"OK","7","","","OK"]
[{"$error":"#REF!"},{"$f":"IF(VLOOKUP(M460,#REF!,2,FALSE)<=#REF!+1,\"OK\",\"X\")","v":{"$error":"#REF!"}},1,0,1,"OK","7","","","OK"]
[{"$error":"#REF!"},{"$f":"IF(VLOOKUP(M461,#REF!,2,FALSE)<=#REF!+1,\"OK\",\"X\")","v":{"$error":"#REF!"}},1,0,1,"OK","7","","","OK"]
[{"$error":"#REF!"},{"$f":"IF(VLOOKUP(M462,#REF!,2,FALSE)<=#REF!+1,\"OK\",\"X\")","v":{"$error":"#REF!"}},1,0,1,"OK","7","","","OK"]
[{"$error":"#REF!"},{"$f":"IF(VLOOKUP(M463,#REF!,2,FALSE)<=#REF!+1,\"OK\",\"X\")","v":{"$error":"#REF!"}},1,0,1,"OK","7","","","OK"]
[{"$error":"#REF!"},{"$f":"IF(VLOOKUP(M464,#REF!,2,FALSE)<=#REF!+1,\"OK\",\"X\")","v":{"$error":"#REF!"}},1,0,1,"OK","7","","","OK"]
[{"$error":"#REF!"},{"$f":"IF(VLOOKUP(M465,#REF!,2,FALSE)<=#REF!+1,\"OK\",\"X\")","v":{"$error":"#REF!"}},1,0,1,"OK","7","","","OK"]
[{"$error":"#REF!"},{"$f":"IF(VLOOKUP(M466,#REF!,2,FALSE)<=#REF!+1,\"OK\",\"X\")","v":{"$error":"#REF!"}},1,0,1,"OK","7","","","OK"]
[{"$error":"#REF!"},{"$f":"IF(VLOOKUP(M467,#REF!,2,FALSE)<=#REF!+1,\"OK\",\"X\")","v":{"$error":"#REF!"}},1,0,1,"OK","7","","","OK"]
[{"$error":"#REF!"},{"$f":"IF(VLOOKUP(M468,#REF!,2,FALSE)<=#REF!+1,\"OK\",\"X\")","v":{"$error":"#REF!"}},1,0,1,"OK","7","","","OK"]
[{"$error":"#REF!"},{"$f":"IF(VLOOKUP(M469,#REF!,2,FALSE)<=#REF!+1,\"OK\",\"X\")","v":{"$error":"#REF!"}},1,0,1,"OK","7","","","OK"]
[{"$error":"#REF!"},{"$f":"IF(VLOOKUP(M470,#REF!,2,FALSE)<=#REF!+1,\"OK\",\"X\")","v":{"$error":"#REF!"}},1,0,1,"OK","7","","","OK"]
[{"$f":"L471&LEFT(P471,3)&B471","v":{"$error":"#REF!"}},{"$f":"IF(VLOOKUP(M471,#REF!,2,FALSE)<=#REF!+1,\"OK\",\"X\")","v":{"$error":"#REF!"}},{"$f":"IF(P471=\"start dummy operation\",0,1)","v":1},{"$f":"IF(U471=\"Y\",1,0)","v":0},{"$f":"SUM(C471:D471)","v":1},{"$f":"IF(E471>0,\"OK\",\"X2\")","v":"OK"},{"$f":"WEEKDAY(V471)&T471","v":"7"},{"$f":"L471&M471","v":""},{"$f":"M471&L471&U471","v":""},{"$f":"M471&L471&F471","v":"OK"}]
[{"$error":"#REF!"},{"$f":"IF(VLOOKUP(M472,#REF!,2,FALSE)<=#REF!+1,\"OK\",\"X\")","v":{"$error":"#REF!"}},1,0,1,"OK","7","","","OK"]
[{"$error":"#REF!"},{"$f":"IF(VLOOKUP(M473,#REF!,2,FALSE)<=#REF!+1,\"OK\",\"X\")","v":{"$error":"#REF!"}},1,0,1,"OK","7","","","OK"]
[{"$error":"#REF!"},{"$f":"IF(VLOOKUP(M474,#REF!,2,FALSE)<=#REF!+1,\"OK\",\"X\")","v":{"$error":"#REF!"}},1,0,1,"OK","7","","","OK"]
[{"$error":"#REF!"},{"$f":"IF(VLOOKUP(M475,#REF!,2,FALSE)<=#REF!+1,\"OK\",\"X\")","v":{"$error":"#REF!"}},1,0,1,"OK","7","","","OK"]
[{"$error":"#REF!"},{"$f":"IF(VLOOKUP(M476,#REF!,2,FALSE)<=#REF!+1,\"OK\",\"X\")","v":{"$error":"#REF!"}},1,0,1,"OK","7","","","OK"]
[{"$error":"#REF!"},{"$f":"IF(VLOOKUP(M477,#REF!,2,FALSE)<=#REF!+1,\"OK\",\"X\")","v":{"$error":"#REF!"}},1,0,1,"OK","7","","","OK"]
[{"$error":"#REF!"},{"$f":"IF(VLOOKUP(M478,#REF!,2,FALSE)<=#REF!+1,\"OK\",\"X\")","v":{"$error":"#REF!"}},1,0,1,"OK","7","","","OK"]
[{"$error":"#REF!"},{"$f":"IF(VLOOKUP(M479,#REF!,2,FALSE)<=#REF!+1,\"OK\",\"X\")","v":{"$error":"#REF!"}},1,0,1,"OK","7","","","OK"]
[{"$error":"#REF!"},{"$f":"IF(VLOOKUP(M480,#REF!,2,FALSE)<=#REF!+1,\"OK\",\"X\")","v":{"$error":"#REF!"}},1,0,1,"OK","7","","","OK"]
[{"$error":"#REF!"},{"$f":"IF(VLOOKUP(M481,#REF!,2,FALSE)<=#REF!+1,\"OK\",\"X\")","v":{"$error":"#REF!"}},1,0,1,"OK","7","","","OK"]
[{"$error":"#REF!"},{"$f":"IF(VLOOKUP(M482,#REF!,2,FALSE)<=#REF!+1,\"OK\",\"X\")","v":{"$error":"#REF!"}},1,0,1,"OK","7","","","OK"]
[{"$error":"#REF!"},{"$f":"IF(VLOOKUP(M483,#REF!,2,FALSE)<=#REF!+1,\"OK\",\"X\")","v":{"$error":"#REF!"}},1,0,1,"OK","7","","","OK"]
[{"$error":"#REF!"},{"$f":"IF(VLOOKUP(M484,#REF!,2,FALSE)<=#REF!+1,\"OK\",\"X\")","v":{"$error":"#REF!"}},1,0,1,"OK","7","","","OK"]
[{"$error":"#REF!"},{"$f":"IF(VLOOKUP(M485,#REF!,2,FALSE)<=#REF!+1,\"OK\",\"X\")","v":{"$error":"#REF!"}},1,0,1,"OK","7","","","OK"]
[{"$error":"#REF!"},{"$f":"IF(VLOOKUP(M486,#REF!,2,FALSE)<=#REF!+1,\"OK\",\"X\")","v":{"$error":"#REF!"}},1,0,1,"OK","7","","","OK"]
[{"$error":"#REF!"},{"$f":"IF(VLOOKUP(M487,#REF!,2,FALSE)<=#REF!+1,\"OK\",\"X\")","v":{"$error":"#REF!"}},1,0,1,"OK","7","","","OK"]
[{"$error":"#REF!"},{"$f":"IF(VLOOKUP(M488,#REF!,2,FALSE)<=#REF!+1,\"OK\",\"X\")","v":{"$error":"#REF!"}},1,0,1,"OK","7","","","OK"]
[{"$error":"#REF!"},{"$f":"IF(VLOOKUP(M489,#REF!,2,FALSE)<=#REF!+1,\"OK\",\"X\")","v":{"$error":"#REF!"}},1,0,1,"OK","7","","","OK"]
[{"$error":"#REF!"},{"$f":"IF(VLOOKUP(M490,#REF!,2,FALSE)<=#REF!+1,\"OK\",\"X\")","v":{"$error":"#REF!"}},1,0,1,"OK","7","","","OK"]
[{"$error":"#REF!"},{"$f":"IF(VLOOKUP(M491,#REF!,2,FALSE)<=#REF!+1,\"OK\",\"X\")","v":{"$error":"#REF!"}},1,0,1,"OK","7","","","OK"]
[{"$error":"#REF!"},{"$f":"IF(VLOOKUP(M492,#REF!,2,FALSE)<=#REF!+1,\"OK\",\"X\")","v":{"$error":"#REF!"}},1,0,1,"OK","7","","","OK"]
[{"$error":"#REF!"},{"$f":"IF(VLOOKUP(M493,#REF!,2,FALSE)<=#REF!+1,\"OK\",\"X\")","v":{"$error":"#REF!"}},1,0,1,"OK","7","","","OK"]

{"sheet":"Screw","index":1,"n_rows":500,"n_cols":26,"rows_kept":500,"cut":false,"hidden":false,"merged":[[1,11,2,13],[1,14,2,16],[1,17,2,18],[1,19,2,25]]}
[null,null,null,null,null,null,null,null,null,null,null,null,null,null,null,null,null,null,null,null,null,{"$f":"NOW()","v":"2023-06-24T08:01:47.980"}]
[null,null,null,null,null,null,null,null,null,null,null,"Supervisor de Produção",null,null,"Automatic",null,null,"PC&L",null,"Prep. Lotes"]
[]
[null,null,null,null,null,null,null,null,null,null,null,"Machine","WorkDay","Batch ID","Part Number","2023-11-05T14:38:00","# Pieces","URGENTE","Delivery Date","Op.Prep.","Prep. (Y/N)","Date/Time","Anode","Cathode","Paper","Comments"]
[{"$f":"L5&LEFT(P5,3)&B5","v":{"$error":"#REF!"}},{"$f":"IF(VLOOKUP(M5,#REF!,2,FALSE)<=#REF!+1,\"OK\",\"X\")","v":{"$error":"#REF!"}},{"$f":"IF(P5=\"start dummy operation\",0,1)","v":1},{"$f":"IF(U5=\"Y\",1,0)","v":1},{"$f":"SUM(C5:D5)","v":2},{"$f":"IF(E5>0,\"OK\",\"X2\")","v":"OK"},{"$f":"WEEKDAY(V5)&T5","v":"7"},{"$f":"L5&M5","v":"1Thursday_n-1"},{"$f":"M5&L5&U5","v":"Thursday_n-11y"},{"$f":"M5&L5&F5","v":"Thursday_n-11OK"},null,1,"Thursday_n-1",23222126,{"$f":"IFERROR(VLOOKUP(N5,#REF!,3,FALSE),\"_\")","v":"_"},{"$f":"IFERROR(VLOOKUP(N5,#REF!,7,FALSE),\"_\")","v":"_"},{"$f":"IFERROR(VLOOKUP(N5,#REF!,12,FALSE),\"_\")","v":"_"},{"$f":"IFERROR(VLOOKUP(N5,#REF!,3,FALSE),\"\")","v":""},{"$f":"IFERROR(VLOOKUP(N5,#REF!,2,FALSE),\"\")","v":""},null,"y"]
[{"$f":"L6&LEFT(P6,3)&B6","v":{"$error":"#REF!"}},{"$f":"IF(VLOOKUP(M6,#REF!,2,FALSE)<=#REF!+1,\"OK\",\"X\")","v":{"$error":"#REF!"}},{"$f":"IF(P6=\"start dummy operation\",0,1)","v":1},{"$f":"IF(U6=\"Y\",1,0)","v":1},{"$f":"SUM(C6:D6)","v":2},{"$f":"IF(E6>0,\"OK\",\"X2\")","v":"OK"},{"$f":"WEEKDAY(V6)&T6","v":"7"},{"$f":"L6&M6","v":"1Thursday_n-1"},{"$f":"M6&L6&U6","v":"Thursday_n-11y"},{"$f":"M6&L6&F6","v":"Thursday_n-11OK"},null,1,"Thursday_n-1",23222127,{"$f":"IFERROR(VLOOKUP(N6,#REF!,3,FALSE),\"_\")","v":"_"},{"$f":"IFERROR(VLOOKUP(N6,#REF!,7,FALSE),\"_\")","v":"_"},{"$f":"IFERROR(VLOOKUP(N6,#REF!,12,FALSE),\"_\")","v":"_"},{"$f":"IFERROR(VLOOKUP(N6,#REF!,3,FALSE),\"\")","v":""},{"$f":"IFERROR(VLOOKUP(N6,#REF!,2,FALSE),\"\")","v":""},null,"y"]
[{"$error":"#REF!"},{"$f":"IF(VLOOKUP(M7,#REF!,2,FALSE)<=#REF!+1,\"OK\",\"X\")","v":{"$error":"#REF!"}},1,1,2,"OK","7","1Thursday_n-1","Thursday_n-11y","Thursday_n-11OK",null,1,"Thursday_n-1",23222128,{"$f":"IFERROR(VLOOKUP(N7,#REF!,3,FALSE),\"_\")","v":"_"},{"$f":"IFERROR(VLOOKUP(N7,#REF!,7,FALSE),\"_\")","v":"_"},{"$f":"IFERROR(VLOOKUP(N7,#REF!,12,FALSE),\"_\")","v":"_"},{"$f":"IFERROR(VLOOKUP(N7,#REF!,3,FALSE),\"\")","v":""},{"$f":"IFERROR(VLOOKUP(N7,#REF!,2,FALSE),\"\")","v":""},null,"y"]
[{"$error":"#REF!"},{"$f":"IF(VLOOKUP(M8,#REF!,2,FALSE)<=#REF!+1,\"OK\",\"X\")","v":{"$error":"#REF!"}},1,1,2,"OK","7Wagner Ferreira","1Thursday_n-1","Thursday_n-11Y","Thursday_n-11OK",null,1,"Thursday_n-1",23222114,{"$f":"IFERROR(VLOOKUP(N8,#REF!,3,FALSE),\"_\")","v":"_"},{"$f":"IFERROR(VLOOKUP(N8,#REF!,7,FALSE),\"_\")","v":"_"},{"$f":"IFERROR(VLOOKUP(N8,#REF!,12,FALSE),\"_\")","v":"_"},{"$f":"IFERROR(VLOOKUP(N8,#REF!,3,FALSE),\"\")","v":""},{"$f":"IFERROR(VLOOKUP(N8,#REF!,2,FALSE),\"\")","v":""},"Wagner Ferreira","Y"]
[{"$error":"#REF!"},{"$f":"IF(VLOOKUP(M9,#REF!,2,FALSE)<=#REF!+1,\"OK\",\"X\")","v":{"$error":"#REF!"}},1,1,2,"OK","7Francisco A.","1Friday_n-1","Friday_n-11Y","Friday_n-11OK",null,1,"Friday_n-1",23222115,{"$f":"IFERROR(VLOOKUP(N9,#REF!,3,FALSE),\"_\")","v":"_"},{"$f":"IFERROR(VLOOKUP(N9,#REF!,7,FALSE),\"_\")","v":"_"},{"$f":"IFERROR(VLOOKUP(N9,#REF!,12,FALSE),\"_\")","v":"_"},{"$f":"IFERROR(VLOOKUP(N9,#REF!,3,FALSE),\"\")","v":""},{"$f":"IFERROR(VLOOKUP(N9,#REF!,2,FALSE),\"\")","v":""},"Francisco A.","Y"]
[{"$error":"#REF!"},{"$f":"IF(VLOOKUP(M10,#REF!,2,FALSE)<=#REF!+1,\"OK\",\"X\")","v":{"$error":"#REF!"}},1,1,2,"OK","7Francisco A.","1Friday_n-1","Friday_n-11Y","Friday_n-11OK",null,1,"Friday_n-1",23222116,{"$f":"IFERROR(VLOOKUP(N10,#REF!,3,FALSE),\"_\")","v":"_"},{"$f":"IFERROR(VLOOKUP(N10,#REF!,7,FALSE),\"_\")","v":"_"},{"$f":"IFERROR(VLOOKUP(N10,#REF!,12,FALSE),\"_\")","v":"_"},{"$f":"IFERROR(VLOOKUP(N10,#REF!,3,FALSE),\"\")","v":""},{"$f":"IFERROR(VLOOKUP(N10,#REF!,2,FALSE),\"\")","v":""},"Francisco A.","Y"]
[null,null,null,1,null,null,null,null,"Friday_n-11y",null,null,1,"Friday_n-1",23172111,"A459SW602Q450AV5NC","Start Dummy Operation",49,"","",null,"y"]
[null,null,null,null,null,null,null,null,null,null,null,1,"Friday_n-1",23232030,"A390UU105M025A","Start Dummy Operation",98,"",""]
[null,null,null,null,null,null,null,null,null,null,null,1,"Saturday_n-1",23242075,"A331UV143M450AU34V","Start Dummy Operation",60,"",""]
[{"$error":"#REF!"},{"$f":"IF(VLOOKUP(M14,#REF!,2,FALSE)<=#REF!+1,\"OK\",\"X\")","v":{"$error":"#REF!"}},1,0,1,"OK","7","1Saturday_n-1","Saturday_n-11","Saturday_n-11OK",null,1,"Saturday_n-1",23232029,{"$f":"IFERROR(VLOOKUP(N14,#REF!,3,FALSE),\"_\")","v":"_"},{"$f":"IFERROR(VLOOKUP(N14,#REF!,7,FALSE),\"_\")","v":"_"},{"$f":"IFERROR(VLOOKUP(N14,#REF!,12,FALSE),\"_\")","v":"_"},{"$f":"IFERROR(VLOOKUP(N14,#REF!,3,FALSE),\"\")","v":""},{"$f":"IFERROR(VLOOKUP(N14,#REF!,2,FALSE),\"\")","v":""}]
[{"$error":"#REF!"},{"$f":"IF(VLOOKUP(M15,#REF!,2,FALSE)<=#REF!+1,\"OK\",\"X\")","v":{"$error":"#REF!"}},1,0,1,"OK","7","1Saturday_n-1","Saturday_n-11","Saturday_n-11OK",null,1,"Saturday_n-1",23242073,{"$f":"IFERROR(VLOOKUP(N15,#REF!,3,FALSE),\"_\")","v":"_"},{"$f":"IFERROR(VLOOKUP(N15,#REF!,7,FALSE),\"_\")","v":"_"},{"$f":"IFERROR(VLOOKUP(N15,#REF!,12,FALSE),\"_\")","v":"_"},{"$f":"IFERROR(VLOOKUP(N15,#REF!,3,FALSE),\"\")","v":""},{"$f":"IFERROR(VLOOKUP(N15,#REF!,2,FALSE),\"\")","v":""}]
[{"$error":"#REF!"},{"$f":"IF(VLOOKUP(M16,#REF!,2,FALSE)<=#REF!+1,\"OK\",\"X\")","v":{"$error":"#REF!"}},1,0,1,"OK","7","1Saturday_n-1","Saturday_n-11","Saturday_n-11OK",null,1,"Saturday_n-1",23242065,{"$f":"IFERROR(VLOOKUP(N16,#REF!,3,FALSE),\"_\")","v":"_"},{"$f":"IFERROR(VLOOKUP(N16,#REF!,7,FALSE),\"_\")","v":"_"},{"$f":"IFERROR(VLOOKUP(N16,#REF!,12,FALSE),\"_\")","v":"_"},{"$f":"IFERROR(VLOOKUP(N16,#REF!,3,FALSE),\"\")","v":""},{"$f":"IFERROR(VLOOKUP(N16,#REF!,2,FALSE),\"\")","v":""}]
[{"$f":"L17&LEFT(P17,3)&B17","v":{"$error":"#REF!"}},{"$f":"IF(VLOOKUP(M17,#REF!,2,FALSE)<=#REF!+1,\"OK\",\"X\")","v":{"$error":"#REF!"}},{"$f":"IF(P17=\"start dummy operation\",0,1)","v":1},{"$f":"IF(U17=\"Y\",1,0)","v":0},{"$f":"SUM(C17:D17)","v":1},{"$f":"IF(E17>0,\"OK\",\"X2\")","v":"OK"},{"$f":"WEEKDAY(V17)&T17","v":"7"},{"$f":"L17&M17","v":"1Sunday_n-1"},{"$f":"M17&L17&U17","v":"Sunday_n-11"},{"$f":"M17&L17&F17","v":"Sunday_n-11OK"},null,1,"Sunday_n-1",23242066,{"$f":"IFERROR(VLOOKUP(N17,#REF!,3,FALSE),\"_\")","v":"_"},{"$f":"IFERROR(VLOOKUP(N17,#REF!,7,FALSE),\"_\")","v":"_"},{"$f":"IFERROR(VLOOKUP(N17,#REF!,12,FALSE),\"_\")","v":"_"},{"$f":"IFERROR(VLOOKUP(N17,#REF!,3,FALSE),\"\")","v":""},{"$f":"IFERROR(VLOOKUP(N17,#REF!,2,FALSE),\"\")","v":""}]
[{"$error":"#REF!"},{"$f":"IF(VLOOKUP(M18,#REF!,2,FALSE)<=#REF!+1,\"OK\",\"X\")","v":{"$error":"#REF!"}},1,0,1,"OK","7","1Sunday_n-1","Sunday_n-11","Sunday_n-11OK",null,1,"Sunday_n-1",23202129,{"$f":"IFERROR(VLOOKUP(N18,#REF!,3,FALSE),\"_\")","v":"_"},{"$f":"IFERROR(VLOOKUP(N18,#REF!,7,FALSE),\"_\")","v":"_"},{"$f":"IFERROR(VLOOKUP(N18,#REF!,12,FALSE),\"_\")","v":"_"},{"$f":"IFERROR(VLOOKUP(N18,#REF!,3,FALSE),\"\")","v":""},{"$f":"IFERROR(VLOOKUP(N18,#REF!,2,FALSE),\"\")","v":""}]
[{"$error":"#REF!"},{"$f":"IF(VLOOKUP(M19,#REF!,2,FALSE)<=#REF!+1,\"OK\",\"X\")","v":{"$error":"#REF!"}},1,0,1,"OK","7","1Sunday_n-1","Sunday_n-11","Sunday_n-11OK",null,1,"Sunday_n-1",23242067,{"$f":"IFERROR(VLOOKUP(N19,#REF!,3,FALSE),\"_\")","v":"_"},{"$f":"IFERROR(VLOOKUP(N19,#REF!,7,FALSE),\"_\")","v":"_"},{"$f":"IFERROR(VLOOKUP(N19,#REF!,12,FALSE),\"_\")","v":"_"},{"$f":"IFERROR(VLOOKUP(N19,#REF!,3,FALSE),\"\")","v":""},{"$f":"IFERROR(VLOOKUP(N19,#REF!,2,FALSE),\"\")","v":""}]
[{"$error":"#REF!"},{"$f":"IF(VLOOKUP(M20,#REF!,2,FALSE)<=#REF!+1,\"OK\",\"X\")","v":{"$error":"#REF!"}},1,0,1,"OK","7","1Sunday_n-1","Sunday_n-11","Sunday_n-11OK",null,1,"Sunday_n-1",23242068,{"$f":"IFERROR(VLOOKUP(N20,#REF!,3,FALSE),\"_\")","v":"_"},{"$f":"IFERROR(VLOOKUP(N20,#REF!,7,FALSE),\"_\")","v":"_"},{"$f":"IFERROR(VLOOKUP(N20,#REF!,12,FALSE),\"_\")","v":"_"},{"$f":"IFERROR(VLOOKUP(N20,#REF!,3,FALSE),\"\")","v":""},{"$f":"IFERROR(VLOOKUP(N20,#REF!,2,FALSE),\"\")","v":""}]
[{"$error":"#REF!"},{"$f":"IF(VLOOKUP(M21,#REF!,2,FALSE)<=#REF!+1,\"OK\",\"X\")","v":{"$error":"#REF!"}},1,0,1,"OK",{"$f":"WEEKDAY(V21)&T21","v":"7"},{"$f":"L21&M21","v":"1Monday"},{"$f":"M21&L21&U21","v":"Monday1"},{"$f":"M21&L21&F21","v":"Monday1OK"},null,1,"Monday",23242069,{"$f":"IFERROR(VLOOKUP(N21,#REF!,3,FALSE),\"_\")","v":"_"},{"$f":"IFERROR(VLOOKUP(N21,#REF!,7,FALSE),\"_\")","v":"_"},{"$f":"IFERROR(VLOOKUP(N21,#REF!,12,FALSE),\"_\")","v":"_"},{"$f":"IFERROR(VLOOKUP(N21,#REF!,3,FALSE),\"\")","v":""},{"$f":"IFERROR(VLOOKUP(N21,#REF!,2,FALSE),\"\")","v":""}]
[{"$error":"#REF!"},{"$f":"IF(VLOOKUP(M22,#REF!,2,FALSE)<=#REF!+1,\"OK\",\"X\")","v":{"$error":"#REF!"}},1,0,1,"OK","7","1Monday","Monday1","Monday1OK",null,1,"Monday",23242070,{"$f":"IFERROR(VLOOKUP(N22,#REF!,3,FALSE),\"_\")","v":"_"},{"$f":"IFERROR(VLOOKUP(N22,#REF!,7,FALSE),\"_\")","v":"_"},{"$f":"IFERROR(VLOOKUP(N22,#REF!,12,FALSE),\"_\")","v":"_"},{"$f":"IFERROR(VLOOKUP(N22,#REF!,3,FALSE),\"\")","v":""},{"$f":"IFERROR(VLOOKUP(N22,#REF!,2,FALSE),\"\")","v":""}]
[{"$error":"#REF!"},{"$f":"IF(VLOOKUP(M23,#REF!,2,FALSE)<=#REF!+1,\"OK\",\"X\")","v":{"$error":"#REF!"}},1,0,1,"OK","7","1Monday","Monday1","Monday1OK",null,1,"Monday",23242071,{"$f":"IFERROR(VLOOKUP(N23,#REF!,3,FALSE),\"_\")","v":"_"},{"$f":"IFERROR(VLOOKUP(N23,#REF!,7,FALSE),\"_\")","v":"_"},{"$f":"IFERROR(VLOOKUP(N23,#REF!,12,FALSE),\"_\")","v":"_"},{"$f":"IFERROR(VLOOKUP(N23,#REF!,3,FALSE),\"\")","v":""},{"$f":"IFERROR(VLOOKUP(N23,#REF!,2,FALSE),\"\")","v":""}]
[{"$error":"#REF!"},{"$f":"IF(VLOOKUP(M24,#REF!,2,FALSE)<=#REF!+1,\"OK\",\"X\")","v":{"$error":"#REF!"}},1,0,1,"OK","7","1Tuesday","Tuesday1","Tuesday1OK",null,1,"Tuesday",23242072,{"$f":"IFERROR(VLOOKUP(N24,#REF!,3,FALSE),\"_\")","v":"_"},{"$f":"IFERROR(VLOOKUP(N24,#REF!,7,FALSE),\"_\")","v":"_"},{"$f":"IFERROR(VLOOKUP(N24,#REF!,12,FALSE),\"_\")","v":"_"},{"$f":"IFERROR(VLOOKUP(N24,#REF!,3,FALSE),\"\")","v":""},{"$f":"IFERROR(VLOOKUP(N24,#REF!,2,FALSE),\"\")","v":""}]
[{"$error":"#REF!"},{"$f":"IF(VLOOKUP(M25,#REF!,2,FALSE)<=#REF!+1,\"OK\",\"X\")","v":{"$error":"#REF!"}},1,0,1,"OK","7","1Tuesday","Tuesday1","Tuesday1OK",null,1,"Tuesday",23242102,{"$f":"IFERROR(VLOOKUP(N25,#REF!,3,FALSE),\"_\")","v":"_"},{"$f":"IFERROR(VLOOKUP(N25,#REF!,7,FALSE),\"_\")","v":"_"},{"$f":"IFERROR(VLOOKUP(N25,#REF!,12,FALSE),\"_\")","v":"_"},{"$f":"IFERROR(VLOOKUP(N25,#REF!,3,FALSE),\"\")","v":""},{"$f":"IFERROR(VLOOKUP(N25,#REF!,2,FALSE),\"\")","v":""}]
[{"$error":"#REF!"},{"$f":"IF(VLOOKUP(M26,#REF!,2,FALSE)<=#REF!+1,\"OK\",\"X\")","v":{"$error":"#REF!"}},1,0,1,"OK","7","1Tuesday","Tuesday1","Tuesday1OK",null,1,"Tuesday",23242140,{"$f":"IFERROR(VLOOKUP(N26,#REF!,3,FALSE),\"_\")","v":"_"},{"$f":"IFERROR(VLOOKUP(N26,#REF!,7,FALSE),\"_\")","v":"_"},{"$f":"IFERROR(VLOOKUP(N26,#REF!,12,FALSE),\"_\")","v":"_"},{"$f":"IFERROR(VLOOKUP(N26,#REF!,3,FALSE),\"\")","v":""},{"$f":"IFERROR(VLOOKUP(N26,#REF!,2,FALSE),\"\")","v":""}]
[{"$error":"#REF!"},{"$f":"IF(VLOOKUP(M27,#REF!,2,FALSE)<=#REF!+1,\"OK\",\"X\")","v":{"$error":"#REF!"}},1,0,1,"OK","7","1Tuesday","Tuesday1","Tuesday1OK",null,1,"Tuesday",23242074,{"$f":"IFERROR(VLOOKUP(N27,#REF!,3,FALSE),\"_\")","v":"_"},{"$f":"IFERROR(VLOOKUP(N27,#REF!,7,FALSE),\"_\")","v":"_"},{"$f":"IFERROR(VLOOKUP(N27,#REF!,12,FALSE),\"_\")","v":"_"},{"$f":"IFERROR(VLOOKUP(N27,#REF!,3,FALSE),\"\")","v":""},{"$f":"IFERROR(VLOOKUP(N27,#REF!,2,FALSE),\"\")","v":""}]
[{"$error":"#REF!"},{"$f":"IF(VLOOKUP(M28,#REF!,2,FALSE)<=#REF!+1,\"OK\",\"X\")","v":{"$error":"#REF!"}},1,1,2,"OK","7","5Thursday_n-1","Thursday_n-15y","Thursday_n-15OK",null,5,"Thursday_n-1",23212224,{"$f":"IFERROR(VLOOKUP(N28,#REF!,3,FALSE),\"_\")","v":"_"},{"$f":"IFERROR(VLOOKUP(N28,#REF!,7,FALSE),\"_\")","v":"_"},{"$f":"IFERROR(VLOOKUP(N28,#REF!,12,FALSE),\"_\")","v":"_"},{"$f":"IFERROR(VLOOKUP(N28,#REF!,3,FALSE),\"\")","v":""},{"$f":"IFERROR(VLOOKUP(N28,#REF!,2,FALSE),\"\")","v":""},null,"y"]
[{"$error":"#REF!"},{"$f":"IF(VLOOKUP(M29,#REF!,2,FALSE)<=#REF!+1,\"OK\",\"X\")","v":{"$error":"#REF!"}},1,1,2,"OK","7","5Thursday_n-1","Thursday_n-15y","Thursday_n-15OK",null,5,"Thursday_n-1",23212254,{"$f":"IFERROR(VLOOKUP(N29,#REF!,3,FALSE),\"_\")","v":"_"},{"$f":"IFERROR(VLOOKUP(N29,#REF!,7,FALSE),\"_\")","v":"_"},{"$f":"IFERROR(VLOOKUP(N29,#REF!,12,FALSE),\"_\")","v":"_"},{"$f":"IFERROR(VLOOKUP(N29,#REF!,3,FALSE),\"\")","v":""},{"$f":"IFERROR(VLOOKUP(N29,#REF!,2,FALSE),\"\")","v":""},null,"y"]
[{"$error":"#REF!"},{"$f":"IF(VLOOKUP(M30,#REF!,2,FALSE)<=#REF!+1,\"OK\",\"X\")","v":{"$error":"#REF!"}},1,1,2,"OK","7","5Thursday_n-1","Thursday_n-15y","Thursday_n-15OK",null,5,"Thursday_n-1",23212225,{"$f":"IFERROR(VLOOKUP(N30,#REF!,3,FALSE),\"_\")","v":"_"},{"$f":"IFERROR(VLOOKUP(N30,#REF!,7,FALSE),\"_\")","v":"_"},{"$f":"IFERROR(VLOOKUP(N30,#REF!,12,FALSE),\"_\")","v":"_"},{"$f":"IFERROR(VLOOKUP(N30,#REF!,3,FALSE),\"\")","v":""},{"$f":"IFERROR(VLOOKUP(N30,#REF!,2,FALSE),\"\")","v":""},null,"y"]
[{"$error":"#REF!"},{"$f":"IF(VLOOKUP(M31,#REF!,2,FALSE)<=#REF!+1,\"OK\",\"X\")","v":{"$error":"#REF!"}},1,1,2,"OK","7Paulo M.","5Friday_n-1","Friday_n-15y","Friday_n-15OK",null,5,"Friday_n-1",23242001,{"$f":"IFERROR(VLOOKUP(N31,#REF!,3,FALSE),\"_\")","v":"_"},{"$f":"IFERROR(VLOOKUP(N31,#REF!,7,FALSE),\"_\")","v":"_"},{"$f":"IFERROR(VLOOKUP(N31,#REF!,12,FALSE),\"_\")","v":"_"},{"$f":"IFERROR(VLOOKUP(N31,#REF!,3,FALSE),\"\")","v":""},{"$f":"IFERROR(VLOOKUP(N31,#REF!,2,FALSE),\"\")","v":""},"Paulo M.","y"]
[{"$error":"#REF!"},{"$f":"IF(VLOOKUP(M32,#REF!,2,FALSE)<=#REF!+1,\"OK\",\"X\")","v":{"$error":"#REF!"}},1,1,2,"OK","7Wagner Ferreira","5Friday_n-1","Friday_n-15y","Friday_n-15OK",null,5,"Friday_n-1",23242002,{"$f":"IFERROR(VLOOKUP(N32,#REF!,3,FALSE),\"_\")","v":"_"},{"$f":"IFERROR(VLOOKUP(N32,#REF!,7,FALSE),\"_\")","v":"_"},{"$f":"IFERROR(VLOOKUP(N32,#REF!,12,FALSE),\"_\")","v":"_"},{"$f":"IFERROR(VLOOKUP(N32,#REF!,3,FALSE),\"\")","v":""},{"$f":"IFERROR(VLOOKUP(N32,#REF!,2,FALSE),\"\")","v":""},"Wagner Ferreira","y"]
[{"$error":"#REF!"},{"$f":"IF(VLOOKUP(M33,#REF!,2,FALSE)<=#REF!+1,\"OK\",\"X\")","v":{"$error":"#REF!"}},1,1,2,"OK","7Wagner Ferreira","5Friday_n-1","Friday_n-15y","Friday_n-15OK",null,5,"Friday_n-1",23232014,{"$f":"IFERROR(VLOOKUP(N33,#REF!,3,FALSE),\"_\")","v":"_"},{"$f":"IFERROR(VLOOKUP(N33,#REF!,7,FALSE),\"_\")","v":"_"},{"$f":"IFERROR(VLOOKUP(N33,#REF!,12,FALSE),\"_\")","v":"_"},{"$f":"IFERROR(VLOOKUP(N33,#REF!,3,FALSE),\"\")","v":""},{"$f":"IFERROR(VLOOKUP(N33,#REF!,2,FALSE),\"\")","v":""},"Wagner Ferreira","y"]
[{"$error":"#REF!"},{"$f":"IF(VLOOKUP(M34,#REF!,2,FALSE)<=#REF!+1,\"OK\",\"X\")","v":{"$error":"#REF!"}},1,1,2,"OK","7Wagner Ferreira","5Friday_n-1","Friday_n-15y","Friday_n-15OK",null,5,"Friday_n-1",23232015,{"$f":"IFERROR(VLOOKUP(N34,#REF!,3,FALSE),\"_\")","v":"_"},{"$f":"IFERROR(VLOOKUP(N34,#REF!,7,FALSE),\"_\")","v":"_"},{"$f":"IFERROR(VLOOKUP(N34,#REF!,12,FALSE),\"_\")","v":"_"},{"$f":"IFERROR(VLOOKUP(N34,#REF!,3,FALSE),\"\")","v":""},{"$f":"IFERROR(VLOOKUP(N34,#REF!,2,FALSE),\"\")","v":""},"Wagner Ferreira","y"]
[{"$error":"#REF!"},{"$f":"IF(VLOOKUP(M35,#REF!,2,FALSE)<=#REF!+1,\"OK\",\"X\")","v":{"$error":"#REF!"}},1,1,2,"OK","7Wagner Ferreira","5Saturday_n-1","Saturday_n-15y","Saturday_n-15OK",null,5,"Saturday_n-1",23232016,{"$f":"IFERROR(VLOOKUP(N35,#REF!,3,FALSE),\"_\")","v":"_"},{"$f":"IFERROR(VLOOKUP(N35,#REF!,7,FALSE),\"_\")","v":"_"},{"$f":"IFERROR(VLOOKUP(N35,#REF!,12,FALSE),\"_\")","v":"_"},{"$f":"IFERROR(VLOOKUP(N35,#REF!,3,FALSE),\"\")","v":""},{"$f":"IFERROR(VLOOKUP(N35,#REF!,2,FALSE),\"\")","v":""},"Wagner Ferreira","y"]
[{"$error":"#REF!"},{"$f":"IF(VLOOKUP(M36,#REF!,2,FALSE)<=#REF!+1,\"OK\",\"X\")","v":{"$error":"#REF!"}},1,1,2,"OK","7Wagner Ferreira","5Saturday_n-1","Saturday_n-15y","Saturday_n-15OK",null,5,"Saturday_n-1",23232017,{"$f":"IFERROR(VLOOKUP(N36,#REF!,3,FALSE),\"_\")","v":"_"},{"$f":"IFERROR(VLOOKUP(N36,#REF!,7,FALSE),\"_\")","v":"_"},{"$f":"IFERROR(VLOOKUP(N36,#REF!,12,FALSE),\"_\")","v":"_"},{"$f":"IFERROR(VLOOKUP(N36,#REF!,3,FALSE),\"\")","v":""},{"$f":"IFERROR(VLOOKUP(N36,#REF!,2,FALSE),\"\")","v":""},"Wagner Ferreira","y"]
[{"$error":"#REF!"},{"$f":"IF(VLOOKUP(M37,#REF!,2,FALSE)<=#REF!+1,\"OK\",\"X\")","v":{"$error":"#REF!"}},1,1,2,"OK","7","5Saturday_n-1","Saturday_n-15y","Saturday_n-15OK",null,5,"Saturday_n-1",23232018,{"$f":"IFERROR(VLOOKUP(N37,#REF!,3,FALSE),\"_\")","v":"_"},{"$f":"IFERROR(VLOOKUP(N37,#REF!,7,FALSE),\"_\")","v":"_"},{"$f":"IFERROR(VLOOKUP(N37,#REF!,12,FALSE),\"_\")","v":"_"},{"$f":"IFERROR(VLOOKUP(N37,#REF!,3,FALSE),\"\")","v":""},{"$f":"IFERROR(VLOOKUP(N37,#REF!,2,FALSE),\"\")","v":""},null,"y"]
[{"$error":"#REF!"},{"$f":"IF(VLOOKUP(M38,#REF!,2,FALSE)<=#REF!+1,\"OK\",\"X\")","v":{"$error":"#REF!"}},1,1,2,"OK","7","5Saturday_n-1","Saturday_n-15y","Saturday_n-15OK",null,5,"Saturday_n-1",23232019,{"$f":"IFERROR(VLOOKUP(N38,#REF!,3,FALSE),\"_\")","v":"_"},{"$f":"IFERROR(VLOOKUP(N38,#REF!,7,FALSE),\"_\")","v":"_"},{"$f":"IFERROR(VLOOKUP(N38,#REF!,12,FALSE),\"_\")","v":"_"},{"$f":"IFERROR(VLOOKUP(N38,#REF!,3,FALSE),\"\")","v":""},{"$f":"IFERROR(VLOOKUP(N38,#REF!,2,FALSE),\"\")","v":""},null,"y"]
[{"$error":"#REF!"},{"$f":"IF(VLOOKUP(M39,#REF!,2,FALSE)<=#REF!+1,\"OK\",\"X\")","v":{"$error":"#REF!"}},1,1,2,"OK","7","5Sunday_n-1","Sunday_n-15y","Sunday_n-15OK",null,5,"Sunday_n-1",23232020,{"$f":"IFERROR(VLOOKUP(N39,#REF!,3,FALSE),\"_\")","v":"_"},{"$f":"IFERROR(VLOOKUP(N39,#REF!,7,FALSE),\"_\")","v":"_"},{"$f":"IFERROR(VLOOKUP(N39,#REF!,12,FALSE),\"_\")","v":"_"},{"$f":"IFERROR(VLOOKUP(N39,#REF!,3,FALSE),\"\")","v":""},{"$f":"IFERROR(VLOOKUP(N39,#REF!,2,FALSE),\"\")","v":""},null,"y"]
[{"$error":"#REF!"},{"$f":"IF(VLOOKUP(M40,#REF!,2,FALSE)<=#REF!+1,\"OK\",\"X\")","v":{"$error":"#REF!"}},1,1,2,"OK","7Paulo M.","5Sunday_n-1","Sunday_n-15y","Sunday_n-15OK",null,5,"Sunday_n-1",23232021,{"$f":"IFERROR(VLOOKUP(N40,#REF!,3,FALSE),\"_\")","v":"_"},{"$f":"IFERROR(VLOOKUP(N40,#REF!,7,FALSE),\"_\")","v":"_"},{"$f":"IFERROR(VLOOKUP(N40,#REF!,12,FALSE),\"_\")","v":"_"},{"$f":"IFERROR(VLOOKUP(N40,#REF!,3,FALSE),\"\")","v":""},{"$f":"IFERROR(VLOOKUP(N40,#REF!,2,FALSE),\"\")","v":""},"Paulo M.","y"]
[{"$error":"#REF!"},{"$f":"IF(VLOOKUP(M41,#REF!,2,FALSE)<=#REF!+1,\"OK\",\"X\")","v":{"$error":"#REF!"}},1,1,2,"OK","7Paulo M.","5Sunday_n-1","Sunday_n-15y","Sunday_n-15OK",null,5,"Sunday_n-1",23232022,{"$f":"IFERROR(VLOOKUP(N41,#REF!,3,FALSE),\"_\")","v":"_"},{"$f":"IFERROR(VLOOKUP(N41,#REF!,7,FALSE),\"_\")","v":"_"},{"$f":"IFERROR(VLOOKUP(N41,#REF!,12,FALSE),\"_\")","v":"_"},{"$f":"IFERROR(VLOOKUP(N41,#REF!,3,FALSE),\"\")","v":""},{"$f":"IFERROR(VLOOKUP(N41,#REF!,2,FALSE),\"\")","v":""},"Paulo M.","y"]
[{"$error":"#REF!"},{"$f":"IF(VLOOKUP(M42,#REF!,2,FALSE)<=#REF!+1,\"OK\",\"X\")","v":{"$error":"#REF!"}},1,1,2,"OK","7Paulo M.","5Sunday_n-1","Sunday_n-15y","Sunday_n-15OK",null,5,"Sunday_n-1",23232023,{"$f":"IFERROR(VLOOKUP(N42,#REF!,3,FALSE),\"_\")","v":"_"},{"$f":"IFERROR(VLOOKUP(N42,#REF!,7,FALSE),\"_\")","v":"_"},{"$f":"IFERROR(VLOOKUP(N42,#REF!,12,FALSE),\"_\")","v":"_"},{"$f":"IFERROR(VLOOKUP(N42,#REF!,3,FALSE),\"\")","v":""},{"$f":"IFERROR(VLOOKUP(N42,#REF!,2,FALSE),\"\")","v":""},"Paulo M.","y"]
[{"$error":"#REF!"},{"$f":"IF(VLOOKUP(M43,#REF!,2,FALSE)<=#REF!+1,\"OK\",\"X\")","v":{"$error":"#REF!"}},1,1,2,"OK","7Paulo M.","5Monday","Monday5y","Monday5OK",null,5,"Monday",23232024,{"$f":"IFERROR(VLOOKUP(N43,#REF!,3,FALSE),\"_\")","v":"_"},{"$f":"IFERROR(VLOOKUP(N43,#REF!,7,FALSE),\"_\")","v":"_"},{"$f":"IFERROR(VLOOKUP(N43,#REF!,12,FALSE),\"_\")","v":"_"},{"$f":"IFERROR(VLOOKUP(N43,#REF!,3,FALSE),\"\")","v":""},{"$f":"IFERROR(VLOOKUP(N43,#REF!,2,FALSE),\"\")","v":""},"Paulo M.","y"]
[{"$error":"#REF!"},{"$f":"IF(VLOOKUP(M44,#REF!,2,FALSE)<=#REF!+1,\"OK\",\"X\")","v":{"$error":"#REF!"}},1,1,2,"OK","7Paulo M.","5Monday","Monday5y","Monday5OK",null,5,"Monday",23232025,{"$f":"IFERROR(VLOOKUP(N44,#REF!,3,FALSE),\"_\")","v":"_"},{"$f":"IFERROR(VLOOKUP(N44,#REF!,7,FALSE),\"_\")","v":"_"},{"$f":"IFERROR(VLOOKUP(N44,#REF!,12,FALSE),\"_\")","v":"_"},{"$f":"IFERROR(VLOOKUP(N44,#REF!,3,FALSE),\"\")","v":""},{"$f":"IFERROR(VLOOKUP(N44,#REF!,2,FALSE),\"\")","v":""},"Paulo M.","y"]
[{"$error":"#REF!"},{"$f":"IF(VLOOKUP(M45,#REF!,2,FALSE)<=#REF!+1,\"OK\",\"X\")","v":{"$error":"#REF!"}},1,1,2,"OK","7Paulo M.","5Monday","Monday5y","Monday5OK",null,5,"Monday",23232026,{"$f":"IFERROR(VLOOKUP(N45,#REF!,3,FALSE),\"_\")","v":"_"},{"$f":"IFERROR(VLOOKUP(N45,#REF!,7,FALSE),\"_\")","v":"_"},{"$f":"IFERROR(VLOOKUP(N45,#REF!,12,FALSE),\"_\")","v":"_"},{"$f":"IFERROR(VLOOKUP(N45,#REF!,3,FALSE),\"\")","v":""},{"$f":"IFERROR(VLOOKUP(N45,#REF!,2,FALSE),\"\")","v":""},"Paulo M.","y"]
[{"$error":"#REF!"},{"$f":"IF(VLOOKUP(M46,#REF!,2,FALSE)<=#REF!+1,\"OK\",\"X\")","v":{"$error":"#REF!"}},1,1,2,"OK","7Paulo M.","5Monday","Monday5Y","Monday5OK",null,5,"Monday",23232027,{"$f":"IFERROR(VLOOKUP(N46,#REF!,3,FALSE),\"_\")","v":"_"},{"$f":"IFERROR(VLOOKUP(N46,#REF!,7,FALSE),\"_\")","v":"_"},{"$f":"IFERROR(VLOOKUP(N46,#REF!,12,FALSE),\"_\")","v":"_"},{"$f":"IFERROR(VLOOKUP(N46,#REF!,3,FALSE),\"\")","v":""},{"$f":"IFERROR(VLOOKUP(N46,#REF!,2,FALSE),\"\")","v":""},"Paulo M.","Y"]
[{"$error":"#REF!"},{"$f":"IF(VLOOKUP(M47,#REF!,2,FALSE)<=#REF!+1,\"OK\",\"X\")","v":{"$error":"#REF!"}},1,1,2,"OK","7Paulo M.","5Monday","Monday5Y","Monday5OK",null,5,"Monday",23222117,"A331UW153Q430CF155U32Q","Winding NT + 90mm ALS",142,"Urgente","2023-06-22","Paulo M.","Y"]
[{"$error":"#REF!"},{"$f":"IF(VLOOKUP(M48,#REF!,2,FALSE)<=#REF!+1,\"OK\",\"X\")","v":{"$error":"#REF!"}},1,1,2,"OK","7Paulo M.","5Tuesday","Tuesday5Y","Tuesday5OK",null,5,"Tuesday",23222118,"A331UW153Q430CF155U32Q","Winding NT + 90mm ALS",142,"Urgente","2023-06-22","Paulo M.","Y"]
[{"$error":"#REF!"},{"$f":"IF(VLOOKUP(M49,#REF!,2,FALSE)<=#REF!+1,\"OK\",\"X\")","v":{"$error":"#REF!"}},0,1,1,"OK","7Wagner Ferreira","5Tuesday","Tuesday5Y","Tuesday5OK",null,5,"Tuesday",23222119,"A331UW153Q430CF155U32Q","Start Dummy Operation",142,"Urgente","2023-06-22","Wagner Ferreira","Y"]
[{"$error":"#REF!"},{"$f":"IF(VLOOKUP(M50,#REF!,2,FALSE)<=#REF!+1,\"OK\",\"X\")","v":{"$error":"#REF!"}},0,1,1,"OK","7Wagner Ferreira","5Tuesday","Tuesday5Y","Tuesday5OK",null,5,"Tuesday",23222120,"A331UW153Q430CF155U32Q","Start Dummy Operation",142,"Urgente","2023-06-22","Wagner Ferreira","Y"]
[{"$error":"#REF!"},{"$f":"IF(VLOOKUP(M51,#REF!,2,FALSE)<=#REF!+1,\"OK\",\"X\")","v":{"$error":"#REF!"}},1,0,1,"OK","7","5Tuesday","Tuesday5","Tuesday5OK",null,5,"Tuesday",23232010,{"$f":"IFERROR(VLOOKUP(N51,#REF!,3,FALSE),\"_\")","v":"_"},{"$f":"IFERROR(VLOOKUP(N51,#REF!,7,FALSE),\"_\")","v":"_"},{"$f":"IFERROR(VLOOKUP(N51,#REF!,12,FALSE),\"_\")","v":"_"},{"$f":"IFERROR(VLOOKUP(N51,#REF!,3,FALSE),\"\")","v":""},{"$f":"IFERROR(VLOOKUP(N51,#REF!,2,FALSE),\"\")","v":""}]
[{"$error":"#REF!"},{"$f":"IF(VLOOKUP(M52,#REF!,2,FALSE)<=#REF!+1,\"OK\",\"X\")","v":{"$error":"#REF!"}},1,0,1,"OK","7","5Tuesday","Tuesday5","Tuesday5OK",null,5,"Tuesday",23242003,{"$f":"IFERROR(VLOOKUP(N52,#REF!,3,FALSE),\"_\")","v":"_"},{"$f":"IFERROR(VLOOKUP(N52,#REF!,7,FALSE),\"_\")","v":"_"},{"$f":"IFERROR(VLOOKUP(N52,#REF!,12,FALSE),\"_\")","v":"_"},{"$f":"IFERROR(VLOOKUP(N52,#REF!,3,FALSE),\"\")","v":""},{"$f":"IFERROR(VLOOKUP(N52,#REF!,2,FALSE),\"\")","v":""}]
[{"$error":"#REF!"},{"$f":"IF(VLOOKUP(M53,#REF!,2,FALSE)<=#REF!+1,\"OK\",\"X\")","v":{"$error":"#REF!"}},1,0,1,"OK","7","5Wednesday","Wednesday5","Wednesday5OK",null,5,"Wednesday",23242076,{"$f":"IFERROR(VLOOKUP(N53,#REF!,3,FALSE),\"_\")","v":"_"},{"$f":"IFERROR(VLOOKUP(N53,#REF!,7,FALSE),\"_\")","v":"_"},{"$f":"IFERROR(VLOOKUP(N53,#REF!,12,FALSE),\"_\")","v":"_"},{"$f":"IFERROR(VLOOKUP(N53,#REF!,3,FALSE),\"\")","v":""},{"$f":"IFERROR(VLOOKUP(N53,#REF!,2,FALSE),\"\")","v":""}]
[{"$error":"#REF!"},{"$f":"IF(VLOOKUP(M54,#REF!,2,FALSE)<=#REF!+1,\"OK\",\"X\")","v":{"$error":"#REF!"}},1,0,1,"OK","7","5Wednesday","Wednesday5","Wednesday5OK",null,5,"Wednesday",23242077,{"$f":"IFERROR(VLOOKUP(N54,#REF!,3,FALSE),\"_\")","v":"_"},{"$f":"IFERROR(VLOOKUP(N54,#REF!,7,FALSE),\"_\")","v":"_"},{"$f":"IFERROR(VLOOKUP(N54,#REF!,12,FALSE),\"_\")","v":"_"},{"$f":"IFERROR(VLOOKUP(N54,#REF!,3,FALSE),\"\")","v":""},{"$f":"IFERROR(VLOOKUP(N54,#REF!,2,FALSE),\"\")","v":""}]
[{"$error":"#REF!"},{"$f":"IF(VLOOKUP(M55,#REF!,2,FALSE)<=#REF!+1,\"OK\",\"X\")","v":{"$error":"#REF!"}},1,0,1,"OK","7","5Wednesday","Wednesday5","Wednesday5OK",null,5,"Wednesday",23242078,{"$f":"IFERROR(VLOOKUP(N55,#REF!,3,FALSE),\"_\")","v":"_"},{"$f":"IFERROR(VLOOKUP(N55,#REF!,7,FALSE),\"_\")","v":"_"},{"$f":"IFERROR(VLOOKUP(N55,#REF!,12,FALSE),\"_\")","v":"_"},{"$f":"IFERROR(VLOOKUP(N55,#REF!,3,FALSE),\"\")","v":""},{"$f":"IFERROR(VLOOKUP(N55,#REF!,2,FALSE),\"\")","v":""}]
[{"$error":"#REF!"},{"$f":"IF(VLOOKUP(M56,#REF!,2,FALSE)<=#REF!+1,\"OK\",\"X\")","v":{"$error":"#REF!"}},1,0,1,"OK","7","5Wednesday","Wednesday5","Wednesday5OK",null,5,"Wednesday",23242079,{"$f":"IFERROR(VLOOKUP(N56,#REF!,3,FALSE),\"_\")","v":"_"},{"$f":"IFERROR(VLOOKUP(N56,#REF!,7,FALSE),\"_\")","v":"_"},{"$f":"IFERROR(VLOOKUP(N56,#REF!,12,FALSE),\"_\")","v":"_"},{"$f":"IFERROR(VLOOKUP(N56,#REF!,3,FALSE),\"\")","v":""},{"$f":"IFERROR(VLOOKUP(N56,#REF!,2,FALSE),\"\")","v":""}]
[{"$error":"#REF!"},{"$f":"IF(VLOOKUP(M57,#REF!,2,FALSE)<=#REF!+1,\"OK\",\"X\")","v":{"$error":"#REF!"}},1,1,2,"OK","7","10Thursday_n-1","Thursday_n-110y","Thursday_n-110OK",null,10,"Thursday_n-1",23232047,{"$f":"IFERROR(VLOOKUP(N57,#REF!,3,FALSE),\"_\")","v":"_"},{"$f":"IFERROR(VLOOKUP(N57,#REF!,7,FALSE),\"_\")","v":"_"},{"$f":"IFERROR(VLOOKUP(N57,#REF!,12,FALSE),\"_\")","v":"_"},{"$f":"IFERROR(VLOOKUP(N57,#REF!,3,FALSE),\"\")","v":""},{"$f":"IFERROR(VLOOKUP(N57,#REF!,2,FALSE),\"\")","v":""},null,"y"]
[{"$error":"#REF!"},{"$f":"IF(VLOOKUP(M58,#REF!,2,FALSE)<=#REF!+1,\"OK\",\"X\")","v":{"$error":"#REF!"}},1,1,2,"OK","7","10Thursday_n-1","Thursday_n-110y","Thursday_n-110OK",null,10,"Thursday_n-1",23232048,{"$f":"IFERROR(VLOOKUP(N58,#REF!,3,FALSE),\"_\")","v":"_"},{"$f":"IFERROR(VLOOKUP(N58,#REF!,7,FALSE),\"_\")","v":"_"},{"$f":"IFERROR(VLOOKUP(N58,#REF!,12,FALSE),\"_\")","v":"_"},{"$f":"IFERROR(VLOOKUP(N58,#REF!,3,FALSE),\"\")","v":""},{"$f":"IFERROR(VLOOKUP(N58,#REF!,2,FALSE),\"\")","v":""},null,"y"]
[{"$error":"#REF!"},{"$f":"IF(VLOOKUP(M59,#REF!,2,FALSE)<=#REF!+1,\"OK\",\"X\")","v":{"$error":"#REF!"}},1,1,2,"OK","7Raione O.","10Friday_n-1","Friday_n-110y","Friday_n-110OK",null,10,"Friday_n-1",23212286,{"$f":"IFERROR(VLOOKUP(N59,#REF!,3,FALSE),\"_\")","v":"_"},{"$f":"IFERROR(VLOOKUP(N59,#REF!,7,FALSE),\"_\")","v":"_"},{"$f":"IFERROR(VLOOKUP(N59,#REF!,12,FALSE),\"_\")","v":"_"},{"$f":"IFERROR(VLOOKUP(N59,#REF!,3,FALSE),\"\")","v":""},{"$f":"IFERROR(VLOOKUP(N59,#REF!,2,FALSE),\"\")","v":""},"Raione O.","y"]
[{"$error":"#REF!"},{"$f":"IF(VLOOKUP(M60,#REF!,2,FALSE)<=#REF!+1,\"OK\",\"X\")","v":{"$error":"#REF!"}},1,0,1,"OK","7Wagner Ferreira","10Friday_n-1","Friday_n-110N","Friday_n-110OK",null,10,"Friday_n-1",23212232,{"$f":"IFERROR(VLOOKUP(N60,#REF!,3,FALSE),\"_\")","v":"_"},{"$f":"IFERROR(VLOOKUP(N60,#REF!,7,FALSE),\"_\")","v":"_"},{"$f":"IFERROR(VLOOKUP(N60,#REF!,12,FALSE),\"_\")","v":"_"},{"$f":"IFERROR(VLOOKUP(N60,#REF!,3,FALSE),\"\")","v":""},{"$f":"IFERROR(VLOOKUP(N60,#REF!,2,FALSE),\"\")","v":""},"Wagner Ferreira","N",null,"Y100LN04150116"]
[{"$error":"#REF!"},{"$f":"IF(VLOOKUP(M61,#REF!,2,FALSE)<=#REF!+1,\"OK\",\"X\")","v":{"$error":"#REF!"}},1,1,2,"OK","7Raione O.","10Friday_n-1","Friday_n-110Y","Friday_n-110OK",null,10,"Friday_n-1",23222140,{"$f":"IFERROR(VLOOKUP(N61,#REF!,3,FALSE),\"_\")","v":"_"},{"$f":"IFERROR(VLOOKUP(N61,#REF!,7,FALSE),\"_\")","v":"_"},{"$f":"IFERROR(VLOOKUP(N61,#REF!,12,FALSE),\"_\")","v":"_"},{"$f":"IFERROR(VLOOKUP(N61,#REF!,3,FALSE),\"\")","v":""},{"$f":"IFERROR(VLOOKUP(N61,#REF!,2,FALSE),\"\")","v":""},"Raione O.","Y"]
[{"$error":"#REF!"},{"$f":"IF(VLOOKUP(M62,#REF!,2,FALSE)<=#REF!+1,\"OK\",\"X\")","v":{"$error":"#REF!"}},1,0,1,"OK","7Wagner Ferreira","10Friday_n-1","Friday_n-110N","Friday_n-110OK",null,10,"Friday_n-1",23232045,{"$f":"IFERROR(VLOOKUP(N62,#REF!,3,FALSE),\"_\")","v":"_"},{"$f":"IFERROR(VLOOKUP(N62,#REF!,7,FALSE),\"_\")","v":"_"},{"$f":"IFERROR(VLOOKUP(N62,#REF!,12,FALSE),\"_\")","v":"_"},{"$f":"IFERROR(VLOOKUP(N62,#REF!,3,FALSE),\"\")","v":""},{"$f":"IFERROR(VLOOKUP(N62,#REF!,2,FALSE),\"\")","v":""},"Wagner Ferreira","N",null,"115HL13540096",null,null,"K83/K84"]
[{"$error":"#REF!"},{"$f":"IF(VLOOKUP(M63,#REF!,2,FALSE)<=#REF!+1,\"OK\",\"X\")","v":{"$error":"#REF!"}},1,0,1,"OK","7Wagner Ferreira","10Saturday_n-1","Saturday_n-110N","Saturday_n-110OK",null,10,"Saturday_n-1",23232046,{"$f":"IFERROR(VLOOKUP(N63,#REF!,3,FALSE),\"_\")","v":"_"},{"$f":"IFERROR(VLOOKUP(N63,#REF!,7,FALSE),\"_\")","v":"_"},{"$f":"IFERROR(VLOOKUP(N63,#REF!,12,FALSE),\"_\")","v":"_"},{"$f":"IFERROR(VLOOKUP(N63,#REF!,3,FALSE),\"\")","v":""},{"$f":"IFERROR(VLOOKUP(N63,#REF!,2,FALSE),\"\")","v":""},"Wagner Ferreira","N",null,"115HL13540096",null,null,"K83/K84"]
[{"$error":"#REF!"},{"$f":"IF(VLOOKUP(M64,#REF!,2,FALSE)<=#REF!+1,\"OK\",\"X\")","v":{"$error":"#REF!"}},1,1,2,"OK","7Raione O.","10Saturday_n-1","Saturday_n-110Y","Saturday_n-110OK",null,10,"Saturday_n-1",23242094,{"$f":"IFERROR(VLOOKUP(N64,#REF!,3,FALSE),\"_\")","v":"_"},{"$f":"IFERROR(VLOOKUP(N64,#REF!,7,FALSE),\"_\")","v":"_"},{"$f":"IFERROR(VLOOKUP(N64,#REF!,12,FALSE),\"_\")","v":"_"},{"$f":"IFERROR(VLOOKUP(N64,#REF!,3,FALSE),\"\")","v":""},{"$f":"IFERROR(VLOOKUP(N64,#REF!,2,FALSE),\"\")","v":""},"Raione O.","Y"]
[{"$error":"#REF!"},{"$f":"IF(VLOOKUP(M65,#REF!,2,FALSE)<=#REF!+1,\"OK\",\"X\")","v":{"$error":"#REF!"}},1,1,2,"OK","7Raione O.","10Saturday_n-1","Saturday_n-110Y","Saturday_n-110OK",null,10,"Saturday_n-1",23242095,{"$f":"IFERROR(VLOOKUP(N65,#REF!,3,FALSE),\"_\")","v":"_"},{"$f":"IFERROR(VLOOKUP(N65,#REF!,7,FALSE),\"_\")","v":"_"},{"$f":"IFERROR(VLOOKUP(N65,#REF!,12,FALSE),\"_\")","v":"_"},{"$f":"IFERROR(VLOOKUP(N65,#REF!,3,FALSE),\"\")","v":""},{"$f":"IFERROR(VLOOKUP(N65,#REF!,2,FALSE),\"\")","v":""},"Raione O.","Y"]
[{"$error":"#REF!"},{"$f":"IF(VLOOKUP(M66,#REF!,2,FALSE)<=#REF!+1,\"OK\",\"X\")","v":{"$error":"#REF!"}},1,1,2,"OK","7Raione O.","10Saturday_n-1","Saturday_n-110Y","Saturday_n-110OK",null,10,"Saturday_n-1",23242096,{"$f":"IFERROR(VLOOKUP(N66,#REF!,3,FALSE),\"_\")","v":"_"},{"$f":"IFERROR(VLOOKUP(N66,#REF!,7,FALSE),\"_\")","v":"_"},{"$f":"IFERROR(VLOOKUP(N66,#REF!,12,FALSE),\"_\")","v":"_"},{"$f":"IFERROR(VLOOKUP(N66,#REF!,3,FALSE),\"\")","v":""},{"$f":"IFERROR(VLOOKUP(N66,#REF!,2,FALSE),\"\")","v":""},"Raione O.","Y"]
[{"$error":"#REF!"},{"$f":"IF(VLOOKUP(M67,#REF!,2,FALSE)<=#REF!+1,\"OK\",\"X\")","v":{"$error":"#REF!"}},1,1,2,"OK","7Wagner Ferreira","10Sunday_n-1","Sunday_n-110Y","Sunday_n-110OK",null,10,"Sunday_n-1",23242097,{"$f":"IFERROR(VLOOKUP(N67,#REF!,3,FALSE),\"_\")","v":"_"},{"$f":"IFERROR(VLOOKUP(N67,#REF!,7,FALSE),\"_\")","v":"_"},{"$f":"IFERROR(VLOOKUP(N67,#REF!,12,FALSE),\"_\")","v":"_"},{"$f":"IFERROR(VLOOKUP(N67,#REF!,3,FALSE),\"\")","v":""},{"$f":"IFERROR(VLOOKUP(N67,#REF!,2,FALSE),\"\")","v":""},"Wagner Ferreira","Y"]
[{"$error":"#REF!"},{"$f":"IF(VLOOKUP(M68,#REF!,2,FALSE)<=#REF!+1,\"OK\",\"X\")","v":{"$error":"#REF!"}},1,1,2,"OK","7Wagner Ferreira","10Sunday_n-1","Sunday_n-110Y","Sunday_n-110OK",null,10,"Sunday_n-1",23242098,{"$f":"IFERROR(VLOOKUP(N68,#REF!,3,FALSE),\"_\")","v":"_"},{"$f":"IFERROR(VLOOKUP(N68,#REF!,7,FALSE),\"_\")","v":"_"},{"$f":"IFERROR(VLOOKUP(N68,#REF!,12,FALSE),\"_\")","v":"_"},{"$f":"IFERROR(VLOOKUP(N68,#REF!,3,FALSE),\"\")","v":""},{"$f":"IFERROR(VLOOKUP(N68,#REF!,2,FALSE),\"\")","v":""},"Wagner Ferreira","Y"]
[{"$f":"L69&LEFT(P69,3)&B69","v":{"$error":"#REF!"}},{"$f":"IF(VLOOKUP(M69,#REF!,2,FALSE)<=#REF!+1,\"OK\",\"X\")","v":{"$error":"#REF!"}},{"$f":"IF(P69=\"start dummy operation\",0,1)","v":1},{"$f":"IF(U69=\"Y\",1,0)","v":1},{"$f":"SUM(C69:D69)","v":2},{"$f":"IF(E69>0,\"OK\",\"X2\")","v":"OK"},{"$f":"WEEKDAY(V69)&T69","v":"7Wagner Ferreira"},{"$f":"L69&M69","v":"10Sunday_n-1"},{"$f":"M69&L69&U69","v":"Sunday_n-110Y"},{"$f":"M69&L69&F69","v":"Sunday_n-110OK"},null,10,"Sunday_n-1",23242103,{"$f":"IFERROR(VLOOKUP(N69,#REF!,3,FALSE),\"_\")","v":"_"},{"$f":"IFERROR(VLOOKUP(N69,#REF!,7,FALSE),\"_\")","v":"_"},{"$f":"IFERROR(VLOOKUP(N69,#REF!,12,FALSE),\"_\")","v":"_"},{"$f":"IFERROR(VLOOKUP(N69,#REF!,3,FALSE),\"\")","v":""},{"$f":"IFERROR(VLOOKUP(N69,#REF!,2,FALSE),\"\")","v":""},"Wagner Ferreira","Y"]
[{"$error":"#REF!"},{"$f":"IF(VLOOKUP(M70,#REF!,2,FALSE)<=#REF!+1,\"OK\",\"X\")","v":{"$error":"#REF!"}},1,0,1,"OK","7Wagner Ferreira","10Sunday_n-1","Sunday_n-110N","Sunday_n-110OK",null,10,"Sunday_n-1",23242100,{"$f":"IFERROR(VLOOKUP(N70,#REF!,3,FALSE),\"_\")","v":"_"},{"$f":"IFERROR(VLOOKUP(N70,#REF!,7,FALSE),\"_\")","v":"_"},{"$f":"IFERROR(VLOOKUP(N70,#REF!,12,FALSE),\"_\")","v":"_"},{"$f":"IFERROR(VLOOKUP(N70,#REF!,3,FALSE),\"\")","v":""},{"$f":"IFERROR(VLOOKUP(N70,#REF!,2,FALSE),\"\")","v":""},"Wagner Ferreira","N",null,"Y100LN03S115047"]
[{"$error":"#REF!"},{"$f":"IF(VLOOKUP(M71,#REF!,2,FALSE)<=#REF!+1,\"OK\",\"X\")","v":{"$error":"#REF!"}},1,0,1,"OK","7Wagner Ferreira","10Sunday_n-1","Sunday_n-110N","Sunday_n-110OK",null,10,"Sunday_n-1",23242101,{"$f":"IFERROR(VLOOKUP(N71,#REF!,3,FALSE),\"_\")","v":"_"},{"$f":"IFERROR(VLOOKUP(N71,#REF!,7,FALSE),\"_\")","v":"_"},{"$f":"IFERROR(VLOOKUP(N71,#REF!,12,FALSE),\"_\")","v":"_"},{"$f":"IFERROR(VLOOKUP(N71,#REF!,3,FALSE),\"\")","v":""},{"$f":"IFERROR(VLOOKUP(N71,#REF!,2,FALSE),\"\")","v":""},"Wagner Ferreira","N",null,"Y100LN03S115047"]
[{"$error":"#REF!"},{"$f":"IF(VLOOKUP(M72,#REF!,2,FALSE)<=#REF!+1,\"OK\",\"X\")","v":{"$error":"#REF!"}},1,0,1,"OK","7Wagner Ferreira","10Sunday_n-1","Sunday_n-110N","Sunday_n-110OK",null,10,"Sunday_n-1",23242099,{"$f":"IFERROR(VLOOKUP(N72,#REF!,3,FALSE),\"_\")","v":"_"},{"$f":"IFERROR(VLOOKUP(N72,#REF!,7,FALSE),\"_\")","v":"_"},{"$f":"IFERROR(VLOOKUP(N72,#REF!,12,FALSE),\"_\")","v":"_"},{"$f":"IFERROR(VLOOKUP(N72,#REF!,3,FALSE),\"\")","v":""},{"$f":"IFERROR(VLOOKUP(N72,#REF!,2,FALSE),\"\")","v":""},"Wagner Ferreira","N",null,"YH110MV5335054",null,null,"T40 SEGUNDA FEIRA"]
[{"$error":"#REF!"},{"$f":"IF(VLOOKUP(M73,#REF!,2,FALSE)<=#REF!+1,\"OK\",\"X\")","v":{"$error":"#REF!"}},1,0,1,"OK","7Wagner Ferreira","10Monday","Monday10N","Monday10OK",null,10,"Monday",23242105,{"$f":"IFERROR(VLOOKUP(N73,#REF!,3,FALSE),\"_\")","v":"_"},{"$f":"IFERROR(VLOOKUP(N73,#REF!,7,FALSE),\"_\")","v":"_"},{"$f":"IFERROR(VLOOKUP(N73,#REF!,12,FALSE),\"_\")","v":"_"},{"$f":"IFERROR(VLOOKUP(N73,#REF!,3,FALSE),\"\")","v":""},{"$f":"IFERROR(VLOOKUP(N73,#REF!,2,FALSE),\"\")","v":""},"Wagner Ferreira","N",null,"120HL16490096",null,null,"K65 SEGUNDA FEIRA"]
[{"$error":"#REF!"},{"$f":"IF(VLOOKUP(M74,#REF!,2,FALSE)<=#REF!+1,\"OK\",\"X\")","v":{"$error":"#REF!"}},1,1,2,"OK","7Paulo M.","10Monday","Monday10Y","Monday10OK",null,10,"Monday",23242106,{"$f":"IFERROR(VLOOKUP(N74,#REF!,3,FALSE),\"_\")","v":"_"},{"$f":"IFERROR(VLOOKUP(N74,#REF!,7,FALSE),\"_\")","v":"_"},{"$f":"IFERROR(VLOOKUP(N74,#REF!,12,FALSE),\"_\")","v":"_"},{"$f":"IFERROR(VLOOKUP(N74,#REF!,3,FALSE),\"\")","v":""},{"$f":"IFERROR(VLOOKUP(N74,#REF!,2,FALSE),\"\")","v":""},"Paulo M.","Y",null,null,null,null,"5068D120 PARA DIVIDIR"]
[{"$error":"#REF!"},{"$f":"IF(VLOOKUP(M75,#REF!,2,FALSE)<=#REF!+1,\"OK\",\"X\")","v":{"$error":"#REF!"}},1,1,2,"OK","7Wagner Ferreira","10Monday","Monday10Y","Monday10OK",null,10,"Monday",23242107,{"$f":"IFERROR(VLOOKUP(N75,#REF!,3,FALSE),\"_\")","v":"_"},{"$f":"IFERROR(VLOOKUP(N75,#REF!,7,FALSE),\"_\")","v":"_"},{"$f":"IFERROR(VLOOKUP(N75,#REF!,12,FALSE),\"_\")","v":"_"},{"$f":"IFERROR(VLOOKUP(N75,#REF!,3,FALSE),\"\")","v":""},{"$f":"IFERROR(VLOOKUP(N75,#REF!,2,FALSE),\"\")","v":""},"Wagner Ferreira","Y"]
[{"$error":"#REF!"},{"$f":"IF(VLOOKUP(M76,#REF!,2,FALSE)<=#REF!+1,\"OK\",\"X\")","v":{"$error":"#REF!"}},1,0,1,"OK","7Wagner Ferreira","10Monday","Monday10N","Monday10OK",null,10,"Monday",23242108,{"$f":"IFERROR(VLOOKUP(N76,#REF!,3,FALSE),\"_\")","v":"_"},{"$f":"IFERROR(VLOOKUP(N76,#REF!,7,FALSE),\"_\")","v":"_"},{"$f":"IFERROR(VLOOKUP(N76,#REF!,12,FALSE),\"_\")","v":"_"},{"$f":"IFERROR(VLOOKUP(N76,#REF!,3,FALSE),\"\")","v":""},{"$f":"IFERROR(VLOOKUP(N76,#REF!,2,FALSE),\"\")","v":""},"Wagner Ferreira","N",null,"120HL16490096",null,"4070D130","K65 SEGUNDA FEIRA -K205/K206"]
[{"$error":"#REF!"},{"$f":"IF(VLOOKUP(M77,#REF!,2,FALSE)<=#REF!+1,\"OK\",\"X\")","v":{"$error":"#REF!"}},1,1,2,"OK","7Wagner Ferreira","10Monday","Monday10Y","Monday10OK",null,10,"Monday",23242109,{"$f":"IFERROR(VLOOKUP(N77,#REF!,3,FALSE),\"_\")","v":"_"},{"$f":"IFERROR(VLOOKUP(N77,#REF!,7,FALSE),\"_\")","v":"_"},{"$f":"IFERROR(VLOOKUP(N77,#REF!,12,FALSE),\"_\")","v":"_"},{"$f":"IFERROR(VLOOKUP(N77,#REF!,3,FALSE),\"\")","v":""},{"$f":"IFERROR(VLOOKUP(N77,#REF!,2,FALSE),\"\")","v":""},"Wagner Ferreira","Y"]
[{"$error":"#REF!"},{"$f":"IF(VLOOKUP(M78,#REF!,2,FALSE)<=#REF!+1,\"OK\",\"X\")","v":{"$error":"#REF!"}},1,1,2,"OK","7Paulo M.","10Tuesday","Tuesday10Y","Tuesday10OK",null,10,"Tuesday",23242110,{"$f":"IFERROR(VLOOKUP(N78,#REF!,3,FALSE),\"_\")","v":"_"},{"$f":"IFERROR(VLOOKUP(N78,#REF!,7,FALSE),\"_\")","v":"_"},{"$f":"IFERROR(VLOOKUP(N78,#REF!,12,FALSE),\"_\")","v":"_"},{"$f":"IFERROR(VLOOKUP(N78,#REF!,3,FALSE),\"\")","v":""},{"$f":"IFERROR(VLOOKUP(N78,#REF!,2,FALSE),\"\")","v":""},"Paulo M.","Y",null,"115HL13610096",null,null,"K48/K49/K50/K51/52-SABADO"]
[{"$error":"#REF!"},{"$f":"IF(VLOOKUP(M79,#REF!,2,FALSE)<=#REF!+1,\"OK\",\"X\")","v":{"$error":"#REF!"}},1,1,2,"OK","7Paulo M.","10Tuesday","Tuesday10Y","Tuesday10OK",null,10,"Tuesday",23242111,{"$f":"IFERROR(VLOOKUP(N79,#REF!,3,FALSE),\"_\")","v":"_"},{"$f":"IFERROR(VLOOKUP(N79,#REF!,7,FALSE),\"_\")","v":"_"},{"$f":"IFERROR(VLOOKUP(N79,#REF!,12,FALSE),\"_\")","v":"_"},{"$f":"IFERROR(VLOOKUP(N79,#REF!,3,FALSE),\"\")","v":""},{"$f":"IFERROR(VLOOKUP(N79,#REF!,2,FALSE),\"\")","v":""},"Paulo M.","Y",null,"115HL13610096"]
[{"$error":"#REF!"},{"$f":"IF(VLOOKUP(M80,#REF!,2,FALSE)<=#REF!+1,\"OK\",\"X\")","v":{"$error":"#REF!"}},1,1,2,"OK","7Paulo M.","10Tuesday","Tuesday10Y","Tuesday10OK",null,10,"Tuesday",23242112,{"$f":"IFERROR(VLOOKUP(N80,#REF!,3,FALSE),\"_\")","v":"_"},{"$f":"IFERROR(VLOOKUP(N80,#REF!,7,FALSE),\"_\")","v":"_"},{"$f":"IFERROR(VLOOKUP(N80,#REF!,12,FALSE),\"_\")","v":"_"},{"$f":"IFERROR(VLOOKUP(N80,#REF!,3,FALSE),\"\")","v":""},{"$f":"IFERROR(VLOOKUP(N80,#REF!,2,FALSE),\"\")","v":""},"Paulo M.","Y",null,"115HL13610096"]
[{"$error":"#REF!"},{"$f":"IF(VLOOKUP(M81,#REF!,2,FALSE)<=#REF!+1,\"OK\",\"X\")","v":{"$error":"#REF!"}},1,1,2,"OK","7Francisco A.","10Wednesday","Wednesday10Y","Wednesday10OK",null,10,"Wednesday",23242113,{"$f":"IFERROR(VLOOKUP(N81,#REF!,3,FALSE),\"_\")","v":"_"},{"$f":"IFERROR(VLOOKUP(N81,#REF!,7,FALSE),\"_\")","v":"_"},{"$f":"IFERROR(VLOOKUP(N81,#REF!,12,FALSE),\"_\")","v":"_"},{"$f":"IFERROR(VLOOKUP(N81,#REF!,3,FALSE),\"\")","v":""},{"$f":"IFERROR(VLOOKUP(N81,#REF!,2,FALSE),\"\")","v":""},"Francisco A.","Y"]
[{"$error":"#REF!"},{"$f":"IF(VLOOKUP(M82,#REF!,2,FALSE)<=#REF!+1,\"OK\",\"X\")","v":{"$error":"#REF!"}},1,0,1,"OK","7Wagner Ferreira","10Wednesday","Wednesday10N","Wednesday10OK",null,10,"Wednesday",23242114,{"$f":"IFERROR(VLOOKUP(N82,#REF!,3,FALSE),\"_\")","v":"_"},{"$f":"IFERROR(VLOOKUP(N82,#REF!,7,FALSE),\"_\")","v":"_"},{"$f":"IFERROR(VLOOKUP(N82,#REF!,12,FALSE),\"_\")","v":"_"},{"$f":"IFERROR(VLOOKUP(N82,#REF!,3,FALSE),\"\")","v":""},{"$f":"IFERROR(VLOOKUP(N82,#REF!,2,FALSE),\"\")","v":""},"Wagner Ferreira","N",null,"115HL13610096"]
[{"$error":"#REF!"},{"$f":"IF(VLOOKUP(M83,#REF!,2,FALSE)<=#REF!+1,\"OK\",\"X\")","v":{"$error":"#REF!"}},1,0,1,"OK","7Wagner Ferreira","10Wednesday","Wednesday10N","Wednesday10OK",null,10,"Wednesday",23242115,{"$f":"IFERROR(VLOOKUP(N83,#REF!,3,FALSE),\"_\")","v":"_"},{"$f":"IFERROR(VLOOKUP(N83,#REF!,7,FALSE),\"_\")","v":"_"},{"$f":"IFERROR(VLOOKUP(N83,#REF!,12,FALSE),\"_\")","v":"_"},{"$f":"IFERROR(VLOOKUP(N83,#REF!,3,FALSE),\"\")","v":""},{"$f":"IFERROR(VLOOKUP(N83,#REF!,2,FALSE),\"\")","v":""},"Wagner Ferreira","N",null,"115HL13610096"]
[{"$error":"#REF!"},{"$f":"IF(VLOOKUP(M84,#REF!,2,FALSE)<=#REF!+1,\"OK\",\"X\")","v":{"$error":"#REF!"}},1,0,1,"OK","7Wagner Ferreira","10Thursday","Thursday10N","Thursday10OK",null,10,"Thursday",23242116,{"$f":"IFERROR(VLOOKUP(N84,#REF!,3,FALSE),\"_\")","v":"_"},{"$f":"IFERROR(VLOOKUP(N84,#REF!,7,FALSE),\"_\")","v":"_"},{"$f":"IFERROR(VLOOKUP(N84,#REF!,12,FALSE),\"_\")","v":"_"},{"$f":"IFERROR(VLOOKUP(N84,#REF!,3,FALSE),\"\")","v":""},{"$f":"IFERROR(VLOOKUP(N84,#REF!,2,FALSE),\"\")","v":""},"Wagner Ferreira","N",null,"115HL13610096"]
[{"$error":"#REF!"},{"$f":"IF(VLOOKUP(M85,#REF!,2,FALSE)<=#REF!+1,\"OK\",\"X\")","v":{"$error":"#REF!"}},1,0,1,"OK","7Wagner Ferreira","10Thursday","Thursday10N","Thursday10OK",null,10,"Thursday",23242117,{"$f":"IFERROR(VLOOKUP(N85,#REF!,3,FALSE),\"_\")","v":"_"},{"$f":"IFERROR(VLOOKUP(N85,#REF!,7,FALSE),\"_\")","v":"_"},{"$f":"IFERROR(VLOOKUP(N85,#REF!,12,FALSE),\"_\")","v":"_"},{"$f":"IFERROR(VLOOKUP(N85,#REF!,3,FALSE),\"\")","v":""},{"$f":"IFERROR(VLOOKUP(N85,#REF!,2,FALSE),\"\")","v":""},"Wagner Ferreira","N",null,"115HL13610096"]
[{"$error":"#REF!"},{"$f":"IF(VLOOKUP(M86,#REF!,2,FALSE)<=#REF!+1,\"OK\",\"X\")","v":{"$error":"#REF!"}},1,0,1,"OK","7","10Thursday","Thursday10","Thursday10OK",null,10,"Thursday",23242118,{"$f":"IFERROR(VLOOKUP(N86,#REF!,3,FALSE),\"_\")","v":"_"},{"$f":"IFERROR(VLOOKUP(N86,#REF!,7,FALSE),\"_\")","v":"_"},{"$f":"IFERROR(VLOOKUP(N86,#REF!,12,FALSE),\"_\")","v":"_"},{"$f":"IFERROR(VLOOKUP(N86,#REF!,3,FALSE),\"\")","v":""},{"$f":"IFERROR(VLOOKUP(N86,#REF!,2,FALSE),\"\")","v":""}]
[{"$error":"#REF!"},{"$f":"IF(VLOOKUP(M87,#REF!,2,FALSE)<=#REF!+1,\"OK\",\"X\")","v":{"$error":"#REF!"}},1,0,1,"OK","7Raione O.","11Thursday_n-1","Thursday_n-111N","Thursday_n-111OK",null,11,"Thursday_n-1",23232035,{"$f":"IFERROR(VLOOKUP(N87,#REF!,3,FALSE),\"_\")","v":"_"},{"$f":"IFERROR(VLOOKUP(N87,#REF!,7,FALSE),\"_\")","v":"_"},{"$f":"IFERROR(VLOOKUP(N87,#REF!,12,FALSE),\"_\")","v":"_"},{"$f":"IFERROR(VLOOKUP(N87,#REF!,3,FALSE),\"\")","v":""},{"$f":"IFERROR(VLOOKUP(N87,#REF!,2,FALSE),\"\")","v":""},"Raione O.","N",null,"Y100LM03054054",null,null,"K81"]
[{"$error":"#REF!"},{"$f":"IF(VLOOKUP(M88,#REF!,2,FALSE)<=#REF!+1,\"OK\",\"X\")","v":{"$error":"#REF!"}},1,1,2,"OK","7","11Thursday_n-1","Thursday_n-111y","Thursday_n-111OK",null,11,"Thursday_n-1",23232031,{"$f":"IFERROR(VLOOKUP(N88,#REF!,3,FALSE),\"_\")","v":"_"},{"$f":"IFERROR(VLOOKUP(N88,#REF!,7,FALSE),\"_\")","v":"_"},{"$f":"IFERROR(VLOOKUP(N88,#REF!,12,FALSE),\"_\")","v":"_"},{"$f":"IFERROR(VLOOKUP(N88,#REF!,3,FALSE),\"\")","v":""},{"$f":"IFERROR(VLOOKUP(N88,#REF!,2,FALSE),\"\")","v":""},null,"y"]
[{"$error":"#REF!"},{"$f":"IF(VLOOKUP(M89,#REF!,2,FALSE)<=#REF!+1,\"OK\",\"X\")","v":{"$error":"#REF!"}},1,0,1,"OK","7Paulo M.","11Thursday_n-1","Thursday_n-111N","Thursday_n-111OK",null,11,"Thursday_n-1",23232056,{"$f":"IFERROR(VLOOKUP(N89,#REF!,3,FALSE),\"_\")","v":"_"},{"$f":"IFERROR(VLOOKUP(N89,#REF!,7,FALSE),\"_\")","v":"_"},{"$f":"IFERROR(VLOOKUP(N89,#REF!,12,FALSE),\"_\")","v":"_"},{"$f":"IFERROR(VLOOKUP(N89,#REF!,3,FALSE),\"\")","v":""},{"$f":"IFERROR(VLOOKUP(N89,#REF!,2,FALSE),\"\")","v":""},"Paulo M.","N",null,"Y100LN04137078",null,null,"T42/T43"]
[{"$error":"#REF!"},{"$f":"IF(VLOOKUP(M90,#REF!,2,FALSE)<=#REF!+1,\"OK\",\"X\")","v":{"$error":"#REF!"}},1,0,1,"OK","7Paulo M.","11Thursday_n-1","Thursday_n-111N","Thursday_n-111OK",null,11,"Thursday_n-1",23232062,{"$f":"IFERROR(VLOOKUP(N90,#REF!,3,FALSE),\"_\")","v":"_"},{"$f":"IFERROR(VLOOKUP(N90,#REF!,7,FALSE),\"_\")","v":"_"},{"$f":"IFERROR(VLOOKUP(N90,#REF!,12,FALSE),\"_\")","v":"_"},{"$f":"IFERROR(VLOOKUP(N90,#REF!,3,FALSE),\"\")","v":""},{"$f":"IFERROR(VLOOKUP(N90,#REF!,2,FALSE),\"\")","v":""},"Paulo M.","N",null,null,null,"5055S096","aguarda dev/K220"]
[{"$error":"#REF!"},{"$f":"IF(VLOOKUP(M91,#REF!,2,FALSE)<=#REF!+1,\"OK\",\"X\")","v":{"$error":"#REF!"}},1,0,1,"OK","7Paulo M.","11Thursday_n-1","Thursday_n-111N","Thursday_n-111OK",null,11,"Thursday_n-1",23242119,{"$f":"IFERROR(VLOOKUP(N91,#REF!,3,FALSE),\"_\")","v":"_"},{"$f":"IFERROR(VLOOKUP(N91,#REF!,7,FALSE),\"_\")","v":"_"},{"$f":"IFERROR(VLOOKUP(N91,#REF!,12,FALSE),\"_\")","v":"_"},{"$f":"IFERROR(VLOOKUP(N91,#REF!,3,FALSE),\"\")","v":""},{"$f":"IFERROR(VLOOKUP(N91,#REF!,2,FALSE),\"\")","v":""},"Paulo M.","N",null,"115HL13680068",null,null,"ok"]
[{"$error":"#REF!"},{"$f":"IF(VLOOKUP(M92,#REF!,2,FALSE)<=#REF!+1,\"OK\",\"X\")","v":{"$error":"#REF!"}},1,0,1,"OK","7Paulo M.","11Friday_n-1","Friday_n-111N","Friday_n-111OK",null,11,"Friday_n-1",23242262,{"$f":"IFERROR(VLOOKUP(N92,#REF!,3,FALSE),\"_\")","v":"_"},{"$f":"IFERROR(VLOOKUP(N92,#REF!,7,FALSE),\"_\")","v":"_"},{"$f":"IFERROR(VLOOKUP(N92,#REF!,12,FALSE),\"_\")","v":"_"},{"$f":"IFERROR(VLOOKUP(N92,#REF!,3,FALSE),\"\")","v":""},{"$f":"IFERROR(VLOOKUP(N92,#REF!,2,FALSE),\"\")","v":""},"Paulo M.","N",null,null,null,"9060D087","K221"]
[{"$error":"#REF!"},{"$f":"IF(VLOOKUP(M93,#REF!,2,FALSE)<=#REF!+1,\"OK\",\"X\")","v":{"$error":"#REF!"}},1,1,2,"OK","7Paulo M.","11Friday_n-1","Friday_n-111Y","Friday_n-111OK",null,11,"Friday_n-1",23242122,{"$f":"IFERROR(VLOOKUP(N93,#REF!,3,FALSE),\"_\")","v":"_"},{"$f":"IFERROR(VLOOKUP(N93,#REF!,7,FALSE),\"_\")","v":"_"},{"$f":"IFERROR(VLOOKUP(N93,#REF!,12,FALSE),\"_\")","v":"_"},{"$f":"IFERROR(VLOOKUP(N93,#REF!,3,FALSE),\"\")","v":""},{"$f":"IFERROR(VLOOKUP(N93,#REF!,2,FALSE),\"\")","v":""},"Paulo M.","Y"]
[{"$error":"#REF!"},{"$f":"IF(VLOOKUP(M94,#REF!,2,FALSE)<=#REF!+1,\"OK\",\"X\")","v":{"$error":"#REF!"}},1,1,2,"OK","7Paulo M.","11Friday_n-1","Friday_n-111Y","Friday_n-111OK",null,11,"Friday_n-1",23242123,{"$f":"IFERROR(VLOOKUP(N94,#REF!,3,FALSE),\"_\")","v":"_"},{"$f":"IFERROR(VLOOKUP(N94,#REF!,7,FALSE),\"_\")","v":"_"},{"$f":"IFERROR(VLOOKUP(N94,#REF!,12,FALSE),\"_\")","v":"_"},{"$f":"IFERROR(VLOOKUP(N94,#REF!,3,FALSE),\"\")","v":""},{"$f":"IFERROR(VLOOKUP(N94,#REF!,2,FALSE),\"\")","v":""},"Paulo M.","Y"]
[{"$error":"#REF!"},{"$f":"IF(VLOOKUP(M95,#REF!,2,FALSE)<=#REF!+1,\"OK\",\"X\")","v":{"$error":"#REF!"}},1,1,2,"OK","7Paulo M.","11Friday_n-1","Friday_n-111Y","Friday_n-111OK",null,11,"Friday_n-1",23242125,{"$f":"IFERROR(VLOOKUP(N95,#REF!,3,FALSE),\"_\")","v":"_"},{"$f":"IFERROR(VLOOKUP(N95,#REF!,7,FALSE),\"_\")","v":"_"},{"$f":"IFERROR(VLOOKUP(N95,#REF!,12,FALSE),\"_\")","v":"_"},{"$f":"IFERROR(VLOOKUP(N95,#REF!,3,FALSE),\"\")","v":""},{"$f":"IFERROR(VLOOKUP(N95,#REF!,2,FALSE),\"\")","v":""},"Paulo M.","Y"]
[{"$error":"#REF!"},{"$f":"IF(VLOOKUP(M96,#REF!,2,FALSE)<=#REF!+1,\"OK\",\"X\")","v":{"$error":"#REF!"}},1,1,2,"OK","7Paulo M.","11Friday_n-1","Friday_n-111Y","Friday_n-111OK",null,11,"Friday_n-1",23242126,{"$f":"IFERROR(VLOOKUP(N96,#REF!,3,FALSE),\"_\")","v":"_"},{"$f":"IFERROR(VLOOKUP(N96,#REF!,7,FALSE),\"_\")","v":"_"},{"$f":"IFERROR(VLOOKUP(N96,#REF!,12,FALSE),\"_\")","v":"_"},{"$f":"IFERROR(VLOOKUP(N96,#REF!,3,FALSE),\"\")","v":""},{"$f":"IFERROR(VLOOKUP(N96,#REF!,2,FALSE),\"\")","v":""},"Paulo M.","Y"]
[{"$error":"#REF!"},{"$f":"IF(VLOOKUP(M97,#REF!,2,FALSE)<=#REF!+1,\"OK\",\"X\")","v":{"$error":"#REF!"}},1,1,2,"OK","7Paulo M.","11Friday_n-1","Friday_n-111Y","Friday_n-111OK",null,11,"Friday_n-1",23242127,{"$f":"IFERROR(VLOOKUP(N97,#REF!,3,FALSE),\"_\")","v":"_"},{"$f":"IFERROR(VLOOKUP(N97,#REF!,7,FALSE),\"_\")","v":"_"},{"$f":"IFERROR(VLOOKUP(N97,#REF!,12,FALSE),\"_\")","v":"_"},{"$f":"IFERROR(VLOOKUP(N97,#REF!,3,FALSE),\"\")","v":""},{"$f":"IFERROR(VLOOKUP(N97,#REF!,2,FALSE),\"\")","v":""},"Paulo M.","Y"]
[{"$error":"#REF!"},{"$f":"IF(VLOOKUP(M98,#REF!,2,FALSE)<=#REF!+1,\"OK\",\"X\")","v":{"$error":"#REF!"}},1,0,1,"OK","7Paulo M.","11Friday_n-1","Friday_n-111N","Friday_n-111OK",null,11,"Friday_n-1",23242128,{"$f":"IFERROR(VLOOKUP(N98,#REF!,3,FALSE),\"_\")","v":"_"},{"$f":"IFERROR(VLOOKUP(N98,#REF!,7,FALSE),\"_\")","v":"_"},{"$f":"IFERROR(VLOOKUP(N98,#REF!,12,FALSE),\"_\")","v":"_"},{"$f":"IFERROR(VLOOKUP(N98,#REF!,3,FALSE),\"\")","v":""},{"$f":"IFERROR(VLOOKUP(N98,#REF!,2,FALSE),\"\")","v":""},"Paulo M.","N",null,"Y110LN02087078"]
[{"$error":"#REF!"},{"$f":"IF(VLOOKUP(M99,#REF!,2,FALSE)<=#REF!+1,\"OK\",\"X\")","v":{"$error":"#REF!"}},1,1,2,"OK","7Paulo M.","11Friday_n-1","Friday_n-111Y","Friday_n-111OK",null,11,"Friday_n-1",23242129,{"$f":"IFERROR(VLOOKUP(N99,#REF!,3,FALSE),\"_\")","v":"_"},{"$f":"IFERROR(VLOOKUP(N99,#REF!,7,FALSE),\"_\")","v":"_"},{"$f":"IFERROR(VLOOKUP(N99,#REF!,12,FALSE),\"_\")","v":"_"},{"$f":"IFERROR(VLOOKUP(N99,#REF!,3,FALSE),\"\")","v":""},{"$f":"IFERROR(VLOOKUP(N99,#REF!,2,FALSE),\"\")","v":""},"Paulo M.","Y"]
[{"$error":"#REF!"},{"$f":"IF(VLOOKUP(M100,#REF!,2,FALSE)<=#REF!+1,\"OK\",\"X\")","v":{"$error":"#REF!"}},1,1,2,"OK","7Paulo M.","11Friday_n-1","Friday_n-111Y","Friday_n-111OK",null,11,"Friday_n-1",23242130,{"$f":"IFERROR(VLOOKUP(N100,#REF!,3,FALSE),\"_\")","v":"_"},{"$f":"IFERROR(VLOOKUP(N100,#REF!,7,FALSE),\"_\")","v":"_"},{"$f":"IFERROR(VLOOKUP(N100,#REF!,12,FALSE),\"_\")","v":"_"},{"$f":"IFERROR(VLOOKUP(N100,#REF!,3,FALSE),\"\")","v":""},{"$f":"IFERROR(VLOOKUP(N100,#REF!,2,FALSE),\"\")","v":""},"Paulo M.","Y"]
[{"$error":"#REF!"},{"$f":"IF(VLOOKUP(M101,#REF!,2,FALSE)<=#REF!+1,\"OK\",\"X\")","v":{"$error":"#REF!"}},1,1,2,"OK","7Wagner Ferreira","11Friday_n-1","Friday_n-111Y","Friday_n-111OK",null,11,"Friday_n-1",23242257,{"$f":"IFERROR(VLOOKUP(N101,#REF!,3,FALSE),\"_\")","v":"_"},{"$f":"IFERROR(VLOOKUP(N101,#REF!,7,FALSE),\"_\")","v":"_"},{"$f":"IFERROR(VLOOKUP(N101,#REF!,12,FALSE),\"_\")","v":"_"},{"$f":"IFERROR(VLOOKUP(N101,#REF!,3,FALSE),\"\")","v":""},{"$f":"IFERROR(VLOOKUP(N101,#REF!,2,FALSE),\"\")","v":""},"Wagner Ferreira","Y"]
[{"$error":"#REF!"},{"$f":"IF(VLOOKUP(M102,#REF!,2,FALSE)<=#REF!+1,\"OK\",\"X\")","v":{"$error":"#REF!"}},1,0,1,"OK","7Paulo M.","11Saturday_n-1","Saturday_n-111N","Saturday_n-111OK",null,11,"Saturday_n-1",23242131,{"$f":"IFERROR(VLOOKUP(N102,#REF!,3,FALSE),\"_\")","v":"_"},{"$f":"IFERROR(VLOOKUP(N102,#REF!,7,FALSE),\"_\")","v":"_"},{"$f":"IFERROR(VLOOKUP(N102,#REF!,12,FALSE),\"_\")","v":"_"},{"$f":"IFERROR(VLOOKUP(N102,#REF!,3,FALSE),\"\")","v":""},{"$f":"IFERROR(VLOOKUP(N102,#REF!,2,FALSE),\"\")","v":""},"Paulo M.","N",null,"YH100MV4300068"]
[{"$error":"#REF!"},{"$f":"IF(VLOOKUP(M103,#REF!,2,FALSE)<=#REF!+1,\"OK\",\"X\")","v":{"$error":"#REF!"}},1,0,1,"OK","7","11Saturday_n-1","Saturday_n-111","Saturday_n-111OK",null,11,"Saturday_n-1",23242132,{"$f":"IFERROR(VLOOKUP(N103,#REF!,3,FALSE),\"_\")","v":"_"},{"$f":"IFERROR(VLOOKUP(N103,#REF!,7,FALSE),\"_\")","v":"_"},{"$f":"IFERROR(VLOOKUP(N103,#REF!,12,FALSE),\"_\")","v":"_"},{"$f":"IFERROR(VLOOKUP(N103,#REF!,3,FALSE),\"\")","v":""},{"$f":"IFERROR(VLOOKUP(N103,#REF!,2,FALSE),\"\")","v":""}]
[{"$error":"#REF!"},{"$f":"IF(VLOOKUP(M104,#REF!,2,FALSE)<=#REF!+1,\"OK\",\"X\")","v":{"$error":"#REF!"}},1,0,1,"OK","7","11Saturday_n-1","Saturday_n-111","Saturday_n-111OK",null,11,"Saturday_n-1",23242133,{"$f":"IFERROR(VLOOKUP(N104,#REF!,3,FALSE),\"_\")","v":"_"},{"$f":"IFERROR(VLOOKUP(N104,#REF!,7,FALSE),\"_\")","v":"_"},{"$f":"IFERROR(VLOOKUP(N104,#REF!,12,FALSE),\"_\")","v":"_"},{"$f":"IFERROR(VLOOKUP(N104,#REF!,3,FALSE),\"\")","v":""},{"$f":"IFERROR(VLOOKUP(N104,#REF!,2,FALSE),\"\")","v":""}]
[{"$error":"#REF!"},{"$f":"IF(VLOOKUP(M105,#REF!,2,FALSE)<=#REF!+1,\"OK\",\"X\")","v":{"$error":"#REF!"}},1,0,1,"OK","7","11Sunday_n-1","Sunday_n-111","Sunday_n-111OK",null,11,"Sunday_n-1",23242134,{"$f":"IFERROR(VLOOKUP(N105,#REF!,3,FALSE),\"_\")","v":"_"},{"$f":"IFERROR(VLOOKUP(N105,#REF!,7,FALSE),\"_\")","v":"_"},{"$f":"IFERROR(VLOOKUP(N105,#REF!,12,FALSE),\"_\")","v":"_"},{"$f":"IFERROR(VLOOKUP(N105,#REF!,3,FALSE),\"\")","v":""},{"$f":"IFERROR(VLOOKUP(N105,#REF!,2,FALSE),\"\")","v":""}]
[{"$error":"#REF!"},{"$f":"IF(VLOOKUP(M106,#REF!,2,FALSE)<=#REF!+1,\"OK\",\"X\")","v":{"$error":"#REF!"}},1,0,1,"OK","7","11Sunday_n-1","Sunday_n-111","Sunday_n-111OK",null,11,"Sunday_n-1",23242135,{"$f":"IFERROR(VLOOKUP(N106,#REF!,3,FALSE),\"_\")","v":"_"},{"$f":"IFERROR(VLOOKUP(N106,#REF!,7,FALSE),\"_\")","v":"_"},{"$f":"IFERROR(VLOOKUP(N106,#REF!,12,FALSE),\"_\")","v":"_"},{"$f":"IFERROR(VLOOKUP(N106,#REF!,3,FALSE),\"\")","v":""},{"$f":"IFERROR(VLOOKUP(N106,#REF!,2,FALSE),\"\")","v":""}]
[{"$error":"#REF!"},{"$f":"IF(VLOOKUP(M107,#REF!,2,FALSE)<=#REF!+1,\"OK\",\"X\")","v":{"$error":"#REF!"}},1,0,1,"OK","7","11Sunday_n-1","Sunday_n-111","Sunday_n-111OK",null,11,"Sunday_n-1",23242136,{"$f":"IFERROR(VLOOKUP(N107,#REF!,3,FALSE),\"_\")","v":"_"},{"$f":"IFERROR(VLOOKUP(N107,#REF!,7,FALSE),\"_\")","v":"_"},{"$f":"IFERROR(VLOOKUP(N107,#REF!,12,FALSE),\"_\")","v":"_"},{"$f":"IFERROR(VLOOKUP(N107,#REF!,3,FALSE),\"\")","v":""},{"$f":"IFERROR(VLOOKUP(N107,#REF!,2,FALSE),\"\")","v":""}]
[{"$error":"#REF!"},{"$f":"IF(VLOOKUP(M108,#REF!,2,FALSE)<=#REF!+1,\"OK\",\"X\")","v":{"$error":"#REF!"}},1,0,1,"OK","7","11Monday","Monday11","Monday11OK",null,11,"Monday",23242137,{"$f":"IFERROR(VLOOKUP(N108,#REF!,3,FALSE),\"_\")","v":"_"},{"$f":"IFERROR(VLOOKUP(N108,#REF!,7,FALSE),\"_\")","v":"_"},{"$f":"IFERROR(VLOOKUP(N108,#REF!,12,FALSE),\"_\")","v":"_"},{"$f":"IFERROR(VLOOKUP(N108,#REF!,3,FALSE),\"\")","v":""},{"$f":"IFERROR(VLOOKUP(N108,#REF!,2,FALSE),\"\")","v":""}]
[{"$error":"#REF!"},{"$f":"IF(VLOOKUP(M109,#REF!,2,FALSE)<=#REF!+1,\"OK\",\"X\")","v":{"$error":"#REF!"}},1,0,1,"OK","7","11Monday","Monday11","Monday11OK",null,11,"Monday",23242138,{"$f":"IFERROR(VLOOKUP(N109,#REF!,3,FALSE),\"_\")","v":"_"},{"$f":"IFERROR(VLOOKUP(N109,#REF!,7,FALSE),\"_\")","v":"_"},{"$f":"IFERROR(VLOOKUP(N109,#REF!,12,FALSE),\"_\")","v":"_"},{"$f":"IFERROR(VLOOKUP(N109,#REF!,3,FALSE),\"\")","v":""},{"$f":"IFERROR(VLOOKUP(N109,#REF!,2,FALSE),\"\")","v":""}]
[{"$error":"#REF!"},{"$f":"IF(VLOOKUP(M110,#REF!,2,FALSE)<=#REF!+1,\"OK\",\"X\")","v":{"$error":"#REF!"}},1,0,1,"OK","7","11Monday","Monday11","Monday11OK",null,11,"Monday",23242139,{"$f":"IFERROR(VLOOKUP(N110,#REF!,3,FALSE),\"_\")","v":"_"},{"$f":"IFERROR(VLOOKUP(N110,#REF!,7,FALSE),\"_\")","v":"_"},{"$f":"IFERROR(VLOOKUP(N110,#REF!,12,FALSE),\"_\")","v":"_"},{"$f":"IFERROR(VLOOKUP(N110,#REF!,3,FALSE),\"\")","v":""},{"$f":"IFERROR(VLOOKUP(N110,#REF!,2,FALSE),\"\")","v":""}]
[{"$error":"#REF!"},{"$f":"IF(VLOOKUP(M111,#REF!,2,FALSE)<=#REF!+1,\"OK\",\"X\")","v":{"$error":"#REF!"}},1,1,2,"OK","7","14Thursday_n-1","Thursday_n-114y","Thursday_n-114OK",null,14,"Thursday_n-1",23232072,{"$f":"IFERROR(VLOOKUP(N111,#REF!,3,FALSE),\"_\")","v":"_"},{"$f":"IFERROR(VLOOKUP(N111,#REF!,7,FALSE),\"_\")","v":"_"},{"$f":"IFERROR(VLOOKUP(N111,#REF!,12,FALSE),\"_\")","v":"_"},{"$f":"IFERROR(VLOOKUP(N111,#REF!,3,FALSE),\"\")","v":""},{"$f":"IFERROR(VLOOKUP(N111,#REF!,2,FALSE),\"\")","v":""},null,"y"]
[{"$error":"#REF!"},{"$f":"IF(VLOOKUP(M112,#REF!,2,FALSE)<=#REF!+1,\"OK\",\"X\")","v":{"$error":"#REF!"}},1,1,2,"OK","7Paulo M.","14Thursday_n-1","Thursday_n-114Y","Thursday_n-114OK",null,14,"Thursday_n-1",23222158,{"$f":"IFERROR(VLOOKUP(N112,#REF!,3,FALSE),\"_\")","v":"_"},{"$f":"IFERROR(VLOOKUP(N112,#REF!,7,FALSE),\"_\")","v":"_"},{"$f":"IFERROR(VLOOKUP(N112,#REF!,12,FALSE),\"_\")","v":"_"},{"$f":"IFERROR(VLOOKUP(N112,#REF!,3,FALSE),\"\")","v":""},{"$f":"IFERROR(VLOOKUP(N112,#REF!,2,FALSE),\"\")","v":""},"Paulo M.","Y"]
[{"$error":"#REF!"},{"$f":"IF(VLOOKUP(M113,#REF!,2,FALSE)<=#REF!+1,\"OK\",\"X\")","v":{"$error":"#REF!"}},1,1,2,"OK","7Paulo M.","14Thursday_n-1","Thursday_n-114Y","Thursday_n-114OK",null,14,"Thursday_n-1",23222159,{"$f":"IFERROR(VLOOKUP(N113,#REF!,3,FALSE),\"_\")","v":"_"},{"$f":"IFERROR(VLOOKUP(N113,#REF!,7,FALSE),\"_\")","v":"_"},{"$f":"IFERROR(VLOOKUP(N113,#REF!,12,FALSE),\"_\")","v":"_"},{"$f":"IFERROR(VLOOKUP(N113,#REF!,3,FALSE),\"\")","v":""},{"$f":"IFERROR(VLOOKUP(N113,#REF!,2,FALSE),\"\")","v":""},"Paulo M.","Y"]
[{"$error":"#REF!"},{"$f":"IF(VLOOKUP(M114,#REF!,2,FALSE)<=#REF!+1,\"OK\",\"X\")","v":{"$error":"#REF!"}},1,1,2,"OK","7Paulo M.","14Friday_n-1","Friday_n-114Y","Friday_n-114OK",null,14,"Friday_n-1",23222160,{"$f":"IFERROR(VLOOKUP(N114,#REF!,3,FALSE),\"_\")","v":"_"},{"$f":"IFERROR(VLOOKUP(N114,#REF!,7,FALSE),\"_\")","v":"_"},{"$f":"IFERROR(VLOOKUP(N114,#REF!,12,FALSE),\"_\")","v":"_"},{"$f":"IFERROR(VLOOKUP(N114,#REF!,3,FALSE),\"\")","v":""},{"$f":"IFERROR(VLOOKUP(N114,#REF!,2,FALSE),\"\")","v":""},"Paulo M.","Y"]
[{"$error":"#REF!"},{"$f":"IF(VLOOKUP(M115,#REF!,2,FALSE)<=#REF!+1,\"OK\",\"X\")","v":{"$error":"#REF!"}},1,1,2,"OK","7Wagner Ferreira","14Friday_n-1","Friday_n-114Y","Friday_n-114OK",null,14,"Friday_n-1",23232065,{"$f":"IFERROR(VLOOKUP(N115,#REF!,3,FALSE),\"_\")","v":"_"},{"$f":"IFERROR(VLOOKUP(N115,#REF!,7,FALSE),\"_\")","v":"_"},{"$f":"IFERROR(VLOOKUP(N115,#REF!,12,FALSE),\"_\")","v":"_"},{"$f":"IFERROR(VLOOKUP(N115,#REF!,3,FALSE),\"\")","v":""},{"$f":"IFERROR(VLOOKUP(N115,#REF!,2,FALSE),\"\")","v":""},"Wagner Ferreira","Y"]
[{"$error":"#REF!"},{"$f":"IF(VLOOKUP(M116,#REF!,2,FALSE)<=#REF!+1,\"OK\",\"X\")","v":{"$error":"#REF!"}},1,1,2,"OK","7Paulo M.","14Saturday_n-1","Saturday_n-114Y","Saturday_n-114OK",null,14,"Saturday_n-1",23232073,{"$f":"IFERROR(VLOOKUP(N116,#REF!,3,FALSE),\"_\")","v":"_"},{"$f":"IFERROR(VLOOKUP(N116,#REF!,7,FALSE),\"_\")","v":"_"},{"$f":"IFERROR(VLOOKUP(N116,#REF!,12,FALSE),\"_\")","v":"_"},{"$f":"IFERROR(VLOOKUP(N116,#REF!,3,FALSE),\"\")","v":""},{"$f":"IFERROR(VLOOKUP(N116,#REF!,2,FALSE),\"\")","v":""},"Paulo M.","Y"]
[{"$error":"#REF!"},{"$f":"IF(VLOOKUP(M117,#REF!,2,FALSE)<=#REF!+1,\"OK\",\"X\")","v":{"$error":"#REF!"}},1,1,2,"OK","7Paulo M.","14Saturday_n-1","Saturday_n-114Y","Saturday_n-114OK",null,14,"Saturday_n-1",23232074,{"$f":"IFERROR(VLOOKUP(N117,#REF!,3,FALSE),\"_\")","v":"_"},{"$f":"IFERROR(VLOOKUP(N117,#REF!,7,FALSE),\"_\")","v":"_"},{"$f":"IFERROR(VLOOKUP(N117,#REF!,12,FALSE),\"_\")","v":"_"},{"$f":"IFERROR(VLOOKUP(N117,#REF!,3,FALSE),\"\")","v":""},{"$f":"IFERROR(VLOOKUP(N117,#REF!,2,FALSE),\"\")","v":""},"Paulo M.","Y"]
[{"$error":"#REF!"},{"$f":"IF(VLOOKUP(M118,#REF!,2,FALSE)<=#REF!+1,\"OK\",\"X\")","v":{"$error":"#REF!"}},1,1,2,"OK","7Paulo M.","14Saturday_n-1","Saturday_n-114Y","Saturday_n-114OK",null,14,"Saturday_n-1",23232075,{"$f":"IFERROR(VLOOKUP(N118,#REF!,3,FALSE),\"_\")","v":"_"},{"$f":"IFERROR(VLOOKUP(N118,#REF!,7,FALSE),\"_\")","v":"_"},{"$f":"IFERROR(VLOOKUP(N118,#REF!,12,FALSE),\"_\")","v":"_"},{"$f":"IFERROR(VLOOKUP(N118,#REF!,3,FALSE),\"\")","v":""},{"$f":"IFERROR(VLOOKUP(N118,#REF!,2,FALSE),\"\")","v":""},"Paulo M.","Y"]
[{"$error":"#REF!"},{"$f":"IF(VLOOKUP(M119,#REF!,2,FALSE)<=#REF!+1,\"OK\",\"X\")","v":{"$error":"#REF!"}},1,1,2,"OK","7Paulo M.","14Saturday_n-1","Saturday_n-114Y","Saturday_n-114OK",null,14,"Saturday_n-1",23232076,{"$f":"IFERROR(VLOOKUP(N119,#REF!,3,FALSE),\"_\")","v":"_"},{"$f":"IFERROR(VLOOKUP(N119,#REF!,7,FALSE),\"_\")","v":"_"},{"$f":"IFERROR(VLOOKUP(N119,#REF!,12,FALSE),\"_\")","v":"_"},{"$f":"IFERROR(VLOOKUP(N119,#REF!,3,FALSE),\"\")","v":""},{"$f":"IFERROR(VLOOKUP(N119,#REF!,2,FALSE),\"\")","v":""},"Paulo M.","Y"]
[{"$error":"#REF!"},{"$f":"IF(VLOOKUP(M120,#REF!,2,FALSE)<=#REF!+1,\"OK\",\"X\")","v":{"$error":"#REF!"}},1,1,2,"OK","7Francisco A.","14Sunday_n-1","Sunday_n-114Y","Sunday_n-114OK",null,14,"Sunday_n-1",23242145,{"$f":"IFERROR(VLOOKUP(N120,#REF!,3,FALSE),\"_\")","v":"_"},{"$f":"IFERROR(VLOOKUP(N120,#REF!,7,FALSE),\"_\")","v":"_"},{"$f":"IFERROR(VLOOKUP(N120,#REF!,12,FALSE),\"_\")","v":"_"},{"$f":"IFERROR(VLOOKUP(N120,#REF!,3,FALSE),\"\")","v":""},{"$f":"IFERROR(VLOOKUP(N120,#REF!,2,FALSE),\"\")","v":""},"Francisco A.","Y"]
[{"$error":"#REF!"},{"$f":"IF(VLOOKUP(M121,#REF!,2,FALSE)<=#REF!+1,\"OK\",\"X\")","v":{"$error":"#REF!"}},1,1,2,"OK","7Paulo M.","14Sunday_n-1","Sunday_n-114Y","Sunday_n-114OK",null,14,"Sunday_n-1",23242146,{"$f":"IFERROR(VLOOKUP(N121,#REF!,3,FALSE),\"_\")","v":"_"},{"$f":"IFERROR(VLOOKUP(N121,#REF!,7,FALSE),\"_\")","v":"_"},{"$f":"IFERROR(VLOOKUP(N121,#REF!,12,FALSE),\"_\")","v":"_"},{"$f":"IFERROR(VLOOKUP(N121,#REF!,3,FALSE),\"\")","v":""},{"$f":"IFERROR(VLOOKUP(N121,#REF!,2,FALSE),\"\")","v":""},"Paulo M.","Y"]
[{"$error":"#REF!"},{"$f":"IF(VLOOKUP(M122,#REF!,2,FALSE)<=#REF!+1,\"OK\",\"X\")","v":{"$error":"#REF!"}},1,1,2,"OK","7Paulo M.","14Sunday_n-1","Sunday_n-114Y","Sunday_n-114OK",null,14,"Sunday_n-1",23242147,{"$f":"IFERROR(VLOOKUP(N122,#REF!,3,FALSE),\"_\")","v":"_"},{"$f":"IFERROR(VLOOKUP(N122,#REF!,7,FALSE),\"_\")","v":"_"},{"$f":"IFERROR(VLOOKUP(N122,#REF!,12,FALSE),\"_\")","v":"_"},{"$f":"IFERROR(VLOOKUP(N122,#REF!,3,FALSE),\"\")","v":""},{"$f":"IFERROR(VLOOKUP(N122,#REF!,2,FALSE),\"\")","v":""},"Paulo M.","Y"]
[{"$error":"#REF!"},{"$f":"IF(VLOOKUP(M123,#REF!,2,FALSE)<=#REF!+1,\"OK\",\"X\")","v":{"$error":"#REF!"}},1,1,2,"OK","7Wagner Ferreira","14Sunday_n-1","Sunday_n-114Y","Sunday_n-114OK",null,14,"Sunday_n-1",23242148,{"$f":"IFERROR(VLOOKUP(N123,#REF!,3,FALSE),\"_\")","v":"_"},{"$f":"IFERROR(VLOOKUP(N123,#REF!,7,FALSE),\"_\")","v":"_"},{"$f":"IFERROR(VLOOKUP(N123,#REF!,12,FALSE),\"_\")","v":"_"},{"$f":"IFERROR(VLOOKUP(N123,#REF!,3,FALSE),\"\")","v":""},{"$f":"IFERROR(VLOOKUP(N123,#REF!,2,FALSE),\"\")","v":""},"Wagner Ferreira","Y"]
[{"$error":"#REF!"},{"$f":"IF(VLOOKUP(M124,#REF!,2,FALSE)<=#REF!+1,\"OK\",\"X\")","v":{"$error":"#REF!"}},1,1,2,"OK","7Wagner Ferreira","14Sunday_n-1","Sunday_n-114Y","Sunday_n-114OK",null,14,"Sunday_n-1",23242149,{"$f":"IFERROR(VLOOKUP(N124,#REF!,3,FALSE),\"_\")","v":"_"},{"$f":"IFERROR(VLOOKUP(N124,#REF!,7,FALSE),\"_\")","v":"_"},{"$f":"IFERROR(VLOOKUP(N124,#REF!,12,FALSE),\"_\")","v":"_"},{"$f":"IFERROR(VLOOKUP(N124,#REF!,3,FALSE),\"\")","v":""},{"$f":"IFERROR(VLOOKUP(N124,#REF!,2,FALSE),\"\")","v":""},"Wagner Ferreira","Y"]
[{"$error":"#REF!"},{"$f":"IF(VLOOKUP(M125,#REF!,2,FALSE)<=#REF!+1,\"OK\",\"X\")","v":{"$error":"#REF!"}},1,0,1,"OK","7","14Sunday_n-1","Sunday_n-114","Sunday_n-114OK",null,14,"Sunday_n-1",23242150,{"$f":"IFERROR(VLOOKUP(N125,#REF!,3,FALSE),\"_\")","v":"_"},{"$f":"IFERROR(VLOOKUP(N125,#REF!,7,FALSE),\"_\")","v":"_"},{"$f":"IFERROR(VLOOKUP(N125,#REF!,12,FALSE),\"_\")","v":"_"},{"$f":"IFERROR(VLOOKUP(N125,#REF!,3,FALSE),\"\")","v":""},{"$f":"IFERROR(VLOOKUP(N125,#REF!,2,FALSE),\"\")","v":""}]
[{"$error":"#REF!"},{"$f":"IF(VLOOKUP(M126,#REF!,2,FALSE)<=#REF!+1,\"OK\",\"X\")","v":{"$error":"#REF!"}},1,0,1,"OK","7","14Sunday_n-1","Sunday_n-114","Sunday_n-114OK",null,14,"Sunday_n-1",23242259,{"$f":"IFERROR(VLOOKUP(N126,#REF!,3,FALSE),\"_\")","v":"_"},{"$f":"IFERROR(VLOOKUP(N126,#REF!,7,FALSE),\"_\")","v":"_"},{"$f":"IFERROR(VLOOKUP(N126,#REF!,12,FALSE),\"_\")","v":"_"},{"$f":"IFERROR(VLOOKUP(N126,#REF!,3,FALSE),\"\")","v":""},{"$f":"IFERROR(VLOOKUP(N126,#REF!,2,FALSE),\"\")","v":""}]
[{"$error":"#REF!"},{"$f":"IF(VLOOKUP(M127,#REF!,2,FALSE)<=#REF!+1,\"OK\",\"X\")","v":{"$error":"#REF!"}},1,0,1,"OK","7","14Sunday_n-1","Sunday_n-114","Sunday_n-114OK",null,14,"Sunday_n-1",23242144,{"$f":"IFERROR(VLOOKUP(N127,#REF!,3,FALSE),\"_\")","v":"_"},{"$f":"IFERROR(VLOOKUP(N127,#REF!,7,FALSE),\"_\")","v":"_"},{"$f":"IFERROR(VLOOKUP(N127,#REF!,12,FALSE),\"_\")","v":"_"},{"$f":"IFERROR(VLOOKUP(N127,#REF!,3,FALSE),\"\")","v":""},{"$f":"IFERROR(VLOOKUP(N127,#REF!,2,FALSE),\"\")","v":""}]
[{"$error":"#REF!"},{"$f":"IF(VLOOKUP(M128,#REF!,2,FALSE)<=#REF!+1,\"OK\",\"X\")","v":{"$error":"#REF!"}},1,0,1,"OK","7","14Monday","Monday14","Monday14OK",null,14,"Monday",23242141,{"$f":"IFERROR(VLOOKUP(N128,#REF!,3,FALSE),\"_\")","v":"_"},{"$f":"IFERROR(VLOOKUP(N128,#REF!,7,FALSE),\"_\")","v":"_"},{"$f":"IFERROR(VLOOKUP(N128,#REF!,12,FALSE),\"_\")","v":"_"},{"$f":"IFERROR(VLOOKUP(N128,#REF!,3,FALSE),\"\")","v":""},{"$f":"IFERROR(VLOOKUP(N128,#REF!,2,FALSE),\"\")","v":""}]
[{"$error":"#REF!"},{"$f":"IF(VLOOKUP(M129,#REF!,2,FALSE)<=#REF!+1,\"OK\",\"X\")","v":{"$error":"#REF!"}},1,0,1,"OK","7","14Monday","Monday14","Monday14OK",null,14,"Monday",23242142,{"$f":"IFERROR(VLOOKUP(N129,#REF!,3,FALSE),\"_\")","v":"_"},{"$f":"IFERROR(VLOOKUP(N129,#REF!,7,FALSE),\"_\")","v":"_"},{"$f":"IFERROR(VLOOKUP(N129,#REF!,12,FALSE),\"_\")","v":"_"},{"$f":"IFERROR(VLOOKUP(N129,#REF!,3,FALSE),\"\")","v":""},{"$f":"IFERROR(VLOOKUP(N129,#REF!,2,FALSE),\"\")","v":""}]
[{"$error":"#REF!"},{"$f":"IF(VLOOKUP(M130,#REF!,2,FALSE)<=#REF!+1,\"OK\",\"X\")","v":{"$error":"#REF!"}},1,0,1,"OK","7","14Monday","Monday14","Monday14OK",null,14,"Monday",23242143,{"$f":"IFERROR(VLOOKUP(N130,#REF!,3,FALSE),\"_\")","v":"_"},{"$f":"IFERROR(VLOOKUP(N130,#REF!,7,FALSE),\"_\")","v":"_"},{"$f":"IFERROR(VLOOKUP(N130,#REF!,12,FALSE),\"_\")","v":"_"},{"$f":"IFERROR(VLOOKUP(N130,#REF!,3,FALSE),\"\")","v":""},{"$f":"IFERROR(VLOOKUP(N130,#REF!,2,FALSE),\"\")","v":""}]
[{"$error":"#REF!"},{"$f":"IF(VLOOKUP(M131,#REF!,2,FALSE)<=#REF!+1,\"OK\",\"X\")","v":{"$error":"#REF!"}},1,0,1,"OK","7","14Monday","Monday14","Monday14OK",null,14,"Monday",23242151,{"$f":"IFERROR(VLOOKUP(N131,#REF!,3,FALSE),\"_\")","v":"_"},{"$f":"IFERROR(VLOOKUP(N131,#REF!,7,FALSE),\"_\")","v":"_"},{"$f":"IFERROR(VLOOKUP(N131,#REF!,12,FALSE),\"_\")","v":"_"},{"$f":"IFERROR(VLOOKUP(N131,#REF!,3,FALSE),\"\")","v":""},{"$f":"IFERROR(VLOOKUP(N131,#REF!,2,FALSE),\"\")","v":""}]
[{"$error":"#REF!"},{"$f":"IF(VLOOKUP(M132,#REF!,2,FALSE)<=#REF!+1,\"OK\",\"X\")","v":{"$error":"#REF!"}},1,0,1,"OK","7","14Monday","Monday14","Monday14OK",null,14,"Monday",23242153,{"$f":"IFERROR(VLOOKUP(N132,#REF!,3,FALSE),\"_\")","v":"_"},{"$f":"IFERROR(VLOOKUP(N132,#REF!,7,FALSE),\"_\")","v":"_"},{"$f":"IFERROR(VLOOKUP(N132,#REF!,12,FALSE),\"_\")","v":"_"},{"$f":"IFERROR(VLOOKUP(N132,#REF!,3,FALSE),\"\")","v":""},{"$f":"IFERROR(VLOOKUP(N132,#REF!,2,FALSE),\"\")","v":""}]
[{"$f":"L133&LEFT(P133,3)&B133","v":{"$error":"#REF!"}},{"$f":"IF(VLOOKUP(M133,#REF!,2,FALSE)<=#REF!+1,\"OK\",\"X\")","v":{"$error":"#REF!"}},{"$f":"IF(P133=\"start dummy operation\",0,1)","v":1},{"$f":"IF(U133=\"Y\",1,0)","v":0},{"$f":"SUM(C133:D133)","v":1},{"$f":"IF(E133>0,\"OK\",\"X2\")","v":"OK"},{"$f":"WEEKDAY(V133)&T133","v":"7"},{"$f":"L133&M133","v":"14Monday"},{"$f":"M133&L133&U133","v":"Monday14"},{"$f":"M133&L133&F133","v":"Monday14OK"},null,14,"Monday",23242154,{"$f":"IFERROR(VLOOKUP(N133,#REF!,3,FALSE),\"_\")","v":"_"},{"$f":"IFERROR(VLOOKUP(N133,#REF!,7,FALSE),\"_\")","v":"_"},{"$f":"IFERROR(VLOOKUP(N133,#REF!,12,FALSE),\"_\")","v":"_"},{"$f":"IFERROR(VLOOKUP(N133,#REF!,3,FALSE),\"\")","v":""},{"$f":"IFERROR(VLOOKUP(N133,#REF!,2,FALSE),\"\")","v":""}]
[{"$error":"#REF!"},{"$f":"IF(VLOOKUP(M134,#REF!,2,FALSE)<=#REF!+1,\"OK\",\"X\")","v":{"$error":"#REF!"}},1,0,1,"OK","7","14Tuesday","Tuesday14","Tuesday14OK",null,14,"Tuesday",23242152,{"$f":"IFERROR(VLOOKUP(N134,#REF!,3,FALSE),\"_\")","v":"_"},{"$f":"IFERROR(VLOOKUP(N134,#REF!,7,FALSE),\"_\")","v":"_"},{"$f":"IFERROR(VLOOKUP(N134,#REF!,12,FALSE),\"_\")","v":"_"},{"$f":"IFERROR(VLOOKUP(N134,#REF!,3,FALSE),\"\")","v":""},{"$f":"IFERROR(VLOOKUP(N134,#REF!,2,FALSE),\"\")","v":""}]
[{"$error":"#REF!"},{"$f":"IF(VLOOKUP(M135,#REF!,2,FALSE)<=#REF!+1,\"OK\",\"X\")","v":{"$error":"#REF!"}},1,0,1,"OK","7","14Tuesday","Tuesday14","Tuesday14OK",null,14,"Tuesday",23242080,{"$f":"IFERROR(VLOOKUP(N135,#REF!,3,FALSE),\"_\")","v":"_"},{"$f":"IFERROR(VLOOKUP(N135,#REF!,7,FALSE),\"_\")","v":"_"},{"$f":"IFERROR(VLOOKUP(N135,#REF!,12,FALSE),\"_\")","v":"_"},{"$f":"IFERROR(VLOOKUP(N135,#REF!,3,FALSE),\"\")","v":""},{"$f":"IFERROR(VLOOKUP(N135,#REF!,2,FALSE),\"\")","v":""}]
[{"$error":"#REF!"},{"$f":"IF(VLOOKUP(M136,#REF!,2,FALSE)<=#REF!+1,\"OK\",\"X\")","v":{"$error":"#REF!"}},1,0,1,"OK","7","14Tuesday","Tuesday14","Tuesday14OK",null,14,"Tuesday",23242081,{"$f":"IFERROR(VLOOKUP(N136,#REF!,3,FALSE),\"_\")","v":"_"},{"$f":"IFERROR(VLOOKUP(N136,#REF!,7,FALSE),\"_\")","v":"_"},{"$f":"IFERROR(VLOOKUP(N136,#REF!,12,FALSE),\"_\")","v":"_"},{"$f":"IFERROR(VLOOKUP(N136,#REF!,3,FALSE),\"\")","v":""},{"$f":"IFERROR(VLOOKUP(N136,#REF!,2,FALSE),\"\")","v":""}]
[{"$error":"#REF!"},{"$f":"IF(VLOOKUP(M137,#REF!,2,FALSE)<=#REF!+1,\"OK\",\"X\")","v":{"$error":"#REF!"}},1,0,1,"OK","7","14Tuesday","Tuesday14","Tuesday14OK",null,14,"Tuesday",23242082,{"$f":"IFERROR(VLOOKUP(N137,#REF!,3,FALSE),\"_\")","v":"_"},{"$f":"IFERROR(VLOOKUP(N137,#REF!,7,FALSE),\"_\")","v":"_"},{"$f":"IFERROR(VLOOKUP(N137,#REF!,12,FALSE),\"_\")","v":"_"},{"$f":"IFERROR(VLOOKUP(N137,#REF!,3,FALSE),\"\")","v":""},{"$f":"IFERROR(VLOOKUP(N137,#REF!,2,FALSE),\"\")","v":""}]
[{"$error":"#REF!"},{"$f":"IF(VLOOKUP(M138,#REF!,2,FALSE)<=#REF!+1,\"OK\",\"X\")","v":{"$error":"#REF!"}},1,0,1,"OK","7","14Wednesday","Wednesday14","Wednesday14OK",null,14,"Wednesday",23242083,{"$f":"IFERROR(VLOOKUP(N138,#REF!,3,FALSE),\"_\")","v":"_"},{"$f":"IFERROR(VLOOKUP(N138,#REF!,7,FALSE),\"_\")","v":"_"},{"$f":"IFERROR(VLOOKUP(N138,#REF!,12,FALSE),\"_\")","v":"_"},{"$f":"IFERROR(VLOOKUP(N138,#REF!,3,FALSE),\"\")","v":""},{"$f":"IFERROR(VLOOKUP(N138,#REF!,2,FALSE),\"\")","v":""}]
[{"$error":"#REF!"},{"$f":"IF(VLOOKUP(M139,#REF!,2,FALSE)<=#REF!+1,\"OK\",\"X\")","v":{"$error":"#REF!"}},1,0,1,"OK","7","14Wednesday","Wednesday14","Wednesday14OK",null,14,"Wednesday",23242084,{"$f":"IFERROR(VLOOKUP(N139,#REF!,3,FALSE),\"_\")","v":"_"},{"$f":"IFERROR(VLOOKUP(N139,#REF!,7,FALSE),\"_\")","v":"_"},{"$f":"IFERROR(VLOOKUP(N139,#REF!,12,FALSE),\"_\")","v":"_"},{"$f":"IFERROR(VLOOKUP(N139,#REF!,3,FALSE),\"\")","v":""},{"$f":"IFERROR(VLOOKUP(N139,#REF!,2,FALSE),\"\")","v":""}]
[{"$error":"#REF!"},{"$f":"IF(VLOOKUP(M140,#REF!,2,FALSE)<=#REF!+1,\"OK\",\"X\")","v":{"$error":"#REF!"}},1,0,1,"OK","7","14Wednesday","Wednesday14","Wednesday14OK",null,14,"Wednesday",23242085,{"$f":"IFERROR(VLOOKUP(N140,#REF!,3,FALSE),\"_\")","v":"_"},{"$f":"IFERROR(VLOOKUP(N140,#REF!,7,FALSE),\"_\")","v":"_"},{"$f":"IFERROR(VLOOKUP(N140,#REF!,12,FALSE),\"_\")","v":"_"},{"$f":"IFERROR(VLOOKUP(N140,#REF!,3,FALSE),\"\")","v":""},{"$f":"IFERROR(VLOOKUP(N140,#REF!,2,FALSE),\"\")","v":""}]
[{"$error":"#REF!"},{"$f":"IF(VLOOKUP(M141,#REF!,2,FALSE)<=#REF!+1,\"OK\",\"X\")","v":{"$error":"#REF!"}},1,0,1,"OK","7","14Wednesday","Wednesday14","Wednesday14OK",null,14,"Wednesday",23242086,{"$f":"IFERROR(VLOOKUP(N141,#REF!,3,FALSE),\"_\")","v":"_"},{"$f":"IFERROR(VLOOKUP(N141,#REF!,7,FALSE),\"_\")","v":"_"},{"$f":"IFERROR(VLOOKUP(N141,#REF!,12,FALSE),\"_\")","v":"_"},{"$f":"IFERROR(VLOOKUP(N141,#REF!,3,FALSE),\"\")","v":""},{"$f":"IFERROR(VLOOKUP(N141,#REF!,2,FALSE),\"\")","v":""}]
[{"$error":"#REF!"},{"$f":"IF(VLOOKUP(M142,#REF!,2,FALSE)<=#REF!+1,\"OK\",\"X\")","v":{"$error":"#REF!"}},1,0,1,"OK","7","14Thursday","Thursday14","Thursday14OK",null,14,"Thursday",23242087,{"$f":"IFERROR(VLOOKUP(N142,#REF!,3,FALSE),\"_\")","v":"_"},{"$f":"IFERROR(VLOOKUP(N142,#REF!,7,FALSE),\"_\")","v":"_"},{"$f":"IFERROR(VLOOKUP(N142,#REF!,12,FALSE),\"_\")","v":"_"},{"$f":"IFERROR(VLOOKUP(N142,#REF!,3,FALSE),\"\")","v":""},{"$f":"IFERROR(VLOOKUP(N142,#REF!,2,FALSE),\"\")","v":""}]
[{"$error":"#REF!"},{"$f":"IF(VLOOKUP(M143,#REF!,2,FALSE)<=#REF!+1,\"OK\",\"X\")","v":{"$error":"#REF!"}},1,0,1,"OK","7","14Thursday","Thursday14","Thursday14OK",null,14,"Thursday",23242088,{"$f":"IFERROR(VLOOKUP(N143,#REF!,3,FALSE),\"_\")","v":"_"},{"$f":"IFERROR(VLOOKUP(N143,#REF!,7,FALSE),\"_\")","v":"_"},{"$f":"IFERROR(VLOOKUP(N143,#REF!,12,FALSE),\"_\")","v":"_"},{"$f":"IFERROR(VLOOKUP(N143,#REF!,3,FALSE),\"\")","v":""},{"$f":"IFERROR(VLOOKUP(N143,#REF!,2,FALSE),\"\")","v":""}]
[{"$error":"#REF!"},{"$f":"IF(VLOOKUP(M144,#REF!,2,FALSE)<=#REF!+1,\"OK\",\"X\")","v":{"$error":"#REF!"}},1,0,1,"OK","7","14Thursday","Thursday14","Thursday14OK",null,14,"Thursday",23242089,{"$f":"IFERROR(VLOOKUP(N144,#REF!,3,FALSE),\"_\")","v":"_"},{"$f":"IFERROR(VLOOKUP(N144,#REF!,7,FALSE),\"_\")","v":"_"},{"$f":"IFERROR(VLOOKUP(N144,#REF!,12,FALSE),\"_\")","v":"_"},{"$f":"IFERROR(VLOOKUP(N144,#REF!,3,FALSE),\"\")","v":""},{"$f":"IFERROR(VLOOKUP(N144,#REF!,2,FALSE),\"\")","v":""}]
[{"$error":"#REF!"},{"$f":"IF(VLOOKUP(M145,#REF!,2,FALSE)<=#REF!+1,\"OK\",\"X\")","v":{"$error":"#REF!"}},1,0,1,"OK","7","14Thursday","Thursday14","Thursday14OK",null,14,"Thursday",23242090,{"$f":"IFERROR(VLOOKUP(N145,#REF!,3,FALSE),\"_\")","v":"_"},{"$f":"IFERROR(VLOOKUP(N145,#REF!,7,FALSE),\"_\")","v":"_"},{"$f":"IFERROR(VLOOKUP(N145,#REF!,12,FALSE),\"_\")","v":"_"},{"$f":"IFERROR(VLOOKUP(N145,#REF!,3,FALSE),\"\")","v":""},{"$f":"IFERROR(VLOOKUP(N145,#REF!,2,FALSE),\"\")","v":""}]
[{"$error":"#REF!"},{"$f":"IF(VLOOKUP(M146,#REF!,2,FALSE)<=#REF!+1,\"OK\",\"X\")","v":{"$error":"#REF!"}},1,0,1,"OK","7","14Friday","Friday14","Friday14OK",null,14,"Friday",23242091,{"$f":"IFERROR(VLOOKUP(N146,#REF!,3,FALSE),\"_\")","v":"_"},{"$f":"IFERROR(VLOOKUP(N146,#REF!,7,FALSE),\"_\")","v":"_"},{"$f":"IFERROR(VLOOKUP(N146,#REF!,12,FALSE),\"_\")","v":"_"},{"$f":"IFERROR(VLOOKUP(N146,#REF!,3,FALSE),\"\")","v":""},{"$f":"IFERROR(VLOOKUP(N146,#REF!,2,FALSE),\"\")","v":""}]
[{"$error":"#REF!"},{"$f":"IF(VLOOKUP(M147,#REF!,2,FALSE)<=#REF!+1,\"OK\",\"X\")","v":{"$error":"#REF!"}},1,0,1,"OK","7","14Friday","Friday14","Friday14OK",null,14,"Friday",23242092,{"$f":"IFERROR(VLOOKUP(N147,#REF!,3,FALSE),\"_\")","v":"_"},{"$f":"IFERROR(VLOOKUP(N147,#REF!,7,FALSE),\"_\")","v":"_"},{"$f":"IFERROR(VLOOKUP(N147,#REF!,12,FALSE),\"_\")","v":"_"},{"$f":"IFERROR(VLOOKUP(N147,#REF!,3,FALSE),\"\")","v":""},{"$f":"IFERROR(VLOOKUP(N147,#REF!,2,FALSE),\"\")","v":""}]
[{"$error":"#REF!"},{"$f":"IF(VLOOKUP(M148,#REF!,2,FALSE)<=#REF!+1,\"OK\",\"X\")","v":{"$error":"#REF!"}},1,0,1,"OK","7","14Friday","Friday14","Friday14OK",null,14,"Friday",23242093,{"$f":"IFERROR(VLOOKUP(N148,#REF!,3,FALSE),\"_\")","v":"_"},{"$f":"IFERROR(VLOOKUP(N148,#REF!,7,FALSE),\"_\")","v":"_"},{"$f":"IFERROR(VLOOKUP(N148,#REF!,12,FALSE),\"_\")","v":"_"},{"$f":"IFERROR(VLOOKUP(N148,#REF!,3,FALSE),\"\")","v":""},{"$f":"IFERROR(VLOOKUP(N148,#REF!,2,FALSE),\"\")","v":""}]
[{"$error":"#REF!"},{"$f":"IF(VLOOKUP(M149,#REF!,2,FALSE)<=#REF!+1,\"OK\",\"X\")","v":{"$error":"#REF!"}},1,0,1,"OK","7","","","OK",null,null,null,null,{"$f":"IFERROR(VLOOKUP(N149,#REF!,3,FALSE),\"_\")","v":"_"},{"$f":"IFERROR(VLOOKUP(N149,#REF!,7,FALSE),\"_\")","v":"_"},{"$f":"IFERROR(VLOOKUP(N149,#REF!,12,FALSE),\"_\")","v":"_"},{"$f":"IFERROR(VLOOKUP(N149,#REF!,3,FALSE),\"\")","v":""},{"$f":"IFERROR(VLOOKUP(N149,#REF!,2,FALSE),\"\")","v":""}]
[{"$error":"#REF!"},{"$f":"IF(VLOOKUP(M150,#REF!,2,FALSE)<=#REF!+1,\"OK\",\"X\")","v":{"$error":"#REF!"}},1,0,1,"OK","7","","","OK",null,null,null,null,{"$f":"IFERROR(VLOOKUP(N150,#REF!,3,FALSE),\"_\")","v":"_"},{"$f":"IFERROR(VLOOKUP(N150,#REF!,7,FALSE),\"_\")","v":"_"},{"$f":"IFERROR(VLOOKUP(N150,#REF!,12,FALSE),\"_\")","v":"_"},{"$f":"IFERROR(VLOOKUP(N150,#REF!,3,FALSE),\"\")","v":""},{"$f":"IFERROR(VLOOKUP(N150,#REF!,2,FALSE),\"\")","v":""}]
[{"$error":"#REF!"},{"$f":"IF(VLOOKUP(M151,#REF!,2,FALSE)<=#REF!+1,\"OK\",\"X\")","v":{"$error":"#REF!"}},1,0,1,"OK","7","","","OK",null,null,null,null,{"$f":"IFERROR(VLOOKUP(N151,#REF!,3,FALSE),\"_\")","v":"_"},{"$f":"IFERROR(VLOOKUP(N151,#REF!,7,FALSE),\"_\")","v":"_"},{"$f":"IFERROR(VLOOKUP(N151,#REF!,12,FALSE),\"_\")","v":"_"},{"$f":"IFERROR(VLOOKUP(N151,#REF!,3,FALSE),\"\")","v":""},{"$f":"IFERROR(VLOOKUP(N151,#REF!,2,FALSE),\"\")","v":""}]
[{"$error":"#REF!"},{"$f":"IF(VLOOKUP(M152,#REF!,2,FALSE)<=#REF!+1,\"OK\",\"X\")","v":{"$error":"#REF!"}},1,0,1,"OK","7","","","OK",null,null,null,null,{"$f":"IFERROR(VLOOKUP(N152,#REF!,3,FALSE),\"_\")","v":"_"},{"$f":"IFERROR(VLOOKUP(N152,#REF!,7,FALSE),\"_\")","v":"_"},{"$f":"IFERROR(VLOOKUP(N152,#REF!,12,FALSE),\"_\")","v":"_"},{"$f":"IFERROR(VLOOKUP(N152,#REF!,3,FALSE),\"\")","v":""},{"$f":"IFERROR(VLOOKUP(N152,#REF!,2,FALSE),\"\")","v":""}]
[{"$error":"#REF!"},{"$f":"IF(VLOOKUP(M153,#REF!,2,FALSE)<=#REF!+1,\"OK\",\"X\")","v":{"$error":"#REF!"}},1,0,1,"OK","7","","","OK",null,null,null,null,{"$f":"IFERROR(VLOOKUP(N153,#REF!,3,FALSE),\"_\")","v":"_"},{"$f":"IFERROR(VLOOKUP(N153,#REF!,7,FALSE),\"_\")","v":"_"},{"$f":"IFERROR(VLOOKUP(N153,#REF!,12,FALSE),\"_\")","v":"_"},{"$f":"IFERROR(VLOOKUP(N153,#REF!,3,FALSE),\"\")","v":""},{"$f":"IFERROR(VLOOKUP(N153,#REF!,2,FALSE),\"\")","v":""}]
[{"$error":"#REF!"},{"$f":"IF(VLOOKUP(M154,#REF!,2,FALSE)<=#REF!+1,\"OK\",\"X\")","v":{"$error":"#REF!"}},1,0,1,"OK","7","","","OK",null,null,null,null,{"$f":"IFERROR(VLOOKUP(N154,#REF!,3,FALSE),\"_\")","v":"_"},{"$f":"IFERROR(VLOOKUP(N154,#REF!,7,FALSE),\"_\")","v":"_"},{"$f":"IFERROR(VLOOKUP(N154,#REF!,12,FALSE),\"_\")","v":"_"},{"$f":"IFERROR(VLOOKUP(N154,#REF!,3,FALSE),\"\")","v":""},{"$f":"IFERROR(VLOOKUP(N154,#REF!,2,FALSE),\"\")","v":""}]
[{"$error":"#REF!"},{"$f":"IF(VLOOKUP(M155,#REF!,2,FALSE)<=#REF!+1,\"OK\",\"X\")","v":{"$error":"#REF!"}},1,0,1,"OK","7","","","OK",null,null,null,null,{"$f":"IFERROR(VLOOKUP(N155,#REF!,3,FALSE),\"_\")","v":"_"},{"$f":"IFERROR(VLOOKUP(N155,#REF!,7,FALSE),\"_\")","v":"_"},{"$f":"IFERROR(VLOOKUP(N155,#REF!,12,FALSE),\"_\")","v":"_"},{"$f":"IFERROR(VLOOKUP(N155,#REF!,3,FALSE),\"\")","v":""},{"$f":"IFERROR(VLOOKUP(N155,#REF!,2,FALSE),\"\")","v":""}]
[{"$error":"#REF!"},{"$f":"IF(VLOOKUP(M156,#REF!,2,FALSE)<=#REF!+1,\"OK\",\"X\")","v":{"$error":"#REF!"}},1,0,1,"OK","7","","","OK",null,null,null,null,{"$f":"IFERROR(VLOOKUP(N156,#REF!,3,FALSE),\"_\")","v":"_"},{"$f":"IFERROR(VLOOKUP(N156,#REF!,7,FALSE),\"_\")","v":"_"},{"$f":"IFERROR(VLOOKUP(N156,#REF!,12,FALSE),\"_\")","v":"_"},{"$f":"IFERROR(VLOOKUP(N156,#REF!,3,FALSE),\"\")","v":""},{"$f":"IFERROR(VLOOKUP(N156,#REF!,2,FALSE),\"\")","v":""}]
[{"$error":"#REF!"},{"$f":"IF(VLOOKUP(M157,#REF!,2,FALSE)<=#REF!+1,\"OK\",\"X\")","v":{"$error":"#REF!"}},1,0,1,"OK","7","","","OK",null,null,null,null,{"$f":"IFERROR(VLOOKUP(N157,#REF!,3,FALSE),\"_\")","v":"_"},{"$f":"IFERROR(VLOOKUP(N157,#REF!,7,FALSE),\"_\")","v":"_"},{"$f":"IFERROR(VLOOKUP(N157,#REF!,12,FALSE),\"_\")","v":"_"},{"$f":"IFERROR(VLOOKUP(N157,#REF!,3,FALSE),\"\")","v":""},{"$f":"IFERROR(VLOOKUP(N157,#REF!,2,FALSE),\"\")","v":""}]
[{"$error":"#REF!"},{"$f":"IF(VLOOKUP(M158,#REF!,2,FALSE)<=#REF!+1,\"OK\",\"X\")","v":{"$error":"#REF!"}},1,0,1,"OK","7","","","OK",null,null,null,null,{"$f":"IFERROR(VLOOKUP(N158,#REF!,3,FALSE),\"_\")","v":"_"},{"$f":"IFERROR(VLOOKUP(N158,#REF!,7,FALSE),\"_\")","v":"_"},{"$f":"IFERROR(VLOOKUP(N158,#REF!,12,FALSE),\"_\")","v":"_"},{"$f":"IFERROR(VLOOKUP(N158,#REF!,3,FALSE),\"\")","v":""},{"$f":"IFERROR(VLOOKUP(N158,#REF!,2,FALSE),\"\")","v":""}]
[{"$error":"#REF!"},{"$f":"IF(VLOOKUP(M159,#REF!,2,FALSE)<=#REF!+1,\"OK\",\"X\")","v":{"$error":"#REF!"}},1,0,1,"OK","7","","","OK",null,null,null,null,{"$f":"IFERROR(VLOOKUP(N159,#REF!,3,FALSE),\"_\")","v":"_"},{"$f":"IFERROR(VLOOKUP(N159,#REF!,7,FALSE),\"_\")","v":"_"},{"$f":"IFERROR(VLOOKUP(N159,#REF!,12,FALSE),\"_\")","v":"_"},{"$f":"IFERROR(VLOOKUP(N159,#REF!,3,FALSE),\"\")","v":""},{"$f":"IFERROR(VLOOKUP(N159,#REF!,2,FALSE),\"\")","v":""}]
[{"$error":"#REF!"},{"$f":"IF(VLOOKUP(M160,#REF!,2,FALSE)<=#REF!+1,\"OK\",\"X\")","v":{"$error":"#REF!"}},1,0,1,"OK","7","","","OK",null,null,null,null,{"$f":"IFERROR(VLOOKUP(N160,#REF!,3,FALSE),\"_\")","v":"_"},{"$f":"IFERROR(VLOOKUP(N160,#REF!,7,FALSE),\"_\")","v":"_"},{"$f":"IFERROR(VLOOKUP(N160,#REF!,12,FALSE),\"_\")","v":"_"},{"$f":"IFERROR(VLOOKUP(N160,#REF!,3,FALSE),\"\")","v":""},{"$f":"IFERROR(VLOOKUP(N160,#REF!,2,FALSE),\"\")","v":""}]
[{"$error":"#REF!"},{"$f":"IF(VLOOKUP(M161,#REF!,2,FALSE)<=#REF!+1,\"OK\",\"X\")","v":{"$error":"#REF!"}},1,0,1,"OK","7","","","OK",null,null,null,null,{"$f":"IFERROR(VLOOKUP(N161,#REF!,3,FALSE),\"_\")","v":"_"},{"$f":"IFERROR(VLOOKUP(N161,#REF!,7,FALSE),\"_\")","v":"_"},{"$f":"IFERROR(VLOOKUP(N161,#REF!,12,FALSE),\"_\")","v":"_"},{"$f":"IFERROR(VLOOKUP(N161,#REF!,3,FALSE),\"\")","v":""},{"$f":"IFERROR(VLOOKUP(N161,#REF!,2,FALSE),\"\")","v":""}]
[{"$error":"#REF!"},{"$f":"IF(VLOOKUP(M162,#REF!,2,FALSE)<=#REF!+1,\"OK\",\"X\")","v":{"$error":"#REF!"}},1,0,1,"OK","7","","","OK",null,null,null,null,{"$f":"IFERROR(VLOOKUP(N162,#REF!,3,FALSE),\"_\")","v":"_"},{"$f":"IFERROR(VLOOKUP(N162,#REF!,7,FALSE),\"_\")","v":"_"},{"$f":"IFERROR(VLOOKUP(N162,#REF!,12,FALSE),\"_\")","v":"_"},{"$f":"IFERROR(VLOOKUP(N162,#REF!,3,FALSE),\"\")","v":""},{"$f":"IFERROR(VLOOKUP(N162,#REF!,2,FALSE),\"\")","v":""}]
[{"$error":"#REF!"},{"$f":"IF(VLOOKUP(M163,#REF!,2,FALSE)<=#REF!+1,\"OK\",\"X\")","v":{"$error":"#REF!"}},1,0,1,"OK","7","","","OK",null,null,null,null,{"$f":"IFERROR(VLOOKUP(N163,#REF!,3,FALSE),\"_\")","v":"_"},{"$f":"IFERROR(VLOOKUP(N163,#REF!,7,FALSE),\"_\")","v":"_"},{"$f":"IFERROR(VLOOKUP(N163,#REF!,12,FALSE),\"_\")","v":"_"},{"$f":"IFERROR(VLOOKUP(N163,#REF!,3,FALSE),\"\")","v":""},{"$f":"IFERROR(VLOOKUP(N163,#REF!,2,FALSE),\"\")","v":""}]
[{"$error":"#REF!"},{"$f":"IF(VLOOKUP(M164,#REF!,2,FALSE)<=#REF!+1,\"OK\",\"X\")","v":{"$error":"#REF!"}},1,0,1,"OK","7","","","OK",null,null,null,null,{"$f":"IFERROR(VLOOKUP(N164,#REF!,3,FALSE),\"_\")","v":"_"},{"$f":"IFERROR(VLOOKUP(N164,#REF!,7,FALSE),\"_\")","v":"_"},{"$f":"IFERROR(VLOOKUP(N164,#REF!,12,FALSE),\"_\")","v":"_"},{"$f":"IFERROR(VLOOKUP(N164,#REF!,3,FALSE),\"\")","v":""},{"$f":"IFERROR(VLOOKUP(N164,#REF!,2,FALSE),\"\")","v":""}]
[{"$error":"#REF!"},{"$f":"IF(VLOOKUP(M165,#REF!,2,FALSE)<=#REF!+1,\"OK\",\"X\")","v":{"$error":"#REF!"}},1,0,1,"OK","7","","","OK",null,null,null,null,{"$f":"IFERROR(VLOOKUP(N165,#REF!,3,FALSE),\"_\")","v":"_"},{"$f":"IFERROR(VLOOKUP(N165,#REF!,7,FALSE),\"_\")","v":"_"},{"$f":"IFERROR(VLOOKUP(N165,#REF!,12,FALSE),\"_\")","v":"_"},{"$f":"IFERROR(VLOOKUP(N165,#REF!,3,FALSE),\"\")","v":""},{"$f":"IFERROR(VLOOKUP(N165,#REF!,2,FALSE),\"\")","v":""}]
[{"$error":"#REF!"},{"$f":"IF(VLOOKUP(M166,#REF!,2,FALSE)<=#REF!+1,\"OK\",\"X\")","v":{"$error":"#REF!"}},1,0,1,"OK","7","","","OK",null,null,null,null,{"$f":"IFERROR(VLOOKUP(N166,#REF!,3,FALSE),\"_\")","v":"_"},{"$f":"IFERROR(VLOOKUP(N166,#REF!,7,FALSE),\"_\")","v":"_"},{"$f":"IFERROR(VLOOKUP(N166,#REF!,12,FALSE),\"_\")","v":"_"},{"$f":"IFERROR(VLOOKUP(N166,#REF!,3,FALSE),\"\")","v":""},{"$f":"IFERROR(VLOOKUP(N166,#REF!,2,FALSE),\"\")","v":""}]
[{"$error":"#REF!"},{"$f":"IF(VLOOKUP(M167,#REF!,2,FALSE)<=#REF!+1,\"OK\",\"X\")","v":{"$error":"#REF!"}},1,0,1,"OK","7","","","OK",null,null,null,null,{"$f":"IFERROR(VLOOKUP(N167,#REF!,3,FALSE),\"_\")","v":"_"},{"$f":"IFERROR(VLOOKUP(N167,#REF!,7,FALSE),\"_\")","v":"_"},{"$f":"IFERROR(VLOOKUP(N167,#REF!,12,FALSE),\"_\")","v":"_"},{"$f":"IFERROR(VLOOKUP(N167,#REF!,3,FALSE),\"\")","v":""},{"$f":"IFERROR(VLOOKUP(N167,#REF!,2,FALSE),\"\")","v":""}]
[{"$error":"#REF!"},{"$f":"IF(VLOOKUP(M168,#REF!,2,FALSE)<=#REF!+1,\"OK\",\"X\")","v":{"$error":"#REF!"}},1,0,1,"OK","7","","","OK",null,null,null,null,{"$f":"IFERROR(VLOOKUP(N168,#REF!,3,FALSE),\"_\")","v":"_"},{"$f":"IFERROR(VLOOKUP(N168,#REF!,7,FALSE),\"_\")","v":"_"},{"$f":"IFERROR(VLOOKUP(N168,#REF!,12,FALSE),\"_\")","v":"_"},{"$f":"IFERROR(VLOOKUP(N168,#REF!,3,FALSE),\"\")","v":""},{"$f":"IFERROR(VLOOKUP(N168,#REF!,2,FALSE),\"\")","v":""}]
[{"$error":"#REF!"},{"$f":"IF(VLOOKUP(M169,#REF!,2,FALSE)<=#REF!+1,\"OK\",\"X\")","v":{"$error":"#REF!"}},1,0,1,"OK","7","","","OK",null,null,null,null,{"$f":"IFERROR(VLOOKUP(N169,#REF!,3,FALSE),\"_\")","v":"_"},{"$f":"IFERROR(VLOOKUP(N169,#REF!,7,FALSE),\"_\")","v":"_"},{"$f":"IFERROR(VLOOKUP(N169,#REF!,12,FALSE),\"_\")","v":"_"},{"$f":"IFERROR(VLOOKUP(N169,#REF!,3,FALSE),\"\")","v":""},{"$f":"IFERROR(VLOOKUP(N169,#REF!,2,FALSE),\"\")","v":""}]
[{"$error":"#REF!"},{"$f":"IF(VLOOKUP(M170,#REF!,2,FALSE)<=#REF!+1,\"OK\",\"X\")","v":{"$error":"#REF!"}},1,0,1,"OK","7","","","OK",null,null,null,null,{"$f":"IFERROR(VLOOKUP(N170,#REF!,3,FALSE),\"_\")","v":"_"},{"$f":"IFERROR(VLOOKUP(N170,#REF!,7,FALSE),\"_\")","v":"_"},{"$f":"IFERROR(VLOOKUP(N170,#REF!,12,FALSE),\"_\")","v":"_"},{"$f":"IFERROR(VLOOKUP(N170,#REF!,3,FALSE),\"\")","v":""},{"$f":"IFERROR(VLOOKUP(N170,#REF!,2,FALSE),\"\")","v":""}]
[{"$error":"#REF!"},{"$f":"IF(VLOOKUP(M171,#REF!,2,FALSE)<=#REF!+1,\"OK\",\"X\")","v":{"$error":"#REF!"}},1,0,1,"OK","7","","","OK",null,null,null,null,{"$f":"IFERROR(VLOOKUP(N171,#REF!,3,FALSE),\"_\")","v":"_"},{"$f":"IFERROR(VLOOKUP(N171,#REF!,7,FALSE),\"_\")","v":"_"},{"$f":"IFERROR(VLOOKUP(N171,#REF!,12,FALSE),\"_\")","v":"_"},{"$f":"IFERROR(VLOOKUP(N171,#REF!,3,FALSE),\"\")","v":""},{"$f":"IFERROR(VLOOKUP(N171,#REF!,2,FALSE),\"\")","v":""}]
[{"$error":"#REF!"},{"$f":"IF(VLOOKUP(M172,#REF!,2,FALSE)<=#REF!+1,\"OK\",\"X\")","v":{"$error":"#REF!"}},1,0,1,"OK","7","","","OK",null,null,null,null,{"$f":"IFERROR(VLOOKUP(N172,#REF!,3,FALSE),\"_\")","v":"_"},{"$f":"IFERROR(VLOOKUP(N172,#REF!,7,FALSE),\"_\")","v":"_"},{"$f":"IFERROR(VLOOKUP(N172,#REF!,12,FALSE),\"_\")","v":"_"},{"$f":"IFERROR(VLOOKUP(N172,#REF!,3,FALSE),\"\")","v":""},{"$f":"IFERROR(VLOOKUP(N172,#REF!,2,FALSE),\"\")","v":""}]
[{"$error":"#REF!"},{"$f":"IF(VLOOKUP(M173,#REF!,2,FALSE)<=#REF!+1,\"OK\",\"X\")","v":{"$error":"#REF!"}},1,0,1,"OK","7","","","OK",null,null,null,null,{"$f":"IFERROR(VLOOKUP(N173,#REF!,3,FALSE),\"_\")","v":"_"},{"$f":"IFERROR(VLOOKUP(N173,#REF!,7,FALSE),\"_\")","v":"_"},{"$f":"IFERROR(VLOOKUP(N173,#REF!,12,FALSE),\"_\")","v":"_"},{"$f":"IFERROR(VLOOKUP(N173,#REF!,3,FALSE),\"\")","v":""},{"$f":"IFERROR(VLOOKUP(N173,#REF!,2,FALSE),\"\")","v":""}]
[{"$error":"#REF!"},{"$f":"IF(VLOOKUP(M174,#REF!,2,FALSE)<=#REF!+1,\"OK\",\"X\")","v":{"$error":"#REF!"}},1,0,1,"OK","7","","","OK",null,null,null,null,{"$f":"IFERROR(VLOOKUP(N174,#REF!,3,FALSE),\"_\")","v":"_"},{"$f":"IFERROR(VLOOKUP(N174,#REF!,7,FALSE),\"_\")","v":"_"},{"$f":"IFERROR(VLOOKUP(N174,#REF!,12,FALSE),\"_\")","v":"_"},{"$f":"IFERROR(VLOOKUP(N174,#REF!,3,FALSE),\"\")","v":""},{"$f":"IFERROR(VLOOKUP(N174,#REF!,2,FALSE),\"\")","v":""}]
[{"$error":"#REF!"},{"$f":"IF(VLOOKUP(M175,#REF!,2,FALSE)<=#REF!+1,\"OK\",\"X\")","v":{"$error":"#REF!"}},1,0,1,"OK","7","","","OK",null,null,null,null,{"$f":"IFERROR(VLOOKUP(N175,#REF!,3,FALSE),\"_\")","v":"_"},{"$f":"IFERROR(VLOOKUP(N175,#REF!,7,FALSE),\"_\")","v":"_"},{"$f":"IFERROR(VLOOKUP(N175,#REF!,12,FALSE),\"_\")","v":"_"},{"$f":"IFERROR(VLOOKUP(N175,#REF!,3,FALSE),\"\")","v":""},{"$f":"IFERROR(VLOOKUP(N175,#REF!,2,FALSE),\"\")","v":""}]
[{"$error":"#REF!"},{"$f":"IF(VLOOKUP(M176,#REF!,2,FALSE)<=#REF!+1,\"OK\",\"X\")","v":{"$error":"#REF!"}},1,0,1,"OK","7","","","OK",null,null,null,null,{"$f":"IFERROR(VLOOKUP(N176,#REF!,3,FALSE),\"_\")","v":"_"},{"$f":"IFERROR(VLOOKUP(N176,#REF!,7,FALSE),\"_\")","v":"_"},{"$f":"IFERROR(VLOOKUP(N176,#REF!,12,FALSE),\"_\")","v":"_"},{"$f":"IFERROR(VLOOKUP(N176,#REF!,3,FALSE),\"\")","v":""},{"$f":"IFERROR(VLOOKUP(N176,#REF!,2,FALSE),\"\")","v":""}]
[{"$error":"#REF!"},{"$f":"IF(VLOOKUP(M177,#REF!,2,FALSE)<=#REF!+1,\"OK\",\"X\")","v":{"$error":"#REF!"}},1,0,1,"OK","7","","","OK",null,null,null,null,{"$f":"IFERROR(VLOOKUP(N177,#REF!,3,FALSE),\"_\")","v":"_"},{"$f":"IFERROR(VLOOKUP(N177,#REF!,7,FALSE),\"_\")","v":"_"},{"$f":"IFERROR(VLOOKUP(N177,#REF!,12,FALSE),\"_\")","v":"_"},{"$f":"IFERROR(VLOOKUP(N177,#REF!,3,FALSE),\"\")","v":""},{"$f":"IFERROR(VLOOKUP(N177,#REF!,2,FALSE),\"\")","v":""}]
[{"$error":"#REF!"},{"$f":"IF(VLOOKUP(M178,#REF!,2,FALSE)<=#REF!+1,\"OK\",\"X\")","v":{"$error":"#REF!"}},1,0,1,"OK","7","","","OK",null,null,null,null,{"$f":"IFERROR(VLOOKUP(N178,#REF!,3,FALSE),\"_\")","v":"_"},{"$f":"IFERROR(VLOOKUP(N178,#REF!,7,FALSE),\"_\")","v":"_"},{"$f":"IFERROR(VLOOKUP(N178,#REF!,12,FALSE),\"_\")","v":"_"},{"$f":"IFERROR(VLOOKUP(N178,#REF!,3,FALSE),\"\")","v":""},{"$f":"IFERROR(VLOOKUP(N178,#REF!,2,FALSE),\"\")","v":""}]
[{"$error":"#REF!"},{"$f":"IF(VLOOKUP(M179,#REF!,2,FALSE)<=#REF!+1,\"OK\",\"X\")","v":{"$error":"#REF!"}},1,0,1,"OK","7","","","OK",null,null,null,null,{"$f":"IFERROR(VLOOKUP(N179,#REF!,3,FALSE),\"_\")","v":"_"},{"$f":"IFERROR(VLOOKUP(N179,#REF!,7,FALSE),\"_\")","v":"_"},{"$f":"IFERROR(VLOOKUP(N179,#REF!,12,FALSE),\"_\")","v":"_"},{"$f":"IFERROR(VLOOKUP(N179,#REF!,3,FALSE),\"\")","v":""},{"$f":"IFERROR(VLOOKUP(N179,#REF!,2,FALSE),\"\")","v":""}]
[{"$error":"#REF!"},{"$f":"IF(VLOOKUP(M180,#REF!,2,FALSE)<=#REF!+1,\"OK\",\"X\")","v":{"$error":"#REF!"}},1,0,1,"OK","7","","","OK",null,null,null,null,{"$f":"IFERROR(VLOOKUP(N180,#REF!,3,FALSE),\"_\")","v":"_"},{"$f":"IFERROR(VLOOKUP(N180,#REF!,7,FALSE),\"_\")","v":"_"},{"$f":"IFERROR(VLOOKUP(N180,#REF!,12,FALSE),\"_\")","v":"_"},{"$f":"IFERROR(VLOOKUP(N180,#REF!,3,FALSE),\"\")","v":""},{"$f":"IFERROR(VLOOKUP(N180,#REF!,2,FALSE),\"\")","v":""}]
[{"$error":"#REF!"},{"$f":"IF(VLOOKUP(M181,#REF!,2,FALSE)<=#REF!+1,\"OK\",\"X\")","v":{"$error":"#REF!"}},1,0,1,"OK","7","","","OK",null,null,null,null,{"$f":"IFERROR(VLOOKUP(N181,#REF!,3,FALSE),\"_\")","v":"_"},{"$f":"IFERROR(VLOOKUP(N181,#REF!,7,FALSE),\"_\")","v":"_"},{"$f":"IFERROR(VLOOKUP(N181,#REF!,12,FALSE),\"_\")","v":"_"},{"$f":"IFERROR(VLOOKUP(N181,#REF!,3,FALSE),\"\")","v":""},{"$f":"IFERROR(VLOOKUP(N181,#REF!,2,FALSE),\"\")","v":""}]
[{"$error":"#REF!"},{"$f":"IF(VLOOKUP(M182,#REF!,2,FALSE)<=#REF!+1,\"OK\",\"X\")","v":{"$error":"#REF!"}},1,0,1,"OK","7","","","OK",null,null,null,null,{"$f":"IFERROR(VLOOKUP(N182,#REF!,3,FALSE),\"_\")","v":"_"},{"$f":"IFERROR(VLOOKUP(N182,#REF!,7,FALSE),\"_\")","v":"_"},{"$f":"IFERROR(VLOOKUP(N182,#REF!,12,FALSE),\"_\")","v":"_"},{"$f":"IFERROR(VLOOKUP(N182,#REF!,3,FALSE),\"\")","v":""},{"$f":"IFERROR(VLOOKUP(N182,#REF!,2,FALSE),\"\")","v":""}]
[{"$error":"#REF!"},{"$f":"IF(VLOOKUP(M183,#REF!,2,FALSE)<=#REF!+1,\"OK\",\"X\")","v":{"$error":"#REF!"}},1,0,1,"OK","7","","","OK",null,null,null,null,{"$f":"IFERROR(VLOOKUP(N183,#REF!,3,FALSE),\"_\")","v":"_"},{"$f":"IFERROR(VLOOKUP(N183,#REF!,7,FALSE),\"_\")","v":"_"},{"$f":"IFERROR(VLOOKUP(N183,#REF!,12,FALSE),\"_\")","v":"_"},{"$f":"IFERROR(VLOOKUP(N183,#REF!,3,FALSE),\"\")","v":""},{"$f":"IFERROR(VLOOKUP(N183,#REF!,2,FALSE),\"\")","v":""}]
[{"$error":"#REF!"},{"$f":"IF(VLOOKUP(M184,#REF!,2,FALSE)<=#REF!+1,\"OK\",\"X\")","v":{"$error":"#REF!"}},1,0,1,"OK","7","","","OK",null,null,null,null,{"$f":"IFERROR(VLOOKUP(N184,#REF!,3,FALSE),\"_\")","v":"_"},{"$f":"IFERROR(VLOOKUP(N184,#REF!,7,FALSE),\"_\")","v":"_"},{"$f":"IFERROR(VLOOKUP(N184,#REF!,12,FALSE),\"_\")","v":"_"},{"$f":"IFERROR(VLOOKUP(N184,#REF!,3,FALSE),\"\")","v":""},{"$f":"IFERROR(VLOOKUP(N184,#REF!,2,FALSE),\"\")","v":""}]
[{"$error":"#REF!"},{"$f":"IF(VLOOKUP(M185,#REF!,2,FALSE)<=#REF!+1,\"OK\",\"X\")","v":{"$error":"#REF!"}},1,0,1,"OK","7","","","OK",null,null,null,null,{"$f":"IFERROR(VLOOKUP(N185,#REF!,3,FALSE),\"_\")","v":"_"},{"$f":"IFERROR(VLOOKUP(N185,#REF!,7,FALSE),\"_\")","v":"_"},{"$f":"IFERROR(VLOOKUP(N185,#REF!,12,FALSE),\"_\")","v":"_"},{"$f":"IFERROR(VLOOKUP(N185,#REF!,3,FALSE),\"\")","v":""},{"$f":"IFERROR(VLOOKUP(N185,#REF!,2,FALSE),\"\")","v":""}]
[{"$error":"#REF!"},{"$f":"IF(VLOOKUP(M186,#REF!,2,FALSE)<=#REF!+1,\"OK\",\"X\")","v":{"$error":"#REF!"}},1,0,1,"OK","7","","","OK",null,null,null,null,{"$f":"IFERROR(VLOOKUP(N186,#REF!,3,FALSE),\"_\")","v":"_"},{"$f":"IFERROR(VLOOKUP(N186,#REF!,7,FALSE),\"_\")","v":"_"},{"$f":"IFERROR(VLOOKUP(N186,#REF!,12,FALSE),\"_\")","v":"_"},{"$f":"IFERROR(VLOOKUP(N186,#REF!,3,FALSE),\"\")","v":""},{"$f":"IFERROR(VLOOKUP(N186,#REF!,2,FALSE),\"\")","v":""}]
[{"$error":"#REF!"},{"$f":"IF(VLOOKUP(M187,#REF!,2,FALSE)<=#REF!+1,\"OK\",\"X\")","v":{"$error":"#REF!"}},1,0,1,"OK","7","","","OK",null,null,null,null,{"$f":"IFERROR(VLOOKUP(N187,#REF!,3,FALSE),\"_\")","v":"_"},{"$f":"IFERROR(VLOOKUP(N187,#REF!,7,FALSE),\"_\")","v":"_"},{"$f":"IFERROR(VLOOKUP(N187,#REF!,12,FALSE),\"_\")","v":"_"},{"$f":"IFERROR(VLOOKUP(N187,#REF!,3,FALSE),\"\")","v":""},{"$f":"IFERROR(VLOOKUP(N187,#REF!,2,FALSE),\"\")","v":""}]
[{"$error":"#REF!"},{"$f":"IF(VLOOKUP(M188,#REF!,2,FALSE)<=#REF!+1,\"OK\",\"X\")","v":{"$error":"#REF!"}},1,0,1,"OK","7","","","OK",null,null,null,null,{"$f":"IFERROR(VLOOKUP(N188,#REF!,3,FALSE),\"_\")","v":"_"},{"$f":"IFERROR(VLOOKUP(N188,#REF!,7,FALSE),\"_\")","v":"_"},{"$f":"IFERROR(VLOOKUP(N188,#REF!,12,FALSE),\"_\")","v":"_"},{"$f":"IFERROR(VLOOKUP(N188,#REF!,3,FALSE),\"\")","v":""},{"$f":"IFERROR(VLOOKUP(N188,#REF!,2,FALSE),\"\")","v":""}]
[{"$error":"#REF!"},{"$f":"IF(VLOOKUP(M189,#REF!,2,FALSE)<=#REF!+1,\"OK\",\"X\")","v":{"$error":"#REF!"}},1,0,1,"OK","7","","","OK",null,null,null,null,{"$f":"IFERROR(VLOOKUP(N189,#REF!,3,FALSE),\"_\")","v":"_"},{"$f":"IFERROR(VLOOKUP(N189,#REF!,7,FALSE),\"_\")","v":"_"},{"$f":"IFERROR(VLOOKUP(N189,#REF!,12,FALSE),\"_\")","v":"_"},{"$f":"IFERROR(VLOOKUP(N189,#REF!,3,FALSE),\"\")","v":""},{"$f":"IFERROR(VLOOKUP(N189,#REF!,2,FALSE),\"\")","v":""}]
[{"$error":"#REF!"},{"$f":"IF(VLOOKUP(M190,#REF!,2,FALSE)<=#REF!+1,\"OK\",\"X\")","v":{"$error":"#REF!"}},1,0,1,"OK","7","","","OK",null,null,null,null,{"$f":"IFERROR(VLOOKUP(N190,#REF!,3,FALSE),\"_\")","v":"_"},{"$f":"IFERROR(VLOOKUP(N190,#REF!,7,FALSE),\"_\")","v":"_"},{"$f":"IFERROR(VLOOKUP(N190,#REF!,12,FALSE),\"_\")","v":"_"},{"$f":"IFERROR(VLOOKUP(N190,#REF!,3,FALSE),\"\")","v":""},{"$f":"IFERROR(VLOOKUP(N190,#REF!,2,FALSE),\"\")","v":""}]
[{"$error":"#REF!"},{"$f":"IF(VLOOKUP(M191,#REF!,2,FALSE)<=#REF!+1,\"OK\",\"X\")","v":{"$error":"#REF!"}},1,0,1,"OK","7","","","OK",null,null,null,null,{"$f":"IFERROR(VLOOKUP(N191,#REF!,3,FALSE),\"_\")","v":"_"},{"$f":"IFERROR(VLOOKUP(N191,#REF!,7,FALSE),\"_\")","v":"_"},{"$f":"IFERROR(VLOOKUP(N191,#REF!,12,FALSE),\"_\")","v":"_"},{"$f":"IFERROR(VLOOKUP(N191,#REF!,3,FALSE),\"\")","v":""},{"$f":"IFERROR(VLOOKUP(N191,#REF!,2,FALSE),\"\")","v":""}]
[{"$error":"#REF!"},{"$f":"IF(VLOOKUP(M192,#REF!,2,FALSE)<=#REF!+1,\"OK\",\"X\")","v":{"$error":"#REF!"}},1,0,1,"OK","7","","","OK",null,null,null,null,{"$f":"IFERROR(VLOOKUP(N192,#REF!,3,FALSE),\"_\")","v":"_"},{"$f":"IFERROR(VLOOKUP(N192,#REF!,7,FALSE),\"_\")","v":"_"},{"$f":"IFERROR(VLOOKUP(N192,#REF!,12,FALSE),\"_\")","v":"_"},{"$f":"IFERROR(VLOOKUP(N192,#REF!,3,FALSE),\"\")","v":""},{"$f":"IFERROR(VLOOKUP(N192,#REF!,2,FALSE),\"\")","v":""}]
[{"$error":"#REF!"},{"$f":"IF(VLOOKUP(M193,#REF!,2,FALSE)<=#REF!+1,\"OK\",\"X\")","v":{"$error":"#REF!"}},1,0,1,"OK","7","","","OK",null,null,null,null,{"$f":"IFERROR(VLOOKUP(N193,#REF!,3,FALSE),\"_\")","v":"_"},{"$f":"IFERROR(VLOOKUP(N193,#REF!,7,FALSE),\"_\")","v":"_"},{"$f":"IFERROR(VLOOKUP(N193,#REF!,12,FALSE),\"_\")","v":"_"},{"$f":"IFERROR(VLOOKUP(N193,#REF!,3,FALSE),\"\")","v":""},{"$f":"IFERROR(VLOOKUP(N193,#REF!,2,FALSE),\"\")","v":""}]
[{"$error":"#REF!"},{"$f":"IF(VLOOKUP(M194,#REF!,2,FALSE)<=#REF!+1,\"OK\",\"X\")","v":{"$error":"#REF!"}},1,0,1,"OK","7","","","OK",null,null,null,null,{"$f":"IFERROR(VLOOKUP(N194,#REF!,3,FALSE),\"_\")","v":"_"},{"$f":"IFERROR(VLOOKUP(N194,#REF!,7,FALSE),\"_\")","v":"_"},{"$f":"IFERROR(VLOOKUP(N194,#REF!,12,FALSE),\"_\")","v":"_"},{"$f":"IFERROR(VLOOKUP(N194,#REF!,3,FALSE),\"\")","v":""},{"$f":"IFERROR(VLOOKUP(N194,#REF!,2,FALSE),\"\")","v":""}]
[{"$error":"#REF!"},{"$f":"IF(VLOOKUP(M195,#REF!,2,FALSE)<=#REF!+1,\"OK\",\"X\")","v":{"$error":"#REF!"}},1,0,1,"OK","7","","","OK",null,null,null,null,{"$f":"IFERROR(VLOOKUP(N195,#REF!,3,FALSE),\"_\")","v":"_"},{"$f":"IFERROR(VLOOKUP(N195,#REF!,7,FALSE),\"_\")","v":"_"},{"$f":"IFERROR(VLOOKUP(N195,#REF!,12,FALSE),\"_\")","v":"_"},{"$f":"IFERROR(VLOOKUP(N195,#REF!,3,FALSE),\"\")","v":""},{"$f":"IFERROR(VLOOKUP(N195,#REF!,2,FALSE),\"\")","v":""}]
[{"$error":"#REF!"},{"$f":"IF(VLOOKUP(M196,#REF!,2,FALSE)<=#REF!+1,\"OK\",\"X\")","v":{"$error":"#REF!"}},1,0,1,"OK","7","","","OK",null,null,null,null,{"$f":"IFERROR(VLOOKUP(N196,#REF!,3,FALSE),\"_\")","v":"_"},{"$f":"IFERROR(VLOOKUP(N196,#REF!,7,FALSE),\"_\")","v":"_"},{"$f":"IFERROR(VLOOKUP(N196,#REF!,12,FALSE),\"_\")","v":"_"},{"$f":"IFERROR(VLOOKUP(N196,#REF!,3,FALSE),\"\")","v":""},{"$f":"IFERROR(VLOOKUP(N196,#REF!,2,FALSE),\"\")","v":""}]
[{"$f":"L197&LEFT(P197,3)&B197","v":{"$error":"#REF!"}},{"$f":"IF(VLOOKUP(M197,#REF!,2,FALSE)<=#REF!+1,\"OK\",\"X\")","v":{"$error":"#REF!"}},{"$f":"IF(P197=\"start dummy operation\",0,1)","v":1},{"$f":"IF(U197=\"Y\",1,0)","v":0},{"$f":"SUM(C197:D197)","v":1},{"$f":"IF(E197>0,\"OK\",\"X2\")","v":"OK"},{"$f":"WEEKDAY(V197)&T197","v":"7"},{"$f":"L197&M197","v":""},{"$f":"M197&L197&U197","v":""},{"$f":"M197&L197&F197","v":"OK"},null,null,null,null,{"$f":"IFERROR(VLOOKUP(N197,#REF!,3,FALSE),\"_\")","v":"_"},{"$f":"IFERROR(VLOOKUP(N197,#REF!,7,FALSE),\"_\")","v":"_"},{"$f":"IFERROR(VLOOKUP(N197,#REF!,12,FALSE),\"_\")","v":"_"},{"$f":"IFERROR(VLOOKUP(N197,#REF!,3,FALSE),\"\")","v":""},{"$f":"IFERROR(VLOOKUP(N197,#REF!,2,FALSE),\"\")","v":""}]
[{"$error":"#REF!"},{"$f":"IF(VLOOKUP(M198,#REF!,2,FALSE)<=#REF!+1,\"OK\",\"X\")","v":{"$error":"#REF!"}},1,0,1,"OK","7","","","OK",null,null,null,null,{"$f":"IFERROR(VLOOKUP(N198,#REF!,3,FALSE),\"_\")","v":"_"},{"$f":"IFERROR(VLOOKUP(N198,#REF!,7,FALSE),\"_\")","v":"_"},{"$f":"IFERROR(VLOOKUP(N198,#REF!,12,FALSE),\"_\")","v":"_"},{"$f":"IFERROR(VLOOKUP(N198,#REF!,3,FALSE),\"\")","v":""},{"$f":"IFERROR(VLOOKUP(N198,#REF!,2,FALSE),\"\")","v":""}]
[{"$error":"#REF!"},{"$f":"IF(VLOOKUP(M199,#REF!,2,FALSE)<=#REF!+1,\"OK\",\"X\")","v":{"$error":"#REF!"}},1,0,1,"OK","7","","","OK",null,null,null,null,{"$f":"IFERROR(VLOOKUP(N199,#REF!,3,FALSE),\"_\")","v":"_"},{"$f":"IFERROR(VLOOKUP(N199,#REF!,7,FALSE),\"_\")","v":"_"},{"$f":"IFERROR(VLOOKUP(N199,#REF!,12,FALSE),\"_\")","v":"_"},{"$f":"IFERROR(VLOOKUP(N199,#REF!,3,FALSE),\"\")","v":""},{"$f":"IFERROR(VLOOKUP(N199,#REF!,2,FALSE),\"\")","v":""}]
[{"$error":"#REF!"},{"$f":"IF(VLOOKUP(M200,#REF!,2,FALSE)<=#REF!+1,\"OK\",\"X\")","v":{"$error":"#REF!"}},1,0,1,"OK","7","","","OK",null,null,null,null,{"$f":"IFERROR(VLOOKUP(N200,#REF!,3,FALSE),\"_\")","v":"_"},{"$f":"IFERROR(VLOOKUP(N200,#REF!,7,FALSE),\"_\")","v":"_"},{"$f":"IFERROR(VLOOKUP(N200,#REF!,12,FALSE),\"_\")","v":"_"},{"$f":"IFERROR(VLOOKUP(N200,#REF!,3,FALSE),\"\")","v":""},{"$f":"IFERROR(VLOOKUP(N200,#REF!,2,FALSE),\"\")","v":""}]
[{"$error":"#REF!"},{"$f":"IF(VLOOKUP(M201,#REF!,2,FALSE)<=#REF!+1,\"OK\",\"X\")","v":{"$error":"#REF!"}},1,0,1,"OK","7","","","OK",null,null,null,null,{"$f":"IFERROR(VLOOKUP(N201,#REF!,3,FALSE),\"_\")","v":"_"},{"$f":"IFERROR(VLOOKUP(N201,#REF!,7,FALSE),\"_\")","v":"_"},{"$f":"IFERROR(VLOOKUP(N201,#REF!,12,FALSE),\"_\")","v":"_"},{"$f":"IFERROR(VLOOKUP(N201,#REF!,3,FALSE),\"\")","v":""},{"$f":"IFERROR(VLOOKUP(N201,#REF!,2,FALSE),\"\")","v":""}]
[{"$error":"#REF!"},{"$f":"IF(VLOOKUP(M202,#REF!,2,FALSE)<=#REF!+1,\"OK\",\"X\")","v":{"$error":"#REF!"}},1,0,1,"OK","7","","","OK",null,null,null,null,{"$f":"IFERROR(VLOOKUP(N202,#REF!,3,FALSE),\"_\")","v":"_"},{"$f":"IFERROR(VLOOKUP(N202,#REF!,7,FALSE),\"_\")","v":"_"},{"$f":"IFERROR(VLOOKUP(N202,#REF!,12,FALSE),\"_\")","v":"_"},{"$f":"IFERROR(VLOOKUP(N202,#REF!,3,FALSE),\"\")","v":""},{"$f":"IFERROR(VLOOKUP(N202,#REF!,2,FALSE),\"\")","v":""}]
[{"$error":"#REF!"},{"$f":"IF(VLOOKUP(M203,#REF!,2,FALSE)<=#REF!+1,\"OK\",\"X\")","v":{"$error":"#REF!"}},1,0,1,"OK","7","","","OK",null,null,null,null,{"$f":"IFERROR(VLOOKUP(N203,#REF!,3,FALSE),\"_\")","v":"_"},{"$f":"IFERROR(VLOOKUP(N203,#REF!,7,FALSE),\"_\")","v":"_"},{"$f":"IFERROR(VLOOKUP(N203,#REF!,12,FALSE),\"_\")","v":"_"},{"$f":"IFERROR(VLOOKUP(N203,#REF!,3,FALSE),\"\")","v":""},{"$f":"IFERROR(VLOOKUP(N203,#REF!,2,FALSE),\"\")","v":""}]
[{"$error":"#REF!"},{"$f":"IF(VLOOKUP(M204,#REF!,2,FALSE)<=#REF!+1,\"OK\",\"X\")","v":{"$error":"#REF!"}},1,0,1,"OK","7","","","OK",null,null,null,null,{"$f":"IFERROR(VLOOKUP(N204,#REF!,3,FALSE),\"_\")","v":"_"},{"$f":"IFERROR(VLOOKUP(N204,#REF!,7,FALSE),\"_\")","v":"_"},{"$f":"IFERROR(VLOOKUP(N204,#REF!,12,FALSE),\"_\")","v":"_"},{"$f":"IFERROR(VLOOKUP(N204,#REF!,3,FALSE),\"\")","v":""},{"$f":"IFERROR(VLOOKUP(N204,#REF!,2,FALSE),\"\")","v":""}]
[{"$error":"#REF!"},{"$f":"IF(VLOOKUP(M205,#REF!,2,FALSE)<=#REF!+1,\"OK\",\"X\")","v":{"$error":"#REF!"}},1,0,1,"OK","7","","","OK",null,null,null,null,{"$f":"IFERROR(VLOOKUP(N205,#REF!,3,FALSE),\"_\")","v":"_"},{"$f":"IFERROR(VLOOKUP(N205,#REF!,7,FALSE),\"_\")","v":"_"},{"$f":"IFERROR(VLOOKUP(N205,#REF!,12,FALSE),\"_\")","v":"_"},{"$f":"IFERROR(VLOOKUP(N205,#REF!,3,FALSE),\"\")","v":""},{"$f":"IFERROR(VLOOKUP(N205,#REF!,2,FALSE),\"\")","v":""}]
[{"$error":"#REF!"},{"$f":"IF(VLOOKUP(M206,#REF!,2,FALSE)<=#REF!+1,\"OK\",\"X\")","v":{"$error":"#REF!"}},1,0,1,"OK","7","","","OK",null,null,null,null,{"$f":"IFERROR(VLOOKUP(N206,#REF!,3,FALSE),\"_\")","v":"_"},{"$f":"IFERROR(VLOOKUP(N206,#REF!,7,FALSE),\"_\")","v":"_"},{"$f":"IFERROR(VLOOKUP(N206,#REF!,12,FALSE),\"_\")","v":"_"},{"$f":"IFERROR(VLOOKUP(N206,#REF!,3,FALSE),\"\")","v":""},{"$f":"IFERROR(VLOOKUP(N206,#REF!,2,FALSE),\"\")","v":""}]
[{"$error":"#REF!"},{"$f":"IF(VLOOKUP(M207,#REF!,2,FALSE)<=#REF!+1,\"OK\",\"X\")","v":{"$error":"#REF!"}},1,0,1,"OK","7","","","OK",null,null,null,null,{"$f":"IFERROR(VLOOKUP(N207,#REF!,3,FALSE),\"_\")","v":"_"},{"$f":"IFERROR(VLOOKUP(N207,#REF!,7,FALSE),\"_\")","v":"_"},{"$f":"IFERROR(VLOOKUP(N207,#REF!,12,FALSE),\"_\")","v":"_"},{"$f":"IFERROR(VLOOKUP(N207,#REF!,3,FALSE),\"\")","v":""},{"$f":"IFERROR(VLOOKUP(N207,#REF!,2,FALSE),\"\")","v":""}]
[{"$error":"#REF!"},{"$f":"IF(VLOOKUP(M208,#REF!,2,FALSE)<=#REF!+1,\"OK\",\"X\")","v":{"$error":"#REF!"}},1,0,1,"OK","7","","","OK",null,null,null,null,{"$f":"IFERROR(VLOOKUP(N208,#REF!,3,FALSE),\"_\")","v":"_"},{"$f":"IFERROR(VLOOKUP(N208,#REF!,7,FALSE),\"_\")","v":"_"},{"$f":"IFERROR(VLOOKUP(N208,#REF!,12,FALSE),\"_\")","v":"_"},{"$f":"IFERROR(VLOOKUP(N208,#REF!,3,FALSE),\"\")","v":""},{"$f":"IFERROR(VLOOKUP(N208,#REF!,2,FALSE),\"\")","v":""}]
[{"$error":"#REF!"},{"$f":"IF(VLOOKUP(M209,#REF!,2,FALSE)<=#REF!+1,\"OK\",\"X\")","v":{"$error":"#REF!"}},1,0,1,"OK","7","","","OK",null,null,null,null,{"$f":"IFERROR(VLOOKUP(N209,#REF!,3,FALSE),\"_\")","v":"_"},{"$f":"IFERROR(VLOOKUP(N209,#REF!,7,FALSE),\"_\")","v":"_"},{"$f":"IFERROR(VLOOKUP(N209,#REF!,12,FALSE),\"_\")","v":"_"},{"$f":"IFERROR(VLOOKUP(N209,#REF!,3,FALSE),\"\")","v":""},{"$f":"IFERROR(VLOOKUP(N209,#REF!,2,FALSE),\"\")","v":""}]
[{"$error":"#REF!"},{"$f":"IF(VLOOKUP(M210,#REF!,2,FALSE)<=#REF!+1,\"OK\",\"X\")","v":{"$error":"#REF!"}},1,0,1,"OK","7","","","OK",null,null,null,null,{"$f":"IFERROR(VLOOKUP(N210,#REF!,3,FALSE),\"_\")","v":"_"},{"$f":"IFERROR(VLOOKUP(N210,#REF!,7,FALSE),\"_\")","v":"_"},{"$f":"IFERROR(VLOOKUP(N210,#REF!,12,FALSE),\"_\")","v":"_"},{"$f":"IFERROR(VLOOKUP(N210,#REF!,3,FALSE),\"\")","v":""},{"$f":"IFERROR(VLOOKUP(N210,#REF!,2,FALSE),\"\")","v":""}]
[{"$error":"#REF!"},{"$f":"IF(VLOOKUP(M211,#REF!,2,FALSE)<=#REF!+1,\"OK\",\"X\")","v":{"$error":"#REF!"}},1,0,1,"OK","7","","","OK",null,null,null,null,{"$f":"IFERROR(VLOOKUP(N211,#REF!,3,FALSE),\"_\")","v":"_"},{"$f":"IFERROR(VLOOKUP(N211,#REF!,7,FALSE),\"_\")","v":"_"},{"$f":"IFERROR(VLOOKUP(N211,#REF!,12,FALSE),\"_\")","v":"_"},{"$f":"IFERROR(VLOOKUP(N211,#REF!,3,FALSE),\"\")","v":""},{"$f":"IFERROR(VLOOKUP(N211,#REF!,2,FALSE),\"\")","v":""}]
[{"$error":"#REF!"},{"$f":"IF(VLOOKUP(M212,#REF!,2,FALSE)<=#REF!+1,\"OK\",\"X\")","v":{"$error":"#REF!"}},1,0,1,"OK","7","","","OK",null,null,null,null,{"$f":"IFERROR(VLOOKUP(N212,#REF!,3,FALSE),\"_\")","v":"_"},{"$f":"IFERROR(VLOOKUP(N212,#REF!,7,FALSE),\"_\")","v":"_"},{"$f":"IFERROR(VLOOKUP(N212,#REF!,12,FALSE),\"_\")","v":"_"},{"$f":"IFERROR(VLOOKUP(N212,#REF!,3,FALSE),\"\")","v":""},{"$f":"IFERROR(VLOOKUP(N212,#REF!,2,FALSE),\"\")","v":""}]
[{"$error":"#REF!"},{"$f":"IF(VLOOKUP(M213,#REF!,2,FALSE)<=#REF!+1,\"OK\",\"X\")","v":{"$error":"#REF!"}},1,0,1,"OK","7","","","OK",null,null,null,null,{"$f":"IFERROR(VLOOKUP(N213,#REF!,3,FALSE),\"_\")","v":"_"},{"$f":"IFERROR(VLOOKUP(N213,#REF!,7,FALSE),\"_\")","v":"_"},{"$f":"IFERROR(VLOOKUP(N213,#REF!,12,FALSE),\"_\")","v":"_"},{"$f":"IFERROR(VLOOKUP(N213,#REF!,3,FALSE),\"\")","v":""},{"$f":"IFERROR(VLOOKUP(N213,#REF!,2,FALSE),\"\")","v":""}]
[{"$error":"#REF!"},{"$f":"IF(VLOOKUP(M214,#REF!,2,FALSE)<=#REF!+1,\"OK\",\"X\")","v":{"$error":"#REF!"}},1,0,1,"OK","7","","","OK",null,null,null,null,{"$f":"IFERROR(VLOOKUP(N214,#REF!,3,FALSE),\"_\")","v":"_"},{"$f":"IFERROR(VLOOKUP(N214,#REF!,7,FALSE),\"_\")","v":"_"},{"$f":"IFERROR(VLOOKUP(N214,#REF!,12,FALSE),\"_\")","v":"_"},{"$f":"IFERROR(VLOOKUP(N214,#REF!,3,FALSE),\"\")","v":""},{"$f":"IFERROR(VLOOKUP(N214,#REF!,2,FALSE),\"\")","v":""}]
[{"$error":"#REF!"},{"$f":"IF(VLOOKUP(M215,#REF!,2,FALSE)<=#REF!+1,\"OK\",\"X\")","v":{"$error":"#REF!"}},1,0,1,"OK","7","","","OK",null,null,null,null,{"$f":"IFERROR(VLOOKUP(N215,#REF!,3,FALSE),\"_\")","v":"_"},{"$f":"IFERROR(VLOOKUP(N215,#REF!,7,FALSE),\"_\")","v":"_"},{"$f":"IFERROR(VLOOKUP(N215,#REF!,12,FALSE),\"_\")","v":"_"},{"$f":"IFERROR(VLOOKUP(N215,#REF!,3,FALSE),\"\")","v":""},{"$f":"IFERROR(VLOOKUP(N215,#REF!,2,FALSE),\"\")","v":""}]
[{"$error":"#REF!"},{"$f":"IF(VLOOKUP(M216,#REF!,2,FALSE)<=#REF!+1,\"OK\",\"X\")","v":{"$error":"#REF!"}},1,0,1,"OK","7","","","OK",null,null,null,null,{"$f":"IFERROR(VLOOKUP(N216,#REF!,3,FALSE),\"_\")","v":"_"},{"$f":"IFERROR(VLOOKUP(N216,#REF!,7,FALSE),\"_\")","v":"_"},{"$f":"IFERROR(VLOOKUP(N216,#REF!,12,FALSE),\"_\")","v":"_"},{"$f":"IFERROR(VLOOKUP(N216,#REF!,3,FALSE),\"\")","v":""},{"$f":"IFERROR(VLOOKUP(N216,#REF!,2,FALSE),\"\")","v":""}]
[{"$error":"#REF!"},{"$f":"IF(VLOOKUP(M217,#REF!,2,FALSE)<=#REF!+1,\"OK\",\"X\")","v":{"$error":"#REF!"}},1,0,1,"OK","7","","","OK",null,null,null,null,{"$f":"IFERROR(VLOOKUP(N217,#REF!,3,FALSE),\"_\")","v":"_"},{"$f":"IFERROR(VLOOKUP(N217,#REF!,7,FALSE),\"_\")","v":"_"},{"$f":"IFERROR(VLOOKUP(N217,#REF!,12,FALSE),\"_\")","v":"_"},{"$f":"IFERROR(VLOOKUP(N217,#REF!,3,FALSE),\"\")","v":""},{"$f":"IFERROR(VLOOKUP(N217,#REF!,2,FALSE),\"\")","v":""}]
[{"$error":"#REF!"},{"$f":"IF(VLOOKUP(M218,#REF!,2,FALSE)<=#REF!+1,\"OK\",\"X\")","v":{"$error":"#REF!"}},1,0,1,"OK","7","","","OK",null,null,null,null,{"$f":"IFERROR(VLOOKUP(N218,#REF!,3,FALSE),\"_\")","v":"_"},{"$f":"IFERROR(VLOOKUP(N218,#REF!,7,FALSE),\"_\")","v":"_"},{"$f":"IFERROR(VLOOKUP(N218,#REF!,12,FALSE),\"_\")","v":"_"},{"$f":"IFERROR(VLOOKUP(N218,#REF!,3,FALSE),\"\")","v":""},{"$f":"IFERROR(VLOOKUP(N218,#REF!,2,FALSE),\"\")","v":""}]
[{"$error":"#REF!"},{"$f":"IF(VLOOKUP(M219,#REF!,2,FALSE)<=#REF!+1,\"OK\",\"X\")","v":{"$error":"#REF!"}},1,0,1,"OK","7","","","OK",null,null,null,null,{"$f":"IFERROR(VLOOKUP(N219,#REF!,3,FALSE),\"_\")","v":"_"},{"$f":"IFERROR(VLOOKUP(N219,#REF!,7,FALSE),\"_\")","v":"_"},{"$f":"IFERROR(VLOOKUP(N219,#REF!,12,FALSE),\"_\")","v":"_"},{"$f":"IFERROR(VLOOKUP(N219,#REF!,3,FALSE),\"\")","v":""},{"$f":"IFERROR(VLOOKUP(N219,#REF!,2,FALSE),\"\")","v":""}]
[{"$error":"#REF!"},{"$f":"IF(VLOOKUP(M220,#REF!,2,FALSE)<=#REF!+1,\"OK\",\"X\")","v":{"$error":"#REF!"}},1,0,1,"OK","7","","","OK",null,null,null,null,{"$f":"IFERROR(VLOOKUP(N220,#REF!,3,FALSE),\"_\")","v":"_"},{"$f":"IFERROR(VLOOKUP(N220,#REF!,7,FALSE),\"_\")","v":"_"},{"$f":"IFERROR(VLOOKUP(N220,#REF!,12,FALSE),\"_\")","v":"_"},{"$f":"IFERROR(VLOOKUP(N220,#REF!,3,FALSE),\"\")","v":""},{"$f":"IFERROR(VLOOKUP(N220,#REF!,2,FALSE),\"\")","v":""}]
[{"$error":"#REF!"},{"$f":"IF(VLOOKUP(M221,#REF!,2,FALSE)<=#REF!+1,\"OK\",\"X\")","v":{"$error":"#REF!"}},1,0,1,"OK","7","","","OK",null,null,null,null,{"$f":"IFERROR(VLOOKUP(N221,#REF!,3,FALSE),\"_\")","v":"_"},{"$f":"IFERROR(VLOOKUP(N221,#REF!,7,FALSE),\"_\")","v":"_"},{"$f":"IFERROR(VLOOKUP(N221,#REF!,12,FALSE),\"_\")","v":"_"},{"$f":"IFERROR(VLOOKUP(N221,#REF!,3,FALSE),\"\")","v":""},{"$f":"IFERROR(VLOOKUP(N221,#REF!,2,FALSE),\"\")","v":""}]
[{"$error":"#REF!"},{"$f":"IF(VLOOKUP(M222,#REF!,2,FALSE)<=#REF!+1,\"OK\",\"X\")","v":{"$error":"#REF!"}},1,0,1,"OK","7","","","OK",null,null,null,null,{"$f":"IFERROR(VLOOKUP(N222,#REF!,3,FALSE),\"_\")","v":"_"},{"$f":"IFERROR(VLOOKUP(N222,#REF!,7,FALSE),\"_\")","v":"_"},{"$f":"IFERROR(VLOOKUP(N222,#REF!,12,FALSE),\"_\")","v":"_"},{"$f":"IFERROR(VLOOKUP(N222,#REF!,3,FALSE),\"\")","v":""},{"$f":"IFERROR(VLOOKUP(N222,#REF!,2,FALSE),\"\")","v":""}]
[{"$error":"#REF!"},{"$f":"IF(VLOOKUP(M223,#REF!,2,FALSE)<=#REF!+1,\"OK\",\"X\")","v":{"$error":"#REF!"}},1,0,1,"OK","7","","","OK",null,null,null,null,{"$f":"IFERROR(VLOOKUP(N223,#REF!,3,FALSE),\"_\")","v":"_"},{"$f":"IFERROR(VLOOKUP(N223,#REF!,7,FALSE),\"_\")","v":"_"},{"$f":"IFERROR(VLOOKUP(N223,#REF!,12,FALSE),\"_\")","v":"_"},{"$f":"IFERROR(VLOOKUP(N223,#REF!,3,FALSE),\"\")","v":""},{"$f":"IFERROR(VLOOKUP(N223,#REF!,2,FALSE),\"\")","v":""}]
[{"$error":"#REF!"},{"$f":"IF(VLOOKUP(M224,#REF!,2,FALSE)<=#REF!+1,\"OK\",\"X\")","v":{"$error":"#REF!"}},1,0,1,"OK","7","","","OK",null,null,null,null,{"$f":"IFERROR(VLOOKUP(N224,#REF!,3,FALSE),\"_\")","v":"_"},{"$f":"IFERROR(VLOOKUP(N224,#REF!,7,FALSE),\"_\")","v":"_"},{"$f":"IFERROR(VLOOKUP(N224,#REF!,12,FALSE),\"_\")","v":"_"},{"$f":"IFERROR(VLOOKUP(N224,#REF!,3,FALSE),\"\")","v":""},{"$f":"IFERROR(VLOOKUP(N224,#REF!,2,FALSE),\"\")","v":""}]
[{"$error":"#REF!"},{"$f":"IF(VLOOKUP(M225,#REF!,2,FALSE)<=#REF!+1,\"OK\",\"X\")","v":{"$error":"#REF!"}},1,0,1,"OK","7","","","OK",null,null,null,null,{"$f":"IFERROR(VLOOKUP(N225,#REF!,3,FALSE),\"_\")","v":"_"},{"$f":"IFERROR(VLOOKUP(N225,#REF!,7,FALSE),\"_\")","v":"_"},{"$f":"IFERROR(VLOOKUP(N225,#REF!,12,FALSE),\"_\")","v":"_"},{"$f":"IFERROR(VLOOKUP(N225,#REF!,3,FALSE),\"\")","v":""},{"$f":"IFERROR(VLOOKUP(N225,#REF!,2,FALSE),\"\")","v":""}]
[{"$error":"#REF!"},{"$f":"IF(VLOOKUP(M226,#REF!,2,FALSE)<=#REF!+1,\"OK\",\"X\")","v":{"$error":"#REF!"}},1,0,1,"OK","7","","","OK",null,null,null,null,{"$f":"IFERROR(VLOOKUP(N226,#REF!,3,FALSE),\"_\")","v":"_"},{"$f":"IFERROR(VLOOKUP(N226,#REF!,7,FALSE),\"_\")","v":"_"},{"$f":"IFERROR(VLOOKUP(N226,#REF!,12,FALSE),\"_\")","v":"_"},{"$f":"IFERROR(VLOOKUP(N226,#REF!,3,FALSE),\"\")","v":""},{"$f":"IFERROR(VLOOKUP(N226,#REF!,2,FALSE),\"\")","v":""}]
[{"$error":"#REF!"},{"$f":"IF(VLOOKUP(M227,#REF!,2,FALSE)<=#REF!+1,\"OK\",\"X\")","v":{"$error":"#REF!"}},1,0,1,"OK","7","","","OK",null,null,null,null,{"$f":"IFERROR(VLOOKUP(N227,#REF!,3,FALSE),\"_\")","v":"_"},{"$f":"IFERROR(VLOOKUP(N227,#REF!,7,FALSE),\"_\")","v":"_"},{"$f":"IFERROR(VLOOKUP(N227,#REF!,12,FALSE),\"_\")","v":"_"},{"$f":"IFERROR(VLOOKUP(N227,#REF!,3,FALSE),\"\")","v":""},{"$f":"IFERROR(VLOOKUP(N227,#REF!,2,FALSE),\"\")","v":""}]
[{"$error":"#REF!"},{"$f":"IF(VLOOKUP(M228,#REF!,2,FALSE)<=#REF!+1,\"OK\",\"X\")","v":{"$error":"#REF!"}},1,0,1,"OK","7","","","OK",null,null,null,null,{"$f":"IFERROR(VLOOKUP(N228,#REF!,3,FALSE),\"_\")","v":"_"},{"$f":"IFERROR(VLOOKUP(N228,#REF!,7,FALSE),\"_\")","v":"_"},{"$f":"IFERROR(VLOOKUP(N228,#REF!,12,FALSE),\"_\")","v":"_"},{"$f":"IFERROR(VLOOKUP(N228,#REF!,3,FALSE),\"\")","v":""},{"$f":"IFERROR(VLOOKUP(N228,#REF!,2,FALSE),\"\")","v":""}]
[{"$error":"#REF!"},{"$f":"IF(VLOOKUP(M229,#REF!,2,FALSE)<=#REF!+1,\"OK\",\"X\")","v":{"$error":"#REF!"}},1,0,1,"OK","7","","","OK",null,null,null,null,{"$f":"IFERROR(VLOOKUP(N229,#REF!,3,FALSE),\"_\")","v":"_"},{"$f":"IFERROR(VLOOKUP(N229,#REF!,7,FALSE),\"_\")","v":"_"},{"$f":"IFERROR(VLOOKUP(N229,#REF!,12,FALSE),\"_\")","v":"_"},{"$f":"IFERROR(VLOOKUP(N229,#REF!,3,FALSE),\"\")","v":""},{"$f":"IFERROR(VLOOKUP(N229,#REF!,2,FALSE),\"\")","v":""}]
[{"$error":"#REF!"},{"$f":"IF(VLOOKUP(M230,#REF!,2,FALSE)<=#REF!+1,\"OK\",\"X\")","v":{"$error":"#REF!"}},1,0,1,"OK","7","","","OK",null,null,null,null,{"$f":"IFERROR(VLOOKUP(N230,#REF!,3,FALSE),\"_\")","v":"_"},{"$f":"IFERROR(VLOOKUP(N230,#REF!,7,FALSE),\"_\")","v":"_"},{"$f":"IFERROR(VLOOKUP(N230,#REF!,12,FALSE),\"_\")","v":"_"},{"$f":"IFERROR(VLOOKUP(N230,#REF!,3,FALSE),\"\")","v":""},{"$f":"IFERROR(VLOOKUP(N230,#REF!,2,FALSE),\"\")","v":""}]
[{"$error":"#REF!"},{"$f":"IF(VLOOKUP(M231,#REF!,2,FALSE)<=#REF!+1,\"OK\",\"X\")","v":{"$error":"#REF!"}},1,0,1,"OK","7","","","OK",null,null,null,null,{"$f":"IFERROR(VLOOKUP(N231,#REF!,3,FALSE),\"_\")","v":"_"},{"$f":"IFERROR(VLOOKUP(N231,#REF!,7,FALSE),\"_\")","v":"_"},{"$f":"IFERROR(VLOOKUP(N231,#REF!,12,FALSE),\"_\")","v":"_"},{"$f":"IFERROR(VLOOKUP(N231,#REF!,3,FALSE),\"\")","v":""},{"$f":"IFERROR(VLOOKUP(N231,#REF!,2,FALSE),\"\")","v":""}]
[{"$error":"#REF!"},{"$f":"IF(VLOOKUP(M232,#REF!,2,FALSE)<=#REF!+1,\"OK\",\"X\")","v":{"$error":"#REF!"}},1,0,1,"OK","7","","","OK",null,null,null,null,{"$f":"IFERROR(VLOOKUP(N232,#REF!,3,FALSE),\"_\")","v":"_"},{"$f":"IFERROR(VLOOKUP(N232,#REF!,7,FALSE),\"_\")","v":"_"},{"$f":"IFERROR(VLOOKUP(N232,#REF!,12,FALSE),\"_\")","v":"_"},{"$f":"IFERROR(VLOOKUP(N232,#REF!,3,FALSE),\"\")","v":""},{"$f":"IFERROR(VLOOKUP(N232,#REF!,2,FALSE),\"\")","v":""}]
[{"$error":"#REF!"},{"$f":"IF(VLOOKUP(M233,#REF!,2,FALSE)<=#REF!+1,\"OK\",\"X\")","v":{"$error":"#REF!"}},1,0,1,"OK","7","","","OK",null,null,null,null,{"$f":"IFERROR(VLOOKUP(N233,#REF!,3,FALSE),\"_\")","v":"_"},{"$f":"IFERROR(VLOOKUP(N233,#REF!,7,FALSE),\"_\")","v":"_"},{"$f":"IFERROR(VLOOKUP(N233,#REF!,12,FALSE),\"_\")","v":"_"},{"$f":"IFERROR(VLOOKUP(N233,#REF!,3,FALSE),\"\")","v":""},{"$f":"IFERROR(VLOOKUP(N233,#REF!,2,FALSE),\"\")","v":""}]
[{"$error":"#REF!"},{"$f":"IF(VLOOKUP(M234,#REF!,2,FALSE)<=#REF!+1,\"OK\",\"X\")","v":{"$error":"#REF!"}},1,0,1,"OK","7","","","OK",null,null,null,null,{"$f":"IFERROR(VLOOKUP(N234,#REF!,3,FALSE),\"_\")","v":"_"},{"$f":"IFERROR(VLOOKUP(N234,#REF!,7,FALSE),\"_\")","v":"_"},{"$f":"IFERROR(VLOOKUP(N234,#REF!,12,FALSE),\"_\")","v":"_"},{"$f":"IFERROR(VLOOKUP(N234,#REF!,3,FALSE),\"\")","v":""},{"$f":"IFERROR(VLOOKUP(N234,#REF!,2,FALSE),\"\")","v":""}]
[{"$error":"#REF!"},{"$f":"IF(VLOOKUP(M235,#REF!,2,FALSE)<=#REF!+1,\"OK\",\"X\")","v":{"$error":"#REF!"}},1,0,1,"OK","7","","","OK",null,null,null,null,{"$f":"IFERROR(VLOOKUP(N235,#REF!,3,FALSE),\"_\")","v":"_"},{"$f":"IFERROR(VLOOKUP(N235,#REF!,7,FALSE),\"_\")","v":"_"},{"$f":"IFERROR(VLOOKUP(N235,#REF!,12,FALSE),\"_\")","v":"_"},{"$f":"IFERROR(VLOOKUP(N235,#REF!,3,FALSE),\"\")","v":""},{"$f":"IFERROR(VLOOKUP(N235,#REF!,2,FALSE),\"\")","v":""}]
[{"$error":"#REF!"},{"$f":"IF(VLOOKUP(M236,#REF!,2,FALSE)<=#REF!+1,\"OK\",\"X\")","v":{"$error":"#REF!"}},1,0,1,"OK","7","","","OK",null,null,null,null,{"$f":"IFERROR(VLOOKUP(N236,#REF!,3,FALSE),\"_\")","v":"_"},{"$f":"IFERROR(VLOOKUP(N236,#REF!,7,FALSE),\"_\")","v":"_"},{"$f":"IFERROR(VLOOKUP(N236,#REF!,12,FALSE),\"_\")","v":"_"},{"$f":"IFERROR(VLOOKUP(N236,#REF!,3,FALSE),\"\")","v":""},{"$f":"IFERROR(VLOOKUP(N236,#REF!,2,FALSE),\"\")","v":""}]
[{"$error":"#REF!"},{"$f":"IF(VLOOKUP(M237,#REF!,2,FALSE)<=#REF!+1,\"OK\",\"X\")","v":{"$error":"#REF!"}},1,0,1,"OK","7","","","OK",null,null,null,null,{"$f":"IFERROR(VLOOKUP(N237,#REF!,3,FALSE),\"_\")","v":"_"},{"$f":"IFERROR(VLOOKUP(N237,#REF!,7,FALSE),\"_\")","v":"_"},{"$f":"IFERROR(VLOOKUP(N237,#REF!,12,FALSE),\"_\")","v":"_"},{"$f":"IFERROR(VLOOKUP(N237,#REF!,3,FALSE),\"\")","v":""},{"$f":"IFERROR(VLOOKUP(N237,#REF!,2,FALSE),\"\")","v":""}]
[{"$error":"#REF!"},{"$f":"IF(VLOOKUP(M238,#REF!,2,FALSE)<=#REF!+1,\"OK\",\"X\")","v":{"$error":"#REF!"}},1,0,1,"OK","7","","","OK",null,null,null,null,{"$f":"IFERROR(VLOOKUP(N238,#REF!,3,FALSE),\"_\")","v":"_"},{"$f":"IFERROR(VLOOKUP(N238,#REF!,7,FALSE),\"_\")","v":"_"},{"$f":"IFERROR(VLOOKUP(N238,#REF!,12,FALSE),\"_\")","v":"_"},{"$f":"IFERROR(VLOOKUP(N238,#REF!,3,FALSE),\"\")","v":""},{"$f":"IFERROR(VLOOKUP(N238,#REF!,2,FALSE),\"\")","v":""}]
[{"$error":"#REF!"},{"$f":"IF(VLOOKUP(M239,#REF!,2,FALSE)<=#REF!+1,\"OK\",\"X\")","v":{"$error":"#REF!"}},1,0,1,"OK","7","","","OK",null,null,null,null,{"$f":"IFERROR(VLOOKUP(N239,#REF!,3,FALSE),\"_\")","v":"_"},{"$f":"IFERROR(VLOOKUP(N239,#REF!,7,FALSE),\"_\")","v":"_"},{"$f":"IFERROR(VLOOKUP(N239,#REF!,12,FALSE),\"_\")","v":"_"},{"$f":"IFERROR(VLOOKUP(N239,#REF!,3,FALSE),\"\")","v":""},{"$f":"IFERROR(VLOOKUP(N239,#REF!,2,FALSE),\"\")","v":""}]
[{"$error":"#REF!"},{"$f":"IF(VLOOKUP(M240,#REF!,2,FALSE)<=#REF!+1,\"OK\",\"X\")","v":{"$error":"#REF!"}},1,0,1,"OK","7","","","OK",null,null,null,null,{"$f":"IFERROR(VLOOKUP(N240,#REF!,3,FALSE),\"_\")","v":"_"},{"$f":"IFERROR(VLOOKUP(N240,#REF!,7,FALSE),\"_\")","v":"_"},{"$f":"IFERROR(VLOOKUP(N240,#REF!,12,FALSE),\"_\")","v":"_"},{"$f":"IFERROR(VLOOKUP(N240,#REF!,3,FALSE),\"\")","v":""},{"$f":"IFERROR(VLOOKUP(N240,#REF!,2,FALSE),\"\")","v":""}]
[{"$error":"#REF!"},{"$f":"IF(VLOOKUP(M241,#REF!,2,FALSE)<=#REF!+1,\"OK\",\"X\")","v":{"$error":"#REF!"}},1,0,1,"OK","7","","","OK",null,null,null,null,{"$f":"IFERROR(VLOOKUP(N241,#REF!,3,FALSE),\"_\")","v":"_"},{"$f":"IFERROR(VLOOKUP(N241,#REF!,7,FALSE),\"_\")","v":"_"},{"$f":"IFERROR(VLOOKUP(N241,#REF!,12,FALSE),\"_\")","v":"_"},{"$f":"IFERROR(VLOOKUP(N241,#REF!,3,FALSE),\"\")","v":""},{"$f":"IFERROR(VLOOKUP(N241,#REF!,2,FALSE),\"\")","v":""}]
[{"$error":"#REF!"},{"$f":"IF(VLOOKUP(M242,#REF!,2,FALSE)<=#REF!+1,\"OK\",\"X\")","v":{"$error":"#REF!"}},1,0,1,"OK","7","","","OK",null,null,null,null,{"$f":"IFERROR(VLOOKUP(N242,#REF!,3,FALSE),\"_\")","v":"_"},{"$f":"IFERROR(VLOOKUP(N242,#REF!,7,FALSE),\"_\")","v":"_"},{"$f":"IFERROR(VLOOKUP(N242,#REF!,12,FALSE),\"_\")","v":"_"},{"$f":"IFERROR(VLOOKUP(N242,#REF!,3,FALSE),\"\")","v":""},{"$f":"IFERROR(VLOOKUP(N242,#REF!,2,FALSE),\"\")","v":""}]
[{"$error":"#REF!"},{"$f":"IF(VLOOKUP(M243,#REF!,2,FALSE)<=#REF!+1,\"OK\",\"X\")","v":{"$error":"#REF!"}},1,0,1,"OK","7","","","OK",null,null,null,null,{"$f":"IFERROR(VLOOKUP(N243,#REF!,3,FALSE),\"_\")","v":"_"},{"$f":"IFERROR(VLOOKUP(N243,#REF!,7,FALSE),\"_\")","v":"_"},{"$f":"IFERROR(VLOOKUP(N243,#REF!,12,FALSE),\"_\")","v":"_"},{"$f":"IFERROR(VLOOKUP(N243,#REF!,3,FALSE),\"\")","v":""},{"$f":"IFERROR(VLOOKUP(N243,#REF!,2,FALSE),\"\")","v":""}]
[{"$error":"#REF!"},{"$f":"IF(VLOOKUP(M244,#REF!,2,FALSE)<=#REF!+1,\"OK\",\"X\")","v":{"$error":"#REF!"}},1,0,1,"OK","7","","","OK",null,null,null,null,{"$f":"IFERROR(VLOOKUP(N244,#REF!,3,FALSE),\"_\")","v":"_"},{"$f":"IFERROR(VLOOKUP(N244,#REF!,7,FALSE),\"_\")","v":"_"},{"$f":"IFERROR(VLOOKUP(N244,#REF!,12,FALSE),\"_\")","v":"_"},{"$f":"IFERROR(VLOOKUP(N244,#REF!,3,FALSE),\"\")","v":""},{"$f":"IFERROR(VLOOKUP(N244,#REF!,2,FALSE),\"\")","v":""}]
[{"$error":"#REF!"},{"$f":"IF(VLOOKUP(M245,#REF!,2,FALSE)<=#REF!+1,\"OK\",\"X\")","v":{"$error":"#REF!"}},1,0,1,"OK","7","","","OK",null,null,null,null,{"$f":"IFERROR(VLOOKUP(N245,#REF!,3,FALSE),\"_\")","v":"_"},{"$f":"IFERROR(VLOOKUP(N245,#REF!,7,FALSE),\"_\")","v":"_"},{"$f":"IFERROR(VLOOKUP(N245,#REF!,12,FALSE),\"_\")","v":"_"},{"$f":"IFERROR(VLOOKUP(N245,#REF!,3,FALSE),\"\")","v":""},{"$f":"IFERROR(VLOOKUP(N245,#REF!,2,FALSE),\"\")","v":""}]
[{"$error":"#REF!"},{"$f":"IF(VLOOKUP(M246,#REF!,2,FALSE)<=#REF!+1,\"OK\",\"X\")","v":{"$error":"#REF!"}},1,0,1,"OK","7","","","OK",null,null,null,null,{"$f":"IFERROR(VLOOKUP(N246,#REF!,3,FALSE),\"_\")","v":"_"},{"$f":"IFERROR(VLOOKUP(N246,#REF!,7,FALSE),\"_\")","v":"_"},{"$f":"IFERROR(VLOOKUP(N246,#REF!,12,FALSE),\"_\")","v":"_"},{"$f":"IFERROR(VLOOKUP(N246,#REF!,3,FALSE),\"\")","v":""},{"$f":"IFERROR(VLOOKUP(N246,#REF!,2,FALSE),\"\")","v":""}]
[{"$error":"#REF!"},{"$f":"IF(VLOOKUP(M247,#REF!,2,FALSE)<=#REF!+1,\"OK\",\"X\")","v":{"$error":"#REF!"}},1,0,1,"OK","7","","","OK",null,null,null,null,{"$f":"IFERROR(VLOOKUP(N247,#REF!,3,FALSE),\"_\")","v":"_"},{"$f":"IFERROR(VLOOKUP(N247,#REF!,7,FALSE),\"_\")","v":"_"},{"$f":"IFERROR(VLOOKUP(N247,#REF!,12,FALSE),\"_\")","v":"_"},{"$f":"IFERROR(VLOOKUP(N247,#REF!,3,FALSE),\"\")","v":""},{"$f":"IFERROR(VLOOKUP(N247,#REF!,2,FALSE),\"\")","v":""}]
[{"$error":"#REF!"},{"$f":"IF(VLOOKUP(M248,#REF!,2,FALSE)<=#REF!+1,\"OK\",\"X\")","v":{"$error":"#REF!"}},1,0,1,"OK","7","","","OK",null,null,null,null,{"$f":"IFERROR(VLOOKUP(N248,#REF!,3,FALSE),\"_\")","v":"_"},{"$f":"IFERROR(VLOOKUP(N248,#REF!,7,FALSE),\"_\")","v":"_"},{"$f":"IFERROR(VLOOKUP(N248,#REF!,12,FALSE),\"_\")","v":"_"},{"$f":"IFERROR(VLOOKUP(N248,#REF!,3,FALSE),\"\")","v":""},{"$f":"IFERROR(VLOOKUP(N248,#REF!,2,FALSE),\"\")","v":""}]
[{"$error":"#REF!"},{"$f":"IF(VLOOKUP(M249,#REF!,2,FALSE)<=#REF!+1,\"OK\",\"X\")","v":{"$error":"#REF!"}},1,0,1,"OK","7","","","OK",null,null,null,null,{"$f":"IFERROR(VLOOKUP(N249,#REF!,3,FALSE),\"_\")","v":"_"},{"$f":"IFERROR(VLOOKUP(N249,#REF!,7,FALSE),\"_\")","v":"_"},{"$f":"IFERROR(VLOOKUP(N249,#REF!,12,FALSE),\"_\")","v":"_"},{"$f":"IFERROR(VLOOKUP(N249,#REF!,3,FALSE),\"\")","v":""},{"$f":"IFERROR(VLOOKUP(N249,#REF!,2,FALSE),\"\")","v":""}]
[{"$error":"#REF!"},{"$f":"IF(VLOOKUP(M250,#REF!,2,FALSE)<=#REF!+1,\"OK\",\"X\")","v":{"$error":"#REF!"}},1,0,1,"OK","7","","","OK",null,null,null,null,{"$f":"IFERROR(VLOOKUP(N250,#REF!,3,FALSE),\"_\")","v":"_"},{"$f":"IFERROR(VLOOKUP(N250,#REF!,7,FALSE),\"_\")","v":"_"},{"$f":"IFERROR(VLOOKUP(N250,#REF!,12,FALSE),\"_\")","v":"_"},{"$f":"IFERROR(VLOOKUP(N250,#REF!,3,FALSE),\"\")","v":""},{"$f":"IFERROR(VLOOKUP(N250,#REF!,2,FALSE),\"\")","v":""}]
[{"$error":"#REF!"},{"$f":"IF(VLOOKUP(M251,#REF!,2,FALSE)<=#REF!+1,\"OK\",\"X\")","v":{"$error":"#REF!"}},1,0,1,"OK","7","","","OK",null,null,null,null,{"$f":"IFERROR(VLOOKUP(N251,#REF!,3,FALSE),\"_\")","v":"_"},{"$f":"IFERROR(VLOOKUP(N251,#REF!,7,FALSE),\"_\")","v":"_"},{"$f":"IFERROR(VLOOKUP(N251,#REF!,12,FALSE),\"_\")","v":"_"},{"$f":"IFERROR(VLOOKUP(N251,#REF!,3,FALSE),\"\")","v":""},{"$f":"IFERROR(VLOOKUP(N251,#REF!,2,FALSE),\"\")","v":""}]
[{"$error":"#REF!"},{"$f":"IF(VLOOKUP(M252,#REF!,2,FALSE)<=#REF!+1,\"OK\",\"X\")","v":{"$error":"#REF!"}},1,0,1,"OK","7","","","OK",null,null,null,null,{"$f":"IFERROR(VLOOKUP(N252,#REF!,3,FALSE),\"_\")","v":"_"},{"$f":"IFERROR(VLOOKUP(N252,#REF!,7,FALSE),\"_\")","v":"_"},{"$f":"IFERROR(VLOOKUP(N252,#REF!,12,FALSE),\"_\")","v":"_"},{"$f":"IFERROR(VLOOKUP(N252,#REF!,3,FALSE),\"\")","v":""},{"$f":"IFERROR(VLOOKUP(N252,#REF!,2,FALSE),\"\")","v":""}]
[{"$error":"#REF!"},{"$f":"IF(VLOOKUP(M253,#REF!,2,FALSE)<=#REF!+1,\"OK\",\"X\")","v":{"$error":"#REF!"}},1,0,1,"OK","7","","","OK",null,null,null,null,{"$f":"IFERROR(VLOOKUP(N253,#REF!,3,FALSE),\"_\")","v":"_"},{"$f":"IFERROR(VLOOKUP(N253,#REF!,7,FALSE),\"_\")","v":"_"},{"$f":"IFERROR(VLOOKUP(N253,#REF!,12,FALSE),\"_\")","v":"_"},{"$f":"IFERROR(VLOOKUP(N253,#REF!,3,FALSE),\"\")","v":""},{"$f":"IFERROR(VLOOKUP(N253,#REF!,2,FALSE),\"\")","v":""}]
[{"$error":"#REF!"},{"$f":"IF(VLOOKUP(M254,#REF!,2,FALSE)<=#REF!+1,\"OK\",\"X\")","v":{"$error":"#REF!"}},1,0,1,"OK","7","","","OK",null,null,null,null,{"$f":"IFERROR(VLOOKUP(N254,#REF!,3,FALSE),\"_\")","v":"_"},{"$f":"IFERROR(VLOOKUP(N254,#REF!,7,FALSE),\"_\")","v":"_"},{"$f":"IFERROR(VLOOKUP(N254,#REF!,12,FALSE),\"_\")","v":"_"},{"$f":"IFERROR(VLOOKUP(N254,#REF!,3,FALSE),\"\")","v":""},{"$f":"IFERROR(VLOOKUP(N254,#REF!,2,FALSE),\"\")","v":""}]
[{"$error":"#REF!"},{"$f":"IF(VLOOKUP(M255,#REF!,2,FALSE)<=#REF!+1,\"OK\",\"X\")","v":{"$error":"#REF!"}},1,0,1,"OK","7","","","OK",null,null,null,null,{"$f":"IFERROR(VLOOKUP(N255,#REF!,3,FALSE),\"_\")","v":"_"},{"$f":"IFERROR(VLOOKUP(N255,#REF!,7,FALSE),\"_\")","v":"_"},{"$f":"IFERROR(VLOOKUP(N255,#REF!,12,FALSE),\"_\")","v":"_"},{"$f":"IFERROR(VLOOKUP(N255,#REF!,3,FALSE),\"\")","v":""},{"$f":"IFERROR(VLOOKUP(N255,#REF!,2,FALSE),\"\")","v":""}]
[{"$error":"#REF!"},{"$f":"IF(VLOOKUP(M256,#REF!,2,FALSE)<=#REF!+1,\"OK\",\"X\")","v":{"$error":"#REF!"}},1,0,1,"OK","7","","","OK",null,null,null,null,{"$f":"IFERROR(VLOOKUP(N256,#REF!,3,FALSE),\"_\")","v":"_"},{"$f":"IFERROR(VLOOKUP(N256,#REF!,7,FALSE),\"_\")","v":"_"},{"$f":"IFERROR(VLOOKUP(N256,#REF!,12,FALSE),\"_\")","v":"_"},{"$f":"IFERROR(VLOOKUP(N256,#REF!,3,FALSE),\"\")","v":""},{"$f":"IFERROR(VLOOKUP(N256,#REF!,2,FALSE),\"\")","v":""}]
[{"$error":"#REF!"},{"$f":"IF(VLOOKUP(M257,#REF!,2,FALSE)<=#REF!+1,\"OK\",\"X\")","v":{"$error":"#REF!"}},1,0,1,"OK","7","","","OK",null,null,null,null,{"$f":"IFERROR(VLOOKUP(N257,#REF!,3,FALSE),\"_\")","v":"_"},{"$f":"IFERROR(VLOOKUP(N257,#REF!,7,FALSE),\"_\")","v":"_"},{"$f":"IFERROR(VLOOKUP(N257,#REF!,12,FALSE),\"_\")","v":"_"},{"$f":"IFERROR(VLOOKUP(N257,#REF!,3,FALSE),\"\")","v":""},{"$f":"IFERROR(VLOOKUP(N257,#REF!,2,FALSE),\"\")","v":""}]
[{"$error":"#REF!"},{"$f":"IF(VLOOKUP(M258,#REF!,2,FALSE)<=#REF!+1,\"OK\",\"X\")","v":{"$error":"#REF!"}},1,0,1,"OK","7","","","OK",null,null,null,null,{"$f":"IFERROR(VLOOKUP(N258,#REF!,3,FALSE),\"_\")","v":"_"},{"$f":"IFERROR(VLOOKUP(N258,#REF!,7,FALSE),\"_\")","v":"_"},{"$f":"IFERROR(VLOOKUP(N258,#REF!,12,FALSE),\"_\")","v":"_"},{"$f":"IFERROR(VLOOKUP(N258,#REF!,3,FALSE),\"\")","v":""},{"$f":"IFERROR(VLOOKUP(N258,#REF!,2,FALSE),\"\")","v":""}]
[{"$error":"#REF!"},{"$f":"IF(VLOOKUP(M259,#REF!,2,FALSE)<=#REF!+1,\"OK\",\"X\")","v":{"$error":"#REF!"}},1,0,1,"OK","7","","","OK",null,null,null,null,{"$f":"IFERROR(VLOOKUP(N259,#REF!,3,FALSE),\"_\")","v":"_"},{"$f":"IFERROR(VLOOKUP(N259,#REF!,7,FALSE),\"_\")","v":"_"},{"$f":"IFERROR(VLOOKUP(N259,#REF!,12,FALSE),\"_\")","v":"_"},{"$f":"IFERROR(VLOOKUP(N259,#REF!,3,FALSE),\"\")","v":""},{"$f":"IFERROR(VLOOKUP(N259,#REF!,2,FALSE),\"\")","v":""}]
[{"$error":"#REF!"},{"$f":"IF(VLOOKUP(M260,#REF!,2,FALSE)<=#REF!+1,\"OK\",\"X\")","v":{"$error":"#REF!"}},1,0,1,"OK","7","","","OK",null,null,null,null,{"$f":"IFERROR(VLOOKUP(N260,#REF!,3,FALSE),\"_\")","v":"_"},{"$f":"IFERROR(VLOOKUP(N260,#REF!,7,FALSE),\"_\")","v":"_"},{"$f":"IFERROR(VLOOKUP(N260,#REF!,12,FALSE),\"_\")","v":"_"},{"$f":"IFERROR(VLOOKUP(N260,#REF!,3,FALSE),\"\")","v":""},{"$f":"IFERROR(VLOOKUP(N260,#REF!,2,FALSE),\"\")","v":""}]
[{"$f":"L261&LEFT(P261,3)&B261","v":{"$error":"#REF!"}},{"$f":"IF(VLOOKUP(M261,#REF!,2,FALSE)<=#REF!+1,\"OK\",\"X\")","v":{"$error":"#REF!"}},{"$f":"IF(P261=\"start dummy operation\",0,1)","v":1},{"$f":"IF(U261=\"Y\",1,0)","v":0},{"$f":"SUM(C261:D261)","v":1},{"$f":"IF(E261>0,\"OK\",\"X2\")","v":"OK"},{"$f":"WEEKDAY(V261)&T261","v":"7"},{"$f":"L261&M261","v":""},{"$f":"M261&L261&U261","v":""},{"$f":"M261&L261&F261","v":"OK"},null,null,null,null,{"$f":"IFERROR(VLOOKUP(N261,#REF!,3,FALSE),\"_\")","v":"_"},{"$f":"IFERROR(VLOOKUP(N261,#REF!,7,FALSE),\"_\")","v":"_"},{"$f":"IFERROR(VLOOKUP(N261,#REF!,12,FALSE),\"_\")","v":"_"},{"$f":"IFERROR(VLOOKUP(N261,#REF!,3,FALSE),\"\")","v":""},{"$f":"IFERROR(VLOOKUP(N261,#REF!,2,FALSE),\"\")","v":""}]
[{"$error":"#REF!"},{"$f":"IF(VLOOKUP(M262,#REF!,2,FALSE)<=#REF!+1,\"OK\",\"X\")","v":{"$error":"#REF!"}},1,0,1,"OK","7","","","OK",null,null,null,null,{"$f":"IFERROR(VLOOKUP(N262,#REF!,3,FALSE),\"_\")","v":"_"},{"$f":"IFERROR(VLOOKUP(N262,#REF!,7,FALSE),\"_\")","v":"_"},{"$f":"IFERROR(VLOOKUP(N262,#REF!,12,FALSE),\"_\")","v":"_"},{"$f":"IFERROR(VLOOKUP(N262,#REF!,3,FALSE),\"\")","v":""},{"$f":"IFERROR(VLOOKUP(N262,#REF!,2,FALSE),\"\")","v":""}]
[{"$error":"#REF!"},{"$f":"IF(VLOOKUP(M263,#REF!,2,FALSE)<=#REF!+1,\"OK\",\"X\")","v":{"$error":"#REF!"}},1,0,1,"OK","7","","","OK",null,null,null,null,{"$f":"IFERROR(VLOOKUP(N263,#REF!,3,FALSE),\"_\")","v":"_"},{"$f":"IFERROR(VLOOKUP(N263,#REF!,7,FALSE),\"_\")","v":"_"},{"$f":"IFERROR(VLOOKUP(N263,#REF!,12,FALSE),\"_\")","v":"_"},{"$f":"IFERROR(VLOOKUP(N263,#REF!,3,FALSE),\"\")","v":""},{"$f":"IFERROR(VLOOKUP(N263,#REF!,2,FALSE),\"\")","v":""}]
[{"$error":"#REF!"},{"$f":"IF(VLOOKUP(M264,#REF!,2,FALSE)<=#REF!+1,\"OK\",\"X\")","v":{"$error":"#REF!"}},1,0,1,"OK","7","","","OK",null,null,null,null,{"$f":"IFERROR(VLOOKUP(N264,#REF!,3,FALSE),\"_\")","v":"_"},{"$f":"IFERROR(VLOOKUP(N264,#REF!,7,FALSE),\"_\")","v":"_"},{"$f":"IFERROR(VLOOKUP(N264,#REF!,12,FALSE),\"_\")","v":"_"},{"$f":"IFERROR(VLOOKUP(N264,#REF!,3,FALSE),\"\")","v":""},{"$f":"IFERROR(VLOOKUP(N264,#REF!,2,FALSE),\"\")","v":""}]
[{"$error":"#REF!"},{"$f":"IF(VLOOKUP(M265,#REF!,2,FALSE)<=#REF!+1,\"OK\",\"X\")","v":{"$error":"#REF!"}},1,0,1,"OK","7","","","OK",null,null,null,null,{"$f":"IFERROR(VLOOKUP(N265,#REF!,3,FALSE),\"_\")","v":"_"},{"$f":"IFERROR(VLOOKUP(N265,#REF!,7,FALSE),\"_\")","v":"_"},{"$f":"IFERROR(VLOOKUP(N265,#REF!,12,FALSE),\"_\")","v":"_"},{"$f":"IFERROR(VLOOKUP(N265,#REF!,3,FALSE),\"\")","v":""},{"$f":"IFERROR(VLOOKUP(N265,#REF!,2,FALSE),\"\")","v":""}]
[{"$error":"#REF!"},{"$f":"IF(VLOOKUP(M266,#REF!,2,FALSE)<=#REF!+1,\"OK\",\"X\")","v":{"$error":"#REF!"}},1,0,1,"OK","7","","","OK",null,null,null,null,{"$f":"IFERROR(VLOOKUP(N266,#REF!,3,FALSE),\"_\")","v":"_"},{"$f":"IFERROR(VLOOKUP(N266,#REF!,7,FALSE),\"_\")","v":"_"},{"$f":"IFERROR(VLOOKUP(N266,#REF!,12,FALSE),\"_\")","v":"_"},{"$f":"IFERROR(VLOOKUP(N266,#REF!,3,FALSE),\"\")","v":""},{"$f":"IFERROR(VLOOKUP(N266,#REF!,2,FALSE),\"\")","v":""}]
[{"$error":"#REF!"},{"$f":"IF(VLOOKUP(M267,#REF!,2,FALSE)<=#REF!+1,\"OK\",\"X\")","v":{"$error":"#REF!"}},1,0,1,"OK","7","","","OK",null,null,null,null,{"$f":"IFERROR(VLOOKUP(N267,#REF!,3,FALSE),\"_\")","v":"_"},{"$f":"IFERROR(VLOOKUP(N267,#REF!,7,FALSE),\"_\")","v":"_"},{"$f":"IFERROR(VLOOKUP(N267,#REF!,12,FALSE),\"_\")","v":"_"},{"$f":"IFERROR(VLOOKUP(N267,#REF!,3,FALSE),\"\")","v":""},{"$f":"IFERROR(VLOOKUP(N267,#REF!,2,FALSE),\"\")","v":""}]
[{"$error":"#REF!"},{"$f":"IF(VLOOKUP(M268,#REF!,2,FALSE)<=#REF!+1,\"OK\",\"X\")","v":{"$error":"#REF!"}},1,0,1,"OK","7","","","OK",null,null,null,null,{"$f":"IFERROR(VLOOKUP(N268,#REF!,3,FALSE),\"_\")","v":"_"},{"$f":"IFERROR(VLOOKUP(N268,#REF!,7,FALSE),\"_\")","v":"_"},{"$f":"IFERROR(VLOOKUP(N268,#REF!,12,FALSE),\"_\")","v":"_"},{"$f":"IFERROR(VLOOKUP(N268,#REF!,3,FALSE),\"\")","v":""},{"$f":"IFERROR(VLOOKUP(N268,#REF!,2,FALSE),\"\")","v":""}]
[{"$error":"#REF!"},{"$f":"IF(VLOOKUP(M269,#REF!,2,FALSE)<=#REF!+1,\"OK\",\"X\")","v":{"$error":"#REF!"}},1,0,1,"OK","7","","","OK",null,null,null,null,{"$f":"IFERROR(VLOOKUP(N269,#REF!,3,FALSE),\"_\")","v":"_"},{"$f":"IFERROR(VLOOKUP(N269,#REF!,7,FALSE),\"_\")","v":"_"},{"$f":"IFERROR(VLOOKUP(N269,#REF!,12,FALSE),\"_\")","v":"_"},{"$f":"IFERROR(VLOOKUP(N269,#REF!,3,FALSE),\"\")","v":""},{"$f":"IFERROR(VLOOKUP(N269,#REF!,2,FALSE),\"\")","v":""}]
[{"$error":"#REF!"},{"$f":"IF(VLOOKUP(M270,#REF!,2,FALSE)<=#REF!+1,\"OK\",\"X\")","v":{"$error":"#REF!"}},1,0,1,"OK","7","","","OK",null,null,null,null,{"$f":"IFERROR(VLOOKUP(N270,#REF!,3,FALSE),\"_\")","v":"_"},{"$f":"IFERROR(VLOOKUP(N270,#REF!,7,FALSE),\"_\")","v":"_"},{"$f":"IFERROR(VLOOKUP(N270,#REF!,12,FALSE),\"_\")","v":"_"},{"$f":"IFERROR(VLOOKUP(N270,#REF!,3,FALSE),\"\")","v":""},{"$f":"IFERROR(VLOOKUP(N270,#REF!,2,FALSE),\"\")","v":""}]
[{"$error":"#REF!"},{"$f":"IF(VLOOKUP(M271,#REF!,2,FALSE)<=#REF!+1,\"OK\",\"X\")","v":{"$error":"#REF!"}},1,0,1,"OK","7","","","OK",null,null,null,null,{"$f":"IFERROR(VLOOKUP(N271,#REF!,3,FALSE),\"_\")","v":"_"},{"$f":"IFERROR(VLOOKUP(N271,#REF!,7,FALSE),\"_\")","v":"_"},{"$f":"IFERROR(VLOOKUP(N271,#REF!,12,FALSE),\"_\")","v":"_"},{"$f":"IFERROR(VLOOKUP(N271,#REF!,3,FALSE),\"\")","v":""},{"$f":"IFERROR(VLOOKUP(N271,#REF!,2,FALSE),\"\")","v":""}]
[{"$error":"#REF!"},{"$f":"IF(VLOOKUP(M272,#REF!,2,FALSE)<=#REF!+1,\"OK\",\"X\")","v":{"$error":"#REF!"}},1,0,1,"OK","7","","","OK",null,null,null,null,{"$f":"IFERROR(VLOOKUP(N272,#REF!,3,FALSE),\"_\")","v":"_"},{"$f":"IFERROR(VLOOKUP(N272,#REF!,7,FALSE),\"_\")","v":"_"},{"$f":"IFERROR(VLOOKUP(N272,#REF!,12,FALSE),\"_\")","v":"_"},{"$f":"IFERROR(VLOOKUP(N272,#REF!,3,FALSE),\"\")","v":""},{"$f":"IFERROR(VLOOKUP(N272,#REF!,2,FALSE),\"\")","v":""}]
[{"$error":"#REF!"},{"$f":"IF(VLOOKUP(M273,#REF!,2,FALSE)<=#REF!+1,\"OK\",\"X\")","v":{"$error":"#REF!"}},1,0,1,"OK","7","","","OK",null,null,null,null,{"$f":"IFERROR(VLOOKUP(N273,#REF!,3,FALSE),\"_\")","v":"_"},{"$f":"IFERROR(VLOOKUP(N273,#REF!,7,FALSE),\"_\")","v":"_"},{"$f":"IFERROR(VLOOKUP(N273,#REF!,12,FALSE),\"_\")","v":"_"},{"$f":"IFERROR(VLOOKUP(N273,#REF!,3,FALSE),\"\")","v":""},{"$f":"IFERROR(VLOOKUP(N273,#REF!,2,FALSE),\"\")","v":""}]
[{"$error":"#REF!"},{"$f":"IF(VLOOKUP(M274,#REF!,2,FALSE)<=#REF!+1,\"OK\",\"X\")","v":{"$error":"#REF!"}},1,0,1,"OK","7","","","OK",null,null,null,null,{"$f":"IFERROR(VLOOKUP(N274,#REF!,3,FALSE),\"_\")","v":"_"},{"$f":"IFERROR(VLOOKUP(N274,#REF!,7,FALSE),\"_\")","v":"_"},{"$f":"IFERROR(VLOOKUP(N274,#REF!,12,FALSE),\"_\")","v":"_"},{"$f":"IFERROR(VLOOKUP(N274,#REF!,3,FALSE),\"\")","v":""},{"$f":"IFERROR(VLOOKUP(N274,#REF!,2,FALSE),\"\")","v":""}]
[{"$error":"#REF!"},{"$f":"IF(VLOOKUP(M275,#REF!,2,FALSE)<=#REF!+1,\"OK\",\"X\")","v":{"$error":"#REF!"}},1,0,1,"OK","7","","","OK",null,null,null,null,{"$f":"IFERROR(VLOOKUP(N275,#REF!,3,FALSE),\"_\")","v":"_"},{"$f":"IFERROR(VLOOKUP(N275,#REF!,7,FALSE),\"_\")","v":"_"},{"$f":"IFERROR(VLOOKUP(N275,#REF!,12,FALSE),\"_\")","v":"_"},{"$f":"IFERROR(VLOOKUP(N275,#REF!,3,FALSE),\"\")","v":""},{"$f":"IFERROR(VLOOKUP(N275,#REF!,2,FALSE),\"\")","v":""}]
[{"$error":"#REF!"},{"$f":"IF(VLOOKUP(M276,#REF!,2,FALSE)<=#REF!+1,\"OK\",\"X\")","v":{"$error":"#REF!"}},1,0,1,"OK","7","","","OK",null,null,null,null,{"$f":"IFERROR(VLOOKUP(N276,#REF!,3,FALSE),\"_\")","v":"_"},{"$f":"IFERROR(VLOOKUP(N276,#REF!,7,FALSE),\"_\")","v":"_"},{"$f":"IFERROR(VLOOKUP(N276,#REF!,12,FALSE),\"_\")","v":"_"},{"$f":"IFERROR(VLOOKUP(N276,#REF!,3,FALSE),\"\")","v":""},{"$f":"IFERROR(VLOOKUP(N276,#REF!,2,FALSE),\"\")","v":""}]
[{"$error":"#REF!"},{"$f":"IF(VLOOKUP(M277,#REF!,2,FALSE)<=#REF!+1,\"OK\",\"X\")","v":{"$error":"#REF!"}},1,0,1,"OK","7","","","OK",null,null,null,null,{"$f":"IFERROR(VLOOKUP(N277,#REF!,3,FALSE),\"_\")","v":"_"},{"$f":"IFERROR(VLOOKUP(N277,#REF!,7,FALSE),\"_\")","v":"_"},{"$f":"IFERROR(VLOOKUP(N277,#REF!,12,FALSE),\"_\")","v":"_"},{"$f":"IFERROR(VLOOKUP(N277,#REF!,3,FALSE),\"\")","v":""},{"$f":"IFERROR(VLOOKUP(N277,#REF!,2,FALSE),\"\")","v":""}]
[{"$error":"#REF!"},{"$f":"IF(VLOOKUP(M278,#REF!,2,FALSE)<=#REF!+1,\"OK\",\"X\")","v":{"$error":"#REF!"}},1,0,1,"OK","7","","","OK",null,null,null,null,{"$f":"IFERROR(VLOOKUP(N278,#REF!,3,FALSE),\"_\")","v":"_"},{"$f":"IFERROR(VLOOKUP(N278,#REF!,7,FALSE),\"_\")","v":"_"},{"$f":"IFERROR(VLOOKUP(N278,#REF!,12,FALSE),\"_\")","v":"_"},{"$f":"IFERROR(VLOOKUP(N278,#REF!,3,FALSE),\"\")","v":""},{"$f":"IFERROR(VLOOKUP(N278,#REF!,2,FALSE),\"\")","v":""}]
[{"$error":"#REF!"},{"$f":"IF(VLOOKUP(M279,#REF!,2,FALSE)<=#REF!+1,\"OK\",\"X\")","v":{"$error":"#REF!"}},1,0,1,"OK","7","","","OK",null,null,null,null,{"$f":"IFERROR(VLOOKUP(N279,#REF!,3,FALSE),\"_\")","v":"_"},{"$f":"IFERROR(VLOOKUP(N279,#REF!,7,FALSE),\"_\")","v":"_"},{"$f":"IFERROR(VLOOKUP(N279,#REF!,12,FALSE),\"_\")","v":"_"},{"$f":"IFERROR(VLOOKUP(N279,#REF!,3,FALSE),\"\")","v":""},{"$f":"IFERROR(VLOOKUP(N279,#REF!,2,FALSE),\"\")","v":""}]
[{"$error":"#REF!"},{"$f":"IF(VLOOKUP(M280,#REF!,2,FALSE)<=#REF!+1,\"OK\",\"X\")","v":{"$error":"#REF!"}},1,0,1,"OK","7","","","OK",null,null,null,null,{"$f":"IFERROR(VLOOKUP(N280,#REF!,3,FALSE),\"_\")","v":"_"},{"$f":"IFERROR(VLOOKUP(N280,#REF!,7,FALSE),\"_\")","v":"_"},{"$f":"IFERROR(VLOOKUP(N280,#REF!,12,FALSE),\"_\")","v":"_"},{"$f":"IFERROR(VLOOKUP(N280,#REF!,3,FALSE),\"\")","v":""},{"$f":"IFERROR(VLOOKUP(N280,#REF!,2,FALSE),\"\")","v":""}]
[{"$error":"#REF!"},{"$f":"IF(VLOOKUP(M281,#REF!,2,FALSE)<=#REF!+1,\"OK\",\"X\")","v":{"$error":"#REF!"}},1,0,1,"OK","7","","","OK",null,null,null,null,{"$f":"IFERROR(VLOOKUP(N281,#REF!,3,FALSE),\"_\")","v":"_"},{"$f":"IFERROR(VLOOKUP(N281,#REF!,7,FALSE),\"_\")","v":"_"},{"$f":"IFERROR(VLOOKUP(N281,#REF!,12,FALSE),\"_\")","v":"_"},{"$f":"IFERROR(VLOOKUP(N281,#REF!,3,FALSE),\"\")","v":""},{"$f":"IFERROR(VLOOKUP(N281,#REF!,2,FALSE),\"\")","v":""}]
[{"$error":"#REF!"},{"$f":"IF(VLOOKUP(M282,#REF!,2,FALSE)<=#REF!+1,\"OK\",\"X\")","v":{"$error":"#REF!"}},1,0,1,"OK","7","","","OK",null,null,null,null,{"$f":"IFERROR(VLOOKUP(N282,#REF!,3,FALSE),\"_\")","v":"_"},{"$f":"IFERROR(VLOOKUP(N282,#REF!,7,FALSE),\"_\")","v":"_"},{"$f":"IFERROR(VLOOKUP(N282,#REF!,12,FALSE),\"_\")","v":"_"},{"$f":"IFERROR(VLOOKUP(N282,#REF!,3,FALSE),\"\")","v":""},{"$f":"IFERROR(VLOOKUP(N282,#REF!,2,FALSE),\"\")","v":""}]
[{"$error":"#REF!"},{"$f":"IF(VLOOKUP(M283,#REF!,2,FALSE)<=#REF!+1,\"OK\",\"X\")","v":{"$error":"#REF!"}},1,0,1,"OK","7","","","OK",null,null,null,null,{"$f":"IFERROR(VLOOKUP(N283,#REF!,3,FALSE),\"_\")","v":"_"},{"$f":"IFERROR(VLOOKUP(N283,#REF!,7,FALSE),\"_\")","v":"_"},{"$f":"IFERROR(VLOOKUP(N283,#REF!,12,FALSE),\"_\")","v":"_"},{"$f":"IFERROR(VLOOKUP(N283,#REF!,3,FALSE),\"\")","v":""},{"$f":"IFERROR(VLOOKUP(N283,#REF!,2,FALSE),\"\")","v":""}]
[{"$error":"#REF!"},{"$f":"IF(VLOOKUP(M284,#REF!,2,FALSE)<=#REF!+1,\"OK\",\"X\")","v":{"$error":"#REF!"}},1,0,1,"OK","7","","","OK",null,null,null,null,{"$f":"IFERROR(VLOOKUP(N284,#REF!,3,FALSE),\"_\")","v":"_"},{"$f":"IFERROR(VLOOKUP(N284,#REF!,7,FALSE),\"_\")","v":"_"},{"$f":"IFERROR(VLOOKUP(N284,#REF!,12,FALSE),\"_\")","v":"_"},{"$f":"IFERROR(VLOOKUP(N284,#REF!,3,FALSE),\"\")","v":""},{"$f":"IFERROR(VLOOKUP(N284,#REF!,2,FALSE),\"\")","v":""}]
[{"$error":"#REF!"},{"$f":"IF(VLOOKUP(M285,#REF!,2,FALSE)<=#REF!+1,\"OK\",\"X\")","v":{"$error":"#REF!"}},1,0,1,"OK","7","","","OK",null,null,null,null,{"$f":"IFERROR(VLOOKUP(N285,#REF!,3,FALSE),\"_\")","v":"_"},{"$f":"IFERROR(VLOOKUP(N285,#REF!,7,FALSE),\"_\")","v":"_"},{"$f":"IFERROR(VLOOKUP(N285,#REF!,12,FALSE),\"_\")","v":"_"},{"$f":"IFERROR(VLOOKUP(N285,#REF!,3,FALSE),\"\")","v":""},{"$f":"IFERROR(VLOOKUP(N285,#REF!,2,FALSE),\"\")","v":""}]
[{"$error":"#REF!"},{"$f":"IF(VLOOKUP(M286,#REF!,2,FALSE)<=#REF!+1,\"OK\",\"X\")","v":{"$error":"#REF!"}},1,0,1,"OK","7","","","OK",null,null,null,null,{"$f":"IFERROR(VLOOKUP(N286,#REF!,3,FALSE),\"_\")","v":"_"},{"$f":"IFERROR(VLOOKUP(N286,#REF!,7,FALSE),\"_\")","v":"_"},{"$f":"IFERROR(VLOOKUP(N286,#REF!,12,FALSE),\"_\")","v":"_"},{"$f":"IFERROR(VLOOKUP(N286,#REF!,3,FALSE),\"\")","v":""},{"$f":"IFERROR(VLOOKUP(N286,#REF!,2,FALSE),\"\")","v":""}]
[{"$error":"#REF!"},{"$f":"IF(VLOOKUP(M287,#REF!,2,FALSE)<=#REF!+1,\"OK\",\"X\")","v":{"$error":"#REF!"}},1,0,1,"OK","7","","","OK",null,null,null,null,{"$f":"IFERROR(VLOOKUP(N287,#REF!,3,FALSE),\"_\")","v":"_"},{"$f":"IFERROR(VLOOKUP(N287,#REF!,7,FALSE),\"_\")","v":"_"},{"$f":"IFERROR(VLOOKUP(N287,#REF!,12,FALSE),\"_\")","v":"_"},{"$f":"IFERROR(VLOOKUP(N287,#REF!,3,FALSE),\"\")","v":""},{"$f":"IFERROR(VLOOKUP(N287,#REF!,2,FALSE),\"\")","v":""}]
[{"$error":"#REF!"},{"$f":"IF(VLOOKUP(M288,#REF!,2,FALSE)<=#REF!+1,\"OK\",\"X\")","v":{"$error":"#REF!"}},1,0,1,"OK","7","","","OK",null,null,null,null,{"$f":"IFERROR(VLOOKUP(N288,#REF!,3,FALSE),\"_\")","v":"_"},{"$f":"IFERROR(VLOOKUP(N288,#REF!,7,FALSE),\"_\")","v":"_"},{"$f":"IFERROR(VLOOKUP(N288,#REF!,12,FALSE),\"_\")","v":"_"},{"$f":"IFERROR(VLOOKUP(N288,#REF!,3,FALSE),\"\")","v":""},{"$f":"IFERROR(VLOOKUP(N288,#REF!,2,FALSE),\"\")","v":""}]
[{"$error":"#REF!"},{"$f":"IF(VLOOKUP(M289,#REF!,2,FALSE)<=#REF!+1,\"OK\",\"X\")","v":{"$error":"#REF!"}},1,0,1,"OK","7","","","OK",null,null,null,null,{"$f":"IFERROR(VLOOKUP(N289,#REF!,3,FALSE),\"_\")","v":"_"},{"$f":"IFERROR(VLOOKUP(N289,#REF!,7,FALSE),\"_\")","v":"_"},{"$f":"IFERROR(VLOOKUP(N289,#REF!,12,FALSE),\"_\")","v":"_"},{"$f":"IFERROR(VLOOKUP(N289,#REF!,3,FALSE),\"\")","v":""},{"$f":"IFERROR(VLOOKUP(N289,#REF!,2,FALSE),\"\")","v":""}]
[{"$error":"#REF!"},{"$f":"IF(VLOOKUP(M290,#REF!,2,FALSE)<=#REF!+1,\"OK\",\"X\")","v":{"$error":"#REF!"}},1,0,1,"OK","7","","","OK",null,null,null,null,{"$f":"IFERROR(VLOOKUP(N290,#REF!,3,FALSE),\"_\")","v":"_"},{"$f":"IFERROR(VLOOKUP(N290,#REF!,7,FALSE),\"_\")","v":"_"},{"$f":"IFERROR(VLOOKUP(N290,#REF!,12,FALSE),\"_\")","v":"_"},{"$f":"IFERROR(VLOOKUP(N290,#REF!,3,FALSE),\"\")","v":""},{"$f":"IFERROR(VLOOKUP(N290,#REF!,2,FALSE),\"\")","v":""}]
[{"$error":"#REF!"},{"$f":"IF(VLOOKUP(M291,#REF!,2,FALSE)<=#REF!+1,\"OK\",\"X\")","v":{"$error":"#REF!"}},1,0,1,"OK","7","","","OK",null,null,null,null,{"$f":"IFERROR(VLOOKUP(N291,#REF!,3,FALSE),\"_\")","v":"_"},{"$f":"IFERROR(VLOOKUP(N291,#REF!,7,FALSE),\"_\")","v":"_"},{"$f":"IFERROR(VLOOKUP(N291,#REF!,12,FALSE),\"_\")","v":"_"},{"$f":"IFERROR(VLOOKUP(N291,#REF!,3,FALSE),\"\")","v":""},{"$f":"IFERROR(VLOOKUP(N291,#REF!,2,FALSE),\"\")","v":""}]
[{"$error":"#REF!"},{"$f":"IF(VLOOKUP(M292,#REF!,2,FALSE)<=#REF!+1,\"OK\",\"X\")","v":{"$error":"#REF!"}},1,0,1,"OK","7","","","OK",null,null,null,null,{"$f":"IFERROR(VLOOKUP(N292,#REF!,3,FALSE),\"_\")","v":"_"},{"$f":"IFERROR(VLOOKUP(N292,#REF!,7,FALSE),\"_\")","v":"_"},{"$f":"IFERROR(VLOOKUP(N292,#REF!,12,FALSE),\"_\")","v":"_"},{"$f":"IFERROR(VLOOKUP(N292,#REF!,3,FALSE),\"\")","v":""},{"$f":"IFERROR(VLOOKUP(N292,#REF!,2,FALSE),\"\")","v":""}]
[{"$error":"#REF!"},{"$f":"IF(VLOOKUP(M293,#REF!,2,FALSE)<=#REF!+1,\"OK\",\"X\")","v":{"$error":"#REF!"}},1,0,1,"OK","7","","","OK",null,null,null,null,{"$f":"IFERROR(VLOOKUP(N293,#REF!,3,FALSE),\"_\")","v":"_"},{"$f":"IFERROR(VLOOKUP(N293,#REF!,7,FALSE),\"_\")","v":"_"},{"$f":"IFERROR(VLOOKUP(N293,#REF!,12,FALSE),\"_\")","v":"_"},{"$f":"IFERROR(VLOOKUP(N293,#REF!,3,FALSE),\"\")","v":""},{"$f":"IFERROR(VLOOKUP(N293,#REF!,2,FALSE),\"\")","v":""}]
[{"$error":"#REF!"},{"$f":"IF(VLOOKUP(M294,#REF!,2,FALSE)<=#REF!+1,\"OK\",\"X\")","v":{"$error":"#REF!"}},1,0,1,"OK","7","","","OK",null,null,null,null,{"$f":"IFERROR(VLOOKUP(N294,#REF!,3,FALSE),\"_\")","v":"_"},{"$f":"IFERROR(VLOOKUP(N294,#REF!,7,FALSE),\"_\")","v":"_"},{"$f":"IFERROR(VLOOKUP(N294,#REF!,12,FALSE),\"_\")","v":"_"},{"$f":"IFERROR(VLOOKUP(N294,#REF!,3,FALSE),\"\")","v":""},{"$f":"IFERROR(VLOOKUP(N294,#REF!,2,FALSE),\"\")","v":""}]
[{"$error":"#REF!"},{"$f":"IF(VLOOKUP(M295,#REF!,2,FALSE)<=#REF!+1,\"OK\",\"X\")","v":{"$error":"#REF!"}},1,0,1,"OK","7","","","OK",null,null,null,null,{"$f":"IFERROR(VLOOKUP(N295,#REF!,3,FALSE),\"_\")","v":"_"},{"$f":"IFERROR(VLOOKUP(N295,#REF!,7,FALSE),\"_\")","v":"_"},{"$f":"IFERROR(VLOOKUP(N295,#REF!,12,FALSE),\"_\")","v":"_"},{"$f":"IFERROR(VLOOKUP(N295,#REF!,3,FALSE),\"\")","v":""},{"$f":"IFERROR(VLOOKUP(N295,#REF!,2,FALSE),\"\")","v":""}]
[{"$error":"#REF!"},{"$f":"IF(VLOOKUP(M296,#REF!,2,FALSE)<=#REF!+1,\"OK\",\"X\")","v":{"$error":"#REF!"}},1,0,1,"OK","7","","","OK",null,null,null,null,{"$f":"IFERROR(VLOOKUP(N296,#REF!,3,FALSE),\"_\")","v":"_"},{"$f":"IFERROR(VLOOKUP(N296,#REF!,7,FALSE),\"_\")","v":"_"},{"$f":"IFERROR(VLOOKUP(N296,#REF!,12,FALSE),\"_\")","v":"_"},{"$f":"IFERROR(VLOOKUP(N296,#REF!,3,FALSE),\"\")","v":""},{"$f":"IFERROR(VLOOKUP(N296,#REF!,2,FALSE),\"\")","v":""}]
[{"$error":"#REF!"},{"$f":"IF(VLOOKUP(M297,#REF!,2,FALSE)<=#REF!+1,\"OK\",\"X\")","v":{"$error":"#REF!"}},1,0,1,"OK","7","","","OK",null,null,null,null,{"$f":"IFERROR(VLOOKUP(N297,#REF!,3,FALSE),\"_\")","v":"_"},{"$f":"IFERROR(VLOOKUP(N297,#REF!,7,FALSE),\"_\")","v":"_"},{"$f":"IFERROR(VLOOKUP(N297,#REF!,12,FALSE),\"_\")","v":"_"},{"$f":"IFERROR(VLOOKUP(N297,#REF!,3,FALSE),\"\")","v":""},{"$f":"IFERROR(VLOOKUP(N297,#REF!,2,FALSE),\"\")","v":""}]
[{"$error":"#REF!"},{"$f":"IF(VLOOKUP(M298,#REF!,2,FALSE)<=#REF!+1,\"OK\",\"X\")","v":{"$error":"#REF!"}},1,0,1,"OK","7","","","OK",null,null,null,null,{"$f":"IFERROR(VLOOKUP(N298,#REF!,3,FALSE),\"_\")","v":"_"},{"$f":"IFERROR(VLOOKUP(N298,#REF!,7,FALSE),\"_\")","v":"_"},{"$f":"IFERROR(VLOOKUP(N298,#REF!,12,FALSE),\"_\")","v":"_"},{"$f":"IFERROR(VLOOKUP(N298,#REF!,3,FALSE),\"\")","v":""},{"$f":"IFERROR(VLOOKUP(N298,#REF!,2,FALSE),\"\")","v":""}]
[{"$error":"#REF!"},{"$f":"IF(VLOOKUP(M299,#REF!,2,FALSE)<=#REF!+1,\"OK\",\"X\")","v":{"$error":"#REF!"}},1,0,1,"OK","7","","","OK",null,null,null,null,{"$f":"IFERROR(VLOOKUP(N299,#REF!,3,FALSE),\"_\")","v":"_"},{"$f":"IFERROR(VLOOKUP(N299,#REF!,7,FALSE),\"_\")","v":"_"},{"$f":"IFERROR(VLOOKUP(N299,#REF!,12,FALSE),\"_\")","v":"_"},{"$f":"IFERROR(VLOOKUP(N299,#REF!,3,FALSE),\"\")","v":""},{"$f":"IFERROR(VLOOKUP(N299,#REF!,2,FALSE),\"\")","v":""}]
[{"$error":"#REF!"},{"$f":"IF(VLOOKUP(M300,#REF!,2,FALSE)<=#REF!+1,\"OK\",\"X\")","v":{"$error":"#REF!"}},1,0,1,"OK","7","","","OK",null,null,null,null,{"$f":"IFERROR(VLOOKUP(N300,#REF!,3,FALSE),\"_\")","v":"_"},{"$f":"IFERROR(VLOOKUP(N300,#REF!,7,FALSE),\"_\")","v":"_"},{"$f":"IFERROR(VLOOKUP(N300,#REF!,12,FALSE),\"_\")","v":"_"},{"$f":"IFERROR(VLOOKUP(N300,#REF!,3,FALSE),\"\")","v":""},{"$f":"IFERROR(VLOOKUP(N300,#REF!,2,FALSE),\"\")","v":""}]
[{"$error":"#REF!"},{"$f":"IF(VLOOKUP(M301,#REF!,2,FALSE)<=#REF!+1,\"OK\",\"X\")","v":{"$error":"#REF!"}},1,0,1,"OK","7","","","OK",null,null,null,null,{"$f":"IFERROR(VLOOKUP(N301,#REF!,3,FALSE),\"_\")","v":"_"},{"$f":"IFERROR(VLOOKUP(N301,#REF!,7,FALSE),\"_\")","v":"_"},{"$f":"IFERROR(VLOOKUP(N301,#REF!,12,FALSE),\"_\")","v":"_"},{"$f":"IFERROR(VLOOKUP(N301,#REF!,3,FALSE),\"\")","v":""},{"$f":"IFERROR(VLOOKUP(N301,#REF!,2,FALSE),\"\")","v":""}]
[{"$error":"#REF!"},{"$f":"IF(VLOOKUP(M302,#REF!,2,FALSE)<=#REF!+1,\"OK\",\"X\")","v":{"$error":"#REF!"}},1,0,1,"OK","7","","","OK",null,null,null,null,{"$f":"IFERROR(VLOOKUP(N302,#REF!,3,FALSE),\"_\")","v":"_"},{"$f":"IFERROR(VLOOKUP(N302,#REF!,7,FALSE),\"_\")","v":"_"},{"$f":"IFERROR(VLOOKUP(N302,#REF!,12,FALSE),\"_\")","v":"_"},{"$f":"IFERROR(VLOOKUP(N302,#REF!,3,FALSE),\"\")","v":""},{"$f":"IFERROR(VLOOKUP(N302,#REF!,2,FALSE),\"\")","v":""}]
[{"$error":"#REF!"},{"$f":"IF(VLOOKUP(M303,#REF!,2,FALSE)<=#REF!+1,\"OK\",\"X\")","v":{"$error":"#REF!"}},1,0,1,"OK","7","","","OK",null,null,null,null,{"$f":"IFERROR(VLOOKUP(N303,#REF!,3,FALSE),\"_\")","v":"_"},{"$f":"IFERROR(VLOOKUP(N303,#REF!,7,FALSE),\"_\")","v":"_"},{"$f":"IFERROR(VLOOKUP(N303,#REF!,12,FALSE),\"_\")","v":"_"},{"$f":"IFERROR(VLOOKUP(N303,#REF!,3,FALSE),\"\")","v":""},{"$f":"IFERROR(VLOOKUP(N303,#REF!,2,FALSE),\"\")","v":""}]
[{"$error":"#REF!"},{"$f":"IF(VLOOKUP(M304,#REF!,2,FALSE)<=#REF!+1,\"OK\",\"X\")","v":{"$error":"#REF!"}},1,0,1,"OK","7","","","OK",null,null,null,null,{"$f":"IFERROR(VLOOKUP(N304,#REF!,3,FALSE),\"_\")","v":"_"},{"$f":"IFERROR(VLOOKUP(N304,#REF!,7,FALSE),\"_\")","v":"_"},{"$f":"IFERROR(VLOOKUP(N304,#REF!,12,FALSE),\"_\")","v":"_"},{"$f":"IFERROR(VLOOKUP(N304,#REF!,3,FALSE),\"\")","v":""},{"$f":"IFERROR(VLOOKUP(N304,#REF!,2,FALSE),\"\")","v":""}]
[{"$error":"#REF!"},{"$f":"IF(VLOOKUP(M305,#REF!,2,FALSE)<=#REF!+1,\"OK\",\"X\")","v":{"$error":"#REF!"}},1,0,1,"OK","7","","","OK",null,null,null,null,{"$f":"IFERROR(VLOOKUP(N305,#REF!,3,FALSE),\"_\")","v":"_"},{"$f":"IFERROR(VLOOKUP(N305,#REF!,7,FALSE),\"_\")","v":"_"},{"$f":"IFERROR(VLOOKUP(N305,#REF!,12,FALSE),\"_\")","v":"_"},{"$f":"IFERROR(VLOOKUP(N305,#REF!,3,FALSE),\"\")","v":""},{"$f":"IFERROR(VLOOKUP(N305,#REF!,2,FALSE),\"\")","v":""}]
[{"$error":"#REF!"},{"$f":"IF(VLOOKUP(M306,#REF!,2,FALSE)<=#REF!+1,\"OK\",\"X\")","v":{"$error":"#REF!"}},1,0,1,"OK","7","","","OK",null,null,null,null,{"$f":"IFERROR(VLOOKUP(N306,#REF!,3,FALSE),\"_\")","v":"_"},{"$f":"IFERROR(VLOOKUP(N306,#REF!,7,FALSE),\"_\")","v":"_"},{"$f":"IFERROR(VLOOKUP(N306,#REF!,12,FALSE),\"_\")","v":"_"},{"$f":"IFERROR(VLOOKUP(N306,#REF!,3,FALSE),\"\")","v":""},{"$f":"IFERROR(VLOOKUP(N306,#REF!,2,FALSE),\"\")","v":""}]
[{"$error":"#REF!"},{"$f":"IF(VLOOKUP(M307,#REF!,2,FALSE)<=#REF!+1,\"OK\",\"X\")","v":{"$error":"#REF!"}},1,0,1,"OK","7","","","OK",null,null,null,null,{"$f":"IFERROR(VLOOKUP(N307,#REF!,3,FALSE),\"_\")","v":"_"},{"$f":"IFERROR(VLOOKUP(N307,#REF!,7,FALSE),\"_\")","v":"_"},{"$f":"IFERROR(VLOOKUP(N307,#REF!,12,FALSE),\"_\")","v":"_"},{"$f":"IFERROR(VLOOKUP(N307,#REF!,3,FALSE),\"\")","v":""},{"$f":"IFERROR(VLOOKUP(N307,#REF!,2,FALSE),\"\")","v":""}]
[{"$error":"#REF!"},{"$f":"IF(VLOOKUP(M308,#REF!,2,FALSE)<=#REF!+1,\"OK\",\"X\")","v":{"$error":"#REF!"}},1,0,1,"OK","7","","","OK",null,null,null,null,{"$f":"IFERROR(VLOOKUP(N308,#REF!,3,FALSE),\"_\")","v":"_"},{"$f":"IFERROR(VLOOKUP(N308,#REF!,7,FALSE),\"_\")","v":"_"},{"$f":"IFERROR(VLOOKUP(N308,#REF!,12,FALSE),\"_\")","v":"_"},{"$f":"IFERROR(VLOOKUP(N308,#REF!,3,FALSE),\"\")","v":""},{"$f":"IFERROR(VLOOKUP(N308,#REF!,2,FALSE),\"\")","v":""}]
[{"$error":"#REF!"},{"$f":"IF(VLOOKUP(M309,#REF!,2,FALSE)<=#REF!+1,\"OK\",\"X\")","v":{"$error":"#REF!"}},1,0,1,"OK","7","","","OK",null,null,null,null,{"$f":"IFERROR(VLOOKUP(N309,#REF!,3,FALSE),\"_\")","v":"_"},{"$f":"IFERROR(VLOOKUP(N309,#REF!,7,FALSE),\"_\")","v":"_"},{"$f":"IFERROR(VLOOKUP(N309,#REF!,12,FALSE),\"_\")","v":"_"},{"$f":"IFERROR(VLOOKUP(N309,#REF!,3,FALSE),\"\")","v":""},{"$f":"IFERROR(VLOOKUP(N309,#REF!,2,FALSE),\"\")","v":""}]
[{"$error":"#REF!"},{"$f":"IF(VLOOKUP(M310,#REF!,2,FALSE)<=#REF!+1,\"OK\",\"X\")","v":{"$error":"#REF!"}},1,0,1,"OK","7","","","OK",null,null,null,null,{"$f":"IFERROR(VLOOKUP(N310,#REF!,3,FALSE),\"_\")","v":"_"},{"$f":"IFERROR(VLOOKUP(N310,#REF!,7,FALSE),\"_\")","v":"_"},{"$f":"IFERROR(VLOOKUP(N310,#REF!,12,FALSE),\"_\")","v":"_"},{"$f":"IFERROR(VLOOKUP(N310,#REF!,3,FALSE),\"\")","v":""},{"$f":"IFERROR(VLOOKUP(N310,#REF!,2,FALSE),\"\")","v":""}]
[{"$error":"#REF!"},{"$f":"IF(VLOOKUP(M311,#REF!,2,FALSE)<=#REF!+1,\"OK\",\"X\")","v":{"$error":"#REF!"}},1,0,1,"OK","7","","","OK",null,null,null,null,{"$f":"IFERROR(VLOOKUP(N311,#REF!,3,FALSE),\"_\")","v":"_"},{"$f":"IFERROR(VLOOKUP(N311,#REF!,7,FALSE),\"_\")","v":"_"},{"$f":"IFERROR(VLOOKUP(N311,#REF!,12,FALSE),\"_\")","v":"_"},{"$f":"IFERROR(VLOOKUP(N311,#REF!,3,FALSE),\"\")","v":""},{"$f":"IFERROR(VLOOKUP(N311,#REF!,2,FALSE),\"\")","v":""}]
[{"$error":"#REF!"},{"$f":"IF(VLOOKUP(M312,#REF!,2,FALSE)<=#REF!+1,\"OK\",\"X\")","v":{"$error":"#REF!"}},1,0,1,"OK","7","","","OK",null,null,null,null,{"$f":"IFERROR(VLOOKUP(N312,#REF!,3,FALSE),\"_\")","v":"_"},{"$f":"IFERROR(VLOOKUP(N312,#REF!,7,FALSE),\"_\")","v":"_"},{"$f":"IFERROR(VLOOKUP(N312,#REF!,12,FALSE),\"_\")","v":"_"},{"$f":"IFERROR(VLOOKUP(N312,#REF!,3,FALSE),\"\")","v":""},{"$f":"IFERROR(VLOOKUP(N312,#REF!,2,FALSE),\"\")","v":""}]
[{"$error":"#REF!"},{"$f":"IF(VLOOKUP(M313,#REF!,2,FALSE)<=#REF!+1,\"OK\",\"X\")","v":{"$error":"#REF!"}},1,0,1,"OK","7","","","OK",null,null,null,null,{"$f":"IFERROR(VLOOKUP(N313,#REF!,3,FALSE),\"_\")","v":"_"},{"$f":"IFERROR(VLOOKUP(N313,#REF!,7,FALSE),\"_\")","v":"_"},{"$f":"IFERROR(VLOOKUP(N313,#REF!,12,FALSE),\"_\")","v":"_"},{"$f":"IFERROR(VLOOKUP(N313,#REF!,3,FALSE),\"\")","v":""},{"$f":"IFERROR(VLOOKUP(N313,#REF!,2,FALSE),\"\")","v":""}]
[{"$error":"#REF!"},{"$f":"IF(VLOOKUP(M314,#REF!,2,FALSE)<=#REF!+1,\"OK\",\"X\")","v":{"$error":"#REF!"}},1,0,1,"OK","7","","","OK",null,null,null,null,{"$f":"IFERROR(VLOOKUP(N314,#REF!,3,FALSE),\"_\")","v":"_"},{"$f":"IFERROR(VLOOKUP(N314,#REF!,7,FALSE),\"_\")","v":"_"},{"$f":"IFERROR(VLOOKUP(N314,#REF!,12,FALSE),\"_\")","v":"_"},{"$f":"IFERROR(VLOOKUP(N314,#REF!,3,FALSE),\"\")","v":""},{"$f":"IFERROR(VLOOKUP(N314,#REF!,2,FALSE),\"\")","v":""}]
[{"$error":"#REF!"},{"$f":"IF(VLOOKUP(M315,#REF!,2,FALSE)<=#REF!+1,\"OK\",\"X\")","v":{"$error":"#REF!"}},1,0,1,"OK","7","","","OK",null,null,null,null,{"$f":"IFERROR(VLOOKUP(N315,#REF!,3,FALSE),\"_\")","v":"_"},{"$f":"IFERROR(VLOOKUP(N315,#REF!,7,FALSE),\"_\")","v":"_"},{"$f":"IFERROR(VLOOKUP(N315,#REF!,12,FALSE),\"_\")","v":"_"},{"$f":"IFERROR(VLOOKUP(N315,#REF!,3,FALSE),\"\")","v":""},{"$f":"IFERROR(VLOOKUP(N315,#REF!,2,FALSE),\"\")","v":""}]
[{"$error":"#REF!"},{"$f":"IF(VLOOKUP(M316,#REF!,2,FALSE)<=#REF!+1,\"OK\",\"X\")","v":{"$error":"#REF!"}},1,0,1,"OK","7","","","OK",null,null,null,null,{"$f":"IFERROR(VLOOKUP(N316,#REF!,3,FALSE),\"_\")","v":"_"},{"$f":"IFERROR(VLOOKUP(N316,#REF!,7,FALSE),\"_\")","v":"_"},{"$f":"IFERROR(VLOOKUP(N316,#REF!,12,FALSE),\"_\")","v":"_"},{"$f":"IFERROR(VLOOKUP(N316,#REF!,3,FALSE),\"\")","v":""},{"$f":"IFERROR(VLOOKUP(N316,#REF!,2,FALSE),\"\")","v":""}]
[{"$error":"#REF!"},{"$f":"IF(VLOOKUP(M317,#REF!,2,FALSE)<=#REF!+1,\"OK\",\"X\")","v":{"$error":"#REF!"}},1,0,1,"OK","7","","","OK",null,null,null,null,{"$f":"IFERROR(VLOOKUP(N317,#REF!,3,FALSE),\"_\")","v":"_"},{"$f":"IFERROR(VLOOKUP(N317,#REF!,7,FALSE),\"_\")","v":"_"},{"$f":"IFERROR(VLOOKUP(N317,#REF!,12,FALSE),\"_\")","v":"_"},{"$f":"IFERROR(VLOOKUP(N317,#REF!,3,FALSE),\"\")","v":""},{"$f":"IFERROR(VLOOKUP(N317,#REF!,2,FALSE),\"\")","v":""}]
[{"$error":"#REF!"},{"$f":"IF(VLOOKUP(M318,#REF!,2,FALSE)<=#REF!+1,\"OK\",\"X\")","v":{"$error":"#REF!"}},1,0,1,"OK","7","","","OK",null,null,null,null,{"$f":"IFERROR(VLOOKUP(N318,#REF!,3,FALSE),\"_\")","v":"_"},{"$f":"IFERROR(VLOOKUP(N318,#REF!,7,FALSE),\"_\")","v":"_"},{"$f":"IFERROR(VLOOKUP(N318,#REF!,12,FALSE),\"_\")","v":"_"},{"$f":"IFERROR(VLOOKUP(N318,#REF!,3,FALSE),\"\")","v":""},{"$f":"IFERROR(VLOOKUP(N318,#REF!,2,FALSE),\"\")","v":""}]
[{"$error":"#REF!"},{"$f":"IF(VLOOKUP(M319,#REF!,2,FALSE)<=#REF!+1,\"OK\",\"X\")","v":{"$error":"#REF!"}},1,0,1,"OK","7","","","OK",null,null,null,null,{"$f":"IFERROR(VLOOKUP(N319,#REF!,3,FALSE),\"_\")","v":"_"},{"$f":"IFERROR(VLOOKUP(N319,#REF!,7,FALSE),\"_\")","v":"_"},{"$f":"IFERROR(VLOOKUP(N319,#REF!,12,FALSE),\"_\")","v":"_"},{"$f":"IFERROR(VLOOKUP(N319,#REF!,3,FALSE),\"\")","v":""},{"$f":"IFERROR(VLOOKUP(N319,#REF!,2,FALSE),\"\")","v":""}]
[{"$error":"#REF!"},{"$f":"IF(VLOOKUP(M320,#REF!,2,FALSE)<=#REF!+1,\"OK\",\"X\")","v":{"$error":"#REF!"}},1,0,1,"OK","7","","","OK",null,null,null,null,{"$f":"IFERROR(VLOOKUP(N320,#REF!,3,FALSE),\"_\")","v":"_"},{"$f":"IFERROR(VLOOKUP(N320,#REF!,7,FALSE),\"_\")","v":"_"},{"$f":"IFERROR(VLOOKUP(N320,#REF!,12,FALSE),\"_\")","v":"_"},{"$f":"IFERROR(VLOOKUP(N320,#REF!,3,FALSE),\"\")","v":""},{"$f":"IFERROR(VLOOKUP(N320,#REF!,2,FALSE),\"\")","v":""}]
[{"$error":"#REF!"},{"$f":"IF(VLOOKUP(M321,#REF!,2,FALSE)<=#REF!+1,\"OK\",\"X\")","v":{"$error":"#REF!"}},1,0,1,"OK","7","","","OK",null,null,null,null,{"$f":"IFERROR(VLOOKUP(N321,#REF!,3,FALSE),\"_\")","v":"_"},{"$f":"IFERROR(VLOOKUP(N321,#REF!,7,FALSE),\"_\")","v":"_"},{"$f":"IFERROR(VLOOKUP(N321,#REF!,12,FALSE),\"_\")","v":"_"},{"$f":"IFERROR(VLOOKUP(N321,#REF!,3,FALSE),\"\")","v":""},{"$f":"IFERROR(VLOOKUP(N321,#REF!,2,FALSE),\"\")","v":""}]
[{"$error":"#REF!"},{"$f":"IF(VLOOKUP(M322,#REF!,2,FALSE)<=#REF!+1,\"OK\",\"X\")","v":{"$error":"#REF!"}},1,0,1,"OK","7","","","OK",null,null,null,null,{"$f":"IFERROR(VLOOKUP(N322,#REF!,3,FALSE),\"_\")","v":"_"},{"$f":"IFERROR(VLOOKUP(N322,#REF!,7,FALSE),\"_\")","v":"_"},{"$f":"IFERROR(VLOOKUP(N322,#REF!,12,FALSE),\"_\")","v":"_"},{"$f":"IFERROR(VLOOKUP(N322,#REF!,3,FALSE),\"\")","v":""},{"$f":"IFERROR(VLOOKUP(N322,#REF!,2,FALSE),\"\")","v":""}]
[{"$error":"#REF!"},{"$f":"IF(VLOOKUP(M323,#REF!,2,FALSE)<=#REF!+1,\"OK\",\"X\")","v":{"$error":"#REF!"}},1,0,1,"OK","7","","","OK",null,null,null,null,{"$f":"IFERROR(VLOOKUP(N323,#REF!,3,FALSE),\"_\")","v":"_"},{"$f":"IFERROR(VLOOKUP(N323,#REF!,7,FALSE),\"_\")","v":"_"},{"$f":"IFERROR(VLOOKUP(N323,#REF!,12,FALSE),\"_\")","v":"_"},{"$f":"IFERROR(VLOOKUP(N323,#REF!,3,FALSE),\"\")","v":""},{"$f":"IFERROR(VLOOKUP(N323,#REF!,2,FALSE),\"\")","v":""}]
[{"$error":"#REF!"},{"$f":"IF(VLOOKUP(M324,#REF!,2,FALSE)<=#REF!+1,\"OK\",\"X\")","v":{"$error":"#REF!"}},1,0,1,"OK","7","","","OK",null,null,null,null,{"$f":"IFERROR(VLOOKUP(N324,#REF!,3,FALSE),\"_\")","v":"_"},{"$f":"IFERROR(VLOOKUP(N324,#REF!,7,FALSE),\"_\")","v":"_"},{"$f":"IFERROR(VLOOKUP(N324,#REF!,12,FALSE),\"_\")","v":"_"},{"$f":"IFERROR(VLOOKUP(N324,#REF!,3,FALSE),\"\")","v":""},{"$f":"IFERROR(VLOOKUP(N324,#REF!,2,FALSE),\"\")","v":""}]
[{"$f":"L325&LEFT(P325,3)&B325","v":{"$error":"#REF!"}},{"$f":"IF(VLOOKUP(M325,#REF!,2,FALSE)<=#REF!+1,\"OK\",\"X\")","v":{"$error":"#REF!"}},{"$f":"IF(P325=\"start dummy operation\",0,1)","v":1},{"$f":"IF(U325=\"Y\",1,0)","v":0},{"$f":"SUM(C325:D325)","v":1},{"$f":"IF(E325>0,\"OK\",\"X2\")","v":"OK"},{"$f":"WEEKDAY(V325)&T325","v":"7"},{"$f":"L325&M325","v":""},{"$f":"M325&L325&U325","v":""},{"$f":"M325&L325&F325","v":"OK"},null,null,null,null,{"$f":"IFERROR(VLOOKUP(N325,#REF!,3,FALSE),\"_\")","v":"_"},{"$f":"IFERROR(VLOOKUP(N325,#REF!,7,FALSE),\"_\")","v":"_"},{"$f":"IFERROR(VLOOKUP(N325,#REF!,12,FALSE),\"_\")","v":"_"},{"$f":"IFERROR(VLOOKUP(N325,#REF!,3,FALSE),\"\")","v":""},{"$f":"IFERROR(VLOOKUP(N325,#REF!,2,FALSE),\"\")","v":""}]
[{"$error":"#REF!"},{"$f":"IF(VLOOKUP(M326,#REF!,2,FALSE)<=#REF!+1,\"OK\",\"X\")","v":{"$error":"#REF!"}},1,0,1,"OK","7","","","OK",null,null,null,null,{"$f":"IFERROR(VLOOKUP(N326,#REF!,3,FALSE),\"_\")","v":"_"},{"$f":"IFERROR(VLOOKUP(N326,#REF!,7,FALSE),\"_\")","v":"_"},{"$f":"IFERROR(VLOOKUP(N326,#REF!,12,FALSE),\"_\")","v":"_"},{"$f":"IFERROR(VLOOKUP(N326,#REF!,3,FALSE),\"\")","v":""},{"$f":"IFERROR(VLOOKUP(N326,#REF!,2,FALSE),\"\")","v":""}]
[{"$error":"#REF!"},{"$f":"IF(VLOOKUP(M327,#REF!,2,FALSE)<=#REF!+1,\"OK\",\"X\")","v":{"$error":"#REF!"}},1,0,1,"OK","7","","","OK",null,null,null,null,{"$f":"IFERROR(VLOOKUP(N327,#REF!,3,FALSE),\"_\")","v":"_"},{"$f":"IFERROR(VLOOKUP(N327,#REF!,7,FALSE),\"_\")","v":"_"},{"$f":"IFERROR(VLOOKUP(N327,#REF!,12,FALSE),\"_\")","v":"_"},{"$f":"IFERROR(VLOOKUP(N327,#REF!,3,FALSE),\"\")","v":""},{"$f":"IFERROR(VLOOKUP(N327,#REF!,2,FALSE),\"\")","v":""}]
[{"$error":"#REF!"},{"$f":"IF(VLOOKUP(M328,#REF!,2,FALSE)<=#REF!+1,\"OK\",\"X\")","v":{"$error":"#REF!"}},1,0,1,"OK","7","","","OK",null,null,null,null,{"$f":"IFERROR(VLOOKUP(N328,#REF!,3,FALSE),\"_\")","v":"_"},{"$f":"IFERROR(VLOOKUP(N328,#REF!,7,FALSE),\"_\")","v":"_"},{"$f":"IFERROR(VLOOKUP(N328,#REF!,12,FALSE),\"_\")","v":"_"},{"$f":"IFERROR(VLOOKUP(N328,#REF!,3,FALSE),\"\")","v":""},{"$f":"IFERROR(VLOOKUP(N328,#REF!,2,FALSE),\"\")","v":""}]
[{"$error":"#REF!"},{"$f":"IF(VLOOKUP(M329,#REF!,2,FALSE)<=#REF!+1,\"OK\",\"X\")","v":{"$error":"#REF!"}},1,0,1,"OK","7","","","OK",null,null,null,null,{"$f":"IFERROR(VLOOKUP(N329,#REF!,3,FALSE),\"_\")","v":"_"},{"$f":"IFERROR(VLOOKUP(N329,#REF!,7,FALSE),\"_\")","v":"_"},{"$f":"IFERROR(VLOOKUP(N329,#REF!,12,FALSE),\"_\")","v":"_"},{"$f":"IFERROR(VLOOKUP(N329,#REF!,3,FALSE),\"\")","v":""},{"$f":"IFERROR(VLOOKUP(N329,#REF!,2,FALSE),\"\")","v":""}]
[{"$error":"#REF!"},{"$f":"IF(VLOOKUP(M330,#REF!,2,FALSE)<=#REF!+1,\"OK\",\"X\")","v":{"$error":"#REF!"}},1,0,1,"OK","7","","","OK",null,null,null,null,{"$f":"IFERROR(VLOOKUP(N330,#REF!,3,FALSE),\"_\")","v":"_"},{"$f":"IFERROR(VLOOKUP(N330,#REF!,7,FALSE),\"_\")","v":"_"},{"$f":"IFERROR(VLOOKUP(N330,#REF!,12,FALSE),\"_\")","v":"_"},{"$f":"IFERROR(VLOOKUP(N330,#REF!,3,FALSE),\"\")","v":""},{"$f":"IFERROR(VLOOKUP(N330,#REF!,2,FALSE),\"\")","v":""}]
[{"$error":"#REF!"},{"$f":"IF(VLOOKUP(M331,#REF!,2,FALSE)<=#REF!+1,\"OK\",\"X\")","v":{"$error":"#REF!"}},1,0,1,"OK","7","","","OK",null,null,null,null,{"$f":"IFERROR(VLOOKUP(N331,#REF!,3,FALSE),\"_\")","v":"_"},{"$f":"IFERROR(VLOOKUP(N331,#REF!,7,FALSE),\"_\")","v":"_"},{"$f":"IFERROR(VLOOKUP(N331,#REF!,12,FALSE),\"_\")","v":"_"},{"$f":"IFERROR(VLOOKUP(N331,#REF!,3,FALSE),\"\")","v":""},{"$f":"IFERROR(VLOOKUP(N331,#REF!,2,FALSE),\"\")","v":""}]
[{"$error":"#REF!"},{"$f":"IF(VLOOKUP(M332,#REF!,2,FALSE)<=#REF!+1,\"OK\",\"X\")","v":{"$error":"#REF!"}},1,0,1,"OK","7","","","OK",null,null,null,null,{"$f":"IFERROR(VLOOKUP(N332,#REF!,3,FALSE),\"_\")","v":"_"},{"$f":"IFERROR(VLOOKUP(N332,#REF!,7,FALSE),\"_\")","v":"_"},{"$f":"IFERROR(VLOOKUP(N332,#REF!,12,FALSE),\"_\")","v":"_"},{"$f":"IFERROR(VLOOKUP(N332,#REF!,3,FALSE),\"\")","v":""},{"$f":"IFERROR(VLOOKUP(N332,#REF!,2,FALSE),\"\")","v":""}]
[{"$error":"#REF!"},{"$f":"IF(VLOOKUP(M333,#REF!,2,FALSE)<=#REF!+1,\"OK\",\"X\")","v":{"$error":"#REF!"}},1,0,1,"OK","7","","","OK",null,null,null,null,{"$f":"IFERROR(VLOOKUP(N333,#REF!,3,FALSE),\"_\")","v":"_"},{"$f":"IFERROR(VLOOKUP(N333,#REF!,7,FALSE),\"_\")","v":"_"},{"$f":"IFERROR(VLOOKUP(N333,#REF!,12,FALSE),\"_\")","v":"_"},{"$f":"IFERROR(VLOOKUP(N333,#REF!,3,FALSE),\"\")","v":""},{"$f":"IFERROR(VLOOKUP(N333,#REF!,2,FALSE),\"\")","v":""}]
[{"$error":"#REF!"},{"$f":"IF(VLOOKUP(M334,#REF!,2,FALSE)<=#REF!+1,\"OK\",\"X\")","v":{"$error":"#REF!"}},1,0,1,"OK","7","","","OK",null,null,null,null,{"$f":"IFERROR(VLOOKUP(N334,#REF!,3,FALSE),\"_\")","v":"_"},{"$f":"IFERROR(VLOOKUP(N334,#REF!,7,FALSE),\"_\")","v":"_"},{"$f":"IFERROR(VLOOKUP(N334,#REF!,12,FALSE),\"_\")","v":"_"},{"$f":"IFERROR(VLOOKUP(N334,#REF!,3,FALSE),\"\")","v":""},{"$f":"IFERROR(VLOOKUP(N334,#REF!,2,FALSE),\"\")","v":""}]
[{"$error":"#REF!"},{"$f":"IF(VLOOKUP(M335,#REF!,2,FALSE)<=#REF!+1,\"OK\",\"X\")","v":{"$error":"#REF!"}},1,0,1,"OK","7","","","OK",null,null,null,null,{"$f":"IFERROR(VLOOKUP(N335,#REF!,3,FALSE),\"_\")","v":"_"},{"$f":"IFERROR(VLOOKUP(N335,#REF!,7,FALSE),\"_\")","v":"_"},{"$f":"IFERROR(VLOOKUP(N335,#REF!,12,FALSE),\"_\")","v":"_"},{"$f":"IFERROR(VLOOKUP(N335,#REF!,3,FALSE),\"\")","v":""},{"$f":"IFERROR(VLOOKUP(N335,#REF!,2,FALSE),\"\")","v":""}]
[{"$error":"#REF!"},{"$f":"IF(VLOOKUP(M336,#REF!,2,FALSE)<=#REF!+1,\"OK\",\"X\")","v":{"$error":"#REF!"}},1,0,1,"OK","7","","","OK",null,null,null,null,{"$f":"IFERROR(VLOOKUP(N336,#REF!,3,FALSE),\"_\")","v":"_"},{"$f":"IFERROR(VLOOKUP(N336,#REF!,7,FALSE),\"_\")","v":"_"},{"$f":"IFERROR(VLOOKUP(N336,#REF!,12,FALSE),\"_\")","v":"_"},{"$f":"IFERROR(VLOOKUP(N336,#REF!,3,FALSE),\"\")","v":""},{"$f":"IFERROR(VLOOKUP(N336,#REF!,2,FALSE),\"\")","v":""}]
[{"$error":"#REF!"},{"$f":"IF(VLOOKUP(M337,#REF!,2,FALSE)<=#REF!+1,\"OK\",\"X\")","v":{"$error":"#REF!"}},1,0,1,"OK","7","","","OK",null,null,null,null,{"$f":"IFERROR(VLOOKUP(N337,#REF!,3,FALSE),\"_\")","v":"_"},{"$f":"IFERROR(VLOOKUP(N337,#REF!,7,FALSE),\"_\")","v":"_"},{"$f":"IFERROR(VLOOKUP(N337,#REF!,12,FALSE),\"_\")","v":"_"},{"$f":"IFERROR(VLOOKUP(N337,#REF!,3,FALSE),\"\")","v":""},{"$f":"IFERROR(VLOOKUP(N337,#REF!,2,FALSE),\"\")","v":""}]
[{"$error":"#REF!"},{"$f":"IF(VLOOKUP(M338,#REF!,2,FALSE)<=#REF!+1,\"OK\",\"X\")","v":{"$error":"#REF!"}},1,0,1,"OK","7","","","OK",null,null,null,null,{"$f":"IFERROR(VLOOKUP(N338,#REF!,3,FALSE),\"_\")","v":"_"},{"$f":"IFERROR(VLOOKUP(N338,#REF!,7,FALSE),\"_\")","v":"_"},{"$f":"IFERROR(VLOOKUP(N338,#REF!,12,FALSE),\"_\")","v":"_"},{"$f":"IFERROR(VLOOKUP(N338,#REF!,3,FALSE),\"\")","v":""},{"$f":"IFERROR(VLOOKUP(N338,#REF!,2,FALSE),\"\")","v":""}]
[{"$error":"#REF!"},{"$f":"IF(VLOOKUP(M339,#REF!,2,FALSE)<=#REF!+1,\"OK\",\"X\")","v":{"$error":"#REF!"}},1,0,1,"OK","7","","","OK",null,null,null,null,{"$f":"IFERROR(VLOOKUP(N339,#REF!,3,FALSE),\"_\")","v":"_"},{"$f":"IFERROR(VLOOKUP(N339,#REF!,7,FALSE),\"_\")","v":"_"},{"$f":"IFERROR(VLOOKUP(N339,#REF!,12,FALSE),\"_\")","v":"_"},{"$f":"IFERROR(VLOOKUP(N339,#REF!,3,FALSE),\"\")","v":""},{"$f":"IFERROR(VLOOKUP(N339,#REF!,2,FALSE),\"\")","v":""}]
[{"$error":"#REF!"},{"$f":"IF(VLOOKUP(M340,#REF!,2,FALSE)<=#REF!+1,\"OK\",\"X\")","v":{"$error":"#REF!"}},1,0,1,"OK","7","","","OK",null,null,null,null,{"$f":"IFERROR(VLOOKUP(N340,#REF!,3,FALSE),\"_\")","v":"_"},{"$f":"IFERROR(VLOOKUP(N340,#REF!,7,FALSE),\"_\")","v":"_"},{"$f":"IFERROR(VLOOKUP(N340,#REF!,12,FALSE),\"_\")","v":"_"},{"$f":"IFERROR(VLOOKUP(N340,#REF!,3,FALSE),\"\")","v":""},{"$f":"IFERROR(VLOOKUP(N340,#REF!,2,FALSE),\"\")","v":""}]
[{"$error":"#REF!"},{"$f":"IF(VLOOKUP(M341,#REF!,2,FALSE)<=#REF!+1,\"OK\",\"X\")","v":{"$error":"#REF!"}},1,0,1,"OK","7","","","OK",null,null,null,null,{"$f":"IFERROR(VLOOKUP(N341,#REF!,3,FALSE),\"_\")","v":"_"},{"$f":"IFERROR(VLOOKUP(N341,#REF!,7,FALSE),\"_\")","v":"_"},{"$f":"IFERROR(VLOOKUP(N341,#REF!,12,FALSE),\"_\")","v":"_"},{"$f":"IFERROR(VLOOKUP(N341,#REF!,3,FALSE),\"\")","v":""},{"$f":"IFERROR(VLOOKUP(N341,#REF!,2,FALSE),\"\")","v":""}]
[{"$error":"#REF!"},{"$f":"IF(VLOOKUP(M342,#REF!,2,FALSE)<=#REF!+1,\"OK\",\"X\")","v":{"$error":"#REF!"}},1,0,1,"OK","7","","","OK",null,null,null,null,{"$f":"IFERROR(VLOOKUP(N342,#REF!,3,FALSE),\"_\")","v":"_"},{"$f":"IFERROR(VLOOKUP(N342,#REF!,7,FALSE),\"_\")","v":"_"},{"$f":"IFERROR(VLOOKUP(N342,#REF!,12,FALSE),\"_\")","v":"_"},{"$f":"IFERROR(VLOOKUP(N342,#REF!,3,FALSE),\"\")","v":""},{"$f":"IFERROR(VLOOKUP(N342,#REF!,2,FALSE),\"\")","v":""}]
[{"$error":"#REF!"},{"$f":"IF(VLOOKUP(M343,#REF!,2,FALSE)<=#REF!+1,\"OK\",\"X\")","v":{"$error":"#REF!"}},1,0,1,"OK","7","","","OK",null,null,null,null,{"$f":"IFERROR(VLOOKUP(N343,#REF!,3,FALSE),\"_\")","v":"_"},{"$f":"IFERROR(VLOOKUP(N343,#REF!,7,FALSE),\"_\")","v":"_"},{"$f":"IFERROR(VLOOKUP(N343,#REF!,12,FALSE),\"_\")","v":"_"},{"$f":"IFERROR(VLOOKUP(N343,#REF!,3,FALSE),\"\")","v":""},{"$f":"IFERROR(VLOOKUP(N343,#REF!,2,FALSE),\"\")","v":""}]
[{"$error":"#REF!"},{"$f":"IF(VLOOKUP(M344,#REF!,2,FALSE)<=#REF!+1,\"OK\",\"X\")","v":{"$error":"#REF!"}},1,0,1,"OK","7","","","OK",null,null,null,null,{"$f":"IFERROR(VLOOKUP(N344,#REF!,3,FALSE),\"_\")","v":"_"},{"$f":"IFERROR(VLOOKUP(N344,#REF!,7,FALSE),\"_\")","v":"_"},{"$f":"IFERROR(VLOOKUP(N344,#REF!,12,FALSE),\"_\")","v":"_"},{"$f":"IFERROR(VLOOKUP(N344,#REF!,3,FALSE),\"\")","v":""},{"$f":"IFERROR(VLOOKUP(N344,#REF!,2,FALSE),\"\")","v":""}]
[{"$error":"#REF!"},{"$f":"IF(VLOOKUP(M345,#REF!,2,FALSE)<=#REF!+1,\"OK\",\"X\")","v":{"$error":"#REF!"}},1,0,1,"OK","7","","","OK",null,null,null,null,{"$f":"IFERROR(VLOOKUP(N345,#REF!,3,FALSE),\"_\")","v":"_"},{"$f":"IFERROR(VLOOKUP(N345,#REF!,7,FALSE),\"_\")","v":"_"},{"$f":"IFERROR(VLOOKUP(N345,#REF!,12,FALSE),\"_\")","v":"_"},{"$f":"IFERROR(VLOOKUP(N345,#REF!,3,FALSE),\"\")","v":""},{"$f":"IFERROR(VLOOKUP(N345,#REF!,2,FALSE),\"\")","v":""}]
[{"$error":"#REF!"},{"$f":"IF(VLOOKUP(M346,#REF!,2,FALSE)<=#REF!+1,\"OK\",\"X\")","v":{"$error":"#REF!"}},1,0,1,"OK","7","","","OK",null,null,null,null,{"$f":"IFERROR(VLOOKUP(N346,#REF!,3,FALSE),\"_\")","v":"_"},{"$f":"IFERROR(VLOOKUP(N346,#REF!,7,FALSE),\"_\")","v":"_"},{"$f":"IFERROR(VLOOKUP(N346,#REF!,12,FALSE),\"_\")","v":"_"},{"$f":"IFERROR(VLOOKUP(N346,#REF!,3,FALSE),\"\")","v":""},{"$f":"IFERROR(VLOOKUP(N346,#REF!,2,FALSE),\"\")","v":""}]
[{"$error":"#REF!"},{"$f":"IF(VLOOKUP(M347,#REF!,2,FALSE)<=#REF!+1,\"OK\",\"X\")","v":{"$error":"#REF!"}},1,0,1,"OK","7","","","OK",null,null,null,null,{"$f":"IFERROR(VLOOKUP(N347,#REF!,3,FALSE),\"_\")","v":"_"},{"$f":"IFERROR(VLOOKUP(N347,#REF!,7,FALSE),\"_\")","v":"_"},{"$f":"IFERROR(VLOOKUP(N347,#REF!,12,FALSE),\"_\")","v":"_"},{"$f":"IFERROR(VLOOKUP(N347,#REF!,3,FALSE),\"\")","v":""},{"$f":"IFERROR(VLOOKUP(N347,#REF!,2,FALSE),\"\")","v":""}]
[{"$error":"#REF!"},{"$f":"IF(VLOOKUP(M348,#REF!,2,FALSE)<=#REF!+1,\"OK\",\"X\")","v":{"$error":"#REF!"}},1,0,1,"OK","7","","","OK",null,null,null,null,{"$f":"IFERROR(VLOOKUP(N348,#REF!,3,FALSE),\"_\")","v":"_"},{"$f":"IFERROR(VLOOKUP(N348,#REF!,7,FALSE),\"_\")","v":"_"},{"$f":"IFERROR(VLOOKUP(N348,#REF!,12,FALSE),\"_\")","v":"_"},{"$f":"IFERROR(VLOOKUP(N348,#REF!,3,FALSE),\"\")","v":""},{"$f":"IFERROR(VLOOKUP(N348,#REF!,2,FALSE),\"\")","v":""}]
[{"$error":"#REF!"},{"$f":"IF(VLOOKUP(M349,#REF!,2,FALSE)<=#REF!+1,\"OK\",\"X\")","v":{"$error":"#REF!"}},1,0,1,"OK","7","","","OK"]
[{"$error":"#REF!"},{"$f":"IF(VLOOKUP(M350,#REF!,2,FALSE)<=#REF!+1,\"OK\",\"X\")","v":{"$error":"#REF!"}},1,0,1,"OK","7","","","OK"]
[{"$error":"#REF!"},{"$f":"IF(VLOOKUP(M351,#REF!,2,FALSE)<=#REF!+1,\"OK\",\"X\")","v":{"$error":"#REF!"}},1,0,1,"OK","7","","","OK"]
[{"$error":"#REF!"},{"$f":"IF(VLOOKUP(M352,#REF!,2,FALSE)<=#REF!+1,\"OK\",\"X\")","v":{"$error":"#REF!"}},1,0,1,"OK","7","","","OK"]
[{"$error":"#REF!"},{"$f":"IF(VLOOKUP(M353,#REF!,2,FALSE)<=#REF!+1,\"OK\",\"X\")","v":{"$error":"#REF!"}},1,0,1,"OK","7","","","OK"]
[{"$error":"#REF!"},{"$f":"IF(VLOOKUP(M354,#REF!,2,FALSE)<=#REF!+1,\"OK\",\"X\")","v":{"$error":"#REF!"}},1,0,1,"OK","7","","","OK"]
[{"$error":"#REF!"},{"$f":"IF(VLOOKUP(M355,#REF!,2,FALSE)<=#REF!+1,\"OK\",\"X\")","v":{"$error":"#REF!"}},1,0,1,"OK","7","","","OK"]
[{"$error":"#REF!"},{"$f":"IF(VLOOKUP(M356,#REF!,2,FALSE)<=#REF!+1,\"OK\",\"X\")","v":{"$error":"#REF!"}},1,0,1,"OK","7","","","OK"]
[{"$error":"#REF!"},{"$f":"IF(VLOOKUP(M357,#REF!,2,FALSE)<=#REF!+1,\"OK\",\"X\")","v":{"$error":"#REF!"}},1,0,1,"OK","7","","","OK"]
[{"$error":"#REF!"},{"$f":"IF(VLOOKUP(M358,#REF!,2,FALSE)<=#REF!+1,\"OK\",\"X\")","v":{"$error":"#REF!"}},1,0,1,"OK","7","","","OK"]
[{"$error":"#REF!"},{"$f":"IF(VLOOKUP(M359,#REF!,2,FALSE)<=#REF!+1,\"OK\",\"X\")","v":{"$error":"#REF!"}},1,0,1,"OK","7","","","OK"]
[{"$error":"#REF!"},{"$f":"IF(VLOOKUP(M360,#REF!,2,FALSE)<=#REF!+1,\"OK\",\"X\")","v":{"$error":"#REF!"}},1,0,1,"OK","7","","","OK"]
[{"$error":"#REF!"},{"$f":"IF(VLOOKUP(M361,#REF!,2,FALSE)<=#REF!+1,\"OK\",\"X\")","v":{"$error":"#REF!"}},1,0,1,"OK","7","","","OK"]
[{"$error":"#REF!"},{"$f":"IF(VLOOKUP(M362,#REF!,2,FALSE)<=#REF!+1,\"OK\",\"X\")","v":{"$error":"#REF!"}},1,0,1,"OK","7","","","OK"]
[{"$error":"#REF!"},{"$f":"IF(VLOOKUP(M363,#REF!,2,FALSE)<=#REF!+1,\"OK\",\"X\")","v":{"$error":"#REF!"}},1,0,1,"OK","7","","","OK"]
[{"$error":"#REF!"},{"$f":"IF(VLOOKUP(M364,#REF!,2,FALSE)<=#REF!+1,\"OK\",\"X\")","v":{"$error":"#REF!"}},1,0,1,"OK","7","","","OK"]
[{"$error":"#REF!"},{"$f":"IF(VLOOKUP(M365,#REF!,2,FALSE)<=#REF!+1,\"OK\",\"X\")","v":{"$error":"#REF!"}},1,0,1,"OK","7","","","OK"]
[{"$error":"#REF!"},{"$f":"IF(VLOOKUP(M366,#REF!,2,FALSE)<=#REF!+1,\"OK\",\"X\")","v":{"$error":"#REF!"}},1,0,1,"OK","7","","","OK"]
[{"$error":"#REF!"},{"$f":"IF(VLOOKUP(M367,#REF!,2,FALSE)<=#REF!+1,\"OK\",\"X\")","v":{"$error":"#REF!"}},1,0,1,"OK","7","","","OK"]
[{"$error":"#REF!"},{"$f":"IF(VLOOKUP(M368,#REF!,2,FALSE)<=#REF!+1,\"OK\",\"X\")","v":{"$error":"#REF!"}},1,0,1,"OK","7","","","OK"]
[{"$error":"#REF!"},{"$f":"IF(VLOOKUP(M369,#REF!,2,FALSE)<=#REF!+1,\"OK\",\"X\")","v":{"$error":"#REF!"}},1,0,1,"OK","7","","","OK"]
[{"$error":"#REF!"},{"$f":"IF(VLOOKUP(M370,#REF!,2,FALSE)<=#REF!+1,\"OK\",\"X\")","v":{"$error":"#REF!"}},1,0,1,"OK","7","","","OK"]
[{"$error":"#REF!"},{"$f":"IF(VLOOKUP(M371,#REF!,2,FALSE)<=#REF!+1,\"OK\",\"X\")","v":{"$error":"#REF!"}},1,0,1,"OK","7","","","OK"]
[{"$error":"#REF!"},{"$f":"IF(VLOOKUP(M372,#REF!,2,FALSE)<=#REF!+1,\"OK\",\"X\")","v":{"$error":"#REF!"}},1,0,1,"OK","7","","","OK"]
[{"$error":"#REF!"},{"$f":"IF(VLOOKUP(M373,#REF!,2,FALSE)<=#REF!+1,\"OK\",\"X\")","v":{"$error":"#REF!"}},1,0,1,"OK","7","","","OK"]
[{"$error":"#REF!"},{"$f":"IF(VLOOKUP(M374,#REF!,2,FALSE)<=#REF!+1,\"OK\",\"X\")","v":{"$error":"#REF!"}},1,0,1,"OK","7","","","OK"]
[{"$error":"#REF!"},{"$f":"IF(VLOOKUP(M375,#REF!,2,FALSE)<=#REF!+1,\"OK\",\"X\")","v":{"$error":"#REF!"}},1,0,1,"OK","7","","","OK"]
[{"$error":"#REF!"},{"$f":"IF(VLOOKUP(M376,#REF!,2,FALSE)<=#REF!+1,\"OK\",\"X\")","v":{"$error":"#REF!"}},1,0,1,"OK","7","","","OK"]
[{"$error":"#REF!"},{"$f":"IF(VLOOKUP(M377,#REF!,2,FALSE)<=#REF!+1,\"OK\",\"X\")","v":{"$error":"#REF!"}},1,0,1,"OK","7","","","OK"]
[{"$error":"#REF!"},{"$f":"IF(VLOOKUP(M378,#REF!,2,FALSE)<=#REF!+1,\"OK\",\"X\")","v":{"$error":"#REF!"}},1,0,1,"OK","7","","","OK"]
[{"$error":"#REF!"},{"$f":"IF(VLOOKUP(M379,#REF!,2,FALSE)<=#REF!+1,\"OK\",\"X\")","v":{"$error":"#REF!"}},1,0,1,"OK","7","","","OK"]
[{"$error":"#REF!"},{"$f":"IF(VLOOKUP(M380,#REF!,2,FALSE)<=#REF!+1,\"OK\",\"X\")","v":{"$error":"#REF!"}},1,0,1,"OK","7","","","OK"]
[{"$error":"#REF!"},{"$f":"IF(VLOOKUP(M381,#REF!,2,FALSE)<=#REF!+1,\"OK\",\"X\")","v":{"$error":"#REF!"}},1,0,1,"OK","7","","","OK"]
[{"$error":"#REF!"},{"$f":"IF(VLOOKUP(M382,#REF!,2,FALSE)<=#REF!+1,\"OK\",\"X\")","v":{"$error":"#REF!"}},1,0,1,"OK","7","","","OK"]
[{"$error":"#REF!"},{"$f":"IF(VLOOKUP(M383,#REF!,2,FALSE)<=#REF!+1,\"OK\",\"X\")","v":{"$error":"#REF!"}},1,0,1,"OK","7","","","OK"]
[{"$error":"#REF!"},{"$f":"IF(VLOOKUP(M384,#REF!,2,FALSE)<=#REF!+1,\"OK\",\"X\")","v":{"$error":"#REF!"}},1,0,1,"OK","7","","","OK"]
[{"$error":"#REF!"},{"$f":"IF(VLOOKUP(M385,#REF!,2,FALSE)<=#REF!+1,\"OK\",\"X\")","v":{"$error":"#REF!"}},1,0,1,"OK","7","","","OK"]
[{"$error":"#REF!"},{"$f":"IF(VLOOKUP(M386,#REF!,2,FALSE)<=#REF!+1,\"OK\",\"X\")","v":{"$error":"#REF!"}},1,0,1,"OK","7","","","OK"]
[{"$error":"#REF!"},{"$f":"IF(VLOOKUP(M387,#REF!,2,FALSE)<=#REF!+1,\"OK\",\"X\")","v":{"$error":"#REF!"}},1,0,1,"OK","7","","","OK"]
[{"$error":"#REF!"},{"$f":"IF(VLOOKUP(M388,#REF!,2,FALSE)<=#REF!+1,\"OK\",\"X\")","v":{"$error":"#REF!"}},1,0,1,"OK","7","","","OK"]
[{"$f":"L389&LEFT(P389,3)&B389","v":{"$error":"#REF!"}},{"$f":"IF(VLOOKUP(M389,#REF!,2,FALSE)<=#REF!+1,\"OK\",\"X\")","v":{"$error":"#REF!"}},{"$f":"IF(P389=\"start dummy operation\",0,1)","v":1},{"$f":"IF(U389=\"Y\",1,0)","v":0},{"$f":"SUM(C389:D389)","v":1},{"$f":"IF(E389>0,\"OK\",\"X2\")","v":"OK"},{"$f":"WEEKDAY(V389)&T389","v":"7"},{"$f":"L389&M389","v":""},{"$f":"M389&L389&U389","v":""},{"$f":"M389&L389&F389","v":"OK"}]
[{"$error":"#REF!"},{"$f":"IF(VLOOKUP(M390,#REF!,2,FALSE)<=#REF!+1,\"OK\",\"X\")","v":{"$error":"#REF!"}},1,0,1,"OK","7","","","OK"]
[{"$error":"#REF!"},{"$f":"IF(VLOOKUP(M391,#REF!,2,FALSE)<=#REF!+1,\"OK\",\"X\")","v":{"$error":"#REF!"}},1,0,1,"OK","7","","","OK"]
[{"$error":"#REF!"},{"$f":"IF(VLOOKUP(M392,#REF!,2,FALSE)<=#REF!+1,\"OK\",\"X\")","v":{"$error":"#REF!"}},1,0,1,"OK","7","","","OK"]
[{"$error":"#REF!"},{"$f":"IF(VLOOKUP(M393,#REF!,2,FALSE)<=#REF!+1,\"OK\",\"X\")","v":{"$error":"#REF!"}},1,0,1,"OK","7","","","OK"]
[{"$error":"#REF!"},{"$f":"IF(VLOOKUP(M394,#REF!,2,FALSE)<=#REF!+1,\"OK\",\"X\")","v":{"$error":"#REF!"}},1,0,1,"OK","7","","","OK"]
[{"$error":"#REF!"},{"$f":"IF(VLOOKUP(M395,#REF!,2,FALSE)<=#REF!+1,\"OK\",\"X\")","v":{"$error":"#REF!"}},1,0,1,"OK","7","","","OK"]
[{"$error":"#REF!"},{"$f":"IF(VLOOKUP(M396,#REF!,2,FALSE)<=#REF!+1,\"OK\",\"X\")","v":{"$error":"#REF!"}},1,0,1,"OK","7","","","OK"]
[{"$error":"#REF!"},{"$f":"IF(VLOOKUP(M397,#REF!,2,FALSE)<=#REF!+1,\"OK\",\"X\")","v":{"$error":"#REF!"}},1,0,1,"OK","7","","","OK"]
[{"$error":"#REF!"},{"$f":"IF(VLOOKUP(M398,#REF!,2,FALSE)<=#REF!+1,\"OK\",\"X\")","v":{"$error":"#REF!"}},1,0,1,"OK","7","","","OK"]
[{"$error":"#REF!"},{"$f":"IF(VLOOKUP(M399,#REF!,2,FALSE)<=#REF!+1,\"OK\",\"X\")","v":{"$error":"#REF!"}},1,0,1,"OK","7","","","OK"]
[{"$error":"#REF!"},{"$f":"IF(VLOOKUP(M400,#REF!,2,FALSE)<=#REF!+1,\"OK\",\"X\")","v":{"$error":"#REF!"}},1,0,1,"OK","7","","","OK"]
[{"$error":"#REF!"},{"$f":"IF(VLOOKUP(M401,#REF!,2,FALSE)<=#REF!+1,\"OK\",\"X\")","v":{"$error":"#REF!"}},1,0,1,"OK","7","","","OK"]
[{"$error":"#REF!"},{"$f":"IF(VLOOKUP(M402,#REF!,2,FALSE)<=#REF!+1,\"OK\",\"X\")","v":{"$error":"#REF!"}},1,0,1,"OK","7","","","OK"]
[{"$error":"#REF!"},{"$f":"IF(VLOOKUP(M403,#REF!,2,FALSE)<=#REF!+1,\"OK\",\"X\")","v":{"$error":"#REF!"}},1,0,1,"OK","7","","","OK"]
[{"$error":"#REF!"},{"$f":"IF(VLOOKUP(M404,#REF!,2,FALSE)<=#REF!+1,\"OK\",\"X\")","v":{"$error":"#REF!"}},1,0,1,"OK","7","","","OK"]
[{"$error":"#REF!"},{"$f":"IF(VLOOKUP(M405,#REF!,2,FALSE)<=#REF!+1,\"OK\",\"X\")","v":{"$error":"#REF!"}},1,0,1,"OK","7","","","OK"]
[{"$error":"#REF!"},{"$f":"IF(VLOOKUP(M406,#REF!,2,FALSE)<=#REF!+1,\"OK\",\"X\")","v":{"$error":"#REF!"}},1,0,1,"OK","7","","","OK"]
[{"$error":"#REF!"},{"$f":"IF(VLOOKUP(M407,#REF!,2,FALSE)<=#REF!+1,\"OK\",\"X\")","v":{"$error":"#REF!"}},1,0,1,"OK","7","","","OK"]
[{"$error":"#REF!"},{"$f":"IF(VLOOKUP(M408,#REF!,2,FALSE)<=#REF!+1,\"OK\",\"X\")","v":{"$error":"#REF!"}},1,0,1,"OK","7","","","OK"]
[{"$error":"#REF!"},{"$f":"IF(VLOOKUP(M409,#REF!,2,FALSE)<=#REF!+1,\"OK\",\"X\")","v":{"$error":"#REF!"}},1,0,1,"OK","7","","","OK"]
[{"$error":"#REF!"},{"$f":"IF(VLOOKUP(M410,#REF!,2,FALSE)<=#REF!+1,\"OK\",\"X\")","v":{"$error":"#REF!"}},1,0,1,"OK","7","","","OK"]
[{"$error":"#REF!"},{"$f":"IF(VLOOKUP(M411,#REF!,2,FALSE)<=#REF!+1,\"OK\",\"X\")","v":{"$error":"#REF!"}},1,0,1,"OK","7","","","OK"]
[{"$error":"#REF!"},{"$f":"IF(VLOOKUP(M412,#REF!,2,FALSE)<=#REF!+1,\"OK\",\"X\")","v":{"$error":"#REF!"}},1,0,1,"OK","7","","","OK"]
[{"$error":"#REF!"},{"$f":"IF(VLOOKUP(M413,#REF!,2,FALSE)<=#REF!+1,\"OK\",\"X\")","v":{"$error":"#REF!"}},1,0,1,"OK","7","","","OK"]
[{"$error":"#REF!"},{"$f":"IF(VLOOKUP(M414,#REF!,2,FALSE)<=#REF!+1,\"OK\",\"X\")","v":{"$error":"#REF!"}},1,0,1,"OK","7","","","OK"]
[{"$error":"#REF!"},{"$f":"IF(VLOOKUP(M415,#REF!,2,FALSE)<=#REF!+1,\"OK\",\"X\")","v":{"$error":"#REF!"}},1,0,1,"OK","7","","","OK"]
[{"$error":"#REF!"},{"$f":"IF(VLOOKUP(M416,#REF!,2,FALSE)<=#REF!+1,\"OK\",\"X\")","v":{"$error":"#REF!"}},1,0,1,"OK","7","","","OK"]
[{"$error":"#REF!"},{"$f":"IF(VLOOKUP(M417,#REF!,2,FALSE)<=#REF!+1,\"OK\",\"X\")","v":{"$error":"#REF!"}},1,0,1,"OK","7","","","OK"]
[{"$error":"#REF!"},{"$f":"IF(VLOOKUP(M418,#REF!,2,FALSE)<=#REF!+1,\"OK\",\"X\")","v":{"$error":"#REF!"}},1,0,1,"OK","7","","","OK"]
[{"$error":"#REF!"},{"$f":"IF(VLOOKUP(M419,#REF!,2,FALSE)<=#REF!+1,\"OK\",\"X\")","v":{"$error":"#REF!"}},1,0,1,"OK","7","","","OK"]
[{"$error":"#REF!"},{"$f":"IF(VLOOKUP(M420,#REF!,2,FALSE)<=#REF!+1,\"OK\",\"X\")","v":{"$error":"#REF!"}},1,0,1,"OK","7","","","OK"]
[{"$error":"#REF!"},{"$f":"IF(VLOOKUP(M421,#REF!,2,FALSE)<=#REF!+1,\"OK\",\"X\")","v":{"$error":"#REF!"}},1,0,1,"OK","7","","","OK"]
[{"$error":"#REF!"},{"$f":"IF(VLOOKUP(M422,#REF!,2,FALSE)<=#REF!+1,\"OK\",\"X\")","v":{"$error":"#REF!"}},1,0,1,"OK","7","","","OK"]
[{"$error":"#REF!"},{"$f":"IF(VLOOKUP(M423,#REF!,2,FALSE)<=#REF!+1,\"OK\",\"X\")","v":{"$error":"#REF!"}},1,0,1,"OK","7","","","OK"]
[{"$error":"#REF!"},{"$f":"IF(VLOOKUP(M424,#REF!,2,FALSE)<=#REF!+1,\"OK\",\"X\")","v":{"$error":"#REF!"}},1,0,1,"OK","7","","","OK"]
[{"$error":"#REF!"},{"$f":"IF(VLOOKUP(M425,#REF!,2,FALSE)<=#REF!+1,\"OK\",\"X\")","v":{"$error":"#REF!"}},1,0,1,"OK","7","","","OK"]
[{"$error":"#REF!"},{"$f":"IF(VLOOKUP(M426,#REF!,2,FALSE)<=#REF!+1,\"OK\",\"X\")","v":{"$error":"#REF!"}},1,0,1,"OK","7","","","OK"]
[{"$error":"#REF!"},{"$f":"IF(VLOOKUP(M427,#REF!,2,FALSE)<=#REF!+1,\"OK\",\"X\")","v":{"$error":"#REF!"}},1,0,1,"OK","7","","","OK"]
[{"$error":"#REF!"},{"$f":"IF(VLOOKUP(M428,#REF!,2,FALSE)<=#REF!+1,\"OK\",\"X\")","v":{"$error":"#REF!"}},1,0,1,"OK","7","","","OK"]
[{"$error":"#REF!"},{"$f":"IF(VLOOKUP(M429,#REF!,2,FALSE)<=#REF!+1,\"OK\",\"X\")","v":{"$error":"#REF!"}},1,0,1,"OK","7","","","OK"]
[{"$error":"#REF!"},{"$f":"IF(VLOOKUP(M430,#REF!,2,FALSE)<=#REF!+1,\"OK\",\"X\")","v":{"$error":"#REF!"}},1,0,1,"OK","7","","","OK"]
[{"$error":"#REF!"},{"$f":"IF(VLOOKUP(M431,#REF!,2,FALSE)<=#REF!+1,\"OK\",\"X\")","v":{"$error":"#REF!"}},1,0,1,"OK","7","","","OK"]
[{"$error":"#REF!"},{"$f":"IF(VLOOKUP(M432,#REF!,2,FALSE)<=#REF!+1,\"OK\",\"X\")","v":{"$error":"#REF!"}},1,0,1,"OK","7","","","OK"]
[{"$error":"#REF!"},{"$f":"IF(VLOOKUP(M433,#REF!,2,FALSE)<=#REF!+1,\"OK\",\"X\")","v":{"$error":"#REF!"}},1,0,1,"OK","7","","","OK"]
[{"$error":"#REF!"},{"$f":"IF(VLOOKUP(M434,#REF!,2,FALSE)<=#REF!+1,\"OK\",\"X\")","v":{"$error":"#REF!"}},1,0,1,"OK","7","","","OK"]
[{"$error":"#REF!"},{"$f":"IF(VLOOKUP(M435,#REF!,2,FALSE)<=#REF!+1,\"OK\",\"X\")","v":{"$error":"#REF!"}},1,0,1,"OK","7","","","OK"]
[{"$error":"#REF!"},{"$f":"IF(VLOOKUP(M436,#REF!,2,FALSE)<=#REF!+1,\"OK\",\"X\")","v":{"$error":"#REF!"}},1,0,1,"OK","7","","","OK"]
[{"$error":"#REF!"},{"$f":"IF(VLOOKUP(M437,#REF!,2,FALSE)<=#REF!+1,\"OK\",\"X\")","v":{"$error":"#REF!"}},1,0,1,"OK","7","","","OK"]
[{"$error":"#REF!"},{"$f":"IF(VLOOKUP(M438,#REF!,2,FALSE)<=#REF!+1,\"OK\",\"X\")","v":{"$error":"#REF!"}},1,0,1,"OK","7","","","OK"]
[{"$error":"#REF!"},{"$f":"IF(VLOOKUP(M439,#REF!,2,FALSE)<=#REF!+1,\"OK\",\"X\")","v":{"$error":"#REF!"}},1,0,1,"OK","7","","","OK"]
[{"$error":"#REF!"},{"$f":"IF(VLOOKUP(M440,#REF!,2,FALSE)<=#REF!+1,\"OK\",\"X\")","v":{"$error":"#REF!"}},1,0,1,"OK","7","","","OK"]
[{"$error":"#REF!"},{"$f":"IF(VLOOKUP(M441,#REF!,2,FALSE)<=#REF!+1,\"OK\",\"X\")","v":{"$error":"#REF!"}},1,0,1,"OK","7","","","OK"]
[{"$error":"#REF!"},{"$f":"IF(VLOOKUP(M442,#REF!,2,FALSE)<=#REF!+1,\"OK\",\"X\")","v":{"$error":"#REF!"}},1,0,1,"OK","7","","","OK"]
[{"$error":"#REF!"},{"$f":"IF(VLOOKUP(M443,#REF!,2,FALSE)<=#REF!+1,\"OK\",\"X\")","v":{"$error":"#REF!"}},1,0,1,"OK","7","","","OK"]
[{"$error":"#REF!"},{"$f":"IF(VLOOKUP(M444,#REF!,2,FALSE)<=#REF!+1,\"OK\",\"X\")","v":{"$error":"#REF!"}},1,0,1,"OK","7","","","OK"]
[{"$error":"#REF!"},{"$f":"IF(VLOOKUP(M445,#REF!,2,FALSE)<=#REF!+1,\"OK\",\"X\")","v":{"$error":"#REF!"}},1,0,1,"OK","7","","","OK"]
[{"$error":"#REF!"},{"$f":"IF(VLOOKUP(M446,#REF!,2,FALSE)<=#REF!+1,\"OK\",\"X\")","v":{"$error":"#REF!"}},1,0,1,"OK","7","","","OK"]
[{"$error":"#REF!"},{"$f":"IF(VLOOKUP(M447,#REF!,2,FALSE)<=#REF!+1,\"OK\",\"X\")","v":{"$error":"#REF!"}},1,0,1,"OK","7","","","OK"]
[{"$error":"#REF!"},{"$f":"IF(VLOOKUP(M448,#REF!,2,FALSE)<=#REF!+1,\"OK\",\"X\")","v":{"$error":"#REF!"}},1,0,1,"OK","7","","","OK"]
[{"$error":"#REF!"},{"$f":"IF(VLOOKUP(M449,#REF!,2,FALSE)<=#REF!+1,\"OK\",\"X\")","v":{"$error":"#REF!"}},1,0,1,"OK","7","","","OK"]
[{"$error":"#REF!"},{"$f":"IF(VLOOKUP(M450,#REF!,2,FALSE)<=#REF!+1,\"OK\",\"X\")","v":{"$error":"#REF!"}},1,0,1,"OK","7","","","OK"]
[{"$error":"#REF!"},{"$f":"IF(VLOOKUP(M451,#REF!,2,FALSE)<=#REF!+1,\"OK\",\"X\")","v":{"$error":"#REF!"}},1,0,1,"OK","7","","","OK"]
[{"$error":"#REF!"},{"$f":"IF(VLOOKUP(M452,#REF!,2,FALSE)<=#REF!+1,\"OK\",\"X\")","v":{"$error":"#REF!"}},1,0,1,"OK","7","","","OK"]
[{"$f":"L453&LEFT(P453,3)&B453","v":{"$error":"#REF!"}},{"$f":"IF(VLOOKUP(M453,#REF!,2,FALSE)<=#REF!+1,\"OK\",\"X\")","v":{"$error":"#REF!"}},{"$f":"IF(P453=\"start dummy operation\",0,1)","v":1},{"$f":"IF(U453=\"Y\",1,0)","v":0},{"$f":"SUM(C453:D453)","v":1},{"$f":"IF(E453>0,\"OK\",\"X2\")","v":"OK"},{"$f":"WEEKDAY(V453)&T453","v":"7"},{"$f":"L453&M453","v":""},{"$f":"M453&L453&U453","v":""},{"$f":"M453&L453&F453","v":"OK"}]
[{"$error":"#REF!"},{"$f":"IF(VLOOKUP(M454,#REF!,2,FALSE)<=#REF!+1,\"OK\",\"X\")","v":{"$error":"#REF!"}},1,0,1,"OK","7","","","OK"]
[{"$error":"#REF!"},{"$f":"IF(VLOOKUP(M455,#REF!,2,FALSE)<=#REF!+1,\"OK\",\"X\")","v":{"$error":"#REF!"}},1,0,1,"OK","7","","","OK"]
[{"$error":"#REF!"},{"$f":"IF(VLOOKUP(M456,#REF!,2,FALSE)<=#REF!+1,\"OK\",\"X\")","v":{"$error":"#REF!"}},1,0,1,"OK","7","","","OK"]
[{"$error":"#REF!"},{"$f":"IF(VLOOKUP(M457,#REF!,2,FALSE)<=#REF!+1,\"OK\",\"X\")","v":{"$error":"#REF!"}},1,0,1,"OK","7","","","OK"]
[{"$error":"#REF!"},{"$f":"IF(VLOOKUP(M458,#REF!,2,FALSE)<=#REF!+1,\"OK\",\"X\")","v":{"$error":"#REF!"}},1,0,1,"OK","7","","","OK"]
[{"$error":"#REF!"},{"$f":"IF(VLOOKUP(M459,#REF!,2,FALSE)<=#REF!+1,\"OK\",\"X\")","v":{"$error":"#REF!"}},1,0,1,"OK","7","","","OK"]
[{"$error":"#REF!"},{"$f":"IF(VLOOKUP(M460,#REF!,2,FALSE)<=#REF!+1,\"OK\",\"X\")","v":{"$error":"#REF!"}},1,0,1,"OK","7","","","OK"]
[{"$error":"#REF!"},{"$f":"IF(VLOOKUP(M461,#REF!,2,FALSE)<=#REF!+1,\"OK\",\"X\")","v":{"$error":"#REF!"}},1,0,1,"OK","7","","","OK"]
[{"$error":"#REF!"},{"$f":"IF(VLOOKUP(M462,#REF!,2,FALSE)<=#REF!+1,\"OK\",\"X\")","v":{"$error":"#REF!"}},1,0,1,"OK","7","","","OK"]
[{"$error":"#REF!"},{"$f":"IF(VLOOKUP(M463,#REF!,2,FALSE)<=#REF!+1,\"OK\",\"X\")","v":{"$error":"#REF!"}},1,0,1,"OK","7","","","OK"]
[{"$error":"#REF!"},{"$f":"IF(VLOOKUP(M464,#REF!,2,FALSE)<=#REF!+1,\"OK\",\"X\")","v":{"$error":"#REF!"}},1,0,1,"OK","7","","","OK"]
[{"$error":"#REF!"},{"$f":"IF(VLOOKUP(M465,#REF!,2,FALSE)<=#REF!+1,\"OK\",\"X\")","v":{"$error":"#REF!"}},1,0,1,"OK","7","","","OK"]
[{"$error":"#REF!"},{"$f":"IF(VLOOKUP(M466,#REF!,2,FALSE)<=#REF!+1,\"OK\",\"X\")","v":{"$error":"#REF!"}},1,0,1,"OK","7","","","OK"]
[{"$error":"#REF!"},{"$f":"IF(VLOOKUP(M467,#REF!,2,FALSE)<=#REF!+1,\"OK\",\"X\")","v":{"$error":"#REF!"}},1,0,1,"OK","7","","","OK"]
[{"$error":"#REF!"},{"$f":"IF(VLOOKUP(M468,#REF!,2,FALSE)<=#REF!+1,\"OK\",\"X\")","v":{"$error":"#REF!"}},1,0,1,"OK","7","","","OK"]
[{"$error":"#REF!"},{"$f":"IF(VLOOKUP(M469,#REF!,2,FALSE)<=#REF!+1,\"OK\",\"X\")","v":{"$error":"#REF!"}},1,0,1,"OK","7","","","OK"]
[{"$error":"#REF!"},{"$f":"IF(VLOOKUP(M470,#REF!,2,FALSE)<=#REF!+1,\"OK\",\"X\")","v":{"$error":"#REF!"}},1,0,1,"OK","7","","","OK"]
[{"$error":"#REF!"},{"$f":"IF(VLOOKUP(M471,#REF!,2,FALSE)<=#REF!+1,\"OK\",\"X\")","v":{"$error":"#REF!"}},1,0,1,"OK","7","","","OK"]
[{"$error":"#REF!"},{"$f":"IF(VLOOKUP(M472,#REF!,2,FALSE)<=#REF!+1,\"OK\",\"X\")","v":{"$error":"#REF!"}},1,0,1,"OK","7","","","OK"]
[{"$error":"#REF!"},{"$f":"IF(VLOOKUP(M473,#REF!,2,FALSE)<=#REF!+1,\"OK\",\"X\")","v":{"$error":"#REF!"}},1,0,1,"OK","7","","","OK"]
[{"$error":"#REF!"},{"$f":"IF(VLOOKUP(M474,#REF!,2,FALSE)<=#REF!+1,\"OK\",\"X\")","v":{"$error":"#REF!"}},1,0,1,"OK","7","","","OK"]
[{"$error":"#REF!"},{"$f":"IF(VLOOKUP(M475,#REF!,2,FALSE)<=#REF!+1,\"OK\",\"X\")","v":{"$error":"#REF!"}},1,0,1,"OK","7","","","OK"]
[{"$error":"#REF!"},{"$f":"IF(VLOOKUP(M476,#REF!,2,FALSE)<=#REF!+1,\"OK\",\"X\")","v":{"$error":"#REF!"}},1,0,1,"OK","7","","","OK"]
[{"$error":"#REF!"},{"$f":"IF(VLOOKUP(M477,#REF!,2,FALSE)<=#REF!+1,\"OK\",\"X\")","v":{"$error":"#REF!"}},1,0,1,"OK","7","","","OK"]
[{"$error":"#REF!"},{"$f":"IF(VLOOKUP(M478,#REF!,2,FALSE)<=#REF!+1,\"OK\",\"X\")","v":{"$error":"#REF!"}},1,0,1,"OK","7","","","OK"]
[{"$error":"#REF!"},{"$f":"IF(VLOOKUP(M479,#REF!,2,FALSE)<=#REF!+1,\"OK\",\"X\")","v":{"$error":"#REF!"}},1,0,1,"OK","7","","","OK"]
[{"$error":"#REF!"},{"$f":"IF(VLOOKUP(M480,#REF!,2,FALSE)<=#REF!+1,\"OK\",\"X\")","v":{"$error":"#REF!"}},1,0,1,"OK","7","","","OK"]
[{"$error":"#REF!"},{"$f":"IF(VLOOKUP(M481,#REF!,2,FALSE)<=#REF!+1,\"OK\",\"X\")","v":{"$error":"#REF!"}},1,0,1,"OK","7","","","OK"]
[{"$error":"#REF!"},{"$f":"IF(VLOOKUP(M482,#REF!,2,FALSE)<=#REF!+1,\"OK\",\"X\")","v":{"$error":"#REF!"}},1,0,1,"OK","7","","","OK"]
[{"$error":"#REF!"},{"$f":"IF(VLOOKUP(M483,#REF!,2,FALSE)<=#REF!+1,\"OK\",\"X\")","v":{"$error":"#REF!"}},1,0,1,"OK","7","","","OK"]
[{"$error":"#REF!"},{"$f":"IF(VLOOKUP(M484,#REF!,2,FALSE)<=#REF!+1,\"OK\",\"X\")","v":{"$error":"#REF!"}},1,0,1,"OK","7","","","OK"]
[{"$error":"#REF!"},{"$f":"IF(VLOOKUP(M485,#REF!,2,FALSE)<=#REF!+1,\"OK\",\"X\")","v":{"$error":"#REF!"}},1,0,1,"OK","7","","","OK"]
[{"$error":"#REF!"},{"$f":"IF(VLOOKUP(M486,#REF!,2,FALSE)<=#REF!+1,\"OK\",\"X\")","v":{"$error":"#REF!"}},1,0,1,"OK","7","","","OK"]
[{"$error":"#REF!"},{"$f":"IF(VLOOKUP(M487,#REF!,2,FALSE)<=#REF!+1,\"OK\",\"X\")","v":{"$error":"#REF!"}},1,0,1,"OK","7","","","OK"]
[{"$error":"#REF!"},{"$f":"IF(VLOOKUP(M488,#REF!,2,FALSE)<=#REF!+1,\"OK\",\"X\")","v":{"$error":"#REF!"}},1,0,1,"OK","7","","","OK"]
[{"$error":"#REF!"},{"$f":"IF(VLOOKUP(M489,#REF!,2,FALSE)<=#REF!+1,\"OK\",\"X\")","v":{"$error":"#REF!"}},1,0,1,"OK","7","","","OK"]
[{"$error":"#REF!"},{"$f":"IF(VLOOKUP(M490,#REF!,2,FALSE)<=#REF!+1,\"OK\",\"X\")","v":{"$error":"#REF!"}},1,0,1,"OK","7","","","OK"]
[{"$error":"#REF!"},{"$f":"IF(VLOOKUP(M491,#REF!,2,FALSE)<=#REF!+1,\"OK\",\"X\")","v":{"$error":"#REF!"}},1,0,1,"OK","7","","","OK"]
[{"$error":"#REF!"},{"$f":"IF(VLOOKUP(M492,#REF!,2,FALSE)<=#REF!+1,\"OK\",\"X\")","v":{"$error":"#REF!"}},1,0,1,"OK","7","","","OK"]
[{"$error":"#REF!"},{"$f":"IF(VLOOKUP(M493,#REF!,2,FALSE)<=#REF!+1,\"OK\",\"X\")","v":{"$error":"#REF!"}},1,0,1,"OK","7","","","OK"]
[{"$error":"#REF!"},{"$f":"IF(VLOOKUP(M494,#REF!,2,FALSE)<=#REF!+1,\"OK\",\"X\")","v":{"$error":"#REF!"}},1,0,1,"OK","7","","","OK"]
[{"$error":"#REF!"},{"$f":"IF(VLOOKUP(M495,#REF!,2,FALSE)<=#REF!+1,\"OK\",\"X\")","v":{"$error":"#REF!"}},1,0,1,"OK","7","","","OK"]
[{"$error":"#REF!"},{"$f":"IF(VLOOKUP(M496,#REF!,2,FALSE)<=#REF!+1,\"OK\",\"X\")","v":{"$error":"#REF!"}},1,0,1,"OK","7","","","OK"]
[{"$error":"#REF!"},{"$f":"IF(VLOOKUP(M497,#REF!,2,FALSE)<=#REF!+1,\"OK\",\"X\")","v":{"$error":"#REF!"}},1,0,1,"OK","7","","","OK"]
[{"$error":"#REF!"},{"$f":"IF(VLOOKUP(M498,#REF!,2,FALSE)<=#REF!+1,\"OK\",\"X\")","v":{"$error":"#REF!"}},1,0,1,"OK","7","","","OK"]
[{"$error":"#REF!"},{"$f":"IF(VLOOKUP(M499,#REF!,2,FALSE)<=#REF!+1,\"OK\",\"X\")","v":{"$error":"#REF!"}},1,0,1,"OK","7","","","OK"]
[{"$error":"#REF!"},{"$f":"IF(VLOOKUP(M500,#REF!,2,FALSE)<=#REF!+1,\"OK\",\"X\")","v":{"$error":"#REF!"}},1,0,1,"OK","7","","","OK"]