{"text_format":"1","workbook":"xlsx","n_sheets":11,"sheets":["Menu","Fornecedores","Atividade","Unidade","Insumos","Nota_Fiscal","Relatório","Produtos","Saída","Consulta_Estoque","Relatorio_Atividades"],"not_rendered":{"charts":0,"images":0,"macros":1,"external_links":0,"defined_names":8,"comments":0,"pivot_tables":0},"unopened":[],"bounds":{"document_bytes":16777216,"sheet_cells":100000,"rows_first":2000,"rows_last":500,"rows_between":2000,"halvings":0,"cell_chars":16384,"cell_head_chars":4096},"cells_cut":0,"cells_raw":0,"read":"row_number_cap","date_system":"1900"}

{"sheet":"Menu","index":0,"n_rows":0,"n_cols":0,"rows_kept":0,"cut":false,"hidden":false,"merged":[[0,0,1,16]]}

{"sheet":"Fornecedores","index":1,"n_rows":5,"n_cols":6,"rows_kept":5,"cut":false,"hidden":false,"merged":[[0,0,0,5]]}
["Cadastro de Fornecedores"]
["Nome","Endereço","Nº","Cidade","Estado","CNPJ"]
["COPASUL COOPERATIVA AGRÍCOLA","Av. Deodato leonardo da Silva",1076,"Deodapolis","MS","03.902.129/0004-26"]
["PARCERIA AGRICOLA E PECUARIA LTDA","Rua Hayel Bon Faker",950,"Dourados","MS",8013743000108]
["BIO ATUMUS DOURADOS COMERCIO","R JOAO ROSA GOES",73,"DOURADOS","MS",47896647000107]

{"sheet":"Atividade","index":2,"n_rows":14,"n_cols":1,"rows_kept":14,"cut":false,"hidden":false,"merged":[],"read":"row_number_cap"}
["CADASTRO DE ATIVIDADES"]
[]
["NOME DA ATIVIDADE"]
["soja"]
["milho"]
["sorgo"]
["milheto"]
["herbicida"]
["fungicida"]
["inseticida"]
["dessecação"]
["óleo"]
["Sequencial"]
["Adjuvante"]

{"sheet":"Unidade","index":3,"n_rows":8,"n_cols":1,"rows_kept":8,"cut":false,"hidden":true,"merged":[]}
["CADASTRO DE UNIDADE"]
[]
["Unidade"]
["Kg"]
["Lt"]
["Un"]
["Bag"]
["Saco"]

{"sheet":"Insumos","index":4,"n_rows":9,"n_cols":3,"rows_kept":9,"cut":false,"hidden":true,"merged":[[0,0,0,2]]}
["INSUMOS POR CLASSE"]
[]
["INSUMO","UNIDADE","ESTOQUE INICIAL"]
["Adubo","Kg"]
["Defensivo Galão","Lt"]
["Defensivo Granulado","Kg"]
["Cloreto","Kg"]
["Semente de Soja","Kg"]
["Semente de milho","Kg"]

{"sheet":"Nota_Fiscal","index":5,"n_rows":2504,"n_cols":12,"rows_kept":2504,"cut":false,"hidden":false,"merged":[[0,1,1,9]]}
[null,"CADASTRO DE NOTA FISCAL"]
[]
[null,"Nº DA NOTA","DATA DA COMPRA","FORNECEDOR","INSUMO","UN","PRODUTO","VALOR UNITÁRIO","QTD","VALOR TOTAL",null,"TIPO"]
[null,6126,"2023-08-03","COPASUL COOPERATIVA AGRÍCOLA","Defensivo Galão",{"$f":"IFERROR(VLOOKUP(E4,Insumos!A:C,2,FALSE),\"\")","v":"Lt"},"OFF ROAD",28.639199999999999,300,{"$f":"IFERROR(H4*I4,\"\")","v":8591.76},null,"herbicida"]
[null,6126,"2023-08-03","COPASUL COOPERATIVA AGRÍCOLA","Defensivo Galão",{"$f":"IFERROR(VLOOKUP(E5,Insumos!A:C,2,FALSE),\"\")","v":"Lt"},"POQUER ",34.546399999999998,240,{"$f":"IFERROR(H5*I5,\"\")","v":8291.1360000000004},null,"herbicida"]
[null,6126,"2023-08-03","COPASUL COOPERATIVA AGRÍCOLA","Defensivo Galão",{"$f":"IFERROR(VLOOKUP(E6,Insumos!A:C,2,FALSE),\"\")","v":"Lt"},"IHARA GOLD",24.773199999999999,180,4459.1759999999995,null,"óleo"]
[null,6126,"2023-08-04","COPASUL COOPERATIVA AGRÍCOLA","Defensivo Galão",{"$f":"IFERROR(VLOOKUP(E7,Insumos!A:C,2,FALSE),\"\")","v":"Lt"},"TRICLON",64.113399999999999,240,15387.216,null,"herbicida"]
[null,6123,"2023-08-03","COPASUL COOPERATIVA AGRÍCOLA","Defensivo Galão",{"$f":"IFERROR(VLOOKUP(E8,Insumos!A:C,2,FALSE),\"\")","v":"Lt"},"OFF ROAD",28.639199999999999,300,8591.76,null,"herbicida"]
[null,6123,"2023-08-03","COPASUL COOPERATIVA AGRÍCOLA","Defensivo Galão",{"$f":"IFERROR(VLOOKUP(E9,Insumos!A:C,2,FALSE),\"\")","v":"Lt"},"POQUER ",34.546399999999998,240,8291.1360000000004,null,"herbicida"]
[null,6123,"2023-08-03","COPASUL COOPERATIVA AGRÍCOLA","Defensivo Galão",{"$f":"IFERROR(VLOOKUP(E10,Insumos!A:C,2,FALSE),\"\")","v":"Lt"},"IHARA GOLD",24.773199999999999,180,4459.1759999999995,null,"óleo"]
[null,6123,"2023-08-03","COPASUL COOPERATIVA AGRÍCOLA","Defensivo Galão",{"$f":"IFERROR(VLOOKUP(E11,Insumos!A:C,2,FALSE),\"\")","v":"Lt"},"TRICLON",64.113399999999999,220,14104.948,null,"herbicida"]
[null,1856,"2023-06-07","COPASUL COOPERATIVA AGRÍCOLA","Defensivo Granulado",{"$f":"IFERROR(VLOOKUP(E12,Insumos!A:C,2,FALSE),\"\")","v":"Kg"},"STRINGER WG",29.17,180,5250.6,null,"herbicida"]
[null,1854,"2023-06-07","COPASUL COOPERATIVA AGRÍCOLA","Defensivo Granulado",{"$f":"IFERROR(VLOOKUP(E13,Insumos!A:C,2,FALSE),\"\")","v":"Kg"},"STRINGER WG",29.17,640,18668.800000000003,null,"herbicida"]
[null,1853,"2023-06-07","COPASUL COOPERATIVA AGRÍCOLA","Defensivo Granulado",{"$f":"IFERROR(VLOOKUP(E14,Insumos!A:C,2,FALSE),\"\")","v":"Kg"},"STRINGER WG",29.17,1180,34420.6,null,"herbicida"]
[null,33607,"2023-08-28","PARCERIA AGRICOLA E PECUARIA LTDA","Defensivo Galão",{"$f":"IFERROR(VLOOKUP(E15,Insumos!A:C,2,FALSE),\"\")","v":"Lt"},"CADDET BB",15,120,1800,null,"óleo"]
[null,33582,"2023-08-24","PARCERIA AGRICOLA E PECUARIA LTDA","Defensivo Galão",{"$f":"IFERROR(VLOOKUP(E16,Insumos!A:C,2,FALSE),\"\")","v":"Lt"},"SAPEK MAX 880",113,175,19775,null,"herbicida"]
[null,33582,"2023-08-24","PARCERIA AGRICOLA E PECUARIA LTDA","Defensivo Galão",{"$f":"IFERROR(VLOOKUP(E17,Insumos!A:C,2,FALSE),\"\")","v":"Lt"},"CLETODIM CCAB EC",28,360,10080,null,"herbicida"]
[null,947,"2023-08-28","BIO ATUMUS DOURADOS COMERCIO","Defensivo Galão",{"$f":"IFERROR(VLOOKUP(E18,Insumos!A:C,2,FALSE),\"\")","v":"Lt"},"ATUMUS TANDER",90,100,9000,null,"Adjuvante"]
[null,null,null,null,null,{"$f":"IFERROR(VLOOKUP(E19,Insumos!A:C,2,FALSE),\"\")","v":""},null,null,null,0]
[null,null,null,null,null,{"$f":"IFERROR(VLOOKUP(E20,Insumos!A:C,2,FALSE),\"\")","v":""},null,null,null,0]
[null,null,null,null,null,{"$f":"IFERROR(VLOOKUP(E21,Insumos!A:C,2,FALSE),\"\")","v":""},null,null,null,0]
[null,null,null,null,null,{"$f":"IFERROR(VLOOKUP(E22,Insumos!A:C,2,FALSE),\"\")","v":""},null,null,null,0]
[null,null,null,null,null,{"$f":"IFERROR(VLOOKUP(E23,Insumos!A:C,2,FALSE),\"\")","v":""},null,null,null,0]
[null,null,null,null,null,{"$f":"IFERROR(VLOOKUP(E24,Insumos!A:C,2,FALSE),\"\")","v":""},null,null,null,0]
[null,null,null,null,null,{"$f":"IFERROR(VLOOKUP(E25,Insumos!A:C,2,FALSE),\"\")","v":""},null,null,null,0]
[null,null,null,null,null,{"$f":"IFERROR(VLOOKUP(E26,Insumos!A:C,2,FALSE),\"\")","v":""},null,null,null,0]
[null,null,null,null,null,{"$f":"IFERROR(VLOOKUP(E27,Insumos!A:C,2,FALSE),\"\")","v":""},null,null,null,0]
[null,null,null,null,null,{"$f":"IFERROR(VLOOKUP(E28,Insumos!A:C,2,FALSE),\"\")","v":""},null,null,null,0]
[null,null,null,null,null,{"$f":"IFERROR(VLOOKUP(E29,Insumos!A:C,2,FALSE),\"\")","v":""},null,null,null,0]
[null,null,null,null,null,{"$f":"IFERROR(VLOOKUP(E30,Insumos!A:C,2,FALSE),\"\")","v":""},null,null,null,0]
[null,null,null,null,null,{"$f":"IFERROR(VLOOKUP(E31,Insumos!A:C,2,FALSE),\"\")","v":""},null,null,null,0]
[null,null,null,null,null,{"$f":"IFERROR(VLOOKUP(E32,Insumos!A:C,2,FALSE),\"\")","v":""},null,null,null,0]
[null,null,null,null,null,{"$f":"IFERROR(VLOOKUP(E33,Insumos!A:C,2,FALSE),\"\")","v":""},null,null,null,0]
[null,null,null,null,null,{"$f":"IFERROR(VLOOKUP(E34,Insumos!A:C,2,FALSE),\"\")","v":""},null,null,null,0]
[null,null,null,null,null,{"$f":"IFERROR(VLOOKUP(E35,Insumos!A:C,2,FALSE),\"\")","v":""},null,null,null,0]
[null,null,null,null,null,{"$f":"IFERROR(VLOOKUP(E36,Insumos!A:C,2,FALSE),\"\")","v":""},null,null,null,0]
[null,null,null,null,null,{"$f":"IFERROR(VLOOKUP(E37,Insumos!A:C,2,FALSE),\"\")","v":""},null,null,null,0]
[null,null,null,null,null,{"$f":"IFERROR(VLOOKUP(E38,Insumos!A:C,2,FALSE),\"\")","v":""},null,null,null,0]
[null,null,null,null,null,{"$f":"IFERROR(VLOOKUP(E39,Insumos!A:C,2,FALSE),\"\")","v":""},null,null,null,0]
[null,null,null,null,null,{"$f":"IFERROR(VLOOKUP(E40,Insumos!A:C,2,FALSE),\"\")","v":""},null,null,null,0]
[null,null,null,null,null,{"$f":"IFERROR(VLOOKUP(E41,Insumos!A:C,2,FALSE),\"\")","v":""},null,null,null,0]
[null,null,null,null,null,{"$f":"IFERROR(VLOOKUP(E42,Insumos!A:C,2,FALSE),\"\")","v":""},null,null,null,0]
[null,null,null,null,null,{"$f":"IFERROR(VLOOKUP(E43,Insumos!A:C,2,FALSE),\"\")","v":""},null,null,null,0]
[null,null,null,null,null,{"$f":"IFERROR(VLOOKUP(E44,Insumos!A:C,2,FALSE),\"\")","v":""},null,null,null,0]
[null,null,null,null,null,{"$f":"IFERROR(VLOOKUP(E45,Insumos!A:C,2,FALSE),\"\")","v":""},null,null,null,0]
[null,null,null,null,null,{"$f":"IFERROR(VLOOKUP(E46,Insumos!A:C,2,FALSE),\"\")","v":""},null,null,null,0]
[null,null,null,null,null,{"$f":"IFERROR(VLOOKUP(E47,Insumos!A:C,2,FALSE),\"\")","v":""},null,null,null,0]
[null,null,null,null,null,{"$f":"IFERROR(VLOOKUP(E48,Insumos!A:C,2,FALSE),\"\")","v":""},null,null,null,0]
[null,null,null,null,null,{"$f":"IFERROR(VLOOKUP(E49,Insumos!A:C,2,FALSE),\"\")","v":""},null,null,null,0]
[null,null,null,null,null,{"$f":"IFERROR(VLOOKUP(E50,Insumos!A:C,2,FALSE),\"\")","v":""},null,null,null,0]
[null,null,null,null,null,{"$f":"IFERROR(VLOOKUP(E51,Insumos!A:C,2,FALSE),\"\")","v":""},null,null,null,0]
[null,null,null,null,null,{"$f":"IFERROR(VLOOKUP(E52,Insumos!A:C,2,FALSE),\"\")","v":""},null,null,null,0]
[null,null,null,null,null,{"$f":"IFERROR(VLOOKUP(E53,Insumos!A:C,2,FALSE),\"\")","v":""},null,null,null,0]
[null,null,null,null,null,{"$f":"IFERROR(VLOOKUP(E54,Insumos!A:C,2,FALSE),\"\")","v":""},null,null,null,0]
[null,null,null,null,null,{"$f":"IFERROR(VLOOKUP(E55,Insumos!A:C,2,FALSE),\"\")","v":""},null,null,null,0]
[null,null,null,null,null,{"$f":"IFERROR(VLOOKUP(E56,Insumos!A:C,2,FALSE),\"\")","v":""},null,null,null,0]
[null,null,null,null,null,{"$f":"IFERROR(VLOOKUP(E57,Insumos!A:C,2,FALSE),\"\")","v":""},null,null,null,0]
[null,null,null,null,null,{"$f":"IFERROR(VLOOKUP(E58,Insumos!A:C,2,FALSE),\"\")","v":""},null,null,null,0]
[null,null,null,null,null,{"$f":"IFERROR(VLOOKUP(E59,Insumos!A:C,2,FALSE),\"\")","v":""},null,null,null,0]
[null,null,null,null,null,{"$f":"IFERROR(VLOOKUP(E60,Insumos!A:C,2,FALSE),\"\")","v":""},null,null,null,0]
[null,null,null,null,null,{"$f":"IFERROR(VLOOKUP(E61,Insumos!A:C,2,FALSE),\"\")","v":""},null,null,null,0]
[null,null,null,null,null,{"$f":"IFERROR(VLOOKUP(E62,Insumos!A:C,2,FALSE),\"\")","v":""},null,null,null,0]
[null,null,null,null,null,{"$f":"IFERROR(VLOOKUP(E63,Insumos!A:C,2,FALSE),\"\")","v":""},null,null,null,0]
[null,null,null,null,null,{"$f":"IFERROR(VLOOKUP(E64,Insumos!A:C,2,FALSE),\"\")","v":""},null,null,null,0]
[null,null,null,null,null,{"$f":"IFERROR(VLOOKUP(E65,Insumos!A:C,2,FALSE),\"\")","v":""},null,null,null,0]
[null,null,null,null,null,{"$f":"IFERROR(VLOOKUP(E66,Insumos!A:C,2,FALSE),\"\")","v":""},null,null,null,0]
[null,null,null,null,null,{"$f":"IFERROR(VLOOKUP(E67,Insumos!A:C,2,FALSE),\"\")","v":""},null,null,null,0]
[null,null,null,null,null,{"$f":"IFERROR(VLOOKUP(E68,Insumos!A:C,2,FALSE),\"\")","v":""},null,null,null,0]
[null,null,null,null,null,{"$f":"IFERROR(VLOOKUP(E69,Insumos!A:C,2,FALSE),\"\")","v":""},null,null,null,{"$f":"IFERROR(H69*I69,\"\")","v":0}]
[null,null,null,null,null,{"$f":"IFERROR(VLOOKUP(E70,Insumos!A:C,2,FALSE),\"\")","v":""},null,null,null,0]
[null,null,null,null,null,{"$f":"IFERROR(VLOOKUP(E71,Insumos!A:C,2,FALSE),\"\")","v":""},null,null,null,0]
[null,null,null,null,null,{"$f":"IFERROR(VLOOKUP(E72,Insumos!A:C,2,FALSE),\"\")","v":""},null,null,null,0]
[null,null,null,null,null,{"$f":"IFERROR(VLOOKUP(E73,Insumos!A:C,2,FALSE),\"\")","v":""},null,null,null,0]
[null,null,null,null,null,{"$f":"IFERROR(VLOOKUP(E74,Insumos!A:C,2,FALSE),\"\")","v":""},null,null,null,0]
[null,null,null,null,null,{"$f":"IFERROR(VLOOKUP(E75,Insumos!A:C,2,FALSE),\"\")","v":""},null,null,null,0]
[null,null,null,null,null,{"$f":"IFERROR(VLOOKUP(E76,Insumos!A:C,2,FALSE),\"\")","v":""},null,null,null,0]
[null,null,null,null,null,{"$f":"IFERROR(VLOOKUP(E77,Insumos!A:C,2,FALSE),\"\")","v":""},null,null,null,0]
[null,null,null,null,null,{"$f":"IFERROR(VLOOKUP(E78,Insumos!A:C,2,FALSE),\"\")","v":""},null,null,null,0]
[null,null,null,null,null,{"$f":"IFERROR(VLOOKUP(E79,Insumos!A:C,2,FALSE),\"\")","v":""},null,null,null,0]
[null,null,null,null,null,{"$f":"IFERROR(VLOOKUP(E80,Insumos!A:C,2,FALSE),\"\")","v":""},null,null,null,0]
[null,null,null,null,null,{"$f":"IFERROR(VLOOKUP(E81,Insumos!A:C,2,FALSE),\"\")","v":""},null,null,null,0]
[null,null,null,null,null,{"$f":"IFERROR(VLOOKUP(E82,Insumos!A:C,2,FALSE),\"\")","v":""},null,null,null,0]
[null,null,null,null,null,{"$f":"IFERROR(VLOOKUP(E83,Insumos!A:C,2,FALSE),\"\")","v":""},null,null,null,0]
[null,null,null,null,null,{"$f":"IFERROR(VLOOKUP(E84,Insumos!A:C,2,FALSE),\"\")","v":""},null,null,null,0]
[null,null,null,null,null,{"$f":"IFERROR(VLOOKUP(E85,Insumos!A:C,2,FALSE),\"\")","v":""},null,null,null,0]
[null,null,null,null,null,{"$f":"IFERROR(VLOOKUP(E86,Insumos!A:C,2,FALSE),\"\")","v":""},null,null,null,0]
[null,null,null,null,null,{"$f":"IFERROR(VLOOKUP(E87,Insumos!A:C,2,FALSE),\"\")","v":""},null,null,null,0]
[null,null,null,null,null,{"$f":"IFERROR(VLOOKUP(E88,Insumos!A:C,2,FALSE),\"\")","v":""},null,null,null,0]
[null,null,null,null,null,{"$f":"IFERROR(VLOOKUP(E89,Insumos!A:C,2,FALSE),\"\")","v":""},null,null,null,0]
[null,null,null,null,null,{"$f":"IFERROR(VLOOKUP(E90,Insumos!A:C,2,FALSE),\"\")","v":""},null,null,null,0]
[null,null,null,null,null,{"$f":"IFERROR(VLOOKUP(E91,Insumos!A:C,2,FALSE),\"\")","v":""},null,null,null,0]
[null,null,null,null,null,{"$f":"IFERROR(VLOOKUP(E92,Insumos!A:C,2,FALSE),\"\")","v":""},null,null,null,0]
[null,null,null,null,null,{"$f":"IFERROR(VLOOKUP(E93,Insumos!A:C,2,FALSE),\"\")","v":""},null,null,null,0]
[null,null,null,null,null,{"$f":"IFERROR(VLOOKUP(E94,Insumos!A:C,2,FALSE),\"\")","v":""},null,null,null,0]
[null,null,null,null,null,{"$f":"IFERROR(VLOOKUP(E95,Insumos!A:C,2,FALSE),\"\")","v":""},null,null,null,0]
[null,null,null,null,null,{"$f":"IFERROR(VLOOKUP(E96,Insumos!A:C,2,FALSE),\"\")","v":""},null,null,null,0]
[null,null,null,null,null,{"$f":"IFERROR(VLOOKUP(E97,Insumos!A:C,2,FALSE),\"\")","v":""},null,null,null,0]
[null,null,null,null,null,{"$f":"IFERROR(VLOOKUP(E98,Insumos!A:C,2,FALSE),\"\")","v":""},null,null,null,0]
[null,null,null,null,null,{"$f":"IFERROR(VLOOKUP(E99,Insumos!A:C,2,FALSE),\"\")","v":""},null,null,null,0]
[null,null,null,null,null,{"$f":"IFERROR(VLOOKUP(E100,Insumos!A:C,2,FALSE),\"\")","v":""},null,null,null,0]
[null,null,null,null,null,{"$f":"IFERROR(VLOOKUP(E101,Insumos!A:C,2,FALSE),\"\")","v":""},null,null,null,0]
[null,null,null,null,null,{"$f":"IFERROR(VLOOKUP(E102,Insumos!A:C,2,FALSE),\"\")","v":""},null,null,null,0]
[null,null,null,null,null,{"$f":"IFERROR(VLOOKUP(E103,Insumos!A:C,2,FALSE),\"\")","v":""},null,null,null,0]
[null,null,null,null,null,{"$f":"IFERROR(VLOOKUP(E104,Insumos!A:C,2,FALSE),\"\")","v":""},null,null,null,0]
[null,null,null,null,null,{"$f":"IFERROR(VLOOKUP(E105,Insumos!A:C,2,FALSE),\"\")","v":""},null,null,null,0]
[null,null,null,null,null,{"$f":"IFERROR(VLOOKUP(E106,Insumos!A:C,2,FALSE),\"\")","v":""},null,null,null,0]
[null,null,null,null,null,{"$f":"IFERROR(VLOOKUP(E107,Insumos!A:C,2,FALSE),\"\")","v":""},null,null,null,0]
[null,null,null,null,null,{"$f":"IFERROR(VLOOKUP(E108,Insumos!A:C,2,FALSE),\"\")","v":""},null,null,null,0]
[null,null,null,null,null,{"$f":"IFERROR(VLOOKUP(E109,Insumos!A:C,2,FALSE),\"\")","v":""},null,null,null,0]
[null,null,null,null,null,{"$f":"IFERROR(VLOOKUP(E110,Insumos!A:C,2,FALSE),\"\")","v":""},null,null,null,0]
[null,null,null,null,null,{"$f":"IFERROR(VLOOKUP(E111,Insumos!A:C,2,FALSE),\"\")","v":""},null,null,null,0]
[null,null,null,null,null,{"$f":"IFERROR(VLOOKUP(E112,Insumos!A:C,2,FALSE),\"\")","v":""},null,null,null,0]
[null,null,null,null,null,{"$f":"IFERROR(VLOOKUP(E113,Insumos!A:C,2,FALSE),\"\")","v":""},null,null,null,0]
[null,null,null,null,null,{"$f":"IFERROR(VLOOKUP(E114,Insumos!A:C,2,FALSE),\"\")","v":""},null,null,null,0]
[null,null,null,null,null,{"$f":"IFERROR(VLOOKUP(E115,Insumos!A:C,2,FALSE),\"\")","v":""},null,null,null,0]
[null,null,null,null,null,{"$f":"IFERROR(VLOOKUP(E116,Insumos!A:C,2,FALSE),\"\")","v":""},null,null,null,0]
[null,null,null,null,null,{"$f":"IFERROR(VLOOKUP(E117,Insumos!A:C,2,FALSE),\"\")","v":""},null,null,null,0]
[null,null,null,null,null,{"$f":"IFERROR(VLOOKUP(E118,Insumos!A:C,2,FALSE),\"\")","v":""},null,null,null,0]
[null,null,null,null,null,{"$f":"IFERROR(VLOOKUP(E119,Insumos!A:C,2,FALSE),\"\")","v":""},null,null,null,0]
[null,null,null,null,null,{"$f":"IFERROR(VLOOKUP(E120,Insumos!A:C,2,FALSE),\"\")","v":""},null,null,null,0]
[null,null,null,null,null,{"$f":"IFERROR(VLOOKUP(E121,Insumos!A:C,2,FALSE),\"\")","v":""},null,null,null,0]
[null,null,null,null,null,{"$f":"IFERROR(VLOOKUP(E122,Insumos!A:C,2,FALSE),\"\")","v":""},null,null,null,0]
[null,null,null,null,null,{"$f":"IFERROR(VLOOKUP(E123,Insumos!A:C,2,FALSE),\"\")","v":""},null,null,null,0]
[null,null,null,null,null,{"$f":"IFERROR(VLOOKUP(E124,Insumos!A:C,2,FALSE),\"\")","v":""},null,null,null,0]
[null,null,null,null,null,{"$f":"IFERROR(VLOOKUP(E125,Insumos!A:C,2,FALSE),\"\")","v":""},null,null,null,0]
[null,null,null,null,null,{"$f":"IFERROR(VLOOKUP(E126,Insumos!A:C,2,FALSE),\"\")","v":""},null,null,null,0]
[null,null,null,null,null,{"$f":"IFERROR(VLOOKUP(E127,Insumos!A:C,2,FALSE),\"\")","v":""},null,null,null,0]
[null,null,null,null,null,{"$f":"IFERROR(VLOOKUP(E128,Insumos!A:C,2,FALSE),\"\")","v":""},null,null,null,0]
[null,null,null,null,null,{"$f":"IFERROR(VLOOKUP(E129,Insumos!A:C,2,FALSE),\"\")","v":""},null,null,null,0]
[null,null,null,null,null,{"$f":"IFERROR(VLOOKUP(E130,Insumos!A:C,2,FALSE),\"\")","v":""},null,null,null,0]
[null,null,null,null,null,{"$f":"IFERROR(VLOOKUP(E131,Insumos!A:C,2,FALSE),\"\")","v":""},null,null,null,0]
[null,null,null,null,null,{"$f":"IFERROR(VLOOKUP(E132,Insumos!A:C,2,FALSE),\"\")","v":""},null,null,null,0]
[null,null,null,null,null,{"$f":"IFERROR(VLOOKUP(E133,Insumos!A:C,2,FALSE),\"\")","v":""},null,null,null,{"$f":"IFERROR(H133*I133,\"\")","v":0}]
[null,null,null,null,null,{"$f":"IFERROR(VLOOKUP(E134,Insumos!A:C,2,FALSE),\"\")","v":""},null,null,null,0]
[null,null,null,null,null,{"$f":"IFERROR(VLOOKUP(E135,Insumos!A:C,2,FALSE),\"\")","v":""},null,null,null,0]
[null,null,null,null,null,{"$f":"IFERROR(VLOOKUP(E136,Insumos!A:C,2,FALSE),\"\")","v":""},null,null,null,0]
[null,null,null,null,null,{"$f":"IFERROR(VLOOKUP(E137,Insumos!A:C,2,FALSE),\"\")","v":""},null,null,null,0]
[null,null,null,null,null,{"$f":"IFERROR(VLOOKUP(E138,Insumos!A:C,2,FALSE),\"\")","v":""},null,null,null,0]
[null,null,null,null,null,{"$f":"IFERROR(VLOOKUP(E139,Insumos!A:C,2,FALSE),\"\")","v":""},null,null,null,0]
[null,null,null,null,null,{"$f":"IFERROR(VLOOKUP(E140,Insumos!A:C,2,FALSE),\"\")","v":""},null,null,null,0]
[null,null,null,null,null,{"$f":"IFERROR(VLOOKUP(E141,Insumos!A:C,2,FALSE),\"\")","v":""},null,null,null,0]
[null,null,null,null,null,{"$f":"IFERROR(VLOOKUP(E142,Insumos!A:C,2,FALSE),\"\")","v":""},null,null,null,0]
[null,null,null,null,null,{"$f":"IFERROR(VLOOKUP(E143,Insumos!A:C,2,FALSE),\"\")","v":""},null,null,null,0]
[null,null,null,null,null,{"$f":"IFERROR(VLOOKUP(E144,Insumos!A:C,2,FALSE),\"\")","v":""},null,null,null,0]
[null,null,null,null,null,{"$f":"IFERROR(VLOOKUP(E145,Insumos!A:C,2,FALSE),\"\")","v":""},null,null,null,0]
[null,null,null,null,null,{"$f":"IFERROR(VLOOKUP(E146,Insumos!A:C,2,FALSE),\"\")","v":""},null,null,null,0]
[null,null,null,null,null,{"$f":"IFERROR(VLOOKUP(E147,Insumos!A:C,2,FALSE),\"\")","v":""},null,null,null,0]
[null,null,null,null,null,{"$f":"IFERROR(VLOOKUP(E148,Insumos!A:C,2,FALSE),\"\")","v":""},null,null,null,0]
[null,null,null,null,null,{"$f":"IFERROR(VLOOKUP(E149,Insumos!A:C,2,FALSE),\"\")","v":""},null,null,null,0]
[null,null,null,null,null,{"$f":"IFERROR(VLOOKUP(E150,Insumos!A:C,2,FALSE),\"\")","v":""},null,null,null,0]
[null,null,null,null,null,{"$f":"IFERROR(VLOOKUP(E151,Insumos!A:C,2,FALSE),\"\")","v":""},null,null,null,0]
[null,null,null,null,null,{"$f":"IFERROR(VLOOKUP(E152,Insumos!A:C,2,FALSE),\"\")","v":""},null,null,null,0]
[null,null,null,null,null,{"$f":"IFERROR(VLOOKUP(E153,Insumos!A:C,2,FALSE),\"\")","v":""},null,null,null,0]
[null,null,null,null,null,{"$f":"IFERROR(VLOOKUP(E154,Insumos!A:C,2,FALSE),\"\")","v":""},null,null,null,0]
[null,null,null,null,null,{"$f":"IFERROR(VLOOKUP(E155,Insumos!A:C,2,FALSE),\"\")","v":""},null,null,null,0]
[null,null,null,null,null,{"$f":"IFERROR(VLOOKUP(E156,Insumos!A:C,2,FALSE),\"\")","v":""},null,null,null,0]
[null,null,null,null,null,{"$f":"IFERROR(VLOOKUP(E157,Insumos!A:C,2,FALSE),\"\")","v":""},null,null,null,0]
[null,null,null,null,null,{"$f":"IFERROR(VLOOKUP(E158,Insumos!A:C,2,FALSE),\"\")","v":""},null,null,null,0]
[null,null,null,null,null,{"$f":"IFERROR(VLOOKUP(E159,Insumos!A:C,2,FALSE),\"\")","v":""},null,null,null,0]
[null,null,null,null,null,{"$f":"IFERROR(VLOOKUP(E160,Insumos!A:C,2,FALSE),\"\")","v":""},null,null,null,0]
[null,null,null,null,null,{"$f":"IFERROR(VLOOKUP(E161,Insumos!A:C,2,FALSE),\"\")","v":""},null,null,null,0]
[null,null,null,null,null,{"$f":"IFERROR(VLOOKUP(E162,Insumos!A:C,2,FALSE),\"\")","v":""},null,null,null,0]
[null,null,null,null,null,{"$f":"IFERROR(VLOOKUP(E163,Insumos!A:C,2,FALSE),\"\")","v":""},null,null,null,0]
[null,null,null,null,null,{"$f":"IFERROR(VLOOKUP(E164,Insumos!A:C,2,FALSE),\"\")","v":""},null,null,null,0]
[null,null,null,null,null,{"$f":"IFERROR(VLOOKUP(E165,Insumos!A:C,2,FALSE),\"\")","v":""},null,null,null,0]
[null,null,null,null,null,{"$f":"IFERROR(VLOOKUP(E166,Insumos!A:C,2,FALSE),\"\")","v":""},null,null,null,0]
[null,null,null,null,null,{"$f":"IFERROR(VLOOKUP(E167,Insumos!A:C,2,FALSE),\"\")","v":""},null,null,null,0]
[null,null,null,null,null,{"$f":"IFERROR(VLOOKUP(E168,Insumos!A:C,2,FALSE),\"\")","v":""},null,null,null,0]
[null,null,null,null,null,{"$f":"IFERROR(VLOOKUP(E169,Insumos!A:C,2,FALSE),\"\")","v":""},null,null,null,0]
[null,null,null,null,null,{"$f":"IFERROR(VLOOKUP(E170,Insumos!A:C,2,FALSE),\"\")","v":""},null,null,null,0]
[null,null,null,null,null,{"$f":"IFERROR(VLOOKUP(E171,Insumos!A:C,2,FALSE),\"\")","v":""},null,null,null,0]
[null,null,null,null,null,{"$f":"IFERROR(VLOOKUP(E172,Insumos!A:C,2,FALSE),\"\")","v":""},null,null,null,0]
[null,null,null,null,null,{"$f":"IFERROR(VLOOKUP(E173,Insumos!A:C,2,FALSE),\"\")","v":""},null,null,null,0]
[null,null,null,null,null,{"$f":"IFERROR(VLOOKUP(E174,Insumos!A:C,2,FALSE),\"\")","v":""},null,null,null,0]
[null,null,null,null,null,{"$f":"IFERROR(VLOOKUP(E175,Insumos!A:C,2,FALSE),\"\")","v":""},null,null,null,0]
[null,null,null,null,null,{"$f":"IFERROR(VLOOKUP(E176,Insumos!A:C,2,FALSE),\"\")","v":""},null,null,null,0]
[null,null,null,null,null,{"$f":"IFERROR(VLOOKUP(E177,Insumos!A:C,2,FALSE),\"\")","v":""},null,null,null,0]
[null,null,null,null,null,{"$f":"IFERROR(VLOOKUP(E178,Insumos!A:C,2,FALSE),\"\")","v":""},null,null,null,0]
[null,null,null,null,null,{"$f":"IFERROR(VLOOKUP(E179,Insumos!A:C,2,FALSE),\"\")","v":""},null,null,null,0]
[null,null,null,null,null,{"$f":"IFERROR(VLOOKUP(E180,Insumos!A:C,2,FALSE),\"\")","v":""},null,null,null,0]
[null,null,null,null,null,{"$f":"IFERROR(VLOOKUP(E181,Insumos!A:C,2,FALSE),\"\")","v":""},null,null,null,0]
[null,null,null,null,null,{"$f":"IFERROR(VLOOKUP(E182,Insumos!A:C,2,FALSE),\"\")","v":""},null,null,null,0]
[null,null,null,null,null,{"$f":"IFERROR(VLOOKUP(E183,Insumos!A:C,2,FALSE),\"\")","v":""},null,null,null,0]
[null,null,null,null,null,{"$f":"IFERROR(VLOOKUP(E184,Insumos!A:C,2,FALSE),\"\")","v":""},null,null,null,0]
[null,null,null,null,null,{"$f":"IFERROR(VLOOKUP(E185,Insumos!A:C,2,FALSE),\"\")","v":""},null,null,null,0]
[null,null,null,null,null,{"$f":"IFERROR(VLOOKUP(E186,Insumos!A:C,2,FALSE),\"\")","v":""},null,null,null,0]
[null,null,null,null,null,{"$f":"IFERROR(VLOOKUP(E187,Insumos!A:C,2,FALSE),\"\")","v":""},null,null,null,0]
[null,null,null,null,null,{"$f":"IFERROR(VLOOKUP(E188,Insumos!A:C,2,FALSE),\"\")","v":""},null,null,null,0]
[null,null,null,null,null,{"$f":"IFERROR(VLOOKUP(E189,Insumos!A:C,2,FALSE),\"\")","v":""},null,null,null,0]
[null,null,null,null,null,{"$f":"IFERROR(VLOOKUP(E190,Insumos!A:C,2,FALSE),\"\")","v":""},null,null,null,0]
[null,null,null,null,null,{"$f":"IFERROR(VLOOKUP(E191,Insumos!A:C,2,FALSE),\"\")","v":""},null,null,null,0]
[null,null,null,null,null,{"$f":"IFERROR(VLOOKUP(E192,Insumos!A:C,2,FALSE),\"\")","v":""},null,null,null,0]
[null,null,null,null,null,{"$f":"IFERROR(VLOOKUP(E193,Insumos!A:C,2,FALSE),\"\")","v":""},null,null,null,0]
[null,null,null,null,null,{"$f":"IFERROR(VLOOKUP(E194,Insumos!A:C,2,FALSE),\"\")","v":""},null,null,null,0]
[null,null,null,null,null,{"$f":"IFERROR(VLOOKUP(E195,Insumos!A:C,2,FALSE),\"\")","v":""},null,null,null,0]
[null,null,null,null,null,{"$f":"IFERROR(VLOOKUP(E196,Insumos!A:C,2,FALSE),\"\")","v":""},null,null,null,0]
[null,null,null,null,null,{"$f":"IFERROR(VLOOKUP(E197,Insumos!A:C,2,FALSE),\"\")","v":""},null,null,null,{"$f":"IFERROR(H197*I197,\"\")","v":0}]
[null,null,null,null,null,{"$f":"IFERROR(VLOOKUP(E198,Insumos!A:C,2,FALSE),\"\")","v":""},null,null,null,0]
[null,null,null,null,null,{"$f":"IFERROR(VLOOKUP(E199,Insumos!A:C,2,FALSE),\"\")","v":""},null,null,null,0]
[null,null,null,null,null,{"$f":"IFERROR(VLOOKUP(E200,Insumos!A:C,2,FALSE),\"\")","v":""},null,null,null,0]
[null,null,null,null,null,{"$f":"IFERROR(VLOOKUP(E201,Insumos!A:C,2,FALSE),\"\")","v":""},null,null,null,0]
[null,null,null,null,null,{"$f":"IFERROR(VLOOKUP(E202,Insumos!A:C,2,FALSE),\"\")","v":""},null,null,null,0]
[null,null,null,null,null,{"$f":"IFERROR(VLOOKUP(E203,Insumos!A:C,2,FALSE),\"\")","v":""},null,null,null,0]
[null,null,null,null,null,{"$f":"IFERROR(VLOOKUP(E204,Insumos!A:C,2,FALSE),\"\")","v":""},null,null,null,0]
[null,null,null,null,null,{"$f":"IFERROR(VLOOKUP(E205,Insumos!A:C,2,FALSE),\"\")","v":""},null,null,null,0]
[null,null,null,null,null,{"$f":"IFERROR(VLOOKUP(E206,Insumos!A:C,2,FALSE),\"\")","v":""},null,null,null,0]
[null,null,null,null,null,{"$f":"IFERROR(VLOOKUP(E207,Insumos!A:C,2,FALSE),\"\")","v":""},null,null,null,0]
[null,null,null,null,null,{"$f":"IFERROR(VLOOKUP(E208,Insumos!A:C,2,FALSE),\"\")","v":""},null,null,null,0]
[null,null,null,null,null,{"$f":"IFERROR(VLOOKUP(E209,Insumos!A:C,2,FALSE),\"\")","v":""},null,null,null,0]
[null,null,null,null,null,{"$f":"IFERROR(VLOOKUP(E210,Insumos!A:C,2,FALSE),\"\")","v":""},null,null,null,0]
[null,null,null,null,null,{"$f":"IFERROR(VLOOKUP(E211,Insumos!A:C,2,FALSE),\"\")","v":""},null,null,null,0]
[null,null,null,null,null,{"$f":"IFERROR(VLOOKUP(E212,Insumos!A:C,2,FALSE),\"\")","v":""},null,null,null,0]
[null,null,null,null,null,{"$f":"IFERROR(VLOOKUP(E213,Insumos!A:C,2,FALSE),\"\")","v":""},null,null,null,0]
[null,null,null,null,null,{"$f":"IFERROR(VLOOKUP(E214,Insumos!A:C,2,FALSE),\"\")","v":""},null,null,null,0]
[null,null,null,null,null,{"$f":"IFERROR(VLOOKUP(E215,Insumos!A:C,2,FALSE),\"\")","v":""},null,null,null,0]
[null,null,null,null,null,{"$f":"IFERROR(VLOOKUP(E216,Insumos!A:C,2,FALSE),\"\")","v":""},null,null,null,0]
[null,null,null,null,null,{"$f":"IFERROR(VLOOKUP(E217,Insumos!A:C,2,FALSE),\"\")","v":""},null,null,null,0]
[null,null,null,null,null,{"$f":"IFERROR(VLOOKUP(E218,Insumos!A:C,2,FALSE),\"\")","v":""},null,null,null,0]
[null,null,null,null,null,{"$f":"IFERROR(VLOOKUP(E219,Insumos!A:C,2,FALSE),\"\")","v":""},null,null,null,0]
[null,null,null,null,null,{"$f":"IFERROR(VLOOKUP(E220,Insumos!A:C,2,FALSE),\"\")","v":""},null,null,null,0]
[null,null,null,null,null,{"$f":"IFERROR(VLOOKUP(E221,Insumos!A:C,2,FALSE),\"\")","v":""},null,null,null,0]
[null,null,null,null,null,{"$f":"IFERROR(VLOOKUP(E222,Insumos!A:C,2,FALSE),\"\")","v":""},null,null,null,0]
[null,null,null,null,null,{"$f":"IFERROR(VLOOKUP(E223,Insumos!A:C,2,FALSE),\"\")","v":""},null,null,null,0]
[null,null,null,null,null,{"$f":"IFERROR(VLOOKUP(E224,Insumos!A:C,2,FALSE),\"\")","v":""},null,null,null,0]
[null,null,null,null,null,{"$f":"IFERROR(VLOOKUP(E225,Insumos!A:C,2,FALSE),\"\")","v":""},null,null,null,0]
[null,null,null,null,null,{"$f":"IFERROR(VLOOKUP(E226,Insumos!A:C,2,FALSE),\"\")","v":""},null,null,null,0]
[null,null,null,null,null,{"$f":"IFERROR(VLOOKUP(E227,Insumos!A:C,2,FALSE),\"\")","v":""},null,null,null,0]
[null,null,null,null,null,{"$f":"IFERROR(VLOOKUP(E228,Insumos!A:C,2,FALSE),\"\")","v":""},null,null,null,0]
[null,null,null,null,null,{"$f":"IFERROR(VLOOKUP(E229,Insumos!A:C,2,FALSE),\"\")","v":""},null,null,null,0]
[null,null,null,null,null,{"$f":"IFERROR(VLOOKUP(E230,Insumos!A:C,2,FALSE),\"\")","v":""},null,null,null,0]
[null,null,null,null,null,{"$f":"IFERROR(VLOOKUP(E231,Insumos!A:C,2,FALSE),\"\")","v":""},null,null,null,0]
[null,null,null,null,null,{"$f":"IFERROR(VLOOKUP(E232,Insumos!A:C,2,FALSE),\"\")","v":""},null,null,null,0]
[null,null,null,null,null,{"$f":"IFERROR(VLOOKUP(E233,Insumos!A:C,2,FALSE),\"\")","v":""},null,null,null,0]
[null,null,null,null,null,{"$f":"IFERROR(VLOOKUP(E234,Insumos!A:C,2,FALSE),\"\")","v":""},null,null,null,0]
[null,null,null,null,null,{"$f":"IFERROR(VLOOKUP(E235,Insumos!A:C,2,FALSE),\"\")","v":""},null,null,null,0]
[null,null,null,null,null,{"$f":"IFERROR(VLOOKUP(E236,Insumos!A:C,2,FALSE),\"\")","v":""},null,null,null,0]
[null,null,null,null,null,{"$f":"IFERROR(VLOOKUP(E237,Insumos!A:C,2,FALSE),\"\")","v":""},null,null,null,0]
[null,null,null,null,null,{"$f":"IFERROR(VLOOKUP(E238,Insumos!A:C,2,FALSE),\"\")","v":""},null,null,null,0]
[null,null,null,null,null,{"$f":"IFERROR(VLOOKUP(E239,Insumos!A:C,2,FALSE),\"\")","v":""},null,null,null,0]
[null,null,null,null,null,{"$f":"IFERROR(VLOOKUP(E240,Insumos!A:C,2,FALSE),\"\")","v":""},null,null,null,0]
[null,null,null,null,null,{"$f":"IFERROR(VLOOKUP(E241,Insumos!A:C,2,FALSE),\"\")","v":""},null,null,null,0]
[null,null,null,null,null,{"$f":"IFERROR(VLOOKUP(E242,Insumos!A:C,2,FALSE),\"\")","v":""},null,null,null,0]
[null,null,null,null,null,{"$f":"IFERROR(VLOOKUP(E243,Insumos!A:C,2,FALSE),\"\")","v":""},null,null,null,0]
[null,null,null,null,null,{"$f":"IFERROR(VLOOKUP(E244,Insumos!A:C,2,FALSE),\"\")","v":""},null,null,null,0]
[null,null,null,null,null,{"$f":"IFERROR(VLOOKUP(E245,Insumos!A:C,2,FALSE),\"\")","v":""},null,null,null,0]
[null,null,null,null,null,{"$f":"IFERROR(VLOOKUP(E246,Insumos!A:C,2,FALSE),\"\")","v":""},null,null,null,0]
[null,null,null,null,null,{"$f":"IFERROR(VLOOKUP(E247,Insumos!A:C,2,FALSE),\"\")","v":""},null,null,null,0]
[null,null,null,null,null,{"$f":"IFERROR(VLOOKUP(E248,Insumos!A:C,2,FALSE),\"\")","v":""},null,null,null,0]
[null,null,null,null,null,{"$f":"IFERROR(VLOOKUP(E249,Insumos!A:C,2,FALSE),\"\")","v":""},null,null,null,0]
[null,null,null,null,null,{"$f":"IFERROR(VLOOKUP(E250,Insumos!A:C,2,FALSE),\"\")","v":""},null,null,null,0]
[null,null,null,null,null,{"$f":"IFERROR(VLOOKUP(E251,Insumos!A:C,2,FALSE),\"\")","v":""},null,null,null,0]
[null,null,null,null,null,{"$f":"IFERROR(VLOOKUP(E252,Insumos!A:C,2,FALSE),\"\")","v":""},null,null,null,0]
[null,null,null,null,null,{"$f":"IFERROR(VLOOKUP(E253,Insumos!A:C,2,FALSE),\"\")","v":""},null,null,null,0]
[null,null,null,null,null,{"$f":"IFERROR(VLOOKUP(E254,Insumos!A:C,2,FALSE),\"\")","v":""},null,null,null,0]
[null,null,null,null,null,{"$f":"IFERROR(VLOOKUP(E255,Insumos!A:C,2,FALSE),\"\")","v":""},null,null,null,0]
[null,null,null,null,null,{"$f":"IFERROR(VLOOKUP(E256,Insumos!A:C,2,FALSE),\"\")","v":""},null,null,null,0]
[null,null,null,null,null,{"$f":"IFERROR(VLOOKUP(E257,Insumos!A:C,2,FALSE),\"\")","v":""},null,null,null,0]
[null,null,null,null,null,{"$f":"IFERROR(VLOOKUP(E258,Insumos!A:C,2,FALSE),\"\")","v":""},null,null,null,0]
[null,null,null,null,null,{"$f":"IFERROR(VLOOKUP(E259,Insumos!A:C,2,FALSE),\"\")","v":""},null,null,null,0]
[null,null,null,null,null,{"$f":"IFERROR(VLOOKUP(E260,Insumos!A:C,2,FALSE),\"\")","v":""},null,null,null,0]
[null,null,null,null,null,{"$f":"IFERROR(VLOOKUP(E261,Insumos!A:C,2,FALSE),\"\")","v":""},null,null,null,{"$f":"IFERROR(H261*I261,\"\")","v":0}]
[null,null,null,null,null,{"$f":"IFERROR(VLOOKUP(E262,Insumos!A:C,2,FALSE),\"\")","v":""},null,null,null,0]
[null,null,null,null,null,{"$f":"IFERROR(VLOOKUP(E263,Insumos!A:C,2,FALSE),\"\")","v":""},null,null,null,0]
[null,null,null,null,null,{"$f":"IFERROR(VLOOKUP(E264,Insumos!A:C,2,FALSE),\"\")","v":""},null,null,null,0]
[null,null,null,null,null,{"$f":"IFERROR(VLOOKUP(E265,Insumos!A:C,2,FALSE),\"\")","v":""},null,null,null,0]
[null,null,null,null,null,{"$f":"IFERROR(VLOOKUP(E266,Insumos!A:C,2,FALSE),\"\")","v":""},null,null,null,0]
[null,null,null,null,null,{"$f":"IFERROR(VLOOKUP(E267,Insumos!A:C,2,FALSE),\"\")","v":""},null,null,null,0]
[null,null,null,null,null,{"$f":"IFERROR(VLOOKUP(E268,Insumos!A:C,2,FALSE),\"\")","v":""},null,null,null,0]
[null,null,null,null,null,{"$f":"IFERROR(VLOOKUP(E269,Insumos!A:C,2,FALSE),\"\")","v":""},null,null,null,0]
[null,null,null,null,null,{"$f":"IFERROR(VLOOKUP(E270,Insumos!A:C,2,FALSE),\"\")","v":""},null,null,null,0]
[null,null,null,null,null,{"$f":"IFERROR(VLOOKUP(E271,Insumos!A:C,2,FALSE),\"\")","v":""},null,null,null,0]
[null,null,null,null,null,{"$f":"IFERROR(VLOOKUP(E272,Insumos!A:C,2,FALSE),\"\")","v":""},null,null,null,0]
[null,null,null,null,null,{"$f":"IFERROR(VLOOKUP(E273,Insumos!A:C,2,FALSE),\"\")","v":""},null,null,null,0]
[null,null,null,null,null,{"$f":"IFERROR(VLOOKUP(E274,Insumos!A:C,2,FALSE),\"\")","v":""},null,null,null,0]
[null,null,null,null,null,{"$f":"IFERROR(VLOOKUP(E275,Insumos!A:C,2,FALSE),\"\")","v":""},null,null,null,0]
[null,null,null,null,null,{"$f":"IFERROR(VLOOKUP(E276,Insumos!A:C,2,FALSE),\"\")","v":""},null,null,null,0]
[null,null,null,null,null,{"$f":"IFERROR(VLOOKUP(E277,Insumos!A:C,2,FALSE),\"\")","v":""},null,null,null,0]
[null,null,null,null,null,{"$f":"IFERROR(VLOOKUP(E278,Insumos!A:C,2,FALSE),\"\")","v":""},null,null,null,0]
[null,null,null,null,null,{"$f":"IFERROR(VLOOKUP(E279,Insumos!A:C,2,FALSE),\"\")","v":""},null,null,null,0]
[null,null,null,null,null,{"$f":"IFERROR(VLOOKUP(E280,Insumos!A:C,2,FALSE),\"\")","v":""},null,null,null,0]
[null,null,null,null,null,{"$f":"IFERROR(VLOOKUP(E281,Insumos!A:C,2,FALSE),\"\")","v":""},null,null,null,0]
[null,null,null,null,null,{"$f":"IFERROR(VLOOKUP(E282,Insumos!A:C,2,FALSE),\"\")","v":""},null,null,null,0]
[null,null,null,null,null,{"$f":"IFERROR(VLOOKUP(E283,Insumos!A:C,2,FALSE),\"\")","v":""},null,null,null,0]
[null,null,null,null,null,{"$f":"IFERROR(VLOOKUP(E284,Insumos!A:C,2,FALSE),\"\")","v":""},null,null,null,0]
[null,null,null,null,null,{"$f":"IFERROR(VLOOKUP(E285,Insumos!A:C,2,FALSE),\"\")","v":""},null,null,null,0]
[null,null,null,null,null,{"$f":"IFERROR(VLOOKUP(E286,Insumos!A:C,2,FALSE),\"\")","v":""},null,null,null,0]
[null,null,null,null,null,{"$f":"IFERROR(VLOOKUP(E287,Insumos!A:C,2,FALSE),\"\")","v":""},null,null,null,0]
[null,null,null,null,null,{"$f":"IFERROR(VLOOKUP(E288,Insumos!A:C,2,FALSE),\"\")","v":""},null,null,null,0]
[null,null,null,null,null,{"$f":"IFERROR(VLOOKUP(E289,Insumos!A:C,2,FALSE),\"\")","v":""},null,null,null,0]
[null,null,null,null,null,{"$f":"IFERROR(VLOOKUP(E290,Insumos!A:C,2,FALSE),\"\")","v":""},null,null,null,0]
[null,null,null,null,null,{"$f":"IFERROR(VLOOKUP(E291,Insumos!A:C,2,FALSE),\"\")","v":""},null,null,null,0]
[null,null,null,null,null,{"$f":"IFERROR(VLOOKUP(E292,Insumos!A:C,2,FALSE),\"\")","v":""},null,null,null,0]
[null,null,null,null,null,{"$f":"IFERROR(VLOOKUP(E293,Insumos!A:C,2,FALSE),\"\")","v":""},null,null,null,0]
[null,null,null,null,null,{"$f":"IFERROR(VLOOKUP(E294,Insumos!A:C,2,FALSE),\"\")","v":""},null,null,null,0]
[null,null,null,null,null,{"$f":"IFERROR(VLOOKUP(E295,Insumos!A:C,2,FALSE),\"\")","v":""},null,null,null,0]
[null,null,null,null,null,{"$f":"IFERROR(VLOOKUP(E296,Insumos!A:C,2,FALSE),\"\")","v":""},null,null,null,0]
[null,null,null,null,null,{"$f":"IFERROR(VLOOKUP(E297,Insumos!A:C,2,FALSE),\"\")","v":""},null,null,null,0]
[null,null,null,null,null,{"$f":"IFERROR(VLOOKUP(E298,Insumos!A:C,2,FALSE),\"\")","v":""},null,null,null,0]
[null,null,null,null,null,{"$f":"IFERROR(VLOOKUP(E299,Insumos!A:C,2,FALSE),\"\")","v":""},null,null,null,0]
[null,null,null,null,null,{"$f":"IFERROR(VLOOKUP(E300,Insumos!A:C,2,FALSE),\"\")","v":""},null,null,null,0]
[null,null,null,null,null,{"$f":"IFERROR(VLOOKUP(E301,Insumos!A:C,2,FALSE),\"\")","v":""},null,null,null,0]
[null,null,null,null,null,{"$f":"IFERROR(VLOOKUP(E302,Insumos!A:C,2,FALSE),\"\")","v":""},null,null,null,0]
[null,null,null,null,null,{"$f":"IFERROR(VLOOKUP(E303,Insumos!A:C,2,FALSE),\"\")","v":""},null,null,null,0]
[null,null,null,null,null,{"$f":"IFERROR(VLOOKUP(E304,Insumos!A:C,2,FALSE),\"\")","v":""},null,null,null,0]
[null,null,null,null,null,{"$f":"IFERROR(VLOOKUP(E305,Insumos!A:C,2,FALSE),\"\")","v":""},null,null,null,0]
[null,null,null,null,null,{"$f":"IFERROR(VLOOKUP(E306,Insumos!A:C,2,FALSE),\"\")","v":""},null,null,null,0]
[null,null,null,null,null,{"$f":"IFERROR(VLOOKUP(E307,Insumos!A:C,2,FALSE),\"\")","v":""},null,null,null,0]
[null,null,null,null,null,{"$f":"IFERROR(VLOOKUP(E308,Insumos!A:C,2,FALSE),\"\")","v":""},null,null,null,0]
[null,null,null,null,null,{"$f":"IFERROR(VLOOKUP(E309,Insumos!A:C,2,FALSE),\"\")","v":""},null,null,null,0]
[null,null,null,null,null,{"$f":"IFERROR(VLOOKUP(E310,Insumos!A:C,2,FALSE),\"\")","v":""},null,null,null,0]
[null,null,null,null,null,{"$f":"IFERROR(VLOOKUP(E311,Insumos!A:C,2,FALSE),\"\")","v":""},null,null,null,0]
[null,null,null,null,null,{"$f":"IFERROR(VLOOKUP(E312,Insumos!A:C,2,FALSE),\"\")","v":""},null,null,null,0]
[null,null,null,null,null,{"$f":"IFERROR(VLOOKUP(E313,Insumos!A:C,2,FALSE),\"\")","v":""},null,null,null,0]
[null,null,null,null,null,{"$f":"IFERROR(VLOOKUP(E314,Insumos!A:C,2,FALSE),\"\")","v":""},null,null,null,0]
[null,null,null,null,null,{"$f":"IFERROR(VLOOKUP(E315,Insumos!A:C,2,FALSE),\"\")","v":""},null,null,null,0]
[null,null,null,null,null,{"$f":"IFERROR(VLOOKUP(E316,Insumos!A:C,2,FALSE),\"\")","v":""},null,null,null,0]
[null,null,null,null,null,{"$f":"IFERROR(VLOOKUP(E317,Insumos!A:C,2,FALSE),\"\")","v":""},null,null,null,0]
[null,null,null,null,null,{"$f":"IFERROR(VLOOKUP(E318,Insumos!A:C,2,FALSE),\"\")","v":""},null,null,null,0]
[null,null,null,null,null,{"$f":"IFERROR(VLOOKUP(E319,Insumos!A:C,2,FALSE),\"\")","v":""},null,null,null,0]
[null,null,null,null,null,{"$f":"IFERROR(VLOOKUP(E320,Insumos!A:C,2,FALSE),\"\")","v":""},null,null,null,0]
[null,null,null,null,null,{"$f":"IFERROR(VLOOKUP(E321,Insumos!A:C,2,FALSE),\"\")","v":""},null,null,null,0]
[null,null,null,null,null,{"$f":"IFERROR(VLOOKUP(E322,Insumos!A:C,2,FALSE),\"\")","v":""},null,null,null,0]
[null,null,null,null,null,{"$f":"IFERROR(VLOOKUP(E323,Insumos!A:C,2,FALSE),\"\")","v":""},null,null,null,0]
[null,null,null,null,null,{"$f":"IFERROR(VLOOKUP(E324,Insumos!A:C,2,FALSE),\"\")","v":""},null,null,null,0]
[null,null,null,null,null,{"$f":"IFERROR(VLOOKUP(E325,Insumos!A:C,2,FALSE),\"\")","v":""},null,null,null,{"$f":"IFERROR(H325*I325,\"\")","v":0}]
[null,null,null,null,null,{"$f":"IFERROR(VLOOKUP(E326,Insumos!A:C,2,FALSE),\"\")","v":""},null,null,null,0]
[null,null,null,null,null,{"$f":"IFERROR(VLOOKUP(E327,Insumos!A:C,2,FALSE),\"\")","v":""},null,null,null,0]
[null,null,null,null,null,{"$f":"IFERROR(VLOOKUP(E328,Insumos!A:C,2,FALSE),\"\")","v":""},null,null,null,0]
[null,null,null,null,null,{"$f":"IFERROR(VLOOKUP(E329,Insumos!A:C,2,FALSE),\"\")","v":""},null,null,null,0]
[null,null,null,null,null,{"$f":"IFERROR(VLOOKUP(E330,Insumos!A:C,2,FALSE),\"\")","v":""},null,null,null,0]
[null,null,null,null,null,{"$f":"IFERROR(VLOOKUP(E331,Insumos!A:C,2,FALSE),\"\")","v":""},null,null,null,0]
[null,null,null,null,null,{"$f":"IFERROR(VLOOKUP(E332,Insumos!A:C,2,FALSE),\"\")","v":""},null,null,null,0]
[null,null,null,null,null,{"$f":"IFERROR(VLOOKUP(E333,Insumos!A:C,2,FALSE),\"\")","v":""},null,null,null,0]
[null,null,null,null,null,{"$f":"IFERROR(VLOOKUP(E334,Insumos!A:C,2,FALSE),\"\")","v":""},null,null,null,0]
[null,null,null,null,null,{"$f":"IFERROR(VLOOKUP(E335,Insumos!A:C,2,FALSE),\"\")","v":""},null,null,null,0]
[null,null,null,null,null,{"$f":"IFERROR(VLOOKUP(E336,Insumos!A:C,2,FALSE),\"\")","v":""},null,null,null,0]
[null,null,null,null,null,{"$f":"IFERROR(VLOOKUP(E337,Insumos!A:C,2,FALSE),\"\")","v":""},null,null,null,0]
[null,null,null,null,null,{"$f":"IFERROR(VLOOKUP(E338,Insumos!A:C,2,FALSE),\"\")","v":""},null,null,null,0]
[null,null,null,null,null,{"$f":"IFERROR(VLOOKUP(E339,Insumos!A:C,2,FALSE),\"\")","v":""},null,null,null,0]
[null,null,null,null,null,{"$f":"IFERROR(VLOOKUP(E340,Insumos!A:C,2,FALSE),\"\")","v":""},null,null,null,0]
[null,null,null,null,null,{"$f":"IFERROR(VLOOKUP(E341,Insumos!A:C,2,FALSE),\"\")","v":""},null,null,null,0]
[null,null,null,null,null,{"$f":"IFERROR(VLOOKUP(E342,Insumos!A:C,2,FALSE),\"\")","v":""},null,null,null,0]
[null,null,null,null,null,{"$f":"IFERROR(VLOOKUP(E343,Insumos!A:C,2,FALSE),\"\")","v":""},null,null,null,0]
[null,null,null,null,null,{"$f":"IFERROR(VLOOKUP(E344,Insumos!A:C,2,FALSE),\"\")","v":""},null,null,null,0]
[null,null,null,null,null,{"$f":"IFERROR(VLOOKUP(E345,Insumos!A:C,2,FALSE),\"\")","v":""},null,null,null,0]
[null,null,null,null,null,{"$f":"IFERROR(VLOOKUP(E346,Insumos!A:C,2,FALSE),\"\")","v":""},null,null,null,0]
[null,null,null,null,null,{"$f":"IFERROR(VLOOKUP(E347,Insumos!A:C,2,FALSE),\"\")","v":""},null,null,null,0]
[null,null,null,null,null,{"$f":"IFERROR(VLOOKUP(E348,Insumos!A:C,2,FALSE),\"\")","v":""},null,null,null,0]
[null,null,null,null,null,{"$f":"IFERROR(VLOOKUP(E349,Insumos!A:C,2,FALSE),\"\")","v":""},null,null,null,0]
[null,null,null,null,null,{"$f":"IFERROR(VLOOKUP(E350,Insumos!A:C,2,FALSE),\"\")","v":""},null,null,null,0]
[null,null,null,null,null,{"$f":"IFERROR(VLOOKUP(E351,Insumos!A:C,2,FALSE),\"\")","v":""},null,null,null,0]
[null,null,null,null,null,{"$f":"IFERROR(VLOOKUP(E352,Insumos!A:C,2,FALSE),\"\")","v":""},null,null,null,0]
[null,null,null,null,null,{"$f":"IFERROR(VLOOKUP(E353,Insumos!A:C,2,FALSE),\"\")","v":""},null,null,null,0]
[null,null,null,null,null,{"$f":"IFERROR(VLOOKUP(E354,Insumos!A:C,2,FALSE),\"\")","v":""},null,null,null,0]
[null,null,null,null,null,{"$f":"IFERROR(VLOOKUP(E355,Insumos!A:C,2,FALSE),\"\")","v":""},null,null,null,0]
[null,null,null,null,null,{"$f":"IFERROR(VLOOKUP(E356,Insumos!A:C,2,FALSE),\"\")","v":""},null,null,null,0]
[null,null,null,null,null,{"$f":"IFERROR(VLOOKUP(E357,Insumos!A:C,2,FALSE),\"\")","v":""},null,null,null,0]
[null,null,null,null,null,{"$f":"IFERROR(VLOOKUP(E358,Insumos!A:C,2,FALSE),\"\")","v":""},null,null,null,0]
[null,null,null,null,null,{"$f":"IFERROR(VLOOKUP(E359,Insumos!A:C,2,FALSE),\"\")","v":""},null,null,null,0]
[null,null,null,null,null,{"$f":"IFERROR(VLOOKUP(E360,Insumos!A:C,2,FALSE),\"\")","v":""},null,null,null,0]
[null,null,null,null,null,{"$f":"IFERROR(VLOOKUP(E361,Insumos!A:C,2,FALSE),\"\")","v":""},null,null,null,0]
[null,null,null,null,null,{"$f":"IFERROR(VLOOKUP(E362,Insumos!A:C,2,FALSE),\"\")","v":""},null,null,null,0]
[null,null,null,null,null,{"$f":"IFERROR(VLOOKUP(E363,Insumos!A:C,2,FALSE),\"\")","v":""},null,null,null,0]
[null,null,null,null,null,{"$f":"IFERROR(VLOOKUP(E364,Insumos!A:C,2,FALSE),\"\")","v":""},null,null,null,0]
[null,null,null,null,null,{"$f":"IFERROR(VLOOKUP(E365,Insumos!A:C,2,FALSE),\"\")","v":""},null,null,null,0]
[null,null,null,null,null,{"$f":"IFERROR(VLOOKUP(E366,Insumos!A:C,2,FALSE),\"\")","v":""},null,null,null,0]
[null,null,null,null,null,{"$f":"IFERROR(VLOOKUP(E367,Insumos!A:C,2,FALSE),\"\")","v":""},null,null,null,0]
[null,null,null,null,null,{"$f":"IFERROR(VLOOKUP(E368,Insumos!A:C,2,FALSE),\"\")","v":""},null,null,null,0]
[null,null,null,null,null,{"$f":"IFERROR(VLOOKUP(E369,Insumos!A:C,2,FALSE),\"\")","v":""},null,null,null,0]
[null,null,null,null,null,{"$f":"IFERROR(VLOOKUP(E370,Insumos!A:C,2,FALSE),\"\")","v":""},null,null,null,0]
[null,null,null,null,null,{"$f":"IFERROR(VLOOKUP(E371,Insumos!A:C,2,FALSE),\"\")","v":""},null,null,null,0]
[null,null,null,null,null,{"$f":"IFERROR(VLOOKUP(E372,Insumos!A:C,2,FALSE),\"\")","v":""},null,null,null,0]
[null,null,null,null,null,{"$f":"IFERROR(VLOOKUP(E373,Insumos!A:C,2,FALSE),\"\")","v":""},null,null,null,0]
[null,null,null,null,null,{"$f":"IFERROR(VLOOKUP(E374,Insumos!A:C,2,FALSE),\"\")","v":""},null,null,null,0]
[null,null,null,null,null,{"$f":"IFERROR(VLOOKUP(E375,Insumos!A:C,2,FALSE),\"\")","v":""},null,null,null,0]
[null,null,null,null,null,{"$f":"IFERROR(VLOOKUP(E376,Insumos!A:C,2,FALSE),\"\")","v":""},null,null,null,0]
[null,null,null,null,null,{"$f":"IFERROR(VLOOKUP(E377,Insumos!A:C,2,FALSE),\"\")","v":""},null,null,null,0]
[null,null,null,null,null,{"$f":"IFERROR(VLOOKUP(E378,Insumos!A:C,2,FALSE),\"\")","v":""},null,null,null,0]
[null,null,null,null,null,{"$f":"IFERROR(VLOOKUP(E379,Insumos!A:C,2,FALSE),\"\")","v":""},null,null,null,0]
[null,null,null,null,null,{"$f":"IFERROR(VLOOKUP(E380,Insumos!A:C,2,FALSE),\"\")","v":""},null,null,null,0]
[null,null,null,null,null,{"$f":"IFERROR(VLOOKUP(E381,Insumos!A:C,2,FALSE),\"\")","v":""},null,null,null,0]
[null,null,null,null,null,{"$f":"IFERROR(VLOOKUP(E382,Insumos!A:C,2,FALSE),\"\")","v":""},null,null,null,0]
[null,null,null,null,null,{"$f":"IFERROR(VLOOKUP(E383,Insumos!A:C,2,FALSE),\"\")","v":""},null,null,null,0]
[null,null,null,null,null,{"$f":"IFERROR(VLOOKUP(E384,Insumos!A:C,2,FALSE),\"\")","v":""},null,null,null,0]
[null,null,null,null,null,{"$f":"IFERROR(VLOOKUP(E385,Insumos!A:C,2,FALSE),\"\")","v":""},null,null,null,0]
[null,null,null,null,null,{"$f":"IFERROR(VLOOKUP(E386,Insumos!A:C,2,FALSE),\"\")","v":""},null,null,null,0]
[null,null,null,null,null,{"$f":"IFERROR(VLOOKUP(E387,Insumos!A:C,2,FALSE),\"\")","v":""},null,null,null,0]
[null,null,null,null,null,{"$f":"IFERROR(VLOOKUP(E388,Insumos!A:C,2,FALSE),\"\")","v":""},null,null,null,0]
[null,null,null,null,null,{"$f":"IFERROR(VLOOKUP(E389,Insumos!A:C,2,FALSE),\"\")","v":""},null,null,null,{"$f":"IFERROR(H389*I389,\"\")","v":0}]
[null,null,null,null,null,{"$f":"IFERROR(VLOOKUP(E390,Insumos!A:C,2,FALSE),\"\")","v":""},null,null,null,0]
[null,null,null,null,null,{"$f":"IFERROR(VLOOKUP(E391,Insumos!A:C,2,FALSE),\"\")","v":""},null,null,null,0]
[null,null,null,null,null,{"$f":"IFERROR(VLOOKUP(E392,Insumos!A:C,2,FALSE),\"\")","v":""},null,null,null,0]
[null,null,null,null,null,{"$f":"IFERROR(VLOOKUP(E393,Insumos!A:C,2,FALSE),\"\")","v":""},null,null,null,0]
[null,null,null,null,null,{"$f":"IFERROR(VLOOKUP(E394,Insumos!A:C,2,FALSE),\"\")","v":""},null,null,null,0]
[null,null,null,null,null,{"$f":"IFERROR(VLOOKUP(E395,Insumos!A:C,2,FALSE),\"\")","v":""},null,null,null,0]
[null,null,null,null,null,{"$f":"IFERROR(VLOOKUP(E396,Insumos!A:C,2,FALSE),\"\")","v":""},null,null,null,0]
[null,null,null,null,null,{"$f":"IFERROR(VLOOKUP(E397,Insumos!A:C,2,FALSE),\"\")","v":""},null,null,null,0]
[null,null,null,null,null,{"$f":"IFERROR(VLOOKUP(E398,Insumos!A:C,2,FALSE),\"\")","v":""},null,null,null,0]
[null,null,null,null,null,{"$f":"IFERROR(VLOOKUP(E399,Insumos!A:C,2,FALSE),\"\")","v":""},null,null,null,0]
[null,null,null,null,null,{"$f":"IFERROR(VLOOKUP(E400,Insumos!A:C,2,FALSE),\"\")","v":""},null,null,null,0]
[null,null,null,null,null,{"$f":"IFERROR(VLOOKUP(E401,Insumos!A:C,2,FALSE),\"\")","v":""},null,null,null,0]
[null,null,null,null,null,{"$f":"IFERROR(VLOOKUP(E402,Insumos!A:C,2,FALSE),\"\")","v":""},null,null,null,0]
[null,null,null,null,null,{"$f":"IFERROR(VLOOKUP(E403,Insumos!A:C,2,FALSE),\"\")","v":""},null,null,null,0]
[null,null,null,null,null,{"$f":"IFERROR(VLOOKUP(E404,Insumos!A:C,2,FALSE),\"\")","v":""},null,null,null,0]
[null,null,null,null,null,{"$f":"IFERROR(VLOOKUP(E405,Insumos!A:C,2,FALSE),\"\")","v":""},null,null,null,0]
[null,null,null,null,null,{"$f":"IFERROR(VLOOKUP(E406,Insumos!A:C,2,FALSE),\"\")","v":""},null,null,null,0]
[null,null,null,null,null,{"$f":"IFERROR(VLOOKUP(E407,Insumos!A:C,2,FALSE),\"\")","v":""},null,null,null,0]
[null,null,null,null,null,{"$f":"IFERROR(VLOOKUP(E408,Insumos!A:C,2,FALSE),\"\")","v":""},null,null,null,0]
[null,null,null,null,null,{"$f":"IFERROR(VLOOKUP(E409,Insumos!A:C,2,FALSE),\"\")","v":""},null,null,null,0]
[null,null,null,null,null,{"$f":"IFERROR(VLOOKUP(E410,Insumos!A:C,2,FALSE),\"\")","v":""},null,null,null,0]
[null,null,null,null,null,{"$f":"IFERROR(VLOOKUP(E411,Insumos!A:C,2,FALSE),\"\")","v":""},null,null,null,0]
[null,null,null,null,null,{"$f":"IFERROR(VLOOKUP(E412,Insumos!A:C,2,FALSE),\"\")","v":""},null,null,null,0]
[null,null,null,null,null,{"$f":"IFERROR(VLOOKUP(E413,Insumos!A:C,2,FALSE),\"\")","v":""},null,null,null,0]
[null,null,null,null,null,{"$f":"IFERROR(VLOOKUP(E414,Insumos!A:C,2,FALSE),\"\")","v":""},null,null,null,0]
[null,null,null,null,null,{"$f":"IFERROR(VLOOKUP(E415,Insumos!A:C,2,FALSE),\"\")","v":""},null,null,null,0]
[null,null,null,null,null,{"$f":"IFERROR(VLOOKUP(E416,Insumos!A:C,2,FALSE),\"\")","v":""},null,null,null,0]
[null,null,null,null,null,{"$f":"IFERROR(VLOOKUP(E417,Insumos!A:C,2,FALSE),\"\")","v":""},null,null,null,0]
[null,null,null,null,null,{"$f":"IFERROR(VLOOKUP(E418,Insumos!A:C,2,FALSE),\"\")","v":""},null,null,null,0]
[null,null,null,null,null,{"$f":"IFERROR(VLOOKUP(E419,Insumos!A:C,2,FALSE),\"\")","v":""},null,null,null,0]
[null,null,null,null,null,{"$f":"IFERROR(VLOOKUP(E420,Insumos!A:C,2,FALSE),\"\")","v":""},null,null,null,0]
[null,null,null,null,null,{"$f":"IFERROR(VLOOKUP(E421,Insumos!A:C,2,FALSE),\"\")","v":""},null,null,null,0]
[null,null,null,null,null,{"$f":"IFERROR(VLOOKUP(E422,Insumos!A:C,2,FALSE),\"\")","v":""},null,null,null,0]
[null,null,null,null,null,{"$f":"IFERROR(VLOOKUP(E423,Insumos!A:C,2,FALSE),\"\")","v":""},null,null,null,0]
[null,null,null,null,null,{"$f":"IFERROR(VLOOKUP(E424,Insumos!A:C,2,FALSE),\"\")","v":""},null,null,null,0]
[null,null,null,null,null,{"$f":"IFERROR(VLOOKUP(E425,Insumos!A:C,2,FALSE),\"\")","v":""},null,null,null,0]
[null,null,null,null,null,{"$f":"IFERROR(VLOOKUP(E426,Insumos!A:C,2,FALSE),\"\")","v":""},null,null,null,0]
[null,null,null,null,null,{"$f":"IFERROR(VLOOKUP(E427,Insumos!A:C,2,FALSE),\"\")","v":""},null,null,null,0]
[null,null,null,null,null,{"$f":"IFERROR(VLOOKUP(E428,Insumos!A:C,2,FALSE),\"\")","v":""},null,null,null,0]
[null,null,null,null,null,{"$f":"IFERROR(VLOOKUP(E429,Insumos!A:C,2,FALSE),\"\")","v":""},null,null,null,0]
[null,null,null,null,null,{"$f":"IFERROR(VLOOKUP(E430,Insumos!A:C,2,FALSE),\"\")","v":""},null,null,null,0]
[null,null,null,null,null,{"$f":"IFERROR(VLOOKUP(E431,Insumos!A:C,2,FALSE),\"\")","v":""},null,null,null,0]
[null,null,null,null,null,{"$f":"IFERROR(VLOOKUP(E432,Insumos!A:C,2,FALSE),\"\")","v":""},null,null,null,0]
[null,null,null,null,null,{"$f":"IFERROR(VLOOKUP(E433,Insumos!A:C,2,FALSE),\"\")","v":""},null,null,null,0]
[null,null,null,null,null,{"$f":"IFERROR(VLOOKUP(E434,Insumos!A:C,2,FALSE),\"\")","v":""},null,null,null,0]
[null,null,null,null,null,{"$f":"IFERROR(VLOOKUP(E435,Insumos!A:C,2,FALSE),\"\")","v":""},null,null,null,0]
[null,null,null,null,null,{"$f":"IFERROR(VLOOKUP(E436,Insumos!A:C,2,FALSE),\"\")","v":""},null,null,null,0]
[null,null,null,null,null,{"$f":"IFERROR(VLOOKUP(E437,Insumos!A:C,2,FALSE),\"\")","v":""},null,null,null,0]
[null,null,null,null,null,{"$f":"IFERROR(VLOOKUP(E438,Insumos!A:C,2,FALSE),\"\")","v":""},null,null,null,0]
[null,null,null,null,null,{"$f":"IFERROR(VLOOKUP(E439,Insumos!A:C,2,FALSE),\"\")","v":""},null,null,null,0]
[null,null,null,null,null,{"$f":"IFERROR(VLOOKUP(E440,Insumos!A:C,2,FALSE),\"\")","v":""},null,null,null,0]
[null,null,null,null,null,{"$f":"IFERROR(VLOOKUP(E441,Insumos!A:C,2,FALSE),\"\")","v":""},null,null,null,0]
[null,null,null,null,null,{"$f":"IFERROR(VLOOKUP(E442,Insumos!A:C,2,FALSE),\"\")","v":""},null,null,null,0]
[null,null,null,null,null,{"$f":"IFERROR(VLOOKUP(E443,Insumos!A:C,2,FALSE),\"\")","v":""},null,null,null,0]
[null,null,null,null,null,{"$f":"IFERROR(VLOOKUP(E444,Insumos!A:C,2,FALSE),\"\")","v":""},null,null,null,0]
[null,null,null,null,null,{"$f":"IFERROR(VLOOKUP(E445,Insumos!A:C,2,FALSE),\"\")","v":""},null,null,null,0]
[null,null,null,null,null,{"$f":"IFERROR(VLOOKUP(E446,Insumos!A:C,2,FALSE),\"\")","v":""},null,null,null,0]
[null,null,null,null,null,{"$f":"IFERROR(VLOOKUP(E447,Insumos!A:C,2,FALSE),\"\")","v":""},null,null,null,0]
[null,null,null,null,null,{"$f":"IFERROR(VLOOKUP(E448,Insumos!A:C,2,FALSE),\"\")","v":""},null,null,null,0]
[null,null,null,null,null,{"$f":"IFERROR(VLOOKUP(E449,Insumos!A:C,2,FALSE),\"\")","v":""},null,null,null,0]
[null,null,null,null,null,{"$f":"IFERROR(VLOOKUP(E450,Insumos!A:C,2,FALSE),\"\")","v":""},null,null,null,0]
[null,null,null,null,null,{"$f":"IFERROR(VLOOKUP(E451,Insumos!A:C,2,FALSE),\"\")","v":""},null,null,null,0]
[null,null,null,null,null,{"$f":"IFERROR(VLOOKUP(E452,Insumos!A:C,2,FALSE),\"\")","v":""},null,null,null,0]
[null,null,null,null,null,{"$f":"IFERROR(VLOOKUP(E453,Insumos!A:C,2,FALSE),\"\")","v":""},null,null,null,{"$f":"IFERROR(H453*I453,\"\")","v":0}]
[null,null,null,null,null,{"$f":"IFERROR(VLOOKUP(E454,Insumos!A:C,2,FALSE),\"\")","v":""},null,null,null,0]
[null,null,null,null,null,{"$f":"IFERROR(VLOOKUP(E455,Insumos!A:C,2,FALSE),\"\")","v":""},null,null,null,0]
[null,null,null,null,null,{"$f":"IFERROR(VLOOKUP(E456,Insumos!A:C,2,FALSE),\"\")","v":""},null,null,null,0]
[null,null,null,null,null,{"$f":"IFERROR(VLOOKUP(E457,Insumos!A:C,2,FALSE),\"\")","v":""},null,null,null,0]
[null,null,null,null,null,{"$f":"IFERROR(VLOOKUP(E458,Insumos!A:C,2,FALSE),\"\")","v":""},null,null,null,0]
[null,null,null,null,null,{"$f":"IFERROR(VLOOKUP(E459,Insumos!A:C,2,FALSE),\"\")","v":""},null,null,null,0]
[null,null,null,null,null,{"$f":"IFERROR(VLOOKUP(E460,Insumos!A:C,2,FALSE),\"\")","v":""},null,null,null,0]
[null,null,null,null,null,{"$f":"IFERROR(VLOOKUP(E461,Insumos!A:C,2,FALSE),\"\")","v":""},null,null,null,0]
[null,null,null,null,null,{"$f":"IFERROR(VLOOKUP(E462,Insumos!A:C,2,FALSE),\"\")","v":""},null,null,null,0]
[null,null,null,null,null,{"$f":"IFERROR(VLOOKUP(E463,Insumos!A:C,2,FALSE),\"\")","v":""},null,null,null,0]
[null,null,null,null,null,{"$f":"IFERROR(VLOOKUP(E464,Insumos!A:C,2,FALSE),\"\")","v":""},null,null,null,0]
[null,null,null,null,null,{"$f":"IFERROR(VLOOKUP(E465,Insumos!A:C,2,FALSE),\"\")","v":""},null,null,null,0]
[null,null,null,null,null,{"$f":"IFERROR(VLOOKUP(E466,Insumos!A:C,2,FALSE),\"\")","v":""},null,null,null,0]
[null,null,null,null,null,{"$f":"IFERROR(VLOOKUP(E467,Insumos!A:C,2,FALSE),\"\")","v":""},null,null,null,0]
[null,null,null,null,null,{"$f":"IFERROR(VLOOKUP(E468,Insumos!A:C,2,FALSE),\"\")","v":""},null,null,null,0]
[null,null,null,null,null,{"$f":"IFERROR(VLOOKUP(E469,Insumos!A:C,2,FALSE),\"\")","v":""},null,null,null,0]
[null,null,null,null,null,{"$f":"IFERROR(VLOOKUP(E470,Insumos!A:C,2,FALSE),\"\")","v":""},null,null,null,0]
[null,null,null,null,null,{"$f":"IFERROR(VLOOKUP(E471,Insumos!A:C,2,FALSE),\"\")","v":""},null,null,null,0]
[null,null,null,null,null,{"$f":"IFERROR(VLOOKUP(E472,Insumos!A:C,2,FALSE),\"\")","v":""},null,null,null,0]
[null,null,null,null,null,{"$f":"IFERROR(VLOOKUP(E473,Insumos!A:C,2,FALSE),\"\")","v":""},null,null,null,0]
[null,null,null,null,null,{"$f":"IFERROR(VLOOKUP(E474,Insumos!A:C,2,FALSE),\"\")","v":""},null,null,null,0]
[null,null,null,null,null,{"$f":"IFERROR(VLOOKUP(E475,Insumos!A:C,2,FALSE),\"\")","v":""},null,null,null,0]
[null,null,null,null,null,{"$f":"IFERROR(VLOOKUP(E476,Insumos!A:C,2,FALSE),\"\")","v":""},null,null,null,0]
[null,null,null,null,null,{"$f":"IFERROR(VLOOKUP(E477,Insumos!A:C,2,FALSE),\"\")","v":""},null,null,null,0]
[null,null,null,null,null,{"$f":"IFERROR(VLOOKUP(E478,Insumos!A:C,2,FALSE),\"\")","v":""},null,null,null,0]
[null,null,null,null,null,{"$f":"IFERROR(VLOOKUP(E479,Insumos!A:C,2,FALSE),\"\")","v":""},null,null,null,0]
[null,null,null,null,null,{"$f":"IFERROR(VLOOKUP(E480,Insumos!A:C,2,FALSE),\"\")","v":""},null,null,null,0]
[null,null,null,null,null,{"$f":"IFERROR(VLOOKUP(E481,Insumos!A:C,2,FALSE),\"\")","v":""},null,null,null,0]
[null,null,null,null,null,{"$f":"IFERROR(VLOOKUP(E482,Insumos!A:C,2,FALSE),\"\")","v":""},null,null,null,0]
[null,null,null,null,null,{"$f":"IFERROR(VLOOKUP(E483,Insumos!A:C,2,FALSE),\"\")","v":""},null,null,null,0]
[null,null,null,null,null,{"$f":"IFERROR(VLOOKUP(E484,Insumos!A:C,2,FALSE),\"\")","v":""},null,null,null,0]
[null,null,null,null,null,{"$f":"IFERROR(VLOOKUP(E485,Insumos!A:C,2,FALSE),\"\")","v":""},null,null,null,0]
[null,null,null,null,null,{"$f":"IFERROR(VLOOKUP(E486,Insumos!A:C,2,FALSE),\"\")","v":""},null,null,null,0]
[null,null,null,null,null,{"$f":"IFERROR(VLOOKUP(E487,Insumos!A:C,2,FALSE),\"\")","v":""},null,null,null,0]
[null,null,null,null,null,{"$f":"IFERROR(VLOOKUP(E488,Insumos!A:C,2,FALSE),\"\")","v":""},null,null,null,0]
[null,null,null,null,null,{"$f":"IFERROR(VLOOKUP(E489,Insumos!A:C,2,FALSE),\"\")","v":""},null,null,null,0]
[null,null,null,null,null,{"$f":"IFERROR(VLOOKUP(E490,Insumos!A:C,2,FALSE),\"\")","v":""},null,null,null,0]
[null,null,null,null,null,{"$f":"IFERROR(VLOOKUP(E491,Insumos!A:C,2,FALSE),\"\")","v":""},null,null,null,0]
[null,null,null,null,null,{"$f":"IFERROR(VLOOKUP(E492,Insumos!A:C,2,FALSE),\"\")","v":""},null,null,null,0]
[null,null,null,null,null,{"$f":"IFERROR(VLOOKUP(E493,Insumos!A:C,2,FALSE),\"\")","v":""},null,null,null,0]
[null,null,null,null,null,{"$f":"IFERROR(VLOOKUP(E494,Insumos!A:C,2,FALSE),\"\")","v":""},null,null,null,0]
[null,null,null,null,null,{"$f":"IFERROR(VLOOKUP(E495,Insumos!A:C,2,FALSE),\"\")","v":""},null,null,null,0]
[null,null,null,null,null,{"$f":"IFERROR(VLOOKUP(E496,Insumos!A:C,2,FALSE),\"\")","v":""},null,null,null,0]
[null,null,null,null,null,{"$f":"IFERROR(VLOOKUP(E497,Insumos!A:C,2,FALSE),\"\")","v":""},null,null,null,0]
[null,null,null,null,null,{"$f":"IFERROR(VLOOKUP(E498,Insumos!A:C,2,FALSE),\"\")","v":""},null,null,null,0]
[null,null,null,null,null,{"$f":"IFERROR(VLOOKUP(E499,Insumos!A:C,2,FALSE),\"\")","v":""},null,null,null,0]
[null,null,null,null,null,{"$f":"IFERROR(VLOOKUP(E500,Insumos!A:C,2,FALSE),\"\")","v":""},null,null,null,0]
[null,null,null,null,null,{"$f":"IFERROR(VLOOKUP(E501,Insumos!A:C,2,FALSE),\"\")","v":""},null,null,null,0]
[null,null,null,null,null,{"$f":"IFERROR(VLOOKUP(E502,Insumos!A:C,2,FALSE),\"\")","v":""},null,null,null,0]
[null,null,null,null,null,{"$f":"IFERROR(VLOOKUP(E503,Insumos!A:C,2,FALSE),\"\")","v":""},null,null,null,0]
[null,null,null,null,null,{"$f":"IFERROR(VLOOKUP(E504,Insumos!A:C,2,FALSE),\"\")","v":""},null,null,null,0]
[null,null,null,null,null,{"$f":"IFERROR(VLOOKUP(E505,Insumos!A:C,2,FALSE),\"\")","v":""},null,null,null,0]
[null,null,null,null,null,{"$f":"IFERROR(VLOOKUP(E506,Insumos!A:C,2,FALSE),\"\")","v":""},null,null,null,0]
[null,null,null,null,null,{"$f":"IFERROR(VLOOKUP(E507,Insumos!A:C,2,FALSE),\"\")","v":""},null,null,null,0]
[null,null,null,null,null,{"$f":"IFERROR(VLOOKUP(E508,Insumos!A:C,2,FALSE),\"\")","v":""},null,null,null,0]
[null,null,null,null,null,{"$f":"IFERROR(VLOOKUP(E509,Insumos!A:C,2,FALSE),\"\")","v":""},null,null,null,0]
[null,null,null,null,null,{"$f":"IFERROR(VLOOKUP(E510,Insumos!A:C,2,FALSE),\"\")","v":""},null,null,null,0]
[null,null,null,null,null,{"$f":"IFERROR(VLOOKUP(E511,Insumos!A:C,2,FALSE),\"\")","v":""},null,null,null,0]
[null,null,null,null,null,{"$f":"IFERROR(VLOOKUP(E512,Insumos!A:C,2,FALSE),\"\")","v":""},null,null,null,0]
[null,null,null,null,null,{"$f":"IFERROR(VLOOKUP(E513,Insumos!A:C,2,FALSE),\"\")","v":""},null,null,null,0]
[null,null,null,null,null,{"$f":"IFERROR(VLOOKUP(E514,Insumos!A:C,2,FALSE),\"\")","v":""},null,null,null,0]
[null,null,null,null,null,{"$f":"IFERROR(VLOOKUP(E515,Insumos!A:C,2,FALSE),\"\")","v":""},null,null,null,0]
[null,null,null,null,null,{"$f":"IFERROR(VLOOKUP(E516,Insumos!A:C,2,FALSE),\"\")","v":""},null,null,null,0]
[null,null,null,null,null,{"$f":"IFERROR(VLOOKUP(E517,Insumos!A:C,2,FALSE),\"\")","v":""},null,null,null,{"$f":"IFERROR(H517*I517,\"\")","v":0}]
[null,null,null,null,null,{"$f":"IFERROR(VLOOKUP(E518,Insumos!A:C,2,FALSE),\"\")","v":""},null,null,null,0]
[null,null,null,null,null,{"$f":"IFERROR(VLOOKUP(E519,Insumos!A:C,2,FALSE),\"\")","v":""},null,null,null,0]
[null,null,null,null,null,{"$f":"IFERROR(VLOOKUP(E520,Insumos!A:C,2,FALSE),\"\")","v":""},null,null,null,0]
[null,null,null,null,null,{"$f":"IFERROR(VLOOKUP(E521,Insumos!A:C,2,FALSE),\"\")","v":""},null,null,null,0]
[null,null,null,null,null,{"$f":"IFERROR(VLOOKUP(E522,Insumos!A:C,2,FALSE),\"\")","v":""},null,null,null,0]
[null,null,null,null,null,{"$f":"IFERROR(VLOOKUP(E523,Insumos!A:C,2,FALSE),\"\")","v":""},null,null,null,0]
[null,null,null,null,null,{"$f":"IFERROR(VLOOKUP(E524,Insumos!A:C,2,FALSE),\"\")","v":""},null,null,null,0]
[null,null,null,null,null,{"$f":"IFERROR(VLOOKUP(E525,Insumos!A:C,2,FALSE),\"\")","v":""},null,null,null,0]
[null,null,null,null,null,{"$f":"IFERROR(VLOOKUP(E526,Insumos!A:C,2,FALSE),\"\")","v":""},null,null,null,0]
[null,null,null,null,null,{"$f":"IFERROR(VLOOKUP(E527,Insumos!A:C,2,FALSE),\"\")","v":""},null,null,null,0]
[null,null,null,null,null,{"$f":"IFERROR(VLOOKUP(E528,Insumos!A:C,2,FALSE),\"\")","v":""},null,null,null,0]
[null,null,null,null,null,{"$f":"IFERROR(VLOOKUP(E529,Insumos!A:C,2,FALSE),\"\")","v":""},null,null,null,0]
[null,null,null,null,null,{"$f":"IFERROR(VLOOKUP(E530,Insumos!A:C,2,FALSE),\"\")","v":""},null,null,null,0]
[null,null,null,null,null,{"$f":"IFERROR(VLOOKUP(E531,Insumos!A:C,2,FALSE),\"\")","v":""},null,null,null,0]
[null,null,null,null,null,{"$f":"IFERROR(VLOOKUP(E532,Insumos!A:C,2,FALSE),\"\")","v":""},null,null,null,0]
[null,null,null,null,null,{"$f":"IFERROR(VLOOKUP(E533,Insumos!A:C,2,FALSE),\"\")","v":""},null,null,null,0]
[null,null,null,null,null,{"$f":"IFERROR(VLOOKUP(E534,Insumos!A:C,2,FALSE),\"\")","v":""},null,null,null,0]
[null,null,null,null,null,{"$f":"IFERROR(VLOOKUP(E535,Insumos!A:C,2,FALSE),\"\")","v":""},null,null,null,0]
[null,null,null,null,null,{"$f":"IFERROR(VLOOKUP(E536,Insumos!A:C,2,FALSE),\"\")","v":""},null,null,null,0]
[null,null,null,null,null,{"$f":"IFERROR(VLOOKUP(E537,Insumos!A:C,2,FALSE),\"\")","v":""},null,null,null,0]
[null,null,null,null,null,{"$f":"IFERROR(VLOOKUP(E538,Insumos!A:C,2,FALSE),\"\")","v":""},null,null,null,0]
[null,null,null,null,null,{"$f":"IFERROR(VLOOKUP(E539,Insumos!A:C,2,FALSE),\"\")","v":""},null,null,null,0]
[null,null,null,null,null,{"$f":"IFERROR(VLOOKUP(E540,Insumos!A:C,2,FALSE),\"\")","v":""},null,null,null,0]
[null,null,null,null,null,{"$f":"IFERROR(VLOOKUP(E541,Insumos!A:C,2,FALSE),\"\")","v":""},null,null,null,0]
[null,null,null,null,null,{"$f":"IFERROR(VLOOKUP(E542,Insumos!A:C,2,FALSE),\"\")","v":""},null,null,null,0]
[null,null,null,null,null,{"$f":"IFERROR(VLOOKUP(E543,Insumos!A:C,2,FALSE),\"\")","v":""},null,null,null,0]
[null,null,null,null,null,{"$f":"IFERROR(VLOOKUP(E544,Insumos!A:C,2,FALSE),\"\")","v":""},null,null,null,0]
[null,null,null,null,null,{"$f":"IFERROR(VLOOKUP(E545,Insumos!A:C,2,FALSE),\"\")","v":""},null,null,null,0]
[null,null,null,null,null,{"$f":"IFERROR(VLOOKUP(E546,Insumos!A:C,2,FALSE),\"\")","v":""},null,null,null,0]
[null,null,null,null,null,{"$f":"IFERROR(VLOOKUP(E547,Insumos!A:C,2,FALSE),\"\")","v":""},null,null,null,0]
[null,null,null,null,null,{"$f":"IFERROR(VLOOKUP(E548,Insumos!A:C,2,FALSE),\"\")","v":""},null,null,null,0]
[null,null,null,null,null,{"$f":"IFERROR(VLOOKUP(E549,Insumos!A:C,2,FALSE),\"\")","v":""},null,null,null,0]
[null,null,null,null,null,{"$f":"IFERROR(VLOOKUP(E550,Insumos!A:C,2,FALSE),\"\")","v":""},null,null,null,0]
[null,null,null,null,null,{"$f":"IFERROR(VLOOKUP(E551,Insumos!A:C,2,FALSE),\"\")","v":""},null,null,null,0]
[null,null,null,null,null,{"$f":"IFERROR(VLOOKUP(E552,Insumos!A:C,2,FALSE),\"\")","v":""},null,null,null,0]
[null,null,null,null,null,{"$f":"IFERROR(VLOOKUP(E553,Insumos!A:C,2,FALSE),\"\")","v":""},null,null,null,0]
[null,null,null,null,null,{"$f":"IFERROR(VLOOKUP(E554,Insumos!A:C,2,FALSE),\"\")","v":""},null,null,null,0]
[null,null,null,null,null,{"$f":"IFERROR(VLOOKUP(E555,Insumos!A:C,2,FALSE),\"\")","v":""},null,null,null,0]
[null,null,null,null,null,{"$f":"IFERROR(VLOOKUP(E556,Insumos!A:C,2,FALSE),\"\")","v":""},null,null,null,0]
[null,null,null,null,null,{"$f":"IFERROR(VLOOKUP(E557,Insumos!A:C,2,FALSE),\"\")","v":""},null,null,null,0]
[null,null,null,null,null,{"$f":"IFERROR(VLOOKUP(E558,Insumos!A:C,2,FALSE),\"\")","v":""},null,null,null,0]
[null,null,null,null,null,{"$f":"IFERROR(VLOOKUP(E559,Insumos!A:C,2,FALSE),\"\")","v":""},null,null,null,0]
[null,null,null,null,null,{"$f":"IFERROR(VLOOKUP(E560,Insumos!A:C,2,FALSE),\"\")","v":""},null,null,null,0]
[null,null,null,null,null,{"$f":"IFERROR(VLOOKUP(E561,Insumos!A:C,2,FALSE),\"\")","v":""},null,null,null,0]
[null,null,null,null,null,{"$f":"IFERROR(VLOOKUP(E562,Insumos!A:C,2,FALSE),\"\")","v":""},null,null,null,0]
[null,null,null,null,null,{"$f":"IFERROR(VLOOKUP(E563,Insumos!A:C,2,FALSE),\"\")","v":""},null,null,null,0]
[null,null,null,null,null,{"$f":"IFERROR(VLOOKUP(E564,Insumos!A:C,2,FALSE),\"\")","v":""},null,null,null,0]
[null,null,null,null,null,{"$f":"IFERROR(VLOOKUP(E565,Insumos!A:C,2,FALSE),\"\")","v":""},null,null,null,0]
[null,null,null,null,null,{"$f":"IFERROR(VLOOKUP(E566,Insumos!A:C,2,FALSE),\"\")","v":""},null,null,null,0]
[null,null,null,null,null,{"$f":"IFERROR(VLOOKUP(E567,Insumos!A:C,2,FALSE),\"\")","v":""},null,null,null,0]
[null,null,null,null,null,{"$f":"IFERROR(VLOOKUP(E568,Insumos!A:C,2,FALSE),\"\")","v":""},null,null,null,0]
[null,null,null,null,null,{"$f":"IFERROR(VLOOKUP(E569,Insumos!A:C,2,FALSE),\"\")","v":""},null,null,null,0]
[null,null,null,null,null,{"$f":"IFERROR(VLOOKUP(E570,Insumos!A:C,2,FALSE),\"\")","v":""},null,null,null,0]
[null,null,null,null,null,{"$f":"IFERROR(VLOOKUP(E571,Insumos!A:C,2,FALSE),\"\")","v":""},null,null,null,0]
[null,null,null,null,null,{"$f":"IFERROR(VLOOKUP(E572,Insumos!A:C,2,FALSE),\"\")","v":""},null,null,null,0]
[null,null,null,null,null,{"$f":"IFERROR(VLOOKUP(E573,Insumos!A:C,2,FALSE),\"\")","v":""},null,null,null,0]
[null,null,null,null,null,{"$f":"IFERROR(VLOOKUP(E574,Insumos!A:C,2,FALSE),\"\")","v":""},null,null,null,0]
[null,null,null,null,null,{"$f":"IFERROR(VLOOKUP(E575,Insumos!A:C,2,FALSE),\"\")","v":""},null,null,null,0]
[null,null,null,null,null,{"$f":"IFERROR(VLOOKUP(E576,Insumos!A:C,2,FALSE),\"\")","v":""},null,null,null,0]
[null,null,null,null,null,{"$f":"IFERROR(VLOOKUP(E577,Insumos!A:C,2,FALSE),\"\")","v":""},null,null,null,0]
[null,null,null,null,null,{"$f":"IFERROR(VLOOKUP(E578,Insumos!A:C,2,FALSE),\"\")","v":""},null,null,null,0]
[null,null,null,null,null,{"$f":"IFERROR(VLOOKUP(E579,Insumos!A:C,2,FALSE),\"\")","v":""},null,null,null,0]
[null,null,null,null,null,{"$f":"IFERROR(VLOOKUP(E580,Insumos!A:C,2,FALSE),\"\")","v":""},null,null,null,0]
[null,null,null,null,null,{"$f":"IFERROR(VLOOKUP(E581,Insumos!A:C,2,FALSE),\"\")","v":""},null,null,null,{"$f":"IFERROR(H581*I581,\"\")","v":0}]
[null,null,null,null,null,{"$f":"IFERROR(VLOOKUP(E582,Insumos!A:C,2,FALSE),\"\")","v":""},null,null,null,0]
[null,null,null,null,null,{"$f":"IFERROR(VLOOKUP(E583,Insumos!A:C,2,FALSE),\"\")","v":""},null,null,null,0]
[null,null,null,null,null,{"$f":"IFERROR(VLOOKUP(E584,Insumos!A:C,2,FALSE),\"\")","v":""},null,null,null,0]
[null,null,null,null,null,{"$f":"IFERROR(VLOOKUP(E585,Insumos!A:C,2,FALSE),\"\")","v":""},null,null,null,0]
[null,null,null,null,null,{"$f":"IFERROR(VLOOKUP(E586,Insumos!A:C,2,FALSE),\"\")","v":""},null,null,null,0]
[null,null,null,null,null,{"$f":"IFERROR(VLOOKUP(E587,Insumos!A:C,2,FALSE),\"\")","v":""},null,null,null,0]
[null,null,null,null,null,{"$f":"IFERROR(VLOOKUP(E588,Insumos!A:C,2,FALSE),\"\")","v":""},null,null,null,0]
[null,null,null,null,null,{"$f":"IFERROR(VLOOKUP(E589,Insumos!A:C,2,FALSE),\"\")","v":""},null,null,null,0]
[null,null,null,null,null,{"$f":"IFERROR(VLOOKUP(E590,Insumos!A:C,2,FALSE),\"\")","v":""},null,null,null,0]
[null,null,null,null,null,{"$f":"IFERROR(VLOOKUP(E591,Insumos!A:C,2,FALSE),\"\")","v":""},null,null,null,0]
[null,null,null,null,null,{"$f":"IFERROR(VLOOKUP(E592,Insumos!A:C,2,FALSE),\"\")","v":""},null,null,null,0]
[null,null,null,null,null,{"$f":"IFERROR(VLOOKUP(E593,Insumos!A:C,2,FALSE),\"\")","v":""},null,null,null,0]
[null,null,null,null,null,{"$f":"IFERROR(VLOOKUP(E594,Insumos!A:C,2,FALSE),\"\")","v":""},null,null,null,0]
[null,null,null,null,null,{"$f":"IFERROR(VLOOKUP(E595,Insumos!A:C,2,FALSE),\"\")","v":""},null,null,null,0]
[null,null,null,null,null,{"$f":"IFERROR(VLOOKUP(E596,Insumos!A:C,2,FALSE),\"\")","v":""},null,null,null,0]
[null,null,null,null,null,{"$f":"IFERROR(VLOOKUP(E597,Insumos!A:C,2,FALSE),\"\")","v":""},null,null,null,0]
[null,null,null,null,null,{"$f":"IFERROR(VLOOKUP(E598,Insumos!A:C,2,FALSE),\"\")","v":""},null,null,null,0]
[null,null,null,null,null,{"$f":"IFERROR(VLOOKUP(E599,Insumos!A:C,2,FALSE),\"\")","v":""},null,null,null,0]
[null,null,null,null,null,{"$f":"IFERROR(VLOOKUP(E600,Insumos!A:C,2,FALSE),\"\")","v":""},null,null,null,0]
[null,null,null,null,null,{"$f":"IFERROR(VLOOKUP(E601,Insumos!A:C,2,FALSE),\"\")","v":""},null,null,null,0]
[null,null,null,null,null,{"$f":"IFERROR(VLOOKUP(E602,Insumos!A:C,2,FALSE),\"\")","v":""},null,null,null,0]
[null,null,null,null,null,{"$f":"IFERROR(VLOOKUP(E603,Insumos!A:C,2,FALSE),\"\")","v":""},null,null,null,0]
[null,null,null,null,null,{"$f":"IFERROR(VLOOKUP(E604,Insumos!A:C,2,FALSE),\"\")","v":""},null,null,null,0]
[null,null,null,null,null,{"$f":"IFERROR(VLOOKUP(E605,Insumos!A:C,2,FALSE),\"\")","v":""},null,null,null,0]
[null,null,null,null,null,{"$f":"IFERROR(VLOOKUP(E606,Insumos!A:C,2,FALSE),\"\")","v":""},null,null,null,0]
[null,null,null,null,null,{"$f":"IFERROR(VLOOKUP(E607,Insumos!A:C,2,FALSE),\"\")","v":""},null,null,null,0]
[null,null,null,null,null,{"$f":"IFERROR(VLOOKUP(E608,Insumos!A:C,2,FALSE),\"\")","v":""},null,null,null,0]
[null,null,null,null,null,{"$f":"IFERROR(VLOOKUP(E609,Insumos!A:C,2,FALSE),\"\")","v":""},null,null,null,0]
[null,null,null,null,null,{"$f":"IFERROR(VLOOKUP(E610,Insumos!A:C,2,FALSE),\"\")","v":""},null,null,null,0]
[null,null,null,null,null,{"$f":"IFERROR(VLOOKUP(E611,Insumos!A:C,2,FALSE),\"\")","v":""},null,null,null,0]
[null,null,null,null,null,{"$f":"IFERROR(VLOOKUP(E612,Insumos!A:C,2,FALSE),\"\")","v":""},null,null,null,0]
[null,null,null,null,null,{"$f":"IFERROR(VLOOKUP(E613,Insumos!A:C,2,FALSE),\"\")","v":""},null,null,null,0]
[null,null,null,null,null,{"$f":"IFERROR(VLOOKUP(E614,Insumos!A:C,2,FALSE),\"\")","v":""},null,null,null,0]
[null,null,null,null,null,{"$f":"IFERROR(VLOOKUP(E615,Insumos!A:C,2,FALSE),\"\")","v":""},null,null,null,0]
[null,null,null,null,null,{"$f":"IFERROR(VLOOKUP(E616,Insumos!A:C,2,FALSE),\"\")","v":""},null,null,null,0]
[null,null,null,null,null,{"$f":"IFERROR(VLOOKUP(E617,Insumos!A:C,2,FALSE),\"\")","v":""},null,null,null,0]
[null,null,null,null,null,{"$f":"IFERROR(VLOOKUP(E618,Insumos!A:C,2,FALSE),\"\")","v":""},null,null,null,0]
[null,null,null,null,null,{"$f":"IFERROR(VLOOKUP(E619,Insumos!A:C,2,FALSE),\"\")","v":""},null,null,null,0]
[null,null,null,null,null,{"$f":"IFERROR(VLOOKUP(E620,Insumos!A:C,2,FALSE),\"\")","v":""},null,null,null,0]
[null,null,null,null,null,{"$f":"IFERROR(VLOOKUP(E621,Insumos!A:C,2,FALSE),\"\")","v":""},null,null,null,0]
[null,null,null,null,null,{"$f":"IFERROR(VLOOKUP(E622,Insumos!A:C,2,FALSE),\"\")","v":""},null,null,null,0]
[null,null,null,null,null,{"$f":"IFERROR(VLOOKUP(E623,Insumos!A:C,2,FALSE),\"\")","v":""},null,null,null,0]
[null,null,null,null,null,{"$f":"IFERROR(VLOOKUP(E624,Insumos!A:C,2,FALSE),\"\")","v":""},null,null,null,0]
[null,null,null,null,null,{"$f":"IFERROR(VLOOKUP(E625,Insumos!A:C,2,FALSE),\"\")","v":""},null,null,null,0]
[null,null,null,null,null,{"$f":"IFERROR(VLOOKUP(E626,Insumos!A:C,2,FALSE),\"\")","v":""},null,null,null,0]
[null,null,null,null,null,{"$f":"IFERROR(VLOOKUP(E627,Insumos!A:C,2,FALSE),\"\")","v":""},null,null,null,0]
[null,null,null,null,null,{"$f":"IFERROR(VLOOKUP(E628,Insumos!A:C,2,FALSE),\"\")","v":""},null,null,null,0]
[null,null,null,null,null,{"$f":"IFERROR(VLOOKUP(E629,Insumos!A:C,2,FALSE),\"\")","v":""},null,null,null,0]
[null,null,null,null,null,{"$f":"IFERROR(VLOOKUP(E630,Insumos!A:C,2,FALSE),\"\")","v":""},null,null,null,0]
[null,null,null,null,null,{"$f":"IFERROR(VLOOKUP(E631,Insumos!A:C,2,FALSE),\"\")","v":""},null,null,null,0]
[null,null,null,null,null,{"$f":"IFERROR(VLOOKUP(E632,Insumos!A:C,2,FALSE),\"\")","v":""},null,null,null,0]
[null,null,null,null,null,{"$f":"IFERROR(VLOOKUP(E633,Insumos!A:C,2,FALSE),\"\")","v":""},null,null,null,0]
[null,null,null,null,null,{"$f":"IFERROR(VLOOKUP(E634,Insumos!A:C,2,FALSE),\"\")","v":""},null,null,null,0]
[null,null,null,null,null,{"$f":"IFERROR(VLOOKUP(E635,Insumos!A:C,2,FALSE),\"\")","v":""},null,null,null,0]
[null,null,null,null,null,{"$f":"IFERROR(VLOOKUP(E636,Insumos!A:C,2,FALSE),\"\")","v":""},null,null,null,0]
[null,null,null,null,null,{"$f":"IFERROR(VLOOKUP(E637,Insumos!A:C,2,FALSE),\"\")","v":""},null,null,null,0]
[null,null,null,null,null,{"$f":"IFERROR(VLOOKUP(E638,Insumos!A:C,2,FALSE),\"\")","v":""},null,null,null,0]
[null,null,null,null,null,{"$f":"IFERROR(VLOOKUP(E639,Insumos!A:C,2,FALSE),\"\")","v":""},null,null,null,0]
[null,null,null,null,null,{"$f":"IFERROR(VLOOKUP(E640,Insumos!A:C,2,FALSE),\"\")","v":""},null,null,null,0]
[null,null,null,null,null,{"$f":"IFERROR(VLOOKUP(E641,Insumos!A:C,2,FALSE),\"\")","v":""},null,null,null,0]
[null,null,null,null,null,{"$f":"IFERROR(VLOOKUP(E642,Insumos!A:C,2,FALSE),\"\")","v":""},null,null,null,0]
[null,null,null,null,null,{"$f":"IFERROR(VLOOKUP(E643,Insumos!A:C,2,FALSE),\"\")","v":""},null,null,null,0]
[null,null,null,null,null,{"$f":"IFERROR(VLOOKUP(E644,Insumos!A:C,2,FALSE),\"\")","v":""},null,null,null,0]
[null,null,null,null,null,{"$f":"IFERROR(VLOOKUP(E645,Insumos!A:C,2,FALSE),\"\")","v":""},null,null,null,{"$f":"IFERROR(H645*I645,\"\")","v":0}]
[null,null,null,null,null,{"$f":"IFERROR(VLOOKUP(E646,Insumos!A:C,2,FALSE),\"\")","v":""},null,null,null,0]
[null,null,null,null,null,{"$f":"IFERROR(VLOOKUP(E647,Insumos!A:C,2,FALSE),\"\")","v":""},null,null,null,0]
[null,null,null,null,null,{"$f":"IFERROR(VLOOKUP(E648,Insumos!A:C,2,FALSE),\"\")","v":""},null,null,null,0]
[null,null,null,null,null,{"$f":"IFERROR(VLOOKUP(E649,Insumos!A:C,2,FALSE),\"\")","v":""},null,null,null,0]
[null,null,null,null,null,{"$f":"IFERROR(VLOOKUP(E650,Insumos!A:C,2,FALSE),\"\")","v":""},null,null,null,0]
[null,null,null,null,null,{"$f":"IFERROR(VLOOKUP(E651,Insumos!A:C,2,FALSE),\"\")","v":""},null,null,null,0]
[null,null,null,null,null,{"$f":"IFERROR(VLOOKUP(E652,Insumos!A:C,2,FALSE),\"\")","v":""},null,null,null,0]
[null,null,null,null,null,{"$f":"IFERROR(VLOOKUP(E653,Insumos!A:C,2,FALSE),\"\")","v":""},null,null,null,0]
[null,null,null,null,null,{"$f":"IFERROR(VLOOKUP(E654,Insumos!A:C,2,FALSE),\"\")","v":""},null,null,null,0]
[null,null,null,null,null,{"$f":"IFERROR(VLOOKUP(E655,Insumos!A:C,2,FALSE),\"\")","v":""},null,null,null,0]
[null,null,null,null,null,{"$f":"IFERROR(VLOOKUP(E656,Insumos!A:C,2,FALSE),\"\")","v":""},null,null,null,0]
[null,null,null,null,null,{"$f":"IFERROR(VLOOKUP(E657,Insumos!A:C,2,FALSE),\"\")","v":""},null,null,null,0]
[null,null,null,null,null,{"$f":"IFERROR(VLOOKUP(E658,Insumos!A:C,2,FALSE),\"\")","v":""},null,null,null,0]
[null,null,null,null,null,{"$f":"IFERROR(VLOOKUP(E659,Insumos!A:C,2,FALSE),\"\")","v":""},null,null,null,0]
[null,null,null,null,null,{"$f":"IFERROR(VLOOKUP(E660,Insumos!A:C,2,FALSE),\"\")","v":""},null,null,null,0]
[null,null,null,null,null,{"$f":"IFERROR(VLOOKUP(E661,Insumos!A:C,2,FALSE),\"\")","v":""},null,null,null,0]
[null,null,null,null,null,{"$f":"IFERROR(VLOOKUP(E662,Insumos!A:C,2,FALSE),\"\")","v":""},null,null,null,0]
[null,null,null,null,null,{"$f":"IFERROR(VLOOKUP(E663,Insumos!A:C,2,FALSE),\"\")","v":""},null,null,null,0]
[null,null,null,null,null,{"$f":"IFERROR(VLOOKUP(E664,Insumos!A:C,2,FALSE),\"\")","v":""},null,null,null,0]
[null,null,null,null,null,{"$f":"IFERROR(VLOOKUP(E665,Insumos!A:C,2,FALSE),\"\")","v":""},null,null,null,0]
[null,null,null,null,null,{"$f":"IFERROR(VLOOKUP(E666,Insumos!A:C,2,FALSE),\"\")","v":""},null,null,null,0]
[null,null,null,null,null,{"$f":"IFERROR(VLOOKUP(E667,Insumos!A:C,2,FALSE),\"\")","v":""},null,null,null,0]
[null,null,null,null,null,{"$f":"IFERROR(VLOOKUP(E668,Insumos!A:C,2,FALSE),\"\")","v":""},null,null,null,0]
[null,null,null,null,null,{"$f":"IFERROR(VLOOKUP(E669,Insumos!A:C,2,FALSE),\"\")","v":""},null,null,null,0]
[null,null,null,null,null,{"$f":"IFERROR(VLOOKUP(E670,Insumos!A:C,2,FALSE),\"\")","v":""},null,null,null,0]
[null,null,null,null,null,{"$f":"IFERROR(VLOOKUP(E671,Insumos!A:C,2,FALSE),\"\")","v":""},null,null,null,0]
[null,null,null,null,null,{"$f":"IFERROR(VLOOKUP(E672,Insumos!A:C,2,FALSE),\"\")","v":""},null,null,null,0]
[null,null,null,null,null,{"$f":"IFERROR(VLOOKUP(E673,Insumos!A:C,2,FALSE),\"\")","v":""},null,null,null,0]
[null,null,null,null,null,{"$f":"IFERROR(VLOOKUP(E674,Insumos!A:C,2,FALSE),\"\")","v":""},null,null,null,0]
[null,null,null,null,null,{"$f":"IFERROR(VLOOKUP(E675,Insumos!A:C,2,FALSE),\"\")","v":""},null,null,null,0]
[null,null,null,null,null,{"$f":"IFERROR(VLOOKUP(E676,Insumos!A:C,2,FALSE),\"\")","v":""},null,null,null,0]
[null,null,null,null,null,{"$f":"IFERROR(VLOOKUP(E677,Insumos!A:C,2,FALSE),\"\")","v":""},null,null,null,0]
[null,null,null,null,null,{"$f":"IFERROR(VLOOKUP(E678,Insumos!A:C,2,FALSE),\"\")","v":""},null,null,null,0]
[null,null,null,null,null,{"$f":"IFERROR(VLOOKUP(E679,Insumos!A:C,2,FALSE),\"\")","v":""},null,null,null,0]
[null,null,null,null,null,{"$f":"IFERROR(VLOOKUP(E680,Insumos!A:C,2,FALSE),\"\")","v":""},null,null,null,0]
[null,null,null,null,null,{"$f":"IFERROR(VLOOKUP(E681,Insumos!A:C,2,FALSE),\"\")","v":""},null,null,null,0]
[null,null,null,null,null,{"$f":"IFERROR(VLOOKUP(E682,Insumos!A:C,2,FALSE),\"\")","v":""},null,null,null,0]
[null,null,null,null,null,{"$f":"IFERROR(VLOOKUP(E683,Insumos!A:C,2,FALSE),\"\")","v":""},null,null,null,0]
[null,null,null,null,null,{"$f":"IFERROR(VLOOKUP(E684,Insumos!A:C,2,FALSE),\"\")","v":""},null,null,null,0]
[null,null,null,null,null,{"$f":"IFERROR(VLOOKUP(E685,Insumos!A:C,2,FALSE),\"\")","v":""},null,null,null,0]
[null,null,null,null,null,{"$f":"IFERROR(VLOOKUP(E686,Insumos!A:C,2,FALSE),\"\")","v":""},null,null,null,0]
[null,null,null,null,null,{"$f":"IFERROR(VLOOKUP(E687,Insumos!A:C,2,FALSE),\"\")","v":""},null,null,null,0]
[null,null,null,null,null,{"$f":"IFERROR(VLOOKUP(E688,Insumos!A:C,2,FALSE),\"\")","v":""},null,null,null,0]
[null,null,null,null,null,{"$f":"IFERROR(VLOOKUP(E689,Insumos!A:C,2,FALSE),\"\")","v":""},null,null,null,0]
[null,null,null,null,null,{"$f":"IFERROR(VLOOKUP(E690,Insumos!A:C,2,FALSE),\"\")","v":""},null,null,null,0]
[null,null,null,null,null,{"$f":"IFERROR(VLOOKUP(E691,Insumos!A:C,2,FALSE),\"\")","v":""},null,null,null,0]
[null,null,null,null,null,{"$f":"IFERROR(VLOOKUP(E692,Insumos!A:C,2,FALSE),\"\")","v":""},null,null,null,0]
[null,null,null,null,null,{"$f":"IFERROR(VLOOKUP(E693,Insumos!A:C,2,FALSE),\"\")","v":""},null,null,null,0]
[null,null,null,null,null,{"$f":"IFERROR(VLOOKUP(E694,Insumos!A:C,2,FALSE),\"\")","v":""},null,null,null,0]
[null,null,null,null,null,{"$f":"IFERROR(VLOOKUP(E695,Insumos!A:C,2,FALSE),\"\")","v":""},null,null,null,0]
[null,null,null,null,null,{"$f":"IFERROR(VLOOKUP(E696,Insumos!A:C,2,FALSE),\"\")","v":""},null,null,null,0]
[null,null,null,null,null,{"$f":"IFERROR(VLOOKUP(E697,Insumos!A:C,2,FALSE),\"\")","v":""},null,null,null,0]
[null,null,null,null,null,{"$f":"IFERROR(VLOOKUP(E698,Insumos!A:C,2,FALSE),\"\")","v":""},null,null,null,0]
[null,null,null,null,null,{"$f":"IFERROR(VLOOKUP(E699,Insumos!A:C,2,FALSE),\"\")","v":""},null,null,null,0]
[null,null,null,null,null,{"$f":"IFERROR(VLOOKUP(E700,Insumos!A:C,2,FALSE),\"\")","v":""},null,null,null,0]
[null,null,null,null,null,{"$f":"IFERROR(VLOOKUP(E701,Insumos!A:C,2,FALSE),\"\")","v":""},null,null,null,0]
[null,null,null,null,null,{"$f":"IFERROR(VLOOKUP(E702,Insumos!A:C,2,FALSE),\"\")","v":""},null,null,null,0]
[null,null,null,null,null,{"$f":"IFERROR(VLOOKUP(E703,Insumos!A:C,2,FALSE),\"\")","v":""},null,null,null,0]
[null,null,null,null,null,{"$f":"IFERROR(VLOOKUP(E704,Insumos!A:C,2,FALSE),\"\")","v":""},null,null,null,0]
[null,null,null,null,null,{"$f":"IFERROR(VLOOKUP(E705,Insumos!A:C,2,FALSE),\"\")","v":""},null,null,null,0]
[null,null,null,null,null,{"$f":"IFERROR(VLOOKUP(E706,Insumos!A:C,2,FALSE),\"\")","v":""},null,null,null,0]
[null,null,null,null,null,{"$f":"IFERROR(VLOOKUP(E707,Insumos!A:C,2,FALSE),\"\")","v":""},null,null,null,0]
[null,null,null,null,null,{"$f":"IFERROR(VLOOKUP(E708,Insumos!A:C,2,FALSE),\"\")","v":""},null,null,null,0]
[null,null,null,null,null,{"$f":"IFERROR(VLOOKUP(E709,Insumos!A:C,2,FALSE),\"\")","v":""},null,null,null,{"$f":"IFERROR(H709*I709,\"\")","v":0}]
[null,null,null,null,null,{"$f":"IFERROR(VLOOKUP(E710,Insumos!A:C,2,FALSE),\"\")","v":""},null,null,null,0]
[null,null,null,null,null,{"$f":"IFERROR(VLOOKUP(E711,Insumos!A:C,2,FALSE),\"\")","v":""},null,null,null,0]
[null,null,null,null,null,{"$f":"IFERROR(VLOOKUP(E712,Insumos!A:C,2,FALSE),\"\")","v":""},null,null,null,0]
[null,null,null,null,null,{"$f":"IFERROR(VLOOKUP(E713,Insumos!A:C,2,FALSE),\"\")","v":""},null,null,null,0]
[null,null,null,null,null,{"$f":"IFERROR(VLOOKUP(E714,Insumos!A:C,2,FALSE),\"\")","v":""},null,null,null,0]
[null,null,null,null,null,{"$f":"IFERROR(VLOOKUP(E715,Insumos!A:C,2,FALSE),\"\")","v":""},null,null,null,0]
[null,null,null,null,null,{"$f":"IFERROR(VLOOKUP(E716,Insumos!A:C,2,FALSE),\"\")","v":""},null,null,null,0]
[null,null,null,null,null,{"$f":"IFERROR(VLOOKUP(E717,Insumos!A:C,2,FALSE),\"\")","v":""},null,null,null,0]
[null,null,null,null,null,{"$f":"IFERROR(VLOOKUP(E718,Insumos!A:C,2,FALSE),\"\")","v":""},null,null,null,0]
[null,null,null,null,null,{"$f":"IFERROR(VLOOKUP(E719,Insumos!A:C,2,FALSE),\"\")","v":""},null,null,null,0]
[null,null,null,null,null,{"$f":"IFERROR(VLOOKUP(E720,Insumos!A:C,2,FALSE),\"\")","v":""},null,null,null,0]
[null,null,null,null,null,{"$f":"IFERROR(VLOOKUP(E721,Insumos!A:C,2,FALSE),\"\")","v":""},null,null,null,0]
[null,null,null,null,null,{"$f":"IFERROR(VLOOKUP(E722,Insumos!A:C,2,FALSE),\"\")","v":""},null,null,null,0]
[null,null,null,null,null,{"$f":"IFERROR(VLOOKUP(E723,Insumos!A:C,2,FALSE),\"\")","v":""},null,null,null,0]
[null,null,null,null,null,{"$f":"IFERROR(VLOOKUP(E724,Insumos!A:C,2,FALSE),\"\")","v":""},null,null,null,0]
[null,null,null,null,null,{"$f":"IFERROR(VLOOKUP(E725,Insumos!A:C,2,FALSE),\"\")","v":""},null,null,null,0]
[null,null,null,null,null,{"$f":"IFERROR(VLOOKUP(E726,Insumos!A:C,2,FALSE),\"\")","v":""},null,null,null,0]
[null,null,null,null,null,{"$f":"IFERROR(VLOOKUP(E727,Insumos!A:C,2,FALSE),\"\")","v":""},null,null,null,0]
[null,null,null,null,null,{"$f":"IFERROR(VLOOKUP(E728,Insumos!A:C,2,FALSE),\"\")","v":""},null,null,null,0]
[null,null,null,null,null,{"$f":"IFERROR(VLOOKUP(E729,Insumos!A:C,2,FALSE),\"\")","v":""},null,null,null,0]
[null,null,null,null,null,{"$f":"IFERROR(VLOOKUP(E730,Insumos!A:C,2,FALSE),\"\")","v":""},null,null,null,0]
[null,null,null,null,null,{"$f":"IFERROR(VLOOKUP(E731,Insumos!A:C,2,FALSE),\"\")","v":""},null,null,null,0]
[null,null,null,null,null,{"$f":"IFERROR(VLOOKUP(E732,Insumos!A:C,2,FALSE),\"\")","v":""},null,null,null,0]
[null,null,null,null,null,{"$f":"IFERROR(VLOOKUP(E733,Insumos!A:C,2,FALSE),\"\")","v":""},null,null,null,0]
[null,null,null,null,null,{"$f":"IFERROR(VLOOKUP(E734,Insumos!A:C,2,FALSE),\"\")","v":""},null,null,null,0]
[null,null,null,null,null,{"$f":"IFERROR(VLOOKUP(E735,Insumos!A:C,2,FALSE),\"\")","v":""},null,null,null,0]
[null,null,null,null,null,{"$f":"IFERROR(VLOOKUP(E736,Insumos!A:C,2,FALSE),\"\")","v":""},null,null,null,0]
[null,null,null,null,null,{"$f":"IFERROR(VLOOKUP(E737,Insumos!A:C,2,FALSE),\"\")","v":""},null,null,null,0]
[null,null,null,null,null,{"$f":"IFERROR(VLOOKUP(E738,Insumos!A:C,2,FALSE),\"\")","v":""},null,null,null,0]
[null,null,null,null,null,{"$f":"IFERROR(VLOOKUP(E739,Insumos!A:C,2,FALSE),\"\")","v":""},null,null,null,0]
[null,null,null,null,null,{"$f":"IFERROR(VLOOKUP(E740,Insumos!A:C,2,FALSE),\"\")","v":""},null,null,null,0]
[null,null,null,null,null,{"$f":"IFERROR(VLOOKUP(E741,Insumos!A:C,2,FALSE),\"\")","v":""},null,null,null,0]
[null,null,null,null,null,{"$f":"IFERROR(VLOOKUP(E742,Insumos!A:C,2,FALSE),\"\")","v":""},null,null,null,0]
[null,null,null,null,null,{"$f":"IFERROR(VLOOKUP(E743,Insumos!A:C,2,FALSE),\"\")","v":""},null,null,null,0]
[null,null,null,null,null,{"$f":"IFERROR(VLOOKUP(E744,Insumos!A:C,2,FALSE),\"\")","v":""},null,null,null,0]
[null,null,null,null,null,{"$f":"IFERROR(VLOOKUP(E745,Insumos!A:C,2,FALSE),\"\")","v":""},null,null,null,0]
[null,null,null,null,null,{"$f":"IFERROR(VLOOKUP(E746,Insumos!A:C,2,FALSE),\"\")","v":""},null,null,null,0]
[null,null,null,null,null,{"$f":"IFERROR(VLOOKUP(E747,Insumos!A:C,2,FALSE),\"\")","v":""},null,null,null,0]
[null,null,null,null,null,{"$f":"IFERROR(VLOOKUP(E748,Insumos!A:C,2,FALSE),\"\")","v":""},null,null,null,0]
[null,null,null,null,null,{"$f":"IFERROR(VLOOKUP(E749,Insumos!A:C,2,FALSE),\"\")","v":""},null,null,null,0]
[null,null,null,null,null,{"$f":"IFERROR(VLOOKUP(E750,Insumos!A:C,2,FALSE),\"\")","v":""},null,null,null,0]
[null,null,null,null,null,{"$f":"IFERROR(VLOOKUP(E751,Insumos!A:C,2,FALSE),\"\")","v":""},null,null,null,0]
[null,null,null,null,null,{"$f":"IFERROR(VLOOKUP(E752,Insumos!A:C,2,FALSE),\"\")","v":""},null,null,null,0]
[null,null,null,null,null,{"$f":"IFERROR(VLOOKUP(E753,Insumos!A:C,2,FALSE),\"\")","v":""},null,null,null,0]
[null,null,null,null,null,{"$f":"IFERROR(VLOOKUP(E754,Insumos!A:C,2,FALSE),\"\")","v":""},null,null,null,0]
[null,null,null,null,null,{"$f":"IFERROR(VLOOKUP(E755,Insumos!A:C,2,FALSE),\"\")","v":""},null,null,null,0]
[null,null,null,null,null,{"$f":"IFERROR(VLOOKUP(E756,Insumos!A:C,2,FALSE),\"\")","v":""},null,null,null,0]
[null,null,null,null,null,{"$f":"IFERROR(VLOOKUP(E757,Insumos!A:C,2,FALSE),\"\")","v":""},null,null,null,0]
[null,null,null,null,null,{"$f":"IFERROR(VLOOKUP(E758,Insumos!A:C,2,FALSE),\"\")","v":""},null,null,null,0]
[null,null,null,null,null,{"$f":"IFERROR(VLOOKUP(E759,Insumos!A:C,2,FALSE),\"\")","v":""},null,null,null,0]
[null,null,null,null,null,{"$f":"IFERROR(VLOOKUP(E760,Insumos!A:C,2,FALSE),\"\")","v":""},null,null,null,0]
[null,null,null,null,null,{"$f":"IFERROR(VLOOKUP(E761,Insumos!A:C,2,FALSE),\"\")","v":""},null,null,null,0]
[null,null,null,null,null,{"$f":"IFERROR(VLOOKUP(E762,Insumos!A:C,2,FALSE),\"\")","v":""},null,null,null,0]
[null,null,null,null,null,{"$f":"IFERROR(VLOOKUP(E763,Insumos!A:C,2,FALSE),\"\")","v":""},null,null,null,0]
[null,null,null,null,null,{"$f":"IFERROR(VLOOKUP(E764,Insumos!A:C,2,FALSE),\"\")","v":""},null,null,null,0]
[null,null,null,null,null,{"$f":"IFERROR(VLOOKUP(E765,Insumos!A:C,2,FALSE),\"\")","v":""},null,null,null,0]
[null,null,null,null,null,{"$f":"IFERROR(VLOOKUP(E766,Insumos!A:C,2,FALSE),\"\")","v":""},null,null,null,0]
[null,null,null,null,null,{"$f":"IFERROR(VLOOKUP(E767,Insumos!A:C,2,FALSE),\"\")","v":""},null,null,null,0]
[null,null,null,null,null,{"$f":"IFERROR(VLOOKUP(E768,Insumos!A:C,2,FALSE),\"\")","v":""},null,null,null,0]
[null,null,null,null,null,{"$f":"IFERROR(VLOOKUP(E769,Insumos!A:C,2,FALSE),\"\")","v":""},null,null,null,0]
[null,null,null,null,null,{"$f":"IFERROR(VLOOKUP(E770,Insumos!A:C,2,FALSE),\"\")","v":""},null,null,null,0]
[null,null,null,null,null,{"$f":"IFERROR(VLOOKUP(E771,Insumos!A:C,2,FALSE),\"\")","v":""},null,null,null,0]
[null,null,null,null,null,{"$f":"IFERROR(VLOOKUP(E772,Insumos!A:C,2,FALSE),\"\")","v":""},null,null,null,0]
[null,null,null,null,null,{"$f":"IFERROR(VLOOKUP(E773,Insumos!A:C,2,FALSE),\"\")","v":""},null,null,null,{"$f":"IFERROR(H773*I773,\"\")","v":0}]
[null,null,null,null,null,{"$f":"IFERROR(VLOOKUP(E774,Insumos!A:C,2,FALSE),\"\")","v":""},null,null,null,0]
[null,null,null,null,null,{"$f":"IFERROR(VLOOKUP(E775,Insumos!A:C,2,FALSE),\"\")","v":""},null,null,null,0]
[null,null,null,null,null,{"$f":"IFERROR(VLOOKUP(E776,Insumos!A:C,2,FALSE),\"\")","v":""},null,null,null,0]
[null,null,null,null,null,{"$f":"IFERROR(VLOOKUP(E777,Insumos!A:C,2,FALSE),\"\")","v":""},null,null,null,0]
[null,null,null,null,null,{"$f":"IFERROR(VLOOKUP(E778,Insumos!A:C,2,FALSE),\"\")","v":""},null,null,null,0]
[null,null,null,null,null,{"$f":"IFERROR(VLOOKUP(E779,Insumos!A:C,2,FALSE),\"\")","v":""},null,null,null,0]
[null,null,null,null,null,{"$f":"IFERROR(VLOOKUP(E780,Insumos!A:C,2,FALSE),\"\")","v":""},null,null,null,0]
[null,null,null,null,null,{"$f":"IFERROR(VLOOKUP(E781,Insumos!A:C,2,FALSE),\"\")","v":""},null,null,null,0]
[null,null,null,null,null,{"$f":"IFERROR(VLOOKUP(E782,Insumos!A:C,2,FALSE),\"\")","v":""},null,null,null,0]
[null,null,null,null,null,{"$f":"IFERROR(VLOOKUP(E783,Insumos!A:C,2,FALSE),\"\")","v":""},null,null,null,0]
[null,null,null,null,null,{"$f":"IFERROR(VLOOKUP(E784,Insumos!A:C,2,FALSE),\"\")","v":""},null,null,null,0]
[null,null,null,null,null,{"$f":"IFERROR(VLOOKUP(E785,Insumos!A:C,2,FALSE),\"\")","v":""},null,null,null,0]
[null,null,null,null,null,{"$f":"IFERROR(VLOOKUP(E786,Insumos!A:C,2,FALSE),\"\")","v":""},null,null,null,0]
[null,null,null,null,null,{"$f":"IFERROR(VLOOKUP(E787,Insumos!A:C,2,FALSE),\"\")","v":""},null,null,null,0]
[null,null,null,null,null,{"$f":"IFERROR(VLOOKUP(E788,Insumos!A:C,2,FALSE),\"\")","v":""},null,null,null,0]
[null,null,null,null,null,{"$f":"IFERROR(VLOOKUP(E789,Insumos!A:C,2,FALSE),\"\")","v":""},null,null,null,0]
[null,null,null,null,null,{"$f":"IFERROR(VLOOKUP(E790,Insumos!A:C,2,FALSE),\"\")","v":""},null,null,null,0]
[null,null,null,null,null,{"$f":"IFERROR(VLOOKUP(E791,Insumos!A:C,2,FALSE),\"\")","v":""},null,null,null,0]
[null,null,null,null,null,{"$f":"IFERROR(VLOOKUP(E792,Insumos!A:C,2,FALSE),\"\")","v":""},null,null,null,0]
[null,null,null,null,null,{"$f":"IFERROR(VLOOKUP(E793,Insumos!A:C,2,FALSE),\"\")","v":""},null,null,null,0]
[null,null,null,null,null,{"$f":"IFERROR(VLOOKUP(E794,Insumos!A:C,2,FALSE),\"\")","v":""},null,null,null,0]
[null,null,null,null,null,{"$f":"IFERROR(VLOOKUP(E795,Insumos!A:C,2,FALSE),\"\")","v":""},null,null,null,0]
[null,null,null,null,null,{"$f":"IFERROR(VLOOKUP(E796,Insumos!A:C,2,FALSE),\"\")","v":""},null,null,null,0]
[null,null,null,null,null,{"$f":"IFERROR(VLOOKUP(E797,Insumos!A:C,2,FALSE),\"\")","v":""},null,null,null,0]
[null,null,null,null,null,{"$f":"IFERROR(VLOOKUP(E798,Insumos!A:C,2,FALSE),\"\")","v":""},null,null,null,0]
[null,null,null,null,null,{"$f":"IFERROR(VLOOKUP(E799,Insumos!A:C,2,FALSE),\"\")","v":""},null,null,null,0]
[null,null,null,null,null,{"$f":"IFERROR(VLOOKUP(E800,Insumos!A:C,2,FALSE),\"\")","v":""},null,null,null,0]
[null,null,null,null,null,{"$f":"IFERROR(VLOOKUP(E801,Insumos!A:C,2,FALSE),\"\")","v":""},null,null,null,0]
[null,null,null,null,null,{"$f":"IFERROR(VLOOKUP(E802,Insumos!A:C,2,FALSE),\"\")","v":""},null,null,null,0]
[null,null,null,null,null,{"$f":"IFERROR(VLOOKUP(E803,Insumos!A:C,2,FALSE),\"\")","v":""},null,null,null,0]
[null,null,null,null,null,{"$f":"IFERROR(VLOOKUP(E804,Insumos!A:C,2,FALSE),\"\")","v":""},null,null,null,0]
[null,null,null,null,null,{"$f":"IFERROR(VLOOKUP(E805,Insumos!A:C,2,FALSE),\"\")","v":""},null,null,null,0]
[null,null,null,null,null,{"$f":"IFERROR(VLOOKUP(E806,Insumos!A:C,2,FALSE),\"\")","v":""},null,null,null,0]
[null,null,null,null,null,{"$f":"IFERROR(VLOOKUP(E807,Insumos!A:C,2,FALSE),\"\")","v":""},null,null,null,0]
[null,null,null,null,null,{"$f":"IFERROR(VLOOKUP(E808,Insumos!A:C,2,FALSE),\"\")","v":""},null,null,null,0]
[null,null,null,null,null,{"$f":"IFERROR(VLOOKUP(E809,Insumos!A:C,2,FALSE),\"\")","v":""},null,null,null,0]
[null,null,null,null,null,{"$f":"IFERROR(VLOOKUP(E810,Insumos!A:C,2,FALSE),\"\")","v":""},null,null,null,0]
[null,null,null,null,null,{"$f":"IFERROR(VLOOKUP(E811,Insumos!A:C,2,FALSE),\"\")","v":""},null,null,null,0]
[null,null,null,null,null,{"$f":"IFERROR(VLOOKUP(E812,Insumos!A:C,2,FALSE),\"\")","v":""},null,null,null,0]
[null,null,null,null,null,{"$f":"IFERROR(VLOOKUP(E813,Insumos!A:C,2,FALSE),\"\")","v":""},null,null,null,0]
[null,null,null,null,null,{"$f":"IFERROR(VLOOKUP(E814,Insumos!A:C,2,FALSE),\"\")","v":""},null,null,null,0]
[null,null,null,null,null,{"$f":"IFERROR(VLOOKUP(E815,Insumos!A:C,2,FALSE),\"\")","v":""},null,null,null,0]
[null,null,null,null,null,{"$f":"IFERROR(VLOOKUP(E816,Insumos!A:C,2,FALSE),\"\")","v":""},null,null,null,0]
[null,null,null,null,null,{"$f":"IFERROR(VLOOKUP(E817,Insumos!A:C,2,FALSE),\"\")","v":""},null,null,null,0]
[null,null,null,null,null,{"$f":"IFERROR(VLOOKUP(E818,Insumos!A:C,2,FALSE),\"\")","v":""},null,null,null,0]
[null,null,null,null,null,{"$f":"IFERROR(VLOOKUP(E819,Insumos!A:C,2,FALSE),\"\")","v":""},null,null,null,0]
[null,null,null,null,null,{"$f":"IFERROR(VLOOKUP(E820,Insumos!A:C,2,FALSE),\"\")","v":""},null,null,null,0]
[null,null,null,null,null,{"$f":"IFERROR(VLOOKUP(E821,Insumos!A:C,2,FALSE),\"\")","v":""},null,null,null,0]
[null,null,null,null,null,{"$f":"IFERROR(VLOOKUP(E822,Insumos!A:C,2,FALSE),\"\")","v":""},null,null,null,0]
[null,null,null,null,null,{"$f":"IFERROR(VLOOKUP(E823,Insumos!A:C,2,FALSE),\"\")","v":""},null,null,null,0]
[null,null,null,null,null,{"$f":"IFERROR(VLOOKUP(E824,Insumos!A:C,2,FALSE),\"\")","v":""},null,null,null,0]
[null,null,null,null,null,{"$f":"IFERROR(VLOOKUP(E825,Insumos!A:C,2,FALSE),\"\")","v":""},null,null,null,0]
[null,null,null,null,null,{"$f":"IFERROR(VLOOKUP(E826,Insumos!A:C,2,FALSE),\"\")","v":""},null,null,null,0]
[null,null,null,null,null,{"$f":"IFERROR(VLOOKUP(E827,Insumos!A:C,2,FALSE),\"\")","v":""},null,null,null,0]
[null,null,null,null,null,{"$f":"IFERROR(VLOOKUP(E828,Insumos!A:C,2,FALSE),\"\")","v":""},null,null,null,0]
[null,null,null,null,null,{"$f":"IFERROR(VLOOKUP(E829,Insumos!A:C,2,FALSE),\"\")","v":""},null,null,null,0]
[null,null,null,null,null,{"$f":"IFERROR(VLOOKUP(E830,Insumos!A:C,2,FALSE),\"\")","v":""},null,null,null,0]
[null,null,null,null,null,{"$f":"IFERROR(VLOOKUP(E831,Insumos!A:C,2,FALSE),\"\")","v":""},null,null,null,0]
[null,null,null,null,null,{"$f":"IFERROR(VLOOKUP(E832,Insumos!A:C,2,FALSE),\"\")","v":""},null,null,null,0]
[null,null,null,null,null,{"$f":"IFERROR(VLOOKUP(E833,Insumos!A:C,2,FALSE),\"\")","v":""},null,null,null,0]
[null,null,null,null,null,{"$f":"IFERROR(VLOOKUP(E834,Insumos!A:C,2,FALSE),\"\")","v":""},null,null,null,0]
[null,null,null,null,null,{"$f":"IFERROR(VLOOKUP(E835,Insumos!A:C,2,FALSE),\"\")","v":""},null,null,null,0]
[null,null,null,null,null,{"$f":"IFERROR(VLOOKUP(E836,Insumos!A:C,2,FALSE),\"\")","v":""},null,null,null,0]
[null,null,null,null,null,{"$f":"IFERROR(VLOOKUP(E837,Insumos!A:C,2,FALSE),\"\")","v":""},null,null,null,{"$f":"IFERROR(H837*I837,\"\")","v":0}]
[null,null,null,null,null,{"$f":"IFERROR(VLOOKUP(E838,Insumos!A:C,2,FALSE),\"\")","v":""},null,null,null,0]
[null,null,null,null,null,{"$f":"IFERROR(VLOOKUP(E839,Insumos!A:C,2,FALSE),\"\")","v":""},null,null,null,0]
[null,null,null,null,null,{"$f":"IFERROR(VLOOKUP(E840,Insumos!A:C,2,FALSE),\"\")","v":""},null,null,null,0]
[null,null,null,null,null,{"$f":"IFERROR(VLOOKUP(E841,Insumos!A:C,2,FALSE),\"\")","v":""},null,null,null,0]
[null,null,null,null,null,{"$f":"IFERROR(VLOOKUP(E842,Insumos!A:C,2,FALSE),\"\")","v":""},null,null,null,0]
[null,null,null,null,null,{"$f":"IFERROR(VLOOKUP(E843,Insumos!A:C,2,FALSE),\"\")","v":""},null,null,null,0]
[null,null,null,null,null,{"$f":"IFERROR(VLOOKUP(E844,Insumos!A:C,2,FALSE),\"\")","v":""},null,null,null,0]
[null,null,null,null,null,{"$f":"IFERROR(VLOOKUP(E845,Insumos!A:C,2,FALSE),\"\")","v":""},null,null,null,0]
[null,null,null,null,null,{"$f":"IFERROR(VLOOKUP(E846,Insumos!A:C,2,FALSE),\"\")","v":""},null,null,null,0]
[null,null,null,null,null,{"$f":"IFERROR(VLOOKUP(E847,Insumos!A:C,2,FALSE),\"\")","v":""},null,null,null,0]
[null,null,null,null,null,{"$f":"IFERROR(VLOOKUP(E848,Insumos!A:C,2,FALSE),\"\")","v":""},null,null,null,0]
[null,null,null,null,null,{"$f":"IFERROR(VLOOKUP(E849,Insumos!A:C,2,FALSE),\"\")","v":""},null,null,null,0]
[null,null,null,null,null,{"$f":"IFERROR(VLOOKUP(E850,Insumos!A:C,2,FALSE),\"\")","v":""},null,null,null,0]
[null,null,null,null,null,{"$f":"IFERROR(VLOOKUP(E851,Insumos!A:C,2,FALSE),\"\")","v":""},null,null,null,0]
[null,null,null,null,null,{"$f":"IFERROR(VLOOKUP(E852,Insumos!A:C,2,FALSE),\"\")","v":""},null,null,null,0]
[null,null,null,null,null,{"$f":"IFERROR(VLOOKUP(E853,Insumos!A:C,2,FALSE),\"\")","v":""},null,null,null,0]
[null,null,null,null,null,{"$f":"IFERROR(VLOOKUP(E854,Insumos!A:C,2,FALSE),\"\")","v":""},null,null,null,0]
[null,null,null,null,null,{"$f":"IFERROR(VLOOKUP(E855,Insumos!A:C,2,FALSE),\"\")","v":""},null,null,null,0]
[null,null,null,null,null,{"$f":"IFERROR(VLOOKUP(E856,Insumos!A:C,2,FALSE),\"\")","v":""},null,null,null,0]
[null,null,null,null,null,{"$f":"IFERROR(VLOOKUP(E857,Insumos!A:C,2,FALSE),\"\")","v":""},null,null,null,0]
[null,null,null,null,null,{"$f":"IFERROR(VLOOKUP(E858,Insumos!A:C,2,FALSE),\"\")","v":""},null,null,null,0]
[null,null,null,null,null,{"$f":"IFERROR(VLOOKUP(E859,Insumos!A:C,2,FALSE),\"\")","v":""},null,null,null,0]
[null,null,null,null,null,{"$f":"IFERROR(VLOOKUP(E860,Insumos!A:C,2,FALSE),\"\")","v":""},null,null,null,0]
[null,null,null,null,null,{"$f":"IFERROR(VLOOKUP(E861,Insumos!A:C,2,FALSE),\"\")","v":""},null,null,null,0]
[null,null,null,null,null,{"$f":"IFERROR(VLOOKUP(E862,Insumos!A:C,2,FALSE),\"\")","v":""},null,null,null,0]
[null,null,null,null,null,{"$f":"IFERROR(VLOOKUP(E863,Insumos!A:C,2,FALSE),\"\")","v":""},null,null,null,0]
[null,null,null,null,null,{"$f":"IFERROR(VLOOKUP(E864,Insumos!A:C,2,FALSE),\"\")","v":""},null,null,null,0]
[null,null,null,null,null,{"$f":"IFERROR(VLOOKUP(E865,Insumos!A:C,2,FALSE),\"\")","v":""},null,null,null,0]
[null,null,null,null,null,{"$f":"IFERROR(VLOOKUP(E866,Insumos!A:C,2,FALSE),\"\")","v":""},null,null,null,0]
[null,null,null,null,null,{"$f":"IFERROR(VLOOKUP(E867,Insumos!A:C,2,FALSE),\"\")","v":""},null,null,null,0]
[null,null,null,null,null,{"$f":"IFERROR(VLOOKUP(E868,Insumos!A:C,2,FALSE),\"\")","v":""},null,null,null,0]
[null,null,null,null,null,{"$f":"IFERROR(VLOOKUP(E869,Insumos!A:C,2,FALSE),\"\")","v":""},null,null,null,0]
[null,null,null,null,null,{"$f":"IFERROR(VLOOKUP(E870,Insumos!A:C,2,FALSE),\"\")","v":""},null,null,null,0]
[null,null,null,null,null,{"$f":"IFERROR(VLOOKUP(E871,Insumos!A:C,2,FALSE),\"\")","v":""},null,null,null,0]
[null,null,null,null,null,{"$f":"IFERROR(VLOOKUP(E872,Insumos!A:C,2,FALSE),\"\")","v":""},null,null,null,0]
[null,null,null,null,null,{"$f":"IFERROR(VLOOKUP(E873,Insumos!A:C,2,FALSE),\"\")","v":""},null,null,null,0]
[null,null,null,null,null,{"$f":"IFERROR(VLOOKUP(E874,Insumos!A:C,2,FALSE),\"\")","v":""},null,null,null,0]
[null,null,null,null,null,{"$f":"IFERROR(VLOOKUP(E875,Insumos!A:C,2,FALSE),\"\")","v":""},null,null,null,0]
[null,null,null,null,null,{"$f":"IFERROR(VLOOKUP(E876,Insumos!A:C,2,FALSE),\"\")","v":""},null,null,null,0]
[null,null,null,null,null,{"$f":"IFERROR(VLOOKUP(E877,Insumos!A:C,2,FALSE),\"\")","v":""},null,null,null,0]
[null,null,null,null,null,{"$f":"IFERROR(VLOOKUP(E878,Insumos!A:C,2,FALSE),\"\")","v":""},null,null,null,0]
[null,null,null,null,null,{"$f":"IFERROR(VLOOKUP(E879,Insumos!A:C,2,FALSE),\"\")","v":""},null,null,null,0]
[null,null,null,null,null,{"$f":"IFERROR(VLOOKUP(E880,Insumos!A:C,2,FALSE),\"\")","v":""},null,null,null,0]
[null,null,null,null,null,{"$f":"IFERROR(VLOOKUP(E881,Insumos!A:C,2,FALSE),\"\")","v":""},null,null,null,0]
[null,null,null,null,null,{"$f":"IFERROR(VLOOKUP(E882,Insumos!A:C,2,FALSE),\"\")","v":""},null,null,null,0]
[null,null,null,null,null,{"$f":"IFERROR(VLOOKUP(E883,Insumos!A:C,2,FALSE),\"\")","v":""},null,null,null,0]
[null,null,null,null,null,{"$f":"IFERROR(VLOOKUP(E884,Insumos!A:C,2,FALSE),\"\")","v":""},null,null,null,0]
[null,null,null,null,null,{"$f":"IFERROR(VLOOKUP(E885,Insumos!A:C,2,FALSE),\"\")","v":""},null,null,null,0]
[null,null,null,null,null,{"$f":"IFERROR(VLOOKUP(E886,Insumos!A:C,2,FALSE),\"\")","v":""},null,null,null,0]
[null,null,null,null,null,{"$f":"IFERROR(VLOOKUP(E887,Insumos!A:C,2,FALSE),\"\")","v":""},null,null,null,0]
[null,null,null,null,null,{"$f":"IFERROR(VLOOKUP(E888,Insumos!A:C,2,FALSE),\"\")","v":""},null,null,null,0]
[null,null,null,null,null,{"$f":"IFERROR(VLOOKUP(E889,Insumos!A:C,2,FALSE),\"\")","v":""},null,null,null,0]
[null,null,null,null,null,{"$f":"IFERROR(VLOOKUP(E890,Insumos!A:C,2,FALSE),\"\")","v":""},null,null,null,0]
[null,null,null,null,null,{"$f":"IFERROR(VLOOKUP(E891,Insumos!A:C,2,FALSE),\"\")","v":""},null,null,null,0]
[null,null,null,null,null,{"$f":"IFERROR(VLOOKUP(E892,Insumos!A:C,2,FALSE),\"\")","v":""},null,null,null,0]
[null,null,null,null,null,{"$f":"IFERROR(VLOOKUP(E893,Insumos!A:C,2,FALSE),\"\")","v":""},null,null,null,0]
[null,null,null,null,null,{"$f":"IFERROR(VLOOKUP(E894,Insumos!A:C,2,FALSE),\"\")","v":""},null,null,null,0]
[null,null,null,null,null,{"$f":"IFERROR(VLOOKUP(E895,Insumos!A:C,2,FALSE),\"\")","v":""},null,null,null,0]
[null,null,null,null,null,{"$f":"IFERROR(VLOOKUP(E896,Insumos!A:C,2,FALSE),\"\")","v":""},null,null,null,0]
[null,null,null,null,null,{"$f":"IFERROR(VLOOKUP(E897,Insumos!A:C,2,FALSE),\"\")","v":""},null,null,null,0]
[null,null,null,null,null,{"$f":"IFERROR(VLOOKUP(E898,Insumos!A:C,2,FALSE),\"\")","v":""},null,null,null,0]
[null,null,null,null,null,{"$f":"IFERROR(VLOOKUP(E899,Insumos!A:C,2,FALSE),\"\")","v":""},null,null,null,0]
[null,null,null,null,null,{"$f":"IFERROR(VLOOKUP(E900,Insumos!A:C,2,FALSE),\"\")","v":""},null,null,null,0]
[null,null,null,null,null,{"$f":"IFERROR(VLOOKUP(E901,Insumos!A:C,2,FALSE),\"\")","v":""},null,null,null,{"$f":"IFERROR(H901*I901,\"\")","v":0}]
[null,null,null,null,null,{"$f":"IFERROR(VLOOKUP(E902,Insumos!A:C,2,FALSE),\"\")","v":""},null,null,null,0]
[null,null,null,null,null,{"$f":"IFERROR(VLOOKUP(E903,Insumos!A:C,2,FALSE),\"\")","v":""},null,null,null,0]
[null,null,null,null,null,{"$f":"IFERROR(VLOOKUP(E904,Insumos!A:C,2,FALSE),\"\")","v":""},null,null,null,0]
[null,null,null,null,null,{"$f":"IFERROR(VLOOKUP(E905,Insumos!A:C,2,FALSE),\"\")","v":""},null,null,null,0]
[null,null,null,null,null,{"$f":"IFERROR(VLOOKUP(E906,Insumos!A:C,2,FALSE),\"\")","v":""},null,null,null,0]
[null,null,null,null,null,{"$f":"IFERROR(VLOOKUP(E907,Insumos!A:C,2,FALSE),\"\")","v":""},null,null,null,0]
[null,null,null,null,null,{"$f":"IFERROR(VLOOKUP(E908,Insumos!A:C,2,FALSE),\"\")","v":""},null,null,null,0]
[null,null,null,null,null,{"$f":"IFERROR(VLOOKUP(E909,Insumos!A:C,2,FALSE),\"\")","v":""},null,null,null,0]
[null,null,null,null,null,{"$f":"IFERROR(VLOOKUP(E910,Insumos!A:C,2,FALSE),\"\")","v":""},null,null,null,0]
[null,null,null,null,null,{"$f":"IFERROR(VLOOKUP(E911,Insumos!A:C,2,FALSE),\"\")","v":""},null,null,null,0]
[null,null,null,null,null,{"$f":"IFERROR(VLOOKUP(E912,Insumos!A:C,2,FALSE),\"\")","v":""},null,null,null,0]
[null,null,null,null,null,{"$f":"IFERROR(VLOOKUP(E913,Insumos!A:C,2,FALSE),\"\")","v":""},null,null,null,0]
[null,null,null,null,null,{"$f":"IFERROR(VLOOKUP(E914,Insumos!A:C,2,FALSE),\"\")","v":""},null,null,null,0]
[null,null,null,null,null,{"$f":"IFERROR(VLOOKUP(E915,Insumos!A:C,2,FALSE),\"\")","v":""},null,null,null,0]
[null,null,null,null,null,{"$f":"IFERROR(VLOOKUP(E916,Insumos!A:C,2,FALSE),\"\")","v":""},null,null,null,0]
[null,null,null,null,null,{"$f":"IFERROR(VLOOKUP(E917,Insumos!A:C,2,FALSE),\"\")","v":""},null,null,null,0]
[null,null,null,null,null,{"$f":"IFERROR(VLOOKUP(E918,Insumos!A:C,2,FALSE),\"\")","v":""},null,null,null,0]
[null,null,null,null,null,{"$f":"IFERROR(VLOOKUP(E919,Insumos!A:C,2,FALSE),\"\")","v":""},null,null,null,0]
[null,null,null,null,null,{"$f":"IFERROR(VLOOKUP(E920,Insumos!A:C,2,FALSE),\"\")","v":""},null,null,null,0]
[null,null,null,null,null,{"$f":"IFERROR(VLOOKUP(E921,Insumos!A:C,2,FALSE),\"\")","v":""},null,null,null,0]
[null,null,null,null,null,{"$f":"IFERROR(VLOOKUP(E922,Insumos!A:C,2,FALSE),\"\")","v":""},null,null,null,0]
[null,null,null,null,null,{"$f":"IFERROR(VLOOKUP(E923,Insumos!A:C,2,FALSE),\"\")","v":""},null,null,null,0]
[null,null,null,null,null,{"$f":"IFERROR(VLOOKUP(E924,Insumos!A:C,2,FALSE),\"\")","v":""},null,null,null,0]
[null,null,null,null,null,{"$f":"IFERROR(VLOOKUP(E925,Insumos!A:C,2,FALSE),\"\")","v":""},null,null,null,0]
[null,null,null,null,null,{"$f":"IFERROR(VLOOKUP(E926,Insumos!A:C,2,FALSE),\"\")","v":""},null,null,null,0]
[null,null,null,null,null,{"$f":"IFERROR(VLOOKUP(E927,Insumos!A:C,2,FALSE),\"\")","v":""},null,null,null,0]
[null,null,null,null,null,{"$f":"IFERROR(VLOOKUP(E928,Insumos!A:C,2,FALSE),\"\")","v":""},null,null,null,0]
[null,null,null,null,null,{"$f":"IFERROR(VLOOKUP(E929,Insumos!A:C,2,FALSE),\"\")","v":""},null,null,null,0]
[null,null,null,null,null,{"$f":"IFERROR(VLOOKUP(E930,Insumos!A:C,2,FALSE),\"\")","v":""},null,null,null,0]
[null,null,null,null,null,{"$f":"IFERROR(VLOOKUP(E931,Insumos!A:C,2,FALSE),\"\")","v":""},null,null,null,0]
[null,null,null,null,null,{"$f":"IFERROR(VLOOKUP(E932,Insumos!A:C,2,FALSE),\"\")","v":""},null,null,null,0]
[null,null,null,null,null,{"$f":"IFERROR(VLOOKUP(E933,Insumos!A:C,2,FALSE),\"\")","v":""},null,null,null,0]
[null,null,null,null,null,{"$f":"IFERROR(VLOOKUP(E934,Insumos!A:C,2,FALSE),\"\")","v":""},null,null,null,0]
[null,null,null,null,null,{"$f":"IFERROR(VLOOKUP(E935,Insumos!A:C,2,FALSE),\"\")","v":""},null,null,null,0]
[null,null,null,null,null,{"$f":"IFERROR(VLOOKUP(E936,Insumos!A:C,2,FALSE),\"\")","v":""},null,null,null,0]
[null,null,null,null,null,{"$f":"IFERROR(VLOOKUP(E937,Insumos!A:C,2,FALSE),\"\")","v":""},null,null,null,0]
[null,null,null,null,null,{"$f":"IFERROR(VLOOKUP(E938,Insumos!A:C,2,FALSE),\"\")","v":""},null,null,null,0]
[null,null,null,null,null,{"$f":"IFERROR(VLOOKUP(E939,Insumos!A:C,2,FALSE),\"\")","v":""},null,null,null,0]
[null,null,null,null,null,{"$f":"IFERROR(VLOOKUP(E940,Insumos!A:C,2,FALSE),\"\")","v":""},null,null,null,0]
[null,null,null,null,null,{"$f":"IFERROR(VLOOKUP(E941,Insumos!A:C,2,FALSE),\"\")","v":""},null,null,null,0]
[null,null,null,null,null,{"$f":"IFERROR(VLOOKUP(E942,Insumos!A:C,2,FALSE),\"\")","v":""},null,null,null,0]
[null,null,null,null,null,{"$f":"IFERROR(VLOOKUP(E943,Insumos!A:C,2,FALSE),\"\")","v":""},null,null,null,0]
[null,null,null,null,null,{"$f":"IFERROR(VLOOKUP(E944,Insumos!A:C,2,FALSE),\"\")","v":""},null,null,null,0]
[null,null,null,null,null,{"$f":"IFERROR(VLOOKUP(E945,Insumos!A:C,2,FALSE),\"\")","v":""},null,null,null,0]
[null,null,null,null,null,{"$f":"IFERROR(VLOOKUP(E946,Insumos!A:C,2,FALSE),\"\")","v":""},null,null,null,0]
[null,null,null,null,null,{"$f":"IFERROR(VLOOKUP(E947,Insumos!A:C,2,FALSE),\"\")","v":""},null,null,null,0]
[null,null,null,null,null,{"$f":"IFERROR(VLOOKUP(E948,Insumos!A:C,2,FALSE),\"\")","v":""},null,null,null,0]
[null,null,null,null,null,{"$f":"IFERROR(VLOOKUP(E949,Insumos!A:C,2,FALSE),\"\")","v":""},null,null,null,0]
[null,null,null,null,null,{"$f":"IFERROR(VLOOKUP(E950,Insumos!A:C,2,FALSE),\"\")","v":""},null,null,null,0]
[null,null,null,null,null,{"$f":"IFERROR(VLOOKUP(E951,Insumos!A:C,2,FALSE),\"\")","v":""},null,null,null,0]
[null,null,null,null,null,{"$f":"IFERROR(VLOOKUP(E952,Insumos!A:C,2,FALSE),\"\")","v":""},null,null,null,0]
[null,null,null,null,null,{"$f":"IFERROR(VLOOKUP(E953,Insumos!A:C,2,FALSE),\"\")","v":""},null,null,null,0]
[null,null,null,null,null,{"$f":"IFERROR(VLOOKUP(E954,Insumos!A:C,2,FALSE),\"\")","v":""},null,null,null,0]
[null,null,null,null,null,{"$f":"IFERROR(VLOOKUP(E955,Insumos!A:C,2,FALSE),\"\")","v":""},null,null,null,0]
[null,null,null,null,null,{"$f":"IFERROR(VLOOKUP(E956,Insumos!A:C,2,FALSE),\"\")","v":""},null,null,null,0]
[null,null,null,null,null,{"$f":"IFERROR(VLOOKUP(E957,Insumos!A:C,2,FALSE),\"\")","v":""},null,null,null,0]
[null,null,null,null,null,{"$f":"IFERROR(VLOOKUP(E958,Insumos!A:C,2,FALSE),\"\")","v":""},null,null,null,0]
[null,null,null,null,null,{"$f":"IFERROR(VLOOKUP(E959,Insumos!A:C,2,FALSE),\"\")","v":""},null,null,null,0]
[null,null,null,null,null,{"$f":"IFERROR(VLOOKUP(E960,Insumos!A:C,2,FALSE),\"\")","v":""},null,null,null,0]
[null,null,null,null,null,{"$f":"IFERROR(VLOOKUP(E961,Insumos!A:C,2,FALSE),\"\")","v":""},null,null,null,0]
[null,null,null,null,null,{"$f":"IFERROR(VLOOKUP(E962,Insumos!A:C,2,FALSE),\"\")","v":""},null,null,null,0]
[null,null,null,null,null,{"$f":"IFERROR(VLOOKUP(E963,Insumos!A:C,2,FALSE),\"\")","v":""},null,null,null,0]
[null,null,null,null,null,{"$f":"IFERROR(VLOOKUP(E964,Insumos!A:C,2,FALSE),\"\")","v":""},null,null,null,0]
[null,null,null,null,null,{"$f":"IFERROR(VLOOKUP(E965,Insumos!A:C,2,FALSE),\"\")","v":""},null,null,null,{"$f":"IFERROR(H965*I965,\"\")","v":0}]
[null,null,null,null,null,{"$f":"IFERROR(VLOOKUP(E966,Insumos!A:C,2,FALSE),\"\")","v":""},null,null,null,0]
[null,null,null,null,null,{"$f":"IFERROR(VLOOKUP(E967,Insumos!A:C,2,FALSE),\"\")","v":""},null,null,null,0]
[null,null,null,null,null,{"$f":"IFERROR(VLOOKUP(E968,Insumos!A:C,2,FALSE),\"\")","v":""},null,null,null,0]
[null,null,null,null,null,{"$f":"IFERROR(VLOOKUP(E969,Insumos!A:C,2,FALSE),\"\")","v":""},null,null,null,0]
[null,null,null,null,null,{"$f":"IFERROR(VLOOKUP(E970,Insumos!A:C,2,FALSE),\"\")","v":""},null,null,null,0]
[null,null,null,null,null,{"$f":"IFERROR(VLOOKUP(E971,Insumos!A:C,2,FALSE),\"\")","v":""},null,null,null,0]
[null,null,null,null,null,{"$f":"IFERROR(VLOOKUP(E972,Insumos!A:C,2,FALSE),\"\")","v":""},null,null,null,0]
[null,null,null,null,null,{"$f":"IFERROR(VLOOKUP(E973,Insumos!A:C,2,FALSE),\"\")","v":""},null,null,null,0]
[null,null,null,null,null,{"$f":"IFERROR(VLOOKUP(E974,Insumos!A:C,2,FALSE),\"\")","v":""},null,null,null,0]
[null,null,null,null,null,{"$f":"IFERROR(VLOOKUP(E975,Insumos!A:C,2,FALSE),\"\")","v":""},null,null,null,0]
[null,null,null,null,null,{"$f":"IFERROR(VLOOKUP(E976,Insumos!A:C,2,FALSE),\"\")","v":""},null,null,null,0]
[null,null,null,null,null,{"$f":"IFERROR(VLOOKUP(E977,Insumos!A:C,2,FALSE),\"\")","v":""},null,null,null,0]
[null,null,null,null,null,{"$f":"IFERROR(VLOOKUP(E978,Insumos!A:C,2,FALSE),\"\")","v":""},null,null,null,0]
[null,null,null,null,null,{"$f":"IFERROR(VLOOKUP(E979,Insumos!A:C,2,FALSE),\"\")","v":""},null,null,null,0]
[null,null,null,null,null,{"$f":"IFERROR(VLOOKUP(E980,Insumos!A:C,2,FALSE),\"\")","v":""},null,null,null,0]
[null,null,null,null,null,{"$f":"IFERROR(VLOOKUP(E981,Insumos!A:C,2,FALSE),\"\")","v":""},null,null,null,0]
[null,null,null,null,null,{"$f":"IFERROR(VLOOKUP(E982,Insumos!A:C,2,FALSE),\"\")","v":""},null,null,null,0]
[null,null,null,null,null,{"$f":"IFERROR(VLOOKUP(E983,Insumos!A:C,2,FALSE),\"\")","v":""},null,null,null,0]
[null,null,null,null,null,{"$f":"IFERROR(VLOOKUP(E984,Insumos!A:C,2,FALSE),\"\")","v":""},null,null,null,0]
[null,null,null,null,null,{"$f":"IFERROR(VLOOKUP(E985,Insumos!A:C,2,FALSE),\"\")","v":""},null,null,null,0]
[null,null,null,null,null,{"$f":"IFERROR(VLOOKUP(E986,Insumos!A:C,2,FALSE),\"\")","v":""},null,null,null,0]
[null,null,null,null,null,{"$f":"IFERROR(VLOOKUP(E987,Insumos!A:C,2,FALSE),\"\")","v":""},null,null,null,0]
[null,null,null,null,null,{"$f":"IFERROR(VLOOKUP(E988,Insumos!A:C,2,FALSE),\"\")","v":""},null,null,null,0]
[null,null,null,null,null,{"$f":"IFERROR(VLOOKUP(E989,Insumos!A:C,2,FALSE),\"\")","v":""},null,null,null,0]
[null,null,null,null,null,{"$f":"IFERROR(VLOOKUP(E990,Insumos!A:C,2,FALSE),\"\")","v":""},null,null,null,0]
[null,null,null,null,null,{"$f":"IFERROR(VLOOKUP(E991,Insumos!A:C,2,FALSE),\"\")","v":""},null,null,null,0]
[null,null,null,null,null,{"$f":"IFERROR(VLOOKUP(E992,Insumos!A:C,2,FALSE),\"\")","v":""},null,null,null,0]
[null,null,null,null,null,{"$f":"IFERROR(VLOOKUP(E993,Insumos!A:C,2,FALSE),\"\")","v":""},null,null,null,0]
[null,null,null,null,null,{"$f":"IFERROR(VLOOKUP(E994,Insumos!A:C,2,FALSE),\"\")","v":""},null,null,null,0]
[null,null,null,null,null,{"$f":"IFERROR(VLOOKUP(E995,Insumos!A:C,2,FALSE),\"\")","v":""},null,null,null,0]
[null,null,null,null,null,{"$f":"IFERROR(VLOOKUP(E996,Insumos!A:C,2,FALSE),\"\")","v":""},null,null,null,0]
[null,null,null,null,null,{"$f":"IFERROR(VLOOKUP(E997,Insumos!A:C,2,FALSE),\"\")","v":""},null,null,null,0]
[null,null,null,null,null,{"$f":"IFERROR(VLOOKUP(E998,Insumos!A:C,2,FALSE),\"\")","v":""},null,null,null,0]
[null,null,null,null,null,{"$f":"IFERROR(VLOOKUP(E999,Insumos!A:C,2,FALSE),\"\")","v":""},null,null,null,0]
[null,null,null,null,null,{"$f":"IFERROR(VLOOKUP(E1000,Insumos!A:C,2,FALSE),\"\")","v":""},null,null,null,0]
[null,null,null,null,null,{"$f":"IFERROR(VLOOKUP(E1001,Insumos!A:C,2,FALSE),\"\")","v":""},null,null,null,0]
[null,null,null,null,null,{"$f":"IFERROR(VLOOKUP(E1002,Insumos!A:C,2,FALSE),\"\")","v":""},null,null,null,0]
[null,null,null,null,null,{"$f":"IFERROR(VLOOKUP(E1003,Insumos!A:C,2,FALSE),\"\")","v":""},null,null,null,0]
[null,null,null,null,null,{"$f":"IFERROR(VLOOKUP(E1004,Insumos!A:C,2,FALSE),\"\")","v":""},null,null,null,0]
[null,null,null,null,null,{"$f":"IFERROR(VLOOKUP(E1005,Insumos!A:C,2,FALSE),\"\")","v":""},null,null,null,0]
[null,null,null,null,null,{"$f":"IFERROR(VLOOKUP(E1006,Insumos!A:C,2,FALSE),\"\")","v":""},null,null,null,0]
[null,null,null,null,null,{"$f":"IFERROR(VLOOKUP(E1007,Insumos!A:C,2,FALSE),\"\")","v":""},null,null,null,0]
[null,null,null,null,null,{"$f":"IFERROR(VLOOKUP(E1008,Insumos!A:C,2,FALSE),\"\")","v":""},null,null,null,0]
[null,null,null,null,null,{"$f":"IFERROR(VLOOKUP(E1009,Insumos!A:C,2,FALSE),\"\")","v":""},null,null,null,0]
[null,null,null,null,null,{"$f":"IFERROR(VLOOKUP(E1010,Insumos!A:C,2,FALSE),\"\")","v":""},null,null,null,0]
[null,null,null,null,null,{"$f":"IFERROR(VLOOKUP(E1011,Insumos!A:C,2,FALSE),\"\")","v":""},null,null,null,0]
[null,null,null,null,null,{"$f":"IFERROR(VLOOKUP(E1012,Insumos!A:C,2,FALSE),\"\")","v":""},null,null,null,0]
[null,null,null,null,null,{"$f":"IFERROR(VLOOKUP(E1013,Insumos!A:C,2,FALSE),\"\")","v":""},null,null,null,0]
[null,null,null,null,null,{"$f":"IFERROR(VLOOKUP(E1014,Insumos!A:C,2,FALSE),\"\")","v":""},null,null,null,0]
[null,null,null,null,null,{"$f":"IFERROR(VLOOKUP(E1015,Insumos!A:C,2,FALSE),\"\")","v":""},null,null,null,0]
[null,null,null,null,null,{"$f":"IFERROR(VLOOKUP(E1016,Insumos!A:C,2,FALSE),\"\")","v":""},null,null,null,0]
[null,null,null,null,null,{"$f":"IFERROR(VLOOKUP(E1017,Insumos!A:C,2,FALSE),\"\")","v":""},null,null,null,0]
[null,null,null,null,null,{"$f":"IFERROR(VLOOKUP(E1018,Insumos!A:C,2,FALSE),\"\")","v":""},null,null,null,0]
[null,null,null,null,null,{"$f":"IFERROR(VLOOKUP(E1019,Insumos!A:C,2,FALSE),\"\")","v":""},null,null,null,0]
[null,null,null,null,null,{"$f":"IFERROR(VLOOKUP(E1020,Insumos!A:C,2,FALSE),\"\")","v":""},null,null,null,0]
[null,null,null,null,null,{"$f":"IFERROR(VLOOKUP(E1021,Insumos!A:C,2,FALSE),\"\")","v":""},null,null,null,0]
[null,null,null,null,null,{"$f":"IFERROR(VLOOKUP(E1022,Insumos!A:C,2,FALSE),\"\")","v":""},null,null,null,0]
[null,null,null,null,null,{"$f":"IFERROR(VLOOKUP(E1023,Insumos!A:C,2,FALSE),\"\")","v":""},null,null,null,0]
[null,null,null,null,null,{"$f":"IFERROR(VLOOKUP(E1024,Insumos!A:C,2,FALSE),\"\")","v":""},null,null,null,0]
[null,null,null,null,null,{"$f":"IFERROR(VLOOKUP(E1025,Insumos!A:C,2,FALSE),\"\")","v":""},null,null,null,0]
[null,null,null,null,null,{"$f":"IFERROR(VLOOKUP(E1026,Insumos!A:C,2,FALSE),\"\")","v":""},null,null,null,0]
[null,null,null,null,null,{"$f":"IFERROR(VLOOKUP(E1027,Insumos!A:C,2,FALSE),\"\")","v":""},null,null,null,0]
[null,null,null,null,null,{"$f":"IFERROR(VLOOKUP(E1028,Insumos!A:C,2,FALSE),\"\")","v":""},null,null,null,0]
[null,null,null,null,null,{"$f":"IFERROR(VLOOKUP(E1029,Insumos!A:C,2,FALSE),\"\")","v":""},null,null,null,{"$f":"IFERROR(H1029*I1029,\"\")","v":0}]
[null,null,null,null,null,{"$f":"IFERROR(VLOOKUP(E1030,Insumos!A:C,2,FALSE),\"\")","v":""},null,null,null,0]
[null,null,null,null,null,{"$f":"IFERROR(VLOOKUP(E1031,Insumos!A:C,2,FALSE),\"\")","v":""},null,null,null,0]
[null,null,null,null,null,{"$f":"IFERROR(VLOOKUP(E1032,Insumos!A:C,2,FALSE),\"\")","v":""},null,null,null,0]
[null,null,null,null,null,{"$f":"IFERROR(VLOOKUP(E1033,Insumos!A:C,2,FALSE),\"\")","v":""},null,null,null,0]
[null,null,null,null,null,{"$f":"IFERROR(VLOOKUP(E1034,Insumos!A:C,2,FALSE),\"\")","v":""},null,null,null,0]
[null,null,null,null,null,{"$f":"IFERROR(VLOOKUP(E1035,Insumos!A:C,2,FALSE),\"\")","v":""},null,null,null,0]
[null,null,null,null,null,{"$f":"IFERROR(VLOOKUP(E1036,Insumos!A:C,2,FALSE),\"\")","v":""},null,null,null,0]
[null,null,null,null,null,{"$f":"IFERROR(VLOOKUP(E1037,Insumos!A:C,2,FALSE),\"\")","v":""},null,null,null,0]
[null,null,null,null,null,{"$f":"IFERROR(VLOOKUP(E1038,Insumos!A:C,2,FALSE),\"\")","v":""},null,null,null,0]
[null,null,null,null,null,{"$f":"IFERROR(VLOOKUP(E1039,Insumos!A:C,2,FALSE),\"\")","v":""},null,null,null,0]
[null,null,null,null,null,{"$f":"IFERROR(VLOOKUP(E1040,Insumos!A:C,2,FALSE),\"\")","v":""},null,null,null,0]
[null,null,null,null,null,{"$f":"IFERROR(VLOOKUP(E1041,Insumos!A:C,2,FALSE),\"\")","v":""},null,null,null,0]
[null,null,null,null,null,{"$f":"IFERROR(VLOOKUP(E1042,Insumos!A:C,2,FALSE),\"\")","v":""},null,null,null,0]
[null,null,null,null,null,{"$f":"IFERROR(VLOOKUP(E1043,Insumos!A:C,2,FALSE),\"\")","v":""},null,null,null,0]
[null,null,null,null,null,{"$f":"IFERROR(VLOOKUP(E1044,Insumos!A:C,2,FALSE),\"\")","v":""},null,null,null,0]
[null,null,null,null,null,{"$f":"IFERROR(VLOOKUP(E1045,Insumos!A:C,2,FALSE),\"\")","v":""},null,null,null,0]
[null,null,null,null,null,{"$f":"IFERROR(VLOOKUP(E1046,Insumos!A:C,2,FALSE),\"\")","v":""},null,null,null,0]
[null,null,null,null,null,{"$f":"IFERROR(VLOOKUP(E1047,Insumos!A:C,2,FALSE),\"\")","v":""},null,null,null,0]
[null,null,null,null,null,{"$f":"IFERROR(VLOOKUP(E1048,Insumos!A:C,2,FALSE),\"\")","v":""},null,null,null,0]
[null,null,null,null,null,{"$f":"IFERROR(VLOOKUP(E1049,Insumos!A:C,2,FALSE),\"\")","v":""},null,null,null,0]
[null,null,null,null,null,{"$f":"IFERROR(VLOOKUP(E1050,Insumos!A:C,2,FALSE),\"\")","v":""},null,null,null,0]
[null,null,null,null,null,{"$f":"IFERROR(VLOOKUP(E1051,Insumos!A:C,2,FALSE),\"\")","v":""},null,null,null,0]
[null,null,null,null,null,{"$f":"IFERROR(VLOOKUP(E1052,Insumos!A:C,2,FALSE),\"\")","v":""},null,null,null,0]
[null,null,null,null,null,{"$f":"IFERROR(VLOOKUP(E1053,Insumos!A:C,2,FALSE),\"\")","v":""},null,null,null,0]
[null,null,null,null,null,{"$f":"IFERROR(VLOOKUP(E1054,Insumos!A:C,2,FALSE),\"\")","v":""},null,null,null,0]
[null,null,null,null,null,{"$f":"IFERROR(VLOOKUP(E1055,Insumos!A:C,2,FALSE),\"\")","v":""},null,null,null,0]
[null,null,null,null,null,{"$f":"IFERROR(VLOOKUP(E1056,Insumos!A:C,2,FALSE),\"\")","v":""},null,null,null,0]
[null,null,null,null,null,{"$f":"IFERROR(VLOOKUP(E1057,Insumos!A:C,2,FALSE),\"\")","v":""},null,null,null,0]
[null,null,null,null,null,{"$f":"IFERROR(VLOOKUP(E1058,Insumos!A:C,2,FALSE),\"\")","v":""},null,null,null,0]
[null,null,null,null,null,{"$f":"IFERROR(VLOOKUP(E1059,Insumos!A:C,2,FALSE),\"\")","v":""},null,null,null,0]
[null,null,null,null,null,{"$f":"IFERROR(VLOOKUP(E1060,Insumos!A:C,2,FALSE),\"\")","v":""},null,null,null,0]
[null,null,null,null,null,{"$f":"IFERROR(VLOOKUP(E1061,Insumos!A:C,2,FALSE),\"\")","v":""},null,null,null,0]
[null,null,null,null,null,{"$f":"IFERROR(VLOOKUP(E1062,Insumos!A:C,2,FALSE),\"\")","v":""},null,null,null,0]
[null,null,null,null,null,{"$f":"IFERROR(VLOOKUP(E1063,Insumos!A:C,2,FALSE),\"\")","v":""},null,null,null,0]
[null,null,null,null,null,{"$f":"IFERROR(VLOOKUP(E1064,Insumos!A:C,2,FALSE),\"\")","v":""},null,null,null,0]
[null,null,null,null,null,{"$f":"IFERROR(VLOOKUP(E1065,Insumos!A:C,2,FALSE),\"\")","v":""},null,null,null,0]
[null,null,null,null,null,{"$f":"IFERROR(VLOOKUP(E1066,Insumos!A:C,2,FALSE),\"\")","v":""},null,null,null,0]
[null,null,null,null,null,{"$f":"IFERROR(VLOOKUP(E1067,Insumos!A:C,2,FALSE),\"\")","v":""},null,null,null,0]
[null,null,null,null,null,{"$f":"IFERROR(VLOOKUP(E1068,Insumos!A:C,2,FALSE),\"\")","v":""},null,null,null,0]
[null,null,null,null,null,{"$f":"IFERROR(VLOOKUP(E1069,Insumos!A:C,2,FALSE),\"\")","v":""},null,null,null,0]
[null,null,null,null,null,{"$f":"IFERROR(VLOOKUP(E1070,Insumos!A:C,2,FALSE),\"\")","v":""},null,null,null,0]
[null,null,null,null,null,{"$f":"IFERROR(VLOOKUP(E1071,Insumos!A:C,2,FALSE),\"\")","v":""},null,null,null,0]
[null,null,null,null,null,{"$f":"IFERROR(VLOOKUP(E1072,Insumos!A:C,2,FALSE),\"\")","v":""},null,null,null,0]
[null,null,null,null,null,{"$f":"IFERROR(VLOOKUP(E1073,Insumos!A:C,2,FALSE),\"\")","v":""},null,null,null,0]
[null,null,null,null,null,{"$f":"IFERROR(VLOOKUP(E1074,Insumos!A:C,2,FALSE),\"\")","v":""},null,null,null,0]
[null,null,null,null,null,{"$f":"IFERROR(VLOOKUP(E1075,Insumos!A:C,2,FALSE),\"\")","v":""},null,null,null,0]
[null,null,null,null,null,{"$f":"IFERROR(VLOOKUP(E1076,Insumos!A:C,2,FALSE),\"\")","v":""},null,null,null,0]
[null,null,null,null,null,{"$f":"IFERROR(VLOOKUP(E1077,Insumos!A:C,2,FALSE),\"\")","v":""},null,null,null,0]
[null,null,null,null,null,{"$f":"IFERROR(VLOOKUP(E1078,Insumos!A:C,2,FALSE),\"\")","v":""},null,null,null,0]
[null,null,null,null,null,{"$f":"IFERROR(VLOOKUP(E1079,Insumos!A:C,2,FALSE),\"\")","v":""},null,null,null,0]
[null,null,null,null,null,{"$f":"IFERROR(VLOOKUP(E1080,Insumos!A:C,2,FALSE),\"\")","v":""},null,null,null,0]
[null,null,null,null,null,{"$f":"IFERROR(VLOOKUP(E1081,Insumos!A:C,2,FALSE),\"\")","v":""},null,null,null,0]
[null,null,null,null,null,{"$f":"IFERROR(VLOOKUP(E1082,Insumos!A:C,2,FALSE),\"\")","v":""},null,null,null,0]
[null,null,null,null,null,{"$f":"IFERROR(VLOOKUP(E1083,Insumos!A:C,2,FALSE),\"\")","v":""},null,null,null,0]
[null,null,null,null,null,{"$f":"IFERROR(VLOOKUP(E1084,Insumos!A:C,2,FALSE),\"\")","v":""},null,null,null,0]
[null,null,null,null,null,{"$f":"IFERROR(VLOOKUP(E1085,Insumos!A:C,2,FALSE),\"\")","v":""},null,null,null,0]
[null,null,null,null,null,{"$f":"IFERROR(VLOOKUP(E1086,Insumos!A:C,2,FALSE),\"\")","v":""},null,null,null,0]
[null,null,null,null,null,{"$f":"IFERROR(VLOOKUP(E1087,Insumos!A:C,2,FALSE),\"\")","v":""},null,null,null,0]
[null,null,null,null,null,{"$f":"IFERROR(VLOOKUP(E1088,Insumos!A:C,2,FALSE),\"\")","v":""},null,null,null,0]
[null,null,null,null,null,{"$f":"IFERROR(VLOOKUP(E1089,Insumos!A:C,2,FALSE),\"\")","v":""},null,null,null,0]
[null,null,null,null,null,{"$f":"IFERROR(VLOOKUP(E1090,Insumos!A:C,2,FALSE),\"\")","v":""},null,null,null,0]
[null,null,null,null,null,{"$f":"IFERROR(VLOOKUP(E1091,Insumos!A:C,2,FALSE),\"\")","v":""},null,null,null,0]
[null,null,null,null,null,{"$f":"IFERROR(VLOOKUP(E1092,Insumos!A:C,2,FALSE),\"\")","v":""},null,null,null,0]
[null,null,null,null,null,{"$f":"IFERROR(VLOOKUP(E1093,Insumos!A:C,2,FALSE),\"\")","v":""},null,null,null,{"$f":"IFERROR(H1093*I1093,\"\")","v":0}]
[null,null,null,null,null,{"$f":"IFERROR(VLOOKUP(E1094,Insumos!A:C,2,FALSE),\"\")","v":""},null,null,null,0]
[null,null,null,null,null,{"$f":"IFERROR(VLOOKUP(E1095,Insumos!A:C,2,FALSE),\"\")","v":""},null,null,null,0]
[null,null,null,null,null,{"$f":"IFERROR(VLOOKUP(E1096,Insumos!A:C,2,FALSE),\"\")","v":""},null,null,null,0]
[null,null,null,null,null,{"$f":"IFERROR(VLOOKUP(E1097,Insumos!A:C,2,FALSE),\"\")","v":""},null,null,null,0]
[null,null,null,null,null,{"$f":"IFERROR(VLOOKUP(E1098,Insumos!A:C,2,FALSE),\"\")","v":""},null,null,null,0]
[null,null,null,null,null,{"$f":"IFERROR(VLOOKUP(E1099,Insumos!A:C,2,FALSE),\"\")","v":""},null,null,null,0]
[null,null,null,null,null,{"$f":"IFERROR(VLOOKUP(E1100,Insumos!A:C,2,FALSE),\"\")","v":""},null,null,null,0]
[null,null,null,null,null,{"$f":"IFERROR(VLOOKUP(E1101,Insumos!A:C,2,FALSE),\"\")","v":""},null,null,null,0]
[null,null,null,null,null,{"$f":"IFERROR(VLOOKUP(E1102,Insumos!A:C,2,FALSE),\"\")","v":""},null,null,null,0]
[null,null,null,null,null,{"$f":"IFERROR(VLOOKUP(E1103,Insumos!A:C,2,FALSE),\"\")","v":""},null,null,null,0]
[null,null,null,null,null,{"$f":"IFERROR(VLOOKUP(E1104,Insumos!A:C,2,FALSE),\"\")","v":""},null,null,null,0]
[null,null,null,null,null,{"$f":"IFERROR(VLOOKUP(E1105,Insumos!A:C,2,FALSE),\"\")","v":""},null,null,null,0]
[null,null,null,null,null,{"$f":"IFERROR(VLOOKUP(E1106,Insumos!A:C,2,FALSE),\"\")","v":""},null,null,null,0]
[null,null,null,null,null,{"$f":"IFERROR(VLOOKUP(E1107,Insumos!A:C,2,FALSE),\"\")","v":""},null,null,null,0]
[null,null,null,null,null,{"$f":"IFERROR(VLOOKUP(E1108,Insumos!A:C,2,FALSE),\"\")","v":""},null,null,null,0]
[null,null,null,null,null,{"$f":"IFERROR(VLOOKUP(E1109,Insumos!A:C,2,FALSE),\"\")","v":""},null,null,null,0]
[null,null,null,null,null,{"$f":"IFERROR(VLOOKUP(E1110,Insumos!A:C,2,FALSE),\"\")","v":""},null,null,null,0]
[null,null,null,null,null,{"$f":"IFERROR(VLOOKUP(E1111,Insumos!A:C,2,FALSE),\"\")","v":""},null,null,null,0]
[null,null,null,null,null,{"$f":"IFERROR(VLOOKUP(E1112,Insumos!A:C,2,FALSE),\"\")","v":""},null,null,null,0]
[null,null,null,null,null,{"$f":"IFERROR(VLOOKUP(E1113,Insumos!A:C,2,FALSE),\"\")","v":""},null,null,null,0]
[null,null,null,null,null,{"$f":"IFERROR(VLOOKUP(E1114,Insumos!A:C,2,FALSE),\"\")","v":""},null,null,null,0]
[null,null,null,null,null,{"$f":"IFERROR(VLOOKUP(E1115,Insumos!A:C,2,FALSE),\"\")","v":""},null,null,null,0]
[null,null,null,null,null,{"$f":"IFERROR(VLOOKUP(E1116,Insumos!A:C,2,FALSE),\"\")","v":""},null,null,null,0]
[null,null,null,null,null,{"$f":"IFERROR(VLOOKUP(E1117,Insumos!A:C,2,FALSE),\"\")","v":""},null,null,null,0]
[null,null,null,null,null,{"$f":"IFERROR(VLOOKUP(E1118,Insumos!A:C,2,FALSE),\"\")","v":""},null,null,null,0]
[null,null,null,null,null,{"$f":"IFERROR(VLOOKUP(E1119,Insumos!A:C,2,FALSE),\"\")","v":""},null,null,null,0]
[null,null,null,null,null,{"$f":"IFERROR(VLOOKUP(E1120,Insumos!A:C,2,FALSE),\"\")","v":""},null,null,null,0]
[null,null,null,null,null,{"$f":"IFERROR(VLOOKUP(E1121,Insumos!A:C,2,FALSE),\"\")","v":""},null,null,null,0]
[null,null,null,null,null,{"$f":"IFERROR(VLOOKUP(E1122,Insumos!A:C,2,FALSE),\"\")","v":""},null,null,null,0]
[null,null,null,null,null,{"$f":"IFERROR(VLOOKUP(E1123,Insumos!A:C,2,FALSE),\"\")","v":""},null,null,null,0]
[null,null,null,null,null,{"$f":"IFERROR(VLOOKUP(E1124,Insumos!A:C,2,FALSE),\"\")","v":""},null,null,null,0]
[null,null,null,null,null,{"$f":"IFERROR(VLOOKUP(E1125,Insumos!A:C,2,FALSE),\"\")","v":""},null,null,null,0]
[null,null,null,null,null,{"$f":"IFERROR(VLOOKUP(E1126,Insumos!A:C,2,FALSE),\"\")","v":""},null,null,null,0]
[null,null,null,null,null,{"$f":"IFERROR(VLOOKUP(E1127,Insumos!A:C,2,FALSE),\"\")","v":""},null,null,null,0]
[null,null,null,null,null,{"$f":"IFERROR(VLOOKUP(E1128,Insumos!A:C,2,FALSE),\"\")","v":""},null,null,null,0]
[null,null,null,null,null,{"$f":"IFERROR(VLOOKUP(E1129,Insumos!A:C,2,FALSE),\"\")","v":""},null,null,null,0]
[null,null,null,null,null,{"$f":"IFERROR(VLOOKUP(E1130,Insumos!A:C,2,FALSE),\"\")","v":""},null,null,null,0]
[null,null,null,null,null,{"$f":"IFERROR(VLOOKUP(E1131,Insumos!A:C,2,FALSE),\"\")","v":""},null,null,null,0]
[null,null,null,null,null,{"$f":"IFERROR(VLOOKUP(E1132,Insumos!A:C,2,FALSE),\"\")","v":""},null,null,null,0]
[null,null,null,null,null,{"$f":"IFERROR(VLOOKUP(E1133,Insumos!A:C,2,FALSE),\"\")","v":""},null,null,null,0]
[null,null,null,null,null,{"$f":"IFERROR(VLOOKUP(E1134,Insumos!A:C,2,FALSE),\"\")","v":""},null,null,null,0]
[null,null,null,null,null,{"$f":"IFERROR(VLOOKUP(E1135,Insumos!A:C,2,FALSE),\"\")","v":""},null,null,null,0]
[null,null,null,null,null,{"$f":"IFERROR(VLOOKUP(E1136,Insumos!A:C,2,FALSE),\"\")","v":""},null,null,null,0]
[null,null,null,null,null,{"$f":"IFERROR(VLOOKUP(E1137,Insumos!A:C,2,FALSE),\"\")","v":""},null,null,null,0]
[null,null,null,null,null,{"$f":"IFERROR(VLOOKUP(E1138,Insumos!A:C,2,FALSE),\"\")","v":""},null,null,null,0]
[null,null,null,null,null,{"$f":"IFERROR(VLOOKUP(E1139,Insumos!A:C,2,FALSE),\"\")","v":""},null,null,null,0]
[null,null,null,null,null,{"$f":"IFERROR(VLOOKUP(E1140,Insumos!A:C,2,FALSE),\"\")","v":""},null,null,null,0]
[null,null,null,null,null,{"$f":"IFERROR(VLOOKUP(E1141,Insumos!A:C,2,FALSE),\"\")","v":""},null,null,null,0]
[null,null,null,null,null,{"$f":"IFERROR(VLOOKUP(E1142,Insumos!A:C,2,FALSE),\"\")","v":""},null,null,null,0]
[null,null,null,null,null,{"$f":"IFERROR(VLOOKUP(E1143,Insumos!A:C,2,FALSE),\"\")","v":""},null,null,null,0]
[null,null,null,null,null,{"$f":"IFERROR(VLOOKUP(E1144,Insumos!A:C,2,FALSE),\"\")","v":""},null,null,null,0]
[null,null,null,null,null,{"$f":"IFERROR(VLOOKUP(E1145,Insumos!A:C,2,FALSE),\"\")","v":""},null,null,null,0]
[null,null,null,null,null,{"$f":"IFERROR(VLOOKUP(E1146,Insumos!A:C,2,FALSE),\"\")","v":""},null,null,null,0]
[null,null,null,null,null,{"$f":"IFERROR(VLOOKUP(E1147,Insumos!A:C,2,FALSE),\"\")","v":""},null,null,null,0]
[null,null,null,null,null,{"$f":"IFERROR(VLOOKUP(E1148,Insumos!A:C,2,FALSE),\"\")","v":""},null,null,null,0]
[null,null,null,null,null,{"$f":"IFERROR(VLOOKUP(E1149,Insumos!A:C,2,FALSE),\"\")","v":""},null,null,null,0]
[null,null,null,null,null,{"$f":"IFERROR(VLOOKUP(E1150,Insumos!A:C,2,FALSE),\"\")","v":""},null,null,null,0]
[null,null,null,null,null,{"$f":"IFERROR(VLOOKUP(E1151,Insumos!A:C,2,FALSE),\"\")","v":""},null,null,null,0]
[null,null,null,null,null,{"$f":"IFERROR(VLOOKUP(E1152,Insumos!A:C,2,FALSE),\"\")","v":""},null,null,null,0]
[null,null,null,null,null,{"$f":"IFERROR(VLOOKUP(E1153,Insumos!A:C,2,FALSE),\"\")","v":""},null,null,null,0]
[null,null,null,null,null,{"$f":"IFERROR(VLOOKUP(E1154,Insumos!A:C,2,FALSE),\"\")","v":""},null,null,null,0]
[null,null,null,null,null,{"$f":"IFERROR(VLOOKUP(E1155,Insumos!A:C,2,FALSE),\"\")","v":""},null,null,null,0]
[null,null,null,null,null,{"$f":"IFERROR(VLOOKUP(E1156,Insumos!A:C,2,FALSE),\"\")","v":""},null,null,null,0]
[null,null,null,null,null,{"$f":"IFERROR(VLOOKUP(E1157,Insumos!A:C,2,FALSE),\"\")","v":""},null,null,null,{"$f":"IFERROR(H1157*I1157,\"\")","v":0}]
[null,null,null,null,null,{"$f":"IFERROR(VLOOKUP(E1158,Insumos!A:C,2,FALSE),\"\")","v":""},null,null,null,0]
[null,null,null,null,null,{"$f":"IFERROR(VLOOKUP(E1159,Insumos!A:C,2,FALSE),\"\")","v":""},null,null,null,0]
[null,null,null,null,null,{"$f":"IFERROR(VLOOKUP(E1160,Insumos!A:C,2,FALSE),\"\")","v":""},null,null,null,0]
[null,null,null,null,null,{"$f":"IFERROR(VLOOKUP(E1161,Insumos!A:C,2,FALSE),\"\")","v":""},null,null,null,0]
[null,null,null,null,null,{"$f":"IFERROR(VLOOKUP(E1162,Insumos!A:C,2,FALSE),\"\")","v":""},null,null,null,0]
[null,null,null,null,null,{"$f":"IFERROR(VLOOKUP(E1163,Insumos!A:C,2,FALSE),\"\")","v":""},null,null,null,0]
[null,null,null,null,null,{"$f":"IFERROR(VLOOKUP(E1164,Insumos!A:C,2,FALSE),\"\")","v":""},null,null,null,0]
[null,null,null,null,null,{"$f":"IFERROR(VLOOKUP(E1165,Insumos!A:C,2,FALSE),\"\")","v":""},null,null,null,0]
[null,null,null,null,null,{"$f":"IFERROR(VLOOKUP(E1166,Insumos!A:C,2,FALSE),\"\")","v":""},null,null,null,0]
[null,null,null,null,null,{"$f":"IFERROR(VLOOKUP(E1167,Insumos!A:C,2,FALSE),\"\")","v":""},null,null,null,0]
[null,null,null,null,null,{"$f":"IFERROR(VLOOKUP(E1168,Insumos!A:C,2,FALSE),\"\")","v":""},null,null,null,0]
[null,null,null,null,null,{"$f":"IFERROR(VLOOKUP(E1169,Insumos!A:C,2,FALSE),\"\")","v":""},null,null,null,0]
[null,null,null,null,null,{"$f":"IFERROR(VLOOKUP(E1170,Insumos!A:C,2,FALSE),\"\")","v":""},null,null,null,0]
[null,null,null,null,null,{"$f":"IFERROR(VLOOKUP(E1171,Insumos!A:C,2,FALSE),\"\")","v":""},null,null,null,0]
[null,null,null,null,null,{"$f":"IFERROR(VLOOKUP(E1172,Insumos!A:C,2,FALSE),\"\")","v":""},null,null,null,0]
[null,null,null,null,null,{"$f":"IFERROR(VLOOKUP(E1173,Insumos!A:C,2,FALSE),\"\")","v":""},null,null,null,0]
[null,null,null,null,null,{"$f":"IFERROR(VLOOKUP(E1174,Insumos!A:C,2,FALSE),\"\")","v":""},null,null,null,0]
[null,null,null,null,null,{"$f":"IFERROR(VLOOKUP(E1175,Insumos!A:C,2,FALSE),\"\")","v":""},null,null,null,0]
[null,null,null,null,null,{"$f":"IFERROR(VLOOKUP(E1176,Insumos!A:C,2,FALSE),\"\")","v":""},null,null,null,0]
[null,null,null,null,null,{"$f":"IFERROR(VLOOKUP(E1177,Insumos!A:C,2,FALSE),\"\")","v":""},null,null,null,0]
[null,null,null,null,null,{"$f":"IFERROR(VLOOKUP(E1178,Insumos!A:C,2,FALSE),\"\")","v":""},null,null,null,0]
[null,null,null,null,null,{"$f":"IFERROR(VLOOKUP(E1179,Insumos!A:C,2,FALSE),\"\")","v":""},null,null,null,0]
[null,null,null,null,null,{"$f":"IFERROR(VLOOKUP(E1180,Insumos!A:C,2,FALSE),\"\")","v":""},null,null,null,0]
[null,null,null,null,null,{"$f":"IFERROR(VLOOKUP(E1181,Insumos!A:C,2,FALSE),\"\")","v":""},null,null,null,0]
[null,null,null,null,null,{"$f":"IFERROR(VLOOKUP(E1182,Insumos!A:C,2,FALSE),\"\")","v":""},null,null,null,0]
[null,null,null,null,null,{"$f":"IFERROR(VLOOKUP(E1183,Insumos!A:C,2,FALSE),\"\")","v":""},null,null,null,0]
[null,null,null,null,null,{"$f":"IFERROR(VLOOKUP(E1184,Insumos!A:C,2,FALSE),\"\")","v":""},null,null,null,0]
[null,null,null,null,null,{"$f":"IFERROR(VLOOKUP(E1185,Insumos!A:C,2,FALSE),\"\")","v":""},null,null,null,0]
[null,null,null,null,null,{"$f":"IFERROR(VLOOKUP(E1186,Insumos!A:C,2,FALSE),\"\")","v":""},null,null,null,0]
[null,null,null,null,null,{"$f":"IFERROR(VLOOKUP(E1187,Insumos!A:C,2,FALSE),\"\")","v":""},null,null,null,0]
[null,null,null,null,null,{"$f":"IFERROR(VLOOKUP(E1188,Insumos!A:C,2,FALSE),\"\")","v":""},null,null,null,0]
[null,null,null,null,null,{"$f":"IFERROR(VLOOKUP(E1189,Insumos!A:C,2,FALSE),\"\")","v":""},null,null,null,0]
[null,null,null,null,null,{"$f":"IFERROR(VLOOKUP(E1190,Insumos!A:C,2,FALSE),\"\")","v":""},null,null,null,0]
[null,null,null,null,null,{"$f":"IFERROR(VLOOKUP(E1191,Insumos!A:C,2,FALSE),\"\")","v":""},null,null,null,0]
[null,null,null,null,null,{"$f":"IFERROR(VLOOKUP(E1192,Insumos!A:C,2,FALSE),\"\")","v":""},null,null,null,0]
[null,null,null,null,null,{"$f":"IFERROR(VLOOKUP(E1193,Insumos!A:C,2,FALSE),\"\")","v":""},null,null,null,0]
[null,null,null,null,null,{"$f":"IFERROR(VLOOKUP(E1194,Insumos!A:C,2,FALSE),\"\")","v":""},null,null,null,0]
[null,null,null,null,null,{"$f":"IFERROR(VLOOKUP(E1195,Insumos!A:C,2,FALSE),\"\")","v":""},null,null,null,0]
[null,null,null,null,null,{"$f":"IFERROR(VLOOKUP(E1196,Insumos!A:C,2,FALSE),\"\")","v":""},null,null,null,0]
[null,null,null,null,null,{"$f":"IFERROR(VLOOKUP(E1197,Insumos!A:C,2,FALSE),\"\")","v":""},null,null,null,0]
[null,null,null,null,null,{"$f":"IFERROR(VLOOKUP(E1198,Insumos!A:C,2,FALSE),\"\")","v":""},null,null,null,0]
[null,null,null,null,null,{"$f":"IFERROR(VLOOKUP(E1199,Insumos!A:C,2,FALSE),\"\")","v":""},null,null,null,0]
[null,null,null,null,null,{"$f":"IFERROR(VLOOKUP(E1200,Insumos!A:C,2,FALSE),\"\")","v":""},null,null,null,0]
[null,null,null,null,null,{"$f":"IFERROR(VLOOKUP(E1201,Insumos!A:C,2,FALSE),\"\")","v":""},null,null,null,0]
[null,null,null,null,null,{"$f":"IFERROR(VLOOKUP(E1202,Insumos!A:C,2,FALSE),\"\")","v":""},null,null,null,0]
[null,null,null,null,null,{"$f":"IFERROR(VLOOKUP(E1203,Insumos!A:C,2,FALSE),\"\")","v":""},null,null,null,0]
[null,null,null,null,null,{"$f":"IFERROR(VLOOKUP(E1204,Insumos!A:C,2,FALSE),\"\")","v":""},null,null,null,0]
[null,null,null,null,null,{"$f":"IFERROR(VLOOKUP(E1205,Insumos!A:C,2,FALSE),\"\")","v":""},null,null,null,0]
[null,null,null,null,null,{"$f":"IFERROR(VLOOKUP(E1206,Insumos!A:C,2,FALSE),\"\")","v":""},null,null,null,0]
[null,null,null,null,null,{"$f":"IFERROR(VLOOKUP(E1207,Insumos!A:C,2,FALSE),\"\")","v":""},null,null,null,0]
[null,null,null,null,null,{"$f":"IFERROR(VLOOKUP(E1208,Insumos!A:C,2,FALSE),\"\")","v":""},null,null,null,0]
[null,null,null,null,null,{"$f":"IFERROR(VLOOKUP(E1209,Insumos!A:C,2,FALSE),\"\")","v":""},null,null,null,0]
[null,null,null,null,null,{"$f":"IFERROR(VLOOKUP(E1210,Insumos!A:C,2,FALSE),\"\")","v":""},null,null,null,0]
[null,null,null,null,null,{"$f":"IFERROR(VLOOKUP(E1211,Insumos!A:C,2,FALSE),\"\")","v":""},null,null,null,0]
[null,null,null,null,null,{"$f":"IFERROR(VLOOKUP(E1212,Insumos!A:C,2,FALSE),\"\")","v":""},null,null,null,0]
[null,null,null,null,null,{"$f":"IFERROR(VLOOKUP(E1213,Insumos!A:C,2,FALSE),\"\")","v":""},null,null,null,0]
[null,null,null,null,null,{"$f":"IFERROR(VLOOKUP(E1214,Insumos!A:C,2,FALSE),\"\")","v":""},null,null,null,0]
[null,null,null,null,null,{"$f":"IFERROR(VLOOKUP(E1215,Insumos!A:C,2,FALSE),\"\")","v":""},null,null,null,0]
[null,null,null,null,null,{"$f":"IFERROR(VLOOKUP(E1216,Insumos!A:C,2,FALSE),\"\")","v":""},null,null,null,0]
[null,null,null,null,null,{"$f":"IFERROR(VLOOKUP(E1217,Insumos!A:C,2,FALSE),\"\")","v":""},null,null,null,0]
[null,null,null,null,null,{"$f":"IFERROR(VLOOKUP(E1218,Insumos!A:C,2,FALSE),\"\")","v":""},null,null,null,0]
[null,null,null,null,null,{"$f":"IFERROR(VLOOKUP(E1219,Insumos!A:C,2,FALSE),\"\")","v":""},null,null,null,0]
[null,null,null,null,null,{"$f":"IFERROR(VLOOKUP(E1220,Insumos!A:C,2,FALSE),\"\")","v":""},null,null,null,0]
[null,null,null,null,null,{"$f":"IFERROR(VLOOKUP(E1221,Insumos!A:C,2,FALSE),\"\")","v":""},null,null,null,{"$f":"IFERROR(H1221*I1221,\"\")","v":0}]
[null,null,null,null,null,{"$f":"IFERROR(VLOOKUP(E1222,Insumos!A:C,2,FALSE),\"\")","v":""},null,null,null,0]
[null,null,null,null,null,{"$f":"IFERROR(VLOOKUP(E1223,Insumos!A:C,2,FALSE),\"\")","v":""},null,null,null,0]
[null,null,null,null,null,{"$f":"IFERROR(VLOOKUP(E1224,Insumos!A:C,2,FALSE),\"\")","v":""},null,null,null,0]
[null,null,null,null,null,{"$f":"IFERROR(VLOOKUP(E1225,Insumos!A:C,2,FALSE),\"\")","v":""},null,null,null,0]
[null,null,null,null,null,{"$f":"IFERROR(VLOOKUP(E1226,Insumos!A:C,2,FALSE),\"\")","v":""},null,null,null,0]
[null,null,null,null,null,{"$f":"IFERROR(VLOOKUP(E1227,Insumos!A:C,2,FALSE),\"\")","v":""},null,null,null,0]
[null,null,null,null,null,{"$f":"IFERROR(VLOOKUP(E1228,Insumos!A:C,2,FALSE),\"\")","v":""},null,null,null,0]
[null,null,null,null,null,{"$f":"IFERROR(VLOOKUP(E1229,Insumos!A:C,2,FALSE),\"\")","v":""},null,null,null,0]
[null,null,null,null,null,{"$f":"IFERROR(VLOOKUP(E1230,Insumos!A:C,2,FALSE),\"\")","v":""},null,null,null,0]
[null,null,null,null,null,{"$f":"IFERROR(VLOOKUP(E1231,Insumos!A:C,2,FALSE),\"\")","v":""},null,null,null,0]
[null,null,null,null,null,{"$f":"IFERROR(VLOOKUP(E1232,Insumos!A:C,2,FALSE),\"\")","v":""},null,null,null,0]
[null,null,null,null,null,{"$f":"IFERROR(VLOOKUP(E1233,Insumos!A:C,2,FALSE),\"\")","v":""},null,null,null,0]
[null,null,null,null,null,{"$f":"IFERROR(VLOOKUP(E1234,Insumos!A:C,2,FALSE),\"\")","v":""},null,null,null,0]
[null,null,null,null,null,{"$f":"IFERROR(VLOOKUP(E1235,Insumos!A:C,2,FALSE),\"\")","v":""},null,null,null,0]
[null,null,null,null,null,{"$f":"IFERROR(VLOOKUP(E1236,Insumos!A:C,2,FALSE),\"\")","v":""},null,null,null,0]
[null,null,null,null,null,{"$f":"IFERROR(VLOOKUP(E1237,Insumos!A:C,2,FALSE),\"\")","v":""},null,null,null,0]
[null,null,null,null,null,{"$f":"IFERROR(VLOOKUP(E1238,Insumos!A:C,2,FALSE),\"\")","v":""},null,null,null,0]
[null,null,null,null,null,{"$f":"IFERROR(VLOOKUP(E1239,Insumos!A:C,2,FALSE),\"\")","v":""},null,null,null,0]
[null,null,null,null,null,{"$f":"IFERROR(VLOOKUP(E1240,Insumos!A:C,2,FALSE),\"\")","v":""},null,null,null,0]
[null,null,null,null,null,{"$f":"IFERROR(VLOOKUP(E1241,Insumos!A:C,2,FALSE),\"\")","v":""},null,null,null,0]
[null,null,null,null,null,{"$f":"IFERROR(VLOOKUP(E1242,Insumos!A:C,2,FALSE),\"\")","v":""},null,null,null,0]
[null,null,null,null,null,{"$f":"IFERROR(VLOOKUP(E1243,Insumos!A:C,2,FALSE),\"\")","v":""},null,null,null,0]
[null,null,null,null,null,{"$f":"IFERROR(VLOOKUP(E1244,Insumos!A:C,2,FALSE),\"\")","v":""},null,null,null,0]
[null,null,null,null,null,{"$f":"IFERROR(VLOOKUP(E1245,Insumos!A:C,2,FALSE),\"\")","v":""},null,null,null,0]
[null,null,null,null,null,{"$f":"IFERROR(VLOOKUP(E1246,Insumos!A:C,2,FALSE),\"\")","v":""},null,null,null,0]
[null,null,null,null,null,{"$f":"IFERROR(VLOOKUP(E1247,Insumos!A:C,2,FALSE),\"\")","v":""},null,null,null,0]
[null,null,null,null,null,{"$f":"IFERROR(VLOOKUP(E1248,Insumos!A:C,2,FALSE),\"\")","v":""},null,null,null,0]
[null,null,null,null,null,{"$f":"IFERROR(VLOOKUP(E1249,Insumos!A:C,2,FALSE),\"\")","v":""},null,null,null,0]
[null,null,null,null,null,{"$f":"IFERROR(VLOOKUP(E1250,Insumos!A:C,2,FALSE),\"\")","v":""},null,null,null,0]
[null,null,null,null,null,{"$f":"IFERROR(VLOOKUP(E1251,Insumos!A:C,2,FALSE),\"\")","v":""},null,null,null,0]
[null,null,null,null,null,{"$f":"IFERROR(VLOOKUP(E1252,Insumos!A:C,2,FALSE),\"\")","v":""},null,null,null,0]
[null,null,null,null,null,{"$f":"IFERROR(VLOOKUP(E1253,Insumos!A:C,2,FALSE),\"\")","v":""},null,null,null,0]
[null,null,null,null,null,{"$f":"IFERROR(VLOOKUP(E1254,Insumos!A:C,2,FALSE),\"\")","v":""},null,null,null,0]
[null,null,null,null,null,{"$f":"IFERROR(VLOOKUP(E1255,Insumos!A:C,2,FALSE),\"\")","v":""},null,null,null,0]
[null,null,null,null,null,{"$f":"IFERROR(VLOOKUP(E1256,Insumos!A:C,2,FALSE),\"\")","v":""},null,null,null,0]
[null,null,null,null,null,{"$f":"IFERROR(VLOOKUP(E1257,Insumos!A:C,2,FALSE),\"\")","v":""},null,null,null,0]
[null,null,null,null,null,{"$f":"IFERROR(VLOOKUP(E1258,Insumos!A:C,2,FALSE),\"\")","v":""},null,null,null,0]
[null,null,null,null,null,{"$f":"IFERROR(VLOOKUP(E1259,Insumos!A:C,2,FALSE),\"\")","v":""},null,null,null,0]
[null,null,null,null,null,{"$f":"IFERROR(VLOOKUP(E1260,Insumos!A:C,2,FALSE),\"\")","v":""},null,null,null,0]
[null,null,null,null,null,{"$f":"IFERROR(VLOOKUP(E1261,Insumos!A:C,2,FALSE),\"\")","v":""},null,null,null,0]
[null,null,null,null,null,{"$f":"IFERROR(VLOOKUP(E1262,Insumos!A:C,2,FALSE),\"\")","v":""},null,null,null,0]
[null,null,null,null,null,{"$f":"IFERROR(VLOOKUP(E1263,Insumos!A:C,2,FALSE),\"\")","v":""},null,null,null,0]
[null,null,null,null,null,{"$f":"IFERROR(VLOOKUP(E1264,Insumos!A:C,2,FALSE),\"\")","v":""},null,null,null,0]
[null,null,null,null,null,{"$f":"IFERROR(VLOOKUP(E1265,Insumos!A:C,2,FALSE),\"\")","v":""},null,null,null,0]
[null,null,null,null,null,{"$f":"IFERROR(VLOOKUP(E1266,Insumos!A:C,2,FALSE),\"\")","v":""},null,null,null,0]
[null,null,null,null,null,{"$f":"IFERROR(VLOOKUP(E1267,Insumos!A:C,2,FALSE),\"\")","v":""},null,null,null,0]
[null,null,null,null,null,{"$f":"IFERROR(VLOOKUP(E1268,Insumos!A:C,2,FALSE),\"\")","v":""},null,null,null,0]
[null,null,null,null,null,{"$f":"IFERROR(VLOOKUP(E1269,Insumos!A:C,2,FALSE),\"\")","v":""},null,null,null,0]
[null,null,null,null,null,{"$f":"IFERROR(VLOOKUP(E1270,Insumos!A:C,2,FALSE),\"\")","v":""},null,null,null,0]
[null,null,null,null,null,{"$f":"IFERROR(VLOOKUP(E1271,Insumos!A:C,2,FALSE),\"\")","v":""},null,null,null,0]
[null,null,null,null,null,{"$f":"IFERROR(VLOOKUP(E1272,Insumos!A:C,2,FALSE),\"\")","v":""},null,null,null,0]
[null,null,null,null,null,{"$f":"IFERROR(VLOOKUP(E1273,Insumos!A:C,2,FALSE),\"\")","v":""},null,null,null,0]
[null,null,null,null,null,{"$f":"IFERROR(VLOOKUP(E1274,Insumos!A:C,2,FALSE),\"\")","v":""},null,null,null,0]
[null,null,null,null,null,{"$f":"IFERROR(VLOOKUP(E1275,Insumos!A:C,2,FALSE),\"\")","v":""},null,null,null,0]
[null,null,null,null,null,{"$f":"IFERROR(VLOOKUP(E1276,Insumos!A:C,2,FALSE),\"\")","v":""},null,null,null,0]
[null,null,null,null,null,{"$f":"IFERROR(VLOOKUP(E1277,Insumos!A:C,2,FALSE),\"\")","v":""},null,null,null,0]
[null,null,null,null,null,{"$f":"IFERROR(VLOOKUP(E1278,Insumos!A:C,2,FALSE),\"\")","v":""},null,null,null,0]
[null,null,null,null,null,{"$f":"IFERROR(VLOOKUP(E1279,Insumos!A:C,2,FALSE),\"\")","v":""},null,null,null,0]
[null,null,null,null,null,{"$f":"IFERROR(VLOOKUP(E1280,Insumos!A:C,2,FALSE),\"\")","v":""},null,null,null,0]
[null,null,null,null,null,{"$f":"IFERROR(VLOOKUP(E1281,Insumos!A:C,2,FALSE),\"\")","v":""},null,null,null,0]
[null,null,null,null,null,{"$f":"IFERROR(VLOOKUP(E1282,Insumos!A:C,2,FALSE),\"\")","v":""},null,null,null,0]
[null,null,null,null,null,{"$f":"IFERROR(VLOOKUP(E1283,Insumos!A:C,2,FALSE),\"\")","v":""},null,null,null,0]
[null,null,null,null,null,{"$f":"IFERROR(VLOOKUP(E1284,Insumos!A:C,2,FALSE),\"\")","v":""},null,null,null,0]
[null,null,null,null,null,{"$f":"IFERROR(VLOOKUP(E1285,Insumos!A:C,2,FALSE),\"\")","v":""},null,null,null,{"$f":"IFERROR(H1285*I1285,\"\")","v":0}]
[null,null,null,null,null,{"$f":"IFERROR(VLOOKUP(E1286,Insumos!A:C,2,FALSE),\"\")","v":""},null,null,null,0]
[null,null,null,null,null,{"$f":"IFERROR(VLOOKUP(E1287,Insumos!A:C,2,FALSE),\"\")","v":""},null,null,null,0]
[null,null,null,null,null,{"$f":"IFERROR(VLOOKUP(E1288,Insumos!A:C,2,FALSE),\"\")","v":""},null,null,null,0]
[null,null,null,null,null,{"$f":"IFERROR(VLOOKUP(E1289,Insumos!A:C,2,FALSE),\"\")","v":""},null,null,null,0]
[null,null,null,null,null,{"$f":"IFERROR(VLOOKUP(E1290,Insumos!A:C,2,FALSE),\"\")","v":""},null,null,null,0]
[null,null,null,null,null,{"$f":"IFERROR(VLOOKUP(E1291,Insumos!A:C,2,FALSE),\"\")","v":""},null,null,null,0]
[null,null,null,null,null,{"$f":"IFERROR(VLOOKUP(E1292,Insumos!A:C,2,FALSE),\"\")","v":""},null,null,null,0]
[null,null,null,null,null,{"$f":"IFERROR(VLOOKUP(E1293,Insumos!A:C,2,FALSE),\"\")","v":""},null,null,null,0]
[null,null,null,null,null,{"$f":"IFERROR(VLOOKUP(E1294,Insumos!A:C,2,FALSE),\"\")","v":""},null,null,null,0]
[null,null,null,null,null,{"$f":"IFERROR(VLOOKUP(E1295,Insumos!A:C,2,FALSE),\"\")","v":""},null,null,null,0]
[null,null,null,null,null,{"$f":"IFERROR(VLOOKUP(E1296,Insumos!A:C,2,FALSE),\"\")","v":""},null,null,null,0]
[null,null,null,null,null,{"$f":"IFERROR(VLOOKUP(E1297,Insumos!A:C,2,FALSE),\"\")","v":""},null,null,null,0]
[null,null,null,null,null,{"$f":"IFERROR(VLOOKUP(E1298,Insumos!A:C,2,FALSE),\"\")","v":""},null,null,null,0]
[null,null,null,null,null,{"$f":"IFERROR(VLOOKUP(E1299,Insumos!A:C,2,FALSE),\"\")","v":""},null,null,null,0]
[null,null,null,null,null,{"$f":"IFERROR(VLOOKUP(E1300,Insumos!A:C,2,FALSE),\"\")","v":""},null,null,null,0]
[null,null,null,null,null,{"$f":"IFERROR(VLOOKUP(E1301,Insumos!A:C,2,FALSE),\"\")","v":""},null,null,null,0]
[null,null,null,null,null,{"$f":"IFERROR(VLOOKUP(E1302,Insumos!A:C,2,FALSE),\"\")","v":""},null,null,null,0]
[null,null,null,null,null,{"$f":"IFERROR(VLOOKUP(E1303,Insumos!A:C,2,FALSE),\"\")","v":""},null,null,null,0]
[null,null,null,null,null,{"$f":"IFERROR(VLOOKUP(E1304,Insumos!A:C,2,FALSE),\"\")","v":""},null,null,null,0]
[null,null,null,null,null,{"$f":"IFERROR(VLOOKUP(E1305,Insumos!A:C,2,FALSE),\"\")","v":""},null,null,null,0]
[null,null,null,null,null,{"$f":"IFERROR(VLOOKUP(E1306,Insumos!A:C,2,FALSE),\"\")","v":""},null,null,null,0]
[null,null,null,null,null,{"$f":"IFERROR(VLOOKUP(E1307,Insumos!A:C,2,FALSE),\"\")","v":""},null,null,null,0]
[null,null,null,null,null,{"$f":"IFERROR(VLOOKUP(E1308,Insumos!A:C,2,FALSE),\"\")","v":""},null,null,null,0]
[null,null,null,null,null,{"$f":"IFERROR(VLOOKUP(E1309,Insumos!A:C,2,FALSE),\"\")","v":""},null,null,null,0]
[null,null,null,null,null,{"$f":"IFERROR(VLOOKUP(E1310,Insumos!A:C,2,FALSE),\"\")","v":""},null,null,null,0]
[null,null,null,null,null,{"$f":"IFERROR(VLOOKUP(E1311,Insumos!A:C,2,FALSE),\"\")","v":""},null,null,null,0]
[null,null,null,null,null,{"$f":"IFERROR(VLOOKUP(E1312,Insumos!A:C,2,FALSE),\"\")","v":""},null,null,null,0]
[null,null,null,null,null,{"$f":"IFERROR(VLOOKUP(E1313,Insumos!A:C,2,FALSE),\"\")","v":""},null,null,null,0]
[null,null,null,null,null,{"$f":"IFERROR(VLOOKUP(E1314,Insumos!A:C,2,FALSE),\"\")","v":""},null,null,null,0]
[null,null,null,null,null,{"$f":"IFERROR(VLOOKUP(E1315,Insumos!A:C,2,FALSE),\"\")","v":""},null,null,null,0]
[null,null,null,null,null,{"$f":"IFERROR(VLOOKUP(E1316,Insumos!A:C,2,FALSE),\"\")","v":""},null,null,null,0]
[null,null,null,null,null,{"$f":"IFERROR(VLOOKUP(E1317,Insumos!A:C,2,FALSE),\"\")","v":""},null,null,null,0]
[null,null,null,null,null,{"$f":"IFERROR(VLOOKUP(E1318,Insumos!A:C,2,FALSE),\"\")","v":""},null,null,null,0]
[null,null,null,null,null,{"$f":"IFERROR(VLOOKUP(E1319,Insumos!A:C,2,FALSE),\"\")","v":""},null,null,null,0]
[null,null,null,null,null,{"$f":"IFERROR(VLOOKUP(E1320,Insumos!A:C,2,FALSE),\"\")","v":""},null,null,null,0]
[null,null,null,null,null,{"$f":"IFERROR(VLOOKUP(E1321,Insumos!A:C,2,FALSE),\"\")","v":""},null,null,null,0]
[null,null,null,null,null,{"$f":"IFERROR(VLOOKUP(E1322,Insumos!A:C,2,FALSE),\"\")","v":""},null,null,null,0]
[null,null,null,null,null,{"$f":"IFERROR(VLOOKUP(E1323,Insumos!A:C,2,FALSE),\"\")","v":""},null,null,null,0]
[null,null,null,null,null,{"$f":"IFERROR(VLOOKUP(E1324,Insumos!A:C,2,FALSE),\"\")","v":""},null,null,null,0]
[null,null,null,null,null,{"$f":"IFERROR(VLOOKUP(E1325,Insumos!A:C,2,FALSE),\"\")","v":""},null,null,null,0]
[null,null,null,null,null,{"$f":"IFERROR(VLOOKUP(E1326,Insumos!A:C,2,FALSE),\"\")","v":""},null,null,null,0]
[null,null,null,null,null,{"$f":"IFERROR(VLOOKUP(E1327,Insumos!A:C,2,FALSE),\"\")","v":""},null,null,null,0]
[null,null,null,null,null,{"$f":"IFERROR(VLOOKUP(E1328,Insumos!A:C,2,FALSE),\"\")","v":""},null,null,null,0]
[null,null,null,null,null,{"$f":"IFERROR(VLOOKUP(E1329,Insumos!A:C,2,FALSE),\"\")","v":""},null,null,null,0]
[null,null,null,null,null,{"$f":"IFERROR(VLOOKUP(E1330,Insumos!A:C,2,FALSE),\"\")","v":""},null,null,null,0]
[null,null,null,null,null,{"$f":"IFERROR(VLOOKUP(E1331,Insumos!A:C,2,FALSE),\"\")","v":""},null,null,null,0]
[null,null,null,null,null,{"$f":"IFERROR(VLOOKUP(E1332,Insumos!A:C,2,FALSE),\"\")","v":""},null,null,null,0]
[null,null,null,null,null,{"$f":"IFERROR(VLOOKUP(E1333,Insumos!A:C,2,FALSE),\"\")","v":""},null,null,null,0]
[null,null,null,null,null,{"$f":"IFERROR(VLOOKUP(E1334,Insumos!A:C,2,FALSE),\"\")","v":""},null,null,null,0]
[null,null,null,null,null,{"$f":"IFERROR(VLOOKUP(E1335,Insumos!A:C,2,FALSE),\"\")","v":""},null,null,null,0]
[null,null,null,null,null,{"$f":"IFERROR(VLOOKUP(E1336,Insumos!A:C,2,FALSE),\"\")","v":""},null,null,null,0]
[null,null,null,null,null,{"$f":"IFERROR(VLOOKUP(E1337,Insumos!A:C,2,FALSE),\"\")","v":""},null,null,null,0]
[null,null,null,null,null,{"$f":"IFERROR(VLOOKUP(E1338,Insumos!A:C,2,FALSE),\"\")","v":""},null,null,null,0]
[null,null,null,null,null,{"$f":"IFERROR(VLOOKUP(E1339,Insumos!A:C,2,FALSE),\"\")","v":""},null,null,null,0]
[null,null,null,null,null,{"$f":"IFERROR(VLOOKUP(E1340,Insumos!A:C,2,FALSE),\"\")","v":""},null,null,null,0]
[null,null,null,null,null,{"$f":"IFERROR(VLOOKUP(E1341,Insumos!A:C,2,FALSE),\"\")","v":""},null,null,null,0]
[null,null,null,null,null,{"$f":"IFERROR(VLOOKUP(E1342,Insumos!A:C,2,FALSE),\"\")","v":""},null,null,null,0]
[null,null,null,null,null,{"$f":"IFERROR(VLOOKUP(E1343,Insumos!A:C,2,FALSE),\"\")","v":""},null,null,null,0]
[null,null,null,null,null,{"$f":"IFERROR(VLOOKUP(E1344,Insumos!A:C,2,FALSE),\"\")","v":""},null,null,null,0]
[null,null,null,null,null,{"$f":"IFERROR(VLOOKUP(E1345,Insumos!A:C,2,FALSE),\"\")","v":""},null,null,null,0]
[null,null,null,null,null,{"$f":"IFERROR(VLOOKUP(E1346,Insumos!A:C,2,FALSE),\"\")","v":""},null,null,null,0]
[null,null,null,null,null,{"$f":"IFERROR(VLOOKUP(E1347,Insumos!A:C,2,FALSE),\"\")","v":""},null,null,null,0]
[null,null,null,null,null,{"$f":"IFERROR(VLOOKUP(E1348,Insumos!A:C,2,FALSE),\"\")","v":""},null,null,null,0]
[null,null,null,null,null,{"$f":"IFERROR(VLOOKUP(E1349,Insumos!A:C,2,FALSE),\"\")","v":""},null,null,null,{"$f":"IFERROR(H1349*I1349,\"\")","v":0}]
[null,null,null,null,null,{"$f":"IFERROR(VLOOKUP(E1350,Insumos!A:C,2,FALSE),\"\")","v":""},null,null,null,0]
[null,null,null,null,null,{"$f":"IFERROR(VLOOKUP(E1351,Insumos!A:C,2,FALSE),\"\")","v":""},null,null,null,0]
[null,null,null,null,null,{"$f":"IFERROR(VLOOKUP(E1352,Insumos!A:C,2,FALSE),\"\")","v":""},null,null,null,0]
[null,null,null,null,null,{"$f":"IFERROR(VLOOKUP(E1353,Insumos!A:C,2,FALSE),\"\")","v":""},null,null,null,0]
[null,null,null,null,null,{"$f":"IFERROR(VLOOKUP(E1354,Insumos!A:C,2,FALSE),\"\")","v":""},null,null,null,0]
[null,null,null,null,null,{"$f":"IFERROR(VLOOKUP(E1355,Insumos!A:C,2,FALSE),\"\")","v":""},null,null,null,0]
[null,null,null,null,null,{"$f":"IFERROR(VLOOKUP(E1356,Insumos!A:C,2,FALSE),\"\")","v":""},null,null,null,0]
[null,null,null,null,null,{"$f":"IFERROR(VLOOKUP(E1357,Insumos!A:C,2,FALSE),\"\")","v":""},null,null,null,0]
[null,null,null,null,null,{"$f":"IFERROR(VLOOKUP(E1358,Insumos!A:C,2,FALSE),\"\")","v":""},null,null,null,0]
[null,null,null,null,null,{"$f":"IFERROR(VLOOKUP(E1359,Insumos!A:C,2,FALSE),\"\")","v":""},null,null,null,0]
[null,null,null,null,null,{"$f":"IFERROR(VLOOKUP(E1360,Insumos!A:C,2,FALSE),\"\")","v":""},null,null,null,0]
[null,null,null,null,null,{"$f":"IFERROR(VLOOKUP(E1361,Insumos!A:C,2,FALSE),\"\")","v":""},null,null,null,0]
[null,null,null,null,null,{"$f":"IFERROR(VLOOKUP(E1362,Insumos!A:C,2,FALSE),\"\")","v":""},null,null,null,0]
[null,null,null,null,null,{"$f":"IFERROR(VLOOKUP(E1363,Insumos!A:C,2,FALSE),\"\")","v":""},null,null,null,0]
[null,null,null,null,null,{"$f":"IFERROR(VLOOKUP(E1364,Insumos!A:C,2,FALSE),\"\")","v":""},null,null,null,0]
[null,null,null,null,null,{"$f":"IFERROR(VLOOKUP(E1365,Insumos!A:C,2,FALSE),\"\")","v":""},null,null,null,0]
[null,null,null,null,null,{"$f":"IFERROR(VLOOKUP(E1366,Insumos!A:C,2,FALSE),\"\")","v":""},null,null,null,0]
[null,null,null,null,null,{"$f":"IFERROR(VLOOKUP(E1367,Insumos!A:C,2,FALSE),\"\")","v":""},null,null,null,0]
[null,null,null,null,null,{"$f":"IFERROR(VLOOKUP(E1368,Insumos!A:C,2,FALSE),\"\")","v":""},null,null,null,0]
[null,null,null,null,null,{"$f":"IFERROR(VLOOKUP(E1369,Insumos!A:C,2,FALSE),\"\")","v":""},null,null,null,0]
[null,null,null,null,null,{"$f":"IFERROR(VLOOKUP(E1370,Insumos!A:C,2,FALSE),\"\")","v":""},null,null,null,0]
[null,null,null,null,null,{"$f":"IFERROR(VLOOKUP(E1371,Insumos!A:C,2,FALSE),\"\")","v":""},null,null,null,0]
[null,null,null,null,null,{"$f":"IFERROR(VLOOKUP(E1372,Insumos!A:C,2,FALSE),\"\")","v":""},null,null,null,0]
[null,null,null,null,null,{"$f":"IFERROR(VLOOKUP(E1373,Insumos!A:C,2,FALSE),\"\")","v":""},null,null,null,0]
[null,null,null,null,null,{"$f":"IFERROR(VLOOKUP(E1374,Insumos!A:C,2,FALSE),\"\")","v":""},null,null,null,0]
[null,null,null,null,null,{"$f":"IFERROR(VLOOKUP(E1375,Insumos!A:C,2,FALSE),\"\")","v":""},null,null,null,0]
[null,null,null,null,null,{"$f":"IFERROR(VLOOKUP(E1376,Insumos!A:C,2,FALSE),\"\")","v":""},null,null,null,0]
[null,null,null,null,null,{"$f":"IFERROR(VLOOKUP(E1377,Insumos!A:C,2,FALSE),\"\")","v":""},null,null,null,0]
[null,null,null,null,null,{"$f":"IFERROR(VLOOKUP(E1378,Insumos!A:C,2,FALSE),\"\")","v":""},null,null,null,0]
[null,null,null,null,null,{"$f":"IFERROR(VLOOKUP(E1379,Insumos!A:C,2,FALSE),\"\")","v":""},null,null,null,0]
[null,null,null,null,null,{"$f":"IFERROR(VLOOKUP(E1380,Insumos!A:C,2,FALSE),\"\")","v":""},null,null,null,0]
[null,null,null,null,null,{"$f":"IFERROR(VLOOKUP(E1381,Insumos!A:C,2,FALSE),\"\")","v":""},null,null,null,0]
[null,null,null,null,null,{"$f":"IFERROR(VLOOKUP(E1382,Insumos!A:C,2,FALSE),\"\")","v":""},null,null,null,0]
[null,null,null,null,null,{"$f":"IFERROR(VLOOKUP(E1383,Insumos!A:C,2,FALSE),\"\")","v":""},null,null,null,0]
[null,null,null,null,null,{"$f":"IFERROR(VLOOKUP(E1384,Insumos!A:C,2,FALSE),\"\")","v":""},null,null,null,0]
[null,null,null,null,null,{"$f":"IFERROR(VLOOKUP(E1385,Insumos!A:C,2,FALSE),\"\")","v":""},null,null,null,0]
[null,null,null,null,null,{"$f":"IFERROR(VLOOKUP(E1386,Insumos!A:C,2,FALSE),\"\")","v":""},null,null,null,0]
[null,null,null,null,null,{"$f":"IFERROR(VLOOKUP(E1387,Insumos!A:C,2,FALSE),\"\")","v":""},null,null,null,0]
[null,null,null,null,null,{"$f":"IFERROR(VLOOKUP(E1388,Insumos!A:C,2,FALSE),\"\")","v":""},null,null,null,0]
[null,null,null,null,null,{"$f":"IFERROR(VLOOKUP(E1389,Insumos!A:C,2,FALSE),\"\")","v":""},null,null,null,0]
[null,null,null,null,null,{"$f":"IFERROR(VLOOKUP(E1390,Insumos!A:C,2,FALSE),\"\")","v":""},null,null,null,0]
[null,null,null,null,null,{"$f":"IFERROR(VLOOKUP(E1391,Insumos!A:C,2,FALSE),\"\")","v":""},null,null,null,0]
[null,null,null,null,null,{"$f":"IFERROR(VLOOKUP(E1392,Insumos!A:C,2,FALSE),\"\")","v":""},null,null,null,0]
[null,null,null,null,null,{"$f":"IFERROR(VLOOKUP(E1393,Insumos!A:C,2,FALSE),\"\")","v":""},null,null,null,0]
[null,null,null,null,null,{"$f":"IFERROR(VLOOKUP(E1394,Insumos!A:C,2,FALSE),\"\")","v":""},null,null,null,0]
[null,null,null,null,null,{"$f":"IFERROR(VLOOKUP(E1395,Insumos!A:C,2,FALSE),\"\")","v":""},null,null,null,0]
[null,null,null,null,null,{"$f":"IFERROR(VLOOKUP(E1396,Insumos!A:C,2,FALSE),\"\")","v":""},null,null,null,0]
[null,null,null,null,null,{"$f":"IFERROR(VLOOKUP(E1397,Insumos!A:C,2,FALSE),\"\")","v":""},null,null,null,0]
[null,null,null,null,null,{"$f":"IFERROR(VLOOKUP(E1398,Insumos!A:C,2,FALSE),\"\")","v":""},null,null,null,0]
[null,null,null,null,null,{"$f":"IFERROR(VLOOKUP(E1399,Insumos!A:C,2,FALSE),\"\")","v":""},null,null,null,0]
[null,null,null,null,null,{"$f":"IFERROR(VLOOKUP(E1400,Insumos!A:C,2,FALSE),\"\")","v":""},null,null,null,0]
[null,null,null,null,null,{"$f":"IFERROR(VLOOKUP(E1401,Insumos!A:C,2,FALSE),\"\")","v":""},null,null,null,0]
[null,null,null,null,null,{"$f":"IFERROR(VLOOKUP(E1402,Insumos!A:C,2,FALSE),\"\")","v":""},null,null,null,0]
[null,null,null,null,null,{"$f":"IFERROR(VLOOKUP(E1403,Insumos!A:C,2,FALSE),\"\")","v":""},null,null,null,0]
[null,null,null,null,null,{"$f":"IFERROR(VLOOKUP(E1404,Insumos!A:C,2,FALSE),\"\")","v":""},null,null,null,0]
[null,null,null,null,null,{"$f":"IFERROR(VLOOKUP(E1405,Insumos!A:C,2,FALSE),\"\")","v":""},null,null,null,0]
[null,null,null,null,null,{"$f":"IFERROR(VLOOKUP(E1406,Insumos!A:C,2,FALSE),\"\")","v":""},null,null,null,0]
[null,null,null,null,null,{"$f":"IFERROR(VLOOKUP(E1407,Insumos!A:C,2,FALSE),\"\")","v":""},null,null,null,0]
[null,null,null,null,null,{"$f":"IFERROR(VLOOKUP(E1408,Insumos!A:C,2,FALSE),\"\")","v":""},null,null,null,0]
[null,null,null,null,null,{"$f":"IFERROR(VLOOKUP(E1409,Insumos!A:C,2,FALSE),\"\")","v":""},null,null,null,0]
[null,null,null,null,null,{"$f":"IFERROR(VLOOKUP(E1410,Insumos!A:C,2,FALSE),\"\")","v":""},null,null,null,0]
[null,null,null,null,null,{"$f":"IFERROR(VLOOKUP(E1411,Insumos!A:C,2,FALSE),\"\")","v":""},null,null,null,0]
[null,null,null,null,null,{"$f":"IFERROR(VLOOKUP(E1412,Insumos!A:C,2,FALSE),\"\")","v":""},null,null,null,0]
[null,null,null,null,null,{"$f":"IFERROR(VLOOKUP(E1413,Insumos!A:C,2,FALSE),\"\")","v":""},null,null,null,{"$f":"IFERROR(H1413*I1413,\"\")","v":0}]
[null,null,null,null,null,{"$f":"IFERROR(VLOOKUP(E1414,Insumos!A:C,2,FALSE),\"\")","v":""},null,null,null,0]
[null,null,null,null,null,{"$f":"IFERROR(VLOOKUP(E1415,Insumos!A:C,2,FALSE),\"\")","v":""},null,null,null,0]
[null,null,null,null,null,{"$f":"IFERROR(VLOOKUP(E1416,Insumos!A:C,2,FALSE),\"\")","v":""},null,null,null,0]
[null,null,null,null,null,{"$f":"IFERROR(VLOOKUP(E1417,Insumos!A:C,2,FALSE),\"\")","v":""},null,null,null,0]
[null,null,null,null,null,{"$f":"IFERROR(VLOOKUP(E1418,Insumos!A:C,2,FALSE),\"\")","v":""},null,null,null,0]
[null,null,null,null,null,{"$f":"IFERROR(VLOOKUP(E1419,Insumos!A:C,2,FALSE),\"\")","v":""},null,null,null,0]
[null,null,null,null,null,{"$f":"IFERROR(VLOOKUP(E1420,Insumos!A:C,2,FALSE),\"\")","v":""},null,null,null,0]
[null,null,null,null,null,{"$f":"IFERROR(VLOOKUP(E1421,Insumos!A:C,2,FALSE),\"\")","v":""},null,null,null,0]
[null,null,null,null,null,{"$f":"IFERROR(VLOOKUP(E1422,Insumos!A:C,2,FALSE),\"\")","v":""},null,null,null,0]
[null,null,null,null,null,{"$f":"IFERROR(VLOOKUP(E1423,Insumos!A:C,2,FALSE),\"\")","v":""},null,null,null,0]
[null,null,null,null,null,{"$f":"IFERROR(VLOOKUP(E1424,Insumos!A:C,2,FALSE),\"\")","v":""},null,null,null,0]
[null,null,null,null,null,{"$f":"IFERROR(VLOOKUP(E1425,Insumos!A:C,2,FALSE),\"\")","v":""},null,null,null,0]
[null,null,null,null,null,{"$f":"IFERROR(VLOOKUP(E1426,Insumos!A:C,2,FALSE),\"\")","v":""},null,null,null,0]
[null,null,null,null,null,{"$f":"IFERROR(VLOOKUP(E1427,Insumos!A:C,2,FALSE),\"\")","v":""},null,null,null,0]
[null,null,null,null,null,{"$f":"IFERROR(VLOOKUP(E1428,Insumos!A:C,2,FALSE),\"\")","v":""},null,null,null,0]
[null,null,null,null,null,{"$f":"IFERROR(VLOOKUP(E1429,Insumos!A:C,2,FALSE),\"\")","v":""},null,null,null,0]
[null,null,null,null,null,{"$f":"IFERROR(VLOOKUP(E1430,Insumos!A:C,2,FALSE),\"\")","v":""},null,null,null,0]
[null,null,null,null,null,{"$f":"IFERROR(VLOOKUP(E1431,Insumos!A:C,2,FALSE),\"\")","v":""},null,null,null,0]
[null,null,null,null,null,{"$f":"IFERROR(VLOOKUP(E1432,Insumos!A:C,2,FALSE),\"\")","v":""},null,null,null,0]
[null,null,null,null,null,{"$f":"IFERROR(VLOOKUP(E1433,Insumos!A:C,2,FALSE),\"\")","v":""},null,null,null,0]
[null,null,null,null,null,{"$f":"IFERROR(VLOOKUP(E1434,Insumos!A:C,2,FALSE),\"\")","v":""},null,null,null,0]
[null,null,null,null,null,{"$f":"IFERROR(VLOOKUP(E1435,Insumos!A:C,2,FALSE),\"\")","v":""},null,null,null,0]
[null,null,null,null,null,{"$f":"IFERROR(VLOOKUP(E1436,Insumos!A:C,2,FALSE),\"\")","v":""},null,null,null,0]
[null,null,null,null,null,{"$f":"IFERROR(VLOOKUP(E1437,Insumos!A:C,2,FALSE),\"\")","v":""},null,null,null,0]
[null,null,null,null,null,{"$f":"IFERROR(VLOOKUP(E1438,Insumos!A:C,2,FALSE),\"\")","v":""},null,null,null,0]
[null,null,null,null,null,{"$f":"IFERROR(VLOOKUP(E1439,Insumos!A:C,2,FALSE),\"\")","v":""},null,null,null,0]
[null,null,null,null,null,{"$f":"IFERROR(VLOOKUP(E1440,Insumos!A:C,2,FALSE),\"\")","v":""},null,null,null,0]
[null,null,null,null,null,{"$f":"IFERROR(VLOOKUP(E1441,Insumos!A:C,2,FALSE),\"\")","v":""},null,null,null,0]
[null,null,null,null,null,{"$f":"IFERROR(VLOOKUP(E1442,Insumos!A:C,2,FALSE),\"\")","v":""},null,null,null,0]
[null,null,null,null,null,{"$f":"IFERROR(VLOOKUP(E1443,Insumos!A:C,2,FALSE),\"\")","v":""},null,null,null,0]
[null,null,null,null,null,{"$f":"IFERROR(VLOOKUP(E1444,Insumos!A:C,2,FALSE),\"\")","v":""},null,null,null,0]
[null,null,null,null,null,{"$f":"IFERROR(VLOOKUP(E1445,Insumos!A:C,2,FALSE),\"\")","v":""},null,null,null,0]
[null,null,null,null,null,{"$f":"IFERROR(VLOOKUP(E1446,Insumos!A:C,2,FALSE),\"\")","v":""},null,null,null,0]
[null,null,null,null,null,{"$f":"IFERROR(VLOOKUP(E1447,Insumos!A:C,2,FALSE),\"\")","v":""},null,null,null,0]
[null,null,null,null,null,{"$f":"IFERROR(VLOOKUP(E1448,Insumos!A:C,2,FALSE),\"\")","v":""},null,null,null,0]
[null,null,null,null,null,{"$f":"IFERROR(VLOOKUP(E1449,Insumos!A:C,2,FALSE),\"\")","v":""},null,null,null,0]
[null,null,null,null,null,{"$f":"IFERROR(VLOOKUP(E1450,Insumos!A:C,2,FALSE),\"\")","v":""},null,null,null,0]
[null,null,null,null,null,{"$f":"IFERROR(VLOOKUP(E1451,Insumos!A:C,2,FALSE),\"\")","v":""},null,null,null,0]
[null,null,null,null,null,{"$f":"IFERROR(VLOOKUP(E1452,Insumos!A:C,2,FALSE),\"\")","v":""},null,null,null,0]
[null,null,null,null,null,{"$f":"IFERROR(VLOOKUP(E1453,Insumos!A:C,2,FALSE),\"\")","v":""},null,null,null,0]
[null,null,null,null,null,{"$f":"IFERROR(VLOOKUP(E1454,Insumos!A:C,2,FALSE),\"\")","v":""},null,null,null,0]
[null,null,null,null,null,{"$f":"IFERROR(VLOOKUP(E1455,Insumos!A:C,2,FALSE),\"\")","v":""},null,null,null,0]
[null,null,null,null,null,{"$f":"IFERROR(VLOOKUP(E1456,Insumos!A:C,2,FALSE),\"\")","v":""},null,null,null,0]
[null,null,null,null,null,{"$f":"IFERROR(VLOOKUP(E1457,Insumos!A:C,2,FALSE),\"\")","v":""},null,null,null,0]
[null,null,null,null,null,{"$f":"IFERROR(VLOOKUP(E1458,Insumos!A:C,2,FALSE),\"\")","v":""},null,null,null,0]
[null,null,null,null,null,{"$f":"IFERROR(VLOOKUP(E1459,Insumos!A:C,2,FALSE),\"\")","v":""},null,null,null,0]
[null,null,null,null,null,{"$f":"IFERROR(VLOOKUP(E1460,Insumos!A:C,2,FALSE),\"\")","v":""},null,null,null,0]
[null,null,null,null,null,{"$f":"IFERROR(VLOOKUP(E1461,Insumos!A:C,2,FALSE),\"\")","v":""},null,null,null,0]
[null,null,null,null,null,{"$f":"IFERROR(VLOOKUP(E1462,Insumos!A:C,2,FALSE),\"\")","v":""},null,null,null,0]
[null,null,null,null,null,{"$f":"IFERROR(VLOOKUP(E1463,Insumos!A:C,2,FALSE),\"\")","v":""},null,null,null,0]
[null,null,null,null,null,{"$f":"IFERROR(VLOOKUP(E1464,Insumos!A:C,2,FALSE),\"\")","v":""},null,null,null,0]
[null,null,null,null,null,{"$f":"IFERROR(VLOOKUP(E1465,Insumos!A:C,2,FALSE),\"\")","v":""},null,null,null,0]
[null,null,null,null,null,{"$f":"IFERROR(VLOOKUP(E1466,Insumos!A:C,2,FALSE),\"\")","v":""},null,null,null,0]
[null,null,null,null,null,{"$f":"IFERROR(VLOOKUP(E1467,Insumos!A:C,2,FALSE),\"\")","v":""},null,null,null,0]
[null,null,null,null,null,{"$f":"IFERROR(VLOOKUP(E1468,Insumos!A:C,2,FALSE),\"\")","v":""},null,null,null,0]
[null,null,null,null,null,{"$f":"IFERROR(VLOOKUP(E1469,Insumos!A:C,2,FALSE),\"\")","v":""},null,null,null,0]
[null,null,null,null,null,{"$f":"IFERROR(VLOOKUP(E1470,Insumos!A:C,2,FALSE),\"\")","v":""},null,null,null,0]
[null,null,null,null,null,{"$f":"IFERROR(VLOOKUP(E1471,Insumos!A:C,2,FALSE),\"\")","v":""},null,null,null,0]
[null,null,null,null,null,{"$f":"IFERROR(VLOOKUP(E1472,Insumos!A:C,2,FALSE),\"\")","v":""},null,null,null,0]
[null,null,null,null,null,{"$f":"IFERROR(VLOOKUP(E1473,Insumos!A:C,2,FALSE),\"\")","v":""},null,null,null,0]
[null,null,null,null,null,{"$f":"IFERROR(VLOOKUP(E1474,Insumos!A:C,2,FALSE),\"\")","v":""},null,null,null,0]
[null,null,null,null,null,{"$f":"IFERROR(VLOOKUP(E1475,Insumos!A:C,2,FALSE),\"\")","v":""},null,null,null,0]
[null,null,null,null,null,{"$f":"IFERROR(VLOOKUP(E1476,Insumos!A:C,2,FALSE),\"\")","v":""},null,null,null,0]
[null,null,null,null,null,{"$f":"IFERROR(VLOOKUP(E1477,Insumos!A:C,2,FALSE),\"\")","v":""},null,null,null,{"$f":"IFERROR(H1477*I1477,\"\")","v":0}]
[null,null,null,null,null,{"$f":"IFERROR(VLOOKUP(E1478,Insumos!A:C,2,FALSE),\"\")","v":""},null,null,null,0]
[null,null,null,null,null,{"$f":"IFERROR(VLOOKUP(E1479,Insumos!A:C,2,FALSE),\"\")","v":""},null,null,null,0]
[null,null,null,null,null,{"$f":"IFERROR(VLOOKUP(E1480,Insumos!A:C,2,FALSE),\"\")","v":""},null,null,null,0]
[null,null,null,null,null,{"$f":"IFERROR(VLOOKUP(E1481,Insumos!A:C,2,FALSE),\"\")","v":""},null,null,null,0]
[null,null,null,null,null,{"$f":"IFERROR(VLOOKUP(E1482,Insumos!A:C,2,FALSE),\"\")","v":""},null,null,null,0]
[null,null,null,null,null,{"$f":"IFERROR(VLOOKUP(E1483,Insumos!A:C,2,FALSE),\"\")","v":""},null,null,null,0]
[null,null,null,null,null,{"$f":"IFERROR(VLOOKUP(E1484,Insumos!A:C,2,FALSE),\"\")","v":""},null,null,null,0]
[null,null,null,null,null,{"$f":"IFERROR(VLOOKUP(E1485,Insumos!A:C,2,FALSE),\"\")","v":""},null,null,null,0]
[null,null,null,null,null,{"$f":"IFERROR(VLOOKUP(E1486,Insumos!A:C,2,FALSE),\"\")","v":""},null,null,null,0]
[null,null,null,null,null,{"$f":"IFERROR(VLOOKUP(E1487,Insumos!A:C,2,FALSE),\"\")","v":""},null,null,null,0]
[null,null,null,null,null,{"$f":"IFERROR(VLOOKUP(E1488,Insumos!A:C,2,FALSE),\"\")","v":""},null,null,null,0]
[null,null,null,null,null,{"$f":"IFERROR(VLOOKUP(E1489,Insumos!A:C,2,FALSE),\"\")","v":""},null,null,null,0]
[null,null,null,null,null,{"$f":"IFERROR(VLOOKUP(E1490,Insumos!A:C,2,FALSE),\"\")","v":""},null,null,null,0]
[null,null,null,null,null,{"$f":"IFERROR(VLOOKUP(E1491,Insumos!A:C,2,FALSE),\"\")","v":""},null,null,null,0]
[null,null,null,null,null,{"$f":"IFERROR(VLOOKUP(E1492,Insumos!A:C,2,FALSE),\"\")","v":""},null,null,null,0]
[null,null,null,null,null,{"$f":"IFERROR(VLOOKUP(E1493,Insumos!A:C,2,FALSE),\"\")","v":""},null,null,null,0]
[null,null,null,null,null,{"$f":"IFERROR(VLOOKUP(E1494,Insumos!A:C,2,FALSE),\"\")","v":""},null,null,null,0]
[null,null,null,null,null,{"$f":"IFERROR(VLOOKUP(E1495,Insumos!A:C,2,FALSE),\"\")","v":""},null,null,null,0]
[null,null,null,null,null,{"$f":"IFERROR(VLOOKUP(E1496,Insumos!A:C,2,FALSE),\"\")","v":""},null,null,null,0]
[null,null,null,null,null,{"$f":"IFERROR(VLOOKUP(E1497,Insumos!A:C,2,FALSE),\"\")","v":""},null,null,null,0]
[null,null,null,null,null,{"$f":"IFERROR(VLOOKUP(E1498,Insumos!A:C,2,FALSE),\"\")","v":""},null,null,null,0]
[null,null,null,null,null,{"$f":"IFERROR(VLOOKUP(E1499,Insumos!A:C,2,FALSE),\"\")","v":""},null,null,null,0]
[null,null,null,null,null,{"$f":"IFERROR(VLOOKUP(E1500,Insumos!A:C,2,FALSE),\"\")","v":""},null,null,null,0]
[null,null,null,null,null,{"$f":"IFERROR(VLOOKUP(E1501,Insumos!A:C,2,FALSE),\"\")","v":""},null,null,null,0]
[null,null,null,null,null,{"$f":"IFERROR(VLOOKUP(E1502,Insumos!A:C,2,FALSE),\"\")","v":""},null,null,null,0]
[null,null,null,null,null,{"$f":"IFERROR(VLOOKUP(E1503,Insumos!A:C,2,FALSE),\"\")","v":""},null,null,null,0]
[null,null,null,null,null,{"$f":"IFERROR(VLOOKUP(E1504,Insumos!A:C,2,FALSE),\"\")","v":""},null,null,null,0]
[null,null,null,null,null,{"$f":"IFERROR(VLOOKUP(E1505,Insumos!A:C,2,FALSE),\"\")","v":""},null,null,null,0]
[null,null,null,null,null,{"$f":"IFERROR(VLOOKUP(E1506,Insumos!A:C,2,FALSE),\"\")","v":""},null,null,null,0]
[null,null,null,null,null,{"$f":"IFERROR(VLOOKUP(E1507,Insumos!A:C,2,FALSE),\"\")","v":""},null,null,null,0]
[null,null,null,null,null,{"$f":"IFERROR(VLOOKUP(E1508,Insumos!A:C,2,FALSE),\"\")","v":""},null,null,null,0]
[null,null,null,null,null,{"$f":"IFERROR(VLOOKUP(E1509,Insumos!A:C,2,FALSE),\"\")","v":""},null,null,null,0]
[null,null,null,null,null,{"$f":"IFERROR(VLOOKUP(E1510,Insumos!A:C,2,FALSE),\"\")","v":""},null,null,null,0]
[null,null,null,null,null,{"$f":"IFERROR(VLOOKUP(E1511,Insumos!A:C,2,FALSE),\"\")","v":""},null,null,null,0]
[null,null,null,null,null,{"$f":"IFERROR(VLOOKUP(E1512,Insumos!A:C,2,FALSE),\"\")","v":""},null,null,null,0]
[null,null,null,null,null,{"$f":"IFERROR(VLOOKUP(E1513,Insumos!A:C,2,FALSE),\"\")","v":""},null,null,null,0]
[null,null,null,null,null,{"$f":"IFERROR(VLOOKUP(E1514,Insumos!A:C,2,FALSE),\"\")","v":""},null,null,null,0]
[null,null,null,null,null,{"$f":"IFERROR(VLOOKUP(E1515,Insumos!A:C,2,FALSE),\"\")","v":""},null,null,null,0]
[null,null,null,null,null,{"$f":"IFERROR(VLOOKUP(E1516,Insumos!A:C,2,FALSE),\"\")","v":""},null,null,null,0]
[null,null,null,null,null,{"$f":"IFERROR(VLOOKUP(E1517,Insumos!A:C,2,FALSE),\"\")","v":""},null,null,null,0]
[null,null,null,null,null,{"$f":"IFERROR(VLOOKUP(E1518,Insumos!A:C,2,FALSE),\"\")","v":""},null,null,null,0]
[null,null,null,null,null,{"$f":"IFERROR(VLOOKUP(E1519,Insumos!A:C,2,FALSE),\"\")","v":""},null,null,null,0]
[null,null,null,null,null,{"$f":"IFERROR(VLOOKUP(E1520,Insumos!A:C,2,FALSE),\"\")","v":""},null,null,null,0]
[null,null,null,null,null,{"$f":"IFERROR(VLOOKUP(E1521,Insumos!A:C,2,FALSE),\"\")","v":""},null,null,null,0]
[null,null,null,null,null,{"$f":"IFERROR(VLOOKUP(E1522,Insumos!A:C,2,FALSE),\"\")","v":""},null,null,null,0]
[null,null,null,null,null,{"$f":"IFERROR(VLOOKUP(E1523,Insumos!A:C,2,FALSE),\"\")","v":""},null,null,null,0]
[null,null,null,null,null,{"$f":"IFERROR(VLOOKUP(E1524,Insumos!A:C,2,FALSE),\"\")","v":""},null,null,null,0]
[null,null,null,null,null,{"$f":"IFERROR(VLOOKUP(E1525,Insumos!A:C,2,FALSE),\"\")","v":""},null,null,null,0]
[null,null,null,null,null,{"$f":"IFERROR(VLOOKUP(E1526,Insumos!A:C,2,FALSE),\"\")","v":""},null,null,null,0]
[null,null,null,null,null,{"$f":"IFERROR(VLOOKUP(E1527,Insumos!A:C,2,FALSE),\"\")","v":""},null,null,null,0]
[null,null,null,null,null,{"$f":"IFERROR(VLOOKUP(E1528,Insumos!A:C,2,FALSE),\"\")","v":""},null,null,null,0]
[null,null,null,null,null,{"$f":"IFERROR(VLOOKUP(E1529,Insumos!A:C,2,FALSE),\"\")","v":""},null,null,null,0]
[null,null,null,null,null,{"$f":"IFERROR(VLOOKUP(E1530,Insumos!A:C,2,FALSE),\"\")","v":""},null,null,null,0]
[null,null,null,null,null,{"$f":"IFERROR(VLOOKUP(E1531,Insumos!A:C,2,FALSE),\"\")","v":""},null,null,null,0]
[null,null,null,null,null,{"$f":"IFERROR(VLOOKUP(E1532,Insumos!A:C,2,FALSE),\"\")","v":""},null,null,null,0]
[null,null,null,null,null,{"$f":"IFERROR(VLOOKUP(E1533,Insumos!A:C,2,FALSE),\"\")","v":""},null,null,null,0]
[null,null,null,null,null,{"$f":"IFERROR(VLOOKUP(E1534,Insumos!A:C,2,FALSE),\"\")","v":""},null,null,null,0]
[null,null,null,null,null,{"$f":"IFERROR(VLOOKUP(E1535,Insumos!A:C,2,FALSE),\"\")","v":""},null,null,null,0]
[null,null,null,null,null,{"$f":"IFERROR(VLOOKUP(E1536,Insumos!A:C,2,FALSE),\"\")","v":""},null,null,null,0]
[null,null,null,null,null,{"$f":"IFERROR(VLOOKUP(E1537,Insumos!A:C,2,FALSE),\"\")","v":""},null,null,null,0]
[null,null,null,null,null,{"$f":"IFERROR(VLOOKUP(E1538,Insumos!A:C,2,FALSE),\"\")","v":""},null,null,null,0]
[null,null,null,null,null,{"$f":"IFERROR(VLOOKUP(E1539,Insumos!A:C,2,FALSE),\"\")","v":""},null,null,null,0]
[null,null,null,null,null,{"$f":"IFERROR(VLOOKUP(E1540,Insumos!A:C,2,FALSE),\"\")","v":""},null,null,null,0]
[null,null,null,null,null,{"$f":"IFERROR(VLOOKUP(E1541,Insumos!A:C,2,FALSE),\"\")","v":""},null,null,null,{"$f":"IFERROR(H1541*I1541,\"\")","v":0}]
[null,null,null,null,null,{"$f":"IFERROR(VLOOKUP(E1542,Insumos!A:C,2,FALSE),\"\")","v":""},null,null,null,0]
[null,null,null,null,null,{"$f":"IFERROR(VLOOKUP(E1543,Insumos!A:C,2,FALSE),\"\")","v":""},null,null,null,0]
[null,null,null,null,null,{"$f":"IFERROR(VLOOKUP(E1544,Insumos!A:C,2,FALSE),\"\")","v":""},null,null,null,0]
[null,null,null,null,null,{"$f":"IFERROR(VLOOKUP(E1545,Insumos!A:C,2,FALSE),\"\")","v":""},null,null,null,0]
[null,null,null,null,null,{"$f":"IFERROR(VLOOKUP(E1546,Insumos!A:C,2,FALSE),\"\")","v":""},null,null,null,0]
[null,null,null,null,null,{"$f":"IFERROR(VLOOKUP(E1547,Insumos!A:C,2,FALSE),\"\")","v":""},null,null,null,0]
[null,null,null,null,null,{"$f":"IFERROR(VLOOKUP(E1548,Insumos!A:C,2,FALSE),\"\")","v":""},null,null,null,0]
[null,null,null,null,null,{"$f":"IFERROR(VLOOKUP(E1549,Insumos!A:C,2,FALSE),\"\")","v":""},null,null,null,0]
[null,null,null,null,null,{"$f":"IFERROR(VLOOKUP(E1550,Insumos!A:C,2,FALSE),\"\")","v":""},null,null,null,0]
[null,null,null,null,null,{"$f":"IFERROR(VLOOKUP(E1551,Insumos!A:C,2,FALSE),\"\")","v":""},null,null,null,0]
[null,null,null,null,null,{"$f":"IFERROR(VLOOKUP(E1552,Insumos!A:C,2,FALSE),\"\")","v":""},null,null,null,0]
[null,null,null,null,null,{"$f":"IFERROR(VLOOKUP(E1553,Insumos!A:C,2,FALSE),\"\")","v":""},null,null,null,0]
[null,null,null,null,null,{"$f":"IFERROR(VLOOKUP(E1554,Insumos!A:C,2,FALSE),\"\")","v":""},null,null,null,0]
[null,null,null,null,null,{"$f":"IFERROR(VLOOKUP(E1555,Insumos!A:C,2,FALSE),\"\")","v":""},null,null,null,0]
[null,null,null,null,null,{"$f":"IFERROR(VLOOKUP(E1556,Insumos!A:C,2,FALSE),\"\")","v":""},null,null,null,0]
[null,null,null,null,null,{"$f":"IFERROR(VLOOKUP(E1557,Insumos!A:C,2,FALSE),\"\")","v":""},null,null,null,0]
[null,null,null,null,null,{"$f":"IFERROR(VLOOKUP(E1558,Insumos!A:C,2,FALSE),\"\")","v":""},null,null,null,0]
[null,null,null,null,null,{"$f":"IFERROR(VLOOKUP(E1559,Insumos!A:C,2,FALSE),\"\")","v":""},null,null,null,0]
[null,null,null,null,null,{"$f":"IFERROR(VLOOKUP(E1560,Insumos!A:C,2,FALSE),\"\")","v":""},null,null,null,0]
[null,null,null,null,null,{"$f":"IFERROR(VLOOKUP(E1561,Insumos!A:C,2,FALSE),\"\")","v":""},null,null,null,0]
[null,null,null,null,null,{"$f":"IFERROR(VLOOKUP(E1562,Insumos!A:C,2,FALSE),\"\")","v":""},null,null,null,0]
[null,null,null,null,null,{"$f":"IFERROR(VLOOKUP(E1563,Insumos!A:C,2,FALSE),\"\")","v":""},null,null,null,0]
[null,null,null,null,null,{"$f":"IFERROR(VLOOKUP(E1564,Insumos!A:C,2,FALSE),\"\")","v":""},null,null,null,0]
[null,null,null,null,null,{"$f":"IFERROR(VLOOKUP(E1565,Insumos!A:C,2,FALSE),\"\")","v":""},null,null,null,0]
[null,null,null,null,null,{"$f":"IFERROR(VLOOKUP(E1566,Insumos!A:C,2,FALSE),\"\")","v":""},null,null,null,0]
[null,null,null,null,null,{"$f":"IFERROR(VLOOKUP(E1567,Insumos!A:C,2,FALSE),\"\")","v":""},null,null,null,0]
[null,null,null,null,null,{"$f":"IFERROR(VLOOKUP(E1568,Insumos!A:C,2,FALSE),\"\")","v":""},null,null,null,0]
[null,null,null,null,null,{"$f":"IFERROR(VLOOKUP(E1569,Insumos!A:C,2,FALSE),\"\")","v":""},null,null,null,0]
[null,null,null,null,null,{"$f":"IFERROR(VLOOKUP(E1570,Insumos!A:C,2,FALSE),\"\")","v":""},null,null,null,0]
[null,null,null,null,null,{"$f":"IFERROR(VLOOKUP(E1571,Insumos!A:C,2,FALSE),\"\")","v":""},null,null,null,0]
[null,null,null,null,null,{"$f":"IFERROR(VLOOKUP(E1572,Insumos!A:C,2,FALSE),\"\")","v":""},null,null,null,0]
[null,null,null,null,null,{"$f":"IFERROR(VLOOKUP(E1573,Insumos!A:C,2,FALSE),\"\")","v":""},null,null,null,0]
[null,null,null,null,null,{"$f":"IFERROR(VLOOKUP(E1574,Insumos!A:C,2,FALSE),\"\")","v":""},null,null,null,0]
[null,null,null,null,null,{"$f":"IFERROR(VLOOKUP(E1575,Insumos!A:C,2,FALSE),\"\")","v":""},null,null,null,0]
[null,null,null,null,null,{"$f":"IFERROR(VLOOKUP(E1576,Insumos!A:C,2,FALSE),\"\")","v":""},null,null,null,0]
[null,null,null,null,null,{"$f":"IFERROR(VLOOKUP(E1577,Insumos!A:C,2,FALSE),\"\")","v":""},null,null,null,0]
[null,null,null,null,null,{"$f":"IFERROR(VLOOKUP(E1578,Insumos!A:C,2,FALSE),\"\")","v":""},null,null,null,0]
[null,null,null,null,null,{"$f":"IFERROR(VLOOKUP(E1579,Insumos!A:C,2,FALSE),\"\")","v":""},null,null,null,0]
[null,null,null,null,null,{"$f":"IFERROR(VLOOKUP(E1580,Insumos!A:C,2,FALSE),\"\")","v":""},null,null,null,0]
[null,null,null,null,null,{"$f":"IFERROR(VLOOKUP(E1581,Insumos!A:C,2,FALSE),\"\")","v":""},null,null,null,0]
[null,null,null,null,null,{"$f":"IFERROR(VLOOKUP(E1582,Insumos!A:C,2,FALSE),\"\")","v":""},null,null,null,0]
[null,null,null,null,null,{"$f":"IFERROR(VLOOKUP(E1583,Insumos!A:C,2,FALSE),\"\")","v":""},null,null,null,0]
[null,null,null,null,null,{"$f":"IFERROR(VLOOKUP(E1584,Insumos!A:C,2,FALSE),\"\")","v":""},null,null,null,0]
[null,null,null,null,null,{"$f":"IFERROR(VLOOKUP(E1585,Insumos!A:C,2,FALSE),\"\")","v":""},null,null,null,0]
[null,null,null,null,null,{"$f":"IFERROR(VLOOKUP(E1586,Insumos!A:C,2,FALSE),\"\")","v":""},null,null,null,0]
[null,null,null,null,null,{"$f":"IFERROR(VLOOKUP(E1587,Insumos!A:C,2,FALSE),\"\")","v":""},null,null,null,0]
[null,null,null,null,null,{"$f":"IFERROR(VLOOKUP(E1588,Insumos!A:C,2,FALSE),\"\")","v":""},null,null,null,0]
[null,null,null,null,null,{"$f":"IFERROR(VLOOKUP(E1589,Insumos!A:C,2,FALSE),\"\")","v":""},null,null,null,0]
[null,null,null,null,null,{"$f":"IFERROR(VLOOKUP(E1590,Insumos!A:C,2,FALSE),\"\")","v":""},null,null,null,0]
[null,null,null,null,null,{"$f":"IFERROR(VLOOKUP(E1591,Insumos!A:C,2,FALSE),\"\")","v":""},null,null,null,0]
[null,null,null,null,null,{"$f":"IFERROR(VLOOKUP(E1592,Insumos!A:C,2,FALSE),\"\")","v":""},null,null,null,0]
[null,null,null,null,null,{"$f":"IFERROR(VLOOKUP(E1593,Insumos!A:C,2,FALSE),\"\")","v":""},null,null,null,0]
[null,null,null,null,null,{"$f":"IFERROR(VLOOKUP(E1594,Insumos!A:C,2,FALSE),\"\")","v":""},null,null,null,0]
[null,null,null,null,null,{"$f":"IFERROR(VLOOKUP(E1595,Insumos!A:C,2,FALSE),\"\")","v":""},null,null,null,0]
[null,null,null,null,null,{"$f":"IFERROR(VLOOKUP(E1596,Insumos!A:C,2,FALSE),\"\")","v":""},null,null,null,0]
[null,null,null,null,null,{"$f":"IFERROR(VLOOKUP(E1597,Insumos!A:C,2,FALSE),\"\")","v":""},null,null,null,0]
[null,null,null,null,null,{"$f":"IFERROR(VLOOKUP(E1598,Insumos!A:C,2,FALSE),\"\")","v":""},null,null,null,0]
[null,null,null,null,null,{"$f":"IFERROR(VLOOKUP(E1599,Insumos!A:C,2,FALSE),\"\")","v":""},null,null,null,0]
[null,null,null,null,null,{"$f":"IFERROR(VLOOKUP(E1600,Insumos!A:C,2,FALSE),\"\")","v":""},null,null,null,0]
[null,null,null,null,null,{"$f":"IFERROR(VLOOKUP(E1601,Insumos!A:C,2,FALSE),\"\")","v":""},null,null,null,0]
[null,null,null,null,null,{"$f":"IFERROR(VLOOKUP(E1602,Insumos!A:C,2,FALSE),\"\")","v":""},null,null,null,0]
[null,null,null,null,null,{"$f":"IFERROR(VLOOKUP(E1603,Insumos!A:C,2,FALSE),\"\")","v":""},null,null,null,0]
[null,null,null,null,null,{"$f":"IFERROR(VLOOKUP(E1604,Insumos!A:C,2,FALSE),\"\")","v":""},null,null,null,0]
[null,null,null,null,null,{"$f":"IFERROR(VLOOKUP(E1605,Insumos!A:C,2,FALSE),\"\")","v":""},null,null,null,{"$f":"IFERROR(H1605*I1605,\"\")","v":0}]
[null,null,null,null,null,{"$f":"IFERROR(VLOOKUP(E1606,Insumos!A:C,2,FALSE),\"\")","v":""},null,null,null,0]
[null,null,null,null,null,{"$f":"IFERROR(VLOOKUP(E1607,Insumos!A:C,2,FALSE),\"\")","v":""},null,null,null,0]
[null,null,null,null,null,{"$f":"IFERROR(VLOOKUP(E1608,Insumos!A:C,2,FALSE),\"\")","v":""},null,null,null,0]
[null,null,null,null,null,{"$f":"IFERROR(VLOOKUP(E1609,Insumos!A:C,2,FALSE),\"\")","v":""},null,null,null,0]
[null,null,null,null,null,{"$f":"IFERROR(VLOOKUP(E1610,Insumos!A:C,2,FALSE),\"\")","v":""},null,null,null,0]
[null,null,null,null,null,{"$f":"IFERROR(VLOOKUP(E1611,Insumos!A:C,2,FALSE),\"\")","v":""},null,null,null,0]
[null,null,null,null,null,{"$f":"IFERROR(VLOOKUP(E1612,Insumos!A:C,2,FALSE),\"\")","v":""},null,null,null,0]
[null,null,null,null,null,{"$f":"IFERROR(VLOOKUP(E1613,Insumos!A:C,2,FALSE),\"\")","v":""},null,null,null,0]
[null,null,null,null,null,{"$f":"IFERROR(VLOOKUP(E1614,Insumos!A:C,2,FALSE),\"\")","v":""},null,null,null,0]
[null,null,null,null,null,{"$f":"IFERROR(VLOOKUP(E1615,Insumos!A:C,2,FALSE),\"\")","v":""},null,null,null,0]
[null,null,null,null,null,{"$f":"IFERROR(VLOOKUP(E1616,Insumos!A:C,2,FALSE),\"\")","v":""},null,null,null,0]
[null,null,null,null,null,{"$f":"IFERROR(VLOOKUP(E1617,Insumos!A:C,2,FALSE),\"\")","v":""},null,null,null,0]
[null,null,null,null,null,{"$f":"IFERROR(VLOOKUP(E1618,Insumos!A:C,2,FALSE),\"\")","v":""},null,null,null,0]
[null,null,null,null,null,{"$f":"IFERROR(VLOOKUP(E1619,Insumos!A:C,2,FALSE),\"\")","v":""},null,null,null,0]
[null,null,null,null,null,{"$f":"IFERROR(VLOOKUP(E1620,Insumos!A:C,2,FALSE),\"\")","v":""},null,null,null,0]
[null,null,null,null,null,{"$f":"IFERROR(VLOOKUP(E1621,Insumos!A:C,2,FALSE),\"\")","v":""},null,null,null,0]
[null,null,null,null,null,{"$f":"IFERROR(VLOOKUP(E1622,Insumos!A:C,2,FALSE),\"\")","v":""},null,null,null,0]
[null,null,null,null,null,{"$f":"IFERROR(VLOOKUP(E1623,Insumos!A:C,2,FALSE),\"\")","v":""},null,null,null,0]
[null,null,null,null,null,{"$f":"IFERROR(VLOOKUP(E1624,Insumos!A:C,2,FALSE),\"\")","v":""},null,null,null,0]
[null,null,null,null,null,{"$f":"IFERROR(VLOOKUP(E1625,Insumos!A:C,2,FALSE),\"\")","v":""},null,null,null,0]
[null,null,null,null,null,{"$f":"IFERROR(VLOOKUP(E1626,Insumos!A:C,2,FALSE),\"\")","v":""},null,null,null,0]
[null,null,null,null,null,{"$f":"IFERROR(VLOOKUP(E1627,Insumos!A:C,2,FALSE),\"\")","v":""},null,null,null,0]
[null,null,null,null,null,{"$f":"IFERROR(VLOOKUP(E1628,Insumos!A:C,2,FALSE),\"\")","v":""},null,null,null,0]
[null,null,null,null,null,{"$f":"IFERROR(VLOOKUP(E1629,Insumos!A:C,2,FALSE),\"\")","v":""},null,null,null,0]
[null,null,null,null,null,{"$f":"IFERROR(VLOOKUP(E1630,Insumos!A:C,2,FALSE),\"\")","v":""},null,null,null,0]
[null,null,null,null,null,{"$f":"IFERROR(VLOOKUP(E1631,Insumos!A:C,2,FALSE),\"\")","v":""},null,null,null,0]
[null,null,null,null,null,{"$f":"IFERROR(VLOOKUP(E1632,Insumos!A:C,2,FALSE),\"\")","v":""},null,null,null,0]
[null,null,null,null,null,{"$f":"IFERROR(VLOOKUP(E1633,Insumos!A:C,2,FALSE),\"\")","v":""},null,null,null,0]
[null,null,null,null,null,{"$f":"IFERROR(VLOOKUP(E1634,Insumos!A:C,2,FALSE),\"\")","v":""},null,null,null,0]
[null,null,null,null,null,{"$f":"IFERROR(VLOOKUP(E1635,Insumos!A:C,2,FALSE),\"\")","v":""},null,null,null,0]
[null,null,null,null,null,{"$f":"IFERROR(VLOOKUP(E1636,Insumos!A:C,2,FALSE),\"\")","v":""},null,null,null,0]
[null,null,null,null,null,{"$f":"IFERROR(VLOOKUP(E1637,Insumos!A:C,2,FALSE),\"\")","v":""},null,null,null,0]
[null,null,null,null,null,{"$f":"IFERROR(VLOOKUP(E1638,Insumos!A:C,2,FALSE),\"\")","v":""},null,null,null,0]
[null,null,null,null,null,{"$f":"IFERROR(VLOOKUP(E1639,Insumos!A:C,2,FALSE),\"\")","v":""},null,null,null,0]
[null,null,null,null,null,{"$f":"IFERROR(VLOOKUP(E1640,Insumos!A:C,2,FALSE),\"\")","v":""},null,null,null,0]
[null,null,null,null,null,{"$f":"IFERROR(VLOOKUP(E1641,Insumos!A:C,2,FALSE),\"\")","v":""},null,null,null,0]
[null,null,null,null,null,{"$f":"IFERROR(VLOOKUP(E1642,Insumos!A:C,2,FALSE),\"\")","v":""},null,null,null,0]
[null,null,null,null,null,{"$f":"IFERROR(VLOOKUP(E1643,Insumos!A:C,2,FALSE),\"\")","v":""},null,null,null,0]
[null,null,null,null,null,{"$f":"IFERROR(VLOOKUP(E1644,Insumos!A:C,2,FALSE),\"\")","v":""},null,null,null,0]
[null,null,null,null,null,{"$f":"IFERROR(VLOOKUP(E1645,Insumos!A:C,2,FALSE),\"\")","v":""},null,null,null,0]
[null,null,null,null,null,{"$f":"IFERROR(VLOOKUP(E1646,Insumos!A:C,2,FALSE),\"\")","v":""},null,null,null,0]
[null,null,null,null,null,{"$f":"IFERROR(VLOOKUP(E1647,Insumos!A:C,2,FALSE),\"\")","v":""},null,null,null,0]
[null,null,null,null,null,{"$f":"IFERROR(VLOOKUP(E1648,Insumos!A:C,2,FALSE),\"\")","v":""},null,null,null,0]
[null,null,null,null,null,{"$f":"IFERROR(VLOOKUP(E1649,Insumos!A:C,2,FALSE),\"\")","v":""},null,null,null,0]
[null,null,null,null,null,{"$f":"IFERROR(VLOOKUP(E1650,Insumos!A:C,2,FALSE),\"\")","v":""},null,null,null,0]
[null,null,null,null,null,{"$f":"IFERROR(VLOOKUP(E1651,Insumos!A:C,2,FALSE),\"\")","v":""},null,null,null,0]
[null,null,null,null,null,{"$f":"IFERROR(VLOOKUP(E1652,Insumos!A:C,2,FALSE),\"\")","v":""},null,null,null,0]
[null,null,null,null,null,{"$f":"IFERROR(VLOOKUP(E1653,Insumos!A:C,2,FALSE),\"\")","v":""},null,null,null,0]
[null,null,null,null,null,{"$f":"IFERROR(VLOOKUP(E1654,Insumos!A:C,2,FALSE),\"\")","v":""},null,null,null,0]
[null,null,null,null,null,{"$f":"IFERROR(VLOOKUP(E1655,Insumos!A:C,2,FALSE),\"\")","v":""},null,null,null,0]
[null,null,null,null,null,{"$f":"IFERROR(VLOOKUP(E1656,Insumos!A:C,2,FALSE),\"\")","v":""},null,null,null,0]
[null,null,null,null,null,{"$f":"IFERROR(VLOOKUP(E1657,Insumos!A:C,2,FALSE),\"\")","v":""},null,null,null,0]
[null,null,null,null,null,{"$f":"IFERROR(VLOOKUP(E1658,Insumos!A:C,2,FALSE),\"\")","v":""},null,null,null,0]
[null,null,null,null,null,{"$f":"IFERROR(VLOOKUP(E1659,Insumos!A:C,2,FALSE),\"\")","v":""},null,null,null,0]
[null,null,null,null,null,{"$f":"IFERROR(VLOOKUP(E1660,Insumos!A:C,2,FALSE),\"\")","v":""},null,null,null,0]
[null,null,null,null,null,{"$f":"IFERROR(VLOOKUP(E1661,Insumos!A:C,2,FALSE),\"\")","v":""},null,null,null,0]
[null,null,null,null,null,{"$f":"IFERROR(VLOOKUP(E1662,Insumos!A:C,2,FALSE),\"\")","v":""},null,null,null,0]
[null,null,null,null,null,{"$f":"IFERROR(VLOOKUP(E1663,Insumos!A:C,2,FALSE),\"\")","v":""},null,null,null,0]
[null,null,null,null,null,{"$f":"IFERROR(VLOOKUP(E1664,Insumos!A:C,2,FALSE),\"\")","v":""},null,null,null,0]
[null,null,null,null,null,{"$f":"IFERROR(VLOOKUP(E1665,Insumos!A:C,2,FALSE),\"\")","v":""},null,null,null,0]
[null,null,null,null,null,{"$f":"IFERROR(VLOOKUP(E1666,Insumos!A:C,2,FALSE),\"\")","v":""},null,null,null,0]
[null,null,null,null,null,{"$f":"IFERROR(VLOOKUP(E1667,Insumos!A:C,2,FALSE),\"\")","v":""},null,null,null,0]
[null,null,null,null,null,{"$f":"IFERROR(VLOOKUP(E1668,Insumos!A:C,2,FALSE),\"\")","v":""},null,null,null,0]
[null,null,null,null,null,{"$f":"IFERROR(VLOOKUP(E1669,Insumos!A:C,2,FALSE),\"\")","v":""},null,null,null,{"$f":"IFERROR(H1669*I1669,\"\")","v":0}]
[null,null,null,null,null,{"$f":"IFERROR(VLOOKUP(E1670,Insumos!A:C,2,FALSE),\"\")","v":""},null,null,null,0]
[null,null,null,null,null,{"$f":"IFERROR(VLOOKUP(E1671,Insumos!A:C,2,FALSE),\"\")","v":""},null,null,null,0]
[null,null,null,null,null,{"$f":"IFERROR(VLOOKUP(E1672,Insumos!A:C,2,FALSE),\"\")","v":""},null,null,null,0]
[null,null,null,null,null,{"$f":"IFERROR(VLOOKUP(E1673,Insumos!A:C,2,FALSE),\"\")","v":""},null,null,null,0]
[null,null,null,null,null,{"$f":"IFERROR(VLOOKUP(E1674,Insumos!A:C,2,FALSE),\"\")","v":""},null,null,null,0]
[null,null,null,null,null,{"$f":"IFERROR(VLOOKUP(E1675,Insumos!A:C,2,FALSE),\"\")","v":""},null,null,null,0]
[null,null,null,null,null,{"$f":"IFERROR(VLOOKUP(E1676,Insumos!A:C,2,FALSE),\"\")","v":""},null,null,null,0]
[null,null,null,null,null,{"$f":"IFERROR(VLOOKUP(E1677,Insumos!A:C,2,FALSE),\"\")","v":""},null,null,null,0]
[null,null,null,null,null,{"$f":"IFERROR(VLOOKUP(E1678,Insumos!A:C,2,FALSE),\"\")","v":""},null,null,null,0]
[null,null,null,null,null,{"$f":"IFERROR(VLOOKUP(E1679,Insumos!A:C,2,FALSE),\"\")","v":""},null,null,null,0]
[null,null,null,null,null,{"$f":"IFERROR(VLOOKUP(E1680,Insumos!A:C,2,FALSE),\"\")","v":""},null,null,null,0]
[null,null,null,null,null,{"$f":"IFERROR(VLOOKUP(E1681,Insumos!A:C,2,FALSE),\"\")","v":""},null,null,null,0]
[null,null,null,null,null,{"$f":"IFERROR(VLOOKUP(E1682,Insumos!A:C,2,FALSE),\"\")","v":""},null,null,null,0]
[null,null,null,null,null,{"$f":"IFERROR(VLOOKUP(E1683,Insumos!A:C,2,FALSE),\"\")","v":""},null,null,null,0]
[null,null,null,null,null,{"$f":"IFERROR(VLOOKUP(E1684,Insumos!A:C,2,FALSE),\"\")","v":""},null,null,null,0]
[null,null,null,null,null,{"$f":"IFERROR(VLOOKUP(E1685,Insumos!A:C,2,FALSE),\"\")","v":""},null,null,null,0]
[null,null,null,null,null,{"$f":"IFERROR(VLOOKUP(E1686,Insumos!A:C,2,FALSE),\"\")","v":""},null,null,null,0]
[null,null,null,null,null,{"$f":"IFERROR(VLOOKUP(E1687,Insumos!A:C,2,FALSE),\"\")","v":""},null,null,null,0]
[null,null,null,null,null,{"$f":"IFERROR(VLOOKUP(E1688,Insumos!A:C,2,FALSE),\"\")","v":""},null,null,null,0]
[null,null,null,null,null,{"$f":"IFERROR(VLOOKUP(E1689,Insumos!A:C,2,FALSE),\"\")","v":""},null,null,null,0]
[null,null,null,null,null,{"$f":"IFERROR(VLOOKUP(E1690,Insumos!A:C,2,FALSE),\"\")","v":""},null,null,null,0]
[null,null,null,null,null,{"$f":"IFERROR(VLOOKUP(E1691,Insumos!A:C,2,FALSE),\"\")","v":""},null,null,null,0]
[null,null,null,null,null,{"$f":"IFERROR(VLOOKUP(E1692,Insumos!A:C,2,FALSE),\"\")","v":""},null,null,null,0]
[null,null,null,null,null,{"$f":"IFERROR(VLOOKUP(E1693,Insumos!A:C,2,FALSE),\"\")","v":""},null,null,null,0]
[null,null,null,null,null,{"$f":"IFERROR(VLOOKUP(E1694,Insumos!A:C,2,FALSE),\"\")","v":""},null,null,null,0]
[null,null,null,null,null,{"$f":"IFERROR(VLOOKUP(E1695,Insumos!A:C,2,FALSE),\"\")","v":""},null,null,null,0]
[null,null,null,null,null,{"$f":"IFERROR(VLOOKUP(E1696,Insumos!A:C,2,FALSE),\"\")","v":""},null,null,null,0]
[null,null,null,null,null,{"$f":"IFERROR(VLOOKUP(E1697,Insumos!A:C,2,FALSE),\"\")","v":""},null,null,null,0]
[null,null,null,null,null,{"$f":"IFERROR(VLOOKUP(E1698,Insumos!A:C,2,FALSE),\"\")","v":""},null,null,null,0]
[null,null,null,null,null,{"$f":"IFERROR(VLOOKUP(E1699,Insumos!A:C,2,FALSE),\"\")","v":""},null,null,null,0]
[null,null,null,null,null,{"$f":"IFERROR(VLOOKUP(E1700,Insumos!A:C,2,FALSE),\"\")","v":""},null,null,null,0]
[null,null,null,null,null,{"$f":"IFERROR(VLOOKUP(E1701,Insumos!A:C,2,FALSE),\"\")","v":""},null,null,null,0]
[null,null,null,null,null,{"$f":"IFERROR(VLOOKUP(E1702,Insumos!A:C,2,FALSE),\"\")","v":""},null,null,null,0]
[null,null,null,null,null,{"$f":"IFERROR(VLOOKUP(E1703,Insumos!A:C,2,FALSE),\"\")","v":""},null,null,null,0]
[null,null,null,null,null,{"$f":"IFERROR(VLOOKUP(E1704,Insumos!A:C,2,FALSE),\"\")","v":""},null,null,null,0]
[null,null,null,null,null,{"$f":"IFERROR(VLOOKUP(E1705,Insumos!A:C,2,FALSE),\"\")","v":""},null,null,null,0]
[null,null,null,null,null,{"$f":"IFERROR(VLOOKUP(E1706,Insumos!A:C,2,FALSE),\"\")","v":""},null,null,null,0]
[null,null,null,null,null,{"$f":"IFERROR(VLOOKUP(E1707,Insumos!A:C,2,FALSE),\"\")","v":""},null,null,null,0]
[null,null,null,null,null,{"$f":"IFERROR(VLOOKUP(E1708,Insumos!A:C,2,FALSE),\"\")","v":""},null,null,null,0]
[null,null,null,null,null,{"$f":"IFERROR(VLOOKUP(E1709,Insumos!A:C,2,FALSE),\"\")","v":""},null,null,null,0]
[null,null,null,null,null,{"$f":"IFERROR(VLOOKUP(E1710,Insumos!A:C,2,FALSE),\"\")","v":""},null,null,null,0]
[null,null,null,null,null,{"$f":"IFERROR(VLOOKUP(E1711,Insumos!A:C,2,FALSE),\"\")","v":""},null,null,null,0]
[null,null,null,null,null,{"$f":"IFERROR(VLOOKUP(E1712,Insumos!A:C,2,FALSE),\"\")","v":""},null,null,null,0]
[null,null,null,null,null,{"$f":"IFERROR(VLOOKUP(E1713,Insumos!A:C,2,FALSE),\"\")","v":""},null,null,null,0]
[null,null,null,null,null,{"$f":"IFERROR(VLOOKUP(E1714,Insumos!A:C,2,FALSE),\"\")","v":""},null,null,null,0]
[null,null,null,null,null,{"$f":"IFERROR(VLOOKUP(E1715,Insumos!A:C,2,FALSE),\"\")","v":""},null,null,null,0]
[null,null,null,null,null,{"$f":"IFERROR(VLOOKUP(E1716,Insumos!A:C,2,FALSE),\"\")","v":""},null,null,null,0]
[null,null,null,null,null,{"$f":"IFERROR(VLOOKUP(E1717,Insumos!A:C,2,FALSE),\"\")","v":""},null,null,null,0]
[null,null,null,null,null,{"$f":"IFERROR(VLOOKUP(E1718,Insumos!A:C,2,FALSE),\"\")","v":""},null,null,null,0]
[null,null,null,null,null,{"$f":"IFERROR(VLOOKUP(E1719,Insumos!A:C,2,FALSE),\"\")","v":""},null,null,null,0]
[null,null,null,null,null,{"$f":"IFERROR(VLOOKUP(E1720,Insumos!A:C,2,FALSE),\"\")","v":""},null,null,null,0]
[null,null,null,null,null,{"$f":"IFERROR(VLOOKUP(E1721,Insumos!A:C,2,FALSE),\"\")","v":""},null,null,null,0]
[null,null,null,null,null,{"$f":"IFERROR(VLOOKUP(E1722,Insumos!A:C,2,FALSE),\"\")","v":""},null,null,null,0]
[null,null,null,null,null,{"$f":"IFERROR(VLOOKUP(E1723,Insumos!A:C,2,FALSE),\"\")","v":""},null,null,null,0]
[null,null,null,null,null,{"$f":"IFERROR(VLOOKUP(E1724,Insumos!A:C,2,FALSE),\"\")","v":""},null,null,null,0]
[null,null,null,null,null,{"$f":"IFERROR(VLOOKUP(E1725,Insumos!A:C,2,FALSE),\"\")","v":""},null,null,null,0]
[null,null,null,null,null,{"$f":"IFERROR(VLOOKUP(E1726,Insumos!A:C,2,FALSE),\"\")","v":""},null,null,null,0]
[null,null,null,null,null,{"$f":"IFERROR(VLOOKUP(E1727,Insumos!A:C,2,FALSE),\"\")","v":""},null,null,null,0]
[null,null,null,null,null,{"$f":"IFERROR(VLOOKUP(E1728,Insumos!A:C,2,FALSE),\"\")","v":""},null,null,null,0]
[null,null,null,null,null,{"$f":"IFERROR(VLOOKUP(E1729,Insumos!A:C,2,FALSE),\"\")","v":""},null,null,null,0]
[null,null,null,null,null,{"$f":"IFERROR(VLOOKUP(E1730,Insumos!A:C,2,FALSE),\"\")","v":""},null,null,null,0]
[null,null,null,null,null,{"$f":"IFERROR(VLOOKUP(E1731,Insumos!A:C,2,FALSE),\"\")","v":""},null,null,null,0]
[null,null,null,null,null,{"$f":"IFERROR(VLOOKUP(E1732,Insumos!A:C,2,FALSE),\"\")","v":""},null,null,null,0]
[null,null,null,null,null,{"$f":"IFERROR(VLOOKUP(E1733,Insumos!A:C,2,FALSE),\"\")","v":""},null,null,null,{"$f":"IFERROR(H1733*I1733,\"\")","v":0}]
[null,null,null,null,null,{"$f":"IFERROR(VLOOKUP(E1734,Insumos!A:C,2,FALSE),\"\")","v":""},null,null,null,0]
[null,null,null,null,null,{"$f":"IFERROR(VLOOKUP(E1735,Insumos!A:C,2,FALSE),\"\")","v":""},null,null,null,0]
[null,null,null,null,null,{"$f":"IFERROR(VLOOKUP(E1736,Insumos!A:C,2,FALSE),\"\")","v":""},null,null,null,0]
[null,null,null,null,null,{"$f":"IFERROR(VLOOKUP(E1737,Insumos!A:C,2,FALSE),\"\")","v":""},null,null,null,0]
[null,null,null,null,null,{"$f":"IFERROR(VLOOKUP(E1738,Insumos!A:C,2,FALSE),\"\")","v":""},null,null,null,0]
[null,null,null,null,null,{"$f":"IFERROR(VLOOKUP(E1739,Insumos!A:C,2,FALSE),\"\")","v":""},null,null,null,0]
[null,null,null,null,null,{"$f":"IFERROR(VLOOKUP(E1740,Insumos!A:C,2,FALSE),\"\")","v":""},null,null,null,0]
[null,null,null,null,null,{"$f":"IFERROR(VLOOKUP(E1741,Insumos!A:C,2,FALSE),\"\")","v":""},null,null,null,0]
[null,null,null,null,null,{"$f":"IFERROR(VLOOKUP(E1742,Insumos!A:C,2,FALSE),\"\")","v":""},null,null,null,0]
[null,null,null,null,null,{"$f":"IFERROR(VLOOKUP(E1743,Insumos!A:C,2,FALSE),\"\")","v":""},null,null,null,0]
[null,null,null,null,null,{"$f":"IFERROR(VLOOKUP(E1744,Insumos!A:C,2,FALSE),\"\")","v":""},null,null,null,0]
[null,null,null,null,null,{"$f":"IFERROR(VLOOKUP(E1745,Insumos!A:C,2,FALSE),\"\")","v":""},null,null,null,0]
[null,null,null,null,null,{"$f":"IFERROR(VLOOKUP(E1746,Insumos!A:C,2,FALSE),\"\")","v":""},null,null,null,0]
[null,null,null,null,null,{"$f":"IFERROR(VLOOKUP(E1747,Insumos!A:C,2,FALSE),\"\")","v":""},null,null,null,0]
[null,null,null,null,null,{"$f":"IFERROR(VLOOKUP(E1748,Insumos!A:C,2,FALSE),\"\")","v":""},null,null,null,0]
[null,null,null,null,null,{"$f":"IFERROR(VLOOKUP(E1749,Insumos!A:C,2,FALSE),\"\")","v":""},null,null,null,0]
[null,null,null,null,null,{"$f":"IFERROR(VLOOKUP(E1750,Insumos!A:C,2,FALSE),\"\")","v":""},null,null,null,0]
[null,null,null,null,null,{"$f":"IFERROR(VLOOKUP(E1751,Insumos!A:C,2,FALSE),\"\")","v":""},null,null,null,0]
[null,null,null,null,null,{"$f":"IFERROR(VLOOKUP(E1752,Insumos!A:C,2,FALSE),\"\")","v":""},null,null,null,0]
[null,null,null,null,null,{"$f":"IFERROR(VLOOKUP(E1753,Insumos!A:C,2,FALSE),\"\")","v":""},null,null,null,0]
[null,null,null,null,null,{"$f":"IFERROR(VLOOKUP(E1754,Insumos!A:C,2,FALSE),\"\")","v":""},null,null,null,0]
[null,null,null,null,null,{"$f":"IFERROR(VLOOKUP(E1755,Insumos!A:C,2,FALSE),\"\")","v":""},null,null,null,0]
[null,null,null,null,null,{"$f":"IFERROR(VLOOKUP(E1756,Insumos!A:C,2,FALSE),\"\")","v":""},null,null,null,0]
[null,null,null,null,null,{"$f":"IFERROR(VLOOKUP(E1757,Insumos!A:C,2,FALSE),\"\")","v":""},null,null,null,0]
[null,null,null,null,null,{"$f":"IFERROR(VLOOKUP(E1758,Insumos!A:C,2,FALSE),\"\")","v":""},null,null,null,0]
[null,null,null,null,null,{"$f":"IFERROR(VLOOKUP(E1759,Insumos!A:C,2,FALSE),\"\")","v":""},null,null,null,0]
[null,null,null,null,null,{"$f":"IFERROR(VLOOKUP(E1760,Insumos!A:C,2,FALSE),\"\")","v":""},null,null,null,0]
[null,null,null,null,null,{"$f":"IFERROR(VLOOKUP(E1761,Insumos!A:C,2,FALSE),\"\")","v":""},null,null,null,0]
[null,null,null,null,null,{"$f":"IFERROR(VLOOKUP(E1762,Insumos!A:C,2,FALSE),\"\")","v":""},null,null,null,0]
[null,null,null,null,null,{"$f":"IFERROR(VLOOKUP(E1763,Insumos!A:C,2,FALSE),\"\")","v":""},null,null,null,0]
[null,null,null,null,null,{"$f":"IFERROR(VLOOKUP(E1764,Insumos!A:C,2,FALSE),\"\")","v":""},null,null,null,0]
[null,null,null,null,null,{"$f":"IFERROR(VLOOKUP(E1765,Insumos!A:C,2,FALSE),\"\")","v":""},null,null,null,0]
[null,null,null,null,null,{"$f":"IFERROR(VLOOKUP(E1766,Insumos!A:C,2,FALSE),\"\")","v":""},null,null,null,0]
[null,null,null,null,null,{"$f":"IFERROR(VLOOKUP(E1767,Insumos!A:C,2,FALSE),\"\")","v":""},null,null,null,0]
[null,null,null,null,null,{"$f":"IFERROR(VLOOKUP(E1768,Insumos!A:C,2,FALSE),\"\")","v":""},null,null,null,0]
[null,null,null,null,null,{"$f":"IFERROR(VLOOKUP(E1769,Insumos!A:C,2,FALSE),\"\")","v":""},null,null,null,0]
[null,null,null,null,null,{"$f":"IFERROR(VLOOKUP(E1770,Insumos!A:C,2,FALSE),\"\")","v":""},null,null,null,0]
[null,null,null,null,null,{"$f":"IFERROR(VLOOKUP(E1771,Insumos!A:C,2,FALSE),\"\")","v":""},null,null,null,0]
[null,null,null,null,null,{"$f":"IFERROR(VLOOKUP(E1772,Insumos!A:C,2,FALSE),\"\")","v":""},null,null,null,0]
[null,null,null,null,null,{"$f":"IFERROR(VLOOKUP(E1773,Insumos!A:C,2,FALSE),\"\")","v":""},null,null,null,0]
[null,null,null,null,null,{"$f":"IFERROR(VLOOKUP(E1774,Insumos!A:C,2,FALSE),\"\")","v":""},null,null,null,0]
[null,null,null,null,null,{"$f":"IFERROR(VLOOKUP(E1775,Insumos!A:C,2,FALSE),\"\")","v":""},null,null,null,0]
[null,null,null,null,null,{"$f":"IFERROR(VLOOKUP(E1776,Insumos!A:C,2,FALSE),\"\")","v":""},null,null,null,0]
[null,null,null,null,null,{"$f":"IFERROR(VLOOKUP(E1777,Insumos!A:C,2,FALSE),\"\")","v":""},null,null,null,0]
[null,null,null,null,null,{"$f":"IFERROR(VLOOKUP(E1778,Insumos!A:C,2,FALSE),\"\")","v":""},null,null,null,0]
[null,null,null,null,null,{"$f":"IFERROR(VLOOKUP(E1779,Insumos!A:C,2,FALSE),\"\")","v":""},null,null,null,0]
[null,null,null,null,null,{"$f":"IFERROR(VLOOKUP(E1780,Insumos!A:C,2,FALSE),\"\")","v":""},null,null,null,0]
[null,null,null,null,null,{"$f":"IFERROR(VLOOKUP(E1781,Insumos!A:C,2,FALSE),\"\")","v":""},null,null,null,0]
[null,null,null,null,null,{"$f":"IFERROR(VLOOKUP(E1782,Insumos!A:C,2,FALSE),\"\")","v":""},null,null,null,0]
[null,null,null,null,null,{"$f":"IFERROR(VLOOKUP(E1783,Insumos!A:C,2,FALSE),\"\")","v":""},null,null,null,0]
[null,null,null,null,null,{"$f":"IFERROR(VLOOKUP(E1784,Insumos!A:C,2,FALSE),\"\")","v":""},null,null,null,0]
[null,null,null,null,null,{"$f":"IFERROR(VLOOKUP(E1785,Insumos!A:C,2,FALSE),\"\")","v":""},null,null,null,0]
[null,null,null,null,null,{"$f":"IFERROR(VLOOKUP(E1786,Insumos!A:C,2,FALSE),\"\")","v":""},null,null,null,0]
[null,null,null,null,null,{"$f":"IFERROR(VLOOKUP(E1787,Insumos!A:C,2,FALSE),\"\")","v":""},null,null,null,0]
[null,null,null,null,null,{"$f":"IFERROR(VLOOKUP(E1788,Insumos!A:C,2,FALSE),\"\")","v":""},null,null,null,0]
[null,null,null,null,null,{"$f":"IFERROR(VLOOKUP(E1789,Insumos!A:C,2,FALSE),\"\")","v":""},null,null,null,0]
[null,null,null,null,null,{"$f":"IFERROR(VLOOKUP(E1790,Insumos!A:C,2,FALSE),\"\")","v":""},null,null,null,0]
[null,null,null,null,null,{"$f":"IFERROR(VLOOKUP(E1791,Insumos!A:C,2,FALSE),\"\")","v":""},null,null,null,0]
[null,null,null,null,null,{"$f":"IFERROR(VLOOKUP(E1792,Insumos!A:C,2,FALSE),\"\")","v":""},null,null,null,0]
[null,null,null,null,null,{"$f":"IFERROR(VLOOKUP(E1793,Insumos!A:C,2,FALSE),\"\")","v":""},null,null,null,0]
[null,null,null,null,null,{"$f":"IFERROR(VLOOKUP(E1794,Insumos!A:C,2,FALSE),\"\")","v":""},null,null,null,0]
[null,null,null,null,null,{"$f":"IFERROR(VLOOKUP(E1795,Insumos!A:C,2,FALSE),\"\")","v":""},null,null,null,0]
[null,null,null,null,null,{"$f":"IFERROR(VLOOKUP(E1796,Insumos!A:C,2,FALSE),\"\")","v":""},null,null,null,0]
[null,null,null,null,null,{"$f":"IFERROR(VLOOKUP(E1797,Insumos!A:C,2,FALSE),\"\")","v":""},null,null,null,{"$f":"IFERROR(H1797*I1797,\"\")","v":0}]
[null,null,null,null,null,{"$f":"IFERROR(VLOOKUP(E1798,Insumos!A:C,2,FALSE),\"\")","v":""},null,null,null,0]
[null,null,null,null,null,{"$f":"IFERROR(VLOOKUP(E1799,Insumos!A:C,2,FALSE),\"\")","v":""},null,null,null,0]
[null,null,null,null,null,{"$f":"IFERROR(VLOOKUP(E1800,Insumos!A:C,2,FALSE),\"\")","v":""},null,null,null,0]
[null,null,null,null,null,{"$f":"IFERROR(VLOOKUP(E1801,Insumos!A:C,2,FALSE),\"\")","v":""},null,null,null,0]
[null,null,null,null,null,{"$f":"IFERROR(VLOOKUP(E1802,Insumos!A:C,2,FALSE),\"\")","v":""},null,null,null,0]
[null,null,null,null,null,{"$f":"IFERROR(VLOOKUP(E1803,Insumos!A:C,2,FALSE),\"\")","v":""},null,null,null,0]
[null,null,null,null,null,{"$f":"IFERROR(VLOOKUP(E1804,Insumos!A:C,2,FALSE),\"\")","v":""},null,null,null,0]
[null,null,null,null,null,{"$f":"IFERROR(VLOOKUP(E1805,Insumos!A:C,2,FALSE),\"\")","v":""},null,null,null,0]
[null,null,null,null,null,{"$f":"IFERROR(VLOOKUP(E1806,Insumos!A:C,2,FALSE),\"\")","v":""},null,null,null,0]
[null,null,null,null,null,{"$f":"IFERROR(VLOOKUP(E1807,Insumos!A:C,2,FALSE),\"\")","v":""},null,null,null,0]
[null,null,null,null,null,{"$f":"IFERROR(VLOOKUP(E1808,Insumos!A:C,2,FALSE),\"\")","v":""},null,null,null,0]
[null,null,null,null,null,{"$f":"IFERROR(VLOOKUP(E1809,Insumos!A:C,2,FALSE),\"\")","v":""},null,null,null,0]
[null,null,null,null,null,{"$f":"IFERROR(VLOOKUP(E1810,Insumos!A:C,2,FALSE),\"\")","v":""},null,null,null,0]
[null,null,null,null,null,{"$f":"IFERROR(VLOOKUP(E1811,Insumos!A:C,2,FALSE),\"\")","v":""},null,null,null,0]
[null,null,null,null,null,{"$f":"IFERROR(VLOOKUP(E1812,Insumos!A:C,2,FALSE),\"\")","v":""},null,null,null,0]
[null,null,null,null,null,{"$f":"IFERROR(VLOOKUP(E1813,Insumos!A:C,2,FALSE),\"\")","v":""},null,null,null,0]
[null,null,null,null,null,{"$f":"IFERROR(VLOOKUP(E1814,Insumos!A:C,2,FALSE),\"\")","v":""},null,null,null,0]
[null,null,null,null,null,{"$f":"IFERROR(VLOOKUP(E1815,Insumos!A:C,2,FALSE),\"\")","v":""},null,null,null,0]
[null,null,null,null,null,{"$f":"IFERROR(VLOOKUP(E1816,Insumos!A:C,2,FALSE),\"\")","v":""},null,null,null,0]
[null,null,null,null,null,{"$f":"IFERROR(VLOOKUP(E1817,Insumos!A:C,2,FALSE),\"\")","v":""},null,null,null,0]
[null,null,null,null,null,{"$f":"IFERROR(VLOOKUP(E1818,Insumos!A:C,2,FALSE),\"\")","v":""},null,null,null,0]
[null,null,null,null,null,{"$f":"IFERROR(VLOOKUP(E1819,Insumos!A:C,2,FALSE),\"\")","v":""},null,null,null,0]
[null,null,null,null,null,{"$f":"IFERROR(VLOOKUP(E1820,Insumos!A:C,2,FALSE),\"\")","v":""},null,null,null,0]
[null,null,null,null,null,{"$f":"IFERROR(VLOOKUP(E1821,Insumos!A:C,2,FALSE),\"\")","v":""},null,null,null,0]
[null,null,null,null,null,{"$f":"IFERROR(VLOOKUP(E1822,Insumos!A:C,2,FALSE),\"\")","v":""},null,null,null,0]
[null,null,null,null,null,{"$f":"IFERROR(VLOOKUP(E1823,Insumos!A:C,2,FALSE),\"\")","v":""},null,null,null,0]
[null,null,null,null,null,{"$f":"IFERROR(VLOOKUP(E1824,Insumos!A:C,2,FALSE),\"\")","v":""},null,null,null,0]
[null,null,null,null,null,{"$f":"IFERROR(VLOOKUP(E1825,Insumos!A:C,2,FALSE),\"\")","v":""},null,null,null,0]
[null,null,null,null,null,{"$f":"IFERROR(VLOOKUP(E1826,Insumos!A:C,2,FALSE),\"\")","v":""},null,null,null,0]
[null,null,null,null,null,{"$f":"IFERROR(VLOOKUP(E1827,Insumos!A:C,2,FALSE),\"\")","v":""},null,null,null,0]
[null,null,null,null,null,{"$f":"IFERROR(VLOOKUP(E1828,Insumos!A:C,2,FALSE),\"\")","v":""},null,null,null,0]
[null,null,null,null,null,{"$f":"IFERROR(VLOOKUP(E1829,Insumos!A:C,2,FALSE),\"\")","v":""},null,null,null,0]
[null,null,null,null,null,{"$f":"IFERROR(VLOOKUP(E1830,Insumos!A:C,2,FALSE),\"\")","v":""},null,null,null,0]
[null,null,null,null,null,{"$f":"IFERROR(VLOOKUP(E1831,Insumos!A:C,2,FALSE),\"\")","v":""},null,null,null,0]
[null,null,null,null,null,{"$f":"IFERROR(VLOOKUP(E1832,Insumos!A:C,2,FALSE),\"\")","v":""},null,null,null,0]
[null,null,null,null,null,{"$f":"IFERROR(VLOOKUP(E1833,Insumos!A:C,2,FALSE),\"\")","v":""},null,null,null,0]
[null,null,null,null,null,{"$f":"IFERROR(VLOOKUP(E1834,Insumos!A:C,2,FALSE),\"\")","v":""},null,null,null,0]
[null,null,null,null,null,{"$f":"IFERROR(VLOOKUP(E1835,Insumos!A:C,2,FALSE),\"\")","v":""},null,null,null,0]
[null,null,null,null,null,{"$f":"IFERROR(VLOOKUP(E1836,Insumos!A:C,2,FALSE),\"\")","v":""},null,null,null,0]
[null,null,null,null,null,{"$f":"IFERROR(VLOOKUP(E1837,Insumos!A:C,2,FALSE),\"\")","v":""},null,null,null,0]
[null,null,null,null,null,{"$f":"IFERROR(VLOOKUP(E1838,Insumos!A:C,2,FALSE),\"\")","v":""},null,null,null,0]
[null,null,null,null,null,{"$f":"IFERROR(VLOOKUP(E1839,Insumos!A:C,2,FALSE),\"\")","v":""},null,null,null,0]
[null,null,null,null,null,{"$f":"IFERROR(VLOOKUP(E1840,Insumos!A:C,2,FALSE),\"\")","v":""},null,null,null,0]
[null,null,null,null,null,{"$f":"IFERROR(VLOOKUP(E1841,Insumos!A:C,2,FALSE),\"\")","v":""},null,null,null,0]
[null,null,null,null,null,{"$f":"IFERROR(VLOOKUP(E1842,Insumos!A:C,2,FALSE),\"\")","v":""},null,null,null,0]
[null,null,null,null,null,{"$f":"IFERROR(VLOOKUP(E1843,Insumos!A:C,2,FALSE),\"\")","v":""},null,null,null,0]
[null,null,null,null,null,{"$f":"IFERROR(VLOOKUP(E1844,Insumos!A:C,2,FALSE),\"\")","v":""},null,null,null,0]
[null,null,null,null,null,{"$f":"IFERROR(VLOOKUP(E1845,Insumos!A:C,2,FALSE),\"\")","v":""},null,null,null,0]
[null,null,null,null,null,{"$f":"IFERROR(VLOOKUP(E1846,Insumos!A:C,2,FALSE),\"\")","v":""},null,null,null,0]
[null,null,null,null,null,{"$f":"IFERROR(VLOOKUP(E1847,Insumos!A:C,2,FALSE),\"\")","v":""},null,null,null,0]
[null,null,null,null,null,{"$f":"IFERROR(VLOOKUP(E1848,Insumos!A:C,2,FALSE),\"\")","v":""},null,null,null,0]
[null,null,null,null,null,{"$f":"IFERROR(VLOOKUP(E1849,Insumos!A:C,2,FALSE),\"\")","v":""},null,null,null,0]
[null,null,null,null,null,{"$f":"IFERROR(VLOOKUP(E1850,Insumos!A:C,2,FALSE),\"\")","v":""},null,null,null,0]
[null,null,null,null,null,{"$f":"IFERROR(VLOOKUP(E1851,Insumos!A:C,2,FALSE),\"\")","v":""},null,null,null,0]
[null,null,null,null,null,{"$f":"IFERROR(VLOOKUP(E1852,Insumos!A:C,2,FALSE),\"\")","v":""},null,null,null,0]
[null,null,null,null,null,{"$f":"IFERROR(VLOOKUP(E1853,Insumos!A:C,2,FALSE),\"\")","v":""},null,null,null,0]
[null,null,null,null,null,{"$f":"IFERROR(VLOOKUP(E1854,Insumos!A:C,2,FALSE),\"\")","v":""},null,null,null,0]
[null,null,null,null,null,{"$f":"IFERROR(VLOOKUP(E1855,Insumos!A:C,2,FALSE),\"\")","v":""},null,null,null,0]
[null,null,null,null,null,{"$f":"IFERROR(VLOOKUP(E1856,Insumos!A:C,2,FALSE),\"\")","v":""},null,null,null,0]
[null,null,null,null,null,{"$f":"IFERROR(VLOOKUP(E1857,Insumos!A:C,2,FALSE),\"\")","v":""},null,null,null,0]
[null,null,null,null,null,{"$f":"IFERROR(VLOOKUP(E1858,Insumos!A:C,2,FALSE),\"\")","v":""},null,null,null,0]
[null,null,null,null,null,{"$f":"IFERROR(VLOOKUP(E1859,Insumos!A:C,2,FALSE),\"\")","v":""},null,null,null,0]
[null,null,null,null,null,{"$f":"IFERROR(VLOOKUP(E1860,Insumos!A:C,2,FALSE),\"\")","v":""},null,null,null,0]
[null,null,null,null,null,{"$f":"IFERROR(VLOOKUP(E1861,Insumos!A:C,2,FALSE),\"\")","v":""},null,null,null,{"$f":"IFERROR(H1861*I1861,\"\")","v":0}]
[null,null,null,null,null,{"$f":"IFERROR(VLOOKUP(E1862,Insumos!A:C,2,FALSE),\"\")","v":""},null,null,null,0]
[null,null,null,null,null,{"$f":"IFERROR(VLOOKUP(E1863,Insumos!A:C,2,FALSE),\"\")","v":""},null,null,null,0]
[null,null,null,null,null,{"$f":"IFERROR(VLOOKUP(E1864,Insumos!A:C,2,FALSE),\"\")","v":""},null,null,null,0]
[null,null,null,null,null,{"$f":"IFERROR(VLOOKUP(E1865,Insumos!A:C,2,FALSE),\"\")","v":""},null,null,null,0]
[null,null,null,null,null,{"$f":"IFERROR(VLOOKUP(E1866,Insumos!A:C,2,FALSE),\"\")","v":""},null,null,null,0]
[null,null,null,null,null,{"$f":"IFERROR(VLOOKUP(E1867,Insumos!A:C,2,FALSE),\"\")","v":""},null,null,null,0]
[null,null,null,null,null,{"$f":"IFERROR(VLOOKUP(E1868,Insumos!A:C,2,FALSE),\"\")","v":""},null,null,null,0]
[null,null,null,null,null,{"$f":"IFERROR(VLOOKUP(E1869,Insumos!A:C,2,FALSE),\"\")","v":""},null,null,null,0]
[null,null,null,null,null,{"$f":"IFERROR(VLOOKUP(E1870,Insumos!A:C,2,FALSE),\"\")","v":""},null,null,null,0]
[null,null,null,null,null,{"$f":"IFERROR(VLOOKUP(E1871,Insumos!A:C,2,FALSE),\"\")","v":""},null,null,null,0]
[null,null,null,null,null,{"$f":"IFERROR(VLOOKUP(E1872,Insumos!A:C,2,FALSE),\"\")","v":""},null,null,null,0]
[null,null,null,null,null,{"$f":"IFERROR(VLOOKUP(E1873,Insumos!A:C,2,FALSE),\"\")","v":""},null,null,null,0]
[null,null,null,null,null,{"$f":"IFERROR(VLOOKUP(E1874,Insumos!A:C,2,FALSE),\"\")","v":""},null,null,null,0]
[null,null,null,null,null,{"$f":"IFERROR(VLOOKUP(E1875,Insumos!A:C,2,FALSE),\"\")","v":""},null,null,null,0]
[null,null,null,null,null,{"$f":"IFERROR(VLOOKUP(E1876,Insumos!A:C,2,FALSE),\"\")","v":""},null,null,null,0]
[null,null,null,null,null,{"$f":"IFERROR(VLOOKUP(E1877,Insumos!A:C,2,FALSE),\"\")","v":""},null,null,null,0]
[null,null,null,null,null,{"$f":"IFERROR(VLOOKUP(E1878,Insumos!A:C,2,FALSE),\"\")","v":""},null,null,null,0]
[null,null,null,null,null,{"$f":"IFERROR(VLOOKUP(E1879,Insumos!A:C,2,FALSE),\"\")","v":""},null,null,null,0]
[null,null,null,null,null,{"$f":"IFERROR(VLOOKUP(E1880,Insumos!A:C,2,FALSE),\"\")","v":""},null,null,null,0]
[null,null,null,null,null,{"$f":"IFERROR(VLOOKUP(E1881,Insumos!A:C,2,FALSE),\"\")","v":""},null,null,null,0]
[null,null,null,null,null,{"$f":"IFERROR(VLOOKUP(E1882,Insumos!A:C,2,FALSE),\"\")","v":""},null,null,null,0]
[null,null,null,null,null,{"$f":"IFERROR(VLOOKUP(E1883,Insumos!A:C,2,FALSE),\"\")","v":""},null,null,null,0]
[null,null,null,null,null,{"$f":"IFERROR(VLOOKUP(E1884,Insumos!A:C,2,FALSE),\"\")","v":""},null,null,null,0]
[null,null,null,null,null,{"$f":"IFERROR(VLOOKUP(E1885,Insumos!A:C,2,FALSE),\"\")","v":""},null,null,null,0]
[null,null,null,null,null,{"$f":"IFERROR(VLOOKUP(E1886,Insumos!A:C,2,FALSE),\"\")","v":""},null,null,null,0]
[null,null,null,null,null,{"$f":"IFERROR(VLOOKUP(E1887,Insumos!A:C,2,FALSE),\"\")","v":""},null,null,null,0]
[null,null,null,null,null,{"$f":"IFERROR(VLOOKUP(E1888,Insumos!A:C,2,FALSE),\"\")","v":""},null,null,null,0]
[null,null,null,null,null,{"$f":"IFERROR(VLOOKUP(E1889,Insumos!A:C,2,FALSE),\"\")","v":""},null,null,null,0]
[null,null,null,null,null,{"$f":"IFERROR(VLOOKUP(E1890,Insumos!A:C,2,FALSE),\"\")","v":""},null,null,null,0]
[null,null,null,null,null,{"$f":"IFERROR(VLOOKUP(E1891,Insumos!A:C,2,FALSE),\"\")","v":""},null,null,null,0]
[null,null,null,null,null,{"$f":"IFERROR(VLOOKUP(E1892,Insumos!A:C,2,FALSE),\"\")","v":""},null,null,null,0]
[null,null,null,null,null,{"$f":"IFERROR(VLOOKUP(E1893,Insumos!A:C,2,FALSE),\"\")","v":""},null,null,null,0]
[null,null,null,null,null,{"$f":"IFERROR(VLOOKUP(E1894,Insumos!A:C,2,FALSE),\"\")","v":""},null,null,null,0]
[null,null,null,null,null,{"$f":"IFERROR(VLOOKUP(E1895,Insumos!A:C,2,FALSE),\"\")","v":""},null,null,null,0]
[null,null,null,null,null,{"$f":"IFERROR(VLOOKUP(E1896,Insumos!A:C,2,FALSE),\"\")","v":""},null,null,null,0]
[null,null,null,null,null,{"$f":"IFERROR(VLOOKUP(E1897,Insumos!A:C,2,FALSE),\"\")","v":""},null,null,null,0]
[null,null,null,null,null,{"$f":"IFERROR(VLOOKUP(E1898,Insumos!A:C,2,FALSE),\"\")","v":""},null,null,null,0]
[null,null,null,null,null,{"$f":"IFERROR(VLOOKUP(E1899,Insumos!A:C,2,FALSE),\"\")","v":""},null,null,null,0]
[null,null,null,null,null,{"$f":"IFERROR(VLOOKUP(E1900,Insumos!A:C,2,FALSE),\"\")","v":""},null,null,null,0]
[null,null,null,null,null,{"$f":"IFERROR(VLOOKUP(E1901,Insumos!A:C,2,FALSE),\"\")","v":""},null,null,null,0]
[null,null,null,null,null,{"$f":"IFERROR(VLOOKUP(E1902,Insumos!A:C,2,FALSE),\"\")","v":""},null,null,null,0]
[null,null,null,null,null,{"$f":"IFERROR(VLOOKUP(E1903,Insumos!A:C,2,FALSE),\"\")","v":""},null,null,null,0]
[null,null,null,null,null,{"$f":"IFERROR(VLOOKUP(E1904,Insumos!A:C,2,FALSE),\"\")","v":""},null,null,null,0]
[null,null,null,null,null,{"$f":"IFERROR(VLOOKUP(E1905,Insumos!A:C,2,FALSE),\"\")","v":""},null,null,null,0]
[null,null,null,null,null,{"$f":"IFERROR(VLOOKUP(E1906,Insumos!A:C,2,FALSE),\"\")","v":""},null,null,null,0]
[null,null,null,null,null,{"$f":"IFERROR(VLOOKUP(E1907,Insumos!A:C,2,FALSE),\"\")","v":""},null,null,null,0]
[null,null,null,null,null,{"$f":"IFERROR(VLOOKUP(E1908,Insumos!A:C,2,FALSE),\"\")","v":""},null,null,null,0]
[null,null,null,null,null,{"$f":"IFERROR(VLOOKUP(E1909,Insumos!A:C,2,FALSE),\"\")","v":""},null,null,null,0]
[null,null,null,null,null,{"$f":"IFERROR(VLOOKUP(E1910,Insumos!A:C,2,FALSE),\"\")","v":""},null,null,null,0]
[null,null,null,null,null,{"$f":"IFERROR(VLOOKUP(E1911,Insumos!A:C,2,FALSE),\"\")","v":""},null,null,null,0]
[null,null,null,null,null,{"$f":"IFERROR(VLOOKUP(E1912,Insumos!A:C,2,FALSE),\"\")","v":""},null,null,null,0]
[null,null,null,null,null,{"$f":"IFERROR(VLOOKUP(E1913,Insumos!A:C,2,FALSE),\"\")","v":""},null,null,null,0]
[null,null,null,null,null,{"$f":"IFERROR(VLOOKUP(E1914,Insumos!A:C,2,FALSE),\"\")","v":""},null,null,null,0]
[null,null,null,null,null,{"$f":"IFERROR(VLOOKUP(E1915,Insumos!A:C,2,FALSE),\"\")","v":""},null,null,null,0]
[null,null,null,null,null,{"$f":"IFERROR(VLOOKUP(E1916,Insumos!A:C,2,FALSE),\"\")","v":""},null,null,null,0]
[null,null,null,null,null,{"$f":"IFERROR(VLOOKUP(E1917,Insumos!A:C,2,FALSE),\"\")","v":""},null,null,null,0]
[null,null,null,null,null,{"$f":"IFERROR(VLOOKUP(E1918,Insumos!A:C,2,FALSE),\"\")","v":""},null,null,null,0]
[null,null,null,null,null,{"$f":"IFERROR(VLOOKUP(E1919,Insumos!A:C,2,FALSE),\"\")","v":""},null,null,null,0]
[null,null,null,null,null,{"$f":"IFERROR(VLOOKUP(E1920,Insumos!A:C,2,FALSE),\"\")","v":""},null,null,null,0]
[null,null,null,null,null,{"$f":"IFERROR(VLOOKUP(E1921,Insumos!A:C,2,FALSE),\"\")","v":""},null,null,null,0]
[null,null,null,null,null,{"$f":"IFERROR(VLOOKUP(E1922,Insumos!A:C,2,FALSE),\"\")","v":""},null,null,null,0]
[null,null,null,null,null,{"$f":"IFERROR(VLOOKUP(E1923,Insumos!A:C,2,FALSE),\"\")","v":""},null,null,null,0]
[null,null,null,null,null,{"$f":"IFERROR(VLOOKUP(E1924,Insumos!A:C,2,FALSE),\"\")","v":""},null,null,null,0]
[null,null,null,null,null,{"$f":"IFERROR(VLOOKUP(E1925,Insumos!A:C,2,FALSE),\"\")","v":""},null,null,null,{"$f":"IFERROR(H1925*I1925,\"\")","v":0}]
[null,null,null,null,null,{"$f":"IFERROR(VLOOKUP(E1926,Insumos!A:C,2,FALSE),\"\")","v":""},null,null,null,0]
[null,null,null,null,null,{"$f":"IFERROR(VLOOKUP(E1927,Insumos!A:C,2,FALSE),\"\")","v":""},null,null,null,0]
[null,null,null,null,null,{"$f":"IFERROR(VLOOKUP(E1928,Insumos!A:C,2,FALSE),\"\")","v":""},null,null,null,0]
[null,null,null,null,null,{"$f":"IFERROR(VLOOKUP(E1929,Insumos!A:C,2,FALSE),\"\")","v":""},null,null,null,0]
[null,null,null,null,null,{"$f":"IFERROR(VLOOKUP(E1930,Insumos!A:C,2,FALSE),\"\")","v":""},null,null,null,0]
[null,null,null,null,null,{"$f":"IFERROR(VLOOKUP(E1931,Insumos!A:C,2,FALSE),\"\")","v":""},null,null,null,0]
[null,null,null,null,null,{"$f":"IFERROR(VLOOKUP(E1932,Insumos!A:C,2,FALSE),\"\")","v":""},null,null,null,0]
[null,null,null,null,null,{"$f":"IFERROR(VLOOKUP(E1933,Insumos!A:C,2,FALSE),\"\")","v":""},null,null,null,0]
[null,null,null,null,null,{"$f":"IFERROR(VLOOKUP(E1934,Insumos!A:C,2,FALSE),\"\")","v":""},null,null,null,0]
[null,null,null,null,null,{"$f":"IFERROR(VLOOKUP(E1935,Insumos!A:C,2,FALSE),\"\")","v":""},null,null,null,0]
[null,null,null,null,null,{"$f":"IFERROR(VLOOKUP(E1936,Insumos!A:C,2,FALSE),\"\")","v":""},null,null,null,0]
[null,null,null,null,null,{"$f":"IFERROR(VLOOKUP(E1937,Insumos!A:C,2,FALSE),\"\")","v":""},null,null,null,0]
[null,null,null,null,null,{"$f":"IFERROR(VLOOKUP(E1938,Insumos!A:C,2,FALSE),\"\")","v":""},null,null,null,0]
[null,null,null,null,null,{"$f":"IFERROR(VLOOKUP(E1939,Insumos!A:C,2,FALSE),\"\")","v":""},null,null,null,0]
[null,null,null,null,null,{"$f":"IFERROR(VLOOKUP(E1940,Insumos!A:C,2,FALSE),\"\")","v":""},null,null,null,0]
[null,null,null,null,null,{"$f":"IFERROR(VLOOKUP(E1941,Insumos!A:C,2,FALSE),\"\")","v":""},null,null,null,0]
[null,null,null,null,null,{"$f":"IFERROR(VLOOKUP(E1942,Insumos!A:C,2,FALSE),\"\")","v":""},null,null,null,0]
[null,null,null,null,null,{"$f":"IFERROR(VLOOKUP(E1943,Insumos!A:C,2,FALSE),\"\")","v":""},null,null,null,0]
[null,null,null,null,null,{"$f":"IFERROR(VLOOKUP(E1944,Insumos!A:C,2,FALSE),\"\")","v":""},null,null,null,0]
[null,null,null,null,null,{"$f":"IFERROR(VLOOKUP(E1945,Insumos!A:C,2,FALSE),\"\")","v":""},null,null,null,0]
[null,null,null,null,null,{"$f":"IFERROR(VLOOKUP(E1946,Insumos!A:C,2,FALSE),\"\")","v":""},null,null,null,0]
[null,null,null,null,null,{"$f":"IFERROR(VLOOKUP(E1947,Insumos!A:C,2,FALSE),\"\")","v":""},null,null,null,0]
[null,null,null,null,null,{"$f":"IFERROR(VLOOKUP(E1948,Insumos!A:C,2,FALSE),\"\")","v":""},null,null,null,0]
[null,null,null,null,null,{"$f":"IFERROR(VLOOKUP(E1949,Insumos!A:C,2,FALSE),\"\")","v":""},null,null,null,0]
[null,null,null,null,null,{"$f":"IFERROR(VLOOKUP(E1950,Insumos!A:C,2,FALSE),\"\")","v":""},null,null,null,0]
[null,null,null,null,null,{"$f":"IFERROR(VLOOKUP(E1951,Insumos!A:C,2,FALSE),\"\")","v":""},null,null,null,0]
[null,null,null,null,null,{"$f":"IFERROR(VLOOKUP(E1952,Insumos!A:C,2,FALSE),\"\")","v":""},null,null,null,0]
[null,null,null,null,null,{"$f":"IFERROR(VLOOKUP(E1953,Insumos!A:C,2,FALSE),\"\")","v":""},null,null,null,0]
[null,null,null,null,null,{"$f":"IFERROR(VLOOKUP(E1954,Insumos!A:C,2,FALSE),\"\")","v":""},null,null,null,0]
[null,null,null,null,null,{"$f":"IFERROR(VLOOKUP(E1955,Insumos!A:C,2,FALSE),\"\")","v":""},null,null,null,0]
[null,null,null,null,null,{"$f":"IFERROR(VLOOKUP(E1956,Insumos!A:C,2,FALSE),\"\")","v":""},null,null,null,0]
[null,null,null,null,null,{"$f":"IFERROR(VLOOKUP(E1957,Insumos!A:C,2,FALSE),\"\")","v":""},null,null,null,0]
[null,null,null,null,null,{"$f":"IFERROR(VLOOKUP(E1958,Insumos!A:C,2,FALSE),\"\")","v":""},null,null,null,0]
[null,null,null,null,null,{"$f":"IFERROR(VLOOKUP(E1959,Insumos!A:C,2,FALSE),\"\")","v":""},null,null,null,0]
[null,null,null,null,null,{"$f":"IFERROR(VLOOKUP(E1960,Insumos!A:C,2,FALSE),\"\")","v":""},null,null,null,0]
[null,null,null,null,null,{"$f":"IFERROR(VLOOKUP(E1961,Insumos!A:C,2,FALSE),\"\")","v":""},null,null,null,0]
[null,null,null,null,null,{"$f":"IFERROR(VLOOKUP(E1962,Insumos!A:C,2,FALSE),\"\")","v":""},null,null,null,0]
[null,null,null,null,null,{"$f":"IFERROR(VLOOKUP(E1963,Insumos!A:C,2,FALSE),\"\")","v":""},null,null,null,0]
[null,null,null,null,null,{"$f":"IFERROR(VLOOKUP(E1964,Insumos!A:C,2,FALSE),\"\")","v":""},null,null,null,0]
[null,null,null,null,null,{"$f":"IFERROR(VLOOKUP(E1965,Insumos!A:C,2,FALSE),\"\")","v":""},null,null,null,0]
[null,null,null,null,null,{"$f":"IFERROR(VLOOKUP(E1966,Insumos!A:C,2,FALSE),\"\")","v":""},null,null,null,0]
[null,null,null,null,null,{"$f":"IFERROR(VLOOKUP(E1967,Insumos!A:C,2,FALSE),\"\")","v":""},null,null,null,0]
[null,null,null,null,null,{"$f":"IFERROR(VLOOKUP(E1968,Insumos!A:C,2,FALSE),\"\")","v":""},null,null,null,0]
[null,null,null,null,null,{"$f":"IFERROR(VLOOKUP(E1969,Insumos!A:C,2,FALSE),\"\")","v":""},null,null,null,0]
[null,null,null,null,null,{"$f":"IFERROR(VLOOKUP(E1970,Insumos!A:C,2,FALSE),\"\")","v":""},null,null,null,0]
[null,null,null,null,null,{"$f":"IFERROR(VLOOKUP(E1971,Insumos!A:C,2,FALSE),\"\")","v":""},null,null,null,0]
[null,null,null,null,null,{"$f":"IFERROR(VLOOKUP(E1972,Insumos!A:C,2,FALSE),\"\")","v":""},null,null,null,0]
[null,null,null,null,null,{"$f":"IFERROR(VLOOKUP(E1973,Insumos!A:C,2,FALSE),\"\")","v":""},null,null,null,0]
[null,null,null,null,null,{"$f":"IFERROR(VLOOKUP(E1974,Insumos!A:C,2,FALSE),\"\")","v":""},null,null,null,0]
[null,null,null,null,null,{"$f":"IFERROR(VLOOKUP(E1975,Insumos!A:C,2,FALSE),\"\")","v":""},null,null,null,0]
[null,null,null,null,null,{"$f":"IFERROR(VLOOKUP(E1976,Insumos!A:C,2,FALSE),\"\")","v":""},null,null,null,0]
[null,null,null,null,null,{"$f":"IFERROR(VLOOKUP(E1977,Insumos!A:C,2,FALSE),\"\")","v":""},null,null,null,0]
[null,null,null,null,null,{"$f":"IFERROR(VLOOKUP(E1978,Insumos!A:C,2,FALSE),\"\")","v":""},null,null,null,0]
[null,null,null,null,null,{"$f":"IFERROR(VLOOKUP(E1979,Insumos!A:C,2,FALSE),\"\")","v":""},null,null,null,0]
[null,null,null,null,null,{"$f":"IFERROR(VLOOKUP(E1980,Insumos!A:C,2,FALSE),\"\")","v":""},null,null,null,0]
[null,null,null,null,null,{"$f":"IFERROR(VLOOKUP(E1981,Insumos!A:C,2,FALSE),\"\")","v":""},null,null,null,0]
[null,null,null,null,null,{"$f":"IFERROR(VLOOKUP(E1982,Insumos!A:C,2,FALSE),\"\")","v":""},null,null,null,0]
[null,null,null,null,null,{"$f":"IFERROR(VLOOKUP(E1983,Insumos!A:C,2,FALSE),\"\")","v":""},null,null,null,0]
[null,null,null,null,null,{"$f":"IFERROR(VLOOKUP(E1984,Insumos!A:C,2,FALSE),\"\")","v":""},null,null,null,0]
[null,null,null,null,null,{"$f":"IFERROR(VLOOKUP(E1985,Insumos!A:C,2,FALSE),\"\")","v":""},null,null,null,0]
[null,null,null,null,null,{"$f":"IFERROR(VLOOKUP(E1986,Insumos!A:C,2,FALSE),\"\")","v":""},null,null,null,0]
[null,null,null,null,null,{"$f":"IFERROR(VLOOKUP(E1987,Insumos!A:C,2,FALSE),\"\")","v":""},null,null,null,0]
[null,null,null,null,null,{"$f":"IFERROR(VLOOKUP(E1988,Insumos!A:C,2,FALSE),\"\")","v":""},null,null,null,0]
[null,null,null,null,null,{"$f":"IFERROR(VLOOKUP(E1989,Insumos!A:C,2,FALSE),\"\")","v":""},null,null,null,{"$f":"IFERROR(H1989*I1989,\"\")","v":0}]
[null,null,null,null,null,{"$f":"IFERROR(VLOOKUP(E1990,Insumos!A:C,2,FALSE),\"\")","v":""},null,null,null,0]
[null,null,null,null,null,{"$f":"IFERROR(VLOOKUP(E1991,Insumos!A:C,2,FALSE),\"\")","v":""},null,null,null,0]
[null,null,null,null,null,{"$f":"IFERROR(VLOOKUP(E1992,Insumos!A:C,2,FALSE),\"\")","v":""},null,null,null,0]
[null,null,null,null,null,{"$f":"IFERROR(VLOOKUP(E1993,Insumos!A:C,2,FALSE),\"\")","v":""},null,null,null,0]
[null,null,null,null,null,{"$f":"IFERROR(VLOOKUP(E1994,Insumos!A:C,2,FALSE),\"\")","v":""},null,null,null,0]
[null,null,null,null,null,{"$f":"IFERROR(VLOOKUP(E1995,Insumos!A:C,2,FALSE),\"\")","v":""},null,null,null,0]
[null,null,null,null,null,{"$f":"IFERROR(VLOOKUP(E1996,Insumos!A:C,2,FALSE),\"\")","v":""},null,null,null,0]
[null,null,null,null,null,{"$f":"IFERROR(VLOOKUP(E1997,Insumos!A:C,2,FALSE),\"\")","v":""},null,null,null,0]
[null,null,null,null,null,{"$f":"IFERROR(VLOOKUP(E1998,Insumos!A:C,2,FALSE),\"\")","v":""},null,null,null,0]
[null,null,null,null,null,{"$f":"IFERROR(VLOOKUP(E1999,Insumos!A:C,2,FALSE),\"\")","v":""},null,null,null,0]
[null,null,null,null,null,{"$f":"IFERROR(VLOOKUP(E2000,Insumos!A:C,2,FALSE),\"\")","v":""},null,null,null,0]
[null,null,null,null,null,{"$f":"IFERROR(VLOOKUP(E2001,Insumos!A:C,2,FALSE),\"\")","v":""},null,null,null,0]
[null,null,null,null,null,{"$f":"IFERROR(VLOOKUP(E2002,Insumos!A:C,2,FALSE),\"\")","v":""},null,null,null,0]
[null,null,null,null,null,{"$f":"IFERROR(VLOOKUP(E2003,Insumos!A:C,2,FALSE),\"\")","v":""},null,null,null,0]
[null,null,null,null,null,{"$f":"IFERROR(VLOOKUP(E2004,Insumos!A:C,2,FALSE),\"\")","v":""},null,null,null,0]
[null,null,null,null,null,{"$f":"IFERROR(VLOOKUP(E2005,Insumos!A:C,2,FALSE),\"\")","v":""},null,null,null,0]
[null,null,null,null,null,{"$f":"IFERROR(VLOOKUP(E2006,Insumos!A:C,2,FALSE),\"\")","v":""},null,null,null,0]
[null,null,null,null,null,{"$f":"IFERROR(VLOOKUP(E2007,Insumos!A:C,2,FALSE),\"\")","v":""},null,null,null,0]
[null,null,null,null,null,{"$f":"IFERROR(VLOOKUP(E2008,Insumos!A:C,2,FALSE),\"\")","v":""},null,null,null,0]
[null,null,null,null,null,{"$f":"IFERROR(VLOOKUP(E2009,Insumos!A:C,2,FALSE),\"\")","v":""},null,null,null,0]
[null,null,null,null,null,{"$f":"IFERROR(VLOOKUP(E2010,Insumos!A:C,2,FALSE),\"\")","v":""},null,null,null,0]
[null,null,null,null,null,{"$f":"IFERROR(VLOOKUP(E2011,Insumos!A:C,2,FALSE),\"\")","v":""},null,null,null,0]
[null,null,null,null,null,{"$f":"IFERROR(VLOOKUP(E2012,Insumos!A:C,2,FALSE),\"\")","v":""},null,null,null,0]
[null,null,null,null,null,{"$f":"IFERROR(VLOOKUP(E2013,Insumos!A:C,2,FALSE),\"\")","v":""},null,null,null,0]
[null,null,null,null,null,{"$f":"IFERROR(VLOOKUP(E2014,Insumos!A:C,2,FALSE),\"\")","v":""},null,null,null,0]
[null,null,null,null,null,{"$f":"IFERROR(VLOOKUP(E2015,Insumos!A:C,2,FALSE),\"\")","v":""},null,null,null,0]
[null,null,null,null,null,{"$f":"IFERROR(VLOOKUP(E2016,Insumos!A:C,2,FALSE),\"\")","v":""},null,null,null,0]
[null,null,null,null,null,{"$f":"IFERROR(VLOOKUP(E2017,Insumos!A:C,2,FALSE),\"\")","v":""},null,null,null,0]
[null,null,null,null,null,{"$f":"IFERROR(VLOOKUP(E2018,Insumos!A:C,2,FALSE),\"\")","v":""},null,null,null,0]
[null,null,null,null,null,{"$f":"IFERROR(VLOOKUP(E2019,Insumos!A:C,2,FALSE),\"\")","v":""},null,null,null,0]
[null,null,null,null,null,{"$f":"IFERROR(VLOOKUP(E2020,Insumos!A:C,2,FALSE),\"\")","v":""},null,null,null,0]
[null,null,null,null,null,{"$f":"IFERROR(VLOOKUP(E2021,Insumos!A:C,2,FALSE),\"\")","v":""},null,null,null,0]
[null,null,null,null,null,{"$f":"IFERROR(VLOOKUP(E2022,Insumos!A:C,2,FALSE),\"\")","v":""},null,null,null,0]
[null,null,null,null,null,{"$f":"IFERROR(VLOOKUP(E2023,Insumos!A:C,2,FALSE),\"\")","v":""},null,null,null,0]
[null,null,null,null,null,{"$f":"IFERROR(VLOOKUP(E2024,Insumos!A:C,2,FALSE),\"\")","v":""},null,null,null,0]
[null,null,null,null,null,{"$f":"IFERROR(VLOOKUP(E2025,Insumos!A:C,2,FALSE),\"\")","v":""},null,null,null,0]
[null,null,null,null,null,{"$f":"IFERROR(VLOOKUP(E2026,Insumos!A:C,2,FALSE),\"\")","v":""},null,null,null,0]
[null,null,null,null,null,{"$f":"IFERROR(VLOOKUP(E2027,Insumos!A:C,2,FALSE),\"\")","v":""},null,null,null,0]
[null,null,null,null,null,{"$f":"IFERROR(VLOOKUP(E2028,Insumos!A:C,2,FALSE),\"\")","v":""},null,null,null,0]
[null,null,null,null,null,{"$f":"IFERROR(VLOOKUP(E2029,Insumos!A:C,2,FALSE),\"\")","v":""},null,null,null,0]
[null,null,null,null,null,{"$f":"IFERROR(VLOOKUP(E2030,Insumos!A:C,2,FALSE),\"\")","v":""},null,null,null,0]
[null,null,null,null,null,{"$f":"IFERROR(VLOOKUP(E2031,Insumos!A:C,2,FALSE),\"\")","v":""},null,null,null,0]
[null,null,null,null,null,{"$f":"IFERROR(VLOOKUP(E2032,Insumos!A:C,2,FALSE),\"\")","v":""},null,null,null,0]
[null,null,null,null,null,{"$f":"IFERROR(VLOOKUP(E2033,Insumos!A:C,2,FALSE),\"\")","v":""},null,null,null,0]
[null,null,null,null,null,{"$f":"IFERROR(VLOOKUP(E2034,Insumos!A:C,2,FALSE),\"\")","v":""},null,null,null,0]
[null,null,null,null,null,{"$f":"IFERROR(VLOOKUP(E2035,Insumos!A:C,2,FALSE),\"\")","v":""},null,null,null,0]
[null,null,null,null,null,{"$f":"IFERROR(VLOOKUP(E2036,Insumos!A:C,2,FALSE),\"\")","v":""},null,null,null,0]
[null,null,null,null,null,{"$f":"IFERROR(VLOOKUP(E2037,Insumos!A:C,2,FALSE),\"\")","v":""},null,null,null,0]
[null,null,null,null,null,{"$f":"IFERROR(VLOOKUP(E2038,Insumos!A:C,2,FALSE),\"\")","v":""},null,null,null,0]
[null,null,null,null,null,{"$f":"IFERROR(VLOOKUP(E2039,Insumos!A:C,2,FALSE),\"\")","v":""},null,null,null,0]
[null,null,null,null,null,{"$f":"IFERROR(VLOOKUP(E2040,Insumos!A:C,2,FALSE),\"\")","v":""},null,null,null,0]
[null,null,null,null,null,{"$f":"IFERROR(VLOOKUP(E2041,Insumos!A:C,2,FALSE),\"\")","v":""},null,null,null,0]
[null,null,null,null,null,{"$f":"IFERROR(VLOOKUP(E2042,Insumos!A:C,2,FALSE),\"\")","v":""},null,null,null,0]
[null,null,null,null,null,{"$f":"IFERROR(VLOOKUP(E2043,Insumos!A:C,2,FALSE),\"\")","v":""},null,null,null,0]
[null,null,null,null,null,{"$f":"IFERROR(VLOOKUP(E2044,Insumos!A:C,2,FALSE),\"\")","v":""},null,null,null,0]
[null,null,null,null,null,{"$f":"IFERROR(VLOOKUP(E2045,Insumos!A:C,2,FALSE),\"\")","v":""},null,null,null,0]
[null,null,null,null,null,{"$f":"IFERROR(VLOOKUP(E2046,Insumos!A:C,2,FALSE),\"\")","v":""},null,null,null,0]
[null,null,null,null,null,{"$f":"IFERROR(VLOOKUP(E2047,Insumos!A:C,2,FALSE),\"\")","v":""},null,null,null,0]
[null,null,null,null,null,{"$f":"IFERROR(VLOOKUP(E2048,Insumos!A:C,2,FALSE),\"\")","v":""},null,null,null,0]
[null,null,null,null,null,{"$f":"IFERROR(VLOOKUP(E2049,Insumos!A:C,2,FALSE),\"\")","v":""},null,null,null,0]
[null,null,null,null,null,{"$f":"IFERROR(VLOOKUP(E2050,Insumos!A:C,2,FALSE),\"\")","v":""},null,null,null,0]
[null,null,null,null,null,{"$f":"IFERROR(VLOOKUP(E2051,Insumos!A:C,2,FALSE),\"\")","v":""},null,null,null,0]
[null,null,null,null,null,{"$f":"IFERROR(VLOOKUP(E2052,Insumos!A:C,2,FALSE),\"\")","v":""},null,null,null,0]
[null,null,null,null,null,{"$f":"IFERROR(VLOOKUP(E2053,Insumos!A:C,2,FALSE),\"\")","v":""},null,null,null,{"$f":"IFERROR(H2053*I2053,\"\")","v":0}]
[null,null,null,null,null,{"$f":"IFERROR(VLOOKUP(E2054,Insumos!A:C,2,FALSE),\"\")","v":""},null,null,null,0]
[null,null,null,null,null,{"$f":"IFERROR(VLOOKUP(E2055,Insumos!A:C,2,FALSE),\"\")","v":""},null,null,null,0]
[null,null,null,null,null,{"$f":"IFERROR(VLOOKUP(E2056,Insumos!A:C,2,FALSE),\"\")","v":""},null,null,null,0]
[null,null,null,null,null,{"$f":"IFERROR(VLOOKUP(E2057,Insumos!A:C,2,FALSE),\"\")","v":""},null,null,null,0]
[null,null,null,null,null,{"$f":"IFERROR(VLOOKUP(E2058,Insumos!A:C,2,FALSE),\"\")","v":""},null,null,null,0]
[null,null,null,null,null,{"$f":"IFERROR(VLOOKUP(E2059,Insumos!A:C,2,FALSE),\"\")","v":""},null,null,null,0]
[null,null,null,null,null,{"$f":"IFERROR(VLOOKUP(E2060,Insumos!A:C,2,FALSE),\"\")","v":""},null,null,null,0]
[null,null,null,null,null,{"$f":"IFERROR(VLOOKUP(E2061,Insumos!A:C,2,FALSE),\"\")","v":""},null,null,null,0]
[null,null,null,null,null,{"$f":"IFERROR(VLOOKUP(E2062,Insumos!A:C,2,FALSE),\"\")","v":""},null,null,null,0]
[null,null,null,null,null,{"$f":"IFERROR(VLOOKUP(E2063,Insumos!A:C,2,FALSE),\"\")","v":""},null,null,null,0]
[null,null,null,null,null,{"$f":"IFERROR(VLOOKUP(E2064,Insumos!A:C,2,FALSE),\"\")","v":""},null,null,null,0]
[null,null,null,null,null,{"$f":"IFERROR(VLOOKUP(E2065,Insumos!A:C,2,FALSE),\"\")","v":""},null,null,null,0]
[null,null,null,null,null,{"$f":"IFERROR(VLOOKUP(E2066,Insumos!A:C,2,FALSE),\"\")","v":""},null,null,null,0]
[null,null,null,null,null,{"$f":"IFERROR(VLOOKUP(E2067,Insumos!A:C,2,FALSE),\"\")","v":""},null,null,null,0]
[null,null,null,null,null,{"$f":"IFERROR(VLOOKUP(E2068,Insumos!A:C,2,FALSE),\"\")","v":""},null,null,null,0]
[null,null,null,null,null,{"$f":"IFERROR(VLOOKUP(E2069,Insumos!A:C,2,FALSE),\"\")","v":""},null,null,null,0]
[null,null,null,null,null,{"$f":"IFERROR(VLOOKUP(E2070,Insumos!A:C,2,FALSE),\"\")","v":""},null,null,null,0]
[null,null,null,null,null,{"$f":"IFERROR(VLOOKUP(E2071,Insumos!A:C,2,FALSE),\"\")","v":""},null,null,null,0]
[null,null,null,null,null,{"$f":"IFERROR(VLOOKUP(E2072,Insumos!A:C,2,FALSE),\"\")","v":""},null,null,null,0]
[null,null,null,null,null,{"$f":"IFERROR(VLOOKUP(E2073,Insumos!A:C,2,FALSE),\"\")","v":""},null,null,null,0]
[null,null,null,null,null,{"$f":"IFERROR(VLOOKUP(E2074,Insumos!A:C,2,FALSE),\"\")","v":""},null,null,null,0]
[null,null,null,null,null,{"$f":"IFERROR(VLOOKUP(E2075,Insumos!A:C,2,FALSE),\"\")","v":""},null,null,null,0]
[null,null,null,null,null,{"$f":"IFERROR(VLOOKUP(E2076,Insumos!A:C,2,FALSE),\"\")","v":""},null,null,null,0]
[null,null,null,null,null,{"$f":"IFERROR(VLOOKUP(E2077,Insumos!A:C,2,FALSE),\"\")","v":""},null,null,null,0]
[null,null,null,null,null,{"$f":"IFERROR(VLOOKUP(E2078,Insumos!A:C,2,FALSE),\"\")","v":""},null,null,null,0]
[null,null,null,null,null,{"$f":"IFERROR(VLOOKUP(E2079,Insumos!A:C,2,FALSE),\"\")","v":""},null,null,null,0]
[null,null,null,null,null,{"$f":"IFERROR(VLOOKUP(E2080,Insumos!A:C,2,FALSE),\"\")","v":""},null,null,null,0]
[null,null,null,null,null,{"$f":"IFERROR(VLOOKUP(E2081,Insumos!A:C,2,FALSE),\"\")","v":""},null,null,null,0]
[null,null,null,null,null,{"$f":"IFERROR(VLOOKUP(E2082,Insumos!A:C,2,FALSE),\"\")","v":""},null,null,null,0]
[null,null,null,null,null,{"$f":"IFERROR(VLOOKUP(E2083,Insumos!A:C,2,FALSE),\"\")","v":""},null,null,null,0]
[null,null,null,null,null,{"$f":"IFERROR(VLOOKUP(E2084,Insumos!A:C,2,FALSE),\"\")","v":""},null,null,null,0]
[null,null,null,null,null,{"$f":"IFERROR(VLOOKUP(E2085,Insumos!A:C,2,FALSE),\"\")","v":""},null,null,null,0]
[null,null,null,null,null,{"$f":"IFERROR(VLOOKUP(E2086,Insumos!A:C,2,FALSE),\"\")","v":""},null,null,null,0]
[null,null,null,null,null,{"$f":"IFERROR(VLOOKUP(E2087,Insumos!A:C,2,FALSE),\"\")","v":""},null,null,null,0]
[null,null,null,null,null,{"$f":"IFERROR(VLOOKUP(E2088,Insumos!A:C,2,FALSE),\"\")","v":""},null,null,null,0]
[null,null,null,null,null,{"$f":"IFERROR(VLOOKUP(E2089,Insumos!A:C,2,FALSE),\"\")","v":""},null,null,null,0]
[null,null,null,null,null,{"$f":"IFERROR(VLOOKUP(E2090,Insumos!A:C,2,FALSE),\"\")","v":""},null,null,null,0]
[null,null,null,null,null,{"$f":"IFERROR(VLOOKUP(E2091,Insumos!A:C,2,FALSE),\"\")","v":""},null,null,null,0]
[null,null,null,null,null,{"$f":"IFERROR(VLOOKUP(E2092,Insumos!A:C,2,FALSE),\"\")","v":""},null,null,null,0]
[null,null,null,null,null,{"$f":"IFERROR(VLOOKUP(E2093,Insumos!A:C,2,FALSE),\"\")","v":""},null,null,null,0]
[null,null,null,null,null,{"$f":"IFERROR(VLOOKUP(E2094,Insumos!A:C,2,FALSE),\"\")","v":""},null,null,null,0]
[null,null,null,null,null,{"$f":"IFERROR(VLOOKUP(E2095,Insumos!A:C,2,FALSE),\"\")","v":""},null,null,null,0]
[null,null,null,null,null,{"$f":"IFERROR(VLOOKUP(E2096,Insumos!A:C,2,FALSE),\"\")","v":""},null,null,null,0]
[null,null,null,null,null,{"$f":"IFERROR(VLOOKUP(E2097,Insumos!A:C,2,FALSE),\"\")","v":""},null,null,null,0]
[null,null,null,null,null,{"$f":"IFERROR(VLOOKUP(E2098,Insumos!A:C,2,FALSE),\"\")","v":""},null,null,null,0]
[null,null,null,null,null,{"$f":"IFERROR(VLOOKUP(E2099,Insumos!A:C,2,FALSE),\"\")","v":""},null,null,null,0]
[null,null,null,null,null,{"$f":"IFERROR(VLOOKUP(E2100,Insumos!A:C,2,FALSE),\"\")","v":""},null,null,null,0]
[null,null,null,null,null,{"$f":"IFERROR(VLOOKUP(E2101,Insumos!A:C,2,FALSE),\"\")","v":""},null,null,null,0]
[null,null,null,null,null,{"$f":"IFERROR(VLOOKUP(E2102,Insumos!A:C,2,FALSE),\"\")","v":""},null,null,null,0]
[null,null,null,null,null,{"$f":"IFERROR(VLOOKUP(E2103,Insumos!A:C,2,FALSE),\"\")","v":""},null,null,null,0]
[null,null,null,null,null,{"$f":"IFERROR(VLOOKUP(E2104,Insumos!A:C,2,FALSE),\"\")","v":""},null,null,null,0]
[null,null,null,null,null,{"$f":"IFERROR(VLOOKUP(E2105,Insumos!A:C,2,FALSE),\"\")","v":""},null,null,null,0]
[null,null,null,null,null,{"$f":"IFERROR(VLOOKUP(E2106,Insumos!A:C,2,FALSE),\"\")","v":""},null,null,null,0]
[null,null,null,null,null,{"$f":"IFERROR(VLOOKUP(E2107,Insumos!A:C,2,FALSE),\"\")","v":""},null,null,null,0]
[null,null,null,null,null,{"$f":"IFERROR(VLOOKUP(E2108,Insumos!A:C,2,FALSE),\"\")","v":""},null,null,null,0]
[null,null,null,null,null,{"$f":"IFERROR(VLOOKUP(E2109,Insumos!A:C,2,FALSE),\"\")","v":""},null,null,null,0]
[null,null,null,null,null,{"$f":"IFERROR(VLOOKUP(E2110,Insumos!A:C,2,FALSE),\"\")","v":""},null,null,null,0]
[null,null,null,null,null,{"$f":"IFERROR(VLOOKUP(E2111,Insumos!A:C,2,FALSE),\"\")","v":""},null,null,null,0]
[null,null,null,null,null,{"$f":"IFERROR(VLOOKUP(E2112,Insumos!A:C,2,FALSE),\"\")","v":""},null,null,null,0]
[null,null,null,null,null,{"$f":"IFERROR(VLOOKUP(E2113,Insumos!A:C,2,FALSE),\"\")","v":""},null,null,null,0]
[null,null,null,null,null,{"$f":"IFERROR(VLOOKUP(E2114,Insumos!A:C,2,FALSE),\"\")","v":""},null,null,null,0]
[null,null,null,null,null,{"$f":"IFERROR(VLOOKUP(E2115,Insumos!A:C,2,FALSE),\"\")","v":""},null,null,null,0]
[null,null,null,null,null,{"$f":"IFERROR(VLOOKUP(E2116,Insumos!A:C,2,FALSE),\"\")","v":""},null,null,null,0]
[null,null,null,null,null,{"$f":"IFERROR(VLOOKUP(E2117,Insumos!A:C,2,FALSE),\"\")","v":""},null,null,null,{"$f":"IFERROR(H2117*I2117,\"\")","v":0}]
[null,null,null,null,null,{"$f":"IFERROR(VLOOKUP(E2118,Insumos!A:C,2,FALSE),\"\")","v":""},null,null,null,0]
[null,null,null,null,null,{"$f":"IFERROR(VLOOKUP(E2119,Insumos!A:C,2,FALSE),\"\")","v":""},null,null,null,0]
[null,null,null,null,null,{"$f":"IFERROR(VLOOKUP(E2120,Insumos!A:C,2,FALSE),\"\")","v":""},null,null,null,0]
[null,null,null,null,null,{"$f":"IFERROR(VLOOKUP(E2121,Insumos!A:C,2,FALSE),\"\")","v":""},null,null,null,0]
[null,null,null,null,null,{"$f":"IFERROR(VLOOKUP(E2122,Insumos!A:C,2,FALSE),\"\")","v":""},null,null,null,0]
[null,null,null,null,null,{"$f":"IFERROR(VLOOKUP(E2123,Insumos!A:C,2,FALSE),\"\")","v":""},null,null,null,0]
[null,null,null,null,null,{"$f":"IFERROR(VLOOKUP(E2124,Insumos!A:C,2,FALSE),\"\")","v":""},null,null,null,0]
[null,null,null,null,null,{"$f":"IFERROR(VLOOKUP(E2125,Insumos!A:C,2,FALSE),\"\")","v":""},null,null,null,0]
[null,null,null,null,null,{"$f":"IFERROR(VLOOKUP(E2126,Insumos!A:C,2,FALSE),\"\")","v":""},null,null,null,0]
[null,null,null,null,null,{"$f":"IFERROR(VLOOKUP(E2127,Insumos!A:C,2,FALSE),\"\")","v":""},null,null,null,0]
[null,null,null,null,null,{"$f":"IFERROR(VLOOKUP(E2128,Insumos!A:C,2,FALSE),\"\")","v":""},null,null,null,0]
[null,null,null,null,null,{"$f":"IFERROR(VLOOKUP(E2129,Insumos!A:C,2,FALSE),\"\")","v":""},null,null,null,0]
[null,null,null,null,null,{"$f":"IFERROR(VLOOKUP(E2130,Insumos!A:C,2,FALSE),\"\")","v":""},null,null,null,0]
[null,null,null,null,null,{"$f":"IFERROR(VLOOKUP(E2131,Insumos!A:C,2,FALSE),\"\")","v":""},null,null,null,0]
[null,null,null,null,null,{"$f":"IFERROR(VLOOKUP(E2132,Insumos!A:C,2,FALSE),\"\")","v":""},null,null,null,0]
[null,null,null,null,null,{"$f":"IFERROR(VLOOKUP(E2133,Insumos!A:C,2,FALSE),\"\")","v":""},null,null,null,0]
[null,null,null,null,null,{"$f":"IFERROR(VLOOKUP(E2134,Insumos!A:C,2,FALSE),\"\")","v":""},null,null,null,0]
[null,null,null,null,null,{"$f":"IFERROR(VLOOKUP(E2135,Insumos!A:C,2,FALSE),\"\")","v":""},null,null,null,0]
[null,null,null,null,null,{"$f":"IFERROR(VLOOKUP(E2136,Insumos!A:C,2,FALSE),\"\")","v":""},null,null,null,0]
[null,null,null,null,null,{"$f":"IFERROR(VLOOKUP(E2137,Insumos!A:C,2,FALSE),\"\")","v":""},null,null,null,0]
[null,null,null,null,null,{"$f":"IFERROR(VLOOKUP(E2138,Insumos!A:C,2,FALSE),\"\")","v":""},null,null,null,0]
[null,null,null,null,null,{"$f":"IFERROR(VLOOKUP(E2139,Insumos!A:C,2,FALSE),\"\")","v":""},null,null,null,0]
[null,null,null,null,null,{"$f":"IFERROR(VLOOKUP(E2140,Insumos!A:C,2,FALSE),\"\")","v":""},null,null,null,0]
[null,null,null,null,null,{"$f":"IFERROR(VLOOKUP(E2141,Insumos!A:C,2,FALSE),\"\")","v":""},null,null,null,0]
[null,null,null,null,null,{"$f":"IFERROR(VLOOKUP(E2142,Insumos!A:C,2,FALSE),\"\")","v":""},null,null,null,0]
[null,null,null,null,null,{"$f":"IFERROR(VLOOKUP(E2143,Insumos!A:C,2,FALSE),\"\")","v":""},null,null,null,0]
[null,null,null,null,null,{"$f":"IFERROR(VLOOKUP(E2144,Insumos!A:C,2,FALSE),\"\")","v":""},null,null,null,0]
[null,null,null,null,null,{"$f":"IFERROR(VLOOKUP(E2145,Insumos!A:C,2,FALSE),\"\")","v":""},null,null,null,0]
[null,null,null,null,null,{"$f":"IFERROR(VLOOKUP(E2146,Insumos!A:C,2,FALSE),\"\")","v":""},null,null,null,0]
[null,null,null,null,null,{"$f":"IFERROR(VLOOKUP(E2147,Insumos!A:C,2,FALSE),\"\")","v":""},null,null,null,0]
[null,null,null,null,null,{"$f":"IFERROR(VLOOKUP(E2148,Insumos!A:C,2,FALSE),\"\")","v":""},null,null,null,0]
[null,null,null,null,null,{"$f":"IFERROR(VLOOKUP(E2149,Insumos!A:C,2,FALSE),\"\")","v":""},null,null,null,0]
[null,null,null,null,null,{"$f":"IFERROR(VLOOKUP(E2150,Insumos!A:C,2,FALSE),\"\")","v":""},null,null,null,0]
[null,null,null,null,null,{"$f":"IFERROR(VLOOKUP(E2151,Insumos!A:C,2,FALSE),\"\")","v":""},null,null,null,0]
[null,null,null,null,null,{"$f":"IFERROR(VLOOKUP(E2152,Insumos!A:C,2,FALSE),\"\")","v":""},null,null,null,0]
[null,null,null,null,null,{"$f":"IFERROR(VLOOKUP(E2153,Insumos!A:C,2,FALSE),\"\")","v":""},null,null,null,0]
[null,null,null,null,null,{"$f":"IFERROR(VLOOKUP(E2154,Insumos!A:C,2,FALSE),\"\")","v":""},null,null,null,0]
[null,null,null,null,null,{"$f":"IFERROR(VLOOKUP(E2155,Insumos!A:C,2,FALSE),\"\")","v":""},null,null,null,0]
[null,null,null,null,null,{"$f":"IFERROR(VLOOKUP(E2156,Insumos!A:C,2,FALSE),\"\")","v":""},null,null,null,0]
[null,null,null,null,null,{"$f":"IFERROR(VLOOKUP(E2157,Insumos!A:C,2,FALSE),\"\")","v":""},null,null,null,0]
[null,null,null,null,null,{"$f":"IFERROR(VLOOKUP(E2158,Insumos!A:C,2,FALSE),\"\")","v":""},null,null,null,0]
[null,null,null,null,null,{"$f":"IFERROR(VLOOKUP(E2159,Insumos!A:C,2,FALSE),\"\")","v":""},null,null,null,0]
[null,null,null,null,null,{"$f":"IFERROR(VLOOKUP(E2160,Insumos!A:C,2,FALSE),\"\")","v":""},null,null,null,0]
[null,null,null,null,null,{"$f":"IFERROR(VLOOKUP(E2161,Insumos!A:C,2,FALSE),\"\")","v":""},null,null,null,0]
[null,null,null,null,null,{"$f":"IFERROR(VLOOKUP(E2162,Insumos!A:C,2,FALSE),\"\")","v":""},null,null,null,0]
[null,null,null,null,null,{"$f":"IFERROR(VLOOKUP(E2163,Insumos!A:C,2,FALSE),\"\")","v":""},null,null,null,0]
[null,null,null,null,null,{"$f":"IFERROR(VLOOKUP(E2164,Insumos!A:C,2,FALSE),\"\")","v":""},null,null,null,0]
[null,null,null,null,null,{"$f":"IFERROR(VLOOKUP(E2165,Insumos!A:C,2,FALSE),\"\")","v":""},null,null,null,0]
[null,null,null,null,null,{"$f":"IFERROR(VLOOKUP(E2166,Insumos!A:C,2,FALSE),\"\")","v":""},null,null,null,0]
[null,null,null,null,null,{"$f":"IFERROR(VLOOKUP(E2167,Insumos!A:C,2,FALSE),\"\")","v":""},null,null,null,0]
[null,null,null,null,null,{"$f":"IFERROR(VLOOKUP(E2168,Insumos!A:C,2,FALSE),\"\")","v":""},null,null,null,0]
[null,null,null,null,null,{"$f":"IFERROR(VLOOKUP(E2169,Insumos!A:C,2,FALSE),\"\")","v":""},null,null,null,0]
[null,null,null,null,null,{"$f":"IFERROR(VLOOKUP(E2170,Insumos!A:C,2,FALSE),\"\")","v":""},null,null,null,0]
[null,null,null,null,null,{"$f":"IFERROR(VLOOKUP(E2171,Insumos!A:C,2,FALSE),\"\")","v":""},null,null,null,0]
[null,null,null,null,null,{"$f":"IFERROR(VLOOKUP(E2172,Insumos!A:C,2,FALSE),\"\")","v":""},null,null,null,0]
[null,null,null,null,null,{"$f":"IFERROR(VLOOKUP(E2173,Insumos!A:C,2,FALSE),\"\")","v":""},null,null,null,0]
[null,null,null,null,null,{"$f":"IFERROR(VLOOKUP(E2174,Insumos!A:C,2,FALSE),\"\")","v":""},null,null,null,0]
[null,null,null,null,null,{"$f":"IFERROR(VLOOKUP(E2175,Insumos!A:C,2,FALSE),\"\")","v":""},null,null,null,0]
[null,null,null,null,null,{"$f":"IFERROR(VLOOKUP(E2176,Insumos!A:C,2,FALSE),\"\")","v":""},null,null,null,0]
[null,null,null,null,null,{"$f":"IFERROR(VLOOKUP(E2177,Insumos!A:C,2,FALSE),\"\")","v":""},null,null,null,0]
[null,null,null,null,null,{"$f":"IFERROR(VLOOKUP(E2178,Insumos!A:C,2,FALSE),\"\")","v":""},null,null,null,0]
[null,null,null,null,null,{"$f":"IFERROR(VLOOKUP(E2179,Insumos!A:C,2,FALSE),\"\")","v":""},null,null,null,0]
[null,null,null,null,null,{"$f":"IFERROR(VLOOKUP(E2180,Insumos!A:C,2,FALSE),\"\")","v":""},null,null,null,0]
[null,null,null,null,null,{"$f":"IFERROR(VLOOKUP(E2181,Insumos!A:C,2,FALSE),\"\")","v":""},null,null,null,{"$f":"IFERROR(H2181*I2181,\"\")","v":0}]
[null,null,null,null,null,{"$f":"IFERROR(VLOOKUP(E2182,Insumos!A:C,2,FALSE),\"\")","v":""},null,null,null,0]
[null,null,null,null,null,{"$f":"IFERROR(VLOOKUP(E2183,Insumos!A:C,2,FALSE),\"\")","v":""},null,null,null,0]
[null,null,null,null,null,{"$f":"IFERROR(VLOOKUP(E2184,Insumos!A:C,2,FALSE),\"\")","v":""},null,null,null,0]
[null,null,null,null,null,{"$f":"IFERROR(VLOOKUP(E2185,Insumos!A:C,2,FALSE),\"\")","v":""},null,null,null,0]
[null,null,null,null,null,{"$f":"IFERROR(VLOOKUP(E2186,Insumos!A:C,2,FALSE),\"\")","v":""},null,null,null,0]
[null,null,null,null,null,{"$f":"IFERROR(VLOOKUP(E2187,Insumos!A:C,2,FALSE),\"\")","v":""},null,null,null,0]
[null,null,null,null,null,{"$f":"IFERROR(VLOOKUP(E2188,Insumos!A:C,2,FALSE),\"\")","v":""},null,null,null,0]
[null,null,null,null,null,{"$f":"IFERROR(VLOOKUP(E2189,Insumos!A:C,2,FALSE),\"\")","v":""},null,null,null,0]
[null,null,null,null,null,{"$f":"IFERROR(VLOOKUP(E2190,Insumos!A:C,2,FALSE),\"\")","v":""},null,null,null,0]
[null,null,null,null,null,{"$f":"IFERROR(VLOOKUP(E2191,Insumos!A:C,2,FALSE),\"\")","v":""},null,null,null,0]
[null,null,null,null,null,{"$f":"IFERROR(VLOOKUP(E2192,Insumos!A:C,2,FALSE),\"\")","v":""},null,null,null,0]
[null,null,null,null,null,{"$f":"IFERROR(VLOOKUP(E2193,Insumos!A:C,2,FALSE),\"\")","v":""},null,null,null,0]
[null,null,null,null,null,{"$f":"IFERROR(VLOOKUP(E2194,Insumos!A:C,2,FALSE),\"\")","v":""},null,null,null,0]
[null,null,null,null,null,{"$f":"IFERROR(VLOOKUP(E2195,Insumos!A:C,2,FALSE),\"\")","v":""},null,null,null,0]
[null,null,null,null,null,{"$f":"IFERROR(VLOOKUP(E2196,Insumos!A:C,2,FALSE),\"\")","v":""},null,null,null,0]
[null,null,null,null,null,{"$f":"IFERROR(VLOOKUP(E2197,Insumos!A:C,2,FALSE),\"\")","v":""},null,null,null,0]
[null,null,null,null,null,{"$f":"IFERROR(VLOOKUP(E2198,Insumos!A:C,2,FALSE),\"\")","v":""},null,null,null,0]
[null,null,null,null,null,{"$f":"IFERROR(VLOOKUP(E2199,Insumos!A:C,2,FALSE),\"\")","v":""},null,null,null,0]
[null,null,null,null,null,{"$f":"IFERROR(VLOOKUP(E2200,Insumos!A:C,2,FALSE),\"\")","v":""},null,null,null,0]
[null,null,null,null,null,{"$f":"IFERROR(VLOOKUP(E2201,Insumos!A:C,2,FALSE),\"\")","v":""},null,null,null,0]
[null,null,null,null,null,{"$f":"IFERROR(VLOOKUP(E2202,Insumos!A:C,2,FALSE),\"\")","v":""},null,null,null,0]
[null,null,null,null,null,{"$f":"IFERROR(VLOOKUP(E2203,Insumos!A:C,2,FALSE),\"\")","v":""},null,null,null,0]
[null,null,null,null,null,{"$f":"IFERROR(VLOOKUP(E2204,Insumos!A:C,2,FALSE),\"\")","v":""},null,null,null,0]
[null,null,null,null,null,{"$f":"IFERROR(VLOOKUP(E2205,Insumos!A:C,2,FALSE),\"\")","v":""},null,null,null,0]
[null,null,null,null,null,{"$f":"IFERROR(VLOOKUP(E2206,Insumos!A:C,2,FALSE),\"\")","v":""},null,null,null,0]
[null,null,null,null,null,{"$f":"IFERROR(VLOOKUP(E2207,Insumos!A:C,2,FALSE),\"\")","v":""},null,null,null,0]
[null,null,null,null,null,{"$f":"IFERROR(VLOOKUP(E2208,Insumos!A:C,2,FALSE),\"\")","v":""},null,null,null,0]
[null,null,null,null,null,{"$f":"IFERROR(VLOOKUP(E2209,Insumos!A:C,2,FALSE),\"\")","v":""},null,null,null,0]
[null,null,null,null,null,{"$f":"IFERROR(VLOOKUP(E2210,Insumos!A:C,2,FALSE),\"\")","v":""},null,null,null,0]
[null,null,null,null,null,{"$f":"IFERROR(VLOOKUP(E2211,Insumos!A:C,2,FALSE),\"\")","v":""},null,null,null,0]
[null,null,null,null,null,{"$f":"IFERROR(VLOOKUP(E2212,Insumos!A:C,2,FALSE),\"\")","v":""},null,null,null,0]
[null,null,null,null,null,{"$f":"IFERROR(VLOOKUP(E2213,Insumos!A:C,2,FALSE),\"\")","v":""},null,null,null,0]
[null,null,null,null,null,{"$f":"IFERROR(VLOOKUP(E2214,Insumos!A:C,2,FALSE),\"\")","v":""},null,null,null,0]
[null,null,null,null,null,{"$f":"IFERROR(VLOOKUP(E2215,Insumos!A:C,2,FALSE),\"\")","v":""},null,null,null,0]
[null,null,null,null,null,{"$f":"IFERROR(VLOOKUP(E2216,Insumos!A:C,2,FALSE),\"\")","v":""},null,null,null,0]
[null,null,null,null,null,{"$f":"IFERROR(VLOOKUP(E2217,Insumos!A:C,2,FALSE),\"\")","v":""},null,null,null,0]
[null,null,null,null,null,{"$f":"IFERROR(VLOOKUP(E2218,Insumos!A:C,2,FALSE),\"\")","v":""},null,null,null,0]
[null,null,null,null,null,{"$f":"IFERROR(VLOOKUP(E2219,Insumos!A:C,2,FALSE),\"\")","v":""},null,null,null,0]
[null,null,null,null,null,{"$f":"IFERROR(VLOOKUP(E2220,Insumos!A:C,2,FALSE),\"\")","v":""},null,null,null,0]
[null,null,null,null,null,{"$f":"IFERROR(VLOOKUP(E2221,Insumos!A:C,2,FALSE),\"\")","v":""},null,null,null,0]
[null,null,null,null,null,{"$f":"IFERROR(VLOOKUP(E2222,Insumos!A:C,2,FALSE),\"\")","v":""},null,null,null,0]
[null,null,null,null,null,{"$f":"IFERROR(VLOOKUP(E2223,Insumos!A:C,2,FALSE),\"\")","v":""},null,null,null,0]
[null,null,null,null,null,{"$f":"IFERROR(VLOOKUP(E2224,Insumos!A:C,2,FALSE),\"\")","v":""},null,null,null,0]
[null,null,null,null,null,{"$f":"IFERROR(VLOOKUP(E2225,Insumos!A:C,2,FALSE),\"\")","v":""},null,null,null,0]
[null,null,null,null,null,{"$f":"IFERROR(VLOOKUP(E2226,Insumos!A:C,2,FALSE),\"\")","v":""},null,null,null,0]
[null,null,null,null,null,{"$f":"IFERROR(VLOOKUP(E2227,Insumos!A:C,2,FALSE),\"\")","v":""},null,null,null,0]
[null,null,null,null,null,{"$f":"IFERROR(VLOOKUP(E2228,Insumos!A:C,2,FALSE),\"\")","v":""},null,null,null,0]
[null,null,null,null,null,{"$f":"IFERROR(VLOOKUP(E2229,Insumos!A:C,2,FALSE),\"\")","v":""},null,null,null,0]
[null,null,null,null,null,{"$f":"IFERROR(VLOOKUP(E2230,Insumos!A:C,2,FALSE),\"\")","v":""},null,null,null,0]
[null,null,null,null,null,{"$f":"IFERROR(VLOOKUP(E2231,Insumos!A:C,2,FALSE),\"\")","v":""},null,null,null,0]
[null,null,null,null,null,{"$f":"IFERROR(VLOOKUP(E2232,Insumos!A:C,2,FALSE),\"\")","v":""},null,null,null,0]
[null,null,null,null,null,{"$f":"IFERROR(VLOOKUP(E2233,Insumos!A:C,2,FALSE),\"\")","v":""},null,null,null,0]
[null,null,null,null,null,{"$f":"IFERROR(VLOOKUP(E2234,Insumos!A:C,2,FALSE),\"\")","v":""},null,null,null,0]
[null,null,null,null,null,{"$f":"IFERROR(VLOOKUP(E2235,Insumos!A:C,2,FALSE),\"\")","v":""},null,null,null,0]
[null,null,null,null,null,{"$f":"IFERROR(VLOOKUP(E2236,Insumos!A:C,2,FALSE),\"\")","v":""},null,null,null,0]
[null,null,null,null,null,{"$f":"IFERROR(VLOOKUP(E2237,Insumos!A:C,2,FALSE),\"\")","v":""},null,null,null,0]
[null,null,null,null,null,{"$f":"IFERROR(VLOOKUP(E2238,Insumos!A:C,2,FALSE),\"\")","v":""},null,null,null,0]
[null,null,null,null,null,{"$f":"IFERROR(VLOOKUP(E2239,Insumos!A:C,2,FALSE),\"\")","v":""},null,null,null,0]
[null,null,null,null,null,{"$f":"IFERROR(VLOOKUP(E2240,Insumos!A:C,2,FALSE),\"\")","v":""},null,null,null,0]
[null,null,null,null,null,{"$f":"IFERROR(VLOOKUP(E2241,Insumos!A:C,2,FALSE),\"\")","v":""},null,null,null,0]
[null,null,null,null,null,{"$f":"IFERROR(VLOOKUP(E2242,Insumos!A:C,2,FALSE),\"\")","v":""},null,null,null,0]
[null,null,null,null,null,{"$f":"IFERROR(VLOOKUP(E2243,Insumos!A:C,2,FALSE),\"\")","v":""},null,null,null,0]
[null,null,null,null,null,{"$f":"IFERROR(VLOOKUP(E2244,Insumos!A:C,2,FALSE),\"\")","v":""},null,null,null,0]
[null,null,null,null,null,{"$f":"IFERROR(VLOOKUP(E2245,Insumos!A:C,2,FALSE),\"\")","v":""},null,null,null,{"$f":"IFERROR(H2245*I2245,\"\")","v":0}]
[null,null,null,null,null,{"$f":"IFERROR(VLOOKUP(E2246,Insumos!A:C,2,FALSE),\"\")","v":""},null,null,null,0]
[null,null,null,null,null,{"$f":"IFERROR(VLOOKUP(E2247,Insumos!A:C,2,FALSE),\"\")","v":""},null,null,null,0]
[null,null,null,null,null,{"$f":"IFERROR(VLOOKUP(E2248,Insumos!A:C,2,FALSE),\"\")","v":""},null,null,null,0]
[null,null,null,null,null,{"$f":"IFERROR(VLOOKUP(E2249,Insumos!A:C,2,FALSE),\"\")","v":""},null,null,null,0]
[null,null,null,null,null,{"$f":"IFERROR(VLOOKUP(E2250,Insumos!A:C,2,FALSE),\"\")","v":""},null,null,null,0]
[null,null,null,null,null,{"$f":"IFERROR(VLOOKUP(E2251,Insumos!A:C,2,FALSE),\"\")","v":""},null,null,null,0]
[null,null,null,null,null,{"$f":"IFERROR(VLOOKUP(E2252,Insumos!A:C,2,FALSE),\"\")","v":""},null,null,null,0]
[null,null,null,null,null,{"$f":"IFERROR(VLOOKUP(E2253,Insumos!A:C,2,FALSE),\"\")","v":""},null,null,null,0]
[null,null,null,null,null,{"$f":"IFERROR(VLOOKUP(E2254,Insumos!A:C,2,FALSE),\"\")","v":""},null,null,null,0]
[null,null,null,null,null,{"$f":"IFERROR(VLOOKUP(E2255,Insumos!A:C,2,FALSE),\"\")","v":""},null,null,null,0]
[null,null,null,null,null,{"$f":"IFERROR(VLOOKUP(E2256,Insumos!A:C,2,FALSE),\"\")","v":""},null,null,null,0]
[null,null,null,null,null,{"$f":"IFERROR(VLOOKUP(E2257,Insumos!A:C,2,FALSE),\"\")","v":""},null,null,null,0]
[null,null,null,null,null,{"$f":"IFERROR(VLOOKUP(E2258,Insumos!A:C,2,FALSE),\"\")","v":""},null,null,null,0]
[null,null,null,null,null,{"$f":"IFERROR(VLOOKUP(E2259,Insumos!A:C,2,FALSE),\"\")","v":""},null,null,null,0]
[null,null,null,null,null,{"$f":"IFERROR(VLOOKUP(E2260,Insumos!A:C,2,FALSE),\"\")","v":""},null,null,null,0]
[null,null,null,null,null,{"$f":"IFERROR(VLOOKUP(E2261,Insumos!A:C,2,FALSE),\"\")","v":""},null,null,null,0]
[null,null,null,null,null,{"$f":"IFERROR(VLOOKUP(E2262,Insumos!A:C,2,FALSE),\"\")","v":""},null,null,null,0]
[null,null,null,null,null,{"$f":"IFERROR(VLOOKUP(E2263,Insumos!A:C,2,FALSE),\"\")","v":""},null,null,null,0]
[null,null,null,null,null,{"$f":"IFERROR(VLOOKUP(E2264,Insumos!A:C,2,FALSE),\"\")","v":""},null,null,null,0]
[null,null,null,null,null,{"$f":"IFERROR(VLOOKUP(E2265,Insumos!A:C,2,FALSE),\"\")","v":""},null,null,null,0]
[null,null,null,null,null,{"$f":"IFERROR(VLOOKUP(E2266,Insumos!A:C,2,FALSE),\"\")","v":""},null,null,null,0]
[null,null,null,null,null,{"$f":"IFERROR(VLOOKUP(E2267,Insumos!A:C,2,FALSE),\"\")","v":""},null,null,null,0]
[null,null,null,null,null,{"$f":"IFERROR(VLOOKUP(E2268,Insumos!A:C,2,FALSE),\"\")","v":""},null,null,null,0]
[null,null,null,null,null,{"$f":"IFERROR(VLOOKUP(E2269,Insumos!A:C,2,FALSE),\"\")","v":""},null,null,null,0]
[null,null,null,null,null,{"$f":"IFERROR(VLOOKUP(E2270,Insumos!A:C,2,FALSE),\"\")","v":""},null,null,null,0]
[null,null,null,null,null,{"$f":"IFERROR(VLOOKUP(E2271,Insumos!A:C,2,FALSE),\"\")","v":""},null,null,null,0]
[null,null,null,null,null,{"$f":"IFERROR(VLOOKUP(E2272,Insumos!A:C,2,FALSE),\"\")","v":""},null,null,null,0]
[null,null,null,null,null,{"$f":"IFERROR(VLOOKUP(E2273,Insumos!A:C,2,FALSE),\"\")","v":""},null,null,null,0]
[null,null,null,null,null,{"$f":"IFERROR(VLOOKUP(E2274,Insumos!A:C,2,FALSE),\"\")","v":""},null,null,null,0]
[null,null,null,null,null,{"$f":"IFERROR(VLOOKUP(E2275,Insumos!A:C,2,FALSE),\"\")","v":""},null,null,null,0]
[null,null,null,null,null,{"$f":"IFERROR(VLOOKUP(E2276,Insumos!A:C,2,FALSE),\"\")","v":""},null,null,null,0]
[null,null,null,null,null,{"$f":"IFERROR(VLOOKUP(E2277,Insumos!A:C,2,FALSE),\"\")","v":""},null,null,null,0]
[null,null,null,null,null,{"$f":"IFERROR(VLOOKUP(E2278,Insumos!A:C,2,FALSE),\"\")","v":""},null,null,null,0]
[null,null,null,null,null,{"$f":"IFERROR(VLOOKUP(E2279,Insumos!A:C,2,FALSE),\"\")","v":""},null,null,null,0]
[null,null,null,null,null,{"$f":"IFERROR(VLOOKUP(E2280,Insumos!A:C,2,FALSE),\"\")","v":""},null,null,null,0]
[null,null,null,null,null,{"$f":"IFERROR(VLOOKUP(E2281,Insumos!A:C,2,FALSE),\"\")","v":""},null,null,null,0]
[null,null,null,null,null,{"$f":"IFERROR(VLOOKUP(E2282,Insumos!A:C,2,FALSE),\"\")","v":""},null,null,null,0]
[null,null,null,null,null,{"$f":"IFERROR(VLOOKUP(E2283,Insumos!A:C,2,FALSE),\"\")","v":""},null,null,null,0]
[null,null,null,null,null,{"$f":"IFERROR(VLOOKUP(E2284,Insumos!A:C,2,FALSE),\"\")","v":""},null,null,null,0]
[null,null,null,null,null,{"$f":"IFERROR(VLOOKUP(E2285,Insumos!A:C,2,FALSE),\"\")","v":""},null,null,null,0]
[null,null,null,null,null,{"$f":"IFERROR(VLOOKUP(E2286,Insumos!A:C,2,FALSE),\"\")","v":""},null,null,null,0]
[null,null,null,null,null,{"$f":"IFERROR(VLOOKUP(E2287,Insumos!A:C,2,FALSE),\"\")","v":""},null,null,null,0]
[null,null,null,null,null,{"$f":"IFERROR(VLOOKUP(E2288,Insumos!A:C,2,FALSE),\"\")","v":""},null,null,null,0]
[null,null,null,null,null,{"$f":"IFERROR(VLOOKUP(E2289,Insumos!A:C,2,FALSE),\"\")","v":""},null,null,null,0]
[null,null,null,null,null,{"$f":"IFERROR(VLOOKUP(E2290,Insumos!A:C,2,FALSE),\"\")","v":""},null,null,null,0]
[null,null,null,null,null,{"$f":"IFERROR(VLOOKUP(E2291,Insumos!A:C,2,FALSE),\"\")","v":""},null,null,null,0]
[null,null,null,null,null,{"$f":"IFERROR(VLOOKUP(E2292,Insumos!A:C,2,FALSE),\"\")","v":""},null,null,null,0]
[null,null,null,null,null,{"$f":"IFERROR(VLOOKUP(E2293,Insumos!A:C,2,FALSE),\"\")","v":""},null,null,null,0]
[null,null,null,null,null,{"$f":"IFERROR(VLOOKUP(E2294,Insumos!A:C,2,FALSE),\"\")","v":""},null,null,null,0]
[null,null,null,null,null,{"$f":"IFERROR(VLOOKUP(E2295,Insumos!A:C,2,FALSE),\"\")","v":""},null,null,null,0]
[null,null,null,null,null,{"$f":"IFERROR(VLOOKUP(E2296,Insumos!A:C,2,FALSE),\"\")","v":""},null,null,null,0]
[null,null,null,null,null,{"$f":"IFERROR(VLOOKUP(E2297,Insumos!A:C,2,FALSE),\"\")","v":""},null,null,null,0]
[null,null,null,null,null,{"$f":"IFERROR(VLOOKUP(E2298,Insumos!A:C,2,FALSE),\"\")","v":""},null,null,null,0]
[null,null,null,null,null,{"$f":"IFERROR(VLOOKUP(E2299,Insumos!A:C,2,FALSE),\"\")","v":""},null,null,null,0]
[null,null,null,null,null,{"$f":"IFERROR(VLOOKUP(E2300,Insumos!A:C,2,FALSE),\"\")","v":""},null,null,null,0]
[null,null,null,null,null,{"$f":"IFERROR(VLOOKUP(E2301,Insumos!A:C,2,FALSE),\"\")","v":""},null,null,null,0]
[null,null,null,null,null,{"$f":"IFERROR(VLOOKUP(E2302,Insumos!A:C,2,FALSE),\"\")","v":""},null,null,null,0]
[null,null,null,null,null,{"$f":"IFERROR(VLOOKUP(E2303,Insumos!A:C,2,FALSE),\"\")","v":""},null,null,null,0]
[null,null,null,null,null,{"$f":"IFERROR(VLOOKUP(E2304,Insumos!A:C,2,FALSE),\"\")","v":""},null,null,null,0]
[null,null,null,null,null,{"$f":"IFERROR(VLOOKUP(E2305,Insumos!A:C,2,FALSE),\"\")","v":""},null,null,null,0]
[null,null,null,null,null,{"$f":"IFERROR(VLOOKUP(E2306,Insumos!A:C,2,FALSE),\"\")","v":""},null,null,null,0]
[null,null,null,null,null,{"$f":"IFERROR(VLOOKUP(E2307,Insumos!A:C,2,FALSE),\"\")","v":""},null,null,null,0]
[null,null,null,null,null,{"$f":"IFERROR(VLOOKUP(E2308,Insumos!A:C,2,FALSE),\"\")","v":""},null,null,null,0]
[null,null,null,null,null,{"$f":"IFERROR(VLOOKUP(E2309,Insumos!A:C,2,FALSE),\"\")","v":""},null,null,null,{"$f":"IFERROR(H2309*I2309,\"\")","v":0}]
[null,null,null,null,null,{"$f":"IFERROR(VLOOKUP(E2310,Insumos!A:C,2,FALSE),\"\")","v":""},null,null,null,0]
[null,null,null,null,null,{"$f":"IFERROR(VLOOKUP(E2311,Insumos!A:C,2,FALSE),\"\")","v":""},null,null,null,0]
[null,null,null,null,null,{"$f":"IFERROR(VLOOKUP(E2312,Insumos!A:C,2,FALSE),\"\")","v":""},null,null,null,0]
[null,null,null,null,null,{"$f":"IFERROR(VLOOKUP(E2313,Insumos!A:C,2,FALSE),\"\")","v":""},null,null,null,0]
[null,null,null,null,null,{"$f":"IFERROR(VLOOKUP(E2314,Insumos!A:C,2,FALSE),\"\")","v":""},null,null,null,0]
[null,null,null,null,null,{"$f":"IFERROR(VLOOKUP(E2315,Insumos!A:C,2,FALSE),\"\")","v":""},null,null,null,0]
[null,null,null,null,null,{"$f":"IFERROR(VLOOKUP(E2316,Insumos!A:C,2,FALSE),\"\")","v":""},null,null,null,0]
[null,null,null,null,null,{"$f":"IFERROR(VLOOKUP(E2317,Insumos!A:C,2,FALSE),\"\")","v":""},null,null,null,0]
[null,null,null,null,null,{"$f":"IFERROR(VLOOKUP(E2318,Insumos!A:C,2,FALSE),\"\")","v":""},null,null,null,0]
[null,null,null,null,null,{"$f":"IFERROR(VLOOKUP(E2319,Insumos!A:C,2,FALSE),\"\")","v":""},null,null,null,0]
[null,null,null,null,null,{"$f":"IFERROR(VLOOKUP(E2320,Insumos!A:C,2,FALSE),\"\")","v":""},null,null,null,0]
[null,null,null,null,null,{"$f":"IFERROR(VLOOKUP(E2321,Insumos!A:C,2,FALSE),\"\")","v":""},null,null,null,0]
[null,null,null,null,null,{"$f":"IFERROR(VLOOKUP(E2322,Insumos!A:C,2,FALSE),\"\")","v":""},null,null,null,0]
[null,null,null,null,null,{"$f":"IFERROR(VLOOKUP(E2323,Insumos!A:C,2,FALSE),\"\")","v":""},null,null,null,0]
[null,null,null,null,null,{"$f":"IFERROR(VLOOKUP(E2324,Insumos!A:C,2,FALSE),\"\")","v":""},null,null,null,0]
[null,null,null,null,null,{"$f":"IFERROR(VLOOKUP(E2325,Insumos!A:C,2,FALSE),\"\")","v":""},null,null,null,0]
[null,null,null,null,null,{"$f":"IFERROR(VLOOKUP(E2326,Insumos!A:C,2,FALSE),\"\")","v":""},null,null,null,0]
[null,null,null,null,null,{"$f":"IFERROR(VLOOKUP(E2327,Insumos!A:C,2,FALSE),\"\")","v":""},null,null,null,0]
[null,null,null,null,null,{"$f":"IFERROR(VLOOKUP(E2328,Insumos!A:C,2,FALSE),\"\")","v":""},null,null,null,0]
[null,null,null,null,null,{"$f":"IFERROR(VLOOKUP(E2329,Insumos!A:C,2,FALSE),\"\")","v":""},null,null,null,0]
[null,null,null,null,null,{"$f":"IFERROR(VLOOKUP(E2330,Insumos!A:C,2,FALSE),\"\")","v":""},null,null,null,0]
[null,null,null,null,null,{"$f":"IFERROR(VLOOKUP(E2331,Insumos!A:C,2,FALSE),\"\")","v":""},null,null,null,0]
[null,null,null,null,null,{"$f":"IFERROR(VLOOKUP(E2332,Insumos!A:C,2,FALSE),\"\")","v":""},null,null,null,0]
[null,null,null,null,null,{"$f":"IFERROR(VLOOKUP(E2333,Insumos!A:C,2,FALSE),\"\")","v":""},null,null,null,0]
[null,null,null,null,null,{"$f":"IFERROR(VLOOKUP(E2334,Insumos!A:C,2,FALSE),\"\")","v":""},null,null,null,0]
[null,null,null,null,null,{"$f":"IFERROR(VLOOKUP(E2335,Insumos!A:C,2,FALSE),\"\")","v":""},null,null,null,0]
[null,null,null,null,null,{"$f":"IFERROR(VLOOKUP(E2336,Insumos!A:C,2,FALSE),\"\")","v":""},null,null,null,0]
[null,null,null,null,null,{"$f":"IFERROR(VLOOKUP(E2337,Insumos!A:C,2,FALSE),\"\")","v":""},null,null,null,0]
[null,null,null,null,null,{"$f":"IFERROR(VLOOKUP(E2338,Insumos!A:C,2,FALSE),\"\")","v":""},null,null,null,0]
[null,null,null,null,null,{"$f":"IFERROR(VLOOKUP(E2339,Insumos!A:C,2,FALSE),\"\")","v":""},null,null,null,0]
[null,null,null,null,null,{"$f":"IFERROR(VLOOKUP(E2340,Insumos!A:C,2,FALSE),\"\")","v":""},null,null,null,0]
[null,null,null,null,null,{"$f":"IFERROR(VLOOKUP(E2341,Insumos!A:C,2,FALSE),\"\")","v":""},null,null,null,0]
[null,null,null,null,null,{"$f":"IFERROR(VLOOKUP(E2342,Insumos!A:C,2,FALSE),\"\")","v":""},null,null,null,0]
[null,null,null,null,null,{"$f":"IFERROR(VLOOKUP(E2343,Insumos!A:C,2,FALSE),\"\")","v":""},null,null,null,0]
[null,null,null,null,null,{"$f":"IFERROR(VLOOKUP(E2344,Insumos!A:C,2,FALSE),\"\")","v":""},null,null,null,0]
[null,null,null,null,null,{"$f":"IFERROR(VLOOKUP(E2345,Insumos!A:C,2,FALSE),\"\")","v":""},null,null,null,0]
[null,null,null,null,null,{"$f":"IFERROR(VLOOKUP(E2346,Insumos!A:C,2,FALSE),\"\")","v":""},null,null,null,0]
[null,null,null,null,null,{"$f":"IFERROR(VLOOKUP(E2347,Insumos!A:C,2,FALSE),\"\")","v":""},null,null,null,0]
[null,null,null,null,null,{"$f":"IFERROR(VLOOKUP(E2348,Insumos!A:C,2,FALSE),\"\")","v":""},null,null,null,0]
[null,null,null,null,null,{"$f":"IFERROR(VLOOKUP(E2349,Insumos!A:C,2,FALSE),\"\")","v":""},null,null,null,0]
[null,null,null,null,null,{"$f":"IFERROR(VLOOKUP(E2350,Insumos!A:C,2,FALSE),\"\")","v":""},null,null,null,0]
[null,null,null,null,null,{"$f":"IFERROR(VLOOKUP(E2351,Insumos!A:C,2,FALSE),\"\")","v":""},null,null,null,0]
[null,null,null,null,null,{"$f":"IFERROR(VLOOKUP(E2352,Insumos!A:C,2,FALSE),\"\")","v":""},null,null,null,0]
[null,null,null,null,null,{"$f":"IFERROR(VLOOKUP(E2353,Insumos!A:C,2,FALSE),\"\")","v":""},null,null,null,0]
[null,null,null,null,null,{"$f":"IFERROR(VLOOKUP(E2354,Insumos!A:C,2,FALSE),\"\")","v":""},null,null,null,0]
[null,null,null,null,null,{"$f":"IFERROR(VLOOKUP(E2355,Insumos!A:C,2,FALSE),\"\")","v":""},null,null,null,0]
[null,null,null,null,null,{"$f":"IFERROR(VLOOKUP(E2356,Insumos!A:C,2,FALSE),\"\")","v":""},null,null,null,0]
[null,null,null,null,null,{"$f":"IFERROR(VLOOKUP(E2357,Insumos!A:C,2,FALSE),\"\")","v":""},null,null,null,0]
[null,null,null,null,null,{"$f":"IFERROR(VLOOKUP(E2358,Insumos!A:C,2,FALSE),\"\")","v":""},null,null,null,0]
[null,null,null,null,null,{"$f":"IFERROR(VLOOKUP(E2359,Insumos!A:C,2,FALSE),\"\")","v":""},null,null,null,0]
[null,null,null,null,null,{"$f":"IFERROR(VLOOKUP(E2360,Insumos!A:C,2,FALSE),\"\")","v":""},null,null,null,0]
[null,null,null,null,null,{"$f":"IFERROR(VLOOKUP(E2361,Insumos!A:C,2,FALSE),\"\")","v":""},null,null,null,0]
[null,null,null,null,null,{"$f":"IFERROR(VLOOKUP(E2362,Insumos!A:C,2,FALSE),\"\")","v":""},null,null,null,0]
[null,null,null,null,null,{"$f":"IFERROR(VLOOKUP(E2363,Insumos!A:C,2,FALSE),\"\")","v":""},null,null,null,0]
[null,null,null,null,null,{"$f":"IFERROR(VLOOKUP(E2364,Insumos!A:C,2,FALSE),\"\")","v":""},null,null,null,0]
[null,null,null,null,null,{"$f":"IFERROR(VLOOKUP(E2365,Insumos!A:C,2,FALSE),\"\")","v":""},null,null,null,0]
[null,null,null,null,null,{"$f":"IFERROR(VLOOKUP(E2366,Insumos!A:C,2,FALSE),\"\")","v":""},null,null,null,0]
[null,null,null,null,null,{"$f":"IFERROR(VLOOKUP(E2367,Insumos!A:C,2,FALSE),\"\")","v":""},null,null,null,0]
[null,null,null,null,null,{"$f":"IFERROR(VLOOKUP(E2368,Insumos!A:C,2,FALSE),\"\")","v":""},null,null,null,0]
[null,null,null,null,null,{"$f":"IFERROR(VLOOKUP(E2369,Insumos!A:C,2,FALSE),\"\")","v":""},null,null,null,0]
[null,null,null,null,null,{"$f":"IFERROR(VLOOKUP(E2370,Insumos!A:C,2,FALSE),\"\")","v":""},null,null,null,0]
[null,null,null,null,null,{"$f":"IFERROR(VLOOKUP(E2371,Insumos!A:C,2,FALSE),\"\")","v":""},null,null,null,0]
[null,null,null,null,null,{"$f":"IFERROR(VLOOKUP(E2372,Insumos!A:C,2,FALSE),\"\")","v":""},null,null,null,0]
[null,null,null,null,null,{"$f":"IFERROR(VLOOKUP(E2373,Insumos!A:C,2,FALSE),\"\")","v":""},null,null,null,{"$f":"IFERROR(H2373*I2373,\"\")","v":0}]
[null,null,null,null,null,{"$f":"IFERROR(VLOOKUP(E2374,Insumos!A:C,2,FALSE),\"\")","v":""},null,null,null,0]
[null,null,null,null,null,{"$f":"IFERROR(VLOOKUP(E2375,Insumos!A:C,2,FALSE),\"\")","v":""},null,null,null,0]
[null,null,null,null,null,{"$f":"IFERROR(VLOOKUP(E2376,Insumos!A:C,2,FALSE),\"\")","v":""},null,null,null,0]
[null,null,null,null,null,{"$f":"IFERROR(VLOOKUP(E2377,Insumos!A:C,2,FALSE),\"\")","v":""},null,null,null,0]
[null,null,null,null,null,{"$f":"IFERROR(VLOOKUP(E2378,Insumos!A:C,2,FALSE),\"\")","v":""},null,null,null,0]
[null,null,null,null,null,{"$f":"IFERROR(VLOOKUP(E2379,Insumos!A:C,2,FALSE),\"\")","v":""},null,null,null,0]
[null,null,null,null,null,{"$f":"IFERROR(VLOOKUP(E2380,Insumos!A:C,2,FALSE),\"\")","v":""},null,null,null,0]
[null,null,null,null,null,{"$f":"IFERROR(VLOOKUP(E2381,Insumos!A:C,2,FALSE),\"\")","v":""},null,null,null,0]
[null,null,null,null,null,{"$f":"IFERROR(VLOOKUP(E2382,Insumos!A:C,2,FALSE),\"\")","v":""},null,null,null,0]
[null,null,null,null,null,{"$f":"IFERROR(VLOOKUP(E2383,Insumos!A:C,2,FALSE),\"\")","v":""},null,null,null,0]
[null,null,null,null,null,{"$f":"IFERROR(VLOOKUP(E2384,Insumos!A:C,2,FALSE),\"\")","v":""},null,null,null,0]
[null,null,null,null,null,{"$f":"IFERROR(VLOOKUP(E2385,Insumos!A:C,2,FALSE),\"\")","v":""},null,null,null,0]
[null,null,null,null,null,{"$f":"IFERROR(VLOOKUP(E2386,Insumos!A:C,2,FALSE),\"\")","v":""},null,null,null,0]
[null,null,null,null,null,{"$f":"IFERROR(VLOOKUP(E2387,Insumos!A:C,2,FALSE),\"\")","v":""},null,null,null,0]
[null,null,null,null,null,{"$f":"IFERROR(VLOOKUP(E2388,Insumos!A:C,2,FALSE),\"\")","v":""},null,null,null,0]
[null,null,null,null,null,{"$f":"IFERROR(VLOOKUP(E2389,Insumos!A:C,2,FALSE),\"\")","v":""},null,null,null,0]
[null,null,null,null,null,{"$f":"IFERROR(VLOOKUP(E2390,Insumos!A:C,2,FALSE),\"\")","v":""},null,null,null,0]
[null,null,null,null,null,{"$f":"IFERROR(VLOOKUP(E2391,Insumos!A:C,2,FALSE),\"\")","v":""},null,null,null,0]
[null,null,null,null,null,{"$f":"IFERROR(VLOOKUP(E2392,Insumos!A:C,2,FALSE),\"\")","v":""},null,null,null,0]
[null,null,null,null,null,{"$f":"IFERROR(VLOOKUP(E2393,Insumos!A:C,2,FALSE),\"\")","v":""},null,null,null,0]
[null,null,null,null,null,{"$f":"IFERROR(VLOOKUP(E2394,Insumos!A:C,2,FALSE),\"\")","v":""},null,null,null,0]
[null,null,null,null,null,{"$f":"IFERROR(VLOOKUP(E2395,Insumos!A:C,2,FALSE),\"\")","v":""},null,null,null,0]
[null,null,null,null,null,{"$f":"IFERROR(VLOOKUP(E2396,Insumos!A:C,2,FALSE),\"\")","v":""},null,null,null,0]
[null,null,null,null,null,{"$f":"IFERROR(VLOOKUP(E2397,Insumos!A:C,2,FALSE),\"\")","v":""},null,null,null,0]
[null,null,null,null,null,{"$f":"IFERROR(VLOOKUP(E2398,Insumos!A:C,2,FALSE),\"\")","v":""},null,null,null,0]
[null,null,null,null,null,{"$f":"IFERROR(VLOOKUP(E2399,Insumos!A:C,2,FALSE),\"\")","v":""},null,null,null,0]
[null,null,null,null,null,{"$f":"IFERROR(VLOOKUP(E2400,Insumos!A:C,2,FALSE),\"\")","v":""},null,null,null,0]
[null,null,null,null,null,{"$f":"IFERROR(VLOOKUP(E2401,Insumos!A:C,2,FALSE),\"\")","v":""},null,null,null,0]
[null,null,null,null,null,{"$f":"IFERROR(VLOOKUP(E2402,Insumos!A:C,2,FALSE),\"\")","v":""},null,null,null,0]
[null,null,null,null,null,{"$f":"IFERROR(VLOOKUP(E2403,Insumos!A:C,2,FALSE),\"\")","v":""},null,null,null,0]
[null,null,null,null,null,{"$f":"IFERROR(VLOOKUP(E2404,Insumos!A:C,2,FALSE),\"\")","v":""},null,null,null,0]
[null,null,null,null,null,{"$f":"IFERROR(VLOOKUP(E2405,Insumos!A:C,2,FALSE),\"\")","v":""},null,null,null,0]
[null,null,null,null,null,{"$f":"IFERROR(VLOOKUP(E2406,Insumos!A:C,2,FALSE),\"\")","v":""},null,null,null,0]
[null,null,null,null,null,{"$f":"IFERROR(VLOOKUP(E2407,Insumos!A:C,2,FALSE),\"\")","v":""},null,null,null,0]
[null,null,null,null,null,{"$f":"IFERROR(VLOOKUP(E2408,Insumos!A:C,2,FALSE),\"\")","v":""},null,null,null,0]
[null,null,null,null,null,{"$f":"IFERROR(VLOOKUP(E2409,Insumos!A:C,2,FALSE),\"\")","v":""},null,null,null,0]
[null,null,null,null,null,{"$f":"IFERROR(VLOOKUP(E2410,Insumos!A:C,2,FALSE),\"\")","v":""},null,null,null,0]
[null,null,null,null,null,{"$f":"IFERROR(VLOOKUP(E2411,Insumos!A:C,2,FALSE),\"\")","v":""},null,null,null,0]
[null,null,null,null,null,{"$f":"IFERROR(VLOOKUP(E2412,Insumos!A:C,2,FALSE),\"\")","v":""},null,null,null,0]
[null,null,null,null,null,{"$f":"IFERROR(VLOOKUP(E2413,Insumos!A:C,2,FALSE),\"\")","v":""},null,null,null,0]
[null,null,null,null,null,{"$f":"IFERROR(VLOOKUP(E2414,Insumos!A:C,2,FALSE),\"\")","v":""},null,null,null,0]
[null,null,null,null,null,{"$f":"IFERROR(VLOOKUP(E2415,Insumos!A:C,2,FALSE),\"\")","v":""},null,null,null,0]
[null,null,null,null,null,{"$f":"IFERROR(VLOOKUP(E2416,Insumos!A:C,2,FALSE),\"\")","v":""},null,null,null,0]
[null,null,null,null,null,{"$f":"IFERROR(VLOOKUP(E2417,Insumos!A:C,2,FALSE),\"\")","v":""},null,null,null,0]
[null,null,null,null,null,{"$f":"IFERROR(VLOOKUP(E2418,Insumos!A:C,2,FALSE),\"\")","v":""},null,null,null,0]
[null,null,null,null,null,{"$f":"IFERROR(VLOOKUP(E2419,Insumos!A:C,2,FALSE),\"\")","v":""},null,null,null,0]
[null,null,null,null,null,{"$f":"IFERROR(VLOOKUP(E2420,Insumos!A:C,2,FALSE),\"\")","v":""},null,null,null,0]
[null,null,null,null,null,{"$f":"IFERROR(VLOOKUP(E2421,Insumos!A:C,2,FALSE),\"\")","v":""},null,null,null,0]
[null,null,null,null,null,{"$f":"IFERROR(VLOOKUP(E2422,Insumos!A:C,2,FALSE),\"\")","v":""},null,null,null,0]
[null,null,null,null,null,{"$f":"IFERROR(VLOOKUP(E2423,Insumos!A:C,2,FALSE),\"\")","v":""},null,null,null,0]
[null,null,null,null,null,{"$f":"IFERROR(VLOOKUP(E2424,Insumos!A:C,2,FALSE),\"\")","v":""},null,null,null,0]
[null,null,null,null,null,{"$f":"IFERROR(VLOOKUP(E2425,Insumos!A:C,2,FALSE),\"\")","v":""},null,null,null,0]
[null,null,null,null,null,{"$f":"IFERROR(VLOOKUP(E2426,Insumos!A:C,2,FALSE),\"\")","v":""},null,null,null,0]
[null,null,null,null,null,{"$f":"IFERROR(VLOOKUP(E2427,Insumos!A:C,2,FALSE),\"\")","v":""},null,null,null,0]
[null,null,null,null,null,{"$f":"IFERROR(VLOOKUP(E2428,Insumos!A:C,2,FALSE),\"\")","v":""},null,null,null,0]
[null,null,null,null,null,{"$f":"IFERROR(VLOOKUP(E2429,Insumos!A:C,2,FALSE),\"\")","v":""},null,null,null,0]
[null,null,null,null,null,{"$f":"IFERROR(VLOOKUP(E2430,Insumos!A:C,2,FALSE),\"\")","v":""},null,null,null,0]
[null,null,null,null,null,{"$f":"IFERROR(VLOOKUP(E2431,Insumos!A:C,2,FALSE),\"\")","v":""},null,null,null,0]
[null,null,null,null,null,{"$f":"IFERROR(VLOOKUP(E2432,Insumos!A:C,2,FALSE),\"\")","v":""},null,null,null,0]
[null,null,null,null,null,{"$f":"IFERROR(VLOOKUP(E2433,Insumos!A:C,2,FALSE),\"\")","v":""},null,null,null,0]
[null,null,null,null,null,{"$f":"IFERROR(VLOOKUP(E2434,Insumos!A:C,2,FALSE),\"\")","v":""},null,null,null,0]
[null,null,null,null,null,{"$f":"IFERROR(VLOOKUP(E2435,Insumos!A:C,2,FALSE),\"\")","v":""},null,null,null,0]
[null,null,null,null,null,{"$f":"IFERROR(VLOOKUP(E2436,Insumos!A:C,2,FALSE),\"\")","v":""},null,null,null,0]
[null,null,null,null,null,{"$f":"IFERROR(VLOOKUP(E2437,Insumos!A:C,2,FALSE),\"\")","v":""},null,null,null,{"$f":"IFERROR(H2437*I2437,\"\")","v":0}]
[null,null,null,null,null,{"$f":"IFERROR(VLOOKUP(E2438,Insumos!A:C,2,FALSE),\"\")","v":""},null,null,null,0]
[null,null,null,null,null,{"$f":"IFERROR(VLOOKUP(E2439,Insumos!A:C,2,FALSE),\"\")","v":""},null,null,null,0]
[null,null,null,null,null,{"$f":"IFERROR(VLOOKUP(E2440,Insumos!A:C,2,FALSE),\"\")","v":""},null,null,null,0]
[null,null,null,null,null,{"$f":"IFERROR(VLOOKUP(E2441,Insumos!A:C,2,FALSE),\"\")","v":""},null,null,null,0]
[null,null,null,null,null,{"$f":"IFERROR(VLOOKUP(E2442,Insumos!A:C,2,FALSE),\"\")","v":""},null,null,null,0]
[null,null,null,null,null,{"$f":"IFERROR(VLOOKUP(E2443,Insumos!A:C,2,FALSE),\"\")","v":""},null,null,null,0]
[null,null,null,null,null,{"$f":"IFERROR(VLOOKUP(E2444,Insumos!A:C,2,FALSE),\"\")","v":""},null,null,null,0]
[null,null,null,null,null,{"$f":"IFERROR(VLOOKUP(E2445,Insumos!A:C,2,FALSE),\"\")","v":""},null,null,null,0]
[null,null,null,null,null,{"$f":"IFERROR(VLOOKUP(E2446,Insumos!A:C,2,FALSE),\"\")","v":""},null,null,null,0]
[null,null,null,null,null,{"$f":"IFERROR(VLOOKUP(E2447,Insumos!A:C,2,FALSE),\"\")","v":""},null,null,null,0]
[null,null,null,null,null,{"$f":"IFERROR(VLOOKUP(E2448,Insumos!A:C,2,FALSE),\"\")","v":""},null,null,null,0]
[null,null,null,null,null,{"$f":"IFERROR(VLOOKUP(E2449,Insumos!A:C,2,FALSE),\"\")","v":""},null,null,null,0]
[null,null,null,null,null,{"$f":"IFERROR(VLOOKUP(E2450,Insumos!A:C,2,FALSE),\"\")","v":""},null,null,null,0]
[null,null,null,null,null,{"$f":"IFERROR(VLOOKUP(E2451,Insumos!A:C,2,FALSE),\"\")","v":""},null,null,null,0]
[null,null,null,null,null,{"$f":"IFERROR(VLOOKUP(E2452,Insumos!A:C,2,FALSE),\"\")","v":""},null,null,null,0]
[null,null,null,null,null,{"$f":"IFERROR(VLOOKUP(E2453,Insumos!A:C,2,FALSE),\"\")","v":""},null,null,null,0]
[null,null,null,null,null,{"$f":"IFERROR(VLOOKUP(E2454,Insumos!A:C,2,FALSE),\"\")","v":""},null,null,null,0]
[null,null,null,null,null,{"$f":"IFERROR(VLOOKUP(E2455,Insumos!A:C,2,FALSE),\"\")","v":""},null,null,null,0]
[null,null,null,null,null,{"$f":"IFERROR(VLOOKUP(E2456,Insumos!A:C,2,FALSE),\"\")","v":""},null,null,null,0]
[null,null,null,null,null,{"$f":"IFERROR(VLOOKUP(E2457,Insumos!A:C,2,FALSE),\"\")","v":""},null,null,null,0]
[null,null,null,null,null,{"$f":"IFERROR(VLOOKUP(E2458,Insumos!A:C,2,FALSE),\"\")","v":""},null,null,null,0]
[null,null,null,null,null,{"$f":"IFERROR(VLOOKUP(E2459,Insumos!A:C,2,FALSE),\"\")","v":""},null,null,null,0]
[null,null,null,null,null,{"$f":"IFERROR(VLOOKUP(E2460,Insumos!A:C,2,FALSE),\"\")","v":""},null,null,null,0]
[null,null,null,null,null,{"$f":"IFERROR(VLOOKUP(E2461,Insumos!A:C,2,FALSE),\"\")","v":""},null,null,null,0]
[null,null,null,null,null,{"$f":"IFERROR(VLOOKUP(E2462,Insumos!A:C,2,FALSE),\"\")","v":""},null,null,null,0]
[null,null,null,null,null,{"$f":"IFERROR(VLOOKUP(E2463,Insumos!A:C,2,FALSE),\"\")","v":""},null,null,null,0]
[null,null,null,null,null,{"$f":"IFERROR(VLOOKUP(E2464,Insumos!A:C,2,FALSE),\"\")","v":""},null,null,null,0]
[null,null,null,null,null,{"$f":"IFERROR(VLOOKUP(E2465,Insumos!A:C,2,FALSE),\"\")","v":""},null,null,null,0]
[null,null,null,null,null,{"$f":"IFERROR(VLOOKUP(E2466,Insumos!A:C,2,FALSE),\"\")","v":""},null,null,null,0]
[null,null,null,null,null,{"$f":"IFERROR(VLOOKUP(E2467,Insumos!A:C,2,FALSE),\"\")","v":""},null,null,null,0]
[null,null,null,null,null,{"$f":"IFERROR(VLOOKUP(E2468,Insumos!A:C,2,FALSE),\"\")","v":""},null,null,null,0]
[null,null,null,null,null,{"$f":"IFERROR(VLOOKUP(E2469,Insumos!A:C,2,FALSE),\"\")","v":""},null,null,null,0]
[null,null,null,null,null,{"$f":"IFERROR(VLOOKUP(E2470,Insumos!A:C,2,FALSE),\"\")","v":""},null,null,null,0]
[null,null,null,null,null,{"$f":"IFERROR(VLOOKUP(E2471,Insumos!A:C,2,FALSE),\"\")","v":""},null,null,null,0]
[null,null,null,null,null,{"$f":"IFERROR(VLOOKUP(E2472,Insumos!A:C,2,FALSE),\"\")","v":""},null,null,null,0]
[null,null,null,null,null,{"$f":"IFERROR(VLOOKUP(E2473,Insumos!A:C,2,FALSE),\"\")","v":""},null,null,null,0]
[null,null,null,null,null,{"$f":"IFERROR(VLOOKUP(E2474,Insumos!A:C,2,FALSE),\"\")","v":""},null,null,null,0]
[null,null,null,null,null,{"$f":"IFERROR(VLOOKUP(E2475,Insumos!A:C,2,FALSE),\"\")","v":""},null,null,null,0]
[null,null,null,null,null,{"$f":"IFERROR(VLOOKUP(E2476,Insumos!A:C,2,FALSE),\"\")","v":""},null,null,null,0]
[null,null,null,null,null,{"$f":"IFERROR(VLOOKUP(E2477,Insumos!A:C,2,FALSE),\"\")","v":""},null,null,null,0]
[null,null,null,null,null,{"$f":"IFERROR(VLOOKUP(E2478,Insumos!A:C,2,FALSE),\"\")","v":""},null,null,null,0]
[null,null,null,null,null,{"$f":"IFERROR(VLOOKUP(E2479,Insumos!A:C,2,FALSE),\"\")","v":""},null,null,null,0]
[null,null,null,null,null,{"$f":"IFERROR(VLOOKUP(E2480,Insumos!A:C,2,FALSE),\"\")","v":""},null,null,null,0]
[null,null,null,null,null,{"$f":"IFERROR(VLOOKUP(E2481,Insumos!A:C,2,FALSE),\"\")","v":""},null,null,null,0]
[null,null,null,null,null,{"$f":"IFERROR(VLOOKUP(E2482,Insumos!A:C,2,FALSE),\"\")","v":""},null,null,null,0]
[null,null,null,null,null,{"$f":"IFERROR(VLOOKUP(E2483,Insumos!A:C,2,FALSE),\"\")","v":""},null,null,null,0]
[null,null,null,null,null,{"$f":"IFERROR(VLOOKUP(E2484,Insumos!A:C,2,FALSE),\"\")","v":""},null,null,null,0]
[null,null,null,null,null,{"$f":"IFERROR(VLOOKUP(E2485,Insumos!A:C,2,FALSE),\"\")","v":""},null,null,null,0]
[null,null,null,null,null,{"$f":"IFERROR(VLOOKUP(E2486,Insumos!A:C,2,FALSE),\"\")","v":""},null,null,null,0]
[null,null,null,null,null,{"$f":"IFERROR(VLOOKUP(E2487,Insumos!A:C,2,FALSE),\"\")","v":""},null,null,null,0]
[null,null,null,null,null,{"$f":"IFERROR(VLOOKUP(E2488,Insumos!A:C,2,FALSE),\"\")","v":""},null,null,null,0]
[null,null,null,null,null,{"$f":"IFERROR(VLOOKUP(E2489,Insumos!A:C,2,FALSE),\"\")","v":""},null,null,null,0]
[null,null,null,null,null,{"$f":"IFERROR(VLOOKUP(E2490,Insumos!A:C,2,FALSE),\"\")","v":""},null,null,null,0]
[null,null,null,null,null,{"$f":"IFERROR(VLOOKUP(E2491,Insumos!A:C,2,FALSE),\"\")","v":""},null,null,null,0]
[null,null,null,null,null,{"$f":"IFERROR(VLOOKUP(E2492,Insumos!A:C,2,FALSE),\"\")","v":""},null,null,null,0]
[null,null,null,null,null,{"$f":"IFERROR(VLOOKUP(E2493,Insumos!A:C,2,FALSE),\"\")","v":""},null,null,null,0]
[null,null,null,null,null,{"$f":"IFERROR(VLOOKUP(E2494,Insumos!A:C,2,FALSE),\"\")","v":""},null,null,null,0]
[null,null,null,null,null,{"$f":"IFERROR(VLOOKUP(E2495,Insumos!A:C,2,FALSE),\"\")","v":""},null,null,null,0]
[null,null,null,null,null,{"$f":"IFERROR(VLOOKUP(E2496,Insumos!A:C,2,FALSE),\"\")","v":""},null,null,null,0]
[null,null,null,null,null,{"$f":"IFERROR(VLOOKUP(E2497,Insumos!A:C,2,FALSE),\"\")","v":""},null,null,null,0]
[null,null,null,null,null,{"$f":"IFERROR(VLOOKUP(E2498,Insumos!A:C,2,FALSE),\"\")","v":""},null,null,null,0]
[null,null,null,null,null,{"$f":"IFERROR(VLOOKUP(E2499,Insumos!A:C,2,FALSE),\"\")","v":""},null,null,null,0]
[null,null,null,null,null,{"$f":"IFERROR(VLOOKUP(E2500,Insumos!A:C,2,FALSE),\"\")","v":""},null,null,null,0]
[null,null,null,null,null,{"$f":"IFERROR(VLOOKUP(E2501,Insumos!A:C,2,FALSE),\"\")","v":""},null,null,null,{"$f":"IFERROR(H2501*I2501,\"\")","v":0}]
[null,null,null,null,null,{"$f":"IFERROR(VLOOKUP(E2502,Insumos!A:C,2,FALSE),\"\")","v":""},null,null,null,{"$f":"IFERROR(H2502*I2502,\"\")","v":0}]
[null,null,null,null,null,{"$f":"IFERROR(VLOOKUP(E2503,Insumos!A:C,2,FALSE),\"\")","v":""},null,null,null,{"$f":"IFERROR(H2503*I2503,\"\")","v":0}]
[null,null,null,null,null,{"$f":"IFERROR(VLOOKUP(E2504,Insumos!A:C,2,FALSE),\"\")","v":""},null,null,null,{"$f":"IFERROR(H2504*I2504,\"\")","v":0}]

{"sheet":"Relatório","index":6,"n_rows":52,"n_cols":7,"rows_kept":52,"cut":false,"hidden":false,"merged":[[7,1,7,2],[7,3,7,4],[1,0,1,5],[2,0,2,5],[3,1,4,1]]}
[]
["RELATÓRIO DE ENTRADAS E SAÍDAS POR INSUMOS"]
[]
["INSUMO","SAFRA 2023","TOTAL DE ENTRADAS (NOTA FISCAL)","QUANTIDADE NO ESTOQUE","QUANTIDADE DE SAÍDAS","SALDO ATUAL NO ESTOQUE"]
["herbicida",null,{"$f":"IFERROR(SUMIF(Nota_Fiscal!L4:L1174,A5,Nota_Fiscal!I4:I1174),\"\")","v":4075},{"$f":"IFERROR(B5+C5,\"\")","v":4075},{"$f":"IFERROR(SUMIF(Saída!H:H,Relatório!$A$5,Saída!F:F),\"\")","v":970},{"$f":"D5-E5","v":3105}]
[{"$f":"IFERROR(VLOOKUP(A5,Insumos!A:C,2,FALSE),\"\")","v":""}]
[]
[null,"Entradas por Nota Fiscal",null,"Saídas de Insumos"]
["Data","Produto","Entrada","Data","Saída",null,{"$f":"Nota_Fiscal!G4&\"-\"&COUNTIF(Nota_Fiscal!$G$4:G4,Nota_Fiscal!G4)","v":"OFF ROAD-1"}]
[null,{"$f":"INDEX(Nota_Fiscal!G:G,MATCH(Relatório!A5,Nota_Fiscal!G4:L18,0))","v":{"$error":"#N/A"}},null,null,null,null,{"$f":"Nota_Fiscal!G5&\"-\"&COUNTIF(Nota_Fiscal!$G$4:G5,Nota_Fiscal!G5)","v":"POQUER -1"}]
[null,null,null,null,null,null,{"$f":"Nota_Fiscal!G6&\"-\"&COUNTIF(Nota_Fiscal!$G$4:G6,Nota_Fiscal!G6)","v":"IHARA GOLD-1"}]
[null,null,null,null,null,null,{"$f":"Nota_Fiscal!G7&\"-\"&COUNTIF(Nota_Fiscal!$G$4:G7,Nota_Fiscal!G7)","v":"TRICLON-1"}]
[null,null,null,null,null,null,{"$f":"Nota_Fiscal!G8&\"-\"&COUNTIF(Nota_Fiscal!$G$4:G8,Nota_Fiscal!G8)","v":"OFF ROAD-2"}]
[null,null,null,null,null,null,{"$f":"Nota_Fiscal!G9&\"-\"&COUNTIF(Nota_Fiscal!$G$4:G9,Nota_Fiscal!G9)","v":"POQUER -2"}]
[null,null,null,null,null,null,{"$f":"Nota_Fiscal!G10&\"-\"&COUNTIF(Nota_Fiscal!$G$4:G10,Nota_Fiscal!G10)","v":"IHARA GOLD-2"}]
[null,null,null,null,null,null,{"$f":"Nota_Fiscal!G11&\"-\"&COUNTIF(Nota_Fiscal!$G$4:G11,Nota_Fiscal!G11)","v":"TRICLON-2"}]
[null,null,null,null,null,null,{"$f":"Nota_Fiscal!G12&\"-\"&COUNTIF(Nota_Fiscal!$G$4:G12,Nota_Fiscal!G12)","v":"STRINGER WG-1"}]
[null,null,null,null,null,null,{"$f":"Nota_Fiscal!G13&\"-\"&COUNTIF(Nota_Fiscal!$G$4:G13,Nota_Fiscal!G13)","v":"STRINGER WG-2"}]
[null,null,null,null,null,null,{"$f":"Nota_Fiscal!G14&\"-\"&COUNTIF(Nota_Fiscal!$G$4:G14,Nota_Fiscal!G14)","v":"STRINGER WG-3"}]
[null,null,null,null,null,null,{"$f":"Nota_Fiscal!G15&\"-\"&COUNTIF(Nota_Fiscal!$G$4:G15,Nota_Fiscal!G15)","v":"CADDET BB-1"}]
[null,null,null,null,null,null,{"$f":"Nota_Fiscal!G16&\"-\"&COUNTIF(Nota_Fiscal!$G$4:G16,Nota_Fiscal!G16)","v":"SAPEK MAX 880-1"}]
[null,null,null,null,null,null,{"$f":"Nota_Fiscal!G17&\"-\"&COUNTIF(Nota_Fiscal!$G$4:G17,Nota_Fiscal!G17)","v":"CLETODIM CCAB EC-1"}]
[null,null,null,null,null,null,{"$f":"Nota_Fiscal!G18&\"-\"&COUNTIF(Nota_Fiscal!$G$4:G18,Nota_Fiscal!G18)","v":"ATUMUS TANDER-1"}]
[null,null,null,null,null,null,{"$f":"Nota_Fiscal!G19&\"-\"&COUNTIF(Nota_Fiscal!$G$4:G19,Nota_Fiscal!G19)","v":"-0"}]
[null,null,null,null,null,null,{"$f":"Nota_Fiscal!G20&\"-\"&COUNTIF(Nota_Fiscal!$G$4:G20,Nota_Fiscal!G20)","v":"-0"}]
[null,null,null,null,null,null,{"$f":"Nota_Fiscal!G21&\"-\"&COUNTIF(Nota_Fiscal!$G$4:G21,Nota_Fiscal!G21)","v":"-0"}]
[null,null,null,null,null,null,{"$f":"Nota_Fiscal!G22&\"-\"&COUNTIF(Nota_Fiscal!$G$4:G22,Nota_Fiscal!G22)","v":"-0"}]
[null,null,null,null,null,null,{"$f":"Nota_Fiscal!G23&\"-\"&COUNTIF(Nota_Fiscal!$G$4:G23,Nota_Fiscal!G23)","v":"-0"}]
[null,null,null,null,null,null,{"$f":"Nota_Fiscal!G24&\"-\"&COUNTIF(Nota_Fiscal!$G$4:G24,Nota_Fiscal!G24)","v":"-0"}]
[null,null,null,null,null,null,{"$f":"Nota_Fiscal!G25&\"-\"&COUNTIF(Nota_Fiscal!$G$4:G25,Nota_Fiscal!G25)","v":"-0"}]
[null,null,null,null,null,null,{"$f":"Nota_Fiscal!G26&\"-\"&COUNTIF(Nota_Fiscal!$G$4:G26,Nota_Fiscal!G26)","v":"-0"}]
[null,null,null,null,null,null,{"$f":"Nota_Fiscal!G27&\"-\"&COUNTIF(Nota_Fiscal!$G$4:G27,Nota_Fiscal!G27)","v":"-0"}]
[null,null,null,null,null,null,{"$f":"Nota_Fiscal!G28&\"-\"&COUNTIF(Nota_Fiscal!$G$4:G28,Nota_Fiscal!G28)","v":"-0"}]
[null,null,null,null,null,null,{"$f":"Nota_Fiscal!G29&\"-\"&COUNTIF(Nota_Fiscal!$G$4:G29,Nota_Fiscal!G29)","v":"-0"}]
[null,null,null,null,null,null,{"$f":"Nota_Fiscal!G30&\"-\"&COUNTIF(Nota_Fiscal!$G$4:G30,Nota_Fiscal!G30)","v":"-0"}]
[null,null,null,null,null,null,{"$f":"Nota_Fiscal!G31&\"-\"&COUNTIF(Nota_Fiscal!$G$4:G31,Nota_Fiscal!G31)","v":"-0"}]
[null,null,null,null,null,null,{"$f":"Nota_Fiscal!G32&\"-\"&COUNTIF(Nota_Fiscal!$G$4:G32,Nota_Fiscal!G32)","v":"-0"}]
[null,null,null,null,null,null,{"$f":"Nota_Fiscal!G33&\"-\"&COUNTIF(Nota_Fiscal!$G$4:G33,Nota_Fiscal!G33)","v":"-0"}]
[null,null,null,null,null,null,{"$f":"Nota_Fiscal!G34&\"-\"&COUNTIF(Nota_Fiscal!$G$4:G34,Nota_Fiscal!G34)","v":"-0"}]
[null,null,null,null,null,null,{"$f":"Nota_Fiscal!G35&\"-\"&COUNTIF(Nota_Fiscal!$G$4:G35,Nota_Fiscal!G35)","v":"-0"}]
[null,null,null,null,null,null,{"$f":"Nota_Fiscal!G36&\"-\"&COUNTIF(Nota_Fiscal!$G$4:G36,Nota_Fiscal!G36)","v":"-0"}]
[null,null,null,null,null,null,{"$f":"Nota_Fiscal!G37&\"-\"&COUNTIF(Nota_Fiscal!$G$4:G37,Nota_Fiscal!G37)","v":"-0"}]
[null,null,null,null,null,null,{"$f":"Nota_Fiscal!G38&\"-\"&COUNTIF(Nota_Fiscal!$G$4:G38,Nota_Fiscal!G38)","v":"-0"}]
[null,null,null,null,null,null,{"$f":"Nota_Fiscal!G39&\"-\"&COUNTIF(Nota_Fiscal!$G$4:G39,Nota_Fiscal!G39)","v":"-0"}]
[null,null,null,null,null,null,{"$f":"Nota_Fiscal!G40&\"-\"&COUNTIF(Nota_Fiscal!$G$4:G40,Nota_Fiscal!G40)","v":"-0"}]
[null,null,null,null,null,null,{"$f":"Nota_Fiscal!G41&\"-\"&COUNTIF(Nota_Fiscal!$G$4:G41,Nota_Fiscal!G41)","v":"-0"}]
[null,null,null,null,null,null,{"$f":"Nota_Fiscal!G42&\"-\"&COUNTIF(Nota_Fiscal!$G$4:G42,Nota_Fiscal!G42)","v":"-0"}]
[null,null,null,null,null,null,{"$f":"Nota_Fiscal!G43&\"-\"&COUNTIF(Nota_Fiscal!$G$4:G43,Nota_Fiscal!G43)","v":"-0"}]
[null,null,null,null,null,null,{"$f":"Nota_Fiscal!G44&\"-\"&COUNTIF(Nota_Fiscal!$G$4:G44,Nota_Fiscal!G44)","v":"-0"}]
[null,null,null,null,null,null,{"$f":"Nota_Fiscal!G45&\"-\"&COUNTIF(Nota_Fiscal!$G$4:G45,Nota_Fiscal!G45)","v":"-0"}]
[null,null,null,null,null,null,{"$f":"Nota_Fiscal!G46&\"-\"&COUNTIF(Nota_Fiscal!$G$4:G46,Nota_Fiscal!G46)","v":"-0"}]
[null,null,null,null,null,null,{"$f":"Nota_Fiscal!G47&\"-\"&COUNTIF(Nota_Fiscal!$G$4:G47,Nota_Fiscal!G47)","v":"-0"}]

{"sheet":"Produtos","index":7,"n_rows":134,"n_cols":3,"rows_kept":134,"cut":false,"hidden":false,"merged":[[0,0,1,2]]}
["Produtos"]
[]
["Nome","Entrada","Saida"]
[{"$f":"IFERROR(INDEX(Nota_Fiscal!$G$4:$G$2504,MATCH(0,COUNTIF($A$3:A3,Nota_Fiscal!$G$4:$G$2504),0)),\"\")","v":"OFF ROAD"},{"$f":"SUMIFS(Nota_Fiscal!I4:I2504,Nota_Fiscal!G4:G2504,Tabela1[[#This Row],[Nome]])","v":600},{"$f":"SUMIFS(Saída!$F$4:$F$1000,Saída!E$4:E$1000,Tabela1[[#This Row],[Nome]])","v":220}]
[{"$f":"IFERROR(INDEX(Nota_Fiscal!$G$4:$G$2504,MATCH(0,COUNTIF($A$3:A4,Nota_Fiscal!$G$4:$G$2504),0)),\"\")","v":"POQUER "},{"$f":"SUMIFS(Nota_Fiscal!I5:I2505,Nota_Fiscal!G5:G2505,Tabela1[[#This Row],[Nome]])","v":480},{"$f":"SUMIFS(Saída!$F$4:$F$1000,Saída!E$4:E$1000,Tabela1[[#This Row],[Nome]])","v":0}]
[{"$f":"IFERROR(INDEX(Nota_Fiscal!$G$4:$G$2504,MATCH(0,COUNTIF($A$3:A5,Nota_Fiscal!$G$4:$G$2504),0)),\"\")","v":"IHARA GOLD"},{"$f":"SUMIFS(Nota_Fiscal!I6:I2506,Nota_Fiscal!G6:G2506,Tabela1[[#This Row],[Nome]])","v":360},{"$f":"SUMIFS(Saída!$F$4:$F$1000,Saída!E$4:E$1000,Tabela1[[#This Row],[Nome]])","v":80}]
[{"$f":"IFERROR(INDEX(Nota_Fiscal!$G$4:$G$2504,MATCH(0,COUNTIF($A$3:A6,Nota_Fiscal!$G$4:$G$2504),0)),\"\")","v":"TRICLON"},{"$f":"SUMIFS(Nota_Fiscal!I7:I2507,Nota_Fiscal!G7:G2507,Tabela1[[#This Row],[Nome]])","v":460},{"$f":"SUMIFS(Saída!$F$4:$F$1000,Saída!E$4:E$1000,Tabela1[[#This Row],[Nome]])","v":255}]
[{"$f":"IFERROR(INDEX(Nota_Fiscal!$G$4:$G$2504,MATCH(0,COUNTIF($A$3:A7,Nota_Fiscal!$G$4:$G$2504),0)),\"\")","v":"STRINGER WG"},{"$f":"SUMIFS(Nota_Fiscal!I8:I2508,Nota_Fiscal!G8:G2508,Tabela1[[#This Row],[Nome]])","v":2000},{"$f":"SUMIFS(Saída!$F$4:$F$1000,Saída!E$4:E$1000,Tabela1[[#This Row],[Nome]])","v":495}]
[{"$f":"IFERROR(INDEX(Nota_Fiscal!$G$4:$G$2504,MATCH(0,COUNTIF($A$3:A8,Nota_Fiscal!$G$4:$G$2504),0)),\"\")","v":"CADDET BB"},{"$f":"SUMIFS(Nota_Fiscal!I9:I2509,Nota_Fiscal!G9:G2509,Tabela1[[#This Row],[Nome]])","v":120},{"$f":"SUMIFS(Saída!$F$4:$F$1000,Saída!E$4:E$1000,Tabela1[[#This Row],[Nome]])","v":0}]
[{"$f":"IFERROR(INDEX(Nota_Fiscal!$G$4:$G$2504,MATCH(0,COUNTIF($A$3:A9,Nota_Fiscal!$G$4:$G$2504),0)),\"\")","v":"SAPEK MAX 880"},{"$f":"SUMIFS(Nota_Fiscal!I10:I2510,Nota_Fiscal!G10:G2510,Tabela1[[#This Row],[Nome]])","v":175},{"$f":"SUMIFS(Saída!$F$4:$F$1000,Saída!E$4:E$1000,Tabela1[[#This Row],[Nome]])","v":0}]
[{"$f":"IFERROR(INDEX(Nota_Fiscal!$G$4:$G$2504,MATCH(0,COUNTIF($A$3:A10,Nota_Fiscal!$G$4:$G$2504),0)),\"\")","v":"CLETODIM CCAB EC"},{"$f":"SUMIFS(Nota_Fiscal!I11:I2511,Nota_Fiscal!G11:G2511,Tabela1[[#This Row],[Nome]])","v":360},{"$f":"SUMIFS(Saída!$F$4:$F$1000,Saída!E$4:E$1000,Tabela1[[#This Row],[Nome]])","v":0}]
[{"$f":"IFERROR(INDEX(Nota_Fiscal!$G$4:$G$2504,MATCH(0,COUNTIF($A$3:A11,Nota_Fiscal!$G$4:$G$2504),0)),\"\")","v":"ATUMUS TANDER"},{"$f":"SUMIFS(Nota_Fiscal!I12:I2512,Nota_Fiscal!G12:G2512,Tabela1[[#This Row],[Nome]])","v":100},{"$f":"SUMIFS(Saída!$F$4:$F$1000,Saída!E$4:E$1000,Tabela1[[#This Row],[Nome]])","v":0}]
[{"$f":"IFERROR(INDEX(Nota_Fiscal!$G$4:$G$2504,MATCH(0,COUNTIF($A$3:A12,Nota_Fiscal!$G$4:$G$2504),0)),\"\")","v":0},{"$f":"SUMIFS(Nota_Fiscal!I13:I2513,Nota_Fiscal!G13:G2513,Tabela1[[#This Row],[Nome]])","v":0},{"$f":"SUMIFS(Saída!$F$4:$F$1000,Saída!E$4:E$1000,Tabela1[[#This Row],[Nome]])","v":0}]
[{"$f":"IFERROR(INDEX(Nota_Fiscal!$G$4:$G$2504,MATCH(0,COUNTIF($A$3:A13,Nota_Fiscal!$G$4:$G$2504),0)),\"\")","v":""},{"$f":"SUMIFS(Nota_Fiscal!I14:I2514,Nota_Fiscal!G14:G2514,Tabela1[[#This Row],[Nome]])","v":0},{"$f":"SUMIFS(Saída!$F$4:$F$1000,Saída!E$4:E$1000,Tabela1[[#This Row],[Nome]])","v":0}]
[{"$f":"IFERROR(INDEX(Nota_Fiscal!$G$4:$G$2504,MATCH(0,COUNTIF($A$3:A14,Nota_Fiscal!$G$4:$G$2504),0)),\"\")","v":""},{"$f":"SUMIFS(Nota_Fiscal!I15:I2515,Nota_Fiscal!G15:G2515,Tabela1[[#This Row],[Nome]])","v":0},{"$f":"SUMIFS(Saída!$F$4:$F$1000,Saída!E$4:E$1000,Tabela1[[#This Row],[Nome]])","v":0}]
[{"$f":"IFERROR(INDEX(Nota_Fiscal!$G$4:$G$2504,MATCH(0,COUNTIF($A$3:A15,Nota_Fiscal!$G$4:$G$2504),0)),\"\")","v":""},{"$f":"SUMIFS(Nota_Fiscal!I16:I2516,Nota_Fiscal!G16:G2516,Tabela1[[#This Row],[Nome]])","v":0},{"$f":"SUMIFS(Saída!$F$4:$F$1000,Saída!E$4:E$1000,Tabela1[[#This Row],[Nome]])","v":0}]
[{"$f":"IFERROR(INDEX(Nota_Fiscal!$G$4:$G$2504,MATCH(0,COUNTIF($A$3:A16,Nota_Fiscal!$G$4:$G$2504),0)),\"\")","v":""},{"$f":"SUMIFS(Nota_Fiscal!I17:I2517,Nota_Fiscal!G17:G2517,Tabela1[[#This Row],[Nome]])","v":0},{"$f":"SUMIFS(Saída!$F$4:$F$1000,Saída!E$4:E$1000,Tabela1[[#This Row],[Nome]])","v":0}]
[{"$f":"IFERROR(INDEX(Nota_Fiscal!$G$4:$G$2504,MATCH(0,COUNTIF($A$3:A17,Nota_Fiscal!$G$4:$G$2504),0)),\"\")","v":""},{"$f":"SUMIFS(Nota_Fiscal!I18:I2518,Nota_Fiscal!G18:G2518,Tabela1[[#This Row],[Nome]])","v":0},{"$f":"SUMIFS(Saída!$F$4:$F$1000,Saída!E$4:E$1000,Tabela1[[#This Row],[Nome]])","v":0}]
[{"$f":"IFERROR(INDEX(Nota_Fiscal!$G$4:$G$2504,MATCH(0,COUNTIF($A$3:A18,Nota_Fiscal!$G$4:$G$2504),0)),\"\")","v":""},{"$f":"SUMIFS(Nota_Fiscal!I19:I2519,Nota_Fiscal!G19:G2519,Tabela1[[#This Row],[Nome]])","v":0},{"$f":"SUMIFS(Saída!$F$4:$F$1000,Saída!E$4:E$1000,Tabela1[[#This Row],[Nome]])","v":0}]
[{"$f":"IFERROR(INDEX(Nota_Fiscal!$G$4:$G$2504,MATCH(0,COUNTIF($A$3:A19,Nota_Fiscal!$G$4:$G$2504),0)),\"\")","v":""},{"$f":"SUMIFS(Nota_Fiscal!I20:I2520,Nota_Fiscal!G20:G2520,Tabela1[[#This Row],[Nome]])","v":0},{"$f":"SUMIFS(Saída!$F$4:$F$1000,Saída!E$4:E$1000,Tabela1[[#This Row],[Nome]])","v":0}]
[{"$f":"IFERROR(INDEX(Nota_Fiscal!$G$4:$G$2504,MATCH(0,COUNTIF($A$3:A20,Nota_Fiscal!$G$4:$G$2504),0)),\"\")","v":""},{"$f":"SUMIFS(Nota_Fiscal!I21:I2521,Nota_Fiscal!G21:G2521,Tabela1[[#This Row],[Nome]])","v":0},{"$f":"SUMIFS(Saída!$F$4:$F$1000,Saída!E$4:E$1000,Tabela1[[#This Row],[Nome]])","v":0}]
[{"$f":"IFERROR(INDEX(Nota_Fiscal!$G$4:$G$2504,MATCH(0,COUNTIF($A$3:A21,Nota_Fiscal!$G$4:$G$2504),0)),\"\")","v":""},{"$f":"SUMIFS(Nota_Fiscal!I22:I2522,Nota_Fiscal!G22:G2522,Tabela1[[#This Row],[Nome]])","v":0},{"$f":"SUMIFS(Saída!$F$4:$F$1000,Saída!E$4:E$1000,Tabela1[[#This Row],[Nome]])","v":0}]
[{"$f":"IFERROR(INDEX(Nota_Fiscal!$G$4:$G$2504,MATCH(0,COUNTIF($A$3:A22,Nota_Fiscal!$G$4:$G$2504),0)),\"\")","v":""},{"$f":"SUMIFS(Nota_Fiscal!I23:I2523,Nota_Fiscal!G23:G2523,Tabela1[[#This Row],[Nome]])","v":0},{"$f":"SUMIFS(Saída!$F$4:$F$1000,Saída!E$4:E$1000,Tabela1[[#This Row],[Nome]])","v":0}]
[{"$f":"IFERROR(INDEX(Nota_Fiscal!$G$4:$G$2504,MATCH(0,COUNTIF($A$3:A23,Nota_Fiscal!$G$4:$G$2504),0)),\"\")","v":""},{"$f":"SUMIFS(Nota_Fiscal!I24:I2524,Nota_Fiscal!G24:G2524,Tabela1[[#This Row],[Nome]])","v":0},{"$f":"SUMIFS(Saída!$F$4:$F$1000,Saída!E$4:E$1000,Tabela1[[#This Row],[Nome]])","v":0}]
[{"$f":"IFERROR(INDEX(Nota_Fiscal!$G$4:$G$2504,MATCH(0,COUNTIF($A$3:A24,Nota_Fiscal!$G$4:$G$2504),0)),\"\")","v":""},{"$f":"SUMIFS(Nota_Fiscal!I25:I2525,Nota_Fiscal!G25:G2525,Tabela1[[#This Row],[Nome]])","v":0},{"$f":"SUMIFS(Saída!$F$4:$F$1000,Saída!E$4:E$1000,Tabela1[[#This Row],[Nome]])","v":0}]
[{"$f":"IFERROR(INDEX(Nota_Fiscal!$G$4:$G$2504,MATCH(0,COUNTIF($A$3:A25,Nota_Fiscal!$G$4:$G$2504),0)),\"\")","v":""},{"$f":"SUMIFS(Nota_Fiscal!I26:I2526,Nota_Fiscal!G26:G2526,Tabela1[[#This Row],[Nome]])","v":0},{"$f":"SUMIFS(Saída!$F$4:$F$1000,Saída!E$4:E$1000,Tabela1[[#This Row],[Nome]])","v":0}]
[{"$f":"IFERROR(INDEX(Nota_Fiscal!$G$4:$G$2504,MATCH(0,COUNTIF($A$3:A26,Nota_Fiscal!$G$4:$G$2504),0)),\"\")","v":""},{"$f":"SUMIFS(Nota_Fiscal!I27:I2527,Nota_Fiscal!G27:G2527,Tabela1[[#This Row],[Nome]])","v":0},{"$f":"SUMIFS(Saída!$F$4:$F$1000,Saída!E$4:E$1000,Tabela1[[#This Row],[Nome]])","v":0}]
[{"$f":"IFERROR(INDEX(Nota_Fiscal!$G$4:$G$2504,MATCH(0,COUNTIF($A$3:A27,Nota_Fiscal!$G$4:$G$2504),0)),\"\")","v":""},{"$f":"SUMIFS(Nota_Fiscal!I28:I2528,Nota_Fiscal!G28:G2528,Tabela1[[#This Row],[Nome]])","v":0},{"$f":"SUMIFS(Saída!$F$4:$F$1000,Saída!E$4:E$1000,Tabela1[[#This Row],[Nome]])","v":0}]
[{"$f":"IFERROR(INDEX(Nota_Fiscal!$G$4:$G$2504,MATCH(0,COUNTIF($A$3:A28,Nota_Fiscal!$G$4:$G$2504),0)),\"\")","v":""},{"$f":"SUMIFS(Nota_Fiscal!I29:I2529,Nota_Fiscal!G29:G2529,Tabela1[[#This Row],[Nome]])","v":0},{"$f":"SUMIFS(Saída!$F$4:$F$1000,Saída!E$4:E$1000,Tabela1[[#This Row],[Nome]])","v":0}]
[{"$f":"IFERROR(INDEX(Nota_Fiscal!$G$4:$G$2504,MATCH(0,COUNTIF($A$3:A29,Nota_Fiscal!$G$4:$G$2504),0)),\"\")","v":""},{"$f":"SUMIFS(Nota_Fiscal!I30:I2530,Nota_Fiscal!G30:G2530,Tabela1[[#This Row],[Nome]])","v":0},{"$f":"SUMIFS(Saída!$F$4:$F$1000,Saída!E$4:E$1000,Tabela1[[#This Row],[Nome]])","v":0}]
[{"$f":"IFERROR(INDEX(Nota_Fiscal!$G$4:$G$2504,MATCH(0,COUNTIF($A$3:A30,Nota_Fiscal!$G$4:$G$2504),0)),\"\")","v":""},{"$f":"SUMIFS(Nota_Fiscal!I31:I2531,Nota_Fiscal!G31:G2531,Tabela1[[#This Row],[Nome]])","v":0},{"$f":"SUMIFS(Saída!$F$4:$F$1000,Saída!E$4:E$1000,Tabela1[[#This Row],[Nome]])","v":0}]
[{"$f":"IFERROR(INDEX(Nota_Fiscal!$G$4:$G$2504,MATCH(0,COUNTIF($A$3:A31,Nota_Fiscal!$G$4:$G$2504),0)),\"\")","v":""},{"$f":"SUMIFS(Nota_Fiscal!I32:I2532,Nota_Fiscal!G32:G2532,Tabela1[[#This Row],[Nome]])","v":0},{"$f":"SUMIFS(Saída!$F$4:$F$1000,Saída!E$4:E$1000,Tabela1[[#This Row],[Nome]])","v":0}]
[{"$f":"IFERROR(INDEX(Nota_Fiscal!$G$4:$G$2504,MATCH(0,COUNTIF($A$3:A32,Nota_Fiscal!$G$4:$G$2504),0)),\"\")","v":""},{"$f":"SUMIFS(Nota_Fiscal!I33:I2533,Nota_Fiscal!G33:G2533,Tabela1[[#This Row],[Nome]])","v":0},{"$f":"SUMIFS(Saída!$F$4:$F$1000,Saída!E$4:E$1000,Tabela1[[#This Row],[Nome]])","v":0}]
[{"$f":"IFERROR(INDEX(Nota_Fiscal!$G$4:$G$2504,MATCH(0,COUNTIF($A$3:A33,Nota_Fiscal!$G$4:$G$2504),0)),\"\")","v":""},{"$f":"SUMIFS(Nota_Fiscal!I34:I2534,Nota_Fiscal!G34:G2534,Tabela1[[#This Row],[Nome]])","v":0},{"$f":"SUMIFS(Saída!$F$4:$F$1000,Saída!E$4:E$1000,Tabela1[[#This Row],[Nome]])","v":0}]
[{"$f":"IFERROR(INDEX(Nota_Fiscal!$G$4:$G$2504,MATCH(0,COUNTIF($A$3:A34,Nota_Fiscal!$G$4:$G$2504),0)),\"\")","v":""},{"$f":"SUMIFS(Nota_Fiscal!I35:I2535,Nota_Fiscal!G35:G2535,Tabela1[[#This Row],[Nome]])","v":0},{"$f":"SUMIFS(Saída!$F$4:$F$1000,Saída!E$4:E$1000,Tabela1[[#This Row],[Nome]])","v":0}]
[{"$f":"IFERROR(INDEX(Nota_Fiscal!$G$4:$G$2504,MATCH(0,COUNTIF($A$3:A35,Nota_Fiscal!$G$4:$G$2504),0)),\"\")","v":""},{"$f":"SUMIFS(Nota_Fiscal!I36:I2536,Nota_Fiscal!G36:G2536,Tabela1[[#This Row],[Nome]])","v":0},{"$f":"SUMIFS(Saída!$F$4:$F$1000,Saída!E$4:E$1000,Tabela1[[#This Row],[Nome]])","v":0}]
[{"$f":"IFERROR(INDEX(Nota_Fiscal!$G$4:$G$2504,MATCH(0,COUNTIF($A$3:A36,Nota_Fiscal!$G$4:$G$2504),0)),\"\")","v":""},{"$f":"SUMIFS(Nota_Fiscal!I37:I2537,Nota_Fiscal!G37:G2537,Tabela1[[#This Row],[Nome]])","v":0},{"$f":"SUMIFS(Saída!$F$4:$F$1000,Saída!E$4:E$1000,Tabela1[[#This Row],[Nome]])","v":0}]
[{"$f":"IFERROR(INDEX(Nota_Fiscal!$G$4:$G$2504,MATCH(0,COUNTIF($A$3:A37,Nota_Fiscal!$G$4:$G$2504),0)),\"\")","v":""},{"$f":"SUMIFS(Nota_Fiscal!I38:I2538,Nota_Fiscal!G38:G2538,Tabela1[[#This Row],[Nome]])","v":0},{"$f":"SUMIFS(Saída!$F$4:$F$1000,Saída!E$4:E$1000,Tabela1[[#This Row],[Nome]])","v":0}]
[{"$f":"IFERROR(INDEX(Nota_Fiscal!$G$4:$G$2504,MATCH(0,COUNTIF($A$3:A38,Nota_Fiscal!$G$4:$G$2504),0)),\"\")","v":""},{"$f":"SUMIFS(Nota_Fiscal!I39:I2539,Nota_Fiscal!G39:G2539,Tabela1[[#This Row],[Nome]])","v":0},{"$f":"SUMIFS(Saída!$F$4:$F$1000,Saída!E$4:E$1000,Tabela1[[#This Row],[Nome]])","v":0}]
[{"$f":"IFERROR(INDEX(Nota_Fiscal!$G$4:$G$2504,MATCH(0,COUNTIF($A$3:A39,Nota_Fiscal!$G$4:$G$2504),0)),\"\")","v":""},{"$f":"SUMIFS(Nota_Fiscal!I40:I2540,Nota_Fiscal!G40:G2540,Tabela1[[#This Row],[Nome]])","v":0},{"$f":"SUMIFS(Saída!$F$4:$F$1000,Saída!E$4:E$1000,Tabela1[[#This Row],[Nome]])","v":0}]
[{"$f":"IFERROR(INDEX(Nota_Fiscal!$G$4:$G$2504,MATCH(0,COUNTIF($A$3:A40,Nota_Fiscal!$G$4:$G$2504),0)),\"\")","v":""},{"$f":"SUMIFS(Nota_Fiscal!I41:I2541,Nota_Fiscal!G41:G2541,Tabela1[[#This Row],[Nome]])","v":0},{"$f":"SUMIFS(Saída!$F$4:$F$1000,Saída!E$4:E$1000,Tabela1[[#This Row],[Nome]])","v":0}]
[{"$f":"IFERROR(INDEX(Nota_Fiscal!$G$4:$G$2504,MATCH(0,COUNTIF($A$3:A41,Nota_Fiscal!$G$4:$G$2504),0)),\"\")","v":""},{"$f":"SUMIFS(Nota_Fiscal!I42:I2542,Nota_Fiscal!G42:G2542,Tabela1[[#This Row],[Nome]])","v":0},{"$f":"SUMIFS(Saída!$F$4:$F$1000,Saída!E$4:E$1000,Tabela1[[#This Row],[Nome]])","v":0}]
[{"$f":"IFERROR(INDEX(Nota_Fiscal!$G$4:$G$2504,MATCH(0,COUNTIF($A$3:A42,Nota_Fiscal!$G$4:$G$2504),0)),\"\")","v":""},{"$f":"SUMIFS(Nota_Fiscal!I43:I2543,Nota_Fiscal!G43:G2543,Tabela1[[#This Row],[Nome]])","v":0},{"$f":"SUMIFS(Saída!$F$4:$F$1000,Saída!E$4:E$1000,Tabela1[[#This Row],[Nome]])","v":0}]
[{"$f":"IFERROR(INDEX(Nota_Fiscal!$G$4:$G$2504,MATCH(0,COUNTIF($A$3:A43,Nota_Fiscal!$G$4:$G$2504),0)),\"\")","v":""},{"$f":"SUMIFS(Nota_Fiscal!I44:I2544,Nota_Fiscal!G44:G2544,Tabela1[[#This Row],[Nome]])","v":0},{"$f":"SUMIFS(Saída!$F$4:$F$1000,Saída!E$4:E$1000,Tabela1[[#This Row],[Nome]])","v":0}]
[{"$f":"IFERROR(INDEX(Nota_Fiscal!$G$4:$G$2504,MATCH(0,COUNTIF($A$3:A44,Nota_Fiscal!$G$4:$G$2504),0)),\"\")","v":""},{"$f":"SUMIFS(Nota_Fiscal!I45:I2545,Nota_Fiscal!G45:G2545,Tabela1[[#This Row],[Nome]])","v":0},{"$f":"SUMIFS(Saída!$F$4:$F$1000,Saída!E$4:E$1000,Tabela1[[#This Row],[Nome]])","v":0}]
[{"$f":"IFERROR(INDEX(Nota_Fiscal!$G$4:$G$2504,MATCH(0,COUNTIF($A$3:A45,Nota_Fiscal!$G$4:$G$2504),0)),\"\")","v":""},{"$f":"SUMIFS(Nota_Fiscal!I46:I2546,Nota_Fiscal!G46:G2546,Tabela1[[#This Row],[Nome]])","v":0},{"$f":"SUMIFS(Saída!$F$4:$F$1000,Saída!E$4:E$1000,Tabela1[[#This Row],[Nome]])","v":0}]
[{"$f":"IFERROR(INDEX(Nota_Fiscal!$G$4:$G$2504,MATCH(0,COUNTIF($A$3:A46,Nota_Fiscal!$G$4:$G$2504),0)),\"\")","v":""},{"$f":"SUMIFS(Nota_Fiscal!I47:I2547,Nota_Fiscal!G47:G2547,Tabela1[[#This Row],[Nome]])","v":0},{"$f":"SUMIFS(Saída!$F$4:$F$1000,Saída!E$4:E$1000,Tabela1[[#This Row],[Nome]])","v":0}]
[{"$f":"IFERROR(INDEX(Nota_Fiscal!$G$4:$G$2504,MATCH(0,COUNTIF($A$3:A47,Nota_Fiscal!$G$4:$G$2504),0)),\"\")","v":""},{"$f":"SUMIFS(Nota_Fiscal!I48:I2548,Nota_Fiscal!G48:G2548,Tabela1[[#This Row],[Nome]])","v":0},{"$f":"SUMIFS(Saída!$F$4:$F$1000,Saída!E$4:E$1000,Tabela1[[#This Row],[Nome]])","v":0}]
[{"$f":"IFERROR(INDEX(Nota_Fiscal!$G$4:$G$2504,MATCH(0,COUNTIF($A$3:A48,Nota_Fiscal!$G$4:$G$2504),0)),\"\")","v":""},{"$f":"SUMIFS(Nota_Fiscal!I49:I2549,Nota_Fiscal!G49:G2549,Tabela1[[#This Row],[Nome]])","v":0},{"$f":"SUMIFS(Saída!$F$4:$F$1000,Saída!E$4:E$1000,Tabela1[[#This Row],[Nome]])","v":0}]
[{"$f":"IFERROR(INDEX(Nota_Fiscal!$G$4:$G$2504,MATCH(0,COUNTIF($A$3:A49,Nota_Fiscal!$G$4:$G$2504),0)),\"\")","v":""},{"$f":"SUMIFS(Nota_Fiscal!I50:I2550,Nota_Fiscal!G50:G2550,Tabela1[[#This Row],[Nome]])","v":0},{"$f":"SUMIFS(Saída!$F$4:$F$1000,Saída!E$4:E$1000,Tabela1[[#This Row],[Nome]])","v":0}]
[{"$f":"IFERROR(INDEX(Nota_Fiscal!$G$4:$G$2504,MATCH(0,COUNTIF($A$3:A50,Nota_Fiscal!$G$4:$G$2504),0)),\"\")","v":""},{"$f":"SUMIFS(Nota_Fiscal!I51:I2551,Nota_Fiscal!G51:G2551,Tabela1[[#This Row],[Nome]])","v":0},{"$f":"SUMIFS(Saída!$F$4:$F$1000,Saída!E$4:E$1000,Tabela1[[#This Row],[Nome]])","v":0}]
[{"$f":"IFERROR(INDEX(Nota_Fiscal!$G$4:$G$2504,MATCH(0,COUNTIF($A$3:A51,Nota_Fiscal!$G$4:$G$2504),0)),\"\")","v":""},{"$f":"SUMIFS(Nota_Fiscal!I52:I2552,Nota_Fiscal!G52:G2552,Tabela1[[#This Row],[Nome]])","v":0},{"$f":"SUMIFS(Saída!$F$4:$F$1000,Saída!E$4:E$1000,Tabela1[[#This Row],[Nome]])","v":0}]
[{"$f":"IFERROR(INDEX(Nota_Fiscal!$G$4:$G$2504,MATCH(0,COUNTIF($A$3:A52,Nota_Fiscal!$G$4:$G$2504),0)),\"\")","v":""},{"$f":"SUMIFS(Nota_Fiscal!I53:I2553,Nota_Fiscal!G53:G2553,Tabela1[[#This Row],[Nome]])","v":0},{"$f":"SUMIFS(Saída!$F$4:$F$1000,Saída!E$4:E$1000,Tabela1[[#This Row],[Nome]])","v":0}]
[{"$f":"IFERROR(INDEX(Nota_Fiscal!$G$4:$G$2504,MATCH(0,COUNTIF($A$3:A53,Nota_Fiscal!$G$4:$G$2504),0)),\"\")","v":""},{"$f":"SUMIFS(Nota_Fiscal!I54:I2554,Nota_Fiscal!G54:G2554,Tabela1[[#This Row],[Nome]])","v":0},{"$f":"SUMIFS(Saída!$F$4:$F$1000,Saída!E$4:E$1000,Tabela1[[#This Row],[Nome]])","v":0}]
[{"$f":"IFERROR(INDEX(Nota_Fiscal!$G$4:$G$2504,MATCH(0,COUNTIF($A$3:A54,Nota_Fiscal!$G$4:$G$2504),0)),\"\")","v":""},{"$f":"SUMIFS(Nota_Fiscal!I55:I2555,Nota_Fiscal!G55:G2555,Tabela1[[#This Row],[Nome]])","v":0},{"$f":"SUMIFS(Saída!$F$4:$F$1000,Saída!E$4:E$1000,Tabela1[[#This Row],[Nome]])","v":0}]
[{"$f":"IFERROR(INDEX(Nota_Fiscal!$G$4:$G$2504,MATCH(0,COUNTIF($A$3:A55,Nota_Fiscal!$G$4:$G$2504),0)),\"\")","v":""},{"$f":"SUMIFS(Nota_Fiscal!I56:I2556,Nota_Fiscal!G56:G2556,Tabela1[[#This Row],[Nome]])","v":0},{"$f":"SUMIFS(Saída!$F$4:$F$1000,Saída!E$4:E$1000,Tabela1[[#This Row],[Nome]])","v":0}]
[{"$f":"IFERROR(INDEX(Nota_Fiscal!$G$4:$G$2504,MATCH(0,COUNTIF($A$3:A56,Nota_Fiscal!$G$4:$G$2504),0)),\"\")","v":""},{"$f":"SUMIFS(Nota_Fiscal!I57:I2557,Nota_Fiscal!G57:G2557,Tabela1[[#This Row],[Nome]])","v":0},{"$f":"SUMIFS(Saída!$F$4:$F$1000,Saída!E$4:E$1000,Tabela1[[#This Row],[Nome]])","v":0}]
[{"$f":"IFERROR(INDEX(Nota_Fiscal!$G$4:$G$2504,MATCH(0,COUNTIF($A$3:A57,Nota_Fiscal!$G$4:$G$2504),0)),\"\")","v":""},{"$f":"SUMIFS(Nota_Fiscal!I58:I2558,Nota_Fiscal!G58:G2558,Tabela1[[#This Row],[Nome]])","v":0},{"$f":"SUMIFS(Saída!$F$4:$F$1000,Saída!E$4:E$1000,Tabela1[[#This Row],[Nome]])","v":0}]
[{"$f":"IFERROR(INDEX(Nota_Fiscal!$G$4:$G$2504,MATCH(0,COUNTIF($A$3:A58,Nota_Fiscal!$G$4:$G$2504),0)),\"\")","v":""},{"$f":"SUMIFS(Nota_Fiscal!I59:I2559,Nota_Fiscal!G59:G2559,Tabela1[[#This Row],[Nome]])","v":0},{"$f":"SUMIFS(Saída!$F$4:$F$1000,Saída!E$4:E$1000,Tabela1[[#This Row],[Nome]])","v":0}]
[{"$f":"IFERROR(INDEX(Nota_Fiscal!$G$4:$G$2504,MATCH(0,COUNTIF($A$3:A59,Nota_Fiscal!$G$4:$G$2504),0)),\"\")","v":""},{"$f":"SUMIFS(Nota_Fiscal!I60:I2560,Nota_Fiscal!G60:G2560,Tabela1[[#This Row],[Nome]])","v":0},{"$f":"SUMIFS(Saída!$F$4:$F$1000,Saída!E$4:E$1000,Tabela1[[#This Row],[Nome]])","v":0}]
[{"$f":"IFERROR(INDEX(Nota_Fiscal!$G$4:$G$2504,MATCH(0,COUNTIF($A$3:A60,Nota_Fiscal!$G$4:$G$2504),0)),\"\")","v":""},{"$f":"SUMIFS(Nota_Fiscal!I61:I2561,Nota_Fiscal!G61:G2561,Tabela1[[#This Row],[Nome]])","v":0},{"$f":"SUMIFS(Saída!$F$4:$F$1000,Saída!E$4:E$1000,Tabela1[[#This Row],[Nome]])","v":0}]
[{"$f":"IFERROR(INDEX(Nota_Fiscal!$G$4:$G$2504,MATCH(0,COUNTIF($A$3:A61,Nota_Fiscal!$G$4:$G$2504),0)),\"\")","v":""},{"$f":"SUMIFS(Nota_Fiscal!I62:I2562,Nota_Fiscal!G62:G2562,Tabela1[[#This Row],[Nome]])","v":0},{"$f":"SUMIFS(Saída!$F$4:$F$1000,Saída!E$4:E$1000,Tabela1[[#This Row],[Nome]])","v":0}]
[{"$f":"IFERROR(INDEX(Nota_Fiscal!$G$4:$G$2504,MATCH(0,COUNTIF($A$3:A62,Nota_Fiscal!$G$4:$G$2504),0)),\"\")","v":""},{"$f":"SUMIFS(Nota_Fiscal!I63:I2563,Nota_Fiscal!G63:G2563,Tabela1[[#This Row],[Nome]])","v":0},{"$f":"SUMIFS(Saída!$F$4:$F$1000,Saída!E$4:E$1000,Tabela1[[#This Row],[Nome]])","v":0}]
[{"$f":"IFERROR(INDEX(Nota_Fiscal!$G$4:$G$2504,MATCH(0,COUNTIF($A$3:A63,Nota_Fiscal!$G$4:$G$2504),0)),\"\")","v":""},{"$f":"SUMIFS(Nota_Fiscal!I64:I2564,Nota_Fiscal!G64:G2564,Tabela1[[#This Row],[Nome]])","v":0},{"$f":"SUMIFS(Saída!$F$4:$F$1000,Saída!E$4:E$1000,Tabela1[[#This Row],[Nome]])","v":0}]
[{"$f":"IFERROR(INDEX(Nota_Fiscal!$G$4:$G$2504,MATCH(0,COUNTIF($A$3:A64,Nota_Fiscal!$G$4:$G$2504),0)),\"\")","v":""},{"$f":"SUMIFS(Nota_Fiscal!I65:I2565,Nota_Fiscal!G65:G2565,Tabela1[[#This Row],[Nome]])","v":0},{"$f":"SUMIFS(Saída!$F$4:$F$1000,Saída!E$4:E$1000,Tabela1[[#This Row],[Nome]])","v":0}]
[{"$f":"IFERROR(INDEX(Nota_Fiscal!$G$4:$G$2504,MATCH(0,COUNTIF($A$3:A65,Nota_Fiscal!$G$4:$G$2504),0)),\"\")","v":""},{"$f":"SUMIFS(Nota_Fiscal!I66:I2566,Nota_Fiscal!G66:G2566,Tabela1[[#This Row],[Nome]])","v":0},{"$f":"SUMIFS(Saída!$F$4:$F$1000,Saída!E$4:E$1000,Tabela1[[#This Row],[Nome]])","v":0}]
[{"$f":"IFERROR(INDEX(Nota_Fiscal!$G$4:$G$2504,MATCH(0,COUNTIF($A$3:A66,Nota_Fiscal!$G$4:$G$2504),0)),\"\")","v":""},{"$f":"SUMIFS(Nota_Fiscal!I67:I2567,Nota_Fiscal!G67:G2567,Tabela1[[#This Row],[Nome]])","v":0},{"$f":"SUMIFS(Saída!$F$4:$F$1000,Saída!E$4:E$1000,Tabela1[[#This Row],[Nome]])","v":0}]
[{"$f":"IFERROR(INDEX(Nota_Fiscal!$G$4:$G$2504,MATCH(0,COUNTIF($A$3:A67,Nota_Fiscal!$G$4:$G$2504),0)),\"\")","v":""},{"$f":"SUMIFS(Nota_Fiscal!I68:I2568,Nota_Fiscal!G68:G2568,Tabela1[[#This Row],[Nome]])","v":0},{"$f":"SUMIFS(Saída!$F$4:$F$1000,Saída!E$4:E$1000,Tabela1[[#This Row],[Nome]])","v":0}]
[{"$f":"IFERROR(INDEX(Nota_Fiscal!$G$4:$G$2504,MATCH(0,COUNTIF($A$3:A68,Nota_Fiscal!$G$4:$G$2504),0)),\"\")","v":""},{"$f":"SUMIFS(Nota_Fiscal!I69:I2569,Nota_Fiscal!G69:G2569,Tabela1[[#This Row],[Nome]])","v":0},{"$f":"SUMIFS(Saída!$F$4:$F$1000,Saída!E$4:E$1000,Tabela1[[#This Row],[Nome]])","v":0}]
[{"$f":"IFERROR(INDEX(Nota_Fiscal!$G$4:$G$2504,MATCH(0,COUNTIF($A$3:A69,Nota_Fiscal!$G$4:$G$2504),0)),\"\")","v":""},{"$f":"SUMIFS(Nota_Fiscal!I70:I2570,Nota_Fiscal!G70:G2570,Tabela1[[#This Row],[Nome]])","v":0},{"$f":"SUMIFS(Saída!$F$4:$F$1000,Saída!E$4:E$1000,Tabela1[[#This Row],[Nome]])","v":0}]
[{"$f":"IFERROR(INDEX(Nota_Fiscal!$G$4:$G$2504,MATCH(0,COUNTIF($A$3:A70,Nota_Fiscal!$G$4:$G$2504),0)),\"\")","v":""},{"$f":"SUMIFS(Nota_Fiscal!I71:I2571,Nota_Fiscal!G71:G2571,Tabela1[[#This Row],[Nome]])","v":0},{"$f":"SUMIFS(Saída!$F$4:$F$1000,Saída!E$4:E$1000,Tabela1[[#This Row],[Nome]])","v":0}]
[{"$f":"IFERROR(INDEX(Nota_Fiscal!$G$4:$G$2504,MATCH(0,COUNTIF($A$3:A71,Nota_Fiscal!$G$4:$G$2504),0)),\"\")","v":""},{"$f":"SUMIFS(Nota_Fiscal!I72:I2572,Nota_Fiscal!G72:G2572,Tabela1[[#This Row],[Nome]])","v":0},{"$f":"SUMIFS(Saída!$F$4:$F$1000,Saída!E$4:E$1000,Tabela1[[#This Row],[Nome]])","v":0}]
[{"$f":"IFERROR(INDEX(Nota_Fiscal!$G$4:$G$2504,MATCH(0,COUNTIF($A$3:A72,Nota_Fiscal!$G$4:$G$2504),0)),\"\")","v":""},{"$f":"SUMIFS(Nota_Fiscal!I73:I2573,Nota_Fiscal!G73:G2573,Tabela1[[#This Row],[Nome]])","v":0},{"$f":"SUMIFS(Saída!$F$4:$F$1000,Saída!E$4:E$1000,Tabela1[[#This Row],[Nome]])","v":0}]
[{"$f":"IFERROR(INDEX(Nota_Fiscal!$G$4:$G$2504,MATCH(0,COUNTIF($A$3:A73,Nota_Fiscal!$G$4:$G$2504),0)),\"\")","v":""},{"$f":"SUMIFS(Nota_Fiscal!I74:I2574,Nota_Fiscal!G74:G2574,Tabela1[[#This Row],[Nome]])","v":0},{"$f":"SUMIFS(Saída!$F$4:$F$1000,Saída!E$4:E$1000,Tabela1[[#This Row],[Nome]])","v":0}]
[{"$f":"IFERROR(INDEX(Nota_Fiscal!$G$4:$G$2504,MATCH(0,COUNTIF($A$3:A74,Nota_Fiscal!$G$4:$G$2504),0)),\"\")","v":""},{"$f":"SUMIFS(Nota_Fiscal!I75:I2575,Nota_Fiscal!G75:G2575,Tabela1[[#This Row],[Nome]])","v":0},{"$f":"SUMIFS(Saída!$F$4:$F$1000,Saída!E$4:E$1000,Tabela1[[#This Row],[Nome]])","v":0}]
[{"$f":"IFERROR(INDEX(Nota_Fiscal!$G$4:$G$2504,MATCH(0,COUNTIF($A$3:A75,Nota_Fiscal!$G$4:$G$2504),0)),\"\")","v":""},{"$f":"SUMIFS(Nota_Fiscal!I76:I2576,Nota_Fiscal!G76:G2576,Tabela1[[#This Row],[Nome]])","v":0},{"$f":"SUMIFS(Saída!$F$4:$F$1000,Saída!E$4:E$1000,Tabela1[[#This Row],[Nome]])","v":0}]
[{"$f":"IFERROR(INDEX(Nota_Fiscal!$G$4:$G$2504,MATCH(0,COUNTIF($A$3:A76,Nota_Fiscal!$G$4:$G$2504),0)),\"\")","v":""},{"$f":"SUMIFS(Nota_Fiscal!I77:I2577,Nota_Fiscal!G77:G2577,Tabela1[[#This Row],[Nome]])","v":0},{"$f":"SUMIFS(Saída!$F$4:$F$1000,Saída!E$4:E$1000,Tabela1[[#This Row],[Nome]])","v":0}]
[{"$f":"IFERROR(INDEX(Nota_Fiscal!$G$4:$G$2504,MATCH(0,COUNTIF($A$3:A77,Nota_Fiscal!$G$4:$G$2504),0)),\"\")","v":""},{"$f":"SUMIFS(Nota_Fiscal!I78:I2578,Nota_Fiscal!G78:G2578,Tabela1[[#This Row],[Nome]])","v":0},{"$f":"SUMIFS(Saída!$F$4:$F$1000,Saída!E$4:E$1000,Tabela1[[#This Row],[Nome]])","v":0}]
[{"$f":"IFERROR(INDEX(Nota_Fiscal!$G$4:$G$2504,MATCH(0,COUNTIF($A$3:A78,Nota_Fiscal!$G$4:$G$2504),0)),\"\")","v":""},{"$f":"SUMIFS(Nota_Fiscal!I79:I2579,Nota_Fiscal!G79:G2579,Tabela1[[#This Row],[Nome]])","v":0},{"$f":"SUMIFS(Saída!$F$4:$F$1000,Saída!E$4:E$1000,Tabela1[[#This Row],[Nome]])","v":0}]
[{"$f":"IFERROR(INDEX(Nota_Fiscal!$G$4:$G$2504,MATCH(0,COUNTIF($A$3:A79,Nota_Fiscal!$G$4:$G$2504),0)),\"\")","v":""},{"$f":"SUMIFS(Nota_Fiscal!I80:I2580,Nota_Fiscal!G80:G2580,Tabela1[[#This Row],[Nome]])","v":0},{"$f":"SUMIFS(Saída!$F$4:$F$1000,Saída!E$4:E$1000,Tabela1[[#This Row],[Nome]])","v":0}]
[{"$f":"IFERROR(INDEX(Nota_Fiscal!$G$4:$G$2504,MATCH(0,COUNTIF($A$3:A80,Nota_Fiscal!$G$4:$G$2504),0)),\"\")","v":""},{"$f":"SUMIFS(Nota_Fiscal!I81:I2581,Nota_Fiscal!G81:G2581,Tabela1[[#This Row],[Nome]])","v":0},{"$f":"SUMIFS(Saída!$F$4:$F$1000,Saída!E$4:E$1000,Tabela1[[#This Row],[Nome]])","v":0}]
[{"$f":"IFERROR(INDEX(Nota_Fiscal!$G$4:$G$2504,MATCH(0,COUNTIF($A$3:A81,Nota_Fiscal!$G$4:$G$2504),0)),\"\")","v":""},{"$f":"SUMIFS(Nota_Fiscal!I82:I2582,Nota_Fiscal!G82:G2582,Tabela1[[#This Row],[Nome]])","v":0},{"$f":"SUMIFS(Saída!$F$4:$F$1000,Saída!E$4:E$1000,Tabela1[[#This Row],[Nome]])","v":0}]
[{"$f":"IFERROR(INDEX(Nota_Fiscal!$G$4:$G$2504,MATCH(0,COUNTIF($A$3:A82,Nota_Fiscal!$G$4:$G$2504),0)),\"\")","v":""},{"$f":"SUMIFS(Nota_Fiscal!I83:I2583,Nota_Fiscal!G83:G2583,Tabela1[[#This Row],[Nome]])","v":0},{"$f":"SUMIFS(Saída!$F$4:$F$1000,Saída!E$4:E$1000,Tabela1[[#This Row],[Nome]])","v":0}]
[{"$f":"IFERROR(INDEX(Nota_Fiscal!$G$4:$G$2504,MATCH(0,COUNTIF($A$3:A83,Nota_Fiscal!$G$4:$G$2504),0)),\"\")","v":""},{"$f":"SUMIFS(Nota_Fiscal!I84:I2584,Nota_Fiscal!G84:G2584,Tabela1[[#This Row],[Nome]])","v":0},{"$f":"SUMIFS(Saída!$F$4:$F$1000,Saída!E$4:E$1000,Tabela1[[#This Row],[Nome]])","v":0}]
[{"$f":"IFERROR(INDEX(Nota_Fiscal!$G$4:$G$2504,MATCH(0,COUNTIF($A$3:A84,Nota_Fiscal!$G$4:$G$2504),0)),\"\")","v":""},{"$f":"SUMIFS(Nota_Fiscal!I85:I2585,Nota_Fiscal!G85:G2585,Tabela1[[#This Row],[Nome]])","v":0},{"$f":"SUMIFS(Saída!$F$4:$F$1000,Saída!E$4:E$1000,Tabela1[[#This Row],[Nome]])","v":0}]
[{"$f":"IFERROR(INDEX(Nota_Fiscal!$G$4:$G$2504,MATCH(0,COUNTIF($A$3:A85,Nota_Fiscal!$G$4:$G$2504),0)),\"\")","v":""},{"$f":"SUMIFS(Nota_Fiscal!I86:I2586,Nota_Fiscal!G86:G2586,Tabela1[[#This Row],[Nome]])","v":0},{"$f":"SUMIFS(Saída!$F$4:$F$1000,Saída!E$4:E$1000,Tabela1[[#This Row],[Nome]])","v":0}]
[{"$f":"IFERROR(INDEX(Nota_Fiscal!$G$4:$G$2504,MATCH(0,COUNTIF($A$3:A86,Nota_Fiscal!$G$4:$G$2504),0)),\"\")","v":""},{"$f":"SUMIFS(Nota_Fiscal!I87:I2587,Nota_Fiscal!G87:G2587,Tabela1[[#This Row],[Nome]])","v":0},{"$f":"SUMIFS(Saída!$F$4:$F$1000,Saída!E$4:E$1000,Tabela1[[#This Row],[Nome]])","v":0}]
[{"$f":"IFERROR(INDEX(Nota_Fiscal!$G$4:$G$2504,MATCH(0,COUNTIF($A$3:A87,Nota_Fiscal!$G$4:$G$2504),0)),\"\")","v":""},{"$f":"SUMIFS(Nota_Fiscal!I88:I2588,Nota_Fiscal!G88:G2588,Tabela1[[#This Row],[Nome]])","v":0},{"$f":"SUMIFS(Saída!$F$4:$F$1000,Saída!E$4:E$1000,Tabela1[[#This Row],[Nome]])","v":0}]
[{"$f":"IFERROR(INDEX(Nota_Fiscal!$G$4:$G$2504,MATCH(0,COUNTIF($A$3:A88,Nota_Fiscal!$G$4:$G$2504),0)),\"\")","v":""},{"$f":"SUMIFS(Nota_Fiscal!I89:I2589,Nota_Fiscal!G89:G2589,Tabela1[[#This Row],[Nome]])","v":0},{"$f":"SUMIFS(Saída!$F$4:$F$1000,Saída!E$4:E$1000,Tabela1[[#This Row],[Nome]])","v":0}]
[{"$f":"IFERROR(INDEX(Nota_Fiscal!$G$4:$G$2504,MATCH(0,COUNTIF($A$3:A89,Nota_Fiscal!$G$4:$G$2504),0)),\"\")","v":""},{"$f":"SUMIFS(Nota_Fiscal!I90:I2590,Nota_Fiscal!G90:G2590,Tabela1[[#This Row],[Nome]])","v":0},{"$f":"SUMIFS(Saída!$F$4:$F$1000,Saída!E$4:E$1000,Tabela1[[#This Row],[Nome]])","v":0}]
[{"$f":"IFERROR(INDEX(Nota_Fiscal!$G$4:$G$2504,MATCH(0,COUNTIF($A$3:A90,Nota_Fiscal!$G$4:$G$2504),0)),\"\")","v":""},{"$f":"SUMIFS(Nota_Fiscal!I91:I2591,Nota_Fiscal!G91:G2591,Tabela1[[#This Row],[Nome]])","v":0},{"$f":"SUMIFS(Saída!$F$4:$F$1000,Saída!E$4:E$1000,Tabela1[[#This Row],[Nome]])","v":0}]
[{"$f":"IFERROR(INDEX(Nota_Fiscal!$G$4:$G$2504,MATCH(0,COUNTIF($A$3:A91,Nota_Fiscal!$G$4:$G$2504),0)),\"\")","v":""},{"$f":"SUMIFS(Nota_Fiscal!I92:I2592,Nota_Fiscal!G92:G2592,Tabela1[[#This Row],[Nome]])","v":0},{"$f":"SUMIFS(Saída!$F$4:$F$1000,Saída!E$4:E$1000,Tabela1[[#This Row],[Nome]])","v":0}]
[{"$f":"IFERROR(INDEX(Nota_Fiscal!$G$4:$G$2504,MATCH(0,COUNTIF($A$3:A92,Nota_Fiscal!$G$4:$G$2504),0)),\"\")","v":""},{"$f":"SUMIFS(Nota_Fiscal!I93:I2593,Nota_Fiscal!G93:G2593,Tabela1[[#This Row],[Nome]])","v":0},{"$f":"SUMIFS(Saída!$F$4:$F$1000,Saída!E$4:E$1000,Tabela1[[#This Row],[Nome]])","v":0}]
[{"$f":"IFERROR(INDEX(Nota_Fiscal!$G$4:$G$2504,MATCH(0,COUNTIF($A$3:A93,Nota_Fiscal!$G$4:$G$2504),0)),\"\")","v":""},{"$f":"SUMIFS(Nota_Fiscal!I94:I2594,Nota_Fiscal!G94:G2594,Tabela1[[#This Row],[Nome]])","v":0},{"$f":"SUMIFS(Saída!$F$4:$F$1000,Saída!E$4:E$1000,Tabela1[[#This Row],[Nome]])","v":0}]
[{"$f":"IFERROR(INDEX(Nota_Fiscal!$G$4:$G$2504,MATCH(0,COUNTIF($A$3:A94,Nota_Fiscal!$G$4:$G$2504),0)),\"\")","v":""},{"$f":"SUMIFS(Nota_Fiscal!I95:I2595,Nota_Fiscal!G95:G2595,Tabela1[[#This Row],[Nome]])","v":0},{"$f":"SUMIFS(Saída!$F$4:$F$1000,Saída!E$4:E$1000,Tabela1[[#This Row],[Nome]])","v":0}]
[{"$f":"IFERROR(INDEX(Nota_Fiscal!$G$4:$G$2504,MATCH(0,COUNTIF($A$3:A95,Nota_Fiscal!$G$4:$G$2504),0)),\"\")","v":""},{"$f":"SUMIFS(Nota_Fiscal!I96:I2596,Nota_Fiscal!G96:G2596,Tabela1[[#This Row],[Nome]])","v":0},{"$f":"SUMIFS(Saída!$F$4:$F$1000,Saída!E$4:E$1000,Tabela1[[#This Row],[Nome]])","v":0}]
[{"$f":"IFERROR(INDEX(Nota_Fiscal!$G$4:$G$2504,MATCH(0,COUNTIF($A$3:A96,Nota_Fiscal!$G$4:$G$2504),0)),\"\")","v":""},{"$f":"SUMIFS(Nota_Fiscal!I97:I2597,Nota_Fiscal!G97:G2597,Tabela1[[#This Row],[Nome]])","v":0},{"$f":"SUMIFS(Saída!$F$4:$F$1000,Saída!E$4:E$1000,Tabela1[[#This Row],[Nome]])","v":0}]
[{"$f":"IFERROR(INDEX(Nota_Fiscal!$G$4:$G$2504,MATCH(0,COUNTIF($A$3:A97,Nota_Fiscal!$G$4:$G$2504),0)),\"\")","v":""},{"$f":"SUMIFS(Nota_Fiscal!I98:I2598,Nota_Fiscal!G98:G2598,Tabela1[[#This Row],[Nome]])","v":0},{"$f":"SUMIFS(Saída!$F$4:$F$1000,Saída!E$4:E$1000,Tabela1[[#This Row],[Nome]])","v":0}]
[{"$f":"IFERROR(INDEX(Nota_Fiscal!$G$4:$G$2504,MATCH(0,COUNTIF($A$3:A98,Nota_Fiscal!$G$4:$G$2504),0)),\"\")","v":""},{"$f":"SUMIFS(Nota_Fiscal!I99:I2599,Nota_Fiscal!G99:G2599,Tabela1[[#This Row],[Nome]])","v":0},{"$f":"SUMIFS(Saída!$F$4:$F$1000,Saída!E$4:E$1000,Tabela1[[#This Row],[Nome]])","v":0}]
[{"$f":"IFERROR(INDEX(Nota_Fiscal!$G$4:$G$2504,MATCH(0,COUNTIF($A$3:A99,Nota_Fiscal!$G$4:$G$2504),0)),\"\")","v":""},{"$f":"SUMIFS(Nota_Fiscal!I100:I2600,Nota_Fiscal!G100:G2600,Tabela1[[#This Row],[Nome]])","v":0},{"$f":"SUMIFS(Saída!$F$4:$F$1000,Saída!E$4:E$1000,Tabela1[[#This Row],[Nome]])","v":0}]
[{"$f":"IFERROR(INDEX(Nota_Fiscal!$G$4:$G$2504,MATCH(0,COUNTIF($A$3:A100,Nota_Fiscal!$G$4:$G$2504),0)),\"\")","v":""},{"$f":"SUMIFS(Nota_Fiscal!I101:I2601,Nota_Fiscal!G101:G2601,Tabela1[[#This Row],[Nome]])","v":0},{"$f":"SUMIFS(Saída!$F$4:$F$1000,Saída!E$4:E$1000,Tabela1[[#This Row],[Nome]])","v":0}]
[{"$f":"IFERROR(INDEX(Nota_Fiscal!$G$4:$G$2504,MATCH(0,COUNTIF($A$3:A101,Nota_Fiscal!$G$4:$G$2504),0)),\"\")","v":""},{"$f":"SUMIFS(Nota_Fiscal!I102:I2602,Nota_Fiscal!G102:G2602,Tabela1[[#This Row],[Nome]])","v":0},{"$f":"SUMIFS(Saída!$F$4:$F$1000,Saída!E$4:E$1000,Tabela1[[#This Row],[Nome]])","v":0}]
[{"$f":"IFERROR(INDEX(Nota_Fiscal!$G$4:$G$2504,MATCH(0,COUNTIF($A$3:A102,Nota_Fiscal!$G$4:$G$2504),0)),\"\")","v":""},{"$f":"SUMIFS(Nota_Fiscal!I103:I2603,Nota_Fiscal!G103:G2603,Tabela1[[#This Row],[Nome]])","v":0},{"$f":"SUMIFS(Saída!$F$4:$F$1000,Saída!E$4:E$1000,Tabela1[[#This Row],[Nome]])","v":0}]
[{"$f":"IFERROR(INDEX(Nota_Fiscal!$G$4:$G$2504,MATCH(0,COUNTIF($A$3:A103,Nota_Fiscal!$G$4:$G$2504),0)),\"\")","v":""},{"$f":"SUMIFS(Nota_Fiscal!I104:I2604,Nota_Fiscal!G104:G2604,Tabela1[[#This Row],[Nome]])","v":0},{"$f":"SUMIFS(Saída!$F$4:$F$1000,Saída!E$4:E$1000,Tabela1[[#This Row],[Nome]])","v":0}]
[{"$f":"IFERROR(INDEX(Nota_Fiscal!$G$4:$G$2504,MATCH(0,COUNTIF($A$3:A104,Nota_Fiscal!$G$4:$G$2504),0)),\"\")","v":""},{"$f":"SUMIFS(Nota_Fiscal!I105:I2605,Nota_Fiscal!G105:G2605,Tabela1[[#This Row],[Nome]])","v":0},{"$f":"SUMIFS(Saída!$F$4:$F$1000,Saída!E$4:E$1000,Tabela1[[#This Row],[Nome]])","v":0}]
[{"$f":"IFERROR(INDEX(Nota_Fiscal!$G$4:$G$2504,MATCH(0,COUNTIF($A$3:A105,Nota_Fiscal!$G$4:$G$2504),0)),\"\")","v":""},{"$f":"SUMIFS(Nota_Fiscal!I106:I2606,Nota_Fiscal!G106:G2606,Tabela1[[#This Row],[Nome]])","v":0},{"$f":"SUMIFS(Saída!$F$4:$F$1000,Saída!E$4:E$1000,Tabela1[[#This Row],[Nome]])","v":0}]
[{"$f":"IFERROR(INDEX(Nota_Fiscal!$G$4:$G$2504,MATCH(0,COUNTIF($A$3:A106,Nota_Fiscal!$G$4:$G$2504),0)),\"\")","v":""},{"$f":"SUMIFS(Nota_Fiscal!I107:I2607,Nota_Fiscal!G107:G2607,Tabela1[[#This Row],[Nome]])","v":0},{"$f":"SUMIFS(Saída!$F$4:$F$1000,Saída!E$4:E$1000,Tabela1[[#This Row],[Nome]])","v":0}]
[{"$f":"IFERROR(INDEX(Nota_Fiscal!$G$4:$G$2504,MATCH(0,COUNTIF($A$3:A107,Nota_Fiscal!$G$4:$G$2504),0)),\"\")","v":""},{"$f":"SUMIFS(Nota_Fiscal!I108:I2608,Nota_Fiscal!G108:G2608,Tabela1[[#This Row],[Nome]])","v":0},{"$f":"SUMIFS(Saída!$F$4:$F$1000,Saída!E$4:E$1000,Tabela1[[#This Row],[Nome]])","v":0}]
[{"$f":"IFERROR(INDEX(Nota_Fiscal!$G$4:$G$2504,MATCH(0,COUNTIF($A$3:A108,Nota_Fiscal!$G$4:$G$2504),0)),\"\")","v":""},{"$f":"SUMIFS(Nota_Fiscal!I109:I2609,Nota_Fiscal!G109:G2609,Tabela1[[#This Row],[Nome]])","v":0},{"$f":"SUMIFS(Saída!$F$4:$F$1000,Saída!E$4:E$1000,Tabela1[[#This Row],[Nome]])","v":0}]
[{"$f":"IFERROR(INDEX(Nota_Fiscal!$G$4:$G$2504,MATCH(0,COUNTIF($A$3:A109,Nota_Fiscal!$G$4:$G$2504),0)),\"\")","v":""},{"$f":"SUMIFS(Nota_Fiscal!I110:I2610,Nota_Fiscal!G110:G2610,Tabela1[[#This Row],[Nome]])","v":0},{"$f":"SUMIFS(Saída!$F$4:$F$1000,Saída!E$4:E$1000,Tabela1[[#This Row],[Nome]])","v":0}]
[{"$f":"IFERROR(INDEX(Nota_Fiscal!$G$4:$G$2504,MATCH(0,COUNTIF($A$3:A110,Nota_Fiscal!$G$4:$G$2504),0)),\"\")","v":""},{"$f":"SUMIFS(Nota_Fiscal!I111:I2611,Nota_Fiscal!G111:G2611,Tabela1[[#This Row],[Nome]])","v":0},{"$f":"SUMIFS(Saída!$F$4:$F$1000,Saída!E$4:E$1000,Tabela1[[#This Row],[Nome]])","v":0}]
[{"$f":"IFERROR(INDEX(Nota_Fiscal!$G$4:$G$2504,MATCH(0,COUNTIF($A$3:A111,Nota_Fiscal!$G$4:$G$2504),0)),\"\")","v":""},{"$f":"SUMIFS(Nota_Fiscal!I112:I2612,Nota_Fiscal!G112:G2612,Tabela1[[#This Row],[Nome]])","v":0},{"$f":"SUMIFS(Saída!$F$4:$F$1000,Saída!E$4:E$1000,Tabela1[[#This Row],[Nome]])","v":0}]
[{"$f":"IFERROR(INDEX(Nota_Fiscal!$G$4:$G$2504,MATCH(0,COUNTIF($A$3:A112,Nota_Fiscal!$G$4:$G$2504),0)),\"\")","v":""},{"$f":"SUMIFS(Nota_Fiscal!I113:I2613,Nota_Fiscal!G113:G2613,Tabela1[[#This Row],[Nome]])","v":0},{"$f":"SUMIFS(Saída!$F$4:$F$1000,Saída!E$4:E$1000,Tabela1[[#This Row],[Nome]])","v":0}]
[{"$f":"IFERROR(INDEX(Nota_Fiscal!$G$4:$G$2504,MATCH(0,COUNTIF($A$3:A113,Nota_Fiscal!$G$4:$G$2504),0)),\"\")","v":""},{"$f":"SUMIFS(Nota_Fiscal!I114:I2614,Nota_Fiscal!G114:G2614,Tabela1[[#This Row],[Nome]])","v":0},{"$f":"SUMIFS(Saída!$F$4:$F$1000,Saída!E$4:E$1000,Tabela1[[#This Row],[Nome]])","v":0}]
[{"$f":"IFERROR(INDEX(Nota_Fiscal!$G$4:$G$2504,MATCH(0,COUNTIF($A$3:A114,Nota_Fiscal!$G$4:$G$2504),0)),\"\")","v":""},{"$f":"SUMIFS(Nota_Fiscal!I115:I2615,Nota_Fiscal!G115:G2615,Tabela1[[#This Row],[Nome]])","v":0},{"$f":"SUMIFS(Saída!$F$4:$F$1000,Saída!E$4:E$1000,Tabela1[[#This Row],[Nome]])","v":0}]
[{"$f":"IFERROR(INDEX(Nota_Fiscal!$G$4:$G$2504,MATCH(0,COUNTIF($A$3:A115,Nota_Fiscal!$G$4:$G$2504),0)),\"\")","v":""},{"$f":"SUMIFS(Nota_Fiscal!I116:I2616,Nota_Fiscal!G116:G2616,Tabela1[[#This Row],[Nome]])","v":0},{"$f":"SUMIFS(Saída!$F$4:$F$1000,Saída!E$4:E$1000,Tabela1[[#This Row],[Nome]])","v":0}]
[{"$f":"IFERROR(INDEX(Nota_Fiscal!$G$4:$G$2504,MATCH(0,COUNTIF($A$3:A116,Nota_Fiscal!$G$4:$G$2504),0)),\"\")","v":""},{"$f":"SUMIFS(Nota_Fiscal!I117:I2617,Nota_Fiscal!G117:G2617,Tabela1[[#This Row],[Nome]])","v":0},{"$f":"SUMIFS(Saída!$F$4:$F$1000,Saída!E$4:E$1000,Tabela1[[#This Row],[Nome]])","v":0}]
[{"$f":"IFERROR(INDEX(Nota_Fiscal!$G$4:$G$2504,MATCH(0,COUNTIF($A$3:A117,Nota_Fiscal!$G$4:$G$2504),0)),\"\")","v":""},{"$f":"SUMIFS(Nota_Fiscal!I118:I2618,Nota_Fiscal!G118:G2618,Tabela1[[#This Row],[Nome]])","v":0},{"$f":"SUMIFS(Saída!$F$4:$F$1000,Saída!E$4:E$1000,Tabela1[[#This Row],[Nome]])","v":0}]
[{"$f":"IFERROR(INDEX(Nota_Fiscal!$G$4:$G$2504,MATCH(0,COUNTIF($A$3:A118,Nota_Fiscal!$G$4:$G$2504),0)),\"\")","v":""},{"$f":"SUMIFS(Nota_Fiscal!I119:I2619,Nota_Fiscal!G119:G2619,Tabela1[[#This Row],[Nome]])","v":0},{"$f":"SUMIFS(Saída!$F$4:$F$1000,Saída!E$4:E$1000,Tabela1[[#This Row],[Nome]])","v":0}]
[{"$f":"IFERROR(INDEX(Nota_Fiscal!$G$4:$G$2504,MATCH(0,COUNTIF($A$3:A119,Nota_Fiscal!$G$4:$G$2504),0)),\"\")","v":""},{"$f":"SUMIFS(Nota_Fiscal!I120:I2620,Nota_Fiscal!G120:G2620,Tabela1[[#This Row],[Nome]])","v":0},{"$f":"SUMIFS(Saída!$F$4:$F$1000,Saída!E$4:E$1000,Tabela1[[#This Row],[Nome]])","v":0}]
[{"$f":"IFERROR(INDEX(Nota_Fiscal!$G$4:$G$2504,MATCH(0,COUNTIF($A$3:A120,Nota_Fiscal!$G$4:$G$2504),0)),\"\")","v":""},{"$f":"SUMIFS(Nota_Fiscal!I121:I2621,Nota_Fiscal!G121:G2621,Tabela1[[#This Row],[Nome]])","v":0},{"$f":"SUMIFS(Saída!$F$4:$F$1000,Saída!E$4:E$1000,Tabela1[[#This Row],[Nome]])","v":0}]
[{"$f":"IFERROR(INDEX(Nota_Fiscal!$G$4:$G$2504,MATCH(0,COUNTIF($A$3:A121,Nota_Fiscal!$G$4:$G$2504),0)),\"\")","v":""},{"$f":"SUMIFS(Nota_Fiscal!I122:I2622,Nota_Fiscal!G122:G2622,Tabela1[[#This Row],[Nome]])","v":0},{"$f":"SUMIFS(Saída!$F$4:$F$1000,Saída!E$4:E$1000,Tabela1[[#This Row],[Nome]])","v":0}]
[{"$f":"IFERROR(INDEX(Nota_Fiscal!$G$4:$G$2504,MATCH(0,COUNTIF($A$3:A122,Nota_Fiscal!$G$4:$G$2504),0)),\"\")","v":""},{"$f":"SUMIFS(Nota_Fiscal!I123:I2623,Nota_Fiscal!G123:G2623,Tabela1[[#This Row],[Nome]])","v":0},{"$f":"SUMIFS(Saída!$F$4:$F$1000,Saída!E$4:E$1000,Tabela1[[#This Row],[Nome]])","v":0}]
[{"$f":"IFERROR(INDEX(Nota_Fiscal!$G$4:$G$2504,MATCH(0,COUNTIF($A$3:A123,Nota_Fiscal!$G$4:$G$2504),0)),\"\")","v":""},{"$f":"SUMIFS(Nota_Fiscal!I124:I2624,Nota_Fiscal!G124:G2624,Tabela1[[#This Row],[Nome]])","v":0},{"$f":"SUMIFS(Saída!$F$4:$F$1000,Saída!E$4:E$1000,Tabela1[[#This Row],[Nome]])","v":0}]
[{"$f":"IFERROR(INDEX(Nota_Fiscal!$G$4:$G$2504,MATCH(0,COUNTIF($A$3:A124,Nota_Fiscal!$G$4:$G$2504),0)),\"\")","v":""},{"$f":"SUMIFS(Nota_Fiscal!I125:I2625,Nota_Fiscal!G125:G2625,Tabela1[[#This Row],[Nome]])","v":0},{"$f":"SUMIFS(Saída!$F$4:$F$1000,Saída!E$4:E$1000,Tabela1[[#This Row],[Nome]])","v":0}]
[{"$f":"IFERROR(INDEX(Nota_Fiscal!$G$4:$G$2504,MATCH(0,COUNTIF($A$3:A125,Nota_Fiscal!$G$4:$G$2504),0)),\"\")","v":""},{"$f":"SUMIFS(Nota_Fiscal!I126:I2626,Nota_Fiscal!G126:G2626,Tabela1[[#This Row],[Nome]])","v":0},{"$f":"SUMIFS(Saída!$F$4:$F$1000,Saída!E$4:E$1000,Tabela1[[#This Row],[Nome]])","v":0}]
[{"$f":"IFERROR(INDEX(Nota_Fiscal!$G$4:$G$2504,MATCH(0,COUNTIF($A$3:A126,Nota_Fiscal!$G$4:$G$2504),0)),\"\")","v":""},{"$f":"SUMIFS(Nota_Fiscal!I127:I2627,Nota_Fiscal!G127:G2627,Tabela1[[#This Row],[Nome]])","v":0},{"$f":"SUMIFS(Saída!$F$4:$F$1000,Saída!E$4:E$1000,Tabela1[[#This Row],[Nome]])","v":0}]
[{"$f":"IFERROR(INDEX(Nota_Fiscal!$G$4:$G$2504,MATCH(0,COUNTIF($A$3:A127,Nota_Fiscal!$G$4:$G$2504),0)),\"\")","v":""},{"$f":"SUMIFS(Nota_Fiscal!I128:I2628,Nota_Fiscal!G128:G2628,Tabela1[[#This Row],[Nome]])","v":0},{"$f":"SUMIFS(Saída!$F$4:$F$1000,Saída!E$4:E$1000,Tabela1[[#This Row],[Nome]])","v":0}]
[{"$f":"IFERROR(INDEX(Nota_Fiscal!$G$4:$G$2504,MATCH(0,COUNTIF($A$3:A128,Nota_Fiscal!$G$4:$G$2504),0)),\"\")","v":""},{"$f":"SUMIFS(Nota_Fiscal!I129:I2629,Nota_Fiscal!G129:G2629,Tabela1[[#This Row],[Nome]])","v":0},{"$f":"SUMIFS(Saída!$F$4:$F$1000,Saída!E$4:E$1000,Tabela1[[#This Row],[Nome]])","v":0}]
[{"$f":"IFERROR(INDEX(Nota_Fiscal!$G$4:$G$2504,MATCH(0,COUNTIF($A$3:A129,Nota_Fiscal!$G$4:$G$2504),0)),\"\")","v":""},{"$f":"SUMIFS(Nota_Fiscal!I130:I2630,Nota_Fiscal!G130:G2630,Tabela1[[#This Row],[Nome]])","v":0},{"$f":"SUMIFS(Saída!$F$4:$F$1000,Saída!E$4:E$1000,Tabela1[[#This Row],[Nome]])","v":0}]
[{"$f":"IFERROR(INDEX(Nota_Fiscal!$G$4:$G$2504,MATCH(0,COUNTIF($A$3:A130,Nota_Fiscal!$G$4:$G$2504),0)),\"\")","v":""},{"$f":"SUMIFS(Nota_Fiscal!I131:I2631,Nota_Fiscal!G131:G2631,Tabela1[[#This Row],[Nome]])","v":0},{"$f":"SUMIFS(Saída!$F$4:$F$1000,Saída!E$4:E$1000,Tabela1[[#This Row],[Nome]])","v":0}]
[{"$f":"IFERROR(INDEX(Nota_Fiscal!$G$4:$G$2504,MATCH(0,COUNTIF($A$3:A131,Nota_Fiscal!$G$4:$G$2504),0)),\"\")","v":""},{"$f":"SUMIFS(Nota_Fiscal!I132:I2632,Nota_Fiscal!G132:G2632,Tabela1[[#This Row],[Nome]])","v":0},{"$f":"SUMIFS(Saída!$F$4:$F$1000,Saída!E$4:E$1000,Tabela1[[#This Row],[Nome]])","v":0}]
[{"$f":"IFERROR(INDEX(Nota_Fiscal!$G$4:$G$2504,MATCH(0,COUNTIF($A$3:A132,Nota_Fiscal!$G$4:$G$2504),0)),\"\")","v":""},{"$f":"SUMIFS(Nota_Fiscal!I133:I2633,Nota_Fiscal!G133:G2633,Tabela1[[#This Row],[Nome]])","v":0},{"$f":"SUMIFS(Saída!$F$4:$F$1000,Saída!E$4:E$1000,Tabela1[[#This Row],[Nome]])","v":0}]
[{"$f":"IFERROR(INDEX(Nota_Fiscal!$G$4:$G$2504,MATCH(0,COUNTIF($A$3:A133,Nota_Fiscal!$G$4:$G$2504),0)),\"\")","v":""},{"$f":"SUMIFS(Nota_Fiscal!I134:I2634,Nota_Fiscal!G134:G2634,Tabela1[[#This Row],[Nome]])","v":0},{"$f":"SUMIFS(Saída!$F$4:$F$1000,Saída!E$4:E$1000,Tabela1[[#This Row],[Nome]])","v":0}]

{"sheet":"Saída","index":8,"n_rows":8168,"n_cols":8,"rows_kept":8168,"cut":false,"hidden":false,"merged":[[1,0,1,6],[0,0,0,6]]}
["CADASTRO DAS SAÍDAS DE INSUMOS"]
[]
["INSUMO","TALHÃO","UN","DATA","PRODUTO","QTD","ATIVIDADE"]
["Defensivo Granulado",6,{"$f":"IFERROR(VLOOKUP(A4,Insumos!A:B,2,FALSE),\"\")","v":"Kg"},"2023-08-04","STRINGER WG",220,"dessecação",{"$f":"IFERROR(VLOOKUP(E4,Nota_Fiscal!$G$4:$L$1000,6,0),\"\")","v":"herbicida"}]
["Defensivo Galão",6,{"$f":"IFERROR(VLOOKUP(A5,Insumos!A:B,2,FALSE),\"\")","v":"Lt"},"2023-08-04","TRICLON",165,"dessecação",{"$f":"IFERROR(VLOOKUP(E5,Nota_Fiscal!$G$4:$L$1000,6,0),\"\")","v":"herbicida"}]
["Defensivo Galão",6,{"$f":"IFERROR(VLOOKUP(A6,Insumos!A:B,2,FALSE),\"\")","v":"Lt"},"2023-08-04","IHARA GOLD",30,"dessecação",{"$f":"IFERROR(VLOOKUP(E6,Nota_Fiscal!$G$4:$L$1000,6,0),\"\")","v":"óleo"}]
["Defensivo Galão",6,{"$f":"IFERROR(VLOOKUP(A7,Insumos!A:B,2,FALSE),\"\")","v":"Lt"},"2023-08-04","AURORA",8,"dessecação",{"$f":"IFERROR(VLOOKUP(E7,Nota_Fiscal!$G$4:$L$1000,6,0),\"\")","v":""}]
["Defensivo Galão",6,{"$f":"IFERROR(VLOOKUP(A8,Insumos!A:B,2,FALSE),\"\")","v":"Lt"},"2023-08-15","OFF ROAD",220,"Sequencial",{"$f":"IFERROR(VLOOKUP(E8,Nota_Fiscal!$G$4:$L$1000,6,0),\"\")","v":"herbicida"}]
["Defensivo Galão",6,{"$f":"IFERROR(VLOOKUP(A9,Insumos!A:B,2,FALSE),\"\")","v":"Lt"},"2023-08-15","IHARA GOLD",30,"Sequencial",{"$f":"IFERROR(VLOOKUP(E9,Nota_Fiscal!$G$4:$L$1000,6,0),\"\")","v":"óleo"}]
["Defensivo Granulado",6,{"$f":"IFERROR(VLOOKUP(A10,Insumos!A:B,2,FALSE),\"\")","v":"Kg"},"2023-08-23","STRINGER WG",120,"dessecação",{"$f":"IFERROR(VLOOKUP(E10,Nota_Fiscal!$G$4:$L$1000,6,0),\"\")","v":"herbicida"}]
["Defensivo Galão",6,{"$f":"IFERROR(VLOOKUP(A11,Insumos!A:B,2,FALSE),\"\")","v":"Lt"},"2023-08-23","TRICLON",90,"dessecação",{"$f":"IFERROR(VLOOKUP(E11,Nota_Fiscal!$G$4:$L$1000,6,0),\"\")","v":"herbicida"}]
["Defensivo Galão",6,{"$f":"IFERROR(VLOOKUP(A12,Insumos!A:B,2,FALSE),\"\")","v":"Lt"},"2023-08-23","AURORA",4,"dessecação",{"$f":"IFERROR(VLOOKUP(E12,Nota_Fiscal!$G$4:$L$1000,6,0),\"\")","v":""}]
["Defensivo Galão",6,{"$f":"IFERROR(VLOOKUP(A13,Insumos!A:B,2,FALSE),\"\")","v":"Lt"},"2023-08-23","IHARA GOLD",20,"dessecação",{"$f":"IFERROR(VLOOKUP(E13,Nota_Fiscal!$G$4:$L$1000,6,0),\"\")","v":"óleo"}]
["Defensivo Granulado",1,{"$f":"IFERROR(VLOOKUP(A14,Insumos!A:B,2,FALSE),\"\")","v":"Kg"},"2023-08-24","STRINGER WG",155,"dessecação",{"$f":"IFERROR(VLOOKUP(E14,Nota_Fiscal!$G$4:$L$1000,6,0),\"\")","v":"herbicida"}]
[null,null,{"$f":"IFERROR(VLOOKUP(A15,Insumos!A:B,2,FALSE),\"\")","v":""},null,null,null,null,{"$f":"IFERROR(VLOOKUP(E15,Nota_Fiscal!$G$4:$L$1000,6,0),\"\")","v":""}]
[null,null,{"$f":"IFERROR(VLOOKUP(A16,Insumos!A:B,2,FALSE),\"\")","v":""},null,null,null,null,{"$f":"IFERROR(VLOOKUP(E16,Nota_Fiscal!$G$4:$L$1000,6,0),\"\")","v":""}]
[null,null,{"$f":"IFERROR(VLOOKUP(A17,Insumos!A:B,2,FALSE),\"\")","v":""},null,null,null,null,{"$f":"IFERROR(VLOOKUP(E17,Nota_Fiscal!$G$4:$L$1000,6,0),\"\")","v":""}]
[null,null,{"$f":"IFERROR(VLOOKUP(A18,Insumos!A:B,2,FALSE),\"\")","v":""},null,null,null,null,{"$f":"IFERROR(VLOOKUP(E18,Nota_Fiscal!$G$4:$L$1000,6,0),\"\")","v":""}]
[null,null,{"$f":"IFERROR(VLOOKUP(A19,Insumos!A:B,2,FALSE),\"\")","v":""},null,null,null,null,{"$f":"IFERROR(VLOOKUP(E19,Nota_Fiscal!$G$4:$L$1000,6,0),\"\")","v":""}]
[null,null,{"$f":"IFERROR(VLOOKUP(A20,Insumos!A:B,2,FALSE),\"\")","v":""},null,null,null,null,{"$f":"IFERROR(VLOOKUP(E20,Nota_Fiscal!$G$4:$L$1000,6,0),\"\")","v":""}]
[null,null,{"$f":"IFERROR(VLOOKUP(A21,Insumos!A:B,2,FALSE),\"\")","v":""},null,null,null,null,{"$f":"IFERROR(VLOOKUP(E21,Nota_Fiscal!$G$4:$L$1000,6,0),\"\")","v":""}]
[null,null,{"$f":"IFERROR(VLOOKUP(A22,Insumos!A:B,2,FALSE),\"\")","v":""},null,null,null,null,{"$f":"IFERROR(VLOOKUP(E22,Nota_Fiscal!$G$4:$L$1000,6,0),\"\")","v":""}]
[null,null,{"$f":"IFERROR(VLOOKUP(A23,Insumos!A:B,2,FALSE),\"\")","v":""},null,null,null,null,{"$f":"IFERROR(VLOOKUP(E23,Nota_Fiscal!$G$4:$L$1000,6,0),\"\")","v":""}]
[null,null,{"$f":"IFERROR(VLOOKUP(A24,Insumos!A:B,2,FALSE),\"\")","v":""},null,null,null,null,{"$f":"IFERROR(VLOOKUP(E24,Nota_Fiscal!$G$4:$L$1000,6,0),\"\")","v":""}]
[null,null,{"$f":"IFERROR(VLOOKUP(A25,Insumos!A:B,2,FALSE),\"\")","v":""},null,null,null,null,{"$f":"IFERROR(VLOOKUP(E25,Nota_Fiscal!$G$4:$L$1000,6,0),\"\")","v":""}]
[null,null,{"$f":"IFERROR(VLOOKUP(A26,Insumos!A:B,2,FALSE),\"\")","v":""},null,null,null,null,{"$f":"IFERROR(VLOOKUP(E26,Nota_Fiscal!$G$4:$L$1000,6,0),\"\")","v":""}]
[null,null,{"$f":"IFERROR(VLOOKUP(A27,Insumos!A:B,2,FALSE),\"\")","v":""},null,null,null,null,{"$f":"IFERROR(VLOOKUP(E27,Nota_Fiscal!$G$4:$L$1000,6,0),\"\")","v":""}]
[null,null,{"$f":"IFERROR(VLOOKUP(A28,Insumos!A:B,2,FALSE),\"\")","v":""},null,null,null,null,{"$f":"IFERROR(VLOOKUP(E28,Nota_Fiscal!$G$4:$L$1000,6,0),\"\")","v":""}]
[null,null,{"$f":"IFERROR(VLOOKUP(A29,Insumos!A:B,2,FALSE),\"\")","v":""},null,null,null,null,{"$f":"IFERROR(VLOOKUP(E29,Nota_Fiscal!$G$4:$L$1000,6,0),\"\")","v":""}]
[null,null,{"$f":"IFERROR(VLOOKUP(A30,Insumos!A:B,2,FALSE),\"\")","v":""},null,null,null,null,{"$f":"IFERROR(VLOOKUP(E30,Nota_Fiscal!$G$4:$L$1000,6,0),\"\")","v":""}]
[null,null,{"$f":"IFERROR(VLOOKUP(A31,Insumos!A:B,2,FALSE),\"\")","v":""},null,null,null,null,{"$f":"IFERROR(VLOOKUP(E31,Nota_Fiscal!$G$4:$L$1000,6,0),\"\")","v":""}]
[null,null,{"$f":"IFERROR(VLOOKUP(A32,Insumos!A:B,2,FALSE),\"\")","v":""},null,null,null,null,{"$f":"IFERROR(VLOOKUP(E32,Nota_Fiscal!$G$4:$L$1000,6,0),\"\")","v":""}]
[null,null,{"$f":"IFERROR(VLOOKUP(A33,Insumos!A:B,2,FALSE),\"\")","v":""},null,null,null,null,{"$f":"IFERROR(VLOOKUP(E33,Nota_Fiscal!$G$4:$L$1000,6,0),\"\")","v":""}]
[null,null,{"$f":"IFERROR(VLOOKUP(A34,Insumos!A:B,2,FALSE),\"\")","v":""},null,null,null,null,{"$f":"IFERROR(VLOOKUP(E34,Nota_Fiscal!$G$4:$L$1000,6,0),\"\")","v":""}]
[null,null,{"$f":"IFERROR(VLOOKUP(A35,Insumos!A:B,2,FALSE),\"\")","v":""},null,null,null,null,{"$f":"IFERROR(VLOOKUP(E35,Nota_Fiscal!$G$4:$L$1000,6,0),\"\")","v":""}]
[null,null,{"$f":"IFERROR(VLOOKUP(A36,Insumos!A:B,2,FALSE),\"\")","v":""},null,null,null,null,{"$f":"IFERROR(VLOOKUP(E36,Nota_Fiscal!$G$4:$L$1000,6,0),\"\")","v":""}]
[null,null,{"$f":"IFERROR(VLOOKUP(A37,Insumos!A:B,2,FALSE),\"\")","v":""},null,null,null,null,{"$f":"IFERROR(VLOOKUP(E37,Nota_Fiscal!$G$4:$L$1000,6,0),\"\")","v":""}]
[null,null,{"$f":"IFERROR(VLOOKUP(A38,Insumos!A:B,2,FALSE),\"\")","v":""},null,null,null,null,{"$f":"IFERROR(VLOOKUP(E38,Nota_Fiscal!$G$4:$L$1000,6,0),\"\")","v":""}]
[null,null,{"$f":"IFERROR(VLOOKUP(A39,Insumos!A:B,2,FALSE),\"\")","v":""},null,null,null,null,{"$f":"IFERROR(VLOOKUP(E39,Nota_Fiscal!$G$4:$L$1000,6,0),\"\")","v":""}]
[null,null,{"$f":"IFERROR(VLOOKUP(A40,Insumos!A:B,2,FALSE),\"\")","v":""},null,null,null,null,{"$f":"IFERROR(VLOOKUP(E40,Nota_Fiscal!$G$4:$L$1000,6,0),\"\")","v":""}]
[null,null,{"$f":"IFERROR(VLOOKUP(A41,Insumos!A:B,2,FALSE),\"\")","v":""},null,null,null,null,{"$f":"IFERROR(VLOOKUP(E41,Nota_Fiscal!$G$4:$L$1000,6,0),\"\")","v":""}]
[null,null,{"$f":"IFERROR(VLOOKUP(A42,Insumos!A:B,2,FALSE),\"\")","v":""},null,null,null,null,{"$f":"IFERROR(VLOOKUP(E42,Nota_Fiscal!$G$4:$L$1000,6,0),\"\")","v":""}]
[null,null,{"$f":"IFERROR(VLOOKUP(A43,Insumos!A:B,2,FALSE),\"\")","v":""},null,null,null,null,{"$f":"IFERROR(VLOOKUP(E43,Nota_Fiscal!$G$4:$L$1000,6,0),\"\")","v":""}]
[null,null,{"$f":"IFERROR(VLOOKUP(A44,Insumos!A:B,2,FALSE),\"\")","v":""},null,null,null,null,{"$f":"IFERROR(VLOOKUP(E44,Nota_Fiscal!$G$4:$L$1000,6,0),\"\")","v":""}]
[null,null,{"$f":"IFERROR(VLOOKUP(A45,Insumos!A:B,2,FALSE),\"\")","v":""},null,null,null,null,{"$f":"IFERROR(VLOOKUP(E45,Nota_Fiscal!$G$4:$L$1000,6,0),\"\")","v":""}]
[null,null,{"$f":"IFERROR(VLOOKUP(A46,Insumos!A:B,2,FALSE),\"\")","v":""},null,null,null,null,{"$f":"IFERROR(VLOOKUP(E46,Nota_Fiscal!$G$4:$L$1000,6,0),\"\")","v":""}]
[null,null,{"$f":"IFERROR(VLOOKUP(A47,Insumos!A:B,2,FALSE),\"\")","v":""},null,null,null,null,{"$f":"IFERROR(VLOOKUP(E47,Nota_Fiscal!$G$4:$L$1000,6,0),\"\")","v":""}]
[null,null,{"$f":"IFERROR(VLOOKUP(A48,Insumos!A:B,2,FALSE),\"\")","v":""},null,null,null,null,{"$f":"IFERROR(VLOOKUP(E48,Nota_Fiscal!$G$4:$L$1000,6,0),\"\")","v":""}]
[null,null,{"$f":"IFERROR(VLOOKUP(A49,Insumos!A:B,2,FALSE),\"\")","v":""},null,null,null,null,{"$f":"IFERROR(VLOOKUP(E49,Nota_Fiscal!$G$4:$L$1000,6,0),\"\")","v":""}]
[null,null,{"$f":"IFERROR(VLOOKUP(A50,Insumos!A:B,2,FALSE),\"\")","v":""},null,null,null,null,{"$f":"IFERROR(VLOOKUP(E50,Nota_Fiscal!$G$4:$L$1000,6,0),\"\")","v":""}]
[null,null,{"$f":"IFERROR(VLOOKUP(A51,Insumos!A:B,2,FALSE),\"\")","v":""},null,null,null,null,{"$f":"IFERROR(VLOOKUP(E51,Nota_Fiscal!$G$4:$L$1000,6,0),\"\")","v":""}]
[null,null,{"$f":"IFERROR(VLOOKUP(A52,Insumos!A:B,2,FALSE),\"\")","v":""},null,null,null,null,{"$f":"IFERROR(VLOOKUP(E52,Nota_Fiscal!$G$4:$L$1000,6,0),\"\")","v":""}]
[null,null,{"$f":"IFERROR(VLOOKUP(A53,Insumos!A:B,2,FALSE),\"\")","v":""},null,null,null,null,{"$f":"IFERROR(VLOOKUP(E53,Nota_Fiscal!$G$4:$L$1000,6,0),\"\")","v":""}]
[null,null,{"$f":"IFERROR(VLOOKUP(A54,Insumos!A:B,2,FALSE),\"\")","v":""},null,null,null,null,{"$f":"IFERROR(VLOOKUP(E54,Nota_Fiscal!$G$4:$L$1000,6,0),\"\")","v":""}]
[null,null,{"$f":"IFERROR(VLOOKUP(A55,Insumos!A:B,2,FALSE),\"\")","v":""},null,null,null,null,{"$f":"IFERROR(VLOOKUP(E55,Nota_Fiscal!$G$4:$L$1000,6,0),\"\")","v":""}]
[null,null,{"$f":"IFERROR(VLOOKUP(A56,Insumos!A:B,2,FALSE),\"\")","v":""},null,null,null,null,{"$f":"IFERROR(VLOOKUP(E56,Nota_Fiscal!$G$4:$L$1000,6,0),\"\")","v":""}]
[null,null,{"$f":"IFERROR(VLOOKUP(A57,Insumos!A:B,2,FALSE),\"\")","v":""},null,null,null,null,{"$f":"IFERROR(VLOOKUP(E57,Nota_Fiscal!$G$4:$L$1000,6,0),\"\")","v":""}]
[null,null,{"$f":"IFERROR(VLOOKUP(A58,Insumos!A:B,2,FALSE),\"\")","v":""},null,null,null,null,{"$f":"IFERROR(VLOOKUP(E58,Nota_Fiscal!$G$4:$L$1000,6,0),\"\")","v":""}]
[null,null,{"$f":"IFERROR(VLOOKUP(A59,Insumos!A:B,2,FALSE),\"\")","v":""},null,null,null,null,{"$f":"IFERROR(VLOOKUP(E59,Nota_Fiscal!$G$4:$L$1000,6,0),\"\")","v":""}]
[null,null,{"$f":"IFERROR(VLOOKUP(A60,Insumos!A:B,2,FALSE),\"\")","v":""},null,null,null,null,{"$f":"IFERROR(VLOOKUP(E60,Nota_Fiscal!$G$4:$L$1000,6,0),\"\")","v":""}]
[null,null,{"$f":"IFERROR(VLOOKUP(A61,Insumos!A:B,2,FALSE),\"\")","v":""},null,null,null,null,{"$f":"IFERROR(VLOOKUP(E61,Nota_Fiscal!$G$4:$L$1000,6,0),\"\")","v":""}]
[null,null,{"$f":"IFERROR(VLOOKUP(A62,Insumos!A:B,2,FALSE),\"\")","v":""},null,null,null,null,{"$f":"IFERROR(VLOOKUP(E62,Nota_Fiscal!$G$4:$L$1000,6,0),\"\")","v":""}]
[null,null,{"$f":"IFERROR(VLOOKUP(A63,Insumos!A:B,2,FALSE),\"\")","v":""},null,null,null,null,{"$f":"IFERROR(VLOOKUP(E63,Nota_Fiscal!$G$4:$L$1000,6,0),\"\")","v":""}]
[null,null,{"$f":"IFERROR(VLOOKUP(A64,Insumos!A:B,2,FALSE),\"\")","v":""},null,null,null,null,{"$f":"IFERROR(VLOOKUP(E64,Nota_Fiscal!$G$4:$L$1000,6,0),\"\")","v":""}]
[null,null,{"$f":"IFERROR(VLOOKUP(A65,Insumos!A:B,2,FALSE),\"\")","v":""},null,null,null,null,{"$f":"IFERROR(VLOOKUP(E65,Nota_Fiscal!$G$4:$L$1000,6,0),\"\")","v":""}]
[null,null,{"$f":"IFERROR(VLOOKUP(A66,Insumos!A:B,2,FALSE),\"\")","v":""},null,null,null,null,{"$f":"IFERROR(VLOOKUP(E66,Nota_Fiscal!$G$4:$L$1000,6,0),\"\")","v":""}]
[null,null,{"$f":"IFERROR(VLOOKUP(A67,Insumos!A:B,2,FALSE),\"\")","v":""},null,null,null,null,{"$f":"IFERROR(VLOOKUP(E67,Nota_Fiscal!$G$4:$L$1000,6,0),\"\")","v":""}]
[null,null,{"$f":"IFERROR(VLOOKUP(A68,Insumos!A:B,2,FALSE),\"\")","v":""},null,null,null,null,{"$f":"IFERROR(VLOOKUP(E68,Nota_Fiscal!$G$4:$L$1000,6,0),\"\")","v":""}]
[null,null,{"$f":"IFERROR(VLOOKUP(A69,Insumos!A:B,2,FALSE),\"\")","v":""},null,null,null,null,{"$f":"IFERROR(VLOOKUP(E69,Nota_Fiscal!$G$4:$L$1000,6,0),\"\")","v":""}]
[null,null,{"$f":"IFERROR(VLOOKUP(A70,Insumos!A:B,2,FALSE),\"\")","v":""},null,null,null,null,{"$f":"IFERROR(VLOOKUP(E70,Nota_Fiscal!$G$4:$L$1000,6,0),\"\")","v":""}]
[null,null,{"$f":"IFERROR(VLOOKUP(A71,Insumos!A:B,2,FALSE),\"\")","v":""},null,null,null,null,{"$f":"IFERROR(VLOOKUP(E71,Nota_Fiscal!$G$4:$L$1000,6,0),\"\")","v":""}]
[null,null,{"$f":"IFERROR(VLOOKUP(A72,Insumos!A:B,2,FALSE),\"\")","v":""},null,null,null,null,{"$f":"IFERROR(VLOOKUP(E72,Nota_Fiscal!$G$4:$L$1000,6,0),\"\")","v":""}]
[null,null,{"$f":"IFERROR(VLOOKUP(A73,Insumos!A:B,2,FALSE),\"\")","v":""},null,null,null,null,{"$f":"IFERROR(VLOOKUP(E73,Nota_Fiscal!$G$4:$L$1000,6,0),\"\")","v":""}]
[null,null,{"$f":"IFERROR(VLOOKUP(A74,Insumos!A:B,2,FALSE),\"\")","v":""},null,null,null,null,{"$f":"IFERROR(VLOOKUP(E74,Nota_Fiscal!$G$4:$L$1000,6,0),\"\")","v":""}]
[null,null,{"$f":"IFERROR(VLOOKUP(A75,Insumos!A:B,2,FALSE),\"\")","v":""},null,null,null,null,{"$f":"IFERROR(VLOOKUP(E75,Nota_Fiscal!$G$4:$L$1000,6,0),\"\")","v":""}]
[null,null,{"$f":"IFERROR(VLOOKUP(A76,Insumos!A:B,2,FALSE),\"\")","v":""},null,null,null,null,{"$f":"IFERROR(VLOOKUP(E76,Nota_Fiscal!$G$4:$L$1000,6,0),\"\")","v":""}]
[null,null,{"$f":"IFERROR(VLOOKUP(A77,Insumos!A:B,2,FALSE),\"\")","v":""},null,null,null,null,{"$f":"IFERROR(VLOOKUP(E77,Nota_Fiscal!$G$4:$L$1000,6,0),\"\")","v":""}]
[null,null,{"$f":"IFERROR(VLOOKUP(A78,Insumos!A:B,2,FALSE),\"\")","v":""},null,null,null,null,{"$f":"IFERROR(VLOOKUP(E78,Nota_Fiscal!$G$4:$L$1000,6,0),\"\")","v":""}]
[null,null,{"$f":"IFERROR(VLOOKUP(A79,Insumos!A:B,2,FALSE),\"\")","v":""},null,null,null,null,{"$f":"IFERROR(VLOOKUP(E79,Nota_Fiscal!$G$4:$L$1000,6,0),\"\")","v":""}]
[null,null,{"$f":"IFERROR(VLOOKUP(A80,Insumos!A:B,2,FALSE),\"\")","v":""},null,null,null,null,{"$f":"IFERROR(VLOOKUP(E80,Nota_Fiscal!$G$4:$L$1000,6,0),\"\")","v":""}]
[null,null,{"$f":"IFERROR(VLOOKUP(A81,Insumos!A:B,2,FALSE),\"\")","v":""},null,null,null,null,{"$f":"IFERROR(VLOOKUP(E81,Nota_Fiscal!$G$4:$L$1000,6,0),\"\")","v":""}]
[null,null,{"$f":"IFERROR(VLOOKUP(A82,Insumos!A:B,2,FALSE),\"\")","v":""},null,null,null,null,{"$f":"IFERROR(VLOOKUP(E82,Nota_Fiscal!$G$4:$L$1000,6,0),\"\")","v":""}]
[null,null,{"$f":"IFERROR(VLOOKUP(A83,Insumos!A:B,2,FALSE),\"\")","v":""},null,null,null,null,{"$f":"IFERROR(VLOOKUP(E83,Nota_Fiscal!$G$4:$L$1000,6,0),\"\")","v":""}]
[null,null,{"$f":"IFERROR(VLOOKUP(A84,Insumos!A:B,2,FALSE),\"\")","v":""},null,null,null,null,{"$f":"IFERROR(VLOOKUP(E84,Nota_Fiscal!$G$4:$L$1000,6,0),\"\")","v":""}]
[null,null,{"$f":"IFERROR(VLOOKUP(A85,Insumos!A:B,2,FALSE),\"\")","v":""},null,null,null,null,{"$f":"IFERROR(VLOOKUP(E85,Nota_Fiscal!$G$4:$L$1000,6,0),\"\")","v":""}]
[null,null,{"$f":"IFERROR(VLOOKUP(A86,Insumos!A:B,2,FALSE),\"\")","v":""},null,null,null,null,{"$f":"IFERROR(VLOOKUP(E86,Nota_Fiscal!$G$4:$L$1000,6,0),\"\")","v":""}]
[null,null,{"$f":"IFERROR(VLOOKUP(A87,Insumos!A:B,2,FALSE),\"\")","v":""},null,null,null,null,{"$f":"IFERROR(VLOOKUP(E87,Nota_Fiscal!$G$4:$L$1000,6,0),\"\")","v":""}]
[null,null,{"$f":"IFERROR(VLOOKUP(A88,Insumos!A:B,2,FALSE),\"\")","v":""},null,null,null,null,{"$f":"IFERROR(VLOOKUP(E88,Nota_Fiscal!$G$4:$L$1000,6,0),\"\")","v":""}]
[null,null,{"$f":"IFERROR(VLOOKUP(A89,Insumos!A:B,2,FALSE),\"\")","v":""},null,null,null,null,{"$f":"IFERROR(VLOOKUP(E89,Nota_Fiscal!$G$4:$L$1000,6,0),\"\")","v":""}]
[null,null,{"$f":"IFERROR(VLOOKUP(A90,Insumos!A:B,2,FALSE),\"\")","v":""},null,null,null,null,{"$f":"IFERROR(VLOOKUP(E90,Nota_Fiscal!$G$4:$L$1000,6,0),\"\")","v":""}]
[null,null,{"$f":"IFERROR(VLOOKUP(A91,Insumos!A:B,2,FALSE),\"\")","v":""},null,null,null,null,{"$f":"IFERROR(VLOOKUP(E91,Nota_Fiscal!$G$4:$L$1000,6,0),\"\")","v":""}]
[null,null,{"$f":"IFERROR(VLOOKUP(A92,Insumos!A:B,2,FALSE),\"\")","v":""},null,null,null,null,{"$f":"IFERROR(VLOOKUP(E92,Nota_Fiscal!$G$4:$L$1000,6,0),\"\")","v":""}]
[null,null,{"$f":"IFERROR(VLOOKUP(A93,Insumos!A:B,2,FALSE),\"\")","v":""},null,null,null,null,{"$f":"IFERROR(VLOOKUP(E93,Nota_Fiscal!$G$4:$L$1000,6,0),\"\")","v":""}]
[null,null,{"$f":"IFERROR(VLOOKUP(A94,Insumos!A:B,2,FALSE),\"\")","v":""},null,null,null,null,{"$f":"IFERROR(VLOOKUP(E94,Nota_Fiscal!$G$4:$L$1000,6,0),\"\")","v":""}]
[null,null,{"$f":"IFERROR(VLOOKUP(A95,Insumos!A:B,2,FALSE),\"\")","v":""},null,null,null,null,{"$f":"IFERROR(VLOOKUP(E95,Nota_Fiscal!$G$4:$L$1000,6,0),\"\")","v":""}]
[null,null,{"$f":"IFERROR(VLOOKUP(A96,Insumos!A:B,2,FALSE),\"\")","v":""},null,null,null,null,{"$f":"IFERROR(VLOOKUP(E96,Nota_Fiscal!$G$4:$L$1000,6,0),\"\")","v":""}]
[null,null,{"$f":"IFERROR(VLOOKUP(A97,Insumos!A:B,2,FALSE),\"\")","v":""},null,null,null,null,{"$f":"IFERROR(VLOOKUP(E97,Nota_Fiscal!$G$4:$L$1000,6,0),\"\")","v":""}]
[null,null,{"$f":"IFERROR(VLOOKUP(A98,Insumos!A:B,2,FALSE),\"\")","v":""},null,null,null,null,{"$f":"IFERROR(VLOOKUP(E98,Nota_Fiscal!$G$4:$L$1000,6,0),\"\")","v":""}]
[null,null,{"$f":"IFERROR(VLOOKUP(A99,Insumos!A:B,2,FALSE),\"\")","v":""},null,null,null,null,{"$f":"IFERROR(VLOOKUP(E99,Nota_Fiscal!$G$4:$L$1000,6,0),\"\")","v":""}]
[null,null,{"$f":"IFERROR(VLOOKUP(A100,Insumos!A:B,2,FALSE),\"\")","v":""},null,null,null,null,{"$f":"IFERROR(VLOOKUP(E100,Nota_Fiscal!$G$4:$L$1000,6,0),\"\")","v":""}]
[null,null,{"$f":"IFERROR(VLOOKUP(A101,Insumos!A:B,2,FALSE),\"\")","v":""},null,null,null,null,{"$f":"IFERROR(VLOOKUP(E101,Nota_Fiscal!$G$4:$L$1000,6,0),\"\")","v":""}]
[null,null,{"$f":"IFERROR(VLOOKUP(A102,Insumos!A:B,2,FALSE),\"\")","v":""},null,null,null,null,{"$f":"IFERROR(VLOOKUP(E102,Nota_Fiscal!$G$4:$L$1000,6,0),\"\")","v":""}]
[null,null,{"$f":"IFERROR(VLOOKUP(A103,Insumos!A:B,2,FALSE),\"\")","v":""},null,null,null,null,{"$f":"IFERROR(VLOOKUP(E103,Nota_Fiscal!$G$4:$L$1000,6,0),\"\")","v":""}]
[null,null,{"$f":"IFERROR(VLOOKUP(A104,Insumos!A:B,2,FALSE),\"\")","v":""},null,null,null,null,{"$f":"IFERROR(VLOOKUP(E104,Nota_Fiscal!$G$4:$L$1000,6,0),\"\")","v":""}]
[null,null,{"$f":"IFERROR(VLOOKUP(A105,Insumos!A:B,2,FALSE),\"\")","v":""},null,null,null,null,{"$f":"IFERROR(VLOOKUP(E105,Nota_Fiscal!$G$4:$L$1000,6,0),\"\")","v":""}]
[null,null,{"$f":"IFERROR(VLOOKUP(A106,Insumos!A:B,2,FALSE),\"\")","v":""},null,null,null,null,{"$f":"IFERROR(VLOOKUP(E106,Nota_Fiscal!$G$4:$L$1000,6,0),\"\")","v":""}]
[null,null,{"$f":"IFERROR(VLOOKUP(A107,Insumos!A:B,2,FALSE),\"\")","v":""},null,null,null,null,{"$f":"IFERROR(VLOOKUP(E107,Nota_Fiscal!$G$4:$L$1000,6,0),\"\")","v":""}]
[null,null,{"$f":"IFERROR(VLOOKUP(A108,Insumos!A:B,2,FALSE),\"\")","v":""},null,null,null,null,{"$f":"IFERROR(VLOOKUP(E108,Nota_Fiscal!$G$4:$L$1000,6,0),\"\")","v":""}]
[null,null,{"$f":"IFERROR(VLOOKUP(A109,Insumos!A:B,2,FALSE),\"\")","v":""},null,null,null,null,{"$f":"IFERROR(VLOOKUP(E109,Nota_Fiscal!$G$4:$L$1000,6,0),\"\")","v":""}]
[null,null,{"$f":"IFERROR(VLOOKUP(A110,Insumos!A:B,2,FALSE),\"\")","v":""},null,null,null,null,{"$f":"IFERROR(VLOOKUP(E110,Nota_Fiscal!$G$4:$L$1000,6,0),\"\")","v":""}]
[null,null,{"$f":"IFERROR(VLOOKUP(A111,Insumos!A:B,2,FALSE),\"\")","v":""},null,null,null,null,{"$f":"IFERROR(VLOOKUP(E111,Nota_Fiscal!$G$4:$L$1000,6,0),\"\")","v":""}]
[null,null,{"$f":"IFERROR(VLOOKUP(A112,Insumos!A:B,2,FALSE),\"\")","v":""},null,null,null,null,{"$f":"IFERROR(VLOOKUP(E112,Nota_Fiscal!$G$4:$L$1000,6,0),\"\")","v":""}]
[null,null,{"$f":"IFERROR(VLOOKUP(A113,Insumos!A:B,2,FALSE),\"\")","v":""},null,null,null,null,{"$f":"IFERROR(VLOOKUP(E113,Nota_Fiscal!$G$4:$L$1000,6,0),\"\")","v":""}]
[null,null,{"$f":"IFERROR(VLOOKUP(A114,Insumos!A:B,2,FALSE),\"\")","v":""},null,null,null,null,{"$f":"IFERROR(VLOOKUP(E114,Nota_Fiscal!$G$4:$L$1000,6,0),\"\")","v":""}]
[null,null,{"$f":"IFERROR(VLOOKUP(A115,Insumos!A:B,2,FALSE),\"\")","v":""},null,null,null,null,{"$f":"IFERROR(VLOOKUP(E115,Nota_Fiscal!$G$4:$L$1000,6,0),\"\")","v":""}]
[null,null,{"$f":"IFERROR(VLOOKUP(A116,Insumos!A:B,2,FALSE),\"\")","v":""},null,null,null,null,{"$f":"IFERROR(VLOOKUP(E116,Nota_Fiscal!$G$4:$L$1000,6,0),\"\")","v":""}]
[null,null,{"$f":"IFERROR(VLOOKUP(A117,Insumos!A:B,2,FALSE),\"\")","v":""},null,null,null,null,{"$f":"IFERROR(VLOOKUP(E117,Nota_Fiscal!$G$4:$L$1000,6,0),\"\")","v":""}]
[null,null,{"$f":"IFERROR(VLOOKUP(A118,Insumos!A:B,2,FALSE),\"\")","v":""},null,null,null,null,{"$f":"IFERROR(VLOOKUP(E118,Nota_Fiscal!$G$4:$L$1000,6,0),\"\")","v":""}]
[null,null,{"$f":"IFERROR(VLOOKUP(A119,Insumos!A:B,2,FALSE),\"\")","v":""},null,null,null,null,{"$f":"IFERROR(VLOOKUP(E119,Nota_Fiscal!$G$4:$L$1000,6,0),\"\")","v":""}]
[null,null,{"$f":"IFERROR(VLOOKUP(A120,Insumos!A:B,2,FALSE),\"\")","v":""},null,null,null,null,{"$f":"IFERROR(VLOOKUP(E120,Nota_Fiscal!$G$4:$L$1000,6,0),\"\")","v":""}]
[null,null,{"$f":"IFERROR(VLOOKUP(A121,Insumos!A:B,2,FALSE),\"\")","v":""},null,null,null,null,{"$f":"IFERROR(VLOOKUP(E121,Nota_Fiscal!$G$4:$L$1000,6,0),\"\")","v":""}]
[null,null,{"$f":"IFERROR(VLOOKUP(A122,Insumos!A:B,2,FALSE),\"\")","v":""},null,null,null,null,{"$f":"IFERROR(VLOOKUP(E122,Nota_Fiscal!$G$4:$L$1000,6,0),\"\")","v":""}]
[null,null,{"$f":"IFERROR(VLOOKUP(A123,Insumos!A:B,2,FALSE),\"\")","v":""},null,null,null,null,{"$f":"IFERROR(VLOOKUP(E123,Nota_Fiscal!$G$4:$L$1000,6,0),\"\")","v":""}]
[null,null,{"$f":"IFERROR(VLOOKUP(A124,Insumos!A:B,2,FALSE),\"\")","v":""},null,null,null,null,{"$f":"IFERROR(VLOOKUP(E124,Nota_Fiscal!$G$4:$L$1000,6,0),\"\")","v":""}]
[null,null,{"$f":"IFERROR(VLOOKUP(A125,Insumos!A:B,2,FALSE),\"\")","v":""},null,null,null,null,{"$f":"IFERROR(VLOOKUP(E125,Nota_Fiscal!$G$4:$L$1000,6,0),\"\")","v":""}]
[null,null,{"$f":"IFERROR(VLOOKUP(A126,Insumos!A:B,2,FALSE),\"\")","v":""},null,null,null,null,{"$f":"IFERROR(VLOOKUP(E126,Nota_Fiscal!$G$4:$L$1000,6,0),\"\")","v":""}]
[null,null,{"$f":"IFERROR(VLOOKUP(A127,Insumos!A:B,2,FALSE),\"\")","v":""},null,null,null,null,{"$f":"IFERROR(VLOOKUP(E127,Nota_Fiscal!$G$4:$L$1000,6,0),\"\")","v":""}]
[null,null,{"$f":"IFERROR(VLOOKUP(A128,Insumos!A:B,2,FALSE),\"\")","v":""},null,null,null,null,{"$f":"IFERROR(VLOOKUP(E128,Nota_Fiscal!$G$4:$L$1000,6,0),\"\")","v":""}]
[null,null,{"$f":"IFERROR(VLOOKUP(A129,Insumos!A:B,2,FALSE),\"\")","v":""},null,null,null,null,{"$f":"IFERROR(VLOOKUP(E129,Nota_Fiscal!$G$4:$L$1000,6,0),\"\")","v":""}]
[null,null,{"$f":"IFERROR(VLOOKUP(A130,Insumos!A:B,2,FALSE),\"\")","v":""},null,null,null,null,{"$f":"IFERROR(VLOOKUP(E130,Nota_Fiscal!$G$4:$L$1000,6,0),\"\")","v":""}]
[null,null,{"$f":"IFERROR(VLOOKUP(A131,Insumos!A:B,2,FALSE),\"\")","v":""},null,null,null,null,{"$f":"IFERROR(VLOOKUP(E131,Nota_Fiscal!$G$4:$L$1000,6,0),\"\")","v":""}]
[null,null,{"$f":"IFERROR(VLOOKUP(A132,Insumos!A:B,2,FALSE),\"\")","v":""},null,null,null,null,{"$f":"IFERROR(VLOOKUP(E132,Nota_Fiscal!$G$4:$L$1000,6,0),\"\")","v":""}]
[null,null,{"$f":"IFERROR(VLOOKUP(A133,Insumos!A:B,2,FALSE),\"\")","v":""},null,null,null,null,{"$f":"IFERROR(VLOOKUP(E133,Nota_Fiscal!$G$4:$L$1000,6,0),\"\")","v":""}]
[null,null,{"$f":"IFERROR(VLOOKUP(A134,Insumos!A:B,2,FALSE),\"\")","v":""},null,null,null,null,{"$f":"IFERROR(VLOOKUP(E134,Nota_Fiscal!$G$4:$L$1000,6,0),\"\")","v":""}]
[null,null,{"$f":"IFERROR(VLOOKUP(A135,Insumos!A:B,2,FALSE),\"\")","v":""},null,null,null,null,{"$f":"IFERROR(VLOOKUP(E135,Nota_Fiscal!$G$4:$L$1000,6,0),\"\")","v":""}]
[null,null,{"$f":"IFERROR(VLOOKUP(A136,Insumos!A:B,2,FALSE),\"\")","v":""},null,null,null,null,{"$f":"IFERROR(VLOOKUP(E136,Nota_Fiscal!$G$4:$L$1000,6,0),\"\")","v":""}]
[null,null,{"$f":"IFERROR(VLOOKUP(A137,Insumos!A:B,2,FALSE),\"\")","v":""},null,null,null,null,{"$f":"IFERROR(VLOOKUP(E137,Nota_Fiscal!$G$4:$L$1000,6,0),\"\")","v":""}]
[null,null,{"$f":"IFERROR(VLOOKUP(A138,Insumos!A:B,2,FALSE),\"\")","v":""},null,null,null,null,{"$f":"IFERROR(VLOOKUP(E138,Nota_Fiscal!$G$4:$L$1000,6,0),\"\")","v":""}]
[null,null,{"$f":"IFERROR(VLOOKUP(A139,Insumos!A:B,2,FALSE),\"\")","v":""},null,null,null,null,{"$f":"IFERROR(VLOOKUP(E139,Nota_Fiscal!$G$4:$L$1000,6,0),\"\")","v":""}]
[null,null,{"$f":"IFERROR(VLOOKUP(A140,Insumos!A:B,2,FALSE),\"\")","v":""},null,null,null,null,{"$f":"IFERROR(VLOOKUP(E140,Nota_Fiscal!$G$4:$L$1000,6,0),\"\")","v":""}]
[null,null,{"$f":"IFERROR(VLOOKUP(A141,Insumos!A:B,2,FALSE),\"\")","v":""},null,null,null,null,{"$f":"IFERROR(VLOOKUP(E141,Nota_Fiscal!$G$4:$L$1000,6,0),\"\")","v":""}]
[null,null,{"$f":"IFERROR(VLOOKUP(A142,Insumos!A:B,2,FALSE),\"\")","v":""},null,null,null,null,{"$f":"IFERROR(VLOOKUP(E142,Nota_Fiscal!$G$4:$L$1000,6,0),\"\")","v":""}]
[null,null,{"$f":"IFERROR(VLOOKUP(A143,Insumos!A:B,2,FALSE),\"\")","v":""},null,null,null,null,{"$f":"IFERROR(VLOOKUP(E143,Nota_Fiscal!$G$4:$L$1000,6,0),\"\")","v":""}]
[null,null,{"$f":"IFERROR(VLOOKUP(A144,Insumos!A:B,2,FALSE),\"\")","v":""},null,null,null,null,{"$f":"IFERROR(VLOOKUP(E144,Nota_Fiscal!$G$4:$L$1000,6,0),\"\")","v":""}]
[null,null,{"$f":"IFERROR(VLOOKUP(A145,Insumos!A:B,2,FALSE),\"\")","v":""},null,null,null,null,{"$f":"IFERROR(VLOOKUP(E145,Nota_Fiscal!$G$4:$L$1000,6,0),\"\")","v":""}]
[null,null,{"$f":"IFERROR(VLOOKUP(A146,Insumos!A:B,2,FALSE),\"\")","v":""},null,null,null,null,{"$f":"IFERROR(VLOOKUP(E146,Nota_Fiscal!$G$4:$L$1000,6,0),\"\")","v":""}]
[null,null,{"$f":"IFERROR(VLOOKUP(A147,Insumos!A:B,2,FALSE),\"\")","v":""},null,null,null,null,{"$f":"IFERROR(VLOOKUP(E147,Nota_Fiscal!$G$4:$L$1000,6,0),\"\")","v":""}]
[null,null,{"$f":"IFERROR(VLOOKUP(A148,Insumos!A:B,2,FALSE),\"\")","v":""},null,null,null,null,{"$f":"IFERROR(VLOOKUP(E148,Nota_Fiscal!$G$4:$L$1000,6,0),\"\")","v":""}]
[null,null,{"$f":"IFERROR(VLOOKUP(A149,Insumos!A:B,2,FALSE),\"\")","v":""},null,null,null,null,{"$f":"IFERROR(VLOOKUP(E149,Nota_Fiscal!$G$4:$L$1000,6,0),\"\")","v":""}]
[null,null,{"$f":"IFERROR(VLOOKUP(A150,Insumos!A:B,2,FALSE),\"\")","v":""},null,null,null,null,{"$f":"IFERROR(VLOOKUP(E150,Nota_Fiscal!$G$4:$L$1000,6,0),\"\")","v":""}]
[null,null,{"$f":"IFERROR(VLOOKUP(A151,Insumos!A:B,2,FALSE),\"\")","v":""},null,null,null,null,{"$f":"IFERROR(VLOOKUP(E151,Nota_Fiscal!$G$4:$L$1000,6,0),\"\")","v":""}]
[null,null,{"$f":"IFERROR(VLOOKUP(A152,Insumos!A:B,2,FALSE),\"\")","v":""},null,null,null,null,{"$f":"IFERROR(VLOOKUP(E152,Nota_Fiscal!$G$4:$L$1000,6,0),\"\")","v":""}]
[null,null,{"$f":"IFERROR(VLOOKUP(A153,Insumos!A:B,2,FALSE),\"\")","v":""},null,null,null,null,{"$f":"IFERROR(VLOOKUP(E153,Nota_Fiscal!$G$4:$L$1000,6,0),\"\")","v":""}]
[null,null,{"$f":"IFERROR(VLOOKUP(A154,Insumos!A:B,2,FALSE),\"\")","v":""},null,null,null,null,{"$f":"IFERROR(VLOOKUP(E154,Nota_Fiscal!$G$4:$L$1000,6,0),\"\")","v":""}]
[null,null,{"$f":"IFERROR(VLOOKUP(A155,Insumos!A:B,2,FALSE),\"\")","v":""},null,null,null,null,{"$f":"IFERROR(VLOOKUP(E155,Nota_Fiscal!$G$4:$L$1000,6,0),\"\")","v":""}]
[null,null,{"$f":"IFERROR(VLOOKUP(A156,Insumos!A:B,2,FALSE),\"\")","v":""},null,null,null,null,{"$f":"IFERROR(VLOOKUP(E156,Nota_Fiscal!$G$4:$L$1000,6,0),\"\")","v":""}]
[null,null,{"$f":"IFERROR(VLOOKUP(A157,Insumos!A:B,2,FALSE),\"\")","v":""},null,null,null,null,{"$f":"IFERROR(VLOOKUP(E157,Nota_Fiscal!$G$4:$L$1000,6,0),\"\")","v":""}]
[null,null,{"$f":"IFERROR(VLOOKUP(A158,Insumos!A:B,2,FALSE),\"\")","v":""},null,null,null,null,{"$f":"IFERROR(VLOOKUP(E158,Nota_Fiscal!$G$4:$L$1000,6,0),\"\")","v":""}]
[null,null,{"$f":"IFERROR(VLOOKUP(A159,Insumos!A:B,2,FALSE),\"\")","v":""},null,null,null,null,{"$f":"IFERROR(VLOOKUP(E159,Nota_Fiscal!$G$4:$L$1000,6,0),\"\")","v":""}]
[null,null,{"$f":"IFERROR(VLOOKUP(A160,Insumos!A:B,2,FALSE),\"\")","v":""},null,null,null,null,{"$f":"IFERROR(VLOOKUP(E160,Nota_Fiscal!$G$4:$L$1000,6,0),\"\")","v":""}]
[null,null,{"$f":"IFERROR(VLOOKUP(A161,Insumos!A:B,2,FALSE),\"\")","v":""},null,null,null,null,{"$f":"IFERROR(VLOOKUP(E161,Nota_Fiscal!$G$4:$L$1000,6,0),\"\")","v":""}]
[null,null,{"$f":"IFERROR(VLOOKUP(A162,Insumos!A:B,2,FALSE),\"\")","v":""},null,null,null,null,{"$f":"IFERROR(VLOOKUP(E162,Nota_Fiscal!$G$4:$L$1000,6,0),\"\")","v":""}]
[null,null,{"$f":"IFERROR(VLOOKUP(A163,Insumos!A:B,2,FALSE),\"\")","v":""},null,null,null,null,{"$f":"IFERROR(VLOOKUP(E163,Nota_Fiscal!$G$4:$L$1000,6,0),\"\")","v":""}]
[null,null,{"$f":"IFERROR(VLOOKUP(A164,Insumos!A:B,2,FALSE),\"\")","v":""},null,null,null,null,{"$f":"IFERROR(VLOOKUP(E164,Nota_Fiscal!$G$4:$L$1000,6,0),\"\")","v":""}]
[null,null,{"$f":"IFERROR(VLOOKUP(A165,Insumos!A:B,2,FALSE),\"\")","v":""},null,null,null,null,{"$f":"IFERROR(VLOOKUP(E165,Nota_Fiscal!$G$4:$L$1000,6,0),\"\")","v":""}]
[null,null,{"$f":"IFERROR(VLOOKUP(A166,Insumos!A:B,2,FALSE),\"\")","v":""},null,null,null,null,{"$f":"IFERROR(VLOOKUP(E166,Nota_Fiscal!$G$4:$L$1000,6,0),\"\")","v":""}]
[null,null,{"$f":"IFERROR(VLOOKUP(A167,Insumos!A:B,2,FALSE),\"\")","v":""},null,null,null,null,{"$f":"IFERROR(VLOOKUP(E167,Nota_Fiscal!$G$4:$L$1000,6,0),\"\")","v":""}]
[null,null,{"$f":"IFERROR(VLOOKUP(A168,Insumos!A:B,2,FALSE),\"\")","v":""},null,null,null,null,{"$f":"IFERROR(VLOOKUP(E168,Nota_Fiscal!$G$4:$L$1000,6,0),\"\")","v":""}]
[null,null,{"$f":"IFERROR(VLOOKUP(A169,Insumos!A:B,2,FALSE),\"\")","v":""},null,null,null,null,{"$f":"IFERROR(VLOOKUP(E169,Nota_Fiscal!$G$4:$L$1000,6,0),\"\")","v":""}]
[null,null,{"$f":"IFERROR(VLOOKUP(A170,Insumos!A:B,2,FALSE),\"\")","v":""},null,null,null,null,{"$f":"IFERROR(VLOOKUP(E170,Nota_Fiscal!$G$4:$L$1000,6,0),\"\")","v":""}]
[null,null,{"$f":"IFERROR(VLOOKUP(A171,Insumos!A:B,2,FALSE),\"\")","v":""},null,null,null,null,{"$f":"IFERROR(VLOOKUP(E171,Nota_Fiscal!$G$4:$L$1000,6,0),\"\")","v":""}]
[null,null,{"$f":"IFERROR(VLOOKUP(A172,Insumos!A:B,2,FALSE),\"\")","v":""},null,null,null,null,{"$f":"IFERROR(VLOOKUP(E172,Nota_Fiscal!$G$4:$L$1000,6,0),\"\")","v":""}]
[null,null,{"$f":"IFERROR(VLOOKUP(A173,Insumos!A:B,2,FALSE),\"\")","v":""},null,null,null,null,{"$f":"IFERROR(VLOOKUP(E173,Nota_Fiscal!$G$4:$L$1000,6,0),\"\")","v":""}]
[null,null,{"$f":"IFERROR(VLOOKUP(A174,Insumos!A:B,2,FALSE),\"\")","v":""},null,null,null,null,{"$f":"IFERROR(VLOOKUP(E174,Nota_Fiscal!$G$4:$L$1000,6,0),\"\")","v":""}]
[null,null,{"$f":"IFERROR(VLOOKUP(A175,Insumos!A:B,2,FALSE),\"\")","v":""},null,null,null,null,{"$f":"IFERROR(VLOOKUP(E175,Nota_Fiscal!$G$4:$L$1000,6,0),\"\")","v":""}]
[null,null,{"$f":"IFERROR(VLOOKUP(A176,Insumos!A:B,2,FALSE),\"\")","v":""},null,null,null,null,{"$f":"IFERROR(VLOOKUP(E176,Nota_Fiscal!$G$4:$L$1000,6,0),\"\")","v":""}]
[null,null,{"$f":"IFERROR(VLOOKUP(A177,Insumos!A:B,2,FALSE),\"\")","v":""},null,null,null,null,{"$f":"IFERROR(VLOOKUP(E177,Nota_Fiscal!$G$4:$L$1000,6,0),\"\")","v":""}]
[null,null,{"$f":"IFERROR(VLOOKUP(A178,Insumos!A:B,2,FALSE),\"\")","v":""},null,null,null,null,{"$f":"IFERROR(VLOOKUP(E178,Nota_Fiscal!$G$4:$L$1000,6,0),\"\")","v":""}]
[null,null,{"$f":"IFERROR(VLOOKUP(A179,Insumos!A:B,2,FALSE),\"\")","v":""},null,null,null,null,{"$f":"IFERROR(VLOOKUP(E179,Nota_Fiscal!$G$4:$L$1000,6,0),\"\")","v":""}]
[null,null,{"$f":"IFERROR(VLOOKUP(A180,Insumos!A:B,2,FALSE),\"\")","v":""},null,null,null,null,{"$f":"IFERROR(VLOOKUP(E180,Nota_Fiscal!$G$4:$L$1000,6,0),\"\")","v":""}]
[null,null,{"$f":"IFERROR(VLOOKUP(A181,Insumos!A:B,2,FALSE),\"\")","v":""},null,null,null,null,{"$f":"IFERROR(VLOOKUP(E181,Nota_Fiscal!$G$4:$L$1000,6,0),\"\")","v":""}]
[null,null,{"$f":"IFERROR(VLOOKUP(A182,Insumos!A:B,2,FALSE),\"\")","v":""},null,null,null,null,{"$f":"IFERROR(VLOOKUP(E182,Nota_Fiscal!$G$4:$L$1000,6,0),\"\")","v":""}]
[null,null,{"$f":"IFERROR(VLOOKUP(A183,Insumos!A:B,2,FALSE),\"\")","v":""},null,null,null,null,{"$f":"IFERROR(VLOOKUP(E183,Nota_Fiscal!$G$4:$L$1000,6,0),\"\")","v":""}]
[null,null,{"$f":"IFERROR(VLOOKUP(A184,Insumos!A:B,2,FALSE),\"\")","v":""},null,null,null,null,{"$f":"IFERROR(VLOOKUP(E184,Nota_Fiscal!$G$4:$L$1000,6,0),\"\")","v":""}]
[null,null,{"$f":"IFERROR(VLOOKUP(A185,Insumos!A:B,2,FALSE),\"\")","v":""},null,null,null,null,{"$f":"IFERROR(VLOOKUP(E185,Nota_Fiscal!$G$4:$L$1000,6,0),\"\")","v":""}]
[null,null,{"$f":"IFERROR(VLOOKUP(A186,Insumos!A:B,2,FALSE),\"\")","v":""},null,null,null,null,{"$f":"IFERROR(VLOOKUP(E186,Nota_Fiscal!$G$4:$L$1000,6,0),\"\")","v":""}]
[null,null,{"$f":"IFERROR(VLOOKUP(A187,Insumos!A:B,2,FALSE),\"\")","v":""},null,null,null,null,{"$f":"IFERROR(VLOOKUP(E187,Nota_Fiscal!$G$4:$L$1000,6,0),\"\")","v":""}]
[null,null,{"$f":"IFERROR(VLOOKUP(A188,Insumos!A:B,2,FALSE),\"\")","v":""},null,null,null,null,{"$f":"IFERROR(VLOOKUP(E188,Nota_Fiscal!$G$4:$L$1000,6,0),\"\")","v":""}]
[null,null,{"$f":"IFERROR(VLOOKUP(A189,Insumos!A:B,2,FALSE),\"\")","v":""},null,null,null,null,{"$f":"IFERROR(VLOOKUP(E189,Nota_Fiscal!$G$4:$L$1000,6,0),\"\")","v":""}]
[null,null,{"$f":"IFERROR(VLOOKUP(A190,Insumos!A:B,2,FALSE),\"\")","v":""},null,null,null,null,{"$f":"IFERROR(VLOOKUP(E190,Nota_Fiscal!$G$4:$L$1000,6,0),\"\")","v":""}]
[null,null,{"$f":"IFERROR(VLOOKUP(A191,Insumos!A:B,2,FALSE),\"\")","v":""},null,null,null,null,{"$f":"IFERROR(VLOOKUP(E191,Nota_Fiscal!$G$4:$L$1000,6,0),\"\")","v":""}]
[null,null,{"$f":"IFERROR(VLOOKUP(A192,Insumos!A:B,2,FALSE),\"\")","v":""},null,null,null,null,{"$f":"IFERROR(VLOOKUP(E192,Nota_Fiscal!$G$4:$L$1000,6,0),\"\")","v":""}]
[null,null,{"$f":"IFERROR(VLOOKUP(A193,Insumos!A:B,2,FALSE),\"\")","v":""},null,null,null,null,{"$f":"IFERROR(VLOOKUP(E193,Nota_Fiscal!$G$4:$L$1000,6,0),\"\")","v":""}]
[null,null,{"$f":"IFERROR(VLOOKUP(A194,Insumos!A:B,2,FALSE),\"\")","v":""},null,null,null,null,{"$f":"IFERROR(VLOOKUP(E194,Nota_Fiscal!$G$4:$L$1000,6,0),\"\")","v":""}]
[null,null,{"$f":"IFERROR(VLOOKUP(A195,Insumos!A:B,2,FALSE),\"\")","v":""},null,null,null,null,{"$f":"IFERROR(VLOOKUP(E195,Nota_Fiscal!$G$4:$L$1000,6,0),\"\")","v":""}]
[null,null,{"$f":"IFERROR(VLOOKUP(A196,Insumos!A:B,2,FALSE),\"\")","v":""},null,null,null,null,{"$f":"IFERROR(VLOOKUP(E196,Nota_Fiscal!$G$4:$L$1000,6,0),\"\")","v":""}]
[null,null,{"$f":"IFERROR(VLOOKUP(A197,Insumos!A:B,2,FALSE),\"\")","v":""},null,null,null,null,{"$f":"IFERROR(VLOOKUP(E197,Nota_Fiscal!$G$4:$L$1000,6,0),\"\")","v":""}]
[null,null,{"$f":"IFERROR(VLOOKUP(A198,Insumos!A:B,2,FALSE),\"\")","v":""},null,null,null,null,{"$f":"IFERROR(VLOOKUP(E198,Nota_Fiscal!$G$4:$L$1000,6,0),\"\")","v":""}]
[null,null,{"$f":"IFERROR(VLOOKUP(A199,Insumos!A:B,2,FALSE),\"\")","v":""},null,null,null,null,{"$f":"IFERROR(VLOOKUP(E199,Nota_Fiscal!$G$4:$L$1000,6,0),\"\")","v":""}]
[null,null,{"$f":"IFERROR(VLOOKUP(A200,Insumos!A:B,2,FALSE),\"\")","v":""},null,null,null,null,{"$f":"IFERROR(VLOOKUP(E200,Nota_Fiscal!$G$4:$L$1000,6,0),\"\")","v":""}]
[null,null,{"$f":"IFERROR(VLOOKUP(A201,Insumos!A:B,2,FALSE),\"\")","v":""},null,null,null,null,{"$f":"IFERROR(VLOOKUP(E201,Nota_Fiscal!$G$4:$L$1000,6,0),\"\")","v":""}]
[null,null,{"$f":"IFERROR(VLOOKUP(A202,Insumos!A:B,2,FALSE),\"\")","v":""},null,null,null,null,{"$f":"IFERROR(VLOOKUP(E202,Nota_Fiscal!$G$4:$L$1000,6,0),\"\")","v":""}]
[null,null,{"$f":"IFERROR(VLOOKUP(A203,Insumos!A:B,2,FALSE),\"\")","v":""},null,null,null,null,{"$f":"IFERROR(VLOOKUP(E203,Nota_Fiscal!$G$4:$L$1000,6,0),\"\")","v":""}]
[null,null,{"$f":"IFERROR(VLOOKUP(A204,Insumos!A:B,2,FALSE),\"\")","v":""},null,null,null,null,{"$f":"IFERROR(VLOOKUP(E204,Nota_Fiscal!$G$4:$L$1000,6,0),\"\")","v":""}]
[null,null,{"$f":"IFERROR(VLOOKUP(A205,Insumos!A:B,2,FALSE),\"\")","v":""},null,null,null,null,{"$f":"IFERROR(VLOOKUP(E205,Nota_Fiscal!$G$4:$L$1000,6,0),\"\")","v":""}]
[null,null,{"$f":"IFERROR(VLOOKUP(A206,Insumos!A:B,2,FALSE),\"\")","v":""},null,null,null,null,{"$f":"IFERROR(VLOOKUP(E206,Nota_Fiscal!$G$4:$L$1000,6,0),\"\")","v":""}]
[null,null,{"$f":"IFERROR(VLOOKUP(A207,Insumos!A:B,2,FALSE),\"\")","v":""},null,null,null,null,{"$f":"IFERROR(VLOOKUP(E207,Nota_Fiscal!$G$4:$L$1000,6,0),\"\")","v":""}]
[null,null,{"$f":"IFERROR(VLOOKUP(A208,Insumos!A:B,2,FALSE),\"\")","v":""},null,null,null,null,{"$f":"IFERROR(VLOOKUP(E208,Nota_Fiscal!$G$4:$L$1000,6,0),\"\")","v":""}]
[null,null,{"$f":"IFERROR(VLOOKUP(A209,Insumos!A:B,2,FALSE),\"\")","v":""},null,null,null,null,{"$f":"IFERROR(VLOOKUP(E209,Nota_Fiscal!$G$4:$L$1000,6,0),\"\")","v":""}]
[null,null,{"$f":"IFERROR(VLOOKUP(A210,Insumos!A:B,2,FALSE),\"\")","v":""},null,null,null,null,{"$f":"IFERROR(VLOOKUP(E210,Nota_Fiscal!$G$4:$L$1000,6,0),\"\")","v":""}]
[null,null,{"$f":"IFERROR(VLOOKUP(A211,Insumos!A:B,2,FALSE),\"\")","v":""},null,null,null,null,{"$f":"IFERROR(VLOOKUP(E211,Nota_Fiscal!$G$4:$L$1000,6,0),\"\")","v":""}]
[null,null,{"$f":"IFERROR(VLOOKUP(A212,Insumos!A:B,2,FALSE),\"\")","v":""},null,null,null,null,{"$f":"IFERROR(VLOOKUP(E212,Nota_Fiscal!$G$4:$L$1000,6,0),\"\")","v":""}]
[null,null,{"$f":"IFERROR(VLOOKUP(A213,Insumos!A:B,2,FALSE),\"\")","v":""},null,null,null,null,{"$f":"IFERROR(VLOOKUP(E213,Nota_Fiscal!$G$4:$L$1000,6,0),\"\")","v":""}]
[null,null,{"$f":"IFERROR(VLOOKUP(A214,Insumos!A:B,2,FALSE),\"\")","v":""},null,null,null,null,{"$f":"IFERROR(VLOOKUP(E214,Nota_Fiscal!$G$4:$L$1000,6,0),\"\")","v":""}]
[null,null,{"$f":"IFERROR(VLOOKUP(A215,Insumos!A:B,2,FALSE),\"\")","v":""},null,null,null,null,{"$f":"IFERROR(VLOOKUP(E215,Nota_Fiscal!$G$4:$L$1000,6,0),\"\")","v":""}]
[null,null,{"$f":"IFERROR(VLOOKUP(A216,Insumos!A:B,2,FALSE),\"\")","v":""},null,null,null,null,{"$f":"IFERROR(VLOOKUP(E216,Nota_Fiscal!$G$4:$L$1000,6,0),\"\")","v":""}]
[null,null,{"$f":"IFERROR(VLOOKUP(A217,Insumos!A:B,2,FALSE),\"\")","v":""},null,null,null,null,{"$f":"IFERROR(VLOOKUP(E217,Nota_Fiscal!$G$4:$L$1000,6,0),\"\")","v":""}]
[null,null,{"$f":"IFERROR(VLOOKUP(A218,Insumos!A:B,2,FALSE),\"\")","v":""},null,null,null,null,{"$f":"IFERROR(VLOOKUP(E218,Nota_Fiscal!$G$4:$L$1000,6,0),\"\")","v":""}]
[null,null,{"$f":"IFERROR(VLOOKUP(A219,Insumos!A:B,2,FALSE),\"\")","v":""},null,null,null,null,{"$f":"IFERROR(VLOOKUP(E219,Nota_Fiscal!$G$4:$L$1000,6,0),\"\")","v":""}]
[null,null,{"$f":"IFERROR(VLOOKUP(A220,Insumos!A:B,2,FALSE),\"\")","v":""},null,null,null,null,{"$f":"IFERROR(VLOOKUP(E220,Nota_Fiscal!$G$4:$L$1000,6,0),\"\")","v":""}]
[null,null,{"$f":"IFERROR(VLOOKUP(A221,Insumos!A:B,2,FALSE),\"\")","v":""},null,null,null,null,{"$f":"IFERROR(VLOOKUP(E221,Nota_Fiscal!$G$4:$L$1000,6,0),\"\")","v":""}]
[null,null,{"$f":"IFERROR(VLOOKUP(A222,Insumos!A:B,2,FALSE),\"\")","v":""},null,null,null,null,{"$f":"IFERROR(VLOOKUP(E222,Nota_Fiscal!$G$4:$L$1000,6,0),\"\")","v":""}]
[null,null,{"$f":"IFERROR(VLOOKUP(A223,Insumos!A:B,2,FALSE),\"\")","v":""},null,null,null,null,{"$f":"IFERROR(VLOOKUP(E223,Nota_Fiscal!$G$4:$L$1000,6,0),\"\")","v":""}]
[null,null,{"$f":"IFERROR(VLOOKUP(A224,Insumos!A:B,2,FALSE),\"\")","v":""},null,null,null,null,{"$f":"IFERROR(VLOOKUP(E224,Nota_Fiscal!$G$4:$L$1000,6,0),\"\")","v":""}]
[null,null,{"$f":"IFERROR(VLOOKUP(A225,Insumos!A:B,2,FALSE),\"\")","v":""},null,null,null,null,{"$f":"IFERROR(VLOOKUP(E225,Nota_Fiscal!$G$4:$L$1000,6,0),\"\")","v":""}]
[null,null,{"$f":"IFERROR(VLOOKUP(A226,Insumos!A:B,2,FALSE),\"\")","v":""},null,null,null,null,{"$f":"IFERROR(VLOOKUP(E226,Nota_Fiscal!$G$4:$L$1000,6,0),\"\")","v":""}]
[null,null,{"$f":"IFERROR(VLOOKUP(A227,Insumos!A:B,2,FALSE),\"\")","v":""},null,null,null,null,{"$f":"IFERROR(VLOOKUP(E227,Nota_Fiscal!$G$4:$L$1000,6,0),\"\")","v":""}]
[null,null,{"$f":"IFERROR(VLOOKUP(A228,Insumos!A:B,2,FALSE),\"\")","v":""},null,null,null,null,{"$f":"IFERROR(VLOOKUP(E228,Nota_Fiscal!$G$4:$L$1000,6,0),\"\")","v":""}]
[null,null,{"$f":"IFERROR(VLOOKUP(A229,Insumos!A:B,2,FALSE),\"\")","v":""},null,null,null,null,{"$f":"IFERROR(VLOOKUP(E229,Nota_Fiscal!$G$4:$L$1000,6,0),\"\")","v":""}]
[null,null,{"$f":"IFERROR(VLOOKUP(A230,Insumos!A:B,2,FALSE),\"\")","v":""},null,null,null,null,{"$f":"IFERROR(VLOOKUP(E230,Nota_Fiscal!$G$4:$L$1000,6,0),\"\")","v":""}]
[null,null,{"$f":"IFERROR(VLOOKUP(A231,Insumos!A:B,2,FALSE),\"\")","v":""},null,null,null,null,{"$f":"IFERROR(VLOOKUP(E231,Nota_Fiscal!$G$4:$L$1000,6,0),\"\")","v":""}]
[null,null,{"$f":"IFERROR(VLOOKUP(A232,Insumos!A:B,2,FALSE),\"\")","v":""},null,null,null,null,{"$f":"IFERROR(VLOOKUP(E232,Nota_Fiscal!$G$4:$L$1000,6,0),\"\")","v":""}]
[null,null,{"$f":"IFERROR(VLOOKUP(A233,Insumos!A:B,2,FALSE),\"\")","v":""},null,null,null,null,{"$f":"IFERROR(VLOOKUP(E233,Nota_Fiscal!$G$4:$L$1000,6,0),\"\")","v":""}]
[null,null,{"$f":"IFERROR(VLOOKUP(A234,Insumos!A:B,2,FALSE),\"\")","v":""},null,null,null,null,{"$f":"IFERROR(VLOOKUP(E234,Nota_Fiscal!$G$4:$L$1000,6,0),\"\")","v":""}]
[null,null,{"$f":"IFERROR(VLOOKUP(A235,Insumos!A:B,2,FALSE),\"\")","v":""},null,null,null,null,{"$f":"IFERROR(VLOOKUP(E235,Nota_Fiscal!$G$4:$L$1000,6,0),\"\")","v":""}]
[null,null,{"$f":"IFERROR(VLOOKUP(A236,Insumos!A:B,2,FALSE),\"\")","v":""},null,null,null,null,{"$f":"IFERROR(VLOOKUP(E236,Nota_Fiscal!$G$4:$L$1000,6,0),\"\")","v":""}]
[null,null,{"$f":"IFERROR(VLOOKUP(A237,Insumos!A:B,2,FALSE),\"\")","v":""},null,null,null,null,{"$f":"IFERROR(VLOOKUP(E237,Nota_Fiscal!$G$4:$L$1000,6,0),\"\")","v":""}]
[null,null,{"$f":"IFERROR(VLOOKUP(A238,Insumos!A:B,2,FALSE),\"\")","v":""},null,null,null,null,{"$f":"IFERROR(VLOOKUP(E238,Nota_Fiscal!$G$4:$L$1000,6,0),\"\")","v":""}]
[null,null,{"$f":"IFERROR(VLOOKUP(A239,Insumos!A:B,2,FALSE),\"\")","v":""},null,null,null,null,{"$f":"IFERROR(VLOOKUP(E239,Nota_Fiscal!$G$4:$L$1000,6,0),\"\")","v":""}]
[null,null,{"$f":"IFERROR(VLOOKUP(A240,Insumos!A:B,2,FALSE),\"\")","v":""},null,null,null,null,{"$f":"IFERROR(VLOOKUP(E240,Nota_Fiscal!$G$4:$L$1000,6,0),\"\")","v":""}]
[null,null,{"$f":"IFERROR(VLOOKUP(A241,Insumos!A:B,2,FALSE),\"\")","v":""},null,null,null,null,{"$f":"IFERROR(VLOOKUP(E241,Nota_Fiscal!$G$4:$L$1000,6,0),\"\")","v":""}]
[null,null,{"$f":"IFERROR(VLOOKUP(A242,Insumos!A:B,2,FALSE),\"\")","v":""},null,null,null,null,{"$f":"IFERROR(VLOOKUP(E242,Nota_Fiscal!$G$4:$L$1000,6,0),\"\")","v":""}]
[null,null,{"$f":"IFERROR(VLOOKUP(A243,Insumos!A:B,2,FALSE),\"\")","v":""},null,null,null,null,{"$f":"IFERROR(VLOOKUP(E243,Nota_Fiscal!$G$4:$L$1000,6,0),\"\")","v":""}]
[null,null,{"$f":"IFERROR(VLOOKUP(A244,Insumos!A:B,2,FALSE),\"\")","v":""},null,null,null,null,{"$f":"IFERROR(VLOOKUP(E244,Nota_Fiscal!$G$4:$L$1000,6,0),\"\")","v":""}]
[null,null,{"$f":"IFERROR(VLOOKUP(A245,Insumos!A:B,2,FALSE),\"\")","v":""},null,null,null,null,{"$f":"IFERROR(VLOOKUP(E245,Nota_Fiscal!$G$4:$L$1000,6,0),\"\")","v":""}]
[null,null,{"$f":"IFERROR(VLOOKUP(A246,Insumos!A:B,2,FALSE),\"\")","v":""},null,null,null,null,{"$f":"IFERROR(VLOOKUP(E246,Nota_Fiscal!$G$4:$L$1000,6,0),\"\")","v":""}]
[null,null,{"$f":"IFERROR(VLOOKUP(A247,Insumos!A:B,2,FALSE),\"\")","v":""},null,null,null,null,{"$f":"IFERROR(VLOOKUP(E247,Nota_Fiscal!$G$4:$L$1000,6,0),\"\")","v":""}]
[null,null,{"$f":"IFERROR(VLOOKUP(A248,Insumos!A:B,2,FALSE),\"\")","v":""},null,null,null,null,{"$f":"IFERROR(VLOOKUP(E248,Nota_Fiscal!$G$4:$L$1000,6,0),\"\")","v":""}]
[null,null,{"$f":"IFERROR(VLOOKUP(A249,Insumos!A:B,2,FALSE),\"\")","v":""},null,null,null,null,{"$f":"IFERROR(VLOOKUP(E249,Nota_Fiscal!$G$4:$L$1000,6,0),\"\")","v":""}]
[null,null,{"$f":"IFERROR(VLOOKUP(A250,Insumos!A:B,2,FALSE),\"\")","v":""},null,null,null,null,{"$f":"IFERROR(VLOOKUP(E250,Nota_Fiscal!$G$4:$L$1000,6,0),\"\")","v":""}]
[null,null,{"$f":"IFERROR(VLOOKUP(A251,Insumos!A:B,2,FALSE),\"\")","v":""},null,null,null,null,{"$f":"IFERROR(VLOOKUP(E251,Nota_Fiscal!$G$4:$L$1000,6,0),\"\")","v":""}]
[null,null,{"$f":"IFERROR(VLOOKUP(A252,Insumos!A:B,2,FALSE),\"\")","v":""},null,null,null,null,{"$f":"IFERROR(VLOOKUP(E252,Nota_Fiscal!$G$4:$L$1000,6,0),\"\")","v":""}]
[null,null,{"$f":"IFERROR(VLOOKUP(A253,Insumos!A:B,2,FALSE),\"\")","v":""},null,null,null,null,{"$f":"IFERROR(VLOOKUP(E253,Nota_Fiscal!$G$4:$L$1000,6,0),\"\")","v":""}]
[null,null,{"$f":"IFERROR(VLOOKUP(A254,Insumos!A:B,2,FALSE),\"\")","v":""},null,null,null,null,{"$f":"IFERROR(VLOOKUP(E254,Nota_Fiscal!$G$4:$L$1000,6,0),\"\")","v":""}]
[null,null,{"$f":"IFERROR(VLOOKUP(A255,Insumos!A:B,2,FALSE),\"\")","v":""},null,null,null,null,{"$f":"IFERROR(VLOOKUP(E255,Nota_Fiscal!$G$4:$L$1000,6,0),\"\")","v":""}]
[null,null,{"$f":"IFERROR(VLOOKUP(A256,Insumos!A:B,2,FALSE),\"\")","v":""},null,null,null,null,{"$f":"IFERROR(VLOOKUP(E256,Nota_Fiscal!$G$4:$L$1000,6,0),\"\")","v":""}]
[null,null,{"$f":"IFERROR(VLOOKUP(A257,Insumos!A:B,2,FALSE),\"\")","v":""},null,null,null,null,{"$f":"IFERROR(VLOOKUP(E257,Nota_Fiscal!$G$4:$L$1000,6,0),\"\")","v":""}]
[null,null,{"$f":"IFERROR(VLOOKUP(A258,Insumos!A:B,2,FALSE),\"\")","v":""},null,null,null,null,{"$f":"IFERROR(VLOOKUP(E258,Nota_Fiscal!$G$4:$L$1000,6,0),\"\")","v":""}]
[null,null,{"$f":"IFERROR(VLOOKUP(A259,Insumos!A:B,2,FALSE),\"\")","v":""},null,null,null,null,{"$f":"IFERROR(VLOOKUP(E259,Nota_Fiscal!$G$4:$L$1000,6,0),\"\")","v":""}]
[null,null,{"$f":"IFERROR(VLOOKUP(A260,Insumos!A:B,2,FALSE),\"\")","v":""},null,null,null,null,{"$f":"IFERROR(VLOOKUP(E260,Nota_Fiscal!$G$4:$L$1000,6,0),\"\")","v":""}]
[null,null,{"$f":"IFERROR(VLOOKUP(A261,Insumos!A:B,2,FALSE),\"\")","v":""},null,null,null,null,{"$f":"IFERROR(VLOOKUP(E261,Nota_Fiscal!$G$4:$L$1000,6,0),\"\")","v":""}]
[null,null,{"$f":"IFERROR(VLOOKUP(A262,Insumos!A:B,2,FALSE),\"\")","v":""},null,null,null,null,{"$f":"IFERROR(VLOOKUP(E262,Nota_Fiscal!$G$4:$L$1000,6,0),\"\")","v":""}]
[null,null,{"$f":"IFERROR(VLOOKUP(A263,Insumos!A:B,2,FALSE),\"\")","v":""},null,null,null,null,{"$f":"IFERROR(VLOOKUP(E263,Nota_Fiscal!$G$4:$L$1000,6,0),\"\")","v":""}]
[null,null,{"$f":"IFERROR(VLOOKUP(A264,Insumos!A:B,2,FALSE),\"\")","v":""},null,null,null,null,{"$f":"IFERROR(VLOOKUP(E264,Nota_Fiscal!$G$4:$L$1000,6,0),\"\")","v":""}]
[null,null,{"$f":"IFERROR(VLOOKUP(A265,Insumos!A:B,2,FALSE),\"\")","v":""},null,null,null,null,{"$f":"IFERROR(VLOOKUP(E265,Nota_Fiscal!$G$4:$L$1000,6,0),\"\")","v":""}]
[null,null,{"$f":"IFERROR(VLOOKUP(A266,Insumos!A:B,2,FALSE),\"\")","v":""},null,null,null,null,{"$f":"IFERROR(VLOOKUP(E266,Nota_Fiscal!$G$4:$L$1000,6,0),\"\")","v":""}]
[null,null,{"$f":"IFERROR(VLOOKUP(A267,Insumos!A:B,2,FALSE),\"\")","v":""},null,null,null,null,{"$f":"IFERROR(VLOOKUP(E267,Nota_Fiscal!$G$4:$L$1000,6,0),\"\")","v":""}]
[null,null,{"$f":"IFERROR(VLOOKUP(A268,Insumos!A:B,2,FALSE),\"\")","v":""},null,null,null,null,{"$f":"IFERROR(VLOOKUP(E268,Nota_Fiscal!$G$4:$L$1000,6,0),\"\")","v":""}]
[null,null,{"$f":"IFERROR(VLOOKUP(A269,Insumos!A:B,2,FALSE),\"\")","v":""},null,null,null,null,{"$f":"IFERROR(VLOOKUP(E269,Nota_Fiscal!$G$4:$L$1000,6,0),\"\")","v":""}]
[null,null,{"$f":"IFERROR(VLOOKUP(A270,Insumos!A:B,2,FALSE),\"\")","v":""},null,null,null,null,{"$f":"IFERROR(VLOOKUP(E270,Nota_Fiscal!$G$4:$L$1000,6,0),\"\")","v":""}]
[null,null,{"$f":"IFERROR(VLOOKUP(A271,Insumos!A:B,2,FALSE),\"\")","v":""},null,null,null,null,{"$f":"IFERROR(VLOOKUP(E271,Nota_Fiscal!$G$4:$L$1000,6,0),\"\")","v":""}]
[null,null,{"$f":"IFERROR(VLOOKUP(A272,Insumos!A:B,2,FALSE),\"\")","v":""},null,null,null,null,{"$f":"IFERROR(VLOOKUP(E272,Nota_Fiscal!$G$4:$L$1000,6,0),\"\")","v":""}]
[null,null,{"$f":"IFERROR(VLOOKUP(A273,Insumos!A:B,2,FALSE),\"\")","v":""},null,null,null,null,{"$f":"IFERROR(VLOOKUP(E273,Nota_Fiscal!$G$4:$L$1000,6,0),\"\")","v":""}]
[null,null,{"$f":"IFERROR(VLOOKUP(A274,Insumos!A:B,2,FALSE),\"\")","v":""},null,null,null,null,{"$f":"IFERROR(VLOOKUP(E274,Nota_Fiscal!$G$4:$L$1000,6,0),\"\")","v":""}]
[null,null,{"$f":"IFERROR(VLOOKUP(A275,Insumos!A:B,2,FALSE),\"\")","v":""},null,null,null,null,{"$f":"IFERROR(VLOOKUP(E275,Nota_Fiscal!$G$4:$L$1000,6,0),\"\")","v":""}]
[null,null,{"$f":"IFERROR(VLOOKUP(A276,Insumos!A:B,2,FALSE),\"\")","v":""},null,null,null,null,{"$f":"IFERROR(VLOOKUP(E276,Nota_Fiscal!$G$4:$L$1000,6,0),\"\")","v":""}]
[null,null,{"$f":"IFERROR(VLOOKUP(A277,Insumos!A:B,2,FALSE),\"\")","v":""},null,null,null,null,{"$f":"IFERROR(VLOOKUP(E277,Nota_Fiscal!$G$4:$L$1000,6,0),\"\")","v":""}]
[null,null,{"$f":"IFERROR(VLOOKUP(A278,Insumos!A:B,2,FALSE),\"\")","v":""},null,null,null,null,{"$f":"IFERROR(VLOOKUP(E278,Nota_Fiscal!$G$4:$L$1000,6,0),\"\")","v":""}]
[null,null,{"$f":"IFERROR(VLOOKUP(A279,Insumos!A:B,2,FALSE),\"\")","v":""},null,null,null,null,{"$f":"IFERROR(VLOOKUP(E279,Nota_Fiscal!$G$4:$L$1000,6,0),\"\")","v":""}]
[null,null,{"$f":"IFERROR(VLOOKUP(A280,Insumos!A:B,2,FALSE),\"\")","v":""},null,null,null,null,{"$f":"IFERROR(VLOOKUP(E280,Nota_Fiscal!$G$4:$L$1000,6,0),\"\")","v":""}]
[null,null,{"$f":"IFERROR(VLOOKUP(A281,Insumos!A:B,2,FALSE),\"\")","v":""},null,null,null,null,{"$f":"IFERROR(VLOOKUP(E281,Nota_Fiscal!$G$4:$L$1000,6,0),\"\")","v":""}]
[null,null,{"$f":"IFERROR(VLOOKUP(A282,Insumos!A:B,2,FALSE),\"\")","v":""},null,null,null,null,{"$f":"IFERROR(VLOOKUP(E282,Nota_Fiscal!$G$4:$L$1000,6,0),\"\")","v":""}]
[null,null,{"$f":"IFERROR(VLOOKUP(A283,Insumos!A:B,2,FALSE),\"\")","v":""},null,null,null,null,{"$f":"IFERROR(VLOOKUP(E283,Nota_Fiscal!$G$4:$L$1000,6,0),\"\")","v":""}]
[null,null,{"$f":"IFERROR(VLOOKUP(A284,Insumos!A:B,2,FALSE),\"\")","v":""},null,null,null,null,{"$f":"IFERROR(VLOOKUP(E284,Nota_Fiscal!$G$4:$L$1000,6,0),\"\")","v":""}]
[null,null,{"$f":"IFERROR(VLOOKUP(A285,Insumos!A:B,2,FALSE),\"\")","v":""},null,null,null,null,{"$f":"IFERROR(VLOOKUP(E285,Nota_Fiscal!$G$4:$L$1000,6,0),\"\")","v":""}]
[null,null,{"$f":"IFERROR(VLOOKUP(A286,Insumos!A:B,2,FALSE),\"\")","v":""},null,null,null,null,{"$f":"IFERROR(VLOOKUP(E286,Nota_Fiscal!$G$4:$L$1000,6,0),\"\")","v":""}]
[null,null,{"$f":"IFERROR(VLOOKUP(A287,Insumos!A:B,2,FALSE),\"\")","v":""},null,null,null,null,{"$f":"IFERROR(VLOOKUP(E287,Nota_Fiscal!$G$4:$L$1000,6,0),\"\")","v":""}]
[null,null,{"$f":"IFERROR(VLOOKUP(A288,Insumos!A:B,2,FALSE),\"\")","v":""},null,null,null,null,{"$f":"IFERROR(VLOOKUP(E288,Nota_Fiscal!$G$4:$L$1000,6,0),\"\")","v":""}]
[null,null,{"$f":"IFERROR(VLOOKUP(A289,Insumos!A:B,2,FALSE),\"\")","v":""},null,null,null,null,{"$f":"IFERROR(VLOOKUP(E289,Nota_Fiscal!$G$4:$L$1000,6,0),\"\")","v":""}]
[null,null,{"$f":"IFERROR(VLOOKUP(A290,Insumos!A:B,2,FALSE),\"\")","v":""},null,null,null,null,{"$f":"IFERROR(VLOOKUP(E290,Nota_Fiscal!$G$4:$L$1000,6,0),\"\")","v":""}]
[null,null,{"$f":"IFERROR(VLOOKUP(A291,Insumos!A:B,2,FALSE),\"\")","v":""},null,null,null,null,{"$f":"IFERROR(VLOOKUP(E291,Nota_Fiscal!$G$4:$L$1000,6,0),\"\")","v":""}]
[null,null,{"$f":"IFERROR(VLOOKUP(A292,Insumos!A:B,2,FALSE),\"\")","v":""},null,null,null,null,{"$f":"IFERROR(VLOOKUP(E292,Nota_Fiscal!$G$4:$L$1000,6,0),\"\")","v":""}]
[null,null,{"$f":"IFERROR(VLOOKUP(A293,Insumos!A:B,2,FALSE),\"\")","v":""},null,null,null,null,{"$f":"IFERROR(VLOOKUP(E293,Nota_Fiscal!$G$4:$L$1000,6,0),\"\")","v":""}]
[null,null,{"$f":"IFERROR(VLOOKUP(A294,Insumos!A:B,2,FALSE),\"\")","v":""},null,null,null,null,{"$f":"IFERROR(VLOOKUP(E294,Nota_Fiscal!$G$4:$L$1000,6,0),\"\")","v":""}]
[null,null,{"$f":"IFERROR(VLOOKUP(A295,Insumos!A:B,2,FALSE),\"\")","v":""},null,null,null,null,{"$f":"IFERROR(VLOOKUP(E295,Nota_Fiscal!$G$4:$L$1000,6,0),\"\")","v":""}]
[null,null,{"$f":"IFERROR(VLOOKUP(A296,Insumos!A:B,2,FALSE),\"\")","v":""},null,null,null,null,{"$f":"IFERROR(VLOOKUP(E296,Nota_Fiscal!$G$4:$L$1000,6,0),\"\")","v":""}]
[null,null,{"$f":"IFERROR(VLOOKUP(A297,Insumos!A:B,2,FALSE),\"\")","v":""},null,null,null,null,{"$f":"IFERROR(VLOOKUP(E297,Nota_Fiscal!$G$4:$L$1000,6,0),\"\")","v":""}]
[null,null,{"$f":"IFERROR(VLOOKUP(A298,Insumos!A:B,2,FALSE),\"\")","v":""},null,null,null,null,{"$f":"IFERROR(VLOOKUP(E298,Nota_Fiscal!$G$4:$L$1000,6,0),\"\")","v":""}]
[null,null,{"$f":"IFERROR(VLOOKUP(A299,Insumos!A:B,2,FALSE),\"\")","v":""},null,null,null,null,{"$f":"IFERROR(VLOOKUP(E299,Nota_Fiscal!$G$4:$L$1000,6,0),\"\")","v":""}]
[null,null,{"$f":"IFERROR(VLOOKUP(A300,Insumos!A:B,2,FALSE),\"\")","v":""},null,null,null,null,{"$f":"IFERROR(VLOOKUP(E300,Nota_Fiscal!$G$4:$L$1000,6,0),\"\")","v":""}]
[null,null,{"$f":"IFERROR(VLOOKUP(A301,Insumos!A:B,2,FALSE),\"\")","v":""},null,null,null,null,{"$f":"IFERROR(VLOOKUP(E301,Nota_Fiscal!$G$4:$L$1000,6,0),\"\")","v":""}]
[null,null,{"$f":"IFERROR(VLOOKUP(A302,Insumos!A:B,2,FALSE),\"\")","v":""},null,null,null,null,{"$f":"IFERROR(VLOOKUP(E302,Nota_Fiscal!$G$4:$L$1000,6,0),\"\")","v":""}]
[null,null,{"$f":"IFERROR(VLOOKUP(A303,Insumos!A:B,2,FALSE),\"\")","v":""},null,null,null,null,{"$f":"IFERROR(VLOOKUP(E303,Nota_Fiscal!$G$4:$L$1000,6,0),\"\")","v":""}]
[null,null,{"$f":"IFERROR(VLOOKUP(A304,Insumos!A:B,2,FALSE),\"\")","v":""},null,null,null,null,{"$f":"IFERROR(VLOOKUP(E304,Nota_Fiscal!$G$4:$L$1000,6,0),\"\")","v":""}]
[null,null,{"$f":"IFERROR(VLOOKUP(A305,Insumos!A:B,2,FALSE),\"\")","v":""},null,null,null,null,{"$f":"IFERROR(VLOOKUP(E305,Nota_Fiscal!$G$4:$L$1000,6,0),\"\")","v":""}]
[null,null,{"$f":"IFERROR(VLOOKUP(A306,Insumos!A:B,2,FALSE),\"\")","v":""},null,null,null,null,{"$f":"IFERROR(VLOOKUP(E306,Nota_Fiscal!$G$4:$L$1000,6,0),\"\")","v":""}]
[null,null,{"$f":"IFERROR(VLOOKUP(A307,Insumos!A:B,2,FALSE),\"\")","v":""},null,null,null,null,{"$f":"IFERROR(VLOOKUP(E307,Nota_Fiscal!$G$4:$L$1000,6,0),\"\")","v":""}]
[null,null,{"$f":"IFERROR(VLOOKUP(A308,Insumos!A:B,2,FALSE),\"\")","v":""},null,null,null,null,{"$f":"IFERROR(VLOOKUP(E308,Nota_Fiscal!$G$4:$L$1000,6,0),\"\")","v":""}]
[null,null,{"$f":"IFERROR(VLOOKUP(A309,Insumos!A:B,2,FALSE),\"\")","v":""},null,null,null,null,{"$f":"IFERROR(VLOOKUP(E309,Nota_Fiscal!$G$4:$L$1000,6,0),\"\")","v":""}]
[null,null,{"$f":"IFERROR(VLOOKUP(A310,Insumos!A:B,2,FALSE),\"\")","v":""},null,null,null,null,{"$f":"IFERROR(VLOOKUP(E310,Nota_Fiscal!$G$4:$L$1000,6,0),\"\")","v":""}]
[null,null,{"$f":"IFERROR(VLOOKUP(A311,Insumos!A:B,2,FALSE),\"\")","v":""},null,null,null,null,{"$f":"IFERROR(VLOOKUP(E311,Nota_Fiscal!$G$4:$L$1000,6,0),\"\")","v":""}]
[null,null,{"$f":"IFERROR(VLOOKUP(A312,Insumos!A:B,2,FALSE),\"\")","v":""},null,null,null,null,{"$f":"IFERROR(VLOOKUP(E312,Nota_Fiscal!$G$4:$L$1000,6,0),\"\")","v":""}]
[null,null,{"$f":"IFERROR(VLOOKUP(A313,Insumos!A:B,2,FALSE),\"\")","v":""},null,null,null,null,{"$f":"IFERROR(VLOOKUP(E313,Nota_Fiscal!$G$4:$L$1000,6,0),\"\")","v":""}]
[null,null,{"$f":"IFERROR(VLOOKUP(A314,Insumos!A:B,2,FALSE),\"\")","v":""},null,null,null,null,{"$f":"IFERROR(VLOOKUP(E314,Nota_Fiscal!$G$4:$L$1000,6,0),\"\")","v":""}]
[null,null,{"$f":"IFERROR(VLOOKUP(A315,Insumos!A:B,2,FALSE),\"\")","v":""},null,null,null,null,{"$f":"IFERROR(VLOOKUP(E315,Nota_Fiscal!$G$4:$L$1000,6,0),\"\")","v":""}]
[null,null,{"$f":"IFERROR(VLOOKUP(A316,Insumos!A:B,2,FALSE),\"\")","v":""},null,null,null,null,{"$f":"IFERROR(VLOOKUP(E316,Nota_Fiscal!$G$4:$L$1000,6,0),\"\")","v":""}]
[null,null,{"$f":"IFERROR(VLOOKUP(A317,Insumos!A:B,2,FALSE),\"\")","v":""},null,null,null,null,{"$f":"IFERROR(VLOOKUP(E317,Nota_Fiscal!$G$4:$L$1000,6,0),\"\")","v":""}]
[null,null,{"$f":"IFERROR(VLOOKUP(A318,Insumos!A:B,2,FALSE),\"\")","v":""},null,null,null,null,{"$f":"IFERROR(VLOOKUP(E318,Nota_Fiscal!$G$4:$L$1000,6,0),\"\")","v":""}]
[null,null,{"$f":"IFERROR(VLOOKUP(A319,Insumos!A:B,2,FALSE),\"\")","v":""},null,null,null,null,{"$f":"IFERROR(VLOOKUP(E319,Nota_Fiscal!$G$4:$L$1000,6,0),\"\")","v":""}]
[null,null,{"$f":"IFERROR(VLOOKUP(A320,Insumos!A:B,2,FALSE),\"\")","v":""},null,null,null,null,{"$f":"IFERROR(VLOOKUP(E320,Nota_Fiscal!$G$4:$L$1000,6,0),\"\")","v":""}]
[null,null,{"$f":"IFERROR(VLOOKUP(A321,Insumos!A:B,2,FALSE),\"\")","v":""},null,null,null,null,{"$f":"IFERROR(VLOOKUP(E321,Nota_Fiscal!$G$4:$L$1000,6,0),\"\")","v":""}]
[null,null,{"$f":"IFERROR(VLOOKUP(A322,Insumos!A:B,2,FALSE),\"\")","v":""},null,null,null,null,{"$f":"IFERROR(VLOOKUP(E322,Nota_Fiscal!$G$4:$L$1000,6,0),\"\")","v":""}]
[null,null,{"$f":"IFERROR(VLOOKUP(A323,Insumos!A:B,2,FALSE),\"\")","v":""},null,null,null,null,{"$f":"IFERROR(VLOOKUP(E323,Nota_Fiscal!$G$4:$L$1000,6,0),\"\")","v":""}]
[null,null,{"$f":"IFERROR(VLOOKUP(A324,Insumos!A:B,2,FALSE),\"\")","v":""},null,null,null,null,{"$f":"IFERROR(VLOOKUP(E324,Nota_Fiscal!$G$4:$L$1000,6,0),\"\")","v":""}]
[null,null,{"$f":"IFERROR(VLOOKUP(A325,Insumos!A:B,2,FALSE),\"\")","v":""},null,null,null,null,{"$f":"IFERROR(VLOOKUP(E325,Nota_Fiscal!$G$4:$L$1000,6,0),\"\")","v":""}]
[null,null,{"$f":"IFERROR(VLOOKUP(A326,Insumos!A:B,2,FALSE),\"\")","v":""},null,null,null,null,{"$f":"IFERROR(VLOOKUP(E326,Nota_Fiscal!$G$4:$L$1000,6,0),\"\")","v":""}]
[null,null,{"$f":"IFERROR(VLOOKUP(A327,Insumos!A:B,2,FALSE),\"\")","v":""},null,null,null,null,{"$f":"IFERROR(VLOOKUP(E327,Nota_Fiscal!$G$4:$L$1000,6,0),\"\")","v":""}]
[null,null,{"$f":"IFERROR(VLOOKUP(A328,Insumos!A:B,2,FALSE),\"\")","v":""},null,null,null,null,{"$f":"IFERROR(VLOOKUP(E328,Nota_Fiscal!$G$4:$L$1000,6,0),\"\")","v":""}]
[null,null,{"$f":"IFERROR(VLOOKUP(A329,Insumos!A:B,2,FALSE),\"\")","v":""},null,null,null,null,{"$f":"IFERROR(VLOOKUP(E329,Nota_Fiscal!$G$4:$L$1000,6,0),\"\")","v":""}]
[null,null,{"$f":"IFERROR(VLOOKUP(A330,Insumos!A:B,2,FALSE),\"\")","v":""},null,null,null,null,{"$f":"IFERROR(VLOOKUP(E330,Nota_Fiscal!$G$4:$L$1000,6,0),\"\")","v":""}]
[null,null,{"$f":"IFERROR(VLOOKUP(A331,Insumos!A:B,2,FALSE),\"\")","v":""},null,null,null,null,{"$f":"IFERROR(VLOOKUP(E331,Nota_Fiscal!$G$4:$L$1000,6,0),\"\")","v":""}]
[null,null,{"$f":"IFERROR(VLOOKUP(A332,Insumos!A:B,2,FALSE),\"\")","v":""},null,null,null,null,{"$f":"IFERROR(VLOOKUP(E332,Nota_Fiscal!$G$4:$L$1000,6,0),\"\")","v":""}]
[null,null,{"$f":"IFERROR(VLOOKUP(A333,Insumos!A:B,2,FALSE),\"\")","v":""},null,null,null,null,{"$f":"IFERROR(VLOOKUP(E333,Nota_Fiscal!$G$4:$L$1000,6,0),\"\")","v":""}]
[null,null,{"$f":"IFERROR(VLOOKUP(A334,Insumos!A:B,2,FALSE),\"\")","v":""},null,null,null,null,{"$f":"IFERROR(VLOOKUP(E334,Nota_Fiscal!$G$4:$L$1000,6,0),\"\")","v":""}]
[null,null,{"$f":"IFERROR(VLOOKUP(A335,Insumos!A:B,2,FALSE),\"\")","v":""},null,null,null,null,{"$f":"IFERROR(VLOOKUP(E335,Nota_Fiscal!$G$4:$L$1000,6,0),\"\")","v":""}]
[null,null,{"$f":"IFERROR(VLOOKUP(A336,Insumos!A:B,2,FALSE),\"\")","v":""},null,null,null,null,{"$f":"IFERROR(VLOOKUP(E336,Nota_Fiscal!$G$4:$L$1000,6,0),\"\")","v":""}]
[null,null,{"$f":"IFERROR(VLOOKUP(A337,Insumos!A:B,2,FALSE),\"\")","v":""},null,null,null,null,{"$f":"IFERROR(VLOOKUP(E337,Nota_Fiscal!$G$4:$L$1000,6,0),\"\")","v":""}]
[null,null,{"$f":"IFERROR(VLOOKUP(A338,Insumos!A:B,2,FALSE),\"\")","v":""},null,null,null,null,{"$f":"IFERROR(VLOOKUP(E338,Nota_Fiscal!$G$4:$L$1000,6,0),\"\")","v":""}]
[null,null,{"$f":"IFERROR(VLOOKUP(A339,Insumos!A:B,2,FALSE),\"\")","v":""},null,null,null,null,{"$f":"IFERROR(VLOOKUP(E339,Nota_Fiscal!$G$4:$L$1000,6,0),\"\")","v":""}]
[null,null,{"$f":"IFERROR(VLOOKUP(A340,Insumos!A:B,2,FALSE),\"\")","v":""},null,null,null,null,{"$f":"IFERROR(VLOOKUP(E340,Nota_Fiscal!$G$4:$L$1000,6,0),\"\")","v":""}]
[null,null,{"$f":"IFERROR(VLOOKUP(A341,Insumos!A:B,2,FALSE),\"\")","v":""},null,null,null,null,{"$f":"IFERROR(VLOOKUP(E341,Nota_Fiscal!$G$4:$L$1000,6,0),\"\")","v":""}]
[null,null,{"$f":"IFERROR(VLOOKUP(A342,Insumos!A:B,2,FALSE),\"\")","v":""},null,null,null,null,{"$f":"IFERROR(VLOOKUP(E342,Nota_Fiscal!$G$4:$L$1000,6,0),\"\")","v":""}]
[null,null,{"$f":"IFERROR(VLOOKUP(A343,Insumos!A:B,2,FALSE),\"\")","v":""},null,null,null,null,{"$f":"IFERROR(VLOOKUP(E343,Nota_Fiscal!$G$4:$L$1000,6,0),\"\")","v":""}]
[null,null,{"$f":"IFERROR(VLOOKUP(A344,Insumos!A:B,2,FALSE),\"\")","v":""},null,null,null,null,{"$f":"IFERROR(VLOOKUP(E344,Nota_Fiscal!$G$4:$L$1000,6,0),\"\")","v":""}]
[null,null,{"$f":"IFERROR(VLOOKUP(A345,Insumos!A:B,2,FALSE),\"\")","v":""},null,null,null,null,{"$f":"IFERROR(VLOOKUP(E345,Nota_Fiscal!$G$4:$L$1000,6,0),\"\")","v":""}]
[null,null,{"$f":"IFERROR(VLOOKUP(A346,Insumos!A:B,2,FALSE),\"\")","v":""},null,null,null,null,{"$f":"IFERROR(VLOOKUP(E346,Nota_Fiscal!$G$4:$L$1000,6,0),\"\")","v":""}]
[null,null,{"$f":"IFERROR(VLOOKUP(A347,Insumos!A:B,2,FALSE),\"\")","v":""},null,null,null,null,{"$f":"IFERROR(VLOOKUP(E347,Nota_Fiscal!$G$4:$L$1000,6,0),\"\")","v":""}]
[null,null,{"$f":"IFERROR(VLOOKUP(A348,Insumos!A:B,2,FALSE),\"\")","v":""},null,null,null,null,{"$f":"IFERROR(VLOOKUP(E348,Nota_Fiscal!$G$4:$L$1000,6,0),\"\")","v":""}]
[null,null,{"$f":"IFERROR(VLOOKUP(A349,Insumos!A:B,2,FALSE),\"\")","v":""},null,null,null,null,{"$f":"IFERROR(VLOOKUP(E349,Nota_Fiscal!$G$4:$L$1000,6,0),\"\")","v":""}]
[null,null,{"$f":"IFERROR(VLOOKUP(A350,Insumos!A:B,2,FALSE),\"\")","v":""},null,null,null,null,{"$f":"IFERROR(VLOOKUP(E350,Nota_Fiscal!$G$4:$L$1000,6,0),\"\")","v":""}]
[null,null,{"$f":"IFERROR(VLOOKUP(A351,Insumos!A:B,2,FALSE),\"\")","v":""},null,null,null,null,{"$f":"IFERROR(VLOOKUP(E351,Nota_Fiscal!$G$4:$L$1000,6,0),\"\")","v":""}]
[null,null,{"$f":"IFERROR(VLOOKUP(A352,Insumos!A:B,2,FALSE),\"\")","v":""},null,null,null,null,{"$f":"IFERROR(VLOOKUP(E352,Nota_Fiscal!$G$4:$L$1000,6,0),\"\")","v":""}]
[null,null,{"$f":"IFERROR(VLOOKUP(A353,Insumos!A:B,2,FALSE),\"\")","v":""},null,null,null,null,{"$f":"IFERROR(VLOOKUP(E353,Nota_Fiscal!$G$4:$L$1000,6,0),\"\")","v":""}]
[null,null,{"$f":"IFERROR(VLOOKUP(A354,Insumos!A:B,2,FALSE),\"\")","v":""},null,null,null,null,{"$f":"IFERROR(VLOOKUP(E354,Nota_Fiscal!$G$4:$L$1000,6,0),\"\")","v":""}]
[null,null,{"$f":"IFERROR(VLOOKUP(A355,Insumos!A:B,2,FALSE),\"\")","v":""},null,null,null,null,{"$f":"IFERROR(VLOOKUP(E355,Nota_Fiscal!$G$4:$L$1000,6,0),\"\")","v":""}]
[null,null,{"$f":"IFERROR(VLOOKUP(A356,Insumos!A:B,2,FALSE),\"\")","v":""},null,null,null,null,{"$f":"IFERROR(VLOOKUP(E356,Nota_Fiscal!$G$4:$L$1000,6,0),\"\")","v":""}]
[null,null,{"$f":"IFERROR(VLOOKUP(A357,Insumos!A:B,2,FALSE),\"\")","v":""},null,null,null,null,{"$f":"IFERROR(VLOOKUP(E357,Nota_Fiscal!$G$4:$L$1000,6,0),\"\")","v":""}]
[null,null,{"$f":"IFERROR(VLOOKUP(A358,Insumos!A:B,2,FALSE),\"\")","v":""},null,null,null,null,{"$f":"IFERROR(VLOOKUP(E358,Nota_Fiscal!$G$4:$L$1000,6,0),\"\")","v":""}]
[null,null,{"$f":"IFERROR(VLOOKUP(A359,Insumos!A:B,2,FALSE),\"\")","v":""},null,null,null,null,{"$f":"IFERROR(VLOOKUP(E359,Nota_Fiscal!$G$4:$L$1000,6,0),\"\")","v":""}]
[null,null,{"$f":"IFERROR(VLOOKUP(A360,Insumos!A:B,2,FALSE),\"\")","v":""},null,null,null,null,{"$f":"IFERROR(VLOOKUP(E360,Nota_Fiscal!$G$4:$L$1000,6,0),\"\")","v":""}]
[null,null,{"$f":"IFERROR(VLOOKUP(A361,Insumos!A:B,2,FALSE),\"\")","v":""},null,null,null,null,{"$f":"IFERROR(VLOOKUP(E361,Nota_Fiscal!$G$4:$L$1000,6,0),\"\")","v":""}]
[null,null,{"$f":"IFERROR(VLOOKUP(A362,Insumos!A:B,2,FALSE),\"\")","v":""},null,null,null,null,{"$f":"IFERROR(VLOOKUP(E362,Nota_Fiscal!$G$4:$L$1000,6,0),\"\")","v":""}]
[null,null,{"$f":"IFERROR(VLOOKUP(A363,Insumos!A:B,2,FALSE),\"\")","v":""},null,null,null,null,{"$f":"IFERROR(VLOOKUP(E363,Nota_Fiscal!$G$4:$L$1000,6,0),\"\")","v":""}]
[null,null,{"$f":"IFERROR(VLOOKUP(A364,Insumos!A:B,2,FALSE),\"\")","v":""},null,null,null,null,{"$f":"IFERROR(VLOOKUP(E364,Nota_Fiscal!$G$4:$L$1000,6,0),\"\")","v":""}]
[null,null,{"$f":"IFERROR(VLOOKUP(A365,Insumos!A:B,2,FALSE),\"\")","v":""},null,null,null,null,{"$f":"IFERROR(VLOOKUP(E365,Nota_Fiscal!$G$4:$L$1000,6,0),\"\")","v":""}]
[null,null,{"$f":"IFERROR(VLOOKUP(A366,Insumos!A:B,2,FALSE),\"\")","v":""},null,null,null,null,{"$f":"IFERROR(VLOOKUP(E366,Nota_Fiscal!$G$4:$L$1000,6,0),\"\")","v":""}]
[null,null,{"$f":"IFERROR(VLOOKUP(A367,Insumos!A:B,2,FALSE),\"\")","v":""},null,null,null,null,{"$f":"IFERROR(VLOOKUP(E367,Nota_Fiscal!$G$4:$L$1000,6,0),\"\")","v":""}]
[null,null,{"$f":"IFERROR(VLOOKUP(A368,Insumos!A:B,2,FALSE),\"\")","v":""},null,null,null,null,{"$f":"IFERROR(VLOOKUP(E368,Nota_Fiscal!$G$4:$L$1000,6,0),\"\")","v":""}]
[null,null,{"$f":"IFERROR(VLOOKUP(A369,Insumos!A:B,2,FALSE),\"\")","v":""},null,null,null,null,{"$f":"IFERROR(VLOOKUP(E369,Nota_Fiscal!$G$4:$L$1000,6,0),\"\")","v":""}]
[null,null,{"$f":"IFERROR(VLOOKUP(A370,Insumos!A:B,2,FALSE),\"\")","v":""},null,null,null,null,{"$f":"IFERROR(VLOOKUP(E370,Nota_Fiscal!$G$4:$L$1000,6,0),\"\")","v":""}]
[null,null,{"$f":"IFERROR(VLOOKUP(A371,Insumos!A:B,2,FALSE),\"\")","v":""},null,null,null,null,{"$f":"IFERROR(VLOOKUP(E371,Nota_Fiscal!$G$4:$L$1000,6,0),\"\")","v":""}]
[null,null,{"$f":"IFERROR(VLOOKUP(A372,Insumos!A:B,2,FALSE),\"\")","v":""},null,null,null,null,{"$f":"IFERROR(VLOOKUP(E372,Nota_Fiscal!$G$4:$L$1000,6,0),\"\")","v":""}]
[null,null,{"$f":"IFERROR(VLOOKUP(A373,Insumos!A:B,2,FALSE),\"\")","v":""},null,null,null,null,{"$f":"IFERROR(VLOOKUP(E373,Nota_Fiscal!$G$4:$L$1000,6,0),\"\")","v":""}]
[null,null,{"$f":"IFERROR(VLOOKUP(A374,Insumos!A:B,2,FALSE),\"\")","v":""},null,null,null,null,{"$f":"IFERROR(VLOOKUP(E374,Nota_Fiscal!$G$4:$L$1000,6,0),\"\")","v":""}]
[null,null,{"$f":"IFERROR(VLOOKUP(A375,Insumos!A:B,2,FALSE),\"\")","v":""},null,null,null,null,{"$f":"IFERROR(VLOOKUP(E375,Nota_Fiscal!$G$4:$L$1000,6,0),\"\")","v":""}]
[null,null,{"$f":"IFERROR(VLOOKUP(A376,Insumos!A:B,2,FALSE),\"\")","v":""},null,null,null,null,{"$f":"IFERROR(VLOOKUP(E376,Nota_Fiscal!$G$4:$L$1000,6,0),\"\")","v":""}]
[null,null,{"$f":"IFERROR(VLOOKUP(A377,Insumos!A:B,2,FALSE),\"\")","v":""},null,null,null,null,{"$f":"IFERROR(VLOOKUP(E377,Nota_Fiscal!$G$4:$L$1000,6,0),\"\")","v":""}]
[null,null,{"$f":"IFERROR(VLOOKUP(A378,Insumos!A:B,2,FALSE),\"\")","v":""},null,null,null,null,{"$f":"IFERROR(VLOOKUP(E378,Nota_Fiscal!$G$4:$L$1000,6,0),\"\")","v":""}]
[null,null,{"$f":"IFERROR(VLOOKUP(A379,Insumos!A:B,2,FALSE),\"\")","v":""},null,null,null,null,{"$f":"IFERROR(VLOOKUP(E379,Nota_Fiscal!$G$4:$L$1000,6,0),\"\")","v":""}]
[null,null,{"$f":"IFERROR(VLOOKUP(A380,Insumos!A:B,2,FALSE),\"\")","v":""},null,null,null,null,{"$f":"IFERROR(VLOOKUP(E380,Nota_Fiscal!$G$4:$L$1000,6,0),\"\")","v":""}]
[null,null,{"$f":"IFERROR(VLOOKUP(A381,Insumos!A:B,2,FALSE),\"\")","v":""},null,null,null,null,{"$f":"IFERROR(VLOOKUP(E381,Nota_Fiscal!$G$4:$L$1000,6,0),\"\")","v":""}]
[null,null,{"$f":"IFERROR(VLOOKUP(A382,Insumos!A:B,2,FALSE),\"\")","v":""},null,null,null,null,{"$f":"IFERROR(VLOOKUP(E382,Nota_Fiscal!$G$4:$L$1000,6,0),\"\")","v":""}]
[null,null,{"$f":"IFERROR(VLOOKUP(A383,Insumos!A:B,2,FALSE),\"\")","v":""},null,null,null,null,{"$f":"IFERROR(VLOOKUP(E383,Nota_Fiscal!$G$4:$L$1000,6,0),\"\")","v":""}]
[null,null,{"$f":"IFERROR(VLOOKUP(A384,Insumos!A:B,2,FALSE),\"\")","v":""},null,null,null,null,{"$f":"IFERROR(VLOOKUP(E384,Nota_Fiscal!$G$4:$L$1000,6,0),\"\")","v":""}]
[null,null,{"$f":"IFERROR(VLOOKUP(A385,Insumos!A:B,2,FALSE),\"\")","v":""},null,null,null,null,{"$f":"IFERROR(VLOOKUP(E385,Nota_Fiscal!$G$4:$L$1000,6,0),\"\")","v":""}]
[null,null,{"$f":"IFERROR(VLOOKUP(A386,Insumos!A:B,2,FALSE),\"\")","v":""},null,null,null,null,{"$f":"IFERROR(VLOOKUP(E386,Nota_Fiscal!$G$4:$L$1000,6,0),\"\")","v":""}]
[null,null,{"$f":"IFERROR(VLOOKUP(A387,Insumos!A:B,2,FALSE),\"\")","v":""},null,null,null,null,{"$f":"IFERROR(VLOOKUP(E387,Nota_Fiscal!$G$4:$L$1000,6,0),\"\")","v":""}]
[null,null,{"$f":"IFERROR(VLOOKUP(A388,Insumos!A:B,2,FALSE),\"\")","v":""},null,null,null,null,{"$f":"IFERROR(VLOOKUP(E388,Nota_Fiscal!$G$4:$L$1000,6,0),\"\")","v":""}]
[null,null,{"$f":"IFERROR(VLOOKUP(A389,Insumos!A:B,2,FALSE),\"\")","v":""},null,null,null,null,{"$f":"IFERROR(VLOOKUP(E389,Nota_Fiscal!$G$4:$L$1000,6,0),\"\")","v":""}]
[null,null,{"$f":"IFERROR(VLOOKUP(A390,Insumos!A:B,2,FALSE),\"\")","v":""},null,null,null,null,{"$f":"IFERROR(VLOOKUP(E390,Nota_Fiscal!$G$4:$L$1000,6,0),\"\")","v":""}]
[null,null,{"$f":"IFERROR(VLOOKUP(A391,Insumos!A:B,2,FALSE),\"\")","v":""},null,null,null,null,{"$f":"IFERROR(VLOOKUP(E391,Nota_Fiscal!$G$4:$L$1000,6,0),\"\")","v":""}]
[null,null,{"$f":"IFERROR(VLOOKUP(A392,Insumos!A:B,2,FALSE),\"\")","v":""},null,null,null,null,{"$f":"IFERROR(VLOOKUP(E392,Nota_Fiscal!$G$4:$L$1000,6,0),\"\")","v":""}]
[null,null,{"$f":"IFERROR(VLOOKUP(A393,Insumos!A:B,2,FALSE),\"\")","v":""},null,null,null,null,{"$f":"IFERROR(VLOOKUP(E393,Nota_Fiscal!$G$4:$L$1000,6,0),\"\")","v":""}]
[null,null,{"$f":"IFERROR(VLOOKUP(A394,Insumos!A:B,2,FALSE),\"\")","v":""},null,null,null,null,{"$f":"IFERROR(VLOOKUP(E394,Nota_Fiscal!$G$4:$L$1000,6,0),\"\")","v":""}]
[null,null,{"$f":"IFERROR(VLOOKUP(A395,Insumos!A:B,2,FALSE),\"\")","v":""},null,null,null,null,{"$f":"IFERROR(VLOOKUP(E395,Nota_Fiscal!$G$4:$L$1000,6,0),\"\")","v":""}]
[null,null,{"$f":"IFERROR(VLOOKUP(A396,Insumos!A:B,2,FALSE),\"\")","v":""},null,null,null,null,{"$f":"IFERROR(VLOOKUP(E396,Nota_Fiscal!$G$4:$L$1000,6,0),\"\")","v":""}]
[null,null,{"$f":"IFERROR(VLOOKUP(A397,Insumos!A:B,2,FALSE),\"\")","v":""},null,null,null,null,{"$f":"IFERROR(VLOOKUP(E397,Nota_Fiscal!$G$4:$L$1000,6,0),\"\")","v":""}]
[null,null,{"$f":"IFERROR(VLOOKUP(A398,Insumos!A:B,2,FALSE),\"\")","v":""},null,null,null,null,{"$f":"IFERROR(VLOOKUP(E398,Nota_Fiscal!$G$4:$L$1000,6,0),\"\")","v":""}]
[null,null,{"$f":"IFERROR(VLOOKUP(A399,Insumos!A:B,2,FALSE),\"\")","v":""},null,null,null,null,{"$f":"IFERROR(VLOOKUP(E399,Nota_Fiscal!$G$4:$L$1000,6,0),\"\")","v":""}]
[null,null,{"$f":"IFERROR(VLOOKUP(A400,Insumos!A:B,2,FALSE),\"\")","v":""},null,null,null,null,{"$f":"IFERROR(VLOOKUP(E400,Nota_Fiscal!$G$4:$L$1000,6,0),\"\")","v":""}]
[null,null,{"$f":"IFERROR(VLOOKUP(A401,Insumos!A:B,2,FALSE),\"\")","v":""},null,null,null,null,{"$f":"IFERROR(VLOOKUP(E401,Nota_Fiscal!$G$4:$L$1000,6,0),\"\")","v":""}]
[null,null,{"$f":"IFERROR(VLOOKUP(A402,Insumos!A:B,2,FALSE),\"\")","v":""},null,null,null,null,{"$f":"IFERROR(VLOOKUP(E402,Nota_Fiscal!$G$4:$L$1000,6,0),\"\")","v":""}]
[null,null,{"$f":"IFERROR(VLOOKUP(A403,Insumos!A:B,2,FALSE),\"\")","v":""},null,null,null,null,{"$f":"IFERROR(VLOOKUP(E403,Nota_Fiscal!$G$4:$L$1000,6,0),\"\")","v":""}]
[null,null,{"$f":"IFERROR(VLOOKUP(A404,Insumos!A:B,2,FALSE),\"\")","v":""},null,null,null,null,{"$f":"IFERROR(VLOOKUP(E404,Nota_Fiscal!$G$4:$L$1000,6,0),\"\")","v":""}]
[null,null,{"$f":"IFERROR(VLOOKUP(A405,Insumos!A:B,2,FALSE),\"\")","v":""},null,null,null,null,{"$f":"IFERROR(VLOOKUP(E405,Nota_Fiscal!$G$4:$L$1000,6,0),\"\")","v":""}]
[null,null,{"$f":"IFERROR(VLOOKUP(A406,Insumos!A:B,2,FALSE),\"\")","v":""},null,null,null,null,{"$f":"IFERROR(VLOOKUP(E406,Nota_Fiscal!$G$4:$L$1000,6,0),\"\")","v":""}]
[null,null,{"$f":"IFERROR(VLOOKUP(A407,Insumos!A:B,2,FALSE),\"\")","v":""},null,null,null,null,{"$f":"IFERROR(VLOOKUP(E407,Nota_Fiscal!$G$4:$L$1000,6,0),\"\")","v":""}]
[null,null,{"$f":"IFERROR(VLOOKUP(A408,Insumos!A:B,2,FALSE),\"\")","v":""},null,null,null,null,{"$f":"IFERROR(VLOOKUP(E408,Nota_Fiscal!$G$4:$L$1000,6,0),\"\")","v":""}]
[null,null,{"$f":"IFERROR(VLOOKUP(A409,Insumos!A:B,2,FALSE),\"\")","v":""},null,null,null,null,{"$f":"IFERROR(VLOOKUP(E409,Nota_Fiscal!$G$4:$L$1000,6,0),\"\")","v":""}]
[null,null,{"$f":"IFERROR(VLOOKUP(A410,Insumos!A:B,2,FALSE),\"\")","v":""},null,null,null,null,{"$f":"IFERROR(VLOOKUP(E410,Nota_Fiscal!$G$4:$L$1000,6,0),\"\")","v":""}]
[null,null,{"$f":"IFERROR(VLOOKUP(A411,Insumos!A:B,2,FALSE),\"\")","v":""},null,null,null,null,{"$f":"IFERROR(VLOOKUP(E411,Nota_Fiscal!$G$4:$L$1000,6,0),\"\")","v":""}]
[null,null,{"$f":"IFERROR(VLOOKUP(A412,Insumos!A:B,2,FALSE),\"\")","v":""},null,null,null,null,{"$f":"IFERROR(VLOOKUP(E412,Nota_Fiscal!$G$4:$L$1000,6,0),\"\")","v":""}]
[null,null,{"$f":"IFERROR(VLOOKUP(A413,Insumos!A:B,2,FALSE),\"\")","v":""},null,null,null,null,{"$f":"IFERROR(VLOOKUP(E413,Nota_Fiscal!$G$4:$L$1000,6,0),\"\")","v":""}]
[null,null,{"$f":"IFERROR(VLOOKUP(A414,Insumos!A:B,2,FALSE),\"\")","v":""},null,null,null,null,{"$f":"IFERROR(VLOOKUP(E414,Nota_Fiscal!$G$4:$L$1000,6,0),\"\")","v":""}]
[null,null,{"$f":"IFERROR(VLOOKUP(A415,Insumos!A:B,2,FALSE),\"\")","v":""},null,null,null,null,{"$f":"IFERROR(VLOOKUP(E415,Nota_Fiscal!$G$4:$L$1000,6,0),\"\")","v":""}]
[null,null,{"$f":"IFERROR(VLOOKUP(A416,Insumos!A:B,2,FALSE),\"\")","v":""},null,null,null,null,{"$f":"IFERROR(VLOOKUP(E416,Nota_Fiscal!$G$4:$L$1000,6,0),\"\")","v":""}]
[null,null,{"$f":"IFERROR(VLOOKUP(A417,Insumos!A:B,2,FALSE),\"\")","v":""},null,null,null,null,{"$f":"IFERROR(VLOOKUP(E417,Nota_Fiscal!$G$4:$L$1000,6,0),\"\")","v":""}]
[null,null,{"$f":"IFERROR(VLOOKUP(A418,Insumos!A:B,2,FALSE),\"\")","v":""},null,null,null,null,{"$f":"IFERROR(VLOOKUP(E418,Nota_Fiscal!$G$4:$L$1000,6,0),\"\")","v":""}]
[null,null,{"$f":"IFERROR(VLOOKUP(A419,Insumos!A:B,2,FALSE),\"\")","v":""},null,null,null,null,{"$f":"IFERROR(VLOOKUP(E419,Nota_Fiscal!$G$4:$L$1000,6,0),\"\")","v":""}]
[null,null,{"$f":"IFERROR(VLOOKUP(A420,Insumos!A:B,2,FALSE),\"\")","v":""},null,null,null,null,{"$f":"IFERROR(VLOOKUP(E420,Nota_Fiscal!$G$4:$L$1000,6,0),\"\")","v":""}]
[null,null,{"$f":"IFERROR(VLOOKUP(A421,Insumos!A:B,2,FALSE),\"\")","v":""},null,null,null,null,{"$f":"IFERROR(VLOOKUP(E421,Nota_Fiscal!$G$4:$L$1000,6,0),\"\")","v":""}]
[null,null,{"$f":"IFERROR(VLOOKUP(A422,Insumos!A:B,2,FALSE),\"\")","v":""},null,null,null,null,{"$f":"IFERROR(VLOOKUP(E422,Nota_Fiscal!$G$4:$L$1000,6,0),\"\")","v":""}]
[null,null,{"$f":"IFERROR(VLOOKUP(A423,Insumos!A:B,2,FALSE),\"\")","v":""},null,null,null,null,{"$f":"IFERROR(VLOOKUP(E423,Nota_Fiscal!$G$4:$L$1000,6,0),\"\")","v":""}]
[null,null,{"$f":"IFERROR(VLOOKUP(A424,Insumos!A:B,2,FALSE),\"\")","v":""},null,null,null,null,{"$f":"IFERROR(VLOOKUP(E424,Nota_Fiscal!$G$4:$L$1000,6,0),\"\")","v":""}]
[null,null,{"$f":"IFERROR(VLOOKUP(A425,Insumos!A:B,2,FALSE),\"\")","v":""},null,null,null,null,{"$f":"IFERROR(VLOOKUP(E425,Nota_Fiscal!$G$4:$L$1000,6,0),\"\")","v":""}]
[null,null,{"$f":"IFERROR(VLOOKUP(A426,Insumos!A:B,2,FALSE),\"\")","v":""},null,null,null,null,{"$f":"IFERROR(VLOOKUP(E426,Nota_Fiscal!$G$4:$L$1000,6,0),\"\")","v":""}]
[null,null,{"$f":"IFERROR(VLOOKUP(A427,Insumos!A:B,2,FALSE),\"\")","v":""},null,null,null,null,{"$f":"IFERROR(VLOOKUP(E427,Nota_Fiscal!$G$4:$L$1000,6,0),\"\")","v":""}]
[null,null,{"$f":"IFERROR(VLOOKUP(A428,Insumos!A:B,2,FALSE),\"\")","v":""},null,null,null,null,{"$f":"IFERROR(VLOOKUP(E428,Nota_Fiscal!$G$4:$L$1000,6,0),\"\")","v":""}]
[null,null,{"$f":"IFERROR(VLOOKUP(A429,Insumos!A:B,2,FALSE),\"\")","v":""},null,null,null,null,{"$f":"IFERROR(VLOOKUP(E429,Nota_Fiscal!$G$4:$L$1000,6,0),\"\")","v":""}]
[null,null,{"$f":"IFERROR(VLOOKUP(A430,Insumos!A:B,2,FALSE),\"\")","v":""},null,null,null,null,{"$f":"IFERROR(VLOOKUP(E430,Nota_Fiscal!$G$4:$L$1000,6,0),\"\")","v":""}]
[null,null,{"$f":"IFERROR(VLOOKUP(A431,Insumos!A:B,2,FALSE),\"\")","v":""},null,null,null,null,{"$f":"IFERROR(VLOOKUP(E431,Nota_Fiscal!$G$4:$L$1000,6,0),\"\")","v":""}]
[null,null,{"$f":"IFERROR(VLOOKUP(A432,Insumos!A:B,2,FALSE),\"\")","v":""},null,null,null,null,{"$f":"IFERROR(VLOOKUP(E432,Nota_Fiscal!$G$4:$L$1000,6,0),\"\")","v":""}]
[null,null,{"$f":"IFERROR(VLOOKUP(A433,Insumos!A:B,2,FALSE),\"\")","v":""},null,null,null,null,{"$f":"IFERROR(VLOOKUP(E433,Nota_Fiscal!$G$4:$L$1000,6,0),\"\")","v":""}]
[null,null,{"$f":"IFERROR(VLOOKUP(A434,Insumos!A:B,2,FALSE),\"\")","v":""},null,null,null,null,{"$f":"IFERROR(VLOOKUP(E434,Nota_Fiscal!$G$4:$L$1000,6,0),\"\")","v":""}]
[null,null,{"$f":"IFERROR(VLOOKUP(A435,Insumos!A:B,2,FALSE),\"\")","v":""},null,null,null,null,{"$f":"IFERROR(VLOOKUP(E435,Nota_Fiscal!$G$4:$L$1000,6,0),\"\")","v":""}]
[null,null,{"$f":"IFERROR(VLOOKUP(A436,Insumos!A:B,2,FALSE),\"\")","v":""},null,null,null,null,{"$f":"IFERROR(VLOOKUP(E436,Nota_Fiscal!$G$4:$L$1000,6,0),\"\")","v":""}]
[null,null,{"$f":"IFERROR(VLOOKUP(A437,Insumos!A:B,2,FALSE),\"\")","v":""},null,null,null,null,{"$f":"IFERROR(VLOOKUP(E437,Nota_Fiscal!$G$4:$L$1000,6,0),\"\")","v":""}]
[null,null,{"$f":"IFERROR(VLOOKUP(A438,Insumos!A:B,2,FALSE),\"\")","v":""},null,null,null,null,{"$f":"IFERROR(VLOOKUP(E438,Nota_Fiscal!$G$4:$L$1000,6,0),\"\")","v":""}]
[null,null,{"$f":"IFERROR(VLOOKUP(A439,Insumos!A:B,2,FALSE),\"\")","v":""},null,null,null,null,{"$f":"IFERROR(VLOOKUP(E439,Nota_Fiscal!$G$4:$L$1000,6,0),\"\")","v":""}]
[null,null,{"$f":"IFERROR(VLOOKUP(A440,Insumos!A:B,2,FALSE),\"\")","v":""},null,null,null,null,{"$f":"IFERROR(VLOOKUP(E440,Nota_Fiscal!$G$4:$L$1000,6,0),\"\")","v":""}]
[null,null,{"$f":"IFERROR(VLOOKUP(A441,Insumos!A:B,2,FALSE),\"\")","v":""},null,null,null,null,{"$f":"IFERROR(VLOOKUP(E441,Nota_Fiscal!$G$4:$L$1000,6,0),\"\")","v":""}]
[null,null,{"$f":"IFERROR(VLOOKUP(A442,Insumos!A:B,2,FALSE),\"\")","v":""},null,null,null,null,{"$f":"IFERROR(VLOOKUP(E442,Nota_Fiscal!$G$4:$L$1000,6,0),\"\")","v":""}]
[null,null,{"$f":"IFERROR(VLOOKUP(A443,Insumos!A:B,2,FALSE),\"\")","v":""},null,null,null,null,{"$f":"IFERROR(VLOOKUP(E443,Nota_Fiscal!$G$4:$L$1000,6,0),\"\")","v":""}]
[null,null,{"$f":"IFERROR(VLOOKUP(A444,Insumos!A:B,2,FALSE),\"\")","v":""},null,null,null,null,{"$f":"IFERROR(VLOOKUP(E444,Nota_Fiscal!$G$4:$L$1000,6,0),\"\")","v":""}]
[null,null,{"$f":"IFERROR(VLOOKUP(A445,Insumos!A:B,2,FALSE),\"\")","v":""},null,null,null,null,{"$f":"IFERROR(VLOOKUP(E445,Nota_Fiscal!$G$4:$L$1000,6,0),\"\")","v":""}]
[null,null,{"$f":"IFERROR(VLOOKUP(A446,Insumos!A:B,2,FALSE),\"\")","v":""},null,null,null,null,{"$f":"IFERROR(VLOOKUP(E446,Nota_Fiscal!$G$4:$L$1000,6,0),\"\")","v":""}]
[null,null,{"$f":"IFERROR(VLOOKUP(A447,Insumos!A:B,2,FALSE),\"\")","v":""},null,null,null,null,{"$f":"IFERROR(VLOOKUP(E447,Nota_Fiscal!$G$4:$L$1000,6,0),\"\")","v":""}]
[null,null,{"$f":"IFERROR(VLOOKUP(A448,Insumos!A:B,2,FALSE),\"\")","v":""},null,null,null,null,{"$f":"IFERROR(VLOOKUP(E448,Nota_Fiscal!$G$4:$L$1000,6,0),\"\")","v":""}]
[null,null,{"$f":"IFERROR(VLOOKUP(A449,Insumos!A:B,2,FALSE),\"\")","v":""},null,null,null,null,{"$f":"IFERROR(VLOOKUP(E449,Nota_Fiscal!$G$4:$L$1000,6,0),\"\")","v":""}]
[null,null,{"$f":"IFERROR(VLOOKUP(A450,Insumos!A:B,2,FALSE),\"\")","v":""},null,null,null,null,{"$f":"IFERROR(VLOOKUP(E450,Nota_Fiscal!$G$4:$L$1000,6,0),\"\")","v":""}]
[null,null,{"$f":"IFERROR(VLOOKUP(A451,Insumos!A:B,2,FALSE),\"\")","v":""},null,null,null,null,{"$f":"IFERROR(VLOOKUP(E451,Nota_Fiscal!$G$4:$L$1000,6,0),\"\")","v":""}]
[null,null,{"$f":"IFERROR(VLOOKUP(A452,Insumos!A:B,2,FALSE),\"\")","v":""},null,null,null,null,{"$f":"IFERROR(VLOOKUP(E452,Nota_Fiscal!$G$4:$L$1000,6,0),\"\")","v":""}]
[null,null,{"$f":"IFERROR(VLOOKUP(A453,Insumos!A:B,2,FALSE),\"\")","v":""},null,null,null,null,{"$f":"IFERROR(VLOOKUP(E453,Nota_Fiscal!$G$4:$L$1000,6,0),\"\")","v":""}]
[null,null,{"$f":"IFERROR(VLOOKUP(A454,Insumos!A:B,2,FALSE),\"\")","v":""},null,null,null,null,{"$f":"IFERROR(VLOOKUP(E454,Nota_Fiscal!$G$4:$L$1000,6,0),\"\")","v":""}]
[null,null,{"$f":"IFERROR(VLOOKUP(A455,Insumos!A:B,2,FALSE),\"\")","v":""},null,null,null,null,{"$f":"IFERROR(VLOOKUP(E455,Nota_Fiscal!$G$4:$L$1000,6,0),\"\")","v":""}]
[null,null,{"$f":"IFERROR(VLOOKUP(A456,Insumos!A:B,2,FALSE),\"\")","v":""},null,null,null,null,{"$f":"IFERROR(VLOOKUP(E456,Nota_Fiscal!$G$4:$L$1000,6,0),\"\")","v":""}]
[null,null,{"$f":"IFERROR(VLOOKUP(A457,Insumos!A:B,2,FALSE),\"\")","v":""},null,null,null,null,{"$f":"IFERROR(VLOOKUP(E457,Nota_Fiscal!$G$4:$L$1000,6,0),\"\")","v":""}]
[null,null,{"$f":"IFERROR(VLOOKUP(A458,Insumos!A:B,2,FALSE),\"\")","v":""},null,null,null,null,{"$f":"IFERROR(VLOOKUP(E458,Nota_Fiscal!$G$4:$L$1000,6,0),\"\")","v":""}]
[null,null,{"$f":"IFERROR(VLOOKUP(A459,Insumos!A:B,2,FALSE),\"\")","v":""},null,null,null,null,{"$f":"IFERROR(VLOOKUP(E459,Nota_Fiscal!$G$4:$L$1000,6,0),\"\")","v":""}]
[null,null,{"$f":"IFERROR(VLOOKUP(A460,Insumos!A:B,2,FALSE),\"\")","v":""},null,null,null,null,{"$f":"IFERROR(VLOOKUP(E460,Nota_Fiscal!$G$4:$L$1000,6,0),\"\")","v":""}]
[null,null,{"$f":"IFERROR(VLOOKUP(A461,Insumos!A:B,2,FALSE),\"\")","v":""},null,null,null,null,{"$f":"IFERROR(VLOOKUP(E461,Nota_Fiscal!$G$4:$L$1000,6,0),\"\")","v":""}]
[null,null,{"$f":"IFERROR(VLOOKUP(A462,Insumos!A:B,2,FALSE),\"\")","v":""},null,null,null,null,{"$f":"IFERROR(VLOOKUP(E462,Nota_Fiscal!$G$4:$L$1000,6,0),\"\")","v":""}]
[null,null,{"$f":"IFERROR(VLOOKUP(A463,Insumos!A:B,2,FALSE),\"\")","v":""},null,null,null,null,{"$f":"IFERROR(VLOOKUP(E463,Nota_Fiscal!$G$4:$L$1000,6,0),\"\")","v":""}]
[null,null,{"$f":"IFERROR(VLOOKUP(A464,Insumos!A:B,2,FALSE),\"\")","v":""},null,null,null,null,{"$f":"IFERROR(VLOOKUP(E464,Nota_Fiscal!$G$4:$L$1000,6,0),\"\")","v":""}]
[null,null,{"$f":"IFERROR(VLOOKUP(A465,Insumos!A:B,2,FALSE),\"\")","v":""},null,null,null,null,{"$f":"IFERROR(VLOOKUP(E465,Nota_Fiscal!$G$4:$L$1000,6,0),\"\")","v":""}]
[null,null,{"$f":"IFERROR(VLOOKUP(A466,Insumos!A:B,2,FALSE),\"\")","v":""},null,null,null,null,{"$f":"IFERROR(VLOOKUP(E466,Nota_Fiscal!$G$4:$L$1000,6,0),\"\")","v":""}]
[null,null,{"$f":"IFERROR(VLOOKUP(A467,Insumos!A:B,2,FALSE),\"\")","v":""},null,null,null,null,{"$f":"IFERROR(VLOOKUP(E467,Nota_Fiscal!$G$4:$L$1000,6,0),\"\")","v":""}]
[null,null,{"$f":"IFERROR(VLOOKUP(A468,Insumos!A:B,2,FALSE),\"\")","v":""},null,null,null,null,{"$f":"IFERROR(VLOOKUP(E468,Nota_Fiscal!$G$4:$L$1000,6,0),\"\")","v":""}]
[null,null,{"$f":"IFERROR(VLOOKUP(A469,Insumos!A:B,2,FALSE),\"\")","v":""},null,null,null,null,{"$f":"IFERROR(VLOOKUP(E469,Nota_Fiscal!$G$4:$L$1000,6,0),\"\")","v":""}]
[null,null,{"$f":"IFERROR(VLOOKUP(A470,Insumos!A:B,2,FALSE),\"\")","v":""},null,null,null,null,{"$f":"IFERROR(VLOOKUP(E470,Nota_Fiscal!$G$4:$L$1000,6,0),\"\")","v":""}]
[null,null,{"$f":"IFERROR(VLOOKUP(A471,Insumos!A:B,2,FALSE),\"\")","v":""},null,null,null,null,{"$f":"IFERROR(VLOOKUP(E471,Nota_Fiscal!$G$4:$L$1000,6,0),\"\")","v":""}]
[null,null,{"$f":"IFERROR(VLOOKUP(A472,Insumos!A:B,2,FALSE),\"\")","v":""},null,null,null,null,{"$f":"IFERROR(VLOOKUP(E472,Nota_Fiscal!$G$4:$L$1000,6,0),\"\")","v":""}]
[null,null,{"$f":"IFERROR(VLOOKUP(A473,Insumos!A:B,2,FALSE),\"\")","v":""},null,null,null,null,{"$f":"IFERROR(VLOOKUP(E473,Nota_Fiscal!$G$4:$L$1000,6,0),\"\")","v":""}]
[null,null,{"$f":"IFERROR(VLOOKUP(A474,Insumos!A:B,2,FALSE),\"\")","v":""},null,null,null,null,{"$f":"IFERROR(VLOOKUP(E474,Nota_Fiscal!$G$4:$L$1000,6,0),\"\")","v":""}]
[null,null,{"$f":"IFERROR(VLOOKUP(A475,Insumos!A:B,2,FALSE),\"\")","v":""},null,null,null,null,{"$f":"IFERROR(VLOOKUP(E475,Nota_Fiscal!$G$4:$L$1000,6,0),\"\")","v":""}]
[null,null,{"$f":"IFERROR(VLOOKUP(A476,Insumos!A:B,2,FALSE),\"\")","v":""},null,null,null,null,{"$f":"IFERROR(VLOOKUP(E476,Nota_Fiscal!$G$4:$L$1000,6,0),\"\")","v":""}]
[null,null,{"$f":"IFERROR(VLOOKUP(A477,Insumos!A:B,2,FALSE),\"\")","v":""},null,null,null,null,{"$f":"IFERROR(VLOOKUP(E477,Nota_Fiscal!$G$4:$L$1000,6,0),\"\")","v":""}]
[null,null,{"$f":"IFERROR(VLOOKUP(A478,Insumos!A:B,2,FALSE),\"\")","v":""},null,null,null,null,{"$f":"IFERROR(VLOOKUP(E478,Nota_Fiscal!$G$4:$L$1000,6,0),\"\")","v":""}]
[null,null,{"$f":"IFERROR(VLOOKUP(A479,Insumos!A:B,2,FALSE),\"\")","v":""},null,null,null,null,{"$f":"IFERROR(VLOOKUP(E479,Nota_Fiscal!$G$4:$L$1000,6,0),\"\")","v":""}]
[null,null,{"$f":"IFERROR(VLOOKUP(A480,Insumos!A:B,2,FALSE),\"\")","v":""},null,null,null,null,{"$f":"IFERROR(VLOOKUP(E480,Nota_Fiscal!$G$4:$L$1000,6,0),\"\")","v":""}]
[null,null,{"$f":"IFERROR(VLOOKUP(A481,Insumos!A:B,2,FALSE),\"\")","v":""},null,null,null,null,{"$f":"IFERROR(VLOOKUP(E481,Nota_Fiscal!$G$4:$L$1000,6,0),\"\")","v":""}]
[null,null,{"$f":"IFERROR(VLOOKUP(A482,Insumos!A:B,2,FALSE),\"\")","v":""},null,null,null,null,{"$f":"IFERROR(VLOOKUP(E482,Nota_Fiscal!$G$4:$L$1000,6,0),\"\")","v":""}]
[null,null,{"$f":"IFERROR(VLOOKUP(A483,Insumos!A:B,2,FALSE),\"\")","v":""},null,null,null,null,{"$f":"IFERROR(VLOOKUP(E483,Nota_Fiscal!$G$4:$L$1000,6,0),\"\")","v":""}]
[null,null,{"$f":"IFERROR(VLOOKUP(A484,Insumos!A:B,2,FALSE),\"\")","v":""},null,null,null,null,{"$f":"IFERROR(VLOOKUP(E484,Nota_Fiscal!$G$4:$L$1000,6,0),\"\")","v":""}]
[null,null,{"$f":"IFERROR(VLOOKUP(A485,Insumos!A:B,2,FALSE),\"\")","v":""},null,null,null,null,{"$f":"IFERROR(VLOOKUP(E485,Nota_Fiscal!$G$4:$L$1000,6,0),\"\")","v":""}]
[null,null,{"$f":"IFERROR(VLOOKUP(A486,Insumos!A:B,2,FALSE),\"\")","v":""},null,null,null,null,{"$f":"IFERROR(VLOOKUP(E486,Nota_Fiscal!$G$4:$L$1000,6,0),\"\")","v":""}]
[null,null,{"$f":"IFERROR(VLOOKUP(A487,Insumos!A:B,2,FALSE),\"\")","v":""},null,null,null,null,{"$f":"IFERROR(VLOOKUP(E487,Nota_Fiscal!$G$4:$L$1000,6,0),\"\")","v":""}]
[null,null,{"$f":"IFERROR(VLOOKUP(A488,Insumos!A:B,2,FALSE),\"\")","v":""},null,null,null,null,{"$f":"IFERROR(VLOOKUP(E488,Nota_Fiscal!$G$4:$L$1000,6,0),\"\")","v":""}]
[null,null,{"$f":"IFERROR(VLOOKUP(A489,Insumos!A:B,2,FALSE),\"\")","v":""},null,null,null,null,{"$f":"IFERROR(VLOOKUP(E489,Nota_Fiscal!$G$4:$L$1000,6,0),\"\")","v":""}]
[null,null,{"$f":"IFERROR(VLOOKUP(A490,Insumos!A:B,2,FALSE),\"\")","v":""},null,null,null,null,{"$f":"IFERROR(VLOOKUP(E490,Nota_Fiscal!$G$4:$L$1000,6,0),\"\")","v":""}]
[null,null,{"$f":"IFERROR(VLOOKUP(A491,Insumos!A:B,2,FALSE),\"\")","v":""},null,null,null,null,{"$f":"IFERROR(VLOOKUP(E491,Nota_Fiscal!$G$4:$L$1000,6,0),\"\")","v":""}]
[null,null,{"$f":"IFERROR(VLOOKUP(A492,Insumos!A:B,2,FALSE),\"\")","v":""},null,null,null,null,{"$f":"IFERROR(VLOOKUP(E492,Nota_Fiscal!$G$4:$L$1000,6,0),\"\")","v":""}]
[null,null,{"$f":"IFERROR(VLOOKUP(A493,Insumos!A:B,2,FALSE),\"\")","v":""},null,null,null,null,{"$f":"IFERROR(VLOOKUP(E493,Nota_Fiscal!$G$4:$L$1000,6,0),\"\")","v":""}]
[null,null,{"$f":"IFERROR(VLOOKUP(A494,Insumos!A:B,2,FALSE),\"\")","v":""},null,null,null,null,{"$f":"IFERROR(VLOOKUP(E494,Nota_Fiscal!$G$4:$L$1000,6,0),\"\")","v":""}]
[null,null,{"$f":"IFERROR(VLOOKUP(A495,Insumos!A:B,2,FALSE),\"\")","v":""},null,null,null,null,{"$f":"IFERROR(VLOOKUP(E495,Nota_Fiscal!$G$4:$L$1000,6,0),\"\")","v":""}]
[null,null,{"$f":"IFERROR(VLOOKUP(A496,Insumos!A:B,2,FALSE),\"\")","v":""},null,null,null,null,{"$f":"IFERROR(VLOOKUP(E496,Nota_Fiscal!$G$4:$L$1000,6,0),\"\")","v":""}]
[null,null,{"$f":"IFERROR(VLOOKUP(A497,Insumos!A:B,2,FALSE),\"\")","v":""},null,null,null,null,{"$f":"IFERROR(VLOOKUP(E497,Nota_Fiscal!$G$4:$L$1000,6,0),\"\")","v":""}]
[null,null,{"$f":"IFERROR(VLOOKUP(A498,Insumos!A:B,2,FALSE),\"\")","v":""},null,null,null,null,{"$f":"IFERROR(VLOOKUP(E498,Nota_Fiscal!$G$4:$L$1000,6,0),\"\")","v":""}]
[null,null,{"$f":"IFERROR(VLOOKUP(A499,Insumos!A:B,2,FALSE),\"\")","v":""},null,null,null,null,{"$f":"IFERROR(VLOOKUP(E499,Nota_Fiscal!$G$4:$L$1000,6,0),\"\")","v":""}]
[null,null,{"$f":"IFERROR(VLOOKUP(A500,Insumos!A:B,2,FALSE),\"\")","v":""},null,null,null,null,{"$f":"IFERROR(VLOOKUP(E500,Nota_Fiscal!$G$4:$L$1000,6,0),\"\")","v":""}]
[null,null,{"$f":"IFERROR(VLOOKUP(A501,Insumos!A:B,2,FALSE),\"\")","v":""},null,null,null,null,{"$f":"IFERROR(VLOOKUP(E501,Nota_Fiscal!$G$4:$L$1000,6,0),\"\")","v":""}]
[null,null,{"$f":"IFERROR(VLOOKUP(A502,Insumos!A:B,2,FALSE),\"\")","v":""},null,null,null,null,{"$f":"IFERROR(VLOOKUP(E502,Nota_Fiscal!$G$4:$L$1000,6,0),\"\")","v":""}]
[null,null,{"$f":"IFERROR(VLOOKUP(A503,Insumos!A:B,2,FALSE),\"\")","v":""},null,null,null,null,{"$f":"IFERROR(VLOOKUP(E503,Nota_Fiscal!$G$4:$L$1000,6,0),\"\")","v":""}]
[null,null,{"$f":"IFERROR(VLOOKUP(A504,Insumos!A:B,2,FALSE),\"\")","v":""},null,null,null,null,{"$f":"IFERROR(VLOOKUP(E504,Nota_Fiscal!$G$4:$L$1000,6,0),\"\")","v":""}]
[null,null,{"$f":"IFERROR(VLOOKUP(A505,Insumos!A:B,2,FALSE),\"\")","v":""},null,null,null,null,{"$f":"IFERROR(VLOOKUP(E505,Nota_Fiscal!$G$4:$L$1000,6,0),\"\")","v":""}]
[null,null,{"$f":"IFERROR(VLOOKUP(A506,Insumos!A:B,2,FALSE),\"\")","v":""},null,null,null,null,{"$f":"IFERROR(VLOOKUP(E506,Nota_Fiscal!$G$4:$L$1000,6,0),\"\")","v":""}]
[null,null,{"$f":"IFERROR(VLOOKUP(A507,Insumos!A:B,2,FALSE),\"\")","v":""},null,null,null,null,{"$f":"IFERROR(VLOOKUP(E507,Nota_Fiscal!$G$4:$L$1000,6,0),\"\")","v":""}]
[null,null,{"$f":"IFERROR(VLOOKUP(A508,Insumos!A:B,2,FALSE),\"\")","v":""},null,null,null,null,{"$f":"IFERROR(VLOOKUP(E508,Nota_Fiscal!$G$4:$L$1000,6,0),\"\")","v":""}]
[null,null,{"$f":"IFERROR(VLOOKUP(A509,Insumos!A:B,2,FALSE),\"\")","v":""},null,null,null,null,{"$f":"IFERROR(VLOOKUP(E509,Nota_Fiscal!$G$4:$L$1000,6,0),\"\")","v":""}]
[null,null,{"$f":"IFERROR(VLOOKUP(A510,Insumos!A:B,2,FALSE),\"\")","v":""},null,null,null,null,{"$f":"IFERROR(VLOOKUP(E510,Nota_Fiscal!$G$4:$L$1000,6,0),\"\")","v":""}]
[null,null,{"$f":"IFERROR(VLOOKUP(A511,Insumos!A:B,2,FALSE),\"\")","v":""},null,null,null,null,{"$f":"IFERROR(VLOOKUP(E511,Nota_Fiscal!$G$4:$L$1000,6,0),\"\")","v":""}]
[null,null,{"$f":"IFERROR(VLOOKUP(A512,Insumos!A:B,2,FALSE),\"\")","v":""},null,null,null,null,{"$f":"IFERROR(VLOOKUP(E512,Nota_Fiscal!$G$4:$L$1000,6,0),\"\")","v":""}]
[null,null,{"$f":"IFERROR(VLOOKUP(A513,Insumos!A:B,2,FALSE),\"\")","v":""},null,null,null,null,{"$f":"IFERROR(VLOOKUP(E513,Nota_Fiscal!$G$4:$L$1000,6,0),\"\")","v":""}]
[null,null,{"$f":"IFERROR(VLOOKUP(A514,Insumos!A:B,2,FALSE),\"\")","v":""},null,null,null,null,{"$f":"IFERROR(VLOOKUP(E514,Nota_Fiscal!$G$4:$L$1000,6,0),\"\")","v":""}]
[null,null,{"$f":"IFERROR(VLOOKUP(A515,Insumos!A:B,2,FALSE),\"\")","v":""},null,null,null,null,{"$f":"IFERROR(VLOOKUP(E515,Nota_Fiscal!$G$4:$L$1000,6,0),\"\")","v":""}]
[null,null,{"$f":"IFERROR(VLOOKUP(A516,Insumos!A:B,2,FALSE),\"\")","v":""},null,null,null,null,{"$f":"IFERROR(VLOOKUP(E516,Nota_Fiscal!$G$4:$L$1000,6,0),\"\")","v":""}]
[null,null,{"$f":"IFERROR(VLOOKUP(A517,Insumos!A:B,2,FALSE),\"\")","v":""},null,null,null,null,{"$f":"IFERROR(VLOOKUP(E517,Nota_Fiscal!$G$4:$L$1000,6,0),\"\")","v":""}]
[null,null,{"$f":"IFERROR(VLOOKUP(A518,Insumos!A:B,2,FALSE),\"\")","v":""},null,null,null,null,{"$f":"IFERROR(VLOOKUP(E518,Nota_Fiscal!$G$4:$L$1000,6,0),\"\")","v":""}]
[null,null,{"$f":"IFERROR(VLOOKUP(A519,Insumos!A:B,2,FALSE),\"\")","v":""},null,null,null,null,{"$f":"IFERROR(VLOOKUP(E519,Nota_Fiscal!$G$4:$L$1000,6,0),\"\")","v":""}]
[null,null,{"$f":"IFERROR(VLOOKUP(A520,Insumos!A:B,2,FALSE),\"\")","v":""},null,null,null,null,{"$f":"IFERROR(VLOOKUP(E520,Nota_Fiscal!$G$4:$L$1000,6,0),\"\")","v":""}]
[null,null,{"$f":"IFERROR(VLOOKUP(A521,Insumos!A:B,2,FALSE),\"\")","v":""},null,null,null,null,{"$f":"IFERROR(VLOOKUP(E521,Nota_Fiscal!$G$4:$L$1000,6,0),\"\")","v":""}]
[null,null,{"$f":"IFERROR(VLOOKUP(A522,Insumos!A:B,2,FALSE),\"\")","v":""},null,null,null,null,{"$f":"IFERROR(VLOOKUP(E522,Nota_Fiscal!$G$4:$L$1000,6,0),\"\")","v":""}]
[null,null,{"$f":"IFERROR(VLOOKUP(A523,Insumos!A:B,2,FALSE),\"\")","v":""},null,null,null,null,{"$f":"IFERROR(VLOOKUP(E523,Nota_Fiscal!$G$4:$L$1000,6,0),\"\")","v":""}]
[null,null,{"$f":"IFERROR(VLOOKUP(A524,Insumos!A:B,2,FALSE),\"\")","v":""},null,null,null,null,{"$f":"IFERROR(VLOOKUP(E524,Nota_Fiscal!$G$4:$L$1000,6,0),\"\")","v":""}]
[null,null,{"$f":"IFERROR(VLOOKUP(A525,Insumos!A:B,2,FALSE),\"\")","v":""},null,null,null,null,{"$f":"IFERROR(VLOOKUP(E525,Nota_Fiscal!$G$4:$L$1000,6,0),\"\")","v":""}]
[null,null,{"$f":"IFERROR(VLOOKUP(A526,Insumos!A:B,2,FALSE),\"\")","v":""},null,null,null,null,{"$f":"IFERROR(VLOOKUP(E526,Nota_Fiscal!$G$4:$L$1000,6,0),\"\")","v":""}]
[null,null,{"$f":"IFERROR(VLOOKUP(A527,Insumos!A:B,2,FALSE),\"\")","v":""},null,null,null,null,{"$f":"IFERROR(VLOOKUP(E527,Nota_Fiscal!$G$4:$L$1000,6,0),\"\")","v":""}]
[null,null,{"$f":"IFERROR(VLOOKUP(A528,Insumos!A:B,2,FALSE),\"\")","v":""},null,null,null,null,{"$f":"IFERROR(VLOOKUP(E528,Nota_Fiscal!$G$4:$L$1000,6,0),\"\")","v":""}]
[null,null,{"$f":"IFERROR(VLOOKUP(A529,Insumos!A:B,2,FALSE),\"\")","v":""},null,null,null,null,{"$f":"IFERROR(VLOOKUP(E529,Nota_Fiscal!$G$4:$L$1000,6,0),\"\")","v":""}]
[null,null,{"$f":"IFERROR(VLOOKUP(A530,Insumos!A:B,2,FALSE),\"\")","v":""},null,null,null,null,{"$f":"IFERROR(VLOOKUP(E530,Nota_Fiscal!$G$4:$L$1000,6,0),\"\")","v":""}]
[null,null,{"$f":"IFERROR(VLOOKUP(A531,Insumos!A:B,2,FALSE),\"\")","v":""},null,null,null,null,{"$f":"IFERROR(VLOOKUP(E531,Nota_Fiscal!$G$4:$L$1000,6,0),\"\")","v":""}]
[null,null,{"$f":"IFERROR(VLOOKUP(A532,Insumos!A:B,2,FALSE),\"\")","v":""},null,null,null,null,{"$f":"IFERROR(VLOOKUP(E532,Nota_Fiscal!$G$4:$L$1000,6,0),\"\")","v":""}]
[null,null,{"$f":"IFERROR(VLOOKUP(A533,Insumos!A:B,2,FALSE),\"\")","v":""},null,null,null,null,{"$f":"IFERROR(VLOOKUP(E533,Nota_Fiscal!$G$4:$L$1000,6,0),\"\")","v":""}]
[null,null,{"$f":"IFERROR(VLOOKUP(A534,Insumos!A:B,2,FALSE),\"\")","v":""},null,null,null,null,{"$f":"IFERROR(VLOOKUP(E534,Nota_Fiscal!$G$4:$L$1000,6,0),\"\")","v":""}]
[null,null,{"$f":"IFERROR(VLOOKUP(A535,Insumos!A:B,2,FALSE),\"\")","v":""},null,null,null,null,{"$f":"IFERROR(VLOOKUP(E535,Nota_Fiscal!$G$4:$L$1000,6,0),\"\")","v":""}]
[null,null,{"$f":"IFERROR(VLOOKUP(A536,Insumos!A:B,2,FALSE),\"\")","v":""},null,null,null,null,{"$f":"IFERROR(VLOOKUP(E536,Nota_Fiscal!$G$4:$L$1000,6,0),\"\")","v":""}]
[null,null,{"$f":"IFERROR(VLOOKUP(A537,Insumos!A:B,2,FALSE),\"\")","v":""},null,null,null,null,{"$f":"IFERROR(VLOOKUP(E537,Nota_Fiscal!$G$4:$L$1000,6,0),\"\")","v":""}]
[null,null,{"$f":"IFERROR(VLOOKUP(A538,Insumos!A:B,2,FALSE),\"\")","v":""},null,null,null,null,{"$f":"IFERROR(VLOOKUP(E538,Nota_Fiscal!$G$4:$L$1000,6,0),\"\")","v":""}]
[null,null,{"$f":"IFERROR(VLOOKUP(A539,Insumos!A:B,2,FALSE),\"\")","v":""},null,null,null,null,{"$f":"IFERROR(VLOOKUP(E539,Nota_Fiscal!$G$4:$L$1000,6,0),\"\")","v":""}]
[null,null,{"$f":"IFERROR(VLOOKUP(A540,Insumos!A:B,2,FALSE),\"\")","v":""},null,null,null,null,{"$f":"IFERROR(VLOOKUP(E540,Nota_Fiscal!$G$4:$L$1000,6,0),\"\")","v":""}]
[null,null,{"$f":"IFERROR(VLOOKUP(A541,Insumos!A:B,2,FALSE),\"\")","v":""},null,null,null,null,{"$f":"IFERROR(VLOOKUP(E541,Nota_Fiscal!$G$4:$L$1000,6,0),\"\")","v":""}]
[null,null,{"$f":"IFERROR(VLOOKUP(A542,Insumos!A:B,2,FALSE),\"\")","v":""},null,null,null,null,{"$f":"IFERROR(VLOOKUP(E542,Nota_Fiscal!$G$4:$L$1000,6,0),\"\")","v":""}]
[null,null,{"$f":"IFERROR(VLOOKUP(A543,Insumos!A:B,2,FALSE),\"\")","v":""},null,null,null,null,{"$f":"IFERROR(VLOOKUP(E543,Nota_Fiscal!$G$4:$L$1000,6,0),\"\")","v":""}]
[null,null,{"$f":"IFERROR(VLOOKUP(A544,Insumos!A:B,2,FALSE),\"\")","v":""},null,null,null,null,{"$f":"IFERROR(VLOOKUP(E544,Nota_Fiscal!$G$4:$L$1000,6,0),\"\")","v":""}]
[null,null,{"$f":"IFERROR(VLOOKUP(A545,Insumos!A:B,2,FALSE),\"\")","v":""},null,null,null,null,{"$f":"IFERROR(VLOOKUP(E545,Nota_Fiscal!$G$4:$L$1000,6,0),\"\")","v":""}]
[null,null,{"$f":"IFERROR(VLOOKUP(A546,Insumos!A:B,2,FALSE),\"\")","v":""},null,null,null,null,{"$f":"IFERROR(VLOOKUP(E546,Nota_Fiscal!$G$4:$L$1000,6,0),\"\")","v":""}]
[null,null,{"$f":"IFERROR(VLOOKUP(A547,Insumos!A:B,2,FALSE),\"\")","v":""},null,null,null,null,{"$f":"IFERROR(VLOOKUP(E547,Nota_Fiscal!$G$4:$L$1000,6,0),\"\")","v":""}]
[null,null,{"$f":"IFERROR(VLOOKUP(A548,Insumos!A:B,2,FALSE),\"\")","v":""},null,null,null,null,{"$f":"IFERROR(VLOOKUP(E548,Nota_Fiscal!$G$4:$L$1000,6,0),\"\")","v":""}]
[null,null,{"$f":"IFERROR(VLOOKUP(A549,Insumos!A:B,2,FALSE),\"\")","v":""},null,null,null,null,{"$f":"IFERROR(VLOOKUP(E549,Nota_Fiscal!$G$4:$L$1000,6,0),\"\")","v":""}]
[null,null,{"$f":"IFERROR(VLOOKUP(A550,Insumos!A:B,2,FALSE),\"\")","v":""},null,null,null,null,{"$f":"IFERROR(VLOOKUP(E550,Nota_Fiscal!$G$4:$L$1000,6,0),\"\")","v":""}]
[null,null,{"$f":"IFERROR(VLOOKUP(A551,Insumos!A:B,2,FALSE),\"\")","v":""},null,null,null,null,{"$f":"IFERROR(VLOOKUP(E551,Nota_Fiscal!$G$4:$L$1000,6,0),\"\")","v":""}]
[null,null,{"$f":"IFERROR(VLOOKUP(A552,Insumos!A:B,2,FALSE),\"\")","v":""},null,null,null,null,{"$f":"IFERROR(VLOOKUP(E552,Nota_Fiscal!$G$4:$L$1000,6,0),\"\")","v":""}]
[null,null,{"$f":"IFERROR(VLOOKUP(A553,Insumos!A:B,2,FALSE),\"\")","v":""},null,null,null,null,{"$f":"IFERROR(VLOOKUP(E553,Nota_Fiscal!$G$4:$L$1000,6,0),\"\")","v":""}]
[null,null,{"$f":"IFERROR(VLOOKUP(A554,Insumos!A:B,2,FALSE),\"\")","v":""},null,null,null,null,{"$f":"IFERROR(VLOOKUP(E554,Nota_Fiscal!$G$4:$L$1000,6,0),\"\")","v":""}]
[null,null,{"$f":"IFERROR(VLOOKUP(A555,Insumos!A:B,2,FALSE),\"\")","v":""},null,null,null,null,{"$f":"IFERROR(VLOOKUP(E555,Nota_Fiscal!$G$4:$L$1000,6,0),\"\")","v":""}]
[null,null,{"$f":"IFERROR(VLOOKUP(A556,Insumos!A:B,2,FALSE),\"\")","v":""},null,null,null,null,{"$f":"IFERROR(VLOOKUP(E556,Nota_Fiscal!$G$4:$L$1000,6,0),\"\")","v":""}]
[null,null,{"$f":"IFERROR(VLOOKUP(A557,Insumos!A:B,2,FALSE),\"\")","v":""},null,null,null,null,{"$f":"IFERROR(VLOOKUP(E557,Nota_Fiscal!$G$4:$L$1000,6,0),\"\")","v":""}]
[null,null,{"$f":"IFERROR(VLOOKUP(A558,Insumos!A:B,2,FALSE),\"\")","v":""},null,null,null,null,{"$f":"IFERROR(VLOOKUP(E558,Nota_Fiscal!$G$4:$L$1000,6,0),\"\")","v":""}]
[null,null,{"$f":"IFERROR(VLOOKUP(A559,Insumos!A:B,2,FALSE),\"\")","v":""},null,null,null,null,{"$f":"IFERROR(VLOOKUP(E559,Nota_Fiscal!$G$4:$L$1000,6,0),\"\")","v":""}]
[null,null,{"$f":"IFERROR(VLOOKUP(A560,Insumos!A:B,2,FALSE),\"\")","v":""},null,null,null,null,{"$f":"IFERROR(VLOOKUP(E560,Nota_Fiscal!$G$4:$L$1000,6,0),\"\")","v":""}]
[null,null,{"$f":"IFERROR(VLOOKUP(A561,Insumos!A:B,2,FALSE),\"\")","v":""},null,null,null,null,{"$f":"IFERROR(VLOOKUP(E561,Nota_Fiscal!$G$4:$L$1000,6,0),\"\")","v":""}]
[null,null,{"$f":"IFERROR(VLOOKUP(A562,Insumos!A:B,2,FALSE),\"\")","v":""},null,null,null,null,{"$f":"IFERROR(VLOOKUP(E562,Nota_Fiscal!$G$4:$L$1000,6,0),\"\")","v":""}]
[null,null,{"$f":"IFERROR(VLOOKUP(A563,Insumos!A:B,2,FALSE),\"\")","v":""},null,null,null,null,{"$f":"IFERROR(VLOOKUP(E563,Nota_Fiscal!$G$4:$L$1000,6,0),\"\")","v":""}]
[null,null,{"$f":"IFERROR(VLOOKUP(A564,Insumos!A:B,2,FALSE),\"\")","v":""},null,null,null,null,{"$f":"IFERROR(VLOOKUP(E564,Nota_Fiscal!$G$4:$L$1000,6,0),\"\")","v":""}]
[null,null,{"$f":"IFERROR(VLOOKUP(A565,Insumos!A:B,2,FALSE),\"\")","v":""},null,null,null,null,{"$f":"IFERROR(VLOOKUP(E565,Nota_Fiscal!$G$4:$L$1000,6,0),\"\")","v":""}]
[null,null,{"$f":"IFERROR(VLOOKUP(A566,Insumos!A:B,2,FALSE),\"\")","v":""},null,null,null,null,{"$f":"IFERROR(VLOOKUP(E566,Nota_Fiscal!$G$4:$L$1000,6,0),\"\")","v":""}]
[null,null,{"$f":"IFERROR(VLOOKUP(A567,Insumos!A:B,2,FALSE),\"\")","v":""},null,null,null,null,{"$f":"IFERROR(VLOOKUP(E567,Nota_Fiscal!$G$4:$L$1000,6,0),\"\")","v":""}]
[null,null,{"$f":"IFERROR(VLOOKUP(A568,Insumos!A:B,2,FALSE),\"\")","v":""},null,null,null,null,{"$f":"IFERROR(VLOOKUP(E568,Nota_Fiscal!$G$4:$L$1000,6,0),\"\")","v":""}]
[null,null,{"$f":"IFERROR(VLOOKUP(A569,Insumos!A:B,2,FALSE),\"\")","v":""},null,null,null,null,{"$f":"IFERROR(VLOOKUP(E569,Nota_Fiscal!$G$4:$L$1000,6,0),\"\")","v":""}]
[null,null,{"$f":"IFERROR(VLOOKUP(A570,Insumos!A:B,2,FALSE),\"\")","v":""},null,null,null,null,{"$f":"IFERROR(VLOOKUP(E570,Nota_Fiscal!$G$4:$L$1000,6,0),\"\")","v":""}]
[null,null,{"$f":"IFERROR(VLOOKUP(A571,Insumos!A:B,2,FALSE),\"\")","v":""},null,null,null,null,{"$f":"IFERROR(VLOOKUP(E571,Nota_Fiscal!$G$4:$L$1000,6,0),\"\")","v":""}]
[null,null,{"$f":"IFERROR(VLOOKUP(A572,Insumos!A:B,2,FALSE),\"\")","v":""},null,null,null,null,{"$f":"IFERROR(VLOOKUP(E572,Nota_Fiscal!$G$4:$L$1000,6,0),\"\")","v":""}]
[null,null,{"$f":"IFERROR(VLOOKUP(A573,Insumos!A:B,2,FALSE),\"\")","v":""},null,null,null,null,{"$f":"IFERROR(VLOOKUP(E573,Nota_Fiscal!$G$4:$L$1000,6,0),\"\")","v":""}]
[null,null,{"$f":"IFERROR(VLOOKUP(A574,Insumos!A:B,2,FALSE),\"\")","v":""},null,null,null,null,{"$f":"IFERROR(VLOOKUP(E574,Nota_Fiscal!$G$4:$L$1000,6,0),\"\")","v":""}]
[null,null,{"$f":"IFERROR(VLOOKUP(A575,Insumos!A:B,2,FALSE),\"\")","v":""},null,null,null,null,{"$f":"IFERROR(VLOOKUP(E575,Nota_Fiscal!$G$4:$L$1000,6,0),\"\")","v":""}]
[null,null,{"$f":"IFERROR(VLOOKUP(A576,Insumos!A:B,2,FALSE),\"\")","v":""},null,null,null,null,{"$f":"IFERROR(VLOOKUP(E576,Nota_Fiscal!$G$4:$L$1000,6,0),\"\")","v":""}]
[null,null,{"$f":"IFERROR(VLOOKUP(A577,Insumos!A:B,2,FALSE),\"\")","v":""},null,null,null,null,{"$f":"IFERROR(VLOOKUP(E577,Nota_Fiscal!$G$4:$L$1000,6,0),\"\")","v":""}]
[null,null,{"$f":"IFERROR(VLOOKUP(A578,Insumos!A:B,2,FALSE),\"\")","v":""},null,null,null,null,{"$f":"IFERROR(VLOOKUP(E578,Nota_Fiscal!$G$4:$L$1000,6,0),\"\")","v":""}]
[null,null,{"$f":"IFERROR(VLOOKUP(A579,Insumos!A:B,2,FALSE),\"\")","v":""},null,null,null,null,{"$f":"IFERROR(VLOOKUP(E579,Nota_Fiscal!$G$4:$L$1000,6,0),\"\")","v":""}]
[null,null,{"$f":"IFERROR(VLOOKUP(A580,Insumos!A:B,2,FALSE),\"\")","v":""},null,null,null,null,{"$f":"IFERROR(VLOOKUP(E580,Nota_Fiscal!$G$4:$L$1000,6,0),\"\")","v":""}]
[null,null,{"$f":"IFERROR(VLOOKUP(A581,Insumos!A:B,2,FALSE),\"\")","v":""},null,null,null,null,{"$f":"IFERROR(VLOOKUP(E581,Nota_Fiscal!$G$4:$L$1000,6,0),\"\")","v":""}]
[null,null,{"$f":"IFERROR(VLOOKUP(A582,Insumos!A:B,2,FALSE),\"\")","v":""},null,null,null,null,{"$f":"IFERROR(VLOOKUP(E582,Nota_Fiscal!$G$4:$L$1000,6,0),\"\")","v":""}]
[null,null,{"$f":"IFERROR(VLOOKUP(A583,Insumos!A:B,2,FALSE),\"\")","v":""},null,null,null,null,{"$f":"IFERROR(VLOOKUP(E583,Nota_Fiscal!$G$4:$L$1000,6,0),\"\")","v":""}]
[null,null,{"$f":"IFERROR(VLOOKUP(A584,Insumos!A:B,2,FALSE),\"\")","v":""},null,null,null,null,{"$f":"IFERROR(VLOOKUP(E584,Nota_Fiscal!$G$4:$L$1000,6,0),\"\")","v":""}]
[null,null,{"$f":"IFERROR(VLOOKUP(A585,Insumos!A:B,2,FALSE),\"\")","v":""},null,null,null,null,{"$f":"IFERROR(VLOOKUP(E585,Nota_Fiscal!$G$4:$L$1000,6,0),\"\")","v":""}]
[null,null,{"$f":"IFERROR(VLOOKUP(A586,Insumos!A:B,2,FALSE),\"\")","v":""},null,null,null,null,{"$f":"IFERROR(VLOOKUP(E586,Nota_Fiscal!$G$4:$L$1000,6,0),\"\")","v":""}]
[null,null,{"$f":"IFERROR(VLOOKUP(A587,Insumos!A:B,2,FALSE),\"\")","v":""},null,null,null,null,{"$f":"IFERROR(VLOOKUP(E587,Nota_Fiscal!$G$4:$L$1000,6,0),\"\")","v":""}]
[null,null,{"$f":"IFERROR(VLOOKUP(A588,Insumos!A:B,2,FALSE),\"\")","v":""},null,null,null,null,{"$f":"IFERROR(VLOOKUP(E588,Nota_Fiscal!$G$4:$L$1000,6,0),\"\")","v":""}]
[null,null,{"$f":"IFERROR(VLOOKUP(A589,Insumos!A:B,2,FALSE),\"\")","v":""},null,null,null,null,{"$f":"IFERROR(VLOOKUP(E589,Nota_Fiscal!$G$4:$L$1000,6,0),\"\")","v":""}]
[null,null,{"$f":"IFERROR(VLOOKUP(A590,Insumos!A:B,2,FALSE),\"\")","v":""},null,null,null,null,{"$f":"IFERROR(VLOOKUP(E590,Nota_Fiscal!$G$4:$L$1000,6,0),\"\")","v":""}]
[null,null,{"$f":"IFERROR(VLOOKUP(A591,Insumos!A:B,2,FALSE),\"\")","v":""},null,null,null,null,{"$f":"IFERROR(VLOOKUP(E591,Nota_Fiscal!$G$4:$L$1000,6,0),\"\")","v":""}]
[null,null,{"$f":"IFERROR(VLOOKUP(A592,Insumos!A:B,2,FALSE),\"\")","v":""},null,null,null,null,{"$f":"IFERROR(VLOOKUP(E592,Nota_Fiscal!$G$4:$L$1000,6,0),\"\")","v":""}]
[null,null,{"$f":"IFERROR(VLOOKUP(A593,Insumos!A:B,2,FALSE),\"\")","v":""},null,null,null,null,{"$f":"IFERROR(VLOOKUP(E593,Nota_Fiscal!$G$4:$L$1000,6,0),\"\")","v":""}]
[null,null,{"$f":"IFERROR(VLOOKUP(A594,Insumos!A:B,2,FALSE),\"\")","v":""},null,null,null,null,{"$f":"IFERROR(VLOOKUP(E594,Nota_Fiscal!$G$4:$L$1000,6,0),\"\")","v":""}]
[null,null,{"$f":"IFERROR(VLOOKUP(A595,Insumos!A:B,2,FALSE),\"\")","v":""},null,null,null,null,{"$f":"IFERROR(VLOOKUP(E595,Nota_Fiscal!$G$4:$L$1000,6,0),\"\")","v":""}]
[null,null,{"$f":"IFERROR(VLOOKUP(A596,Insumos!A:B,2,FALSE),\"\")","v":""},null,null,null,null,{"$f":"IFERROR(VLOOKUP(E596,Nota_Fiscal!$G$4:$L$1000,6,0),\"\")","v":""}]
[null,null,{"$f":"IFERROR(VLOOKUP(A597,Insumos!A:B,2,FALSE),\"\")","v":""},null,null,null,null,{"$f":"IFERROR(VLOOKUP(E597,Nota_Fiscal!$G$4:$L$1000,6,0),\"\")","v":""}]
[null,null,{"$f":"IFERROR(VLOOKUP(A598,Insumos!A:B,2,FALSE),\"\")","v":""},null,null,null,null,{"$f":"IFERROR(VLOOKUP(E598,Nota_Fiscal!$G$4:$L$1000,6,0),\"\")","v":""}]
[null,null,{"$f":"IFERROR(VLOOKUP(A599,Insumos!A:B,2,FALSE),\"\")","v":""},null,null,null,null,{"$f":"IFERROR(VLOOKUP(E599,Nota_Fiscal!$G$4:$L$1000,6,0),\"\")","v":""}]
[null,null,{"$f":"IFERROR(VLOOKUP(A600,Insumos!A:B,2,FALSE),\"\")","v":""},null,null,null,null,{"$f":"IFERROR(VLOOKUP(E600,Nota_Fiscal!$G$4:$L$1000,6,0),\"\")","v":""}]
[null,null,{"$f":"IFERROR(VLOOKUP(A601,Insumos!A:B,2,FALSE),\"\")","v":""},null,null,null,null,{"$f":"IFERROR(VLOOKUP(E601,Nota_Fiscal!$G$4:$L$1000,6,0),\"\")","v":""}]
[null,null,{"$f":"IFERROR(VLOOKUP(A602,Insumos!A:B,2,FALSE),\"\")","v":""},null,null,null,null,{"$f":"IFERROR(VLOOKUP(E602,Nota_Fiscal!$G$4:$L$1000,6,0),\"\")","v":""}]
[null,null,{"$f":"IFERROR(VLOOKUP(A603,Insumos!A:B,2,FALSE),\"\")","v":""},null,null,null,null,{"$f":"IFERROR(VLOOKUP(E603,Nota_Fiscal!$G$4:$L$1000,6,0),\"\")","v":""}]
[null,null,{"$f":"IFERROR(VLOOKUP(A604,Insumos!A:B,2,FALSE),\"\")","v":""},null,null,null,null,{"$f":"IFERROR(VLOOKUP(E604,Nota_Fiscal!$G$4:$L$1000,6,0),\"\")","v":""}]
[null,null,{"$f":"IFERROR(VLOOKUP(A605,Insumos!A:B,2,FALSE),\"\")","v":""},null,null,null,null,{"$f":"IFERROR(VLOOKUP(E605,Nota_Fiscal!$G$4:$L$1000,6,0),\"\")","v":""}]
[null,null,{"$f":"IFERROR(VLOOKUP(A606,Insumos!A:B,2,FALSE),\"\")","v":""},null,null,null,null,{"$f":"IFERROR(VLOOKUP(E606,Nota_Fiscal!$G$4:$L$1000,6,0),\"\")","v":""}]
[null,null,{"$f":"IFERROR(VLOOKUP(A607,Insumos!A:B,2,FALSE),\"\")","v":""},null,null,null,null,{"$f":"IFERROR(VLOOKUP(E607,Nota_Fiscal!$G$4:$L$1000,6,0),\"\")","v":""}]
[null,null,{"$f":"IFERROR(VLOOKUP(A608,Insumos!A:B,2,FALSE),\"\")","v":""},null,null,null,null,{"$f":"IFERROR(VLOOKUP(E608,Nota_Fiscal!$G$4:$L$1000,6,0),\"\")","v":""}]
[null,null,{"$f":"IFERROR(VLOOKUP(A609,Insumos!A:B,2,FALSE),\"\")","v":""},null,null,null,null,{"$f":"IFERROR(VLOOKUP(E609,Nota_Fiscal!$G$4:$L$1000,6,0),\"\")","v":""}]
[null,null,{"$f":"IFERROR(VLOOKUP(A610,Insumos!A:B,2,FALSE),\"\")","v":""},null,null,null,null,{"$f":"IFERROR(VLOOKUP(E610,Nota_Fiscal!$G$4:$L$1000,6,0),\"\")","v":""}]
[null,null,{"$f":"IFERROR(VLOOKUP(A611,Insumos!A:B,2,FALSE),\"\")","v":""},null,null,null,null,{"$f":"IFERROR(VLOOKUP(E611,Nota_Fiscal!$G$4:$L$1000,6,0),\"\")","v":""}]
[null,null,{"$f":"IFERROR(VLOOKUP(A612,Insumos!A:B,2,FALSE),\"\")","v":""},null,null,null,null,{"$f":"IFERROR(VLOOKUP(E612,Nota_Fiscal!$G$4:$L$1000,6,0),\"\")","v":""}]
[null,null,{"$f":"IFERROR(VLOOKUP(A613,Insumos!A:B,2,FALSE),\"\")","v":""},null,null,null,null,{"$f":"IFERROR(VLOOKUP(E613,Nota_Fiscal!$G$4:$L$1000,6,0),\"\")","v":""}]
[null,null,{"$f":"IFERROR(VLOOKUP(A614,Insumos!A:B,2,FALSE),\"\")","v":""},null,null,null,null,{"$f":"IFERROR(VLOOKUP(E614,Nota_Fiscal!$G$4:$L$1000,6,0),\"\")","v":""}]
[null,null,{"$f":"IFERROR(VLOOKUP(A615,Insumos!A:B,2,FALSE),\"\")","v":""},null,null,null,null,{"$f":"IFERROR(VLOOKUP(E615,Nota_Fiscal!$G$4:$L$1000,6,0),\"\")","v":""}]
[null,null,{"$f":"IFERROR(VLOOKUP(A616,Insumos!A:B,2,FALSE),\"\")","v":""},null,null,null,null,{"$f":"IFERROR(VLOOKUP(E616,Nota_Fiscal!$G$4:$L$1000,6,0),\"\")","v":""}]
[null,null,{"$f":"IFERROR(VLOOKUP(A617,Insumos!A:B,2,FALSE),\"\")","v":""},null,null,null,null,{"$f":"IFERROR(VLOOKUP(E617,Nota_Fiscal!$G$4:$L$1000,6,0),\"\")","v":""}]
[null,null,{"$f":"IFERROR(VLOOKUP(A618,Insumos!A:B,2,FALSE),\"\")","v":""},null,null,null,null,{"$f":"IFERROR(VLOOKUP(E618,Nota_Fiscal!$G$4:$L$1000,6,0),\"\")","v":""}]
[null,null,{"$f":"IFERROR(VLOOKUP(A619,Insumos!A:B,2,FALSE),\"\")","v":""},null,null,null,null,{"$f":"IFERROR(VLOOKUP(E619,Nota_Fiscal!$G$4:$L$1000,6,0),\"\")","v":""}]
[null,null,{"$f":"IFERROR(VLOOKUP(A620,Insumos!A:B,2,FALSE),\"\")","v":""},null,null,null,null,{"$f":"IFERROR(VLOOKUP(E620,Nota_Fiscal!$G$4:$L$1000,6,0),\"\")","v":""}]
[null,null,{"$f":"IFERROR(VLOOKUP(A621,Insumos!A:B,2,FALSE),\"\")","v":""},null,null,null,null,{"$f":"IFERROR(VLOOKUP(E621,Nota_Fiscal!$G$4:$L$1000,6,0),\"\")","v":""}]
[null,null,{"$f":"IFERROR(VLOOKUP(A622,Insumos!A:B,2,FALSE),\"\")","v":""},null,null,null,null,{"$f":"IFERROR(VLOOKUP(E622,Nota_Fiscal!$G$4:$L$1000,6,0),\"\")","v":""}]
[null,null,{"$f":"IFERROR(VLOOKUP(A623,Insumos!A:B,2,FALSE),\"\")","v":""},null,null,null,null,{"$f":"IFERROR(VLOOKUP(E623,Nota_Fiscal!$G$4:$L$1000,6,0),\"\")","v":""}]
[null,null,{"$f":"IFERROR(VLOOKUP(A624,Insumos!A:B,2,FALSE),\"\")","v":""},null,null,null,null,{"$f":"IFERROR(VLOOKUP(E624,Nota_Fiscal!$G$4:$L$1000,6,0),\"\")","v":""}]
[null,null,{"$f":"IFERROR(VLOOKUP(A625,Insumos!A:B,2,FALSE),\"\")","v":""},null,null,null,null,{"$f":"IFERROR(VLOOKUP(E625,Nota_Fiscal!$G$4:$L$1000,6,0),\"\")","v":""}]
[null,null,{"$f":"IFERROR(VLOOKUP(A626,Insumos!A:B,2,FALSE),\"\")","v":""},null,null,null,null,{"$f":"IFERROR(VLOOKUP(E626,Nota_Fiscal!$G$4:$L$1000,6,0),\"\")","v":""}]
[null,null,{"$f":"IFERROR(VLOOKUP(A627,Insumos!A:B,2,FALSE),\"\")","v":""},null,null,null,null,{"$f":"IFERROR(VLOOKUP(E627,Nota_Fiscal!$G$4:$L$1000,6,0),\"\")","v":""}]
[null,null,{"$f":"IFERROR(VLOOKUP(A628,Insumos!A:B,2,FALSE),\"\")","v":""},null,null,null,null,{"$f":"IFERROR(VLOOKUP(E628,Nota_Fiscal!$G$4:$L$1000,6,0),\"\")","v":""}]
[null,null,{"$f":"IFERROR(VLOOKUP(A629,Insumos!A:B,2,FALSE),\"\")","v":""},null,null,null,null,{"$f":"IFERROR(VLOOKUP(E629,Nota_Fiscal!$G$4:$L$1000,6,0),\"\")","v":""}]
[null,null,{"$f":"IFERROR(VLOOKUP(A630,Insumos!A:B,2,FALSE),\"\")","v":""},null,null,null,null,{"$f":"IFERROR(VLOOKUP(E630,Nota_Fiscal!$G$4:$L$1000,6,0),\"\")","v":""}]
[null,null,{"$f":"IFERROR(VLOOKUP(A631,Insumos!A:B,2,FALSE),\"\")","v":""},null,null,null,null,{"$f":"IFERROR(VLOOKUP(E631,Nota_Fiscal!$G$4:$L$1000,6,0),\"\")","v":""}]
[null,null,{"$f":"IFERROR(VLOOKUP(A632,Insumos!A:B,2,FALSE),\"\")","v":""},null,null,null,null,{"$f":"IFERROR(VLOOKUP(E632,Nota_Fiscal!$G$4:$L$1000,6,0),\"\")","v":""}]
[null,null,{"$f":"IFERROR(VLOOKUP(A633,Insumos!A:B,2,FALSE),\"\")","v":""},null,null,null,null,{"$f":"IFERROR(VLOOKUP(E633,Nota_Fiscal!$G$4:$L$1000,6,0),\"\")","v":""}]
[null,null,{"$f":"IFERROR(VLOOKUP(A634,Insumos!A:B,2,FALSE),\"\")","v":""},null,null,null,null,{"$f":"IFERROR(VLOOKUP(E634,Nota_Fiscal!$G$4:$L$1000,6,0),\"\")","v":""}]
[null,null,{"$f":"IFERROR(VLOOKUP(A635,Insumos!A:B,2,FALSE),\"\")","v":""},null,null,null,null,{"$f":"IFERROR(VLOOKUP(E635,Nota_Fiscal!$G$4:$L$1000,6,0),\"\")","v":""}]
[null,null,{"$f":"IFERROR(VLOOKUP(A636,Insumos!A:B,2,FALSE),\"\")","v":""},null,null,null,null,{"$f":"IFERROR(VLOOKUP(E636,Nota_Fiscal!$G$4:$L$1000,6,0),\"\")","v":""}]
[null,null,{"$f":"IFERROR(VLOOKUP(A637,Insumos!A:B,2,FALSE),\"\")","v":""},null,null,null,null,{"$f":"IFERROR(VLOOKUP(E637,Nota_Fiscal!$G$4:$L$1000,6,0),\"\")","v":""}]
[null,null,{"$f":"IFERROR(VLOOKUP(A638,Insumos!A:B,2,FALSE),\"\")","v":""},null,null,null,null,{"$f":"IFERROR(VLOOKUP(E638,Nota_Fiscal!$G$4:$L$1000,6,0),\"\")","v":""}]
[null,null,{"$f":"IFERROR(VLOOKUP(A639,Insumos!A:B,2,FALSE),\"\")","v":""},null,null,null,null,{"$f":"IFERROR(VLOOKUP(E639,Nota_Fiscal!$G$4:$L$1000,6,0),\"\")","v":""}]
[null,null,{"$f":"IFERROR(VLOOKUP(A640,Insumos!A:B,2,FALSE),\"\")","v":""},null,null,null,null,{"$f":"IFERROR(VLOOKUP(E640,Nota_Fiscal!$G$4:$L$1000,6,0),\"\")","v":""}]
[null,null,{"$f":"IFERROR(VLOOKUP(A641,Insumos!A:B,2,FALSE),\"\")","v":""},null,null,null,null,{"$f":"IFERROR(VLOOKUP(E641,Nota_Fiscal!$G$4:$L$1000,6,0),\"\")","v":""}]
[null,null,{"$f":"IFERROR(VLOOKUP(A642,Insumos!A:B,2,FALSE),\"\")","v":""},null,null,null,null,{"$f":"IFERROR(VLOOKUP(E642,Nota_Fiscal!$G$4:$L$1000,6,0),\"\")","v":""}]
[null,null,{"$f":"IFERROR(VLOOKUP(A643,Insumos!A:B,2,FALSE),\"\")","v":""},null,null,null,null,{"$f":"IFERROR(VLOOKUP(E643,Nota_Fiscal!$G$4:$L$1000,6,0),\"\")","v":""}]
[null,null,{"$f":"IFERROR(VLOOKUP(A644,Insumos!A:B,2,FALSE),\"\")","v":""},null,null,null,null,{"$f":"IFERROR(VLOOKUP(E644,Nota_Fiscal!$G$4:$L$1000,6,0),\"\")","v":""}]
[null,null,{"$f":"IFERROR(VLOOKUP(A645,Insumos!A:B,2,FALSE),\"\")","v":""},null,null,null,null,{"$f":"IFERROR(VLOOKUP(E645,Nota_Fiscal!$G$4:$L$1000,6,0),\"\")","v":""}]
[null,null,{"$f":"IFERROR(VLOOKUP(A646,Insumos!A:B,2,FALSE),\"\")","v":""},null,null,null,null,{"$f":"IFERROR(VLOOKUP(E646,Nota_Fiscal!$G$4:$L$1000,6,0),\"\")","v":""}]
[null,null,{"$f":"IFERROR(VLOOKUP(A647,Insumos!A:B,2,FALSE),\"\")","v":""},null,null,null,null,{"$f":"IFERROR(VLOOKUP(E647,Nota_Fiscal!$G$4:$L$1000,6,0),\"\")","v":""}]
[null,null,{"$f":"IFERROR(VLOOKUP(A648,Insumos!A:B,2,FALSE),\"\")","v":""},null,null,null,null,{"$f":"IFERROR(VLOOKUP(E648,Nota_Fiscal!$G$4:$L$1000,6,0),\"\")","v":""}]
[null,null,{"$f":"IFERROR(VLOOKUP(A649,Insumos!A:B,2,FALSE),\"\")","v":""},null,null,null,null,{"$f":"IFERROR(VLOOKUP(E649,Nota_Fiscal!$G$4:$L$1000,6,0),\"\")","v":""}]
[null,null,{"$f":"IFERROR(VLOOKUP(A650,Insumos!A:B,2,FALSE),\"\")","v":""},null,null,null,null,{"$f":"IFERROR(VLOOKUP(E650,Nota_Fiscal!$G$4:$L$1000,6,0),\"\")","v":""}]
[null,null,{"$f":"IFERROR(VLOOKUP(A651,Insumos!A:B,2,FALSE),\"\")","v":""},null,null,null,null,{"$f":"IFERROR(VLOOKUP(E651,Nota_Fiscal!$G$4:$L$1000,6,0),\"\")","v":""}]
[null,null,{"$f":"IFERROR(VLOOKUP(A652,Insumos!A:B,2,FALSE),\"\")","v":""},null,null,null,null,{"$f":"IFERROR(VLOOKUP(E652,Nota_Fiscal!$G$4:$L$1000,6,0),\"\")","v":""}]
[null,null,{"$f":"IFERROR(VLOOKUP(A653,Insumos!A:B,2,FALSE),\"\")","v":""},null,null,null,null,{"$f":"IFERROR(VLOOKUP(E653,Nota_Fiscal!$G$4:$L$1000,6,0),\"\")","v":""}]
[null,null,{"$f":"IFERROR(VLOOKUP(A654,Insumos!A:B,2,FALSE),\"\")","v":""},null,null,null,null,{"$f":"IFERROR(VLOOKUP(E654,Nota_Fiscal!$G$4:$L$1000,6,0),\"\")","v":""}]
[null,null,{"$f":"IFERROR(VLOOKUP(A655,Insumos!A:B,2,FALSE),\"\")","v":""},null,null,null,null,{"$f":"IFERROR(VLOOKUP(E655,Nota_Fiscal!$G$4:$L$1000,6,0),\"\")","v":""}]
[null,null,{"$f":"IFERROR(VLOOKUP(A656,Insumos!A:B,2,FALSE),\"\")","v":""},null,null,null,null,{"$f":"IFERROR(VLOOKUP(E656,Nota_Fiscal!$G$4:$L$1000,6,0),\"\")","v":""}]
[null,null,{"$f":"IFERROR(VLOOKUP(A657,Insumos!A:B,2,FALSE),\"\")","v":""},null,null,null,null,{"$f":"IFERROR(VLOOKUP(E657,Nota_Fiscal!$G$4:$L$1000,6,0),\"\")","v":""}]
[null,null,{"$f":"IFERROR(VLOOKUP(A658,Insumos!A:B,2,FALSE),\"\")","v":""},null,null,null,null,{"$f":"IFERROR(VLOOKUP(E658,Nota_Fiscal!$G$4:$L$1000,6,0),\"\")","v":""}]
[null,null,{"$f":"IFERROR(VLOOKUP(A659,Insumos!A:B,2,FALSE),\"\")","v":""},null,null,null,null,{"$f":"IFERROR(VLOOKUP(E659,Nota_Fiscal!$G$4:$L$1000,6,0),\"\")","v":""}]
[null,null,{"$f":"IFERROR(VLOOKUP(A660,Insumos!A:B,2,FALSE),\"\")","v":""},null,null,null,null,{"$f":"IFERROR(VLOOKUP(E660,Nota_Fiscal!$G$4:$L$1000,6,0),\"\")","v":""}]
[null,null,{"$f":"IFERROR(VLOOKUP(A661,Insumos!A:B,2,FALSE),\"\")","v":""},null,null,null,null,{"$f":"IFERROR(VLOOKUP(E661,Nota_Fiscal!$G$4:$L$1000,6,0),\"\")","v":""}]
[null,null,{"$f":"IFERROR(VLOOKUP(A662,Insumos!A:B,2,FALSE),\"\")","v":""},null,null,null,null,{"$f":"IFERROR(VLOOKUP(E662,Nota_Fiscal!$G$4:$L$1000,6,0),\"\")","v":""}]
[null,null,{"$f":"IFERROR(VLOOKUP(A663,Insumos!A:B,2,FALSE),\"\")","v":""},null,null,null,null,{"$f":"IFERROR(VLOOKUP(E663,Nota_Fiscal!$G$4:$L$1000,6,0),\"\")","v":""}]
[null,null,{"$f":"IFERROR(VLOOKUP(A664,Insumos!A:B,2,FALSE),\"\")","v":""},null,null,null,null,{"$f":"IFERROR(VLOOKUP(E664,Nota_Fiscal!$G$4:$L$1000,6,0),\"\")","v":""}]
[null,null,{"$f":"IFERROR(VLOOKUP(A665,Insumos!A:B,2,FALSE),\"\")","v":""},null,null,null,null,{"$f":"IFERROR(VLOOKUP(E665,Nota_Fiscal!$G$4:$L$1000,6,0),\"\")","v":""}]
[null,null,{"$f":"IFERROR(VLOOKUP(A666,Insumos!A:B,2,FALSE),\"\")","v":""},null,null,null,null,{"$f":"IFERROR(VLOOKUP(E666,Nota_Fiscal!$G$4:$L$1000,6,0),\"\")","v":""}]
[null,null,{"$f":"IFERROR(VLOOKUP(A667,Insumos!A:B,2,FALSE),\"\")","v":""},null,null,null,null,{"$f":"IFERROR(VLOOKUP(E667,Nota_Fiscal!$G$4:$L$1000,6,0),\"\")","v":""}]
[null,null,{"$f":"IFERROR(VLOOKUP(A668,Insumos!A:B,2,FALSE),\"\")","v":""},null,null,null,null,{"$f":"IFERROR(VLOOKUP(E668,Nota_Fiscal!$G$4:$L$1000,6,0),\"\")","v":""}]
[null,null,{"$f":"IFERROR(VLOOKUP(A669,Insumos!A:B,2,FALSE),\"\")","v":""},null,null,null,null,{"$f":"IFERROR(VLOOKUP(E669,Nota_Fiscal!$G$4:$L$1000,6,0),\"\")","v":""}]
[null,null,{"$f":"IFERROR(VLOOKUP(A670,Insumos!A:B,2,FALSE),\"\")","v":""},null,null,null,null,{"$f":"IFERROR(VLOOKUP(E670,Nota_Fiscal!$G$4:$L$1000,6,0),\"\")","v":""}]
[null,null,{"$f":"IFERROR(VLOOKUP(A671,Insumos!A:B,2,FALSE),\"\")","v":""},null,null,null,null,{"$f":"IFERROR(VLOOKUP(E671,Nota_Fiscal!$G$4:$L$1000,6,0),\"\")","v":""}]
[null,null,{"$f":"IFERROR(VLOOKUP(A672,Insumos!A:B,2,FALSE),\"\")","v":""},null,null,null,null,{"$f":"IFERROR(VLOOKUP(E672,Nota_Fiscal!$G$4:$L$1000,6,0),\"\")","v":""}]
[null,null,{"$f":"IFERROR(VLOOKUP(A673,Insumos!A:B,2,FALSE),\"\")","v":""},null,null,null,null,{"$f":"IFERROR(VLOOKUP(E673,Nota_Fiscal!$G$4:$L$1000,6,0),\"\")","v":""}]
[null,null,{"$f":"IFERROR(VLOOKUP(A674,Insumos!A:B,2,FALSE),\"\")","v":""},null,null,null,null,{"$f":"IFERROR(VLOOKUP(E674,Nota_Fiscal!$G$4:$L$1000,6,0),\"\")","v":""}]
[null,null,{"$f":"IFERROR(VLOOKUP(A675,Insumos!A:B,2,FALSE),\"\")","v":""},null,null,null,null,{"$f":"IFERROR(VLOOKUP(E675,Nota_Fiscal!$G$4:$L$1000,6,0),\"\")","v":""}]
[null,null,{"$f":"IFERROR(VLOOKUP(A676,Insumos!A:B,2,FALSE),\"\")","v":""},null,null,null,null,{"$f":"IFERROR(VLOOKUP(E676,Nota_Fiscal!$G$4:$L$1000,6,0),\"\")","v":""}]
[null,null,{"$f":"IFERROR(VLOOKUP(A677,Insumos!A:B,2,FALSE),\"\")","v":""},null,null,null,null,{"$f":"IFERROR(VLOOKUP(E677,Nota_Fiscal!$G$4:$L$1000,6,0),\"\")","v":""}]
[null,null,{"$f":"IFERROR(VLOOKUP(A678,Insumos!A:B,2,FALSE),\"\")","v":""},null,null,null,null,{"$f":"IFERROR(VLOOKUP(E678,Nota_Fiscal!$G$4:$L$1000,6,0),\"\")","v":""}]
[null,null,{"$f":"IFERROR(VLOOKUP(A679,Insumos!A:B,2,FALSE),\"\")","v":""},null,null,null,null,{"$f":"IFERROR(VLOOKUP(E679,Nota_Fiscal!$G$4:$L$1000,6,0),\"\")","v":""}]
[null,null,{"$f":"IFERROR(VLOOKUP(A680,Insumos!A:B,2,FALSE),\"\")","v":""},null,null,null,null,{"$f":"IFERROR(VLOOKUP(E680,Nota_Fiscal!$G$4:$L$1000,6,0),\"\")","v":""}]
[null,null,{"$f":"IFERROR(VLOOKUP(A681,Insumos!A:B,2,FALSE),\"\")","v":""},null,null,null,null,{"$f":"IFERROR(VLOOKUP(E681,Nota_Fiscal!$G$4:$L$1000,6,0),\"\")","v":""}]
[null,null,{"$f":"IFERROR(VLOOKUP(A682,Insumos!A:B,2,FALSE),\"\")","v":""},null,null,null,null,{"$f":"IFERROR(VLOOKUP(E682,Nota_Fiscal!$G$4:$L$1000,6,0),\"\")","v":""}]
[null,null,{"$f":"IFERROR(VLOOKUP(A683,Insumos!A:B,2,FALSE),\"\")","v":""},null,null,null,null,{"$f":"IFERROR(VLOOKUP(E683,Nota_Fiscal!$G$4:$L$1000,6,0),\"\")","v":""}]
[null,null,{"$f":"IFERROR(VLOOKUP(A684,Insumos!A:B,2,FALSE),\"\")","v":""},null,null,null,null,{"$f":"IFERROR(VLOOKUP(E684,Nota_Fiscal!$G$4:$L$1000,6,0),\"\")","v":""}]
[null,null,{"$f":"IFERROR(VLOOKUP(A685,Insumos!A:B,2,FALSE),\"\")","v":""},null,null,null,null,{"$f":"IFERROR(VLOOKUP(E685,Nota_Fiscal!$G$4:$L$1000,6,0),\"\")","v":""}]
[null,null,{"$f":"IFERROR(VLOOKUP(A686,Insumos!A:B,2,FALSE),\"\")","v":""},null,null,null,null,{"$f":"IFERROR(VLOOKUP(E686,Nota_Fiscal!$G$4:$L$1000,6,0),\"\")","v":""}]
[null,null,{"$f":"IFERROR(VLOOKUP(A687,Insumos!A:B,2,FALSE),\"\")","v":""},null,null,null,null,{"$f":"IFERROR(VLOOKUP(E687,Nota_Fiscal!$G$4:$L$1000,6,0),\"\")","v":""}]
[null,null,{"$f":"IFERROR(VLOOKUP(A688,Insumos!A:B,2,FALSE),\"\")","v":""},null,null,null,null,{"$f":"IFERROR(VLOOKUP(E688,Nota_Fiscal!$G$4:$L$1000,6,0),\"\")","v":""}]
[null,null,{"$f":"IFERROR(VLOOKUP(A689,Insumos!A:B,2,FALSE),\"\")","v":""},null,null,null,null,{"$f":"IFERROR(VLOOKUP(E689,Nota_Fiscal!$G$4:$L$1000,6,0),\"\")","v":""}]
[null,null,{"$f":"IFERROR(VLOOKUP(A690,Insumos!A:B,2,FALSE),\"\")","v":""},null,null,null,null,{"$f":"IFERROR(VLOOKUP(E690,Nota_Fiscal!$G$4:$L$1000,6,0),\"\")","v":""}]
[null,null,{"$f":"IFERROR(VLOOKUP(A691,Insumos!A:B,2,FALSE),\"\")","v":""},null,null,null,null,{"$f":"IFERROR(VLOOKUP(E691,Nota_Fiscal!$G$4:$L$1000,6,0),\"\")","v":""}]
[null,null,{"$f":"IFERROR(VLOOKUP(A692,Insumos!A:B,2,FALSE),\"\")","v":""},null,null,null,null,{"$f":"IFERROR(VLOOKUP(E692,Nota_Fiscal!$G$4:$L$1000,6,0),\"\")","v":""}]
[null,null,{"$f":"IFERROR(VLOOKUP(A693,Insumos!A:B,2,FALSE),\"\")","v":""},null,null,null,null,{"$f":"IFERROR(VLOOKUP(E693,Nota_Fiscal!$G$4:$L$1000,6,0),\"\")","v":""}]
[null,null,{"$f":"IFERROR(VLOOKUP(A694,Insumos!A:B,2,FALSE),\"\")","v":""},null,null,null,null,{"$f":"IFERROR(VLOOKUP(E694,Nota_Fiscal!$G$4:$L$1000,6,0),\"\")","v":""}]
[null,null,{"$f":"IFERROR(VLOOKUP(A695,Insumos!A:B,2,FALSE),\"\")","v":""},null,null,null,null,{"$f":"IFERROR(VLOOKUP(E695,Nota_Fiscal!$G$4:$L$1000,6,0),\"\")","v":""}]
[null,null,{"$f":"IFERROR(VLOOKUP(A696,Insumos!A:B,2,FALSE),\"\")","v":""},null,null,null,null,{"$f":"IFERROR(VLOOKUP(E696,Nota_Fiscal!$G$4:$L$1000,6,0),\"\")","v":""}]
[null,null,{"$f":"IFERROR(VLOOKUP(A697,Insumos!A:B,2,FALSE),\"\")","v":""},null,null,null,null,{"$f":"IFERROR(VLOOKUP(E697,Nota_Fiscal!$G$4:$L$1000,6,0),\"\")","v":""}]
[null,null,{"$f":"IFERROR(VLOOKUP(A698,Insumos!A:B,2,FALSE),\"\")","v":""},null,null,null,null,{"$f":"IFERROR(VLOOKUP(E698,Nota_Fiscal!$G$4:$L$1000,6,0),\"\")","v":""}]
[null,null,{"$f":"IFERROR(VLOOKUP(A699,Insumos!A:B,2,FALSE),\"\")","v":""},null,null,null,null,{"$f":"IFERROR(VLOOKUP(E699,Nota_Fiscal!$G$4:$L$1000,6,0),\"\")","v":""}]
[null,null,{"$f":"IFERROR(VLOOKUP(A700,Insumos!A:B,2,FALSE),\"\")","v":""},null,null,null,null,{"$f":"IFERROR(VLOOKUP(E700,Nota_Fiscal!$G$4:$L$1000,6,0),\"\")","v":""}]
[null,null,{"$f":"IFERROR(VLOOKUP(A701,Insumos!A:B,2,FALSE),\"\")","v":""},null,null,null,null,{"$f":"IFERROR(VLOOKUP(E701,Nota_Fiscal!$G$4:$L$1000,6,0),\"\")","v":""}]
[null,null,{"$f":"IFERROR(VLOOKUP(A702,Insumos!A:B,2,FALSE),\"\")","v":""},null,null,null,null,{"$f":"IFERROR(VLOOKUP(E702,Nota_Fiscal!$G$4:$L$1000,6,0),\"\")","v":""}]
[null,null,{"$f":"IFERROR(VLOOKUP(A703,Insumos!A:B,2,FALSE),\"\")","v":""},null,null,null,null,{"$f":"IFERROR(VLOOKUP(E703,Nota_Fiscal!$G$4:$L$1000,6,0),\"\")","v":""}]
[null,null,{"$f":"IFERROR(VLOOKUP(A704,Insumos!A:B,2,FALSE),\"\")","v":""},null,null,null,null,{"$f":"IFERROR(VLOOKUP(E704,Nota_Fiscal!$G$4:$L$1000,6,0),\"\")","v":""}]
[null,null,{"$f":"IFERROR(VLOOKUP(A705,Insumos!A:B,2,FALSE),\"\")","v":""},null,null,null,null,{"$f":"IFERROR(VLOOKUP(E705,Nota_Fiscal!$G$4:$L$1000,6,0),\"\")","v":""}]
[null,null,{"$f":"IFERROR(VLOOKUP(A706,Insumos!A:B,2,FALSE),\"\")","v":""},null,null,null,null,{"$f":"IFERROR(VLOOKUP(E706,Nota_Fiscal!$G$4:$L$1000,6,0),\"\")","v":""}]
[null,null,{"$f":"IFERROR(VLOOKUP(A707,Insumos!A:B,2,FALSE),\"\")","v":""},null,null,null,null,{"$f":"IFERROR(VLOOKUP(E707,Nota_Fiscal!$G$4:$L$1000,6,0),\"\")","v":""}]
[null,null,{"$f":"IFERROR(VLOOKUP(A708,Insumos!A:B,2,FALSE),\"\")","v":""},null,null,null,null,{"$f":"IFERROR(VLOOKUP(E708,Nota_Fiscal!$G$4:$L$1000,6,0),\"\")","v":""}]
[null,null,{"$f":"IFERROR(VLOOKUP(A709,Insumos!A:B,2,FALSE),\"\")","v":""},null,null,null,null,{"$f":"IFERROR(VLOOKUP(E709,Nota_Fiscal!$G$4:$L$1000,6,0),\"\")","v":""}]
[null,null,{"$f":"IFERROR(VLOOKUP(A710,Insumos!A:B,2,FALSE),\"\")","v":""},null,null,null,null,{"$f":"IFERROR(VLOOKUP(E710,Nota_Fiscal!$G$4:$L$1000,6,0),\"\")","v":""}]
[null,null,{"$f":"IFERROR(VLOOKUP(A711,Insumos!A:B,2,FALSE),\"\")","v":""},null,null,null,null,{"$f":"IFERROR(VLOOKUP(E711,Nota_Fiscal!$G$4:$L$1000,6,0),\"\")","v":""}]
[null,null,{"$f":"IFERROR(VLOOKUP(A712,Insumos!A:B,2,FALSE),\"\")","v":""},null,null,null,null,{"$f":"IFERROR(VLOOKUP(E712,Nota_Fiscal!$G$4:$L$1000,6,0),\"\")","v":""}]
[null,null,{"$f":"IFERROR(VLOOKUP(A713,Insumos!A:B,2,FALSE),\"\")","v":""},null,null,null,null,{"$f":"IFERROR(VLOOKUP(E713,Nota_Fiscal!$G$4:$L$1000,6,0),\"\")","v":""}]
[null,null,{"$f":"IFERROR(VLOOKUP(A714,Insumos!A:B,2,FALSE),\"\")","v":""},null,null,null,null,{"$f":"IFERROR(VLOOKUP(E714,Nota_Fiscal!$G$4:$L$1000,6,0),\"\")","v":""}]
[null,null,{"$f":"IFERROR(VLOOKUP(A715,Insumos!A:B,2,FALSE),\"\")","v":""},null,null,null,null,{"$f":"IFERROR(VLOOKUP(E715,Nota_Fiscal!$G$4:$L$1000,6,0),\"\")","v":""}]
[null,null,{"$f":"IFERROR(VLOOKUP(A716,Insumos!A:B,2,FALSE),\"\")","v":""},null,null,null,null,{"$f":"IFERROR(VLOOKUP(E716,Nota_Fiscal!$G$4:$L$1000,6,0),\"\")","v":""}]
[null,null,{"$f":"IFERROR(VLOOKUP(A717,Insumos!A:B,2,FALSE),\"\")","v":""},null,null,null,null,{"$f":"IFERROR(VLOOKUP(E717,Nota_Fiscal!$G$4:$L$1000,6,0),\"\")","v":""}]
[null,null,{"$f":"IFERROR(VLOOKUP(A718,Insumos!A:B,2,FALSE),\"\")","v":""},null,null,null,null,{"$f":"IFERROR(VLOOKUP(E718,Nota_Fiscal!$G$4:$L$1000,6,0),\"\")","v":""}]
[null,null,{"$f":"IFERROR(VLOOKUP(A719,Insumos!A:B,2,FALSE),\"\")","v":""},null,null,null,null,{"$f":"IFERROR(VLOOKUP(E719,Nota_Fiscal!$G$4:$L$1000,6,0),\"\")","v":""}]
[null,null,{"$f":"IFERROR(VLOOKUP(A720,Insumos!A:B,2,FALSE),\"\")","v":""},null,null,null,null,{"$f":"IFERROR(VLOOKUP(E720,Nota_Fiscal!$G$4:$L$1000,6,0),\"\")","v":""}]
[null,null,{"$f":"IFERROR(VLOOKUP(A721,Insumos!A:B,2,FALSE),\"\")","v":""},null,null,null,null,{"$f":"IFERROR(VLOOKUP(E721,Nota_Fiscal!$G$4:$L$1000,6,0),\"\")","v":""}]
[null,null,{"$f":"IFERROR(VLOOKUP(A722,Insumos!A:B,2,FALSE),\"\")","v":""},null,null,null,null,{"$f":"IFERROR(VLOOKUP(E722,Nota_Fiscal!$G$4:$L$1000,6,0),\"\")","v":""}]
[null,null,{"$f":"IFERROR(VLOOKUP(A723,Insumos!A:B,2,FALSE),\"\")","v":""},null,null,null,null,{"$f":"IFERROR(VLOOKUP(E723,Nota_Fiscal!$G$4:$L$1000,6,0),\"\")","v":""}]
[null,null,{"$f":"IFERROR(VLOOKUP(A724,Insumos!A:B,2,FALSE),\"\")","v":""},null,null,null,null,{"$f":"IFERROR(VLOOKUP(E724,Nota_Fiscal!$G$4:$L$1000,6,0),\"\")","v":""}]
[null,null,{"$f":"IFERROR(VLOOKUP(A725,Insumos!A:B,2,FALSE),\"\")","v":""},null,null,null,null,{"$f":"IFERROR(VLOOKUP(E725,Nota_Fiscal!$G$4:$L$1000,6,0),\"\")","v":""}]
[null,null,{"$f":"IFERROR(VLOOKUP(A726,Insumos!A:B,2,FALSE),\"\")","v":""},null,null,null,null,{"$f":"IFERROR(VLOOKUP(E726,Nota_Fiscal!$G$4:$L$1000,6,0),\"\")","v":""}]
[null,null,{"$f":"IFERROR(VLOOKUP(A727,Insumos!A:B,2,FALSE),\"\")","v":""},null,null,null,null,{"$f":"IFERROR(VLOOKUP(E727,Nota_Fiscal!$G$4:$L$1000,6,0),\"\")","v":""}]
[null,null,{"$f":"IFERROR(VLOOKUP(A728,Insumos!A:B,2,FALSE),\"\")","v":""},null,null,null,null,{"$f":"IFERROR(VLOOKUP(E728,Nota_Fiscal!$G$4:$L$1000,6,0),\"\")","v":""}]
[null,null,{"$f":"IFERROR(VLOOKUP(A729,Insumos!A:B,2,FALSE),\"\")","v":""},null,null,null,null,{"$f":"IFERROR(VLOOKUP(E729,Nota_Fiscal!$G$4:$L$1000,6,0),\"\")","v":""}]
[null,null,{"$f":"IFERROR(VLOOKUP(A730,Insumos!A:B,2,FALSE),\"\")","v":""},null,null,null,null,{"$f":"IFERROR(VLOOKUP(E730,Nota_Fiscal!$G$4:$L$1000,6,0),\"\")","v":""}]
[null,null,{"$f":"IFERROR(VLOOKUP(A731,Insumos!A:B,2,FALSE),\"\")","v":""},null,null,null,null,{"$f":"IFERROR(VLOOKUP(E731,Nota_Fiscal!$G$4:$L$1000,6,0),\"\")","v":""}]
[null,null,{"$f":"IFERROR(VLOOKUP(A732,Insumos!A:B,2,FALSE),\"\")","v":""},null,null,null,null,{"$f":"IFERROR(VLOOKUP(E732,Nota_Fiscal!$G$4:$L$1000,6,0),\"\")","v":""}]
[null,null,{"$f":"IFERROR(VLOOKUP(A733,Insumos!A:B,2,FALSE),\"\")","v":""},null,null,null,null,{"$f":"IFERROR(VLOOKUP(E733,Nota_Fiscal!$G$4:$L$1000,6,0),\"\")","v":""}]
[null,null,{"$f":"IFERROR(VLOOKUP(A734,Insumos!A:B,2,FALSE),\"\")","v":""},null,null,null,null,{"$f":"IFERROR(VLOOKUP(E734,Nota_Fiscal!$G$4:$L$1000,6,0),\"\")","v":""}]
[null,null,{"$f":"IFERROR(VLOOKUP(A735,Insumos!A:B,2,FALSE),\"\")","v":""},null,null,null,null,{"$f":"IFERROR(VLOOKUP(E735,Nota_Fiscal!$G$4:$L$1000,6,0),\"\")","v":""}]
[null,null,{"$f":"IFERROR(VLOOKUP(A736,Insumos!A:B,2,FALSE),\"\")","v":""},null,null,null,null,{"$f":"IFERROR(VLOOKUP(E736,Nota_Fiscal!$G$4:$L$1000,6,0),\"\")","v":""}]
[null,null,{"$f":"IFERROR(VLOOKUP(A737,Insumos!A:B,2,FALSE),\"\")","v":""},null,null,null,null,{"$f":"IFERROR(VLOOKUP(E737,Nota_Fiscal!$G$4:$L$1000,6,0),\"\")","v":""}]
[null,null,{"$f":"IFERROR(VLOOKUP(A738,Insumos!A:B,2,FALSE),\"\")","v":""},null,null,null,null,{"$f":"IFERROR(VLOOKUP(E738,Nota_Fiscal!$G$4:$L$1000,6,0),\"\")","v":""}]
[null,null,{"$f":"IFERROR(VLOOKUP(A739,Insumos!A:B,2,FALSE),\"\")","v":""},null,null,null,null,{"$f":"IFERROR(VLOOKUP(E739,Nota_Fiscal!$G$4:$L$1000,6,0),\"\")","v":""}]
[null,null,{"$f":"IFERROR(VLOOKUP(A740,Insumos!A:B,2,FALSE),\"\")","v":""},null,null,null,null,{"$f":"IFERROR(VLOOKUP(E740,Nota_Fiscal!$G$4:$L$1000,6,0),\"\")","v":""}]
[null,null,{"$f":"IFERROR(VLOOKUP(A741,Insumos!A:B,2,FALSE),\"\")","v":""},null,null,null,null,{"$f":"IFERROR(VLOOKUP(E741,Nota_Fiscal!$G$4:$L$1000,6,0),\"\")","v":""}]
[null,null,{"$f":"IFERROR(VLOOKUP(A742,Insumos!A:B,2,FALSE),\"\")","v":""},null,null,null,null,{"$f":"IFERROR(VLOOKUP(E742,Nota_Fiscal!$G$4:$L$1000,6,0),\"\")","v":""}]
[null,null,{"$f":"IFERROR(VLOOKUP(A743,Insumos!A:B,2,FALSE),\"\")","v":""},null,null,null,null,{"$f":"IFERROR(VLOOKUP(E743,Nota_Fiscal!$G$4:$L$1000,6,0),\"\")","v":""}]
[null,null,{"$f":"IFERROR(VLOOKUP(A744,Insumos!A:B,2,FALSE),\"\")","v":""},null,null,null,null,{"$f":"IFERROR(VLOOKUP(E744,Nota_Fiscal!$G$4:$L$1000,6,0),\"\")","v":""}]
[null,null,{"$f":"IFERROR(VLOOKUP(A745,Insumos!A:B,2,FALSE),\"\")","v":""},null,null,null,null,{"$f":"IFERROR(VLOOKUP(E745,Nota_Fiscal!$G$4:$L$1000,6,0),\"\")","v":""}]
[null,null,{"$f":"IFERROR(VLOOKUP(A746,Insumos!A:B,2,FALSE),\"\")","v":""},null,null,null,null,{"$f":"IFERROR(VLOOKUP(E746,Nota_Fiscal!$G$4:$L$1000,6,0),\"\")","v":""}]
[null,null,{"$f":"IFERROR(VLOOKUP(A747,Insumos!A:B,2,FALSE),\"\")","v":""},null,null,null,null,{"$f":"IFERROR(VLOOKUP(E747,Nota_Fiscal!$G$4:$L$1000,6,0),\"\")","v":""}]
[null,null,{"$f":"IFERROR(VLOOKUP(A748,Insumos!A:B,2,FALSE),\"\")","v":""},null,null,null,null,{"$f":"IFERROR(VLOOKUP(E748,Nota_Fiscal!$G$4:$L$1000,6,0),\"\")","v":""}]
[null,null,{"$f":"IFERROR(VLOOKUP(A749,Insumos!A:B,2,FALSE),\"\")","v":""},null,null,null,null,{"$f":"IFERROR(VLOOKUP(E749,Nota_Fiscal!$G$4:$L$1000,6,0),\"\")","v":""}]
[null,null,{"$f":"IFERROR(VLOOKUP(A750,Insumos!A:B,2,FALSE),\"\")","v":""},null,null,null,null,{"$f":"IFERROR(VLOOKUP(E750,Nota_Fiscal!$G$4:$L$1000,6,0),\"\")","v":""}]
[null,null,{"$f":"IFERROR(VLOOKUP(A751,Insumos!A:B,2,FALSE),\"\")","v":""},null,null,null,null,{"$f":"IFERROR(VLOOKUP(E751,Nota_Fiscal!$G$4:$L$1000,6,0),\"\")","v":""}]
[null,null,{"$f":"IFERROR(VLOOKUP(A752,Insumos!A:B,2,FALSE),\"\")","v":""},null,null,null,null,{"$f":"IFERROR(VLOOKUP(E752,Nota_Fiscal!$G$4:$L$1000,6,0),\"\")","v":""}]
[null,null,{"$f":"IFERROR(VLOOKUP(A753,Insumos!A:B,2,FALSE),\"\")","v":""},null,null,null,null,{"$f":"IFERROR(VLOOKUP(E753,Nota_Fiscal!$G$4:$L$1000,6,0),\"\")","v":""}]
[null,null,{"$f":"IFERROR(VLOOKUP(A754,Insumos!A:B,2,FALSE),\"\")","v":""},null,null,null,null,{"$f":"IFERROR(VLOOKUP(E754,Nota_Fiscal!$G$4:$L$1000,6,0),\"\")","v":""}]
[null,null,{"$f":"IFERROR(VLOOKUP(A755,Insumos!A:B,2,FALSE),\"\")","v":""},null,null,null,null,{"$f":"IFERROR(VLOOKUP(E755,Nota_Fiscal!$G$4:$L$1000,6,0),\"\")","v":""}]
[null,null,{"$f":"IFERROR(VLOOKUP(A756,Insumos!A:B,2,FALSE),\"\")","v":""},null,null,null,null,{"$f":"IFERROR(VLOOKUP(E756,Nota_Fiscal!$G$4:$L$1000,6,0),\"\")","v":""}]
[null,null,{"$f":"IFERROR(VLOOKUP(A757,Insumos!A:B,2,FALSE),\"\")","v":""},null,null,null,null,{"$f":"IFERROR(VLOOKUP(E757,Nota_Fiscal!$G$4:$L$1000,6,0),\"\")","v":""}]
[null,null,{"$f":"IFERROR(VLOOKUP(A758,Insumos!A:B,2,FALSE),\"\")","v":""},null,null,null,null,{"$f":"IFERROR(VLOOKUP(E758,Nota_Fiscal!$G$4:$L$1000,6,0),\"\")","v":""}]
[null,null,{"$f":"IFERROR(VLOOKUP(A759,Insumos!A:B,2,FALSE),\"\")","v":""},null,null,null,null,{"$f":"IFERROR(VLOOKUP(E759,Nota_Fiscal!$G$4:$L$1000,6,0),\"\")","v":""}]
[null,null,{"$f":"IFERROR(VLOOKUP(A760,Insumos!A:B,2,FALSE),\"\")","v":""},null,null,null,null,{"$f":"IFERROR(VLOOKUP(E760,Nota_Fiscal!$G$4:$L$1000,6,0),\"\")","v":""}]
[null,null,{"$f":"IFERROR(VLOOKUP(A761,Insumos!A:B,2,FALSE),\"\")","v":""},null,null,null,null,{"$f":"IFERROR(VLOOKUP(E761,Nota_Fiscal!$G$4:$L$1000,6,0),\"\")","v":""}]
[null,null,{"$f":"IFERROR(VLOOKUP(A762,Insumos!A:B,2,FALSE),\"\")","v":""},null,null,null,null,{"$f":"IFERROR(VLOOKUP(E762,Nota_Fiscal!$G$4:$L$1000,6,0),\"\")","v":""}]
[null,null,{"$f":"IFERROR(VLOOKUP(A763,Insumos!A:B,2,FALSE),\"\")","v":""},null,null,null,null,{"$f":"IFERROR(VLOOKUP(E763,Nota_Fiscal!$G$4:$L$1000,6,0),\"\")","v":""}]
[null,null,{"$f":"IFERROR(VLOOKUP(A764,Insumos!A:B,2,FALSE),\"\")","v":""},null,null,null,null,{"$f":"IFERROR(VLOOKUP(E764,Nota_Fiscal!$G$4:$L$1000,6,0),\"\")","v":""}]
[null,null,{"$f":"IFERROR(VLOOKUP(A765,Insumos!A:B,2,FALSE),\"\")","v":""},null,null,null,null,{"$f":"IFERROR(VLOOKUP(E765,Nota_Fiscal!$G$4:$L$1000,6,0),\"\")","v":""}]
[null,null,{"$f":"IFERROR(VLOOKUP(A766,Insumos!A:B,2,FALSE),\"\")","v":""},null,null,null,null,{"$f":"IFERROR(VLOOKUP(E766,Nota_Fiscal!$G$4:$L$1000,6,0),\"\")","v":""}]
[null,null,{"$f":"IFERROR(VLOOKUP(A767,Insumos!A:B,2,FALSE),\"\")","v":""},null,null,null,null,{"$f":"IFERROR(VLOOKUP(E767,Nota_Fiscal!$G$4:$L$1000,6,0),\"\")","v":""}]
[null,null,{"$f":"IFERROR(VLOOKUP(A768,Insumos!A:B,2,FALSE),\"\")","v":""},null,null,null,null,{"$f":"IFERROR(VLOOKUP(E768,Nota_Fiscal!$G$4:$L$1000,6,0),\"\")","v":""}]
[null,null,{"$f":"IFERROR(VLOOKUP(A769,Insumos!A:B,2,FALSE),\"\")","v":""},null,null,null,null,{"$f":"IFERROR(VLOOKUP(E769,Nota_Fiscal!$G$4:$L$1000,6,0),\"\")","v":""}]
[null,null,{"$f":"IFERROR(VLOOKUP(A770,Insumos!A:B,2,FALSE),\"\")","v":""},null,null,null,null,{"$f":"IFERROR(VLOOKUP(E770,Nota_Fiscal!$G$4:$L$1000,6,0),\"\")","v":""}]
[null,null,{"$f":"IFERROR(VLOOKUP(A771,Insumos!A:B,2,FALSE),\"\")","v":""},null,null,null,null,{"$f":"IFERROR(VLOOKUP(E771,Nota_Fiscal!$G$4:$L$1000,6,0),\"\")","v":""}]
[null,null,{"$f":"IFERROR(VLOOKUP(A772,Insumos!A:B,2,FALSE),\"\")","v":""},null,null,null,null,{"$f":"IFERROR(VLOOKUP(E772,Nota_Fiscal!$G$4:$L$1000,6,0),\"\")","v":""}]
[null,null,{"$f":"IFERROR(VLOOKUP(A773,Insumos!A:B,2,FALSE),\"\")","v":""},null,null,null,null,{"$f":"IFERROR(VLOOKUP(E773,Nota_Fiscal!$G$4:$L$1000,6,0),\"\")","v":""}]
[null,null,{"$f":"IFERROR(VLOOKUP(A774,Insumos!A:B,2,FALSE),\"\")","v":""},null,null,null,null,{"$f":"IFERROR(VLOOKUP(E774,Nota_Fiscal!$G$4:$L$1000,6,0),\"\")","v":""}]
[null,null,{"$f":"IFERROR(VLOOKUP(A775,Insumos!A:B,2,FALSE),\"\")","v":""},null,null,null,null,{"$f":"IFERROR(VLOOKUP(E775,Nota_Fiscal!$G$4:$L$1000,6,0),\"\")","v":""}]
[null,null,{"$f":"IFERROR(VLOOKUP(A776,Insumos!A:B,2,FALSE),\"\")","v":""},null,null,null,null,{"$f":"IFERROR(VLOOKUP(E776,Nota_Fiscal!$G$4:$L$1000,6,0),\"\")","v":""}]
[null,null,{"$f":"IFERROR(VLOOKUP(A777,Insumos!A:B,2,FALSE),\"\")","v":""},null,null,null,null,{"$f":"IFERROR(VLOOKUP(E777,Nota_Fiscal!$G$4:$L$1000,6,0),\"\")","v":""}]
[null,null,{"$f":"IFERROR(VLOOKUP(A778,Insumos!A:B,2,FALSE),\"\")","v":""},null,null,null,null,{"$f":"IFERROR(VLOOKUP(E778,Nota_Fiscal!$G$4:$L$1000,6,0),\"\")","v":""}]
[null,null,{"$f":"IFERROR(VLOOKUP(A779,Insumos!A:B,2,FALSE),\"\")","v":""},null,null,null,null,{"$f":"IFERROR(VLOOKUP(E779,Nota_Fiscal!$G$4:$L$1000,6,0),\"\")","v":""}]
[null,null,{"$f":"IFERROR(VLOOKUP(A780,Insumos!A:B,2,FALSE),\"\")","v":""},null,null,null,null,{"$f":"IFERROR(VLOOKUP(E780,Nota_Fiscal!$G$4:$L$1000,6,0),\"\")","v":""}]
[null,null,{"$f":"IFERROR(VLOOKUP(A781,Insumos!A:B,2,FALSE),\"\")","v":""},null,null,null,null,{"$f":"IFERROR(VLOOKUP(E781,Nota_Fiscal!$G$4:$L$1000,6,0),\"\")","v":""}]
[null,null,{"$f":"IFERROR(VLOOKUP(A782,Insumos!A:B,2,FALSE),\"\")","v":""},null,null,null,null,{"$f":"IFERROR(VLOOKUP(E782,Nota_Fiscal!$G$4:$L$1000,6,0),\"\")","v":""}]
[null,null,{"$f":"IFERROR(VLOOKUP(A783,Insumos!A:B,2,FALSE),\"\")","v":""},null,null,null,null,{"$f":"IFERROR(VLOOKUP(E783,Nota_Fiscal!$G$4:$L$1000,6,0),\"\")","v":""}]
[null,null,{"$f":"IFERROR(VLOOKUP(A784,Insumos!A:B,2,FALSE),\"\")","v":""},null,null,null,null,{"$f":"IFERROR(VLOOKUP(E784,Nota_Fiscal!$G$4:$L$1000,6,0),\"\")","v":""}]
[null,null,{"$f":"IFERROR(VLOOKUP(A785,Insumos!A:B,2,FALSE),\"\")","v":""},null,null,null,null,{"$f":"IFERROR(VLOOKUP(E785,Nota_Fiscal!$G$4:$L$1000,6,0),\"\")","v":""}]
[null,null,{"$f":"IFERROR(VLOOKUP(A786,Insumos!A:B,2,FALSE),\"\")","v":""},null,null,null,null,{"$f":"IFERROR(VLOOKUP(E786,Nota_Fiscal!$G$4:$L$1000,6,0),\"\")","v":""}]
[null,null,{"$f":"IFERROR(VLOOKUP(A787,Insumos!A:B,2,FALSE),\"\")","v":""},null,null,null,null,{"$f":"IFERROR(VLOOKUP(E787,Nota_Fiscal!$G$4:$L$1000,6,0),\"\")","v":""}]
[null,null,{"$f":"IFERROR(VLOOKUP(A788,Insumos!A:B,2,FALSE),\"\")","v":""},null,null,null,null,{"$f":"IFERROR(VLOOKUP(E788,Nota_Fiscal!$G$4:$L$1000,6,0),\"\")","v":""}]
[null,null,{"$f":"IFERROR(VLOOKUP(A789,Insumos!A:B,2,FALSE),\"\")","v":""},null,null,null,null,{"$f":"IFERROR(VLOOKUP(E789,Nota_Fiscal!$G$4:$L$1000,6,0),\"\")","v":""}]
[null,null,{"$f":"IFERROR(VLOOKUP(A790,Insumos!A:B,2,FALSE),\"\")","v":""},null,null,null,null,{"$f":"IFERROR(VLOOKUP(E790,Nota_Fiscal!$G$4:$L$1000,6,0),\"\")","v":""}]
[null,null,{"$f":"IFERROR(VLOOKUP(A791,Insumos!A:B,2,FALSE),\"\")","v":""},null,null,null,null,{"$f":"IFERROR(VLOOKUP(E791,Nota_Fiscal!$G$4:$L$1000,6,0),\"\")","v":""}]
[null,null,{"$f":"IFERROR(VLOOKUP(A792,Insumos!A:B,2,FALSE),\"\")","v":""},null,null,null,null,{"$f":"IFERROR(VLOOKUP(E792,Nota_Fiscal!$G$4:$L$1000,6,0),\"\")","v":""}]
[null,null,{"$f":"IFERROR(VLOOKUP(A793,Insumos!A:B,2,FALSE),\"\")","v":""},null,null,null,null,{"$f":"IFERROR(VLOOKUP(E793,Nota_Fiscal!$G$4:$L$1000,6,0),\"\")","v":""}]
[null,null,{"$f":"IFERROR(VLOOKUP(A794,Insumos!A:B,2,FALSE),\"\")","v":""},null,null,null,null,{"$f":"IFERROR(VLOOKUP(E794,Nota_Fiscal!$G$4:$L$1000,6,0),\"\")","v":""}]
[null,null,{"$f":"IFERROR(VLOOKUP(A795,Insumos!A:B,2,FALSE),\"\")","v":""},null,null,null,null,{"$f":"IFERROR(VLOOKUP(E795,Nota_Fiscal!$G$4:$L$1000,6,0),\"\")","v":""}]
[null,null,{"$f":"IFERROR(VLOOKUP(A796,Insumos!A:B,2,FALSE),\"\")","v":""},null,null,null,null,{"$f":"IFERROR(VLOOKUP(E796,Nota_Fiscal!$G$4:$L$1000,6,0),\"\")","v":""}]
[null,null,{"$f":"IFERROR(VLOOKUP(A797,Insumos!A:B,2,FALSE),\"\")","v":""},null,null,null,null,{"$f":"IFERROR(VLOOKUP(E797,Nota_Fiscal!$G$4:$L$1000,6,0),\"\")","v":""}]
[null,null,{"$f":"IFERROR(VLOOKUP(A798,Insumos!A:B,2,FALSE),\"\")","v":""},null,null,null,null,{"$f":"IFERROR(VLOOKUP(E798,Nota_Fiscal!$G$4:$L$1000,6,0),\"\")","v":""}]
[null,null,{"$f":"IFERROR(VLOOKUP(A799,Insumos!A:B,2,FALSE),\"\")","v":""},null,null,null,null,{"$f":"IFERROR(VLOOKUP(E799,Nota_Fiscal!$G$4:$L$1000,6,0),\"\")","v":""}]
[null,null,{"$f":"IFERROR(VLOOKUP(A800,Insumos!A:B,2,FALSE),\"\")","v":""},null,null,null,null,{"$f":"IFERROR(VLOOKUP(E800,Nota_Fiscal!$G$4:$L$1000,6,0),\"\")","v":""}]
[null,null,{"$f":"IFERROR(VLOOKUP(A801,Insumos!A:B,2,FALSE),\"\")","v":""},null,null,null,null,{"$f":"IFERROR(VLOOKUP(E801,Nota_Fiscal!$G$4:$L$1000,6,0),\"\")","v":""}]
[null,null,{"$f":"IFERROR(VLOOKUP(A802,Insumos!A:B,2,FALSE),\"\")","v":""},null,null,null,null,{"$f":"IFERROR(VLOOKUP(E802,Nota_Fiscal!$G$4:$L$1000,6,0),\"\")","v":""}]
[null,null,{"$f":"IFERROR(VLOOKUP(A803,Insumos!A:B,2,FALSE),\"\")","v":""},null,null,null,null,{"$f":"IFERROR(VLOOKUP(E803,Nota_Fiscal!$G$4:$L$1000,6,0),\"\")","v":""}]
[null,null,{"$f":"IFERROR(VLOOKUP(A804,Insumos!A:B,2,FALSE),\"\")","v":""},null,null,null,null,{"$f":"IFERROR(VLOOKUP(E804,Nota_Fiscal!$G$4:$L$1000,6,0),\"\")","v":""}]
[null,null,{"$f":"IFERROR(VLOOKUP(A805,Insumos!A:B,2,FALSE),\"\")","v":""},null,null,null,null,{"$f":"IFERROR(VLOOKUP(E805,Nota_Fiscal!$G$4:$L$1000,6,0),\"\")","v":""}]
[null,null,{"$f":"IFERROR(VLOOKUP(A806,Insumos!A:B,2,FALSE),\"\")","v":""},null,null,null,null,{"$f":"IFERROR(VLOOKUP(E806,Nota_Fiscal!$G$4:$L$1000,6,0),\"\")","v":""}]
[null,null,{"$f":"IFERROR(VLOOKUP(A807,Insumos!A:B,2,FALSE),\"\")","v":""},null,null,null,null,{"$f":"IFERROR(VLOOKUP(E807,Nota_Fiscal!$G$4:$L$1000,6,0),\"\")","v":""}]
[null,null,{"$f":"IFERROR(VLOOKUP(A808,Insumos!A:B,2,FALSE),\"\")","v":""},null,null,null,null,{"$f":"IFERROR(VLOOKUP(E808,Nota_Fiscal!$G$4:$L$1000,6,0),\"\")","v":""}]
[null,null,{"$f":"IFERROR(VLOOKUP(A809,Insumos!A:B,2,FALSE),\"\")","v":""},null,null,null,null,{"$f":"IFERROR(VLOOKUP(E809,Nota_Fiscal!$G$4:$L$1000,6,0),\"\")","v":""}]
[null,null,{"$f":"IFERROR(VLOOKUP(A810,Insumos!A:B,2,FALSE),\"\")","v":""},null,null,null,null,{"$f":"IFERROR(VLOOKUP(E810,Nota_Fiscal!$G$4:$L$1000,6,0),\"\")","v":""}]
[null,null,{"$f":"IFERROR(VLOOKUP(A811,Insumos!A:B,2,FALSE),\"\")","v":""},null,null,null,null,{"$f":"IFERROR(VLOOKUP(E811,Nota_Fiscal!$G$4:$L$1000,6,0),\"\")","v":""}]
[null,null,{"$f":"IFERROR(VLOOKUP(A812,Insumos!A:B,2,FALSE),\"\")","v":""},null,null,null,null,{"$f":"IFERROR(VLOOKUP(E812,Nota_Fiscal!$G$4:$L$1000,6,0),\"\")","v":""}]
[null,null,{"$f":"IFERROR(VLOOKUP(A813,Insumos!A:B,2,FALSE),\"\")","v":""},null,null,null,null,{"$f":"IFERROR(VLOOKUP(E813,Nota_Fiscal!$G$4:$L$1000,6,0),\"\")","v":""}]
[null,null,{"$f":"IFERROR(VLOOKUP(A814,Insumos!A:B,2,FALSE),\"\")","v":""},null,null,null,null,{"$f":"IFERROR(VLOOKUP(E814,Nota_Fiscal!$G$4:$L$1000,6,0),\"\")","v":""}]
[null,null,{"$f":"IFERROR(VLOOKUP(A815,Insumos!A:B,2,FALSE),\"\")","v":""},null,null,null,null,{"$f":"IFERROR(VLOOKUP(E815,Nota_Fiscal!$G$4:$L$1000,6,0),\"\")","v":""}]
[null,null,{"$f":"IFERROR(VLOOKUP(A816,Insumos!A:B,2,FALSE),\"\")","v":""},null,null,null,null,{"$f":"IFERROR(VLOOKUP(E816,Nota_Fiscal!$G$4:$L$1000,6,0),\"\")","v":""}]
[null,null,{"$f":"IFERROR(VLOOKUP(A817,Insumos!A:B,2,FALSE),\"\")","v":""},null,null,null,null,{"$f":"IFERROR(VLOOKUP(E817,Nota_Fiscal!$G$4:$L$1000,6,0),\"\")","v":""}]
[null,null,{"$f":"IFERROR(VLOOKUP(A818,Insumos!A:B,2,FALSE),\"\")","v":""},null,null,null,null,{"$f":"IFERROR(VLOOKUP(E818,Nota_Fiscal!$G$4:$L$1000,6,0),\"\")","v":""}]
[null,null,{"$f":"IFERROR(VLOOKUP(A819,Insumos!A:B,2,FALSE),\"\")","v":""},null,null,null,null,{"$f":"IFERROR(VLOOKUP(E819,Nota_Fiscal!$G$4:$L$1000,6,0),\"\")","v":""}]
[null,null,{"$f":"IFERROR(VLOOKUP(A820,Insumos!A:B,2,FALSE),\"\")","v":""},null,null,null,null,{"$f":"IFERROR(VLOOKUP(E820,Nota_Fiscal!$G$4:$L$1000,6,0),\"\")","v":""}]
[null,null,{"$f":"IFERROR(VLOOKUP(A821,Insumos!A:B,2,FALSE),\"\")","v":""},null,null,null,null,{"$f":"IFERROR(VLOOKUP(E821,Nota_Fiscal!$G$4:$L$1000,6,0),\"\")","v":""}]
[null,null,{"$f":"IFERROR(VLOOKUP(A822,Insumos!A:B,2,FALSE),\"\")","v":""},null,null,null,null,{"$f":"IFERROR(VLOOKUP(E822,Nota_Fiscal!$G$4:$L$1000,6,0),\"\")","v":""}]
[null,null,{"$f":"IFERROR(VLOOKUP(A823,Insumos!A:B,2,FALSE),\"\")","v":""},null,null,null,null,{"$f":"IFERROR(VLOOKUP(E823,Nota_Fiscal!$G$4:$L$1000,6,0),\"\")","v":""}]
[null,null,{"$f":"IFERROR(VLOOKUP(A824,Insumos!A:B,2,FALSE),\"\")","v":""},null,null,null,null,{"$f":"IFERROR(VLOOKUP(E824,Nota_Fiscal!$G$4:$L$1000,6,0),\"\")","v":""}]
[null,null,{"$f":"IFERROR(VLOOKUP(A825,Insumos!A:B,2,FALSE),\"\")","v":""},null,null,null,null,{"$f":"IFERROR(VLOOKUP(E825,Nota_Fiscal!$G$4:$L$1000,6,0),\"\")","v":""}]
[null,null,{"$f":"IFERROR(VLOOKUP(A826,Insumos!A:B,2,FALSE),\"\")","v":""},null,null,null,null,{"$f":"IFERROR(VLOOKUP(E826,Nota_Fiscal!$G$4:$L$1000,6,0),\"\")","v":""}]
[null,null,{"$f":"IFERROR(VLOOKUP(A827,Insumos!A:B,2,FALSE),\"\")","v":""},null,null,null,null,{"$f":"IFERROR(VLOOKUP(E827,Nota_Fiscal!$G$4:$L$1000,6,0),\"\")","v":""}]
[null,null,{"$f":"IFERROR(VLOOKUP(A828,Insumos!A:B,2,FALSE),\"\")","v":""},null,null,null,null,{"$f":"IFERROR(VLOOKUP(E828,Nota_Fiscal!$G$4:$L$1000,6,0),\"\")","v":""}]
[null,null,{"$f":"IFERROR(VLOOKUP(A829,Insumos!A:B,2,FALSE),\"\")","v":""},null,null,null,null,{"$f":"IFERROR(VLOOKUP(E829,Nota_Fiscal!$G$4:$L$1000,6,0),\"\")","v":""}]
[null,null,{"$f":"IFERROR(VLOOKUP(A830,Insumos!A:B,2,FALSE),\"\")","v":""},null,null,null,null,{"$f":"IFERROR(VLOOKUP(E830,Nota_Fiscal!$G$4:$L$1000,6,0),\"\")","v":""}]
[null,null,{"$f":"IFERROR(VLOOKUP(A831,Insumos!A:B,2,FALSE),\"\")","v":""},null,null,null,null,{"$f":"IFERROR(VLOOKUP(E831,Nota_Fiscal!$G$4:$L$1000,6,0),\"\")","v":""}]
[null,null,{"$f":"IFERROR(VLOOKUP(A832,Insumos!A:B,2,FALSE),\"\")","v":""},null,null,null,null,{"$f":"IFERROR(VLOOKUP(E832,Nota_Fiscal!$G$4:$L$1000,6,0),\"\")","v":""}]
[null,null,{"$f":"IFERROR(VLOOKUP(A833,Insumos!A:B,2,FALSE),\"\")","v":""},null,null,null,null,{"$f":"IFERROR(VLOOKUP(E833,Nota_Fiscal!$G$4:$L$1000,6,0),\"\")","v":""}]
[null,null,{"$f":"IFERROR(VLOOKUP(A834,Insumos!A:B,2,FALSE),\"\")","v":""},null,null,null,null,{"$f":"IFERROR(VLOOKUP(E834,Nota_Fiscal!$G$4:$L$1000,6,0),\"\")","v":""}]
[null,null,{"$f":"IFERROR(VLOOKUP(A835,Insumos!A:B,2,FALSE),\"\")","v":""},null,null,null,null,{"$f":"IFERROR(VLOOKUP(E835,Nota_Fiscal!$G$4:$L$1000,6,0),\"\")","v":""}]
[null,null,{"$f":"IFERROR(VLOOKUP(A836,Insumos!A:B,2,FALSE),\"\")","v":""},null,null,null,null,{"$f":"IFERROR(VLOOKUP(E836,Nota_Fiscal!$G$4:$L$1000,6,0),\"\")","v":""}]
[null,null,{"$f":"IFERROR(VLOOKUP(A837,Insumos!A:B,2,FALSE),\"\")","v":""},null,null,null,null,{"$f":"IFERROR(VLOOKUP(E837,Nota_Fiscal!$G$4:$L$1000,6,0),\"\")","v":""}]
[null,null,{"$f":"IFERROR(VLOOKUP(A838,Insumos!A:B,2,FALSE),\"\")","v":""},null,null,null,null,{"$f":"IFERROR(VLOOKUP(E838,Nota_Fiscal!$G$4:$L$1000,6,0),\"\")","v":""}]
[null,null,{"$f":"IFERROR(VLOOKUP(A839,Insumos!A:B,2,FALSE),\"\")","v":""},null,null,null,null,{"$f":"IFERROR(VLOOKUP(E839,Nota_Fiscal!$G$4:$L$1000,6,0),\"\")","v":""}]
[null,null,{"$f":"IFERROR(VLOOKUP(A840,Insumos!A:B,2,FALSE),\"\")","v":""},null,null,null,null,{"$f":"IFERROR(VLOOKUP(E840,Nota_Fiscal!$G$4:$L$1000,6,0),\"\")","v":""}]
[null,null,{"$f":"IFERROR(VLOOKUP(A841,Insumos!A:B,2,FALSE),\"\")","v":""},null,null,null,null,{"$f":"IFERROR(VLOOKUP(E841,Nota_Fiscal!$G$4:$L$1000,6,0),\"\")","v":""}]
[null,null,{"$f":"IFERROR(VLOOKUP(A842,Insumos!A:B,2,FALSE),\"\")","v":""},null,null,null,null,{"$f":"IFERROR(VLOOKUP(E842,Nota_Fiscal!$G$4:$L$1000,6,0),\"\")","v":""}]
[null,null,{"$f":"IFERROR(VLOOKUP(A843,Insumos!A:B,2,FALSE),\"\")","v":""},null,null,null,null,{"$f":"IFERROR(VLOOKUP(E843,Nota_Fiscal!$G$4:$L$1000,6,0),\"\")","v":""}]
[null,null,{"$f":"IFERROR(VLOOKUP(A844,Insumos!A:B,2,FALSE),\"\")","v":""},null,null,null,null,{"$f":"IFERROR(VLOOKUP(E844,Nota_Fiscal!$G$4:$L$1000,6,0),\"\")","v":""}]
[null,null,{"$f":"IFERROR(VLOOKUP(A845,Insumos!A:B,2,FALSE),\"\")","v":""},null,null,null,null,{"$f":"IFERROR(VLOOKUP(E845,Nota_Fiscal!$G$4:$L$1000,6,0),\"\")","v":""}]
[null,null,{"$f":"IFERROR(VLOOKUP(A846,Insumos!A:B,2,FALSE),\"\")","v":""},null,null,null,null,{"$f":"IFERROR(VLOOKUP(E846,Nota_Fiscal!$G$4:$L$1000,6,0),\"\")","v":""}]
[null,null,{"$f":"IFERROR(VLOOKUP(A847,Insumos!A:B,2,FALSE),\"\")","v":""},null,null,null,null,{"$f":"IFERROR(VLOOKUP(E847,Nota_Fiscal!$G$4:$L$1000,6,0),\"\")","v":""}]
[null,null,{"$f":"IFERROR(VLOOKUP(A848,Insumos!A:B,2,FALSE),\"\")","v":""},null,null,null,null,{"$f":"IFERROR(VLOOKUP(E848,Nota_Fiscal!$G$4:$L$1000,6,0),\"\")","v":""}]
[null,null,{"$f":"IFERROR(VLOOKUP(A849,Insumos!A:B,2,FALSE),\"\")","v":""},null,null,null,null,{"$f":"IFERROR(VLOOKUP(E849,Nota_Fiscal!$G$4:$L$1000,6,0),\"\")","v":""}]
[null,null,{"$f":"IFERROR(VLOOKUP(A850,Insumos!A:B,2,FALSE),\"\")","v":""},null,null,null,null,{"$f":"IFERROR(VLOOKUP(E850,Nota_Fiscal!$G$4:$L$1000,6,0),\"\")","v":""}]
[null,null,{"$f":"IFERROR(VLOOKUP(A851,Insumos!A:B,2,FALSE),\"\")","v":""},null,null,null,null,{"$f":"IFERROR(VLOOKUP(E851,Nota_Fiscal!$G$4:$L$1000,6,0),\"\")","v":""}]
[null,null,{"$f":"IFERROR(VLOOKUP(A852,Insumos!A:B,2,FALSE),\"\")","v":""},null,null,null,null,{"$f":"IFERROR(VLOOKUP(E852,Nota_Fiscal!$G$4:$L$1000,6,0),\"\")","v":""}]
[null,null,{"$f":"IFERROR(VLOOKUP(A853,Insumos!A:B,2,FALSE),\"\")","v":""},null,null,null,null,{"$f":"IFERROR(VLOOKUP(E853,Nota_Fiscal!$G$4:$L$1000,6,0),\"\")","v":""}]
[null,null,{"$f":"IFERROR(VLOOKUP(A854,Insumos!A:B,2,FALSE),\"\")","v":""},null,null,null,null,{"$f":"IFERROR(VLOOKUP(E854,Nota_Fiscal!$G$4:$L$1000,6,0),\"\")","v":""}]
[null,null,{"$f":"IFERROR(VLOOKUP(A855,Insumos!A:B,2,FALSE),\"\")","v":""},null,null,null,null,{"$f":"IFERROR(VLOOKUP(E855,Nota_Fiscal!$G$4:$L$1000,6,0),\"\")","v":""}]
[null,null,{"$f":"IFERROR(VLOOKUP(A856,Insumos!A:B,2,FALSE),\"\")","v":""},null,null,null,null,{"$f":"IFERROR(VLOOKUP(E856,Nota_Fiscal!$G$4:$L$1000,6,0),\"\")","v":""}]
[null,null,{"$f":"IFERROR(VLOOKUP(A857,Insumos!A:B,2,FALSE),\"\")","v":""},null,null,null,null,{"$f":"IFERROR(VLOOKUP(E857,Nota_Fiscal!$G$4:$L$1000,6,0),\"\")","v":""}]
[null,null,{"$f":"IFERROR(VLOOKUP(A858,Insumos!A:B,2,FALSE),\"\")","v":""},null,null,null,null,{"$f":"IFERROR(VLOOKUP(E858,Nota_Fiscal!$G$4:$L$1000,6,0),\"\")","v":""}]
[null,null,{"$f":"IFERROR(VLOOKUP(A859,Insumos!A:B,2,FALSE),\"\")","v":""},null,null,null,null,{"$f":"IFERROR(VLOOKUP(E859,Nota_Fiscal!$G$4:$L$1000,6,0),\"\")","v":""}]
[null,null,{"$f":"IFERROR(VLOOKUP(A860,Insumos!A:B,2,FALSE),\"\")","v":""},null,null,null,null,{"$f":"IFERROR(VLOOKUP(E860,Nota_Fiscal!$G$4:$L$1000,6,0),\"\")","v":""}]
[null,null,{"$f":"IFERROR(VLOOKUP(A861,Insumos!A:B,2,FALSE),\"\")","v":""},null,null,null,null,{"$f":"IFERROR(VLOOKUP(E861,Nota_Fiscal!$G$4:$L$1000,6,0),\"\")","v":""}]
[null,null,{"$f":"IFERROR(VLOOKUP(A862,Insumos!A:B,2,FALSE),\"\")","v":""},null,null,null,null,{"$f":"IFERROR(VLOOKUP(E862,Nota_Fiscal!$G$4:$L$1000,6,0),\"\")","v":""}]
[null,null,{"$f":"IFERROR(VLOOKUP(A863,Insumos!A:B,2,FALSE),\"\")","v":""},null,null,null,null,{"$f":"IFERROR(VLOOKUP(E863,Nota_Fiscal!$G$4:$L$1000,6,0),\"\")","v":""}]
[null,null,{"$f":"IFERROR(VLOOKUP(A864,Insumos!A:B,2,FALSE),\"\")","v":""},null,null,null,null,{"$f":"IFERROR(VLOOKUP(E864,Nota_Fiscal!$G$4:$L$1000,6,0),\"\")","v":""}]
[null,null,{"$f":"IFERROR(VLOOKUP(A865,Insumos!A:B,2,FALSE),\"\")","v":""},null,null,null,null,{"$f":"IFERROR(VLOOKUP(E865,Nota_Fiscal!$G$4:$L$1000,6,0),\"\")","v":""}]
[null,null,{"$f":"IFERROR(VLOOKUP(A866,Insumos!A:B,2,FALSE),\"\")","v":""},null,null,null,null,{"$f":"IFERROR(VLOOKUP(E866,Nota_Fiscal!$G$4:$L$1000,6,0),\"\")","v":""}]
[null,null,{"$f":"IFERROR(VLOOKUP(A867,Insumos!A:B,2,FALSE),\"\")","v":""},null,null,null,null,{"$f":"IFERROR(VLOOKUP(E867,Nota_Fiscal!$G$4:$L$1000,6,0),\"\")","v":""}]
[null,null,{"$f":"IFERROR(VLOOKUP(A868,Insumos!A:B,2,FALSE),\"\")","v":""},null,null,null,null,{"$f":"IFERROR(VLOOKUP(E868,Nota_Fiscal!$G$4:$L$1000,6,0),\"\")","v":""}]
[null,null,{"$f":"IFERROR(VLOOKUP(A869,Insumos!A:B,2,FALSE),\"\")","v":""},null,null,null,null,{"$f":"IFERROR(VLOOKUP(E869,Nota_Fiscal!$G$4:$L$1000,6,0),\"\")","v":""}]
[null,null,{"$f":"IFERROR(VLOOKUP(A870,Insumos!A:B,2,FALSE),\"\")","v":""},null,null,null,null,{"$f":"IFERROR(VLOOKUP(E870,Nota_Fiscal!$G$4:$L$1000,6,0),\"\")","v":""}]
[null,null,{"$f":"IFERROR(VLOOKUP(A871,Insumos!A:B,2,FALSE),\"\")","v":""},null,null,null,null,{"$f":"IFERROR(VLOOKUP(E871,Nota_Fiscal!$G$4:$L$1000,6,0),\"\")","v":""}]
[null,null,{"$f":"IFERROR(VLOOKUP(A872,Insumos!A:B,2,FALSE),\"\")","v":""},null,null,null,null,{"$f":"IFERROR(VLOOKUP(E872,Nota_Fiscal!$G$4:$L$1000,6,0),\"\")","v":""}]
[null,null,{"$f":"IFERROR(VLOOKUP(A873,Insumos!A:B,2,FALSE),\"\")","v":""},null,null,null,null,{"$f":"IFERROR(VLOOKUP(E873,Nota_Fiscal!$G$4:$L$1000,6,0),\"\")","v":""}]
[null,null,{"$f":"IFERROR(VLOOKUP(A874,Insumos!A:B,2,FALSE),\"\")","v":""},null,null,null,null,{"$f":"IFERROR(VLOOKUP(E874,Nota_Fiscal!$G$4:$L$1000,6,0),\"\")","v":""}]
[null,null,{"$f":"IFERROR(VLOOKUP(A875,Insumos!A:B,2,FALSE),\"\")","v":""},null,null,null,null,{"$f":"IFERROR(VLOOKUP(E875,Nota_Fiscal!$G$4:$L$1000,6,0),\"\")","v":""}]
[null,null,{"$f":"IFERROR(VLOOKUP(A876,Insumos!A:B,2,FALSE),\"\")","v":""},null,null,null,null,{"$f":"IFERROR(VLOOKUP(E876,Nota_Fiscal!$G$4:$L$1000,6,0),\"\")","v":""}]
[null,null,{"$f":"IFERROR(VLOOKUP(A877,Insumos!A:B,2,FALSE),\"\")","v":""},null,null,null,null,{"$f":"IFERROR(VLOOKUP(E877,Nota_Fiscal!$G$4:$L$1000,6,0),\"\")","v":""}]
[null,null,{"$f":"IFERROR(VLOOKUP(A878,Insumos!A:B,2,FALSE),\"\")","v":""},null,null,null,null,{"$f":"IFERROR(VLOOKUP(E878,Nota_Fiscal!$G$4:$L$1000,6,0),\"\")","v":""}]
[null,null,{"$f":"IFERROR(VLOOKUP(A879,Insumos!A:B,2,FALSE),\"\")","v":""},null,null,null,null,{"$f":"IFERROR(VLOOKUP(E879,Nota_Fiscal!$G$4:$L$1000,6,0),\"\")","v":""}]
[null,null,{"$f":"IFERROR(VLOOKUP(A880,Insumos!A:B,2,FALSE),\"\")","v":""},null,null,null,null,{"$f":"IFERROR(VLOOKUP(E880,Nota_Fiscal!$G$4:$L$1000,6,0),\"\")","v":""}]
[null,null,{"$f":"IFERROR(VLOOKUP(A881,Insumos!A:B,2,FALSE),\"\")","v":""},null,null,null,null,{"$f":"IFERROR(VLOOKUP(E881,Nota_Fiscal!$G$4:$L$1000,6,0),\"\")","v":""}]
[null,null,{"$f":"IFERROR(VLOOKUP(A882,Insumos!A:B,2,FALSE),\"\")","v":""},null,null,null,null,{"$f":"IFERROR(VLOOKUP(E882,Nota_Fiscal!$G$4:$L$1000,6,0),\"\")","v":""}]
[null,null,{"$f":"IFERROR(VLOOKUP(A883,Insumos!A:B,2,FALSE),\"\")","v":""},null,null,null,null,{"$f":"IFERROR(VLOOKUP(E883,Nota_Fiscal!$G$4:$L$1000,6,0),\"\")","v":""}]
[null,null,{"$f":"IFERROR(VLOOKUP(A884,Insumos!A:B,2,FALSE),\"\")","v":""},null,null,null,null,{"$f":"IFERROR(VLOOKUP(E884,Nota_Fiscal!$G$4:$L$1000,6,0),\"\")","v":""}]
[null,null,{"$f":"IFERROR(VLOOKUP(A885,Insumos!A:B,2,FALSE),\"\")","v":""},null,null,null,null,{"$f":"IFERROR(VLOOKUP(E885,Nota_Fiscal!$G$4:$L$1000,6,0),\"\")","v":""}]
[null,null,{"$f":"IFERROR(VLOOKUP(A886,Insumos!A:B,2,FALSE),\"\")","v":""},null,null,null,null,{"$f":"IFERROR(VLOOKUP(E886,Nota_Fiscal!$G$4:$L$1000,6,0),\"\")","v":""}]
[null,null,{"$f":"IFERROR(VLOOKUP(A887,Insumos!A:B,2,FALSE),\"\")","v":""},null,null,null,null,{"$f":"IFERROR(VLOOKUP(E887,Nota_Fiscal!$G$4:$L$1000,6,0),\"\")","v":""}]
[null,null,{"$f":"IFERROR(VLOOKUP(A888,Insumos!A:B,2,FALSE),\"\")","v":""},null,null,null,null,{"$f":"IFERROR(VLOOKUP(E888,Nota_Fiscal!$G$4:$L$1000,6,0),\"\")","v":""}]
[null,null,{"$f":"IFERROR(VLOOKUP(A889,Insumos!A:B,2,FALSE),\"\")","v":""},null,null,null,null,{"$f":"IFERROR(VLOOKUP(E889,Nota_Fiscal!$G$4:$L$1000,6,0),\"\")","v":""}]
[null,null,{"$f":"IFERROR(VLOOKUP(A890,Insumos!A:B,2,FALSE),\"\")","v":""},null,null,null,null,{"$f":"IFERROR(VLOOKUP(E890,Nota_Fiscal!$G$4:$L$1000,6,0),\"\")","v":""}]
[null,null,{"$f":"IFERROR(VLOOKUP(A891,Insumos!A:B,2,FALSE),\"\")","v":""},null,null,null,null,{"$f":"IFERROR(VLOOKUP(E891,Nota_Fiscal!$G$4:$L$1000,6,0),\"\")","v":""}]
[null,null,{"$f":"IFERROR(VLOOKUP(A892,Insumos!A:B,2,FALSE),\"\")","v":""},null,null,null,null,{"$f":"IFERROR(VLOOKUP(E892,Nota_Fiscal!$G$4:$L$1000,6,0),\"\")","v":""}]
[null,null,{"$f":"IFERROR(VLOOKUP(A893,Insumos!A:B,2,FALSE),\"\")","v":""},null,null,null,null,{"$f":"IFERROR(VLOOKUP(E893,Nota_Fiscal!$G$4:$L$1000,6,0),\"\")","v":""}]
[null,null,{"$f":"IFERROR(VLOOKUP(A894,Insumos!A:B,2,FALSE),\"\")","v":""},null,null,null,null,{"$f":"IFERROR(VLOOKUP(E894,Nota_Fiscal!$G$4:$L$1000,6,0),\"\")","v":""}]
[null,null,{"$f":"IFERROR(VLOOKUP(A895,Insumos!A:B,2,FALSE),\"\")","v":""},null,null,null,null,{"$f":"IFERROR(VLOOKUP(E895,Nota_Fiscal!$G$4:$L$1000,6,0),\"\")","v":""}]
[null,null,{"$f":"IFERROR(VLOOKUP(A896,Insumos!A:B,2,FALSE),\"\")","v":""},null,null,null,null,{"$f":"IFERROR(VLOOKUP(E896,Nota_Fiscal!$G$4:$L$1000,6,0),\"\")","v":""}]
[null,null,{"$f":"IFERROR(VLOOKUP(A897,Insumos!A:B,2,FALSE),\"\")","v":""},null,null,null,null,{"$f":"IFERROR(VLOOKUP(E897,Nota_Fiscal!$G$4:$L$1000,6,0),\"\")","v":""}]
[null,null,{"$f":"IFERROR(VLOOKUP(A898,Insumos!A:B,2,FALSE),\"\")","v":""},null,null,null,null,{"$f":"IFERROR(VLOOKUP(E898,Nota_Fiscal!$G$4:$L$1000,6,0),\"\")","v":""}]
[null,null,{"$f":"IFERROR(VLOOKUP(A899,Insumos!A:B,2,FALSE),\"\")","v":""},null,null,null,null,{"$f":"IFERROR(VLOOKUP(E899,Nota_Fiscal!$G$4:$L$1000,6,0),\"\")","v":""}]
[null,null,{"$f":"IFERROR(VLOOKUP(A900,Insumos!A:B,2,FALSE),\"\")","v":""},null,null,null,null,{"$f":"IFERROR(VLOOKUP(E900,Nota_Fiscal!$G$4:$L$1000,6,0),\"\")","v":""}]
[null,null,{"$f":"IFERROR(VLOOKUP(A901,Insumos!A:B,2,FALSE),\"\")","v":""},null,null,null,null,{"$f":"IFERROR(VLOOKUP(E901,Nota_Fiscal!$G$4:$L$1000,6,0),\"\")","v":""}]
[null,null,{"$f":"IFERROR(VLOOKUP(A902,Insumos!A:B,2,FALSE),\"\")","v":""},null,null,null,null,{"$f":"IFERROR(VLOOKUP(E902,Nota_Fiscal!$G$4:$L$1000,6,0),\"\")","v":""}]
[null,null,{"$f":"IFERROR(VLOOKUP(A903,Insumos!A:B,2,FALSE),\"\")","v":""},null,null,null,null,{"$f":"IFERROR(VLOOKUP(E903,Nota_Fiscal!$G$4:$L$1000,6,0),\"\")","v":""}]
[null,null,{"$f":"IFERROR(VLOOKUP(A904,Insumos!A:B,2,FALSE),\"\")","v":""},null,null,null,null,{"$f":"IFERROR(VLOOKUP(E904,Nota_Fiscal!$G$4:$L$1000,6,0),\"\")","v":""}]
[null,null,{"$f":"IFERROR(VLOOKUP(A905,Insumos!A:B,2,FALSE),\"\")","v":""},null,null,null,null,{"$f":"IFERROR(VLOOKUP(E905,Nota_Fiscal!$G$4:$L$1000,6,0),\"\")","v":""}]
[null,null,{"$f":"IFERROR(VLOOKUP(A906,Insumos!A:B,2,FALSE),\"\")","v":""},null,null,null,null,{"$f":"IFERROR(VLOOKUP(E906,Nota_Fiscal!$G$4:$L$1000,6,0),\"\")","v":""}]
[null,null,{"$f":"IFERROR(VLOOKUP(A907,Insumos!A:B,2,FALSE),\"\")","v":""},null,null,null,null,{"$f":"IFERROR(VLOOKUP(E907,Nota_Fiscal!$G$4:$L$1000,6,0),\"\")","v":""}]
[null,null,{"$f":"IFERROR(VLOOKUP(A908,Insumos!A:B,2,FALSE),\"\")","v":""},null,null,null,null,{"$f":"IFERROR(VLOOKUP(E908,Nota_Fiscal!$G$4:$L$1000,6,0),\"\")","v":""}]
[null,null,{"$f":"IFERROR(VLOOKUP(A909,Insumos!A:B,2,FALSE),\"\")","v":""},null,null,null,null,{"$f":"IFERROR(VLOOKUP(E909,Nota_Fiscal!$G$4:$L$1000,6,0),\"\")","v":""}]
[null,null,{"$f":"IFERROR(VLOOKUP(A910,Insumos!A:B,2,FALSE),\"\")","v":""},null,null,null,null,{"$f":"IFERROR(VLOOKUP(E910,Nota_Fiscal!$G$4:$L$1000,6,0),\"\")","v":""}]
[null,null,{"$f":"IFERROR(VLOOKUP(A911,Insumos!A:B,2,FALSE),\"\")","v":""},null,null,null,null,{"$f":"IFERROR(VLOOKUP(E911,Nota_Fiscal!$G$4:$L$1000,6,0),\"\")","v":""}]
[null,null,{"$f":"IFERROR(VLOOKUP(A912,Insumos!A:B,2,FALSE),\"\")","v":""},null,null,null,null,{"$f":"IFERROR(VLOOKUP(E912,Nota_Fiscal!$G$4:$L$1000,6,0),\"\")","v":""}]
[null,null,{"$f":"IFERROR(VLOOKUP(A913,Insumos!A:B,2,FALSE),\"\")","v":""},null,null,null,null,{"$f":"IFERROR(VLOOKUP(E913,Nota_Fiscal!$G$4:$L$1000,6,0),\"\")","v":""}]
[null,null,{"$f":"IFERROR(VLOOKUP(A914,Insumos!A:B,2,FALSE),\"\")","v":""},null,null,null,null,{"$f":"IFERROR(VLOOKUP(E914,Nota_Fiscal!$G$4:$L$1000,6,0),\"\")","v":""}]
[null,null,{"$f":"IFERROR(VLOOKUP(A915,Insumos!A:B,2,FALSE),\"\")","v":""},null,null,null,null,{"$f":"IFERROR(VLOOKUP(E915,Nota_Fiscal!$G$4:$L$1000,6,0),\"\")","v":""}]
[null,null,{"$f":"IFERROR(VLOOKUP(A916,Insumos!A:B,2,FALSE),\"\")","v":""},null,null,null,null,{"$f":"IFERROR(VLOOKUP(E916,Nota_Fiscal!$G$4:$L$1000,6,0),\"\")","v":""}]
[null,null,{"$f":"IFERROR(VLOOKUP(A917,Insumos!A:B,2,FALSE),\"\")","v":""},null,null,null,null,{"$f":"IFERROR(VLOOKUP(E917,Nota_Fiscal!$G$4:$L$1000,6,0),\"\")","v":""}]
[null,null,{"$f":"IFERROR(VLOOKUP(A918,Insumos!A:B,2,FALSE),\"\")","v":""},null,null,null,null,{"$f":"IFERROR(VLOOKUP(E918,Nota_Fiscal!$G$4:$L$1000,6,0),\"\")","v":""}]
[null,null,{"$f":"IFERROR(VLOOKUP(A919,Insumos!A:B,2,FALSE),\"\")","v":""},null,null,null,null,{"$f":"IFERROR(VLOOKUP(E919,Nota_Fiscal!$G$4:$L$1000,6,0),\"\")","v":""}]
[null,null,{"$f":"IFERROR(VLOOKUP(A920,Insumos!A:B,2,FALSE),\"\")","v":""},null,null,null,null,{"$f":"IFERROR(VLOOKUP(E920,Nota_Fiscal!$G$4:$L$1000,6,0),\"\")","v":""}]
[null,null,{"$f":"IFERROR(VLOOKUP(A921,Insumos!A:B,2,FALSE),\"\")","v":""},null,null,null,null,{"$f":"IFERROR(VLOOKUP(E921,Nota_Fiscal!$G$4:$L$1000,6,0),\"\")","v":""}]
[null,null,{"$f":"IFERROR(VLOOKUP(A922,Insumos!A:B,2,FALSE),\"\")","v":""},null,null,null,null,{"$f":"IFERROR(VLOOKUP(E922,Nota_Fiscal!$G$4:$L$1000,6,0),\"\")","v":""}]
[null,null,{"$f":"IFERROR(VLOOKUP(A923,Insumos!A:B,2,FALSE),\"\")","v":""},null,null,null,null,{"$f":"IFERROR(VLOOKUP(E923,Nota_Fiscal!$G$4:$L$1000,6,0),\"\")","v":""}]
[null,null,{"$f":"IFERROR(VLOOKUP(A924,Insumos!A:B,2,FALSE),\"\")","v":""},null,null,null,null,{"$f":"IFERROR(VLOOKUP(E924,Nota_Fiscal!$G$4:$L$1000,6,0),\"\")","v":""}]
[null,null,{"$f":"IFERROR(VLOOKUP(A925,Insumos!A:B,2,FALSE),\"\")","v":""},null,null,null,null,{"$f":"IFERROR(VLOOKUP(E925,Nota_Fiscal!$G$4:$L$1000,6,0),\"\")","v":""}]
[null,null,{"$f":"IFERROR(VLOOKUP(A926,Insumos!A:B,2,FALSE),\"\")","v":""},null,null,null,null,{"$f":"IFERROR(VLOOKUP(E926,Nota_Fiscal!$G$4:$L$1000,6,0),\"\")","v":""}]
[null,null,{"$f":"IFERROR(VLOOKUP(A927,Insumos!A:B,2,FALSE),\"\")","v":""},null,null,null,null,{"$f":"IFERROR(VLOOKUP(E927,Nota_Fiscal!$G$4:$L$1000,6,0),\"\")","v":""}]
[null,null,{"$f":"IFERROR(VLOOKUP(A928,Insumos!A:B,2,FALSE),\"\")","v":""},null,null,null,null,{"$f":"IFERROR(VLOOKUP(E928,Nota_Fiscal!$G$4:$L$1000,6,0),\"\")","v":""}]
[null,null,{"$f":"IFERROR(VLOOKUP(A929,Insumos!A:B,2,FALSE),\"\")","v":""},null,null,null,null,{"$f":"IFERROR(VLOOKUP(E929,Nota_Fiscal!$G$4:$L$1000,6,0),\"\")","v":""}]
[null,null,{"$f":"IFERROR(VLOOKUP(A930,Insumos!A:B,2,FALSE),\"\")","v":""},null,null,null,null,{"$f":"IFERROR(VLOOKUP(E930,Nota_Fiscal!$G$4:$L$1000,6,0),\"\")","v":""}]
[null,null,{"$f":"IFERROR(VLOOKUP(A931,Insumos!A:B,2,FALSE),\"\")","v":""},null,null,null,null,{"$f":"IFERROR(VLOOKUP(E931,Nota_Fiscal!$G$4:$L$1000,6,0),\"\")","v":""}]
[null,null,{"$f":"IFERROR(VLOOKUP(A932,Insumos!A:B,2,FALSE),\"\")","v":""},null,null,null,null,{"$f":"IFERROR(VLOOKUP(E932,Nota_Fiscal!$G$4:$L$1000,6,0),\"\")","v":""}]
[null,null,{"$f":"IFERROR(VLOOKUP(A933,Insumos!A:B,2,FALSE),\"\")","v":""},null,null,null,null,{"$f":"IFERROR(VLOOKUP(E933,Nota_Fiscal!$G$4:$L$1000,6,0),\"\")","v":""}]
[null,null,{"$f":"IFERROR(VLOOKUP(A934,Insumos!A:B,2,FALSE),\"\")","v":""},null,null,null,null,{"$f":"IFERROR(VLOOKUP(E934,Nota_Fiscal!$G$4:$L$1000,6,0),\"\")","v":""}]
[null,null,{"$f":"IFERROR(VLOOKUP(A935,Insumos!A:B,2,FALSE),\"\")","v":""},null,null,null,null,{"$f":"IFERROR(VLOOKUP(E935,Nota_Fiscal!$G$4:$L$1000,6,0),\"\")","v":""}]
[null,null,{"$f":"IFERROR(VLOOKUP(A936,Insumos!A:B,2,FALSE),\"\")","v":""},null,null,null,null,{"$f":"IFERROR(VLOOKUP(E936,Nota_Fiscal!$G$4:$L$1000,6,0),\"\")","v":""}]
[null,null,{"$f":"IFERROR(VLOOKUP(A937,Insumos!A:B,2,FALSE),\"\")","v":""},null,null,null,null,{"$f":"IFERROR(VLOOKUP(E937,Nota_Fiscal!$G$4:$L$1000,6,0),\"\")","v":""}]
[null,null,{"$f":"IFERROR(VLOOKUP(A938,Insumos!A:B,2,FALSE),\"\")","v":""},null,null,null,null,{"$f":"IFERROR(VLOOKUP(E938,Nota_Fiscal!$G$4:$L$1000,6,0),\"\")","v":""}]
[null,null,{"$f":"IFERROR(VLOOKUP(A939,Insumos!A:B,2,FALSE),\"\")","v":""},null,null,null,null,{"$f":"IFERROR(VLOOKUP(E939,Nota_Fiscal!$G$4:$L$1000,6,0),\"\")","v":""}]
[null,null,{"$f":"IFERROR(VLOOKUP(A940,Insumos!A:B,2,FALSE),\"\")","v":""},null,null,null,null,{"$f":"IFERROR(VLOOKUP(E940,Nota_Fiscal!$G$4:$L$1000,6,0),\"\")","v":""}]
[null,null,{"$f":"IFERROR(VLOOKUP(A941,Insumos!A:B,2,FALSE),\"\")","v":""},null,null,null,null,{"$f":"IFERROR(VLOOKUP(E941,Nota_Fiscal!$G$4:$L$1000,6,0),\"\")","v":""}]
[null,null,{"$f":"IFERROR(VLOOKUP(A942,Insumos!A:B,2,FALSE),\"\")","v":""},null,null,null,null,{"$f":"IFERROR(VLOOKUP(E942,Nota_Fiscal!$G$4:$L$1000,6,0),\"\")","v":""}]
[null,null,{"$f":"IFERROR(VLOOKUP(A943,Insumos!A:B,2,FALSE),\"\")","v":""},null,null,null,null,{"$f":"IFERROR(VLOOKUP(E943,Nota_Fiscal!$G$4:$L$1000,6,0),\"\")","v":""}]
[null,null,{"$f":"IFERROR(VLOOKUP(A944,Insumos!A:B,2,FALSE),\"\")","v":""},null,null,null,null,{"$f":"IFERROR(VLOOKUP(E944,Nota_Fiscal!$G$4:$L$1000,6,0),\"\")","v":""}]
[null,null,{"$f":"IFERROR(VLOOKUP(A945,Insumos!A:B,2,FALSE),\"\")","v":""},null,null,null,null,{"$f":"IFERROR(VLOOKUP(E945,Nota_Fiscal!$G$4:$L$1000,6,0),\"\")","v":""}]
[null,null,{"$f":"IFERROR(VLOOKUP(A946,Insumos!A:B,2,FALSE),\"\")","v":""},null,null,null,null,{"$f":"IFERROR(VLOOKUP(E946,Nota_Fiscal!$G$4:$L$1000,6,0),\"\")","v":""}]
[null,null,{"$f":"IFERROR(VLOOKUP(A947,Insumos!A:B,2,FALSE),\"\")","v":""},null,null,null,null,{"$f":"IFERROR(VLOOKUP(E947,Nota_Fiscal!$G$4:$L$1000,6,0),\"\")","v":""}]
[null,null,{"$f":"IFERROR(VLOOKUP(A948,Insumos!A:B,2,FALSE),\"\")","v":""},null,null,null,null,{"$f":"IFERROR(VLOOKUP(E948,Nota_Fiscal!$G$4:$L$1000,6,0),\"\")","v":""}]
[null,null,{"$f":"IFERROR(VLOOKUP(A949,Insumos!A:B,2,FALSE),\"\")","v":""},null,null,null,null,{"$f":"IFERROR(VLOOKUP(E949,Nota_Fiscal!$G$4:$L$1000,6,0),\"\")","v":""}]
[null,null,{"$f":"IFERROR(VLOOKUP(A950,Insumos!A:B,2,FALSE),\"\")","v":""},null,null,null,null,{"$f":"IFERROR(VLOOKUP(E950,Nota_Fiscal!$G$4:$L$1000,6,0),\"\")","v":""}]
[null,null,{"$f":"IFERROR(VLOOKUP(A951,Insumos!A:B,2,FALSE),\"\")","v":""},null,null,null,null,{"$f":"IFERROR(VLOOKUP(E951,Nota_Fiscal!$G$4:$L$1000,6,0),\"\")","v":""}]
[null,null,{"$f":"IFERROR(VLOOKUP(A952,Insumos!A:B,2,FALSE),\"\")","v":""},null,null,null,null,{"$f":"IFERROR(VLOOKUP(E952,Nota_Fiscal!$G$4:$L$1000,6,0),\"\")","v":""}]
[null,null,{"$f":"IFERROR(VLOOKUP(A953,Insumos!A:B,2,FALSE),\"\")","v":""},null,null,null,null,{"$f":"IFERROR(VLOOKUP(E953,Nota_Fiscal!$G$4:$L$1000,6,0),\"\")","v":""}]
[null,null,{"$f":"IFERROR(VLOOKUP(A954,Insumos!A:B,2,FALSE),\"\")","v":""},null,null,null,null,{"$f":"IFERROR(VLOOKUP(E954,Nota_Fiscal!$G$4:$L$1000,6,0),\"\")","v":""}]
[null,null,{"$f":"IFERROR(VLOOKUP(A955,Insumos!A:B,2,FALSE),\"\")","v":""},null,null,null,null,{"$f":"IFERROR(VLOOKUP(E955,Nota_Fiscal!$G$4:$L$1000,6,0),\"\")","v":""}]
[null,null,{"$f":"IFERROR(VLOOKUP(A956,Insumos!A:B,2,FALSE),\"\")","v":""},null,null,null,null,{"$f":"IFERROR(VLOOKUP(E956,Nota_Fiscal!$G$4:$L$1000,6,0),\"\")","v":""}]
[null,null,{"$f":"IFERROR(VLOOKUP(A957,Insumos!A:B,2,FALSE),\"\")","v":""},null,null,null,null,{"$f":"IFERROR(VLOOKUP(E957,Nota_Fiscal!$G$4:$L$1000,6,0),\"\")","v":""}]
[null,null,{"$f":"IFERROR(VLOOKUP(A958,Insumos!A:B,2,FALSE),\"\")","v":""},null,null,null,null,{"$f":"IFERROR(VLOOKUP(E958,Nota_Fiscal!$G$4:$L$1000,6,0),\"\")","v":""}]
[null,null,{"$f":"IFERROR(VLOOKUP(A959,Insumos!A:B,2,FALSE),\"\")","v":""},null,null,null,null,{"$f":"IFERROR(VLOOKUP(E959,Nota_Fiscal!$G$4:$L$1000,6,0),\"\")","v":""}]
[null,null,{"$f":"IFERROR(VLOOKUP(A960,Insumos!A:B,2,FALSE),\"\")","v":""},null,null,null,null,{"$f":"IFERROR(VLOOKUP(E960,Nota_Fiscal!$G$4:$L$1000,6,0),\"\")","v":""}]
[null,null,{"$f":"IFERROR(VLOOKUP(A961,Insumos!A:B,2,FALSE),\"\")","v":""},null,null,null,null,{"$f":"IFERROR(VLOOKUP(E961,Nota_Fiscal!$G$4:$L$1000,6,0),\"\")","v":""}]
[null,null,{"$f":"IFERROR(VLOOKUP(A962,Insumos!A:B,2,FALSE),\"\")","v":""},null,null,null,null,{"$f":"IFERROR(VLOOKUP(E962,Nota_Fiscal!$G$4:$L$1000,6,0),\"\")","v":""}]
[null,null,{"$f":"IFERROR(VLOOKUP(A963,Insumos!A:B,2,FALSE),\"\")","v":""},null,null,null,null,{"$f":"IFERROR(VLOOKUP(E963,Nota_Fiscal!$G$4:$L$1000,6,0),\"\")","v":""}]
[null,null,{"$f":"IFERROR(VLOOKUP(A964,Insumos!A:B,2,FALSE),\"\")","v":""},null,null,null,null,{"$f":"IFERROR(VLOOKUP(E964,Nota_Fiscal!$G$4:$L$1000,6,0),\"\")","v":""}]
[null,null,{"$f":"IFERROR(VLOOKUP(A965,Insumos!A:B,2,FALSE),\"\")","v":""},null,null,null,null,{"$f":"IFERROR(VLOOKUP(E965,Nota_Fiscal!$G$4:$L$1000,6,0),\"\")","v":""}]
[null,null,{"$f":"IFERROR(VLOOKUP(A966,Insumos!A:B,2,FALSE),\"\")","v":""},null,null,null,null,{"$f":"IFERROR(VLOOKUP(E966,Nota_Fiscal!$G$4:$L$1000,6,0),\"\")","v":""}]
[null,null,{"$f":"IFERROR(VLOOKUP(A967,Insumos!A:B,2,FALSE),\"\")","v":""},null,null,null,null,{"$f":"IFERROR(VLOOKUP(E967,Nota_Fiscal!$G$4:$L$1000,6,0),\"\")","v":""}]
[null,null,{"$f":"IFERROR(VLOOKUP(A968,Insumos!A:B,2,FALSE),\"\")","v":""},null,null,null,null,{"$f":"IFERROR(VLOOKUP(E968,Nota_Fiscal!$G$4:$L$1000,6,0),\"\")","v":""}]
[null,null,{"$f":"IFERROR(VLOOKUP(A969,Insumos!A:B,2,FALSE),\"\")","v":""},null,null,null,null,{"$f":"IFERROR(VLOOKUP(E969,Nota_Fiscal!$G$4:$L$1000,6,0),\"\")","v":""}]
[null,null,{"$f":"IFERROR(VLOOKUP(A970,Insumos!A:B,2,FALSE),\"\")","v":""},null,null,null,null,{"$f":"IFERROR(VLOOKUP(E970,Nota_Fiscal!$G$4:$L$1000,6,0),\"\")","v":""}]
[null,null,{"$f":"IFERROR(VLOOKUP(A971,Insumos!A:B,2,FALSE),\"\")","v":""},null,null,null,null,{"$f":"IFERROR(VLOOKUP(E971,Nota_Fiscal!$G$4:$L$1000,6,0),\"\")","v":""}]
[null,null,{"$f":"IFERROR(VLOOKUP(A972,Insumos!A:B,2,FALSE),\"\")","v":""},null,null,null,null,{"$f":"IFERROR(VLOOKUP(E972,Nota_Fiscal!$G$4:$L$1000,6,0),\"\")","v":""}]
[null,null,{"$f":"IFERROR(VLOOKUP(A973,Insumos!A:B,2,FALSE),\"\")","v":""},null,null,null,null,{"$f":"IFERROR(VLOOKUP(E973,Nota_Fiscal!$G$4:$L$1000,6,0),\"\")","v":""}]
[null,null,{"$f":"IFERROR(VLOOKUP(A974,Insumos!A:B,2,FALSE),\"\")","v":""},null,null,null,null,{"$f":"IFERROR(VLOOKUP(E974,Nota_Fiscal!$G$4:$L$1000,6,0),\"\")","v":""}]
[null,null,{"$f":"IFERROR(VLOOKUP(A975,Insumos!A:B,2,FALSE),\"\")","v":""},null,null,null,null,{"$f":"IFERROR(VLOOKUP(E975,Nota_Fiscal!$G$4:$L$1000,6,0),\"\")","v":""}]
[null,null,{"$f":"IFERROR(VLOOKUP(A976,Insumos!A:B,2,FALSE),\"\")","v":""},null,null,null,null,{"$f":"IFERROR(VLOOKUP(E976,Nota_Fiscal!$G$4:$L$1000,6,0),\"\")","v":""}]
[null,null,{"$f":"IFERROR(VLOOKUP(A977,Insumos!A:B,2,FALSE),\"\")","v":""},null,null,null,null,{"$f":"IFERROR(VLOOKUP(E977,Nota_Fiscal!$G$4:$L$1000,6,0),\"\")","v":""}]
[null,null,{"$f":"IFERROR(VLOOKUP(A978,Insumos!A:B,2,FALSE),\"\")","v":""},null,null,null,null,{"$f":"IFERROR(VLOOKUP(E978,Nota_Fiscal!$G$4:$L$1000,6,0),\"\")","v":""}]
[null,null,{"$f":"IFERROR(VLOOKUP(A979,Insumos!A:B,2,FALSE),\"\")","v":""},null,null,null,null,{"$f":"IFERROR(VLOOKUP(E979,Nota_Fiscal!$G$4:$L$1000,6,0),\"\")","v":""}]
[null,null,{"$f":"IFERROR(VLOOKUP(A980,Insumos!A:B,2,FALSE),\"\")","v":""},null,null,null,null,{"$f":"IFERROR(VLOOKUP(E980,Nota_Fiscal!$G$4:$L$1000,6,0),\"\")","v":""}]
[null,null,{"$f":"IFERROR(VLOOKUP(A981,Insumos!A:B,2,FALSE),\"\")","v":""},null,null,null,null,{"$f":"IFERROR(VLOOKUP(E981,Nota_Fiscal!$G$4:$L$1000,6,0),\"\")","v":""}]
[null,null,{"$f":"IFERROR(VLOOKUP(A982,Insumos!A:B,2,FALSE),\"\")","v":""},null,null,null,null,{"$f":"IFERROR(VLOOKUP(E982,Nota_Fiscal!$G$4:$L$1000,6,0),\"\")","v":""}]
[null,null,{"$f":"IFERROR(VLOOKUP(A983,Insumos!A:B,2,FALSE),\"\")","v":""},null,null,null,null,{"$f":"IFERROR(VLOOKUP(E983,Nota_Fiscal!$G$4:$L$1000,6,0),\"\")","v":""}]
[null,null,{"$f":"IFERROR(VLOOKUP(A984,Insumos!A:B,2,FALSE),\"\")","v":""},null,null,null,null,{"$f":"IFERROR(VLOOKUP(E984,Nota_Fiscal!$G$4:$L$1000,6,0),\"\")","v":""}]
[null,null,{"$f":"IFERROR(VLOOKUP(A985,Insumos!A:B,2,FALSE),\"\")","v":""},null,null,null,null,{"$f":"IFERROR(VLOOKUP(E985,Nota_Fiscal!$G$4:$L$1000,6,0),\"\")","v":""}]
[null,null,{"$f":"IFERROR(VLOOKUP(A986,Insumos!A:B,2,FALSE),\"\")","v":""},null,null,null,null,{"$f":"IFERROR(VLOOKUP(E986,Nota_Fiscal!$G$4:$L$1000,6,0),\"\")","v":""}]
[null,null,{"$f":"IFERROR(VLOOKUP(A987,Insumos!A:B,2,FALSE),\"\")","v":""},null,null,null,null,{"$f":"IFERROR(VLOOKUP(E987,Nota_Fiscal!$G$4:$L$1000,6,0),\"\")","v":""}]
[null,null,{"$f":"IFERROR(VLOOKUP(A988,Insumos!A:B,2,FALSE),\"\")","v":""},null,null,null,null,{"$f":"IFERROR(VLOOKUP(E988,Nota_Fiscal!$G$4:$L$1000,6,0),\"\")","v":""}]
[null,null,{"$f":"IFERROR(VLOOKUP(A989,Insumos!A:B,2,FALSE),\"\")","v":""},null,null,null,null,{"$f":"IFERROR(VLOOKUP(E989,Nota_Fiscal!$G$4:$L$1000,6,0),\"\")","v":""}]
[null,null,{"$f":"IFERROR(VLOOKUP(A990,Insumos!A:B,2,FALSE),\"\")","v":""},null,null,null,null,{"$f":"IFERROR(VLOOKUP(E990,Nota_Fiscal!$G$4:$L$1000,6,0),\"\")","v":""}]
[null,null,{"$f":"IFERROR(VLOOKUP(A991,Insumos!A:B,2,FALSE),\"\")","v":""},null,null,null,null,{"$f":"IFERROR(VLOOKUP(E991,Nota_Fiscal!$G$4:$L$1000,6,0),\"\")","v":""}]
[null,null,{"$f":"IFERROR(VLOOKUP(A992,Insumos!A:B,2,FALSE),\"\")","v":""},null,null,null,null,{"$f":"IFERROR(VLOOKUP(E992,Nota_Fiscal!$G$4:$L$1000,6,0),\"\")","v":""}]
[null,null,{"$f":"IFERROR(VLOOKUP(A993,Insumos!A:B,2,FALSE),\"\")","v":""},null,null,null,null,{"$f":"IFERROR(VLOOKUP(E993,Nota_Fiscal!$G$4:$L$1000,6,0),\"\")","v":""}]
[null,null,{"$f":"IFERROR(VLOOKUP(A994,Insumos!A:B,2,FALSE),\"\")","v":""},null,null,null,null,{"$f":"IFERROR(VLOOKUP(E994,Nota_Fiscal!$G$4:$L$1000,6,0),\"\")","v":""}]
[null,null,{"$f":"IFERROR(VLOOKUP(A995,Insumos!A:B,2,FALSE),\"\")","v":""},null,null,null,null,{"$f":"IFERROR(VLOOKUP(E995,Nota_Fiscal!$G$4:$L$1000,6,0),\"\")","v":""}]
[null,null,{"$f":"IFERROR(VLOOKUP(A996,Insumos!A:B,2,FALSE),\"\")","v":""},null,null,null,null,{"$f":"IFERROR(VLOOKUP(E996,Nota_Fiscal!$G$4:$L$1000,6,0),\"\")","v":""}]
[null,null,{"$f":"IFERROR(VLOOKUP(A997,Insumos!A:B,2,FALSE),\"\")","v":""},null,null,null,null,{"$f":"IFERROR(VLOOKUP(E997,Nota_Fiscal!$G$4:$L$1000,6,0),\"\")","v":""}]
[null,null,{"$f":"IFERROR(VLOOKUP(A998,Insumos!A:B,2,FALSE),\"\")","v":""},null,null,null,null,{"$f":"IFERROR(VLOOKUP(E998,Nota_Fiscal!$G$4:$L$1000,6,0),\"\")","v":""}]
[null,null,{"$f":"IFERROR(VLOOKUP(A999,Insumos!A:B,2,FALSE),\"\")","v":""},null,null,null,null,{"$f":"IFERROR(VLOOKUP(E999,Nota_Fiscal!$G$4:$L$1000,6,0),\"\")","v":""}]
[null,null,{"$f":"IFERROR(VLOOKUP(A1000,Insumos!A:B,2,FALSE),\"\")","v":""},null,null,null,null,{"$f":"IFERROR(VLOOKUP(E1000,Nota_Fiscal!$G$4:$L$1000,6,0),\"\")","v":""}]
[null,null,{"$f":"IFERROR(VLOOKUP(A1001,Insumos!A:B,2,FALSE),\"\")","v":""},null,null,null,null,{"$f":"IFERROR(VLOOKUP(E1001,Nota_Fiscal!$G$4:$L$1000,6,0),\"\")","v":""}]
[null,null,{"$f":"IFERROR(VLOOKUP(A1002,Insumos!A:B,2,FALSE),\"\")","v":""},null,null,null,null,{"$f":"IFERROR(VLOOKUP(E1002,Nota_Fiscal!$G$4:$L$1000,6,0),\"\")","v":""}]
[null,null,{"$f":"IFERROR(VLOOKUP(A1003,Insumos!A:B,2,FALSE),\"\")","v":""},null,null,null,null,{"$f":"IFERROR(VLOOKUP(E1003,Nota_Fiscal!$G$4:$L$1000,6,0),\"\")","v":""}]
[null,null,{"$f":"IFERROR(VLOOKUP(A1004,Insumos!A:B,2,FALSE),\"\")","v":""},null,null,null,null,{"$f":"IFERROR(VLOOKUP(E1004,Nota_Fiscal!$G$4:$L$1000,6,0),\"\")","v":""}]
[null,null,{"$f":"IFERROR(VLOOKUP(A1005,Insumos!A:B,2,FALSE),\"\")","v":""},null,null,null,null,{"$f":"IFERROR(VLOOKUP(E1005,Nota_Fiscal!$G$4:$L$1000,6,0),\"\")","v":""}]
[null,null,{"$f":"IFERROR(VLOOKUP(A1006,Insumos!A:B,2,FALSE),\"\")","v":""},null,null,null,null,{"$f":"IFERROR(VLOOKUP(E1006,Nota_Fiscal!$G$4:$L$1000,6,0),\"\")","v":""}]
[null,null,{"$f":"IFERROR(VLOOKUP(A1007,Insumos!A:B,2,FALSE),\"\")","v":""},null,null,null,null,{"$f":"IFERROR(VLOOKUP(E1007,Nota_Fiscal!$G$4:$L$1000,6,0),\"\")","v":""}]
[null,null,{"$f":"IFERROR(VLOOKUP(A1008,Insumos!A:B,2,FALSE),\"\")","v":""},null,null,null,null,{"$f":"IFERROR(VLOOKUP(E1008,Nota_Fiscal!$G$4:$L$1000,6,0),\"\")","v":""}]
[null,null,{"$f":"IFERROR(VLOOKUP(A1009,Insumos!A:B,2,FALSE),\"\")","v":""},null,null,null,null,{"$f":"IFERROR(VLOOKUP(E1009,Nota_Fiscal!$G$4:$L$1000,6,0),\"\")","v":""}]
[null,null,{"$f":"IFERROR(VLOOKUP(A1010,Insumos!A:B,2,FALSE),\"\")","v":""},null,null,null,null,{"$f":"IFERROR(VLOOKUP(E1010,Nota_Fiscal!$G$4:$L$1000,6,0),\"\")","v":""}]
[null,null,{"$f":"IFERROR(VLOOKUP(A1011,Insumos!A:B,2,FALSE),\"\")","v":""},null,null,null,null,{"$f":"IFERROR(VLOOKUP(E1011,Nota_Fiscal!$G$4:$L$1000,6,0),\"\")","v":""}]
[null,null,{"$f":"IFERROR(VLOOKUP(A1012,Insumos!A:B,2,FALSE),\"\")","v":""},null,null,null,null,{"$f":"IFERROR(VLOOKUP(E1012,Nota_Fiscal!$G$4:$L$1000,6,0),\"\")","v":""}]
[null,null,{"$f":"IFERROR(VLOOKUP(A1013,Insumos!A:B,2,FALSE),\"\")","v":""},null,null,null,null,{"$f":"IFERROR(VLOOKUP(E1013,Nota_Fiscal!$G$4:$L$1000,6,0),\"\")","v":""}]
[null,null,{"$f":"IFERROR(VLOOKUP(A1014,Insumos!A:B,2,FALSE),\"\")","v":""},null,null,null,null,{"$f":"IFERROR(VLOOKUP(E1014,Nota_Fiscal!$G$4:$L$1000,6,0),\"\")","v":""}]
[null,null,{"$f":"IFERROR(VLOOKUP(A1015,Insumos!A:B,2,FALSE),\"\")","v":""},null,null,null,null,{"$f":"IFERROR(VLOOKUP(E1015,Nota_Fiscal!$G$4:$L$1000,6,0),\"\")","v":""}]
[null,null,{"$f":"IFERROR(VLOOKUP(A1016,Insumos!A:B,2,FALSE),\"\")","v":""},null,null,null,null,{"$f":"IFERROR(VLOOKUP(E1016,Nota_Fiscal!$G$4:$L$1000,6,0),\"\")","v":""}]
[null,null,{"$f":"IFERROR(VLOOKUP(A1017,Insumos!A:B,2,FALSE),\"\")","v":""},null,null,null,null,{"$f":"IFERROR(VLOOKUP(E1017,Nota_Fiscal!$G$4:$L$1000,6,0),\"\")","v":""}]
[null,null,{"$f":"IFERROR(VLOOKUP(A1018,Insumos!A:B,2,FALSE),\"\")","v":""},null,null,null,null,{"$f":"IFERROR(VLOOKUP(E1018,Nota_Fiscal!$G$4:$L$1000,6,0),\"\")","v":""}]
[null,null,{"$f":"IFERROR(VLOOKUP(A1019,Insumos!A:B,2,FALSE),\"\")","v":""},null,null,null,null,{"$f":"IFERROR(VLOOKUP(E1019,Nota_Fiscal!$G$4:$L$1000,6,0),\"\")","v":""}]
[null,null,{"$f":"IFERROR(VLOOKUP(A1020,Insumos!A:B,2,FALSE),\"\")","v":""},null,null,null,null,{"$f":"IFERROR(VLOOKUP(E1020,Nota_Fiscal!$G$4:$L$1000,6,0),\"\")","v":""}]
[null,null,{"$f":"IFERROR(VLOOKUP(A1021,Insumos!A:B,2,FALSE),\"\")","v":""},null,null,null,null,{"$f":"IFERROR(VLOOKUP(E1021,Nota_Fiscal!$G$4:$L$1000,6,0),\"\")","v":""}]
[null,null,{"$f":"IFERROR(VLOOKUP(A1022,Insumos!A:B,2,FALSE),\"\")","v":""},null,null,null,null,{"$f":"IFERROR(VLOOKUP(E1022,Nota_Fiscal!$G$4:$L$1000,6,0),\"\")","v":""}]
[null,null,{"$f":"IFERROR(VLOOKUP(A1023,Insumos!A:B,2,FALSE),\"\")","v":""},null,null,null,null,{"$f":"IFERROR(VLOOKUP(E1023,Nota_Fiscal!$G$4:$L$1000,6,0),\"\")","v":""}]
[null,null,{"$f":"IFERROR(VLOOKUP(A1024,Insumos!A:B,2,FALSE),\"\")","v":""},null,null,null,null,{"$f":"IFERROR(VLOOKUP(E1024,Nota_Fiscal!$G$4:$L$1000,6,0),\"\")","v":""}]
[null,null,{"$f":"IFERROR(VLOOKUP(A1025,Insumos!A:B,2,FALSE),\"\")","v":""},null,null,null,null,{"$f":"IFERROR(VLOOKUP(E1025,Nota_Fiscal!$G$4:$L$1000,6,0),\"\")","v":""}]
[null,null,{"$f":"IFERROR(VLOOKUP(A1026,Insumos!A:B,2,FALSE),\"\")","v":""},null,null,null,null,{"$f":"IFERROR(VLOOKUP(E1026,Nota_Fiscal!$G$4:$L$1000,6,0),\"\")","v":""}]
[null,null,{"$f":"IFERROR(VLOOKUP(A1027,Insumos!A:B,2,FALSE),\"\")","v":""},null,null,null,null,{"$f":"IFERROR(VLOOKUP(E1027,Nota_Fiscal!$G$4:$L$1000,6,0),\"\")","v":""}]
[null,null,{"$f":"IFERROR(VLOOKUP(A1028,Insumos!A:B,2,FALSE),\"\")","v":""},null,null,null,null,{"$f":"IFERROR(VLOOKUP(E1028,Nota_Fiscal!$G$4:$L$1000,6,0),\"\")","v":""}]
[null,null,{"$f":"IFERROR(VLOOKUP(A1029,Insumos!A:B,2,FALSE),\"\")","v":""},null,null,null,null,{"$f":"IFERROR(VLOOKUP(E1029,Nota_Fiscal!$G$4:$L$1000,6,0),\"\")","v":""}]
[null,null,{"$f":"IFERROR(VLOOKUP(A1030,Insumos!A:B,2,FALSE),\"\")","v":""},null,null,null,null,{"$f":"IFERROR(VLOOKUP(E1030,Nota_Fiscal!$G$4:$L$1000,6,0),\"\")","v":""}]
[null,null,{"$f":"IFERROR(VLOOKUP(A1031,Insumos!A:B,2,FALSE),\"\")","v":""},null,null,null,null,{"$f":"IFERROR(VLOOKUP(E1031,Nota_Fiscal!$G$4:$L$1000,6,0),\"\")","v":""}]
[null,null,{"$f":"IFERROR(VLOOKUP(A1032,Insumos!A:B,2,FALSE),\"\")","v":""},null,null,null,null,{"$f":"IFERROR(VLOOKUP(E1032,Nota_Fiscal!$G$4:$L$1000,6,0),\"\")","v":""}]
[null,null,{"$f":"IFERROR(VLOOKUP(A1033,Insumos!A:B,2,FALSE),\"\")","v":""},null,null,null,null,{"$f":"IFERROR(VLOOKUP(E1033,Nota_Fiscal!$G$4:$L$1000,6,0),\"\")","v":""}]
[null,null,{"$f":"IFERROR(VLOOKUP(A1034,Insumos!A:B,2,FALSE),\"\")","v":""},null,null,null,null,{"$f":"IFERROR(VLOOKUP(E1034,Nota_Fiscal!$G$4:$L$1000,6,0),\"\")","v":""}]
[null,null,{"$f":"IFERROR(VLOOKUP(A1035,Insumos!A:B,2,FALSE),\"\")","v":""},null,null,null,null,{"$f":"IFERROR(VLOOKUP(E1035,Nota_Fiscal!$G$4:$L$1000,6,0),\"\")","v":""}]
[null,null,{"$f":"IFERROR(VLOOKUP(A1036,Insumos!A:B,2,FALSE),\"\")","v":""},null,null,null,null,{"$f":"IFERROR(VLOOKUP(E1036,Nota_Fiscal!$G$4:$L$1000,6,0),\"\")","v":""}]
[null,null,{"$f":"IFERROR(VLOOKUP(A1037,Insumos!A:B,2,FALSE),\"\")","v":""},null,null,null,null,{"$f":"IFERROR(VLOOKUP(E1037,Nota_Fiscal!$G$4:$L$1000,6,0),\"\")","v":""}]
[null,null,{"$f":"IFERROR(VLOOKUP(A1038,Insumos!A:B,2,FALSE),\"\")","v":""},null,null,null,null,{"$f":"IFERROR(VLOOKUP(E1038,Nota_Fiscal!$G$4:$L$1000,6,0),\"\")","v":""}]
[null,null,{"$f":"IFERROR(VLOOKUP(A1039,Insumos!A:B,2,FALSE),\"\")","v":""},null,null,null,null,{"$f":"IFERROR(VLOOKUP(E1039,Nota_Fiscal!$G$4:$L$1000,6,0),\"\")","v":""}]
[null,null,{"$f":"IFERROR(VLOOKUP(A1040,Insumos!A:B,2,FALSE),\"\")","v":""},null,null,null,null,{"$f":"IFERROR(VLOOKUP(E1040,Nota_Fiscal!$G$4:$L$1000,6,0),\"\")","v":""}]
[null,null,{"$f":"IFERROR(VLOOKUP(A1041,Insumos!A:B,2,FALSE),\"\")","v":""},null,null,null,null,{"$f":"IFERROR(VLOOKUP(E1041,Nota_Fiscal!$G$4:$L$1000,6,0),\"\")","v":""}]
[null,null,{"$f":"IFERROR(VLOOKUP(A1042,Insumos!A:B,2,FALSE),\"\")","v":""},null,null,null,null,{"$f":"IFERROR(VLOOKUP(E1042,Nota_Fiscal!$G$4:$L$1000,6,0),\"\")","v":""}]
[null,null,{"$f":"IFERROR(VLOOKUP(A1043,Insumos!A:B,2,FALSE),\"\")","v":""},null,null,null,null,{"$f":"IFERROR(VLOOKUP(E1043,Nota_Fiscal!$G$4:$L$1000,6,0),\"\")","v":""}]
[null,null,{"$f":"IFERROR(VLOOKUP(A1044,Insumos!A:B,2,FALSE),\"\")","v":""},null,null,null,null,{"$f":"IFERROR(VLOOKUP(E1044,Nota_Fiscal!$G$4:$L$1000,6,0),\"\")","v":""}]
[null,null,{"$f":"IFERROR(VLOOKUP(A1045,Insumos!A:B,2,FALSE),\"\")","v":""},null,null,null,null,{"$f":"IFERROR(VLOOKUP(E1045,Nota_Fiscal!$G$4:$L$1000,6,0),\"\")","v":""}]
[null,null,{"$f":"IFERROR(VLOOKUP(A1046,Insumos!A:B,2,FALSE),\"\")","v":""},null,null,null,null,{"$f":"IFERROR(VLOOKUP(E1046,Nota_Fiscal!$G$4:$L$1000,6,0),\"\")","v":""}]
[null,null,{"$f":"IFERROR(VLOOKUP(A1047,Insumos!A:B,2,FALSE),\"\")","v":""},null,null,null,null,{"$f":"IFERROR(VLOOKUP(E1047,Nota_Fiscal!$G$4:$L$1000,6,0),\"\")","v":""}]
[null,null,{"$f":"IFERROR(VLOOKUP(A1048,Insumos!A:B,2,FALSE),\"\")","v":""},null,null,null,null,{"$f":"IFERROR(VLOOKUP(E1048,Nota_Fiscal!$G$4:$L$1000,6,0),\"\")","v":""}]
[null,null,{"$f":"IFERROR(VLOOKUP(A1049,Insumos!A:B,2,FALSE),\"\")","v":""},null,null,null,null,{"$f":"IFERROR(VLOOKUP(E1049,Nota_Fiscal!$G$4:$L$1000,6,0),\"\")","v":""}]
[null,null,{"$f":"IFERROR(VLOOKUP(A1050,Insumos!A:B,2,FALSE),\"\")","v":""},null,null,null,null,{"$f":"IFERROR(VLOOKUP(E1050,Nota_Fiscal!$G$4:$L$1000,6,0),\"\")","v":""}]
[null,null,{"$f":"IFERROR(VLOOKUP(A1051,Insumos!A:B,2,FALSE),\"\")","v":""},null,null,null,null,{"$f":"IFERROR(VLOOKUP(E1051,Nota_Fiscal!$G$4:$L$1000,6,0),\"\")","v":""}]
[null,null,{"$f":"IFERROR(VLOOKUP(A1052,Insumos!A:B,2,FALSE),\"\")","v":""},null,null,null,null,{"$f":"IFERROR(VLOOKUP(E1052,Nota_Fiscal!$G$4:$L$1000,6,0),\"\")","v":""}]
[null,null,{"$f":"IFERROR(VLOOKUP(A1053,Insumos!A:B,2,FALSE),\"\")","v":""},null,null,null,null,{"$f":"IFERROR(VLOOKUP(E1053,Nota_Fiscal!$G$4:$L$1000,6,0),\"\")","v":""}]
[null,null,{"$f":"IFERROR(VLOOKUP(A1054,Insumos!A:B,2,FALSE),\"\")","v":""},null,null,null,null,{"$f":"IFERROR(VLOOKUP(E1054,Nota_Fiscal!$G$4:$L$1000,6,0),\"\")","v":""}]
[null,null,{"$f":"IFERROR(VLOOKUP(A1055,Insumos!A:B,2,FALSE),\"\")","v":""},null,null,null,null,{"$f":"IFERROR(VLOOKUP(E1055,Nota_Fiscal!$G$4:$L$1000,6,0),\"\")","v":""}]
[null,null,{"$f":"IFERROR(VLOOKUP(A1056,Insumos!A:B,2,FALSE),\"\")","v":""},null,null,null,null,{"$f":"IFERROR(VLOOKUP(E1056,Nota_Fiscal!$G$4:$L$1000,6,0),\"\")","v":""}]
[null,null,{"$f":"IFERROR(VLOOKUP(A1057,Insumos!A:B,2,FALSE),\"\")","v":""},null,null,null,null,{"$f":"IFERROR(VLOOKUP(E1057,Nota_Fiscal!$G$4:$L$1000,6,0),\"\")","v":""}]
[null,null,{"$f":"IFERROR(VLOOKUP(A1058,Insumos!A:B,2,FALSE),\"\")","v":""},null,null,null,null,{"$f":"IFERROR(VLOOKUP(E1058,Nota_Fiscal!$G$4:$L$1000,6,0),\"\")","v":""}]
[null,null,{"$f":"IFERROR(VLOOKUP(A1059,Insumos!A:B,2,FALSE),\"\")","v":""},null,null,null,null,{"$f":"IFERROR(VLOOKUP(E1059,Nota_Fiscal!$G$4:$L$1000,6,0),\"\")","v":""}]
[null,null,{"$f":"IFERROR(VLOOKUP(A1060,Insumos!A:B,2,FALSE),\"\")","v":""},null,null,null,null,{"$f":"IFERROR(VLOOKUP(E1060,Nota_Fiscal!$G$4:$L$1000,6,0),\"\")","v":""}]
[null,null,{"$f":"IFERROR(VLOOKUP(A1061,Insumos!A:B,2,FALSE),\"\")","v":""},null,null,null,null,{"$f":"IFERROR(VLOOKUP(E1061,Nota_Fiscal!$G$4:$L$1000,6,0),\"\")","v":""}]
[null,null,{"$f":"IFERROR(VLOOKUP(A1062,Insumos!A:B,2,FALSE),\"\")","v":""},null,null,null,null,{"$f":"IFERROR(VLOOKUP(E1062,Nota_Fiscal!$G$4:$L$1000,6,0),\"\")","v":""}]
[null,null,{"$f":"IFERROR(VLOOKUP(A1063,Insumos!A:B,2,FALSE),\"\")","v":""},null,null,null,null,{"$f":"IFERROR(VLOOKUP(E1063,Nota_Fiscal!$G$4:$L$1000,6,0),\"\")","v":""}]
[null,null,{"$f":"IFERROR(VLOOKUP(A1064,Insumos!A:B,2,FALSE),\"\")","v":""},null,null,null,null,{"$f":"IFERROR(VLOOKUP(E1064,Nota_Fiscal!$G$4:$L$1000,6,0),\"\")","v":""}]
[null,null,{"$f":"IFERROR(VLOOKUP(A1065,Insumos!A:B,2,FALSE),\"\")","v":""},null,null,null,null,{"$f":"IFERROR(VLOOKUP(E1065,Nota_Fiscal!$G$4:$L$1000,6,0),\"\")","v":""}]
[null,null,{"$f":"IFERROR(VLOOKUP(A1066,Insumos!A:B,2,FALSE),\"\")","v":""},null,null,null,null,{"$f":"IFERROR(VLOOKUP(E1066,Nota_Fiscal!$G$4:$L$1000,6,0),\"\")","v":""}]
[null,null,{"$f":"IFERROR(VLOOKUP(A1067,Insumos!A:B,2,FALSE),\"\")","v":""},null,null,null,null,{"$f":"IFERROR(VLOOKUP(E1067,Nota_Fiscal!$G$4:$L$1000,6,0),\"\")","v":""}]
[null,null,{"$f":"IFERROR(VLOOKUP(A1068,Insumos!A:B,2,FALSE),\"\")","v":""},null,null,null,null,{"$f":"IFERROR(VLOOKUP(E1068,Nota_Fiscal!$G$4:$L$1000,6,0),\"\")","v":""}]
[null,null,{"$f":"IFERROR(VLOOKUP(A1069,Insumos!A:B,2,FALSE),\"\")","v":""},null,null,null,null,{"$f":"IFERROR(VLOOKUP(E1069,Nota_Fiscal!$G$4:$L$1000,6,0),\"\")","v":""}]
[null,null,{"$f":"IFERROR(VLOOKUP(A1070,Insumos!A:B,2,FALSE),\"\")","v":""},null,null,null,null,{"$f":"IFERROR(VLOOKUP(E1070,Nota_Fiscal!$G$4:$L$1000,6,0),\"\")","v":""}]
[null,null,{"$f":"IFERROR(VLOOKUP(A1071,Insumos!A:B,2,FALSE),\"\")","v":""},null,null,null,null,{"$f":"IFERROR(VLOOKUP(E1071,Nota_Fiscal!$G$4:$L$1000,6,0),\"\")","v":""}]
[null,null,{"$f":"IFERROR(VLOOKUP(A1072,Insumos!A:B,2,FALSE),\"\")","v":""},null,null,null,null,{"$f":"IFERROR(VLOOKUP(E1072,Nota_Fiscal!$G$4:$L$1000,6,0),\"\")","v":""}]
[null,null,{"$f":"IFERROR(VLOOKUP(A1073,Insumos!A:B,2,FALSE),\"\")","v":""},null,null,null,null,{"$f":"IFERROR(VLOOKUP(E1073,Nota_Fiscal!$G$4:$L$1000,6,0),\"\")","v":""}]
[null,null,{"$f":"IFERROR(VLOOKUP(A1074,Insumos!A:B,2,FALSE),\"\")","v":""},null,null,null,null,{"$f":"IFERROR(VLOOKUP(E1074,Nota_Fiscal!$G$4:$L$1000,6,0),\"\")","v":""}]
[null,null,{"$f":"IFERROR(VLOOKUP(A1075,Insumos!A:B,2,FALSE),\"\")","v":""},null,null,null,null,{"$f":"IFERROR(VLOOKUP(E1075,Nota_Fiscal!$G$4:$L$1000,6,0),\"\")","v":""}]
[null,null,{"$f":"IFERROR(VLOOKUP(A1076,Insumos!A:B,2,FALSE),\"\")","v":""},null,null,null,null,{"$f":"IFERROR(VLOOKUP(E1076,Nota_Fiscal!$G$4:$L$1000,6,0),\"\")","v":""}]
[null,null,{"$f":"IFERROR(VLOOKUP(A1077,Insumos!A:B,2,FALSE),\"\")","v":""},null,null,null,null,{"$f":"IFERROR(VLOOKUP(E1077,Nota_Fiscal!$G$4:$L$1000,6,0),\"\")","v":""}]
[null,null,{"$f":"IFERROR(VLOOKUP(A1078,Insumos!A:B,2,FALSE),\"\")","v":""},null,null,null,null,{"$f":"IFERROR(VLOOKUP(E1078,Nota_Fiscal!$G$4:$L$1000,6,0),\"\")","v":""}]
[null,null,{"$f":"IFERROR(VLOOKUP(A1079,Insumos!A:B,2,FALSE),\"\")","v":""},null,null,null,null,{"$f":"IFERROR(VLOOKUP(E1079,Nota_Fiscal!$G$4:$L$1000,6,0),\"\")","v":""}]
[null,null,{"$f":"IFERROR(VLOOKUP(A1080,Insumos!A:B,2,FALSE),\"\")","v":""},null,null,null,null,{"$f":"IFERROR(VLOOKUP(E1080,Nota_Fiscal!$G$4:$L$1000,6,0),\"\")","v":""}]
[null,null,{"$f":"IFERROR(VLOOKUP(A1081,Insumos!A:B,2,FALSE),\"\")","v":""},null,null,null,null,{"$f":"IFERROR(VLOOKUP(E1081,Nota_Fiscal!$G$4:$L$1000,6,0),\"\")","v":""}]
[null,null,{"$f":"IFERROR(VLOOKUP(A1082,Insumos!A:B,2,FALSE),\"\")","v":""},null,null,null,null,{"$f":"IFERROR(VLOOKUP(E1082,Nota_Fiscal!$G$4:$L$1000,6,0),\"\")","v":""}]
[null,null,{"$f":"IFERROR(VLOOKUP(A1083,Insumos!A:B,2,FALSE),\"\")","v":""},null,null,null,null,{"$f":"IFERROR(VLOOKUP(E1083,Nota_Fiscal!$G$4:$L$1000,6,0),\"\")","v":""}]
[null,null,{"$f":"IFERROR(VLOOKUP(A1084,Insumos!A:B,2,FALSE),\"\")","v":""},null,null,null,null,{"$f":"IFERROR(VLOOKUP(E1084,Nota_Fiscal!$G$4:$L$1000,6,0),\"\")","v":""}]
[null,null,{"$f":"IFERROR(VLOOKUP(A1085,Insumos!A:B,2,FALSE),\"\")","v":""},null,null,null,null,{"$f":"IFERROR(VLOOKUP(E1085,Nota_Fiscal!$G$4:$L$1000,6,0),\"\")","v":""}]
[null,null,{"$f":"IFERROR(VLOOKUP(A1086,Insumos!A:B,2,FALSE),\"\")","v":""},null,null,null,null,{"$f":"IFERROR(VLOOKUP(E1086,Nota_Fiscal!$G$4:$L$1000,6,0),\"\")","v":""}]
[null,null,{"$f":"IFERROR(VLOOKUP(A1087,Insumos!A:B,2,FALSE),\"\")","v":""},null,null,null,null,{"$f":"IFERROR(VLOOKUP(E1087,Nota_Fiscal!$G$4:$L$1000,6,0),\"\")","v":""}]
[null,null,{"$f":"IFERROR(VLOOKUP(A1088,Insumos!A:B,2,FALSE),\"\")","v":""},null,null,null,null,{"$f":"IFERROR(VLOOKUP(E1088,Nota_Fiscal!$G$4:$L$1000,6,0),\"\")","v":""}]
[null,null,{"$f":"IFERROR(VLOOKUP(A1089,Insumos!A:B,2,FALSE),\"\")","v":""},null,null,null,null,{"$f":"IFERROR(VLOOKUP(E1089,Nota_Fiscal!$G$4:$L$1000,6,0),\"\")","v":""}]
[null,null,{"$f":"IFERROR(VLOOKUP(A1090,Insumos!A:B,2,FALSE),\"\")","v":""},null,null,null,null,{"$f":"IFERROR(VLOOKUP(E1090,Nota_Fiscal!$G$4:$L$1000,6,0),\"\")","v":""}]
[null,null,{"$f":"IFERROR(VLOOKUP(A1091,Insumos!A:B,2,FALSE),\"\")","v":""},null,null,null,null,{"$f":"IFERROR(VLOOKUP(E1091,Nota_Fiscal!$G$4:$L$1000,6,0),\"\")","v":""}]
[null,null,{"$f":"IFERROR(VLOOKUP(A1092,Insumos!A:B,2,FALSE),\"\")","v":""},null,null,null,null,{"$f":"IFERROR(VLOOKUP(E1092,Nota_Fiscal!$G$4:$L$1000,6,0),\"\")","v":""}]
[null,null,{"$f":"IFERROR(VLOOKUP(A1093,Insumos!A:B,2,FALSE),\"\")","v":""},null,null,null,null,{"$f":"IFERROR(VLOOKUP(E1093,Nota_Fiscal!$G$4:$L$1000,6,0),\"\")","v":""}]
[null,null,{"$f":"IFERROR(VLOOKUP(A1094,Insumos!A:B,2,FALSE),\"\")","v":""},null,null,null,null,{"$f":"IFERROR(VLOOKUP(E1094,Nota_Fiscal!$G$4:$L$1000,6,0),\"\")","v":""}]
[null,null,{"$f":"IFERROR(VLOOKUP(A1095,Insumos!A:B,2,FALSE),\"\")","v":""},null,null,null,null,{"$f":"IFERROR(VLOOKUP(E1095,Nota_Fiscal!$G$4:$L$1000,6,0),\"\")","v":""}]
[null,null,{"$f":"IFERROR(VLOOKUP(A1096,Insumos!A:B,2,FALSE),\"\")","v":""},null,null,null,null,{"$f":"IFERROR(VLOOKUP(E1096,Nota_Fiscal!$G$4:$L$1000,6,0),\"\")","v":""}]
[null,null,{"$f":"IFERROR(VLOOKUP(A1097,Insumos!A:B,2,FALSE),\"\")","v":""},null,null,null,null,{"$f":"IFERROR(VLOOKUP(E1097,Nota_Fiscal!$G$4:$L$1000,6,0),\"\")","v":""}]
[null,null,{"$f":"IFERROR(VLOOKUP(A1098,Insumos!A:B,2,FALSE),\"\")","v":""},null,null,null,null,{"$f":"IFERROR(VLOOKUP(E1098,Nota_Fiscal!$G$4:$L$1000,6,0),\"\")","v":""}]
[null,null,{"$f":"IFERROR(VLOOKUP(A1099,Insumos!A:B,2,FALSE),\"\")","v":""},null,null,null,null,{"$f":"IFERROR(VLOOKUP(E1099,Nota_Fiscal!$G$4:$L$1000,6,0),\"\")","v":""}]
[null,null,{"$f":"IFERROR(VLOOKUP(A1100,Insumos!A:B,2,FALSE),\"\")","v":""},null,null,null,null,{"$f":"IFERROR(VLOOKUP(E1100,Nota_Fiscal!$G$4:$L$1000,6,0),\"\")","v":""}]
[null,null,{"$f":"IFERROR(VLOOKUP(A1101,Insumos!A:B,2,FALSE),\"\")","v":""},null,null,null,null,{"$f":"IFERROR(VLOOKUP(E1101,Nota_Fiscal!$G$4:$L$1000,6,0),\"\")","v":""}]
[null,null,{"$f":"IFERROR(VLOOKUP(A1102,Insumos!A:B,2,FALSE),\"\")","v":""},null,null,null,null,{"$f":"IFERROR(VLOOKUP(E1102,Nota_Fiscal!$G$4:$L$1000,6,0),\"\")","v":""}]
[null,null,{"$f":"IFERROR(VLOOKUP(A1103,Insumos!A:B,2,FALSE),\"\")","v":""},null,null,null,null,{"$f":"IFERROR(VLOOKUP(E1103,Nota_Fiscal!$G$4:$L$1000,6,0),\"\")","v":""}]
[null,null,{"$f":"IFERROR(VLOOKUP(A1104,Insumos!A:B,2,FALSE),\"\")","v":""},null,null,null,null,{"$f":"IFERROR(VLOOKUP(E1104,Nota_Fiscal!$G$4:$L$1000,6,0),\"\")","v":""}]
[null,null,{"$f":"IFERROR(VLOOKUP(A1105,Insumos!A:B,2,FALSE),\"\")","v":""},null,null,null,null,{"$f":"IFERROR(VLOOKUP(E1105,Nota_Fiscal!$G$4:$L$1000,6,0),\"\")","v":""}]
[null,null,{"$f":"IFERROR(VLOOKUP(A1106,Insumos!A:B,2,FALSE),\"\")","v":""},null,null,null,null,{"$f":"IFERROR(VLOOKUP(E1106,Nota_Fiscal!$G$4:$L$1000,6,0),\"\")","v":""}]
[null,null,{"$f":"IFERROR(VLOOKUP(A1107,Insumos!A:B,2,FALSE),\"\")","v":""},null,null,null,null,{"$f":"IFERROR(VLOOKUP(E1107,Nota_Fiscal!$G$4:$L$1000,6,0),\"\")","v":""}]
[null,null,{"$f":"IFERROR(VLOOKUP(A1108,Insumos!A:B,2,FALSE),\"\")","v":""},null,null,null,null,{"$f":"IFERROR(VLOOKUP(E1108,Nota_Fiscal!$G$4:$L$1000,6,0),\"\")","v":""}]
[null,null,{"$f":"IFERROR(VLOOKUP(A1109,Insumos!A:B,2,FALSE),\"\")","v":""},null,null,null,null,{"$f":"IFERROR(VLOOKUP(E1109,Nota_Fiscal!$G$4:$L$1000,6,0),\"\")","v":""}]
[null,null,{"$f":"IFERROR(VLOOKUP(A1110,Insumos!A:B,2,FALSE),\"\")","v":""},null,null,null,null,{"$f":"IFERROR(VLOOKUP(E1110,Nota_Fiscal!$G$4:$L$1000,6,0),\"\")","v":""}]
[null,null,{"$f":"IFERROR(VLOOKUP(A1111,Insumos!A:B,2,FALSE),\"\")","v":""},null,null,null,null,{"$f":"IFERROR(VLOOKUP(E1111,Nota_Fiscal!$G$4:$L$1000,6,0),\"\")","v":""}]
[null,null,{"$f":"IFERROR(VLOOKUP(A1112,Insumos!A:B,2,FALSE),\"\")","v":""},null,null,null,null,{"$f":"IFERROR(VLOOKUP(E1112,Nota_Fiscal!$G$4:$L$1000,6,0),\"\")","v":""}]
[null,null,{"$f":"IFERROR(VLOOKUP(A1113,Insumos!A:B,2,FALSE),\"\")","v":""},null,null,null,null,{"$f":"IFERROR(VLOOKUP(E1113,Nota_Fiscal!$G$4:$L$1000,6,0),\"\")","v":""}]
[null,null,{"$f":"IFERROR(VLOOKUP(A1114,Insumos!A:B,2,FALSE),\"\")","v":""},null,null,null,null,{"$f":"IFERROR(VLOOKUP(E1114,Nota_Fiscal!$G$4:$L$1000,6,0),\"\")","v":""}]
[null,null,{"$f":"IFERROR(VLOOKUP(A1115,Insumos!A:B,2,FALSE),\"\")","v":""},null,null,null,null,{"$f":"IFERROR(VLOOKUP(E1115,Nota_Fiscal!$G$4:$L$1000,6,0),\"\")","v":""}]
[null,null,{"$f":"IFERROR(VLOOKUP(A1116,Insumos!A:B,2,FALSE),\"\")","v":""},null,null,null,null,{"$f":"IFERROR(VLOOKUP(E1116,Nota_Fiscal!$G$4:$L$1000,6,0),\"\")","v":""}]
[null,null,{"$f":"IFERROR(VLOOKUP(A1117,Insumos!A:B,2,FALSE),\"\")","v":""},null,null,null,null,{"$f":"IFERROR(VLOOKUP(E1117,Nota_Fiscal!$G$4:$L$1000,6,0),\"\")","v":""}]
[null,null,{"$f":"IFERROR(VLOOKUP(A1118,Insumos!A:B,2,FALSE),\"\")","v":""},null,null,null,null,{"$f":"IFERROR(VLOOKUP(E1118,Nota_Fiscal!$G$4:$L$1000,6,0),\"\")","v":""}]
[null,null,{"$f":"IFERROR(VLOOKUP(A1119,Insumos!A:B,2,FALSE),\"\")","v":""},null,null,null,null,{"$f":"IFERROR(VLOOKUP(E1119,Nota_Fiscal!$G$4:$L$1000,6,0),\"\")","v":""}]
[null,null,{"$f":"IFERROR(VLOOKUP(A1120,Insumos!A:B,2,FALSE),\"\")","v":""},null,null,null,null,{"$f":"IFERROR(VLOOKUP(E1120,Nota_Fiscal!$G$4:$L$1000,6,0),\"\")","v":""}]
[null,null,{"$f":"IFERROR(VLOOKUP(A1121,Insumos!A:B,2,FALSE),\"\")","v":""},null,null,null,null,{"$f":"IFERROR(VLOOKUP(E1121,Nota_Fiscal!$G$4:$L$1000,6,0),\"\")","v":""}]
[null,null,{"$f":"IFERROR(VLOOKUP(A1122,Insumos!A:B,2,FALSE),\"\")","v":""},null,null,null,null,{"$f":"IFERROR(VLOOKUP(E1122,Nota_Fiscal!$G$4:$L$1000,6,0),\"\")","v":""}]
[null,null,{"$f":"IFERROR(VLOOKUP(A1123,Insumos!A:B,2,FALSE),\"\")","v":""},null,null,null,null,{"$f":"IFERROR(VLOOKUP(E1123,Nota_Fiscal!$G$4:$L$1000,6,0),\"\")","v":""}]
[null,null,{"$f":"IFERROR(VLOOKUP(A1124,Insumos!A:B,2,FALSE),\"\")","v":""},null,null,null,null,{"$f":"IFERROR(VLOOKUP(E1124,Nota_Fiscal!$G$4:$L$1000,6,0),\"\")","v":""}]
[null,null,{"$f":"IFERROR(VLOOKUP(A1125,Insumos!A:B,2,FALSE),\"\")","v":""},null,null,null,null,{"$f":"IFERROR(VLOOKUP(E1125,Nota_Fiscal!$G$4:$L$1000,6,0),\"\")","v":""}]
[null,null,{"$f":"IFERROR(VLOOKUP(A1126,Insumos!A:B,2,FALSE),\"\")","v":""},null,null,null,null,{"$f":"IFERROR(VLOOKUP(E1126,Nota_Fiscal!$G$4:$L$1000,6,0),\"\")","v":""}]
[null,null,{"$f":"IFERROR(VLOOKUP(A1127,Insumos!A:B,2,FALSE),\"\")","v":""},null,null,null,null,{"$f":"IFERROR(VLOOKUP(E1127,Nota_Fiscal!$G$4:$L$1000,6,0),\"\")","v":""}]
[null,null,{"$f":"IFERROR(VLOOKUP(A1128,Insumos!A:B,2,FALSE),\"\")","v":""},null,null,null,null,{"$f":"IFERROR(VLOOKUP(E1128,Nota_Fiscal!$G$4:$L$1000,6,0),\"\")","v":""}]
[null,null,{"$f":"IFERROR(VLOOKUP(A1129,Insumos!A:B,2,FALSE),\"\")","v":""},null,null,null,null,{"$f":"IFERROR(VLOOKUP(E1129,Nota_Fiscal!$G$4:$L$1000,6,0),\"\")","v":""}]
[null,null,{"$f":"IFERROR(VLOOKUP(A1130,Insumos!A:B,2,FALSE),\"\")","v":""},null,null,null,null,{"$f":"IFERROR(VLOOKUP(E1130,Nota_Fiscal!$G$4:$L$1000,6,0),\"\")","v":""}]
[null,null,{"$f":"IFERROR(VLOOKUP(A1131,Insumos!A:B,2,FALSE),\"\")","v":""},null,null,null,null,{"$f":"IFERROR(VLOOKUP(E1131,Nota_Fiscal!$G$4:$L$1000,6,0),\"\")","v":""}]
[null,null,{"$f":"IFERROR(VLOOKUP(A1132,Insumos!A:B,2,FALSE),\"\")","v":""},null,null,null,null,{"$f":"IFERROR(VLOOKUP(E1132,Nota_Fiscal!$G$4:$L$1000,6,0),\"\")","v":""}]
[null,null,{"$f":"IFERROR(VLOOKUP(A1133,Insumos!A:B,2,FALSE),\"\")","v":""},null,null,null,null,{"$f":"IFERROR(VLOOKUP(E1133,Nota_Fiscal!$G$4:$L$1000,6,0),\"\")","v":""}]
[null,null,{"$f":"IFERROR(VLOOKUP(A1134,Insumos!A:B,2,FALSE),\"\")","v":""},null,null,null,null,{"$f":"IFERROR(VLOOKUP(E1134,Nota_Fiscal!$G$4:$L$1000,6,0),\"\")","v":""}]
[null,null,{"$f":"IFERROR(VLOOKUP(A1135,Insumos!A:B,2,FALSE),\"\")","v":""},null,null,null,null,{"$f":"IFERROR(VLOOKUP(E1135,Nota_Fiscal!$G$4:$L$1000,6,0),\"\")","v":""}]
[null,null,{"$f":"IFERROR(VLOOKUP(A1136,Insumos!A:B,2,FALSE),\"\")","v":""},null,null,null,null,{"$f":"IFERROR(VLOOKUP(E1136,Nota_Fiscal!$G$4:$L$1000,6,0),\"\")","v":""}]
[null,null,{"$f":"IFERROR(VLOOKUP(A1137,Insumos!A:B,2,FALSE),\"\")","v":""},null,null,null,null,{"$f":"IFERROR(VLOOKUP(E1137,Nota_Fiscal!$G$4:$L$1000,6,0),\"\")","v":""}]
[null,null,{"$f":"IFERROR(VLOOKUP(A1138,Insumos!A:B,2,FALSE),\"\")","v":""},null,null,null,null,{"$f":"IFERROR(VLOOKUP(E1138,Nota_Fiscal!$G$4:$L$1000,6,0),\"\")","v":""}]
[null,null,{"$f":"IFERROR(VLOOKUP(A1139,Insumos!A:B,2,FALSE),\"\")","v":""},null,null,null,null,{"$f":"IFERROR(VLOOKUP(E1139,Nota_Fiscal!$G$4:$L$1000,6,0),\"\")","v":""}]
[null,null,{"$f":"IFERROR(VLOOKUP(A1140,Insumos!A:B,2,FALSE),\"\")","v":""},null,null,null,null,{"$f":"IFERROR(VLOOKUP(E1140,Nota_Fiscal!$G$4:$L$1000,6,0),\"\")","v":""}]
[null,null,{"$f":"IFERROR(VLOOKUP(A1141,Insumos!A:B,2,FALSE),\"\")","v":""},null,null,null,null,{"$f":"IFERROR(VLOOKUP(E1141,Nota_Fiscal!$G$4:$L$1000,6,0),\"\")","v":""}]
[null,null,{"$f":"IFERROR(VLOOKUP(A1142,Insumos!A:B,2,FALSE),\"\")","v":""},null,null,null,null,{"$f":"IFERROR(VLOOKUP(E1142,Nota_Fiscal!$G$4:$L$1000,6,0),\"\")","v":""}]
[null,null,{"$f":"IFERROR(VLOOKUP(A1143,Insumos!A:B,2,FALSE),\"\")","v":""},null,null,null,null,{"$f":"IFERROR(VLOOKUP(E1143,Nota_Fiscal!$G$4:$L$1000,6,0),\"\")","v":""}]
[null,null,{"$f":"IFERROR(VLOOKUP(A1144,Insumos!A:B,2,FALSE),\"\")","v":""},null,null,null,null,{"$f":"IFERROR(VLOOKUP(E1144,Nota_Fiscal!$G$4:$L$1000,6,0),\"\")","v":""}]
[null,null,{"$f":"IFERROR(VLOOKUP(A1145,Insumos!A:B,2,FALSE),\"\")","v":""},null,null,null,null,{"$f":"IFERROR(VLOOKUP(E1145,Nota_Fiscal!$G$4:$L$1000,6,0),\"\")","v":""}]
[null,null,{"$f":"IFERROR(VLOOKUP(A1146,Insumos!A:B,2,FALSE),\"\")","v":""},null,null,null,null,{"$f":"IFERROR(VLOOKUP(E1146,Nota_Fiscal!$G$4:$L$1000,6,0),\"\")","v":""}]
[null,null,{"$f":"IFERROR(VLOOKUP(A1147,Insumos!A:B,2,FALSE),\"\")","v":""},null,null,null,null,{"$f":"IFERROR(VLOOKUP(E1147,Nota_Fiscal!$G$4:$L$1000,6,0),\"\")","v":""}]
[null,null,{"$f":"IFERROR(VLOOKUP(A1148,Insumos!A:B,2,FALSE),\"\")","v":""},null,null,null,null,{"$f":"IFERROR(VLOOKUP(E1148,Nota_Fiscal!$G$4:$L$1000,6,0),\"\")","v":""}]
[null,null,{"$f":"IFERROR(VLOOKUP(A1149,Insumos!A:B,2,FALSE),\"\")","v":""},null,null,null,null,{"$f":"IFERROR(VLOOKUP(E1149,Nota_Fiscal!$G$4:$L$1000,6,0),\"\")","v":""}]
[null,null,{"$f":"IFERROR(VLOOKUP(A1150,Insumos!A:B,2,FALSE),\"\")","v":""},null,null,null,null,{"$f":"IFERROR(VLOOKUP(E1150,Nota_Fiscal!$G$4:$L$1000,6,0),\"\")","v":""}]
[null,null,{"$f":"IFERROR(VLOOKUP(A1151,Insumos!A:B,2,FALSE),\"\")","v":""},null,null,null,null,{"$f":"IFERROR(VLOOKUP(E1151,Nota_Fiscal!$G$4:$L$1000,6,0),\"\")","v":""}]
[null,null,{"$f":"IFERROR(VLOOKUP(A1152,Insumos!A:B,2,FALSE),\"\")","v":""},null,null,null,null,{"$f":"IFERROR(VLOOKUP(E1152,Nota_Fiscal!$G$4:$L$1000,6,0),\"\")","v":""}]
[null,null,{"$f":"IFERROR(VLOOKUP(A1153,Insumos!A:B,2,FALSE),\"\")","v":""},null,null,null,null,{"$f":"IFERROR(VLOOKUP(E1153,Nota_Fiscal!$G$4:$L$1000,6,0),\"\")","v":""}]
[null,null,{"$f":"IFERROR(VLOOKUP(A1154,Insumos!A:B,2,FALSE),\"\")","v":""},null,null,null,null,{"$f":"IFERROR(VLOOKUP(E1154,Nota_Fiscal!$G$4:$L$1000,6,0),\"\")","v":""}]
[null,null,{"$f":"IFERROR(VLOOKUP(A1155,Insumos!A:B,2,FALSE),\"\")","v":""},null,null,null,null,{"$f":"IFERROR(VLOOKUP(E1155,Nota_Fiscal!$G$4:$L$1000,6,0),\"\")","v":""}]
[null,null,{"$f":"IFERROR(VLOOKUP(A1156,Insumos!A:B,2,FALSE),\"\")","v":""},null,null,null,null,{"$f":"IFERROR(VLOOKUP(E1156,Nota_Fiscal!$G$4:$L$1000,6,0),\"\")","v":""}]
[null,null,{"$f":"IFERROR(VLOOKUP(A1157,Insumos!A:B,2,FALSE),\"\")","v":""},null,null,null,null,{"$f":"IFERROR(VLOOKUP(E1157,Nota_Fiscal!$G$4:$L$1000,6,0),\"\")","v":""}]
[null,null,{"$f":"IFERROR(VLOOKUP(A1158,Insumos!A:B,2,FALSE),\"\")","v":""},null,null,null,null,{"$f":"IFERROR(VLOOKUP(E1158,Nota_Fiscal!$G$4:$L$1000,6,0),\"\")","v":""}]
[null,null,{"$f":"IFERROR(VLOOKUP(A1159,Insumos!A:B,2,FALSE),\"\")","v":""},null,null,null,null,{"$f":"IFERROR(VLOOKUP(E1159,Nota_Fiscal!$G$4:$L$1000,6,0),\"\")","v":""}]
[null,null,{"$f":"IFERROR(VLOOKUP(A1160,Insumos!A:B,2,FALSE),\"\")","v":""},null,null,null,null,{"$f":"IFERROR(VLOOKUP(E1160,Nota_Fiscal!$G$4:$L$1000,6,0),\"\")","v":""}]
[null,null,{"$f":"IFERROR(VLOOKUP(A1161,Insumos!A:B,2,FALSE),\"\")","v":""},null,null,null,null,{"$f":"IFERROR(VLOOKUP(E1161,Nota_Fiscal!$G$4:$L$1000,6,0),\"\")","v":""}]
[null,null,{"$f":"IFERROR(VLOOKUP(A1162,Insumos!A:B,2,FALSE),\"\")","v":""},null,null,null,null,{"$f":"IFERROR(VLOOKUP(E1162,Nota_Fiscal!$G$4:$L$1000,6,0),\"\")","v":""}]
[null,null,{"$f":"IFERROR(VLOOKUP(A1163,Insumos!A:B,2,FALSE),\"\")","v":""},null,null,null,null,{"$f":"IFERROR(VLOOKUP(E1163,Nota_Fiscal!$G$4:$L$1000,6,0),\"\")","v":""}]
[null,null,{"$f":"IFERROR(VLOOKUP(A1164,Insumos!A:B,2,FALSE),\"\")","v":""},null,null,null,null,{"$f":"IFERROR(VLOOKUP(E1164,Nota_Fiscal!$G$4:$L$1000,6,0),\"\")","v":""}]
[null,null,{"$f":"IFERROR(VLOOKUP(A1165,Insumos!A:B,2,FALSE),\"\")","v":""},null,null,null,null,{"$f":"IFERROR(VLOOKUP(E1165,Nota_Fiscal!$G$4:$L$1000,6,0),\"\")","v":""}]
[null,null,{"$f":"IFERROR(VLOOKUP(A1166,Insumos!A:B,2,FALSE),\"\")","v":""},null,null,null,null,{"$f":"IFERROR(VLOOKUP(E1166,Nota_Fiscal!$G$4:$L$1000,6,0),\"\")","v":""}]
[null,null,{"$f":"IFERROR(VLOOKUP(A1167,Insumos!A:B,2,FALSE),\"\")","v":""},null,null,null,null,{"$f":"IFERROR(VLOOKUP(E1167,Nota_Fiscal!$G$4:$L$1000,6,0),\"\")","v":""}]
[null,null,{"$f":"IFERROR(VLOOKUP(A1168,Insumos!A:B,2,FALSE),\"\")","v":""},null,null,null,null,{"$f":"IFERROR(VLOOKUP(E1168,Nota_Fiscal!$G$4:$L$1000,6,0),\"\")","v":""}]
[null,null,{"$f":"IFERROR(VLOOKUP(A1169,Insumos!A:B,2,FALSE),\"\")","v":""},null,null,null,null,{"$f":"IFERROR(VLOOKUP(E1169,Nota_Fiscal!$G$4:$L$1000,6,0),\"\")","v":""}]
[null,null,{"$f":"IFERROR(VLOOKUP(A1170,Insumos!A:B,2,FALSE),\"\")","v":""},null,null,null,null,{"$f":"IFERROR(VLOOKUP(E1170,Nota_Fiscal!$G$4:$L$1000,6,0),\"\")","v":""}]
[null,null,{"$f":"IFERROR(VLOOKUP(A1171,Insumos!A:B,2,FALSE),\"\")","v":""},null,null,null,null,{"$f":"IFERROR(VLOOKUP(E1171,Nota_Fiscal!$G$4:$L$1000,6,0),\"\")","v":""}]
[null,null,{"$f":"IFERROR(VLOOKUP(A1172,Insumos!A:B,2,FALSE),\"\")","v":""},null,null,null,null,{"$f":"IFERROR(VLOOKUP(E1172,Nota_Fiscal!$G$4:$L$1000,6,0),\"\")","v":""}]
[null,null,{"$f":"IFERROR(VLOOKUP(A1173,Insumos!A:B,2,FALSE),\"\")","v":""},null,null,null,null,{"$f":"IFERROR(VLOOKUP(E1173,Nota_Fiscal!$G$4:$L$1000,6,0),\"\")","v":""}]
[null,null,{"$f":"IFERROR(VLOOKUP(A1174,Insumos!A:B,2,FALSE),\"\")","v":""},null,null,null,null,{"$f":"IFERROR(VLOOKUP(E1174,Nota_Fiscal!$G$4:$L$1000,6,0),\"\")","v":""}]
[null,null,{"$f":"IFERROR(VLOOKUP(A1175,Insumos!A:B,2,FALSE),\"\")","v":""},null,null,null,null,{"$f":"IFERROR(VLOOKUP(E1175,Nota_Fiscal!$G$4:$L$1000,6,0),\"\")","v":""}]
[null,null,{"$f":"IFERROR(VLOOKUP(A1176,Insumos!A:B,2,FALSE),\"\")","v":""},null,null,null,null,{"$f":"IFERROR(VLOOKUP(E1176,Nota_Fiscal!$G$4:$L$1000,6,0),\"\")","v":""}]
[null,null,{"$f":"IFERROR(VLOOKUP(A1177,Insumos!A:B,2,FALSE),\"\")","v":""},null,null,null,null,{"$f":"IFERROR(VLOOKUP(E1177,Nota_Fiscal!$G$4:$L$1000,6,0),\"\")","v":""}]
[null,null,{"$f":"IFERROR(VLOOKUP(A1178,Insumos!A:B,2,FALSE),\"\")","v":""},null,null,null,null,{"$f":"IFERROR(VLOOKUP(E1178,Nota_Fiscal!$G$4:$L$1000,6,0),\"\")","v":""}]
[null,null,{"$f":"IFERROR(VLOOKUP(A1179,Insumos!A:B,2,FALSE),\"\")","v":""},null,null,null,null,{"$f":"IFERROR(VLOOKUP(E1179,Nota_Fiscal!$G$4:$L$1000,6,0),\"\")","v":""}]
[null,null,{"$f":"IFERROR(VLOOKUP(A1180,Insumos!A:B,2,FALSE),\"\")","v":""},null,null,null,null,{"$f":"IFERROR(VLOOKUP(E1180,Nota_Fiscal!$G$4:$L$1000,6,0),\"\")","v":""}]
[null,null,{"$f":"IFERROR(VLOOKUP(A1181,Insumos!A:B,2,FALSE),\"\")","v":""},null,null,null,null,{"$f":"IFERROR(VLOOKUP(E1181,Nota_Fiscal!$G$4:$L$1000,6,0),\"\")","v":""}]
[null,null,{"$f":"IFERROR(VLOOKUP(A1182,Insumos!A:B,2,FALSE),\"\")","v":""},null,null,null,null,{"$f":"IFERROR(VLOOKUP(E1182,Nota_Fiscal!$G$4:$L$1000,6,0),\"\")","v":""}]
[null,null,{"$f":"IFERROR(VLOOKUP(A1183,Insumos!A:B,2,FALSE),\"\")","v":""},null,null,null,null,{"$f":"IFERROR(VLOOKUP(E1183,Nota_Fiscal!$G$4:$L$1000,6,0),\"\")","v":""}]
[null,null,{"$f":"IFERROR(VLOOKUP(A1184,Insumos!A:B,2,FALSE),\"\")","v":""},null,null,null,null,{"$f":"IFERROR(VLOOKUP(E1184,Nota_Fiscal!$G$4:$L$1000,6,0),\"\")","v":""}]
[null,null,{"$f":"IFERROR(VLOOKUP(A1185,Insumos!A:B,2,FALSE),\"\")","v":""},null,null,null,null,{"$f":"IFERROR(VLOOKUP(E1185,Nota_Fiscal!$G$4:$L$1000,6,0),\"\")","v":""}]
[null,null,{"$f":"IFERROR(VLOOKUP(A1186,Insumos!A:B,2,FALSE),\"\")","v":""},null,null,null,null,{"$f":"IFERROR(VLOOKUP(E1186,Nota_Fiscal!$G$4:$L$1000,6,0),\"\")","v":""}]
[null,null,{"$f":"IFERROR(VLOOKUP(A1187,Insumos!A:B,2,FALSE),\"\")","v":""},null,null,null,null,{"$f":"IFERROR(VLOOKUP(E1187,Nota_Fiscal!$G$4:$L$1000,6,0),\"\")","v":""}]
[null,null,{"$f":"IFERROR(VLOOKUP(A1188,Insumos!A:B,2,FALSE),\"\")","v":""},null,null,null,null,{"$f":"IFERROR(VLOOKUP(E1188,Nota_Fiscal!$G$4:$L$1000,6,0),\"\")","v":""}]
[null,null,{"$f":"IFERROR(VLOOKUP(A1189,Insumos!A:B,2,FALSE),\"\")","v":""},null,null,null,null,{"$f":"IFERROR(VLOOKUP(E1189,Nota_Fiscal!$G$4:$L$1000,6,0),\"\")","v":""}]
[null,null,{"$f":"IFERROR(VLOOKUP(A1190,Insumos!A:B,2,FALSE),\"\")","v":""},null,null,null,null,{"$f":"IFERROR(VLOOKUP(E1190,Nota_Fiscal!$G$4:$L$1000,6,0),\"\")","v":""}]
[null,null,{"$f":"IFERROR(VLOOKUP(A1191,Insumos!A:B,2,FALSE),\"\")","v":""},null,null,null,null,{"$f":"IFERROR(VLOOKUP(E1191,Nota_Fiscal!$G$4:$L$1000,6,0),\"\")","v":""}]
[null,null,{"$f":"IFERROR(VLOOKUP(A1192,Insumos!A:B,2,FALSE),\"\")","v":""},null,null,null,null,{"$f":"IFERROR(VLOOKUP(E1192,Nota_Fiscal!$G$4:$L$1000,6,0),\"\")","v":""}]
[null,null,{"$f":"IFERROR(VLOOKUP(A1193,Insumos!A:B,2,FALSE),\"\")","v":""},null,null,null,null,{"$f":"IFERROR(VLOOKUP(E1193,Nota_Fiscal!$G$4:$L$1000,6,0),\"\")","v":""}]
[null,null,{"$f":"IFERROR(VLOOKUP(A1194,Insumos!A:B,2,FALSE),\"\")","v":""},null,null,null,null,{"$f":"IFERROR(VLOOKUP(E1194,Nota_Fiscal!$G$4:$L$1000,6,0),\"\")","v":""}]
[null,null,{"$f":"IFERROR(VLOOKUP(A1195,Insumos!A:B,2,FALSE),\"\")","v":""},null,null,null,null,{"$f":"IFERROR(VLOOKUP(E1195,Nota_Fiscal!$G$4:$L$1000,6,0),\"\")","v":""}]
[null,null,{"$f":"IFERROR(VLOOKUP(A1196,Insumos!A:B,2,FALSE),\"\")","v":""},null,null,null,null,{"$f":"IFERROR(VLOOKUP(E1196,Nota_Fiscal!$G$4:$L$1000,6,0),\"\")","v":""}]
[null,null,{"$f":"IFERROR(VLOOKUP(A1197,Insumos!A:B,2,FALSE),\"\")","v":""},null,null,null,null,{"$f":"IFERROR(VLOOKUP(E1197,Nota_Fiscal!$G$4:$L$1000,6,0),\"\")","v":""}]
[null,null,{"$f":"IFERROR(VLOOKUP(A1198,Insumos!A:B,2,FALSE),\"\")","v":""},null,null,null,null,{"$f":"IFERROR(VLOOKUP(E1198,Nota_Fiscal!$G$4:$L$1000,6,0),\"\")","v":""}]
[null,null,{"$f":"IFERROR(VLOOKUP(A1199,Insumos!A:B,2,FALSE),\"\")","v":""},null,null,null,null,{"$f":"IFERROR(VLOOKUP(E1199,Nota_Fiscal!$G$4:$L$1000,6,0),\"\")","v":""}]
[null,null,{"$f":"IFERROR(VLOOKUP(A1200,Insumos!A:B,2,FALSE),\"\")","v":""},null,null,null,null,{"$f":"IFERROR(VLOOKUP(E1200,Nota_Fiscal!$G$4:$L$1000,6,0),\"\")","v":""}]
[null,null,{"$f":"IFERROR(VLOOKUP(A1201,Insumos!A:B,2,FALSE),\"\")","v":""},null,null,null,null,{"$f":"IFERROR(VLOOKUP(E1201,Nota_Fiscal!$G$4:$L$1000,6,0),\"\")","v":""}]
[null,null,{"$f":"IFERROR(VLOOKUP(A1202,Insumos!A:B,2,FALSE),\"\")","v":""},null,null,null,null,{"$f":"IFERROR(VLOOKUP(E1202,Nota_Fiscal!$G$4:$L$1000,6,0),\"\")","v":""}]
[null,null,{"$f":"IFERROR(VLOOKUP(A1203,Insumos!A:B,2,FALSE),\"\")","v":""},null,null,null,null,{"$f":"IFERROR(VLOOKUP(E1203,Nota_Fiscal!$G$4:$L$1000,6,0),\"\")","v":""}]
[null,null,{"$f":"IFERROR(VLOOKUP(A1204,Insumos!A:B,2,FALSE),\"\")","v":""},null,null,null,null,{"$f":"IFERROR(VLOOKUP(E1204,Nota_Fiscal!$G$4:$L$1000,6,0),\"\")","v":""}]
[null,null,{"$f":"IFERROR(VLOOKUP(A1205,Insumos!A:B,2,FALSE),\"\")","v":""},null,null,null,null,{"$f":"IFERROR(VLOOKUP(E1205,Nota_Fiscal!$G$4:$L$1000,6,0),\"\")","v":""}]
[null,null,{"$f":"IFERROR(VLOOKUP(A1206,Insumos!A:B,2,FALSE),\"\")","v":""},null,null,null,null,{"$f":"IFERROR(VLOOKUP(E1206,Nota_Fiscal!$G$4:$L$1000,6,0),\"\")","v":""}]
[null,null,{"$f":"IFERROR(VLOOKUP(A1207,Insumos!A:B,2,FALSE),\"\")","v":""},null,null,null,null,{"$f":"IFERROR(VLOOKUP(E1207,Nota_Fiscal!$G$4:$L$1000,6,0),\"\")","v":""}]
[null,null,{"$f":"IFERROR(VLOOKUP(A1208,Insumos!A:B,2,FALSE),\"\")","v":""},null,null,null,null,{"$f":"IFERROR(VLOOKUP(E1208,Nota_Fiscal!$G$4:$L$1000,6,0),\"\")","v":""}]
[null,null,{"$f":"IFERROR(VLOOKUP(A1209,Insumos!A:B,2,FALSE),\"\")","v":""},null,null,null,null,{"$f":"IFERROR(VLOOKUP(E1209,Nota_Fiscal!$G$4:$L$1000,6,0),\"\")","v":""}]
[null,null,{"$f":"IFERROR(VLOOKUP(A1210,Insumos!A:B,2,FALSE),\"\")","v":""},null,null,null,null,{"$f":"IFERROR(VLOOKUP(E1210,Nota_Fiscal!$G$4:$L$1000,6,0),\"\")","v":""}]
[null,null,{"$f":"IFERROR(VLOOKUP(A1211,Insumos!A:B,2,FALSE),\"\")","v":""},null,null,null,null,{"$f":"IFERROR(VLOOKUP(E1211,Nota_Fiscal!$G$4:$L$1000,6,0),\"\")","v":""}]
[null,null,{"$f":"IFERROR(VLOOKUP(A1212,Insumos!A:B,2,FALSE),\"\")","v":""},null,null,null,null,{"$f":"IFERROR(VLOOKUP(E1212,Nota_Fiscal!$G$4:$L$1000,6,0),\"\")","v":""}]
[null,null,{"$f":"IFERROR(VLOOKUP(A1213,Insumos!A:B,2,FALSE),\"\")","v":""},null,null,null,null,{"$f":"IFERROR(VLOOKUP(E1213,Nota_Fiscal!$G$4:$L$1000,6,0),\"\")","v":""}]
[null,null,{"$f":"IFERROR(VLOOKUP(A1214,Insumos!A:B,2,FALSE),\"\")","v":""},null,null,null,null,{"$f":"IFERROR(VLOOKUP(E1214,Nota_Fiscal!$G$4:$L$1000,6,0),\"\")","v":""}]
[null,null,{"$f":"IFERROR(VLOOKUP(A1215,Insumos!A:B,2,FALSE),\"\")","v":""},null,null,null,null,{"$f":"IFERROR(VLOOKUP(E1215,Nota_Fiscal!$G$4:$L$1000,6,0),\"\")","v":""}]
[null,null,{"$f":"IFERROR(VLOOKUP(A1216,Insumos!A:B,2,FALSE),\"\")","v":""},null,null,null,null,{"$f":"IFERROR(VLOOKUP(E1216,Nota_Fiscal!$G$4:$L$1000,6,0),\"\")","v":""}]
[null,null,{"$f":"IFERROR(VLOOKUP(A1217,Insumos!A:B,2,FALSE),\"\")","v":""},null,null,null,null,{"$f":"IFERROR(VLOOKUP(E1217,Nota_Fiscal!$G$4:$L$1000,6,0),\"\")","v":""}]
[null,null,{"$f":"IFERROR(VLOOKUP(A1218,Insumos!A:B,2,FALSE),\"\")","v":""},null,null,null,null,{"$f":"IFERROR(VLOOKUP(E1218,Nota_Fiscal!$G$4:$L$1000,6,0),\"\")","v":""}]
[null,null,{"$f":"IFERROR(VLOOKUP(A1219,Insumos!A:B,2,FALSE),\"\")","v":""},null,null,null,null,{"$f":"IFERROR(VLOOKUP(E1219,Nota_Fiscal!$G$4:$L$1000,6,0),\"\")","v":""}]
[null,null,{"$f":"IFERROR(VLOOKUP(A1220,Insumos!A:B,2,FALSE),\"\")","v":""},null,null,null,null,{"$f":"IFERROR(VLOOKUP(E1220,Nota_Fiscal!$G$4:$L$1000,6,0),\"\")","v":""}]
[null,null,{"$f":"IFERROR(VLOOKUP(A1221,Insumos!A:B,2,FALSE),\"\")","v":""},null,null,null,null,{"$f":"IFERROR(VLOOKUP(E1221,Nota_Fiscal!$G$4:$L$1000,6,0),\"\")","v":""}]
[null,null,{"$f":"IFERROR(VLOOKUP(A1222,Insumos!A:B,2,FALSE),\"\")","v":""},null,null,null,null,{"$f":"IFERROR(VLOOKUP(E1222,Nota_Fiscal!$G$4:$L$1000,6,0),\"\")","v":""}]
[null,null,{"$f":"IFERROR(VLOOKUP(A1223,Insumos!A:B,2,FALSE),\"\")","v":""},null,null,null,null,{"$f":"IFERROR(VLOOKUP(E1223,Nota_Fiscal!$G$4:$L$1000,6,0),\"\")","v":""}]
[null,null,{"$f":"IFERROR(VLOOKUP(A1224,Insumos!A:B,2,FALSE),\"\")","v":""},null,null,null,null,{"$f":"IFERROR(VLOOKUP(E1224,Nota_Fiscal!$G$4:$L$1000,6,0),\"\")","v":""}]
[null,null,{"$f":"IFERROR(VLOOKUP(A1225,Insumos!A:B,2,FALSE),\"\")","v":""},null,null,null,null,{"$f":"IFERROR(VLOOKUP(E1225,Nota_Fiscal!$G$4:$L$1000,6,0),\"\")","v":""}]
[null,null,{"$f":"IFERROR(VLOOKUP(A1226,Insumos!A:B,2,FALSE),\"\")","v":""},null,null,null,null,{"$f":"IFERROR(VLOOKUP(E1226,Nota_Fiscal!$G$4:$L$1000,6,0),\"\")","v":""}]
[null,null,{"$f":"IFERROR(VLOOKUP(A1227,Insumos!A:B,2,FALSE),\"\")","v":""},null,null,null,null,{"$f":"IFERROR(VLOOKUP(E1227,Nota_Fiscal!$G$4:$L$1000,6,0),\"\")","v":""}]
[null,null,{"$f":"IFERROR(VLOOKUP(A1228,Insumos!A:B,2,FALSE),\"\")","v":""},null,null,null,null,{"$f":"IFERROR(VLOOKUP(E1228,Nota_Fiscal!$G$4:$L$1000,6,0),\"\")","v":""}]
[null,null,{"$f":"IFERROR(VLOOKUP(A1229,Insumos!A:B,2,FALSE),\"\")","v":""},null,null,null,null,{"$f":"IFERROR(VLOOKUP(E1229,Nota_Fiscal!$G$4:$L$1000,6,0),\"\")","v":""}]
[null,null,{"$f":"IFERROR(VLOOKUP(A1230,Insumos!A:B,2,FALSE),\"\")","v":""},null,null,null,null,{"$f":"IFERROR(VLOOKUP(E1230,Nota_Fiscal!$G$4:$L$1000,6,0),\"\")","v":""}]
[null,null,{"$f":"IFERROR(VLOOKUP(A1231,Insumos!A:B,2,FALSE),\"\")","v":""},null,null,null,null,{"$f":"IFERROR(VLOOKUP(E1231,Nota_Fiscal!$G$4:$L$1000,6,0),\"\")","v":""}]
[null,null,{"$f":"IFERROR(VLOOKUP(A1232,Insumos!A:B,2,FALSE),\"\")","v":""},null,null,null,null,{"$f":"IFERROR(VLOOKUP(E1232,Nota_Fiscal!$G$4:$L$1000,6,0),\"\")","v":""}]
[null,null,{"$f":"IFERROR(VLOOKUP(A1233,Insumos!A:B,2,FALSE),\"\")","v":""},null,null,null,null,{"$f":"IFERROR(VLOOKUP(E1233,Nota_Fiscal!$G$4:$L$1000,6,0),\"\")","v":""}]
[null,null,{"$f":"IFERROR(VLOOKUP(A1234,Insumos!A:B,2,FALSE),\"\")","v":""},null,null,null,null,{"$f":"IFERROR(VLOOKUP(E1234,Nota_Fiscal!$G$4:$L$1000,6,0),\"\")","v":""}]
[null,null,{"$f":"IFERROR(VLOOKUP(A1235,Insumos!A:B,2,FALSE),\"\")","v":""},null,null,null,null,{"$f":"IFERROR(VLOOKUP(E1235,Nota_Fiscal!$G$4:$L$1000,6,0),\"\")","v":""}]
[null,null,{"$f":"IFERROR(VLOOKUP(A1236,Insumos!A:B,2,FALSE),\"\")","v":""},null,null,null,null,{"$f":"IFERROR(VLOOKUP(E1236,Nota_Fiscal!$G$4:$L$1000,6,0),\"\")","v":""}]
[null,null,{"$f":"IFERROR(VLOOKUP(A1237,Insumos!A:B,2,FALSE),\"\")","v":""},null,null,null,null,{"$f":"IFERROR(VLOOKUP(E1237,Nota_Fiscal!$G$4:$L$1000,6,0),\"\")","v":""}]
[null,null,{"$f":"IFERROR(VLOOKUP(A1238,Insumos!A:B,2,FALSE),\"\")","v":""},null,null,null,null,{"$f":"IFERROR(VLOOKUP(E1238,Nota_Fiscal!$G$4:$L$1000,6,0),\"\")","v":""}]
[null,null,{"$f":"IFERROR(VLOOKUP(A1239,Insumos!A:B,2,FALSE),\"\")","v":""},null,null,null,null,{"$f":"IFERROR(VLOOKUP(E1239,Nota_Fiscal!$G$4:$L$1000,6,0),\"\")","v":""}]
[null,null,{"$f":"IFERROR(VLOOKUP(A1240,Insumos!A:B,2,FALSE),\"\")","v":""},null,null,null,null,{"$f":"IFERROR(VLOOKUP(E1240,Nota_Fiscal!$G$4:$L$1000,6,0),\"\")","v":""}]
[null,null,{"$f":"IFERROR(VLOOKUP(A1241,Insumos!A:B,2,FALSE),\"\")","v":""},null,null,null,null,{"$f":"IFERROR(VLOOKUP(E1241,Nota_Fiscal!$G$4:$L$1000,6,0),\"\")","v":""}]
[null,null,{"$f":"IFERROR(VLOOKUP(A1242,Insumos!A:B,2,FALSE),\"\")","v":""},null,null,null,null,{"$f":"IFERROR(VLOOKUP(E1242,Nota_Fiscal!$G$4:$L$1000,6,0),\"\")","v":""}]
[null,null,{"$f":"IFERROR(VLOOKUP(A1243,Insumos!A:B,2,FALSE),\"\")","v":""},null,null,null,null,{"$f":"IFERROR(VLOOKUP(E1243,Nota_Fiscal!$G$4:$L$1000,6,0),\"\")","v":""}]
[null,null,{"$f":"IFERROR(VLOOKUP(A1244,Insumos!A:B,2,FALSE),\"\")","v":""},null,null,null,null,{"$f":"IFERROR(VLOOKUP(E1244,Nota_Fiscal!$G$4:$L$1000,6,0),\"\")","v":""}]
[null,null,{"$f":"IFERROR(VLOOKUP(A1245,Insumos!A:B,2,FALSE),\"\")","v":""},null,null,null,null,{"$f":"IFERROR(VLOOKUP(E1245,Nota_Fiscal!$G$4:$L$1000,6,0),\"\")","v":""}]
[null,null,{"$f":"IFERROR(VLOOKUP(A1246,Insumos!A:B,2,FALSE),\"\")","v":""},null,null,null,null,{"$f":"IFERROR(VLOOKUP(E1246,Nota_Fiscal!$G$4:$L$1000,6,0),\"\")","v":""}]
[null,null,{"$f":"IFERROR(VLOOKUP(A1247,Insumos!A:B,2,FALSE),\"\")","v":""},null,null,null,null,{"$f":"IFERROR(VLOOKUP(E1247,Nota_Fiscal!$G$4:$L$1000,6,0),\"\")","v":""}]
[null,null,{"$f":"IFERROR(VLOOKUP(A1248,Insumos!A:B,2,FALSE),\"\")","v":""},null,null,null,null,{"$f":"IFERROR(VLOOKUP(E1248,Nota_Fiscal!$G$4:$L$1000,6,0),\"\")","v":""}]
[null,null,{"$f":"IFERROR(VLOOKUP(A1249,Insumos!A:B,2,FALSE),\"\")","v":""},null,null,null,null,{"$f":"IFERROR(VLOOKUP(E1249,Nota_Fiscal!$G$4:$L$1000,6,0),\"\")","v":""}]
[null,null,{"$f":"IFERROR(VLOOKUP(A1250,Insumos!A:B,2,FALSE),\"\")","v":""},null,null,null,null,{"$f":"IFERROR(VLOOKUP(E1250,Nota_Fiscal!$G$4:$L$1000,6,0),\"\")","v":""}]
[null,null,{"$f":"IFERROR(VLOOKUP(A1251,Insumos!A:B,2,FALSE),\"\")","v":""},null,null,null,null,{"$f":"IFERROR(VLOOKUP(E1251,Nota_Fiscal!$G$4:$L$1000,6,0),\"\")","v":""}]
[null,null,{"$f":"IFERROR(VLOOKUP(A1252,Insumos!A:B,2,FALSE),\"\")","v":""},null,null,null,null,{"$f":"IFERROR(VLOOKUP(E1252,Nota_Fiscal!$G$4:$L$1000,6,0),\"\")","v":""}]
[null,null,{"$f":"IFERROR(VLOOKUP(A1253,Insumos!A:B,2,FALSE),\"\")","v":""},null,null,null,null,{"$f":"IFERROR(VLOOKUP(E1253,Nota_Fiscal!$G$4:$L$1000,6,0),\"\")","v":""}]
[null,null,{"$f":"IFERROR(VLOOKUP(A1254,Insumos!A:B,2,FALSE),\"\")","v":""},null,null,null,null,{"$f":"IFERROR(VLOOKUP(E1254,Nota_Fiscal!$G$4:$L$1000,6,0),\"\")","v":""}]
[null,null,{"$f":"IFERROR(VLOOKUP(A1255,Insumos!A:B,2,FALSE),\"\")","v":""},null,null,null,null,{"$f":"IFERROR(VLOOKUP(E1255,Nota_Fiscal!$G$4:$L$1000,6,0),\"\")","v":""}]
[null,null,{"$f":"IFERROR(VLOOKUP(A1256,Insumos!A:B,2,FALSE),\"\")","v":""},null,null,null,null,{"$f":"IFERROR(VLOOKUP(E1256,Nota_Fiscal!$G$4:$L$1000,6,0),\"\")","v":""}]
[null,null,{"$f":"IFERROR(VLOOKUP(A1257,Insumos!A:B,2,FALSE),\"\")","v":""},null,null,null,null,{"$f":"IFERROR(VLOOKUP(E1257,Nota_Fiscal!$G$4:$L$1000,6,0),\"\")","v":""}]
[null,null,{"$f":"IFERROR(VLOOKUP(A1258,Insumos!A:B,2,FALSE),\"\")","v":""},null,null,null,null,{"$f":"IFERROR(VLOOKUP(E1258,Nota_Fiscal!$G$4:$L$1000,6,0),\"\")","v":""}]
[null,null,{"$f":"IFERROR(VLOOKUP(A1259,Insumos!A:B,2,FALSE),\"\")","v":""},null,null,null,null,{"$f":"IFERROR(VLOOKUP(E1259,Nota_Fiscal!$G$4:$L$1000,6,0),\"\")","v":""}]
[null,null,{"$f":"IFERROR(VLOOKUP(A1260,Insumos!A:B,2,FALSE),\"\")","v":""},null,null,null,null,{"$f":"IFERROR(VLOOKUP(E1260,Nota_Fiscal!$G$4:$L$1000,6,0),\"\")","v":""}]
[null,null,{"$f":"IFERROR(VLOOKUP(A1261,Insumos!A:B,2,FALSE),\"\")","v":""},null,null,null,null,{"$f":"IFERROR(VLOOKUP(E1261,Nota_Fiscal!$G$4:$L$1000,6,0),\"\")","v":""}]
[null,null,{"$f":"IFERROR(VLOOKUP(A1262,Insumos!A:B,2,FALSE),\"\")","v":""},null,null,null,null,{"$f":"IFERROR(VLOOKUP(E1262,Nota_Fiscal!$G$4:$L$1000,6,0),\"\")","v":""}]
[null,null,{"$f":"IFERROR(VLOOKUP(A1263,Insumos!A:B,2,FALSE),\"\")","v":""},null,null,null,null,{"$f":"IFERROR(VLOOKUP(E1263,Nota_Fiscal!$G$4:$L$1000,6,0),\"\")","v":""}]
[null,null,{"$f":"IFERROR(VLOOKUP(A1264,Insumos!A:B,2,FALSE),\"\")","v":""},null,null,null,null,{"$f":"IFERROR(VLOOKUP(E1264,Nota_Fiscal!$G$4:$L$1000,6,0),\"\")","v":""}]
[null,null,{"$f":"IFERROR(VLOOKUP(A1265,Insumos!A:B,2,FALSE),\"\")","v":""},null,null,null,null,{"$f":"IFERROR(VLOOKUP(E1265,Nota_Fiscal!$G$4:$L$1000,6,0),\"\")","v":""}]
[null,null,{"$f":"IFERROR(VLOOKUP(A1266,Insumos!A:B,2,FALSE),\"\")","v":""},null,null,null,null,{"$f":"IFERROR(VLOOKUP(E1266,Nota_Fiscal!$G$4:$L$1000,6,0),\"\")","v":""}]
[null,null,{"$f":"IFERROR(VLOOKUP(A1267,Insumos!A:B,2,FALSE),\"\")","v":""},null,null,null,null,{"$f":"IFERROR(VLOOKUP(E1267,Nota_Fiscal!$G$4:$L$1000,6,0),\"\")","v":""}]
[null,null,{"$f":"IFERROR(VLOOKUP(A1268,Insumos!A:B,2,FALSE),\"\")","v":""},null,null,null,null,{"$f":"IFERROR(VLOOKUP(E1268,Nota_Fiscal!$G$4:$L$1000,6,0),\"\")","v":""}]
[null,null,{"$f":"IFERROR(VLOOKUP(A1269,Insumos!A:B,2,FALSE),\"\")","v":""},null,null,null,null,{"$f":"IFERROR(VLOOKUP(E1269,Nota_Fiscal!$G$4:$L$1000,6,0),\"\")","v":""}]
[null,null,{"$f":"IFERROR(VLOOKUP(A1270,Insumos!A:B,2,FALSE),\"\")","v":""},null,null,null,null,{"$f":"IFERROR(VLOOKUP(E1270,Nota_Fiscal!$G$4:$L$1000,6,0),\"\")","v":""}]
[null,null,{"$f":"IFERROR(VLOOKUP(A1271,Insumos!A:B,2,FALSE),\"\")","v":""},null,null,null,null,{"$f":"IFERROR(VLOOKUP(E1271,Nota_Fiscal!$G$4:$L$1000,6,0),\"\")","v":""}]
[null,null,{"$f":"IFERROR(VLOOKUP(A1272,Insumos!A:B,2,FALSE),\"\")","v":""},null,null,null,null,{"$f":"IFERROR(VLOOKUP(E1272,Nota_Fiscal!$G$4:$L$1000,6,0),\"\")","v":""}]
[null,null,{"$f":"IFERROR(VLOOKUP(A1273,Insumos!A:B,2,FALSE),\"\")","v":""},null,null,null,null,{"$f":"IFERROR(VLOOKUP(E1273,Nota_Fiscal!$G$4:$L$1000,6,0),\"\")","v":""}]
[null,null,{"$f":"IFERROR(VLOOKUP(A1274,Insumos!A:B,2,FALSE),\"\")","v":""},null,null,null,null,{"$f":"IFERROR(VLOOKUP(E1274,Nota_Fiscal!$G$4:$L$1000,6,0),\"\")","v":""}]
[null,null,{"$f":"IFERROR(VLOOKUP(A1275,Insumos!A:B,2,FALSE),\"\")","v":""},null,null,null,null,{"$f":"IFERROR(VLOOKUP(E1275,Nota_Fiscal!$G$4:$L$1000,6,0),\"\")","v":""}]
[null,null,{"$f":"IFERROR(VLOOKUP(A1276,Insumos!A:B,2,FALSE),\"\")","v":""},null,null,null,null,{"$f":"IFERROR(VLOOKUP(E1276,Nota_Fiscal!$G$4:$L$1000,6,0),\"\")","v":""}]
[null,null,{"$f":"IFERROR(VLOOKUP(A1277,Insumos!A:B,2,FALSE),\"\")","v":""},null,null,null,null,{"$f":"IFERROR(VLOOKUP(E1277,Nota_Fiscal!$G$4:$L$1000,6,0),\"\")","v":""}]
[null,null,{"$f":"IFERROR(VLOOKUP(A1278,Insumos!A:B,2,FALSE),\"\")","v":""},null,null,null,null,{"$f":"IFERROR(VLOOKUP(E1278,Nota_Fiscal!$G$4:$L$1000,6,0),\"\")","v":""}]
[null,null,{"$f":"IFERROR(VLOOKUP(A1279,Insumos!A:B,2,FALSE),\"\")","v":""},null,null,null,null,{"$f":"IFERROR(VLOOKUP(E1279,Nota_Fiscal!$G$4:$L$1000,6,0),\"\")","v":""}]
[null,null,{"$f":"IFERROR(VLOOKUP(A1280,Insumos!A:B,2,FALSE),\"\")","v":""},null,null,null,null,{"$f":"IFERROR(VLOOKUP(E1280,Nota_Fiscal!$G$4:$L$1000,6,0),\"\")","v":""}]
[null,null,{"$f":"IFERROR(VLOOKUP(A1281,Insumos!A:B,2,FALSE),\"\")","v":""},null,null,null,null,{"$f":"IFERROR(VLOOKUP(E1281,Nota_Fiscal!$G$4:$L$1000,6,0),\"\")","v":""}]
[null,null,{"$f":"IFERROR(VLOOKUP(A1282,Insumos!A:B,2,FALSE),\"\")","v":""},null,null,null,null,{"$f":"IFERROR(VLOOKUP(E1282,Nota_Fiscal!$G$4:$L$1000,6,0),\"\")","v":""}]
[null,null,{"$f":"IFERROR(VLOOKUP(A1283,Insumos!A:B,2,FALSE),\"\")","v":""},null,null,null,null,{"$f":"IFERROR(VLOOKUP(E1283,Nota_Fiscal!$G$4:$L$1000,6,0),\"\")","v":""}]
[null,null,{"$f":"IFERROR(VLOOKUP(A1284,Insumos!A:B,2,FALSE),\"\")","v":""},null,null,null,null,{"$f":"IFERROR(VLOOKUP(E1284,Nota_Fiscal!$G$4:$L$1000,6,0),\"\")","v":""}]
[null,null,{"$f":"IFERROR(VLOOKUP(A1285,Insumos!A:B,2,FALSE),\"\")","v":""},null,null,null,null,{"$f":"IFERROR(VLOOKUP(E1285,Nota_Fiscal!$G$4:$L$1000,6,0),\"\")","v":""}]
[null,null,{"$f":"IFERROR(VLOOKUP(A1286,Insumos!A:B,2,FALSE),\"\")","v":""},null,null,null,null,{"$f":"IFERROR(VLOOKUP(E1286,Nota_Fiscal!$G$4:$L$1000,6,0),\"\")","v":""}]
[null,null,{"$f":"IFERROR(VLOOKUP(A1287,Insumos!A:B,2,FALSE),\"\")","v":""},null,null,null,null,{"$f":"IFERROR(VLOOKUP(E1287,Nota_Fiscal!$G$4:$L$1000,6,0),\"\")","v":""}]
[null,null,{"$f":"IFERROR(VLOOKUP(A1288,Insumos!A:B,2,FALSE),\"\")","v":""},null,null,null,null,{"$f":"IFERROR(VLOOKUP(E1288,Nota_Fiscal!$G$4:$L$1000,6,0),\"\")","v":""}]
[null,null,{"$f":"IFERROR(VLOOKUP(A1289,Insumos!A:B,2,FALSE),\"\")","v":""},null,null,null,null,{"$f":"IFERROR(VLOOKUP(E1289,Nota_Fiscal!$G$4:$L$1000,6,0),\"\")","v":""}]
[null,null,{"$f":"IFERROR(VLOOKUP(A1290,Insumos!A:B,2,FALSE),\"\")","v":""},null,null,null,null,{"$f":"IFERROR(VLOOKUP(E1290,Nota_Fiscal!$G$4:$L$1000,6,0),\"\")","v":""}]
[null,null,{"$f":"IFERROR(VLOOKUP(A1291,Insumos!A:B,2,FALSE),\"\")","v":""},null,null,null,null,{"$f":"IFERROR(VLOOKUP(E1291,Nota_Fiscal!$G$4:$L$1000,6,0),\"\")","v":""}]
[null,null,{"$f":"IFERROR(VLOOKUP(A1292,Insumos!A:B,2,FALSE),\"\")","v":""},null,null,null,null,{"$f":"IFERROR(VLOOKUP(E1292,Nota_Fiscal!$G$4:$L$1000,6,0),\"\")","v":""}]
[null,null,{"$f":"IFERROR(VLOOKUP(A1293,Insumos!A:B,2,FALSE),\"\")","v":""},null,null,null,null,{"$f":"IFERROR(VLOOKUP(E1293,Nota_Fiscal!$G$4:$L$1000,6,0),\"\")","v":""}]
[null,null,{"$f":"IFERROR(VLOOKUP(A1294,Insumos!A:B,2,FALSE),\"\")","v":""},null,null,null,null,{"$f":"IFERROR(VLOOKUP(E1294,Nota_Fiscal!$G$4:$L$1000,6,0),\"\")","v":""}]
[null,null,{"$f":"IFERROR(VLOOKUP(A1295,Insumos!A:B,2,FALSE),\"\")","v":""},null,null,null,null,{"$f":"IFERROR(VLOOKUP(E1295,Nota_Fiscal!$G$4:$L$1000,6,0),\"\")","v":""}]
[null,null,{"$f":"IFERROR(VLOOKUP(A1296,Insumos!A:B,2,FALSE),\"\")","v":""},null,null,null,null,{"$f":"IFERROR(VLOOKUP(E1296,Nota_Fiscal!$G$4:$L$1000,6,0),\"\")","v":""}]
[null,null,{"$f":"IFERROR(VLOOKUP(A1297,Insumos!A:B,2,FALSE),\"\")","v":""},null,null,null,null,{"$f":"IFERROR(VLOOKUP(E1297,Nota_Fiscal!$G$4:$L$1000,6,0),\"\")","v":""}]
[null,null,{"$f":"IFERROR(VLOOKUP(A1298,Insumos!A:B,2,FALSE),\"\")","v":""},null,null,null,null,{"$f":"IFERROR(VLOOKUP(E1298,Nota_Fiscal!$G$4:$L$1000,6,0),\"\")","v":""}]
[null,null,{"$f":"IFERROR(VLOOKUP(A1299,Insumos!A:B,2,FALSE),\"\")","v":""},null,null,null,null,{"$f":"IFERROR(VLOOKUP(E1299,Nota_Fiscal!$G$4:$L$1000,6,0),\"\")","v":""}]
[null,null,{"$f":"IFERROR(VLOOKUP(A1300,Insumos!A:B,2,FALSE),\"\")","v":""},null,null,null,null,{"$f":"IFERROR(VLOOKUP(E1300,Nota_Fiscal!$G$4:$L$1000,6,0),\"\")","v":""}]
[null,null,{"$f":"IFERROR(VLOOKUP(A1301,Insumos!A:B,2,FALSE),\"\")","v":""},null,null,null,null,{"$f":"IFERROR(VLOOKUP(E1301,Nota_Fiscal!$G$4:$L$1000,6,0),\"\")","v":""}]
[null,null,{"$f":"IFERROR(VLOOKUP(A1302,Insumos!A:B,2,FALSE),\"\")","v":""},null,null,null,null,{"$f":"IFERROR(VLOOKUP(E1302,Nota_Fiscal!$G$4:$L$1000,6,0),\"\")","v":""}]
[null,null,{"$f":"IFERROR(VLOOKUP(A1303,Insumos!A:B,2,FALSE),\"\")","v":""},null,null,null,null,{"$f":"IFERROR(VLOOKUP(E1303,Nota_Fiscal!$G$4:$L$1000,6,0),\"\")","v":""}]
[null,null,{"$f":"IFERROR(VLOOKUP(A1304,Insumos!A:B,2,FALSE),\"\")","v":""},null,null,null,null,{"$f":"IFERROR(VLOOKUP(E1304,Nota_Fiscal!$G$4:$L$1000,6,0),\"\")","v":""}]
[null,null,{"$f":"IFERROR(VLOOKUP(A1305,Insumos!A:B,2,FALSE),\"\")","v":""},null,null,null,null,{"$f":"IFERROR(VLOOKUP(E1305,Nota_Fiscal!$G$4:$L$1000,6,0),\"\")","v":""}]
[null,null,{"$f":"IFERROR(VLOOKUP(A1306,Insumos!A:B,2,FALSE),\"\")","v":""},null,null,null,null,{"$f":"IFERROR(VLOOKUP(E1306,Nota_Fiscal!$G$4:$L$1000,6,0),\"\")","v":""}]
[null,null,{"$f":"IFERROR(VLOOKUP(A1307,Insumos!A:B,2,FALSE),\"\")","v":""},null,null,null,null,{"$f":"IFERROR(VLOOKUP(E1307,Nota_Fiscal!$G$4:$L$1000,6,0),\"\")","v":""}]
[null,null,{"$f":"IFERROR(VLOOKUP(A1308,Insumos!A:B,2,FALSE),\"\")","v":""},null,null,null,null,{"$f":"IFERROR(VLOOKUP(E1308,Nota_Fiscal!$G$4:$L$1000,6,0),\"\")","v":""}]
[null,null,{"$f":"IFERROR(VLOOKUP(A1309,Insumos!A:B,2,FALSE),\"\")","v":""},null,null,null,null,{"$f":"IFERROR(VLOOKUP(E1309,Nota_Fiscal!$G$4:$L$1000,6,0),\"\")","v":""}]
[null,null,{"$f":"IFERROR(VLOOKUP(A1310,Insumos!A:B,2,FALSE),\"\")","v":""},null,null,null,null,{"$f":"IFERROR(VLOOKUP(E1310,Nota_Fiscal!$G$4:$L$1000,6,0),\"\")","v":""}]
[null,null,{"$f":"IFERROR(VLOOKUP(A1311,Insumos!A:B,2,FALSE),\"\")","v":""},null,null,null,null,{"$f":"IFERROR(VLOOKUP(E1311,Nota_Fiscal!$G$4:$L$1000,6,0),\"\")","v":""}]
[null,null,{"$f":"IFERROR(VLOOKUP(A1312,Insumos!A:B,2,FALSE),\"\")","v":""},null,null,null,null,{"$f":"IFERROR(VLOOKUP(E1312,Nota_Fiscal!$G$4:$L$1000,6,0),\"\")","v":""}]
[null,null,{"$f":"IFERROR(VLOOKUP(A1313,Insumos!A:B,2,FALSE),\"\")","v":""},null,null,null,null,{"$f":"IFERROR(VLOOKUP(E1313,Nota_Fiscal!$G$4:$L$1000,6,0),\"\")","v":""}]
[null,null,{"$f":"IFERROR(VLOOKUP(A1314,Insumos!A:B,2,FALSE),\"\")","v":""},null,null,null,null,{"$f":"IFERROR(VLOOKUP(E1314,Nota_Fiscal!$G$4:$L$1000,6,0),\"\")","v":""}]
[null,null,{"$f":"IFERROR(VLOOKUP(A1315,Insumos!A:B,2,FALSE),\"\")","v":""},null,null,null,null,{"$f":"IFERROR(VLOOKUP(E1315,Nota_Fiscal!$G$4:$L$1000,6,0),\"\")","v":""}]
[null,null,{"$f":"IFERROR(VLOOKUP(A1316,Insumos!A:B,2,FALSE),\"\")","v":""},null,null,null,null,{"$f":"IFERROR(VLOOKUP(E1316,Nota_Fiscal!$G$4:$L$1000,6,0),\"\")","v":""}]
[null,null,{"$f":"IFERROR(VLOOKUP(A1317,Insumos!A:B,2,FALSE),\"\")","v":""},null,null,null,null,{"$f":"IFERROR(VLOOKUP(E1317,Nota_Fiscal!$G$4:$L$1000,6,0),\"\")","v":""}]
[null,null,{"$f":"IFERROR(VLOOKUP(A1318,Insumos!A:B,2,FALSE),\"\")","v":""},null,null,null,null,{"$f":"IFERROR(VLOOKUP(E1318,Nota_Fiscal!$G$4:$L$1000,6,0),\"\")","v":""}]
[null,null,{"$f":"IFERROR(VLOOKUP(A1319,Insumos!A:B,2,FALSE),\"\")","v":""},null,null,null,null,{"$f":"IFERROR(VLOOKUP(E1319,Nota_Fiscal!$G$4:$L$1000,6,0),\"\")","v":""}]
[null,null,{"$f":"IFERROR(VLOOKUP(A1320,Insumos!A:B,2,FALSE),\"\")","v":""},null,null,null,null,{"$f":"IFERROR(VLOOKUP(E1320,Nota_Fiscal!$G$4:$L$1000,6,0),\"\")","v":""}]
[null,null,{"$f":"IFERROR(VLOOKUP(A1321,Insumos!A:B,2,FALSE),\"\")","v":""},null,null,null,null,{"$f":"IFERROR(VLOOKUP(E1321,Nota_Fiscal!$G$4:$L$1000,6,0),\"\")","v":""}]
[null,null,{"$f":"IFERROR(VLOOKUP(A1322,Insumos!A:B,2,FALSE),\"\")","v":""},null,null,null,null,{"$f":"IFERROR(VLOOKUP(E1322,Nota_Fiscal!$G$4:$L$1000,6,0),\"\")","v":""}]
[null,null,{"$f":"IFERROR(VLOOKUP(A1323,Insumos!A:B,2,FALSE),\"\")","v":""},null,null,null,null,{"$f":"IFERROR(VLOOKUP(E1323,Nota_Fiscal!$G$4:$L$1000,6,0),\"\")","v":""}]
[null,null,{"$f":"IFERROR(VLOOKUP(A1324,Insumos!A:B,2,FALSE),\"\")","v":""},null,null,null,null,{"$f":"IFERROR(VLOOKUP(E1324,Nota_Fiscal!$G$4:$L$1000,6,0),\"\")","v":""}]
[null,null,{"$f":"IFERROR(VLOOKUP(A1325,Insumos!A:B,2,FALSE),\"\")","v":""},null,null,null,null,{"$f":"IFERROR(VLOOKUP(E1325,Nota_Fiscal!$G$4:$L$1000,6,0),\"\")","v":""}]
[null,null,{"$f":"IFERROR(VLOOKUP(A1326,Insumos!A:B,2,FALSE),\"\")","v":""},null,null,null,null,{"$f":"IFERROR(VLOOKUP(E1326,Nota_Fiscal!$G$4:$L$1000,6,0),\"\")","v":""}]
[null,null,{"$f":"IFERROR(VLOOKUP(A1327,Insumos!A:B,2,FALSE),\"\")","v":""},null,null,null,null,{"$f":"IFERROR(VLOOKUP(E1327,Nota_Fiscal!$G$4:$L$1000,6,0),\"\")","v":""}]
[null,null,{"$f":"IFERROR(VLOOKUP(A1328,Insumos!A:B,2,FALSE),\"\")","v":""},null,null,null,null,{"$f":"IFERROR(VLOOKUP(E1328,Nota_Fiscal!$G$4:$L$1000,6,0),\"\")","v":""}]
[null,null,{"$f":"IFERROR(VLOOKUP(A1329,Insumos!A:B,2,FALSE),\"\")","v":""},null,null,null,null,{"$f":"IFERROR(VLOOKUP(E1329,Nota_Fiscal!$G$4:$L$1000,6,0),\"\")","v":""}]
[null,null,{"$f":"IFERROR(VLOOKUP(A1330,Insumos!A:B,2,FALSE),\"\")","v":""},null,null,null,null,{"$f":"IFERROR(VLOOKUP(E1330,Nota_Fiscal!$G$4:$L$1000,6,0),\"\")","v":""}]
[null,null,{"$f":"IFERROR(VLOOKUP(A1331,Insumos!A:B,2,FALSE),\"\")","v":""},null,null,null,null,{"$f":"IFERROR(VLOOKUP(E1331,Nota_Fiscal!$G$4:$L$1000,6,0),\"\")","v":""}]
[null,null,{"$f":"IFERROR(VLOOKUP(A1332,Insumos!A:B,2,FALSE),\"\")","v":""},null,null,null,null,{"$f":"IFERROR(VLOOKUP(E1332,Nota_Fiscal!$G$4:$L$1000,6,0),\"\")","v":""}]
[null,null,{"$f":"IFERROR(VLOOKUP(A1333,Insumos!A:B,2,FALSE),\"\")","v":""},null,null,null,null,{"$f":"IFERROR(VLOOKUP(E1333,Nota_Fiscal!$G$4:$L$1000,6,0),\"\")","v":""}]
[null,null,{"$f":"IFERROR(VLOOKUP(A1334,Insumos!A:B,2,FALSE),\"\")","v":""},null,null,null,null,{"$f":"IFERROR(VLOOKUP(E1334,Nota_Fiscal!$G$4:$L$1000,6,0),\"\")","v":""}]
[null,null,{"$f":"IFERROR(VLOOKUP(A1335,Insumos!A:B,2,FALSE),\"\")","v":""},null,null,null,null,{"$f":"IFERROR(VLOOKUP(E1335,Nota_Fiscal!$G$4:$L$1000,6,0),\"\")","v":""}]
[null,null,{"$f":"IFERROR(VLOOKUP(A1336,Insumos!A:B,2,FALSE),\"\")","v":""},null,null,null,null,{"$f":"IFERROR(VLOOKUP(E1336,Nota_Fiscal!$G$4:$L$1000,6,0),\"\")","v":""}]
[null,null,{"$f":"IFERROR(VLOOKUP(A1337,Insumos!A:B,2,FALSE),\"\")","v":""},null,null,null,null,{"$f":"IFERROR(VLOOKUP(E1337,Nota_Fiscal!$G$4:$L$1000,6,0),\"\")","v":""}]
[null,null,{"$f":"IFERROR(VLOOKUP(A1338,Insumos!A:B,2,FALSE),\"\")","v":""},null,null,null,null,{"$f":"IFERROR(VLOOKUP(E1338,Nota_Fiscal!$G$4:$L$1000,6,0),\"\")","v":""}]
[null,null,{"$f":"IFERROR(VLOOKUP(A1339,Insumos!A:B,2,FALSE),\"\")","v":""},null,null,null,null,{"$f":"IFERROR(VLOOKUP(E1339,Nota_Fiscal!$G$4:$L$1000,6,0),\"\")","v":""}]
[null,null,{"$f":"IFERROR(VLOOKUP(A1340,Insumos!A:B,2,FALSE),\"\")","v":""},null,null,null,null,{"$f":"IFERROR(VLOOKUP(E1340,Nota_Fiscal!$G$4:$L$1000,6,0),\"\")","v":""}]
[null,null,{"$f":"IFERROR(VLOOKUP(A1341,Insumos!A:B,2,FALSE),\"\")","v":""},null,null,null,null,{"$f":"IFERROR(VLOOKUP(E1341,Nota_Fiscal!$G$4:$L$1000,6,0),\"\")","v":""}]
[null,null,{"$f":"IFERROR(VLOOKUP(A1342,Insumos!A:B,2,FALSE),\"\")","v":""},null,null,null,null,{"$f":"IFERROR(VLOOKUP(E1342,Nota_Fiscal!$G$4:$L$1000,6,0),\"\")","v":""}]
[null,null,{"$f":"IFERROR(VLOOKUP(A1343,Insumos!A:B,2,FALSE),\"\")","v":""},null,null,null,null,{"$f":"IFERROR(VLOOKUP(E1343,Nota_Fiscal!$G$4:$L$1000,6,0),\"\")","v":""}]
[null,null,{"$f":"IFERROR(VLOOKUP(A1344,Insumos!A:B,2,FALSE),\"\")","v":""},null,null,null,null,{"$f":"IFERROR(VLOOKUP(E1344,Nota_Fiscal!$G$4:$L$1000,6,0),\"\")","v":""}]
[null,null,{"$f":"IFERROR(VLOOKUP(A1345,Insumos!A:B,2,FALSE),\"\")","v":""},null,null,null,null,{"$f":"IFERROR(VLOOKUP(E1345,Nota_Fiscal!$G$4:$L$1000,6,0),\"\")","v":""}]
[null,null,{"$f":"IFERROR(VLOOKUP(A1346,Insumos!A:B,2,FALSE),\"\")","v":""},null,null,null,null,{"$f":"IFERROR(VLOOKUP(E1346,Nota_Fiscal!$G$4:$L$1000,6,0),\"\")","v":""}]
[null,null,{"$f":"IFERROR(VLOOKUP(A1347,Insumos!A:B,2,FALSE),\"\")","v":""},null,null,null,null,{"$f":"IFERROR(VLOOKUP(E1347,Nota_Fiscal!$G$4:$L$1000,6,0),\"\")","v":""}]
[null,null,{"$f":"IFERROR(VLOOKUP(A1348,Insumos!A:B,2,FALSE),\"\")","v":""},null,null,null,null,{"$f":"IFERROR(VLOOKUP(E1348,Nota_Fiscal!$G$4:$L$1000,6,0),\"\")","v":""}]
[null,null,{"$f":"IFERROR(VLOOKUP(A1349,Insumos!A:B,2,FALSE),\"\")","v":""},null,null,null,null,{"$f":"IFERROR(VLOOKUP(E1349,Nota_Fiscal!$G$4:$L$1000,6,0),\"\")","v":""}]
[null,null,{"$f":"IFERROR(VLOOKUP(A1350,Insumos!A:B,2,FALSE),\"\")","v":""},null,null,null,null,{"$f":"IFERROR(VLOOKUP(E1350,Nota_Fiscal!$G$4:$L$1000,6,0),\"\")","v":""}]
[null,null,{"$f":"IFERROR(VLOOKUP(A1351,Insumos!A:B,2,FALSE),\"\")","v":""},null,null,null,null,{"$f":"IFERROR(VLOOKUP(E1351,Nota_Fiscal!$G$4:$L$1000,6,0),\"\")","v":""}]
[null,null,{"$f":"IFERROR(VLOOKUP(A1352,Insumos!A:B,2,FALSE),\"\")","v":""},null,null,null,null,{"$f":"IFERROR(VLOOKUP(E1352,Nota_Fiscal!$G$4:$L$1000,6,0),\"\")","v":""}]
[null,null,{"$f":"IFERROR(VLOOKUP(A1353,Insumos!A:B,2,FALSE),\"\")","v":""},null,null,null,null,{"$f":"IFERROR(VLOOKUP(E1353,Nota_Fiscal!$G$4:$L$1000,6,0),\"\")","v":""}]
[null,null,{"$f":"IFERROR(VLOOKUP(A1354,Insumos!A:B,2,FALSE),\"\")","v":""},null,null,null,null,{"$f":"IFERROR(VLOOKUP(E1354,Nota_Fiscal!$G$4:$L$1000,6,0),\"\")","v":""}]
[null,null,{"$f":"IFERROR(VLOOKUP(A1355,Insumos!A:B,2,FALSE),\"\")","v":""},null,null,null,null,{"$f":"IFERROR(VLOOKUP(E1355,Nota_Fiscal!$G$4:$L$1000,6,0),\"\")","v":""}]
[null,null,{"$f":"IFERROR(VLOOKUP(A1356,Insumos!A:B,2,FALSE),\"\")","v":""},null,null,null,null,{"$f":"IFERROR(VLOOKUP(E1356,Nota_Fiscal!$G$4:$L$1000,6,0),\"\")","v":""}]
[null,null,{"$f":"IFERROR(VLOOKUP(A1357,Insumos!A:B,2,FALSE),\"\")","v":""},null,null,null,null,{"$f":"IFERROR(VLOOKUP(E1357,Nota_Fiscal!$G$4:$L$1000,6,0),\"\")","v":""}]
[null,null,{"$f":"IFERROR(VLOOKUP(A1358,Insumos!A:B,2,FALSE),\"\")","v":""},null,null,null,null,{"$f":"IFERROR(VLOOKUP(E1358,Nota_Fiscal!$G$4:$L$1000,6,0),\"\")","v":""}]
[null,null,{"$f":"IFERROR(VLOOKUP(A1359,Insumos!A:B,2,FALSE),\"\")","v":""},null,null,null,null,{"$f":"IFERROR(VLOOKUP(E1359,Nota_Fiscal!$G$4:$L$1000,6,0),\"\")","v":""}]
[null,null,{"$f":"IFERROR(VLOOKUP(A1360,Insumos!A:B,2,FALSE),\"\")","v":""},null,null,null,null,{"$f":"IFERROR(VLOOKUP(E1360,Nota_Fiscal!$G$4:$L$1000,6,0),\"\")","v":""}]
[null,null,{"$f":"IFERROR(VLOOKUP(A1361,Insumos!A:B,2,FALSE),\"\")","v":""},null,null,null,null,{"$f":"IFERROR(VLOOKUP(E1361,Nota_Fiscal!$G$4:$L$1000,6,0),\"\")","v":""}]
[null,null,{"$f":"IFERROR(VLOOKUP(A1362,Insumos!A:B,2,FALSE),\"\")","v":""},null,null,null,null,{"$f":"IFERROR(VLOOKUP(E1362,Nota_Fiscal!$G$4:$L$1000,6,0),\"\")","v":""}]
[null,null,{"$f":"IFERROR(VLOOKUP(A1363,Insumos!A:B,2,FALSE),\"\")","v":""},null,null,null,null,{"$f":"IFERROR(VLOOKUP(E1363,Nota_Fiscal!$G$4:$L$1000,6,0),\"\")","v":""}]
[null,null,{"$f":"IFERROR(VLOOKUP(A1364,Insumos!A:B,2,FALSE),\"\")","v":""},null,null,null,null,{"$f":"IFERROR(VLOOKUP(E1364,Nota_Fiscal!$G$4:$L$1000,6,0),\"\")","v":""}]
[null,null,{"$f":"IFERROR(VLOOKUP(A1365,Insumos!A:B,2,FALSE),\"\")","v":""},null,null,null,null,{"$f":"IFERROR(VLOOKUP(E1365,Nota_Fiscal!$G$4:$L$1000,6,0),\"\")","v":""}]
[null,null,{"$f":"IFERROR(VLOOKUP(A1366,Insumos!A:B,2,FALSE),\"\")","v":""},null,null,null,null,{"$f":"IFERROR(VLOOKUP(E1366,Nota_Fiscal!$G$4:$L$1000,6,0),\"\")","v":""}]
[null,null,{"$f":"IFERROR(VLOOKUP(A1367,Insumos!A:B,2,FALSE),\"\")","v":""},null,null,null,null,{"$f":"IFERROR(VLOOKUP(E1367,Nota_Fiscal!$G$4:$L$1000,6,0),\"\")","v":""}]
[null,null,{"$f":"IFERROR(VLOOKUP(A1368,Insumos!A:B,2,FALSE),\"\")","v":""},null,null,null,null,{"$f":"IFERROR(VLOOKUP(E1368,Nota_Fiscal!$G$4:$L$1000,6,0),\"\")","v":""}]
[null,null,{"$f":"IFERROR(VLOOKUP(A1369,Insumos!A:B,2,FALSE),\"\")","v":""},null,null,null,null,{"$f":"IFERROR(VLOOKUP(E1369,Nota_Fiscal!$G$4:$L$1000,6,0),\"\")","v":""}]
[null,null,{"$f":"IFERROR(VLOOKUP(A1370,Insumos!A:B,2,FALSE),\"\")","v":""},null,null,null,null,{"$f":"IFERROR(VLOOKUP(E1370,Nota_Fiscal!$G$4:$L$1000,6,0),\"\")","v":""}]
[null,null,{"$f":"IFERROR(VLOOKUP(A1371,Insumos!A:B,2,FALSE),\"\")","v":""},null,null,null,null,{"$f":"IFERROR(VLOOKUP(E1371,Nota_Fiscal!$G$4:$L$1000,6,0),\"\")","v":""}]
[null,null,{"$f":"IFERROR(VLOOKUP(A1372,Insumos!A:B,2,FALSE),\"\")","v":""},null,null,null,null,{"$f":"IFERROR(VLOOKUP(E1372,Nota_Fiscal!$G$4:$L$1000,6,0),\"\")","v":""}]
[null,null,{"$f":"IFERROR(VLOOKUP(A1373,Insumos!A:B,2,FALSE),\"\")","v":""},null,null,null,null,{"$f":"IFERROR(VLOOKUP(E1373,Nota_Fiscal!$G$4:$L$1000,6,0),\"\")","v":""}]
[null,null,{"$f":"IFERROR(VLOOKUP(A1374,Insumos!A:B,2,FALSE),\"\")","v":""},null,null,null,null,{"$f":"IFERROR(VLOOKUP(E1374,Nota_Fiscal!$G$4:$L$1000,6,0),\"\")","v":""}]
[null,null,{"$f":"IFERROR(VLOOKUP(A1375,Insumos!A:B,2,FALSE),\"\")","v":""},null,null,null,null,{"$f":"IFERROR(VLOOKUP(E1375,Nota_Fiscal!$G$4:$L$1000,6,0),\"\")","v":""}]
[null,null,{"$f":"IFERROR(VLOOKUP(A1376,Insumos!A:B,2,FALSE),\"\")","v":""},null,null,null,null,{"$f":"IFERROR(VLOOKUP(E1376,Nota_Fiscal!$G$4:$L$1000,6,0),\"\")","v":""}]
[null,null,{"$f":"IFERROR(VLOOKUP(A1377,Insumos!A:B,2,FALSE),\"\")","v":""},null,null,null,null,{"$f":"IFERROR(VLOOKUP(E1377,Nota_Fiscal!$G$4:$L$1000,6,0),\"\")","v":""}]
[null,null,{"$f":"IFERROR(VLOOKUP(A1378,Insumos!A:B,2,FALSE),\"\")","v":""},null,null,null,null,{"$f":"IFERROR(VLOOKUP(E1378,Nota_Fiscal!$G$4:$L$1000,6,0),\"\")","v":""}]
[null,null,{"$f":"IFERROR(VLOOKUP(A1379,Insumos!A:B,2,FALSE),\"\")","v":""},null,null,null,null,{"$f":"IFERROR(VLOOKUP(E1379,Nota_Fiscal!$G$4:$L$1000,6,0),\"\")","v":""}]
[null,null,{"$f":"IFERROR(VLOOKUP(A1380,Insumos!A:B,2,FALSE),\"\")","v":""},null,null,null,null,{"$f":"IFERROR(VLOOKUP(E1380,Nota_Fiscal!$G$4:$L$1000,6,0),\"\")","v":""}]
[null,null,{"$f":"IFERROR(VLOOKUP(A1381,Insumos!A:B,2,FALSE),\"\")","v":""},null,null,null,null,{"$f":"IFERROR(VLOOKUP(E1381,Nota_Fiscal!$G$4:$L$1000,6,0),\"\")","v":""}]
[null,null,{"$f":"IFERROR(VLOOKUP(A1382,Insumos!A:B,2,FALSE),\"\")","v":""},null,null,null,null,{"$f":"IFERROR(VLOOKUP(E1382,Nota_Fiscal!$G$4:$L$1000,6,0),\"\")","v":""}]
[null,null,{"$f":"IFERROR(VLOOKUP(A1383,Insumos!A:B,2,FALSE),\"\")","v":""},null,null,null,null,{"$f":"IFERROR(VLOOKUP(E1383,Nota_Fiscal!$G$4:$L$1000,6,0),\"\")","v":""}]
[null,null,{"$f":"IFERROR(VLOOKUP(A1384,Insumos!A:B,2,FALSE),\"\")","v":""},null,null,null,null,{"$f":"IFERROR(VLOOKUP(E1384,Nota_Fiscal!$G$4:$L$1000,6,0),\"\")","v":""}]
[null,null,{"$f":"IFERROR(VLOOKUP(A1385,Insumos!A:B,2,FALSE),\"\")","v":""},null,null,null,null,{"$f":"IFERROR(VLOOKUP(E1385,Nota_Fiscal!$G$4:$L$1000,6,0),\"\")","v":""}]
[null,null,{"$f":"IFERROR(VLOOKUP(A1386,Insumos!A:B,2,FALSE),\"\")","v":""},null,null,null,null,{"$f":"IFERROR(VLOOKUP(E1386,Nota_Fiscal!$G$4:$L$1000,6,0),\"\")","v":""}]
[null,null,{"$f":"IFERROR(VLOOKUP(A1387,Insumos!A:B,2,FALSE),\"\")","v":""},null,null,null,null,{"$f":"IFERROR(VLOOKUP(E1387,Nota_Fiscal!$G$4:$L$1000,6,0),\"\")","v":""}]
[null,null,{"$f":"IFERROR(VLOOKUP(A1388,Insumos!A:B,2,FALSE),\"\")","v":""},null,null,null,null,{"$f":"IFERROR(VLOOKUP(E1388,Nota_Fiscal!$G$4:$L$1000,6,0),\"\")","v":""}]
[null,null,{"$f":"IFERROR(VLOOKUP(A1389,Insumos!A:B,2,FALSE),\"\")","v":""},null,null,null,null,{"$f":"IFERROR(VLOOKUP(E1389,Nota_Fiscal!$G$4:$L$1000,6,0),\"\")","v":""}]
[null,null,{"$f":"IFERROR(VLOOKUP(A1390,Insumos!A:B,2,FALSE),\"\")","v":""},null,null,null,null,{"$f":"IFERROR(VLOOKUP(E1390,Nota_Fiscal!$G$4:$L$1000,6,0),\"\")","v":""}]
[null,null,{"$f":"IFERROR(VLOOKUP(A1391,Insumos!A:B,2,FALSE),\"\")","v":""},null,null,null,null,{"$f":"IFERROR(VLOOKUP(E1391,Nota_Fiscal!$G$4:$L$1000,6,0),\"\")","v":""}]
[null,null,{"$f":"IFERROR(VLOOKUP(A1392,Insumos!A:B,2,FALSE),\"\")","v":""},null,null,null,null,{"$f":"IFERROR(VLOOKUP(E1392,Nota_Fiscal!$G$4:$L$1000,6,0),\"\")","v":""}]
[null,null,{"$f":"IFERROR(VLOOKUP(A1393,Insumos!A:B,2,FALSE),\"\")","v":""},null,null,null,null,{"$f":"IFERROR(VLOOKUP(E1393,Nota_Fiscal!$G$4:$L$1000,6,0),\"\")","v":""}]
[null,null,{"$f":"IFERROR(VLOOKUP(A1394,Insumos!A:B,2,FALSE),\"\")","v":""},null,null,null,null,{"$f":"IFERROR(VLOOKUP(E1394,Nota_Fiscal!$G$4:$L$1000,6,0),\"\")","v":""}]
[null,null,{"$f":"IFERROR(VLOOKUP(A1395,Insumos!A:B,2,FALSE),\"\")","v":""},null,null,null,null,{"$f":"IFERROR(VLOOKUP(E1395,Nota_Fiscal!$G$4:$L$1000,6,0),\"\")","v":""}]
[null,null,{"$f":"IFERROR(VLOOKUP(A1396,Insumos!A:B,2,FALSE),\"\")","v":""},null,null,null,null,{"$f":"IFERROR(VLOOKUP(E1396,Nota_Fiscal!$G$4:$L$1000,6,0),\"\")","v":""}]
[null,null,{"$f":"IFERROR(VLOOKUP(A1397,Insumos!A:B,2,FALSE),\"\")","v":""},null,null,null,null,{"$f":"IFERROR(VLOOKUP(E1397,Nota_Fiscal!$G$4:$L$1000,6,0),\"\")","v":""}]
[null,null,{"$f":"IFERROR(VLOOKUP(A1398,Insumos!A:B,2,FALSE),\"\")","v":""},null,null,null,null,{"$f":"IFERROR(VLOOKUP(E1398,Nota_Fiscal!$G$4:$L$1000,6,0),\"\")","v":""}]
[null,null,{"$f":"IFERROR(VLOOKUP(A1399,Insumos!A:B,2,FALSE),\"\")","v":""},null,null,null,null,{"$f":"IFERROR(VLOOKUP(E1399,Nota_Fiscal!$G$4:$L$1000,6,0),\"\")","v":""}]
[null,null,{"$f":"IFERROR(VLOOKUP(A1400,Insumos!A:B,2,FALSE),\"\")","v":""},null,null,null,null,{"$f":"IFERROR(VLOOKUP(E1400,Nota_Fiscal!$G$4:$L$1000,6,0),\"\")","v":""}]
[null,null,{"$f":"IFERROR(VLOOKUP(A1401,Insumos!A:B,2,FALSE),\"\")","v":""},null,null,null,null,{"$f":"IFERROR(VLOOKUP(E1401,Nota_Fiscal!$G$4:$L$1000,6,0),\"\")","v":""}]
[null,null,{"$f":"IFERROR(VLOOKUP(A1402,Insumos!A:B,2,FALSE),\"\")","v":""},null,null,null,null,{"$f":"IFERROR(VLOOKUP(E1402,Nota_Fiscal!$G$4:$L$1000,6,0),\"\")","v":""}]
[null,null,{"$f":"IFERROR(VLOOKUP(A1403,Insumos!A:B,2,FALSE),\"\")","v":""},null,null,null,null,{"$f":"IFERROR(VLOOKUP(E1403,Nota_Fiscal!$G$4:$L$1000,6,0),\"\")","v":""}]
[null,null,{"$f":"IFERROR(VLOOKUP(A1404,Insumos!A:B,2,FALSE),\"\")","v":""},null,null,null,null,{"$f":"IFERROR(VLOOKUP(E1404,Nota_Fiscal!$G$4:$L$1000,6,0),\"\")","v":""}]
[null,null,{"$f":"IFERROR(VLOOKUP(A1405,Insumos!A:B,2,FALSE),\"\")","v":""},null,null,null,null,{"$f":"IFERROR(VLOOKUP(E1405,Nota_Fiscal!$G$4:$L$1000,6,0),\"\")","v":""}]
[null,null,{"$f":"IFERROR(VLOOKUP(A1406,Insumos!A:B,2,FALSE),\"\")","v":""},null,null,null,null,{"$f":"IFERROR(VLOOKUP(E1406,Nota_Fiscal!$G$4:$L$1000,6,0),\"\")","v":""}]
[null,null,{"$f":"IFERROR(VLOOKUP(A1407,Insumos!A:B,2,FALSE),\"\")","v":""},null,null,null,null,{"$f":"IFERROR(VLOOKUP(E1407,Nota_Fiscal!$G$4:$L$1000,6,0),\"\")","v":""}]
[null,null,{"$f":"IFERROR(VLOOKUP(A1408,Insumos!A:B,2,FALSE),\"\")","v":""},null,null,null,null,{"$f":"IFERROR(VLOOKUP(E1408,Nota_Fiscal!$G$4:$L$1000,6,0),\"\")","v":""}]
[null,null,{"$f":"IFERROR(VLOOKUP(A1409,Insumos!A:B,2,FALSE),\"\")","v":""},null,null,null,null,{"$f":"IFERROR(VLOOKUP(E1409,Nota_Fiscal!$G$4:$L$1000,6,0),\"\")","v":""}]
[null,null,{"$f":"IFERROR(VLOOKUP(A1410,Insumos!A:B,2,FALSE),\"\")","v":""},null,null,null,null,{"$f":"IFERROR(VLOOKUP(E1410,Nota_Fiscal!$G$4:$L$1000,6,0),\"\")","v":""}]
[null,null,{"$f":"IFERROR(VLOOKUP(A1411,Insumos!A:B,2,FALSE),\"\")","v":""},null,null,null,null,{"$f":"IFERROR(VLOOKUP(E1411,Nota_Fiscal!$G$4:$L$1000,6,0),\"\")","v":""}]
[null,null,{"$f":"IFERROR(VLOOKUP(A1412,Insumos!A:B,2,FALSE),\"\")","v":""},null,null,null,null,{"$f":"IFERROR(VLOOKUP(E1412,Nota_Fiscal!$G$4:$L$1000,6,0),\"\")","v":""}]
[null,null,{"$f":"IFERROR(VLOOKUP(A1413,Insumos!A:B,2,FALSE),\"\")","v":""},null,null,null,null,{"$f":"IFERROR(VLOOKUP(E1413,Nota_Fiscal!$G$4:$L$1000,6,0),\"\")","v":""}]
[null,null,{"$f":"IFERROR(VLOOKUP(A1414,Insumos!A:B,2,FALSE),\"\")","v":""},null,null,null,null,{"$f":"IFERROR(VLOOKUP(E1414,Nota_Fiscal!$G$4:$L$1000,6,0),\"\")","v":""}]
[null,null,{"$f":"IFERROR(VLOOKUP(A1415,Insumos!A:B,2,FALSE),\"\")","v":""},null,null,null,null,{"$f":"IFERROR(VLOOKUP(E1415,Nota_Fiscal!$G$4:$L$1000,6,0),\"\")","v":""}]
[null,null,{"$f":"IFERROR(VLOOKUP(A1416,Insumos!A:B,2,FALSE),\"\")","v":""},null,null,null,null,{"$f":"IFERROR(VLOOKUP(E1416,Nota_Fiscal!$G$4:$L$1000,6,0),\"\")","v":""}]
[null,null,{"$f":"IFERROR(VLOOKUP(A1417,Insumos!A:B,2,FALSE),\"\")","v":""},null,null,null,null,{"$f":"IFERROR(VLOOKUP(E1417,Nota_Fiscal!$G$4:$L$1000,6,0),\"\")","v":""}]
[null,null,{"$f":"IFERROR(VLOOKUP(A1418,Insumos!A:B,2,FALSE),\"\")","v":""},null,null,null,null,{"$f":"IFERROR(VLOOKUP(E1418,Nota_Fiscal!$G$4:$L$1000,6,0),\"\")","v":""}]
[null,null,{"$f":"IFERROR(VLOOKUP(A1419,Insumos!A:B,2,FALSE),\"\")","v":""},null,null,null,null,{"$f":"IFERROR(VLOOKUP(E1419,Nota_Fiscal!$G$4:$L$1000,6,0),\"\")","v":""}]
[null,null,{"$f":"IFERROR(VLOOKUP(A1420,Insumos!A:B,2,FALSE),\"\")","v":""},null,null,null,null,{"$f":"IFERROR(VLOOKUP(E1420,Nota_Fiscal!$G$4:$L$1000,6,0),\"\")","v":""}]
[null,null,{"$f":"IFERROR(VLOOKUP(A1421,Insumos!A:B,2,FALSE),\"\")","v":""},null,null,null,null,{"$f":"IFERROR(VLOOKUP(E1421,Nota_Fiscal!$G$4:$L$1000,6,0),\"\")","v":""}]
[null,null,{"$f":"IFERROR(VLOOKUP(A1422,Insumos!A:B,2,FALSE),\"\")","v":""},null,null,null,null,{"$f":"IFERROR(VLOOKUP(E1422,Nota_Fiscal!$G$4:$L$1000,6,0),\"\")","v":""}]
[null,null,{"$f":"IFERROR(VLOOKUP(A1423,Insumos!A:B,2,FALSE),\"\")","v":""},null,null,null,null,{"$f":"IFERROR(VLOOKUP(E1423,Nota_Fiscal!$G$4:$L$1000,6,0),\"\")","v":""}]
[null,null,{"$f":"IFERROR(VLOOKUP(A1424,Insumos!A:B,2,FALSE),\"\")","v":""},null,null,null,null,{"$f":"IFERROR(VLOOKUP(E1424,Nota_Fiscal!$G$4:$L$1000,6,0),\"\")","v":""}]
[null,null,{"$f":"IFERROR(VLOOKUP(A1425,Insumos!A:B,2,FALSE),\"\")","v":""},null,null,null,null,{"$f":"IFERROR(VLOOKUP(E1425,Nota_Fiscal!$G$4:$L$1000,6,0),\"\")","v":""}]
[null,null,{"$f":"IFERROR(VLOOKUP(A1426,Insumos!A:B,2,FALSE),\"\")","v":""},null,null,null,null,{"$f":"IFERROR(VLOOKUP(E1426,Nota_Fiscal!$G$4:$L$1000,6,0),\"\")","v":""}]
[null,null,{"$f":"IFERROR(VLOOKUP(A1427,Insumos!A:B,2,FALSE),\"\")","v":""},null,null,null,null,{"$f":"IFERROR(VLOOKUP(E1427,Nota_Fiscal!$G$4:$L$1000,6,0),\"\")","v":""}]
[null,null,{"$f":"IFERROR(VLOOKUP(A1428,Insumos!A:B,2,FALSE),\"\")","v":""},null,null,null,null,{"$f":"IFERROR(VLOOKUP(E1428,Nota_Fiscal!$G$4:$L$1000,6,0),\"\")","v":""}]
[null,null,{"$f":"IFERROR(VLOOKUP(A1429,Insumos!A:B,2,FALSE),\"\")","v":""},null,null,null,null,{"$f":"IFERROR(VLOOKUP(E1429,Nota_Fiscal!$G$4:$L$1000,6,0),\"\")","v":""}]
[null,null,{"$f":"IFERROR(VLOOKUP(A1430,Insumos!A:B,2,FALSE),\"\")","v":""},null,null,null,null,{"$f":"IFERROR(VLOOKUP(E1430,Nota_Fiscal!$G$4:$L$1000,6,0),\"\")","v":""}]
[null,null,{"$f":"IFERROR(VLOOKUP(A1431,Insumos!A:B,2,FALSE),\"\")","v":""},null,null,null,null,{"$f":"IFERROR(VLOOKUP(E1431,Nota_Fiscal!$G$4:$L$1000,6,0),\"\")","v":""}]
[null,null,{"$f":"IFERROR(VLOOKUP(A1432,Insumos!A:B,2,FALSE),\"\")","v":""},null,null,null,null,{"$f":"IFERROR(VLOOKUP(E1432,Nota_Fiscal!$G$4:$L$1000,6,0),\"\")","v":""}]
[null,null,{"$f":"IFERROR(VLOOKUP(A1433,Insumos!A:B,2,FALSE),\"\")","v":""},null,null,null,null,{"$f":"IFERROR(VLOOKUP(E1433,Nota_Fiscal!$G$4:$L$1000,6,0),\"\")","v":""}]
[null,null,{"$f":"IFERROR(VLOOKUP(A1434,Insumos!A:B,2,FALSE),\"\")","v":""},null,null,null,null,{"$f":"IFERROR(VLOOKUP(E1434,Nota_Fiscal!$G$4:$L$1000,6,0),\"\")","v":""}]
[null,null,{"$f":"IFERROR(VLOOKUP(A1435,Insumos!A:B,2,FALSE),\"\")","v":""},null,null,null,null,{"$f":"IFERROR(VLOOKUP(E1435,Nota_Fiscal!$G$4:$L$1000,6,0),\"\")","v":""}]
[null,null,{"$f":"IFERROR(VLOOKUP(A1436,Insumos!A:B,2,FALSE),\"\")","v":""},null,null,null,null,{"$f":"IFERROR(VLOOKUP(E1436,Nota_Fiscal!$G$4:$L$1000,6,0),\"\")","v":""}]
[null,null,{"$f":"IFERROR(VLOOKUP(A1437,Insumos!A:B,2,FALSE),\"\")","v":""},null,null,null,null,{"$f":"IFERROR(VLOOKUP(E1437,Nota_Fiscal!$G$4:$L$1000,6,0),\"\")","v":""}]
[null,null,{"$f":"IFERROR(VLOOKUP(A1438,Insumos!A:B,2,FALSE),\"\")","v":""},null,null,null,null,{"$f":"IFERROR(VLOOKUP(E1438,Nota_Fiscal!$G$4:$L$1000,6,0),\"\")","v":""}]
[null,null,{"$f":"IFERROR(VLOOKUP(A1439,Insumos!A:B,2,FALSE),\"\")","v":""},null,null,null,null,{"$f":"IFERROR(VLOOKUP(E1439,Nota_Fiscal!$G$4:$L$1000,6,0),\"\")","v":""}]
[null,null,{"$f":"IFERROR(VLOOKUP(A1440,Insumos!A:B,2,FALSE),\"\")","v":""},null,null,null,null,{"$f":"IFERROR(VLOOKUP(E1440,Nota_Fiscal!$G$4:$L$1000,6,0),\"\")","v":""}]
[null,null,{"$f":"IFERROR(VLOOKUP(A1441,Insumos!A:B,2,FALSE),\"\")","v":""},null,null,null,null,{"$f":"IFERROR(VLOOKUP(E1441,Nota_Fiscal!$G$4:$L$1000,6,0),\"\")","v":""}]
[null,null,{"$f":"IFERROR(VLOOKUP(A1442,Insumos!A:B,2,FALSE),\"\")","v":""},null,null,null,null,{"$f":"IFERROR(VLOOKUP(E1442,Nota_Fiscal!$G$4:$L$1000,6,0),\"\")","v":""}]
[null,null,{"$f":"IFERROR(VLOOKUP(A1443,Insumos!A:B,2,FALSE),\"\")","v":""},null,null,null,null,{"$f":"IFERROR(VLOOKUP(E1443,Nota_Fiscal!$G$4:$L$1000,6,0),\"\")","v":""}]
[null,null,{"$f":"IFERROR(VLOOKUP(A1444,Insumos!A:B,2,FALSE),\"\")","v":""},null,null,null,null,{"$f":"IFERROR(VLOOKUP(E1444,Nota_Fiscal!$G$4:$L$1000,6,0),\"\")","v":""}]
[null,null,{"$f":"IFERROR(VLOOKUP(A1445,Insumos!A:B,2,FALSE),\"\")","v":""},null,null,null,null,{"$f":"IFERROR(VLOOKUP(E1445,Nota_Fiscal!$G$4:$L$1000,6,0),\"\")","v":""}]
[null,null,{"$f":"IFERROR(VLOOKUP(A1446,Insumos!A:B,2,FALSE),\"\")","v":""},null,null,null,null,{"$f":"IFERROR(VLOOKUP(E1446,Nota_Fiscal!$G$4:$L$1000,6,0),\"\")","v":""}]
[null,null,{"$f":"IFERROR(VLOOKUP(A1447,Insumos!A:B,2,FALSE),\"\")","v":""},null,null,null,null,{"$f":"IFERROR(VLOOKUP(E1447,Nota_Fiscal!$G$4:$L$1000,6,0),\"\")","v":""}]
[null,null,{"$f":"IFERROR(VLOOKUP(A1448,Insumos!A:B,2,FALSE),\"\")","v":""},null,null,null,null,{"$f":"IFERROR(VLOOKUP(E1448,Nota_Fiscal!$G$4:$L$1000,6,0),\"\")","v":""}]
[null,null,{"$f":"IFERROR(VLOOKUP(A1449,Insumos!A:B,2,FALSE),\"\")","v":""},null,null,null,null,{"$f":"IFERROR(VLOOKUP(E1449,Nota_Fiscal!$G$4:$L$1000,6,0),\"\")","v":""}]
[null,null,{"$f":"IFERROR(VLOOKUP(A1450,Insumos!A:B,2,FALSE),\"\")","v":""},null,null,null,null,{"$f":"IFERROR(VLOOKUP(E1450,Nota_Fiscal!$G$4:$L$1000,6,0),\"\")","v":""}]
[null,null,{"$f":"IFERROR(VLOOKUP(A1451,Insumos!A:B,2,FALSE),\"\")","v":""},null,null,null,null,{"$f":"IFERROR(VLOOKUP(E1451,Nota_Fiscal!$G$4:$L$1000,6,0),\"\")","v":""}]
[null,null,{"$f":"IFERROR(VLOOKUP(A1452,Insumos!A:B,2,FALSE),\"\")","v":""},null,null,null,null,{"$f":"IFERROR(VLOOKUP(E1452,Nota_Fiscal!$G$4:$L$1000,6,0),\"\")","v":""}]
[null,null,{"$f":"IFERROR(VLOOKUP(A1453,Insumos!A:B,2,FALSE),\"\")","v":""},null,null,null,null,{"$f":"IFERROR(VLOOKUP(E1453,Nota_Fiscal!$G$4:$L$1000,6,0),\"\")","v":""}]
[null,null,{"$f":"IFERROR(VLOOKUP(A1454,Insumos!A:B,2,FALSE),\"\")","v":""},null,null,null,null,{"$f":"IFERROR(VLOOKUP(E1454,Nota_Fiscal!$G$4:$L$1000,6,0),\"\")","v":""}]
[null,null,{"$f":"IFERROR(VLOOKUP(A1455,Insumos!A:B,2,FALSE),\"\")","v":""},null,null,null,null,{"$f":"IFERROR(VLOOKUP(E1455,Nota_Fiscal!$G$4:$L$1000,6,0),\"\")","v":""}]
[null,null,{"$f":"IFERROR(VLOOKUP(A1456,Insumos!A:B,2,FALSE),\"\")","v":""},null,null,null,null,{"$f":"IFERROR(VLOOKUP(E1456,Nota_Fiscal!$G$4:$L$1000,6,0),\"\")","v":""}]
[null,null,{"$f":"IFERROR(VLOOKUP(A1457,Insumos!A:B,2,FALSE),\"\")","v":""},null,null,null,null,{"$f":"IFERROR(VLOOKUP(E1457,Nota_Fiscal!$G$4:$L$1000,6,0),\"\")","v":""}]
[null,null,{"$f":"IFERROR(VLOOKUP(A1458,Insumos!A:B,2,FALSE),\"\")","v":""},null,null,null,null,{"$f":"IFERROR(VLOOKUP(E1458,Nota_Fiscal!$G$4:$L$1000,6,0),\"\")","v":""}]
[null,null,{"$f":"IFERROR(VLOOKUP(A1459,Insumos!A:B,2,FALSE),\"\")","v":""},null,null,null,null,{"$f":"IFERROR(VLOOKUP(E1459,Nota_Fiscal!$G$4:$L$1000,6,0),\"\")","v":""}]
[null,null,{"$f":"IFERROR(VLOOKUP(A1460,Insumos!A:B,2,FALSE),\"\")","v":""},null,null,null,null,{"$f":"IFERROR(VLOOKUP(E1460,Nota_Fiscal!$G$4:$L$1000,6,0),\"\")","v":""}]
[null,null,{"$f":"IFERROR(VLOOKUP(A1461,Insumos!A:B,2,FALSE),\"\")","v":""},null,null,null,null,{"$f":"IFERROR(VLOOKUP(E1461,Nota_Fiscal!$G$4:$L$1000,6,0),\"\")","v":""}]
[null,null,{"$f":"IFERROR(VLOOKUP(A1462,Insumos!A:B,2,FALSE),\"\")","v":""},null,null,null,null,{"$f":"IFERROR(VLOOKUP(E1462,Nota_Fiscal!$G$4:$L$1000,6,0),\"\")","v":""}]
[null,null,{"$f":"IFERROR(VLOOKUP(A1463,Insumos!A:B,2,FALSE),\"\")","v":""},null,null,null,null,{"$f":"IFERROR(VLOOKUP(E1463,Nota_Fiscal!$G$4:$L$1000,6,0),\"\")","v":""}]
[null,null,{"$f":"IFERROR(VLOOKUP(A1464,Insumos!A:B,2,FALSE),\"\")","v":""},null,null,null,null,{"$f":"IFERROR(VLOOKUP(E1464,Nota_Fiscal!$G$4:$L$1000,6,0),\"\")","v":""}]
[null,null,{"$f":"IFERROR(VLOOKUP(A1465,Insumos!A:B,2,FALSE),\"\")","v":""},null,null,null,null,{"$f":"IFERROR(VLOOKUP(E1465,Nota_Fiscal!$G$4:$L$1000,6,0),\"\")","v":""}]
[null,null,{"$f":"IFERROR(VLOOKUP(A1466,Insumos!A:B,2,FALSE),\"\")","v":""},null,null,null,null,{"$f":"IFERROR(VLOOKUP(E1466,Nota_Fiscal!$G$4:$L$1000,6,0),\"\")","v":""}]
[null,null,{"$f":"IFERROR(VLOOKUP(A1467,Insumos!A:B,2,FALSE),\"\")","v":""},null,null,null,null,{"$f":"IFERROR(VLOOKUP(E1467,Nota_Fiscal!$G$4:$L$1000,6,0),\"\")","v":""}]
[null,null,{"$f":"IFERROR(VLOOKUP(A1468,Insumos!A:B,2,FALSE),\"\")","v":""},null,null,null,null,{"$f":"IFERROR(VLOOKUP(E1468,Nota_Fiscal!$G$4:$L$1000,6,0),\"\")","v":""}]
[null,null,{"$f":"IFERROR(VLOOKUP(A1469,Insumos!A:B,2,FALSE),\"\")","v":""},null,null,null,null,{"$f":"IFERROR(VLOOKUP(E1469,Nota_Fiscal!$G$4:$L$1000,6,0),\"\")","v":""}]
[null,null,{"$f":"IFERROR(VLOOKUP(A1470,Insumos!A:B,2,FALSE),\"\")","v":""},null,null,null,null,{"$f":"IFERROR(VLOOKUP(E1470,Nota_Fiscal!$G$4:$L$1000,6,0),\"\")","v":""}]
[null,null,{"$f":"IFERROR(VLOOKUP(A1471,Insumos!A:B,2,FALSE),\"\")","v":""},null,null,null,null,{"$f":"IFERROR(VLOOKUP(E1471,Nota_Fiscal!$G$4:$L$1000,6,0),\"\")","v":""}]
[null,null,{"$f":"IFERROR(VLOOKUP(A1472,Insumos!A:B,2,FALSE),\"\")","v":""},null,null,null,null,{"$f":"IFERROR(VLOOKUP(E1472,Nota_Fiscal!$G$4:$L$1000,6,0),\"\")","v":""}]
[null,null,{"$f":"IFERROR(VLOOKUP(A1473,Insumos!A:B,2,FALSE),\"\")","v":""},null,null,null,null,{"$f":"IFERROR(VLOOKUP(E1473,Nota_Fiscal!$G$4:$L$1000,6,0),\"\")","v":""}]
[null,null,{"$f":"IFERROR(VLOOKUP(A1474,Insumos!A:B,2,FALSE),\"\")","v":""},null,null,null,null,{"$f":"IFERROR(VLOOKUP(E1474,Nota_Fiscal!$G$4:$L$1000,6,0),\"\")","v":""}]
[null,null,{"$f":"IFERROR(VLOOKUP(A1475,Insumos!A:B,2,FALSE),\"\")","v":""},null,null,null,null,{"$f":"IFERROR(VLOOKUP(E1475,Nota_Fiscal!$G$4:$L$1000,6,0),\"\")","v":""}]
[null,null,{"$f":"IFERROR(VLOOKUP(A1476,Insumos!A:B,2,FALSE),\"\")","v":""},null,null,null,null,{"$f":"IFERROR(VLOOKUP(E1476,Nota_Fiscal!$G$4:$L$1000,6,0),\"\")","v":""}]
[null,null,{"$f":"IFERROR(VLOOKUP(A1477,Insumos!A:B,2,FALSE),\"\")","v":""},null,null,null,null,{"$f":"IFERROR(VLOOKUP(E1477,Nota_Fiscal!$G$4:$L$1000,6,0),\"\")","v":""}]
[null,null,{"$f":"IFERROR(VLOOKUP(A1478,Insumos!A:B,2,FALSE),\"\")","v":""},null,null,null,null,{"$f":"IFERROR(VLOOKUP(E1478,Nota_Fiscal!$G$4:$L$1000,6,0),\"\")","v":""}]
[null,null,{"$f":"IFERROR(VLOOKUP(A1479,Insumos!A:B,2,FALSE),\"\")","v":""},null,null,null,null,{"$f":"IFERROR(VLOOKUP(E1479,Nota_Fiscal!$G$4:$L$1000,6,0),\"\")","v":""}]
[null,null,{"$f":"IFERROR(VLOOKUP(A1480,Insumos!A:B,2,FALSE),\"\")","v":""},null,null,null,null,{"$f":"IFERROR(VLOOKUP(E1480,Nota_Fiscal!$G$4:$L$1000,6,0),\"\")","v":""}]
[null,null,{"$f":"IFERROR(VLOOKUP(A1481,Insumos!A:B,2,FALSE),\"\")","v":""},null,null,null,null,{"$f":"IFERROR(VLOOKUP(E1481,Nota_Fiscal!$G$4:$L$1000,6,0),\"\")","v":""}]
[null,null,{"$f":"IFERROR(VLOOKUP(A1482,Insumos!A:B,2,FALSE),\"\")","v":""},null,null,null,null,{"$f":"IFERROR(VLOOKUP(E1482,Nota_Fiscal!$G$4:$L$1000,6,0),\"\")","v":""}]
[null,null,{"$f":"IFERROR(VLOOKUP(A1483,Insumos!A:B,2,FALSE),\"\")","v":""},null,null,null,null,{"$f":"IFERROR(VLOOKUP(E1483,Nota_Fiscal!$G$4:$L$1000,6,0),\"\")","v":""}]
[null,null,{"$f":"IFERROR(VLOOKUP(A1484,Insumos!A:B,2,FALSE),\"\")","v":""},null,null,null,null,{"$f":"IFERROR(VLOOKUP(E1484,Nota_Fiscal!$G$4:$L$1000,6,0),\"\")","v":""}]
[null,null,{"$f":"IFERROR(VLOOKUP(A1485,Insumos!A:B,2,FALSE),\"\")","v":""},null,null,null,null,{"$f":"IFERROR(VLOOKUP(E1485,Nota_Fiscal!$G$4:$L$1000,6,0),\"\")","v":""}]
[null,null,{"$f":"IFERROR(VLOOKUP(A1486,Insumos!A:B,2,FALSE),\"\")","v":""},null,null,null,null,{"$f":"IFERROR(VLOOKUP(E1486,Nota_Fiscal!$G$4:$L$1000,6,0),\"\")","v":""}]
[null,null,{"$f":"IFERROR(VLOOKUP(A1487,Insumos!A:B,2,FALSE),\"\")","v":""},null,null,null,null,{"$f":"IFERROR(VLOOKUP(E1487,Nota_Fiscal!$G$4:$L$1000,6,0),\"\")","v":""}]
[null,null,{"$f":"IFERROR(VLOOKUP(A1488,Insumos!A:B,2,FALSE),\"\")","v":""},null,null,null,null,{"$f":"IFERROR(VLOOKUP(E1488,Nota_Fiscal!$G$4:$L$1000,6,0),\"\")","v":""}]
[null,null,{"$f":"IFERROR(VLOOKUP(A1489,Insumos!A:B,2,FALSE),\"\")","v":""},null,null,null,null,{"$f":"IFERROR(VLOOKUP(E1489,Nota_Fiscal!$G$4:$L$1000,6,0),\"\")","v":""}]
[null,null,{"$f":"IFERROR(VLOOKUP(A1490,Insumos!A:B,2,FALSE),\"\")","v":""},null,null,null,null,{"$f":"IFERROR(VLOOKUP(E1490,Nota_Fiscal!$G$4:$L$1000,6,0),\"\")","v":""}]
[null,null,{"$f":"IFERROR(VLOOKUP(A1491,Insumos!A:B,2,FALSE),\"\")","v":""},null,null,null,null,{"$f":"IFERROR(VLOOKUP(E1491,Nota_Fiscal!$G$4:$L$1000,6,0),\"\")","v":""}]
[null,null,{"$f":"IFERROR(VLOOKUP(A1492,Insumos!A:B,2,FALSE),\"\")","v":""},null,null,null,null,{"$f":"IFERROR(VLOOKUP(E1492,Nota_Fiscal!$G$4:$L$1000,6,0),\"\")","v":""}]
[null,null,{"$f":"IFERROR(VLOOKUP(A1493,Insumos!A:B,2,FALSE),\"\")","v":""},null,null,null,null,{"$f":"IFERROR(VLOOKUP(E1493,Nota_Fiscal!$G$4:$L$1000,6,0),\"\")","v":""}]
[null,null,{"$f":"IFERROR(VLOOKUP(A1494,Insumos!A:B,2,FALSE),\"\")","v":""},null,null,null,null,{"$f":"IFERROR(VLOOKUP(E1494,Nota_Fiscal!$G$4:$L$1000,6,0),\"\")","v":""}]
[null,null,{"$f":"IFERROR(VLOOKUP(A1495,Insumos!A:B,2,FALSE),\"\")","v":""},null,null,null,null,{"$f":"IFERROR(VLOOKUP(E1495,Nota_Fiscal!$G$4:$L$1000,6,0),\"\")","v":""}]
[null,null,{"$f":"IFERROR(VLOOKUP(A1496,Insumos!A:B,2,FALSE),\"\")","v":""},null,null,null,null,{"$f":"IFERROR(VLOOKUP(E1496,Nota_Fiscal!$G$4:$L$1000,6,0),\"\")","v":""}]
[null,null,{"$f":"IFERROR(VLOOKUP(A1497,Insumos!A:B,2,FALSE),\"\")","v":""},null,null,null,null,{"$f":"IFERROR(VLOOKUP(E1497,Nota_Fiscal!$G$4:$L$1000,6,0),\"\")","v":""}]
[null,null,{"$f":"IFERROR(VLOOKUP(A1498,Insumos!A:B,2,FALSE),\"\")","v":""},null,null,null,null,{"$f":"IFERROR(VLOOKUP(E1498,Nota_Fiscal!$G$4:$L$1000,6,0),\"\")","v":""}]
[null,null,{"$f":"IFERROR(VLOOKUP(A1499,Insumos!A:B,2,FALSE),\"\")","v":""},null,null,null,null,{"$f":"IFERROR(VLOOKUP(E1499,Nota_Fiscal!$G$4:$L$1000,6,0),\"\")","v":""}]
[null,null,{"$f":"IFERROR(VLOOKUP(A1500,Insumos!A:B,2,FALSE),\"\")","v":""},null,null,null,null,{"$f":"IFERROR(VLOOKUP(E1500,Nota_Fiscal!$G$4:$L$1000,6,0),\"\")","v":""}]
[null,null,{"$f":"IFERROR(VLOOKUP(A1501,Insumos!A:B,2,FALSE),\"\")","v":""},null,null,null,null,{"$f":"IFERROR(VLOOKUP(E1501,Nota_Fiscal!$G$4:$L$1000,6,0),\"\")","v":""}]
[null,null,{"$f":"IFERROR(VLOOKUP(A1502,Insumos!A:B,2,FALSE),\"\")","v":""},null,null,null,null,{"$f":"IFERROR(VLOOKUP(E1502,Nota_Fiscal!$G$4:$L$1000,6,0),\"\")","v":""}]
[null,null,{"$f":"IFERROR(VLOOKUP(A1503,Insumos!A:B,2,FALSE),\"\")","v":""},null,null,null,null,{"$f":"IFERROR(VLOOKUP(E1503,Nota_Fiscal!$G$4:$L$1000,6,0),\"\")","v":""}]
[null,null,{"$f":"IFERROR(VLOOKUP(A1504,Insumos!A:B,2,FALSE),\"\")","v":""},null,null,null,null,{"$f":"IFERROR(VLOOKUP(E1504,Nota_Fiscal!$G$4:$L$1000,6,0),\"\")","v":""}]
[null,null,{"$f":"IFERROR(VLOOKUP(A1505,Insumos!A:B,2,FALSE),\"\")","v":""},null,null,null,null,{"$f":"IFERROR(VLOOKUP(E1505,Nota_Fiscal!$G$4:$L$1000,6,0),\"\")","v":""}]
[null,null,{"$f":"IFERROR(VLOOKUP(A1506,Insumos!A:B,2,FALSE),\"\")","v":""},null,null,null,null,{"$f":"IFERROR(VLOOKUP(E1506,Nota_Fiscal!$G$4:$L$1000,6,0),\"\")","v":""}]
[null,null,{"$f":"IFERROR(VLOOKUP(A1507,Insumos!A:B,2,FALSE),\"\")","v":""},null,null,null,null,{"$f":"IFERROR(VLOOKUP(E1507,Nota_Fiscal!$G$4:$L$1000,6,0),\"\")","v":""}]
[null,null,{"$f":"IFERROR(VLOOKUP(A1508,Insumos!A:B,2,FALSE),\"\")","v":""},null,null,null,null,{"$f":"IFERROR(VLOOKUP(E1508,Nota_Fiscal!$G$4:$L$1000,6,0),\"\")","v":""}]
[null,null,{"$f":"IFERROR(VLOOKUP(A1509,Insumos!A:B,2,FALSE),\"\")","v":""},null,null,null,null,{"$f":"IFERROR(VLOOKUP(E1509,Nota_Fiscal!$G$4:$L$1000,6,0),\"\")","v":""}]
[null,null,{"$f":"IFERROR(VLOOKUP(A1510,Insumos!A:B,2,FALSE),\"\")","v":""},null,null,null,null,{"$f":"IFERROR(VLOOKUP(E1510,Nota_Fiscal!$G$4:$L$1000,6,0),\"\")","v":""}]
[null,null,{"$f":"IFERROR(VLOOKUP(A1511,Insumos!A:B,2,FALSE),\"\")","v":""},null,null,null,null,{"$f":"IFERROR(VLOOKUP(E1511,Nota_Fiscal!$G$4:$L$1000,6,0),\"\")","v":""}]
[null,null,{"$f":"IFERROR(VLOOKUP(A1512,Insumos!A:B,2,FALSE),\"\")","v":""},null,null,null,null,{"$f":"IFERROR(VLOOKUP(E1512,Nota_Fiscal!$G$4:$L$1000,6,0),\"\")","v":""}]
[null,null,{"$f":"IFERROR(VLOOKUP(A1513,Insumos!A:B,2,FALSE),\"\")","v":""},null,null,null,null,{"$f":"IFERROR(VLOOKUP(E1513,Nota_Fiscal!$G$4:$L$1000,6,0),\"\")","v":""}]
[null,null,{"$f":"IFERROR(VLOOKUP(A1514,Insumos!A:B,2,FALSE),\"\")","v":""},null,null,null,null,{"$f":"IFERROR(VLOOKUP(E1514,Nota_Fiscal!$G$4:$L$1000,6,0),\"\")","v":""}]
[null,null,{"$f":"IFERROR(VLOOKUP(A1515,Insumos!A:B,2,FALSE),\"\")","v":""},null,null,null,null,{"$f":"IFERROR(VLOOKUP(E1515,Nota_Fiscal!$G$4:$L$1000,6,0),\"\")","v":""}]
[null,null,{"$f":"IFERROR(VLOOKUP(A1516,Insumos!A:B,2,FALSE),\"\")","v":""},null,null,null,null,{"$f":"IFERROR(VLOOKUP(E1516,Nota_Fiscal!$G$4:$L$1000,6,0),\"\")","v":""}]
[null,null,{"$f":"IFERROR(VLOOKUP(A1517,Insumos!A:B,2,FALSE),\"\")","v":""},null,null,null,null,{"$f":"IFERROR(VLOOKUP(E1517,Nota_Fiscal!$G$4:$L$1000,6,0),\"\")","v":""}]
[null,null,{"$f":"IFERROR(VLOOKUP(A1518,Insumos!A:B,2,FALSE),\"\")","v":""},null,null,null,null,{"$f":"IFERROR(VLOOKUP(E1518,Nota_Fiscal!$G$4:$L$1000,6,0),\"\")","v":""}]
[null,null,{"$f":"IFERROR(VLOOKUP(A1519,Insumos!A:B,2,FALSE),\"\")","v":""},null,null,null,null,{"$f":"IFERROR(VLOOKUP(E1519,Nota_Fiscal!$G$4:$L$1000,6,0),\"\")","v":""}]
[null,null,{"$f":"IFERROR(VLOOKUP(A1520,Insumos!A:B,2,FALSE),\"\")","v":""},null,null,null,null,{"$f":"IFERROR(VLOOKUP(E1520,Nota_Fiscal!$G$4:$L$1000,6,0),\"\")","v":""}]
[null,null,{"$f":"IFERROR(VLOOKUP(A1521,Insumos!A:B,2,FALSE),\"\")","v":""},null,null,null,null,{"$f":"IFERROR(VLOOKUP(E1521,Nota_Fiscal!$G$4:$L$1000,6,0),\"\")","v":""}]
[null,null,{"$f":"IFERROR(VLOOKUP(A1522,Insumos!A:B,2,FALSE),\"\")","v":""},null,null,null,null,{"$f":"IFERROR(VLOOKUP(E1522,Nota_Fiscal!$G$4:$L$1000,6,0),\"\")","v":""}]
[null,null,{"$f":"IFERROR(VLOOKUP(A1523,Insumos!A:B,2,FALSE),\"\")","v":""},null,null,null,null,{"$f":"IFERROR(VLOOKUP(E1523,Nota_Fiscal!$G$4:$L$1000,6,0),\"\")","v":""}]
[null,null,{"$f":"IFERROR(VLOOKUP(A1524,Insumos!A:B,2,FALSE),\"\")","v":""},null,null,null,null,{"$f":"IFERROR(VLOOKUP(E1524,Nota_Fiscal!$G$4:$L$1000,6,0),\"\")","v":""}]
[null,null,{"$f":"IFERROR(VLOOKUP(A1525,Insumos!A:B,2,FALSE),\"\")","v":""},null,null,null,null,{"$f":"IFERROR(VLOOKUP(E1525,Nota_Fiscal!$G$4:$L$1000,6,0),\"\")","v":""}]
[null,null,{"$f":"IFERROR(VLOOKUP(A1526,Insumos!A:B,2,FALSE),\"\")","v":""},null,null,null,null,{"$f":"IFERROR(VLOOKUP(E1526,Nota_Fiscal!$G$4:$L$1000,6,0),\"\")","v":""}]
[null,null,{"$f":"IFERROR(VLOOKUP(A1527,Insumos!A:B,2,FALSE),\"\")","v":""},null,null,null,null,{"$f":"IFERROR(VLOOKUP(E1527,Nota_Fiscal!$G$4:$L$1000,6,0),\"\")","v":""}]
[null,null,{"$f":"IFERROR(VLOOKUP(A1528,Insumos!A:B,2,FALSE),\"\")","v":""},null,null,null,null,{"$f":"IFERROR(VLOOKUP(E1528,Nota_Fiscal!$G$4:$L$1000,6,0),\"\")","v":""}]
[null,null,{"$f":"IFERROR(VLOOKUP(A1529,Insumos!A:B,2,FALSE),\"\")","v":""},null,null,null,null,{"$f":"IFERROR(VLOOKUP(E1529,Nota_Fiscal!$G$4:$L$1000,6,0),\"\")","v":""}]
[null,null,{"$f":"IFERROR(VLOOKUP(A1530,Insumos!A:B,2,FALSE),\"\")","v":""},null,null,null,null,{"$f":"IFERROR(VLOOKUP(E1530,Nota_Fiscal!$G$4:$L$1000,6,0),\"\")","v":""}]
[null,null,{"$f":"IFERROR(VLOOKUP(A1531,Insumos!A:B,2,FALSE),\"\")","v":""},null,null,null,null,{"$f":"IFERROR(VLOOKUP(E1531,Nota_Fiscal!$G$4:$L$1000,6,0),\"\")","v":""}]
[null,null,{"$f":"IFERROR(VLOOKUP(A1532,Insumos!A:B,2,FALSE),\"\")","v":""},null,null,null,null,{"$f":"IFERROR(VLOOKUP(E1532,Nota_Fiscal!$G$4:$L$1000,6,0),\"\")","v":""}]
[null,null,{"$f":"IFERROR(VLOOKUP(A1533,Insumos!A:B,2,FALSE),\"\")","v":""},null,null,null,null,{"$f":"IFERROR(VLOOKUP(E1533,Nota_Fiscal!$G$4:$L$1000,6,0),\"\")","v":""}]
[null,null,{"$f":"IFERROR(VLOOKUP(A1534,Insumos!A:B,2,FALSE),\"\")","v":""},null,null,null,null,{"$f":"IFERROR(VLOOKUP(E1534,Nota_Fiscal!$G$4:$L$1000,6,0),\"\")","v":""}]
[null,null,{"$f":"IFERROR(VLOOKUP(A1535,Insumos!A:B,2,FALSE),\"\")","v":""},null,null,null,null,{"$f":"IFERROR(VLOOKUP(E1535,Nota_Fiscal!$G$4:$L$1000,6,0),\"\")","v":""}]
[null,null,{"$f":"IFERROR(VLOOKUP(A1536,Insumos!A:B,2,FALSE),\"\")","v":""},null,null,null,null,{"$f":"IFERROR(VLOOKUP(E1536,Nota_Fiscal!$G$4:$L$1000,6,0),\"\")","v":""}]
[null,null,{"$f":"IFERROR(VLOOKUP(A1537,Insumos!A:B,2,FALSE),\"\")","v":""},null,null,null,null,{"$f":"IFERROR(VLOOKUP(E1537,Nota_Fiscal!$G$4:$L$1000,6,0),\"\")","v":""}]
[null,null,{"$f":"IFERROR(VLOOKUP(A1538,Insumos!A:B,2,FALSE),\"\")","v":""},null,null,null,null,{"$f":"IFERROR(VLOOKUP(E1538,Nota_Fiscal!$G$4:$L$1000,6,0),\"\")","v":""}]
[null,null,{"$f":"IFERROR(VLOOKUP(A1539,Insumos!A:B,2,FALSE),\"\")","v":""},null,null,null,null,{"$f":"IFERROR(VLOOKUP(E1539,Nota_Fiscal!$G$4:$L$1000,6,0),\"\")","v":""}]
[null,null,{"$f":"IFERROR(VLOOKUP(A1540,Insumos!A:B,2,FALSE),\"\")","v":""},null,null,null,null,{"$f":"IFERROR(VLOOKUP(E1540,Nota_Fiscal!$G$4:$L$1000,6,0),\"\")","v":""}]
[null,null,{"$f":"IFERROR(VLOOKUP(A1541,Insumos!A:B,2,FALSE),\"\")","v":""},null,null,null,null,{"$f":"IFERROR(VLOOKUP(E1541,Nota_Fiscal!$G$4:$L$1000,6,0),\"\")","v":""}]
[null,null,{"$f":"IFERROR(VLOOKUP(A1542,Insumos!A:B,2,FALSE),\"\")","v":""},null,null,null,null,{"$f":"IFERROR(VLOOKUP(E1542,Nota_Fiscal!$G$4:$L$1000,6,0),\"\")","v":""}]
[null,null,{"$f":"IFERROR(VLOOKUP(A1543,Insumos!A:B,2,FALSE),\"\")","v":""},null,null,null,null,{"$f":"IFERROR(VLOOKUP(E1543,Nota_Fiscal!$G$4:$L$1000,6,0),\"\")","v":""}]
[null,null,{"$f":"IFERROR(VLOOKUP(A1544,Insumos!A:B,2,FALSE),\"\")","v":""},null,null,null,null,{"$f":"IFERROR(VLOOKUP(E1544,Nota_Fiscal!$G$4:$L$1000,6,0),\"\")","v":""}]
[null,null,{"$f":"IFERROR(VLOOKUP(A1545,Insumos!A:B,2,FALSE),\"\")","v":""},null,null,null,null,{"$f":"IFERROR(VLOOKUP(E1545,Nota_Fiscal!$G$4:$L$1000,6,0),\"\")","v":""}]
[null,null,{"$f":"IFERROR(VLOOKUP(A1546,Insumos!A:B,2,FALSE),\"\")","v":""},null,null,null,null,{"$f":"IFERROR(VLOOKUP(E1546,Nota_Fiscal!$G$4:$L$1000,6,0),\"\")","v":""}]
[null,null,{"$f":"IFERROR(VLOOKUP(A1547,Insumos!A:B,2,FALSE),\"\")","v":""},null,null,null,null,{"$f":"IFERROR(VLOOKUP(E1547,Nota_Fiscal!$G$4:$L$1000,6,0),\"\")","v":""}]
[null,null,{"$f":"IFERROR(VLOOKUP(A1548,Insumos!A:B,2,FALSE),\"\")","v":""},null,null,null,null,{"$f":"IFERROR(VLOOKUP(E1548,Nota_Fiscal!$G$4:$L$1000,6,0),\"\")","v":""}]
[null,null,{"$f":"IFERROR(VLOOKUP(A1549,Insumos!A:B,2,FALSE),\"\")","v":""},null,null,null,null,{"$f":"IFERROR(VLOOKUP(E1549,Nota_Fiscal!$G$4:$L$1000,6,0),\"\")","v":""}]
[null,null,{"$f":"IFERROR(VLOOKUP(A1550,Insumos!A:B,2,FALSE),\"\")","v":""},null,null,null,null,{"$f":"IFERROR(VLOOKUP(E1550,Nota_Fiscal!$G$4:$L$1000,6,0),\"\")","v":""}]
[null,null,{"$f":"IFERROR(VLOOKUP(A1551,Insumos!A:B,2,FALSE),\"\")","v":""},null,null,null,null,{"$f":"IFERROR(VLOOKUP(E1551,Nota_Fiscal!$G$4:$L$1000,6,0),\"\")","v":""}]
[null,null,{"$f":"IFERROR(VLOOKUP(A1552,Insumos!A:B,2,FALSE),\"\")","v":""},null,null,null,null,{"$f":"IFERROR(VLOOKUP(E1552,Nota_Fiscal!$G$4:$L$1000,6,0),\"\")","v":""}]
[null,null,{"$f":"IFERROR(VLOOKUP(A1553,Insumos!A:B,2,FALSE),\"\")","v":""},null,null,null,null,{"$f":"IFERROR(VLOOKUP(E1553,Nota_Fiscal!$G$4:$L$1000,6,0),\"\")","v":""}]
[null,null,{"$f":"IFERROR(VLOOKUP(A1554,Insumos!A:B,2,FALSE),\"\")","v":""},null,null,null,null,{"$f":"IFERROR(VLOOKUP(E1554,Nota_Fiscal!$G$4:$L$1000,6,0),\"\")","v":""}]
[null,null,{"$f":"IFERROR(VLOOKUP(A1555,Insumos!A:B,2,FALSE),\"\")","v":""},null,null,null,null,{"$f":"IFERROR(VLOOKUP(E1555,Nota_Fiscal!$G$4:$L$1000,6,0),\"\")","v":""}]
[null,null,{"$f":"IFERROR(VLOOKUP(A1556,Insumos!A:B,2,FALSE),\"\")","v":""},null,null,null,null,{"$f":"IFERROR(VLOOKUP(E1556,Nota_Fiscal!$G$4:$L$1000,6,0),\"\")","v":""}]
[null,null,{"$f":"IFERROR(VLOOKUP(A1557,Insumos!A:B,2,FALSE),\"\")","v":""},null,null,null,null,{"$f":"IFERROR(VLOOKUP(E1557,Nota_Fiscal!$G$4:$L$1000,6,0),\"\")","v":""}]
[null,null,{"$f":"IFERROR(VLOOKUP(A1558,Insumos!A:B,2,FALSE),\"\")","v":""},null,null,null,null,{"$f":"IFERROR(VLOOKUP(E1558,Nota_Fiscal!$G$4:$L$1000,6,0),\"\")","v":""}]
[null,null,{"$f":"IFERROR(VLOOKUP(A1559,Insumos!A:B,2,FALSE),\"\")","v":""},null,null,null,null,{"$f":"IFERROR(VLOOKUP(E1559,Nota_Fiscal!$G$4:$L$1000,6,0),\"\")","v":""}]
[null,null,{"$f":"IFERROR(VLOOKUP(A1560,Insumos!A:B,2,FALSE),\"\")","v":""},null,null,null,null,{"$f":"IFERROR(VLOOKUP(E1560,Nota_Fiscal!$G$4:$L$1000,6,0),\"\")","v":""}]
[null,null,{"$f":"IFERROR(VLOOKUP(A1561,Insumos!A:B,2,FALSE),\"\")","v":""},null,null,null,null,{"$f":"IFERROR(VLOOKUP(E1561,Nota_Fiscal!$G$4:$L$1000,6,0),\"\")","v":""}]
[null,null,{"$f":"IFERROR(VLOOKUP(A1562,Insumos!A:B,2,FALSE),\"\")","v":""},null,null,null,null,{"$f":"IFERROR(VLOOKUP(E1562,Nota_Fiscal!$G$4:$L$1000,6,0),\"\")","v":""}]
[null,null,{"$f":"IFERROR(VLOOKUP(A1563,Insumos!A:B,2,FALSE),\"\")","v":""},null,null,null,null,{"$f":"IFERROR(VLOOKUP(E1563,Nota_Fiscal!$G$4:$L$1000,6,0),\"\")","v":""}]
[null,null,{"$f":"IFERROR(VLOOKUP(A1564,Insumos!A:B,2,FALSE),\"\")","v":""},null,null,null,null,{"$f":"IFERROR(VLOOKUP(E1564,Nota_Fiscal!$G$4:$L$1000,6,0),\"\")","v":""}]
[null,null,{"$f":"IFERROR(VLOOKUP(A1565,Insumos!A:B,2,FALSE),\"\")","v":""},null,null,null,null,{"$f":"IFERROR(VLOOKUP(E1565,Nota_Fiscal!$G$4:$L$1000,6,0),\"\")","v":""}]
[null,null,{"$f":"IFERROR(VLOOKUP(A1566,Insumos!A:B,2,FALSE),\"\")","v":""},null,null,null,null,{"$f":"IFERROR(VLOOKUP(E1566,Nota_Fiscal!$G$4:$L$1000,6,0),\"\")","v":""}]
[null,null,{"$f":"IFERROR(VLOOKUP(A1567,Insumos!A:B,2,FALSE),\"\")","v":""},null,null,null,null,{"$f":"IFERROR(VLOOKUP(E1567,Nota_Fiscal!$G$4:$L$1000,6,0),\"\")","v":""}]
[null,null,{"$f":"IFERROR(VLOOKUP(A1568,Insumos!A:B,2,FALSE),\"\")","v":""},null,null,null,null,{"$f":"IFERROR(VLOOKUP(E1568,Nota_Fiscal!$G$4:$L$1000,6,0),\"\")","v":""}]
[null,null,{"$f":"IFERROR(VLOOKUP(A1569,Insumos!A:B,2,FALSE),\"\")","v":""},null,null,null,null,{"$f":"IFERROR(VLOOKUP(E1569,Nota_Fiscal!$G$4:$L$1000,6,0),\"\")","v":""}]
[null,null,{"$f":"IFERROR(VLOOKUP(A1570,Insumos!A:B,2,FALSE),\"\")","v":""},null,null,null,null,{"$f":"IFERROR(VLOOKUP(E1570,Nota_Fiscal!$G$4:$L$1000,6,0),\"\")","v":""}]
[null,null,{"$f":"IFERROR(VLOOKUP(A1571,Insumos!A:B,2,FALSE),\"\")","v":""},null,null,null,null,{"$f":"IFERROR(VLOOKUP(E1571,Nota_Fiscal!$G$4:$L$1000,6,0),\"\")","v":""}]
[null,null,{"$f":"IFERROR(VLOOKUP(A1572,Insumos!A:B,2,FALSE),\"\")","v":""},null,null,null,null,{"$f":"IFERROR(VLOOKUP(E1572,Nota_Fiscal!$G$4:$L$1000,6,0),\"\")","v":""}]
[null,null,{"$f":"IFERROR(VLOOKUP(A1573,Insumos!A:B,2,FALSE),\"\")","v":""},null,null,null,null,{"$f":"IFERROR(VLOOKUP(E1573,Nota_Fiscal!$G$4:$L$1000,6,0),\"\")","v":""}]
[null,null,{"$f":"IFERROR(VLOOKUP(A1574,Insumos!A:B,2,FALSE),\"\")","v":""},null,null,null,null,{"$f":"IFERROR(VLOOKUP(E1574,Nota_Fiscal!$G$4:$L$1000,6,0),\"\")","v":""}]
[null,null,{"$f":"IFERROR(VLOOKUP(A1575,Insumos!A:B,2,FALSE),\"\")","v":""},null,null,null,null,{"$f":"IFERROR(VLOOKUP(E1575,Nota_Fiscal!$G$4:$L$1000,6,0),\"\")","v":""}]
[null,null,{"$f":"IFERROR(VLOOKUP(A1576,Insumos!A:B,2,FALSE),\"\")","v":""},null,null,null,null,{"$f":"IFERROR(VLOOKUP(E1576,Nota_Fiscal!$G$4:$L$1000,6,0),\"\")","v":""}]
[null,null,{"$f":"IFERROR(VLOOKUP(A1577,Insumos!A:B,2,FALSE),\"\")","v":""},null,null,null,null,{"$f":"IFERROR(VLOOKUP(E1577,Nota_Fiscal!$G$4:$L$1000,6,0),\"\")","v":""}]
[null,null,{"$f":"IFERROR(VLOOKUP(A1578,Insumos!A:B,2,FALSE),\"\")","v":""},null,null,null,null,{"$f":"IFERROR(VLOOKUP(E1578,Nota_Fiscal!$G$4:$L$1000,6,0),\"\")","v":""}]
[null,null,{"$f":"IFERROR(VLOOKUP(A1579,Insumos!A:B,2,FALSE),\"\")","v":""},null,null,null,null,{"$f":"IFERROR(VLOOKUP(E1579,Nota_Fiscal!$G$4:$L$1000,6,0),\"\")","v":""}]
[null,null,{"$f":"IFERROR(VLOOKUP(A1580,Insumos!A:B,2,FALSE),\"\")","v":""},null,null,null,null,{"$f":"IFERROR(VLOOKUP(E1580,Nota_Fiscal!$G$4:$L$1000,6,0),\"\")","v":""}]
[null,null,{"$f":"IFERROR(VLOOKUP(A1581,Insumos!A:B,2,FALSE),\"\")","v":""},null,null,null,null,{"$f":"IFERROR(VLOOKUP(E1581,Nota_Fiscal!$G$4:$L$1000,6,0),\"\")","v":""}]
[null,null,{"$f":"IFERROR(VLOOKUP(A1582,Insumos!A:B,2,FALSE),\"\")","v":""},null,null,null,null,{"$f":"IFERROR(VLOOKUP(E1582,Nota_Fiscal!$G$4:$L$1000,6,0),\"\")","v":""}]
[null,null,{"$f":"IFERROR(VLOOKUP(A1583,Insumos!A:B,2,FALSE),\"\")","v":""},null,null,null,null,{"$f":"IFERROR(VLOOKUP(E1583,Nota_Fiscal!$G$4:$L$1000,6,0),\"\")","v":""}]
[null,null,{"$f":"IFERROR(VLOOKUP(A1584,Insumos!A:B,2,FALSE),\"\")","v":""},null,null,null,null,{"$f":"IFERROR(VLOOKUP(E1584,Nota_Fiscal!$G$4:$L$1000,6,0),\"\")","v":""}]
[null,null,{"$f":"IFERROR(VLOOKUP(A1585,Insumos!A:B,2,FALSE),\"\")","v":""},null,null,null,null,{"$f":"IFERROR(VLOOKUP(E1585,Nota_Fiscal!$G$4:$L$1000,6,0),\"\")","v":""}]
[null,null,{"$f":"IFERROR(VLOOKUP(A1586,Insumos!A:B,2,FALSE),\"\")","v":""},null,null,null,null,{"$f":"IFERROR(VLOOKUP(E1586,Nota_Fiscal!$G$4:$L$1000,6,0),\"\")","v":""}]
[null,null,{"$f":"IFERROR(VLOOKUP(A1587,Insumos!A:B,2,FALSE),\"\")","v":""},null,null,null,null,{"$f":"IFERROR(VLOOKUP(E1587,Nota_Fiscal!$G$4:$L$1000,6,0),\"\")","v":""}]
[null,null,{"$f":"IFERROR(VLOOKUP(A1588,Insumos!A:B,2,FALSE),\"\")","v":""},null,null,null,null,{"$f":"IFERROR(VLOOKUP(E1588,Nota_Fiscal!$G$4:$L$1000,6,0),\"\")","v":""}]
[null,null,{"$f":"IFERROR(VLOOKUP(A1589,Insumos!A:B,2,FALSE),\"\")","v":""},null,null,null,null,{"$f":"IFERROR(VLOOKUP(E1589,Nota_Fiscal!$G$4:$L$1000,6,0),\"\")","v":""}]
[null,null,{"$f":"IFERROR(VLOOKUP(A1590,Insumos!A:B,2,FALSE),\"\")","v":""},null,null,null,null,{"$f":"IFERROR(VLOOKUP(E1590,Nota_Fiscal!$G$4:$L$1000,6,0),\"\")","v":""}]
[null,null,{"$f":"IFERROR(VLOOKUP(A1591,Insumos!A:B,2,FALSE),\"\")","v":""},null,null,null,null,{"$f":"IFERROR(VLOOKUP(E1591,Nota_Fiscal!$G$4:$L$1000,6,0),\"\")","v":""}]
[null,null,{"$f":"IFERROR(VLOOKUP(A1592,Insumos!A:B,2,FALSE),\"\")","v":""},null,null,null,null,{"$f":"IFERROR(VLOOKUP(E1592,Nota_Fiscal!$G$4:$L$1000,6,0),\"\")","v":""}]
[null,null,{"$f":"IFERROR(VLOOKUP(A1593,Insumos!A:B,2,FALSE),\"\")","v":""},null,null,null,null,{"$f":"IFERROR(VLOOKUP(E1593,Nota_Fiscal!$G$4:$L$1000,6,0),\"\")","v":""}]
[null,null,{"$f":"IFERROR(VLOOKUP(A1594,Insumos!A:B,2,FALSE),\"\")","v":""},null,null,null,null,{"$f":"IFERROR(VLOOKUP(E1594,Nota_Fiscal!$G$4:$L$1000,6,0),\"\")","v":""}]
[null,null,{"$f":"IFERROR(VLOOKUP(A1595,Insumos!A:B,2,FALSE),\"\")","v":""},null,null,null,null,{"$f":"IFERROR(VLOOKUP(E1595,Nota_Fiscal!$G$4:$L$1000,6,0),\"\")","v":""}]
[null,null,{"$f":"IFERROR(VLOOKUP(A1596,Insumos!A:B,2,FALSE),\"\")","v":""},null,null,null,null,{"$f":"IFERROR(VLOOKUP(E1596,Nota_Fiscal!$G$4:$L$1000,6,0),\"\")","v":""}]
[null,null,{"$f":"IFERROR(VLOOKUP(A1597,Insumos!A:B,2,FALSE),\"\")","v":""},null,null,null,null,{"$f":"IFERROR(VLOOKUP(E1597,Nota_Fiscal!$G$4:$L$1000,6,0),\"\")","v":""}]
[null,null,{"$f":"IFERROR(VLOOKUP(A1598,Insumos!A:B,2,FALSE),\"\")","v":""},null,null,null,null,{"$f":"IFERROR(VLOOKUP(E1598,Nota_Fiscal!$G$4:$L$1000,6,0),\"\")","v":""}]
[null,null,{"$f":"IFERROR(VLOOKUP(A1599,Insumos!A:B,2,FALSE),\"\")","v":""},null,null,null,null,{"$f":"IFERROR(VLOOKUP(E1599,Nota_Fiscal!$G$4:$L$1000,6,0),\"\")","v":""}]
[null,null,{"$f":"IFERROR(VLOOKUP(A1600,Insumos!A:B,2,FALSE),\"\")","v":""},null,null,null,null,{"$f":"IFERROR(VLOOKUP(E1600,Nota_Fiscal!$G$4:$L$1000,6,0),\"\")","v":""}]
[null,null,{"$f":"IFERROR(VLOOKUP(A1601,Insumos!A:B,2,FALSE),\"\")","v":""},null,null,null,null,{"$f":"IFERROR(VLOOKUP(E1601,Nota_Fiscal!$G$4:$L$1000,6,0),\"\")","v":""}]
[null,null,{"$f":"IFERROR(VLOOKUP(A1602,Insumos!A:B,2,FALSE),\"\")","v":""},null,null,null,null,{"$f":"IFERROR(VLOOKUP(E1602,Nota_Fiscal!$G$4:$L$1000,6,0),\"\")","v":""}]
[null,null,{"$f":"IFERROR(VLOOKUP(A1603,Insumos!A:B,2,FALSE),\"\")","v":""},null,null,null,null,{"$f":"IFERROR(VLOOKUP(E1603,Nota_Fiscal!$G$4:$L$1000,6,0),\"\")","v":""}]
[null,null,{"$f":"IFERROR(VLOOKUP(A1604,Insumos!A:B,2,FALSE),\"\")","v":""},null,null,null,null,{"$f":"IFERROR(VLOOKUP(E1604,Nota_Fiscal!$G$4:$L$1000,6,0),\"\")","v":""}]
[null,null,{"$f":"IFERROR(VLOOKUP(A1605,Insumos!A:B,2,FALSE),\"\")","v":""},null,null,null,null,{"$f":"IFERROR(VLOOKUP(E1605,Nota_Fiscal!$G$4:$L$1000,6,0),\"\")","v":""}]
[null,null,{"$f":"IFERROR(VLOOKUP(A1606,Insumos!A:B,2,FALSE),\"\")","v":""},null,null,null,null,{"$f":"IFERROR(VLOOKUP(E1606,Nota_Fiscal!$G$4:$L$1000,6,0),\"\")","v":""}]
[null,null,{"$f":"IFERROR(VLOOKUP(A1607,Insumos!A:B,2,FALSE),\"\")","v":""},null,null,null,null,{"$f":"IFERROR(VLOOKUP(E1607,Nota_Fiscal!$G$4:$L$1000,6,0),\"\")","v":""}]
[null,null,{"$f":"IFERROR(VLOOKUP(A1608,Insumos!A:B,2,FALSE),\"\")","v":""},null,null,null,null,{"$f":"IFERROR(VLOOKUP(E1608,Nota_Fiscal!$G$4:$L$1000,6,0),\"\")","v":""}]
[null,null,{"$f":"IFERROR(VLOOKUP(A1609,Insumos!A:B,2,FALSE),\"\")","v":""},null,null,null,null,{"$f":"IFERROR(VLOOKUP(E1609,Nota_Fiscal!$G$4:$L$1000,6,0),\"\")","v":""}]
[null,null,{"$f":"IFERROR(VLOOKUP(A1610,Insumos!A:B,2,FALSE),\"\")","v":""},null,null,null,null,{"$f":"IFERROR(VLOOKUP(E1610,Nota_Fiscal!$G$4:$L$1000,6,0),\"\")","v":""}]
[null,null,{"$f":"IFERROR(VLOOKUP(A1611,Insumos!A:B,2,FALSE),\"\")","v":""},null,null,null,null,{"$f":"IFERROR(VLOOKUP(E1611,Nota_Fiscal!$G$4:$L$1000,6,0),\"\")","v":""}]
[null,null,{"$f":"IFERROR(VLOOKUP(A1612,Insumos!A:B,2,FALSE),\"\")","v":""},null,null,null,null,{"$f":"IFERROR(VLOOKUP(E1612,Nota_Fiscal!$G$4:$L$1000,6,0),\"\")","v":""}]
[null,null,{"$f":"IFERROR(VLOOKUP(A1613,Insumos!A:B,2,FALSE),\"\")","v":""},null,null,null,null,{"$f":"IFERROR(VLOOKUP(E1613,Nota_Fiscal!$G$4:$L$1000,6,0),\"\")","v":""}]
[null,null,{"$f":"IFERROR(VLOOKUP(A1614,Insumos!A:B,2,FALSE),\"\")","v":""},null,null,null,null,{"$f":"IFERROR(VLOOKUP(E1614,Nota_Fiscal!$G$4:$L$1000,6,0),\"\")","v":""}]
[null,null,{"$f":"IFERROR(VLOOKUP(A1615,Insumos!A:B,2,FALSE),\"\")","v":""},null,null,null,null,{"$f":"IFERROR(VLOOKUP(E1615,Nota_Fiscal!$G$4:$L$1000,6,0),\"\")","v":""}]
[null,null,{"$f":"IFERROR(VLOOKUP(A1616,Insumos!A:B,2,FALSE),\"\")","v":""},null,null,null,null,{"$f":"IFERROR(VLOOKUP(E1616,Nota_Fiscal!$G$4:$L$1000,6,0),\"\")","v":""}]
[null,null,{"$f":"IFERROR(VLOOKUP(A1617,Insumos!A:B,2,FALSE),\"\")","v":""},null,null,null,null,{"$f":"IFERROR(VLOOKUP(E1617,Nota_Fiscal!$G$4:$L$1000,6,0),\"\")","v":""}]
[null,null,{"$f":"IFERROR(VLOOKUP(A1618,Insumos!A:B,2,FALSE),\"\")","v":""},null,null,null,null,{"$f":"IFERROR(VLOOKUP(E1618,Nota_Fiscal!$G$4:$L$1000,6,0),\"\")","v":""}]
[null,null,{"$f":"IFERROR(VLOOKUP(A1619,Insumos!A:B,2,FALSE),\"\")","v":""},null,null,null,null,{"$f":"IFERROR(VLOOKUP(E1619,Nota_Fiscal!$G$4:$L$1000,6,0),\"\")","v":""}]
[null,null,{"$f":"IFERROR(VLOOKUP(A1620,Insumos!A:B,2,FALSE),\"\")","v":""},null,null,null,null,{"$f":"IFERROR(VLOOKUP(E1620,Nota_Fiscal!$G$4:$L$1000,6,0),\"\")","v":""}]
[null,null,{"$f":"IFERROR(VLOOKUP(A1621,Insumos!A:B,2,FALSE),\"\")","v":""},null,null,null,null,{"$f":"IFERROR(VLOOKUP(E1621,Nota_Fiscal!$G$4:$L$1000,6,0),\"\")","v":""}]
[null,null,{"$f":"IFERROR(VLOOKUP(A1622,Insumos!A:B,2,FALSE),\"\")","v":""},null,null,null,null,{"$f":"IFERROR(VLOOKUP(E1622,Nota_Fiscal!$G$4:$L$1000,6,0),\"\")","v":""}]
[null,null,{"$f":"IFERROR(VLOOKUP(A1623,Insumos!A:B,2,FALSE),\"\")","v":""},null,null,null,null,{"$f":"IFERROR(VLOOKUP(E1623,Nota_Fiscal!$G$4:$L$1000,6,0),\"\")","v":""}]
[null,null,{"$f":"IFERROR(VLOOKUP(A1624,Insumos!A:B,2,FALSE),\"\")","v":""},null,null,null,null,{"$f":"IFERROR(VLOOKUP(E1624,Nota_Fiscal!$G$4:$L$1000,6,0),\"\")","v":""}]
[null,null,{"$f":"IFERROR(VLOOKUP(A1625,Insumos!A:B,2,FALSE),\"\")","v":""},null,null,null,null,{"$f":"IFERROR(VLOOKUP(E1625,Nota_Fiscal!$G$4:$L$1000,6,0),\"\")","v":""}]
[null,null,{"$f":"IFERROR(VLOOKUP(A1626,Insumos!A:B,2,FALSE),\"\")","v":""},null,null,null,null,{"$f":"IFERROR(VLOOKUP(E1626,Nota_Fiscal!$G$4:$L$1000,6,0),\"\")","v":""}]
[null,null,{"$f":"IFERROR(VLOOKUP(A1627,Insumos!A:B,2,FALSE),\"\")","v":""},null,null,null,null,{"$f":"IFERROR(VLOOKUP(E1627,Nota_Fiscal!$G$4:$L$1000,6,0),\"\")","v":""}]
[null,null,{"$f":"IFERROR(VLOOKUP(A1628,Insumos!A:B,2,FALSE),\"\")","v":""},null,null,null,null,{"$f":"IFERROR(VLOOKUP(E1628,Nota_Fiscal!$G$4:$L$1000,6,0),\"\")","v":""}]
[null,null,{"$f":"IFERROR(VLOOKUP(A1629,Insumos!A:B,2,FALSE),\"\")","v":""},null,null,null,null,{"$f":"IFERROR(VLOOKUP(E1629,Nota_Fiscal!$G$4:$L$1000,6,0),\"\")","v":""}]
[null,null,{"$f":"IFERROR(VLOOKUP(A1630,Insumos!A:B,2,FALSE),\"\")","v":""},null,null,null,null,{"$f":"IFERROR(VLOOKUP(E1630,Nota_Fiscal!$G$4:$L$1000,6,0),\"\")","v":""}]
[null,null,{"$f":"IFERROR(VLOOKUP(A1631,Insumos!A:B,2,FALSE),\"\")","v":""},null,null,null,null,{"$f":"IFERROR(VLOOKUP(E1631,Nota_Fiscal!$G$4:$L$1000,6,0),\"\")","v":""}]
[null,null,{"$f":"IFERROR(VLOOKUP(A1632,Insumos!A:B,2,FALSE),\"\")","v":""},null,null,null,null,{"$f":"IFERROR(VLOOKUP(E1632,Nota_Fiscal!$G$4:$L$1000,6,0),\"\")","v":""}]
[null,null,{"$f":"IFERROR(VLOOKUP(A1633,Insumos!A:B,2,FALSE),\"\")","v":""},null,null,null,null,{"$f":"IFERROR(VLOOKUP(E1633,Nota_Fiscal!$G$4:$L$1000,6,0),\"\")","v":""}]
[null,null,{"$f":"IFERROR(VLOOKUP(A1634,Insumos!A:B,2,FALSE),\"\")","v":""},null,null,null,null,{"$f":"IFERROR(VLOOKUP(E1634,Nota_Fiscal!$G$4:$L$1000,6,0),\"\")","v":""}]
[null,null,{"$f":"IFERROR(VLOOKUP(A1635,Insumos!A:B,2,FALSE),\"\")","v":""},null,null,null,null,{"$f":"IFERROR(VLOOKUP(E1635,Nota_Fiscal!$G$4:$L$1000,6,0),\"\")","v":""}]
[null,null,{"$f":"IFERROR(VLOOKUP(A1636,Insumos!A:B,2,FALSE),\"\")","v":""},null,null,null,null,{"$f":"IFERROR(VLOOKUP(E1636,Nota_Fiscal!$G$4:$L$1000,6,0),\"\")","v":""}]
[null,null,{"$f":"IFERROR(VLOOKUP(A1637,Insumos!A:B,2,FALSE),\"\")","v":""},null,null,null,null,{"$f":"IFERROR(VLOOKUP(E1637,Nota_Fiscal!$G$4:$L$1000,6,0),\"\")","v":""}]
[null,null,{"$f":"IFERROR(VLOOKUP(A1638,Insumos!A:B,2,FALSE),\"\")","v":""},null,null,null,null,{"$f":"IFERROR(VLOOKUP(E1638,Nota_Fiscal!$G$4:$L$1000,6,0),\"\")","v":""}]
[null,null,{"$f":"IFERROR(VLOOKUP(A1639,Insumos!A:B,2,FALSE),\"\")","v":""},null,null,null,null,{"$f":"IFERROR(VLOOKUP(E1639,Nota_Fiscal!$G$4:$L$1000,6,0),\"\")","v":""}]
[null,null,{"$f":"IFERROR(VLOOKUP(A1640,Insumos!A:B,2,FALSE),\"\")","v":""},null,null,null,null,{"$f":"IFERROR(VLOOKUP(E1640,Nota_Fiscal!$G$4:$L$1000,6,0),\"\")","v":""}]
[null,null,{"$f":"IFERROR(VLOOKUP(A1641,Insumos!A:B,2,FALSE),\"\")","v":""},null,null,null,null,{"$f":"IFERROR(VLOOKUP(E1641,Nota_Fiscal!$G$4:$L$1000,6,0),\"\")","v":""}]
[null,null,{"$f":"IFERROR(VLOOKUP(A1642,Insumos!A:B,2,FALSE),\"\")","v":""},null,null,null,null,{"$f":"IFERROR(VLOOKUP(E1642,Nota_Fiscal!$G$4:$L$1000,6,0),\"\")","v":""}]
[null,null,{"$f":"IFERROR(VLOOKUP(A1643,Insumos!A:B,2,FALSE),\"\")","v":""},null,null,null,null,{"$f":"IFERROR(VLOOKUP(E1643,Nota_Fiscal!$G$4:$L$1000,6,0),\"\")","v":""}]
[null,null,{"$f":"IFERROR(VLOOKUP(A1644,Insumos!A:B,2,FALSE),\"\")","v":""},null,null,null,null,{"$f":"IFERROR(VLOOKUP(E1644,Nota_Fiscal!$G$4:$L$1000,6,0),\"\")","v":""}]
[null,null,{"$f":"IFERROR(VLOOKUP(A1645,Insumos!A:B,2,FALSE),\"\")","v":""},null,null,null,null,{"$f":"IFERROR(VLOOKUP(E1645,Nota_Fiscal!$G$4:$L$1000,6,0),\"\")","v":""}]
[null,null,{"$f":"IFERROR(VLOOKUP(A1646,Insumos!A:B,2,FALSE),\"\")","v":""},null,null,null,null,{"$f":"IFERROR(VLOOKUP(E1646,Nota_Fiscal!$G$4:$L$1000,6,0),\"\")","v":""}]
[null,null,{"$f":"IFERROR(VLOOKUP(A1647,Insumos!A:B,2,FALSE),\"\")","v":""},null,null,null,null,{"$f":"IFERROR(VLOOKUP(E1647,Nota_Fiscal!$G$4:$L$1000,6,0),\"\")","v":""}]
[null,null,{"$f":"IFERROR(VLOOKUP(A1648,Insumos!A:B,2,FALSE),\"\")","v":""},null,null,null,null,{"$f":"IFERROR(VLOOKUP(E1648,Nota_Fiscal!$G$4:$L$1000,6,0),\"\")","v":""}]
[null,null,{"$f":"IFERROR(VLOOKUP(A1649,Insumos!A:B,2,FALSE),\"\")","v":""},null,null,null,null,{"$f":"IFERROR(VLOOKUP(E1649,Nota_Fiscal!$G$4:$L$1000,6,0),\"\")","v":""}]
[null,null,{"$f":"IFERROR(VLOOKUP(A1650,Insumos!A:B,2,FALSE),\"\")","v":""},null,null,null,null,{"$f":"IFERROR(VLOOKUP(E1650,Nota_Fiscal!$G$4:$L$1000,6,0),\"\")","v":""}]
[null,null,{"$f":"IFERROR(VLOOKUP(A1651,Insumos!A:B,2,FALSE),\"\")","v":""},null,null,null,null,{"$f":"IFERROR(VLOOKUP(E1651,Nota_Fiscal!$G$4:$L$1000,6,0),\"\")","v":""}]
[null,null,{"$f":"IFERROR(VLOOKUP(A1652,Insumos!A:B,2,FALSE),\"\")","v":""},null,null,null,null,{"$f":"IFERROR(VLOOKUP(E1652,Nota_Fiscal!$G$4:$L$1000,6,0),\"\")","v":""}]
[null,null,{"$f":"IFERROR(VLOOKUP(A1653,Insumos!A:B,2,FALSE),\"\")","v":""},null,null,null,null,{"$f":"IFERROR(VLOOKUP(E1653,Nota_Fiscal!$G$4:$L$1000,6,0),\"\")","v":""}]
[null,null,{"$f":"IFERROR(VLOOKUP(A1654,Insumos!A:B,2,FALSE),\"\")","v":""},null,null,null,null,{"$f":"IFERROR(VLOOKUP(E1654,Nota_Fiscal!$G$4:$L$1000,6,0),\"\")","v":""}]
[null,null,{"$f":"IFERROR(VLOOKUP(A1655,Insumos!A:B,2,FALSE),\"\")","v":""},null,null,null,null,{"$f":"IFERROR(VLOOKUP(E1655,Nota_Fiscal!$G$4:$L$1000,6,0),\"\")","v":""}]
[null,null,{"$f":"IFERROR(VLOOKUP(A1656,Insumos!A:B,2,FALSE),\"\")","v":""},null,null,null,null,{"$f":"IFERROR(VLOOKUP(E1656,Nota_Fiscal!$G$4:$L$1000,6,0),\"\")","v":""}]
[null,null,{"$f":"IFERROR(VLOOKUP(A1657,Insumos!A:B,2,FALSE),\"\")","v":""},null,null,null,null,{"$f":"IFERROR(VLOOKUP(E1657,Nota_Fiscal!$G$4:$L$1000,6,0),\"\")","v":""}]
[null,null,{"$f":"IFERROR(VLOOKUP(A1658,Insumos!A:B,2,FALSE),\"\")","v":""},null,null,null,null,{"$f":"IFERROR(VLOOKUP(E1658,Nota_Fiscal!$G$4:$L$1000,6,0),\"\")","v":""}]
[null,null,{"$f":"IFERROR(VLOOKUP(A1659,Insumos!A:B,2,FALSE),\"\")","v":""},null,null,null,null,{"$f":"IFERROR(VLOOKUP(E1659,Nota_Fiscal!$G$4:$L$1000,6,0),\"\")","v":""}]
[null,null,{"$f":"IFERROR(VLOOKUP(A1660,Insumos!A:B,2,FALSE),\"\")","v":""},null,null,null,null,{"$f":"IFERROR(VLOOKUP(E1660,Nota_Fiscal!$G$4:$L$1000,6,0),\"\")","v":""}]
[null,null,{"$f":"IFERROR(VLOOKUP(A1661,Insumos!A:B,2,FALSE),\"\")","v":""},null,null,null,null,{"$f":"IFERROR(VLOOKUP(E1661,Nota_Fiscal!$G$4:$L$1000,6,0),\"\")","v":""}]
[null,null,{"$f":"IFERROR(VLOOKUP(A1662,Insumos!A:B,2,FALSE),\"\")","v":""},null,null,null,null,{"$f":"IFERROR(VLOOKUP(E1662,Nota_Fiscal!$G$4:$L$1000,6,0),\"\")","v":""}]
[null,null,{"$f":"IFERROR(VLOOKUP(A1663,Insumos!A:B,2,FALSE),\"\")","v":""},null,null,null,null,{"$f":"IFERROR(VLOOKUP(E1663,Nota_Fiscal!$G$4:$L$1000,6,0),\"\")","v":""}]
[null,null,{"$f":"IFERROR(VLOOKUP(A1664,Insumos!A:B,2,FALSE),\"\")","v":""},null,null,null,null,{"$f":"IFERROR(VLOOKUP(E1664,Nota_Fiscal!$G$4:$L$1000,6,0),\"\")","v":""}]
[null,null,{"$f":"IFERROR(VLOOKUP(A1665,Insumos!A:B,2,FALSE),\"\")","v":""},null,null,null,null,{"$f":"IFERROR(VLOOKUP(E1665,Nota_Fiscal!$G$4:$L$1000,6,0),\"\")","v":""}]
[null,null,{"$f":"IFERROR(VLOOKUP(A1666,Insumos!A:B,2,FALSE),\"\")","v":""},null,null,null,null,{"$f":"IFERROR(VLOOKUP(E1666,Nota_Fiscal!$G$4:$L$1000,6,0),\"\")","v":""}]
[null,null,{"$f":"IFERROR(VLOOKUP(A1667,Insumos!A:B,2,FALSE),\"\")","v":""},null,null,null,null,{"$f":"IFERROR(VLOOKUP(E1667,Nota_Fiscal!$G$4:$L$1000,6,0),\"\")","v":""}]
[null,null,{"$f":"IFERROR(VLOOKUP(A1668,Insumos!A:B,2,FALSE),\"\")","v":""},null,null,null,null,{"$f":"IFERROR(VLOOKUP(E1668,Nota_Fiscal!$G$4:$L$1000,6,0),\"\")","v":""}]
[null,null,{"$f":"IFERROR(VLOOKUP(A1669,Insumos!A:B,2,FALSE),\"\")","v":""},null,null,null,null,{"$f":"IFERROR(VLOOKUP(E1669,Nota_Fiscal!$G$4:$L$1000,6,0),\"\")","v":""}]
[null,null,{"$f":"IFERROR(VLOOKUP(A1670,Insumos!A:B,2,FALSE),\"\")","v":""},null,null,null,null,{"$f":"IFERROR(VLOOKUP(E1670,Nota_Fiscal!$G$4:$L$1000,6,0),\"\")","v":""}]
[null,null,{"$f":"IFERROR(VLOOKUP(A1671,Insumos!A:B,2,FALSE),\"\")","v":""},null,null,null,null,{"$f":"IFERROR(VLOOKUP(E1671,Nota_Fiscal!$G$4:$L$1000,6,0),\"\")","v":""}]
[null,null,{"$f":"IFERROR(VLOOKUP(A1672,Insumos!A:B,2,FALSE),\"\")","v":""},null,null,null,null,{"$f":"IFERROR(VLOOKUP(E1672,Nota_Fiscal!$G$4:$L$1000,6,0),\"\")","v":""}]
[null,null,{"$f":"IFERROR(VLOOKUP(A1673,Insumos!A:B,2,FALSE),\"\")","v":""},null,null,null,null,{"$f":"IFERROR(VLOOKUP(E1673,Nota_Fiscal!$G$4:$L$1000,6,0),\"\")","v":""}]
[null,null,{"$f":"IFERROR(VLOOKUP(A1674,Insumos!A:B,2,FALSE),\"\")","v":""},null,null,null,null,{"$f":"IFERROR(VLOOKUP(E1674,Nota_Fiscal!$G$4:$L$1000,6,0),\"\")","v":""}]
[null,null,{"$f":"IFERROR(VLOOKUP(A1675,Insumos!A:B,2,FALSE),\"\")","v":""},null,null,null,null,{"$f":"IFERROR(VLOOKUP(E1675,Nota_Fiscal!$G$4:$L$1000,6,0),\"\")","v":""}]
[null,null,{"$f":"IFERROR(VLOOKUP(A1676,Insumos!A:B,2,FALSE),\"\")","v":""},null,null,null,null,{"$f":"IFERROR(VLOOKUP(E1676,Nota_Fiscal!$G$4:$L$1000,6,0),\"\")","v":""}]
[null,null,{"$f":"IFERROR(VLOOKUP(A1677,Insumos!A:B,2,FALSE),\"\")","v":""},null,null,null,null,{"$f":"IFERROR(VLOOKUP(E1677,Nota_Fiscal!$G$4:$L$1000,6,0),\"\")","v":""}]
[null,null,{"$f":"IFERROR(VLOOKUP(A1678,Insumos!A:B,2,FALSE),\"\")","v":""},null,null,null,null,{"$f":"IFERROR(VLOOKUP(E1678,Nota_Fiscal!$G$4:$L$1000,6,0),\"\")","v":""}]
[null,null,{"$f":"IFERROR(VLOOKUP(A1679,Insumos!A:B,2,FALSE),\"\")","v":""},null,null,null,null,{"$f":"IFERROR(VLOOKUP(E1679,Nota_Fiscal!$G$4:$L$1000,6,0),\"\")","v":""}]
[null,null,{"$f":"IFERROR(VLOOKUP(A1680,Insumos!A:B,2,FALSE),\"\")","v":""},null,null,null,null,{"$f":"IFERROR(VLOOKUP(E1680,Nota_Fiscal!$G$4:$L$1000,6,0),\"\")","v":""}]
[null,null,{"$f":"IFERROR(VLOOKUP(A1681,Insumos!A:B,2,FALSE),\"\")","v":""},null,null,null,null,{"$f":"IFERROR(VLOOKUP(E1681,Nota_Fiscal!$G$4:$L$1000,6,0),\"\")","v":""}]
[null,null,{"$f":"IFERROR(VLOOKUP(A1682,Insumos!A:B,2,FALSE),\"\")","v":""},null,null,null,null,{"$f":"IFERROR(VLOOKUP(E1682,Nota_Fiscal!$G$4:$L$1000,6,0),\"\")","v":""}]
[null,null,{"$f":"IFERROR(VLOOKUP(A1683,Insumos!A:B,2,FALSE),\"\")","v":""},null,null,null,null,{"$f":"IFERROR(VLOOKUP(E1683,Nota_Fiscal!$G$4:$L$1000,6,0),\"\")","v":""}]
[null,null,{"$f":"IFERROR(VLOOKUP(A1684,Insumos!A:B,2,FALSE),\"\")","v":""},null,null,null,null,{"$f":"IFERROR(VLOOKUP(E1684,Nota_Fiscal!$G$4:$L$1000,6,0),\"\")","v":""}]
[null,null,{"$f":"IFERROR(VLOOKUP(A1685,Insumos!A:B,2,FALSE),\"\")","v":""},null,null,null,null,{"$f":"IFERROR(VLOOKUP(E1685,Nota_Fiscal!$G$4:$L$1000,6,0),\"\")","v":""}]
[null,null,{"$f":"IFERROR(VLOOKUP(A1686,Insumos!A:B,2,FALSE),\"\")","v":""},null,null,null,null,{"$f":"IFERROR(VLOOKUP(E1686,Nota_Fiscal!$G$4:$L$1000,6,0),\"\")","v":""}]
[null,null,{"$f":"IFERROR(VLOOKUP(A1687,Insumos!A:B,2,FALSE),\"\")","v":""},null,null,null,null,{"$f":"IFERROR(VLOOKUP(E1687,Nota_Fiscal!$G$4:$L$1000,6,0),\"\")","v":""}]
[null,null,{"$f":"IFERROR(VLOOKUP(A1688,Insumos!A:B,2,FALSE),\"\")","v":""},null,null,null,null,{"$f":"IFERROR(VLOOKUP(E1688,Nota_Fiscal!$G$4:$L$1000,6,0),\"\")","v":""}]
[null,null,{"$f":"IFERROR(VLOOKUP(A1689,Insumos!A:B,2,FALSE),\"\")","v":""},null,null,null,null,{"$f":"IFERROR(VLOOKUP(E1689,Nota_Fiscal!$G$4:$L$1000,6,0),\"\")","v":""}]
[null,null,{"$f":"IFERROR(VLOOKUP(A1690,Insumos!A:B,2,FALSE),\"\")","v":""},null,null,null,null,{"$f":"IFERROR(VLOOKUP(E1690,Nota_Fiscal!$G$4:$L$1000,6,0),\"\")","v":""}]
[null,null,{"$f":"IFERROR(VLOOKUP(A1691,Insumos!A:B,2,FALSE),\"\")","v":""},null,null,null,null,{"$f":"IFERROR(VLOOKUP(E1691,Nota_Fiscal!$G$4:$L$1000,6,0),\"\")","v":""}]
[null,null,{"$f":"IFERROR(VLOOKUP(A1692,Insumos!A:B,2,FALSE),\"\")","v":""},null,null,null,null,{"$f":"IFERROR(VLOOKUP(E1692,Nota_Fiscal!$G$4:$L$1000,6,0),\"\")","v":""}]
[null,null,{"$f":"IFERROR(VLOOKUP(A1693,Insumos!A:B,2,FALSE),\"\")","v":""},null,null,null,null,{"$f":"IFERROR(VLOOKUP(E1693,Nota_Fiscal!$G$4:$L$1000,6,0),\"\")","v":""}]
[null,null,{"$f":"IFERROR(VLOOKUP(A1694,Insumos!A:B,2,FALSE),\"\")","v":""},null,null,null,null,{"$f":"IFERROR(VLOOKUP(E1694,Nota_Fiscal!$G$4:$L$1000,6,0),\"\")","v":""}]
[null,null,{"$f":"IFERROR(VLOOKUP(A1695,Insumos!A:B,2,FALSE),\"\")","v":""},null,null,null,null,{"$f":"IFERROR(VLOOKUP(E1695,Nota_Fiscal!$G$4:$L$1000,6,0),\"\")","v":""}]
[null,null,{"$f":"IFERROR(VLOOKUP(A1696,Insumos!A:B,2,FALSE),\"\")","v":""},null,null,null,null,{"$f":"IFERROR(VLOOKUP(E1696,Nota_Fiscal!$G$4:$L$1000,6,0),\"\")","v":""}]
[null,null,{"$f":"IFERROR(VLOOKUP(A1697,Insumos!A:B,2,FALSE),\"\")","v":""},null,null,null,null,{"$f":"IFERROR(VLOOKUP(E1697,Nota_Fiscal!$G$4:$L$1000,6,0),\"\")","v":""}]
[null,null,{"$f":"IFERROR(VLOOKUP(A1698,Insumos!A:B,2,FALSE),\"\")","v":""},null,null,null,null,{"$f":"IFERROR(VLOOKUP(E1698,Nota_Fiscal!$G$4:$L$1000,6,0),\"\")","v":""}]
[null,null,{"$f":"IFERROR(VLOOKUP(A1699,Insumos!A:B,2,FALSE),\"\")","v":""},null,null,null,null,{"$f":"IFERROR(VLOOKUP(E1699,Nota_Fiscal!$G$4:$L$1000,6,0),\"\")","v":""}]
[null,null,{"$f":"IFERROR(VLOOKUP(A1700,Insumos!A:B,2,FALSE),\"\")","v":""},null,null,null,null,{"$f":"IFERROR(VLOOKUP(E1700,Nota_Fiscal!$G$4:$L$1000,6,0),\"\")","v":""}]
[null,null,{"$f":"IFERROR(VLOOKUP(A1701,Insumos!A:B,2,FALSE),\"\")","v":""},null,null,null,null,{"$f":"IFERROR(VLOOKUP(E1701,Nota_Fiscal!$G$4:$L$1000,6,0),\"\")","v":""}]
[null,null,{"$f":"IFERROR(VLOOKUP(A1702,Insumos!A:B,2,FALSE),\"\")","v":""},null,null,null,null,{"$f":"IFERROR(VLOOKUP(E1702,Nota_Fiscal!$G$4:$L$1000,6,0),\"\")","v":""}]
[null,null,{"$f":"IFERROR(VLOOKUP(A1703,Insumos!A:B,2,FALSE),\"\")","v":""},null,null,null,null,{"$f":"IFERROR(VLOOKUP(E1703,Nota_Fiscal!$G$4:$L$1000,6,0),\"\")","v":""}]
[null,null,{"$f":"IFERROR(VLOOKUP(A1704,Insumos!A:B,2,FALSE),\"\")","v":""},null,null,null,null,{"$f":"IFERROR(VLOOKUP(E1704,Nota_Fiscal!$G$4:$L$1000,6,0),\"\")","v":""}]
[null,null,{"$f":"IFERROR(VLOOKUP(A1705,Insumos!A:B,2,FALSE),\"\")","v":""},null,null,null,null,{"$f":"IFERROR(VLOOKUP(E1705,Nota_Fiscal!$G$4:$L$1000,6,0),\"\")","v":""}]
[null,null,{"$f":"IFERROR(VLOOKUP(A1706,Insumos!A:B,2,FALSE),\"\")","v":""},null,null,null,null,{"$f":"IFERROR(VLOOKUP(E1706,Nota_Fiscal!$G$4:$L$1000,6,0),\"\")","v":""}]
[null,null,{"$f":"IFERROR(VLOOKUP(A1707,Insumos!A:B,2,FALSE),\"\")","v":""},null,null,null,null,{"$f":"IFERROR(VLOOKUP(E1707,Nota_Fiscal!$G$4:$L$1000,6,0),\"\")","v":""}]
[null,null,{"$f":"IFERROR(VLOOKUP(A1708,Insumos!A:B,2,FALSE),\"\")","v":""},null,null,null,null,{"$f":"IFERROR(VLOOKUP(E1708,Nota_Fiscal!$G$4:$L$1000,6,0),\"\")","v":""}]
[null,null,{"$f":"IFERROR(VLOOKUP(A1709,Insumos!A:B,2,FALSE),\"\")","v":""},null,null,null,null,{"$f":"IFERROR(VLOOKUP(E1709,Nota_Fiscal!$G$4:$L$1000,6,0),\"\")","v":""}]
[null,null,{"$f":"IFERROR(VLOOKUP(A1710,Insumos!A:B,2,FALSE),\"\")","v":""},null,null,null,null,{"$f":"IFERROR(VLOOKUP(E1710,Nota_Fiscal!$G$4:$L$1000,6,0),\"\")","v":""}]
[null,null,{"$f":"IFERROR(VLOOKUP(A1711,Insumos!A:B,2,FALSE),\"\")","v":""},null,null,null,null,{"$f":"IFERROR(VLOOKUP(E1711,Nota_Fiscal!$G$4:$L$1000,6,0),\"\")","v":""}]
[null,null,{"$f":"IFERROR(VLOOKUP(A1712,Insumos!A:B,2,FALSE),\"\")","v":""},null,null,null,null,{"$f":"IFERROR(VLOOKUP(E1712,Nota_Fiscal!$G$4:$L$1000,6,0),\"\")","v":""}]
[null,null,{"$f":"IFERROR(VLOOKUP(A1713,Insumos!A:B,2,FALSE),\"\")","v":""},null,null,null,null,{"$f":"IFERROR(VLOOKUP(E1713,Nota_Fiscal!$G$4:$L$1000,6,0),\"\")","v":""}]
[null,null,{"$f":"IFERROR(VLOOKUP(A1714,Insumos!A:B,2,FALSE),\"\")","v":""},null,null,null,null,{"$f":"IFERROR(VLOOKUP(E1714,Nota_Fiscal!$G$4:$L$1000,6,0),\"\")","v":""}]
[null,null,{"$f":"IFERROR(VLOOKUP(A1715,Insumos!A:B,2,FALSE),\"\")","v":""},null,null,null,null,{"$f":"IFERROR(VLOOKUP(E1715,Nota_Fiscal!$G$4:$L$1000,6,0),\"\")","v":""}]
[null,null,{"$f":"IFERROR(VLOOKUP(A1716,Insumos!A:B,2,FALSE),\"\")","v":""},null,null,null,null,{"$f":"IFERROR(VLOOKUP(E1716,Nota_Fiscal!$G$4:$L$1000,6,0),\"\")","v":""}]
[null,null,{"$f":"IFERROR(VLOOKUP(A1717,Insumos!A:B,2,FALSE),\"\")","v":""},null,null,null,null,{"$f":"IFERROR(VLOOKUP(E1717,Nota_Fiscal!$G$4:$L$1000,6,0),\"\")","v":""}]
[null,null,{"$f":"IFERROR(VLOOKUP(A1718,Insumos!A:B,2,FALSE),\"\")","v":""},null,null,null,null,{"$f":"IFERROR(VLOOKUP(E1718,Nota_Fiscal!$G$4:$L$1000,6,0),\"\")","v":""}]
[null,null,{"$f":"IFERROR(VLOOKUP(A1719,Insumos!A:B,2,FALSE),\"\")","v":""},null,null,null,null,{"$f":"IFERROR(VLOOKUP(E1719,Nota_Fiscal!$G$4:$L$1000,6,0),\"\")","v":""}]
[null,null,{"$f":"IFERROR(VLOOKUP(A1720,Insumos!A:B,2,FALSE),\"\")","v":""},null,null,null,null,{"$f":"IFERROR(VLOOKUP(E1720,Nota_Fiscal!$G$4:$L$1000,6,0),\"\")","v":""}]
[null,null,{"$f":"IFERROR(VLOOKUP(A1721,Insumos!A:B,2,FALSE),\"\")","v":""},null,null,null,null,{"$f":"IFERROR(VLOOKUP(E1721,Nota_Fiscal!$G$4:$L$1000,6,0),\"\")","v":""}]
[null,null,{"$f":"IFERROR(VLOOKUP(A1722,Insumos!A:B,2,FALSE),\"\")","v":""},null,null,null,null,{"$f":"IFERROR(VLOOKUP(E1722,Nota_Fiscal!$G$4:$L$1000,6,0),\"\")","v":""}]
[null,null,{"$f":"IFERROR(VLOOKUP(A1723,Insumos!A:B,2,FALSE),\"\")","v":""},null,null,null,null,{"$f":"IFERROR(VLOOKUP(E1723,Nota_Fiscal!$G$4:$L$1000,6,0),\"\")","v":""}]
[null,null,{"$f":"IFERROR(VLOOKUP(A1724,Insumos!A:B,2,FALSE),\"\")","v":""},null,null,null,null,{"$f":"IFERROR(VLOOKUP(E1724,Nota_Fiscal!$G$4:$L$1000,6,0),\"\")","v":""}]
[null,null,{"$f":"IFERROR(VLOOKUP(A1725,Insumos!A:B,2,FALSE),\"\")","v":""},null,null,null,null,{"$f":"IFERROR(VLOOKUP(E1725,Nota_Fiscal!$G$4:$L$1000,6,0),\"\")","v":""}]
[null,null,{"$f":"IFERROR(VLOOKUP(A1726,Insumos!A:B,2,FALSE),\"\")","v":""},null,null,null,null,{"$f":"IFERROR(VLOOKUP(E1726,Nota_Fiscal!$G$4:$L$1000,6,0),\"\")","v":""}]
[null,null,{"$f":"IFERROR(VLOOKUP(A1727,Insumos!A:B,2,FALSE),\"\")","v":""},null,null,null,null,{"$f":"IFERROR(VLOOKUP(E1727,Nota_Fiscal!$G$4:$L$1000,6,0),\"\")","v":""}]
[null,null,{"$f":"IFERROR(VLOOKUP(A1728,Insumos!A:B,2,FALSE),\"\")","v":""},null,null,null,null,{"$f":"IFERROR(VLOOKUP(E1728,Nota_Fiscal!$G$4:$L$1000,6,0),\"\")","v":""}]
[null,null,{"$f":"IFERROR(VLOOKUP(A1729,Insumos!A:B,2,FALSE),\"\")","v":""},null,null,null,null,{"$f":"IFERROR(VLOOKUP(E1729,Nota_Fiscal!$G$4:$L$1000,6,0),\"\")","v":""}]
[null,null,{"$f":"IFERROR(VLOOKUP(A1730,Insumos!A:B,2,FALSE),\"\")","v":""},null,null,null,null,{"$f":"IFERROR(VLOOKUP(E1730,Nota_Fiscal!$G$4:$L$1000,6,0),\"\")","v":""}]
[null,null,{"$f":"IFERROR(VLOOKUP(A1731,Insumos!A:B,2,FALSE),\"\")","v":""},null,null,null,null,{"$f":"IFERROR(VLOOKUP(E1731,Nota_Fiscal!$G$4:$L$1000,6,0),\"\")","v":""}]
[null,null,{"$f":"IFERROR(VLOOKUP(A1732,Insumos!A:B,2,FALSE),\"\")","v":""},null,null,null,null,{"$f":"IFERROR(VLOOKUP(E1732,Nota_Fiscal!$G$4:$L$1000,6,0),\"\")","v":""}]
[null,null,{"$f":"IFERROR(VLOOKUP(A1733,Insumos!A:B,2,FALSE),\"\")","v":""},null,null,null,null,{"$f":"IFERROR(VLOOKUP(E1733,Nota_Fiscal!$G$4:$L$1000,6,0),\"\")","v":""}]
[null,null,{"$f":"IFERROR(VLOOKUP(A1734,Insumos!A:B,2,FALSE),\"\")","v":""},null,null,null,null,{"$f":"IFERROR(VLOOKUP(E1734,Nota_Fiscal!$G$4:$L$1000,6,0),\"\")","v":""}]
[null,null,{"$f":"IFERROR(VLOOKUP(A1735,Insumos!A:B,2,FALSE),\"\")","v":""},null,null,null,null,{"$f":"IFERROR(VLOOKUP(E1735,Nota_Fiscal!$G$4:$L$1000,6,0),\"\")","v":""}]
[null,null,{"$f":"IFERROR(VLOOKUP(A1736,Insumos!A:B,2,FALSE),\"\")","v":""},null,null,null,null,{"$f":"IFERROR(VLOOKUP(E1736,Nota_Fiscal!$G$4:$L$1000,6,0),\"\")","v":""}]
[null,null,{"$f":"IFERROR(VLOOKUP(A1737,Insumos!A:B,2,FALSE),\"\")","v":""},null,null,null,null,{"$f":"IFERROR(VLOOKUP(E1737,Nota_Fiscal!$G$4:$L$1000,6,0),\"\")","v":""}]
[null,null,{"$f":"IFERROR(VLOOKUP(A1738,Insumos!A:B,2,FALSE),\"\")","v":""},null,null,null,null,{"$f":"IFERROR(VLOOKUP(E1738,Nota_Fiscal!$G$4:$L$1000,6,0),\"\")","v":""}]
[null,null,{"$f":"IFERROR(VLOOKUP(A1739,Insumos!A:B,2,FALSE),\"\")","v":""},null,null,null,null,{"$f":"IFERROR(VLOOKUP(E1739,Nota_Fiscal!$G$4:$L$1000,6,0),\"\")","v":""}]
[null,null,{"$f":"IFERROR(VLOOKUP(A1740,Insumos!A:B,2,FALSE),\"\")","v":""},null,null,null,null,{"$f":"IFERROR(VLOOKUP(E1740,Nota_Fiscal!$G$4:$L$1000,6,0),\"\")","v":""}]
[null,null,{"$f":"IFERROR(VLOOKUP(A1741,Insumos!A:B,2,FALSE),\"\")","v":""},null,null,null,null,{"$f":"IFERROR(VLOOKUP(E1741,Nota_Fiscal!$G$4:$L$1000,6,0),\"\")","v":""}]
[null,null,{"$f":"IFERROR(VLOOKUP(A1742,Insumos!A:B,2,FALSE),\"\")","v":""},null,null,null,null,{"$f":"IFERROR(VLOOKUP(E1742,Nota_Fiscal!$G$4:$L$1000,6,0),\"\")","v":""}]
[null,null,{"$f":"IFERROR(VLOOKUP(A1743,Insumos!A:B,2,FALSE),\"\")","v":""},null,null,null,null,{"$f":"IFERROR(VLOOKUP(E1743,Nota_Fiscal!$G$4:$L$1000,6,0),\"\")","v":""}]
[null,null,{"$f":"IFERROR(VLOOKUP(A1744,Insumos!A:B,2,FALSE),\"\")","v":""},null,null,null,null,{"$f":"IFERROR(VLOOKUP(E1744,Nota_Fiscal!$G$4:$L$1000,6,0),\"\")","v":""}]
[null,null,{"$f":"IFERROR(VLOOKUP(A1745,Insumos!A:B,2,FALSE),\"\")","v":""},null,null,null,null,{"$f":"IFERROR(VLOOKUP(E1745,Nota_Fiscal!$G$4:$L$1000,6,0),\"\")","v":""}]
[null,null,{"$f":"IFERROR(VLOOKUP(A1746,Insumos!A:B,2,FALSE),\"\")","v":""},null,null,null,null,{"$f":"IFERROR(VLOOKUP(E1746,Nota_Fiscal!$G$4:$L$1000,6,0),\"\")","v":""}]
[null,null,{"$f":"IFERROR(VLOOKUP(A1747,Insumos!A:B,2,FALSE),\"\")","v":""},null,null,null,null,{"$f":"IFERROR(VLOOKUP(E1747,Nota_Fiscal!$G$4:$L$1000,6,0),\"\")","v":""}]
[null,null,{"$f":"IFERROR(VLOOKUP(A1748,Insumos!A:B,2,FALSE),\"\")","v":""},null,null,null,null,{"$f":"IFERROR(VLOOKUP(E1748,Nota_Fiscal!$G$4:$L$1000,6,0),\"\")","v":""}]
[null,null,{"$f":"IFERROR(VLOOKUP(A1749,Insumos!A:B,2,FALSE),\"\")","v":""},null,null,null,null,{"$f":"IFERROR(VLOOKUP(E1749,Nota_Fiscal!$G$4:$L$1000,6,0),\"\")","v":""}]
[null,null,{"$f":"IFERROR(VLOOKUP(A1750,Insumos!A:B,2,FALSE),\"\")","v":""},null,null,null,null,{"$f":"IFERROR(VLOOKUP(E1750,Nota_Fiscal!$G$4:$L$1000,6,0),\"\")","v":""}]
[null,null,{"$f":"IFERROR(VLOOKUP(A1751,Insumos!A:B,2,FALSE),\"\")","v":""},null,null,null,null,{"$f":"IFERROR(VLOOKUP(E1751,Nota_Fiscal!$G$4:$L$1000,6,0),\"\")","v":""}]
[null,null,{"$f":"IFERROR(VLOOKUP(A1752,Insumos!A:B,2,FALSE),\"\")","v":""},null,null,null,null,{"$f":"IFERROR(VLOOKUP(E1752,Nota_Fiscal!$G$4:$L$1000,6,0),\"\")","v":""}]
[null,null,{"$f":"IFERROR(VLOOKUP(A1753,Insumos!A:B,2,FALSE),\"\")","v":""},null,null,null,null,{"$f":"IFERROR(VLOOKUP(E1753,Nota_Fiscal!$G$4:$L$1000,6,0),\"\")","v":""}]
[null,null,{"$f":"IFERROR(VLOOKUP(A1754,Insumos!A:B,2,FALSE),\"\")","v":""},null,null,null,null,{"$f":"IFERROR(VLOOKUP(E1754,Nota_Fiscal!$G$4:$L$1000,6,0),\"\")","v":""}]
[null,null,{"$f":"IFERROR(VLOOKUP(A1755,Insumos!A:B,2,FALSE),\"\")","v":""},null,null,null,null,{"$f":"IFERROR(VLOOKUP(E1755,Nota_Fiscal!$G$4:$L$1000,6,0),\"\")","v":""}]
[null,null,{"$f":"IFERROR(VLOOKUP(A1756,Insumos!A:B,2,FALSE),\"\")","v":""},null,null,null,null,{"$f":"IFERROR(VLOOKUP(E1756,Nota_Fiscal!$G$4:$L$1000,6,0),\"\")","v":""}]
[null,null,{"$f":"IFERROR(VLOOKUP(A1757,Insumos!A:B,2,FALSE),\"\")","v":""},null,null,null,null,{"$f":"IFERROR(VLOOKUP(E1757,Nota_Fiscal!$G$4:$L$1000,6,0),\"\")","v":""}]
[null,null,{"$f":"IFERROR(VLOOKUP(A1758,Insumos!A:B,2,FALSE),\"\")","v":""},null,null,null,null,{"$f":"IFERROR(VLOOKUP(E1758,Nota_Fiscal!$G$4:$L$1000,6,0),\"\")","v":""}]
[null,null,{"$f":"IFERROR(VLOOKUP(A1759,Insumos!A:B,2,FALSE),\"\")","v":""},null,null,null,null,{"$f":"IFERROR(VLOOKUP(E1759,Nota_Fiscal!$G$4:$L$1000,6,0),\"\")","v":""}]
[null,null,{"$f":"IFERROR(VLOOKUP(A1760,Insumos!A:B,2,FALSE),\"\")","v":""},null,null,null,null,{"$f":"IFERROR(VLOOKUP(E1760,Nota_Fiscal!$G$4:$L$1000,6,0),\"\")","v":""}]
[null,null,{"$f":"IFERROR(VLOOKUP(A1761,Insumos!A:B,2,FALSE),\"\")","v":""},null,null,null,null,{"$f":"IFERROR(VLOOKUP(E1761,Nota_Fiscal!$G$4:$L$1000,6,0),\"\")","v":""}]
[null,null,{"$f":"IFERROR(VLOOKUP(A1762,Insumos!A:B,2,FALSE),\"\")","v":""},null,null,null,null,{"$f":"IFERROR(VLOOKUP(E1762,Nota_Fiscal!$G$4:$L$1000,6,0),\"\")","v":""}]
[null,null,{"$f":"IFERROR(VLOOKUP(A1763,Insumos!A:B,2,FALSE),\"\")","v":""},null,null,null,null,{"$f":"IFERROR(VLOOKUP(E1763,Nota_Fiscal!$G$4:$L$1000,6,0),\"\")","v":""}]
[null,null,{"$f":"IFERROR(VLOOKUP(A1764,Insumos!A:B,2,FALSE),\"\")","v":""},null,null,null,null,{"$f":"IFERROR(VLOOKUP(E1764,Nota_Fiscal!$G$4:$L$1000,6,0),\"\")","v":""}]
[null,null,{"$f":"IFERROR(VLOOKUP(A1765,Insumos!A:B,2,FALSE),\"\")","v":""},null,null,null,null,{"$f":"IFERROR(VLOOKUP(E1765,Nota_Fiscal!$G$4:$L$1000,6,0),\"\")","v":""}]
[null,null,{"$f":"IFERROR(VLOOKUP(A1766,Insumos!A:B,2,FALSE),\"\")","v":""},null,null,null,null,{"$f":"IFERROR(VLOOKUP(E1766,Nota_Fiscal!$G$4:$L$1000,6,0),\"\")","v":""}]
[null,null,{"$f":"IFERROR(VLOOKUP(A1767,Insumos!A:B,2,FALSE),\"\")","v":""},null,null,null,null,{"$f":"IFERROR(VLOOKUP(E1767,Nota_Fiscal!$G$4:$L$1000,6,0),\"\")","v":""}]
[null,null,{"$f":"IFERROR(VLOOKUP(A1768,Insumos!A:B,2,FALSE),\"\")","v":""},null,null,null,null,{"$f":"IFERROR(VLOOKUP(E1768,Nota_Fiscal!$G$4:$L$1000,6,0),\"\")","v":""}]
[null,null,{"$f":"IFERROR(VLOOKUP(A1769,Insumos!A:B,2,FALSE),\"\")","v":""},null,null,null,null,{"$f":"IFERROR(VLOOKUP(E1769,Nota_Fiscal!$G$4:$L$1000,6,0),\"\")","v":""}]
[null,null,{"$f":"IFERROR(VLOOKUP(A1770,Insumos!A:B,2,FALSE),\"\")","v":""},null,null,null,null,{"$f":"IFERROR(VLOOKUP(E1770,Nota_Fiscal!$G$4:$L$1000,6,0),\"\")","v":""}]
[null,null,{"$f":"IFERROR(VLOOKUP(A1771,Insumos!A:B,2,FALSE),\"\")","v":""},null,null,null,null,{"$f":"IFERROR(VLOOKUP(E1771,Nota_Fiscal!$G$4:$L$1000,6,0),\"\")","v":""}]
[null,null,{"$f":"IFERROR(VLOOKUP(A1772,Insumos!A:B,2,FALSE),\"\")","v":""},null,null,null,null,{"$f":"IFERROR(VLOOKUP(E1772,Nota_Fiscal!$G$4:$L$1000,6,0),\"\")","v":""}]
[null,null,{"$f":"IFERROR(VLOOKUP(A1773,Insumos!A:B,2,FALSE),\"\")","v":""},null,null,null,null,{"$f":"IFERROR(VLOOKUP(E1773,Nota_Fiscal!$G$4:$L$1000,6,0),\"\")","v":""}]
[null,null,{"$f":"IFERROR(VLOOKUP(A1774,Insumos!A:B,2,FALSE),\"\")","v":""},null,null,null,null,{"$f":"IFERROR(VLOOKUP(E1774,Nota_Fiscal!$G$4:$L$1000,6,0),\"\")","v":""}]
[null,null,{"$f":"IFERROR(VLOOKUP(A1775,Insumos!A:B,2,FALSE),\"\")","v":""},null,null,null,null,{"$f":"IFERROR(VLOOKUP(E1775,Nota_Fiscal!$G$4:$L$1000,6,0),\"\")","v":""}]
[null,null,{"$f":"IFERROR(VLOOKUP(A1776,Insumos!A:B,2,FALSE),\"\")","v":""},null,null,null,null,{"$f":"IFERROR(VLOOKUP(E1776,Nota_Fiscal!$G$4:$L$1000,6,0),\"\")","v":""}]
[null,null,{"$f":"IFERROR(VLOOKUP(A1777,Insumos!A:B,2,FALSE),\"\")","v":""},null,null,null,null,{"$f":"IFERROR(VLOOKUP(E1777,Nota_Fiscal!$G$4:$L$1000,6,0),\"\")","v":""}]
[null,null,{"$f":"IFERROR(VLOOKUP(A1778,Insumos!A:B,2,FALSE),\"\")","v":""},null,null,null,null,{"$f":"IFERROR(VLOOKUP(E1778,Nota_Fiscal!$G$4:$L$1000,6,0),\"\")","v":""}]
[null,null,{"$f":"IFERROR(VLOOKUP(A1779,Insumos!A:B,2,FALSE),\"\")","v":""},null,null,null,null,{"$f":"IFERROR(VLOOKUP(E1779,Nota_Fiscal!$G$4:$L$1000,6,0),\"\")","v":""}]
[null,null,{"$f":"IFERROR(VLOOKUP(A1780,Insumos!A:B,2,FALSE),\"\")","v":""},null,null,null,null,{"$f":"IFERROR(VLOOKUP(E1780,Nota_Fiscal!$G$4:$L$1000,6,0),\"\")","v":""}]
[null,null,{"$f":"IFERROR(VLOOKUP(A1781,Insumos!A:B,2,FALSE),\"\")","v":""},null,null,null,null,{"$f":"IFERROR(VLOOKUP(E1781,Nota_Fiscal!$G$4:$L$1000,6,0),\"\")","v":""}]
[null,null,{"$f":"IFERROR(VLOOKUP(A1782,Insumos!A:B,2,FALSE),\"\")","v":""},null,null,null,null,{"$f":"IFERROR(VLOOKUP(E1782,Nota_Fiscal!$G$4:$L$1000,6,0),\"\")","v":""}]
[null,null,{"$f":"IFERROR(VLOOKUP(A1783,Insumos!A:B,2,FALSE),\"\")","v":""},null,null,null,null,{"$f":"IFERROR(VLOOKUP(E1783,Nota_Fiscal!$G$4:$L$1000,6,0),\"\")","v":""}]
[null,null,{"$f":"IFERROR(VLOOKUP(A1784,Insumos!A:B,2,FALSE),\"\")","v":""},null,null,null,null,{"$f":"IFERROR(VLOOKUP(E1784,Nota_Fiscal!$G$4:$L$1000,6,0),\"\")","v":""}]
[null,null,{"$f":"IFERROR(VLOOKUP(A1785,Insumos!A:B,2,FALSE),\"\")","v":""},null,null,null,null,{"$f":"IFERROR(VLOOKUP(E1785,Nota_Fiscal!$G$4:$L$1000,6,0),\"\")","v":""}]
[null,null,{"$f":"IFERROR(VLOOKUP(A1786,Insumos!A:B,2,FALSE),\"\")","v":""},null,null,null,null,{"$f":"IFERROR(VLOOKUP(E1786,Nota_Fiscal!$G$4:$L$1000,6,0),\"\")","v":""}]
[null,null,{"$f":"IFERROR(VLOOKUP(A1787,Insumos!A:B,2,FALSE),\"\")","v":""},null,null,null,null,{"$f":"IFERROR(VLOOKUP(E1787,Nota_Fiscal!$G$4:$L$1000,6,0),\"\")","v":""}]
[null,null,{"$f":"IFERROR(VLOOKUP(A1788,Insumos!A:B,2,FALSE),\"\")","v":""},null,null,null,null,{"$f":"IFERROR(VLOOKUP(E1788,Nota_Fiscal!$G$4:$L$1000,6,0),\"\")","v":""}]
[null,null,{"$f":"IFERROR(VLOOKUP(A1789,Insumos!A:B,2,FALSE),\"\")","v":""},null,null,null,null,{"$f":"IFERROR(VLOOKUP(E1789,Nota_Fiscal!$G$4:$L$1000,6,0),\"\")","v":""}]
[null,null,{"$f":"IFERROR(VLOOKUP(A1790,Insumos!A:B,2,FALSE),\"\")","v":""},null,null,null,null,{"$f":"IFERROR(VLOOKUP(E1790,Nota_Fiscal!$G$4:$L$1000,6,0),\"\")","v":""}]
[null,null,{"$f":"IFERROR(VLOOKUP(A1791,Insumos!A:B,2,FALSE),\"\")","v":""},null,null,null,null,{"$f":"IFERROR(VLOOKUP(E1791,Nota_Fiscal!$G$4:$L$1000,6,0),\"\")","v":""}]
[null,null,{"$f":"IFERROR(VLOOKUP(A1792,Insumos!A:B,2,FALSE),\"\")","v":""},null,null,null,null,{"$f":"IFERROR(VLOOKUP(E1792,Nota_Fiscal!$G$4:$L$1000,6,0),\"\")","v":""}]
[null,null,{"$f":"IFERROR(VLOOKUP(A1793,Insumos!A:B,2,FALSE),\"\")","v":""},null,null,null,null,{"$f":"IFERROR(VLOOKUP(E1793,Nota_Fiscal!$G$4:$L$1000,6,0),\"\")","v":""}]
[null,null,{"$f":"IFERROR(VLOOKUP(A1794,Insumos!A:B,2,FALSE),\"\")","v":""},null,null,null,null,{"$f":"IFERROR(VLOOKUP(E1794,Nota_Fiscal!$G$4:$L$1000,6,0),\"\")","v":""}]
[null,null,{"$f":"IFERROR(VLOOKUP(A1795,Insumos!A:B,2,FALSE),\"\")","v":""},null,null,null,null,{"$f":"IFERROR(VLOOKUP(E1795,Nota_Fiscal!$G$4:$L$1000,6,0),\"\")","v":""}]
[null,null,{"$f":"IFERROR(VLOOKUP(A1796,Insumos!A:B,2,FALSE),\"\")","v":""},null,null,null,null,{"$f":"IFERROR(VLOOKUP(E1796,Nota_Fiscal!$G$4:$L$1000,6,0),\"\")","v":""}]
[null,null,{"$f":"IFERROR(VLOOKUP(A1797,Insumos!A:B,2,FALSE),\"\")","v":""},null,null,null,null,{"$f":"IFERROR(VLOOKUP(E1797,Nota_Fiscal!$G$4:$L$1000,6,0),\"\")","v":""}]
[null,null,{"$f":"IFERROR(VLOOKUP(A1798,Insumos!A:B,2,FALSE),\"\")","v":""},null,null,null,null,{"$f":"IFERROR(VLOOKUP(E1798,Nota_Fiscal!$G$4:$L$1000,6,0),\"\")","v":""}]
[null,null,{"$f":"IFERROR(VLOOKUP(A1799,Insumos!A:B,2,FALSE),\"\")","v":""},null,null,null,null,{"$f":"IFERROR(VLOOKUP(E1799,Nota_Fiscal!$G$4:$L$1000,6,0),\"\")","v":""}]
[null,null,{"$f":"IFERROR(VLOOKUP(A1800,Insumos!A:B,2,FALSE),\"\")","v":""},null,null,null,null,{"$f":"IFERROR(VLOOKUP(E1800,Nota_Fiscal!$G$4:$L$1000,6,0),\"\")","v":""}]
[null,null,{"$f":"IFERROR(VLOOKUP(A1801,Insumos!A:B,2,FALSE),\"\")","v":""},null,null,null,null,{"$f":"IFERROR(VLOOKUP(E1801,Nota_Fiscal!$G$4:$L$1000,6,0),\"\")","v":""}]
[null,null,{"$f":"IFERROR(VLOOKUP(A1802,Insumos!A:B,2,FALSE),\"\")","v":""},null,null,null,null,{"$f":"IFERROR(VLOOKUP(E1802,Nota_Fiscal!$G$4:$L$1000,6,0),\"\")","v":""}]
[null,null,{"$f":"IFERROR(VLOOKUP(A1803,Insumos!A:B,2,FALSE),\"\")","v":""},null,null,null,null,{"$f":"IFERROR(VLOOKUP(E1803,Nota_Fiscal!$G$4:$L$1000,6,0),\"\")","v":""}]
[null,null,{"$f":"IFERROR(VLOOKUP(A1804,Insumos!A:B,2,FALSE),\"\")","v":""},null,null,null,null,{"$f":"IFERROR(VLOOKUP(E1804,Nota_Fiscal!$G$4:$L$1000,6,0),\"\")","v":""}]
[null,null,{"$f":"IFERROR(VLOOKUP(A1805,Insumos!A:B,2,FALSE),\"\")","v":""},null,null,null,null,{"$f":"IFERROR(VLOOKUP(E1805,Nota_Fiscal!$G$4:$L$1000,6,0),\"\")","v":""}]
[null,null,{"$f":"IFERROR(VLOOKUP(A1806,Insumos!A:B,2,FALSE),\"\")","v":""},null,null,null,null,{"$f":"IFERROR(VLOOKUP(E1806,Nota_Fiscal!$G$4:$L$1000,6,0),\"\")","v":""}]
[null,null,{"$f":"IFERROR(VLOOKUP(A1807,Insumos!A:B,2,FALSE),\"\")","v":""},null,null,null,null,{"$f":"IFERROR(VLOOKUP(E1807,Nota_Fiscal!$G$4:$L$1000,6,0),\"\")","v":""}]
[null,null,{"$f":"IFERROR(VLOOKUP(A1808,Insumos!A:B,2,FALSE),\"\")","v":""},null,null,null,null,{"$f":"IFERROR(VLOOKUP(E1808,Nota_Fiscal!$G$4:$L$1000,6,0),\"\")","v":""}]
[null,null,{"$f":"IFERROR(VLOOKUP(A1809,Insumos!A:B,2,FALSE),\"\")","v":""},null,null,null,null,{"$f":"IFERROR(VLOOKUP(E1809,Nota_Fiscal!$G$4:$L$1000,6,0),\"\")","v":""}]
[null,null,{"$f":"IFERROR(VLOOKUP(A1810,Insumos!A:B,2,FALSE),\"\")","v":""},null,null,null,null,{"$f":"IFERROR(VLOOKUP(E1810,Nota_Fiscal!$G$4:$L$1000,6,0),\"\")","v":""}]
[null,null,{"$f":"IFERROR(VLOOKUP(A1811,Insumos!A:B,2,FALSE),\"\")","v":""},null,null,null,null,{"$f":"IFERROR(VLOOKUP(E1811,Nota_Fiscal!$G$4:$L$1000,6,0),\"\")","v":""}]
[null,null,{"$f":"IFERROR(VLOOKUP(A1812,Insumos!A:B,2,FALSE),\"\")","v":""},null,null,null,null,{"$f":"IFERROR(VLOOKUP(E1812,Nota_Fiscal!$G$4:$L$1000,6,0),\"\")","v":""}]
[null,null,{"$f":"IFERROR(VLOOKUP(A1813,Insumos!A:B,2,FALSE),\"\")","v":""},null,null,null,null,{"$f":"IFERROR(VLOOKUP(E1813,Nota_Fiscal!$G$4:$L$1000,6,0),\"\")","v":""}]
[null,null,{"$f":"IFERROR(VLOOKUP(A1814,Insumos!A:B,2,FALSE),\"\")","v":""},null,null,null,null,{"$f":"IFERROR(VLOOKUP(E1814,Nota_Fiscal!$G$4:$L$1000,6,0),\"\")","v":""}]
[null,null,{"$f":"IFERROR(VLOOKUP(A1815,Insumos!A:B,2,FALSE),\"\")","v":""},null,null,null,null,{"$f":"IFERROR(VLOOKUP(E1815,Nota_Fiscal!$G$4:$L$1000,6,0),\"\")","v":""}]
[null,null,{"$f":"IFERROR(VLOOKUP(A1816,Insumos!A:B,2,FALSE),\"\")","v":""},null,null,null,null,{"$f":"IFERROR(VLOOKUP(E1816,Nota_Fiscal!$G$4:$L$1000,6,0),\"\")","v":""}]
[null,null,{"$f":"IFERROR(VLOOKUP(A1817,Insumos!A:B,2,FALSE),\"\")","v":""},null,null,null,null,{"$f":"IFERROR(VLOOKUP(E1817,Nota_Fiscal!$G$4:$L$1000,6,0),\"\")","v":""}]
[null,null,{"$f":"IFERROR(VLOOKUP(A1818,Insumos!A:B,2,FALSE),\"\")","v":""},null,null,null,null,{"$f":"IFERROR(VLOOKUP(E1818,Nota_Fiscal!$G$4:$L$1000,6,0),\"\")","v":""}]
[null,null,{"$f":"IFERROR(VLOOKUP(A1819,Insumos!A:B,2,FALSE),\"\")","v":""},null,null,null,null,{"$f":"IFERROR(VLOOKUP(E1819,Nota_Fiscal!$G$4:$L$1000,6,0),\"\")","v":""}]
[null,null,{"$f":"IFERROR(VLOOKUP(A1820,Insumos!A:B,2,FALSE),\"\")","v":""},null,null,null,null,{"$f":"IFERROR(VLOOKUP(E1820,Nota_Fiscal!$G$4:$L$1000,6,0),\"\")","v":""}]
[null,null,{"$f":"IFERROR(VLOOKUP(A1821,Insumos!A:B,2,FALSE),\"\")","v":""},null,null,null,null,{"$f":"IFERROR(VLOOKUP(E1821,Nota_Fiscal!$G$4:$L$1000,6,0),\"\")","v":""}]
[null,null,{"$f":"IFERROR(VLOOKUP(A1822,Insumos!A:B,2,FALSE),\"\")","v":""},null,null,null,null,{"$f":"IFERROR(VLOOKUP(E1822,Nota_Fiscal!$G$4:$L$1000,6,0),\"\")","v":""}]
[null,null,{"$f":"IFERROR(VLOOKUP(A1823,Insumos!A:B,2,FALSE),\"\")","v":""},null,null,null,null,{"$f":"IFERROR(VLOOKUP(E1823,Nota_Fiscal!$G$4:$L$1000,6,0),\"\")","v":""}]
[null,null,{"$f":"IFERROR(VLOOKUP(A1824,Insumos!A:B,2,FALSE),\"\")","v":""},null,null,null,null,{"$f":"IFERROR(VLOOKUP(E1824,Nota_Fiscal!$G$4:$L$1000,6,0),\"\")","v":""}]
[null,null,{"$f":"IFERROR(VLOOKUP(A1825,Insumos!A:B,2,FALSE),\"\")","v":""},null,null,null,null,{"$f":"IFERROR(VLOOKUP(E1825,Nota_Fiscal!$G$4:$L$1000,6,0),\"\")","v":""}]
[null,null,{"$f":"IFERROR(VLOOKUP(A1826,Insumos!A:B,2,FALSE),\"\")","v":""},null,null,null,null,{"$f":"IFERROR(VLOOKUP(E1826,Nota_Fiscal!$G$4:$L$1000,6,0),\"\")","v":""}]
[null,null,{"$f":"IFERROR(VLOOKUP(A1827,Insumos!A:B,2,FALSE),\"\")","v":""},null,null,null,null,{"$f":"IFERROR(VLOOKUP(E1827,Nota_Fiscal!$G$4:$L$1000,6,0),\"\")","v":""}]
[null,null,{"$f":"IFERROR(VLOOKUP(A1828,Insumos!A:B,2,FALSE),\"\")","v":""},null,null,null,null,{"$f":"IFERROR(VLOOKUP(E1828,Nota_Fiscal!$G$4:$L$1000,6,0),\"\")","v":""}]
[null,null,{"$f":"IFERROR(VLOOKUP(A1829,Insumos!A:B,2,FALSE),\"\")","v":""},null,null,null,null,{"$f":"IFERROR(VLOOKUP(E1829,Nota_Fiscal!$G$4:$L$1000,6,0),\"\")","v":""}]
[null,null,{"$f":"IFERROR(VLOOKUP(A1830,Insumos!A:B,2,FALSE),\"\")","v":""},null,null,null,null,{"$f":"IFERROR(VLOOKUP(E1830,Nota_Fiscal!$G$4:$L$1000,6,0),\"\")","v":""}]
[null,null,{"$f":"IFERROR(VLOOKUP(A1831,Insumos!A:B,2,FALSE),\"\")","v":""},null,null,null,null,{"$f":"IFERROR(VLOOKUP(E1831,Nota_Fiscal!$G$4:$L$1000,6,0),\"\")","v":""}]
[null,null,{"$f":"IFERROR(VLOOKUP(A1832,Insumos!A:B,2,FALSE),\"\")","v":""},null,null,null,null,{"$f":"IFERROR(VLOOKUP(E1832,Nota_Fiscal!$G$4:$L$1000,6,0),\"\")","v":""}]
[null,null,{"$f":"IFERROR(VLOOKUP(A1833,Insumos!A:B,2,FALSE),\"\")","v":""},null,null,null,null,{"$f":"IFERROR(VLOOKUP(E1833,Nota_Fiscal!$G$4:$L$1000,6,0),\"\")","v":""}]
[null,null,{"$f":"IFERROR(VLOOKUP(A1834,Insumos!A:B,2,FALSE),\"\")","v":""},null,null,null,null,{"$f":"IFERROR(VLOOKUP(E1834,Nota_Fiscal!$G$4:$L$1000,6,0),\"\")","v":""}]
[null,null,{"$f":"IFERROR(VLOOKUP(A1835,Insumos!A:B,2,FALSE),\"\")","v":""},null,null,null,null,{"$f":"IFERROR(VLOOKUP(E1835,Nota_Fiscal!$G$4:$L$1000,6,0),\"\")","v":""}]
[null,null,{"$f":"IFERROR(VLOOKUP(A1836,Insumos!A:B,2,FALSE),\"\")","v":""},null,null,null,null,{"$f":"IFERROR(VLOOKUP(E1836,Nota_Fiscal!$G$4:$L$1000,6,0),\"\")","v":""}]
[null,null,{"$f":"IFERROR(VLOOKUP(A1837,Insumos!A:B,2,FALSE),\"\")","v":""},null,null,null,null,{"$f":"IFERROR(VLOOKUP(E1837,Nota_Fiscal!$G$4:$L$1000,6,0),\"\")","v":""}]
[null,null,{"$f":"IFERROR(VLOOKUP(A1838,Insumos!A:B,2,FALSE),\"\")","v":""},null,null,null,null,{"$f":"IFERROR(VLOOKUP(E1838,Nota_Fiscal!$G$4:$L$1000,6,0),\"\")","v":""}]
[null,null,{"$f":"IFERROR(VLOOKUP(A1839,Insumos!A:B,2,FALSE),\"\")","v":""},null,null,null,null,{"$f":"IFERROR(VLOOKUP(E1839,Nota_Fiscal!$G$4:$L$1000,6,0),\"\")","v":""}]
[null,null,{"$f":"IFERROR(VLOOKUP(A1840,Insumos!A:B,2,FALSE),\"\")","v":""},null,null,null,null,{"$f":"IFERROR(VLOOKUP(E1840,Nota_Fiscal!$G$4:$L$1000,6,0),\"\")","v":""}]
[null,null,{"$f":"IFERROR(VLOOKUP(A1841,Insumos!A:B,2,FALSE),\"\")","v":""},null,null,null,null,{"$f":"IFERROR(VLOOKUP(E1841,Nota_Fiscal!$G$4:$L$1000,6,0),\"\")","v":""}]
[null,null,{"$f":"IFERROR(VLOOKUP(A1842,Insumos!A:B,2,FALSE),\"\")","v":""},null,null,null,null,{"$f":"IFERROR(VLOOKUP(E1842,Nota_Fiscal!$G$4:$L$1000,6,0),\"\")","v":""}]
[null,null,{"$f":"IFERROR(VLOOKUP(A1843,Insumos!A:B,2,FALSE),\"\")","v":""},null,null,null,null,{"$f":"IFERROR(VLOOKUP(E1843,Nota_Fiscal!$G$4:$L$1000,6,0),\"\")","v":""}]
[null,null,{"$f":"IFERROR(VLOOKUP(A1844,Insumos!A:B,2,FALSE),\"\")","v":""},null,null,null,null,{"$f":"IFERROR(VLOOKUP(E1844,Nota_Fiscal!$G$4:$L$1000,6,0),\"\")","v":""}]
[null,null,{"$f":"IFERROR(VLOOKUP(A1845,Insumos!A:B,2,FALSE),\"\")","v":""},null,null,null,null,{"$f":"IFERROR(VLOOKUP(E1845,Nota_Fiscal!$G$4:$L$1000,6,0),\"\")","v":""}]
[null,null,{"$f":"IFERROR(VLOOKUP(A1846,Insumos!A:B,2,FALSE),\"\")","v":""},null,null,null,null,{"$f":"IFERROR(VLOOKUP(E1846,Nota_Fiscal!$G$4:$L$1000,6,0),\"\")","v":""}]
[null,null,{"$f":"IFERROR(VLOOKUP(A1847,Insumos!A:B,2,FALSE),\"\")","v":""},null,null,null,null,{"$f":"IFERROR(VLOOKUP(E1847,Nota_Fiscal!$G$4:$L$1000,6,0),\"\")","v":""}]
[null,null,{"$f":"IFERROR(VLOOKUP(A1848,Insumos!A:B,2,FALSE),\"\")","v":""},null,null,null,null,{"$f":"IFERROR(VLOOKUP(E1848,Nota_Fiscal!$G$4:$L$1000,6,0),\"\")","v":""}]
[null,null,{"$f":"IFERROR(VLOOKUP(A1849,Insumos!A:B,2,FALSE),\"\")","v":""},null,null,null,null,{"$f":"IFERROR(VLOOKUP(E1849,Nota_Fiscal!$G$4:$L$1000,6,0),\"\")","v":""}]
[null,null,{"$f":"IFERROR(VLOOKUP(A1850,Insumos!A:B,2,FALSE),\"\")","v":""},null,null,null,null,{"$f":"IFERROR(VLOOKUP(E1850,Nota_Fiscal!$G$4:$L$1000,6,0),\"\")","v":""}]
[null,null,{"$f":"IFERROR(VLOOKUP(A1851,Insumos!A:B,2,FALSE),\"\")","v":""},null,null,null,null,{"$f":"IFERROR(VLOOKUP(E1851,Nota_Fiscal!$G$4:$L$1000,6,0),\"\")","v":""}]
[null,null,{"$f":"IFERROR(VLOOKUP(A1852,Insumos!A:B,2,FALSE),\"\")","v":""},null,null,null,null,{"$f":"IFERROR(VLOOKUP(E1852,Nota_Fiscal!$G$4:$L$1000,6,0),\"\")","v":""}]
[null,null,{"$f":"IFERROR(VLOOKUP(A1853,Insumos!A:B,2,FALSE),\"\")","v":""},null,null,null,null,{"$f":"IFERROR(VLOOKUP(E1853,Nota_Fiscal!$G$4:$L$1000,6,0),\"\")","v":""}]
[null,null,{"$f":"IFERROR(VLOOKUP(A1854,Insumos!A:B,2,FALSE),\"\")","v":""},null,null,null,null,{"$f":"IFERROR(VLOOKUP(E1854,Nota_Fiscal!$G$4:$L$1000,6,0),\"\")","v":""}]
[null,null,{"$f":"IFERROR(VLOOKUP(A1855,Insumos!A:B,2,FALSE),\"\")","v":""},null,null,null,null,{"$f":"IFERROR(VLOOKUP(E1855,Nota_Fiscal!$G$4:$L$1000,6,0),\"\")","v":""}]
[null,null,{"$f":"IFERROR(VLOOKUP(A1856,Insumos!A:B,2,FALSE),\"\")","v":""},null,null,null,null,{"$f":"IFERROR(VLOOKUP(E1856,Nota_Fiscal!$G$4:$L$1000,6,0),\"\")","v":""}]
[null,null,{"$f":"IFERROR(VLOOKUP(A1857,Insumos!A:B,2,FALSE),\"\")","v":""},null,null,null,null,{"$f":"IFERROR(VLOOKUP(E1857,Nota_Fiscal!$G$4:$L$1000,6,0),\"\")","v":""}]
[null,null,{"$f":"IFERROR(VLOOKUP(A1858,Insumos!A:B,2,FALSE),\"\")","v":""},null,null,null,null,{"$f":"IFERROR(VLOOKUP(E1858,Nota_Fiscal!$G$4:$L$1000,6,0),\"\")","v":""}]
[null,null,{"$f":"IFERROR(VLOOKUP(A1859,Insumos!A:B,2,FALSE),\"\")","v":""},null,null,null,null,{"$f":"IFERROR(VLOOKUP(E1859,Nota_Fiscal!$G$4:$L$1000,6,0),\"\")","v":""}]
[null,null,{"$f":"IFERROR(VLOOKUP(A1860,Insumos!A:B,2,FALSE),\"\")","v":""},null,null,null,null,{"$f":"IFERROR(VLOOKUP(E1860,Nota_Fiscal!$G$4:$L$1000,6,0),\"\")","v":""}]
[null,null,{"$f":"IFERROR(VLOOKUP(A1861,Insumos!A:B,2,FALSE),\"\")","v":""},null,null,null,null,{"$f":"IFERROR(VLOOKUP(E1861,Nota_Fiscal!$G$4:$L$1000,6,0),\"\")","v":""}]
[null,null,{"$f":"IFERROR(VLOOKUP(A1862,Insumos!A:B,2,FALSE),\"\")","v":""},null,null,null,null,{"$f":"IFERROR(VLOOKUP(E1862,Nota_Fiscal!$G$4:$L$1000,6,0),\"\")","v":""}]
[null,null,{"$f":"IFERROR(VLOOKUP(A1863,Insumos!A:B,2,FALSE),\"\")","v":""},null,null,null,null,{"$f":"IFERROR(VLOOKUP(E1863,Nota_Fiscal!$G$4:$L$1000,6,0),\"\")","v":""}]
[null,null,{"$f":"IFERROR(VLOOKUP(A1864,Insumos!A:B,2,FALSE),\"\")","v":""},null,null,null,null,{"$f":"IFERROR(VLOOKUP(E1864,Nota_Fiscal!$G$4:$L$1000,6,0),\"\")","v":""}]
[null,null,{"$f":"IFERROR(VLOOKUP(A1865,Insumos!A:B,2,FALSE),\"\")","v":""},null,null,null,null,{"$f":"IFERROR(VLOOKUP(E1865,Nota_Fiscal!$G$4:$L$1000,6,0),\"\")","v":""}]
[null,null,{"$f":"IFERROR(VLOOKUP(A1866,Insumos!A:B,2,FALSE),\"\")","v":""},null,null,null,null,{"$f":"IFERROR(VLOOKUP(E1866,Nota_Fiscal!$G$4:$L$1000,6,0),\"\")","v":""}]
[null,null,{"$f":"IFERROR(VLOOKUP(A1867,Insumos!A:B,2,FALSE),\"\")","v":""},null,null,null,null,{"$f":"IFERROR(VLOOKUP(E1867,Nota_Fiscal!$G$4:$L$1000,6,0),\"\")","v":""}]
[null,null,{"$f":"IFERROR(VLOOKUP(A1868,Insumos!A:B,2,FALSE),\"\")","v":""},null,null,null,null,{"$f":"IFERROR(VLOOKUP(E1868,Nota_Fiscal!$G$4:$L$1000,6,0),\"\")","v":""}]
[null,null,{"$f":"IFERROR(VLOOKUP(A1869,Insumos!A:B,2,FALSE),\"\")","v":""},null,null,null,null,{"$f":"IFERROR(VLOOKUP(E1869,Nota_Fiscal!$G$4:$L$1000,6,0),\"\")","v":""}]
[null,null,{"$f":"IFERROR(VLOOKUP(A1870,Insumos!A:B,2,FALSE),\"\")","v":""},null,null,null,null,{"$f":"IFERROR(VLOOKUP(E1870,Nota_Fiscal!$G$4:$L$1000,6,0),\"\")","v":""}]
[null,null,{"$f":"IFERROR(VLOOKUP(A1871,Insumos!A:B,2,FALSE),\"\")","v":""},null,null,null,null,{"$f":"IFERROR(VLOOKUP(E1871,Nota_Fiscal!$G$4:$L$1000,6,0),\"\")","v":""}]
[null,null,{"$f":"IFERROR(VLOOKUP(A1872,Insumos!A:B,2,FALSE),\"\")","v":""},null,null,null,null,{"$f":"IFERROR(VLOOKUP(E1872,Nota_Fiscal!$G$4:$L$1000,6,0),\"\")","v":""}]
[null,null,{"$f":"IFERROR(VLOOKUP(A1873,Insumos!A:B,2,FALSE),\"\")","v":""},null,null,null,null,{"$f":"IFERROR(VLOOKUP(E1873,Nota_Fiscal!$G$4:$L$1000,6,0),\"\")","v":""}]
[null,null,{"$f":"IFERROR(VLOOKUP(A1874,Insumos!A:B,2,FALSE),\"\")","v":""},null,null,null,null,{"$f":"IFERROR(VLOOKUP(E1874,Nota_Fiscal!$G$4:$L$1000,6,0),\"\")","v":""}]
[null,null,{"$f":"IFERROR(VLOOKUP(A1875,Insumos!A:B,2,FALSE),\"\")","v":""},null,null,null,null,{"$f":"IFERROR(VLOOKUP(E1875,Nota_Fiscal!$G$4:$L$1000,6,0),\"\")","v":""}]
[null,null,{"$f":"IFERROR(VLOOKUP(A1876,Insumos!A:B,2,FALSE),\"\")","v":""},null,null,null,null,{"$f":"IFERROR(VLOOKUP(E1876,Nota_Fiscal!$G$4:$L$1000,6,0),\"\")","v":""}]
[null,null,{"$f":"IFERROR(VLOOKUP(A1877,Insumos!A:B,2,FALSE),\"\")","v":""},null,null,null,null,{"$f":"IFERROR(VLOOKUP(E1877,Nota_Fiscal!$G$4:$L$1000,6,0),\"\")","v":""}]
[null,null,{"$f":"IFERROR(VLOOKUP(A1878,Insumos!A:B,2,FALSE),\"\")","v":""},null,null,null,null,{"$f":"IFERROR(VLOOKUP(E1878,Nota_Fiscal!$G$4:$L$1000,6,0),\"\")","v":""}]
[null,null,{"$f":"IFERROR(VLOOKUP(A1879,Insumos!A:B,2,FALSE),\"\")","v":""},null,null,null,null,{"$f":"IFERROR(VLOOKUP(E1879,Nota_Fiscal!$G$4:$L$1000,6,0),\"\")","v":""}]
[null,null,{"$f":"IFERROR(VLOOKUP(A1880,Insumos!A:B,2,FALSE),\"\")","v":""},null,null,null,null,{"$f":"IFERROR(VLOOKUP(E1880,Nota_Fiscal!$G$4:$L$1000,6,0),\"\")","v":""}]
[null,null,{"$f":"IFERROR(VLOOKUP(A1881,Insumos!A:B,2,FALSE),\"\")","v":""},null,null,null,null,{"$f":"IFERROR(VLOOKUP(E1881,Nota_Fiscal!$G$4:$L$1000,6,0),\"\")","v":""}]
[null,null,{"$f":"IFERROR(VLOOKUP(A1882,Insumos!A:B,2,FALSE),\"\")","v":""},null,null,null,null,{"$f":"IFERROR(VLOOKUP(E1882,Nota_Fiscal!$G$4:$L$1000,6,0),\"\")","v":""}]
[null,null,{"$f":"IFERROR(VLOOKUP(A1883,Insumos!A:B,2,FALSE),\"\")","v":""},null,null,null,null,{"$f":"IFERROR(VLOOKUP(E1883,Nota_Fiscal!$G$4:$L$1000,6,0),\"\")","v":""}]
[null,null,{"$f":"IFERROR(VLOOKUP(A1884,Insumos!A:B,2,FALSE),\"\")","v":""},null,null,null,null,{"$f":"IFERROR(VLOOKUP(E1884,Nota_Fiscal!$G$4:$L$1000,6,0),\"\")","v":""}]
[null,null,{"$f":"IFERROR(VLOOKUP(A1885,Insumos!A:B,2,FALSE),\"\")","v":""},null,null,null,null,{"$f":"IFERROR(VLOOKUP(E1885,Nota_Fiscal!$G$4:$L$1000,6,0),\"\")","v":""}]
[null,null,{"$f":"IFERROR(VLOOKUP(A1886,Insumos!A:B,2,FALSE),\"\")","v":""},null,null,null,null,{"$f":"IFERROR(VLOOKUP(E1886,Nota_Fiscal!$G$4:$L$1000,6,0),\"\")","v":""}]
[null,null,{"$f":"IFERROR(VLOOKUP(A1887,Insumos!A:B,2,FALSE),\"\")","v":""},null,null,null,null,{"$f":"IFERROR(VLOOKUP(E1887,Nota_Fiscal!$G$4:$L$1000,6,0),\"\")","v":""}]
[null,null,{"$f":"IFERROR(VLOOKUP(A1888,Insumos!A:B,2,FALSE),\"\")","v":""},null,null,null,null,{"$f":"IFERROR(VLOOKUP(E1888,Nota_Fiscal!$G$4:$L$1000,6,0),\"\")","v":""}]
[null,null,{"$f":"IFERROR(VLOOKUP(A1889,Insumos!A:B,2,FALSE),\"\")","v":""},null,null,null,null,{"$f":"IFERROR(VLOOKUP(E1889,Nota_Fiscal!$G$4:$L$1000,6,0),\"\")","v":""}]
[null,null,{"$f":"IFERROR(VLOOKUP(A1890,Insumos!A:B,2,FALSE),\"\")","v":""},null,null,null,null,{"$f":"IFERROR(VLOOKUP(E1890,Nota_Fiscal!$G$4:$L$1000,6,0),\"\")","v":""}]
[null,null,{"$f":"IFERROR(VLOOKUP(A1891,Insumos!A:B,2,FALSE),\"\")","v":""},null,null,null,null,{"$f":"IFERROR(VLOOKUP(E1891,Nota_Fiscal!$G$4:$L$1000,6,0),\"\")","v":""}]
[null,null,{"$f":"IFERROR(VLOOKUP(A1892,Insumos!A:B,2,FALSE),\"\")","v":""},null,null,null,null,{"$f":"IFERROR(VLOOKUP(E1892,Nota_Fiscal!$G$4:$L$1000,6,0),\"\")","v":""}]
[null,null,{"$f":"IFERROR(VLOOKUP(A1893,Insumos!A:B,2,FALSE),\"\")","v":""},null,null,null,null,{"$f":"IFERROR(VLOOKUP(E1893,Nota_Fiscal!$G$4:$L$1000,6,0),\"\")","v":""}]
[null,null,{"$f":"IFERROR(VLOOKUP(A1894,Insumos!A:B,2,FALSE),\"\")","v":""},null,null,null,null,{"$f":"IFERROR(VLOOKUP(E1894,Nota_Fiscal!$G$4:$L$1000,6,0),\"\")","v":""}]
[null,null,{"$f":"IFERROR(VLOOKUP(A1895,Insumos!A:B,2,FALSE),\"\")","v":""},null,null,null,null,{"$f":"IFERROR(VLOOKUP(E1895,Nota_Fiscal!$G$4:$L$1000,6,0),\"\")","v":""}]
[null,null,{"$f":"IFERROR(VLOOKUP(A1896,Insumos!A:B,2,FALSE),\"\")","v":""},null,null,null,null,{"$f":"IFERROR(VLOOKUP(E1896,Nota_Fiscal!$G$4:$L$1000,6,0),\"\")","v":""}]
[null,null,{"$f":"IFERROR(VLOOKUP(A1897,Insumos!A:B,2,FALSE),\"\")","v":""},null,null,null,null,{"$f":"IFERROR(VLOOKUP(E1897,Nota_Fiscal!$G$4:$L$1000,6,0),\"\")","v":""}]
[null,null,{"$f":"IFERROR(VLOOKUP(A1898,Insumos!A:B,2,FALSE),\"\")","v":""},null,null,null,null,{"$f":"IFERROR(VLOOKUP(E1898,Nota_Fiscal!$G$4:$L$1000,6,0),\"\")","v":""}]
[null,null,{"$f":"IFERROR(VLOOKUP(A1899,Insumos!A:B,2,FALSE),\"\")","v":""},null,null,null,null,{"$f":"IFERROR(VLOOKUP(E1899,Nota_Fiscal!$G$4:$L$1000,6,0),\"\")","v":""}]
[null,null,{"$f":"IFERROR(VLOOKUP(A1900,Insumos!A:B,2,FALSE),\"\")","v":""},null,null,null,null,{"$f":"IFERROR(VLOOKUP(E1900,Nota_Fiscal!$G$4:$L$1000,6,0),\"\")","v":""}]
[null,null,{"$f":"IFERROR(VLOOKUP(A1901,Insumos!A:B,2,FALSE),\"\")","v":""},null,null,null,null,{"$f":"IFERROR(VLOOKUP(E1901,Nota_Fiscal!$G$4:$L$1000,6,0),\"\")","v":""}]
[null,null,{"$f":"IFERROR(VLOOKUP(A1902,Insumos!A:B,2,FALSE),\"\")","v":""},null,null,null,null,{"$f":"IFERROR(VLOOKUP(E1902,Nota_Fiscal!$G$4:$L$1000,6,0),\"\")","v":""}]
[null,null,{"$f":"IFERROR(VLOOKUP(A1903,Insumos!A:B,2,FALSE),\"\")","v":""},null,null,null,null,{"$f":"IFERROR(VLOOKUP(E1903,Nota_Fiscal!$G$4:$L$1000,6,0),\"\")","v":""}]
[null,null,{"$f":"IFERROR(VLOOKUP(A1904,Insumos!A:B,2,FALSE),\"\")","v":""},null,null,null,null,{"$f":"IFERROR(VLOOKUP(E1904,Nota_Fiscal!$G$4:$L$1000,6,0),\"\")","v":""}]
[null,null,{"$f":"IFERROR(VLOOKUP(A1905,Insumos!A:B,2,FALSE),\"\")","v":""},null,null,null,null,{"$f":"IFERROR(VLOOKUP(E1905,Nota_Fiscal!$G$4:$L$1000,6,0),\"\")","v":""}]
[null,null,{"$f":"IFERROR(VLOOKUP(A1906,Insumos!A:B,2,FALSE),\"\")","v":""},null,null,null,null,{"$f":"IFERROR(VLOOKUP(E1906,Nota_Fiscal!$G$4:$L$1000,6,0),\"\")","v":""}]
[null,null,{"$f":"IFERROR(VLOOKUP(A1907,Insumos!A:B,2,FALSE),\"\")","v":""},null,null,null,null,{"$f":"IFERROR(VLOOKUP(E1907,Nota_Fiscal!$G$4:$L$1000,6,0),\"\")","v":""}]
[null,null,{"$f":"IFERROR(VLOOKUP(A1908,Insumos!A:B,2,FALSE),\"\")","v":""},null,null,null,null,{"$f":"IFERROR(VLOOKUP(E1908,Nota_Fiscal!$G$4:$L$1000,6,0),\"\")","v":""}]
[null,null,{"$f":"IFERROR(VLOOKUP(A1909,Insumos!A:B,2,FALSE),\"\")","v":""},null,null,null,null,{"$f":"IFERROR(VLOOKUP(E1909,Nota_Fiscal!$G$4:$L$1000,6,0),\"\")","v":""}]
[null,null,{"$f":"IFERROR(VLOOKUP(A1910,Insumos!A:B,2,FALSE),\"\")","v":""},null,null,null,null,{"$f":"IFERROR(VLOOKUP(E1910,Nota_Fiscal!$G$4:$L$1000,6,0),\"\")","v":""}]
[null,null,{"$f":"IFERROR(VLOOKUP(A1911,Insumos!A:B,2,FALSE),\"\")","v":""},null,null,null,null,{"$f":"IFERROR(VLOOKUP(E1911,Nota_Fiscal!$G$4:$L$1000,6,0),\"\")","v":""}]
[null,null,{"$f":"IFERROR(VLOOKUP(A1912,Insumos!A:B,2,FALSE),\"\")","v":""},null,null,null,null,{"$f":"IFERROR(VLOOKUP(E1912,Nota_Fiscal!$G$4:$L$1000,6,0),\"\")","v":""}]
[null,null,{"$f":"IFERROR(VLOOKUP(A1913,Insumos!A:B,2,FALSE),\"\")","v":""},null,null,null,null,{"$f":"IFERROR(VLOOKUP(E1913,Nota_Fiscal!$G$4:$L$1000,6,0),\"\")","v":""}]
[null,null,{"$f":"IFERROR(VLOOKUP(A1914,Insumos!A:B,2,FALSE),\"\")","v":""},null,null,null,null,{"$f":"IFERROR(VLOOKUP(E1914,Nota_Fiscal!$G$4:$L$1000,6,0),\"\")","v":""}]
[null,null,{"$f":"IFERROR(VLOOKUP(A1915,Insumos!A:B,2,FALSE),\"\")","v":""},null,null,null,null,{"$f":"IFERROR(VLOOKUP(E1915,Nota_Fiscal!$G$4:$L$1000,6,0),\"\")","v":""}]
[null,null,{"$f":"IFERROR(VLOOKUP(A1916,Insumos!A:B,2,FALSE),\"\")","v":""},null,null,null,null,{"$f":"IFERROR(VLOOKUP(E1916,Nota_Fiscal!$G$4:$L$1000,6,0),\"\")","v":""}]
[null,null,{"$f":"IFERROR(VLOOKUP(A1917,Insumos!A:B,2,FALSE),\"\")","v":""},null,null,null,null,{"$f":"IFERROR(VLOOKUP(E1917,Nota_Fiscal!$G$4:$L$1000,6,0),\"\")","v":""}]
[null,null,{"$f":"IFERROR(VLOOKUP(A1918,Insumos!A:B,2,FALSE),\"\")","v":""},null,null,null,null,{"$f":"IFERROR(VLOOKUP(E1918,Nota_Fiscal!$G$4:$L$1000,6,0),\"\")","v":""}]
[null,null,{"$f":"IFERROR(VLOOKUP(A1919,Insumos!A:B,2,FALSE),\"\")","v":""},null,null,null,null,{"$f":"IFERROR(VLOOKUP(E1919,Nota_Fiscal!$G$4:$L$1000,6,0),\"\")","v":""}]
[null,null,{"$f":"IFERROR(VLOOKUP(A1920,Insumos!A:B,2,FALSE),\"\")","v":""},null,null,null,null,{"$f":"IFERROR(VLOOKUP(E1920,Nota_Fiscal!$G$4:$L$1000,6,0),\"\")","v":""}]
[null,null,{"$f":"IFERROR(VLOOKUP(A1921,Insumos!A:B,2,FALSE),\"\")","v":""},null,null,null,null,{"$f":"IFERROR(VLOOKUP(E1921,Nota_Fiscal!$G$4:$L$1000,6,0),\"\")","v":""}]
[null,null,{"$f":"IFERROR(VLOOKUP(A1922,Insumos!A:B,2,FALSE),\"\")","v":""},null,null,null,null,{"$f":"IFERROR(VLOOKUP(E1922,Nota_Fiscal!$G$4:$L$1000,6,0),\"\")","v":""}]
[null,null,{"$f":"IFERROR(VLOOKUP(A1923,Insumos!A:B,2,FALSE),\"\")","v":""},null,null,null,null,{"$f":"IFERROR(VLOOKUP(E1923,Nota_Fiscal!$G$4:$L$1000,6,0),\"\")","v":""}]
[null,null,{"$f":"IFERROR(VLOOKUP(A1924,Insumos!A:B,2,FALSE),\"\")","v":""},null,null,null,null,{"$f":"IFERROR(VLOOKUP(E1924,Nota_Fiscal!$G$4:$L$1000,6,0),\"\")","v":""}]
[null,null,{"$f":"IFERROR(VLOOKUP(A1925,Insumos!A:B,2,FALSE),\"\")","v":""},null,null,null,null,{"$f":"IFERROR(VLOOKUP(E1925,Nota_Fiscal!$G$4:$L$1000,6,0),\"\")","v":""}]
[null,null,{"$f":"IFERROR(VLOOKUP(A1926,Insumos!A:B,2,FALSE),\"\")","v":""},null,null,null,null,{"$f":"IFERROR(VLOOKUP(E1926,Nota_Fiscal!$G$4:$L$1000,6,0),\"\")","v":""}]
[null,null,{"$f":"IFERROR(VLOOKUP(A1927,Insumos!A:B,2,FALSE),\"\")","v":""},null,null,null,null,{"$f":"IFERROR(VLOOKUP(E1927,Nota_Fiscal!$G$4:$L$1000,6,0),\"\")","v":""}]
[null,null,{"$f":"IFERROR(VLOOKUP(A1928,Insumos!A:B,2,FALSE),\"\")","v":""},null,null,null,null,{"$f":"IFERROR(VLOOKUP(E1928,Nota_Fiscal!$G$4:$L$1000,6,0),\"\")","v":""}]
[null,null,{"$f":"IFERROR(VLOOKUP(A1929,Insumos!A:B,2,FALSE),\"\")","v":""},null,null,null,null,{"$f":"IFERROR(VLOOKUP(E1929,Nota_Fiscal!$G$4:$L$1000,6,0),\"\")","v":""}]
[null,null,{"$f":"IFERROR(VLOOKUP(A1930,Insumos!A:B,2,FALSE),\"\")","v":""},null,null,null,null,{"$f":"IFERROR(VLOOKUP(E1930,Nota_Fiscal!$G$4:$L$1000,6,0),\"\")","v":""}]
[null,null,{"$f":"IFERROR(VLOOKUP(A1931,Insumos!A:B,2,FALSE),\"\")","v":""},null,null,null,null,{"$f":"IFERROR(VLOOKUP(E1931,Nota_Fiscal!$G$4:$L$1000,6,0),\"\")","v":""}]
[null,null,{"$f":"IFERROR(VLOOKUP(A1932,Insumos!A:B,2,FALSE),\"\")","v":""},null,null,null,null,{"$f":"IFERROR(VLOOKUP(E1932,Nota_Fiscal!$G$4:$L$1000,6,0),\"\")","v":""}]
[null,null,{"$f":"IFERROR(VLOOKUP(A1933,Insumos!A:B,2,FALSE),\"\")","v":""},null,null,null,null,{"$f":"IFERROR(VLOOKUP(E1933,Nota_Fiscal!$G$4:$L$1000,6,0),\"\")","v":""}]
[null,null,{"$f":"IFERROR(VLOOKUP(A1934,Insumos!A:B,2,FALSE),\"\")","v":""},null,null,null,null,{"$f":"IFERROR(VLOOKUP(E1934,Nota_Fiscal!$G$4:$L$1000,6,0),\"\")","v":""}]
[null,null,{"$f":"IFERROR(VLOOKUP(A1935,Insumos!A:B,2,FALSE),\"\")","v":""},null,null,null,null,{"$f":"IFERROR(VLOOKUP(E1935,Nota_Fiscal!$G$4:$L$1000,6,0),\"\")","v":""}]
[null,null,{"$f":"IFERROR(VLOOKUP(A1936,Insumos!A:B,2,FALSE),\"\")","v":""},null,null,null,null,{"$f":"IFERROR(VLOOKUP(E1936,Nota_Fiscal!$G$4:$L$1000,6,0),\"\")","v":""}]
[null,null,{"$f":"IFERROR(VLOOKUP(A1937,Insumos!A:B,2,FALSE),\"\")","v":""},null,null,null,null,{"$f":"IFERROR(VLOOKUP(E1937,Nota_Fiscal!$G$4:$L$1000,6,0),\"\")","v":""}]
[null,null,{"$f":"IFERROR(VLOOKUP(A1938,Insumos!A:B,2,FALSE),\"\")","v":""},null,null,null,null,{"$f":"IFERROR(VLOOKUP(E1938,Nota_Fiscal!$G$4:$L$1000,6,0),\"\")","v":""}]
[null,null,{"$f":"IFERROR(VLOOKUP(A1939,Insumos!A:B,2,FALSE),\"\")","v":""},null,null,null,null,{"$f":"IFERROR(VLOOKUP(E1939,Nota_Fiscal!$G$4:$L$1000,6,0),\"\")","v":""}]
[null,null,{"$f":"IFERROR(VLOOKUP(A1940,Insumos!A:B,2,FALSE),\"\")","v":""},null,null,null,null,{"$f":"IFERROR(VLOOKUP(E1940,Nota_Fiscal!$G$4:$L$1000,6,0),\"\")","v":""}]
[null,null,{"$f":"IFERROR(VLOOKUP(A1941,Insumos!A:B,2,FALSE),\"\")","v":""},null,null,null,null,{"$f":"IFERROR(VLOOKUP(E1941,Nota_Fiscal!$G$4:$L$1000,6,0),\"\")","v":""}]
[null,null,{"$f":"IFERROR(VLOOKUP(A1942,Insumos!A:B,2,FALSE),\"\")","v":""},null,null,null,null,{"$f":"IFERROR(VLOOKUP(E1942,Nota_Fiscal!$G$4:$L$1000,6,0),\"\")","v":""}]
[null,null,{"$f":"IFERROR(VLOOKUP(A1943,Insumos!A:B,2,FALSE),\"\")","v":""},null,null,null,null,{"$f":"IFERROR(VLOOKUP(E1943,Nota_Fiscal!$G$4:$L$1000,6,0),\"\")","v":""}]
[null,null,{"$f":"IFERROR(VLOOKUP(A1944,Insumos!A:B,2,FALSE),\"\")","v":""},null,null,null,null,{"$f":"IFERROR(VLOOKUP(E1944,Nota_Fiscal!$G$4:$L$1000,6,0),\"\")","v":""}]
[null,null,{"$f":"IFERROR(VLOOKUP(A1945,Insumos!A:B,2,FALSE),\"\")","v":""},null,null,null,null,{"$f":"IFERROR(VLOOKUP(E1945,Nota_Fiscal!$G$4:$L$1000,6,0),\"\")","v":""}]
[null,null,{"$f":"IFERROR(VLOOKUP(A1946,Insumos!A:B,2,FALSE),\"\")","v":""},null,null,null,null,{"$f":"IFERROR(VLOOKUP(E1946,Nota_Fiscal!$G$4:$L$1000,6,0),\"\")","v":""}]
[null,null,{"$f":"IFERROR(VLOOKUP(A1947,Insumos!A:B,2,FALSE),\"\")","v":""},null,null,null,null,{"$f":"IFERROR(VLOOKUP(E1947,Nota_Fiscal!$G$4:$L$1000,6,0),\"\")","v":""}]
[null,null,{"$f":"IFERROR(VLOOKUP(A1948,Insumos!A:B,2,FALSE),\"\")","v":""},null,null,null,null,{"$f":"IFERROR(VLOOKUP(E1948,Nota_Fiscal!$G$4:$L$1000,6,0),\"\")","v":""}]
[null,null,{"$f":"IFERROR(VLOOKUP(A1949,Insumos!A:B,2,FALSE),\"\")","v":""},null,null,null,null,{"$f":"IFERROR(VLOOKUP(E1949,Nota_Fiscal!$G$4:$L$1000,6,0),\"\")","v":""}]
[null,null,{"$f":"IFERROR(VLOOKUP(A1950,Insumos!A:B,2,FALSE),\"\")","v":""},null,null,null,null,{"$f":"IFERROR(VLOOKUP(E1950,Nota_Fiscal!$G$4:$L$1000,6,0),\"\")","v":""}]
[null,null,{"$f":"IFERROR(VLOOKUP(A1951,Insumos!A:B,2,FALSE),\"\")","v":""},null,null,null,null,{"$f":"IFERROR(VLOOKUP(E1951,Nota_Fiscal!$G$4:$L$1000,6,0),\"\")","v":""}]
[null,null,{"$f":"IFERROR(VLOOKUP(A1952,Insumos!A:B,2,FALSE),\"\")","v":""},null,null,null,null,{"$f":"IFERROR(VLOOKUP(E1952,Nota_Fiscal!$G$4:$L$1000,6,0),\"\")","v":""}]
[null,null,{"$f":"IFERROR(VLOOKUP(A1953,Insumos!A:B,2,FALSE),\"\")","v":""},null,null,null,null,{"$f":"IFERROR(VLOOKUP(E1953,Nota_Fiscal!$G$4:$L$1000,6,0),\"\")","v":""}]
[null,null,{"$f":"IFERROR(VLOOKUP(A1954,Insumos!A:B,2,FALSE),\"\")","v":""},null,null,null,null,{"$f":"IFERROR(VLOOKUP(E1954,Nota_Fiscal!$G$4:$L$1000,6,0),\"\")","v":""}]
[null,null,{"$f":"IFERROR(VLOOKUP(A1955,Insumos!A:B,2,FALSE),\"\")","v":""},null,null,null,null,{"$f":"IFERROR(VLOOKUP(E1955,Nota_Fiscal!$G$4:$L$1000,6,0),\"\")","v":""}]
[null,null,{"$f":"IFERROR(VLOOKUP(A1956,Insumos!A:B,2,FALSE),\"\")","v":""},null,null,null,null,{"$f":"IFERROR(VLOOKUP(E1956,Nota_Fiscal!$G$4:$L$1000,6,0),\"\")","v":""}]
[null,null,{"$f":"IFERROR(VLOOKUP(A1957,Insumos!A:B,2,FALSE),\"\")","v":""},null,null,null,null,{"$f":"IFERROR(VLOOKUP(E1957,Nota_Fiscal!$G$4:$L$1000,6,0),\"\")","v":""}]
[null,null,{"$f":"IFERROR(VLOOKUP(A1958,Insumos!A:B,2,FALSE),\"\")","v":""},null,null,null,null,{"$f":"IFERROR(VLOOKUP(E1958,Nota_Fiscal!$G$4:$L$1000,6,0),\"\")","v":""}]
[null,null,{"$f":"IFERROR(VLOOKUP(A1959,Insumos!A:B,2,FALSE),\"\")","v":""},null,null,null,null,{"$f":"IFERROR(VLOOKUP(E1959,Nota_Fiscal!$G$4:$L$1000,6,0),\"\")","v":""}]
[null,null,{"$f":"IFERROR(VLOOKUP(A1960,Insumos!A:B,2,FALSE),\"\")","v":""},null,null,null,null,{"$f":"IFERROR(VLOOKUP(E1960,Nota_Fiscal!$G$4:$L$1000,6,0),\"\")","v":""}]
[null,null,{"$f":"IFERROR(VLOOKUP(A1961,Insumos!A:B,2,FALSE),\"\")","v":""},null,null,null,null,{"$f":"IFERROR(VLOOKUP(E1961,Nota_Fiscal!$G$4:$L$1000,6,0),\"\")","v":""}]
[null,null,{"$f":"IFERROR(VLOOKUP(A1962,Insumos!A:B,2,FALSE),\"\")","v":""},null,null,null,null,{"$f":"IFERROR(VLOOKUP(E1962,Nota_Fiscal!$G$4:$L$1000,6,0),\"\")","v":""}]
[null,null,{"$f":"IFERROR(VLOOKUP(A1963,Insumos!A:B,2,FALSE),\"\")","v":""},null,null,null,null,{"$f":"IFERROR(VLOOKUP(E1963,Nota_Fiscal!$G$4:$L$1000,6,0),\"\")","v":""}]
[null,null,{"$f":"IFERROR(VLOOKUP(A1964,Insumos!A:B,2,FALSE),\"\")","v":""},null,null,null,null,{"$f":"IFERROR(VLOOKUP(E1964,Nota_Fiscal!$G$4:$L$1000,6,0),\"\")","v":""}]
[null,null,{"$f":"IFERROR(VLOOKUP(A1965,Insumos!A:B,2,FALSE),\"\")","v":""},null,null,null,null,{"$f":"IFERROR(VLOOKUP(E1965,Nota_Fiscal!$G$4:$L$1000,6,0),\"\")","v":""}]
[null,null,{"$f":"IFERROR(VLOOKUP(A1966,Insumos!A:B,2,FALSE),\"\")","v":""},null,null,null,null,{"$f":"IFERROR(VLOOKUP(E1966,Nota_Fiscal!$G$4:$L$1000,6,0),\"\")","v":""}]
[null,null,{"$f":"IFERROR(VLOOKUP(A1967,Insumos!A:B,2,FALSE),\"\")","v":""},null,null,null,null,{"$f":"IFERROR(VLOOKUP(E1967,Nota_Fiscal!$G$4:$L$1000,6,0),\"\")","v":""}]
[null,null,{"$f":"IFERROR(VLOOKUP(A1968,Insumos!A:B,2,FALSE),\"\")","v":""},null,null,null,null,{"$f":"IFERROR(VLOOKUP(E1968,Nota_Fiscal!$G$4:$L$1000,6,0),\"\")","v":""}]
[null,null,{"$f":"IFERROR(VLOOKUP(A1969,Insumos!A:B,2,FALSE),\"\")","v":""},null,null,null,null,{"$f":"IFERROR(VLOOKUP(E1969,Nota_Fiscal!$G$4:$L$1000,6,0),\"\")","v":""}]
[null,null,{"$f":"IFERROR(VLOOKUP(A1970,Insumos!A:B,2,FALSE),\"\")","v":""},null,null,null,null,{"$f":"IFERROR(VLOOKUP(E1970,Nota_Fiscal!$G$4:$L$1000,6,0),\"\")","v":""}]
[null,null,{"$f":"IFERROR(VLOOKUP(A1971,Insumos!A:B,2,FALSE),\"\")","v":""},null,null,null,null,{"$f":"IFERROR(VLOOKUP(E1971,Nota_Fiscal!$G$4:$L$1000,6,0),\"\")","v":""}]
[null,null,{"$f":"IFERROR(VLOOKUP(A1972,Insumos!A:B,2,FALSE),\"\")","v":""},null,null,null,null,{"$f":"IFERROR(VLOOKUP(E1972,Nota_Fiscal!$G$4:$L$1000,6,0),\"\")","v":""}]
[null,null,{"$f":"IFERROR(VLOOKUP(A1973,Insumos!A:B,2,FALSE),\"\")","v":""},null,null,null,null,{"$f":"IFERROR(VLOOKUP(E1973,Nota_Fiscal!$G$4:$L$1000,6,0),\"\")","v":""}]
[null,null,{"$f":"IFERROR(VLOOKUP(A1974,Insumos!A:B,2,FALSE),\"\")","v":""},null,null,null,null,{"$f":"IFERROR(VLOOKUP(E1974,Nota_Fiscal!$G$4:$L$1000,6,0),\"\")","v":""}]
[null,null,{"$f":"IFERROR(VLOOKUP(A1975,Insumos!A:B,2,FALSE),\"\")","v":""},null,null,null,null,{"$f":"IFERROR(VLOOKUP(E1975,Nota_Fiscal!$G$4:$L$1000,6,0),\"\")","v":""}]
[null,null,{"$f":"IFERROR(VLOOKUP(A1976,Insumos!A:B,2,FALSE),\"\")","v":""},null,null,null,null,{"$f":"IFERROR(VLOOKUP(E1976,Nota_Fiscal!$G$4:$L$1000,6,0),\"\")","v":""}]
[null,null,{"$f":"IFERROR(VLOOKUP(A1977,Insumos!A:B,2,FALSE),\"\")","v":""},null,null,null,null,{"$f":"IFERROR(VLOOKUP(E1977,Nota_Fiscal!$G$4:$L$1000,6,0),\"\")","v":""}]
[null,null,{"$f":"IFERROR(VLOOKUP(A1978,Insumos!A:B,2,FALSE),\"\")","v":""},null,null,null,null,{"$f":"IFERROR(VLOOKUP(E1978,Nota_Fiscal!$G$4:$L$1000,6,0),\"\")","v":""}]
[null,null,{"$f":"IFERROR(VLOOKUP(A1979,Insumos!A:B,2,FALSE),\"\")","v":""},null,null,null,null,{"$f":"IFERROR(VLOOKUP(E1979,Nota_Fiscal!$G$4:$L$1000,6,0),\"\")","v":""}]
[null,null,{"$f":"IFERROR(VLOOKUP(A1980,Insumos!A:B,2,FALSE),\"\")","v":""},null,null,null,null,{"$f":"IFERROR(VLOOKUP(E1980,Nota_Fiscal!$G$4:$L$1000,6,0),\"\")","v":""}]
[null,null,{"$f":"IFERROR(VLOOKUP(A1981,Insumos!A:B,2,FALSE),\"\")","v":""},null,null,null,null,{"$f":"IFERROR(VLOOKUP(E1981,Nota_Fiscal!$G$4:$L$1000,6,0),\"\")","v":""}]
[null,null,{"$f":"IFERROR(VLOOKUP(A1982,Insumos!A:B,2,FALSE),\"\")","v":""},null,null,null,null,{"$f":"IFERROR(VLOOKUP(E1982,Nota_Fiscal!$G$4:$L$1000,6,0),\"\")","v":""}]
[null,null,{"$f":"IFERROR(VLOOKUP(A1983,Insumos!A:B,2,FALSE),\"\")","v":""},null,null,null,null,{"$f":"IFERROR(VLOOKUP(E1983,Nota_Fiscal!$G$4:$L$1000,6,0),\"\")","v":""}]
[null,null,{"$f":"IFERROR(VLOOKUP(A1984,Insumos!A:B,2,FALSE),\"\")","v":""},null,null,null,null,{"$f":"IFERROR(VLOOKUP(E1984,Nota_Fiscal!$G$4:$L$1000,6,0),\"\")","v":""}]
[null,null,{"$f":"IFERROR(VLOOKUP(A1985,Insumos!A:B,2,FALSE),\"\")","v":""},null,null,null,null,{"$f":"IFERROR(VLOOKUP(E1985,Nota_Fiscal!$G$4:$L$1000,6,0),\"\")","v":""}]
[null,null,{"$f":"IFERROR(VLOOKUP(A1986,Insumos!A:B,2,FALSE),\"\")","v":""},null,null,null,null,{"$f":"IFERROR(VLOOKUP(E1986,Nota_Fiscal!$G$4:$L$1000,6,0),\"\")","v":""}]
[null,null,{"$f":"IFERROR(VLOOKUP(A1987,Insumos!A:B,2,FALSE),\"\")","v":""},null,null,null,null,{"$f":"IFERROR(VLOOKUP(E1987,Nota_Fiscal!$G$4:$L$1000,6,0),\"\")","v":""}]
[null,null,{"$f":"IFERROR(VLOOKUP(A1988,Insumos!A:B,2,FALSE),\"\")","v":""},null,null,null,null,{"$f":"IFERROR(VLOOKUP(E1988,Nota_Fiscal!$G$4:$L$1000,6,0),\"\")","v":""}]
[null,null,{"$f":"IFERROR(VLOOKUP(A1989,Insumos!A:B,2,FALSE),\"\")","v":""},null,null,null,null,{"$f":"IFERROR(VLOOKUP(E1989,Nota_Fiscal!$G$4:$L$1000,6,0),\"\")","v":""}]
[null,null,{"$f":"IFERROR(VLOOKUP(A1990,Insumos!A:B,2,FALSE),\"\")","v":""},null,null,null,null,{"$f":"IFERROR(VLOOKUP(E1990,Nota_Fiscal!$G$4:$L$1000,6,0),\"\")","v":""}]
[null,null,{"$f":"IFERROR(VLOOKUP(A1991,Insumos!A:B,2,FALSE),\"\")","v":""},null,null,null,null,{"$f":"IFERROR(VLOOKUP(E1991,Nota_Fiscal!$G$4:$L$1000,6,0),\"\")","v":""}]
[null,null,{"$f":"IFERROR(VLOOKUP(A1992,Insumos!A:B,2,FALSE),\"\")","v":""},null,null,null,null,{"$f":"IFERROR(VLOOKUP(E1992,Nota_Fiscal!$G$4:$L$1000,6,0),\"\")","v":""}]
[null,null,{"$f":"IFERROR(VLOOKUP(A1993,Insumos!A:B,2,FALSE),\"\")","v":""},null,null,null,null,{"$f":"IFERROR(VLOOKUP(E1993,Nota_Fiscal!$G$4:$L$1000,6,0),\"\")","v":""}]
[null,null,{"$f":"IFERROR(VLOOKUP(A1994,Insumos!A:B,2,FALSE),\"\")","v":""},null,null,null,null,{"$f":"IFERROR(VLOOKUP(E1994,Nota_Fiscal!$G$4:$L$1000,6,0),\"\")","v":""}]
[null,null,{"$f":"IFERROR(VLOOKUP(A1995,Insumos!A:B,2,FALSE),\"\")","v":""},null,null,null,null,{"$f":"IFERROR(VLOOKUP(E1995,Nota_Fiscal!$G$4:$L$1000,6,0),\"\")","v":""}]
[null,null,{"$f":"IFERROR(VLOOKUP(A1996,Insumos!A:B,2,FALSE),\"\")","v":""},null,null,null,null,{"$f":"IFERROR(VLOOKUP(E1996,Nota_Fiscal!$G$4:$L$1000,6,0),\"\")","v":""}]
[null,null,{"$f":"IFERROR(VLOOKUP(A1997,Insumos!A:B,2,FALSE),\"\")","v":""},null,null,null,null,{"$f":"IFERROR(VLOOKUP(E1997,Nota_Fiscal!$G$4:$L$1000,6,0),\"\")","v":""}]
[null,null,{"$f":"IFERROR(VLOOKUP(A1998,Insumos!A:B,2,FALSE),\"\")","v":""},null,null,null,null,{"$f":"IFERROR(VLOOKUP(E1998,Nota_Fiscal!$G$4:$L$1000,6,0),\"\")","v":""}]
[null,null,{"$f":"IFERROR(VLOOKUP(A1999,Insumos!A:B,2,FALSE),\"\")","v":""},null,null,null,null,{"$f":"IFERROR(VLOOKUP(E1999,Nota_Fiscal!$G$4:$L$1000,6,0),\"\")","v":""}]
[null,null,{"$f":"IFERROR(VLOOKUP(A2000,Insumos!A:B,2,FALSE),\"\")","v":""},null,null,null,null,{"$f":"IFERROR(VLOOKUP(E2000,Nota_Fiscal!$G$4:$L$1000,6,0),\"\")","v":""}]
[null,null,{"$f":"IFERROR(VLOOKUP(A2001,Insumos!A:B,2,FALSE),\"\")","v":""},null,null,null,null,{"$f":"IFERROR(VLOOKUP(E2001,Nota_Fiscal!$G$4:$L$1000,6,0),\"\")","v":""}]
[null,null,{"$f":"IFERROR(VLOOKUP(A2002,Insumos!A:B,2,FALSE),\"\")","v":""},null,null,null,null,{"$f":"IFERROR(VLOOKUP(E2002,Nota_Fiscal!$G$4:$L$1000,6,0),\"\")","v":""}]
[null,null,{"$f":"IFERROR(VLOOKUP(A2003,Insumos!A:B,2,FALSE),\"\")","v":""},null,null,null,null,{"$f":"IFERROR(VLOOKUP(E2003,Nota_Fiscal!$G$4:$L$1000,6,0),\"\")","v":""}]
[null,null,{"$f":"IFERROR(VLOOKUP(A2004,Insumos!A:B,2,FALSE),\"\")","v":""},null,null,null,null,{"$f":"IFERROR(VLOOKUP(E2004,Nota_Fiscal!$G$4:$L$1000,6,0),\"\")","v":""}]
[null,null,{"$f":"IFERROR(VLOOKUP(A2005,Insumos!A:B,2,FALSE),\"\")","v":""},null,null,null,null,{"$f":"IFERROR(VLOOKUP(E2005,Nota_Fiscal!$G$4:$L$1000,6,0),\"\")","v":""}]
[null,null,{"$f":"IFERROR(VLOOKUP(A2006,Insumos!A:B,2,FALSE),\"\")","v":""},null,null,null,null,{"$f":"IFERROR(VLOOKUP(E2006,Nota_Fiscal!$G$4:$L$1000,6,0),\"\")","v":""}]
[null,null,{"$f":"IFERROR(VLOOKUP(A2007,Insumos!A:B,2,FALSE),\"\")","v":""},null,null,null,null,{"$f":"IFERROR(VLOOKUP(E2007,Nota_Fiscal!$G$4:$L$1000,6,0),\"\")","v":""}]
[null,null,{"$f":"IFERROR(VLOOKUP(A2008,Insumos!A:B,2,FALSE),\"\")","v":""},null,null,null,null,{"$f":"IFERROR(VLOOKUP(E2008,Nota_Fiscal!$G$4:$L$1000,6,0),\"\")","v":""}]
[null,null,{"$f":"IFERROR(VLOOKUP(A2009,Insumos!A:B,2,FALSE),\"\")","v":""},null,null,null,null,{"$f":"IFERROR(VLOOKUP(E2009,Nota_Fiscal!$G$4:$L$1000,6,0),\"\")","v":""}]
[null,null,{"$f":"IFERROR(VLOOKUP(A2010,Insumos!A:B,2,FALSE),\"\")","v":""},null,null,null,null,{"$f":"IFERROR(VLOOKUP(E2010,Nota_Fiscal!$G$4:$L$1000,6,0),\"\")","v":""}]
[null,null,{"$f":"IFERROR(VLOOKUP(A2011,Insumos!A:B,2,FALSE),\"\")","v":""},null,null,null,null,{"$f":"IFERROR(VLOOKUP(E2011,Nota_Fiscal!$G$4:$L$1000,6,0),\"\")","v":""}]
[null,null,{"$f":"IFERROR(VLOOKUP(A2012,Insumos!A:B,2,FALSE),\"\")","v":""},null,null,null,null,{"$f":"IFERROR(VLOOKUP(E2012,Nota_Fiscal!$G$4:$L$1000,6,0),\"\")","v":""}]
[null,null,{"$f":"IFERROR(VLOOKUP(A2013,Insumos!A:B,2,FALSE),\"\")","v":""},null,null,null,null,{"$f":"IFERROR(VLOOKUP(E2013,Nota_Fiscal!$G$4:$L$1000,6,0),\"\")","v":""}]
[null,null,{"$f":"IFERROR(VLOOKUP(A2014,Insumos!A:B,2,FALSE),\"\")","v":""},null,null,null,null,{"$f":"IFERROR(VLOOKUP(E2014,Nota_Fiscal!$G$4:$L$1000,6,0),\"\")","v":""}]
[null,null,{"$f":"IFERROR(VLOOKUP(A2015,Insumos!A:B,2,FALSE),\"\")","v":""},null,null,null,null,{"$f":"IFERROR(VLOOKUP(E2015,Nota_Fiscal!$G$4:$L$1000,6,0),\"\")","v":""}]
[null,null,{"$f":"IFERROR(VLOOKUP(A2016,Insumos!A:B,2,FALSE),\"\")","v":""},null,null,null,null,{"$f":"IFERROR(VLOOKUP(E2016,Nota_Fiscal!$G$4:$L$1000,6,0),\"\")","v":""}]
[null,null,{"$f":"IFERROR(VLOOKUP(A2017,Insumos!A:B,2,FALSE),\"\")","v":""},null,null,null,null,{"$f":"IFERROR(VLOOKUP(E2017,Nota_Fiscal!$G$4:$L$1000,6,0),\"\")","v":""}]
[null,null,{"$f":"IFERROR(VLOOKUP(A2018,Insumos!A:B,2,FALSE),\"\")","v":""},null,null,null,null,{"$f":"IFERROR(VLOOKUP(E2018,Nota_Fiscal!$G$4:$L$1000,6,0),\"\")","v":""}]
[null,null,{"$f":"IFERROR(VLOOKUP(A2019,Insumos!A:B,2,FALSE),\"\")","v":""},null,null,null,null,{"$f":"IFERROR(VLOOKUP(E2019,Nota_Fiscal!$G$4:$L$1000,6,0),\"\")","v":""}]
[null,null,{"$f":"IFERROR(VLOOKUP(A2020,Insumos!A:B,2,FALSE),\"\")","v":""},null,null,null,null,{"$f":"IFERROR(VLOOKUP(E2020,Nota_Fiscal!$G$4:$L$1000,6,0),\"\")","v":""}]
[null,null,{"$f":"IFERROR(VLOOKUP(A2021,Insumos!A:B,2,FALSE),\"\")","v":""},null,null,null,null,{"$f":"IFERROR(VLOOKUP(E2021,Nota_Fiscal!$G$4:$L$1000,6,0),\"\")","v":""}]
[null,null,{"$f":"IFERROR(VLOOKUP(A2022,Insumos!A:B,2,FALSE),\"\")","v":""},null,null,null,null,{"$f":"IFERROR(VLOOKUP(E2022,Nota_Fiscal!$G$4:$L$1000,6,0),\"\")","v":""}]
[null,null,{"$f":"IFERROR(VLOOKUP(A2023,Insumos!A:B,2,FALSE),\"\")","v":""},null,null,null,null,{"$f":"IFERROR(VLOOKUP(E2023,Nota_Fiscal!$G$4:$L$1000,6,0),\"\")","v":""}]
[null,null,{"$f":"IFERROR(VLOOKUP(A2024,Insumos!A:B,2,FALSE),\"\")","v":""},null,null,null,null,{"$f":"IFERROR(VLOOKUP(E2024,Nota_Fiscal!$G$4:$L$1000,6,0),\"\")","v":""}]
[null,null,{"$f":"IFERROR(VLOOKUP(A2025,Insumos!A:B,2,FALSE),\"\")","v":""},null,null,null,null,{"$f":"IFERROR(VLOOKUP(E2025,Nota_Fiscal!$G$4:$L$1000,6,0),\"\")","v":""}]
[null,null,{"$f":"IFERROR(VLOOKUP(A2026,Insumos!A:B,2,FALSE),\"\")","v":""},null,null,null,null,{"$f":"IFERROR(VLOOKUP(E2026,Nota_Fiscal!$G$4:$L$1000,6,0),\"\")","v":""}]
[null,null,{"$f":"IFERROR(VLOOKUP(A2027,Insumos!A:B,2,FALSE),\"\")","v":""},null,null,null,null,{"$f":"IFERROR(VLOOKUP(E2027,Nota_Fiscal!$G$4:$L$1000,6,0),\"\")","v":""}]
[null,null,{"$f":"IFERROR(VLOOKUP(A2028,Insumos!A:B,2,FALSE),\"\")","v":""},null,null,null,null,{"$f":"IFERROR(VLOOKUP(E2028,Nota_Fiscal!$G$4:$L$1000,6,0),\"\")","v":""}]
[null,null,{"$f":"IFERROR(VLOOKUP(A2029,Insumos!A:B,2,FALSE),\"\")","v":""},null,null,null,null,{"$f":"IFERROR(VLOOKUP(E2029,Nota_Fiscal!$G$4:$L$1000,6,0),\"\")","v":""}]
[null,null,{"$f":"IFERROR(VLOOKUP(A2030,Insumos!A:B,2,FALSE),\"\")","v":""},null,null,null,null,{"$f":"IFERROR(VLOOKUP(E2030,Nota_Fiscal!$G$4:$L$1000,6,0),\"\")","v":""}]
[null,null,{"$f":"IFERROR(VLOOKUP(A2031,Insumos!A:B,2,FALSE),\"\")","v":""},null,null,null,null,{"$f":"IFERROR(VLOOKUP(E2031,Nota_Fiscal!$G$4:$L$1000,6,0),\"\")","v":""}]
[null,null,{"$f":"IFERROR(VLOOKUP(A2032,Insumos!A:B,2,FALSE),\"\")","v":""},null,null,null,null,{"$f":"IFERROR(VLOOKUP(E2032,Nota_Fiscal!$G$4:$L$1000,6,0),\"\")","v":""}]
[null,null,{"$f":"IFERROR(VLOOKUP(A2033,Insumos!A:B,2,FALSE),\"\")","v":""},null,null,null,null,{"$f":"IFERROR(VLOOKUP(E2033,Nota_Fiscal!$G$4:$L$1000,6,0),\"\")","v":""}]
[null,null,{"$f":"IFERROR(VLOOKUP(A2034,Insumos!A:B,2,FALSE),\"\")","v":""},null,null,null,null,{"$f":"IFERROR(VLOOKUP(E2034,Nota_Fiscal!$G$4:$L$1000,6,0),\"\")","v":""}]
[null,null,{"$f":"IFERROR(VLOOKUP(A2035,Insumos!A:B,2,FALSE),\"\")","v":""},null,null,null,null,{"$f":"IFERROR(VLOOKUP(E2035,Nota_Fiscal!$G$4:$L$1000,6,0),\"\")","v":""}]
[null,null,{"$f":"IFERROR(VLOOKUP(A2036,Insumos!A:B,2,FALSE),\"\")","v":""},null,null,null,null,{"$f":"IFERROR(VLOOKUP(E2036,Nota_Fiscal!$G$4:$L$1000,6,0),\"\")","v":""}]
[null,null,{"$f":"IFERROR(VLOOKUP(A2037,Insumos!A:B,2,FALSE),\"\")","v":""},null,null,null,null,{"$f":"IFERROR(VLOOKUP(E2037,Nota_Fiscal!$G$4:$L$1000,6,0),\"\")","v":""}]
[null,null,{"$f":"IFERROR(VLOOKUP(A2038,Insumos!A:B,2,FALSE),\"\")","v":""},null,null,null,null,{"$f":"IFERROR(VLOOKUP(E2038,Nota_Fiscal!$G$4:$L$1000,6,0),\"\")","v":""}]
[null,null,{"$f":"IFERROR(VLOOKUP(A2039,Insumos!A:B,2,FALSE),\"\")","v":""},null,null,null,null,{"$f":"IFERROR(VLOOKUP(E2039,Nota_Fiscal!$G$4:$L$1000,6,0),\"\")","v":""}]
[null,null,{"$f":"IFERROR(VLOOKUP(A2040,Insumos!A:B,2,FALSE),\"\")","v":""},null,null,null,null,{"$f":"IFERROR(VLOOKUP(E2040,Nota_Fiscal!$G$4:$L$1000,6,0),\"\")","v":""}]
[null,null,{"$f":"IFERROR(VLOOKUP(A2041,Insumos!A:B,2,FALSE),\"\")","v":""},null,null,null,null,{"$f":"IFERROR(VLOOKUP(E2041,Nota_Fiscal!$G$4:$L$1000,6,0),\"\")","v":""}]
[null,null,{"$f":"IFERROR(VLOOKUP(A2042,Insumos!A:B,2,FALSE),\"\")","v":""},null,null,null,null,{"$f":"IFERROR(VLOOKUP(E2042,Nota_Fiscal!$G$4:$L$1000,6,0),\"\")","v":""}]
[null,null,{"$f":"IFERROR(VLOOKUP(A2043,Insumos!A:B,2,FALSE),\"\")","v":""},null,null,null,null,{"$f":"IFERROR(VLOOKUP(E2043,Nota_Fiscal!$G$4:$L$1000,6,0),\"\")","v":""}]
[null,null,{"$f":"IFERROR(VLOOKUP(A2044,Insumos!A:B,2,FALSE),\"\")","v":""},null,null,null,null,{"$f":"IFERROR(VLOOKUP(E2044,Nota_Fiscal!$G$4:$L$1000,6,0),\"\")","v":""}]
[null,null,{"$f":"IFERROR(VLOOKUP(A2045,Insumos!A:B,2,FALSE),\"\")","v":""},null,null,null,null,{"$f":"IFERROR(VLOOKUP(E2045,Nota_Fiscal!$G$4:$L$1000,6,0),\"\")","v":""}]
[null,null,{"$f":"IFERROR(VLOOKUP(A2046,Insumos!A:B,2,FALSE),\"\")","v":""},null,null,null,null,{"$f":"IFERROR(VLOOKUP(E2046,Nota_Fiscal!$G$4:$L$1000,6,0),\"\")","v":""}]
[null,null,{"$f":"IFERROR(VLOOKUP(A2047,Insumos!A:B,2,FALSE),\"\")","v":""},null,null,null,null,{"$f":"IFERROR(VLOOKUP(E2047,Nota_Fiscal!$G$4:$L$1000,6,0),\"\")","v":""}]
[null,null,{"$f":"IFERROR(VLOOKUP(A2048,Insumos!A:B,2,FALSE),\"\")","v":""},null,null,null,null,{"$f":"IFERROR(VLOOKUP(E2048,Nota_Fiscal!$G$4:$L$1000,6,0),\"\")","v":""}]
[null,null,{"$f":"IFERROR(VLOOKUP(A2049,Insumos!A:B,2,FALSE),\"\")","v":""},null,null,null,null,{"$f":"IFERROR(VLOOKUP(E2049,Nota_Fiscal!$G$4:$L$1000,6,0),\"\")","v":""}]
[null,null,{"$f":"IFERROR(VLOOKUP(A2050,Insumos!A:B,2,FALSE),\"\")","v":""},null,null,null,null,{"$f":"IFERROR(VLOOKUP(E2050,Nota_Fiscal!$G$4:$L$1000,6,0),\"\")","v":""}]
[null,null,{"$f":"IFERROR(VLOOKUP(A2051,Insumos!A:B,2,FALSE),\"\")","v":""},null,null,null,null,{"$f":"IFERROR(VLOOKUP(E2051,Nota_Fiscal!$G$4:$L$1000,6,0),\"\")","v":""}]
[null,null,{"$f":"IFERROR(VLOOKUP(A2052,Insumos!A:B,2,FALSE),\"\")","v":""},null,null,null,null,{"$f":"IFERROR(VLOOKUP(E2052,Nota_Fiscal!$G$4:$L$1000,6,0),\"\")","v":""}]
[null,null,{"$f":"IFERROR(VLOOKUP(A2053,Insumos!A:B,2,FALSE),\"\")","v":""},null,null,null,null,{"$f":"IFERROR(VLOOKUP(E2053,Nota_Fiscal!$G$4:$L$1000,6,0),\"\")","v":""}]
[null,null,{"$f":"IFERROR(VLOOKUP(A2054,Insumos!A:B,2,FALSE),\"\")","v":""},null,null,null,null,{"$f":"IFERROR(VLOOKUP(E2054,Nota_Fiscal!$G$4:$L$1000,6,0),\"\")","v":""}]
[null,null,{"$f":"IFERROR(VLOOKUP(A2055,Insumos!A:B,2,FALSE),\"\")","v":""},null,null,null,null,{"$f":"IFERROR(VLOOKUP(E2055,Nota_Fiscal!$G$4:$L$1000,6,0),\"\")","v":""}]
[null,null,{"$f":"IFERROR(VLOOKUP(A2056,Insumos!A:B,2,FALSE),\"\")","v":""},null,null,null,null,{"$f":"IFERROR(VLOOKUP(E2056,Nota_Fiscal!$G$4:$L$1000,6,0),\"\")","v":""}]
[null,null,{"$f":"IFERROR(VLOOKUP(A2057,Insumos!A:B,2,FALSE),\"\")","v":""},null,null,null,null,{"$f":"IFERROR(VLOOKUP(E2057,Nota_Fiscal!$G$4:$L$1000,6,0),\"\")","v":""}]
[null,null,{"$f":"IFERROR(VLOOKUP(A2058,Insumos!A:B,2,FALSE),\"\")","v":""},null,null,null,null,{"$f":"IFERROR(VLOOKUP(E2058,Nota_Fiscal!$G$4:$L$1000,6,0),\"\")","v":""}]
[null,null,{"$f":"IFERROR(VLOOKUP(A2059,Insumos!A:B,2,FALSE),\"\")","v":""},null,null,null,null,{"$f":"IFERROR(VLOOKUP(E2059,Nota_Fiscal!$G$4:$L$1000,6,0),\"\")","v":""}]
[null,null,{"$f":"IFERROR(VLOOKUP(A2060,Insumos!A:B,2,FALSE),\"\")","v":""},null,null,null,null,{"$f":"IFERROR(VLOOKUP(E2060,Nota_Fiscal!$G$4:$L$1000,6,0),\"\")","v":""}]
[null,null,{"$f":"IFERROR(VLOOKUP(A2061,Insumos!A:B,2,FALSE),\"\")","v":""},null,null,null,null,{"$f":"IFERROR(VLOOKUP(E2061,Nota_Fiscal!$G$4:$L$1000,6,0),\"\")","v":""}]
[null,null,{"$f":"IFERROR(VLOOKUP(A2062,Insumos!A:B,2,FALSE),\"\")","v":""},null,null,null,null,{"$f":"IFERROR(VLOOKUP(E2062,Nota_Fiscal!$G$4:$L$1000,6,0),\"\")","v":""}]
[null,null,{"$f":"IFERROR(VLOOKUP(A2063,Insumos!A:B,2,FALSE),\"\")","v":""},null,null,null,null,{"$f":"IFERROR(VLOOKUP(E2063,Nota_Fiscal!$G$4:$L$1000,6,0),\"\")","v":""}]
[null,null,{"$f":"IFERROR(VLOOKUP(A2064,Insumos!A:B,2,FALSE),\"\")","v":""},null,null,null,null,{"$f":"IFERROR(VLOOKUP(E2064,Nota_Fiscal!$G$4:$L$1000,6,0),\"\")","v":""}]
[null,null,{"$f":"IFERROR(VLOOKUP(A2065,Insumos!A:B,2,FALSE),\"\")","v":""},null,null,null,null,{"$f":"IFERROR(VLOOKUP(E2065,Nota_Fiscal!$G$4:$L$1000,6,0),\"\")","v":""}]
[null,null,{"$f":"IFERROR(VLOOKUP(A2066,Insumos!A:B,2,FALSE),\"\")","v":""},null,null,null,null,{"$f":"IFERROR(VLOOKUP(E2066,Nota_Fiscal!$G$4:$L$1000,6,0),\"\")","v":""}]
[null,null,{"$f":"IFERROR(VLOOKUP(A2067,Insumos!A:B,2,FALSE),\"\")","v":""},null,null,null,null,{"$f":"IFERROR(VLOOKUP(E2067,Nota_Fiscal!$G$4:$L$1000,6,0),\"\")","v":""}]
[null,null,{"$f":"IFERROR(VLOOKUP(A2068,Insumos!A:B,2,FALSE),\"\")","v":""},null,null,null,null,{"$f":"IFERROR(VLOOKUP(E2068,Nota_Fiscal!$G$4:$L$1000,6,0),\"\")","v":""}]
[null,null,{"$f":"IFERROR(VLOOKUP(A2069,Insumos!A:B,2,FALSE),\"\")","v":""},null,null,null,null,{"$f":"IFERROR(VLOOKUP(E2069,Nota_Fiscal!$G$4:$L$1000,6,0),\"\")","v":""}]
[null,null,{"$f":"IFERROR(VLOOKUP(A2070,Insumos!A:B,2,FALSE),\"\")","v":""},null,null,null,null,{"$f":"IFERROR(VLOOKUP(E2070,Nota_Fiscal!$G$4:$L$1000,6,0),\"\")","v":""}]
[null,null,{"$f":"IFERROR(VLOOKUP(A2071,Insumos!A:B,2,FALSE),\"\")","v":""},null,null,null,null,{"$f":"IFERROR(VLOOKUP(E2071,Nota_Fiscal!$G$4:$L$1000,6,0),\"\")","v":""}]
[null,null,{"$f":"IFERROR(VLOOKUP(A2072,Insumos!A:B,2,FALSE),\"\")","v":""},null,null,null,null,{"$f":"IFERROR(VLOOKUP(E2072,Nota_Fiscal!$G$4:$L$1000,6,0),\"\")","v":""}]
[null,null,{"$f":"IFERROR(VLOOKUP(A2073,Insumos!A:B,2,FALSE),\"\")","v":""},null,null,null,null,{"$f":"IFERROR(VLOOKUP(E2073,Nota_Fiscal!$G$4:$L$1000,6,0),\"\")","v":""}]
[null,null,{"$f":"IFERROR(VLOOKUP(A2074,Insumos!A:B,2,FALSE),\"\")","v":""},null,null,null,null,{"$f":"IFERROR(VLOOKUP(E2074,Nota_Fiscal!$G$4:$L$1000,6,0),\"\")","v":""}]
[null,null,{"$f":"IFERROR(VLOOKUP(A2075,Insumos!A:B,2,FALSE),\"\")","v":""},null,null,null,null,{"$f":"IFERROR(VLOOKUP(E2075,Nota_Fiscal!$G$4:$L$1000,6,0),\"\")","v":""}]
[null,null,{"$f":"IFERROR(VLOOKUP(A2076,Insumos!A:B,2,FALSE),\"\")","v":""},null,null,null,null,{"$f":"IFERROR(VLOOKUP(E2076,Nota_Fiscal!$G$4:$L$1000,6,0),\"\")","v":""}]
[null,null,{"$f":"IFERROR(VLOOKUP(A2077,Insumos!A:B,2,FALSE),\"\")","v":""},null,null,null,null,{"$f":"IFERROR(VLOOKUP(E2077,Nota_Fiscal!$G$4:$L$1000,6,0),\"\")","v":""}]
[null,null,{"$f":"IFERROR(VLOOKUP(A2078,Insumos!A:B,2,FALSE),\"\")","v":""},null,null,null,null,{"$f":"IFERROR(VLOOKUP(E2078,Nota_Fiscal!$G$4:$L$1000,6,0),\"\")","v":""}]
[null,null,{"$f":"IFERROR(VLOOKUP(A2079,Insumos!A:B,2,FALSE),\"\")","v":""},null,null,null,null,{"$f":"IFERROR(VLOOKUP(E2079,Nota_Fiscal!$G$4:$L$1000,6,0),\"\")","v":""}]
[null,null,{"$f":"IFERROR(VLOOKUP(A2080,Insumos!A:B,2,FALSE),\"\")","v":""},null,null,null,null,{"$f":"IFERROR(VLOOKUP(E2080,Nota_Fiscal!$G$4:$L$1000,6,0),\"\")","v":""}]
[null,null,{"$f":"IFERROR(VLOOKUP(A2081,Insumos!A:B,2,FALSE),\"\")","v":""},null,null,null,null,{"$f":"IFERROR(VLOOKUP(E2081,Nota_Fiscal!$G$4:$L$1000,6,0),\"\")","v":""}]
[null,null,{"$f":"IFERROR(VLOOKUP(A2082,Insumos!A:B,2,FALSE),\"\")","v":""},null,null,null,null,{"$f":"IFERROR(VLOOKUP(E2082,Nota_Fiscal!$G$4:$L$1000,6,0),\"\")","v":""}]
[null,null,{"$f":"IFERROR(VLOOKUP(A2083,Insumos!A:B,2,FALSE),\"\")","v":""},null,null,null,null,{"$f":"IFERROR(VLOOKUP(E2083,Nota_Fiscal!$G$4:$L$1000,6,0),\"\")","v":""}]
[null,null,{"$f":"IFERROR(VLOOKUP(A2084,Insumos!A:B,2,FALSE),\"\")","v":""},null,null,null,null,{"$f":"IFERROR(VLOOKUP(E2084,Nota_Fiscal!$G$4:$L$1000,6,0),\"\")","v":""}]
[null,null,{"$f":"IFERROR(VLOOKUP(A2085,Insumos!A:B,2,FALSE),\"\")","v":""},null,null,null,null,{"$f":"IFERROR(VLOOKUP(E2085,Nota_Fiscal!$G$4:$L$1000,6,0),\"\")","v":""}]
[null,null,{"$f":"IFERROR(VLOOKUP(A2086,Insumos!A:B,2,FALSE),\"\")","v":""},null,null,null,null,{"$f":"IFERROR(VLOOKUP(E2086,Nota_Fiscal!$G$4:$L$1000,6,0),\"\")","v":""}]
[null,null,{"$f":"IFERROR(VLOOKUP(A2087,Insumos!A:B,2,FALSE),\"\")","v":""},null,null,null,null,{"$f":"IFERROR(VLOOKUP(E2087,Nota_Fiscal!$G$4:$L$1000,6,0),\"\")","v":""}]
[null,null,{"$f":"IFERROR(VLOOKUP(A2088,Insumos!A:B,2,FALSE),\"\")","v":""},null,null,null,null,{"$f":"IFERROR(VLOOKUP(E2088,Nota_Fiscal!$G$4:$L$1000,6,0),\"\")","v":""}]
[null,null,{"$f":"IFERROR(VLOOKUP(A2089,Insumos!A:B,2,FALSE),\"\")","v":""},null,null,null,null,{"$f":"IFERROR(VLOOKUP(E2089,Nota_Fiscal!$G$4:$L$1000,6,0),\"\")","v":""}]
[null,null,{"$f":"IFERROR(VLOOKUP(A2090,Insumos!A:B,2,FALSE),\"\")","v":""},null,null,null,null,{"$f":"IFERROR(VLOOKUP(E2090,Nota_Fiscal!$G$4:$L$1000,6,0),\"\")","v":""}]
[null,null,{"$f":"IFERROR(VLOOKUP(A2091,Insumos!A:B,2,FALSE),\"\")","v":""},null,null,null,null,{"$f":"IFERROR(VLOOKUP(E2091,Nota_Fiscal!$G$4:$L$1000,6,0),\"\")","v":""}]
[null,null,{"$f":"IFERROR(VLOOKUP(A2092,Insumos!A:B,2,FALSE),\"\")","v":""},null,null,null,null,{"$f":"IFERROR(VLOOKUP(E2092,Nota_Fiscal!$G$4:$L$1000,6,0),\"\")","v":""}]
[null,null,{"$f":"IFERROR(VLOOKUP(A2093,Insumos!A:B,2,FALSE),\"\")","v":""},null,null,null,null,{"$f":"IFERROR(VLOOKUP(E2093,Nota_Fiscal!$G$4:$L$1000,6,0),\"\")","v":""}]
[null,null,{"$f":"IFERROR(VLOOKUP(A2094,Insumos!A:B,2,FALSE),\"\")","v":""},null,null,null,null,{"$f":"IFERROR(VLOOKUP(E2094,Nota_Fiscal!$G$4:$L$1000,6,0),\"\")","v":""}]
[null,null,{"$f":"IFERROR(VLOOKUP(A2095,Insumos!A:B,2,FALSE),\"\")","v":""},null,null,null,null,{"$f":"IFERROR(VLOOKUP(E2095,Nota_Fiscal!$G$4:$L$1000,6,0),\"\")","v":""}]
[null,null,{"$f":"IFERROR(VLOOKUP(A2096,Insumos!A:B,2,FALSE),\"\")","v":""},null,null,null,null,{"$f":"IFERROR(VLOOKUP(E2096,Nota_Fiscal!$G$4:$L$1000,6,0),\"\")","v":""}]
[null,null,{"$f":"IFERROR(VLOOKUP(A2097,Insumos!A:B,2,FALSE),\"\")","v":""},null,null,null,null,{"$f":"IFERROR(VLOOKUP(E2097,Nota_Fiscal!$G$4:$L$1000,6,0),\"\")","v":""}]
[null,null,{"$f":"IFERROR(VLOOKUP(A2098,Insumos!A:B,2,FALSE),\"\")","v":""},null,null,null,null,{"$f":"IFERROR(VLOOKUP(E2098,Nota_Fiscal!$G$4:$L$1000,6,0),\"\")","v":""}]
[null,null,{"$f":"IFERROR(VLOOKUP(A2099,Insumos!A:B,2,FALSE),\"\")","v":""},null,null,null,null,{"$f":"IFERROR(VLOOKUP(E2099,Nota_Fiscal!$G$4:$L$1000,6,0),\"\")","v":""}]
[null,null,{"$f":"IFERROR(VLOOKUP(A2100,Insumos!A:B,2,FALSE),\"\")","v":""},null,null,null,null,{"$f":"IFERROR(VLOOKUP(E2100,Nota_Fiscal!$G$4:$L$1000,6,0),\"\")","v":""}]
[null,null,{"$f":"IFERROR(VLOOKUP(A2101,Insumos!A:B,2,FALSE),\"\")","v":""},null,null,null,null,{"$f":"IFERROR(VLOOKUP(E2101,Nota_Fiscal!$G$4:$L$1000,6,0),\"\")","v":""}]
[null,null,{"$f":"IFERROR(VLOOKUP(A2102,Insumos!A:B,2,FALSE),\"\")","v":""},null,null,null,null,{"$f":"IFERROR(VLOOKUP(E2102,Nota_Fiscal!$G$4:$L$1000,6,0),\"\")","v":""}]
[null,null,{"$f":"IFERROR(VLOOKUP(A2103,Insumos!A:B,2,FALSE),\"\")","v":""},null,null,null,null,{"$f":"IFERROR(VLOOKUP(E2103,Nota_Fiscal!$G$4:$L$1000,6,0),\"\")","v":""}]
[null,null,{"$f":"IFERROR(VLOOKUP(A2104,Insumos!A:B,2,FALSE),\"\")","v":""},null,null,null,null,{"$f":"IFERROR(VLOOKUP(E2104,Nota_Fiscal!$G$4:$L$1000,6,0),\"\")","v":""}]
[null,null,{"$f":"IFERROR(VLOOKUP(A2105,Insumos!A:B,2,FALSE),\"\")","v":""},null,null,null,null,{"$f":"IFERROR(VLOOKUP(E2105,Nota_Fiscal!$G$4:$L$1000,6,0),\"\")","v":""}]
[null,null,{"$f":"IFERROR(VLOOKUP(A2106,Insumos!A:B,2,FALSE),\"\")","v":""},null,null,null,null,{"$f":"IFERROR(VLOOKUP(E2106,Nota_Fiscal!$G$4:$L$1000,6,0),\"\")","v":""}]
[null,null,{"$f":"IFERROR(VLOOKUP(A2107,Insumos!A:B,2,FALSE),\"\")","v":""},null,null,null,null,{"$f":"IFERROR(VLOOKUP(E2107,Nota_Fiscal!$G$4:$L$1000,6,0),\"\")","v":""}]
[null,null,{"$f":"IFERROR(VLOOKUP(A2108,Insumos!A:B,2,FALSE),\"\")","v":""},null,null,null,null,{"$f":"IFERROR(VLOOKUP(E2108,Nota_Fiscal!$G$4:$L$1000,6,0),\"\")","v":""}]
[null,null,{"$f":"IFERROR(VLOOKUP(A2109,Insumos!A:B,2,FALSE),\"\")","v":""},null,null,null,null,{"$f":"IFERROR(VLOOKUP(E2109,Nota_Fiscal!$G$4:$L$1000,6,0),\"\")","v":""}]
[null,null,{"$f":"IFERROR(VLOOKUP(A2110,Insumos!A:B,2,FALSE),\"\")","v":""},null,null,null,null,{"$f":"IFERROR(VLOOKUP(E2110,Nota_Fiscal!$G$4:$L$1000,6,0),\"\")","v":""}]
[null,null,{"$f":"IFERROR(VLOOKUP(A2111,Insumos!A:B,2,FALSE),\"\")","v":""},null,null,null,null,{"$f":"IFERROR(VLOOKUP(E2111,Nota_Fiscal!$G$4:$L$1000,6,0),\"\")","v":""}]
[null,null,{"$f":"IFERROR(VLOOKUP(A2112,Insumos!A:B,2,FALSE),\"\")","v":""},null,null,null,null,{"$f":"IFERROR(VLOOKUP(E2112,Nota_Fiscal!$G$4:$L$1000,6,0),\"\")","v":""}]
[null,null,{"$f":"IFERROR(VLOOKUP(A2113,Insumos!A:B,2,FALSE),\"\")","v":""},null,null,null,null,{"$f":"IFERROR(VLOOKUP(E2113,Nota_Fiscal!$G$4:$L$1000,6,0),\"\")","v":""}]
[null,null,{"$f":"IFERROR(VLOOKUP(A2114,Insumos!A:B,2,FALSE),\"\")","v":""},null,null,null,null,{"$f":"IFERROR(VLOOKUP(E2114,Nota_Fiscal!$G$4:$L$1000,6,0),\"\")","v":""}]
[null,null,{"$f":"IFERROR(VLOOKUP(A2115,Insumos!A:B,2,FALSE),\"\")","v":""},null,null,null,null,{"$f":"IFERROR(VLOOKUP(E2115,Nota_Fiscal!$G$4:$L$1000,6,0),\"\")","v":""}]
[null,null,{"$f":"IFERROR(VLOOKUP(A2116,Insumos!A:B,2,FALSE),\"\")","v":""},null,null,null,null,{"$f":"IFERROR(VLOOKUP(E2116,Nota_Fiscal!$G$4:$L$1000,6,0),\"\")","v":""}]
[null,null,{"$f":"IFERROR(VLOOKUP(A2117,Insumos!A:B,2,FALSE),\"\")","v":""},null,null,null,null,{"$f":"IFERROR(VLOOKUP(E2117,Nota_Fiscal!$G$4:$L$1000,6,0),\"\")","v":""}]
[null,null,{"$f":"IFERROR(VLOOKUP(A2118,Insumos!A:B,2,FALSE),\"\")","v":""},null,null,null,null,{"$f":"IFERROR(VLOOKUP(E2118,Nota_Fiscal!$G$4:$L$1000,6,0),\"\")","v":""}]
[null,null,{"$f":"IFERROR(VLOOKUP(A2119,Insumos!A:B,2,FALSE),\"\")","v":""},null,null,null,null,{"$f":"IFERROR(VLOOKUP(E2119,Nota_Fiscal!$G$4:$L$1000,6,0),\"\")","v":""}]
[null,null,{"$f":"IFERROR(VLOOKUP(A2120,Insumos!A:B,2,FALSE),\"\")","v":""},null,null,null,null,{"$f":"IFERROR(VLOOKUP(E2120,Nota_Fiscal!$G$4:$L$1000,6,0),\"\")","v":""}]
[null,null,{"$f":"IFERROR(VLOOKUP(A2121,Insumos!A:B,2,FALSE),\"\")","v":""},null,null,null,null,{"$f":"IFERROR(VLOOKUP(E2121,Nota_Fiscal!$G$4:$L$1000,6,0),\"\")","v":""}]
[null,null,{"$f":"IFERROR(VLOOKUP(A2122,Insumos!A:B,2,FALSE),\"\")","v":""},null,null,null,null,{"$f":"IFERROR(VLOOKUP(E2122,Nota_Fiscal!$G$4:$L$1000,6,0),\"\")","v":""}]
[null,null,{"$f":"IFERROR(VLOOKUP(A2123,Insumos!A:B,2,FALSE),\"\")","v":""},null,null,null,null,{"$f":"IFERROR(VLOOKUP(E2123,Nota_Fiscal!$G$4:$L$1000,6,0),\"\")","v":""}]
[null,null,{"$f":"IFERROR(VLOOKUP(A2124,Insumos!A:B,2,FALSE),\"\")","v":""},null,null,null,null,{"$f":"IFERROR(VLOOKUP(E2124,Nota_Fiscal!$G$4:$L$1000,6,0),\"\")","v":""}]
[null,null,{"$f":"IFERROR(VLOOKUP(A2125,Insumos!A:B,2,FALSE),\"\")","v":""},null,null,null,null,{"$f":"IFERROR(VLOOKUP(E2125,Nota_Fiscal!$G$4:$L$1000,6,0),\"\")","v":""}]
[null,null,{"$f":"IFERROR(VLOOKUP(A2126,Insumos!A:B,2,FALSE),\"\")","v":""},null,null,null,null,{"$f":"IFERROR(VLOOKUP(E2126,Nota_Fiscal!$G$4:$L$1000,6,0),\"\")","v":""}]
[null,null,{"$f":"IFERROR(VLOOKUP(A2127,Insumos!A:B,2,FALSE),\"\")","v":""},null,null,null,null,{"$f":"IFERROR(VLOOKUP(E2127,Nota_Fiscal!$G$4:$L$1000,6,0),\"\")","v":""}]
[null,null,{"$f":"IFERROR(VLOOKUP(A2128,Insumos!A:B,2,FALSE),\"\")","v":""},null,null,null,null,{"$f":"IFERROR(VLOOKUP(E2128,Nota_Fiscal!$G$4:$L$1000,6,0),\"\")","v":""}]
[null,null,{"$f":"IFERROR(VLOOKUP(A2129,Insumos!A:B,2,FALSE),\"\")","v":""},null,null,null,null,{"$f":"IFERROR(VLOOKUP(E2129,Nota_Fiscal!$G$4:$L$1000,6,0),\"\")","v":""}]
[null,null,{"$f":"IFERROR(VLOOKUP(A2130,Insumos!A:B,2,FALSE),\"\")","v":""},null,null,null,null,{"$f":"IFERROR(VLOOKUP(E2130,Nota_Fiscal!$G$4:$L$1000,6,0),\"\")","v":""}]
[null,null,{"$f":"IFERROR(VLOOKUP(A2131,Insumos!A:B,2,FALSE),\"\")","v":""},null,null,null,null,{"$f":"IFERROR(VLOOKUP(E2131,Nota_Fiscal!$G$4:$L$1000,6,0),\"\")","v":""}]
[null,null,{"$f":"IFERROR(VLOOKUP(A2132,Insumos!A:B,2,FALSE),\"\")","v":""},null,null,null,null,{"$f":"IFERROR(VLOOKUP(E2132,Nota_Fiscal!$G$4:$L$1000,6,0),\"\")","v":""}]
[null,null,{"$f":"IFERROR(VLOOKUP(A2133,Insumos!A:B,2,FALSE),\"\")","v":""},null,null,null,null,{"$f":"IFERROR(VLOOKUP(E2133,Nota_Fiscal!$G$4:$L$1000,6,0),\"\")","v":""}]
[null,null,{"$f":"IFERROR(VLOOKUP(A2134,Insumos!A:B,2,FALSE),\"\")","v":""},null,null,null,null,{"$f":"IFERROR(VLOOKUP(E2134,Nota_Fiscal!$G$4:$L$1000,6,0),\"\")","v":""}]
[null,null,{"$f":"IFERROR(VLOOKUP(A2135,Insumos!A:B,2,FALSE),\"\")","v":""},null,null,null,null,{"$f":"IFERROR(VLOOKUP(E2135,Nota_Fiscal!$G$4:$L$1000,6,0),\"\")","v":""}]
[null,null,{"$f":"IFERROR(VLOOKUP(A2136,Insumos!A:B,2,FALSE),\"\")","v":""},null,null,null,null,{"$f":"IFERROR(VLOOKUP(E2136,Nota_Fiscal!$G$4:$L$1000,6,0),\"\")","v":""}]
[null,null,{"$f":"IFERROR(VLOOKUP(A2137,Insumos!A:B,2,FALSE),\"\")","v":""},null,null,null,null,{"$f":"IFERROR(VLOOKUP(E2137,Nota_Fiscal!$G$4:$L$1000,6,0),\"\")","v":""}]
[null,null,{"$f":"IFERROR(VLOOKUP(A2138,Insumos!A:B,2,FALSE),\"\")","v":""},null,null,null,null,{"$f":"IFERROR(VLOOKUP(E2138,Nota_Fiscal!$G$4:$L$1000,6,0),\"\")","v":""}]
[null,null,{"$f":"IFERROR(VLOOKUP(A2139,Insumos!A:B,2,FALSE),\"\")","v":""},null,null,null,null,{"$f":"IFERROR(VLOOKUP(E2139,Nota_Fiscal!$G$4:$L$1000,6,0),\"\")","v":""}]
[null,null,{"$f":"IFERROR(VLOOKUP(A2140,Insumos!A:B,2,FALSE),\"\")","v":""},null,null,null,null,{"$f":"IFERROR(VLOOKUP(E2140,Nota_Fiscal!$G$4:$L$1000,6,0),\"\")","v":""}]
[null,null,{"$f":"IFERROR(VLOOKUP(A2141,Insumos!A:B,2,FALSE),\"\")","v":""},null,null,null,null,{"$f":"IFERROR(VLOOKUP(E2141,Nota_Fiscal!$G$4:$L$1000,6,0),\"\")","v":""}]
[null,null,{"$f":"IFERROR(VLOOKUP(A2142,Insumos!A:B,2,FALSE),\"\")","v":""},null,null,null,null,{"$f":"IFERROR(VLOOKUP(E2142,Nota_Fiscal!$G$4:$L$1000,6,0),\"\")","v":""}]
[null,null,{"$f":"IFERROR(VLOOKUP(A2143,Insumos!A:B,2,FALSE),\"\")","v":""},null,null,null,null,{"$f":"IFERROR(VLOOKUP(E2143,Nota_Fiscal!$G$4:$L$1000,6,0),\"\")","v":""}]
[null,null,{"$f":"IFERROR(VLOOKUP(A2144,Insumos!A:B,2,FALSE),\"\")","v":""},null,null,null,null,{"$f":"IFERROR(VLOOKUP(E2144,Nota_Fiscal!$G$4:$L$1000,6,0),\"\")","v":""}]
[null,null,{"$f":"IFERROR(VLOOKUP(A2145,Insumos!A:B,2,FALSE),\"\")","v":""},null,null,null,null,{"$f":"IFERROR(VLOOKUP(E2145,Nota_Fiscal!$G$4:$L$1000,6,0),\"\")","v":""}]
[null,null,{"$f":"IFERROR(VLOOKUP(A2146,Insumos!A:B,2,FALSE),\"\")","v":""},null,null,null,null,{"$f":"IFERROR(VLOOKUP(E2146,Nota_Fiscal!$G$4:$L$1000,6,0),\"\")","v":""}]
[null,null,{"$f":"IFERROR(VLOOKUP(A2147,Insumos!A:B,2,FALSE),\"\")","v":""},null,null,null,null,{"$f":"IFERROR(VLOOKUP(E2147,Nota_Fiscal!$G$4:$L$1000,6,0),\"\")","v":""}]
[null,null,{"$f":"IFERROR(VLOOKUP(A2148,Insumos!A:B,2,FALSE),\"\")","v":""},null,null,null,null,{"$f":"IFERROR(VLOOKUP(E2148,Nota_Fiscal!$G$4:$L$1000,6,0),\"\")","v":""}]
[null,null,{"$f":"IFERROR(VLOOKUP(A2149,Insumos!A:B,2,FALSE),\"\")","v":""},null,null,null,null,{"$f":"IFERROR(VLOOKUP(E2149,Nota_Fiscal!$G$4:$L$1000,6,0),\"\")","v":""}]
[null,null,{"$f":"IFERROR(VLOOKUP(A2150,Insumos!A:B,2,FALSE),\"\")","v":""},null,null,null,null,{"$f":"IFERROR(VLOOKUP(E2150,Nota_Fiscal!$G$4:$L$1000,6,0),\"\")","v":""}]
[null,null,{"$f":"IFERROR(VLOOKUP(A2151,Insumos!A:B,2,FALSE),\"\")","v":""},null,null,null,null,{"$f":"IFERROR(VLOOKUP(E2151,Nota_Fiscal!$G$4:$L$1000,6,0),\"\")","v":""}]
[null,null,{"$f":"IFERROR(VLOOKUP(A2152,Insumos!A:B,2,FALSE),\"\")","v":""},null,null,null,null,{"$f":"IFERROR(VLOOKUP(E2152,Nota_Fiscal!$G$4:$L$1000,6,0),\"\")","v":""}]
[null,null,{"$f":"IFERROR(VLOOKUP(A2153,Insumos!A:B,2,FALSE),\"\")","v":""},null,null,null,null,{"$f":"IFERROR(VLOOKUP(E2153,Nota_Fiscal!$G$4:$L$1000,6,0),\"\")","v":""}]
[null,null,{"$f":"IFERROR(VLOOKUP(A2154,Insumos!A:B,2,FALSE),\"\")","v":""},null,null,null,null,{"$f":"IFERROR(VLOOKUP(E2154,Nota_Fiscal!$G$4:$L$1000,6,0),\"\")","v":""}]
[null,null,{"$f":"IFERROR(VLOOKUP(A2155,Insumos!A:B,2,FALSE),\"\")","v":""},null,null,null,null,{"$f":"IFERROR(VLOOKUP(E2155,Nota_Fiscal!$G$4:$L$1000,6,0),\"\")","v":""}]
[null,null,{"$f":"IFERROR(VLOOKUP(A2156,Insumos!A:B,2,FALSE),\"\")","v":""},null,null,null,null,{"$f":"IFERROR(VLOOKUP(E2156,Nota_Fiscal!$G$4:$L$1000,6,0),\"\")","v":""}]
[null,null,{"$f":"IFERROR(VLOOKUP(A2157,Insumos!A:B,2,FALSE),\"\")","v":""},null,null,null,null,{"$f":"IFERROR(VLOOKUP(E2157,Nota_Fiscal!$G$4:$L$1000,6,0),\"\")","v":""}]
[null,null,{"$f":"IFERROR(VLOOKUP(A2158,Insumos!A:B,2,FALSE),\"\")","v":""},null,null,null,null,{"$f":"IFERROR(VLOOKUP(E2158,Nota_Fiscal!$G$4:$L$1000,6,0),\"\")","v":""}]
[null,null,{"$f":"IFERROR(VLOOKUP(A2159,Insumos!A:B,2,FALSE),\"\")","v":""},null,null,null,null,{"$f":"IFERROR(VLOOKUP(E2159,Nota_Fiscal!$G$4:$L$1000,6,0),\"\")","v":""}]
[null,null,{"$f":"IFERROR(VLOOKUP(A2160,Insumos!A:B,2,FALSE),\"\")","v":""},null,null,null,null,{"$f":"IFERROR(VLOOKUP(E2160,Nota_Fiscal!$G$4:$L$1000,6,0),\"\")","v":""}]
[null,null,{"$f":"IFERROR(VLOOKUP(A2161,Insumos!A:B,2,FALSE),\"\")","v":""},null,null,null,null,{"$f":"IFERROR(VLOOKUP(E2161,Nota_Fiscal!$G$4:$L$1000,6,0),\"\")","v":""}]
[null,null,{"$f":"IFERROR(VLOOKUP(A2162,Insumos!A:B,2,FALSE),\"\")","v":""},null,null,null,null,{"$f":"IFERROR(VLOOKUP(E2162,Nota_Fiscal!$G$4:$L$1000,6,0),\"\")","v":""}]
[null,null,{"$f":"IFERROR(VLOOKUP(A2163,Insumos!A:B,2,FALSE),\"\")","v":""},null,null,null,null,{"$f":"IFERROR(VLOOKUP(E2163,Nota_Fiscal!$G$4:$L$1000,6,0),\"\")","v":""}]
[null,null,{"$f":"IFERROR(VLOOKUP(A2164,Insumos!A:B,2,FALSE),\"\")","v":""},null,null,null,null,{"$f":"IFERROR(VLOOKUP(E2164,Nota_Fiscal!$G$4:$L$1000,6,0),\"\")","v":""}]
[null,null,{"$f":"IFERROR(VLOOKUP(A2165,Insumos!A:B,2,FALSE),\"\")","v":""},null,null,null,null,{"$f":"IFERROR(VLOOKUP(E2165,Nota_Fiscal!$G$4:$L$1000,6,0),\"\")","v":""}]
[null,null,{"$f":"IFERROR(VLOOKUP(A2166,Insumos!A:B,2,FALSE),\"\")","v":""},null,null,null,null,{"$f":"IFERROR(VLOOKUP(E2166,Nota_Fiscal!$G$4:$L$1000,6,0),\"\")","v":""}]
[null,null,{"$f":"IFERROR(VLOOKUP(A2167,Insumos!A:B,2,FALSE),\"\")","v":""},null,null,null,null,{"$f":"IFERROR(VLOOKUP(E2167,Nota_Fiscal!$G$4:$L$1000,6,0),\"\")","v":""}]
[null,null,{"$f":"IFERROR(VLOOKUP(A2168,Insumos!A:B,2,FALSE),\"\")","v":""},null,null,null,null,{"$f":"IFERROR(VLOOKUP(E2168,Nota_Fiscal!$G$4:$L$1000,6,0),\"\")","v":""}]
[null,null,{"$f":"IFERROR(VLOOKUP(A2169,Insumos!A:B,2,FALSE),\"\")","v":""},null,null,null,null,{"$f":"IFERROR(VLOOKUP(E2169,Nota_Fiscal!$G$4:$L$1000,6,0),\"\")","v":""}]
[null,null,{"$f":"IFERROR(VLOOKUP(A2170,Insumos!A:B,2,FALSE),\"\")","v":""},null,null,null,null,{"$f":"IFERROR(VLOOKUP(E2170,Nota_Fiscal!$G$4:$L$1000,6,0),\"\")","v":""}]
[null,null,{"$f":"IFERROR(VLOOKUP(A2171,Insumos!A:B,2,FALSE),\"\")","v":""},null,null,null,null,{"$f":"IFERROR(VLOOKUP(E2171,Nota_Fiscal!$G$4:$L$1000,6,0),\"\")","v":""}]
[null,null,{"$f":"IFERROR(VLOOKUP(A2172,Insumos!A:B,2,FALSE),\"\")","v":""},null,null,null,null,{"$f":"IFERROR(VLOOKUP(E2172,Nota_Fiscal!$G$4:$L$1000,6,0),\"\")","v":""}]
[null,null,{"$f":"IFERROR(VLOOKUP(A2173,Insumos!A:B,2,FALSE),\"\")","v":""},null,null,null,null,{"$f":"IFERROR(VLOOKUP(E2173,Nota_Fiscal!$G$4:$L$1000,6,0),\"\")","v":""}]
[null,null,{"$f":"IFERROR(VLOOKUP(A2174,Insumos!A:B,2,FALSE),\"\")","v":""},null,null,null,null,{"$f":"IFERROR(VLOOKUP(E2174,Nota_Fiscal!$G$4:$L$1000,6,0),\"\")","v":""}]
[null,null,{"$f":"IFERROR(VLOOKUP(A2175,Insumos!A:B,2,FALSE),\"\")","v":""},null,null,null,null,{"$f":"IFERROR(VLOOKUP(E2175,Nota_Fiscal!$G$4:$L$1000,6,0),\"\")","v":""}]
[null,null,{"$f":"IFERROR(VLOOKUP(A2176,Insumos!A:B,2,FALSE),\"\")","v":""},null,null,null,null,{"$f":"IFERROR(VLOOKUP(E2176,Nota_Fiscal!$G$4:$L$1000,6,0),\"\")","v":""}]
[null,null,{"$f":"IFERROR(VLOOKUP(A2177,Insumos!A:B,2,FALSE),\"\")","v":""},null,null,null,null,{"$f":"IFERROR(VLOOKUP(E2177,Nota_Fiscal!$G$4:$L$1000,6,0),\"\")","v":""}]
[null,null,{"$f":"IFERROR(VLOOKUP(A2178,Insumos!A:B,2,FALSE),\"\")","v":""},null,null,null,null,{"$f":"IFERROR(VLOOKUP(E2178,Nota_Fiscal!$G$4:$L$1000,6,0),\"\")","v":""}]
[null,null,{"$f":"IFERROR(VLOOKUP(A2179,Insumos!A:B,2,FALSE),\"\")","v":""},null,null,null,null,{"$f":"IFERROR(VLOOKUP(E2179,Nota_Fiscal!$G$4:$L$1000,6,0),\"\")","v":""}]
[null,null,{"$f":"IFERROR(VLOOKUP(A2180,Insumos!A:B,2,FALSE),\"\")","v":""},null,null,null,null,{"$f":"IFERROR(VLOOKUP(E2180,Nota_Fiscal!$G$4:$L$1000,6,0),\"\")","v":""}]
[null,null,{"$f":"IFERROR(VLOOKUP(A2181,Insumos!A:B,2,FALSE),\"\")","v":""},null,null,null,null,{"$f":"IFERROR(VLOOKUP(E2181,Nota_Fiscal!$G$4:$L$1000,6,0),\"\")","v":""}]
[null,null,{"$f":"IFERROR(VLOOKUP(A2182,Insumos!A:B,2,FALSE),\"\")","v":""},null,null,null,null,{"$f":"IFERROR(VLOOKUP(E2182,Nota_Fiscal!$G$4:$L$1000,6,0),\"\")","v":""}]
[null,null,{"$f":"IFERROR(VLOOKUP(A2183,Insumos!A:B,2,FALSE),\"\")","v":""},null,null,null,null,{"$f":"IFERROR(VLOOKUP(E2183,Nota_Fiscal!$G$4:$L$1000,6,0),\"\")","v":""}]
[null,null,{"$f":"IFERROR(VLOOKUP(A2184,Insumos!A:B,2,FALSE),\"\")","v":""},null,null,null,null,{"$f":"IFERROR(VLOOKUP(E2184,Nota_Fiscal!$G$4:$L$1000,6,0),\"\")","v":""}]
[null,null,{"$f":"IFERROR(VLOOKUP(A2185,Insumos!A:B,2,FALSE),\"\")","v":""},null,null,null,null,{"$f":"IFERROR(VLOOKUP(E2185,Nota_Fiscal!$G$4:$L$1000,6,0),\"\")","v":""}]
[null,null,{"$f":"IFERROR(VLOOKUP(A2186,Insumos!A:B,2,FALSE),\"\")","v":""},null,null,null,null,{"$f":"IFERROR(VLOOKUP(E2186,Nota_Fiscal!$G$4:$L$1000,6,0),\"\")","v":""}]
[null,null,{"$f":"IFERROR(VLOOKUP(A2187,Insumos!A:B,2,FALSE),\"\")","v":""},null,null,null,null,{"$f":"IFERROR(VLOOKUP(E2187,Nota_Fiscal!$G$4:$L$1000,6,0),\"\")","v":""}]
[null,null,{"$f":"IFERROR(VLOOKUP(A2188,Insumos!A:B,2,FALSE),\"\")","v":""},null,null,null,null,{"$f":"IFERROR(VLOOKUP(E2188,Nota_Fiscal!$G$4:$L$1000,6,0),\"\")","v":""}]
[null,null,{"$f":"IFERROR(VLOOKUP(A2189,Insumos!A:B,2,FALSE),\"\")","v":""},null,null,null,null,{"$f":"IFERROR(VLOOKUP(E2189,Nota_Fiscal!$G$4:$L$1000,6,0),\"\")","v":""}]
[null,null,{"$f":"IFERROR(VLOOKUP(A2190,Insumos!A:B,2,FALSE),\"\")","v":""},null,null,null,null,{"$f":"IFERROR(VLOOKUP(E2190,Nota_Fiscal!$G$4:$L$1000,6,0),\"\")","v":""}]
[null,null,{"$f":"IFERROR(VLOOKUP(A2191,Insumos!A:B,2,FALSE),\"\")","v":""},null,null,null,null,{"$f":"IFERROR(VLOOKUP(E2191,Nota_Fiscal!$G$4:$L$1000,6,0),\"\")","v":""}]
[null,null,{"$f":"IFERROR(VLOOKUP(A2192,Insumos!A:B,2,FALSE),\"\")","v":""},null,null,null,null,{"$f":"IFERROR(VLOOKUP(E2192,Nota_Fiscal!$G$4:$L$1000,6,0),\"\")","v":""}]
[null,null,{"$f":"IFERROR(VLOOKUP(A2193,Insumos!A:B,2,FALSE),\"\")","v":""},null,null,null,null,{"$f":"IFERROR(VLOOKUP(E2193,Nota_Fiscal!$G$4:$L$1000,6,0),\"\")","v":""}]
[null,null,{"$f":"IFERROR(VLOOKUP(A2194,Insumos!A:B,2,FALSE),\"\")","v":""},null,null,null,null,{"$f":"IFERROR(VLOOKUP(E2194,Nota_Fiscal!$G$4:$L$1000,6,0),\"\")","v":""}]
[null,null,{"$f":"IFERROR(VLOOKUP(A2195,Insumos!A:B,2,FALSE),\"\")","v":""},null,null,null,null,{"$f":"IFERROR(VLOOKUP(E2195,Nota_Fiscal!$G$4:$L$1000,6,0),\"\")","v":""}]
[null,null,{"$f":"IFERROR(VLOOKUP(A2196,Insumos!A:B,2,FALSE),\"\")","v":""},null,null,null,null,{"$f":"IFERROR(VLOOKUP(E2196,Nota_Fiscal!$G$4:$L$1000,6,0),\"\")","v":""}]
[null,null,{"$f":"IFERROR(VLOOKUP(A2197,Insumos!A:B,2,FALSE),\"\")","v":""},null,null,null,null,{"$f":"IFERROR(VLOOKUP(E2197,Nota_Fiscal!$G$4:$L$1000,6,0),\"\")","v":""}]
[null,null,{"$f":"IFERROR(VLOOKUP(A2198,Insumos!A:B,2,FALSE),\"\")","v":""},null,null,null,null,{"$f":"IFERROR(VLOOKUP(E2198,Nota_Fiscal!$G$4:$L$1000,6,0),\"\")","v":""}]
[null,null,{"$f":"IFERROR(VLOOKUP(A2199,Insumos!A:B,2,FALSE),\"\")","v":""},null,null,null,null,{"$f":"IFERROR(VLOOKUP(E2199,Nota_Fiscal!$G$4:$L$1000,6,0),\"\")","v":""}]
[null,null,{"$f":"IFERROR(VLOOKUP(A2200,Insumos!A:B,2,FALSE),\"\")","v":""},null,null,null,null,{"$f":"IFERROR(VLOOKUP(E2200,Nota_Fiscal!$G$4:$L$1000,6,0),\"\")","v":""}]
[null,null,{"$f":"IFERROR(VLOOKUP(A2201,Insumos!A:B,2,FALSE),\"\")","v":""},null,null,null,null,{"$f":"IFERROR(VLOOKUP(E2201,Nota_Fiscal!$G$4:$L$1000,6,0),\"\")","v":""}]
[null,null,{"$f":"IFERROR(VLOOKUP(A2202,Insumos!A:B,2,FALSE),\"\")","v":""},null,null,null,null,{"$f":"IFERROR(VLOOKUP(E2202,Nota_Fiscal!$G$4:$L$1000,6,0),\"\")","v":""}]
[null,null,{"$f":"IFERROR(VLOOKUP(A2203,Insumos!A:B,2,FALSE),\"\")","v":""},null,null,null,null,{"$f":"IFERROR(VLOOKUP(E2203,Nota_Fiscal!$G$4:$L$1000,6,0),\"\")","v":""}]
[null,null,{"$f":"IFERROR(VLOOKUP(A2204,Insumos!A:B,2,FALSE),\"\")","v":""},null,null,null,null,{"$f":"IFERROR(VLOOKUP(E2204,Nota_Fiscal!$G$4:$L$1000,6,0),\"\")","v":""}]
[null,null,{"$f":"IFERROR(VLOOKUP(A2205,Insumos!A:B,2,FALSE),\"\")","v":""},null,null,null,null,{"$f":"IFERROR(VLOOKUP(E2205,Nota_Fiscal!$G$4:$L$1000,6,0),\"\")","v":""}]
[null,null,{"$f":"IFERROR(VLOOKUP(A2206,Insumos!A:B,2,FALSE),\"\")","v":""},null,null,null,null,{"$f":"IFERROR(VLOOKUP(E2206,Nota_Fiscal!$G$4:$L$1000,6,0),\"\")","v":""}]
[null,null,{"$f":"IFERROR(VLOOKUP(A2207,Insumos!A:B,2,FALSE),\"\")","v":""},null,null,null,null,{"$f":"IFERROR(VLOOKUP(E2207,Nota_Fiscal!$G$4:$L$1000,6,0),\"\")","v":""}]
[null,null,{"$f":"IFERROR(VLOOKUP(A2208,Insumos!A:B,2,FALSE),\"\")","v":""},null,null,null,null,{"$f":"IFERROR(VLOOKUP(E2208,Nota_Fiscal!$G$4:$L$1000,6,0),\"\")","v":""}]
[null,null,{"$f":"IFERROR(VLOOKUP(A2209,Insumos!A:B,2,FALSE),\"\")","v":""},null,null,null,null,{"$f":"IFERROR(VLOOKUP(E2209,Nota_Fiscal!$G$4:$L$1000,6,0),\"\")","v":""}]
[null,null,{"$f":"IFERROR(VLOOKUP(A2210,Insumos!A:B,2,FALSE),\"\")","v":""},null,null,null,null,{"$f":"IFERROR(VLOOKUP(E2210,Nota_Fiscal!$G$4:$L$1000,6,0),\"\")","v":""}]
[null,null,{"$f":"IFERROR(VLOOKUP(A2211,Insumos!A:B,2,FALSE),\"\")","v":""},null,null,null,null,{"$f":"IFERROR(VLOOKUP(E2211,Nota_Fiscal!$G$4:$L$1000,6,0),\"\")","v":""}]
[null,null,{"$f":"IFERROR(VLOOKUP(A2212,Insumos!A:B,2,FALSE),\"\")","v":""},null,null,null,null,{"$f":"IFERROR(VLOOKUP(E2212,Nota_Fiscal!$G$4:$L$1000,6,0),\"\")","v":""}]
[null,null,{"$f":"IFERROR(VLOOKUP(A2213,Insumos!A:B,2,FALSE),\"\")","v":""},null,null,null,null,{"$f":"IFERROR(VLOOKUP(E2213,Nota_Fiscal!$G$4:$L$1000,6,0),\"\")","v":""}]
[null,null,{"$f":"IFERROR(VLOOKUP(A2214,Insumos!A:B,2,FALSE),\"\")","v":""},null,null,null,null,{"$f":"IFERROR(VLOOKUP(E2214,Nota_Fiscal!$G$4:$L$1000,6,0),\"\")","v":""}]
[null,null,{"$f":"IFERROR(VLOOKUP(A2215,Insumos!A:B,2,FALSE),\"\")","v":""},null,null,null,null,{"$f":"IFERROR(VLOOKUP(E2215,Nota_Fiscal!$G$4:$L$1000,6,0),\"\")","v":""}]
[null,null,{"$f":"IFERROR(VLOOKUP(A2216,Insumos!A:B,2,FALSE),\"\")","v":""},null,null,null,null,{"$f":"IFERROR(VLOOKUP(E2216,Nota_Fiscal!$G$4:$L$1000,6,0),\"\")","v":""}]
[null,null,{"$f":"IFERROR(VLOOKUP(A2217,Insumos!A:B,2,FALSE),\"\")","v":""},null,null,null,null,{"$f":"IFERROR(VLOOKUP(E2217,Nota_Fiscal!$G$4:$L$1000,6,0),\"\")","v":""}]
[null,null,{"$f":"IFERROR(VLOOKUP(A2218,Insumos!A:B,2,FALSE),\"\")","v":""},null,null,null,null,{"$f":"IFERROR(VLOOKUP(E2218,Nota_Fiscal!$G$4:$L$1000,6,0),\"\")","v":""}]
[null,null,{"$f":"IFERROR(VLOOKUP(A2219,Insumos!A:B,2,FALSE),\"\")","v":""},null,null,null,null,{"$f":"IFERROR(VLOOKUP(E2219,Nota_Fiscal!$G$4:$L$1000,6,0),\"\")","v":""}]
[null,null,{"$f":"IFERROR(VLOOKUP(A2220,Insumos!A:B,2,FALSE),\"\")","v":""},null,null,null,null,{"$f":"IFERROR(VLOOKUP(E2220,Nota_Fiscal!$G$4:$L$1000,6,0),\"\")","v":""}]
[null,null,{"$f":"IFERROR(VLOOKUP(A2221,Insumos!A:B,2,FALSE),\"\")","v":""},null,null,null,null,{"$f":"IFERROR(VLOOKUP(E2221,Nota_Fiscal!$G$4:$L$1000,6,0),\"\")","v":""}]
[null,null,{"$f":"IFERROR(VLOOKUP(A2222,Insumos!A:B,2,FALSE),\"\")","v":""},null,null,null,null,{"$f":"IFERROR(VLOOKUP(E2222,Nota_Fiscal!$G$4:$L$1000,6,0),\"\")","v":""}]
[null,null,{"$f":"IFERROR(VLOOKUP(A2223,Insumos!A:B,2,FALSE),\"\")","v":""},null,null,null,null,{"$f":"IFERROR(VLOOKUP(E2223,Nota_Fiscal!$G$4:$L$1000,6,0),\"\")","v":""}]
[null,null,{"$f":"IFERROR(VLOOKUP(A2224,Insumos!A:B,2,FALSE),\"\")","v":""},null,null,null,null,{"$f":"IFERROR(VLOOKUP(E2224,Nota_Fiscal!$G$4:$L$1000,6,0),\"\")","v":""}]
[null,null,{"$f":"IFERROR(VLOOKUP(A2225,Insumos!A:B,2,FALSE),\"\")","v":""},null,null,null,null,{"$f":"IFERROR(VLOOKUP(E2225,Nota_Fiscal!$G$4:$L$1000,6,0),\"\")","v":""}]
[null,null,{"$f":"IFERROR(VLOOKUP(A2226,Insumos!A:B,2,FALSE),\"\")","v":""},null,null,null,null,{"$f":"IFERROR(VLOOKUP(E2226,Nota_Fiscal!$G$4:$L$1000,6,0),\"\")","v":""}]
[null,null,{"$f":"IFERROR(VLOOKUP(A2227,Insumos!A:B,2,FALSE),\"\")","v":""},null,null,null,null,{"$f":"IFERROR(VLOOKUP(E2227,Nota_Fiscal!$G$4:$L$1000,6,0),\"\")","v":""}]
[null,null,{"$f":"IFERROR(VLOOKUP(A2228,Insumos!A:B,2,FALSE),\"\")","v":""},null,null,null,null,{"$f":"IFERROR(VLOOKUP(E2228,Nota_Fiscal!$G$4:$L$1000,6,0),\"\")","v":""}]
[null,null,{"$f":"IFERROR(VLOOKUP(A2229,Insumos!A:B,2,FALSE),\"\")","v":""},null,null,null,null,{"$f":"IFERROR(VLOOKUP(E2229,Nota_Fiscal!$G$4:$L$1000,6,0),\"\")","v":""}]
[null,null,{"$f":"IFERROR(VLOOKUP(A2230,Insumos!A:B,2,FALSE),\"\")","v":""},null,null,null,null,{"$f":"IFERROR(VLOOKUP(E2230,Nota_Fiscal!$G$4:$L$1000,6,0),\"\")","v":""}]
[null,null,{"$f":"IFERROR(VLOOKUP(A2231,Insumos!A:B,2,FALSE),\"\")","v":""},null,null,null,null,{"$f":"IFERROR(VLOOKUP(E2231,Nota_Fiscal!$G$4:$L$1000,6,0),\"\")","v":""}]
[null,null,{"$f":"IFERROR(VLOOKUP(A2232,Insumos!A:B,2,FALSE),\"\")","v":""},null,null,null,null,{"$f":"IFERROR(VLOOKUP(E2232,Nota_Fiscal!$G$4:$L$1000,6,0),\"\")","v":""}]
[null,null,{"$f":"IFERROR(VLOOKUP(A2233,Insumos!A:B,2,FALSE),\"\")","v":""},null,null,null,null,{"$f":"IFERROR(VLOOKUP(E2233,Nota_Fiscal!$G$4:$L$1000,6,0),\"\")","v":""}]
[null,null,{"$f":"IFERROR(VLOOKUP(A2234,Insumos!A:B,2,FALSE),\"\")","v":""},null,null,null,null,{"$f":"IFERROR(VLOOKUP(E2234,Nota_Fiscal!$G$4:$L$1000,6,0),\"\")","v":""}]
[null,null,{"$f":"IFERROR(VLOOKUP(A2235,Insumos!A:B,2,FALSE),\"\")","v":""},null,null,null,null,{"$f":"IFERROR(VLOOKUP(E2235,Nota_Fiscal!$G$4:$L$1000,6,0),\"\")","v":""}]
[null,null,{"$f":"IFERROR(VLOOKUP(A2236,Insumos!A:B,2,FALSE),\"\")","v":""},null,null,null,null,{"$f":"IFERROR(VLOOKUP(E2236,Nota_Fiscal!$G$4:$L$1000,6,0),\"\")","v":""}]
[null,null,{"$f":"IFERROR(VLOOKUP(A2237,Insumos!A:B,2,FALSE),\"\")","v":""},null,null,null,null,{"$f":"IFERROR(VLOOKUP(E2237,Nota_Fiscal!$G$4:$L$1000,6,0),\"\")","v":""}]
[null,null,{"$f":"IFERROR(VLOOKUP(A2238,Insumos!A:B,2,FALSE),\"\")","v":""},null,null,null,null,{"$f":"IFERROR(VLOOKUP(E2238,Nota_Fiscal!$G$4:$L$1000,6,0),\"\")","v":""}]
[null,null,{"$f":"IFERROR(VLOOKUP(A2239,Insumos!A:B,2,FALSE),\"\")","v":""},null,null,null,null,{"$f":"IFERROR(VLOOKUP(E2239,Nota_Fiscal!$G$4:$L$1000,6,0),\"\")","v":""}]
[null,null,{"$f":"IFERROR(VLOOKUP(A2240,Insumos!A:B,2,FALSE),\"\")","v":""},null,null,null,null,{"$f":"IFERROR(VLOOKUP(E2240,Nota_Fiscal!$G$4:$L$1000,6,0),\"\")","v":""}]
[null,null,{"$f":"IFERROR(VLOOKUP(A2241,Insumos!A:B,2,FALSE),\"\")","v":""},null,null,null,null,{"$f":"IFERROR(VLOOKUP(E2241,Nota_Fiscal!$G$4:$L$1000,6,0),\"\")","v":""}]
[null,null,{"$f":"IFERROR(VLOOKUP(A2242,Insumos!A:B,2,FALSE),\"\")","v":""},null,null,null,null,{"$f":"IFERROR(VLOOKUP(E2242,Nota_Fiscal!$G$4:$L$1000,6,0),\"\")","v":""}]
[null,null,{"$f":"IFERROR(VLOOKUP(A2243,Insumos!A:B,2,FALSE),\"\")","v":""},null,null,null,null,{"$f":"IFERROR(VLOOKUP(E2243,Nota_Fiscal!$G$4:$L$1000,6,0),\"\")","v":""}]
[null,null,{"$f":"IFERROR(VLOOKUP(A2244,Insumos!A:B,2,FALSE),\"\")","v":""},null,null,null,null,{"$f":"IFERROR(VLOOKUP(E2244,Nota_Fiscal!$G$4:$L$1000,6,0),\"\")","v":""}]
[null,null,{"$f":"IFERROR(VLOOKUP(A2245,Insumos!A:B,2,FALSE),\"\")","v":""},null,null,null,null,{"$f":"IFERROR(VLOOKUP(E2245,Nota_Fiscal!$G$4:$L$1000,6,0),\"\")","v":""}]
[null,null,{"$f":"IFERROR(VLOOKUP(A2246,Insumos!A:B,2,FALSE),\"\")","v":""},null,null,null,null,{"$f":"IFERROR(VLOOKUP(E2246,Nota_Fiscal!$G$4:$L$1000,6,0),\"\")","v":""}]
[null,null,{"$f":"IFERROR(VLOOKUP(A2247,Insumos!A:B,2,FALSE),\"\")","v":""},null,null,null,null,{"$f":"IFERROR(VLOOKUP(E2247,Nota_Fiscal!$G$4:$L$1000,6,0),\"\")","v":""}]
[null,null,{"$f":"IFERROR(VLOOKUP(A2248,Insumos!A:B,2,FALSE),\"\")","v":""},null,null,null,null,{"$f":"IFERROR(VLOOKUP(E2248,Nota_Fiscal!$G$4:$L$1000,6,0),\"\")","v":""}]
[null,null,{"$f":"IFERROR(VLOOKUP(A2249,Insumos!A:B,2,FALSE),\"\")","v":""},null,null,null,null,{"$f":"IFERROR(VLOOKUP(E2249,Nota_Fiscal!$G$4:$L$1000,6,0),\"\")","v":""}]
[null,null,{"$f":"IFERROR(VLOOKUP(A2250,Insumos!A:B,2,FALSE),\"\")","v":""},null,null,null,null,{"$f":"IFERROR(VLOOKUP(E2250,Nota_Fiscal!$G$4:$L$1000,6,0),\"\")","v":""}]
[null,null,{"$f":"IFERROR(VLOOKUP(A2251,Insumos!A:B,2,FALSE),\"\")","v":""},null,null,null,null,{"$f":"IFERROR(VLOOKUP(E2251,Nota_Fiscal!$G$4:$L$1000,6,0),\"\")","v":""}]
[null,null,{"$f":"IFERROR(VLOOKUP(A2252,Insumos!A:B,2,FALSE),\"\")","v":""},null,null,null,null,{"$f":"IFERROR(VLOOKUP(E2252,Nota_Fiscal!$G$4:$L$1000,6,0),\"\")","v":""}]
[null,null,{"$f":"IFERROR(VLOOKUP(A2253,Insumos!A:B,2,FALSE),\"\")","v":""},null,null,null,null,{"$f":"IFERROR(VLOOKUP(E2253,Nota_Fiscal!$G$4:$L$1000,6,0),\"\")","v":""}]
[null,null,{"$f":"IFERROR(VLOOKUP(A2254,Insumos!A:B,2,FALSE),\"\")","v":""},null,null,null,null,{"$f":"IFERROR(VLOOKUP(E2254,Nota_Fiscal!$G$4:$L$1000,6,0),\"\")","v":""}]
[null,null,{"$f":"IFERROR(VLOOKUP(A2255,Insumos!A:B,2,FALSE),\"\")","v":""},null,null,null,null,{"$f":"IFERROR(VLOOKUP(E2255,Nota_Fiscal!$G$4:$L$1000,6,0),\"\")","v":""}]
[null,null,{"$f":"IFERROR(VLOOKUP(A2256,Insumos!A:B,2,FALSE),\"\")","v":""},null,null,null,null,{"$f":"IFERROR(VLOOKUP(E2256,Nota_Fiscal!$G$4:$L$1000,6,0),\"\")","v":""}]
[null,null,{"$f":"IFERROR(VLOOKUP(A2257,Insumos!A:B,2,FALSE),\"\")","v":""},null,null,null,null,{"$f":"IFERROR(VLOOKUP(E2257,Nota_Fiscal!$G$4:$L$1000,6,0),\"\")","v":""}]
[null,null,{"$f":"IFERROR(VLOOKUP(A2258,Insumos!A:B,2,FALSE),\"\")","v":""},null,null,null,null,{"$f":"IFERROR(VLOOKUP(E2258,Nota_Fiscal!$G$4:$L$1000,6,0),\"\")","v":""}]
[null,null,{"$f":"IFERROR(VLOOKUP(A2259,Insumos!A:B,2,FALSE),\"\")","v":""},null,null,null,null,{"$f":"IFERROR(VLOOKUP(E2259,Nota_Fiscal!$G$4:$L$1000,6,0),\"\")","v":""}]
[null,null,{"$f":"IFERROR(VLOOKUP(A2260,Insumos!A:B,2,FALSE),\"\")","v":""},null,null,null,null,{"$f":"IFERROR(VLOOKUP(E2260,Nota_Fiscal!$G$4:$L$1000,6,0),\"\")","v":""}]
[null,null,{"$f":"IFERROR(VLOOKUP(A2261,Insumos!A:B,2,FALSE),\"\")","v":""},null,null,null,null,{"$f":"IFERROR(VLOOKUP(E2261,Nota_Fiscal!$G$4:$L$1000,6,0),\"\")","v":""}]
[null,null,{"$f":"IFERROR(VLOOKUP(A2262,Insumos!A:B,2,FALSE),\"\")","v":""},null,null,null,null,{"$f":"IFERROR(VLOOKUP(E2262,Nota_Fiscal!$G$4:$L$1000,6,0),\"\")","v":""}]
[null,null,{"$f":"IFERROR(VLOOKUP(A2263,Insumos!A:B,2,FALSE),\"\")","v":""},null,null,null,null,{"$f":"IFERROR(VLOOKUP(E2263,Nota_Fiscal!$G$4:$L$1000,6,0),\"\")","v":""}]
[null,null,{"$f":"IFERROR(VLOOKUP(A2264,Insumos!A:B,2,FALSE),\"\")","v":""},null,null,null,null,{"$f":"IFERROR(VLOOKUP(E2264,Nota_Fiscal!$G$4:$L$1000,6,0),\"\")","v":""}]
[null,null,{"$f":"IFERROR(VLOOKUP(A2265,Insumos!A:B,2,FALSE),\"\")","v":""},null,null,null,null,{"$f":"IFERROR(VLOOKUP(E2265,Nota_Fiscal!$G$4:$L$1000,6,0),\"\")","v":""}]
[null,null,{"$f":"IFERROR(VLOOKUP(A2266,Insumos!A:B,2,FALSE),\"\")","v":""},null,null,null,null,{"$f":"IFERROR(VLOOKUP(E2266,Nota_Fiscal!$G$4:$L$1000,6,0),\"\")","v":""}]
[null,null,{"$f":"IFERROR(VLOOKUP(A2267,Insumos!A:B,2,FALSE),\"\")","v":""},null,null,null,null,{"$f":"IFERROR(VLOOKUP(E2267,Nota_Fiscal!$G$4:$L$1000,6,0),\"\")","v":""}]
[null,null,{"$f":"IFERROR(VLOOKUP(A2268,Insumos!A:B,2,FALSE),\"\")","v":""},null,null,null,null,{"$f":"IFERROR(VLOOKUP(E2268,Nota_Fiscal!$G$4:$L$1000,6,0),\"\")","v":""}]
[null,null,{"$f":"IFERROR(VLOOKUP(A2269,Insumos!A:B,2,FALSE),\"\")","v":""},null,null,null,null,{"$f":"IFERROR(VLOOKUP(E2269,Nota_Fiscal!$G$4:$L$1000,6,0),\"\")","v":""}]
[null,null,{"$f":"IFERROR(VLOOKUP(A2270,Insumos!A:B,2,FALSE),\"\")","v":""},null,null,null,null,{"$f":"IFERROR(VLOOKUP(E2270,Nota_Fiscal!$G$4:$L$1000,6,0),\"\")","v":""}]
[null,null,{"$f":"IFERROR(VLOOKUP(A2271,Insumos!A:B,2,FALSE),\"\")","v":""},null,null,null,null,{"$f":"IFERROR(VLOOKUP(E2271,Nota_Fiscal!$G$4:$L$1000,6,0),\"\")","v":""}]
[null,null,{"$f":"IFERROR(VLOOKUP(A2272,Insumos!A:B,2,FALSE),\"\")","v":""},null,null,null,null,{"$f":"IFERROR(VLOOKUP(E2272,Nota_Fiscal!$G$4:$L$1000,6,0),\"\")","v":""}]
[null,null,{"$f":"IFERROR(VLOOKUP(A2273,Insumos!A:B,2,FALSE),\"\")","v":""},null,null,null,null,{"$f":"IFERROR(VLOOKUP(E2273,Nota_Fiscal!$G$4:$L$1000,6,0),\"\")","v":""}]
[null,null,{"$f":"IFERROR(VLOOKUP(A2274,Insumos!A:B,2,FALSE),\"\")","v":""},null,null,null,null,{"$f":"IFERROR(VLOOKUP(E2274,Nota_Fiscal!$G$4:$L$1000,6,0),\"\")","v":""}]
[null,null,{"$f":"IFERROR(VLOOKUP(A2275,Insumos!A:B,2,FALSE),\"\")","v":""},null,null,null,null,{"$f":"IFERROR(VLOOKUP(E2275,Nota_Fiscal!$G$4:$L$1000,6,0),\"\")","v":""}]
[null,null,{"$f":"IFERROR(VLOOKUP(A2276,Insumos!A:B,2,FALSE),\"\")","v":""},null,null,null,null,{"$f":"IFERROR(VLOOKUP(E2276,Nota_Fiscal!$G$4:$L$1000,6,0),\"\")","v":""}]
[null,null,{"$f":"IFERROR(VLOOKUP(A2277,Insumos!A:B,2,FALSE),\"\")","v":""},null,null,null,null,{"$f":"IFERROR(VLOOKUP(E2277,Nota_Fiscal!$G$4:$L$1000,6,0),\"\")","v":""}]
[null,null,{"$f":"IFERROR(VLOOKUP(A2278,Insumos!A:B,2,FALSE),\"\")","v":""},null,null,null,null,{"$f":"IFERROR(VLOOKUP(E2278,Nota_Fiscal!$G$4:$L$1000,6,0),\"\")","v":""}]
[null,null,{"$f":"IFERROR(VLOOKUP(A2279,Insumos!A:B,2,FALSE),\"\")","v":""},null,null,null,null,{"$f":"IFERROR(VLOOKUP(E2279,Nota_Fiscal!$G$4:$L$1000,6,0),\"\")","v":""}]
[null,null,{"$f":"IFERROR(VLOOKUP(A2280,Insumos!A:B,2,FALSE),\"\")","v":""},null,null,null,null,{"$f":"IFERROR(VLOOKUP(E2280,Nota_Fiscal!$G$4:$L$1000,6,0),\"\")","v":""}]
[null,null,{"$f":"IFERROR(VLOOKUP(A2281,Insumos!A:B,2,FALSE),\"\")","v":""},null,null,null,null,{"$f":"IFERROR(VLOOKUP(E2281,Nota_Fiscal!$G$4:$L$1000,6,0),\"\")","v":""}]
[null,null,{"$f":"IFERROR(VLOOKUP(A2282,Insumos!A:B,2,FALSE),\"\")","v":""},null,null,null,null,{"$f":"IFERROR(VLOOKUP(E2282,Nota_Fiscal!$G$4:$L$1000,6,0),\"\")","v":""}]
[null,null,{"$f":"IFERROR(VLOOKUP(A2283,Insumos!A:B,2,FALSE),\"\")","v":""},null,null,null,null,{"$f":"IFERROR(VLOOKUP(E2283,Nota_Fiscal!$G$4:$L$1000,6,0),\"\")","v":""}]
[null,null,{"$f":"IFERROR(VLOOKUP(A2284,Insumos!A:B,2,FALSE),\"\")","v":""},null,null,null,null,{"$f":"IFERROR(VLOOKUP(E2284,Nota_Fiscal!$G$4:$L$1000,6,0),\"\")","v":""}]
[null,null,{"$f":"IFERROR(VLOOKUP(A2285,Insumos!A:B,2,FALSE),\"\")","v":""},null,null,null,null,{"$f":"IFERROR(VLOOKUP(E2285,Nota_Fiscal!$G$4:$L$1000,6,0),\"\")","v":""}]
[null,null,{"$f":"IFERROR(VLOOKUP(A2286,Insumos!A:B,2,FALSE),\"\")","v":""},null,null,null,null,{"$f":"IFERROR(VLOOKUP(E2286,Nota_Fiscal!$G$4:$L$1000,6,0),\"\")","v":""}]
[null,null,{"$f":"IFERROR(VLOOKUP(A2287,Insumos!A:B,2,FALSE),\"\")","v":""},null,null,null,null,{"$f":"IFERROR(VLOOKUP(E2287,Nota_Fiscal!$G$4:$L$1000,6,0),\"\")","v":""}]
[null,null,{"$f":"IFERROR(VLOOKUP(A2288,Insumos!A:B,2,FALSE),\"\")","v":""},null,null,null,null,{"$f":"IFERROR(VLOOKUP(E2288,Nota_Fiscal!$G$4:$L$1000,6,0),\"\")","v":""}]
[null,null,{"$f":"IFERROR(VLOOKUP(A2289,Insumos!A:B,2,FALSE),\"\")","v":""},null,null,null,null,{"$f":"IFERROR(VLOOKUP(E2289,Nota_Fiscal!$G$4:$L$1000,6,0),\"\")","v":""}]
[null,null,{"$f":"IFERROR(VLOOKUP(A2290,Insumos!A:B,2,FALSE),\"\")","v":""},null,null,null,null,{"$f":"IFERROR(VLOOKUP(E2290,Nota_Fiscal!$G$4:$L$1000,6,0),\"\")","v":""}]
[null,null,{"$f":"IFERROR(VLOOKUP(A2291,Insumos!A:B,2,FALSE),\"\")","v":""},null,null,null,null,{"$f":"IFERROR(VLOOKUP(E2291,Nota_Fiscal!$G$4:$L$1000,6,0),\"\")","v":""}]
[null,null,{"$f":"IFERROR(VLOOKUP(A2292,Insumos!A:B,2,FALSE),\"\")","v":""},null,null,null,null,{"$f":"IFERROR(VLOOKUP(E2292,Nota_Fiscal!$G$4:$L$1000,6,0),\"\")","v":""}]
[null,null,{"$f":"IFERROR(VLOOKUP(A2293,Insumos!A:B,2,FALSE),\"\")","v":""},null,null,null,null,{"$f":"IFERROR(VLOOKUP(E2293,Nota_Fiscal!$G$4:$L$1000,6,0),\"\")","v":""}]
[null,null,{"$f":"IFERROR(VLOOKUP(A2294,Insumos!A:B,2,FALSE),\"\")","v":""},null,null,null,null,{"$f":"IFERROR(VLOOKUP(E2294,Nota_Fiscal!$G$4:$L$1000,6,0),\"\")","v":""}]
[null,null,{"$f":"IFERROR(VLOOKUP(A2295,Insumos!A:B,2,FALSE),\"\")","v":""},null,null,null,null,{"$f":"IFERROR(VLOOKUP(E2295,Nota_Fiscal!$G$4:$L$1000,6,0),\"\")","v":""}]
[null,null,{"$f":"IFERROR(VLOOKUP(A2296,Insumos!A:B,2,FALSE),\"\")","v":""},null,null,null,null,{"$f":"IFERROR(VLOOKUP(E2296,Nota_Fiscal!$G$4:$L$1000,6,0),\"\")","v":""}]
[null,null,{"$f":"IFERROR(VLOOKUP(A2297,Insumos!A:B,2,FALSE),\"\")","v":""},null,null,null,null,{"$f":"IFERROR(VLOOKUP(E2297,Nota_Fiscal!$G$4:$L$1000,6,0),\"\")","v":""}]
[null,null,{"$f":"IFERROR(VLOOKUP(A2298,Insumos!A:B,2,FALSE),\"\")","v":""},null,null,null,null,{"$f":"IFERROR(VLOOKUP(E2298,Nota_Fiscal!$G$4:$L$1000,6,0),\"\")","v":""}]
[null,null,{"$f":"IFERROR(VLOOKUP(A2299,Insumos!A:B,2,FALSE),\"\")","v":""},null,null,null,null,{"$f":"IFERROR(VLOOKUP(E2299,Nota_Fiscal!$G$4:$L$1000,6,0),\"\")","v":""}]
[null,null,{"$f":"IFERROR(VLOOKUP(A2300,Insumos!A:B,2,FALSE),\"\")","v":""},null,null,null,null,{"$f":"IFERROR(VLOOKUP(E2300,Nota_Fiscal!$G$4:$L$1000,6,0),\"\")","v":""}]
[null,null,{"$f":"IFERROR(VLOOKUP(A2301,Insumos!A:B,2,FALSE),\"\")","v":""},null,null,null,null,{"$f":"IFERROR(VLOOKUP(E2301,Nota_Fiscal!$G$4:$L$1000,6,0),\"\")","v":""}]
[null,null,{"$f":"IFERROR(VLOOKUP(A2302,Insumos!A:B,2,FALSE),\"\")","v":""},null,null,null,null,{"$f":"IFERROR(VLOOKUP(E2302,Nota_Fiscal!$G$4:$L$1000,6,0),\"\")","v":""}]
[null,null,{"$f":"IFERROR(VLOOKUP(A2303,Insumos!A:B,2,FALSE),\"\")","v":""},null,null,null,null,{"$f":"IFERROR(VLOOKUP(E2303,Nota_Fiscal!$G$4:$L$1000,6,0),\"\")","v":""}]
[null,null,{"$f":"IFERROR(VLOOKUP(A2304,Insumos!A:B,2,FALSE),\"\")","v":""},null,null,null,null,{"$f":"IFERROR(VLOOKUP(E2304,Nota_Fiscal!$G$4:$L$1000,6,0),\"\")","v":""}]
[null,null,{"$f":"IFERROR(VLOOKUP(A2305,Insumos!A:B,2,FALSE),\"\")","v":""},null,null,null,null,{"$f":"IFERROR(VLOOKUP(E2305,Nota_Fiscal!$G$4:$L$1000,6,0),\"\")","v":""}]
[null,null,{"$f":"IFERROR(VLOOKUP(A2306,Insumos!A:B,2,FALSE),\"\")","v":""},null,null,null,null,{"$f":"IFERROR(VLOOKUP(E2306,Nota_Fiscal!$G$4:$L$1000,6,0),\"\")","v":""}]
[null,null,{"$f":"IFERROR(VLOOKUP(A2307,Insumos!A:B,2,FALSE),\"\")","v":""},null,null,null,null,{"$f":"IFERROR(VLOOKUP(E2307,Nota_Fiscal!$G$4:$L$1000,6,0),\"\")","v":""}]
[null,null,{"$f":"IFERROR(VLOOKUP(A2308,Insumos!A:B,2,FALSE),\"\")","v":""},null,null,null,null,{"$f":"IFERROR(VLOOKUP(E2308,Nota_Fiscal!$G$4:$L$1000,6,0),\"\")","v":""}]
[null,null,{"$f":"IFERROR(VLOOKUP(A2309,Insumos!A:B,2,FALSE),\"\")","v":""},null,null,null,null,{"$f":"IFERROR(VLOOKUP(E2309,Nota_Fiscal!$G$4:$L$1000,6,0),\"\")","v":""}]
[null,null,{"$f":"IFERROR(VLOOKUP(A2310,Insumos!A:B,2,FALSE),\"\")","v":""},null,null,null,null,{"$f":"IFERROR(VLOOKUP(E2310,Nota_Fiscal!$G$4:$L$1000,6,0),\"\")","v":""}]
[null,null,{"$f":"IFERROR(VLOOKUP(A2311,Insumos!A:B,2,FALSE),\"\")","v":""},null,null,null,null,{"$f":"IFERROR(VLOOKUP(E2311,Nota_Fiscal!$G$4:$L$1000,6,0),\"\")","v":""}]
[null,null,{"$f":"IFERROR(VLOOKUP(A2312,Insumos!A:B,2,FALSE),\"\")","v":""},null,null,null,null,{"$f":"IFERROR(VLOOKUP(E2312,Nota_Fiscal!$G$4:$L$1000,6,0),\"\")","v":""}]
[null,null,{"$f":"IFERROR(VLOOKUP(A2313,Insumos!A:B,2,FALSE),\"\")","v":""},null,null,null,null,{"$f":"IFERROR(VLOOKUP(E2313,Nota_Fiscal!$G$4:$L$1000,6,0),\"\")","v":""}]
[null,null,{"$f":"IFERROR(VLOOKUP(A2314,Insumos!A:B,2,FALSE),\"\")","v":""},null,null,null,null,{"$f":"IFERROR(VLOOKUP(E2314,Nota_Fiscal!$G$4:$L$1000,6,0),\"\")","v":""}]
[null,null,{"$f":"IFERROR(VLOOKUP(A2315,Insumos!A:B,2,FALSE),\"\")","v":""},null,null,null,null,{"$f":"IFERROR(VLOOKUP(E2315,Nota_Fiscal!$G$4:$L$1000,6,0),\"\")","v":""}]
[null,null,{"$f":"IFERROR(VLOOKUP(A2316,Insumos!A:B,2,FALSE),\"\")","v":""},null,null,null,null,{"$f":"IFERROR(VLOOKUP(E2316,Nota_Fiscal!$G$4:$L$1000,6,0),\"\")","v":""}]
[null,null,{"$f":"IFERROR(VLOOKUP(A2317,Insumos!A:B,2,FALSE),\"\")","v":""},null,null,null,null,{"$f":"IFERROR(VLOOKUP(E2317,Nota_Fiscal!$G$4:$L$1000,6,0),\"\")","v":""}]
[null,null,{"$f":"IFERROR(VLOOKUP(A2318,Insumos!A:B,2,FALSE),\"\")","v":""},null,null,null,null,{"$f":"IFERROR(VLOOKUP(E2318,Nota_Fiscal!$G$4:$L$1000,6,0),\"\")","v":""}]
[null,null,{"$f":"IFERROR(VLOOKUP(A2319,Insumos!A:B,2,FALSE),\"\")","v":""},null,null,null,null,{"$f":"IFERROR(VLOOKUP(E2319,Nota_Fiscal!$G$4:$L$1000,6,0),\"\")","v":""}]
[null,null,{"$f":"IFERROR(VLOOKUP(A2320,Insumos!A:B,2,FALSE),\"\")","v":""},null,null,null,null,{"$f":"IFERROR(VLOOKUP(E2320,Nota_Fiscal!$G$4:$L$1000,6,0),\"\")","v":""}]
[null,null,{"$f":"IFERROR(VLOOKUP(A2321,Insumos!A:B,2,FALSE),\"\")","v":""},null,null,null,null,{"$f":"IFERROR(VLOOKUP(E2321,Nota_Fiscal!$G$4:$L$1000,6,0),\"\")","v":""}]
[null,null,{"$f":"IFERROR(VLOOKUP(A2322,Insumos!A:B,2,FALSE),\"\")","v":""},null,null,null,null,{"$f":"IFERROR(VLOOKUP(E2322,Nota_Fiscal!$G$4:$L$1000,6,0),\"\")","v":""}]
[null,null,{"$f":"IFERROR(VLOOKUP(A2323,Insumos!A:B,2,FALSE),\"\")","v":""},null,null,null,null,{"$f":"IFERROR(VLOOKUP(E2323,Nota_Fiscal!$G$4:$L$1000,6,0),\"\")","v":""}]
[null,null,{"$f":"IFERROR(VLOOKUP(A2324,Insumos!A:B,2,FALSE),\"\")","v":""},null,null,null,null,{"$f":"IFERROR(VLOOKUP(E2324,Nota_Fiscal!$G$4:$L$1000,6,0),\"\")","v":""}]
[null,null,{"$f":"IFERROR(VLOOKUP(A2325,Insumos!A:B,2,FALSE),\"\")","v":""},null,null,null,null,{"$f":"IFERROR(VLOOKUP(E2325,Nota_Fiscal!$G$4:$L$1000,6,0),\"\")","v":""}]
[null,null,{"$f":"IFERROR(VLOOKUP(A2326,Insumos!A:B,2,FALSE),\"\")","v":""},null,null,null,null,{"$f":"IFERROR(VLOOKUP(E2326,Nota_Fiscal!$G$4:$L$1000,6,0),\"\")","v":""}]
[null,null,{"$f":"IFERROR(VLOOKUP(A2327,Insumos!A:B,2,FALSE),\"\")","v":""},null,null,null,null,{"$f":"IFERROR(VLOOKUP(E2327,Nota_Fiscal!$G$4:$L$1000,6,0),\"\")","v":""}]
[null,null,{"$f":"IFERROR(VLOOKUP(A2328,Insumos!A:B,2,FALSE),\"\")","v":""},null,null,null,null,{"$f":"IFERROR(VLOOKUP(E2328,Nota_Fiscal!$G$4:$L$1000,6,0),\"\")","v":""}]
[null,null,{"$f":"IFERROR(VLOOKUP(A2329,Insumos!A:B,2,FALSE),\"\")","v":""},null,null,null,null,{"$f":"IFERROR(VLOOKUP(E2329,Nota_Fiscal!$G$4:$L$1000,6,0),\"\")","v":""}]
[null,null,{"$f":"IFERROR(VLOOKUP(A2330,Insumos!A:B,2,FALSE),\"\")","v":""},null,null,null,null,{"$f":"IFERROR(VLOOKUP(E2330,Nota_Fiscal!$G$4:$L$1000,6,0),\"\")","v":""}]
[null,null,{"$f":"IFERROR(VLOOKUP(A2331,Insumos!A:B,2,FALSE),\"\")","v":""},null,null,null,null,{"$f":"IFERROR(VLOOKUP(E2331,Nota_Fiscal!$G$4:$L$1000,6,0),\"\")","v":""}]
[null,null,{"$f":"IFERROR(VLOOKUP(A2332,Insumos!A:B,2,FALSE),\"\")","v":""},null,null,null,null,{"$f":"IFERROR(VLOOKUP(E2332,Nota_Fiscal!$G$4:$L$1000,6,0),\"\")","v":""}]
[null,null,{"$f":"IFERROR(VLOOKUP(A2333,Insumos!A:B,2,FALSE),\"\")","v":""},null,null,null,null,{"$f":"IFERROR(VLOOKUP(E2333,Nota_Fiscal!$G$4:$L$1000,6,0),\"\")","v":""}]
[null,null,{"$f":"IFERROR(VLOOKUP(A2334,Insumos!A:B,2,FALSE),\"\")","v":""},null,null,null,null,{"$f":"IFERROR(VLOOKUP(E2334,Nota_Fiscal!$G$4:$L$1000,6,0),\"\")","v":""}]
[null,null,{"$f":"IFERROR(VLOOKUP(A2335,Insumos!A:B,2,FALSE),\"\")","v":""},null,null,null,null,{"$f":"IFERROR(VLOOKUP(E2335,Nota_Fiscal!$G$4:$L$1000,6,0),\"\")","v":""}]
[null,null,{"$f":"IFERROR(VLOOKUP(A2336,Insumos!A:B,2,FALSE),\"\")","v":""},null,null,null,null,{"$f":"IFERROR(VLOOKUP(E2336,Nota_Fiscal!$G$4:$L$1000,6,0),\"\")","v":""}]
[null,null,{"$f":"IFERROR(VLOOKUP(A2337,Insumos!A:B,2,FALSE),\"\")","v":""},null,null,null,null,{"$f":"IFERROR(VLOOKUP(E2337,Nota_Fiscal!$G$4:$L$1000,6,0),\"\")","v":""}]
[null,null,{"$f":"IFERROR(VLOOKUP(A2338,Insumos!A:B,2,FALSE),\"\")","v":""},null,null,null,null,{"$f":"IFERROR(VLOOKUP(E2338,Nota_Fiscal!$G$4:$L$1000,6,0),\"\")","v":""}]
[null,null,{"$f":"IFERROR(VLOOKUP(A2339,Insumos!A:B,2,FALSE),\"\")","v":""},null,null,null,null,{"$f":"IFERROR(VLOOKUP(E2339,Nota_Fiscal!$G$4:$L$1000,6,0),\"\")","v":""}]
[null,null,{"$f":"IFERROR(VLOOKUP(A2340,Insumos!A:B,2,FALSE),\"\")","v":""},null,null,null,null,{"$f":"IFERROR(VLOOKUP(E2340,Nota_Fiscal!$G$4:$L$1000,6,0),\"\")","v":""}]
[null,null,{"$f":"IFERROR(VLOOKUP(A2341,Insumos!A:B,2,FALSE),\"\")","v":""},null,null,null,null,{"$f":"IFERROR(VLOOKUP(E2341,Nota_Fiscal!$G$4:$L$1000,6,0),\"\")","v":""}]
[null,null,{"$f":"IFERROR(VLOOKUP(A2342,Insumos!A:B,2,FALSE),\"\")","v":""},null,null,null,null,{"$f":"IFERROR(VLOOKUP(E2342,Nota_Fiscal!$G$4:$L$1000,6,0),\"\")","v":""}]
[null,null,{"$f":"IFERROR(VLOOKUP(A2343,Insumos!A:B,2,FALSE),\"\")","v":""},null,null,null,null,{"$f":"IFERROR(VLOOKUP(E2343,Nota_Fiscal!$G$4:$L$1000,6,0),\"\")","v":""}]
[null,null,{"$f":"IFERROR(VLOOKUP(A2344,Insumos!A:B,2,FALSE),\"\")","v":""},null,null,null,null,{"$f":"IFERROR(VLOOKUP(E2344,Nota_Fiscal!$G$4:$L$1000,6,0),\"\")","v":""}]
[null,null,{"$f":"IFERROR(VLOOKUP(A2345,Insumos!A:B,2,FALSE),\"\")","v":""},null,null,null,null,{"$f":"IFERROR(VLOOKUP(E2345,Nota_Fiscal!$G$4:$L$1000,6,0),\"\")","v":""}]
[null,null,{"$f":"IFERROR(VLOOKUP(A2346,Insumos!A:B,2,FALSE),\"\")","v":""},null,null,null,null,{"$f":"IFERROR(VLOOKUP(E2346,Nota_Fiscal!$G$4:$L$1000,6,0),\"\")","v":""}]
[null,null,{"$f":"IFERROR(VLOOKUP(A2347,Insumos!A:B,2,FALSE),\"\")","v":""},null,null,null,null,{"$f":"IFERROR(VLOOKUP(E2347,Nota_Fiscal!$G$4:$L$1000,6,0),\"\")","v":""}]
[null,null,{"$f":"IFERROR(VLOOKUP(A2348,Insumos!A:B,2,FALSE),\"\")","v":""},null,null,null,null,{"$f":"IFERROR(VLOOKUP(E2348,Nota_Fiscal!$G$4:$L$1000,6,0),\"\")","v":""}]
[null,null,{"$f":"IFERROR(VLOOKUP(A2349,Insumos!A:B,2,FALSE),\"\")","v":""},null,null,null,null,{"$f":"IFERROR(VLOOKUP(E2349,Nota_Fiscal!$G$4:$L$1000,6,0),\"\")","v":""}]
[null,null,{"$f":"IFERROR(VLOOKUP(A2350,Insumos!A:B,2,FALSE),\"\")","v":""},null,null,null,null,{"$f":"IFERROR(VLOOKUP(E2350,Nota_Fiscal!$G$4:$L$1000,6,0),\"\")","v":""}]
[null,null,{"$f":"IFERROR(VLOOKUP(A2351,Insumos!A:B,2,FALSE),\"\")","v":""},null,null,null,null,{"$f":"IFERROR(VLOOKUP(E2351,Nota_Fiscal!$G$4:$L$1000,6,0),\"\")","v":""}]
[null,null,{"$f":"IFERROR(VLOOKUP(A2352,Insumos!A:B,2,FALSE),\"\")","v":""},null,null,null,null,{"$f":"IFERROR(VLOOKUP(E2352,Nota_Fiscal!$G$4:$L$1000,6,0),\"\")","v":""}]
[null,null,{"$f":"IFERROR(VLOOKUP(A2353,Insumos!A:B,2,FALSE),\"\")","v":""},null,null,null,null,{"$f":"IFERROR(VLOOKUP(E2353,Nota_Fiscal!$G$4:$L$1000,6,0),\"\")","v":""}]
[null,null,{"$f":"IFERROR(VLOOKUP(A2354,Insumos!A:B,2,FALSE),\"\")","v":""},null,null,null,null,{"$f":"IFERROR(VLOOKUP(E2354,Nota_Fiscal!$G$4:$L$1000,6,0),\"\")","v":""}]
[null,null,{"$f":"IFERROR(VLOOKUP(A2355,Insumos!A:B,2,FALSE),\"\")","v":""},null,null,null,null,{"$f":"IFERROR(VLOOKUP(E2355,Nota_Fiscal!$G$4:$L$1000,6,0),\"\")","v":""}]
[null,null,{"$f":"IFERROR(VLOOKUP(A2356,Insumos!A:B,2,FALSE),\"\")","v":""},null,null,null,null,{"$f":"IFERROR(VLOOKUP(E2356,Nota_Fiscal!$G$4:$L$1000,6,0),\"\")","v":""}]
[null,null,{"$f":"IFERROR(VLOOKUP(A2357,Insumos!A:B,2,FALSE),\"\")","v":""},null,null,null,null,{"$f":"IFERROR(VLOOKUP(E2357,Nota_Fiscal!$G$4:$L$1000,6,0),\"\")","v":""}]
[null,null,{"$f":"IFERROR(VLOOKUP(A2358,Insumos!A:B,2,FALSE),\"\")","v":""},null,null,null,null,{"$f":"IFERROR(VLOOKUP(E2358,Nota_Fiscal!$G$4:$L$1000,6,0),\"\")","v":""}]
[null,null,{"$f":"IFERROR(VLOOKUP(A2359,Insumos!A:B,2,FALSE),\"\")","v":""},null,null,null,null,{"$f":"IFERROR(VLOOKUP(E2359,Nota_Fiscal!$G$4:$L$1000,6,0),\"\")","v":""}]
[null,null,{"$f":"IFERROR(VLOOKUP(A2360,Insumos!A:B,2,FALSE),\"\")","v":""},null,null,null,null,{"$f":"IFERROR(VLOOKUP(E2360,Nota_Fiscal!$G$4:$L$1000,6,0),\"\")","v":""}]
[null,null,{"$f":"IFERROR(VLOOKUP(A2361,Insumos!A:B,2,FALSE),\"\")","v":""},null,null,null,null,{"$f":"IFERROR(VLOOKUP(E2361,Nota_Fiscal!$G$4:$L$1000,6,0),\"\")","v":""}]
[null,null,{"$f":"IFERROR(VLOOKUP(A2362,Insumos!A:B,2,FALSE),\"\")","v":""},null,null,null,null,{"$f":"IFERROR(VLOOKUP(E2362,Nota_Fiscal!$G$4:$L$1000,6,0),\"\")","v":""}]
[null,null,{"$f":"IFERROR(VLOOKUP(A2363,Insumos!A:B,2,FALSE),\"\")","v":""},null,null,null,null,{"$f":"IFERROR(VLOOKUP(E2363,Nota_Fiscal!$G$4:$L$1000,6,0),\"\")","v":""}]
[null,null,{"$f":"IFERROR(VLOOKUP(A2364,Insumos!A:B,2,FALSE),\"\")","v":""},null,null,null,null,{"$f":"IFERROR(VLOOKUP(E2364,Nota_Fiscal!$G$4:$L$1000,6,0),\"\")","v":""}]
[null,null,{"$f":"IFERROR(VLOOKUP(A2365,Insumos!A:B,2,FALSE),\"\")","v":""},null,null,null,null,{"$f":"IFERROR(VLOOKUP(E2365,Nota_Fiscal!$G$4:$L$1000,6,0),\"\")","v":""}]
[null,null,{"$f":"IFERROR(VLOOKUP(A2366,Insumos!A:B,2,FALSE),\"\")","v":""},null,null,null,null,{"$f":"IFERROR(VLOOKUP(E2366,Nota_Fiscal!$G$4:$L$1000,6,0),\"\")","v":""}]
[null,null,{"$f":"IFERROR(VLOOKUP(A2367,Insumos!A:B,2,FALSE),\"\")","v":""},null,null,null,null,{"$f":"IFERROR(VLOOKUP(E2367,Nota_Fiscal!$G$4:$L$1000,6,0),\"\")","v":""}]
[null,null,{"$f":"IFERROR(VLOOKUP(A2368,Insumos!A:B,2,FALSE),\"\")","v":""},null,null,null,null,{"$f":"IFERROR(VLOOKUP(E2368,Nota_Fiscal!$G$4:$L$1000,6,0),\"\")","v":""}]
[null,null,{"$f":"IFERROR(VLOOKUP(A2369,Insumos!A:B,2,FALSE),\"\")","v":""},null,null,null,null,{"$f":"IFERROR(VLOOKUP(E2369,Nota_Fiscal!$G$4:$L$1000,6,0),\"\")","v":""}]
[null,null,{"$f":"IFERROR(VLOOKUP(A2370,Insumos!A:B,2,FALSE),\"\")","v":""},null,null,null,null,{"$f":"IFERROR(VLOOKUP(E2370,Nota_Fiscal!$G$4:$L$1000,6,0),\"\")","v":""}]
[null,null,{"$f":"IFERROR(VLOOKUP(A2371,Insumos!A:B,2,FALSE),\"\")","v":""},null,null,null,null,{"$f":"IFERROR(VLOOKUP(E2371,Nota_Fiscal!$G$4:$L$1000,6,0),\"\")","v":""}]
[null,null,{"$f":"IFERROR(VLOOKUP(A2372,Insumos!A:B,2,FALSE),\"\")","v":""},null,null,null,null,{"$f":"IFERROR(VLOOKUP(E2372,Nota_Fiscal!$G$4:$L$1000,6,0),\"\")","v":""}]
[null,null,{"$f":"IFERROR(VLOOKUP(A2373,Insumos!A:B,2,FALSE),\"\")","v":""},null,null,null,null,{"$f":"IFERROR(VLOOKUP(E2373,Nota_Fiscal!$G$4:$L$1000,6,0),\"\")","v":""}]
[null,null,{"$f":"IFERROR(VLOOKUP(A2374,Insumos!A:B,2,FALSE),\"\")","v":""},null,null,null,null,{"$f":"IFERROR(VLOOKUP(E2374,Nota_Fiscal!$G$4:$L$1000,6,0),\"\")","v":""}]
[null,null,{"$f":"IFERROR(VLOOKUP(A2375,Insumos!A:B,2,FALSE),\"\")","v":""},null,null,null,null,{"$f":"IFERROR(VLOOKUP(E2375,Nota_Fiscal!$G$4:$L$1000,6,0),\"\")","v":""}]
[null,null,{"$f":"IFERROR(VLOOKUP(A2376,Insumos!A:B,2,FALSE),\"\")","v":""},null,null,null,null,{"$f":"IFERROR(VLOOKUP(E2376,Nota_Fiscal!$G$4:$L$1000,6,0),\"\")","v":""}]
[null,null,{"$f":"IFERROR(VLOOKUP(A2377,Insumos!A:B,2,FALSE),\"\")","v":""},null,null,null,null,{"$f":"IFERROR(VLOOKUP(E2377,Nota_Fiscal!$G$4:$L$1000,6,0),\"\")","v":""}]
[null,null,{"$f":"IFERROR(VLOOKUP(A2378,Insumos!A:B,2,FALSE),\"\")","v":""},null,null,null,null,{"$f":"IFERROR(VLOOKUP(E2378,Nota_Fiscal!$G$4:$L$1000,6,0),\"\")","v":""}]
[null,null,{"$f":"IFERROR(VLOOKUP(A2379,Insumos!A:B,2,FALSE),\"\")","v":""},null,null,null,null,{"$f":"IFERROR(VLOOKUP(E2379,Nota_Fiscal!$G$4:$L$1000,6,0),\"\")","v":""}]
[null,null,{"$f":"IFERROR(VLOOKUP(A2380,Insumos!A:B,2,FALSE),\"\")","v":""},null,null,null,null,{"$f":"IFERROR(VLOOKUP(E2380,Nota_Fiscal!$G$4:$L$1000,6,0),\"\")","v":""}]
[null,null,{"$f":"IFERROR(VLOOKUP(A2381,Insumos!A:B,2,FALSE),\"\")","v":""},null,null,null,null,{"$f":"IFERROR(VLOOKUP(E2381,Nota_Fiscal!$G$4:$L$1000,6,0),\"\")","v":""}]
[null,null,{"$f":"IFERROR(VLOOKUP(A2382,Insumos!A:B,2,FALSE),\"\")","v":""},null,null,null,null,{"$f":"IFERROR(VLOOKUP(E2382,Nota_Fiscal!$G$4:$L$1000,6,0),\"\")","v":""}]
[null,null,{"$f":"IFERROR(VLOOKUP(A2383,Insumos!A:B,2,FALSE),\"\")","v":""},null,null,null,null,{"$f":"IFERROR(VLOOKUP(E2383,Nota_Fiscal!$G$4:$L$1000,6,0),\"\")","v":""}]
[null,null,{"$f":"IFERROR(VLOOKUP(A2384,Insumos!A:B,2,FALSE),\"\")","v":""},null,null,null,null,{"$f":"IFERROR(VLOOKUP(E2384,Nota_Fiscal!$G$4:$L$1000,6,0),\"\")","v":""}]
[null,null,{"$f":"IFERROR(VLOOKUP(A2385,Insumos!A:B,2,FALSE),\"\")","v":""},null,null,null,null,{"$f":"IFERROR(VLOOKUP(E2385,Nota_Fiscal!$G$4:$L$1000,6,0),\"\")","v":""}]
[null,null,{"$f":"IFERROR(VLOOKUP(A2386,Insumos!A:B,2,FALSE),\"\")","v":""},null,null,null,null,{"$f":"IFERROR(VLOOKUP(E2386,Nota_Fiscal!$G$4:$L$1000,6,0),\"\")","v":""}]
[null,null,{"$f":"IFERROR(VLOOKUP(A2387,Insumos!A:B,2,FALSE),\"\")","v":""},null,null,null,null,{"$f":"IFERROR(VLOOKUP(E2387,Nota_Fiscal!$G$4:$L$1000,6,0),\"\")","v":""}]
[null,null,{"$f":"IFERROR(VLOOKUP(A2388,Insumos!A:B,2,FALSE),\"\")","v":""},null,null,null,null,{"$f":"IFERROR(VLOOKUP(E2388,Nota_Fiscal!$G$4:$L$1000,6,0),\"\")","v":""}]
[null,null,{"$f":"IFERROR(VLOOKUP(A2389,Insumos!A:B,2,FALSE),\"\")","v":""},null,null,null,null,{"$f":"IFERROR(VLOOKUP(E2389,Nota_Fiscal!$G$4:$L$1000,6,0),\"\")","v":""}]
[null,null,{"$f":"IFERROR(VLOOKUP(A2390,Insumos!A:B,2,FALSE),\"\")","v":""},null,null,null,null,{"$f":"IFERROR(VLOOKUP(E2390,Nota_Fiscal!$G$4:$L$1000,6,0),\"\")","v":""}]
[null,null,{"$f":"IFERROR(VLOOKUP(A2391,Insumos!A:B,2,FALSE),\"\")","v":""},null,null,null,null,{"$f":"IFERROR(VLOOKUP(E2391,Nota_Fiscal!$G$4:$L$1000,6,0),\"\")","v":""}]
[null,null,{"$f":"IFERROR(VLOOKUP(A2392,Insumos!A:B,2,FALSE),\"\")","v":""},null,null,null,null,{"$f":"IFERROR(VLOOKUP(E2392,Nota_Fiscal!$G$4:$L$1000,6,0),\"\")","v":""}]
[null,null,{"$f":"IFERROR(VLOOKUP(A2393,Insumos!A:B,2,FALSE),\"\")","v":""},null,null,null,null,{"$f":"IFERROR(VLOOKUP(E2393,Nota_Fiscal!$G$4:$L$1000,6,0),\"\")","v":""}]
[null,null,{"$f":"IFERROR(VLOOKUP(A2394,Insumos!A:B,2,FALSE),\"\")","v":""},null,null,null,null,{"$f":"IFERROR(VLOOKUP(E2394,Nota_Fiscal!$G$4:$L$1000,6,0),\"\")","v":""}]
[null,null,{"$f":"IFERROR(VLOOKUP(A2395,Insumos!A:B,2,FALSE),\"\")","v":""},null,null,null,null,{"$f":"IFERROR(VLOOKUP(E2395,Nota_Fiscal!$G$4:$L$1000,6,0),\"\")","v":""}]
[null,null,{"$f":"IFERROR(VLOOKUP(A2396,Insumos!A:B,2,FALSE),\"\")","v":""},null,null,null,null,{"$f":"IFERROR(VLOOKUP(E2396,Nota_Fiscal!$G$4:$L$1000,6,0),\"\")","v":""}]
[null,null,{"$f":"IFERROR(VLOOKUP(A2397,Insumos!A:B,2,FALSE),\"\")","v":""},null,null,null,null,{"$f":"IFERROR(VLOOKUP(E2397,Nota_Fiscal!$G$4:$L$1000,6,0),\"\")","v":""}]
[null,null,{"$f":"IFERROR(VLOOKUP(A2398,Insumos!A:B,2,FALSE),\"\")","v":""},null,null,null,null,{"$f":"IFERROR(VLOOKUP(E2398,Nota_Fiscal!$G$4:$L$1000,6,0),\"\")","v":""}]
[null,null,{"$f":"IFERROR(VLOOKUP(A2399,Insumos!A:B,2,FALSE),\"\")","v":""},null,null,null,null,{"$f":"IFERROR(VLOOKUP(E2399,Nota_Fiscal!$G$4:$L$1000,6,0),\"\")","v":""}]
[null,null,{"$f":"IFERROR(VLOOKUP(A2400,Insumos!A:B,2,FALSE),\"\")","v":""},null,null,null,null,{"$f":"IFERROR(VLOOKUP(E2400,Nota_Fiscal!$G$4:$L$1000,6,0),\"\")","v":""}]
[null,null,{"$f":"IFERROR(VLOOKUP(A2401,Insumos!A:B,2,FALSE),\"\")","v":""},null,null,null,null,{"$f":"IFERROR(VLOOKUP(E2401,Nota_Fiscal!$G$4:$L$1000,6,0),\"\")","v":""}]
[null,null,{"$f":"IFERROR(VLOOKUP(A2402,Insumos!A:B,2,FALSE),\"\")","v":""},null,null,null,null,{"$f":"IFERROR(VLOOKUP(E2402,Nota_Fiscal!$G$4:$L$1000,6,0),\"\")","v":""}]
[null,null,{"$f":"IFERROR(VLOOKUP(A2403,Insumos!A:B,2,FALSE),\"\")","v":""},null,null,null,null,{"$f":"IFERROR(VLOOKUP(E2403,Nota_Fiscal!$G$4:$L$1000,6,0),\"\")","v":""}]
[null,null,{"$f":"IFERROR(VLOOKUP(A2404,Insumos!A:B,2,FALSE),\"\")","v":""},null,null,null,null,{"$f":"IFERROR(VLOOKUP(E2404,Nota_Fiscal!$G$4:$L$1000,6,0),\"\")","v":""}]
[null,null,{"$f":"IFERROR(VLOOKUP(A2405,Insumos!A:B,2,FALSE),\"\")","v":""},null,null,null,null,{"$f":"IFERROR(VLOOKUP(E2405,Nota_Fiscal!$G$4:$L$1000,6,0),\"\")","v":""}]
[null,null,{"$f":"IFERROR(VLOOKUP(A2406,Insumos!A:B,2,FALSE),\"\")","v":""},null,null,null,null,{"$f":"IFERROR(VLOOKUP(E2406,Nota_Fiscal!$G$4:$L$1000,6,0),\"\")","v":""}]
[null,null,{"$f":"IFERROR(VLOOKUP(A2407,Insumos!A:B,2,FALSE),\"\")","v":""},null,null,null,null,{"$f":"IFERROR(VLOOKUP(E2407,Nota_Fiscal!$G$4:$L$1000,6,0),\"\")","v":""}]
[null,null,{"$f":"IFERROR(VLOOKUP(A2408,Insumos!A:B,2,FALSE),\"\")","v":""},null,null,null,null,{"$f":"IFERROR(VLOOKUP(E2408,Nota_Fiscal!$G$4:$L$1000,6,0),\"\")","v":""}]
[null,null,{"$f":"IFERROR(VLOOKUP(A2409,Insumos!A:B,2,FALSE),\"\")","v":""},null,null,null,null,{"$f":"IFERROR(VLOOKUP(E2409,Nota_Fiscal!$G$4:$L$1000,6,0),\"\")","v":""}]
[null,null,{"$f":"IFERROR(VLOOKUP(A2410,Insumos!A:B,2,FALSE),\"\")","v":""},null,null,null,null,{"$f":"IFERROR(VLOOKUP(E2410,Nota_Fiscal!$G$4:$L$1000,6,0),\"\")","v":""}]
[null,null,{"$f":"IFERROR(VLOOKUP(A2411,Insumos!A:B,2,FALSE),\"\")","v":""},null,null,null,null,{"$f":"IFERROR(VLOOKUP(E2411,Nota_Fiscal!$G$4:$L$1000,6,0),\"\")","v":""}]
[null,null,{"$f":"IFERROR(VLOOKUP(A2412,Insumos!A:B,2,FALSE),\"\")","v":""},null,null,null,null,{"$f":"IFERROR(VLOOKUP(E2412,Nota_Fiscal!$G$4:$L$1000,6,0),\"\")","v":""}]
[null,null,{"$f":"IFERROR(VLOOKUP(A2413,Insumos!A:B,2,FALSE),\"\")","v":""},null,null,null,null,{"$f":"IFERROR(VLOOKUP(E2413,Nota_Fiscal!$G$4:$L$1000,6,0),\"\")","v":""}]
[null,null,{"$f":"IFERROR(VLOOKUP(A2414,Insumos!A:B,2,FALSE),\"\")","v":""},null,null,null,null,{"$f":"IFERROR(VLOOKUP(E2414,Nota_Fiscal!$G$4:$L$1000,6,0),\"\")","v":""}]
[null,null,{"$f":"IFERROR(VLOOKUP(A2415,Insumos!A:B,2,FALSE),\"\")","v":""},null,null,null,null,{"$f":"IFERROR(VLOOKUP(E2415,Nota_Fiscal!$G$4:$L$1000,6,0),\"\")","v":""}]
[null,null,{"$f":"IFERROR(VLOOKUP(A2416,Insumos!A:B,2,FALSE),\"\")","v":""},null,null,null,null,{"$f":"IFERROR(VLOOKUP(E2416,Nota_Fiscal!$G$4:$L$1000,6,0),\"\")","v":""}]
[null,null,{"$f":"IFERROR(VLOOKUP(A2417,Insumos!A:B,2,FALSE),\"\")","v":""},null,null,null,null,{"$f":"IFERROR(VLOOKUP(E2417,Nota_Fiscal!$G$4:$L$1000,6,0),\"\")","v":""}]
[null,null,{"$f":"IFERROR(VLOOKUP(A2418,Insumos!A:B,2,FALSE),\"\")","v":""},null,null,null,null,{"$f":"IFERROR(VLOOKUP(E2418,Nota_Fiscal!$G$4:$L$1000,6,0),\"\")","v":""}]
[null,null,{"$f":"IFERROR(VLOOKUP(A2419,Insumos!A:B,2,FALSE),\"\")","v":""},null,null,null,null,{"$f":"IFERROR(VLOOKUP(E2419,Nota_Fiscal!$G$4:$L$1000,6,0),\"\")","v":""}]
[null,null,{"$f":"IFERROR(VLOOKUP(A2420,Insumos!A:B,2,FALSE),\"\")","v":""},null,null,null,null,{"$f":"IFERROR(VLOOKUP(E2420,Nota_Fiscal!$G$4:$L$1000,6,0),\"\")","v":""}]
[null,null,{"$f":"IFERROR(VLOOKUP(A2421,Insumos!A:B,2,FALSE),\"\")","v":""},null,null,null,null,{"$f":"IFERROR(VLOOKUP(E2421,Nota_Fiscal!$G$4:$L$1000,6,0),\"\")","v":""}]
[null,null,{"$f":"IFERROR(VLOOKUP(A2422,Insumos!A:B,2,FALSE),\"\")","v":""},null,null,null,null,{"$f":"IFERROR(VLOOKUP(E2422,Nota_Fiscal!$G$4:$L$1000,6,0),\"\")","v":""}]
[null,null,{"$f":"IFERROR(VLOOKUP(A2423,Insumos!A:B,2,FALSE),\"\")","v":""},null,null,null,null,{"$f":"IFERROR(VLOOKUP(E2423,Nota_Fiscal!$G$4:$L$1000,6,0),\"\")","v":""}]
[null,null,{"$f":"IFERROR(VLOOKUP(A2424,Insumos!A:B,2,FALSE),\"\")","v":""},null,null,null,null,{"$f":"IFERROR(VLOOKUP(E2424,Nota_Fiscal!$G$4:$L$1000,6,0),\"\")","v":""}]
[null,null,{"$f":"IFERROR(VLOOKUP(A2425,Insumos!A:B,2,FALSE),\"\")","v":""},null,null,null,null,{"$f":"IFERROR(VLOOKUP(E2425,Nota_Fiscal!$G$4:$L$1000,6,0),\"\")","v":""}]
[null,null,{"$f":"IFERROR(VLOOKUP(A2426,Insumos!A:B,2,FALSE),\"\")","v":""},null,null,null,null,{"$f":"IFERROR(VLOOKUP(E2426,Nota_Fiscal!$G$4:$L$1000,6,0),\"\")","v":""}]
[null,null,{"$f":"IFERROR(VLOOKUP(A2427,Insumos!A:B,2,FALSE),\"\")","v":""},null,null,null,null,{"$f":"IFERROR(VLOOKUP(E2427,Nota_Fiscal!$G$4:$L$1000,6,0),\"\")","v":""}]
[null,null,{"$f":"IFERROR(VLOOKUP(A2428,Insumos!A:B,2,FALSE),\"\")","v":""},null,null,null,null,{"$f":"IFERROR(VLOOKUP(E2428,Nota_Fiscal!$G$4:$L$1000,6,0),\"\")","v":""}]
[null,null,{"$f":"IFERROR(VLOOKUP(A2429,Insumos!A:B,2,FALSE),\"\")","v":""},null,null,null,null,{"$f":"IFERROR(VLOOKUP(E2429,Nota_Fiscal!$G$4:$L$1000,6,0),\"\")","v":""}]
[null,null,{"$f":"IFERROR(VLOOKUP(A2430,Insumos!A:B,2,FALSE),\"\")","v":""},null,null,null,null,{"$f":"IFERROR(VLOOKUP(E2430,Nota_Fiscal!$G$4:$L$1000,6,0),\"\")","v":""}]
[null,null,{"$f":"IFERROR(VLOOKUP(A2431,Insumos!A:B,2,FALSE),\"\")","v":""},null,null,null,null,{"$f":"IFERROR(VLOOKUP(E2431,Nota_Fiscal!$G$4:$L$1000,6,0),\"\")","v":""}]
[null,null,{"$f":"IFERROR(VLOOKUP(A2432,Insumos!A:B,2,FALSE),\"\")","v":""},null,null,null,null,{"$f":"IFERROR(VLOOKUP(E2432,Nota_Fiscal!$G$4:$L$1000,6,0),\"\")","v":""}]
[null,null,{"$f":"IFERROR(VLOOKUP(A2433,Insumos!A:B,2,FALSE),\"\")","v":""},null,null,null,null,{"$f":"IFERROR(VLOOKUP(E2433,Nota_Fiscal!$G$4:$L$1000,6,0),\"\")","v":""}]
[null,null,{"$f":"IFERROR(VLOOKUP(A2434,Insumos!A:B,2,FALSE),\"\")","v":""},null,null,null,null,{"$f":"IFERROR(VLOOKUP(E2434,Nota_Fiscal!$G$4:$L$1000,6,0),\"\")","v":""}]
[null,null,{"$f":"IFERROR(VLOOKUP(A2435,Insumos!A:B,2,FALSE),\"\")","v":""},null,null,null,null,{"$f":"IFERROR(VLOOKUP(E2435,Nota_Fiscal!$G$4:$L$1000,6,0),\"\")","v":""}]
[null,null,{"$f":"IFERROR(VLOOKUP(A2436,Insumos!A:B,2,FALSE),\"\")","v":""},null,null,null,null,{"$f":"IFERROR(VLOOKUP(E2436,Nota_Fiscal!$G$4:$L$1000,6,0),\"\")","v":""}]
[null,null,{"$f":"IFERROR(VLOOKUP(A2437,Insumos!A:B,2,FALSE),\"\")","v":""},null,null,null,null,{"$f":"IFERROR(VLOOKUP(E2437,Nota_Fiscal!$G$4:$L$1000,6,0),\"\")","v":""}]
[null,null,{"$f":"IFERROR(VLOOKUP(A2438,Insumos!A:B,2,FALSE),\"\")","v":""},null,null,null,null,{"$f":"IFERROR(VLOOKUP(E2438,Nota_Fiscal!$G$4:$L$1000,6,0),\"\")","v":""}]
[null,null,{"$f":"IFERROR(VLOOKUP(A2439,Insumos!A:B,2,FALSE),\"\")","v":""},null,null,null,null,{"$f":"IFERROR(VLOOKUP(E2439,Nota_Fiscal!$G$4:$L$1000,6,0),\"\")","v":""}]
[null,null,{"$f":"IFERROR(VLOOKUP(A2440,Insumos!A:B,2,FALSE),\"\")","v":""},null,null,null,null,{"$f":"IFERROR(VLOOKUP(E2440,Nota_Fiscal!$G$4:$L$1000,6,0),\"\")","v":""}]
[null,null,{"$f":"IFERROR(VLOOKUP(A2441,Insumos!A:B,2,FALSE),\"\")","v":""},null,null,null,null,{"$f":"IFERROR(VLOOKUP(E2441,Nota_Fiscal!$G$4:$L$1000,6,0),\"\")","v":""}]
[null,null,{"$f":"IFERROR(VLOOKUP(A2442,Insumos!A:B,2,FALSE),\"\")","v":""},null,null,null,null,{"$f":"IFERROR(VLOOKUP(E2442,Nota_Fiscal!$G$4:$L$1000,6,0),\"\")","v":""}]
[null,null,{"$f":"IFERROR(VLOOKUP(A2443,Insumos!A:B,2,FALSE),\"\")","v":""},null,null,null,null,{"$f":"IFERROR(VLOOKUP(E2443,Nota_Fiscal!$G$4:$L$1000,6,0),\"\")","v":""}]
[null,null,{"$f":"IFERROR(VLOOKUP(A2444,Insumos!A:B,2,FALSE),\"\")","v":""},null,null,null,null,{"$f":"IFERROR(VLOOKUP(E2444,Nota_Fiscal!$G$4:$L$1000,6,0),\"\")","v":""}]
[null,null,{"$f":"IFERROR(VLOOKUP(A2445,Insumos!A:B,2,FALSE),\"\")","v":""},null,null,null,null,{"$f":"IFERROR(VLOOKUP(E2445,Nota_Fiscal!$G$4:$L$1000,6,0),\"\")","v":""}]
[null,null,{"$f":"IFERROR(VLOOKUP(A2446,Insumos!A:B,2,FALSE),\"\")","v":""},null,null,null,null,{"$f":"IFERROR(VLOOKUP(E2446,Nota_Fiscal!$G$4:$L$1000,6,0),\"\")","v":""}]
[null,null,{"$f":"IFERROR(VLOOKUP(A2447,Insumos!A:B,2,FALSE),\"\")","v":""},null,null,null,null,{"$f":"IFERROR(VLOOKUP(E2447,Nota_Fiscal!$G$4:$L$1000,6,0),\"\")","v":""}]
[null,null,{"$f":"IFERROR(VLOOKUP(A2448,Insumos!A:B,2,FALSE),\"\")","v":""},null,null,null,null,{"$f":"IFERROR(VLOOKUP(E2448,Nota_Fiscal!$G$4:$L$1000,6,0),\"\")","v":""}]
[null,null,{"$f":"IFERROR(VLOOKUP(A2449,Insumos!A:B,2,FALSE),\"\")","v":""},null,null,null,null,{"$f":"IFERROR(VLOOKUP(E2449,Nota_Fiscal!$G$4:$L$1000,6,0),\"\")","v":""}]
[null,null,{"$f":"IFERROR(VLOOKUP(A2450,Insumos!A:B,2,FALSE),\"\")","v":""},null,null,null,null,{"$f":"IFERROR(VLOOKUP(E2450,Nota_Fiscal!$G$4:$L$1000,6,0),\"\")","v":""}]
[null,null,{"$f":"IFERROR(VLOOKUP(A2451,Insumos!A:B,2,FALSE),\"\")","v":""},null,null,null,null,{"$f":"IFERROR(VLOOKUP(E2451,Nota_Fiscal!$G$4:$L$1000,6,0),\"\")","v":""}]
[null,null,{"$f":"IFERROR(VLOOKUP(A2452,Insumos!A:B,2,FALSE),\"\")","v":""},null,null,null,null,{"$f":"IFERROR(VLOOKUP(E2452,Nota_Fiscal!$G$4:$L$1000,6,0),\"\")","v":""}]
[null,null,{"$f":"IFERROR(VLOOKUP(A2453,Insumos!A:B,2,FALSE),\"\")","v":""},null,null,null,null,{"$f":"IFERROR(VLOOKUP(E2453,Nota_Fiscal!$G$4:$L$1000,6,0),\"\")","v":""}]
[null,null,{"$f":"IFERROR(VLOOKUP(A2454,Insumos!A:B,2,FALSE),\"\")","v":""},null,null,null,null,{"$f":"IFERROR(VLOOKUP(E2454,Nota_Fiscal!$G$4:$L$1000,6,0),\"\")","v":""}]
[null,null,{"$f":"IFERROR(VLOOKUP(A2455,Insumos!A:B,2,FALSE),\"\")","v":""},null,null,null,null,{"$f":"IFERROR(VLOOKUP(E2455,Nota_Fiscal!$G$4:$L$1000,6,0),\"\")","v":""}]
[null,null,{"$f":"IFERROR(VLOOKUP(A2456,Insumos!A:B,2,FALSE),\"\")","v":""},null,null,null,null,{"$f":"IFERROR(VLOOKUP(E2456,Nota_Fiscal!$G$4:$L$1000,6,0),\"\")","v":""}]
[null,null,{"$f":"IFERROR(VLOOKUP(A2457,Insumos!A:B,2,FALSE),\"\")","v":""},null,null,null,null,{"$f":"IFERROR(VLOOKUP(E2457,Nota_Fiscal!$G$4:$L$1000,6,0),\"\")","v":""}]
[null,null,{"$f":"IFERROR(VLOOKUP(A2458,Insumos!A:B,2,FALSE),\"\")","v":""},null,null,null,null,{"$f":"IFERROR(VLOOKUP(E2458,Nota_Fiscal!$G$4:$L$1000,6,0),\"\")","v":""}]
[null,null,{"$f":"IFERROR(VLOOKUP(A2459,Insumos!A:B,2,FALSE),\"\")","v":""},null,null,null,null,{"$f":"IFERROR(VLOOKUP(E2459,Nota_Fiscal!$G$4:$L$1000,6,0),\"\")","v":""}]
[null,null,{"$f":"IFERROR(VLOOKUP(A2460,Insumos!A:B,2,FALSE),\"\")","v":""},null,null,null,null,{"$f":"IFERROR(VLOOKUP(E2460,Nota_Fiscal!$G$4:$L$1000,6,0),\"\")","v":""}]
[null,null,{"$f":"IFERROR(VLOOKUP(A2461,Insumos!A:B,2,FALSE),\"\")","v":""},null,null,null,null,{"$f":"IFERROR(VLOOKUP(E2461,Nota_Fiscal!$G$4:$L$1000,6,0),\"\")","v":""}]
[null,null,{"$f":"IFERROR(VLOOKUP(A2462,Insumos!A:B,2,FALSE),\"\")","v":""},null,null,null,null,{"$f":"IFERROR(VLOOKUP(E2462,Nota_Fiscal!$G$4:$L$1000,6,0),\"\")","v":""}]
[null,null,{"$f":"IFERROR(VLOOKUP(A2463,Insumos!A:B,2,FALSE),\"\")","v":""},null,null,null,null,{"$f":"IFERROR(VLOOKUP(E2463,Nota_Fiscal!$G$4:$L$1000,6,0),\"\")","v":""}]
[null,null,{"$f":"IFERROR(VLOOKUP(A2464,Insumos!A:B,2,FALSE),\"\")","v":""},null,null,null,null,{"$f":"IFERROR(VLOOKUP(E2464,Nota_Fiscal!$G$4:$L$1000,6,0),\"\")","v":""}]
[null,null,{"$f":"IFERROR(VLOOKUP(A2465,Insumos!A:B,2,FALSE),\"\")","v":""},null,null,null,null,{"$f":"IFERROR(VLOOKUP(E2465,Nota_Fiscal!$G$4:$L$1000,6,0),\"\")","v":""}]
[null,null,{"$f":"IFERROR(VLOOKUP(A2466,Insumos!A:B,2,FALSE),\"\")","v":""},null,null,null,null,{"$f":"IFERROR(VLOOKUP(E2466,Nota_Fiscal!$G$4:$L$1000,6,0),\"\")","v":""}]
[null,null,{"$f":"IFERROR(VLOOKUP(A2467,Insumos!A:B,2,FALSE),\"\")","v":""},null,null,null,null,{"$f":"IFERROR(VLOOKUP(E2467,Nota_Fiscal!$G$4:$L$1000,6,0),\"\")","v":""}]
[null,null,{"$f":"IFERROR(VLOOKUP(A2468,Insumos!A:B,2,FALSE),\"\")","v":""},null,null,null,null,{"$f":"IFERROR(VLOOKUP(E2468,Nota_Fiscal!$G$4:$L$1000,6,0),\"\")","v":""}]
[null,null,{"$f":"IFERROR(VLOOKUP(A2469,Insumos!A:B,2,FALSE),\"\")","v":""},null,null,null,null,{"$f":"IFERROR(VLOOKUP(E2469,Nota_Fiscal!$G$4:$L$1000,6,0),\"\")","v":""}]
[null,null,{"$f":"IFERROR(VLOOKUP(A2470,Insumos!A:B,2,FALSE),\"\")","v":""},null,null,null,null,{"$f":"IFERROR(VLOOKUP(E2470,Nota_Fiscal!$G$4:$L$1000,6,0),\"\")","v":""}]
[null,null,{"$f":"IFERROR(VLOOKUP(A2471,Insumos!A:B,2,FALSE),\"\")","v":""},null,null,null,null,{"$f":"IFERROR(VLOOKUP(E2471,Nota_Fiscal!$G$4:$L$1000,6,0),\"\")","v":""}]
[null,null,{"$f":"IFERROR(VLOOKUP(A2472,Insumos!A:B,2,FALSE),\"\")","v":""},null,null,null,null,{"$f":"IFERROR(VLOOKUP(E2472,Nota_Fiscal!$G$4:$L$1000,6,0),\"\")","v":""}]
[null,null,{"$f":"IFERROR(VLOOKUP(A2473,Insumos!A:B,2,FALSE),\"\")","v":""},null,null,null,null,{"$f":"IFERROR(VLOOKUP(E2473,Nota_Fiscal!$G$4:$L$1000,6,0),\"\")","v":""}]
[null,null,{"$f":"IFERROR(VLOOKUP(A2474,Insumos!A:B,2,FALSE),\"\")","v":""},null,null,null,null,{"$f":"IFERROR(VLOOKUP(E2474,Nota_Fiscal!$G$4:$L$1000,6,0),\"\")","v":""}]
[null,null,{"$f":"IFERROR(VLOOKUP(A2475,Insumos!A:B,2,FALSE),\"\")","v":""},null,null,null,null,{"$f":"IFERROR(VLOOKUP(E2475,Nota_Fiscal!$G$4:$L$1000,6,0),\"\")","v":""}]
[null,null,{"$f":"IFERROR(VLOOKUP(A2476,Insumos!A:B,2,FALSE),\"\")","v":""},null,null,null,null,{"$f":"IFERROR(VLOOKUP(E2476,Nota_Fiscal!$G$4:$L$1000,6,0),\"\")","v":""}]
[null,null,{"$f":"IFERROR(VLOOKUP(A2477,Insumos!A:B,2,FALSE),\"\")","v":""},null,null,null,null,{"$f":"IFERROR(VLOOKUP(E2477,Nota_Fiscal!$G$4:$L$1000,6,0),\"\")","v":""}]
[null,null,{"$f":"IFERROR(VLOOKUP(A2478,Insumos!A:B,2,FALSE),\"\")","v":""},null,null,null,null,{"$f":"IFERROR(VLOOKUP(E2478,Nota_Fiscal!$G$4:$L$1000,6,0),\"\")","v":""}]
[null,null,{"$f":"IFERROR(VLOOKUP(A2479,Insumos!A:B,2,FALSE),\"\")","v":""},null,null,null,null,{"$f":"IFERROR(VLOOKUP(E2479,Nota_Fiscal!$G$4:$L$1000,6,0),\"\")","v":""}]
[null,null,{"$f":"IFERROR(VLOOKUP(A2480,Insumos!A:B,2,FALSE),\"\")","v":""},null,null,null,null,{"$f":"IFERROR(VLOOKUP(E2480,Nota_Fiscal!$G$4:$L$1000,6,0),\"\")","v":""}]
[null,null,{"$f":"IFERROR(VLOOKUP(A2481,Insumos!A:B,2,FALSE),\"\")","v":""},null,null,null,null,{"$f":"IFERROR(VLOOKUP(E2481,Nota_Fiscal!$G$4:$L$1000,6,0),\"\")","v":""}]
[null,null,{"$f":"IFERROR(VLOOKUP(A2482,Insumos!A:B,2,FALSE),\"\")","v":""},null,null,null,null,{"$f":"IFERROR(VLOOKUP(E2482,Nota_Fiscal!$G$4:$L$1000,6,0),\"\")","v":""}]
[null,null,{"$f":"IFERROR(VLOOKUP(A2483,Insumos!A:B,2,FALSE),\"\")","v":""},null,null,null,null,{"$f":"IFERROR(VLOOKUP(E2483,Nota_Fiscal!$G$4:$L$1000,6,0),\"\")","v":""}]
[null,null,{"$f":"IFERROR(VLOOKUP(A2484,Insumos!A:B,2,FALSE),\"\")","v":""},null,null,null,null,{"$f":"IFERROR(VLOOKUP(E2484,Nota_Fiscal!$G$4:$L$1000,6,0),\"\")","v":""}]
[null,null,{"$f":"IFERROR(VLOOKUP(A2485,Insumos!A:B,2,FALSE),\"\")","v":""},null,null,null,null,{"$f":"IFERROR(VLOOKUP(E2485,Nota_Fiscal!$G$4:$L$1000,6,0),\"\")","v":""}]
[null,null,{"$f":"IFERROR(VLOOKUP(A2486,Insumos!A:B,2,FALSE),\"\")","v":""},null,null,null,null,{"$f":"IFERROR(VLOOKUP(E2486,Nota_Fiscal!$G$4:$L$1000,6,0),\"\")","v":""}]
[null,null,{"$f":"IFERROR(VLOOKUP(A2487,Insumos!A:B,2,FALSE),\"\")","v":""},null,null,null,null,{"$f":"IFERROR(VLOOKUP(E2487,Nota_Fiscal!$G$4:$L$1000,6,0),\"\")","v":""}]
[null,null,{"$f":"IFERROR(VLOOKUP(A2488,Insumos!A:B,2,FALSE),\"\")","v":""},null,null,null,null,{"$f":"IFERROR(VLOOKUP(E2488,Nota_Fiscal!$G$4:$L$1000,6,0),\"\")","v":""}]
[null,null,{"$f":"IFERROR(VLOOKUP(A2489,Insumos!A:B,2,FALSE),\"\")","v":""},null,null,null,null,{"$f":"IFERROR(VLOOKUP(E2489,Nota_Fiscal!$G$4:$L$1000,6,0),\"\")","v":""}]
[null,null,{"$f":"IFERROR(VLOOKUP(A2490,Insumos!A:B,2,FALSE),\"\")","v":""},null,null,null,null,{"$f":"IFERROR(VLOOKUP(E2490,Nota_Fiscal!$G$4:$L$1000,6,0),\"\")","v":""}]
[null,null,{"$f":"IFERROR(VLOOKUP(A2491,Insumos!A:B,2,FALSE),\"\")","v":""},null,null,null,null,{"$f":"IFERROR(VLOOKUP(E2491,Nota_Fiscal!$G$4:$L$1000,6,0),\"\")","v":""}]
[null,null,{"$f":"IFERROR(VLOOKUP(A2492,Insumos!A:B,2,FALSE),\"\")","v":""},null,null,null,null,{"$f":"IFERROR(VLOOKUP(E2492,Nota_Fiscal!$G$4:$L$1000,6,0),\"\")","v":""}]
[null,null,{"$f":"IFERROR(VLOOKUP(A2493,Insumos!A:B,2,FALSE),\"\")","v":""},null,null,null,null,{"$f":"IFERROR(VLOOKUP(E2493,Nota_Fiscal!$G$4:$L$1000,6,0),\"\")","v":""}]
[null,null,{"$f":"IFERROR(VLOOKUP(A2494,Insumos!A:B,2,FALSE),\"\")","v":""},null,null,null,null,{"$f":"IFERROR(VLOOKUP(E2494,Nota_Fiscal!$G$4:$L$1000,6,0),\"\")","v":""}]
[null,null,{"$f":"IFERROR(VLOOKUP(A2495,Insumos!A:B,2,FALSE),\"\")","v":""},null,null,null,null,{"$f":"IFERROR(VLOOKUP(E2495,Nota_Fiscal!$G$4:$L$1000,6,0),\"\")","v":""}]
[null,null,{"$f":"IFERROR(VLOOKUP(A2496,Insumos!A:B,2,FALSE),\"\")","v":""},null,null,null,null,{"$f":"IFERROR(VLOOKUP(E2496,Nota_Fiscal!$G$4:$L$1000,6,0),\"\")","v":""}]
[null,null,{"$f":"IFERROR(VLOOKUP(A2497,Insumos!A:B,2,FALSE),\"\")","v":""},null,null,null,null,{"$f":"IFERROR(VLOOKUP(E2497,Nota_Fiscal!$G$4:$L$1000,6,0),\"\")","v":""}]
[null,null,{"$f":"IFERROR(VLOOKUP(A2498,Insumos!A:B,2,FALSE),\"\")","v":""},null,null,null,null,{"$f":"IFERROR(VLOOKUP(E2498,Nota_Fiscal!$G$4:$L$1000,6,0),\"\")","v":""}]
[null,null,{"$f":"IFERROR(VLOOKUP(A2499,Insumos!A:B,2,FALSE),\"\")","v":""},null,null,null,null,{"$f":"IFERROR(VLOOKUP(E2499,Nota_Fiscal!$G$4:$L$1000,6,0),\"\")","v":""}]
[null,null,{"$f":"IFERROR(VLOOKUP(A2500,Insumos!A:B,2,FALSE),\"\")","v":""},null,null,null,null,{"$f":"IFERROR(VLOOKUP(E2500,Nota_Fiscal!$G$4:$L$1000,6,0),\"\")","v":""}]
[null,null,{"$f":"IFERROR(VLOOKUP(A2501,Insumos!A:B,2,FALSE),\"\")","v":""},null,null,null,null,{"$f":"IFERROR(VLOOKUP(E2501,Nota_Fiscal!$G$4:$L$1000,6,0),\"\")","v":""}]
[null,null,{"$f":"IFERROR(VLOOKUP(A2502,Insumos!A:B,2,FALSE),\"\")","v":""},null,null,null,null,{"$f":"IFERROR(VLOOKUP(E2502,Nota_Fiscal!$G$4:$L$1000,6,0),\"\")","v":""}]
[null,null,{"$f":"IFERROR(VLOOKUP(A2503,Insumos!A:B,2,FALSE),\"\")","v":""},null,null,null,null,{"$f":"IFERROR(VLOOKUP(E2503,Nota_Fiscal!$G$4:$L$1000,6,0),\"\")","v":""}]
[null,null,{"$f":"IFERROR(VLOOKUP(A2504,Insumos!A:B,2,FALSE),\"\")","v":""},null,null,null,null,{"$f":"IFERROR(VLOOKUP(E2504,Nota_Fiscal!$G$4:$L$1000,6,0),\"\")","v":""}]
[null,null,{"$f":"IFERROR(VLOOKUP(A2505,Insumos!A:B,2,FALSE),\"\")","v":""},null,null,null,null,{"$f":"IFERROR(VLOOKUP(E2505,Nota_Fiscal!$G$4:$L$1000,6,0),\"\")","v":""}]
[null,null,{"$f":"IFERROR(VLOOKUP(A2506,Insumos!A:B,2,FALSE),\"\")","v":""},null,null,null,null,{"$f":"IFERROR(VLOOKUP(E2506,Nota_Fiscal!$G$4:$L$1000,6,0),\"\")","v":""}]
[null,null,{"$f":"IFERROR(VLOOKUP(A2507,Insumos!A:B,2,FALSE),\"\")","v":""},null,null,null,null,{"$f":"IFERROR(VLOOKUP(E2507,Nota_Fiscal!$G$4:$L$1000,6,0),\"\")","v":""}]
[null,null,{"$f":"IFERROR(VLOOKUP(A2508,Insumos!A:B,2,FALSE),\"\")","v":""},null,null,null,null,{"$f":"IFERROR(VLOOKUP(E2508,Nota_Fiscal!$G$4:$L$1000,6,0),\"\")","v":""}]
[null,null,{"$f":"IFERROR(VLOOKUP(A2509,Insumos!A:B,2,FALSE),\"\")","v":""},null,null,null,null,{"$f":"IFERROR(VLOOKUP(E2509,Nota_Fiscal!$G$4:$L$1000,6,0),\"\")","v":""}]
[null,null,{"$f":"IFERROR(VLOOKUP(A2510,Insumos!A:B,2,FALSE),\"\")","v":""},null,null,null,null,{"$f":"IFERROR(VLOOKUP(E2510,Nota_Fiscal!$G$4:$L$1000,6,0),\"\")","v":""}]
[null,null,{"$f":"IFERROR(VLOOKUP(A2511,Insumos!A:B,2,FALSE),\"\")","v":""},null,null,null,null,{"$f":"IFERROR(VLOOKUP(E2511,Nota_Fiscal!$G$4:$L$1000,6,0),\"\")","v":""}]
[null,null,{"$f":"IFERROR(VLOOKUP(A2512,Insumos!A:B,2,FALSE),\"\")","v":""},null,null,null,null,{"$f":"IFERROR(VLOOKUP(E2512,Nota_Fiscal!$G$4:$L$1000,6,0),\"\")","v":""}]
[null,null,{"$f":"IFERROR(VLOOKUP(A2513,Insumos!A:B,2,FALSE),\"\")","v":""},null,null,null,null,{"$f":"IFERROR(VLOOKUP(E2513,Nota_Fiscal!$G$4:$L$1000,6,0),\"\")","v":""}]
[null,null,{"$f":"IFERROR(VLOOKUP(A2514,Insumos!A:B,2,FALSE),\"\")","v":""},null,null,null,null,{"$f":"IFERROR(VLOOKUP(E2514,Nota_Fiscal!$G$4:$L$1000,6,0),\"\")","v":""}]
[null,null,{"$f":"IFERROR(VLOOKUP(A2515,Insumos!A:B,2,FALSE),\"\")","v":""},null,null,null,null,{"$f":"IFERROR(VLOOKUP(E2515,Nota_Fiscal!$G$4:$L$1000,6,0),\"\")","v":""}]
[null,null,{"$f":"IFERROR(VLOOKUP(A2516,Insumos!A:B,2,FALSE),\"\")","v":""},null,null,null,null,{"$f":"IFERROR(VLOOKUP(E2516,Nota_Fiscal!$G$4:$L$1000,6,0),\"\")","v":""}]
[null,null,{"$f":"IFERROR(VLOOKUP(A2517,Insumos!A:B,2,FALSE),\"\")","v":""},null,null,null,null,{"$f":"IFERROR(VLOOKUP(E2517,Nota_Fiscal!$G$4:$L$1000,6,0),\"\")","v":""}]
[null,null,{"$f":"IFERROR(VLOOKUP(A2518,Insumos!A:B,2,FALSE),\"\")","v":""},null,null,null,null,{"$f":"IFERROR(VLOOKUP(E2518,Nota_Fiscal!$G$4:$L$1000,6,0),\"\")","v":""}]
[null,null,{"$f":"IFERROR(VLOOKUP(A2519,Insumos!A:B,2,FALSE),\"\")","v":""},null,null,null,null,{"$f":"IFERROR(VLOOKUP(E2519,Nota_Fiscal!$G$4:$L$1000,6,0),\"\")","v":""}]
[null,null,{"$f":"IFERROR(VLOOKUP(A2520,Insumos!A:B,2,FALSE),\"\")","v":""},null,null,null,null,{"$f":"IFERROR(VLOOKUP(E2520,Nota_Fiscal!$G$4:$L$1000,6,0),\"\")","v":""}]
[null,null,{"$f":"IFERROR(VLOOKUP(A2521,Insumos!A:B,2,FALSE),\"\")","v":""},null,null,null,null,{"$f":"IFERROR(VLOOKUP(E2521,Nota_Fiscal!$G$4:$L$1000,6,0),\"\")","v":""}]
[null,null,{"$f":"IFERROR(VLOOKUP(A2522,Insumos!A:B,2,FALSE),\"\")","v":""},null,null,null,null,{"$f":"IFERROR(VLOOKUP(E2522,Nota_Fiscal!$G$4:$L$1000,6,0),\"\")","v":""}]
[null,null,{"$f":"IFERROR(VLOOKUP(A2523,Insumos!A:B,2,FALSE),\"\")","v":""},null,null,null,null,{"$f":"IFERROR(VLOOKUP(E2523,Nota_Fiscal!$G$4:$L$1000,6,0),\"\")","v":""}]
[null,null,{"$f":"IFERROR(VLOOKUP(A2524,Insumos!A:B,2,FALSE),\"\")","v":""},null,null,null,null,{"$f":"IFERROR(VLOOKUP(E2524,Nota_Fiscal!$G$4:$L$1000,6,0),\"\")","v":""}]
[null,null,{"$f":"IFERROR(VLOOKUP(A2525,Insumos!A:B,2,FALSE),\"\")","v":""},null,null,null,null,{"$f":"IFERROR(VLOOKUP(E2525,Nota_Fiscal!$G$4:$L$1000,6,0),\"\")","v":""}]
[null,null,{"$f":"IFERROR(VLOOKUP(A2526,Insumos!A:B,2,FALSE),\"\")","v":""},null,null,null,null,{"$f":"IFERROR(VLOOKUP(E2526,Nota_Fiscal!$G$4:$L$1000,6,0),\"\")","v":""}]
[null,null,{"$f":"IFERROR(VLOOKUP(A2527,Insumos!A:B,2,FALSE),\"\")","v":""},null,null,null,null,{"$f":"IFERROR(VLOOKUP(E2527,Nota_Fiscal!$G$4:$L$1000,6,0),\"\")","v":""}]
[null,null,{"$f":"IFERROR(VLOOKUP(A2528,Insumos!A:B,2,FALSE),\"\")","v":""},null,null,null,null,{"$f":"IFERROR(VLOOKUP(E2528,Nota_Fiscal!$G$4:$L$1000,6,0),\"\")","v":""}]
[null,null,{"$f":"IFERROR(VLOOKUP(A2529,Insumos!A:B,2,FALSE),\"\")","v":""},null,null,null,null,{"$f":"IFERROR(VLOOKUP(E2529,Nota_Fiscal!$G$4:$L$1000,6,0),\"\")","v":""}]
[null,null,{"$f":"IFERROR(VLOOKUP(A2530,Insumos!A:B,2,FALSE),\"\")","v":""},null,null,null,null,{"$f":"IFERROR(VLOOKUP(E2530,Nota_Fiscal!$G$4:$L$1000,6,0),\"\")","v":""}]
[null,null,{"$f":"IFERROR(VLOOKUP(A2531,Insumos!A:B,2,FALSE),\"\")","v":""},null,null,null,null,{"$f":"IFERROR(VLOOKUP(E2531,Nota_Fiscal!$G$4:$L$1000,6,0),\"\")","v":""}]
[null,null,{"$f":"IFERROR(VLOOKUP(A2532,Insumos!A:B,2,FALSE),\"\")","v":""},null,null,null,null,{"$f":"IFERROR(VLOOKUP(E2532,Nota_Fiscal!$G$4:$L$1000,6,0),\"\")","v":""}]
[null,null,{"$f":"IFERROR(VLOOKUP(A2533,Insumos!A:B,2,FALSE),\"\")","v":""},null,null,null,null,{"$f":"IFERROR(VLOOKUP(E2533,Nota_Fiscal!$G$4:$L$1000,6,0),\"\")","v":""}]
[null,null,{"$f":"IFERROR(VLOOKUP(A2534,Insumos!A:B,2,FALSE),\"\")","v":""},null,null,null,null,{"$f":"IFERROR(VLOOKUP(E2534,Nota_Fiscal!$G$4:$L$1000,6,0),\"\")","v":""}]
[null,null,{"$f":"IFERROR(VLOOKUP(A2535,Insumos!A:B,2,FALSE),\"\")","v":""},null,null,null,null,{"$f":"IFERROR(VLOOKUP(E2535,Nota_Fiscal!$G$4:$L$1000,6,0),\"\")","v":""}]
[null,null,{"$f":"IFERROR(VLOOKUP(A2536,Insumos!A:B,2,FALSE),\"\")","v":""},null,null,null,null,{"$f":"IFERROR(VLOOKUP(E2536,Nota_Fiscal!$G$4:$L$1000,6,0),\"\")","v":""}]
[null,null,{"$f":"IFERROR(VLOOKUP(A2537,Insumos!A:B,2,FALSE),\"\")","v":""},null,null,null,null,{"$f":"IFERROR(VLOOKUP(E2537,Nota_Fiscal!$G$4:$L$1000,6,0),\"\")","v":""}]
[null,null,{"$f":"IFERROR(VLOOKUP(A2538,Insumos!A:B,2,FALSE),\"\")","v":""},null,null,null,null,{"$f":"IFERROR(VLOOKUP(E2538,Nota_Fiscal!$G$4:$L$1000,6,0),\"\")","v":""}]
[null,null,{"$f":"IFERROR(VLOOKUP(A2539,Insumos!A:B,2,FALSE),\"\")","v":""},null,null,null,null,{"$f":"IFERROR(VLOOKUP(E2539,Nota_Fiscal!$G$4:$L$1000,6,0),\"\")","v":""}]
[null,null,{"$f":"IFERROR(VLOOKUP(A2540,Insumos!A:B,2,FALSE),\"\")","v":""},null,null,null,null,{"$f":"IFERROR(VLOOKUP(E2540,Nota_Fiscal!$G$4:$L$1000,6,0),\"\")","v":""}]
[null,null,{"$f":"IFERROR(VLOOKUP(A2541,Insumos!A:B,2,FALSE),\"\")","v":""},null,null,null,null,{"$f":"IFERROR(VLOOKUP(E2541,Nota_Fiscal!$G$4:$L$1000,6,0),\"\")","v":""}]
[null,null,{"$f":"IFERROR(VLOOKUP(A2542,Insumos!A:B,2,FALSE),\"\")","v":""},null,null,null,null,{"$f":"IFERROR(VLOOKUP(E2542,Nota_Fiscal!$G$4:$L$1000,6,0),\"\")","v":""}]
[null,null,{"$f":"IFERROR(VLOOKUP(A2543,Insumos!A:B,2,FALSE),\"\")","v":""},null,null,null,null,{"$f":"IFERROR(VLOOKUP(E2543,Nota_Fiscal!$G$4:$L$1000,6,0),\"\")","v":""}]
[null,null,{"$f":"IFERROR(VLOOKUP(A2544,Insumos!A:B,2,FALSE),\"\")","v":""},null,null,null,null,{"$f":"IFERROR(VLOOKUP(E2544,Nota_Fiscal!$G$4:$L$1000,6,0),\"\")","v":""}]
[null,null,{"$f":"IFERROR(VLOOKUP(A2545,Insumos!A:B,2,FALSE),\"\")","v":""},null,null,null,null,{"$f":"IFERROR(VLOOKUP(E2545,Nota_Fiscal!$G$4:$L$1000,6,0),\"\")","v":""}]
[null,null,{"$f":"IFERROR(VLOOKUP(A2546,Insumos!A:B,2,FALSE),\"\")","v":""},null,null,null,null,{"$f":"IFERROR(VLOOKUP(E2546,Nota_Fiscal!$G$4:$L$1000,6,0),\"\")","v":""}]
[null,null,{"$f":"IFERROR(VLOOKUP(A2547,Insumos!A:B,2,FALSE),\"\")","v":""},null,null,null,null,{"$f":"IFERROR(VLOOKUP(E2547,Nota_Fiscal!$G$4:$L$1000,6,0),\"\")","v":""}]
[null,null,{"$f":"IFERROR(VLOOKUP(A2548,Insumos!A:B,2,FALSE),\"\")","v":""},null,null,null,null,{"$f":"IFERROR(VLOOKUP(E2548,Nota_Fiscal!$G$4:$L$1000,6,0),\"\")","v":""}]
[null,null,{"$f":"IFERROR(VLOOKUP(A2549,Insumos!A:B,2,FALSE),\"\")","v":""},null,null,null,null,{"$f":"IFERROR(VLOOKUP(E2549,Nota_Fiscal!$G$4:$L$1000,6,0),\"\")","v":""}]
[null,null,{"$f":"IFERROR(VLOOKUP(A2550,Insumos!A:B,2,FALSE),\"\")","v":""},null,null,null,null,{"$f":"IFERROR(VLOOKUP(E2550,Nota_Fiscal!$G$4:$L$1000,6,0),\"\")","v":""}]
[null,null,{"$f":"IFERROR(VLOOKUP(A2551,Insumos!A:B,2,FALSE),\"\")","v":""},null,null,null,null,{"$f":"IFERROR(VLOOKUP(E2551,Nota_Fiscal!$G$4:$L$1000,6,0),\"\")","v":""}]
[null,null,{"$f":"IFERROR(VLOOKUP(A2552,Insumos!A:B,2,FALSE),\"\")","v":""},null,null,null,null,{"$f":"IFERROR(VLOOKUP(E2552,Nota_Fiscal!$G$4:$L$1000,6,0),\"\")","v":""}]
[null,null,{"$f":"IFERROR(VLOOKUP(A2553,Insumos!A:B,2,FALSE),\"\")","v":""},null,null,null,null,{"$f":"IFERROR(VLOOKUP(E2553,Nota_Fiscal!$G$4:$L$1000,6,0),\"\")","v":""}]
[null,null,{"$f":"IFERROR(VLOOKUP(A2554,Insumos!A:B,2,FALSE),\"\")","v":""},null,null,null,null,{"$f":"IFERROR(VLOOKUP(E2554,Nota_Fiscal!$G$4:$L$1000,6,0),\"\")","v":""}]
[null,null,{"$f":"IFERROR(VLOOKUP(A2555,Insumos!A:B,2,FALSE),\"\")","v":""},null,null,null,null,{"$f":"IFERROR(VLOOKUP(E2555,Nota_Fiscal!$G$4:$L$1000,6,0),\"\")","v":""}]
[null,null,{"$f":"IFERROR(VLOOKUP(A2556,Insumos!A:B,2,FALSE),\"\")","v":""},null,null,null,null,{"$f":"IFERROR(VLOOKUP(E2556,Nota_Fiscal!$G$4:$L$1000,6,0),\"\")","v":""}]
[null,null,{"$f":"IFERROR(VLOOKUP(A2557,Insumos!A:B,2,FALSE),\"\")","v":""},null,null,null,null,{"$f":"IFERROR(VLOOKUP(E2557,Nota_Fiscal!$G$4:$L$1000,6,0),\"\")","v":""}]
[null,null,{"$f":"IFERROR(VLOOKUP(A2558,Insumos!A:B,2,FALSE),\"\")","v":""},null,null,null,null,{"$f":"IFERROR(VLOOKUP(E2558,Nota_Fiscal!$G$4:$L$1000,6,0),\"\")","v":""}]
[null,null,{"$f":"IFERROR(VLOOKUP(A2559,Insumos!A:B,2,FALSE),\"\")","v":""},null,null,null,null,{"$f":"IFERROR(VLOOKUP(E2559,Nota_Fiscal!$G$4:$L$1000,6,0),\"\")","v":""}]
[null,null,{"$f":"IFERROR(VLOOKUP(A2560,Insumos!A:B,2,FALSE),\"\")","v":""},null,null,null,null,{"$f":"IFERROR(VLOOKUP(E2560,Nota_Fiscal!$G$4:$L$1000,6,0),\"\")","v":""}]
[null,null,{"$f":"IFERROR(VLOOKUP(A2561,Insumos!A:B,2,FALSE),\"\")","v":""},null,null,null,null,{"$f":"IFERROR(VLOOKUP(E2561,Nota_Fiscal!$G$4:$L$1000,6,0),\"\")","v":""}]
[null,null,{"$f":"IFERROR(VLOOKUP(A2562,Insumos!A:B,2,FALSE),\"\")","v":""},null,null,null,null,{"$f":"IFERROR(VLOOKUP(E2562,Nota_Fiscal!$G$4:$L$1000,6,0),\"\")","v":""}]
[null,null,{"$f":"IFERROR(VLOOKUP(A2563,Insumos!A:B,2,FALSE),\"\")","v":""},null,null,null,null,{"$f":"IFERROR(VLOOKUP(E2563,Nota_Fiscal!$G$4:$L$1000,6,0),\"\")","v":""}]
[null,null,{"$f":"IFERROR(VLOOKUP(A2564,Insumos!A:B,2,FALSE),\"\")","v":""},null,null,null,null,{"$f":"IFERROR(VLOOKUP(E2564,Nota_Fiscal!$G$4:$L$1000,6,0),\"\")","v":""}]
[null,null,{"$f":"IFERROR(VLOOKUP(A2565,Insumos!A:B,2,FALSE),\"\")","v":""},null,null,null,null,{"$f":"IFERROR(VLOOKUP(E2565,Nota_Fiscal!$G$4:$L$1000,6,0),\"\")","v":""}]
[null,null,{"$f":"IFERROR(VLOOKUP(A2566,Insumos!A:B,2,FALSE),\"\")","v":""},null,null,null,null,{"$f":"IFERROR(VLOOKUP(E2566,Nota_Fiscal!$G$4:$L$1000,6,0),\"\")","v":""}]
[null,null,{"$f":"IFERROR(VLOOKUP(A2567,Insumos!A:B,2,FALSE),\"\")","v":""},null,null,null,null,{"$f":"IFERROR(VLOOKUP(E2567,Nota_Fiscal!$G$4:$L$1000,6,0),\"\")","v":""}]
[null,null,{"$f":"IFERROR(VLOOKUP(A2568,Insumos!A:B,2,FALSE),\"\")","v":""},null,null,null,null,{"$f":"IFERROR(VLOOKUP(E2568,Nota_Fiscal!$G$4:$L$1000,6,0),\"\")","v":""}]
[null,null,{"$f":"IFERROR(VLOOKUP(A2569,Insumos!A:B,2,FALSE),\"\")","v":""},null,null,null,null,{"$f":"IFERROR(VLOOKUP(E2569,Nota_Fiscal!$G$4:$L$1000,6,0),\"\")","v":""}]
[null,null,{"$f":"IFERROR(VLOOKUP(A2570,Insumos!A:B,2,FALSE),\"\")","v":""},null,null,null,null,{"$f":"IFERROR(VLOOKUP(E2570,Nota_Fiscal!$G$4:$L$1000,6,0),\"\")","v":""}]
[null,null,{"$f":"IFERROR(VLOOKUP(A2571,Insumos!A:B,2,FALSE),\"\")","v":""},null,null,null,null,{"$f":"IFERROR(VLOOKUP(E2571,Nota_Fiscal!$G$4:$L$1000,6,0),\"\")","v":""}]
[null,null,{"$f":"IFERROR(VLOOKUP(A2572,Insumos!A:B,2,FALSE),\"\")","v":""},null,null,null,null,{"$f":"IFERROR(VLOOKUP(E2572,Nota_Fiscal!$G$4:$L$1000,6,0),\"\")","v":""}]
[null,null,{"$f":"IFERROR(VLOOKUP(A2573,Insumos!A:B,2,FALSE),\"\")","v":""},null,null,null,null,{"$f":"IFERROR(VLOOKUP(E2573,Nota_Fiscal!$G$4:$L$1000,6,0),\"\")","v":""}]
[null,null,{"$f":"IFERROR(VLOOKUP(A2574,Insumos!A:B,2,FALSE),\"\")","v":""},null,null,null,null,{"$f":"IFERROR(VLOOKUP(E2574,Nota_Fiscal!$G$4:$L$1000,6,0),\"\")","v":""}]
[null,null,{"$f":"IFERROR(VLOOKUP(A2575,Insumos!A:B,2,FALSE),\"\")","v":""},null,null,null,null,{"$f":"IFERROR(VLOOKUP(E2575,Nota_Fiscal!$G$4:$L$1000,6,0),\"\")","v":""}]
[null,null,{"$f":"IFERROR(VLOOKUP(A2576,Insumos!A:B,2,FALSE),\"\")","v":""},null,null,null,null,{"$f":"IFERROR(VLOOKUP(E2576,Nota_Fiscal!$G$4:$L$1000,6,0),\"\")","v":""}]
[null,null,{"$f":"IFERROR(VLOOKUP(A2577,Insumos!A:B,2,FALSE),\"\")","v":""},null,null,null,null,{"$f":"IFERROR(VLOOKUP(E2577,Nota_Fiscal!$G$4:$L$1000,6,0),\"\")","v":""}]
[null,null,{"$f":"IFERROR(VLOOKUP(A2578,Insumos!A:B,2,FALSE),\"\")","v":""},null,null,null,null,{"$f":"IFERROR(VLOOKUP(E2578,Nota_Fiscal!$G$4:$L$1000,6,0),\"\")","v":""}]
[null,null,{"$f":"IFERROR(VLOOKUP(A2579,Insumos!A:B,2,FALSE),\"\")","v":""},null,null,null,null,{"$f":"IFERROR(VLOOKUP(E2579,Nota_Fiscal!$G$4:$L$1000,6,0),\"\")","v":""}]
[null,null,{"$f":"IFERROR(VLOOKUP(A2580,Insumos!A:B,2,FALSE),\"\")","v":""},null,null,null,null,{"$f":"IFERROR(VLOOKUP(E2580,Nota_Fiscal!$G$4:$L$1000,6,0),\"\")","v":""}]
[null,null,{"$f":"IFERROR(VLOOKUP(A2581,Insumos!A:B,2,FALSE),\"\")","v":""},null,null,null,null,{"$f":"IFERROR(VLOOKUP(E2581,Nota_Fiscal!$G$4:$L$1000,6,0),\"\")","v":""}]
[null,null,{"$f":"IFERROR(VLOOKUP(A2582,Insumos!A:B,2,FALSE),\"\")","v":""},null,null,null,null,{"$f":"IFERROR(VLOOKUP(E2582,Nota_Fiscal!$G$4:$L$1000,6,0),\"\")","v":""}]
[null,null,{"$f":"IFERROR(VLOOKUP(A2583,Insumos!A:B,2,FALSE),\"\")","v":""},null,null,null,null,{"$f":"IFERROR(VLOOKUP(E2583,Nota_Fiscal!$G$4:$L$1000,6,0),\"\")","v":""}]
[null,null,{"$f":"IFERROR(VLOOKUP(A2584,Insumos!A:B,2,FALSE),\"\")","v":""},null,null,null,null,{"$f":"IFERROR(VLOOKUP(E2584,Nota_Fiscal!$G$4:$L$1000,6,0),\"\")","v":""}]
[null,null,{"$f":"IFERROR(VLOOKUP(A2585,Insumos!A:B,2,FALSE),\"\")","v":""},null,null,null,null,{"$f":"IFERROR(VLOOKUP(E2585,Nota_Fiscal!$G$4:$L$1000,6,0),\"\")","v":""}]
[null,null,{"$f":"IFERROR(VLOOKUP(A2586,Insumos!A:B,2,FALSE),\"\")","v":""},null,null,null,null,{"$f":"IFERROR(VLOOKUP(E2586,Nota_Fiscal!$G$4:$L$1000,6,0),\"\")","v":""}]
[null,null,{"$f":"IFERROR(VLOOKUP(A2587,Insumos!A:B,2,FALSE),\"\")","v":""},null,null,null,null,{"$f":"IFERROR(VLOOKUP(E2587,Nota_Fiscal!$G$4:$L$1000,6,0),\"\")","v":""}]
[null,null,{"$f":"IFERROR(VLOOKUP(A2588,Insumos!A:B,2,FALSE),\"\")","v":""},null,null,null,null,{"$f":"IFERROR(VLOOKUP(E2588,Nota_Fiscal!$G$4:$L$1000,6,0),\"\")","v":""}]
[null,null,{"$f":"IFERROR(VLOOKUP(A2589,Insumos!A:B,2,FALSE),\"\")","v":""},null,null,null,null,{"$f":"IFERROR(VLOOKUP(E2589,Nota_Fiscal!$G$4:$L$1000,6,0),\"\")","v":""}]
[null,null,{"$f":"IFERROR(VLOOKUP(A2590,Insumos!A:B,2,FALSE),\"\")","v":""},null,null,null,null,{"$f":"IFERROR(VLOOKUP(E2590,Nota_Fiscal!$G$4:$L$1000,6,0),\"\")","v":""}]
[null,null,{"$f":"IFERROR(VLOOKUP(A2591,Insumos!A:B,2,FALSE),\"\")","v":""},null,null,null,null,{"$f":"IFERROR(VLOOKUP(E2591,Nota_Fiscal!$G$4:$L$1000,6,0),\"\")","v":""}]
[null,null,{"$f":"IFERROR(VLOOKUP(A2592,Insumos!A:B,2,FALSE),\"\")","v":""},null,null,null,null,{"$f":"IFERROR(VLOOKUP(E2592,Nota_Fiscal!$G$4:$L$1000,6,0),\"\")","v":""}]
[null,null,{"$f":"IFERROR(VLOOKUP(A2593,Insumos!A:B,2,FALSE),\"\")","v":""},null,null,null,null,{"$f":"IFERROR(VLOOKUP(E2593,Nota_Fiscal!$G$4:$L$1000,6,0),\"\")","v":""}]
[null,null,{"$f":"IFERROR(VLOOKUP(A2594,Insumos!A:B,2,FALSE),\"\")","v":""},null,null,null,null,{"$f":"IFERROR(VLOOKUP(E2594,Nota_Fiscal!$G$4:$L$1000,6,0),\"\")","v":""}]
[null,null,{"$f":"IFERROR(VLOOKUP(A2595,Insumos!A:B,2,FALSE),\"\")","v":""},null,null,null,null,{"$f":"IFERROR(VLOOKUP(E2595,Nota_Fiscal!$G$4:$L$1000,6,0),\"\")","v":""}]
[null,null,{"$f":"IFERROR(VLOOKUP(A2596,Insumos!A:B,2,FALSE),\"\")","v":""},null,null,null,null,{"$f":"IFERROR(VLOOKUP(E2596,Nota_Fiscal!$G$4:$L$1000,6,0),\"\")","v":""}]
[null,null,{"$f":"IFERROR(VLOOKUP(A2597,Insumos!A:B,2,FALSE),\"\")","v":""},null,null,null,null,{"$f":"IFERROR(VLOOKUP(E2597,Nota_Fiscal!$G$4:$L$1000,6,0),\"\")","v":""}]
[null,null,{"$f":"IFERROR(VLOOKUP(A2598,Insumos!A:B,2,FALSE),\"\")","v":""},null,null,null,null,{"$f":"IFERROR(VLOOKUP(E2598,Nota_Fiscal!$G$4:$L$1000,6,0),\"\")","v":""}]
[null,null,{"$f":"IFERROR(VLOOKUP(A2599,Insumos!A:B,2,FALSE),\"\")","v":""},null,null,null,null,{"$f":"IFERROR(VLOOKUP(E2599,Nota_Fiscal!$G$4:$L$1000,6,0),\"\")","v":""}]
[null,null,{"$f":"IFERROR(VLOOKUP(A2600,Insumos!A:B,2,FALSE),\"\")","v":""},null,null,null,null,{"$f":"IFERROR(VLOOKUP(E2600,Nota_Fiscal!$G$4:$L$1000,6,0),\"\")","v":""}]
[null,null,{"$f":"IFERROR(VLOOKUP(A2601,Insumos!A:B,2,FALSE),\"\")","v":""},null,null,null,null,{"$f":"IFERROR(VLOOKUP(E2601,Nota_Fiscal!$G$4:$L$1000,6,0),\"\")","v":""}]
[null,null,{"$f":"IFERROR(VLOOKUP(A2602,Insumos!A:B,2,FALSE),\"\")","v":""},null,null,null,null,{"$f":"IFERROR(VLOOKUP(E2602,Nota_Fiscal!$G$4:$L$1000,6,0),\"\")","v":""}]
[null,null,{"$f":"IFERROR(VLOOKUP(A2603,Insumos!A:B,2,FALSE),\"\")","v":""},null,null,null,null,{"$f":"IFERROR(VLOOKUP(E2603,Nota_Fiscal!$G$4:$L$1000,6,0),\"\")","v":""}]
[null,null,{"$f":"IFERROR(VLOOKUP(A2604,Insumos!A:B,2,FALSE),\"\")","v":""},null,null,null,null,{"$f":"IFERROR(VLOOKUP(E2604,Nota_Fiscal!$G$4:$L$1000,6,0),\"\")","v":""}]
[null,null,{"$f":"IFERROR(VLOOKUP(A2605,Insumos!A:B,2,FALSE),\"\")","v":""},null,null,null,null,{"$f":"IFERROR(VLOOKUP(E2605,Nota_Fiscal!$G$4:$L$1000,6,0),\"\")","v":""}]
[null,null,{"$f":"IFERROR(VLOOKUP(A2606,Insumos!A:B,2,FALSE),\"\")","v":""},null,null,null,null,{"$f":"IFERROR(VLOOKUP(E2606,Nota_Fiscal!$G$4:$L$1000,6,0),\"\")","v":""}]
[null,null,{"$f":"IFERROR(VLOOKUP(A2607,Insumos!A:B,2,FALSE),\"\")","v":""},null,null,null,null,{"$f":"IFERROR(VLOOKUP(E2607,Nota_Fiscal!$G$4:$L$1000,6,0),\"\")","v":""}]
[null,null,{"$f":"IFERROR(VLOOKUP(A2608,Insumos!A:B,2,FALSE),\"\")","v":""},null,null,null,null,{"$f":"IFERROR(VLOOKUP(E2608,Nota_Fiscal!$G$4:$L$1000,6,0),\"\")","v":""}]
[null,null,{"$f":"IFERROR(VLOOKUP(A2609,Insumos!A:B,2,FALSE),\"\")","v":""},null,null,null,null,{"$f":"IFERROR(VLOOKUP(E2609,Nota_Fiscal!$G$4:$L$1000,6,0),\"\")","v":""}]
[null,null,{"$f":"IFERROR(VLOOKUP(A2610,Insumos!A:B,2,FALSE),\"\")","v":""},null,null,null,null,{"$f":"IFERROR(VLOOKUP(E2610,Nota_Fiscal!$G$4:$L$1000,6,0),\"\")","v":""}]
[null,null,{"$f":"IFERROR(VLOOKUP(A2611,Insumos!A:B,2,FALSE),\"\")","v":""},null,null,null,null,{"$f":"IFERROR(VLOOKUP(E2611,Nota_Fiscal!$G$4:$L$1000,6,0),\"\")","v":""}]
[null,null,{"$f":"IFERROR(VLOOKUP(A2612,Insumos!A:B,2,FALSE),\"\")","v":""},null,null,null,null,{"$f":"IFERROR(VLOOKUP(E2612,Nota_Fiscal!$G$4:$L$1000,6,0),\"\")","v":""}]
[null,null,{"$f":"IFERROR(VLOOKUP(A2613,Insumos!A:B,2,FALSE),\"\")","v":""},null,null,null,null,{"$f":"IFERROR(VLOOKUP(E2613,Nota_Fiscal!$G$4:$L$1000,6,0),\"\")","v":""}]
[null,null,{"$f":"IFERROR(VLOOKUP(A2614,Insumos!A:B,2,FALSE),\"\")","v":""},null,null,null,null,{"$f":"IFERROR(VLOOKUP(E2614,Nota_Fiscal!$G$4:$L$1000,6,0),\"\")","v":""}]
[null,null,{"$f":"IFERROR(VLOOKUP(A2615,Insumos!A:B,2,FALSE),\"\")","v":""},null,null,null,null,{"$f":"IFERROR(VLOOKUP(E2615,Nota_Fiscal!$G$4:$L$1000,6,0),\"\")","v":""}]
[null,null,{"$f":"IFERROR(VLOOKUP(A2616,Insumos!A:B,2,FALSE),\"\")","v":""},null,null,null,null,{"$f":"IFERROR(VLOOKUP(E2616,Nota_Fiscal!$G$4:$L$1000,6,0),\"\")","v":""}]
[null,null,{"$f":"IFERROR(VLOOKUP(A2617,Insumos!A:B,2,FALSE),\"\")","v":""},null,null,null,null,{"$f":"IFERROR(VLOOKUP(E2617,Nota_Fiscal!$G$4:$L$1000,6,0),\"\")","v":""}]
[null,null,{"$f":"IFERROR(VLOOKUP(A2618,Insumos!A:B,2,FALSE),\"\")","v":""},null,null,null,null,{"$f":"IFERROR(VLOOKUP(E2618,Nota_Fiscal!$G$4:$L$1000,6,0),\"\")","v":""}]
[null,null,{"$f":"IFERROR(VLOOKUP(A2619,Insumos!A:B,2,FALSE),\"\")","v":""},null,null,null,null,{"$f":"IFERROR(VLOOKUP(E2619,Nota_Fiscal!$G$4:$L$1000,6,0),\"\")","v":""}]
[null,null,{"$f":"IFERROR(VLOOKUP(A2620,Insumos!A:B,2,FALSE),\"\")","v":""},null,null,null,null,{"$f":"IFERROR(VLOOKUP(E2620,Nota_Fiscal!$G$4:$L$1000,6,0),\"\")","v":""}]
[null,null,{"$f":"IFERROR(VLOOKUP(A2621,Insumos!A:B,2,FALSE),\"\")","v":""},null,null,null,null,{"$f":"IFERROR(VLOOKUP(E2621,Nota_Fiscal!$G$4:$L$1000,6,0),\"\")","v":""}]
[null,null,{"$f":"IFERROR(VLOOKUP(A2622,Insumos!A:B,2,FALSE),\"\")","v":""},null,null,null,null,{"$f":"IFERROR(VLOOKUP(E2622,Nota_Fiscal!$G$4:$L$1000,6,0),\"\")","v":""}]
[null,null,{"$f":"IFERROR(VLOOKUP(A2623,Insumos!A:B,2,FALSE),\"\")","v":""},null,null,null,null,{"$f":"IFERROR(VLOOKUP(E2623,Nota_Fiscal!$G$4:$L$1000,6,0),\"\")","v":""}]
[null,null,{"$f":"IFERROR(VLOOKUP(A2624,Insumos!A:B,2,FALSE),\"\")","v":""},null,null,null,null,{"$f":"IFERROR(VLOOKUP(E2624,Nota_Fiscal!$G$4:$L$1000,6,0),\"\")","v":""}]
[null,null,{"$f":"IFERROR(VLOOKUP(A2625,Insumos!A:B,2,FALSE),\"\")","v":""},null,null,null,null,{"$f":"IFERROR(VLOOKUP(E2625,Nota_Fiscal!$G$4:$L$1000,6,0),\"\")","v":""}]
[null,null,{"$f":"IFERROR(VLOOKUP(A2626,Insumos!A:B,2,FALSE),\"\")","v":""},null,null,null,null,{"$f":"IFERROR(VLOOKUP(E2626,Nota_Fiscal!$G$4:$L$1000,6,0),\"\")","v":""}]
[null,null,{"$f":"IFERROR(VLOOKUP(A2627,Insumos!A:B,2,FALSE),\"\")","v":""},null,null,null,null,{"$f":"IFERROR(VLOOKUP(E2627,Nota_Fiscal!$G$4:$L$1000,6,0),\"\")","v":""}]
[null,null,{"$f":"IFERROR(VLOOKUP(A2628,Insumos!A:B,2,FALSE),\"\")","v":""},null,null,null,null,{"$f":"IFERROR(VLOOKUP(E2628,Nota_Fiscal!$G$4:$L$1000,6,0),\"\")","v":""}]
[null,null,{"$f":"IFERROR(VLOOKUP(A2629,Insumos!A:B,2,FALSE),\"\")","v":""},null,null,null,null,{"$f":"IFERROR(VLOOKUP(E2629,Nota_Fiscal!$G$4:$L$1000,6,0),\"\")","v":""}]
[null,null,{"$f":"IFERROR(VLOOKUP(A2630,Insumos!A:B,2,FALSE),\"\")","v":""},null,null,null,null,{"$f":"IFERROR(VLOOKUP(E2630,Nota_Fiscal!$G$4:$L$1000,6,0),\"\")","v":""}]
[null,null,{"$f":"IFERROR(VLOOKUP(A2631,Insumos!A:B,2,FALSE),\"\")","v":""},null,null,null,null,{"$f":"IFERROR(VLOOKUP(E2631,Nota_Fiscal!$G$4:$L$1000,6,0),\"\")","v":""}]
[null,null,{"$f":"IFERROR(VLOOKUP(A2632,Insumos!A:B,2,FALSE),\"\")","v":""},null,null,null,null,{"$f":"IFERROR(VLOOKUP(E2632,Nota_Fiscal!$G$4:$L$1000,6,0),\"\")","v":""}]
[null,null,{"$f":"IFERROR(VLOOKUP(A2633,Insumos!A:B,2,FALSE),\"\")","v":""},null,null,null,null,{"$f":"IFERROR(VLOOKUP(E2633,Nota_Fiscal!$G$4:$L$1000,6,0),\"\")","v":""}]
[null,null,{"$f":"IFERROR(VLOOKUP(A2634,Insumos!A:B,2,FALSE),\"\")","v":""},null,null,null,null,{"$f":"IFERROR(VLOOKUP(E2634,Nota_Fiscal!$G$4:$L$1000,6,0),\"\")","v":""}]
[null,null,{"$f":"IFERROR(VLOOKUP(A2635,Insumos!A:B,2,FALSE),\"\")","v":""},null,null,null,null,{"$f":"IFERROR(VLOOKUP(E2635,Nota_Fiscal!$G$4:$L$1000,6,0),\"\")","v":""}]
[null,null,{"$f":"IFERROR(VLOOKUP(A2636,Insumos!A:B,2,FALSE),\"\")","v":""},null,null,null,null,{"$f":"IFERROR(VLOOKUP(E2636,Nota_Fiscal!$G$4:$L$1000,6,0),\"\")","v":""}]
[null,null,{"$f":"IFERROR(VLOOKUP(A2637,Insumos!A:B,2,FALSE),\"\")","v":""},null,null,null,null,{"$f":"IFERROR(VLOOKUP(E2637,Nota_Fiscal!$G$4:$L$1000,6,0),\"\")","v":""}]
[null,null,{"$f":"IFERROR(VLOOKUP(A2638,Insumos!A:B,2,FALSE),\"\")","v":""},null,null,null,null,{"$f":"IFERROR(VLOOKUP(E2638,Nota_Fiscal!$G$4:$L$1000,6,0),\"\")","v":""}]
[null,null,{"$f":"IFERROR(VLOOKUP(A2639,Insumos!A:B,2,FALSE),\"\")","v":""},null,null,null,null,{"$f":"IFERROR(VLOOKUP(E2639,Nota_Fiscal!$G$4:$L$1000,6,0),\"\")","v":""}]
[null,null,{"$f":"IFERROR(VLOOKUP(A2640,Insumos!A:B,2,FALSE),\"\")","v":""},null,null,null,null,{"$f":"IFERROR(VLOOKUP(E2640,Nota_Fiscal!$G$4:$L$1000,6,0),\"\")","v":""}]
[null,null,{"$f":"IFERROR(VLOOKUP(A2641,Insumos!A:B,2,FALSE),\"\")","v":""},null,null,null,null,{"$f":"IFERROR(VLOOKUP(E2641,Nota_Fiscal!$G$4:$L$1000,6,0),\"\")","v":""}]
[null,null,{"$f":"IFERROR(VLOOKUP(A2642,Insumos!A:B,2,FALSE),\"\")","v":""},null,null,null,null,{"$f":"IFERROR(VLOOKUP(E2642,Nota_Fiscal!$G$4:$L$1000,6,0),\"\")","v":""}]
[null,null,{"$f":"IFERROR(VLOOKUP(A2643,Insumos!A:B,2,FALSE),\"\")","v":""},null,null,null,null,{"$f":"IFERROR(VLOOKUP(E2643,Nota_Fiscal!$G$4:$L$1000,6,0),\"\")","v":""}]
[null,null,{"$f":"IFERROR(VLOOKUP(A2644,Insumos!A:B,2,FALSE),\"\")","v":""},null,null,null,null,{"$f":"IFERROR(VLOOKUP(E2644,Nota_Fiscal!$G$4:$L$1000,6,0),\"\")","v":""}]
[null,null,{"$f":"IFERROR(VLOOKUP(A2645,Insumos!A:B,2,FALSE),\"\")","v":""},null,null,null,null,{"$f":"IFERROR(VLOOKUP(E2645,Nota_Fiscal!$G$4:$L$1000,6,0),\"\")","v":""}]
[null,null,{"$f":"IFERROR(VLOOKUP(A2646,Insumos!A:B,2,FALSE),\"\")","v":""},null,null,null,null,{"$f":"IFERROR(VLOOKUP(E2646,Nota_Fiscal!$G$4:$L$1000,6,0),\"\")","v":""}]
[null,null,{"$f":"IFERROR(VLOOKUP(A2647,Insumos!A:B,2,FALSE),\"\")","v":""},null,null,null,null,{"$f":"IFERROR(VLOOKUP(E2647,Nota_Fiscal!$G$4:$L$1000,6,0),\"\")","v":""}]
[null,null,{"$f":"IFERROR(VLOOKUP(A2648,Insumos!A:B,2,FALSE),\"\")","v":""},null,null,null,null,{"$f":"IFERROR(VLOOKUP(E2648,Nota_Fiscal!$G$4:$L$1000,6,0),\"\")","v":""}]
[null,null,{"$f":"IFERROR(VLOOKUP(A2649,Insumos!A:B,2,FALSE),\"\")","v":""},null,null,null,null,{"$f":"IFERROR(VLOOKUP(E2649,Nota_Fiscal!$G$4:$L$1000,6,0),\"\")","v":""}]
[null,null,{"$f":"IFERROR(VLOOKUP(A2650,Insumos!A:B,2,FALSE),\"\")","v":""},null,null,null,null,{"$f":"IFERROR(VLOOKUP(E2650,Nota_Fiscal!$G$4:$L$1000,6,0),\"\")","v":""}]
[null,null,{"$f":"IFERROR(VLOOKUP(A2651,Insumos!A:B,2,FALSE),\"\")","v":""},null,null,null,null,{"$f":"IFERROR(VLOOKUP(E2651,Nota_Fiscal!$G$4:$L$1000,6,0),\"\")","v":""}]
[null,null,{"$f":"IFERROR(VLOOKUP(A2652,Insumos!A:B,2,FALSE),\"\")","v":""},null,null,null,null,{"$f":"IFERROR(VLOOKUP(E2652,Nota_Fiscal!$G$4:$L$1000,6,0),\"\")","v":""}]
[null,null,{"$f":"IFERROR(VLOOKUP(A2653,Insumos!A:B,2,FALSE),\"\")","v":""},null,null,null,null,{"$f":"IFERROR(VLOOKUP(E2653,Nota_Fiscal!$G$4:$L$1000,6,0),\"\")","v":""}]
[null,null,{"$f":"IFERROR(VLOOKUP(A2654,Insumos!A:B,2,FALSE),\"\")","v":""},null,null,null,null,{"$f":"IFERROR(VLOOKUP(E2654,Nota_Fiscal!$G$4:$L$1000,6,0),\"\")","v":""}]
[null,null,{"$f":"IFERROR(VLOOKUP(A2655,Insumos!A:B,2,FALSE),\"\")","v":""},null,null,null,null,{"$f":"IFERROR(VLOOKUP(E2655,Nota_Fiscal!$G$4:$L$1000,6,0),\"\")","v":""}]
[null,null,{"$f":"IFERROR(VLOOKUP(A2656,Insumos!A:B,2,FALSE),\"\")","v":""},null,null,null,null,{"$f":"IFERROR(VLOOKUP(E2656,Nota_Fiscal!$G$4:$L$1000,6,0),\"\")","v":""}]
[null,null,{"$f":"IFERROR(VLOOKUP(A2657,Insumos!A:B,2,FALSE),\"\")","v":""},null,null,null,null,{"$f":"IFERROR(VLOOKUP(E2657,Nota_Fiscal!$G$4:$L$1000,6,0),\"\")","v":""}]
[null,null,{"$f":"IFERROR(VLOOKUP(A2658,Insumos!A:B,2,FALSE),\"\")","v":""},null,null,null,null,{"$f":"IFERROR(VLOOKUP(E2658,Nota_Fiscal!$G$4:$L$1000,6,0),\"\")","v":""}]
[null,null,{"$f":"IFERROR(VLOOKUP(A2659,Insumos!A:B,2,FALSE),\"\")","v":""},null,null,null,null,{"$f":"IFERROR(VLOOKUP(E2659,Nota_Fiscal!$G$4:$L$1000,6,0),\"\")","v":""}]
[null,null,{"$f":"IFERROR(VLOOKUP(A2660,Insumos!A:B,2,FALSE),\"\")","v":""},null,null,null,null,{"$f":"IFERROR(VLOOKUP(E2660,Nota_Fiscal!$G$4:$L$1000,6,0),\"\")","v":""}]
[null,null,{"$f":"IFERROR(VLOOKUP(A2661,Insumos!A:B,2,FALSE),\"\")","v":""},null,null,null,null,{"$f":"IFERROR(VLOOKUP(E2661,Nota_Fiscal!$G$4:$L$1000,6,0),\"\")","v":""}]
[null,null,{"$f":"IFERROR(VLOOKUP(A2662,Insumos!A:B,2,FALSE),\"\")","v":""},null,null,null,null,{"$f":"IFERROR(VLOOKUP(E2662,Nota_Fiscal!$G$4:$L$1000,6,0),\"\")","v":""}]
[null,null,{"$f":"IFERROR(VLOOKUP(A2663,Insumos!A:B,2,FALSE),\"\")","v":""},null,null,null,null,{"$f":"IFERROR(VLOOKUP(E2663,Nota_Fiscal!$G$4:$L$1000,6,0),\"\")","v":""}]
[null,null,{"$f":"IFERROR(VLOOKUP(A2664,Insumos!A:B,2,FALSE),\"\")","v":""},null,null,null,null,{"$f":"IFERROR(VLOOKUP(E2664,Nota_Fiscal!$G$4:$L$1000,6,0),\"\")","v":""}]
[null,null,{"$f":"IFERROR(VLOOKUP(A2665,Insumos!A:B,2,FALSE),\"\")","v":""},null,null,null,null,{"$f":"IFERROR(VLOOKUP(E2665,Nota_Fiscal!$G$4:$L$1000,6,0),\"\")","v":""}]
[null,null,{"$f":"IFERROR(VLOOKUP(A2666,Insumos!A:B,2,FALSE),\"\")","v":""},null,null,null,null,{"$f":"IFERROR(VLOOKUP(E2666,Nota_Fiscal!$G$4:$L$1000,6,0),\"\")","v":""}]
[null,null,{"$f":"IFERROR(VLOOKUP(A2667,Insumos!A:B,2,FALSE),\"\")","v":""},null,null,null,null,{"$f":"IFERROR(VLOOKUP(E2667,Nota_Fiscal!$G$4:$L$1000,6,0),\"\")","v":""}]
[null,null,{"$f":"IFERROR(VLOOKUP(A2668,Insumos!A:B,2,FALSE),\"\")","v":""},null,null,null,null,{"$f":"IFERROR(VLOOKUP(E2668,Nota_Fiscal!$G$4:$L$1000,6,0),\"\")","v":""}]
[null,null,{"$f":"IFERROR(VLOOKUP(A2669,Insumos!A:B,2,FALSE),\"\")","v":""},null,null,null,null,{"$f":"IFERROR(VLOOKUP(E2669,Nota_Fiscal!$G$4:$L$1000,6,0),\"\")","v":""}]
[null,null,{"$f":"IFERROR(VLOOKUP(A2670,Insumos!A:B,2,FALSE),\"\")","v":""},null,null,null,null,{"$f":"IFERROR(VLOOKUP(E2670,Nota_Fiscal!$G$4:$L$1000,6,0),\"\")","v":""}]
[null,null,{"$f":"IFERROR(VLOOKUP(A2671,Insumos!A:B,2,FALSE),\"\")","v":""},null,null,null,null,{"$f":"IFERROR(VLOOKUP(E2671,Nota_Fiscal!$G$4:$L$1000,6,0),\"\")","v":""}]
[null,null,{"$f":"IFERROR(VLOOKUP(A2672,Insumos!A:B,2,FALSE),\"\")","v":""},null,null,null,null,{"$f":"IFERROR(VLOOKUP(E2672,Nota_Fiscal!$G$4:$L$1000,6,0),\"\")","v":""}]
[null,null,{"$f":"IFERROR(VLOOKUP(A2673,Insumos!A:B,2,FALSE),\"\")","v":""},null,null,null,null,{"$f":"IFERROR(VLOOKUP(E2673,Nota_Fiscal!$G$4:$L$1000,6,0),\"\")","v":""}]
[null,null,{"$f":"IFERROR(VLOOKUP(A2674,Insumos!A:B,2,FALSE),\"\")","v":""},null,null,null,null,{"$f":"IFERROR(VLOOKUP(E2674,Nota_Fiscal!$G$4:$L$1000,6,0),\"\")","v":""}]
[null,null,{"$f":"IFERROR(VLOOKUP(A2675,Insumos!A:B,2,FALSE),\"\")","v":""},null,null,null,null,{"$f":"IFERROR(VLOOKUP(E2675,Nota_Fiscal!$G$4:$L$1000,6,0),\"\")","v":""}]
[null,null,{"$f":"IFERROR(VLOOKUP(A2676,Insumos!A:B,2,FALSE),\"\")","v":""},null,null,null,null,{"$f":"IFERROR(VLOOKUP(E2676,Nota_Fiscal!$G$4:$L$1000,6,0),\"\")","v":""}]
[null,null,{"$f":"IFERROR(VLOOKUP(A2677,Insumos!A:B,2,FALSE),\"\")","v":""},null,null,null,null,{"$f":"IFERROR(VLOOKUP(E2677,Nota_Fiscal!$G$4:$L$1000,6,0),\"\")","v":""}]
[null,null,{"$f":"IFERROR(VLOOKUP(A2678,Insumos!A:B,2,FALSE),\"\")","v":""},null,null,null,null,{"$f":"IFERROR(VLOOKUP(E2678,Nota_Fiscal!$G$4:$L$1000,6,0),\"\")","v":""}]
[null,null,{"$f":"IFERROR(VLOOKUP(A2679,Insumos!A:B,2,FALSE),\"\")","v":""},null,null,null,null,{"$f":"IFERROR(VLOOKUP(E2679,Nota_Fiscal!$G$4:$L$1000,6,0),\"\")","v":""}]
[null,null,{"$f":"IFERROR(VLOOKUP(A2680,Insumos!A:B,2,FALSE),\"\")","v":""},null,null,null,null,{"$f":"IFERROR(VLOOKUP(E2680,Nota_Fiscal!$G$4:$L$1000,6,0),\"\")","v":""}]
[null,null,{"$f":"IFERROR(VLOOKUP(A2681,Insumos!A:B,2,FALSE),\"\")","v":""},null,null,null,null,{"$f":"IFERROR(VLOOKUP(E2681,Nota_Fiscal!$G$4:$L$1000,6,0),\"\")","v":""}]
[null,null,{"$f":"IFERROR(VLOOKUP(A2682,Insumos!A:B,2,FALSE),\"\")","v":""},null,null,null,null,{"$f":"IFERROR(VLOOKUP(E2682,Nota_Fiscal!$G$4:$L$1000,6,0),\"\")","v":""}]
[null,null,{"$f":"IFERROR(VLOOKUP(A2683,Insumos!A:B,2,FALSE),\"\")","v":""},null,null,null,null,{"$f":"IFERROR(VLOOKUP(E2683,Nota_Fiscal!$G$4:$L$1000,6,0),\"\")","v":""}]
[null,null,{"$f":"IFERROR(VLOOKUP(A2684,Insumos!A:B,2,FALSE),\"\")","v":""},null,null,null,null,{"$f":"IFERROR(VLOOKUP(E2684,Nota_Fiscal!$G$4:$L$1000,6,0),\"\")","v":""}]
[null,null,{"$f":"IFERROR(VLOOKUP(A2685,Insumos!A:B,2,FALSE),\"\")","v":""},null,null,null,null,{"$f":"IFERROR(VLOOKUP(E2685,Nota_Fiscal!$G$4:$L$1000,6,0),\"\")","v":""}]
[null,null,{"$f":"IFERROR(VLOOKUP(A2686,Insumos!A:B,2,FALSE),\"\")","v":""},null,null,null,null,{"$f":"IFERROR(VLOOKUP(E2686,Nota_Fiscal!$G$4:$L$1000,6,0),\"\")","v":""}]
[null,null,{"$f":"IFERROR(VLOOKUP(A2687,Insumos!A:B,2,FALSE),\"\")","v":""},null,null,null,null,{"$f":"IFERROR(VLOOKUP(E2687,Nota_Fiscal!$G$4:$L$1000,6,0),\"\")","v":""}]
[null,null,{"$f":"IFERROR(VLOOKUP(A2688,Insumos!A:B,2,FALSE),\"\")","v":""},null,null,null,null,{"$f":"IFERROR(VLOOKUP(E2688,Nota_Fiscal!$G$4:$L$1000,6,0),\"\")","v":""}]
[null,null,{"$f":"IFERROR(VLOOKUP(A2689,Insumos!A:B,2,FALSE),\"\")","v":""},null,null,null,null,{"$f":"IFERROR(VLOOKUP(E2689,Nota_Fiscal!$G$4:$L$1000,6,0),\"\")","v":""}]
[null,null,{"$f":"IFERROR(VLOOKUP(A2690,Insumos!A:B,2,FALSE),\"\")","v":""},null,null,null,null,{"$f":"IFERROR(VLOOKUP(E2690,Nota_Fiscal!$G$4:$L$1000,6,0),\"\")","v":""}]
[null,null,{"$f":"IFERROR(VLOOKUP(A2691,Insumos!A:B,2,FALSE),\"\")","v":""},null,null,null,null,{"$f":"IFERROR(VLOOKUP(E2691,Nota_Fiscal!$G$4:$L$1000,6,0),\"\")","v":""}]
[null,null,{"$f":"IFERROR(VLOOKUP(A2692,Insumos!A:B,2,FALSE),\"\")","v":""},null,null,null,null,{"$f":"IFERROR(VLOOKUP(E2692,Nota_Fiscal!$G$4:$L$1000,6,0),\"\")","v":""}]
[null,null,{"$f":"IFERROR(VLOOKUP(A2693,Insumos!A:B,2,FALSE),\"\")","v":""},null,null,null,null,{"$f":"IFERROR(VLOOKUP(E2693,Nota_Fiscal!$G$4:$L$1000,6,0),\"\")","v":""}]
[null,null,{"$f":"IFERROR(VLOOKUP(A2694,Insumos!A:B,2,FALSE),\"\")","v":""},null,null,null,null,{"$f":"IFERROR(VLOOKUP(E2694,Nota_Fiscal!$G$4:$L$1000,6,0),\"\")","v":""}]
[null,null,{"$f":"IFERROR(VLOOKUP(A2695,Insumos!A:B,2,FALSE),\"\")","v":""},null,null,null,null,{"$f":"IFERROR(VLOOKUP(E2695,Nota_Fiscal!$G$4:$L$1000,6,0),\"\")","v":""}]
[null,null,{"$f":"IFERROR(VLOOKUP(A2696,Insumos!A:B,2,FALSE),\"\")","v":""},null,null,null,null,{"$f":"IFERROR(VLOOKUP(E2696,Nota_Fiscal!$G$4:$L$1000,6,0),\"\")","v":""}]
[null,null,{"$f":"IFERROR(VLOOKUP(A2697,Insumos!A:B,2,FALSE),\"\")","v":""},null,null,null,null,{"$f":"IFERROR(VLOOKUP(E2697,Nota_Fiscal!$G$4:$L$1000,6,0),\"\")","v":""}]
[null,null,{"$f":"IFERROR(VLOOKUP(A2698,Insumos!A:B,2,FALSE),\"\")","v":""},null,null,null,null,{"$f":"IFERROR(VLOOKUP(E2698,Nota_Fiscal!$G$4:$L$1000,6,0),\"\")","v":""}]
[null,null,{"$f":"IFERROR(VLOOKUP(A2699,Insumos!A:B,2,FALSE),\"\")","v":""},null,null,null,null,{"$f":"IFERROR(VLOOKUP(E2699,Nota_Fiscal!$G$4:$L$1000,6,0),\"\")","v":""}]
[null,null,{"$f":"IFERROR(VLOOKUP(A2700,Insumos!A:B,2,FALSE),\"\")","v":""},null,null,null,null,{"$f":"IFERROR(VLOOKUP(E2700,Nota_Fiscal!$G$4:$L$1000,6,0),\"\")","v":""}]
[null,null,{"$f":"IFERROR(VLOOKUP(A2701,Insumos!A:B,2,FALSE),\"\")","v":""},null,null,null,null,{"$f":"IFERROR(VLOOKUP(E2701,Nota_Fiscal!$G$4:$L$1000,6,0),\"\")","v":""}]
[null,null,{"$f":"IFERROR(VLOOKUP(A2702,Insumos!A:B,2,FALSE),\"\")","v":""},null,null,null,null,{"$f":"IFERROR(VLOOKUP(E2702,Nota_Fiscal!$G$4:$L$1000,6,0),\"\")","v":""}]
[null,null,{"$f":"IFERROR(VLOOKUP(A2703,Insumos!A:B,2,FALSE),\"\")","v":""},null,null,null,null,{"$f":"IFERROR(VLOOKUP(E2703,Nota_Fiscal!$G$4:$L$1000,6,0),\"\")","v":""}]
[null,null,{"$f":"IFERROR(VLOOKUP(A2704,Insumos!A:B,2,FALSE),\"\")","v":""},null,null,null,null,{"$f":"IFERROR(VLOOKUP(E2704,Nota_Fiscal!$G$4:$L$1000,6,0),\"\")","v":""}]
[null,null,{"$f":"IFERROR(VLOOKUP(A2705,Insumos!A:B,2,FALSE),\"\")","v":""},null,null,null,null,{"$f":"IFERROR(VLOOKUP(E2705,Nota_Fiscal!$G$4:$L$1000,6,0),\"\")","v":""}]
[null,null,{"$f":"IFERROR(VLOOKUP(A2706,Insumos!A:B,2,FALSE),\"\")","v":""},null,null,null,null,{"$f":"IFERROR(VLOOKUP(E2706,Nota_Fiscal!$G$4:$L$1000,6,0),\"\")","v":""}]
[null,null,{"$f":"IFERROR(VLOOKUP(A2707,Insumos!A:B,2,FALSE),\"\")","v":""},null,null,null,null,{"$f":"IFERROR(VLOOKUP(E2707,Nota_Fiscal!$G$4:$L$1000,6,0),\"\")","v":""}]
[null,null,{"$f":"IFERROR(VLOOKUP(A2708,Insumos!A:B,2,FALSE),\"\")","v":""},null,null,null,null,{"$f":"IFERROR(VLOOKUP(E2708,Nota_Fiscal!$G$4:$L$1000,6,0),\"\")","v":""}]
[null,null,{"$f":"IFERROR(VLOOKUP(A2709,Insumos!A:B,2,FALSE),\"\")","v":""},null,null,null,null,{"$f":"IFERROR(VLOOKUP(E2709,Nota_Fiscal!$G$4:$L$1000,6,0),\"\")","v":""}]
[null,null,{"$f":"IFERROR(VLOOKUP(A2710,Insumos!A:B,2,FALSE),\"\")","v":""},null,null,null,null,{"$f":"IFERROR(VLOOKUP(E2710,Nota_Fiscal!$G$4:$L$1000,6,0),\"\")","v":""}]
[null,null,{"$f":"IFERROR(VLOOKUP(A2711,Insumos!A:B,2,FALSE),\"\")","v":""},null,null,null,null,{"$f":"IFERROR(VLOOKUP(E2711,Nota_Fiscal!$G$4:$L$1000,6,0),\"\")","v":""}]
[null,null,{"$f":"IFERROR(VLOOKUP(A2712,Insumos!A:B,2,FALSE),\"\")","v":""},null,null,null,null,{"$f":"IFERROR(VLOOKUP(E2712,Nota_Fiscal!$G$4:$L$1000,6,0),\"\")","v":""}]
[null,null,{"$f":"IFERROR(VLOOKUP(A2713,Insumos!A:B,2,FALSE),\"\")","v":""},null,null,null,null,{"$f":"IFERROR(VLOOKUP(E2713,Nota_Fiscal!$G$4:$L$1000,6,0),\"\")","v":""}]
[null,null,{"$f":"IFERROR(VLOOKUP(A2714,Insumos!A:B,2,FALSE),\"\")","v":""},null,null,null,null,{"$f":"IFERROR(VLOOKUP(E2714,Nota_Fiscal!$G$4:$L$1000,6,0),\"\")","v":""}]
[null,null,{"$f":"IFERROR(VLOOKUP(A2715,Insumos!A:B,2,FALSE),\"\")","v":""},null,null,null,null,{"$f":"IFERROR(VLOOKUP(E2715,Nota_Fiscal!$G$4:$L$1000,6,0),\"\")","v":""}]
[null,null,{"$f":"IFERROR(VLOOKUP(A2716,Insumos!A:B,2,FALSE),\"\")","v":""},null,null,null,null,{"$f":"IFERROR(VLOOKUP(E2716,Nota_Fiscal!$G$4:$L$1000,6,0),\"\")","v":""}]
[null,null,{"$f":"IFERROR(VLOOKUP(A2717,Insumos!A:B,2,FALSE),\"\")","v":""},null,null,null,null,{"$f":"IFERROR(VLOOKUP(E2717,Nota_Fiscal!$G$4:$L$1000,6,0),\"\")","v":""}]
[null,null,{"$f":"IFERROR(VLOOKUP(A2718,Insumos!A:B,2,FALSE),\"\")","v":""},null,null,null,null,{"$f":"IFERROR(VLOOKUP(E2718,Nota_Fiscal!$G$4:$L$1000,6,0),\"\")","v":""}]
[null,null,{"$f":"IFERROR(VLOOKUP(A2719,Insumos!A:B,2,FALSE),\"\")","v":""},null,null,null,null,{"$f":"IFERROR(VLOOKUP(E2719,Nota_Fiscal!$G$4:$L$1000,6,0),\"\")","v":""}]
[null,null,{"$f":"IFERROR(VLOOKUP(A2720,Insumos!A:B,2,FALSE),\"\")","v":""},null,null,null,null,{"$f":"IFERROR(VLOOKUP(E2720,Nota_Fiscal!$G$4:$L$1000,6,0),\"\")","v":""}]
[null,null,{"$f":"IFERROR(VLOOKUP(A2721,Insumos!A:B,2,FALSE),\"\")","v":""},null,null,null,null,{"$f":"IFERROR(VLOOKUP(E2721,Nota_Fiscal!$G$4:$L$1000,6,0),\"\")","v":""}]
[null,null,{"$f":"IFERROR(VLOOKUP(A2722,Insumos!A:B,2,FALSE),\"\")","v":""},null,null,null,null,{"$f":"IFERROR(VLOOKUP(E2722,Nota_Fiscal!$G$4:$L$1000,6,0),\"\")","v":""}]
[null,null,{"$f":"IFERROR(VLOOKUP(A2723,Insumos!A:B,2,FALSE),\"\")","v":""},null,null,null,null,{"$f":"IFERROR(VLOOKUP(E2723,Nota_Fiscal!$G$4:$L$1000,6,0),\"\")","v":""}]
[null,null,{"$f":"IFERROR(VLOOKUP(A2724,Insumos!A:B,2,FALSE),\"\")","v":""},null,null,null,null,{"$f":"IFERROR(VLOOKUP(E2724,Nota_Fiscal!$G$4:$L$1000,6,0),\"\")","v":""}]
[null,null,{"$f":"IFERROR(VLOOKUP(A2725,Insumos!A:B,2,FALSE),\"\")","v":""},null,null,null,null,{"$f":"IFERROR(VLOOKUP(E2725,Nota_Fiscal!$G$4:$L$1000,6,0),\"\")","v":""}]
[null,null,{"$f":"IFERROR(VLOOKUP(A2726,Insumos!A:B,2,FALSE),\"\")","v":""},null,null,null,null,{"$f":"IFERROR(VLOOKUP(E2726,Nota_Fiscal!$G$4:$L$1000,6,0),\"\")","v":""}]
[null,null,{"$f":"IFERROR(VLOOKUP(A2727,Insumos!A:B,2,FALSE),\"\")","v":""},null,null,null,null,{"$f":"IFERROR(VLOOKUP(E2727,Nota_Fiscal!$G$4:$L$1000,6,0),\"\")","v":""}]
[null,null,{"$f":"IFERROR(VLOOKUP(A2728,Insumos!A:B,2,FALSE),\"\")","v":""},null,null,null,null,{"$f":"IFERROR(VLOOKUP(E2728,Nota_Fiscal!$G$4:$L$1000,6,0),\"\")","v":""}]
[null,null,{"$f":"IFERROR(VLOOKUP(A2729,Insumos!A:B,2,FALSE),\"\")","v":""},null,null,null,null,{"$f":"IFERROR(VLOOKUP(E2729,Nota_Fiscal!$G$4:$L$1000,6,0),\"\")","v":""}]
[null,null,{"$f":"IFERROR(VLOOKUP(A2730,Insumos!A:B,2,FALSE),\"\")","v":""},null,null,null,null,{"$f":"IFERROR(VLOOKUP(E2730,Nota_Fiscal!$G$4:$L$1000,6,0),\"\")","v":""}]
[null,null,{"$f":"IFERROR(VLOOKUP(A2731,Insumos!A:B,2,FALSE),\"\")","v":""},null,null,null,null,{"$f":"IFERROR(VLOOKUP(E2731,Nota_Fiscal!$G$4:$L$1000,6,0),\"\")","v":""}]
[null,null,{"$f":"IFERROR(VLOOKUP(A2732,Insumos!A:B,2,FALSE),\"\")","v":""},null,null,null,null,{"$f":"IFERROR(VLOOKUP(E2732,Nota_Fiscal!$G$4:$L$1000,6,0),\"\")","v":""}]
[null,null,{"$f":"IFERROR(VLOOKUP(A2733,Insumos!A:B,2,FALSE),\"\")","v":""},null,null,null,null,{"$f":"IFERROR(VLOOKUP(E2733,Nota_Fiscal!$G$4:$L$1000,6,0),\"\")","v":""}]
[null,null,{"$f":"IFERROR(VLOOKUP(A2734,Insumos!A:B,2,FALSE),\"\")","v":""},null,null,null,null,{"$f":"IFERROR(VLOOKUP(E2734,Nota_Fiscal!$G$4:$L$1000,6,0),\"\")","v":""}]
[null,null,{"$f":"IFERROR(VLOOKUP(A2735,Insumos!A:B,2,FALSE),\"\")","v":""},null,null,null,null,{"$f":"IFERROR(VLOOKUP(E2735,Nota_Fiscal!$G$4:$L$1000,6,0),\"\")","v":""}]
[null,null,{"$f":"IFERROR(VLOOKUP(A2736,Insumos!A:B,2,FALSE),\"\")","v":""},null,null,null,null,{"$f":"IFERROR(VLOOKUP(E2736,Nota_Fiscal!$G$4:$L$1000,6,0),\"\")","v":""}]
[null,null,{"$f":"IFERROR(VLOOKUP(A2737,Insumos!A:B,2,FALSE),\"\")","v":""},null,null,null,null,{"$f":"IFERROR(VLOOKUP(E2737,Nota_Fiscal!$G$4:$L$1000,6,0),\"\")","v":""}]
[null,null,{"$f":"IFERROR(VLOOKUP(A2738,Insumos!A:B,2,FALSE),\"\")","v":""},null,null,null,null,{"$f":"IFERROR(VLOOKUP(E2738,Nota_Fiscal!$G$4:$L$1000,6,0),\"\")","v":""}]
[null,null,{"$f":"IFERROR(VLOOKUP(A2739,Insumos!A:B,2,FALSE),\"\")","v":""},null,null,null,null,{"$f":"IFERROR(VLOOKUP(E2739,Nota_Fiscal!$G$4:$L$1000,6,0),\"\")","v":""}]
[null,null,{"$f":"IFERROR(VLOOKUP(A2740,Insumos!A:B,2,FALSE),\"\")","v":""},null,null,null,null,{"$f":"IFERROR(VLOOKUP(E2740,Nota_Fiscal!$G$4:$L$1000,6,0),\"\")","v":""}]
[null,null,{"$f":"IFERROR(VLOOKUP(A2741,Insumos!A:B,2,FALSE),\"\")","v":""},null,null,null,null,{"$f":"IFERROR(VLOOKUP(E2741,Nota_Fiscal!$G$4:$L$1000,6,0),\"\")","v":""}]
[null,null,{"$f":"IFERROR(VLOOKUP(A2742,Insumos!A:B,2,FALSE),\"\")","v":""},null,null,null,null,{"$f":"IFERROR(VLOOKUP(E2742,Nota_Fiscal!$G$4:$L$1000,6,0),\"\")","v":""}]
[null,null,{"$f":"IFERROR(VLOOKUP(A2743,Insumos!A:B,2,FALSE),\"\")","v":""},null,null,null,null,{"$f":"IFERROR(VLOOKUP(E2743,Nota_Fiscal!$G$4:$L$1000,6,0),\"\")","v":""}]
[null,null,{"$f":"IFERROR(VLOOKUP(A2744,Insumos!A:B,2,FALSE),\"\")","v":""},null,null,null,null,{"$f":"IFERROR(VLOOKUP(E2744,Nota_Fiscal!$G$4:$L$1000,6,0),\"\")","v":""}]
[null,null,{"$f":"IFERROR(VLOOKUP(A2745,Insumos!A:B,2,FALSE),\"\")","v":""},null,null,null,null,{"$f":"IFERROR(VLOOKUP(E2745,Nota_Fiscal!$G$4:$L$1000,6,0),\"\")","v":""}]
[null,null,{"$f":"IFERROR(VLOOKUP(A2746,Insumos!A:B,2,FALSE),\"\")","v":""},null,null,null,null,{"$f":"IFERROR(VLOOKUP(E2746,Nota_Fiscal!$G$4:$L$1000,6,0),\"\")","v":""}]
[null,null,{"$f":"IFERROR(VLOOKUP(A2747,Insumos!A:B,2,FALSE),\"\")","v":""},null,null,null,null,{"$f":"IFERROR(VLOOKUP(E2747,Nota_Fiscal!$G$4:$L$1000,6,0),\"\")","v":""}]
[null,null,{"$f":"IFERROR(VLOOKUP(A2748,Insumos!A:B,2,FALSE),\"\")","v":""},null,null,null,null,{"$f":"IFERROR(VLOOKUP(E2748,Nota_Fiscal!$G$4:$L$1000,6,0),\"\")","v":""}]
[null,null,{"$f":"IFERROR(VLOOKUP(A2749,Insumos!A:B,2,FALSE),\"\")","v":""},null,null,null,null,{"$f":"IFERROR(VLOOKUP(E2749,Nota_Fiscal!$G$4:$L$1000,6,0),\"\")","v":""}]
[null,null,{"$f":"IFERROR(VLOOKUP(A2750,Insumos!A:B,2,FALSE),\"\")","v":""},null,null,null,null,{"$f":"IFERROR(VLOOKUP(E2750,Nota_Fiscal!$G$4:$L$1000,6,0),\"\")","v":""}]
[null,null,{"$f":"IFERROR(VLOOKUP(A2751,Insumos!A:B,2,FALSE),\"\")","v":""},null,null,null,null,{"$f":"IFERROR(VLOOKUP(E2751,Nota_Fiscal!$G$4:$L$1000,6,0),\"\")","v":""}]
[null,null,{"$f":"IFERROR(VLOOKUP(A2752,Insumos!A:B,2,FALSE),\"\")","v":""},null,null,null,null,{"$f":"IFERROR(VLOOKUP(E2752,Nota_Fiscal!$G$4:$L$1000,6,0),\"\")","v":""}]
[null,null,{"$f":"IFERROR(VLOOKUP(A2753,Insumos!A:B,2,FALSE),\"\")","v":""},null,null,null,null,{"$f":"IFERROR(VLOOKUP(E2753,Nota_Fiscal!$G$4:$L$1000,6,0),\"\")","v":""}]
[null,null,{"$f":"IFERROR(VLOOKUP(A2754,Insumos!A:B,2,FALSE),\"\")","v":""},null,null,null,null,{"$f":"IFERROR(VLOOKUP(E2754,Nota_Fiscal!$G$4:$L$1000,6,0),\"\")","v":""}]
[null,null,{"$f":"IFERROR(VLOOKUP(A2755,Insumos!A:B,2,FALSE),\"\")","v":""},null,null,null,null,{"$f":"IFERROR(VLOOKUP(E2755,Nota_Fiscal!$G$4:$L$1000,6,0),\"\")","v":""}]
[null,null,{"$f":"IFERROR(VLOOKUP(A2756,Insumos!A:B,2,FALSE),\"\")","v":""},null,null,null,null,{"$f":"IFERROR(VLOOKUP(E2756,Nota_Fiscal!$G$4:$L$1000,6,0),\"\")","v":""}]
[null,null,{"$f":"IFERROR(VLOOKUP(A2757,Insumos!A:B,2,FALSE),\"\")","v":""},null,null,null,null,{"$f":"IFERROR(VLOOKUP(E2757,Nota_Fiscal!$G$4:$L$1000,6,0),\"\")","v":""}]
[null,null,{"$f":"IFERROR(VLOOKUP(A2758,Insumos!A:B,2,FALSE),\"\")","v":""},null,null,null,null,{"$f":"IFERROR(VLOOKUP(E2758,Nota_Fiscal!$G$4:$L$1000,6,0),\"\")","v":""}]
[null,null,{"$f":"IFERROR(VLOOKUP(A2759,Insumos!A:B,2,FALSE),\"\")","v":""},null,null,null,null,{"$f":"IFERROR(VLOOKUP(E2759,Nota_Fiscal!$G$4:$L$1000,6,0),\"\")","v":""}]
[null,null,{"$f":"IFERROR(VLOOKUP(A2760,Insumos!A:B,2,FALSE),\"\")","v":""},null,null,null,null,{"$f":"IFERROR(VLOOKUP(E2760,Nota_Fiscal!$G$4:$L$1000,6,0),\"\")","v":""}]
[null,null,{"$f":"IFERROR(VLOOKUP(A2761,Insumos!A:B,2,FALSE),\"\")","v":""},null,null,null,null,{"$f":"IFERROR(VLOOKUP(E2761,Nota_Fiscal!$G$4:$L$1000,6,0),\"\")","v":""}]
[null,null,{"$f":"IFERROR(VLOOKUP(A2762,Insumos!A:B,2,FALSE),\"\")","v":""},null,null,null,null,{"$f":"IFERROR(VLOOKUP(E2762,Nota_Fiscal!$G$4:$L$1000,6,0),\"\")","v":""}]
[null,null,{"$f":"IFERROR(VLOOKUP(A2763,Insumos!A:B,2,FALSE),\"\")","v":""},null,null,null,null,{"$f":"IFERROR(VLOOKUP(E2763,Nota_Fiscal!$G$4:$L$1000,6,0),\"\")","v":""}]
[null,null,{"$f":"IFERROR(VLOOKUP(A2764,Insumos!A:B,2,FALSE),\"\")","v":""},null,null,null,null,{"$f":"IFERROR(VLOOKUP(E2764,Nota_Fiscal!$G$4:$L$1000,6,0),\"\")","v":""}]
[null,null,{"$f":"IFERROR(VLOOKUP(A2765,Insumos!A:B,2,FALSE),\"\")","v":""},null,null,null,null,{"$f":"IFERROR(VLOOKUP(E2765,Nota_Fiscal!$G$4:$L$1000,6,0),\"\")","v":""}]
[null,null,{"$f":"IFERROR(VLOOKUP(A2766,Insumos!A:B,2,FALSE),\"\")","v":""},null,null,null,null,{"$f":"IFERROR(VLOOKUP(E2766,Nota_Fiscal!$G$4:$L$1000,6,0),\"\")","v":""}]
[null,null,{"$f":"IFERROR(VLOOKUP(A2767,Insumos!A:B,2,FALSE),\"\")","v":""},null,null,null,null,{"$f":"IFERROR(VLOOKUP(E2767,Nota_Fiscal!$G$4:$L$1000,6,0),\"\")","v":""}]
[null,null,{"$f":"IFERROR(VLOOKUP(A2768,Insumos!A:B,2,FALSE),\"\")","v":""},null,null,null,null,{"$f":"IFERROR(VLOOKUP(E2768,Nota_Fiscal!$G$4:$L$1000,6,0),\"\")","v":""}]
[null,null,{"$f":"IFERROR(VLOOKUP(A2769,Insumos!A:B,2,FALSE),\"\")","v":""},null,null,null,null,{"$f":"IFERROR(VLOOKUP(E2769,Nota_Fiscal!$G$4:$L$1000,6,0),\"\")","v":""}]
[null,null,{"$f":"IFERROR(VLOOKUP(A2770,Insumos!A:B,2,FALSE),\"\")","v":""},null,null,null,null,{"$f":"IFERROR(VLOOKUP(E2770,Nota_Fiscal!$G$4:$L$1000,6,0),\"\")","v":""}]
[null,null,{"$f":"IFERROR(VLOOKUP(A2771,Insumos!A:B,2,FALSE),\"\")","v":""},null,null,null,null,{"$f":"IFERROR(VLOOKUP(E2771,Nota_Fiscal!$G$4:$L$1000,6,0),\"\")","v":""}]
[null,null,{"$f":"IFERROR(VLOOKUP(A2772,Insumos!A:B,2,FALSE),\"\")","v":""},null,null,null,null,{"$f":"IFERROR(VLOOKUP(E2772,Nota_Fiscal!$G$4:$L$1000,6,0),\"\")","v":""}]
[null,null,{"$f":"IFERROR(VLOOKUP(A2773,Insumos!A:B,2,FALSE),\"\")","v":""},null,null,null,null,{"$f":"IFERROR(VLOOKUP(E2773,Nota_Fiscal!$G$4:$L$1000,6,0),\"\")","v":""}]
[null,null,{"$f":"IFERROR(VLOOKUP(A2774,Insumos!A:B,2,FALSE),\"\")","v":""},null,null,null,null,{"$f":"IFERROR(VLOOKUP(E2774,Nota_Fiscal!$G$4:$L$1000,6,0),\"\")","v":""}]
[null,null,{"$f":"IFERROR(VLOOKUP(A2775,Insumos!A:B,2,FALSE),\"\")","v":""},null,null,null,null,{"$f":"IFERROR(VLOOKUP(E2775,Nota_Fiscal!$G$4:$L$1000,6,0),\"\")","v":""}]
[null,null,{"$f":"IFERROR(VLOOKUP(A2776,Insumos!A:B,2,FALSE),\"\")","v":""},null,null,null,null,{"$f":"IFERROR(VLOOKUP(E2776,Nota_Fiscal!$G$4:$L$1000,6,0),\"\")","v":""}]
[null,null,{"$f":"IFERROR(VLOOKUP(A2777,Insumos!A:B,2,FALSE),\"\")","v":""},null,null,null,null,{"$f":"IFERROR(VLOOKUP(E2777,Nota_Fiscal!$G$4:$L$1000,6,0),\"\")","v":""}]
[null,null,{"$f":"IFERROR(VLOOKUP(A2778,Insumos!A:B,2,FALSE),\"\")","v":""},null,null,null,null,{"$f":"IFERROR(VLOOKUP(E2778,Nota_Fiscal!$G$4:$L$1000,6,0),\"\")","v":""}]
[null,null,{"$f":"IFERROR(VLOOKUP(A2779,Insumos!A:B,2,FALSE),\"\")","v":""},null,null,null,null,{"$f":"IFERROR(VLOOKUP(E2779,Nota_Fiscal!$G$4:$L$1000,6,0),\"\")","v":""}]
[null,null,{"$f":"IFERROR(VLOOKUP(A2780,Insumos!A:B,2,FALSE),\"\")","v":""},null,null,null,null,{"$f":"IFERROR(VLOOKUP(E2780,Nota_Fiscal!$G$4:$L$1000,6,0),\"\")","v":""}]
[null,null,{"$f":"IFERROR(VLOOKUP(A2781,Insumos!A:B,2,FALSE),\"\")","v":""},null,null,null,null,{"$f":"IFERROR(VLOOKUP(E2781,Nota_Fiscal!$G$4:$L$1000,6,0),\"\")","v":""}]
[null,null,{"$f":"IFERROR(VLOOKUP(A2782,Insumos!A:B,2,FALSE),\"\")","v":""},null,null,null,null,{"$f":"IFERROR(VLOOKUP(E2782,Nota_Fiscal!$G$4:$L$1000,6,0),\"\")","v":""}]
[null,null,{"$f":"IFERROR(VLOOKUP(A2783,Insumos!A:B,2,FALSE),\"\")","v":""},null,null,null,null,{"$f":"IFERROR(VLOOKUP(E2783,Nota_Fiscal!$G$4:$L$1000,6,0),\"\")","v":""}]
[null,null,{"$f":"IFERROR(VLOOKUP(A2784,Insumos!A:B,2,FALSE),\"\")","v":""},null,null,null,null,{"$f":"IFERROR(VLOOKUP(E2784,Nota_Fiscal!$G$4:$L$1000,6,0),\"\")","v":""}]
[null,null,{"$f":"IFERROR(VLOOKUP(A2785,Insumos!A:B,2,FALSE),\"\")","v":""},null,null,null,null,{"$f":"IFERROR(VLOOKUP(E2785,Nota_Fiscal!$G$4:$L$1000,6,0),\"\")","v":""}]
[null,null,{"$f":"IFERROR(VLOOKUP(A2786,Insumos!A:B,2,FALSE),\"\")","v":""},null,null,null,null,{"$f":"IFERROR(VLOOKUP(E2786,Nota_Fiscal!$G$4:$L$1000,6,0),\"\")","v":""}]
[null,null,{"$f":"IFERROR(VLOOKUP(A2787,Insumos!A:B,2,FALSE),\"\")","v":""},null,null,null,null,{"$f":"IFERROR(VLOOKUP(E2787,Nota_Fiscal!$G$4:$L$1000,6,0),\"\")","v":""}]
[null,null,{"$f":"IFERROR(VLOOKUP(A2788,Insumos!A:B,2,FALSE),\"\")","v":""},null,null,null,null,{"$f":"IFERROR(VLOOKUP(E2788,Nota_Fiscal!$G$4:$L$1000,6,0),\"\")","v":""}]
[null,null,{"$f":"IFERROR(VLOOKUP(A2789,Insumos!A:B,2,FALSE),\"\")","v":""},null,null,null,null,{"$f":"IFERROR(VLOOKUP(E2789,Nota_Fiscal!$G$4:$L$1000,6,0),\"\")","v":""}]
[null,null,{"$f":"IFERROR(VLOOKUP(A2790,Insumos!A:B,2,FALSE),\"\")","v":""},null,null,null,null,{"$f":"IFERROR(VLOOKUP(E2790,Nota_Fiscal!$G$4:$L$1000,6,0),\"\")","v":""}]
[null,null,{"$f":"IFERROR(VLOOKUP(A2791,Insumos!A:B,2,FALSE),\"\")","v":""},null,null,null,null,{"$f":"IFERROR(VLOOKUP(E2791,Nota_Fiscal!$G$4:$L$1000,6,0),\"\")","v":""}]
[null,null,{"$f":"IFERROR(VLOOKUP(A2792,Insumos!A:B,2,FALSE),\"\")","v":""},null,null,null,null,{"$f":"IFERROR(VLOOKUP(E2792,Nota_Fiscal!$G$4:$L$1000,6,0),\"\")","v":""}]
[null,null,{"$f":"IFERROR(VLOOKUP(A2793,Insumos!A:B,2,FALSE),\"\")","v":""},null,null,null,null,{"$f":"IFERROR(VLOOKUP(E2793,Nota_Fiscal!$G$4:$L$1000,6,0),\"\")","v":""}]
[null,null,{"$f":"IFERROR(VLOOKUP(A2794,Insumos!A:B,2,FALSE),\"\")","v":""},null,null,null,null,{"$f":"IFERROR(VLOOKUP(E2794,Nota_Fiscal!$G$4:$L$1000,6,0),\"\")","v":""}]
[null,null,{"$f":"IFERROR(VLOOKUP(A2795,Insumos!A:B,2,FALSE),\"\")","v":""},null,null,null,null,{"$f":"IFERROR(VLOOKUP(E2795,Nota_Fiscal!$G$4:$L$1000,6,0),\"\")","v":""}]
[null,null,{"$f":"IFERROR(VLOOKUP(A2796,Insumos!A:B,2,FALSE),\"\")","v":""},null,null,null,null,{"$f":"IFERROR(VLOOKUP(E2796,Nota_Fiscal!$G$4:$L$1000,6,0),\"\")","v":""}]
[null,null,{"$f":"IFERROR(VLOOKUP(A2797,Insumos!A:B,2,FALSE),\"\")","v":""},null,null,null,null,{"$f":"IFERROR(VLOOKUP(E2797,Nota_Fiscal!$G$4:$L$1000,6,0),\"\")","v":""}]
[null,null,{"$f":"IFERROR(VLOOKUP(A2798,Insumos!A:B,2,FALSE),\"\")","v":""},null,null,null,null,{"$f":"IFERROR(VLOOKUP(E2798,Nota_Fiscal!$G$4:$L$1000,6,0),\"\")","v":""}]
[null,null,{"$f":"IFERROR(VLOOKUP(A2799,Insumos!A:B,2,FALSE),\"\")","v":""},null,null,null,null,{"$f":"IFERROR(VLOOKUP(E2799,Nota_Fiscal!$G$4:$L$1000,6,0),\"\")","v":""}]
[null,null,{"$f":"IFERROR(VLOOKUP(A2800,Insumos!A:B,2,FALSE),\"\")","v":""},null,null,null,null,{"$f":"IFERROR(VLOOKUP(E2800,Nota_Fiscal!$G$4:$L$1000,6,0),\"\")","v":""}]
[null,null,{"$f":"IFERROR(VLOOKUP(A2801,Insumos!A:B,2,FALSE),\"\")","v":""},null,null,null,null,{"$f":"IFERROR(VLOOKUP(E2801,Nota_Fiscal!$G$4:$L$1000,6,0),\"\")","v":""}]
[null,null,{"$f":"IFERROR(VLOOKUP(A2802,Insumos!A:B,2,FALSE),\"\")","v":""},null,null,null,null,{"$f":"IFERROR(VLOOKUP(E2802,Nota_Fiscal!$G$4:$L$1000,6,0),\"\")","v":""}]
[null,null,{"$f":"IFERROR(VLOOKUP(A2803,Insumos!A:B,2,FALSE),\"\")","v":""},null,null,null,null,{"$f":"IFERROR(VLOOKUP(E2803,Nota_Fiscal!$G$4:$L$1000,6,0),\"\")","v":""}]
[null,null,{"$f":"IFERROR(VLOOKUP(A2804,Insumos!A:B,2,FALSE),\"\")","v":""},null,null,null,null,{"$f":"IFERROR(VLOOKUP(E2804,Nota_Fiscal!$G$4:$L$1000,6,0),\"\")","v":""}]
[null,null,{"$f":"IFERROR(VLOOKUP(A2805,Insumos!A:B,2,FALSE),\"\")","v":""},null,null,null,null,{"$f":"IFERROR(VLOOKUP(E2805,Nota_Fiscal!$G$4:$L$1000,6,0),\"\")","v":""}]
[null,null,{"$f":"IFERROR(VLOOKUP(A2806,Insumos!A:B,2,FALSE),\"\")","v":""},null,null,null,null,{"$f":"IFERROR(VLOOKUP(E2806,Nota_Fiscal!$G$4:$L$1000,6,0),\"\")","v":""}]
[null,null,{"$f":"IFERROR(VLOOKUP(A2807,Insumos!A:B,2,FALSE),\"\")","v":""},null,null,null,null,{"$f":"IFERROR(VLOOKUP(E2807,Nota_Fiscal!$G$4:$L$1000,6,0),\"\")","v":""}]
[null,null,{"$f":"IFERROR(VLOOKUP(A2808,Insumos!A:B,2,FALSE),\"\")","v":""},null,null,null,null,{"$f":"IFERROR(VLOOKUP(E2808,Nota_Fiscal!$G$4:$L$1000,6,0),\"\")","v":""}]
[null,null,{"$f":"IFERROR(VLOOKUP(A2809,Insumos!A:B,2,FALSE),\"\")","v":""},null,null,null,null,{"$f":"IFERROR(VLOOKUP(E2809,Nota_Fiscal!$G$4:$L$1000,6,0),\"\")","v":""}]
[null,null,{"$f":"IFERROR(VLOOKUP(A2810,Insumos!A:B,2,FALSE),\"\")","v":""},null,null,null,null,{"$f":"IFERROR(VLOOKUP(E2810,Nota_Fiscal!$G$4:$L$1000,6,0),\"\")","v":""}]
[null,null,{"$f":"IFERROR(VLOOKUP(A2811,Insumos!A:B,2,FALSE),\"\")","v":""},null,null,null,null,{"$f":"IFERROR(VLOOKUP(E2811,Nota_Fiscal!$G$4:$L$1000,6,0),\"\")","v":""}]
[null,null,{"$f":"IFERROR(VLOOKUP(A2812,Insumos!A:B,2,FALSE),\"\")","v":""},null,null,null,null,{"$f":"IFERROR(VLOOKUP(E2812,Nota_Fiscal!$G$4:$L$1000,6,0),\"\")","v":""}]
[null,null,{"$f":"IFERROR(VLOOKUP(A2813,Insumos!A:B,2,FALSE),\"\")","v":""},null,null,null,null,{"$f":"IFERROR(VLOOKUP(E2813,Nota_Fiscal!$G$4:$L$1000,6,0),\"\")","v":""}]
[null,null,{"$f":"IFERROR(VLOOKUP(A2814,Insumos!A:B,2,FALSE),\"\")","v":""},null,null,null,null,{"$f":"IFERROR(VLOOKUP(E2814,Nota_Fiscal!$G$4:$L$1000,6,0),\"\")","v":""}]
[null,null,{"$f":"IFERROR(VLOOKUP(A2815,Insumos!A:B,2,FALSE),\"\")","v":""},null,null,null,null,{"$f":"IFERROR(VLOOKUP(E2815,Nota_Fiscal!$G$4:$L$1000,6,0),\"\")","v":""}]
[null,null,{"$f":"IFERROR(VLOOKUP(A2816,Insumos!A:B,2,FALSE),\"\")","v":""},null,null,null,null,{"$f":"IFERROR(VLOOKUP(E2816,Nota_Fiscal!$G$4:$L$1000,6,0),\"\")","v":""}]
[null,null,{"$f":"IFERROR(VLOOKUP(A2817,Insumos!A:B,2,FALSE),\"\")","v":""},null,null,null,null,{"$f":"IFERROR(VLOOKUP(E2817,Nota_Fiscal!$G$4:$L$1000,6,0),\"\")","v":""}]
[null,null,{"$f":"IFERROR(VLOOKUP(A2818,Insumos!A:B,2,FALSE),\"\")","v":""},null,null,null,null,{"$f":"IFERROR(VLOOKUP(E2818,Nota_Fiscal!$G$4:$L$1000,6,0),\"\")","v":""}]
[null,null,{"$f":"IFERROR(VLOOKUP(A2819,Insumos!A:B,2,FALSE),\"\")","v":""},null,null,null,null,{"$f":"IFERROR(VLOOKUP(E2819,Nota_Fiscal!$G$4:$L$1000,6,0),\"\")","v":""}]
[null,null,{"$f":"IFERROR(VLOOKUP(A2820,Insumos!A:B,2,FALSE),\"\")","v":""},null,null,null,null,{"$f":"IFERROR(VLOOKUP(E2820,Nota_Fiscal!$G$4:$L$1000,6,0),\"\")","v":""}]
[null,null,{"$f":"IFERROR(VLOOKUP(A2821,Insumos!A:B,2,FALSE),\"\")","v":""},null,null,null,null,{"$f":"IFERROR(VLOOKUP(E2821,Nota_Fiscal!$G$4:$L$1000,6,0),\"\")","v":""}]
[null,null,{"$f":"IFERROR(VLOOKUP(A2822,Insumos!A:B,2,FALSE),\"\")","v":""},null,null,null,null,{"$f":"IFERROR(VLOOKUP(E2822,Nota_Fiscal!$G$4:$L$1000,6,0),\"\")","v":""}]
[null,null,{"$f":"IFERROR(VLOOKUP(A2823,Insumos!A:B,2,FALSE),\"\")","v":""},null,null,null,null,{"$f":"IFERROR(VLOOKUP(E2823,Nota_Fiscal!$G$4:$L$1000,6,0),\"\")","v":""}]
[null,null,{"$f":"IFERROR(VLOOKUP(A2824,Insumos!A:B,2,FALSE),\"\")","v":""},null,null,null,null,{"$f":"IFERROR(VLOOKUP(E2824,Nota_Fiscal!$G$4:$L$1000,6,0),\"\")","v":""}]
[null,null,{"$f":"IFERROR(VLOOKUP(A2825,Insumos!A:B,2,FALSE),\"\")","v":""},null,null,null,null,{"$f":"IFERROR(VLOOKUP(E2825,Nota_Fiscal!$G$4:$L$1000,6,0),\"\")","v":""}]
[null,null,{"$f":"IFERROR(VLOOKUP(A2826,Insumos!A:B,2,FALSE),\"\")","v":""},null,null,null,null,{"$f":"IFERROR(VLOOKUP(E2826,Nota_Fiscal!$G$4:$L$1000,6,0),\"\")","v":""}]
[null,null,{"$f":"IFERROR(VLOOKUP(A2827,Insumos!A:B,2,FALSE),\"\")","v":""},null,null,null,null,{"$f":"IFERROR(VLOOKUP(E2827,Nota_Fiscal!$G$4:$L$1000,6,0),\"\")","v":""}]
[null,null,{"$f":"IFERROR(VLOOKUP(A2828,Insumos!A:B,2,FALSE),\"\")","v":""},null,null,null,null,{"$f":"IFERROR(VLOOKUP(E2828,Nota_Fiscal!$G$4:$L$1000,6,0),\"\")","v":""}]
[null,null,{"$f":"IFERROR(VLOOKUP(A2829,Insumos!A:B,2,FALSE),\"\")","v":""},null,null,null,null,{"$f":"IFERROR(VLOOKUP(E2829,Nota_Fiscal!$G$4:$L$1000,6,0),\"\")","v":""}]
[null,null,{"$f":"IFERROR(VLOOKUP(A2830,Insumos!A:B,2,FALSE),\"\")","v":""},null,null,null,null,{"$f":"IFERROR(VLOOKUP(E2830,Nota_Fiscal!$G$4:$L$1000,6,0),\"\")","v":""}]
[null,null,{"$f":"IFERROR(VLOOKUP(A2831,Insumos!A:B,2,FALSE),\"\")","v":""},null,null,null,null,{"$f":"IFERROR(VLOOKUP(E2831,Nota_Fiscal!$G$4:$L$1000,6,0),\"\")","v":""}]
[null,null,{"$f":"IFERROR(VLOOKUP(A2832,Insumos!A:B,2,FALSE),\"\")","v":""},null,null,null,null,{"$f":"IFERROR(VLOOKUP(E2832,Nota_Fiscal!$G$4:$L$1000,6,0),\"\")","v":""}]
[null,null,{"$f":"IFERROR(VLOOKUP(A2833,Insumos!A:B,2,FALSE),\"\")","v":""},null,null,null,null,{"$f":"IFERROR(VLOOKUP(E2833,Nota_Fiscal!$G$4:$L$1000,6,0),\"\")","v":""}]
[null,null,{"$f":"IFERROR(VLOOKUP(A2834,Insumos!A:B,2,FALSE),\"\")","v":""},null,null,null,null,{"$f":"IFERROR(VLOOKUP(E2834,Nota_Fiscal!$G$4:$L$1000,6,0),\"\")","v":""}]
[null,null,{"$f":"IFERROR(VLOOKUP(A2835,Insumos!A:B,2,FALSE),\"\")","v":""},null,null,null,null,{"$f":"IFERROR(VLOOKUP(E2835,Nota_Fiscal!$G$4:$L$1000,6,0),\"\")","v":""}]
[null,null,{"$f":"IFERROR(VLOOKUP(A2836,Insumos!A:B,2,FALSE),\"\")","v":""},null,null,null,null,{"$f":"IFERROR(VLOOKUP(E2836,Nota_Fiscal!$G$4:$L$1000,6,0),\"\")","v":""}]
[null,null,{"$f":"IFERROR(VLOOKUP(A2837,Insumos!A:B,2,FALSE),\"\")","v":""}]
[null,null,{"$f":"IFERROR(VLOOKUP(A2838,Insumos!A:B,2,FALSE),\"\")","v":""}]
[null,null,{"$f":"IFERROR(VLOOKUP(A2839,Insumos!A:B,2,FALSE),\"\")","v":""}]
[null,null,{"$f":"IFERROR(VLOOKUP(A2840,Insumos!A:B,2,FALSE),\"\")","v":""}]
[null,null,{"$f":"IFERROR(VLOOKUP(A2841,Insumos!A:B,2,FALSE),\"\")","v":""}]
[null,null,{"$f":"IFERROR(VLOOKUP(A2842,Insumos!A:B,2,FALSE),\"\")","v":""}]
[null,null,{"$f":"IFERROR(VLOOKUP(A2843,Insumos!A:B,2,FALSE),\"\")","v":""}]
[null,null,{"$f":"IFERROR(VLOOKUP(A2844,Insumos!A:B,2,FALSE),\"\")","v":""}]
[null,null,{"$f":"IFERROR(VLOOKUP(A2845,Insumos!A:B,2,FALSE),\"\")","v":""}]
[null,null,{"$f":"IFERROR(VLOOKUP(A2846,Insumos!A:B,2,FALSE),\"\")","v":""}]
[null,null,{"$f":"IFERROR(VLOOKUP(A2847,Insumos!A:B,2,FALSE),\"\")","v":""}]
[null,null,{"$f":"IFERROR(VLOOKUP(A2848,Insumos!A:B,2,FALSE),\"\")","v":""}]
[null,null,{"$f":"IFERROR(VLOOKUP(A2849,Insumos!A:B,2,FALSE),\"\")","v":""}]
[null,null,{"$f":"IFERROR(VLOOKUP(A2850,Insumos!A:B,2,FALSE),\"\")","v":""}]
[null,null,{"$f":"IFERROR(VLOOKUP(A2851,Insumos!A:B,2,FALSE),\"\")","v":""}]
[null,null,{"$f":"IFERROR(VLOOKUP(A2852,Insumos!A:B,2,FALSE),\"\")","v":""}]
[null,null,{"$f":"IFERROR(VLOOKUP(A2853,Insumos!A:B,2,FALSE),\"\")","v":""}]
[null,null,{"$f":"IFERROR(VLOOKUP(A2854,Insumos!A:B,2,FALSE),\"\")","v":""}]
[null,null,{"$f":"IFERROR(VLOOKUP(A2855,Insumos!A:B,2,FALSE),\"\")","v":""}]
[null,null,{"$f":"IFERROR(VLOOKUP(A2856,Insumos!A:B,2,FALSE),\"\")","v":""}]
[null,null,{"$f":"IFERROR(VLOOKUP(A2857,Insumos!A:B,2,FALSE),\"\")","v":""}]
[null,null,{"$f":"IFERROR(VLOOKUP(A2858,Insumos!A:B,2,FALSE),\"\")","v":""}]
[null,null,{"$f":"IFERROR(VLOOKUP(A2859,Insumos!A:B,2,FALSE),\"\")","v":""}]
[null,null,{"$f":"IFERROR(VLOOKUP(A2860,Insumos!A:B,2,FALSE),\"\")","v":""}]
[null,null,{"$f":"IFERROR(VLOOKUP(A2861,Insumos!A:B,2,FALSE),\"\")","v":""}]
[null,null,{"$f":"IFERROR(VLOOKUP(A2862,Insumos!A:B,2,FALSE),\"\")","v":""}]
[null,null,{"$f":"IFERROR(VLOOKUP(A2863,Insumos!A:B,2,FALSE),\"\")","v":""}]
[null,null,{"$f":"IFERROR(VLOOKUP(A2864,Insumos!A:B,2,FALSE),\"\")","v":""}]
[null,null,{"$f":"IFERROR(VLOOKUP(A2865,Insumos!A:B,2,FALSE),\"\")","v":""}]
[null,null,{"$f":"IFERROR(VLOOKUP(A2866,Insumos!A:B,2,FALSE),\"\")","v":""}]
[null,null,{"$f":"IFERROR(VLOOKUP(A2867,Insumos!A:B,2,FALSE),\"\")","v":""}]
[null,null,{"$f":"IFERROR(VLOOKUP(A2868,Insumos!A:B,2,FALSE),\"\")","v":""}]
[null,null,{"$f":"IFERROR(VLOOKUP(A2869,Insumos!A:B,2,FALSE),\"\")","v":""}]
[null,null,{"$f":"IFERROR(VLOOKUP(A2870,Insumos!A:B,2,FALSE),\"\")","v":""}]
[null,null,{"$f":"IFERROR(VLOOKUP(A2871,Insumos!A:B,2,FALSE),\"\")","v":""}]
[null,null,{"$f":"IFERROR(VLOOKUP(A2872,Insumos!A:B,2,FALSE),\"\")","v":""}]
[null,null,{"$f":"IFERROR(VLOOKUP(A2873,Insumos!A:B,2,FALSE),\"\")","v":""}]
[null,null,{"$f":"IFERROR(VLOOKUP(A2874,Insumos!A:B,2,FALSE),\"\")","v":""}]
[null,null,{"$f":"IFERROR(VLOOKUP(A2875,Insumos!A:B,2,FALSE),\"\")","v":""}]
[null,null,{"$f":"IFERROR(VLOOKUP(A2876,Insumos!A:B,2,FALSE),\"\")","v":""}]
[null,null,{"$f":"IFERROR(VLOOKUP(A2877,Insumos!A:B,2,FALSE),\"\")","v":""}]
[null,null,{"$f":"IFERROR(VLOOKUP(A2878,Insumos!A:B,2,FALSE),\"\")","v":""}]
[null,null,{"$f":"IFERROR(VLOOKUP(A2879,Insumos!A:B,2,FALSE),\"\")","v":""}]
[null,null,{"$f":"IFERROR(VLOOKUP(A2880,Insumos!A:B,2,FALSE),\"\")","v":""}]
[null,null,{"$f":"IFERROR(VLOOKUP(A2881,Insumos!A:B,2,FALSE),\"\")","v":""}]
[null,null,{"$f":"IFERROR(VLOOKUP(A2882,Insumos!A:B,2,FALSE),\"\")","v":""}]
[null,null,{"$f":"IFERROR(VLOOKUP(A2883,Insumos!A:B,2,FALSE),\"\")","v":""}]
[null,null,{"$f":"IFERROR(VLOOKUP(A2884,Insumos!A:B,2,FALSE),\"\")","v":""}]
[null,null,{"$f":"IFERROR(VLOOKUP(A2885,Insumos!A:B,2,FALSE),\"\")","v":""}]
[null,null,{"$f":"IFERROR(VLOOKUP(A2886,Insumos!A:B,2,FALSE),\"\")","v":""}]
[null,null,{"$f":"IFERROR(VLOOKUP(A2887,Insumos!A:B,2,FALSE),\"\")","v":""}]
[null,null,{"$f":"IFERROR(VLOOKUP(A2888,Insumos!A:B,2,FALSE),\"\")","v":""}]
[null,null,{"$f":"IFERROR(VLOOKUP(A2889,Insumos!A:B,2,FALSE),\"\")","v":""}]
[null,null,{"$f":"IFERROR(VLOOKUP(A2890,Insumos!A:B,2,FALSE),\"\")","v":""}]
[null,null,{"$f":"IFERROR(VLOOKUP(A2891,Insumos!A:B,2,FALSE),\"\")","v":""}]
[null,null,{"$f":"IFERROR(VLOOKUP(A2892,Insumos!A:B,2,FALSE),\"\")","v":""}]
[null,null,{"$f":"IFERROR(VLOOKUP(A2893,Insumos!A:B,2,FALSE),\"\")","v":""}]
[null,null,{"$f":"IFERROR(VLOOKUP(A2894,Insumos!A:B,2,FALSE),\"\")","v":""}]
[null,null,{"$f":"IFERROR(VLOOKUP(A2895,Insumos!A:B,2,FALSE),\"\")","v":""}]
[null,null,{"$f":"IFERROR(VLOOKUP(A2896,Insumos!A:B,2,FALSE),\"\")","v":""}]
[null,null,{"$f":"IFERROR(VLOOKUP(A2897,Insumos!A:B,2,FALSE),\"\")","v":""}]
[null,null,{"$f":"IFERROR(VLOOKUP(A2898,Insumos!A:B,2,FALSE),\"\")","v":""}]
[null,null,{"$f":"IFERROR(VLOOKUP(A2899,Insumos!A:B,2,FALSE),\"\")","v":""}]
[null,null,{"$f":"IFERROR(VLOOKUP(A2900,Insumos!A:B,2,FALSE),\"\")","v":""}]
[null,null,{"$f":"IFERROR(VLOOKUP(A2901,Insumos!A:B,2,FALSE),\"\")","v":""}]
[null,null,{"$f":"IFERROR(VLOOKUP(A2902,Insumos!A:B,2,FALSE),\"\")","v":""}]
[null,null,{"$f":"IFERROR(VLOOKUP(A2903,Insumos!A:B,2,FALSE),\"\")","v":""}]
[null,null,{"$f":"IFERROR(VLOOKUP(A2904,Insumos!A:B,2,FALSE),\"\")","v":""}]
[null,null,{"$f":"IFERROR(VLOOKUP(A2905,Insumos!A:B,2,FALSE),\"\")","v":""}]
[null,null,{"$f":"IFERROR(VLOOKUP(A2906,Insumos!A:B,2,FALSE),\"\")","v":""}]
[null,null,{"$f":"IFERROR(VLOOKUP(A2907,Insumos!A:B,2,FALSE),\"\")","v":""}]
[null,null,{"$f":"IFERROR(VLOOKUP(A2908,Insumos!A:B,2,FALSE),\"\")","v":""}]
[null,null,{"$f":"IFERROR(VLOOKUP(A2909,Insumos!A:B,2,FALSE),\"\")","v":""}]
[null,null,{"$f":"IFERROR(VLOOKUP(A2910,Insumos!A:B,2,FALSE),\"\")","v":""}]
[null,null,{"$f":"IFERROR(VLOOKUP(A2911,Insumos!A:B,2,FALSE),\"\")","v":""}]
[null,null,{"$f":"IFERROR(VLOOKUP(A2912,Insumos!A:B,2,FALSE),\"\")","v":""}]
[null,null,{"$f":"IFERROR(VLOOKUP(A2913,Insumos!A:B,2,FALSE),\"\")","v":""}]
[null,null,{"$f":"IFERROR(VLOOKUP(A2914,Insumos!A:B,2,FALSE),\"\")","v":""}]
[null,null,{"$f":"IFERROR(VLOOKUP(A2915,Insumos!A:B,2,FALSE),\"\")","v":""}]
[null,null,{"$f":"IFERROR(VLOOKUP(A2916,Insumos!A:B,2,FALSE),\"\")","v":""}]
[null,null,{"$f":"IFERROR(VLOOKUP(A2917,Insumos!A:B,2,FALSE),\"\")","v":""}]
[null,null,{"$f":"IFERROR(VLOOKUP(A2918,Insumos!A:B,2,FALSE),\"\")","v":""}]
[null,null,{"$f":"IFERROR(VLOOKUP(A2919,Insumos!A:B,2,FALSE),\"\")","v":""}]
[null,null,{"$f":"IFERROR(VLOOKUP(A2920,Insumos!A:B,2,FALSE),\"\")","v":""}]
[null,null,{"$f":"IFERROR(VLOOKUP(A2921,Insumos!A:B,2,FALSE),\"\")","v":""}]
[null,null,{"$f":"IFERROR(VLOOKUP(A2922,Insumos!A:B,2,FALSE),\"\")","v":""}]
[null,null,{"$f":"IFERROR(VLOOKUP(A2923,Insumos!A:B,2,FALSE),\"\")","v":""}]
[null,null,{"$f":"IFERROR(VLOOKUP(A2924,Insumos!A:B,2,FALSE),\"\")","v":""}]
[null,null,{"$f":"IFERROR(VLOOKUP(A2925,Insumos!A:B,2,FALSE),\"\")","v":""}]
[null,null,{"$f":"IFERROR(VLOOKUP(A2926,Insumos!A:B,2,FALSE),\"\")","v":""}]
[null,null,{"$f":"IFERROR(VLOOKUP(A2927,Insumos!A:B,2,FALSE),\"\")","v":""}]
[null,null,{"$f":"IFERROR(VLOOKUP(A2928,Insumos!A:B,2,FALSE),\"\")","v":""}]
[null,null,{"$f":"IFERROR(VLOOKUP(A2929,Insumos!A:B,2,FALSE),\"\")","v":""}]
[null,null,{"$f":"IFERROR(VLOOKUP(A2930,Insumos!A:B,2,FALSE),\"\")","v":""}]
[null,null,{"$f":"IFERROR(VLOOKUP(A2931,Insumos!A:B,2,FALSE),\"\")","v":""}]
[null,null,{"$f":"IFERROR(VLOOKUP(A2932,Insumos!A:B,2,FALSE),\"\")","v":""}]
[null,null,{"$f":"IFERROR(VLOOKUP(A2933,Insumos!A:B,2,FALSE),\"\")","v":""}]
[null,null,{"$f":"IFERROR(VLOOKUP(A2934,Insumos!A:B,2,FALSE),\"\")","v":""}]
[null,null,{"$f":"IFERROR(VLOOKUP(A2935,Insumos!A:B,2,FALSE),\"\")","v":""}]
[null,null,{"$f":"IFERROR(VLOOKUP(A2936,Insumos!A:B,2,FALSE),\"\")","v":""}]
[null,null,{"$f":"IFERROR(VLOOKUP(A2937,Insumos!A:B,2,FALSE),\"\")","v":""}]
[null,null,{"$f":"IFERROR(VLOOKUP(A2938,Insumos!A:B,2,FALSE),\"\")","v":""}]
[null,null,{"$f":"IFERROR(VLOOKUP(A2939,Insumos!A:B,2,FALSE),\"\")","v":""}]
[null,null,{"$f":"IFERROR(VLOOKUP(A2940,Insumos!A:B,2,FALSE),\"\")","v":""}]
[null,null,{"$f":"IFERROR(VLOOKUP(A2941,Insumos!A:B,2,FALSE),\"\")","v":""}]
[null,null,{"$f":"IFERROR(VLOOKUP(A2942,Insumos!A:B,2,FALSE),\"\")","v":""}]
[null,null,{"$f":"IFERROR(VLOOKUP(A2943,Insumos!A:B,2,FALSE),\"\")","v":""}]
[null,null,{"$f":"IFERROR(VLOOKUP(A2944,Insumos!A:B,2,FALSE),\"\")","v":""}]
[null,null,{"$f":"IFERROR(VLOOKUP(A2945,Insumos!A:B,2,FALSE),\"\")","v":""}]
[null,null,{"$f":"IFERROR(VLOOKUP(A2946,Insumos!A:B,2,FALSE),\"\")","v":""}]
[null,null,{"$f":"IFERROR(VLOOKUP(A2947,Insumos!A:B,2,FALSE),\"\")","v":""}]
[null,null,{"$f":"IFERROR(VLOOKUP(A2948,Insumos!A:B,2,FALSE),\"\")","v":""}]
[null,null,{"$f":"IFERROR(VLOOKUP(A2949,Insumos!A:B,2,FALSE),\"\")","v":""}]
[null,null,{"$f":"IFERROR(VLOOKUP(A2950,Insumos!A:B,2,FALSE),\"\")","v":""}]
[null,null,{"$f":"IFERROR(VLOOKUP(A2951,Insumos!A:B,2,FALSE),\"\")","v":""}]
[null,null,{"$f":"IFERROR(VLOOKUP(A2952,Insumos!A:B,2,FALSE),\"\")","v":""}]
[null,null,{"$f":"IFERROR(VLOOKUP(A2953,Insumos!A:B,2,FALSE),\"\")","v":""}]
[null,null,{"$f":"IFERROR(VLOOKUP(A2954,Insumos!A:B,2,FALSE),\"\")","v":""}]
[null,null,{"$f":"IFERROR(VLOOKUP(A2955,Insumos!A:B,2,FALSE),\"\")","v":""}]
[null,null,{"$f":"IFERROR(VLOOKUP(A2956,Insumos!A:B,2,FALSE),\"\")","v":""}]
[null,null,{"$f":"IFERROR(VLOOKUP(A2957,Insumos!A:B,2,FALSE),\"\")","v":""}]
[null,null,{"$f":"IFERROR(VLOOKUP(A2958,Insumos!A:B,2,FALSE),\"\")","v":""}]
[null,null,{"$f":"IFERROR(VLOOKUP(A2959,Insumos!A:B,2,FALSE),\"\")","v":""}]
[null,null,{"$f":"IFERROR(VLOOKUP(A2960,Insumos!A:B,2,FALSE),\"\")","v":""}]
[null,null,{"$f":"IFERROR(VLOOKUP(A2961,Insumos!A:B,2,FALSE),\"\")","v":""}]
[null,null,{"$f":"IFERROR(VLOOKUP(A2962,Insumos!A:B,2,FALSE),\"\")","v":""}]
[null,null,{"$f":"IFERROR(VLOOKUP(A2963,Insumos!A:B,2,FALSE),\"\")","v":""}]
[null,null,{"$f":"IFERROR(VLOOKUP(A2964,Insumos!A:B,2,FALSE),\"\")","v":""}]
[null,null,{"$f":"IFERROR(VLOOKUP(A2965,Insumos!A:B,2,FALSE),\"\")","v":""}]
[null,null,{"$f":"IFERROR(VLOOKUP(A2966,Insumos!A:B,2,FALSE),\"\")","v":""}]
[null,null,{"$f":"IFERROR(VLOOKUP(A2967,Insumos!A:B,2,FALSE),\"\")","v":""}]
[null,null,{"$f":"IFERROR(VLOOKUP(A2968,Insumos!A:B,2,FALSE),\"\")","v":""}]
[null,null,{"$f":"IFERROR(VLOOKUP(A2969,Insumos!A:B,2,FALSE),\"\")","v":""}]
[null,null,{"$f":"IFERROR(VLOOKUP(A2970,Insumos!A:B,2,FALSE),\"\")","v":""}]
[null,null,{"$f":"IFERROR(VLOOKUP(A2971,Insumos!A:B,2,FALSE),\"\")","v":""}]
[null,null,{"$f":"IFERROR(VLOOKUP(A2972,Insumos!A:B,2,FALSE),\"\")","v":""}]
[null,null,{"$f":"IFERROR(VLOOKUP(A2973,Insumos!A:B,2,FALSE),\"\")","v":""}]
[null,null,{"$f":"IFERROR(VLOOKUP(A2974,Insumos!A:B,2,FALSE),\"\")","v":""}]
[null,null,{"$f":"IFERROR(VLOOKUP(A2975,Insumos!A:B,2,FALSE),\"\")","v":""}]
[null,null,{"$f":"IFERROR(VLOOKUP(A2976,Insumos!A:B,2,FALSE),\"\")","v":""}]
[null,null,{"$f":"IFERROR(VLOOKUP(A2977,Insumos!A:B,2,FALSE),\"\")","v":""}]
[null,null,{"$f":"IFERROR(VLOOKUP(A2978,Insumos!A:B,2,FALSE),\"\")","v":""}]
[null,null,{"$f":"IFERROR(VLOOKUP(A2979,Insumos!A:B,2,FALSE),\"\")","v":""}]
[null,null,{"$f":"IFERROR(VLOOKUP(A2980,Insumos!A:B,2,FALSE),\"\")","v":""}]
[null,null,{"$f":"IFERROR(VLOOKUP(A2981,Insumos!A:B,2,FALSE),\"\")","v":""}]
[null,null,{"$f":"IFERROR(VLOOKUP(A2982,Insumos!A:B,2,FALSE),\"\")","v":""}]
[null,null,{"$f":"IFERROR(VLOOKUP(A2983,Insumos!A:B,2,FALSE),\"\")","v":""}]
[null,null,{"$f":"IFERROR(VLOOKUP(A2984,Insumos!A:B,2,FALSE),\"\")","v":""}]
[null,null,{"$f":"IFERROR(VLOOKUP(A2985,Insumos!A:B,2,FALSE),\"\")","v":""}]
[null,null,{"$f":"IFERROR(VLOOKUP(A2986,Insumos!A:B,2,FALSE),\"\")","v":""}]
[null,null,{"$f":"IFERROR(VLOOKUP(A2987,Insumos!A:B,2,FALSE),\"\")","v":""}]
[null,null,{"$f":"IFERROR(VLOOKUP(A2988,Insumos!A:B,2,FALSE),\"\")","v":""}]
[null,null,{"$f":"IFERROR(VLOOKUP(A2989,Insumos!A:B,2,FALSE),\"\")","v":""}]
[null,null,{"$f":"IFERROR(VLOOKUP(A2990,Insumos!A:B,2,FALSE),\"\")","v":""}]
[null,null,{"$f":"IFERROR(VLOOKUP(A2991,Insumos!A:B,2,FALSE),\"\")","v":""}]
[null,null,{"$f":"IFERROR(VLOOKUP(A2992,Insumos!A:B,2,FALSE),\"\")","v":""}]
[null,null,{"$f":"IFERROR(VLOOKUP(A2993,Insumos!A:B,2,FALSE),\"\")","v":""}]
[null,null,{"$f":"IFERROR(VLOOKUP(A2994,Insumos!A:B,2,FALSE),\"\")","v":""}]
[null,null,{"$f":"IFERROR(VLOOKUP(A2995,Insumos!A:B,2,FALSE),\"\")","v":""}]
[null,null,{"$f":"IFERROR(VLOOKUP(A2996,Insumos!A:B,2,FALSE),\"\")","v":""}]
[null,null,{"$f":"IFERROR(VLOOKUP(A2997,Insumos!A:B,2,FALSE),\"\")","v":""}]
[null,null,{"$f":"IFERROR(VLOOKUP(A2998,Insumos!A:B,2,FALSE),\"\")","v":""}]
[null,null,{"$f":"IFERROR(VLOOKUP(A2999,Insumos!A:B,2,FALSE),\"\")","v":""}]
[null,null,{"$f":"IFERROR(VLOOKUP(A3000,Insumos!A:B,2,FALSE),\"\")","v":""}]
[null,null,{"$f":"IFERROR(VLOOKUP(A3001,Insumos!A:B,2,FALSE),\"\")","v":""}]
[null,null,{"$f":"IFERROR(VLOOKUP(A3002,Insumos!A:B,2,FALSE),\"\")","v":""}]
[null,null,{"$f":"IFERROR(VLOOKUP(A3003,Insumos!A:B,2,FALSE),\"\")","v":""}]
[null,null,{"$f":"IFERROR(VLOOKUP(A3004,Insumos!A:B,2,FALSE),\"\")","v":""}]
[null,null,{"$f":"IFERROR(VLOOKUP(A3005,Insumos!A:B,2,FALSE),\"\")","v":""}]
[null,null,{"$f":"IFERROR(VLOOKUP(A3006,Insumos!A:B,2,FALSE),\"\")","v":""}]
[null,null,{"$f":"IFERROR(VLOOKUP(A3007,Insumos!A:B,2,FALSE),\"\")","v":""}]
[null,null,{"$f":"IFERROR(VLOOKUP(A3008,Insumos!A:B,2,FALSE),\"\")","v":""}]
[null,null,{"$f":"IFERROR(VLOOKUP(A3009,Insumos!A:B,2,FALSE),\"\")","v":""}]
[null,null,{"$f":"IFERROR(VLOOKUP(A3010,Insumos!A:B,2,FALSE),\"\")","v":""}]
[null,null,{"$f":"IFERROR(VLOOKUP(A3011,Insumos!A:B,2,FALSE),\"\")","v":""}]
[null,null,{"$f":"IFERROR(VLOOKUP(A3012,Insumos!A:B,2,FALSE),\"\")","v":""}]
[null,null,{"$f":"IFERROR(VLOOKUP(A3013,Insumos!A:B,2,FALSE),\"\")","v":""}]
[null,null,{"$f":"IFERROR(VLOOKUP(A3014,Insumos!A:B,2,FALSE),\"\")","v":""}]
[null,null,{"$f":"IFERROR(VLOOKUP(A3015,Insumos!A:B,2,FALSE),\"\")","v":""}]
[null,null,{"$f":"IFERROR(VLOOKUP(A3016,Insumos!A:B,2,FALSE),\"\")","v":""}]
[null,null,{"$f":"IFERROR(VLOOKUP(A3017,Insumos!A:B,2,FALSE),\"\")","v":""}]
[null,null,{"$f":"IFERROR(VLOOKUP(A3018,Insumos!A:B,2,FALSE),\"\")","v":""}]
[null,null,{"$f":"IFERROR(VLOOKUP(A3019,Insumos!A:B,2,FALSE),\"\")","v":""}]
[null,null,{"$f":"IFERROR(VLOOKUP(A3020,Insumos!A:B,2,FALSE),\"\")","v":""}]
[null,null,{"$f":"IFERROR(VLOOKUP(A3021,Insumos!A:B,2,FALSE),\"\")","v":""}]
[null,null,{"$f":"IFERROR(VLOOKUP(A3022,Insumos!A:B,2,FALSE),\"\")","v":""}]
[null,null,{"$f":"IFERROR(VLOOKUP(A3023,Insumos!A:B,2,FALSE),\"\")","v":""}]
[null,null,{"$f":"IFERROR(VLOOKUP(A3024,Insumos!A:B,2,FALSE),\"\")","v":""}]
[null,null,{"$f":"IFERROR(VLOOKUP(A3025,Insumos!A:B,2,FALSE),\"\")","v":""}]
[null,null,{"$f":"IFERROR(VLOOKUP(A3026,Insumos!A:B,2,FALSE),\"\")","v":""}]
[null,null,{"$f":"IFERROR(VLOOKUP(A3027,Insumos!A:B,2,FALSE),\"\")","v":""}]
[null,null,{"$f":"IFERROR(VLOOKUP(A3028,Insumos!A:B,2,FALSE),\"\")","v":""}]
[null,null,{"$f":"IFERROR(VLOOKUP(A3029,Insumos!A:B,2,FALSE),\"\")","v":""}]
[null,null,{"$f":"IFERROR(VLOOKUP(A3030,Insumos!A:B,2,FALSE),\"\")","v":""}]
[null,null,{"$f":"IFERROR(VLOOKUP(A3031,Insumos!A:B,2,FALSE),\"\")","v":""}]
[null,null,{"$f":"IFERROR(VLOOKUP(A3032,Insumos!A:B,2,FALSE),\"\")","v":""}]
[null,null,{"$f":"IFERROR(VLOOKUP(A3033,Insumos!A:B,2,FALSE),\"\")","v":""}]
[null,null,{"$f":"IFERROR(VLOOKUP(A3034,Insumos!A:B,2,FALSE),\"\")","v":""}]
[null,null,{"$f":"IFERROR(VLOOKUP(A3035,Insumos!A:B,2,FALSE),\"\")","v":""}]
[null,null,{"$f":"IFERROR(VLOOKUP(A3036,Insumos!A:B,2,FALSE),\"\")","v":""}]
[null,null,{"$f":"IFERROR(VLOOKUP(A3037,Insumos!A:B,2,FALSE),\"\")","v":""}]
[null,null,{"$f":"IFERROR(VLOOKUP(A3038,Insumos!A:B,2,FALSE),\"\")","v":""}]
[null,null,{"$f":"IFERROR(VLOOKUP(A3039,Insumos!A:B,2,FALSE),\"\")","v":""}]
[null,null,{"$f":"IFERROR(VLOOKUP(A3040,Insumos!A:B,2,FALSE),\"\")","v":""}]
[null,null,{"$f":"IFERROR(VLOOKUP(A3041,Insumos!A:B,2,FALSE),\"\")","v":""}]
[null,null,{"$f":"IFERROR(VLOOKUP(A3042,Insumos!A:B,2,FALSE),\"\")","v":""}]
[null,null,{"$f":"IFERROR(VLOOKUP(A3043,Insumos!A:B,2,FALSE),\"\")","v":""}]
[null,null,{"$f":"IFERROR(VLOOKUP(A3044,Insumos!A:B,2,FALSE),\"\")","v":""}]
[null,null,{"$f":"IFERROR(VLOOKUP(A3045,Insumos!A:B,2,FALSE),\"\")","v":""}]
[null,null,{"$f":"IFERROR(VLOOKUP(A3046,Insumos!A:B,2,FALSE),\"\")","v":""}]
[null,null,{"$f":"IFERROR(VLOOKUP(A3047,Insumos!A:B,2,FALSE),\"\")","v":""}]
[null,null,{"$f":"IFERROR(VLOOKUP(A3048,Insumos!A:B,2,FALSE),\"\")","v":""}]
[null,null,{"$f":"IFERROR(VLOOKUP(A3049,Insumos!A:B,2,FALSE),\"\")","v":""}]
[null,null,{"$f":"IFERROR(VLOOKUP(A3050,Insumos!A:B,2,FALSE),\"\")","v":""}]
[null,null,{"$f":"IFERROR(VLOOKUP(A3051,Insumos!A:B,2,FALSE),\"\")","v":""}]
[null,null,{"$f":"IFERROR(VLOOKUP(A3052,Insumos!A:B,2,FALSE),\"\")","v":""}]
[null,null,{"$f":"IFERROR(VLOOKUP(A3053,Insumos!A:B,2,FALSE),\"\")","v":""}]
[null,null,{"$f":"IFERROR(VLOOKUP(A3054,Insumos!A:B,2,FALSE),\"\")","v":""}]
[null,null,{"$f":"IFERROR(VLOOKUP(A3055,Insumos!A:B,2,FALSE),\"\")","v":""}]
[null,null,{"$f":"IFERROR(VLOOKUP(A3056,Insumos!A:B,2,FALSE),\"\")","v":""}]
[null,null,{"$f":"IFERROR(VLOOKUP(A3057,Insumos!A:B,2,FALSE),\"\")","v":""}]
[null,null,{"$f":"IFERROR(VLOOKUP(A3058,Insumos!A:B,2,FALSE),\"\")","v":""}]
[null,null,{"$f":"IFERROR(VLOOKUP(A3059,Insumos!A:B,2,FALSE),\"\")","v":""}]
[null,null,{"$f":"IFERROR(VLOOKUP(A3060,Insumos!A:B,2,FALSE),\"\")","v":""}]
[null,null,{"$f":"IFERROR(VLOOKUP(A3061,Insumos!A:B,2,FALSE),\"\")","v":""}]
[null,null,{"$f":"IFERROR(VLOOKUP(A3062,Insumos!A:B,2,FALSE),\"\")","v":""}]
[null,null,{"$f":"IFERROR(VLOOKUP(A3063,Insumos!A:B,2,FALSE),\"\")","v":""}]
[null,null,{"$f":"IFERROR(VLOOKUP(A3064,Insumos!A:B,2,FALSE),\"\")","v":""}]
[null,null,{"$f":"IFERROR(VLOOKUP(A3065,Insumos!A:B,2,FALSE),\"\")","v":""}]
[null,null,{"$f":"IFERROR(VLOOKUP(A3066,Insumos!A:B,2,FALSE),\"\")","v":""}]
[null,null,{"$f":"IFERROR(VLOOKUP(A3067,Insumos!A:B,2,FALSE),\"\")","v":""}]
[null,null,{"$f":"IFERROR(VLOOKUP(A3068,Insumos!A:B,2,FALSE),\"\")","v":""}]
[null,null,{"$f":"IFERROR(VLOOKUP(A3069,Insumos!A:B,2,FALSE),\"\")","v":""}]
[null,null,{"$f":"IFERROR(VLOOKUP(A3070,Insumos!A:B,2,FALSE),\"\")","v":""}]
[null,null,{"$f":"IFERROR(VLOOKUP(A3071,Insumos!A:B,2,FALSE),\"\")","v":""}]
[null,null,{"$f":"IFERROR(VLOOKUP(A3072,Insumos!A:B,2,FALSE),\"\")","v":""}]
[null,null,{"$f":"IFERROR(VLOOKUP(A3073,Insumos!A:B,2,FALSE),\"\")","v":""}]
[null,null,{"$f":"IFERROR(VLOOKUP(A3074,Insumos!A:B,2,FALSE),\"\")","v":""}]
[null,null,{"$f":"IFERROR(VLOOKUP(A3075,Insumos!A:B,2,FALSE),\"\")","v":""}]
[null,null,{"$f":"IFERROR(VLOOKUP(A3076,Insumos!A:B,2,FALSE),\"\")","v":""}]
[null,null,{"$f":"IFERROR(VLOOKUP(A3077,Insumos!A:B,2,FALSE),\"\")","v":""}]
[null,null,{"$f":"IFERROR(VLOOKUP(A3078,Insumos!A:B,2,FALSE),\"\")","v":""}]
[null,null,{"$f":"IFERROR(VLOOKUP(A3079,Insumos!A:B,2,FALSE),\"\")","v":""}]
[null,null,{"$f":"IFERROR(VLOOKUP(A3080,Insumos!A:B,2,FALSE),\"\")","v":""}]
[null,null,{"$f":"IFERROR(VLOOKUP(A3081,Insumos!A:B,2,FALSE),\"\")","v":""}]
[null,null,{"$f":"IFERROR(VLOOKUP(A3082,Insumos!A:B,2,FALSE),\"\")","v":""}]
[null,null,{"$f":"IFERROR(VLOOKUP(A3083,Insumos!A:B,2,FALSE),\"\")","v":""}]
[null,null,{"$f":"IFERROR(VLOOKUP(A3084,Insumos!A:B,2,FALSE),\"\")","v":""}]
[null,null,{"$f":"IFERROR(VLOOKUP(A3085,Insumos!A:B,2,FALSE),\"\")","v":""}]
[null,null,{"$f":"IFERROR(VLOOKUP(A3086,Insumos!A:B,2,FALSE),\"\")","v":""}]
[null,null,{"$f":"IFERROR(VLOOKUP(A3087,Insumos!A:B,2,FALSE),\"\")","v":""}]
[null,null,{"$f":"IFERROR(VLOOKUP(A3088,Insumos!A:B,2,FALSE),\"\")","v":""}]
[null,null,{"$f":"IFERROR(VLOOKUP(A3089,Insumos!A:B,2,FALSE),\"\")","v":""}]
[null,null,{"$f":"IFERROR(VLOOKUP(A3090,Insumos!A:B,2,FALSE),\"\")","v":""}]
[null,null,{"$f":"IFERROR(VLOOKUP(A3091,Insumos!A:B,2,FALSE),\"\")","v":""}]
[null,null,{"$f":"IFERROR(VLOOKUP(A3092,Insumos!A:B,2,FALSE),\"\")","v":""}]
[null,null,{"$f":"IFERROR(VLOOKUP(A3093,Insumos!A:B,2,FALSE),\"\")","v":""}]
[null,null,{"$f":"IFERROR(VLOOKUP(A3094,Insumos!A:B,2,FALSE),\"\")","v":""}]
[null,null,{"$f":"IFERROR(VLOOKUP(A3095,Insumos!A:B,2,FALSE),\"\")","v":""}]
[null,null,{"$f":"IFERROR(VLOOKUP(A3096,Insumos!A:B,2,FALSE),\"\")","v":""}]
[null,null,{"$f":"IFERROR(VLOOKUP(A3097,Insumos!A:B,2,FALSE),\"\")","v":""}]
[null,null,{"$f":"IFERROR(VLOOKUP(A3098,Insumos!A:B,2,FALSE),\"\")","v":""}]
[null,null,{"$f":"IFERROR(VLOOKUP(A3099,Insumos!A:B,2,FALSE),\"\")","v":""}]
[null,null,{"$f":"IFERROR(VLOOKUP(A3100,Insumos!A:B,2,FALSE),\"\")","v":""}]
[null,null,{"$f":"IFERROR(VLOOKUP(A3101,Insumos!A:B,2,FALSE),\"\")","v":""}]
[null,null,{"$f":"IFERROR(VLOOKUP(A3102,Insumos!A:B,2,FALSE),\"\")","v":""}]
[null,null,{"$f":"IFERROR(VLOOKUP(A3103,Insumos!A:B,2,FALSE),\"\")","v":""}]
[null,null,{"$f":"IFERROR(VLOOKUP(A3104,Insumos!A:B,2,FALSE),\"\")","v":""}]
[null,null,{"$f":"IFERROR(VLOOKUP(A3105,Insumos!A:B,2,FALSE),\"\")","v":""}]
[null,null,{"$f":"IFERROR(VLOOKUP(A3106,Insumos!A:B,2,FALSE),\"\")","v":""}]
[null,null,{"$f":"IFERROR(VLOOKUP(A3107,Insumos!A:B,2,FALSE),\"\")","v":""}]
[null,null,{"$f":"IFERROR(VLOOKUP(A3108,Insumos!A:B,2,FALSE),\"\")","v":""}]
[null,null,{"$f":"IFERROR(VLOOKUP(A3109,Insumos!A:B,2,FALSE),\"\")","v":""}]
[null,null,{"$f":"IFERROR(VLOOKUP(A3110,Insumos!A:B,2,FALSE),\"\")","v":""}]
[null,null,{"$f":"IFERROR(VLOOKUP(A3111,Insumos!A:B,2,FALSE),\"\")","v":""}]
[null,null,{"$f":"IFERROR(VLOOKUP(A3112,Insumos!A:B,2,FALSE),\"\")","v":""}]
[null,null,{"$f":"IFERROR(VLOOKUP(A3113,Insumos!A:B,2,FALSE),\"\")","v":""}]
[null,null,{"$f":"IFERROR(VLOOKUP(A3114,Insumos!A:B,2,FALSE),\"\")","v":""}]
[null,null,{"$f":"IFERROR(VLOOKUP(A3115,Insumos!A:B,2,FALSE),\"\")","v":""}]
[null,null,{"$f":"IFERROR(VLOOKUP(A3116,Insumos!A:B,2,FALSE),\"\")","v":""}]
[null,null,{"$f":"IFERROR(VLOOKUP(A3117,Insumos!A:B,2,FALSE),\"\")","v":""}]
[null,null,{"$f":"IFERROR(VLOOKUP(A3118,Insumos!A:B,2,FALSE),\"\")","v":""}]
[null,null,{"$f":"IFERROR(VLOOKUP(A3119,Insumos!A:B,2,FALSE),\"\")","v":""}]
[null,null,{"$f":"IFERROR(VLOOKUP(A3120,Insumos!A:B,2,FALSE),\"\")","v":""}]
[null,null,{"$f":"IFERROR(VLOOKUP(A3121,Insumos!A:B,2,FALSE),\"\")","v":""}]
[null,null,{"$f":"IFERROR(VLOOKUP(A3122,Insumos!A:B,2,FALSE),\"\")","v":""}]
[null,null,{"$f":"IFERROR(VLOOKUP(A3123,Insumos!A:B,2,FALSE),\"\")","v":""}]
[null,null,{"$f":"IFERROR(VLOOKUP(A3124,Insumos!A:B,2,FALSE),\"\")","v":""}]
[null,null,{"$f":"IFERROR(VLOOKUP(A3125,Insumos!A:B,2,FALSE),\"\")","v":""}]
[null,null,{"$f":"IFERROR(VLOOKUP(A3126,Insumos!A:B,2,FALSE),\"\")","v":""}]
[null,null,{"$f":"IFERROR(VLOOKUP(A3127,Insumos!A:B,2,FALSE),\"\")","v":""}]
[null,null,{"$f":"IFERROR(VLOOKUP(A3128,Insumos!A:B,2,FALSE),\"\")","v":""}]
[null,null,{"$f":"IFERROR(VLOOKUP(A3129,Insumos!A:B,2,FALSE),\"\")","v":""}]
[null,null,{"$f":"IFERROR(VLOOKUP(A3130,Insumos!A:B,2,FALSE),\"\")","v":""}]
[null,null,{"$f":"IFERROR(VLOOKUP(A3131,Insumos!A:B,2,FALSE),\"\")","v":""}]
[null,null,{"$f":"IFERROR(VLOOKUP(A3132,Insumos!A:B,2,FALSE),\"\")","v":""}]
[null,null,{"$f":"IFERROR(VLOOKUP(A3133,Insumos!A:B,2,FALSE),\"\")","v":""}]
[null,null,{"$f":"IFERROR(VLOOKUP(A3134,Insumos!A:B,2,FALSE),\"\")","v":""}]
[null,null,{"$f":"IFERROR(VLOOKUP(A3135,Insumos!A:B,2,FALSE),\"\")","v":""}]
[null,null,{"$f":"IFERROR(VLOOKUP(A3136,Insumos!A:B,2,FALSE),\"\")","v":""}]
[null,null,{"$f":"IFERROR(VLOOKUP(A3137,Insumos!A:B,2,FALSE),\"\")","v":""}]
[null,null,{"$f":"IFERROR(VLOOKUP(A3138,Insumos!A:B,2,FALSE),\"\")","v":""}]
[null,null,{"$f":"IFERROR(VLOOKUP(A3139,Insumos!A:B,2,FALSE),\"\")","v":""}]
[null,null,{"$f":"IFERROR(VLOOKUP(A3140,Insumos!A:B,2,FALSE),\"\")","v":""}]
[null,null,{"$f":"IFERROR(VLOOKUP(A3141,Insumos!A:B,2,FALSE),\"\")","v":""}]
[null,null,{"$f":"IFERROR(VLOOKUP(A3142,Insumos!A:B,2,FALSE),\"\")","v":""}]
[null,null,{"$f":"IFERROR(VLOOKUP(A3143,Insumos!A:B,2,FALSE),\"\")","v":""}]
[null,null,{"$f":"IFERROR(VLOOKUP(A3144,Insumos!A:B,2,FALSE),\"\")","v":""}]
[null,null,{"$f":"IFERROR(VLOOKUP(A3145,Insumos!A:B,2,FALSE),\"\")","v":""}]
[null,null,{"$f":"IFERROR(VLOOKUP(A3146,Insumos!A:B,2,FALSE),\"\")","v":""}]
[null,null,{"$f":"IFERROR(VLOOKUP(A3147,Insumos!A:B,2,FALSE),\"\")","v":""}]
[null,null,{"$f":"IFERROR(VLOOKUP(A3148,Insumos!A:B,2,FALSE),\"\")","v":""}]
[null,null,{"$f":"IFERROR(VLOOKUP(A3149,Insumos!A:B,2,FALSE),\"\")","v":""}]
[null,null,{"$f":"IFERROR(VLOOKUP(A3150,Insumos!A:B,2,FALSE),\"\")","v":""}]
[null,null,{"$f":"IFERROR(VLOOKUP(A3151,Insumos!A:B,2,FALSE),\"\")","v":""}]
[null,null,{"$f":"IFERROR(VLOOKUP(A3152,Insumos!A:B,2,FALSE),\"\")","v":""}]
[null,null,{"$f":"IFERROR(VLOOKUP(A3153,Insumos!A:B,2,FALSE),\"\")","v":""}]
[null,null,{"$f":"IFERROR(VLOOKUP(A3154,Insumos!A:B,2,FALSE),\"\")","v":""}]
[null,null,{"$f":"IFERROR(VLOOKUP(A3155,Insumos!A:B,2,FALSE),\"\")","v":""}]
[null,null,{"$f":"IFERROR(VLOOKUP(A3156,Insumos!A:B,2,FALSE),\"\")","v":""}]
[null,null,{"$f":"IFERROR(VLOOKUP(A3157,Insumos!A:B,2,FALSE),\"\")","v":""}]
[null,null,{"$f":"IFERROR(VLOOKUP(A3158,Insumos!A:B,2,FALSE),\"\")","v":""}]
[null,null,{"$f":"IFERROR(VLOOKUP(A3159,Insumos!A:B,2,FALSE),\"\")","v":""}]
[null,null,{"$f":"IFERROR(VLOOKUP(A3160,Insumos!A:B,2,FALSE),\"\")","v":""}]
[null,null,{"$f":"IFERROR(VLOOKUP(A3161,Insumos!A:B,2,FALSE),\"\")","v":""}]
[null,null,{"$f":"IFERROR(VLOOKUP(A3162,Insumos!A:B,2,FALSE),\"\")","v":""}]
[null,null,{"$f":"IFERROR(VLOOKUP(A3163,Insumos!A:B,2,FALSE),\"\")","v":""}]
[null,null,{"$f":"IFERROR(VLOOKUP(A3164,Insumos!A:B,2,FALSE),\"\")","v":""}]
[null,null,{"$f":"IFERROR(VLOOKUP(A3165,Insumos!A:B,2,FALSE),\"\")","v":""}]
[null,null,{"$f":"IFERROR(VLOOKUP(A3166,Insumos!A:B,2,FALSE),\"\")","v":""}]
[null,null,{"$f":"IFERROR(VLOOKUP(A3167,Insumos!A:B,2,FALSE),\"\")","v":""}]
[null,null,{"$f":"IFERROR(VLOOKUP(A3168,Insumos!A:B,2,FALSE),\"\")","v":""}]
[null,null,{"$f":"IFERROR(VLOOKUP(A3169,Insumos!A:B,2,FALSE),\"\")","v":""}]
[null,null,{"$f":"IFERROR(VLOOKUP(A3170,Insumos!A:B,2,FALSE),\"\")","v":""}]
[null,null,{"$f":"IFERROR(VLOOKUP(A3171,Insumos!A:B,2,FALSE),\"\")","v":""}]
[null,null,{"$f":"IFERROR(VLOOKUP(A3172,Insumos!A:B,2,FALSE),\"\")","v":""}]
[null,null,{"$f":"IFERROR(VLOOKUP(A3173,Insumos!A:B,2,FALSE),\"\")","v":""}]
[null,null,{"$f":"IFERROR(VLOOKUP(A3174,Insumos!A:B,2,FALSE),\"\")","v":""}]
[null,null,{"$f":"IFERROR(VLOOKUP(A3175,Insumos!A:B,2,FALSE),\"\")","v":""}]
[null,null,{"$f":"IFERROR(VLOOKUP(A3176,Insumos!A:B,2,FALSE),\"\")","v":""}]
[null,null,{"$f":"IFERROR(VLOOKUP(A3177,Insumos!A:B,2,FALSE),\"\")","v":""}]
[null,null,{"$f":"IFERROR(VLOOKUP(A3178,Insumos!A:B,2,FALSE),\"\")","v":""}]
[null,null,{"$f":"IFERROR(VLOOKUP(A3179,Insumos!A:B,2,FALSE),\"\")","v":""}]
[null,null,{"$f":"IFERROR(VLOOKUP(A3180,Insumos!A:B,2,FALSE),\"\")","v":""}]
[null,null,{"$f":"IFERROR(VLOOKUP(A3181,Insumos!A:B,2,FALSE),\"\")","v":""}]
[null,null,{"$f":"IFERROR(VLOOKUP(A3182,Insumos!A:B,2,FALSE),\"\")","v":""}]
[null,null,{"$f":"IFERROR(VLOOKUP(A3183,Insumos!A:B,2,FALSE),\"\")","v":""}]
[null,null,{"$f":"IFERROR(VLOOKUP(A3184,Insumos!A:B,2,FALSE),\"\")","v":""}]
[null,null,{"$f":"IFERROR(VLOOKUP(A3185,Insumos!A:B,2,FALSE),\"\")","v":""}]
[null,null,{"$f":"IFERROR(VLOOKUP(A3186,Insumos!A:B,2,FALSE),\"\")","v":""}]
[null,null,{"$f":"IFERROR(VLOOKUP(A3187,Insumos!A:B,2,FALSE),\"\")","v":""}]
[null,null,{"$f":"IFERROR(VLOOKUP(A3188,Insumos!A:B,2,FALSE),\"\")","v":""}]
[null,null,{"$f":"IFERROR(VLOOKUP(A3189,Insumos!A:B,2,FALSE),\"\")","v":""}]
[null,null,{"$f":"IFERROR(VLOOKUP(A3190,Insumos!A:B,2,FALSE),\"\")","v":""}]
[null,null,{"$f":"IFERROR(VLOOKUP(A3191,Insumos!A:B,2,FALSE),\"\")","v":""}]
[null,null,{"$f":"IFERROR(VLOOKUP(A3192,Insumos!A:B,2,FALSE),\"\")","v":""}]
[null,null,{"$f":"IFERROR(VLOOKUP(A3193,Insumos!A:B,2,FALSE),\"\")","v":""}]
[null,null,{"$f":"IFERROR(VLOOKUP(A3194,Insumos!A:B,2,FALSE),\"\")","v":""}]
[null,null,{"$f":"IFERROR(VLOOKUP(A3195,Insumos!A:B,2,FALSE),\"\")","v":""}]
[null,null,{"$f":"IFERROR(VLOOKUP(A3196,Insumos!A:B,2,FALSE),\"\")","v":""}]
[null,null,{"$f":"IFERROR(VLOOKUP(A3197,Insumos!A:B,2,FALSE),\"\")","v":""}]
[null,null,{"$f":"IFERROR(VLOOKUP(A3198,Insumos!A:B,2,FALSE),\"\")","v":""}]
[null,null,{"$f":"IFERROR(VLOOKUP(A3199,Insumos!A:B,2,FALSE),\"\")","v":""}]
[null,null,{"$f":"IFERROR(VLOOKUP(A3200,Insumos!A:B,2,FALSE),\"\")","v":""}]
[null,null,{"$f":"IFERROR(VLOOKUP(A3201,Insumos!A:B,2,FALSE),\"\")","v":""}]
[null,null,{"$f":"IFERROR(VLOOKUP(A3202,Insumos!A:B,2,FALSE),\"\")","v":""}]
[null,null,{"$f":"IFERROR(VLOOKUP(A3203,Insumos!A:B,2,FALSE),\"\")","v":""}]
[null,null,{"$f":"IFERROR(VLOOKUP(A3204,Insumos!A:B,2,FALSE),\"\")","v":""}]
[null,null,{"$f":"IFERROR(VLOOKUP(A3205,Insumos!A:B,2,FALSE),\"\")","v":""}]
[null,null,{"$f":"IFERROR(VLOOKUP(A3206,Insumos!A:B,2,FALSE),\"\")","v":""}]
[null,null,{"$f":"IFERROR(VLOOKUP(A3207,Insumos!A:B,2,FALSE),\"\")","v":""}]
[null,null,{"$f":"IFERROR(VLOOKUP(A3208,Insumos!A:B,2,FALSE),\"\")","v":""}]
[null,null,{"$f":"IFERROR(VLOOKUP(A3209,Insumos!A:B,2,FALSE),\"\")","v":""}]
[null,null,{"$f":"IFERROR(VLOOKUP(A3210,Insumos!A:B,2,FALSE),\"\")","v":""}]
[null,null,{"$f":"IFERROR(VLOOKUP(A3211,Insumos!A:B,2,FALSE),\"\")","v":""}]
[null,null,{"$f":"IFERROR(VLOOKUP(A3212,Insumos!A:B,2,FALSE),\"\")","v":""}]
[null,null,{"$f":"IFERROR(VLOOKUP(A3213,Insumos!A:B,2,FALSE),\"\")","v":""}]
[null,null,{"$f":"IFERROR(VLOOKUP(A3214,Insumos!A:B,2,FALSE),\"\")","v":""}]
[null,null,{"$f":"IFERROR(VLOOKUP(A3215,Insumos!A:B,2,FALSE),\"\")","v":""}]
[null,null,{"$f":"IFERROR(VLOOKUP(A3216,Insumos!A:B,2,FALSE),\"\")","v":""}]
[null,null,{"$f":"IFERROR(VLOOKUP(A3217,Insumos!A:B,2,FALSE),\"\")","v":""}]
[null,null,{"$f":"IFERROR(VLOOKUP(A3218,Insumos!A:B,2,FALSE),\"\")","v":""}]
[null,null,{"$f":"IFERROR(VLOOKUP(A3219,Insumos!A:B,2,FALSE),\"\")","v":""}]
[null,null,{"$f":"IFERROR(VLOOKUP(A3220,Insumos!A:B,2,FALSE),\"\")","v":""}]
[null,null,{"$f":"IFERROR(VLOOKUP(A3221,Insumos!A:B,2,FALSE),\"\")","v":""}]
[null,null,{"$f":"IFERROR(VLOOKUP(A3222,Insumos!A:B,2,FALSE),\"\")","v":""}]
[null,null,{"$f":"IFERROR(VLOOKUP(A3223,Insumos!A:B,2,FALSE),\"\")","v":""}]
[null,null,{"$f":"IFERROR(VLOOKUP(A3224,Insumos!A:B,2,FALSE),\"\")","v":""}]
[null,null,{"$f":"IFERROR(VLOOKUP(A3225,Insumos!A:B,2,FALSE),\"\")","v":""}]
[null,null,{"$f":"IFERROR(VLOOKUP(A3226,Insumos!A:B,2,FALSE),\"\")","v":""}]
[null,null,{"$f":"IFERROR(VLOOKUP(A3227,Insumos!A:B,2,FALSE),\"\")","v":""}]
[null,null,{"$f":"IFERROR(VLOOKUP(A3228,Insumos!A:B,2,FALSE),\"\")","v":""}]
[null,null,{"$f":"IFERROR(VLOOKUP(A3229,Insumos!A:B,2,FALSE),\"\")","v":""}]
[null,null,{"$f":"IFERROR(VLOOKUP(A3230,Insumos!A:B,2,FALSE),\"\")","v":""}]
[null,null,{"$f":"IFERROR(VLOOKUP(A3231,Insumos!A:B,2,FALSE),\"\")","v":""}]
[null,null,{"$f":"IFERROR(VLOOKUP(A3232,Insumos!A:B,2,FALSE),\"\")","v":""}]
[null,null,{"$f":"IFERROR(VLOOKUP(A3233,Insumos!A:B,2,FALSE),\"\")","v":""}]
[null,null,{"$f":"IFERROR(VLOOKUP(A3234,Insumos!A:B,2,FALSE),\"\")","v":""}]
[null,null,{"$f":"IFERROR(VLOOKUP(A3235,Insumos!A:B,2,FALSE),\"\")","v":""}]
[null,null,{"$f":"IFERROR(VLOOKUP(A3236,Insumos!A:B,2,FALSE),\"\")","v":""}]
[null,null,{"$f":"IFERROR(VLOOKUP(A3237,Insumos!A:B,2,FALSE),\"\")","v":""}]
[null,null,{"$f":"IFERROR(VLOOKUP(A3238,Insumos!A:B,2,FALSE),\"\")","v":""}]
[null,null,{"$f":"IFERROR(VLOOKUP(A3239,Insumos!A:B,2,FALSE),\"\")","v":""}]
[null,null,{"$f":"IFERROR(VLOOKUP(A3240,Insumos!A:B,2,FALSE),\"\")","v":""}]
[null,null,{"$f":"IFERROR(VLOOKUP(A3241,Insumos!A:B,2,FALSE),\"\")","v":""}]
[null,null,{"$f":"IFERROR(VLOOKUP(A3242,Insumos!A:B,2,FALSE),\"\")","v":""}]
[null,null,{"$f":"IFERROR(VLOOKUP(A3243,Insumos!A:B,2,FALSE),\"\")","v":""}]
[null,null,{"$f":"IFERROR(VLOOKUP(A3244,Insumos!A:B,2,FALSE),\"\")","v":""}]
[null,null,{"$f":"IFERROR(VLOOKUP(A3245,Insumos!A:B,2,FALSE),\"\")","v":""}]
[null,null,{"$f":"IFERROR(VLOOKUP(A3246,Insumos!A:B,2,FALSE),\"\")","v":""}]
[null,null,{"$f":"IFERROR(VLOOKUP(A3247,Insumos!A:B,2,FALSE),\"\")","v":""}]
[null,null,{"$f":"IFERROR(VLOOKUP(A3248,Insumos!A:B,2,FALSE),\"\")","v":""}]
[null,null,{"$f":"IFERROR(VLOOKUP(A3249,Insumos!A:B,2,FALSE),\"\")","v":""}]
[null,null,{"$f":"IFERROR(VLOOKUP(A3250,Insumos!A:B,2,FALSE),\"\")","v":""}]
[null,null,{"$f":"IFERROR(VLOOKUP(A3251,Insumos!A:B,2,FALSE),\"\")","v":""}]
[null,null,{"$f":"IFERROR(VLOOKUP(A3252,Insumos!A:B,2,FALSE),\"\")","v":""}]
[null,null,{"$f":"IFERROR(VLOOKUP(A3253,Insumos!A:B,2,FALSE),\"\")","v":""}]
[null,null,{"$f":"IFERROR(VLOOKUP(A3254,Insumos!A:B,2,FALSE),\"\")","v":""}]
[null,null,{"$f":"IFERROR(VLOOKUP(A3255,Insumos!A:B,2,FALSE),\"\")","v":""}]
[null,null,{"$f":"IFERROR(VLOOKUP(A3256,Insumos!A:B,2,FALSE),\"\")","v":""}]
[null,null,{"$f":"IFERROR(VLOOKUP(A3257,Insumos!A:B,2,FALSE),\"\")","v":""}]
[null,null,{"$f":"IFERROR(VLOOKUP(A3258,Insumos!A:B,2,FALSE),\"\")","v":""}]
[null,null,{"$f":"IFERROR(VLOOKUP(A3259,Insumos!A:B,2,FALSE),\"\")","v":""}]
[null,null,{"$f":"IFERROR(VLOOKUP(A3260,Insumos!A:B,2,FALSE),\"\")","v":""}]
[null,null,{"$f":"IFERROR(VLOOKUP(A3261,Insumos!A:B,2,FALSE),\"\")","v":""}]
[null,null,{"$f":"IFERROR(VLOOKUP(A3262,Insumos!A:B,2,FALSE),\"\")","v":""}]
[null,null,{"$f":"IFERROR(VLOOKUP(A3263,Insumos!A:B,2,FALSE),\"\")","v":""}]
[null,null,{"$f":"IFERROR(VLOOKUP(A3264,Insumos!A:B,2,FALSE),\"\")","v":""}]
[null,null,{"$f":"IFERROR(VLOOKUP(A3265,Insumos!A:B,2,FALSE),\"\")","v":""}]
[null,null,{"$f":"IFERROR(VLOOKUP(A3266,Insumos!A:B,2,FALSE),\"\")","v":""}]
[null,null,{"$f":"IFERROR(VLOOKUP(A3267,Insumos!A:B,2,FALSE),\"\")","v":""}]
[null,null,{"$f":"IFERROR(VLOOKUP(A3268,Insumos!A:B,2,FALSE),\"\")","v":""}]
[null,null,{"$f":"IFERROR(VLOOKUP(A3269,Insumos!A:B,2,FALSE),\"\")","v":""}]
[null,null,{"$f":"IFERROR(VLOOKUP(A3270,Insumos!A:B,2,FALSE),\"\")","v":""}]
[null,null,{"$f":"IFERROR(VLOOKUP(A3271,Insumos!A:B,2,FALSE),\"\")","v":""}]
[null,null,{"$f":"IFERROR(VLOOKUP(A3272,Insumos!A:B,2,FALSE),\"\")","v":""}]
[null,null,{"$f":"IFERROR(VLOOKUP(A3273,Insumos!A:B,2,FALSE),\"\")","v":""}]
[null,null,{"$f":"IFERROR(VLOOKUP(A3274,Insumos!A:B,2,FALSE),\"\")","v":""}]
[null,null,{"$f":"IFERROR(VLOOKUP(A3275,Insumos!A:B,2,FALSE),\"\")","v":""}]
[null,null,{"$f":"IFERROR(VLOOKUP(A3276,Insumos!A:B,2,FALSE),\"\")","v":""}]
[null,null,{"$f":"IFERROR(VLOOKUP(A3277,Insumos!A:B,2,FALSE),\"\")","v":""}]
[null,null,{"$f":"IFERROR(VLOOKUP(A3278,Insumos!A:B,2,FALSE),\"\")","v":""}]
[null,null,{"$f":"IFERROR(VLOOKUP(A3279,Insumos!A:B,2,FALSE),\"\")","v":""}]
[null,null,{"$f":"IFERROR(VLOOKUP(A3280,Insumos!A:B,2,FALSE),\"\")","v":""}]
[null,null,{"$f":"IFERROR(VLOOKUP(A3281,Insumos!A:B,2,FALSE),\"\")","v":""}]
[null,null,{"$f":"IFERROR(VLOOKUP(A3282,Insumos!A:B,2,FALSE),\"\")","v":""}]
[null,null,{"$f":"IFERROR(VLOOKUP(A3283,Insumos!A:B,2,FALSE),\"\")","v":""}]
[null,null,{"$f":"IFERROR(VLOOKUP(A3284,Insumos!A:B,2,FALSE),\"\")","v":""}]
[null,null,{"$f":"IFERROR(VLOOKUP(A3285,Insumos!A:B,2,FALSE),\"\")","v":""}]
[null,null,{"$f":"IFERROR(VLOOKUP(A3286,Insumos!A:B,2,FALSE),\"\")","v":""}]
[null,null,{"$f":"IFERROR(VLOOKUP(A3287,Insumos!A:B,2,FALSE),\"\")","v":""}]
[null,null,{"$f":"IFERROR(VLOOKUP(A3288,Insumos!A:B,2,FALSE),\"\")","v":""}]
[null,null,{"$f":"IFERROR(VLOOKUP(A3289,Insumos!A:B,2,FALSE),\"\")","v":""}]
[null,null,{"$f":"IFERROR(VLOOKUP(A3290,Insumos!A:B,2,FALSE),\"\")","v":""}]
[null,null,{"$f":"IFERROR(VLOOKUP(A3291,Insumos!A:B,2,FALSE),\"\")","v":""}]
[null,null,{"$f":"IFERROR(VLOOKUP(A3292,Insumos!A:B,2,FALSE),\"\")","v":""}]
[null,null,{"$f":"IFERROR(VLOOKUP(A3293,Insumos!A:B,2,FALSE),\"\")","v":""}]
[null,null,{"$f":"IFERROR(VLOOKUP(A3294,Insumos!A:B,2,FALSE),\"\")","v":""}]
[null,null,{"$f":"IFERROR(VLOOKUP(A3295,Insumos!A:B,2,FALSE),\"\")","v":""}]
[null,null,{"$f":"IFERROR(VLOOKUP(A3296,Insumos!A:B,2,FALSE),\"\")","v":""}]
[null,null,{"$f":"IFERROR(VLOOKUP(A3297,Insumos!A:B,2,FALSE),\"\")","v":""}]
[null,null,{"$f":"IFERROR(VLOOKUP(A3298,Insumos!A:B,2,FALSE),\"\")","v":""}]
[null,null,{"$f":"IFERROR(VLOOKUP(A3299,Insumos!A:B,2,FALSE),\"\")","v":""}]
[null,null,{"$f":"IFERROR(VLOOKUP(A3300,Insumos!A:B,2,FALSE),\"\")","v":""}]
[null,null,{"$f":"IFERROR(VLOOKUP(A3301,Insumos!A:B,2,FALSE),\"\")","v":""}]
[null,null,{"$f":"IFERROR(VLOOKUP(A3302,Insumos!A:B,2,FALSE),\"\")","v":""}]
[null,null,{"$f":"IFERROR(VLOOKUP(A3303,Insumos!A:B,2,FALSE),\"\")","v":""}]
[null,null,{"$f":"IFERROR(VLOOKUP(A3304,Insumos!A:B,2,FALSE),\"\")","v":""}]
[null,null,{"$f":"IFERROR(VLOOKUP(A3305,Insumos!A:B,2,FALSE),\"\")","v":""}]
[null,null,{"$f":"IFERROR(VLOOKUP(A3306,Insumos!A:B,2,FALSE),\"\")","v":""}]
[null,null,{"$f":"IFERROR(VLOOKUP(A3307,Insumos!A:B,2,FALSE),\"\")","v":""}]
[null,null,{"$f":"IFERROR(VLOOKUP(A3308,Insumos!A:B,2,FALSE),\"\")","v":""}]
[null,null,{"$f":"IFERROR(VLOOKUP(A3309,Insumos!A:B,2,FALSE),\"\")","v":""}]
[null,null,{"$f":"IFERROR(VLOOKUP(A3310,Insumos!A:B,2,FALSE),\"\")","v":""}]
[null,null,{"$f":"IFERROR(VLOOKUP(A3311,Insumos!A:B,2,FALSE),\"\")","v":""}]
[null,null,{"$f":"IFERROR(VLOOKUP(A3312,Insumos!A:B,2,FALSE),\"\")","v":""}]
[null,null,{"$f":"IFERROR(VLOOKUP(A3313,Insumos!A:B,2,FALSE),\"\")","v":""}]
[null,null,{"$f":"IFERROR(VLOOKUP(A3314,Insumos!A:B,2,FALSE),\"\")","v":""}]
[null,null,{"$f":"IFERROR(VLOOKUP(A3315,Insumos!A:B,2,FALSE),\"\")","v":""}]
[null,null,{"$f":"IFERROR(VLOOKUP(A3316,Insumos!A:B,2,FALSE),\"\")","v":""}]
[null,null,{"$f":"IFERROR(VLOOKUP(A3317,Insumos!A:B,2,FALSE),\"\")","v":""}]
[null,null,{"$f":"IFERROR(VLOOKUP(A3318,Insumos!A:B,2,FALSE),\"\")","v":""}]
[null,null,{"$f":"IFERROR(VLOOKUP(A3319,Insumos!A:B,2,FALSE),\"\")","v":""}]
[null,null,{"$f":"IFERROR(VLOOKUP(A3320,Insumos!A:B,2,FALSE),\"\")","v":""}]
[null,null,{"$f":"IFERROR(VLOOKUP(A3321,Insumos!A:B,2,FALSE),\"\")","v":""}]
[null,null,{"$f":"IFERROR(VLOOKUP(A3322,Insumos!A:B,2,FALSE),\"\")","v":""}]
[null,null,{"$f":"IFERROR(VLOOKUP(A3323,Insumos!A:B,2,FALSE),\"\")","v":""}]
[null,null,{"$f":"IFERROR(VLOOKUP(A3324,Insumos!A:B,2,FALSE),\"\")","v":""}]
[null,null,{"$f":"IFERROR(VLOOKUP(A3325,Insumos!A:B,2,FALSE),\"\")","v":""}]
[null,null,{"$f":"IFERROR(VLOOKUP(A3326,Insumos!A:B,2,FALSE),\"\")","v":""}]
[null,null,{"$f":"IFERROR(VLOOKUP(A3327,Insumos!A:B,2,FALSE),\"\")","v":""}]
[null,null,{"$f":"IFERROR(VLOOKUP(A3328,Insumos!A:B,2,FALSE),\"\")","v":""}]
[null,null,{"$f":"IFERROR(VLOOKUP(A3329,Insumos!A:B,2,FALSE),\"\")","v":""}]
[null,null,{"$f":"IFERROR(VLOOKUP(A3330,Insumos!A:B,2,FALSE),\"\")","v":""}]
[null,null,{"$f":"IFERROR(VLOOKUP(A3331,Insumos!A:B,2,FALSE),\"\")","v":""}]
[null,null,{"$f":"IFERROR(VLOOKUP(A3332,Insumos!A:B,2,FALSE),\"\")","v":""}]
[null,null,{"$f":"IFERROR(VLOOKUP(A3333,Insumos!A:B,2,FALSE),\"\")","v":""}]
[null,null,{"$f":"IFERROR(VLOOKUP(A3334,Insumos!A:B,2,FALSE),\"\")","v":""}]
[null,null,{"$f":"IFERROR(VLOOKUP(A3335,Insumos!A:B,2,FALSE),\"\")","v":""}]
[null,null,{"$f":"IFERROR(VLOOKUP(A3336,Insumos!A:B,2,FALSE),\"\")","v":""}]
[null,null,{"$f":"IFERROR(VLOOKUP(A3337,Insumos!A:B,2,FALSE),\"\")","v":""}]
[null,null,{"$f":"IFERROR(VLOOKUP(A3338,Insumos!A:B,2,FALSE),\"\")","v":""}]
[null,null,{"$f":"IFERROR(VLOOKUP(A3339,Insumos!A:B,2,FALSE),\"\")","v":""}]
[null,null,{"$f":"IFERROR(VLOOKUP(A3340,Insumos!A:B,2,FALSE),\"\")","v":""}]
[null,null,{"$f":"IFERROR(VLOOKUP(A3341,Insumos!A:B,2,FALSE),\"\")","v":""}]
[null,null,{"$f":"IFERROR(VLOOKUP(A3342,Insumos!A:B,2,FALSE),\"\")","v":""}]
[null,null,{"$f":"IFERROR(VLOOKUP(A3343,Insumos!A:B,2,FALSE),\"\")","v":""}]
[null,null,{"$f":"IFERROR(VLOOKUP(A3344,Insumos!A:B,2,FALSE),\"\")","v":""}]
[null,null,{"$f":"IFERROR(VLOOKUP(A3345,Insumos!A:B,2,FALSE),\"\")","v":""}]
[null,null,{"$f":"IFERROR(VLOOKUP(A3346,Insumos!A:B,2,FALSE),\"\")","v":""}]
[null,null,{"$f":"IFERROR(VLOOKUP(A3347,Insumos!A:B,2,FALSE),\"\")","v":""}]
[null,null,{"$f":"IFERROR(VLOOKUP(A3348,Insumos!A:B,2,FALSE),\"\")","v":""}]
[null,null,{"$f":"IFERROR(VLOOKUP(A3349,Insumos!A:B,2,FALSE),\"\")","v":""}]
[null,null,{"$f":"IFERROR(VLOOKUP(A3350,Insumos!A:B,2,FALSE),\"\")","v":""}]
[null,null,{"$f":"IFERROR(VLOOKUP(A3351,Insumos!A:B,2,FALSE),\"\")","v":""}]
[null,null,{"$f":"IFERROR(VLOOKUP(A3352,Insumos!A:B,2,FALSE),\"\")","v":""}]
[null,null,{"$f":"IFERROR(VLOOKUP(A3353,Insumos!A:B,2,FALSE),\"\")","v":""}]
[null,null,{"$f":"IFERROR(VLOOKUP(A3354,Insumos!A:B,2,FALSE),\"\")","v":""}]
[null,null,{"$f":"IFERROR(VLOOKUP(A3355,Insumos!A:B,2,FALSE),\"\")","v":""}]
[null,null,{"$f":"IFERROR(VLOOKUP(A3356,Insumos!A:B,2,FALSE),\"\")","v":""}]
[null,null,{"$f":"IFERROR(VLOOKUP(A3357,Insumos!A:B,2,FALSE),\"\")","v":""}]
[null,null,{"$f":"IFERROR(VLOOKUP(A3358,Insumos!A:B,2,FALSE),\"\")","v":""}]
[null,null,{"$f":"IFERROR(VLOOKUP(A3359,Insumos!A:B,2,FALSE),\"\")","v":""}]
[null,null,{"$f":"IFERROR(VLOOKUP(A3360,Insumos!A:B,2,FALSE),\"\")","v":""}]
[null,null,{"$f":"IFERROR(VLOOKUP(A3361,Insumos!A:B,2,FALSE),\"\")","v":""}]
[null,null,{"$f":"IFERROR(VLOOKUP(A3362,Insumos!A:B,2,FALSE),\"\")","v":""}]
[null,null,{"$f":"IFERROR(VLOOKUP(A3363,Insumos!A:B,2,FALSE),\"\")","v":""}]
[null,null,{"$f":"IFERROR(VLOOKUP(A3364,Insumos!A:B,2,FALSE),\"\")","v":""}]
[null,null,{"$f":"IFERROR(VLOOKUP(A3365,Insumos!A:B,2,FALSE),\"\")","v":""}]
[null,null,{"$f":"IFERROR(VLOOKUP(A3366,Insumos!A:B,2,FALSE),\"\")","v":""}]
[null,null,{"$f":"IFERROR(VLOOKUP(A3367,Insumos!A:B,2,FALSE),\"\")","v":""}]
[null,null,{"$f":"IFERROR(VLOOKUP(A3368,Insumos!A:B,2,FALSE),\"\")","v":""}]
[null,null,{"$f":"IFERROR(VLOOKUP(A3369,Insumos!A:B,2,FALSE),\"\")","v":""}]
[null,null,{"$f":"IFERROR(VLOOKUP(A3370,Insumos!A:B,2,FALSE),\"\")","v":""}]
[null,null,{"$f":"IFERROR(VLOOKUP(A3371,Insumos!A:B,2,FALSE),\"\")","v":""}]
[null,null,{"$f":"IFERROR(VLOOKUP(A3372,Insumos!A:B,2,FALSE),\"\")","v":""}]
[null,null,{"$f":"IFERROR(VLOOKUP(A3373,Insumos!A:B,2,FALSE),\"\")","v":""}]
[null,null,{"$f":"IFERROR(VLOOKUP(A3374,Insumos!A:B,2,FALSE),\"\")","v":""}]
[null,null,{"$f":"IFERROR(VLOOKUP(A3375,Insumos!A:B,2,FALSE),\"\")","v":""}]
[null,null,{"$f":"IFERROR(VLOOKUP(A3376,Insumos!A:B,2,FALSE),\"\")","v":""}]
[null,null,{"$f":"IFERROR(VLOOKUP(A3377,Insumos!A:B,2,FALSE),\"\")","v":""}]
[null,null,{"$f":"IFERROR(VLOOKUP(A3378,Insumos!A:B,2,FALSE),\"\")","v":""}]
[null,null,{"$f":"IFERROR(VLOOKUP(A3379,Insumos!A:B,2,FALSE),\"\")","v":""}]
[null,null,{"$f":"IFERROR(VLOOKUP(A3380,Insumos!A:B,2,FALSE),\"\")","v":""}]
[null,null,{"$f":"IFERROR(VLOOKUP(A3381,Insumos!A:B,2,FALSE),\"\")","v":""}]
[null,null,{"$f":"IFERROR(VLOOKUP(A3382,Insumos!A:B,2,FALSE),\"\")","v":""}]
[null,null,{"$f":"IFERROR(VLOOKUP(A3383,Insumos!A:B,2,FALSE),\"\")","v":""}]
[null,null,{"$f":"IFERROR(VLOOKUP(A3384,Insumos!A:B,2,FALSE),\"\")","v":""}]
[null,null,{"$f":"IFERROR(VLOOKUP(A3385,Insumos!A:B,2,FALSE),\"\")","v":""}]
[null,null,{"$f":"IFERROR(VLOOKUP(A3386,Insumos!A:B,2,FALSE),\"\")","v":""}]
[null,null,{"$f":"IFERROR(VLOOKUP(A3387,Insumos!A:B,2,FALSE),\"\")","v":""}]
[null,null,{"$f":"IFERROR(VLOOKUP(A3388,Insumos!A:B,2,FALSE),\"\")","v":""}]
[null,null,{"$f":"IFERROR(VLOOKUP(A3389,Insumos!A:B,2,FALSE),\"\")","v":""}]
[null,null,{"$f":"IFERROR(VLOOKUP(A3390,Insumos!A:B,2,FALSE),\"\")","v":""}]
[null,null,{"$f":"IFERROR(VLOOKUP(A3391,Insumos!A:B,2,FALSE),\"\")","v":""}]
[null,null,{"$f":"IFERROR(VLOOKUP(A3392,Insumos!A:B,2,FALSE),\"\")","v":""}]
[null,null,{"$f":"IFERROR(VLOOKUP(A3393,Insumos!A:B,2,FALSE),\"\")","v":""}]
[null,null,{"$f":"IFERROR(VLOOKUP(A3394,Insumos!A:B,2,FALSE),\"\")","v":""}]
[null,null,{"$f":"IFERROR(VLOOKUP(A3395,Insumos!A:B,2,FALSE),\"\")","v":""}]
[null,null,{"$f":"IFERROR(VLOOKUP(A3396,Insumos!A:B,2,FALSE),\"\")","v":""}]
[null,null,{"$f":"IFERROR(VLOOKUP(A3397,Insumos!A:B,2,FALSE),\"\")","v":""}]
[null,null,{"$f":"IFERROR(VLOOKUP(A3398,Insumos!A:B,2,FALSE),\"\")","v":""}]
[null,null,{"$f":"IFERROR(VLOOKUP(A3399,Insumos!A:B,2,FALSE),\"\")","v":""}]
[null,null,{"$f":"IFERROR(VLOOKUP(A3400,Insumos!A:B,2,FALSE),\"\")","v":""}]
[null,null,{"$f":"IFERROR(VLOOKUP(A3401,Insumos!A:B,2,FALSE),\"\")","v":""}]
[null,null,{"$f":"IFERROR(VLOOKUP(A3402,Insumos!A:B,2,FALSE),\"\")","v":""}]
[null,null,{"$f":"IFERROR(VLOOKUP(A3403,Insumos!A:B,2,FALSE),\"\")","v":""}]
[null,null,{"$f":"IFERROR(VLOOKUP(A3404,Insumos!A:B,2,FALSE),\"\")","v":""}]
[null,null,{"$f":"IFERROR(VLOOKUP(A3405,Insumos!A:B,2,FALSE),\"\")","v":""}]
[null,null,{"$f":"IFERROR(VLOOKUP(A3406,Insumos!A:B,2,FALSE),\"\")","v":""}]
[null,null,{"$f":"IFERROR(VLOOKUP(A3407,Insumos!A:B,2,FALSE),\"\")","v":""}]
[null,null,{"$f":"IFERROR(VLOOKUP(A3408,Insumos!A:B,2,FALSE),\"\")","v":""}]
[null,null,{"$f":"IFERROR(VLOOKUP(A3409,Insumos!A:B,2,FALSE),\"\")","v":""}]
[null,null,{"$f":"IFERROR(VLOOKUP(A3410,Insumos!A:B,2,FALSE),\"\")","v":""}]
[null,null,{"$f":"IFERROR(VLOOKUP(A3411,Insumos!A:B,2,FALSE),\"\")","v":""}]
[null,null,{"$f":"IFERROR(VLOOKUP(A3412,Insumos!A:B,2,FALSE),\"\")","v":""}]
[null,null,{"$f":"IFERROR(VLOOKUP(A3413,Insumos!A:B,2,FALSE),\"\")","v":""}]
[null,null,{"$f":"IFERROR(VLOOKUP(A3414,Insumos!A:B,2,FALSE),\"\")","v":""}]
[null,null,{"$f":"IFERROR(VLOOKUP(A3415,Insumos!A:B,2,FALSE),\"\")","v":""}]
[null,null,{"$f":"IFERROR(VLOOKUP(A3416,Insumos!A:B,2,FALSE),\"\")","v":""}]
[null,null,{"$f":"IFERROR(VLOOKUP(A3417,Insumos!A:B,2,FALSE),\"\")","v":""}]
[null,null,{"$f":"IFERROR(VLOOKUP(A3418,Insumos!A:B,2,FALSE),\"\")","v":""}]
[null,null,{"$f":"IFERROR(VLOOKUP(A3419,Insumos!A:B,2,FALSE),\"\")","v":""}]
[null,null,{"$f":"IFERROR(VLOOKUP(A3420,Insumos!A:B,2,FALSE),\"\")","v":""}]
[null,null,{"$f":"IFERROR(VLOOKUP(A3421,Insumos!A:B,2,FALSE),\"\")","v":""}]
[null,null,{"$f":"IFERROR(VLOOKUP(A3422,Insumos!A:B,2,FALSE),\"\")","v":""}]
[null,null,{"$f":"IFERROR(VLOOKUP(A3423,Insumos!A:B,2,FALSE),\"\")","v":""}]
[null,null,{"$f":"IFERROR(VLOOKUP(A3424,Insumos!A:B,2,FALSE),\"\")","v":""}]
[null,null,{"$f":"IFERROR(VLOOKUP(A3425,Insumos!A:B,2,FALSE),\"\")","v":""}]
[null,null,{"$f":"IFERROR(VLOOKUP(A3426,Insumos!A:B,2,FALSE),\"\")","v":""}]
[null,null,{"$f":"IFERROR(VLOOKUP(A3427,Insumos!A:B,2,FALSE),\"\")","v":""}]
[null,null,{"$f":"IFERROR(VLOOKUP(A3428,Insumos!A:B,2,FALSE),\"\")","v":""}]
[null,null,{"$f":"IFERROR(VLOOKUP(A3429,Insumos!A:B,2,FALSE),\"\")","v":""}]
[null,null,{"$f":"IFERROR(VLOOKUP(A3430,Insumos!A:B,2,FALSE),\"\")","v":""}]
[null,null,{"$f":"IFERROR(VLOOKUP(A3431,Insumos!A:B,2,FALSE),\"\")","v":""}]
[null,null,{"$f":"IFERROR(VLOOKUP(A3432,Insumos!A:B,2,FALSE),\"\")","v":""}]
[null,null,{"$f":"IFERROR(VLOOKUP(A3433,Insumos!A:B,2,FALSE),\"\")","v":""}]
[null,null,{"$f":"IFERROR(VLOOKUP(A3434,Insumos!A:B,2,FALSE),\"\")","v":""}]
[null,null,{"$f":"IFERROR(VLOOKUP(A3435,Insumos!A:B,2,FALSE),\"\")","v":""}]
[null,null,{"$f":"IFERROR(VLOOKUP(A3436,Insumos!A:B,2,FALSE),\"\")","v":""}]
[null,null,{"$f":"IFERROR(VLOOKUP(A3437,Insumos!A:B,2,FALSE),\"\")","v":""}]
[null,null,{"$f":"IFERROR(VLOOKUP(A3438,Insumos!A:B,2,FALSE),\"\")","v":""}]
[null,null,{"$f":"IFERROR(VLOOKUP(A3439,Insumos!A:B,2,FALSE),\"\")","v":""}]
[null,null,{"$f":"IFERROR(VLOOKUP(A3440,Insumos!A:B,2,FALSE),\"\")","v":""}]
[null,null,{"$f":"IFERROR(VLOOKUP(A3441,Insumos!A:B,2,FALSE),\"\")","v":""}]
[null,null,{"$f":"IFERROR(VLOOKUP(A3442,Insumos!A:B,2,FALSE),\"\")","v":""}]
[null,null,{"$f":"IFERROR(VLOOKUP(A3443,Insumos!A:B,2,FALSE),\"\")","v":""}]
[null,null,{"$f":"IFERROR(VLOOKUP(A3444,Insumos!A:B,2,FALSE),\"\")","v":""}]
[null,null,{"$f":"IFERROR(VLOOKUP(A3445,Insumos!A:B,2,FALSE),\"\")","v":""}]
[null,null,{"$f":"IFERROR(VLOOKUP(A3446,Insumos!A:B,2,FALSE),\"\")","v":""}]
[null,null,{"$f":"IFERROR(VLOOKUP(A3447,Insumos!A:B,2,FALSE),\"\")","v":""}]
[null,null,{"$f":"IFERROR(VLOOKUP(A3448,Insumos!A:B,2,FALSE),\"\")","v":""}]
[null,null,{"$f":"IFERROR(VLOOKUP(A3449,Insumos!A:B,2,FALSE),\"\")","v":""}]
[null,null,{"$f":"IFERROR(VLOOKUP(A3450,Insumos!A:B,2,FALSE),\"\")","v":""}]
[null,null,{"$f":"IFERROR(VLOOKUP(A3451,Insumos!A:B,2,FALSE),\"\")","v":""}]
[null,null,{"$f":"IFERROR(VLOOKUP(A3452,Insumos!A:B,2,FALSE),\"\")","v":""}]
[null,null,{"$f":"IFERROR(VLOOKUP(A3453,Insumos!A:B,2,FALSE),\"\")","v":""}]
[null,null,{"$f":"IFERROR(VLOOKUP(A3454,Insumos!A:B,2,FALSE),\"\")","v":""}]
[null,null,{"$f":"IFERROR(VLOOKUP(A3455,Insumos!A:B,2,FALSE),\"\")","v":""}]
[null,null,{"$f":"IFERROR(VLOOKUP(A3456,Insumos!A:B,2,FALSE),\"\")","v":""}]
[null,null,{"$f":"IFERROR(VLOOKUP(A3457,Insumos!A:B,2,FALSE),\"\")","v":""}]
[null,null,{"$f":"IFERROR(VLOOKUP(A3458,Insumos!A:B,2,FALSE),\"\")","v":""}]
[null,null,{"$f":"IFERROR(VLOOKUP(A3459,Insumos!A:B,2,FALSE),\"\")","v":""}]
[null,null,{"$f":"IFERROR(VLOOKUP(A3460,Insumos!A:B,2,FALSE),\"\")","v":""}]
[null,null,{"$f":"IFERROR(VLOOKUP(A3461,Insumos!A:B,2,FALSE),\"\")","v":""}]
[null,null,{"$f":"IFERROR(VLOOKUP(A3462,Insumos!A:B,2,FALSE),\"\")","v":""}]
[null,null,{"$f":"IFERROR(VLOOKUP(A3463,Insumos!A:B,2,FALSE),\"\")","v":""}]
[null,null,{"$f":"IFERROR(VLOOKUP(A3464,Insumos!A:B,2,FALSE),\"\")","v":""}]
[null,null,{"$f":"IFERROR(VLOOKUP(A3465,Insumos!A:B,2,FALSE),\"\")","v":""}]
[null,null,{"$f":"IFERROR(VLOOKUP(A3466,Insumos!A:B,2,FALSE),\"\")","v":""}]
[null,null,{"$f":"IFERROR(VLOOKUP(A3467,Insumos!A:B,2,FALSE),\"\")","v":""}]
[null,null,{"$f":"IFERROR(VLOOKUP(A3468,Insumos!A:B,2,FALSE),\"\")","v":""}]
[null,null,{"$f":"IFERROR(VLOOKUP(A3469,Insumos!A:B,2,FALSE),\"\")","v":""}]
[null,null,{"$f":"IFERROR(VLOOKUP(A3470,Insumos!A:B,2,FALSE),\"\")","v":""}]
[null,null,{"$f":"IFERROR(VLOOKUP(A3471,Insumos!A:B,2,FALSE),\"\")","v":""}]
[null,null,{"$f":"IFERROR(VLOOKUP(A3472,Insumos!A:B,2,FALSE),\"\")","v":""}]
[null,null,{"$f":"IFERROR(VLOOKUP(A3473,Insumos!A:B,2,FALSE),\"\")","v":""}]
[null,null,{"$f":"IFERROR(VLOOKUP(A3474,Insumos!A:B,2,FALSE),\"\")","v":""}]
[null,null,{"$f":"IFERROR(VLOOKUP(A3475,Insumos!A:B,2,FALSE),\"\")","v":""}]
[null,null,{"$f":"IFERROR(VLOOKUP(A3476,Insumos!A:B,2,FALSE),\"\")","v":""}]
[null,null,{"$f":"IFERROR(VLOOKUP(A3477,Insumos!A:B,2,FALSE),\"\")","v":""}]
[null,null,{"$f":"IFERROR(VLOOKUP(A3478,Insumos!A:B,2,FALSE),\"\")","v":""}]
[null,null,{"$f":"IFERROR(VLOOKUP(A3479,Insumos!A:B,2,FALSE),\"\")","v":""}]
[null,null,{"$f":"IFERROR(VLOOKUP(A3480,Insumos!A:B,2,FALSE),\"\")","v":""}]
[null,null,{"$f":"IFERROR(VLOOKUP(A3481,Insumos!A:B,2,FALSE),\"\")","v":""}]
[null,null,{"$f":"IFERROR(VLOOKUP(A3482,Insumos!A:B,2,FALSE),\"\")","v":""}]
[null,null,{"$f":"IFERROR(VLOOKUP(A3483,Insumos!A:B,2,FALSE),\"\")","v":""}]
[null,null,{"$f":"IFERROR(VLOOKUP(A3484,Insumos!A:B,2,FALSE),\"\")","v":""}]
[null,null,{"$f":"IFERROR(VLOOKUP(A3485,Insumos!A:B,2,FALSE),\"\")","v":""}]
[null,null,{"$f":"IFERROR(VLOOKUP(A3486,Insumos!A:B,2,FALSE),\"\")","v":""}]
[null,null,{"$f":"IFERROR(VLOOKUP(A3487,Insumos!A:B,2,FALSE),\"\")","v":""}]
[null,null,{"$f":"IFERROR(VLOOKUP(A3488,Insumos!A:B,2,FALSE),\"\")","v":""}]
[null,null,{"$f":"IFERROR(VLOOKUP(A3489,Insumos!A:B,2,FALSE),\"\")","v":""}]
[null,null,{"$f":"IFERROR(VLOOKUP(A3490,Insumos!A:B,2,FALSE),\"\")","v":""}]
[null,null,{"$f":"IFERROR(VLOOKUP(A3491,Insumos!A:B,2,FALSE),\"\")","v":""}]
[null,null,{"$f":"IFERROR(VLOOKUP(A3492,Insumos!A:B,2,FALSE),\"\")","v":""}]
[null,null,{"$f":"IFERROR(VLOOKUP(A3493,Insumos!A:B,2,FALSE),\"\")","v":""}]
[null,null,{"$f":"IFERROR(VLOOKUP(A3494,Insumos!A:B,2,FALSE),\"\")","v":""}]
[null,null,{"$f":"IFERROR(VLOOKUP(A3495,Insumos!A:B,2,FALSE),\"\")","v":""}]
[null,null,{"$f":"IFERROR(VLOOKUP(A3496,Insumos!A:B,2,FALSE),\"\")","v":""}]
[null,null,{"$f":"IFERROR(VLOOKUP(A3497,Insumos!A:B,2,FALSE),\"\")","v":""}]
[null,null,{"$f":"IFERROR(VLOOKUP(A3498,Insumos!A:B,2,FALSE),\"\")","v":""}]
[null,null,{"$f":"IFERROR(VLOOKUP(A3499,Insumos!A:B,2,FALSE),\"\")","v":""}]
[null,null,{"$f":"IFERROR(VLOOKUP(A3500,Insumos!A:B,2,FALSE),\"\")","v":""}]
[null,null,{"$f":"IFERROR(VLOOKUP(A3501,Insumos!A:B,2,FALSE),\"\")","v":""}]
[null,null,{"$f":"IFERROR(VLOOKUP(A3502,Insumos!A:B,2,FALSE),\"\")","v":""}]
[null,null,{"$f":"IFERROR(VLOOKUP(A3503,Insumos!A:B,2,FALSE),\"\")","v":""}]
[null,null,{"$f":"IFERROR(VLOOKUP(A3504,Insumos!A:B,2,FALSE),\"\")","v":""}]
[null,null,{"$f":"IFERROR(VLOOKUP(A3505,Insumos!A:B,2,FALSE),\"\")","v":""}]
[null,null,{"$f":"IFERROR(VLOOKUP(A3506,Insumos!A:B,2,FALSE),\"\")","v":""}]
[null,null,{"$f":"IFERROR(VLOOKUP(A3507,Insumos!A:B,2,FALSE),\"\")","v":""}]
[null,null,{"$f":"IFERROR(VLOOKUP(A3508,Insumos!A:B,2,FALSE),\"\")","v":""}]
[null,null,{"$f":"IFERROR(VLOOKUP(A3509,Insumos!A:B,2,FALSE),\"\")","v":""}]
[null,null,{"$f":"IFERROR(VLOOKUP(A3510,Insumos!A:B,2,FALSE),\"\")","v":""}]
[null,null,{"$f":"IFERROR(VLOOKUP(A3511,Insumos!A:B,2,FALSE),\"\")","v":""}]
[null,null,{"$f":"IFERROR(VLOOKUP(A3512,Insumos!A:B,2,FALSE),\"\")","v":""}]
[null,null,{"$f":"IFERROR(VLOOKUP(A3513,Insumos!A:B,2,FALSE),\"\")","v":""}]
[null,null,{"$f":"IFERROR(VLOOKUP(A3514,Insumos!A:B,2,FALSE),\"\")","v":""}]
[null,null,{"$f":"IFERROR(VLOOKUP(A3515,Insumos!A:B,2,FALSE),\"\")","v":""}]
[null,null,{"$f":"IFERROR(VLOOKUP(A3516,Insumos!A:B,2,FALSE),\"\")","v":""}]
[null,null,{"$f":"IFERROR(VLOOKUP(A3517,Insumos!A:B,2,FALSE),\"\")","v":""}]
[null,null,{"$f":"IFERROR(VLOOKUP(A3518,Insumos!A:B,2,FALSE),\"\")","v":""}]
[null,null,{"$f":"IFERROR(VLOOKUP(A3519,Insumos!A:B,2,FALSE),\"\")","v":""}]
[null,null,{"$f":"IFERROR(VLOOKUP(A3520,Insumos!A:B,2,FALSE),\"\")","v":""}]
[null,null,{"$f":"IFERROR(VLOOKUP(A3521,Insumos!A:B,2,FALSE),\"\")","v":""}]
[null,null,{"$f":"IFERROR(VLOOKUP(A3522,Insumos!A:B,2,FALSE),\"\")","v":""}]
[null,null,{"$f":"IFERROR(VLOOKUP(A3523,Insumos!A:B,2,FALSE),\"\")","v":""}]
[null,null,{"$f":"IFERROR(VLOOKUP(A3524,Insumos!A:B,2,FALSE),\"\")","v":""}]
[null,null,{"$f":"IFERROR(VLOOKUP(A3525,Insumos!A:B,2,FALSE),\"\")","v":""}]
[null,null,{"$f":"IFERROR(VLOOKUP(A3526,Insumos!A:B,2,FALSE),\"\")","v":""}]
[null,null,{"$f":"IFERROR(VLOOKUP(A3527,Insumos!A:B,2,FALSE),\"\")","v":""}]
[null,null,{"$f":"IFERROR(VLOOKUP(A3528,Insumos!A:B,2,FALSE),\"\")","v":""}]
[null,null,{"$f":"IFERROR(VLOOKUP(A3529,Insumos!A:B,2,FALSE),\"\")","v":""}]
[null,null,{"$f":"IFERROR(VLOOKUP(A3530,Insumos!A:B,2,FALSE),\"\")","v":""}]
[null,null,{"$f":"IFERROR(VLOOKUP(A3531,Insumos!A:B,2,FALSE),\"\")","v":""}]
[null,null,{"$f":"IFERROR(VLOOKUP(A3532,Insumos!A:B,2,FALSE),\"\")","v":""}]
[null,null,{"$f":"IFERROR(VLOOKUP(A3533,Insumos!A:B,2,FALSE),\"\")","v":""}]
[null,null,{"$f":"IFERROR(VLOOKUP(A3534,Insumos!A:B,2,FALSE),\"\")","v":""}]
[null,null,{"$f":"IFERROR(VLOOKUP(A3535,Insumos!A:B,2,FALSE),\"\")","v":""}]
[null,null,{"$f":"IFERROR(VLOOKUP(A3536,Insumos!A:B,2,FALSE),\"\")","v":""}]
[null,null,{"$f":"IFERROR(VLOOKUP(A3537,Insumos!A:B,2,FALSE),\"\")","v":""}]
[null,null,{"$f":"IFERROR(VLOOKUP(A3538,Insumos!A:B,2,FALSE),\"\")","v":""}]
[null,null,{"$f":"IFERROR(VLOOKUP(A3539,Insumos!A:B,2,FALSE),\"\")","v":""}]
[null,null,{"$f":"IFERROR(VLOOKUP(A3540,Insumos!A:B,2,FALSE),\"\")","v":""}]
[null,null,{"$f":"IFERROR(VLOOKUP(A3541,Insumos!A:B,2,FALSE),\"\")","v":""}]
[null,null,{"$f":"IFERROR(VLOOKUP(A3542,Insumos!A:B,2,FALSE),\"\")","v":""}]
[null,null,{"$f":"IFERROR(VLOOKUP(A3543,Insumos!A:B,2,FALSE),\"\")","v":""}]
[null,null,{"$f":"IFERROR(VLOOKUP(A3544,Insumos!A:B,2,FALSE),\"\")","v":""}]
[null,null,{"$f":"IFERROR(VLOOKUP(A3545,Insumos!A:B,2,FALSE),\"\")","v":""}]
[null,null,{"$f":"IFERROR(VLOOKUP(A3546,Insumos!A:B,2,FALSE),\"\")","v":""}]
[null,null,{"$f":"IFERROR(VLOOKUP(A3547,Insumos!A:B,2,FALSE),\"\")","v":""}]
[null,null,{"$f":"IFERROR(VLOOKUP(A3548,Insumos!A:B,2,FALSE),\"\")","v":""}]
[null,null,{"$f":"IFERROR(VLOOKUP(A3549,Insumos!A:B,2,FALSE),\"\")","v":""}]
[null,null,{"$f":"IFERROR(VLOOKUP(A3550,Insumos!A:B,2,FALSE),\"\")","v":""}]
[null,null,{"$f":"IFERROR(VLOOKUP(A3551,Insumos!A:B,2,FALSE),\"\")","v":""}]
[null,null,{"$f":"IFERROR(VLOOKUP(A3552,Insumos!A:B,2,FALSE),\"\")","v":""}]
[null,null,{"$f":"IFERROR(VLOOKUP(A3553,Insumos!A:B,2,FALSE),\"\")","v":""}]
[null,null,{"$f":"IFERROR(VLOOKUP(A3554,Insumos!A:B,2,FALSE),\"\")","v":""}]
[null,null,{"$f":"IFERROR(VLOOKUP(A3555,Insumos!A:B,2,FALSE),\"\")","v":""}]
[null,null,{"$f":"IFERROR(VLOOKUP(A3556,Insumos!A:B,2,FALSE),\"\")","v":""}]
[null,null,{"$f":"IFERROR(VLOOKUP(A3557,Insumos!A:B,2,FALSE),\"\")","v":""}]
[null,null,{"$f":"IFERROR(VLOOKUP(A3558,Insumos!A:B,2,FALSE),\"\")","v":""}]
[null,null,{"$f":"IFERROR(VLOOKUP(A3559,Insumos!A:B,2,FALSE),\"\")","v":""}]
[null,null,{"$f":"IFERROR(VLOOKUP(A3560,Insumos!A:B,2,FALSE),\"\")","v":""}]
[null,null,{"$f":"IFERROR(VLOOKUP(A3561,Insumos!A:B,2,FALSE),\"\")","v":""}]
[null,null,{"$f":"IFERROR(VLOOKUP(A3562,Insumos!A:B,2,FALSE),\"\")","v":""}]
[null,null,{"$f":"IFERROR(VLOOKUP(A3563,Insumos!A:B,2,FALSE),\"\")","v":""}]
[null,null,{"$f":"IFERROR(VLOOKUP(A3564,Insumos!A:B,2,FALSE),\"\")","v":""}]
[null,null,{"$f":"IFERROR(VLOOKUP(A3565,Insumos!A:B,2,FALSE),\"\")","v":""}]
[null,null,{"$f":"IFERROR(VLOOKUP(A3566,Insumos!A:B,2,FALSE),\"\")","v":""}]
[null,null,{"$f":"IFERROR(VLOOKUP(A3567,Insumos!A:B,2,FALSE),\"\")","v":""}]
[null,null,{"$f":"IFERROR(VLOOKUP(A3568,Insumos!A:B,2,FALSE),\"\")","v":""}]
[null,null,{"$f":"IFERROR(VLOOKUP(A3569,Insumos!A:B,2,FALSE),\"\")","v":""}]
[null,null,{"$f":"IFERROR(VLOOKUP(A3570,Insumos!A:B,2,FALSE),\"\")","v":""}]
[null,null,{"$f":"IFERROR(VLOOKUP(A3571,Insumos!A:B,2,FALSE),\"\")","v":""}]
[null,null,{"$f":"IFERROR(VLOOKUP(A3572,Insumos!A:B,2,FALSE),\"\")","v":""}]
[null,null,{"$f":"IFERROR(VLOOKUP(A3573,Insumos!A:B,2,FALSE),\"\")","v":""}]
[null,null,{"$f":"IFERROR(VLOOKUP(A3574,Insumos!A:B,2,FALSE),\"\")","v":""}]
[null,null,{"$f":"IFERROR(VLOOKUP(A3575,Insumos!A:B,2,FALSE),\"\")","v":""}]
[null,null,{"$f":"IFERROR(VLOOKUP(A3576,Insumos!A:B,2,FALSE),\"\")","v":""}]
[null,null,{"$f":"IFERROR(VLOOKUP(A3577,Insumos!A:B,2,FALSE),\"\")","v":""}]
[null,null,{"$f":"IFERROR(VLOOKUP(A3578,Insumos!A:B,2,FALSE),\"\")","v":""}]
[null,null,{"$f":"IFERROR(VLOOKUP(A3579,Insumos!A:B,2,FALSE),\"\")","v":""}]
[null,null,{"$f":"IFERROR(VLOOKUP(A3580,Insumos!A:B,2,FALSE),\"\")","v":""}]
[null,null,{"$f":"IFERROR(VLOOKUP(A3581,Insumos!A:B,2,FALSE),\"\")","v":""}]
[null,null,{"$f":"IFERROR(VLOOKUP(A3582,Insumos!A:B,2,FALSE),\"\")","v":""}]
[null,null,{"$f":"IFERROR(VLOOKUP(A3583,Insumos!A:B,2,FALSE),\"\")","v":""}]
[null,null,{"$f":"IFERROR(VLOOKUP(A3584,Insumos!A:B,2,FALSE),\"\")","v":""}]
[null,null,{"$f":"IFERROR(VLOOKUP(A3585,Insumos!A:B,2,FALSE),\"\")","v":""}]
[null,null,{"$f":"IFERROR(VLOOKUP(A3586,Insumos!A:B,2,FALSE),\"\")","v":""}]
[null,null,{"$f":"IFERROR(VLOOKUP(A3587,Insumos!A:B,2,FALSE),\"\")","v":""}]
[null,null,{"$f":"IFERROR(VLOOKUP(A3588,Insumos!A:B,2,FALSE),\"\")","v":""}]
[null,null,{"$f":"IFERROR(VLOOKUP(A3589,Insumos!A:B,2,FALSE),\"\")","v":""}]
[null,null,{"$f":"IFERROR(VLOOKUP(A3590,Insumos!A:B,2,FALSE),\"\")","v":""}]
[null,null,{"$f":"IFERROR(VLOOKUP(A3591,Insumos!A:B,2,FALSE),\"\")","v":""}]
[null,null,{"$f":"IFERROR(VLOOKUP(A3592,Insumos!A:B,2,FALSE),\"\")","v":""}]
[null,null,{"$f":"IFERROR(VLOOKUP(A3593,Insumos!A:B,2,FALSE),\"\")","v":""}]
[null,null,{"$f":"IFERROR(VLOOKUP(A3594,Insumos!A:B,2,FALSE),\"\")","v":""}]
[null,null,{"$f":"IFERROR(VLOOKUP(A3595,Insumos!A:B,2,FALSE),\"\")","v":""}]
[null,null,{"$f":"IFERROR(VLOOKUP(A3596,Insumos!A:B,2,FALSE),\"\")","v":""}]
[null,null,{"$f":"IFERROR(VLOOKUP(A3597,Insumos!A:B,2,FALSE),\"\")","v":""}]
[null,null,{"$f":"IFERROR(VLOOKUP(A3598,Insumos!A:B,2,FALSE),\"\")","v":""}]
[null,null,{"$f":"IFERROR(VLOOKUP(A3599,Insumos!A:B,2,FALSE),\"\")","v":""}]
[null,null,{"$f":"IFERROR(VLOOKUP(A3600,Insumos!A:B,2,FALSE),\"\")","v":""}]
[null,null,{"$f":"IFERROR(VLOOKUP(A3601,Insumos!A:B,2,FALSE),\"\")","v":""}]
[null,null,{"$f":"IFERROR(VLOOKUP(A3602,Insumos!A:B,2,FALSE),\"\")","v":""}]
[null,null,{"$f":"IFERROR(VLOOKUP(A3603,Insumos!A:B,2,FALSE),\"\")","v":""}]
[null,null,{"$f":"IFERROR(VLOOKUP(A3604,Insumos!A:B,2,FALSE),\"\")","v":""}]
[null,null,{"$f":"IFERROR(VLOOKUP(A3605,Insumos!A:B,2,FALSE),\"\")","v":""}]
[null,null,{"$f":"IFERROR(VLOOKUP(A3606,Insumos!A:B,2,FALSE),\"\")","v":""}]
[null,null,{"$f":"IFERROR(VLOOKUP(A3607,Insumos!A:B,2,FALSE),\"\")","v":""}]
[null,null,{"$f":"IFERROR(VLOOKUP(A3608,Insumos!A:B,2,FALSE),\"\")","v":""}]
[null,null,{"$f":"IFERROR(VLOOKUP(A3609,Insumos!A:B,2,FALSE),\"\")","v":""}]
[null,null,{"$f":"IFERROR(VLOOKUP(A3610,Insumos!A:B,2,FALSE),\"\")","v":""}]
[null,null,{"$f":"IFERROR(VLOOKUP(A3611,Insumos!A:B,2,FALSE),\"\")","v":""}]
[null,null,{"$f":"IFERROR(VLOOKUP(A3612,Insumos!A:B,2,FALSE),\"\")","v":""}]
[null,null,{"$f":"IFERROR(VLOOKUP(A3613,Insumos!A:B,2,FALSE),\"\")","v":""}]
[null,null,{"$f":"IFERROR(VLOOKUP(A3614,Insumos!A:B,2,FALSE),\"\")","v":""}]
[null,null,{"$f":"IFERROR(VLOOKUP(A3615,Insumos!A:B,2,FALSE),\"\")","v":""}]
[null,null,{"$f":"IFERROR(VLOOKUP(A3616,Insumos!A:B,2,FALSE),\"\")","v":""}]
[null,null,{"$f":"IFERROR(VLOOKUP(A3617,Insumos!A:B,2,FALSE),\"\")","v":""}]
[null,null,{"$f":"IFERROR(VLOOKUP(A3618,Insumos!A:B,2,FALSE),\"\")","v":""}]
[null,null,{"$f":"IFERROR(VLOOKUP(A3619,Insumos!A:B,2,FALSE),\"\")","v":""}]
[null,null,{"$f":"IFERROR(VLOOKUP(A3620,Insumos!A:B,2,FALSE),\"\")","v":""}]
[null,null,{"$f":"IFERROR(VLOOKUP(A3621,Insumos!A:B,2,FALSE),\"\")","v":""}]
[null,null,{"$f":"IFERROR(VLOOKUP(A3622,Insumos!A:B,2,FALSE),\"\")","v":""}]
[null,null,{"$f":"IFERROR(VLOOKUP(A3623,Insumos!A:B,2,FALSE),\"\")","v":""}]
[null,null,{"$f":"IFERROR(VLOOKUP(A3624,Insumos!A:B,2,FALSE),\"\")","v":""}]
[null,null,{"$f":"IFERROR(VLOOKUP(A3625,Insumos!A:B,2,FALSE),\"\")","v":""}]
[null,null,{"$f":"IFERROR(VLOOKUP(A3626,Insumos!A:B,2,FALSE),\"\")","v":""}]
[null,null,{"$f":"IFERROR(VLOOKUP(A3627,Insumos!A:B,2,FALSE),\"\")","v":""}]
[null,null,{"$f":"IFERROR(VLOOKUP(A3628,Insumos!A:B,2,FALSE),\"\")","v":""}]
[null,null,{"$f":"IFERROR(VLOOKUP(A3629,Insumos!A:B,2,FALSE),\"\")","v":""}]
[null,null,{"$f":"IFERROR(VLOOKUP(A3630,Insumos!A:B,2,FALSE),\"\")","v":""}]
[null,null,{"$f":"IFERROR(VLOOKUP(A3631,Insumos!A:B,2,FALSE),\"\")","v":""}]
[null,null,{"$f":"IFERROR(VLOOKUP(A3632,Insumos!A:B,2,FALSE),\"\")","v":""}]
[null,null,{"$f":"IFERROR(VLOOKUP(A3633,Insumos!A:B,2,FALSE),\"\")","v":""}]
[null,null,{"$f":"IFERROR(VLOOKUP(A3634,Insumos!A:B,2,FALSE),\"\")","v":""}]
[null,null,{"$f":"IFERROR(VLOOKUP(A3635,Insumos!A:B,2,FALSE),\"\")","v":""}]
[null,null,{"$f":"IFERROR(VLOOKUP(A3636,Insumos!A:B,2,FALSE),\"\")","v":""}]
[null,null,{"$f":"IFERROR(VLOOKUP(A3637,Insumos!A:B,2,FALSE),\"\")","v":""}]
[null,null,{"$f":"IFERROR(VLOOKUP(A3638,Insumos!A:B,2,FALSE),\"\")","v":""}]
[null,null,{"$f":"IFERROR(VLOOKUP(A3639,Insumos!A:B,2,FALSE),\"\")","v":""}]
[null,null,{"$f":"IFERROR(VLOOKUP(A3640,Insumos!A:B,2,FALSE),\"\")","v":""}]
[null,null,{"$f":"IFERROR(VLOOKUP(A3641,Insumos!A:B,2,FALSE),\"\")","v":""}]
[null,null,{"$f":"IFERROR(VLOOKUP(A3642,Insumos!A:B,2,FALSE),\"\")","v":""}]
[null,null,{"$f":"IFERROR(VLOOKUP(A3643,Insumos!A:B,2,FALSE),\"\")","v":""}]
[null,null,{"$f":"IFERROR(VLOOKUP(A3644,Insumos!A:B,2,FALSE),\"\")","v":""}]
[null,null,{"$f":"IFERROR(VLOOKUP(A3645,Insumos!A:B,2,FALSE),\"\")","v":""}]
[null,null,{"$f":"IFERROR(VLOOKUP(A3646,Insumos!A:B,2,FALSE),\"\")","v":""}]
[null,null,{"$f":"IFERROR(VLOOKUP(A3647,Insumos!A:B,2,FALSE),\"\")","v":""}]
[null,null,{"$f":"IFERROR(VLOOKUP(A3648,Insumos!A:B,2,FALSE),\"\")","v":""}]
[null,null,{"$f":"IFERROR(VLOOKUP(A3649,Insumos!A:B,2,FALSE),\"\")","v":""}]
[null,null,{"$f":"IFERROR(VLOOKUP(A3650,Insumos!A:B,2,FALSE),\"\")","v":""}]
[null,null,{"$f":"IFERROR(VLOOKUP(A3651,Insumos!A:B,2,FALSE),\"\")","v":""}]
[null,null,{"$f":"IFERROR(VLOOKUP(A3652,Insumos!A:B,2,FALSE),\"\")","v":""}]
[null,null,{"$f":"IFERROR(VLOOKUP(A3653,Insumos!A:B,2,FALSE),\"\")","v":""}]
[null,null,{"$f":"IFERROR(VLOOKUP(A3654,Insumos!A:B,2,FALSE),\"\")","v":""}]
[null,null,{"$f":"IFERROR(VLOOKUP(A3655,Insumos!A:B,2,FALSE),\"\")","v":""}]
[null,null,{"$f":"IFERROR(VLOOKUP(A3656,Insumos!A:B,2,FALSE),\"\")","v":""}]
[null,null,{"$f":"IFERROR(VLOOKUP(A3657,Insumos!A:B,2,FALSE),\"\")","v":""}]
[null,null,{"$f":"IFERROR(VLOOKUP(A3658,Insumos!A:B,2,FALSE),\"\")","v":""}]
[null,null,{"$f":"IFERROR(VLOOKUP(A3659,Insumos!A:B,2,FALSE),\"\")","v":""}]
[null,null,{"$f":"IFERROR(VLOOKUP(A3660,Insumos!A:B,2,FALSE),\"\")","v":""}]
[null,null,{"$f":"IFERROR(VLOOKUP(A3661,Insumos!A:B,2,FALSE),\"\")","v":""}]
[null,null,{"$f":"IFERROR(VLOOKUP(A3662,Insumos!A:B,2,FALSE),\"\")","v":""}]
[null,null,{"$f":"IFERROR(VLOOKUP(A3663,Insumos!A:B,2,FALSE),\"\")","v":""}]
[null,null,{"$f":"IFERROR(VLOOKUP(A3664,Insumos!A:B,2,FALSE),\"\")","v":""}]
[null,null,{"$f":"IFERROR(VLOOKUP(A3665,Insumos!A:B,2,FALSE),\"\")","v":""}]
[null,null,{"$f":"IFERROR(VLOOKUP(A3666,Insumos!A:B,2,FALSE),\"\")","v":""}]
[null,null,{"$f":"IFERROR(VLOOKUP(A3667,Insumos!A:B,2,FALSE),\"\")","v":""}]
[null,null,{"$f":"IFERROR(VLOOKUP(A3668,Insumos!A:B,2,FALSE),\"\")","v":""}]
[null,null,{"$f":"IFERROR(VLOOKUP(A3669,Insumos!A:B,2,FALSE),\"\")","v":""}]
[null,null,{"$f":"IFERROR(VLOOKUP(A3670,Insumos!A:B,2,FALSE),\"\")","v":""}]
[null,null,{"$f":"IFERROR(VLOOKUP(A3671,Insumos!A:B,2,FALSE),\"\")","v":""}]
[null,null,{"$f":"IFERROR(VLOOKUP(A3672,Insumos!A:B,2,FALSE),\"\")","v":""}]
[null,null,{"$f":"IFERROR(VLOOKUP(A3673,Insumos!A:B,2,FALSE),\"\")","v":""}]
[null,null,{"$f":"IFERROR(VLOOKUP(A3674,Insumos!A:B,2,FALSE),\"\")","v":""}]
[null,null,{"$f":"IFERROR(VLOOKUP(A3675,Insumos!A:B,2,FALSE),\"\")","v":""}]
[null,null,{"$f":"IFERROR(VLOOKUP(A3676,Insumos!A:B,2,FALSE),\"\")","v":""}]
[null,null,{"$f":"IFERROR(VLOOKUP(A3677,Insumos!A:B,2,FALSE),\"\")","v":""}]
[null,null,{"$f":"IFERROR(VLOOKUP(A3678,Insumos!A:B,2,FALSE),\"\")","v":""}]
[null,null,{"$f":"IFERROR(VLOOKUP(A3679,Insumos!A:B,2,FALSE),\"\")","v":""}]
[null,null,{"$f":"IFERROR(VLOOKUP(A3680,Insumos!A:B,2,FALSE),\"\")","v":""}]
[null,null,{"$f":"IFERROR(VLOOKUP(A3681,Insumos!A:B,2,FALSE),\"\")","v":""}]
[null,null,{"$f":"IFERROR(VLOOKUP(A3682,Insumos!A:B,2,FALSE),\"\")","v":""}]
[null,null,{"$f":"IFERROR(VLOOKUP(A3683,Insumos!A:B,2,FALSE),\"\")","v":""}]
[null,null,{"$f":"IFERROR(VLOOKUP(A3684,Insumos!A:B,2,FALSE),\"\")","v":""}]
[null,null,{"$f":"IFERROR(VLOOKUP(A3685,Insumos!A:B,2,FALSE),\"\")","v":""}]
[null,null,{"$f":"IFERROR(VLOOKUP(A3686,Insumos!A:B,2,FALSE),\"\")","v":""}]
[null,null,{"$f":"IFERROR(VLOOKUP(A3687,Insumos!A:B,2,FALSE),\"\")","v":""}]
[null,null,{"$f":"IFERROR(VLOOKUP(A3688,Insumos!A:B,2,FALSE),\"\")","v":""}]
[null,null,{"$f":"IFERROR(VLOOKUP(A3689,Insumos!A:B,2,FALSE),\"\")","v":""}]
[null,null,{"$f":"IFERROR(VLOOKUP(A3690,Insumos!A:B,2,FALSE),\"\")","v":""}]
[null,null,{"$f":"IFERROR(VLOOKUP(A3691,Insumos!A:B,2,FALSE),\"\")","v":""}]
[null,null,{"$f":"IFERROR(VLOOKUP(A3692,Insumos!A:B,2,FALSE),\"\")","v":""}]
[null,null,{"$f":"IFERROR(VLOOKUP(A3693,Insumos!A:B,2,FALSE),\"\")","v":""}]
[null,null,{"$f":"IFERROR(VLOOKUP(A3694,Insumos!A:B,2,FALSE),\"\")","v":""}]
[null,null,{"$f":"IFERROR(VLOOKUP(A3695,Insumos!A:B,2,FALSE),\"\")","v":""}]
[null,null,{"$f":"IFERROR(VLOOKUP(A3696,Insumos!A:B,2,FALSE),\"\")","v":""}]
[null,null,{"$f":"IFERROR(VLOOKUP(A3697,Insumos!A:B,2,FALSE),\"\")","v":""}]
[null,null,{"$f":"IFERROR(VLOOKUP(A3698,Insumos!A:B,2,FALSE),\"\")","v":""}]
[null,null,{"$f":"IFERROR(VLOOKUP(A3699,Insumos!A:B,2,FALSE),\"\")","v":""}]
[null,null,{"$f":"IFERROR(VLOOKUP(A3700,Insumos!A:B,2,FALSE),\"\")","v":""}]
[null,null,{"$f":"IFERROR(VLOOKUP(A3701,Insumos!A:B,2,FALSE),\"\")","v":""}]
[null,null,{"$f":"IFERROR(VLOOKUP(A3702,Insumos!A:B,2,FALSE),\"\")","v":""}]
[null,null,{"$f":"IFERROR(VLOOKUP(A3703,Insumos!A:B,2,FALSE),\"\")","v":""}]
[null,null,{"$f":"IFERROR(VLOOKUP(A3704,Insumos!A:B,2,FALSE),\"\")","v":""}]
[null,null,{"$f":"IFERROR(VLOOKUP(A3705,Insumos!A:B,2,FALSE),\"\")","v":""}]
[null,null,{"$f":"IFERROR(VLOOKUP(A3706,Insumos!A:B,2,FALSE),\"\")","v":""}]
[null,null,{"$f":"IFERROR(VLOOKUP(A3707,Insumos!A:B,2,FALSE),\"\")","v":""}]
[null,null,{"$f":"IFERROR(VLOOKUP(A3708,Insumos!A:B,2,FALSE),\"\")","v":""}]
[null,null,{"$f":"IFERROR(VLOOKUP(A3709,Insumos!A:B,2,FALSE),\"\")","v":""}]
[null,null,{"$f":"IFERROR(VLOOKUP(A3710,Insumos!A:B,2,FALSE),\"\")","v":""}]
[null,null,{"$f":"IFERROR(VLOOKUP(A3711,Insumos!A:B,2,FALSE),\"\")","v":""}]
[null,null,{"$f":"IFERROR(VLOOKUP(A3712,Insumos!A:B,2,FALSE),\"\")","v":""}]
[null,null,{"$f":"IFERROR(VLOOKUP(A3713,Insumos!A:B,2,FALSE),\"\")","v":""}]
[null,null,{"$f":"IFERROR(VLOOKUP(A3714,Insumos!A:B,2,FALSE),\"\")","v":""}]
[null,null,{"$f":"IFERROR(VLOOKUP(A3715,Insumos!A:B,2,FALSE),\"\")","v":""}]
[null,null,{"$f":"IFERROR(VLOOKUP(A3716,Insumos!A:B,2,FALSE),\"\")","v":""}]
[null,null,{"$f":"IFERROR(VLOOKUP(A3717,Insumos!A:B,2,FALSE),\"\")","v":""}]
[null,null,{"$f":"IFERROR(VLOOKUP(A3718,Insumos!A:B,2,FALSE),\"\")","v":""}]
[null,null,{"$f":"IFERROR(VLOOKUP(A3719,Insumos!A:B,2,FALSE),\"\")","v":""}]
[null,null,{"$f":"IFERROR(VLOOKUP(A3720,Insumos!A:B,2,FALSE),\"\")","v":""}]
[null,null,{"$f":"IFERROR(VLOOKUP(A3721,Insumos!A:B,2,FALSE),\"\")","v":""}]
[null,null,{"$f":"IFERROR(VLOOKUP(A3722,Insumos!A:B,2,FALSE),\"\")","v":""}]
[null,null,{"$f":"IFERROR(VLOOKUP(A3723,Insumos!A:B,2,FALSE),\"\")","v":""}]
[null,null,{"$f":"IFERROR(VLOOKUP(A3724,Insumos!A:B,2,FALSE),\"\")","v":""}]
[null,null,{"$f":"IFERROR(VLOOKUP(A3725,Insumos!A:B,2,FALSE),\"\")","v":""}]
[null,null,{"$f":"IFERROR(VLOOKUP(A3726,Insumos!A:B,2,FALSE),\"\")","v":""}]
[null,null,{"$f":"IFERROR(VLOOKUP(A3727,Insumos!A:B,2,FALSE),\"\")","v":""}]
[null,null,{"$f":"IFERROR(VLOOKUP(A3728,Insumos!A:B,2,FALSE),\"\")","v":""}]
[null,null,{"$f":"IFERROR(VLOOKUP(A3729,Insumos!A:B,2,FALSE),\"\")","v":""}]
[null,null,{"$f":"IFERROR(VLOOKUP(A3730,Insumos!A:B,2,FALSE),\"\")","v":""}]
[null,null,{"$f":"IFERROR(VLOOKUP(A3731,Insumos!A:B,2,FALSE),\"\")","v":""}]
[null,null,{"$f":"IFERROR(VLOOKUP(A3732,Insumos!A:B,2,FALSE),\"\")","v":""}]
[null,null,{"$f":"IFERROR(VLOOKUP(A3733,Insumos!A:B,2,FALSE),\"\")","v":""}]
[null,null,{"$f":"IFERROR(VLOOKUP(A3734,Insumos!A:B,2,FALSE),\"\")","v":""}]
[null,null,{"$f":"IFERROR(VLOOKUP(A3735,Insumos!A:B,2,FALSE),\"\")","v":""}]
[null,null,{"$f":"IFERROR(VLOOKUP(A3736,Insumos!A:B,2,FALSE),\"\")","v":""}]
[null,null,{"$f":"IFERROR(VLOOKUP(A3737,Insumos!A:B,2,FALSE),\"\")","v":""}]
[null,null,{"$f":"IFERROR(VLOOKUP(A3738,Insumos!A:B,2,FALSE),\"\")","v":""}]
[null,null,{"$f":"IFERROR(VLOOKUP(A3739,Insumos!A:B,2,FALSE),\"\")","v":""}]
[null,null,{"$f":"IFERROR(VLOOKUP(A3740,Insumos!A:B,2,FALSE),\"\")","v":""}]
[null,null,{"$f":"IFERROR(VLOOKUP(A3741,Insumos!A:B,2,FALSE),\"\")","v":""}]
[null,null,{"$f":"IFERROR(VLOOKUP(A3742,Insumos!A:B,2,FALSE),\"\")","v":""}]
[null,null,{"$f":"IFERROR(VLOOKUP(A3743,Insumos!A:B,2,FALSE),\"\")","v":""}]
[null,null,{"$f":"IFERROR(VLOOKUP(A3744,Insumos!A:B,2,FALSE),\"\")","v":""}]
[null,null,{"$f":"IFERROR(VLOOKUP(A3745,Insumos!A:B,2,FALSE),\"\")","v":""}]
[null,null,{"$f":"IFERROR(VLOOKUP(A3746,Insumos!A:B,2,FALSE),\"\")","v":""}]
[null,null,{"$f":"IFERROR(VLOOKUP(A3747,Insumos!A:B,2,FALSE),\"\")","v":""}]
[null,null,{"$f":"IFERROR(VLOOKUP(A3748,Insumos!A:B,2,FALSE),\"\")","v":""}]
[null,null,{"$f":"IFERROR(VLOOKUP(A3749,Insumos!A:B,2,FALSE),\"\")","v":""}]
[null,null,{"$f":"IFERROR(VLOOKUP(A3750,Insumos!A:B,2,FALSE),\"\")","v":""}]
[null,null,{"$f":"IFERROR(VLOOKUP(A3751,Insumos!A:B,2,FALSE),\"\")","v":""}]
[null,null,{"$f":"IFERROR(VLOOKUP(A3752,Insumos!A:B,2,FALSE),\"\")","v":""}]
[null,null,{"$f":"IFERROR(VLOOKUP(A3753,Insumos!A:B,2,FALSE),\"\")","v":""}]
[null,null,{"$f":"IFERROR(VLOOKUP(A3754,Insumos!A:B,2,FALSE),\"\")","v":""}]
[null,null,{"$f":"IFERROR(VLOOKUP(A3755,Insumos!A:B,2,FALSE),\"\")","v":""}]
[null,null,{"$f":"IFERROR(VLOOKUP(A3756,Insumos!A:B,2,FALSE),\"\")","v":""}]
[null,null,{"$f":"IFERROR(VLOOKUP(A3757,Insumos!A:B,2,FALSE),\"\")","v":""}]
[null,null,{"$f":"IFERROR(VLOOKUP(A3758,Insumos!A:B,2,FALSE),\"\")","v":""}]
[null,null,{"$f":"IFERROR(VLOOKUP(A3759,Insumos!A:B,2,FALSE),\"\")","v":""}]
[null,null,{"$f":"IFERROR(VLOOKUP(A3760,Insumos!A:B,2,FALSE),\"\")","v":""}]
[null,null,{"$f":"IFERROR(VLOOKUP(A3761,Insumos!A:B,2,FALSE),\"\")","v":""}]
[null,null,{"$f":"IFERROR(VLOOKUP(A3762,Insumos!A:B,2,FALSE),\"\")","v":""}]
[null,null,{"$f":"IFERROR(VLOOKUP(A3763,Insumos!A:B,2,FALSE),\"\")","v":""}]
[null,null,{"$f":"IFERROR(VLOOKUP(A3764,Insumos!A:B,2,FALSE),\"\")","v":""}]
[null,null,{"$f":"IFERROR(VLOOKUP(A3765,Insumos!A:B,2,FALSE),\"\")","v":""}]
[null,null,{"$f":"IFERROR(VLOOKUP(A3766,Insumos!A:B,2,FALSE),\"\")","v":""}]
[null,null,{"$f":"IFERROR(VLOOKUP(A3767,Insumos!A:B,2,FALSE),\"\")","v":""}]
[null,null,{"$f":"IFERROR(VLOOKUP(A3768,Insumos!A:B,2,FALSE),\"\")","v":""}]
[null,null,{"$f":"IFERROR(VLOOKUP(A3769,Insumos!A:B,2,FALSE),\"\")","v":""}]
[null,null,{"$f":"IFERROR(VLOOKUP(A3770,Insumos!A:B,2,FALSE),\"\")","v":""}]
[null,null,{"$f":"IFERROR(VLOOKUP(A3771,Insumos!A:B,2,FALSE),\"\")","v":""}]
[null,null,{"$f":"IFERROR(VLOOKUP(A3772,Insumos!A:B,2,FALSE),\"\")","v":""}]
[null,null,{"$f":"IFERROR(VLOOKUP(A3773,Insumos!A:B,2,FALSE),\"\")","v":""}]
[null,null,{"$f":"IFERROR(VLOOKUP(A3774,Insumos!A:B,2,FALSE),\"\")","v":""}]
[null,null,{"$f":"IFERROR(VLOOKUP(A3775,Insumos!A:B,2,FALSE),\"\")","v":""}]
[null,null,{"$f":"IFERROR(VLOOKUP(A3776,Insumos!A:B,2,FALSE),\"\")","v":""}]
[null,null,{"$f":"IFERROR(VLOOKUP(A3777,Insumos!A:B,2,FALSE),\"\")","v":""}]
[null,null,{"$f":"IFERROR(VLOOKUP(A3778,Insumos!A:B,2,FALSE),\"\")","v":""}]
[null,null,{"$f":"IFERROR(VLOOKUP(A3779,Insumos!A:B,2,FALSE),\"\")","v":""}]
[null,null,{"$f":"IFERROR(VLOOKUP(A3780,Insumos!A:B,2,FALSE),\"\")","v":""}]
[null,null,{"$f":"IFERROR(VLOOKUP(A3781,Insumos!A:B,2,FALSE),\"\")","v":""}]
[null,null,{"$f":"IFERROR(VLOOKUP(A3782,Insumos!A:B,2,FALSE),\"\")","v":""}]
[null,null,{"$f":"IFERROR(VLOOKUP(A3783,Insumos!A:B,2,FALSE),\"\")","v":""}]
[null,null,{"$f":"IFERROR(VLOOKUP(A3784,Insumos!A:B,2,FALSE),\"\")","v":""}]
[null,null,{"$f":"IFERROR(VLOOKUP(A3785,Insumos!A:B,2,FALSE),\"\")","v":""}]
[null,null,{"$f":"IFERROR(VLOOKUP(A3786,Insumos!A:B,2,FALSE),\"\")","v":""}]
[null,null,{"$f":"IFERROR(VLOOKUP(A3787,Insumos!A:B,2,FALSE),\"\")","v":""}]
[null,null,{"$f":"IFERROR(VLOOKUP(A3788,Insumos!A:B,2,FALSE),\"\")","v":""}]
[null,null,{"$f":"IFERROR(VLOOKUP(A3789,Insumos!A:B,2,FALSE),\"\")","v":""}]
[null,null,{"$f":"IFERROR(VLOOKUP(A3790,Insumos!A:B,2,FALSE),\"\")","v":""}]
[null,null,{"$f":"IFERROR(VLOOKUP(A3791,Insumos!A:B,2,FALSE),\"\")","v":""}]
[null,null,{"$f":"IFERROR(VLOOKUP(A3792,Insumos!A:B,2,FALSE),\"\")","v":""}]
[null,null,{"$f":"IFERROR(VLOOKUP(A3793,Insumos!A:B,2,FALSE),\"\")","v":""}]
[null,null,{"$f":"IFERROR(VLOOKUP(A3794,Insumos!A:B,2,FALSE),\"\")","v":""}]
[null,null,{"$f":"IFERROR(VLOOKUP(A3795,Insumos!A:B,2,FALSE),\"\")","v":""}]
[null,null,{"$f":"IFERROR(VLOOKUP(A3796,Insumos!A:B,2,FALSE),\"\")","v":""}]
[null,null,{"$f":"IFERROR(VLOOKUP(A3797,Insumos!A:B,2,FALSE),\"\")","v":""}]
[null,null,{"$f":"IFERROR(VLOOKUP(A3798,Insumos!A:B,2,FALSE),\"\")","v":""}]
[null,null,{"$f":"IFERROR(VLOOKUP(A3799,Insumos!A:B,2,FALSE),\"\")","v":""}]
[null,null,{"$f":"IFERROR(VLOOKUP(A3800,Insumos!A:B,2,FALSE),\"\")","v":""}]
[null,null,{"$f":"IFERROR(VLOOKUP(A3801,Insumos!A:B,2,FALSE),\"\")","v":""}]
[null,null,{"$f":"IFERROR(VLOOKUP(A3802,Insumos!A:B,2,FALSE),\"\")","v":""}]
[null,null,{"$f":"IFERROR(VLOOKUP(A3803,Insumos!A:B,2,FALSE),\"\")","v":""}]
[null,null,{"$f":"IFERROR(VLOOKUP(A3804,Insumos!A:B,2,FALSE),\"\")","v":""}]
[null,null,{"$f":"IFERROR(VLOOKUP(A3805,Insumos!A:B,2,FALSE),\"\")","v":""}]
[null,null,{"$f":"IFERROR(VLOOKUP(A3806,Insumos!A:B,2,FALSE),\"\")","v":""}]
[null,null,{"$f":"IFERROR(VLOOKUP(A3807,Insumos!A:B,2,FALSE),\"\")","v":""}]
[null,null,{"$f":"IFERROR(VLOOKUP(A3808,Insumos!A:B,2,FALSE),\"\")","v":""}]
[null,null,{"$f":"IFERROR(VLOOKUP(A3809,Insumos!A:B,2,FALSE),\"\")","v":""}]
[null,null,{"$f":"IFERROR(VLOOKUP(A3810,Insumos!A:B,2,FALSE),\"\")","v":""}]
[null,null,{"$f":"IFERROR(VLOOKUP(A3811,Insumos!A:B,2,FALSE),\"\")","v":""}]
[null,null,{"$f":"IFERROR(VLOOKUP(A3812,Insumos!A:B,2,FALSE),\"\")","v":""}]
[null,null,{"$f":"IFERROR(VLOOKUP(A3813,Insumos!A:B,2,FALSE),\"\")","v":""}]
[null,null,{"$f":"IFERROR(VLOOKUP(A3814,Insumos!A:B,2,FALSE),\"\")","v":""}]
[null,null,{"$f":"IFERROR(VLOOKUP(A3815,Insumos!A:B,2,FALSE),\"\")","v":""}]
[null,null,{"$f":"IFERROR(VLOOKUP(A3816,Insumos!A:B,2,FALSE),\"\")","v":""}]
[null,null,{"$f":"IFERROR(VLOOKUP(A3817,Insumos!A:B,2,FALSE),\"\")","v":""}]
[null,null,{"$f":"IFERROR(VLOOKUP(A3818,Insumos!A:B,2,FALSE),\"\")","v":""}]
[null,null,{"$f":"IFERROR(VLOOKUP(A3819,Insumos!A:B,2,FALSE),\"\")","v":""}]
[null,null,{"$f":"IFERROR(VLOOKUP(A3820,Insumos!A:B,2,FALSE),\"\")","v":""}]
[null,null,{"$f":"IFERROR(VLOOKUP(A3821,Insumos!A:B,2,FALSE),\"\")","v":""}]
[null,null,{"$f":"IFERROR(VLOOKUP(A3822,Insumos!A:B,2,FALSE),\"\")","v":""}]
[null,null,{"$f":"IFERROR(VLOOKUP(A3823,Insumos!A:B,2,FALSE),\"\")","v":""}]
[null,null,{"$f":"IFERROR(VLOOKUP(A3824,Insumos!A:B,2,FALSE),\"\")","v":""}]
[null,null,{"$f":"IFERROR(VLOOKUP(A3825,Insumos!A:B,2,FALSE),\"\")","v":""}]
[null,null,{"$f":"IFERROR(VLOOKUP(A3826,Insumos!A:B,2,FALSE),\"\")","v":""}]
[null,null,{"$f":"IFERROR(VLOOKUP(A3827,Insumos!A:B,2,FALSE),\"\")","v":""}]
[null,null,{"$f":"IFERROR(VLOOKUP(A3828,Insumos!A:B,2,FALSE),\"\")","v":""}]
[null,null,{"$f":"IFERROR(VLOOKUP(A3829,Insumos!A:B,2,FALSE),\"\")","v":""}]
[null,null,{"$f":"IFERROR(VLOOKUP(A3830,Insumos!A:B,2,FALSE),\"\")","v":""}]
[null,null,{"$f":"IFERROR(VLOOKUP(A3831,Insumos!A:B,2,FALSE),\"\")","v":""}]
[null,null,{"$f":"IFERROR(VLOOKUP(A3832,Insumos!A:B,2,FALSE),\"\")","v":""}]
[null,null,{"$f":"IFERROR(VLOOKUP(A3833,Insumos!A:B,2,FALSE),\"\")","v":""}]
[null,null,{"$f":"IFERROR(VLOOKUP(A3834,Insumos!A:B,2,FALSE),\"\")","v":""}]
[null,null,{"$f":"IFERROR(VLOOKUP(A3835,Insumos!A:B,2,FALSE),\"\")","v":""}]
[null,null,{"$f":"IFERROR(VLOOKUP(A3836,Insumos!A:B,2,FALSE),\"\")","v":""}]
[null,null,{"$f":"IFERROR(VLOOKUP(A3837,Insumos!A:B,2,FALSE),\"\")","v":""}]
[null,null,{"$f":"IFERROR(VLOOKUP(A3838,Insumos!A:B,2,FALSE),\"\")","v":""}]
[null,null,{"$f":"IFERROR(VLOOKUP(A3839,Insumos!A:B,2,FALSE),\"\")","v":""}]
[null,null,{"$f":"IFERROR(VLOOKUP(A3840,Insumos!A:B,2,FALSE),\"\")","v":""}]
[null,null,{"$f":"IFERROR(VLOOKUP(A3841,Insumos!A:B,2,FALSE),\"\")","v":""}]
[null,null,{"$f":"IFERROR(VLOOKUP(A3842,Insumos!A:B,2,FALSE),\"\")","v":""}]
[null,null,{"$f":"IFERROR(VLOOKUP(A3843,Insumos!A:B,2,FALSE),\"\")","v":""}]
[null,null,{"$f":"IFERROR(VLOOKUP(A3844,Insumos!A:B,2,FALSE),\"\")","v":""}]
[null,null,{"$f":"IFERROR(VLOOKUP(A3845,Insumos!A:B,2,FALSE),\"\")","v":""}]
[null,null,{"$f":"IFERROR(VLOOKUP(A3846,Insumos!A:B,2,FALSE),\"\")","v":""}]
[null,null,{"$f":"IFERROR(VLOOKUP(A3847,Insumos!A:B,2,FALSE),\"\")","v":""}]
[null,null,{"$f":"IFERROR(VLOOKUP(A3848,Insumos!A:B,2,FALSE),\"\")","v":""}]
[null,null,{"$f":"IFERROR(VLOOKUP(A3849,Insumos!A:B,2,FALSE),\"\")","v":""}]
[null,null,{"$f":"IFERROR(VLOOKUP(A3850,Insumos!A:B,2,FALSE),\"\")","v":""}]
[null,null,{"$f":"IFERROR(VLOOKUP(A3851,Insumos!A:B,2,FALSE),\"\")","v":""}]
[null,null,{"$f":"IFERROR(VLOOKUP(A3852,Insumos!A:B,2,FALSE),\"\")","v":""}]
[null,null,{"$f":"IFERROR(VLOOKUP(A3853,Insumos!A:B,2,FALSE),\"\")","v":""}]
[null,null,{"$f":"IFERROR(VLOOKUP(A3854,Insumos!A:B,2,FALSE),\"\")","v":""}]
[null,null,{"$f":"IFERROR(VLOOKUP(A3855,Insumos!A:B,2,FALSE),\"\")","v":""}]
[null,null,{"$f":"IFERROR(VLOOKUP(A3856,Insumos!A:B,2,FALSE),\"\")","v":""}]
[null,null,{"$f":"IFERROR(VLOOKUP(A3857,Insumos!A:B,2,FALSE),\"\")","v":""}]
[null,null,{"$f":"IFERROR(VLOOKUP(A3858,Insumos!A:B,2,FALSE),\"\")","v":""}]
[null,null,{"$f":"IFERROR(VLOOKUP(A3859,Insumos!A:B,2,FALSE),\"\")","v":""}]
[null,null,{"$f":"IFERROR(VLOOKUP(A3860,Insumos!A:B,2,FALSE),\"\")","v":""}]
[null,null,{"$f":"IFERROR(VLOOKUP(A3861,Insumos!A:B,2,FALSE),\"\")","v":""}]
[null,null,{"$f":"IFERROR(VLOOKUP(A3862,Insumos!A:B,2,FALSE),\"\")","v":""}]
[null,null,{"$f":"IFERROR(VLOOKUP(A3863,Insumos!A:B,2,FALSE),\"\")","v":""}]
[null,null,{"$f":"IFERROR(VLOOKUP(A3864,Insumos!A:B,2,FALSE),\"\")","v":""}]
[null,null,{"$f":"IFERROR(VLOOKUP(A3865,Insumos!A:B,2,FALSE),\"\")","v":""}]
[null,null,{"$f":"IFERROR(VLOOKUP(A3866,Insumos!A:B,2,FALSE),\"\")","v":""}]
[null,null,{"$f":"IFERROR(VLOOKUP(A3867,Insumos!A:B,2,FALSE),\"\")","v":""}]
[null,null,{"$f":"IFERROR(VLOOKUP(A3868,Insumos!A:B,2,FALSE),\"\")","v":""}]
[null,null,{"$f":"IFERROR(VLOOKUP(A3869,Insumos!A:B,2,FALSE),\"\")","v":""}]
[null,null,{"$f":"IFERROR(VLOOKUP(A3870,Insumos!A:B,2,FALSE),\"\")","v":""}]
[null,null,{"$f":"IFERROR(VLOOKUP(A3871,Insumos!A:B,2,FALSE),\"\")","v":""}]
[null,null,{"$f":"IFERROR(VLOOKUP(A3872,Insumos!A:B,2,FALSE),\"\")","v":""}]
[null,null,{"$f":"IFERROR(VLOOKUP(A3873,Insumos!A:B,2,FALSE),\"\")","v":""}]
[null,null,{"$f":"IFERROR(VLOOKUP(A3874,Insumos!A:B,2,FALSE),\"\")","v":""}]
[null,null,{"$f":"IFERROR(VLOOKUP(A3875,Insumos!A:B,2,FALSE),\"\")","v":""}]
[null,null,{"$f":"IFERROR(VLOOKUP(A3876,Insumos!A:B,2,FALSE),\"\")","v":""}]
[null,null,{"$f":"IFERROR(VLOOKUP(A3877,Insumos!A:B,2,FALSE),\"\")","v":""}]
[null,null,{"$f":"IFERROR(VLOOKUP(A3878,Insumos!A:B,2,FALSE),\"\")","v":""}]
[null,null,{"$f":"IFERROR(VLOOKUP(A3879,Insumos!A:B,2,FALSE),\"\")","v":""}]
[null,null,{"$f":"IFERROR(VLOOKUP(A3880,Insumos!A:B,2,FALSE),\"\")","v":""}]
[null,null,{"$f":"IFERROR(VLOOKUP(A3881,Insumos!A:B,2,FALSE),\"\")","v":""}]
[null,null,{"$f":"IFERROR(VLOOKUP(A3882,Insumos!A:B,2,FALSE),\"\")","v":""}]
[null,null,{"$f":"IFERROR(VLOOKUP(A3883,Insumos!A:B,2,FALSE),\"\")","v":""}]
[null,null,{"$f":"IFERROR(VLOOKUP(A3884,Insumos!A:B,2,FALSE),\"\")","v":""}]
[null,null,{"$f":"IFERROR(VLOOKUP(A3885,Insumos!A:B,2,FALSE),\"\")","v":""}]
[null,null,{"$f":"IFERROR(VLOOKUP(A3886,Insumos!A:B,2,FALSE),\"\")","v":""}]
[null,null,{"$f":"IFERROR(VLOOKUP(A3887,Insumos!A:B,2,FALSE),\"\")","v":""}]
[null,null,{"$f":"IFERROR(VLOOKUP(A3888,Insumos!A:B,2,FALSE),\"\")","v":""}]
[null,null,{"$f":"IFERROR(VLOOKUP(A3889,Insumos!A:B,2,FALSE),\"\")","v":""}]
[null,null,{"$f":"IFERROR(VLOOKUP(A3890,Insumos!A:B,2,FALSE),\"\")","v":""}]
[null,null,{"$f":"IFERROR(VLOOKUP(A3891,Insumos!A:B,2,FALSE),\"\")","v":""}]
[null,null,{"$f":"IFERROR(VLOOKUP(A3892,Insumos!A:B,2,FALSE),\"\")","v":""}]
[null,null,{"$f":"IFERROR(VLOOKUP(A3893,Insumos!A:B,2,FALSE),\"\")","v":""}]
[null,null,{"$f":"IFERROR(VLOOKUP(A3894,Insumos!A:B,2,FALSE),\"\")","v":""}]
[null,null,{"$f":"IFERROR(VLOOKUP(A3895,Insumos!A:B,2,FALSE),\"\")","v":""}]
[null,null,{"$f":"IFERROR(VLOOKUP(A3896,Insumos!A:B,2,FALSE),\"\")","v":""}]
[null,null,{"$f":"IFERROR(VLOOKUP(A3897,Insumos!A:B,2,FALSE),\"\")","v":""}]
[null,null,{"$f":"IFERROR(VLOOKUP(A3898,Insumos!A:B,2,FALSE),\"\")","v":""}]
[null,null,{"$f":"IFERROR(VLOOKUP(A3899,Insumos!A:B,2,FALSE),\"\")","v":""}]
[null,null,{"$f":"IFERROR(VLOOKUP(A3900,Insumos!A:B,2,FALSE),\"\")","v":""}]
[null,null,{"$f":"IFERROR(VLOOKUP(A3901,Insumos!A:B,2,FALSE),\"\")","v":""}]
[null,null,{"$f":"IFERROR(VLOOKUP(A3902,Insumos!A:B,2,FALSE),\"\")","v":""}]
[null,null,{"$f":"IFERROR(VLOOKUP(A3903,Insumos!A:B,2,FALSE),\"\")","v":""}]
[null,null,{"$f":"IFERROR(VLOOKUP(A3904,Insumos!A:B,2,FALSE),\"\")","v":""}]
[null,null,{"$f":"IFERROR(VLOOKUP(A3905,Insumos!A:B,2,FALSE),\"\")","v":""}]
[null,null,{"$f":"IFERROR(VLOOKUP(A3906,Insumos!A:B,2,FALSE),\"\")","v":""}]
[null,null,{"$f":"IFERROR(VLOOKUP(A3907,Insumos!A:B,2,FALSE),\"\")","v":""}]
[null,null,{"$f":"IFERROR(VLOOKUP(A3908,Insumos!A:B,2,FALSE),\"\")","v":""}]
[null,null,{"$f":"IFERROR(VLOOKUP(A3909,Insumos!A:B,2,FALSE),\"\")","v":""}]
[null,null,{"$f":"IFERROR(VLOOKUP(A3910,Insumos!A:B,2,FALSE),\"\")","v":""}]
[null,null,{"$f":"IFERROR(VLOOKUP(A3911,Insumos!A:B,2,FALSE),\"\")","v":""}]
[null,null,{"$f":"IFERROR(VLOOKUP(A3912,Insumos!A:B,2,FALSE),\"\")","v":""}]
[null,null,{"$f":"IFERROR(VLOOKUP(A3913,Insumos!A:B,2,FALSE),\"\")","v":""}]
[null,null,{"$f":"IFERROR(VLOOKUP(A3914,Insumos!A:B,2,FALSE),\"\")","v":""}]
[null,null,{"$f":"IFERROR(VLOOKUP(A3915,Insumos!A:B,2,FALSE),\"\")","v":""}]
[null,null,{"$f":"IFERROR(VLOOKUP(A3916,Insumos!A:B,2,FALSE),\"\")","v":""}]
[null,null,{"$f":"IFERROR(VLOOKUP(A3917,Insumos!A:B,2,FALSE),\"\")","v":""}]
[null,null,{"$f":"IFERROR(VLOOKUP(A3918,Insumos!A:B,2,FALSE),\"\")","v":""}]
[null,null,{"$f":"IFERROR(VLOOKUP(A3919,Insumos!A:B,2,FALSE),\"\")","v":""}]
[null,null,{"$f":"IFERROR(VLOOKUP(A3920,Insumos!A:B,2,FALSE),\"\")","v":""}]
[null,null,{"$f":"IFERROR(VLOOKUP(A3921,Insumos!A:B,2,FALSE),\"\")","v":""}]
[null,null,{"$f":"IFERROR(VLOOKUP(A3922,Insumos!A:B,2,FALSE),\"\")","v":""}]
[null,null,{"$f":"IFERROR(VLOOKUP(A3923,Insumos!A:B,2,FALSE),\"\")","v":""}]
[null,null,{"$f":"IFERROR(VLOOKUP(A3924,Insumos!A:B,2,FALSE),\"\")","v":""}]
[null,null,{"$f":"IFERROR(VLOOKUP(A3925,Insumos!A:B,2,FALSE),\"\")","v":""}]
[null,null,{"$f":"IFERROR(VLOOKUP(A3926,Insumos!A:B,2,FALSE),\"\")","v":""}]
[null,null,{"$f":"IFERROR(VLOOKUP(A3927,Insumos!A:B,2,FALSE),\"\")","v":""}]
[null,null,{"$f":"IFERROR(VLOOKUP(A3928,Insumos!A:B,2,FALSE),\"\")","v":""}]
[null,null,{"$f":"IFERROR(VLOOKUP(A3929,Insumos!A:B,2,FALSE),\"\")","v":""}]
[null,null,{"$f":"IFERROR(VLOOKUP(A3930,Insumos!A:B,2,FALSE),\"\")","v":""}]
[null,null,{"$f":"IFERROR(VLOOKUP(A3931,Insumos!A:B,2,FALSE),\"\")","v":""}]
[null,null,{"$f":"IFERROR(VLOOKUP(A3932,Insumos!A:B,2,FALSE),\"\")","v":""}]
[null,null,{"$f":"IFERROR(VLOOKUP(A3933,Insumos!A:B,2,FALSE),\"\")","v":""}]
[null,null,{"$f":"IFERROR(VLOOKUP(A3934,Insumos!A:B,2,FALSE),\"\")","v":""}]
[null,null,{"$f":"IFERROR(VLOOKUP(A3935,Insumos!A:B,2,FALSE),\"\")","v":""}]
[null,null,{"$f":"IFERROR(VLOOKUP(A3936,Insumos!A:B,2,FALSE),\"\")","v":""}]
[null,null,{"$f":"IFERROR(VLOOKUP(A3937,Insumos!A:B,2,FALSE),\"\")","v":""}]
[null,null,{"$f":"IFERROR(VLOOKUP(A3938,Insumos!A:B,2,FALSE),\"\")","v":""}]
[null,null,{"$f":"IFERROR(VLOOKUP(A3939,Insumos!A:B,2,FALSE),\"\")","v":""}]
[null,null,{"$f":"IFERROR(VLOOKUP(A3940,Insumos!A:B,2,FALSE),\"\")","v":""}]
[null,null,{"$f":"IFERROR(VLOOKUP(A3941,Insumos!A:B,2,FALSE),\"\")","v":""}]
[null,null,{"$f":"IFERROR(VLOOKUP(A3942,Insumos!A:B,2,FALSE),\"\")","v":""}]
[null,null,{"$f":"IFERROR(VLOOKUP(A3943,Insumos!A:B,2,FALSE),\"\")","v":""}]
[null,null,{"$f":"IFERROR(VLOOKUP(A3944,Insumos!A:B,2,FALSE),\"\")","v":""}]
[null,null,{"$f":"IFERROR(VLOOKUP(A3945,Insumos!A:B,2,FALSE),\"\")","v":""}]
[null,null,{"$f":"IFERROR(VLOOKUP(A3946,Insumos!A:B,2,FALSE),\"\")","v":""}]
[null,null,{"$f":"IFERROR(VLOOKUP(A3947,Insumos!A:B,2,FALSE),\"\")","v":""}]
[null,null,{"$f":"IFERROR(VLOOKUP(A3948,Insumos!A:B,2,FALSE),\"\")","v":""}]
[null,null,{"$f":"IFERROR(VLOOKUP(A3949,Insumos!A:B,2,FALSE),\"\")","v":""}]
[null,null,{"$f":"IFERROR(VLOOKUP(A3950,Insumos!A:B,2,FALSE),\"\")","v":""}]
[null,null,{"$f":"IFERROR(VLOOKUP(A3951,Insumos!A:B,2,FALSE),\"\")","v":""}]
[null,null,{"$f":"IFERROR(VLOOKUP(A3952,Insumos!A:B,2,FALSE),\"\")","v":""}]
[null,null,{"$f":"IFERROR(VLOOKUP(A3953,Insumos!A:B,2,FALSE),\"\")","v":""}]
[null,null,{"$f":"IFERROR(VLOOKUP(A3954,Insumos!A:B,2,FALSE),\"\")","v":""}]
[null,null,{"$f":"IFERROR(VLOOKUP(A3955,Insumos!A:B,2,FALSE),\"\")","v":""}]
[null,null,{"$f":"IFERROR(VLOOKUP(A3956,Insumos!A:B,2,FALSE),\"\")","v":""}]
[null,null,{"$f":"IFERROR(VLOOKUP(A3957,Insumos!A:B,2,FALSE),\"\")","v":""}]
[null,null,{"$f":"IFERROR(VLOOKUP(A3958,Insumos!A:B,2,FALSE),\"\")","v":""}]
[null,null,{"$f":"IFERROR(VLOOKUP(A3959,Insumos!A:B,2,FALSE),\"\")","v":""}]
[null,null,{"$f":"IFERROR(VLOOKUP(A3960,Insumos!A:B,2,FALSE),\"\")","v":""}]
[null,null,{"$f":"IFERROR(VLOOKUP(A3961,Insumos!A:B,2,FALSE),\"\")","v":""}]
[null,null,{"$f":"IFERROR(VLOOKUP(A3962,Insumos!A:B,2,FALSE),\"\")","v":""}]
[null,null,{"$f":"IFERROR(VLOOKUP(A3963,Insumos!A:B,2,FALSE),\"\")","v":""}]
[null,null,{"$f":"IFERROR(VLOOKUP(A3964,Insumos!A:B,2,FALSE),\"\")","v":""}]
[null,null,{"$f":"IFERROR(VLOOKUP(A3965,Insumos!A:B,2,FALSE),\"\")","v":""}]
[null,null,{"$f":"IFERROR(VLOOKUP(A3966,Insumos!A:B,2,FALSE),\"\")","v":""}]
[null,null,{"$f":"IFERROR(VLOOKUP(A3967,Insumos!A:B,2,FALSE),\"\")","v":""}]
[null,null,{"$f":"IFERROR(VLOOKUP(A3968,Insumos!A:B,2,FALSE),\"\")","v":""}]
[null,null,{"$f":"IFERROR(VLOOKUP(A3969,Insumos!A:B,2,FALSE),\"\")","v":""}]
[null,null,{"$f":"IFERROR(VLOOKUP(A3970,Insumos!A:B,2,FALSE),\"\")","v":""}]
[null,null,{"$f":"IFERROR(VLOOKUP(A3971,Insumos!A:B,2,FALSE),\"\")","v":""}]
[null,null,{"$f":"IFERROR(VLOOKUP(A3972,Insumos!A:B,2,FALSE),\"\")","v":""}]
[null,null,{"$f":"IFERROR(VLOOKUP(A3973,Insumos!A:B,2,FALSE),\"\")","v":""}]
[null,null,{"$f":"IFERROR(VLOOKUP(A3974,Insumos!A:B,2,FALSE),\"\")","v":""}]
[null,null,{"$f":"IFERROR(VLOOKUP(A3975,Insumos!A:B,2,FALSE),\"\")","v":""}]
[null,null,{"$f":"IFERROR(VLOOKUP(A3976,Insumos!A:B,2,FALSE),\"\")","v":""}]
[null,null,{"$f":"IFERROR(VLOOKUP(A3977,Insumos!A:B,2,FALSE),\"\")","v":""}]
[null,null,{"$f":"IFERROR(VLOOKUP(A3978,Insumos!A:B,2,FALSE),\"\")","v":""}]
[null,null,{"$f":"IFERROR(VLOOKUP(A3979,Insumos!A:B,2,FALSE),\"\")","v":""}]
[null,null,{"$f":"IFERROR(VLOOKUP(A3980,Insumos!A:B,2,FALSE),\"\")","v":""}]
[null,null,{"$f":"IFERROR(VLOOKUP(A3981,Insumos!A:B,2,FALSE),\"\")","v":""}]
[null,null,{"$f":"IFERROR(VLOOKUP(A3982,Insumos!A:B,2,FALSE),\"\")","v":""}]
[null,null,{"$f":"IFERROR(VLOOKUP(A3983,Insumos!A:B,2,FALSE),\"\")","v":""}]
[null,null,{"$f":"IFERROR(VLOOKUP(A3984,Insumos!A:B,2,FALSE),\"\")","v":""}]
[null,null,{"$f":"IFERROR(VLOOKUP(A3985,Insumos!A:B,2,FALSE),\"\")","v":""}]
[null,null,{"$f":"IFERROR(VLOOKUP(A3986,Insumos!A:B,2,FALSE),\"\")","v":""}]
[null,null,{"$f":"IFERROR(VLOOKUP(A3987,Insumos!A:B,2,FALSE),\"\")","v":""}]
[null,null,{"$f":"IFERROR(VLOOKUP(A3988,Insumos!A:B,2,FALSE),\"\")","v":""}]
[null,null,{"$f":"IFERROR(VLOOKUP(A3989,Insumos!A:B,2,FALSE),\"\")","v":""}]
[null,null,{"$f":"IFERROR(VLOOKUP(A3990,Insumos!A:B,2,FALSE),\"\")","v":""}]
[null,null,{"$f":"IFERROR(VLOOKUP(A3991,Insumos!A:B,2,FALSE),\"\")","v":""}]
[null,null,{"$f":"IFERROR(VLOOKUP(A3992,Insumos!A:B,2,FALSE),\"\")","v":""}]
[null,null,{"$f":"IFERROR(VLOOKUP(A3993,Insumos!A:B,2,FALSE),\"\")","v":""}]
[null,null,{"$f":"IFERROR(VLOOKUP(A3994,Insumos!A:B,2,FALSE),\"\")","v":""}]
[null,null,{"$f":"IFERROR(VLOOKUP(A3995,Insumos!A:B,2,FALSE),\"\")","v":""}]
[null,null,{"$f":"IFERROR(VLOOKUP(A3996,Insumos!A:B,2,FALSE),\"\")","v":""}]
[null,null,{"$f":"IFERROR(VLOOKUP(A3997,Insumos!A:B,2,FALSE),\"\")","v":""}]
[null,null,{"$f":"IFERROR(VLOOKUP(A3998,Insumos!A:B,2,FALSE),\"\")","v":""}]
[null,null,{"$f":"IFERROR(VLOOKUP(A3999,Insumos!A:B,2,FALSE),\"\")","v":""}]
[null,null,{"$f":"IFERROR(VLOOKUP(A4000,Insumos!A:B,2,FALSE),\"\")","v":""}]
[null,null,{"$f":"IFERROR(VLOOKUP(A4001,Insumos!A:B,2,FALSE),\"\")","v":""}]
[null,null,{"$f":"IFERROR(VLOOKUP(A4002,Insumos!A:B,2,FALSE),\"\")","v":""}]
[null,null,{"$f":"IFERROR(VLOOKUP(A4003,Insumos!A:B,2,FALSE),\"\")","v":""}]
[null,null,{"$f":"IFERROR(VLOOKUP(A4004,Insumos!A:B,2,FALSE),\"\")","v":""}]
[null,null,{"$f":"IFERROR(VLOOKUP(A4005,Insumos!A:B,2,FALSE),\"\")","v":""}]
[null,null,{"$f":"IFERROR(VLOOKUP(A4006,Insumos!A:B,2,FALSE),\"\")","v":""}]
[null,null,{"$f":"IFERROR(VLOOKUP(A4007,Insumos!A:B,2,FALSE),\"\")","v":""}]
[null,null,{"$f":"IFERROR(VLOOKUP(A4008,Insumos!A:B,2,FALSE),\"\")","v":""}]
[null,null,{"$f":"IFERROR(VLOOKUP(A4009,Insumos!A:B,2,FALSE),\"\")","v":""}]
[null,null,{"$f":"IFERROR(VLOOKUP(A4010,Insumos!A:B,2,FALSE),\"\")","v":""}]
[null,null,{"$f":"IFERROR(VLOOKUP(A4011,Insumos!A:B,2,FALSE),\"\")","v":""}]
[null,null,{"$f":"IFERROR(VLOOKUP(A4012,Insumos!A:B,2,FALSE),\"\")","v":""}]
[null,null,{"$f":"IFERROR(VLOOKUP(A4013,Insumos!A:B,2,FALSE),\"\")","v":""}]
[null,null,{"$f":"IFERROR(VLOOKUP(A4014,Insumos!A:B,2,FALSE),\"\")","v":""}]
[null,null,{"$f":"IFERROR(VLOOKUP(A4015,Insumos!A:B,2,FALSE),\"\")","v":""}]
[null,null,{"$f":"IFERROR(VLOOKUP(A4016,Insumos!A:B,2,FALSE),\"\")","v":""}]
[null,null,{"$f":"IFERROR(VLOOKUP(A4017,Insumos!A:B,2,FALSE),\"\")","v":""}]
[null,null,{"$f":"IFERROR(VLOOKUP(A4018,Insumos!A:B,2,FALSE),\"\")","v":""}]
[null,null,{"$f":"IFERROR(VLOOKUP(A4019,Insumos!A:B,2,FALSE),\"\")","v":""}]
[null,null,{"$f":"IFERROR(VLOOKUP(A4020,Insumos!A:B,2,FALSE),\"\")","v":""}]
[null,null,{"$f":"IFERROR(VLOOKUP(A4021,Insumos!A:B,2,FALSE),\"\")","v":""}]
[null,null,{"$f":"IFERROR(VLOOKUP(A4022,Insumos!A:B,2,FALSE),\"\")","v":""}]
[null,null,{"$f":"IFERROR(VLOOKUP(A4023,Insumos!A:B,2,FALSE),\"\")","v":""}]
[null,null,{"$f":"IFERROR(VLOOKUP(A4024,Insumos!A:B,2,FALSE),\"\")","v":""}]
[null,null,{"$f":"IFERROR(VLOOKUP(A4025,Insumos!A:B,2,FALSE),\"\")","v":""}]
[null,null,{"$f":"IFERROR(VLOOKUP(A4026,Insumos!A:B,2,FALSE),\"\")","v":""}]
[null,null,{"$f":"IFERROR(VLOOKUP(A4027,Insumos!A:B,2,FALSE),\"\")","v":""}]
[null,null,{"$f":"IFERROR(VLOOKUP(A4028,Insumos!A:B,2,FALSE),\"\")","v":""}]
[null,null,{"$f":"IFERROR(VLOOKUP(A4029,Insumos!A:B,2,FALSE),\"\")","v":""}]
[null,null,{"$f":"IFERROR(VLOOKUP(A4030,Insumos!A:B,2,FALSE),\"\")","v":""}]
[null,null,{"$f":"IFERROR(VLOOKUP(A4031,Insumos!A:B,2,FALSE),\"\")","v":""}]
[null,null,{"$f":"IFERROR(VLOOKUP(A4032,Insumos!A:B,2,FALSE),\"\")","v":""}]
[null,null,{"$f":"IFERROR(VLOOKUP(A4033,Insumos!A:B,2,FALSE),\"\")","v":""}]
[null,null,{"$f":"IFERROR(VLOOKUP(A4034,Insumos!A:B,2,FALSE),\"\")","v":""}]
[null,null,{"$f":"IFERROR(VLOOKUP(A4035,Insumos!A:B,2,FALSE),\"\")","v":""}]
[null,null,{"$f":"IFERROR(VLOOKUP(A4036,Insumos!A:B,2,FALSE),\"\")","v":""}]
[null,null,{"$f":"IFERROR(VLOOKUP(A4037,Insumos!A:B,2,FALSE),\"\")","v":""}]
[null,null,{"$f":"IFERROR(VLOOKUP(A4038,Insumos!A:B,2,FALSE),\"\")","v":""}]
[null,null,{"$f":"IFERROR(VLOOKUP(A4039,Insumos!A:B,2,FALSE),\"\")","v":""}]
[null,null,{"$f":"IFERROR(VLOOKUP(A4040,Insumos!A:B,2,FALSE),\"\")","v":""}]
[null,null,{"$f":"IFERROR(VLOOKUP(A4041,Insumos!A:B,2,FALSE),\"\")","v":""}]
[null,null,{"$f":"IFERROR(VLOOKUP(A4042,Insumos!A:B,2,FALSE),\"\")","v":""}]
[null,null,{"$f":"IFERROR(VLOOKUP(A4043,Insumos!A:B,2,FALSE),\"\")","v":""}]
[null,null,{"$f":"IFERROR(VLOOKUP(A4044,Insumos!A:B,2,FALSE),\"\")","v":""}]
[null,null,{"$f":"IFERROR(VLOOKUP(A4045,Insumos!A:B,2,FALSE),\"\")","v":""}]
[null,null,{"$f":"IFERROR(VLOOKUP(A4046,Insumos!A:B,2,FALSE),\"\")","v":""}]
[null,null,{"$f":"IFERROR(VLOOKUP(A4047,Insumos!A:B,2,FALSE),\"\")","v":""}]
[null,null,{"$f":"IFERROR(VLOOKUP(A4048,Insumos!A:B,2,FALSE),\"\")","v":""}]
[null,null,{"$f":"IFERROR(VLOOKUP(A4049,Insumos!A:B,2,FALSE),\"\")","v":""}]
[null,null,{"$f":"IFERROR(VLOOKUP(A4050,Insumos!A:B,2,FALSE),\"\")","v":""}]
[null,null,{"$f":"IFERROR(VLOOKUP(A4051,Insumos!A:B,2,FALSE),\"\")","v":""}]
[null,null,{"$f":"IFERROR(VLOOKUP(A4052,Insumos!A:B,2,FALSE),\"\")","v":""}]
[null,null,{"$f":"IFERROR(VLOOKUP(A4053,Insumos!A:B,2,FALSE),\"\")","v":""}]
[null,null,{"$f":"IFERROR(VLOOKUP(A4054,Insumos!A:B,2,FALSE),\"\")","v":""}]
[null,null,{"$f":"IFERROR(VLOOKUP(A4055,Insumos!A:B,2,FALSE),\"\")","v":""}]
[null,null,{"$f":"IFERROR(VLOOKUP(A4056,Insumos!A:B,2,FALSE),\"\")","v":""}]
[null,null,{"$f":"IFERROR(VLOOKUP(A4057,Insumos!A:B,2,FALSE),\"\")","v":""}]
[null,null,{"$f":"IFERROR(VLOOKUP(A4058,Insumos!A:B,2,FALSE),\"\")","v":""}]
[null,null,{"$f":"IFERROR(VLOOKUP(A4059,Insumos!A:B,2,FALSE),\"\")","v":""}]
[null,null,{"$f":"IFERROR(VLOOKUP(A4060,Insumos!A:B,2,FALSE),\"\")","v":""}]
[null,null,{"$f":"IFERROR(VLOOKUP(A4061,Insumos!A:B,2,FALSE),\"\")","v":""}]
[null,null,{"$f":"IFERROR(VLOOKUP(A4062,Insumos!A:B,2,FALSE),\"\")","v":""}]
[null,null,{"$f":"IFERROR(VLOOKUP(A4063,Insumos!A:B,2,FALSE),\"\")","v":""}]
[null,null,{"$f":"IFERROR(VLOOKUP(A4064,Insumos!A:B,2,FALSE),\"\")","v":""}]
[null,null,{"$f":"IFERROR(VLOOKUP(A4065,Insumos!A:B,2,FALSE),\"\")","v":""}]
[null,null,{"$f":"IFERROR(VLOOKUP(A4066,Insumos!A:B,2,FALSE),\"\")","v":""}]
[null,null,{"$f":"IFERROR(VLOOKUP(A4067,Insumos!A:B,2,FALSE),\"\")","v":""}]
[null,null,{"$f":"IFERROR(VLOOKUP(A4068,Insumos!A:B,2,FALSE),\"\")","v":""}]
[null,null,{"$f":"IFERROR(VLOOKUP(A4069,Insumos!A:B,2,FALSE),\"\")","v":""}]
[null,null,{"$f":"IFERROR(VLOOKUP(A4070,Insumos!A:B,2,FALSE),\"\")","v":""}]
[null,null,{"$f":"IFERROR(VLOOKUP(A4071,Insumos!A:B,2,FALSE),\"\")","v":""}]
[null,null,{"$f":"IFERROR(VLOOKUP(A4072,Insumos!A:B,2,FALSE),\"\")","v":""}]
[null,null,{"$f":"IFERROR(VLOOKUP(A4073,Insumos!A:B,2,FALSE),\"\")","v":""}]
[null,null,{"$f":"IFERROR(VLOOKUP(A4074,Insumos!A:B,2,FALSE),\"\")","v":""}]
[null,null,{"$f":"IFERROR(VLOOKUP(A4075,Insumos!A:B,2,FALSE),\"\")","v":""}]
[null,null,{"$f":"IFERROR(VLOOKUP(A4076,Insumos!A:B,2,FALSE),\"\")","v":""}]
[null,null,{"$f":"IFERROR(VLOOKUP(A4077,Insumos!A:B,2,FALSE),\"\")","v":""}]
[null,null,{"$f":"IFERROR(VLOOKUP(A4078,Insumos!A:B,2,FALSE),\"\")","v":""}]
[null,null,{"$f":"IFERROR(VLOOKUP(A4079,Insumos!A:B,2,FALSE),\"\")","v":""}]
[null,null,{"$f":"IFERROR(VLOOKUP(A4080,Insumos!A:B,2,FALSE),\"\")","v":""}]
[null,null,{"$f":"IFERROR(VLOOKUP(A4081,Insumos!A:B,2,FALSE),\"\")","v":""}]
[null,null,{"$f":"IFERROR(VLOOKUP(A4082,Insumos!A:B,2,FALSE),\"\")","v":""}]
[null,null,{"$f":"IFERROR(VLOOKUP(A4083,Insumos!A:B,2,FALSE),\"\")","v":""}]
[null,null,{"$f":"IFERROR(VLOOKUP(A4084,Insumos!A:B,2,FALSE),\"\")","v":""}]
[null,null,{"$f":"IFERROR(VLOOKUP(A4085,Insumos!A:B,2,FALSE),\"\")","v":""}]
[null,null,{"$f":"IFERROR(VLOOKUP(A4086,Insumos!A:B,2,FALSE),\"\")","v":""}]
[null,null,{"$f":"IFERROR(VLOOKUP(A4087,Insumos!A:B,2,FALSE),\"\")","v":""}]
[null,null,{"$f":"IFERROR(VLOOKUP(A4088,Insumos!A:B,2,FALSE),\"\")","v":""}]
[null,null,{"$f":"IFERROR(VLOOKUP(A4089,Insumos!A:B,2,FALSE),\"\")","v":""}]
[null,null,{"$f":"IFERROR(VLOOKUP(A4090,Insumos!A:B,2,FALSE),\"\")","v":""}]
[null,null,{"$f":"IFERROR(VLOOKUP(A4091,Insumos!A:B,2,FALSE),\"\")","v":""}]
[null,null,{"$f":"IFERROR(VLOOKUP(A4092,Insumos!A:B,2,FALSE),\"\")","v":""}]
[null,null,{"$f":"IFERROR(VLOOKUP(A4093,Insumos!A:B,2,FALSE),\"\")","v":""}]
[null,null,{"$f":"IFERROR(VLOOKUP(A4094,Insumos!A:B,2,FALSE),\"\")","v":""}]
[null,null,{"$f":"IFERROR(VLOOKUP(A4095,Insumos!A:B,2,FALSE),\"\")","v":""}]
[null,null,{"$f":"IFERROR(VLOOKUP(A4096,Insumos!A:B,2,FALSE),\"\")","v":""}]
[null,null,{"$f":"IFERROR(VLOOKUP(A4097,Insumos!A:B,2,FALSE),\"\")","v":""}]
[null,null,{"$f":"IFERROR(VLOOKUP(A4098,Insumos!A:B,2,FALSE),\"\")","v":""}]
[null,null,{"$f":"IFERROR(VLOOKUP(A4099,Insumos!A:B,2,FALSE),\"\")","v":""}]
[null,null,{"$f":"IFERROR(VLOOKUP(A4100,Insumos!A:B,2,FALSE),\"\")","v":""}]
[null,null,{"$f":"IFERROR(VLOOKUP(A4101,Insumos!A:B,2,FALSE),\"\")","v":""}]
[null,null,{"$f":"IFERROR(VLOOKUP(A4102,Insumos!A:B,2,FALSE),\"\")","v":""}]
[null,null,{"$f":"IFERROR(VLOOKUP(A4103,Insumos!A:B,2,FALSE),\"\")","v":""}]
[null,null,{"$f":"IFERROR(VLOOKUP(A4104,Insumos!A:B,2,FALSE),\"\")","v":""}]
[null,null,{"$f":"IFERROR(VLOOKUP(A4105,Insumos!A:B,2,FALSE),\"\")","v":""}]
[null,null,{"$f":"IFERROR(VLOOKUP(A4106,Insumos!A:B,2,FALSE),\"\")","v":""}]
[null,null,{"$f":"IFERROR(VLOOKUP(A4107,Insumos!A:B,2,FALSE),\"\")","v":""}]
[null,null,{"$f":"IFERROR(VLOOKUP(A4108,Insumos!A:B,2,FALSE),\"\")","v":""}]
[null,null,{"$f":"IFERROR(VLOOKUP(A4109,Insumos!A:B,2,FALSE),\"\")","v":""}]
[null,null,{"$f":"IFERROR(VLOOKUP(A4110,Insumos!A:B,2,FALSE),\"\")","v":""}]
[null,null,{"$f":"IFERROR(VLOOKUP(A4111,Insumos!A:B,2,FALSE),\"\")","v":""}]
[null,null,{"$f":"IFERROR(VLOOKUP(A4112,Insumos!A:B,2,FALSE),\"\")","v":""}]
[null,null,{"$f":"IFERROR(VLOOKUP(A4113,Insumos!A:B,2,FALSE),\"\")","v":""}]
[null,null,{"$f":"IFERROR(VLOOKUP(A4114,Insumos!A:B,2,FALSE),\"\")","v":""}]
[null,null,{"$f":"IFERROR(VLOOKUP(A4115,Insumos!A:B,2,FALSE),\"\")","v":""}]
[null,null,{"$f":"IFERROR(VLOOKUP(A4116,Insumos!A:B,2,FALSE),\"\")","v":""}]
[null,null,{"$f":"IFERROR(VLOOKUP(A4117,Insumos!A:B,2,FALSE),\"\")","v":""}]
[null,null,{"$f":"IFERROR(VLOOKUP(A4118,Insumos!A:B,2,FALSE),\"\")","v":""}]
[null,null,{"$f":"IFERROR(VLOOKUP(A4119,Insumos!A:B,2,FALSE),\"\")","v":""}]
[null,null,{"$f":"IFERROR(VLOOKUP(A4120,Insumos!A:B,2,FALSE),\"\")","v":""}]
[null,null,{"$f":"IFERROR(VLOOKUP(A4121,Insumos!A:B,2,FALSE),\"\")","v":""}]
[null,null,{"$f":"IFERROR(VLOOKUP(A4122,Insumos!A:B,2,FALSE),\"\")","v":""}]
[null,null,{"$f":"IFERROR(VLOOKUP(A4123,Insumos!A:B,2,FALSE),\"\")","v":""}]
[null,null,{"$f":"IFERROR(VLOOKUP(A4124,Insumos!A:B,2,FALSE),\"\")","v":""}]
[null,null,{"$f":"IFERROR(VLOOKUP(A4125,Insumos!A:B,2,FALSE),\"\")","v":""}]
[null,null,{"$f":"IFERROR(VLOOKUP(A4126,Insumos!A:B,2,FALSE),\"\")","v":""}]
[null,null,{"$f":"IFERROR(VLOOKUP(A4127,Insumos!A:B,2,FALSE),\"\")","v":""}]
[null,null,{"$f":"IFERROR(VLOOKUP(A4128,Insumos!A:B,2,FALSE),\"\")","v":""}]
[null,null,{"$f":"IFERROR(VLOOKUP(A4129,Insumos!A:B,2,FALSE),\"\")","v":""}]
[null,null,{"$f":"IFERROR(VLOOKUP(A4130,Insumos!A:B,2,FALSE),\"\")","v":""}]
[null,null,{"$f":"IFERROR(VLOOKUP(A4131,Insumos!A:B,2,FALSE),\"\")","v":""}]
[null,null,{"$f":"IFERROR(VLOOKUP(A4132,Insumos!A:B,2,FALSE),\"\")","v":""}]
[null,null,{"$f":"IFERROR(VLOOKUP(A4133,Insumos!A:B,2,FALSE),\"\")","v":""}]
[null,null,{"$f":"IFERROR(VLOOKUP(A4134,Insumos!A:B,2,FALSE),\"\")","v":""}]
[null,null,{"$f":"IFERROR(VLOOKUP(A4135,Insumos!A:B,2,FALSE),\"\")","v":""}]
[null,null,{"$f":"IFERROR(VLOOKUP(A4136,Insumos!A:B,2,FALSE),\"\")","v":""}]
[null,null,{"$f":"IFERROR(VLOOKUP(A4137,Insumos!A:B,2,FALSE),\"\")","v":""}]
[null,null,{"$f":"IFERROR(VLOOKUP(A4138,Insumos!A:B,2,FALSE),\"\")","v":""}]
[null,null,{"$f":"IFERROR(VLOOKUP(A4139,Insumos!A:B,2,FALSE),\"\")","v":""}]
[null,null,{"$f":"IFERROR(VLOOKUP(A4140,Insumos!A:B,2,FALSE),\"\")","v":""}]
[null,null,{"$f":"IFERROR(VLOOKUP(A4141,Insumos!A:B,2,FALSE),\"\")","v":""}]
[null,null,{"$f":"IFERROR(VLOOKUP(A4142,Insumos!A:B,2,FALSE),\"\")","v":""}]
[null,null,{"$f":"IFERROR(VLOOKUP(A4143,Insumos!A:B,2,FALSE),\"\")","v":""}]
[null,null,{"$f":"IFERROR(VLOOKUP(A4144,Insumos!A:B,2,FALSE),\"\")","v":""}]
[null,null,{"$f":"IFERROR(VLOOKUP(A4145,Insumos!A:B,2,FALSE),\"\")","v":""}]
[null,null,{"$f":"IFERROR(VLOOKUP(A4146,Insumos!A:B,2,FALSE),\"\")","v":""}]
[null,null,{"$f":"IFERROR(VLOOKUP(A4147,Insumos!A:B,2,FALSE),\"\")","v":""}]
[null,null,{"$f":"IFERROR(VLOOKUP(A4148,Insumos!A:B,2,FALSE),\"\")","v":""}]
[null,null,{"$f":"IFERROR(VLOOKUP(A4149,Insumos!A:B,2,FALSE),\"\")","v":""}]
[null,null,{"$f":"IFERROR(VLOOKUP(A4150,Insumos!A:B,2,FALSE),\"\")","v":""}]
[null,null,{"$f":"IFERROR(VLOOKUP(A4151,Insumos!A:B,2,FALSE),\"\")","v":""}]
[null,null,{"$f":"IFERROR(VLOOKUP(A4152,Insumos!A:B,2,FALSE),\"\")","v":""}]
[null,null,{"$f":"IFERROR(VLOOKUP(A4153,Insumos!A:B,2,FALSE),\"\")","v":""}]
[null,null,{"$f":"IFERROR(VLOOKUP(A4154,Insumos!A:B,2,FALSE),\"\")","v":""}]
[null,null,{"$f":"IFERROR(VLOOKUP(A4155,Insumos!A:B,2,FALSE),\"\")","v":""}]
[null,null,{"$f":"IFERROR(VLOOKUP(A4156,Insumos!A:B,2,FALSE),\"\")","v":""}]
[null,null,{"$f":"IFERROR(VLOOKUP(A4157,Insumos!A:B,2,FALSE),\"\")","v":""}]
[null,null,{"$f":"IFERROR(VLOOKUP(A4158,Insumos!A:B,2,FALSE),\"\")","v":""}]
[null,null,{"$f":"IFERROR(VLOOKUP(A4159,Insumos!A:B,2,FALSE),\"\")","v":""}]
[null,null,{"$f":"IFERROR(VLOOKUP(A4160,Insumos!A:B,2,FALSE),\"\")","v":""}]
[null,null,{"$f":"IFERROR(VLOOKUP(A4161,Insumos!A:B,2,FALSE),\"\")","v":""}]
[null,null,{"$f":"IFERROR(VLOOKUP(A4162,Insumos!A:B,2,FALSE),\"\")","v":""}]
[null,null,{"$f":"IFERROR(VLOOKUP(A4163,Insumos!A:B,2,FALSE),\"\")","v":""}]
[null,null,{"$f":"IFERROR(VLOOKUP(A4164,Insumos!A:B,2,FALSE),\"\")","v":""}]
[null,null,{"$f":"IFERROR(VLOOKUP(A4165,Insumos!A:B,2,FALSE),\"\")","v":""}]
[null,null,{"$f":"IFERROR(VLOOKUP(A4166,Insumos!A:B,2,FALSE),\"\")","v":""}]
[null,null,{"$f":"IFERROR(VLOOKUP(A4167,Insumos!A:B,2,FALSE),\"\")","v":""}]
[null,null,{"$f":"IFERROR(VLOOKUP(A4168,Insumos!A:B,2,FALSE),\"\")","v":""}]
[null,null,{"$f":"IFERROR(VLOOKUP(A4169,Insumos!A:B,2,FALSE),\"\")","v":""}]
[null,null,{"$f":"IFERROR(VLOOKUP(A4170,Insumos!A:B,2,FALSE),\"\")","v":""}]
[null,null,{"$f":"IFERROR(VLOOKUP(A4171,Insumos!A:B,2,FALSE),\"\")","v":""}]
[null,null,{"$f":"IFERROR(VLOOKUP(A4172,Insumos!A:B,2,FALSE),\"\")","v":""}]
[null,null,{"$f":"IFERROR(VLOOKUP(A4173,Insumos!A:B,2,FALSE),\"\")","v":""}]
[null,null,{"$f":"IFERROR(VLOOKUP(A4174,Insumos!A:B,2,FALSE),\"\")","v":""}]
[null,null,{"$f":"IFERROR(VLOOKUP(A4175,Insumos!A:B,2,FALSE),\"\")","v":""}]
[null,null,{"$f":"IFERROR(VLOOKUP(A4176,Insumos!A:B,2,FALSE),\"\")","v":""}]
[null,null,{"$f":"IFERROR(VLOOKUP(A4177,Insumos!A:B,2,FALSE),\"\")","v":""}]
[null,null,{"$f":"IFERROR(VLOOKUP(A4178,Insumos!A:B,2,FALSE),\"\")","v":""}]
[null,null,{"$f":"IFERROR(VLOOKUP(A4179,Insumos!A:B,2,FALSE),\"\")","v":""}]
[null,null,{"$f":"IFERROR(VLOOKUP(A4180,Insumos!A:B,2,FALSE),\"\")","v":""}]
[null,null,{"$f":"IFERROR(VLOOKUP(A4181,Insumos!A:B,2,FALSE),\"\")","v":""}]
[null,null,{"$f":"IFERROR(VLOOKUP(A4182,Insumos!A:B,2,FALSE),\"\")","v":""}]
[null,null,{"$f":"IFERROR(VLOOKUP(A4183,Insumos!A:B,2,FALSE),\"\")","v":""}]
[null,null,{"$f":"IFERROR(VLOOKUP(A4184,Insumos!A:B,2,FALSE),\"\")","v":""}]
[null,null,{"$f":"IFERROR(VLOOKUP(A4185,Insumos!A:B,2,FALSE),\"\")","v":""}]
[null,null,{"$f":"IFERROR(VLOOKUP(A4186,Insumos!A:B,2,FALSE),\"\")","v":""}]
[null,null,{"$f":"IFERROR(VLOOKUP(A4187,Insumos!A:B,2,FALSE),\"\")","v":""}]
[null,null,{"$f":"IFERROR(VLOOKUP(A4188,Insumos!A:B,2,FALSE),\"\")","v":""}]
[null,null,{"$f":"IFERROR(VLOOKUP(A4189,Insumos!A:B,2,FALSE),\"\")","v":""}]
[null,null,{"$f":"IFERROR(VLOOKUP(A4190,Insumos!A:B,2,FALSE),\"\")","v":""}]
[null,null,{"$f":"IFERROR(VLOOKUP(A4191,Insumos!A:B,2,FALSE),\"\")","v":""}]
[null,null,{"$f":"IFERROR(VLOOKUP(A4192,Insumos!A:B,2,FALSE),\"\")","v":""}]
[null,null,{"$f":"IFERROR(VLOOKUP(A4193,Insumos!A:B,2,FALSE),\"\")","v":""}]
[null,null,{"$f":"IFERROR(VLOOKUP(A4194,Insumos!A:B,2,FALSE),\"\")","v":""}]
[null,null,{"$f":"IFERROR(VLOOKUP(A4195,Insumos!A:B,2,FALSE),\"\")","v":""}]
[null,null,{"$f":"IFERROR(VLOOKUP(A4196,Insumos!A:B,2,FALSE),\"\")","v":""}]
[null,null,{"$f":"IFERROR(VLOOKUP(A4197,Insumos!A:B,2,FALSE),\"\")","v":""}]
[null,null,{"$f":"IFERROR(VLOOKUP(A4198,Insumos!A:B,2,FALSE),\"\")","v":""}]
[null,null,{"$f":"IFERROR(VLOOKUP(A4199,Insumos!A:B,2,FALSE),\"\")","v":""}]
[null,null,{"$f":"IFERROR(VLOOKUP(A4200,Insumos!A:B,2,FALSE),\"\")","v":""}]
[null,null,{"$f":"IFERROR(VLOOKUP(A4201,Insumos!A:B,2,FALSE),\"\")","v":""}]
[null,null,{"$f":"IFERROR(VLOOKUP(A4202,Insumos!A:B,2,FALSE),\"\")","v":""}]
[null,null,{"$f":"IFERROR(VLOOKUP(A4203,Insumos!A:B,2,FALSE),\"\")","v":""}]
[null,null,{"$f":"IFERROR(VLOOKUP(A4204,Insumos!A:B,2,FALSE),\"\")","v":""}]
[null,null,{"$f":"IFERROR(VLOOKUP(A4205,Insumos!A:B,2,FALSE),\"\")","v":""}]
[null,null,{"$f":"IFERROR(VLOOKUP(A4206,Insumos!A:B,2,FALSE),\"\")","v":""}]
[null,null,{"$f":"IFERROR(VLOOKUP(A4207,Insumos!A:B,2,FALSE),\"\")","v":""}]
[null,null,{"$f":"IFERROR(VLOOKUP(A4208,Insumos!A:B,2,FALSE),\"\")","v":""}]
[null,null,{"$f":"IFERROR(VLOOKUP(A4209,Insumos!A:B,2,FALSE),\"\")","v":""}]
[null,null,{"$f":"IFERROR(VLOOKUP(A4210,Insumos!A:B,2,FALSE),\"\")","v":""}]
[null,null,{"$f":"IFERROR(VLOOKUP(A4211,Insumos!A:B,2,FALSE),\"\")","v":""}]
[null,null,{"$f":"IFERROR(VLOOKUP(A4212,Insumos!A:B,2,FALSE),\"\")","v":""}]
[null,null,{"$f":"IFERROR(VLOOKUP(A4213,Insumos!A:B,2,FALSE),\"\")","v":""}]
[null,null,{"$f":"IFERROR(VLOOKUP(A4214,Insumos!A:B,2,FALSE),\"\")","v":""}]
[null,null,{"$f":"IFERROR(VLOOKUP(A4215,Insumos!A:B,2,FALSE),\"\")","v":""}]
[null,null,{"$f":"IFERROR(VLOOKUP(A4216,Insumos!A:B,2,FALSE),\"\")","v":""}]
[null,null,{"$f":"IFERROR(VLOOKUP(A4217,Insumos!A:B,2,FALSE),\"\")","v":""}]
[null,null,{"$f":"IFERROR(VLOOKUP(A4218,Insumos!A:B,2,FALSE),\"\")","v":""}]
[null,null,{"$f":"IFERROR(VLOOKUP(A4219,Insumos!A:B,2,FALSE),\"\")","v":""}]
[null,null,{"$f":"IFERROR(VLOOKUP(A4220,Insumos!A:B,2,FALSE),\"\")","v":""}]
[null,null,{"$f":"IFERROR(VLOOKUP(A4221,Insumos!A:B,2,FALSE),\"\")","v":""}]
[null,null,{"$f":"IFERROR(VLOOKUP(A4222,Insumos!A:B,2,FALSE),\"\")","v":""}]
[null,null,{"$f":"IFERROR(VLOOKUP(A4223,Insumos!A:B,2,FALSE),\"\")","v":""}]
[null,null,{"$f":"IFERROR(VLOOKUP(A4224,Insumos!A:B,2,FALSE),\"\")","v":""}]
[null,null,{"$f":"IFERROR(VLOOKUP(A4225,Insumos!A:B,2,FALSE),\"\")","v":""}]
[null,null,{"$f":"IFERROR(VLOOKUP(A4226,Insumos!A:B,2,FALSE),\"\")","v":""}]
[null,null,{"$f":"IFERROR(VLOOKUP(A4227,Insumos!A:B,2,FALSE),\"\")","v":""}]
[null,null,{"$f":"IFERROR(VLOOKUP(A4228,Insumos!A:B,2,FALSE),\"\")","v":""}]
[null,null,{"$f":"IFERROR(VLOOKUP(A4229,Insumos!A:B,2,FALSE),\"\")","v":""}]
[null,null,{"$f":"IFERROR(VLOOKUP(A4230,Insumos!A:B,2,FALSE),\"\")","v":""}]
[null,null,{"$f":"IFERROR(VLOOKUP(A4231,Insumos!A:B,2,FALSE),\"\")","v":""}]
[null,null,{"$f":"IFERROR(VLOOKUP(A4232,Insumos!A:B,2,FALSE),\"\")","v":""}]
[null,null,{"$f":"IFERROR(VLOOKUP(A4233,Insumos!A:B,2,FALSE),\"\")","v":""}]
[null,null,{"$f":"IFERROR(VLOOKUP(A4234,Insumos!A:B,2,FALSE),\"\")","v":""}]
[null,null,{"$f":"IFERROR(VLOOKUP(A4235,Insumos!A:B,2,FALSE),\"\")","v":""}]
[null,null,{"$f":"IFERROR(VLOOKUP(A4236,Insumos!A:B,2,FALSE),\"\")","v":""}]
[null,null,{"$f":"IFERROR(VLOOKUP(A4237,Insumos!A:B,2,FALSE),\"\")","v":""}]
[null,null,{"$f":"IFERROR(VLOOKUP(A4238,Insumos!A:B,2,FALSE),\"\")","v":""}]
[null,null,{"$f":"IFERROR(VLOOKUP(A4239,Insumos!A:B,2,FALSE),\"\")","v":""}]
[null,null,{"$f":"IFERROR(VLOOKUP(A4240,Insumos!A:B,2,FALSE),\"\")","v":""}]
[null,null,{"$f":"IFERROR(VLOOKUP(A4241,Insumos!A:B,2,FALSE),\"\")","v":""}]
[null,null,{"$f":"IFERROR(VLOOKUP(A4242,Insumos!A:B,2,FALSE),\"\")","v":""}]
[null,null,{"$f":"IFERROR(VLOOKUP(A4243,Insumos!A:B,2,FALSE),\"\")","v":""}]
[null,null,{"$f":"IFERROR(VLOOKUP(A4244,Insumos!A:B,2,FALSE),\"\")","v":""}]
[null,null,{"$f":"IFERROR(VLOOKUP(A4245,Insumos!A:B,2,FALSE),\"\")","v":""}]
[null,null,{"$f":"IFERROR(VLOOKUP(A4246,Insumos!A:B,2,FALSE),\"\")","v":""}]
[null,null,{"$f":"IFERROR(VLOOKUP(A4247,Insumos!A:B,2,FALSE),\"\")","v":""}]
[null,null,{"$f":"IFERROR(VLOOKUP(A4248,Insumos!A:B,2,FALSE),\"\")","v":""}]
[null,null,{"$f":"IFERROR(VLOOKUP(A4249,Insumos!A:B,2,FALSE),\"\")","v":""}]
[null,null,{"$f":"IFERROR(VLOOKUP(A4250,Insumos!A:B,2,FALSE),\"\")","v":""}]
[null,null,{"$f":"IFERROR(VLOOKUP(A4251,Insumos!A:B,2,FALSE),\"\")","v":""}]
[null,null,{"$f":"IFERROR(VLOOKUP(A4252,Insumos!A:B,2,FALSE),\"\")","v":""}]
[null,null,{"$f":"IFERROR(VLOOKUP(A4253,Insumos!A:B,2,FALSE),\"\")","v":""}]
[null,null,{"$f":"IFERROR(VLOOKUP(A4254,Insumos!A:B,2,FALSE),\"\")","v":""}]
[null,null,{"$f":"IFERROR(VLOOKUP(A4255,Insumos!A:B,2,FALSE),\"\")","v":""}]
[null,null,{"$f":"IFERROR(VLOOKUP(A4256,Insumos!A:B,2,FALSE),\"\")","v":""}]
[null,null,{"$f":"IFERROR(VLOOKUP(A4257,Insumos!A:B,2,FALSE),\"\")","v":""}]
[null,null,{"$f":"IFERROR(VLOOKUP(A4258,Insumos!A:B,2,FALSE),\"\")","v":""}]
[null,null,{"$f":"IFERROR(VLOOKUP(A4259,Insumos!A:B,2,FALSE),\"\")","v":""}]
[null,null,{"$f":"IFERROR(VLOOKUP(A4260,Insumos!A:B,2,FALSE),\"\")","v":""}]
[null,null,{"$f":"IFERROR(VLOOKUP(A4261,Insumos!A:B,2,FALSE),\"\")","v":""}]
[null,null,{"$f":"IFERROR(VLOOKUP(A4262,Insumos!A:B,2,FALSE),\"\")","v":""}]
[null,null,{"$f":"IFERROR(VLOOKUP(A4263,Insumos!A:B,2,FALSE),\"\")","v":""}]
[null,null,{"$f":"IFERROR(VLOOKUP(A4264,Insumos!A:B,2,FALSE),\"\")","v":""}]
[null,null,{"$f":"IFERROR(VLOOKUP(A4265,Insumos!A:B,2,FALSE),\"\")","v":""}]
[null,null,{"$f":"IFERROR(VLOOKUP(A4266,Insumos!A:B,2,FALSE),\"\")","v":""}]
[null,null,{"$f":"IFERROR(VLOOKUP(A4267,Insumos!A:B,2,FALSE),\"\")","v":""}]
[null,null,{"$f":"IFERROR(VLOOKUP(A4268,Insumos!A:B,2,FALSE),\"\")","v":""}]
[null,null,{"$f":"IFERROR(VLOOKUP(A4269,Insumos!A:B,2,FALSE),\"\")","v":""}]
[null,null,{"$f":"IFERROR(VLOOKUP(A4270,Insumos!A:B,2,FALSE),\"\")","v":""}]
[null,null,{"$f":"IFERROR(VLOOKUP(A4271,Insumos!A:B,2,FALSE),\"\")","v":""}]
[null,null,{"$f":"IFERROR(VLOOKUP(A4272,Insumos!A:B,2,FALSE),\"\")","v":""}]
[null,null,{"$f":"IFERROR(VLOOKUP(A4273,Insumos!A:B,2,FALSE),\"\")","v":""}]
[null,null,{"$f":"IFERROR(VLOOKUP(A4274,Insumos!A:B,2,FALSE),\"\")","v":""}]
[null,null,{"$f":"IFERROR(VLOOKUP(A4275,Insumos!A:B,2,FALSE),\"\")","v":""}]
[null,null,{"$f":"IFERROR(VLOOKUP(A4276,Insumos!A:B,2,FALSE),\"\")","v":""}]
[null,null,{"$f":"IFERROR(VLOOKUP(A4277,Insumos!A:B,2,FALSE),\"\")","v":""}]
[null,null,{"$f":"IFERROR(VLOOKUP(A4278,Insumos!A:B,2,FALSE),\"\")","v":""}]
[null,null,{"$f":"IFERROR(VLOOKUP(A4279,Insumos!A:B,2,FALSE),\"\")","v":""}]
[null,null,{"$f":"IFERROR(VLOOKUP(A4280,Insumos!A:B,2,FALSE),\"\")","v":""}]
[null,null,{"$f":"IFERROR(VLOOKUP(A4281,Insumos!A:B,2,FALSE),\"\")","v":""}]
[null,null,{"$f":"IFERROR(VLOOKUP(A4282,Insumos!A:B,2,FALSE),\"\")","v":""}]
[null,null,{"$f":"IFERROR(VLOOKUP(A4283,Insumos!A:B,2,FALSE),\"\")","v":""}]
[null,null,{"$f":"IFERROR(VLOOKUP(A4284,Insumos!A:B,2,FALSE),\"\")","v":""}]
[null,null,{"$f":"IFERROR(VLOOKUP(A4285,Insumos!A:B,2,FALSE),\"\")","v":""}]
[null,null,{"$f":"IFERROR(VLOOKUP(A4286,Insumos!A:B,2,FALSE),\"\")","v":""}]
[null,null,{"$f":"IFERROR(VLOOKUP(A4287,Insumos!A:B,2,FALSE),\"\")","v":""}]
[null,null,{"$f":"IFERROR(VLOOKUP(A4288,Insumos!A:B,2,FALSE),\"\")","v":""}]
[null,null,{"$f":"IFERROR(VLOOKUP(A4289,Insumos!A:B,2,FALSE),\"\")","v":""}]
[null,null,{"$f":"IFERROR(VLOOKUP(A4290,Insumos!A:B,2,FALSE),\"\")","v":""}]
[null,null,{"$f":"IFERROR(VLOOKUP(A4291,Insumos!A:B,2,FALSE),\"\")","v":""}]
[null,null,{"$f":"IFERROR(VLOOKUP(A4292,Insumos!A:B,2,FALSE),\"\")","v":""}]
[null,null,{"$f":"IFERROR(VLOOKUP(A4293,Insumos!A:B,2,FALSE),\"\")","v":""}]
[null,null,{"$f":"IFERROR(VLOOKUP(A4294,Insumos!A:B,2,FALSE),\"\")","v":""}]
[null,null,{"$f":"IFERROR(VLOOKUP(A4295,Insumos!A:B,2,FALSE),\"\")","v":""}]
[null,null,{"$f":"IFERROR(VLOOKUP(A4296,Insumos!A:B,2,FALSE),\"\")","v":""}]
[null,null,{"$f":"IFERROR(VLOOKUP(A4297,Insumos!A:B,2,FALSE),\"\")","v":""}]
[null,null,{"$f":"IFERROR(VLOOKUP(A4298,Insumos!A:B,2,FALSE),\"\")","v":""}]
[null,null,{"$f":"IFERROR(VLOOKUP(A4299,Insumos!A:B,2,FALSE),\"\")","v":""}]
[null,null,{"$f":"IFERROR(VLOOKUP(A4300,Insumos!A:B,2,FALSE),\"\")","v":""}]
[null,null,{"$f":"IFERROR(VLOOKUP(A4301,Insumos!A:B,2,FALSE),\"\")","v":""}]
[null,null,{"$f":"IFERROR(VLOOKUP(A4302,Insumos!A:B,2,FALSE),\"\")","v":""}]
[null,null,{"$f":"IFERROR(VLOOKUP(A4303,Insumos!A:B,2,FALSE),\"\")","v":""}]
[null,null,{"$f":"IFERROR(VLOOKUP(A4304,Insumos!A:B,2,FALSE),\"\")","v":""}]
[null,null,{"$f":"IFERROR(VLOOKUP(A4305,Insumos!A:B,2,FALSE),\"\")","v":""}]
[null,null,{"$f":"IFERROR(VLOOKUP(A4306,Insumos!A:B,2,FALSE),\"\")","v":""}]
[null,null,{"$f":"IFERROR(VLOOKUP(A4307,Insumos!A:B,2,FALSE),\"\")","v":""}]
[null,null,{"$f":"IFERROR(VLOOKUP(A4308,Insumos!A:B,2,FALSE),\"\")","v":""}]
[null,null,{"$f":"IFERROR(VLOOKUP(A4309,Insumos!A:B,2,FALSE),\"\")","v":""}]
[null,null,{"$f":"IFERROR(VLOOKUP(A4310,Insumos!A:B,2,FALSE),\"\")","v":""}]
[null,null,{"$f":"IFERROR(VLOOKUP(A4311,Insumos!A:B,2,FALSE),\"\")","v":""}]
[null,null,{"$f":"IFERROR(VLOOKUP(A4312,Insumos!A:B,2,FALSE),\"\")","v":""}]
[null,null,{"$f":"IFERROR(VLOOKUP(A4313,Insumos!A:B,2,FALSE),\"\")","v":""}]
[null,null,{"$f":"IFERROR(VLOOKUP(A4314,Insumos!A:B,2,FALSE),\"\")","v":""}]
[null,null,{"$f":"IFERROR(VLOOKUP(A4315,Insumos!A:B,2,FALSE),\"\")","v":""}]
[null,null,{"$f":"IFERROR(VLOOKUP(A4316,Insumos!A:B,2,FALSE),\"\")","v":""}]
[null,null,{"$f":"IFERROR(VLOOKUP(A4317,Insumos!A:B,2,FALSE),\"\")","v":""}]
[null,null,{"$f":"IFERROR(VLOOKUP(A4318,Insumos!A:B,2,FALSE),\"\")","v":""}]
[null,null,{"$f":"IFERROR(VLOOKUP(A4319,Insumos!A:B,2,FALSE),\"\")","v":""}]
[null,null,{"$f":"IFERROR(VLOOKUP(A4320,Insumos!A:B,2,FALSE),\"\")","v":""}]
[null,null,{"$f":"IFERROR(VLOOKUP(A4321,Insumos!A:B,2,FALSE),\"\")","v":""}]
[null,null,{"$f":"IFERROR(VLOOKUP(A4322,Insumos!A:B,2,FALSE),\"\")","v":""}]
[null,null,{"$f":"IFERROR(VLOOKUP(A4323,Insumos!A:B,2,FALSE),\"\")","v":""}]
[null,null,{"$f":"IFERROR(VLOOKUP(A4324,Insumos!A:B,2,FALSE),\"\")","v":""}]
[null,null,{"$f":"IFERROR(VLOOKUP(A4325,Insumos!A:B,2,FALSE),\"\")","v":""}]
[null,null,{"$f":"IFERROR(VLOOKUP(A4326,Insumos!A:B,2,FALSE),\"\")","v":""}]
[null,null,{"$f":"IFERROR(VLOOKUP(A4327,Insumos!A:B,2,FALSE),\"\")","v":""}]
[null,null,{"$f":"IFERROR(VLOOKUP(A4328,Insumos!A:B,2,FALSE),\"\")","v":""}]
[null,null,{"$f":"IFERROR(VLOOKUP(A4329,Insumos!A:B,2,FALSE),\"\")","v":""}]
[null,null,{"$f":"IFERROR(VLOOKUP(A4330,Insumos!A:B,2,FALSE),\"\")","v":""}]
[null,null,{"$f":"IFERROR(VLOOKUP(A4331,Insumos!A:B,2,FALSE),\"\")","v":""}]
[null,null,{"$f":"IFERROR(VLOOKUP(A4332,Insumos!A:B,2,FALSE),\"\")","v":""}]
[null,null,{"$f":"IFERROR(VLOOKUP(A4333,Insumos!A:B,2,FALSE),\"\")","v":""}]
[null,null,{"$f":"IFERROR(VLOOKUP(A4334,Insumos!A:B,2,FALSE),\"\")","v":""}]
[null,null,{"$f":"IFERROR(VLOOKUP(A4335,Insumos!A:B,2,FALSE),\"\")","v":""}]
[null,null,{"$f":"IFERROR(VLOOKUP(A4336,Insumos!A:B,2,FALSE),\"\")","v":""}]
[null,null,{"$f":"IFERROR(VLOOKUP(A4337,Insumos!A:B,2,FALSE),\"\")","v":""}]
[null,null,{"$f":"IFERROR(VLOOKUP(A4338,Insumos!A:B,2,FALSE),\"\")","v":""}]
[null,null,{"$f":"IFERROR(VLOOKUP(A4339,Insumos!A:B,2,FALSE),\"\")","v":""}]
[null,null,{"$f":"IFERROR(VLOOKUP(A4340,Insumos!A:B,2,FALSE),\"\")","v":""}]
[null,null,{"$f":"IFERROR(VLOOKUP(A4341,Insumos!A:B,2,FALSE),\"\")","v":""}]
[null,null,{"$f":"IFERROR(VLOOKUP(A4342,Insumos!A:B,2,FALSE),\"\")","v":""}]
[null,null,{"$f":"IFERROR(VLOOKUP(A4343,Insumos!A:B,2,FALSE),\"\")","v":""}]
[null,null,{"$f":"IFERROR(VLOOKUP(A4344,Insumos!A:B,2,FALSE),\"\")","v":""}]
[null,null,{"$f":"IFERROR(VLOOKUP(A4345,Insumos!A:B,2,FALSE),\"\")","v":""}]
[null,null,{"$f":"IFERROR(VLOOKUP(A4346,Insumos!A:B,2,FALSE),\"\")","v":""}]
[null,null,{"$f":"IFERROR(VLOOKUP(A4347,Insumos!A:B,2,FALSE),\"\")","v":""}]
[null,null,{"$f":"IFERROR(VLOOKUP(A4348,Insumos!A:B,2,FALSE),\"\")","v":""}]
[null,null,{"$f":"IFERROR(VLOOKUP(A4349,Insumos!A:B,2,FALSE),\"\")","v":""}]
[null,null,{"$f":"IFERROR(VLOOKUP(A4350,Insumos!A:B,2,FALSE),\"\")","v":""}]
[null,null,{"$f":"IFERROR(VLOOKUP(A4351,Insumos!A:B,2,FALSE),\"\")","v":""}]
[null,null,{"$f":"IFERROR(VLOOKUP(A4352,Insumos!A:B,2,FALSE),\"\")","v":""}]
[null,null,{"$f":"IFERROR(VLOOKUP(A4353,Insumos!A:B,2,FALSE),\"\")","v":""}]
[null,null,{"$f":"IFERROR(VLOOKUP(A4354,Insumos!A:B,2,FALSE),\"\")","v":""}]
[null,null,{"$f":"IFERROR(VLOOKUP(A4355,Insumos!A:B,2,FALSE),\"\")","v":""}]
[null,null,{"$f":"IFERROR(VLOOKUP(A4356,Insumos!A:B,2,FALSE),\"\")","v":""}]
[null,null,{"$f":"IFERROR(VLOOKUP(A4357,Insumos!A:B,2,FALSE),\"\")","v":""}]
[null,null,{"$f":"IFERROR(VLOOKUP(A4358,Insumos!A:B,2,FALSE),\"\")","v":""}]
[null,null,{"$f":"IFERROR(VLOOKUP(A4359,Insumos!A:B,2,FALSE),\"\")","v":""}]
[null,null,{"$f":"IFERROR(VLOOKUP(A4360,Insumos!A:B,2,FALSE),\"\")","v":""}]
[null,null,{"$f":"IFERROR(VLOOKUP(A4361,Insumos!A:B,2,FALSE),\"\")","v":""}]
[null,null,{"$f":"IFERROR(VLOOKUP(A4362,Insumos!A:B,2,FALSE),\"\")","v":""}]
[null,null,{"$f":"IFERROR(VLOOKUP(A4363,Insumos!A:B,2,FALSE),\"\")","v":""}]
[null,null,{"$f":"IFERROR(VLOOKUP(A4364,Insumos!A:B,2,FALSE),\"\")","v":""}]
[null,null,{"$f":"IFERROR(VLOOKUP(A4365,Insumos!A:B,2,FALSE),\"\")","v":""}]
[null,null,{"$f":"IFERROR(VLOOKUP(A4366,Insumos!A:B,2,FALSE),\"\")","v":""}]
[null,null,{"$f":"IFERROR(VLOOKUP(A4367,Insumos!A:B,2,FALSE),\"\")","v":""}]
[null,null,{"$f":"IFERROR(VLOOKUP(A4368,Insumos!A:B,2,FALSE),\"\")","v":""}]
[null,null,{"$f":"IFERROR(VLOOKUP(A4369,Insumos!A:B,2,FALSE),\"\")","v":""}]
[null,null,{"$f":"IFERROR(VLOOKUP(A4370,Insumos!A:B,2,FALSE),\"\")","v":""}]
[null,null,{"$f":"IFERROR(VLOOKUP(A4371,Insumos!A:B,2,FALSE),\"\")","v":""}]
[null,null,{"$f":"IFERROR(VLOOKUP(A4372,Insumos!A:B,2,FALSE),\"\")","v":""}]
[null,null,{"$f":"IFERROR(VLOOKUP(A4373,Insumos!A:B,2,FALSE),\"\")","v":""}]
[null,null,{"$f":"IFERROR(VLOOKUP(A4374,Insumos!A:B,2,FALSE),\"\")","v":""}]
[null,null,{"$f":"IFERROR(VLOOKUP(A4375,Insumos!A:B,2,FALSE),\"\")","v":""}]
[null,null,{"$f":"IFERROR(VLOOKUP(A4376,Insumos!A:B,2,FALSE),\"\")","v":""}]
[null,null,{"$f":"IFERROR(VLOOKUP(A4377,Insumos!A:B,2,FALSE),\"\")","v":""}]
[null,null,{"$f":"IFERROR(VLOOKUP(A4378,Insumos!A:B,2,FALSE),\"\")","v":""}]
[null,null,{"$f":"IFERROR(VLOOKUP(A4379,Insumos!A:B,2,FALSE),\"\")","v":""}]
[null,null,{"$f":"IFERROR(VLOOKUP(A4380,Insumos!A:B,2,FALSE),\"\")","v":""}]
[null,null,{"$f":"IFERROR(VLOOKUP(A4381,Insumos!A:B,2,FALSE),\"\")","v":""}]
[null,null,{"$f":"IFERROR(VLOOKUP(A4382,Insumos!A:B,2,FALSE),\"\")","v":""}]
[null,null,{"$f":"IFERROR(VLOOKUP(A4383,Insumos!A:B,2,FALSE),\"\")","v":""}]
[null,null,{"$f":"IFERROR(VLOOKUP(A4384,Insumos!A:B,2,FALSE),\"\")","v":""}]
[null,null,{"$f":"IFERROR(VLOOKUP(A4385,Insumos!A:B,2,FALSE),\"\")","v":""}]
[null,null,{"$f":"IFERROR(VLOOKUP(A4386,Insumos!A:B,2,FALSE),\"\")","v":""}]
[null,null,{"$f":"IFERROR(VLOOKUP(A4387,Insumos!A:B,2,FALSE),\"\")","v":""}]
[null,null,{"$f":"IFERROR(VLOOKUP(A4388,Insumos!A:B,2,FALSE),\"\")","v":""}]
[null,null,{"$f":"IFERROR(VLOOKUP(A4389,Insumos!A:B,2,FALSE),\"\")","v":""}]
[null,null,{"$f":"IFERROR(VLOOKUP(A4390,Insumos!A:B,2,FALSE),\"\")","v":""}]
[null,null,{"$f":"IFERROR(VLOOKUP(A4391,Insumos!A:B,2,FALSE),\"\")","v":""}]
[null,null,{"$f":"IFERROR(VLOOKUP(A4392,Insumos!A:B,2,FALSE),\"\")","v":""}]
[null,null,{"$f":"IFERROR(VLOOKUP(A4393,Insumos!A:B,2,FALSE),\"\")","v":""}]
[null,null,{"$f":"IFERROR(VLOOKUP(A4394,Insumos!A:B,2,FALSE),\"\")","v":""}]
[null,null,{"$f":"IFERROR(VLOOKUP(A4395,Insumos!A:B,2,FALSE),\"\")","v":""}]
[null,null,{"$f":"IFERROR(VLOOKUP(A4396,Insumos!A:B,2,FALSE),\"\")","v":""}]
[null,null,{"$f":"IFERROR(VLOOKUP(A4397,Insumos!A:B,2,FALSE),\"\")","v":""}]
[null,null,{"$f":"IFERROR(VLOOKUP(A4398,Insumos!A:B,2,FALSE),\"\")","v":""}]
[null,null,{"$f":"IFERROR(VLOOKUP(A4399,Insumos!A:B,2,FALSE),\"\")","v":""}]
[null,null,{"$f":"IFERROR(VLOOKUP(A4400,Insumos!A:B,2,FALSE),\"\")","v":""}]
[null,null,{"$f":"IFERROR(VLOOKUP(A4401,Insumos!A:B,2,FALSE),\"\")","v":""}]
[null,null,{"$f":"IFERROR(VLOOKUP(A4402,Insumos!A:B,2,FALSE),\"\")","v":""}]
[null,null,{"$f":"IFERROR(VLOOKUP(A4403,Insumos!A:B,2,FALSE),\"\")","v":""}]
[null,null,{"$f":"IFERROR(VLOOKUP(A4404,Insumos!A:B,2,FALSE),\"\")","v":""}]
[null,null,{"$f":"IFERROR(VLOOKUP(A4405,Insumos!A:B,2,FALSE),\"\")","v":""}]
[null,null,{"$f":"IFERROR(VLOOKUP(A4406,Insumos!A:B,2,FALSE),\"\")","v":""}]
[null,null,{"$f":"IFERROR(VLOOKUP(A4407,Insumos!A:B,2,FALSE),\"\")","v":""}]
[null,null,{"$f":"IFERROR(VLOOKUP(A4408,Insumos!A:B,2,FALSE),\"\")","v":""}]
[null,null,{"$f":"IFERROR(VLOOKUP(A4409,Insumos!A:B,2,FALSE),\"\")","v":""}]
[null,null,{"$f":"IFERROR(VLOOKUP(A4410,Insumos!A:B,2,FALSE),\"\")","v":""}]
[null,null,{"$f":"IFERROR(VLOOKUP(A4411,Insumos!A:B,2,FALSE),\"\")","v":""}]
[null,null,{"$f":"IFERROR(VLOOKUP(A4412,Insumos!A:B,2,FALSE),\"\")","v":""}]
[null,null,{"$f":"IFERROR(VLOOKUP(A4413,Insumos!A:B,2,FALSE),\"\")","v":""}]
[null,null,{"$f":"IFERROR(VLOOKUP(A4414,Insumos!A:B,2,FALSE),\"\")","v":""}]
[null,null,{"$f":"IFERROR(VLOOKUP(A4415,Insumos!A:B,2,FALSE),\"\")","v":""}]
[null,null,{"$f":"IFERROR(VLOOKUP(A4416,Insumos!A:B,2,FALSE),\"\")","v":""}]
[null,null,{"$f":"IFERROR(VLOOKUP(A4417,Insumos!A:B,2,FALSE),\"\")","v":""}]
[null,null,{"$f":"IFERROR(VLOOKUP(A4418,Insumos!A:B,2,FALSE),\"\")","v":""}]
[null,null,{"$f":"IFERROR(VLOOKUP(A4419,Insumos!A:B,2,FALSE),\"\")","v":""}]
[null,null,{"$f":"IFERROR(VLOOKUP(A4420,Insumos!A:B,2,FALSE),\"\")","v":""}]
[null,null,{"$f":"IFERROR(VLOOKUP(A4421,Insumos!A:B,2,FALSE),\"\")","v":""}]
[null,null,{"$f":"IFERROR(VLOOKUP(A4422,Insumos!A:B,2,FALSE),\"\")","v":""}]
[null,null,{"$f":"IFERROR(VLOOKUP(A4423,Insumos!A:B,2,FALSE),\"\")","v":""}]
[null,null,{"$f":"IFERROR(VLOOKUP(A4424,Insumos!A:B,2,FALSE),\"\")","v":""}]
[null,null,{"$f":"IFERROR(VLOOKUP(A4425,Insumos!A:B,2,FALSE),\"\")","v":""}]
[null,null,{"$f":"IFERROR(VLOOKUP(A4426,Insumos!A:B,2,FALSE),\"\")","v":""}]
[null,null,{"$f":"IFERROR(VLOOKUP(A4427,Insumos!A:B,2,FALSE),\"\")","v":""}]
[null,null,{"$f":"IFERROR(VLOOKUP(A4428,Insumos!A:B,2,FALSE),\"\")","v":""}]
[null,null,{"$f":"IFERROR(VLOOKUP(A4429,Insumos!A:B,2,FALSE),\"\")","v":""}]
[null,null,{"$f":"IFERROR(VLOOKUP(A4430,Insumos!A:B,2,FALSE),\"\")","v":""}]
[null,null,{"$f":"IFERROR(VLOOKUP(A4431,Insumos!A:B,2,FALSE),\"\")","v":""}]
[null,null,{"$f":"IFERROR(VLOOKUP(A4432,Insumos!A:B,2,FALSE),\"\")","v":""}]
[null,null,{"$f":"IFERROR(VLOOKUP(A4433,Insumos!A:B,2,FALSE),\"\")","v":""}]
[null,null,{"$f":"IFERROR(VLOOKUP(A4434,Insumos!A:B,2,FALSE),\"\")","v":""}]
[null,null,{"$f":"IFERROR(VLOOKUP(A4435,Insumos!A:B,2,FALSE),\"\")","v":""}]
[null,null,{"$f":"IFERROR(VLOOKUP(A4436,Insumos!A:B,2,FALSE),\"\")","v":""}]
[null,null,{"$f":"IFERROR(VLOOKUP(A4437,Insumos!A:B,2,FALSE),\"\")","v":""}]
[null,null,{"$f":"IFERROR(VLOOKUP(A4438,Insumos!A:B,2,FALSE),\"\")","v":""}]
[null,null,{"$f":"IFERROR(VLOOKUP(A4439,Insumos!A:B,2,FALSE),\"\")","v":""}]
[null,null,{"$f":"IFERROR(VLOOKUP(A4440,Insumos!A:B,2,FALSE),\"\")","v":""}]
[null,null,{"$f":"IFERROR(VLOOKUP(A4441,Insumos!A:B,2,FALSE),\"\")","v":""}]
[null,null,{"$f":"IFERROR(VLOOKUP(A4442,Insumos!A:B,2,FALSE),\"\")","v":""}]
[null,null,{"$f":"IFERROR(VLOOKUP(A4443,Insumos!A:B,2,FALSE),\"\")","v":""}]
[null,null,{"$f":"IFERROR(VLOOKUP(A4444,Insumos!A:B,2,FALSE),\"\")","v":""}]
[null,null,{"$f":"IFERROR(VLOOKUP(A4445,Insumos!A:B,2,FALSE),\"\")","v":""}]
[null,null,{"$f":"IFERROR(VLOOKUP(A4446,Insumos!A:B,2,FALSE),\"\")","v":""}]
[null,null,{"$f":"IFERROR(VLOOKUP(A4447,Insumos!A:B,2,FALSE),\"\")","v":""}]
[null,null,{"$f":"IFERROR(VLOOKUP(A4448,Insumos!A:B,2,FALSE),\"\")","v":""}]
[null,null,{"$f":"IFERROR(VLOOKUP(A4449,Insumos!A:B,2,FALSE),\"\")","v":""}]
[null,null,{"$f":"IFERROR(VLOOKUP(A4450,Insumos!A:B,2,FALSE),\"\")","v":""}]
[null,null,{"$f":"IFERROR(VLOOKUP(A4451,Insumos!A:B,2,FALSE),\"\")","v":""}]
[null,null,{"$f":"IFERROR(VLOOKUP(A4452,Insumos!A:B,2,FALSE),\"\")","v":""}]
[null,null,{"$f":"IFERROR(VLOOKUP(A4453,Insumos!A:B,2,FALSE),\"\")","v":""}]
[null,null,{"$f":"IFERROR(VLOOKUP(A4454,Insumos!A:B,2,FALSE),\"\")","v":""}]
[null,null,{"$f":"IFERROR(VLOOKUP(A4455,Insumos!A:B,2,FALSE),\"\")","v":""}]
[null,null,{"$f":"IFERROR(VLOOKUP(A4456,Insumos!A:B,2,FALSE),\"\")","v":""}]
[null,null,{"$f":"IFERROR(VLOOKUP(A4457,Insumos!A:B,2,FALSE),\"\")","v":""}]
[null,null,{"$f":"IFERROR(VLOOKUP(A4458,Insumos!A:B,2,FALSE),\"\")","v":""}]
[null,null,{"$f":"IFERROR(VLOOKUP(A4459,Insumos!A:B,2,FALSE),\"\")","v":""}]
[null,null,{"$f":"IFERROR(VLOOKUP(A4460,Insumos!A:B,2,FALSE),\"\")","v":""}]
[null,null,{"$f":"IFERROR(VLOOKUP(A4461,Insumos!A:B,2,FALSE),\"\")","v":""}]
[null,null,{"$f":"IFERROR(VLOOKUP(A4462,Insumos!A:B,2,FALSE),\"\")","v":""}]
[null,null,{"$f":"IFERROR(VLOOKUP(A4463,Insumos!A:B,2,FALSE),\"\")","v":""}]
[null,null,{"$f":"IFERROR(VLOOKUP(A4464,Insumos!A:B,2,FALSE),\"\")","v":""}]
[null,null,{"$f":"IFERROR(VLOOKUP(A4465,Insumos!A:B,2,FALSE),\"\")","v":""}]
[null,null,{"$f":"IFERROR(VLOOKUP(A4466,Insumos!A:B,2,FALSE),\"\")","v":""}]
[null,null,{"$f":"IFERROR(VLOOKUP(A4467,Insumos!A:B,2,FALSE),\"\")","v":""}]
[null,null,{"$f":"IFERROR(VLOOKUP(A4468,Insumos!A:B,2,FALSE),\"\")","v":""}]
[null,null,{"$f":"IFERROR(VLOOKUP(A4469,Insumos!A:B,2,FALSE),\"\")","v":""}]
[null,null,{"$f":"IFERROR(VLOOKUP(A4470,Insumos!A:B,2,FALSE),\"\")","v":""}]
[null,null,{"$f":"IFERROR(VLOOKUP(A4471,Insumos!A:B,2,FALSE),\"\")","v":""}]
[null,null,{"$f":"IFERROR(VLOOKUP(A4472,Insumos!A:B,2,FALSE),\"\")","v":""}]
[null,null,{"$f":"IFERROR(VLOOKUP(A4473,Insumos!A:B,2,FALSE),\"\")","v":""}]
[null,null,{"$f":"IFERROR(VLOOKUP(A4474,Insumos!A:B,2,FALSE),\"\")","v":""}]
[null,null,{"$f":"IFERROR(VLOOKUP(A4475,Insumos!A:B,2,FALSE),\"\")","v":""}]
[null,null,{"$f":"IFERROR(VLOOKUP(A4476,Insumos!A:B,2,FALSE),\"\")","v":""}]
[null,null,{"$f":"IFERROR(VLOOKUP(A4477,Insumos!A:B,2,FALSE),\"\")","v":""}]
[null,null,{"$f":"IFERROR(VLOOKUP(A4478,Insumos!A:B,2,FALSE),\"\")","v":""}]
[null,null,{"$f":"IFERROR(VLOOKUP(A4479,Insumos!A:B,2,FALSE),\"\")","v":""}]
[null,null,{"$f":"IFERROR(VLOOKUP(A4480,Insumos!A:B,2,FALSE),\"\")","v":""}]
[null,null,{"$f":"IFERROR(VLOOKUP(A4481,Insumos!A:B,2,FALSE),\"\")","v":""}]
[null,null,{"$f":"IFERROR(VLOOKUP(A4482,Insumos!A:B,2,FALSE),\"\")","v":""}]
[null,null,{"$f":"IFERROR(VLOOKUP(A4483,Insumos!A:B,2,FALSE),\"\")","v":""}]
[null,null,{"$f":"IFERROR(VLOOKUP(A4484,Insumos!A:B,2,FALSE),\"\")","v":""}]
[null,null,{"$f":"IFERROR(VLOOKUP(A4485,Insumos!A:B,2,FALSE),\"\")","v":""}]
[null,null,{"$f":"IFERROR(VLOOKUP(A4486,Insumos!A:B,2,FALSE),\"\")","v":""}]
[null,null,{"$f":"IFERROR(VLOOKUP(A4487,Insumos!A:B,2,FALSE),\"\")","v":""}]
[null,null,{"$f":"IFERROR(VLOOKUP(A4488,Insumos!A:B,2,FALSE),\"\")","v":""}]
[null,null,{"$f":"IFERROR(VLOOKUP(A4489,Insumos!A:B,2,FALSE),\"\")","v":""}]
[null,null,{"$f":"IFERROR(VLOOKUP(A4490,Insumos!A:B,2,FALSE),\"\")","v":""}]
[null,null,{"$f":"IFERROR(VLOOKUP(A4491,Insumos!A:B,2,FALSE),\"\")","v":""}]
[null,null,{"$f":"IFERROR(VLOOKUP(A4492,Insumos!A:B,2,FALSE),\"\")","v":""}]
[null,null,{"$f":"IFERROR(VLOOKUP(A4493,Insumos!A:B,2,FALSE),\"\")","v":""}]
[null,null,{"$f":"IFERROR(VLOOKUP(A4494,Insumos!A:B,2,FALSE),\"\")","v":""}]
[null,null,{"$f":"IFERROR(VLOOKUP(A4495,Insumos!A:B,2,FALSE),\"\")","v":""}]
[null,null,{"$f":"IFERROR(VLOOKUP(A4496,Insumos!A:B,2,FALSE),\"\")","v":""}]
[null,null,{"$f":"IFERROR(VLOOKUP(A4497,Insumos!A:B,2,FALSE),\"\")","v":""}]
[null,null,{"$f":"IFERROR(VLOOKUP(A4498,Insumos!A:B,2,FALSE),\"\")","v":""}]
[null,null,{"$f":"IFERROR(VLOOKUP(A4499,Insumos!A:B,2,FALSE),\"\")","v":""}]
[null,null,{"$f":"IFERROR(VLOOKUP(A4500,Insumos!A:B,2,FALSE),\"\")","v":""}]
[null,null,{"$f":"IFERROR(VLOOKUP(A4501,Insumos!A:B,2,FALSE),\"\")","v":""}]
[null,null,{"$f":"IFERROR(VLOOKUP(A4502,Insumos!A:B,2,FALSE),\"\")","v":""}]
[null,null,{"$f":"IFERROR(VLOOKUP(A4503,Insumos!A:B,2,FALSE),\"\")","v":""}]
[null,null,{"$f":"IFERROR(VLOOKUP(A4504,Insumos!A:B,2,FALSE),\"\")","v":""}]
[null,null,{"$f":"IFERROR(VLOOKUP(A4505,Insumos!A:B,2,FALSE),\"\")","v":""}]
[null,null,{"$f":"IFERROR(VLOOKUP(A4506,Insumos!A:B,2,FALSE),\"\")","v":""}]
[null,null,{"$f":"IFERROR(VLOOKUP(A4507,Insumos!A:B,2,FALSE),\"\")","v":""}]
[null,null,{"$f":"IFERROR(VLOOKUP(A4508,Insumos!A:B,2,FALSE),\"\")","v":""}]
[null,null,{"$f":"IFERROR(VLOOKUP(A4509,Insumos!A:B,2,FALSE),\"\")","v":""}]
[null,null,{"$f":"IFERROR(VLOOKUP(A4510,Insumos!A:B,2,FALSE),\"\")","v":""}]
[null,null,{"$f":"IFERROR(VLOOKUP(A4511,Insumos!A:B,2,FALSE),\"\")","v":""}]
[null,null,{"$f":"IFERROR(VLOOKUP(A4512,Insumos!A:B,2,FALSE),\"\")","v":""}]
[null,null,{"$f":"IFERROR(VLOOKUP(A4513,Insumos!A:B,2,FALSE),\"\")","v":""}]
[null,null,{"$f":"IFERROR(VLOOKUP(A4514,Insumos!A:B,2,FALSE),\"\")","v":""}]
[null,null,{"$f":"IFERROR(VLOOKUP(A4515,Insumos!A:B,2,FALSE),\"\")","v":""}]
[null,null,{"$f":"IFERROR(VLOOKUP(A4516,Insumos!A:B,2,FALSE),\"\")","v":""}]
[null,null,{"$f":"IFERROR(VLOOKUP(A4517,Insumos!A:B,2,FALSE),\"\")","v":""}]
[null,null,{"$f":"IFERROR(VLOOKUP(A4518,Insumos!A:B,2,FALSE),\"\")","v":""}]
[null,null,{"$f":"IFERROR(VLOOKUP(A4519,Insumos!A:B,2,FALSE),\"\")","v":""}]
[null,null,{"$f":"IFERROR(VLOOKUP(A4520,Insumos!A:B,2,FALSE),\"\")","v":""}]
[null,null,{"$f":"IFERROR(VLOOKUP(A4521,Insumos!A:B,2,FALSE),\"\")","v":""}]
[null,null,{"$f":"IFERROR(VLOOKUP(A4522,Insumos!A:B,2,FALSE),\"\")","v":""}]
[null,null,{"$f":"IFERROR(VLOOKUP(A4523,Insumos!A:B,2,FALSE),\"\")","v":""}]
[null,null,{"$f":"IFERROR(VLOOKUP(A4524,Insumos!A:B,2,FALSE),\"\")","v":""}]
[null,null,{"$f":"IFERROR(VLOOKUP(A4525,Insumos!A:B,2,FALSE),\"\")","v":""}]
[null,null,{"$f":"IFERROR(VLOOKUP(A4526,Insumos!A:B,2,FALSE),\"\")","v":""}]
[null,null,{"$f":"IFERROR(VLOOKUP(A4527,Insumos!A:B,2,FALSE),\"\")","v":""}]
[null,null,{"$f":"IFERROR(VLOOKUP(A4528,Insumos!A:B,2,FALSE),\"\")","v":""}]
[null,null,{"$f":"IFERROR(VLOOKUP(A4529,Insumos!A:B,2,FALSE),\"\")","v":""}]
[null,null,{"$f":"IFERROR(VLOOKUP(A4530,Insumos!A:B,2,FALSE),\"\")","v":""}]
[null,null,{"$f":"IFERROR(VLOOKUP(A4531,Insumos!A:B,2,FALSE),\"\")","v":""}]
[null,null,{"$f":"IFERROR(VLOOKUP(A4532,Insumos!A:B,2,FALSE),\"\")","v":""}]
[null,null,{"$f":"IFERROR(VLOOKUP(A4533,Insumos!A:B,2,FALSE),\"\")","v":""}]
[null,null,{"$f":"IFERROR(VLOOKUP(A4534,Insumos!A:B,2,FALSE),\"\")","v":""}]
[null,null,{"$f":"IFERROR(VLOOKUP(A4535,Insumos!A:B,2,FALSE),\"\")","v":""}]
[null,null,{"$f":"IFERROR(VLOOKUP(A4536,Insumos!A:B,2,FALSE),\"\")","v":""}]
[null,null,{"$f":"IFERROR(VLOOKUP(A4537,Insumos!A:B,2,FALSE),\"\")","v":""}]
[null,null,{"$f":"IFERROR(VLOOKUP(A4538,Insumos!A:B,2,FALSE),\"\")","v":""}]
[null,null,{"$f":"IFERROR(VLOOKUP(A4539,Insumos!A:B,2,FALSE),\"\")","v":""}]
[null,null,{"$f":"IFERROR(VLOOKUP(A4540,Insumos!A:B,2,FALSE),\"\")","v":""}]
[null,null,{"$f":"IFERROR(VLOOKUP(A4541,Insumos!A:B,2,FALSE),\"\")","v":""}]
[null,null,{"$f":"IFERROR(VLOOKUP(A4542,Insumos!A:B,2,FALSE),\"\")","v":""}]
[null,null,{"$f":"IFERROR(VLOOKUP(A4543,Insumos!A:B,2,FALSE),\"\")","v":""}]
[null,null,{"$f":"IFERROR(VLOOKUP(A4544,Insumos!A:B,2,FALSE),\"\")","v":""}]
[null,null,{"$f":"IFERROR(VLOOKUP(A4545,Insumos!A:B,2,FALSE),\"\")","v":""}]
[null,null,{"$f":"IFERROR(VLOOKUP(A4546,Insumos!A:B,2,FALSE),\"\")","v":""}]
[null,null,{"$f":"IFERROR(VLOOKUP(A4547,Insumos!A:B,2,FALSE),\"\")","v":""}]
[null,null,{"$f":"IFERROR(VLOOKUP(A4548,Insumos!A:B,2,FALSE),\"\")","v":""}]
[null,null,{"$f":"IFERROR(VLOOKUP(A4549,Insumos!A:B,2,FALSE),\"\")","v":""}]
[null,null,{"$f":"IFERROR(VLOOKUP(A4550,Insumos!A:B,2,FALSE),\"\")","v":""}]
[null,null,{"$f":"IFERROR(VLOOKUP(A4551,Insumos!A:B,2,FALSE),\"\")","v":""}]
[null,null,{"$f":"IFERROR(VLOOKUP(A4552,Insumos!A:B,2,FALSE),\"\")","v":""}]
[null,null,{"$f":"IFERROR(VLOOKUP(A4553,Insumos!A:B,2,FALSE),\"\")","v":""}]
[null,null,{"$f":"IFERROR(VLOOKUP(A4554,Insumos!A:B,2,FALSE),\"\")","v":""}]
[null,null,{"$f":"IFERROR(VLOOKUP(A4555,Insumos!A:B,2,FALSE),\"\")","v":""}]
[null,null,{"$f":"IFERROR(VLOOKUP(A4556,Insumos!A:B,2,FALSE),\"\")","v":""}]
[null,null,{"$f":"IFERROR(VLOOKUP(A4557,Insumos!A:B,2,FALSE),\"\")","v":""}]
[null,null,{"$f":"IFERROR(VLOOKUP(A4558,Insumos!A:B,2,FALSE),\"\")","v":""}]
[null,null,{"$f":"IFERROR(VLOOKUP(A4559,Insumos!A:B,2,FALSE),\"\")","v":""}]
[null,null,{"$f":"IFERROR(VLOOKUP(A4560,Insumos!A:B,2,FALSE),\"\")","v":""}]
[null,null,{"$f":"IFERROR(VLOOKUP(A4561,Insumos!A:B,2,FALSE),\"\")","v":""}]
[null,null,{"$f":"IFERROR(VLOOKUP(A4562,Insumos!A:B,2,FALSE),\"\")","v":""}]
[null,null,{"$f":"IFERROR(VLOOKUP(A4563,Insumos!A:B,2,FALSE),\"\")","v":""}]
[null,null,{"$f":"IFERROR(VLOOKUP(A4564,Insumos!A:B,2,FALSE),\"\")","v":""}]
[null,null,{"$f":"IFERROR(VLOOKUP(A4565,Insumos!A:B,2,FALSE),\"\")","v":""}]
[null,null,{"$f":"IFERROR(VLOOKUP(A4566,Insumos!A:B,2,FALSE),\"\")","v":""}]
[null,null,{"$f":"IFERROR(VLOOKUP(A4567,Insumos!A:B,2,FALSE),\"\")","v":""}]
[null,null,{"$f":"IFERROR(VLOOKUP(A4568,Insumos!A:B,2,FALSE),\"\")","v":""}]
[null,null,{"$f":"IFERROR(VLOOKUP(A4569,Insumos!A:B,2,FALSE),\"\")","v":""}]
[null,null,{"$f":"IFERROR(VLOOKUP(A4570,Insumos!A:B,2,FALSE),\"\")","v":""}]
[null,null,{"$f":"IFERROR(VLOOKUP(A4571,Insumos!A:B,2,FALSE),\"\")","v":""}]
[null,null,{"$f":"IFERROR(VLOOKUP(A4572,Insumos!A:B,2,FALSE),\"\")","v":""}]
[null,null,{"$f":"IFERROR(VLOOKUP(A4573,Insumos!A:B,2,FALSE),\"\")","v":""}]
[null,null,{"$f":"IFERROR(VLOOKUP(A4574,Insumos!A:B,2,FALSE),\"\")","v":""}]
[null,null,{"$f":"IFERROR(VLOOKUP(A4575,Insumos!A:B,2,FALSE),\"\")","v":""}]
[null,null,{"$f":"IFERROR(VLOOKUP(A4576,Insumos!A:B,2,FALSE),\"\")","v":""}]
[null,null,{"$f":"IFERROR(VLOOKUP(A4577,Insumos!A:B,2,FALSE),\"\")","v":""}]
[null,null,{"$f":"IFERROR(VLOOKUP(A4578,Insumos!A:B,2,FALSE),\"\")","v":""}]
[null,null,{"$f":"IFERROR(VLOOKUP(A4579,Insumos!A:B,2,FALSE),\"\")","v":""}]
[null,null,{"$f":"IFERROR(VLOOKUP(A4580,Insumos!A:B,2,FALSE),\"\")","v":""}]
[null,null,{"$f":"IFERROR(VLOOKUP(A4581,Insumos!A:B,2,FALSE),\"\")","v":""}]
[null,null,{"$f":"IFERROR(VLOOKUP(A4582,Insumos!A:B,2,FALSE),\"\")","v":""}]
[null,null,{"$f":"IFERROR(VLOOKUP(A4583,Insumos!A:B,2,FALSE),\"\")","v":""}]
[null,null,{"$f":"IFERROR(VLOOKUP(A4584,Insumos!A:B,2,FALSE),\"\")","v":""}]
[null,null,{"$f":"IFERROR(VLOOKUP(A4585,Insumos!A:B,2,FALSE),\"\")","v":""}]
[null,null,{"$f":"IFERROR(VLOOKUP(A4586,Insumos!A:B,2,FALSE),\"\")","v":""}]
[null,null,{"$f":"IFERROR(VLOOKUP(A4587,Insumos!A:B,2,FALSE),\"\")","v":""}]
[null,null,{"$f":"IFERROR(VLOOKUP(A4588,Insumos!A:B,2,FALSE),\"\")","v":""}]
[null,null,{"$f":"IFERROR(VLOOKUP(A4589,Insumos!A:B,2,FALSE),\"\")","v":""}]
[null,null,{"$f":"IFERROR(VLOOKUP(A4590,Insumos!A:B,2,FALSE),\"\")","v":""}]
[null,null,{"$f":"IFERROR(VLOOKUP(A4591,Insumos!A:B,2,FALSE),\"\")","v":""}]
[null,null,{"$f":"IFERROR(VLOOKUP(A4592,Insumos!A:B,2,FALSE),\"\")","v":""}]
[null,null,{"$f":"IFERROR(VLOOKUP(A4593,Insumos!A:B,2,FALSE),\"\")","v":""}]
[null,null,{"$f":"IFERROR(VLOOKUP(A4594,Insumos!A:B,2,FALSE),\"\")","v":""}]
[null,null,{"$f":"IFERROR(VLOOKUP(A4595,Insumos!A:B,2,FALSE),\"\")","v":""}]
[null,null,{"$f":"IFERROR(VLOOKUP(A4596,Insumos!A:B,2,FALSE),\"\")","v":""}]
[null,null,{"$f":"IFERROR(VLOOKUP(A4597,Insumos!A:B,2,FALSE),\"\")","v":""}]
[null,null,{"$f":"IFERROR(VLOOKUP(A4598,Insumos!A:B,2,FALSE),\"\")","v":""}]
[null,null,{"$f":"IFERROR(VLOOKUP(A4599,Insumos!A:B,2,FALSE),\"\")","v":""}]
[null,null,{"$f":"IFERROR(VLOOKUP(A4600,Insumos!A:B,2,FALSE),\"\")","v":""}]
[null,null,{"$f":"IFERROR(VLOOKUP(A4601,Insumos!A:B,2,FALSE),\"\")","v":""}]
[null,null,{"$f":"IFERROR(VLOOKUP(A4602,Insumos!A:B,2,FALSE),\"\")","v":""}]
[null,null,{"$f":"IFERROR(VLOOKUP(A4603,Insumos!A:B,2,FALSE),\"\")","v":""}]
[null,null,{"$f":"IFERROR(VLOOKUP(A4604,Insumos!A:B,2,FALSE),\"\")","v":""}]
[null,null,{"$f":"IFERROR(VLOOKUP(A4605,Insumos!A:B,2,FALSE),\"\")","v":""}]
[null,null,{"$f":"IFERROR(VLOOKUP(A4606,Insumos!A:B,2,FALSE),\"\")","v":""}]
[null,null,{"$f":"IFERROR(VLOOKUP(A4607,Insumos!A:B,2,FALSE),\"\")","v":""}]
[null,null,{"$f":"IFERROR(VLOOKUP(A4608,Insumos!A:B,2,FALSE),\"\")","v":""}]
[null,null,{"$f":"IFERROR(VLOOKUP(A4609,Insumos!A:B,2,FALSE),\"\")","v":""}]
[null,null,{"$f":"IFERROR(VLOOKUP(A4610,Insumos!A:B,2,FALSE),\"\")","v":""}]
[null,null,{"$f":"IFERROR(VLOOKUP(A4611,Insumos!A:B,2,FALSE),\"\")","v":""}]
[null,null,{"$f":"IFERROR(VLOOKUP(A4612,Insumos!A:B,2,FALSE),\"\")","v":""}]
[null,null,{"$f":"IFERROR(VLOOKUP(A4613,Insumos!A:B,2,FALSE),\"\")","v":""}]
[null,null,{"$f":"IFERROR(VLOOKUP(A4614,Insumos!A:B,2,FALSE),\"\")","v":""}]
[null,null,{"$f":"IFERROR(VLOOKUP(A4615,Insumos!A:B,2,FALSE),\"\")","v":""}]
[null,null,{"$f":"IFERROR(VLOOKUP(A4616,Insumos!A:B,2,FALSE),\"\")","v":""}]
[null,null,{"$f":"IFERROR(VLOOKUP(A4617,Insumos!A:B,2,FALSE),\"\")","v":""}]
[null,null,{"$f":"IFERROR(VLOOKUP(A4618,Insumos!A:B,2,FALSE),\"\")","v":""}]
[null,null,{"$f":"IFERROR(VLOOKUP(A4619,Insumos!A:B,2,FALSE),\"\")","v":""}]
[null,null,{"$f":"IFERROR(VLOOKUP(A4620,Insumos!A:B,2,FALSE),\"\")","v":""}]
[null,null,{"$f":"IFERROR(VLOOKUP(A4621,Insumos!A:B,2,FALSE),\"\")","v":""}]
[null,null,{"$f":"IFERROR(VLOOKUP(A4622,Insumos!A:B,2,FALSE),\"\")","v":""}]
[null,null,{"$f":"IFERROR(VLOOKUP(A4623,Insumos!A:B,2,FALSE),\"\")","v":""}]
[null,null,{"$f":"IFERROR(VLOOKUP(A4624,Insumos!A:B,2,FALSE),\"\")","v":""}]
[null,null,{"$f":"IFERROR(VLOOKUP(A4625,Insumos!A:B,2,FALSE),\"\")","v":""}]
[null,null,{"$f":"IFERROR(VLOOKUP(A4626,Insumos!A:B,2,FALSE),\"\")","v":""}]
[null,null,{"$f":"IFERROR(VLOOKUP(A4627,Insumos!A:B,2,FALSE),\"\")","v":""}]
[null,null,{"$f":"IFERROR(VLOOKUP(A4628,Insumos!A:B,2,FALSE),\"\")","v":""}]
[null,null,{"$f":"IFERROR(VLOOKUP(A4629,Insumos!A:B,2,FALSE),\"\")","v":""}]
[null,null,{"$f":"IFERROR(VLOOKUP(A4630,Insumos!A:B,2,FALSE),\"\")","v":""}]
[null,null,{"$f":"IFERROR(VLOOKUP(A4631,Insumos!A:B,2,FALSE),\"\")","v":""}]
[null,null,{"$f":"IFERROR(VLOOKUP(A4632,Insumos!A:B,2,FALSE),\"\")","v":""}]
[null,null,{"$f":"IFERROR(VLOOKUP(A4633,Insumos!A:B,2,FALSE),\"\")","v":""}]
[null,null,{"$f":"IFERROR(VLOOKUP(A4634,Insumos!A:B,2,FALSE),\"\")","v":""}]
[null,null,{"$f":"IFERROR(VLOOKUP(A4635,Insumos!A:B,2,FALSE),\"\")","v":""}]
[null,null,{"$f":"IFERROR(VLOOKUP(A4636,Insumos!A:B,2,FALSE),\"\")","v":""}]
[null,null,{"$f":"IFERROR(VLOOKUP(A4637,Insumos!A:B,2,FALSE),\"\")","v":""}]
[null,null,{"$f":"IFERROR(VLOOKUP(A4638,Insumos!A:B,2,FALSE),\"\")","v":""}]
[null,null,{"$f":"IFERROR(VLOOKUP(A4639,Insumos!A:B,2,FALSE),\"\")","v":""}]
[null,null,{"$f":"IFERROR(VLOOKUP(A4640,Insumos!A:B,2,FALSE),\"\")","v":""}]
[null,null,{"$f":"IFERROR(VLOOKUP(A4641,Insumos!A:B,2,FALSE),\"\")","v":""}]
[null,null,{"$f":"IFERROR(VLOOKUP(A4642,Insumos!A:B,2,FALSE),\"\")","v":""}]
[null,null,{"$f":"IFERROR(VLOOKUP(A4643,Insumos!A:B,2,FALSE),\"\")","v":""}]
[null,null,{"$f":"IFERROR(VLOOKUP(A4644,Insumos!A:B,2,FALSE),\"\")","v":""}]
[null,null,{"$f":"IFERROR(VLOOKUP(A4645,Insumos!A:B,2,FALSE),\"\")","v":""}]
[null,null,{"$f":"IFERROR(VLOOKUP(A4646,Insumos!A:B,2,FALSE),\"\")","v":""}]
[null,null,{"$f":"IFERROR(VLOOKUP(A4647,Insumos!A:B,2,FALSE),\"\")","v":""}]
[null,null,{"$f":"IFERROR(VLOOKUP(A4648,Insumos!A:B,2,FALSE),\"\")","v":""}]
[null,null,{"$f":"IFERROR(VLOOKUP(A4649,Insumos!A:B,2,FALSE),\"\")","v":""}]
[null,null,{"$f":"IFERROR(VLOOKUP(A4650,Insumos!A:B,2,FALSE),\"\")","v":""}]
[null,null,{"$f":"IFERROR(VLOOKUP(A4651,Insumos!A:B,2,FALSE),\"\")","v":""}]
[null,null,{"$f":"IFERROR(VLOOKUP(A4652,Insumos!A:B,2,FALSE),\"\")","v":""}]
[null,null,{"$f":"IFERROR(VLOOKUP(A4653,Insumos!A:B,2,FALSE),\"\")","v":""}]
[null,null,{"$f":"IFERROR(VLOOKUP(A4654,Insumos!A:B,2,FALSE),\"\")","v":""}]
[null,null,{"$f":"IFERROR(VLOOKUP(A4655,Insumos!A:B,2,FALSE),\"\")","v":""}]
[null,null,{"$f":"IFERROR(VLOOKUP(A4656,Insumos!A:B,2,FALSE),\"\")","v":""}]
[null,null,{"$f":"IFERROR(VLOOKUP(A4657,Insumos!A:B,2,FALSE),\"\")","v":""}]
[null,null,{"$f":"IFERROR(VLOOKUP(A4658,Insumos!A:B,2,FALSE),\"\")","v":""}]
[null,null,{"$f":"IFERROR(VLOOKUP(A4659,Insumos!A:B,2,FALSE),\"\")","v":""}]
[null,null,{"$f":"IFERROR(VLOOKUP(A4660,Insumos!A:B,2,FALSE),\"\")","v":""}]
[null,null,{"$f":"IFERROR(VLOOKUP(A4661,Insumos!A:B,2,FALSE),\"\")","v":""}]
[null,null,{"$f":"IFERROR(VLOOKUP(A4662,Insumos!A:B,2,FALSE),\"\")","v":""}]
[null,null,{"$f":"IFERROR(VLOOKUP(A4663,Insumos!A:B,2,FALSE),\"\")","v":""}]
[null,null,{"$f":"IFERROR(VLOOKUP(A4664,Insumos!A:B,2,FALSE),\"\")","v":""}]
[null,null,{"$f":"IFERROR(VLOOKUP(A4665,Insumos!A:B,2,FALSE),\"\")","v":""}]
[null,null,{"$f":"IFERROR(VLOOKUP(A4666,Insumos!A:B,2,FALSE),\"\")","v":""}]
[null,null,{"$f":"IFERROR(VLOOKUP(A4667,Insumos!A:B,2,FALSE),\"\")","v":""}]
[null,null,{"$f":"IFERROR(VLOOKUP(A4668,Insumos!A:B,2,FALSE),\"\")","v":""}]
[null,null,{"$f":"IFERROR(VLOOKUP(A4669,Insumos!A:B,2,FALSE),\"\")","v":""}]
[null,null,{"$f":"IFERROR(VLOOKUP(A4670,Insumos!A:B,2,FALSE),\"\")","v":""}]
[null,null,{"$f":"IFERROR(VLOOKUP(A4671,Insumos!A:B,2,FALSE),\"\")","v":""}]
[null,null,{"$f":"IFERROR(VLOOKUP(A4672,Insumos!A:B,2,FALSE),\"\")","v":""}]
[null,null,{"$f":"IFERROR(VLOOKUP(A4673,Insumos!A:B,2,FALSE),\"\")","v":""}]
[null,null,{"$f":"IFERROR(VLOOKUP(A4674,Insumos!A:B,2,FALSE),\"\")","v":""}]
[null,null,{"$f":"IFERROR(VLOOKUP(A4675,Insumos!A:B,2,FALSE),\"\")","v":""}]
[null,null,{"$f":"IFERROR(VLOOKUP(A4676,Insumos!A:B,2,FALSE),\"\")","v":""}]
[null,null,{"$f":"IFERROR(VLOOKUP(A4677,Insumos!A:B,2,FALSE),\"\")","v":""}]
[null,null,{"$f":"IFERROR(VLOOKUP(A4678,Insumos!A:B,2,FALSE),\"\")","v":""}]
[null,null,{"$f":"IFERROR(VLOOKUP(A4679,Insumos!A:B,2,FALSE),\"\")","v":""}]
[null,null,{"$f":"IFERROR(VLOOKUP(A4680,Insumos!A:B,2,FALSE),\"\")","v":""}]
[null,null,{"$f":"IFERROR(VLOOKUP(A4681,Insumos!A:B,2,FALSE),\"\")","v":""}]
[null,null,{"$f":"IFERROR(VLOOKUP(A4682,Insumos!A:B,2,FALSE),\"\")","v":""}]
[null,null,{"$f":"IFERROR(VLOOKUP(A4683,Insumos!A:B,2,FALSE),\"\")","v":""}]
[null,null,{"$f":"IFERROR(VLOOKUP(A4684,Insumos!A:B,2,FALSE),\"\")","v":""}]
[null,null,{"$f":"IFERROR(VLOOKUP(A4685,Insumos!A:B,2,FALSE),\"\")","v":""}]
[null,null,{"$f":"IFERROR(VLOOKUP(A4686,Insumos!A:B,2,FALSE),\"\")","v":""}]
[null,null,{"$f":"IFERROR(VLOOKUP(A4687,Insumos!A:B,2,FALSE),\"\")","v":""}]
[null,null,{"$f":"IFERROR(VLOOKUP(A4688,Insumos!A:B,2,FALSE),\"\")","v":""}]
[null,null,{"$f":"IFERROR(VLOOKUP(A4689,Insumos!A:B,2,FALSE),\"\")","v":""}]
[null,null,{"$f":"IFERROR(VLOOKUP(A4690,Insumos!A:B,2,FALSE),\"\")","v":""}]
[null,null,{"$f":"IFERROR(VLOOKUP(A4691,Insumos!A:B,2,FALSE),\"\")","v":""}]
[null,null,{"$f":"IFERROR(VLOOKUP(A4692,Insumos!A:B,2,FALSE),\"\")","v":""}]
[null,null,{"$f":"IFERROR(VLOOKUP(A4693,Insumos!A:B,2,FALSE),\"\")","v":""}]
[null,null,{"$f":"IFERROR(VLOOKUP(A4694,Insumos!A:B,2,FALSE),\"\")","v":""}]
[null,null,{"$f":"IFERROR(VLOOKUP(A4695,Insumos!A:B,2,FALSE),\"\")","v":""}]
[null,null,{"$f":"IFERROR(VLOOKUP(A4696,Insumos!A:B,2,FALSE),\"\")","v":""}]
[null,null,{"$f":"IFERROR(VLOOKUP(A4697,Insumos!A:B,2,FALSE),\"\")","v":""}]
[null,null,{"$f":"IFERROR(VLOOKUP(A4698,Insumos!A:B,2,FALSE),\"\")","v":""}]
[null,null,{"$f":"IFERROR(VLOOKUP(A4699,Insumos!A:B,2,FALSE),\"\")","v":""}]
[null,null,{"$f":"IFERROR(VLOOKUP(A4700,Insumos!A:B,2,FALSE),\"\")","v":""}]
[null,null,{"$f":"IFERROR(VLOOKUP(A4701,Insumos!A:B,2,FALSE),\"\")","v":""}]
[null,null,{"$f":"IFERROR(VLOOKUP(A4702,Insumos!A:B,2,FALSE),\"\")","v":""}]
[null,null,{"$f":"IFERROR(VLOOKUP(A4703,Insumos!A:B,2,FALSE),\"\")","v":""}]
[null,null,{"$f":"IFERROR(VLOOKUP(A4704,Insumos!A:B,2,FALSE),\"\")","v":""}]
[null,null,{"$f":"IFERROR(VLOOKUP(A4705,Insumos!A:B,2,FALSE),\"\")","v":""}]
[null,null,{"$f":"IFERROR(VLOOKUP(A4706,Insumos!A:B,2,FALSE),\"\")","v":""}]
[null,null,{"$f":"IFERROR(VLOOKUP(A4707,Insumos!A:B,2,FALSE),\"\")","v":""}]
[null,null,{"$f":"IFERROR(VLOOKUP(A4708,Insumos!A:B,2,FALSE),\"\")","v":""}]
[null,null,{"$f":"IFERROR(VLOOKUP(A4709,Insumos!A:B,2,FALSE),\"\")","v":""}]
[null,null,{"$f":"IFERROR(VLOOKUP(A4710,Insumos!A:B,2,FALSE),\"\")","v":""}]
[null,null,{"$f":"IFERROR(VLOOKUP(A4711,Insumos!A:B,2,FALSE),\"\")","v":""}]
[null,null,{"$f":"IFERROR(VLOOKUP(A4712,Insumos!A:B,2,FALSE),\"\")","v":""}]
[null,null,{"$f":"IFERROR(VLOOKUP(A4713,Insumos!A:B,2,FALSE),\"\")","v":""}]
[null,null,{"$f":"IFERROR(VLOOKUP(A4714,Insumos!A:B,2,FALSE),\"\")","v":""}]
[null,null,{"$f":"IFERROR(VLOOKUP(A4715,Insumos!A:B,2,FALSE),\"\")","v":""}]
[null,null,{"$f":"IFERROR(VLOOKUP(A4716,Insumos!A:B,2,FALSE),\"\")","v":""}]
[null,null,{"$f":"IFERROR(VLOOKUP(A4717,Insumos!A:B,2,FALSE),\"\")","v":""}]
[null,null,{"$f":"IFERROR(VLOOKUP(A4718,Insumos!A:B,2,FALSE),\"\")","v":""}]
[null,null,{"$f":"IFERROR(VLOOKUP(A4719,Insumos!A:B,2,FALSE),\"\")","v":""}]
[null,null,{"$f":"IFERROR(VLOOKUP(A4720,Insumos!A:B,2,FALSE),\"\")","v":""}]
[null,null,{"$f":"IFERROR(VLOOKUP(A4721,Insumos!A:B,2,FALSE),\"\")","v":""}]
[null,null,{"$f":"IFERROR(VLOOKUP(A4722,Insumos!A:B,2,FALSE),\"\")","v":""}]
[null,null,{"$f":"IFERROR(VLOOKUP(A4723,Insumos!A:B,2,FALSE),\"\")","v":""}]
[null,null,{"$f":"IFERROR(VLOOKUP(A4724,Insumos!A:B,2,FALSE),\"\")","v":""}]
[null,null,{"$f":"IFERROR(VLOOKUP(A4725,Insumos!A:B,2,FALSE),\"\")","v":""}]
[null,null,{"$f":"IFERROR(VLOOKUP(A4726,Insumos!A:B,2,FALSE),\"\")","v":""}]
[null,null,{"$f":"IFERROR(VLOOKUP(A4727,Insumos!A:B,2,FALSE),\"\")","v":""}]
[null,null,{"$f":"IFERROR(VLOOKUP(A4728,Insumos!A:B,2,FALSE),\"\")","v":""}]
[null,null,{"$f":"IFERROR(VLOOKUP(A4729,Insumos!A:B,2,FALSE),\"\")","v":""}]
[null,null,{"$f":"IFERROR(VLOOKUP(A4730,Insumos!A:B,2,FALSE),\"\")","v":""}]
[null,null,{"$f":"IFERROR(VLOOKUP(A4731,Insumos!A:B,2,FALSE),\"\")","v":""}]
[null,null,{"$f":"IFERROR(VLOOKUP(A4732,Insumos!A:B,2,FALSE),\"\")","v":""}]
[null,null,{"$f":"IFERROR(VLOOKUP(A4733,Insumos!A:B,2,FALSE),\"\")","v":""}]
[null,null,{"$f":"IFERROR(VLOOKUP(A4734,Insumos!A:B,2,FALSE),\"\")","v":""}]
[null,null,{"$f":"IFERROR(VLOOKUP(A4735,Insumos!A:B,2,FALSE),\"\")","v":""}]
[null,null,{"$f":"IFERROR(VLOOKUP(A4736,Insumos!A:B,2,FALSE),\"\")","v":""}]
[null,null,{"$f":"IFERROR(VLOOKUP(A4737,Insumos!A:B,2,FALSE),\"\")","v":""}]
[null,null,{"$f":"IFERROR(VLOOKUP(A4738,Insumos!A:B,2,FALSE),\"\")","v":""}]
[null,null,{"$f":"IFERROR(VLOOKUP(A4739,Insumos!A:B,2,FALSE),\"\")","v":""}]
[null,null,{"$f":"IFERROR(VLOOKUP(A4740,Insumos!A:B,2,FALSE),\"\")","v":""}]
[null,null,{"$f":"IFERROR(VLOOKUP(A4741,Insumos!A:B,2,FALSE),\"\")","v":""}]
[null,null,{"$f":"IFERROR(VLOOKUP(A4742,Insumos!A:B,2,FALSE),\"\")","v":""}]
[null,null,{"$f":"IFERROR(VLOOKUP(A4743,Insumos!A:B,2,FALSE),\"\")","v":""}]
[null,null,{"$f":"IFERROR(VLOOKUP(A4744,Insumos!A:B,2,FALSE),\"\")","v":""}]
[null,null,{"$f":"IFERROR(VLOOKUP(A4745,Insumos!A:B,2,FALSE),\"\")","v":""}]
[null,null,{"$f":"IFERROR(VLOOKUP(A4746,Insumos!A:B,2,FALSE),\"\")","v":""}]
[null,null,{"$f":"IFERROR(VLOOKUP(A4747,Insumos!A:B,2,FALSE),\"\")","v":""}]
[null,null,{"$f":"IFERROR(VLOOKUP(A4748,Insumos!A:B,2,FALSE),\"\")","v":""}]
[null,null,{"$f":"IFERROR(VLOOKUP(A4749,Insumos!A:B,2,FALSE),\"\")","v":""}]
[null,null,{"$f":"IFERROR(VLOOKUP(A4750,Insumos!A:B,2,FALSE),\"\")","v":""}]
[null,null,{"$f":"IFERROR(VLOOKUP(A4751,Insumos!A:B,2,FALSE),\"\")","v":""}]
[null,null,{"$f":"IFERROR(VLOOKUP(A4752,Insumos!A:B,2,FALSE),\"\")","v":""}]
[null,null,{"$f":"IFERROR(VLOOKUP(A4753,Insumos!A:B,2,FALSE),\"\")","v":""}]
[null,null,{"$f":"IFERROR(VLOOKUP(A4754,Insumos!A:B,2,FALSE),\"\")","v":""}]
[null,null,{"$f":"IFERROR(VLOOKUP(A4755,Insumos!A:B,2,FALSE),\"\")","v":""}]
[null,null,{"$f":"IFERROR(VLOOKUP(A4756,Insumos!A:B,2,FALSE),\"\")","v":""}]
[null,null,{"$f":"IFERROR(VLOOKUP(A4757,Insumos!A:B,2,FALSE),\"\")","v":""}]
[null,null,{"$f":"IFERROR(VLOOKUP(A4758,Insumos!A:B,2,FALSE),\"\")","v":""}]
[null,null,{"$f":"IFERROR(VLOOKUP(A4759,Insumos!A:B,2,FALSE),\"\")","v":""}]
[null,null,{"$f":"IFERROR(VLOOKUP(A4760,Insumos!A:B,2,FALSE),\"\")","v":""}]
[null,null,{"$f":"IFERROR(VLOOKUP(A4761,Insumos!A:B,2,FALSE),\"\")","v":""}]
[null,null,{"$f":"IFERROR(VLOOKUP(A4762,Insumos!A:B,2,FALSE),\"\")","v":""}]
[null,null,{"$f":"IFERROR(VLOOKUP(A4763,Insumos!A:B,2,FALSE),\"\")","v":""}]
[null,null,{"$f":"IFERROR(VLOOKUP(A4764,Insumos!A:B,2,FALSE),\"\")","v":""}]
[null,null,{"$f":"IFERROR(VLOOKUP(A4765,Insumos!A:B,2,FALSE),\"\")","v":""}]
[null,null,{"$f":"IFERROR(VLOOKUP(A4766,Insumos!A:B,2,FALSE),\"\")","v":""}]
[null,null,{"$f":"IFERROR(VLOOKUP(A4767,Insumos!A:B,2,FALSE),\"\")","v":""}]
[null,null,{"$f":"IFERROR(VLOOKUP(A4768,Insumos!A:B,2,FALSE),\"\")","v":""}]
[null,null,{"$f":"IFERROR(VLOOKUP(A4769,Insumos!A:B,2,FALSE),\"\")","v":""}]
[null,null,{"$f":"IFERROR(VLOOKUP(A4770,Insumos!A:B,2,FALSE),\"\")","v":""}]
[null,null,{"$f":"IFERROR(VLOOKUP(A4771,Insumos!A:B,2,FALSE),\"\")","v":""}]
[null,null,{"$f":"IFERROR(VLOOKUP(A4772,Insumos!A:B,2,FALSE),\"\")","v":""}]
[null,null,{"$f":"IFERROR(VLOOKUP(A4773,Insumos!A:B,2,FALSE),\"\")","v":""}]
[null,null,{"$f":"IFERROR(VLOOKUP(A4774,Insumos!A:B,2,FALSE),\"\")","v":""}]
[null,null,{"$f":"IFERROR(VLOOKUP(A4775,Insumos!A:B,2,FALSE),\"\")","v":""}]
[null,null,{"$f":"IFERROR(VLOOKUP(A4776,Insumos!A:B,2,FALSE),\"\")","v":""}]
[null,null,{"$f":"IFERROR(VLOOKUP(A4777,Insumos!A:B,2,FALSE),\"\")","v":""}]
[null,null,{"$f":"IFERROR(VLOOKUP(A4778,Insumos!A:B,2,FALSE),\"\")","v":""}]
[null,null,{"$f":"IFERROR(VLOOKUP(A4779,Insumos!A:B,2,FALSE),\"\")","v":""}]
[null,null,{"$f":"IFERROR(VLOOKUP(A4780,Insumos!A:B,2,FALSE),\"\")","v":""}]
[null,null,{"$f":"IFERROR(VLOOKUP(A4781,Insumos!A:B,2,FALSE),\"\")","v":""}]
[null,null,{"$f":"IFERROR(VLOOKUP(A4782,Insumos!A:B,2,FALSE),\"\")","v":""}]
[null,null,{"$f":"IFERROR(VLOOKUP(A4783,Insumos!A:B,2,FALSE),\"\")","v":""}]
[null,null,{"$f":"IFERROR(VLOOKUP(A4784,Insumos!A:B,2,FALSE),\"\")","v":""}]
[null,null,{"$f":"IFERROR(VLOOKUP(A4785,Insumos!A:B,2,FALSE),\"\")","v":""}]
[null,null,{"$f":"IFERROR(VLOOKUP(A4786,Insumos!A:B,2,FALSE),\"\")","v":""}]
[null,null,{"$f":"IFERROR(VLOOKUP(A4787,Insumos!A:B,2,FALSE),\"\")","v":""}]
[null,null,{"$f":"IFERROR(VLOOKUP(A4788,Insumos!A:B,2,FALSE),\"\")","v":""}]
[null,null,{"$f":"IFERROR(VLOOKUP(A4789,Insumos!A:B,2,FALSE),\"\")","v":""}]
[null,null,{"$f":"IFERROR(VLOOKUP(A4790,Insumos!A:B,2,FALSE),\"\")","v":""}]
[null,null,{"$f":"IFERROR(VLOOKUP(A4791,Insumos!A:B,2,FALSE),\"\")","v":""}]
[null,null,{"$f":"IFERROR(VLOOKUP(A4792,Insumos!A:B,2,FALSE),\"\")","v":""}]
[null,null,{"$f":"IFERROR(VLOOKUP(A4793,Insumos!A:B,2,FALSE),\"\")","v":""}]
[null,null,{"$f":"IFERROR(VLOOKUP(A4794,Insumos!A:B,2,FALSE),\"\")","v":""}]
[null,null,{"$f":"IFERROR(VLOOKUP(A4795,Insumos!A:B,2,FALSE),\"\")","v":""}]
[null,null,{"$f":"IFERROR(VLOOKUP(A4796,Insumos!A:B,2,FALSE),\"\")","v":""}]
[null,null,{"$f":"IFERROR(VLOOKUP(A4797,Insumos!A:B,2,FALSE),\"\")","v":""}]
[null,null,{"$f":"IFERROR(VLOOKUP(A4798,Insumos!A:B,2,FALSE),\"\")","v":""}]
[null,null,{"$f":"IFERROR(VLOOKUP(A4799,Insumos!A:B,2,FALSE),\"\")","v":""}]
[null,null,{"$f":"IFERROR(VLOOKUP(A4800,Insumos!A:B,2,FALSE),\"\")","v":""}]
[null,null,{"$f":"IFERROR(VLOOKUP(A4801,Insumos!A:B,2,FALSE),\"\")","v":""}]
[null,null,{"$f":"IFERROR(VLOOKUP(A4802,Insumos!A:B,2,FALSE),\"\")","v":""}]
[null,null,{"$f":"IFERROR(VLOOKUP(A4803,Insumos!A:B,2,FALSE),\"\")","v":""}]
[null,null,{"$f":"IFERROR(VLOOKUP(A4804,Insumos!A:B,2,FALSE),\"\")","v":""}]
[null,null,{"$f":"IFERROR(VLOOKUP(A4805,Insumos!A:B,2,FALSE),\"\")","v":""}]
[null,null,{"$f":"IFERROR(VLOOKUP(A4806,Insumos!A:B,2,FALSE),\"\")","v":""}]
[null,null,{"$f":"IFERROR(VLOOKUP(A4807,Insumos!A:B,2,FALSE),\"\")","v":""}]
[null,null,{"$f":"IFERROR(VLOOKUP(A4808,Insumos!A:B,2,FALSE),\"\")","v":""}]
[null,null,{"$f":"IFERROR(VLOOKUP(A4809,Insumos!A:B,2,FALSE),\"\")","v":""}]
[null,null,{"$f":"IFERROR(VLOOKUP(A4810,Insumos!A:B,2,FALSE),\"\")","v":""}]
[null,null,{"$f":"IFERROR(VLOOKUP(A4811,Insumos!A:B,2,FALSE),\"\")","v":""}]
[null,null,{"$f":"IFERROR(VLOOKUP(A4812,Insumos!A:B,2,FALSE),\"\")","v":""}]
[null,null,{"$f":"IFERROR(VLOOKUP(A4813,Insumos!A:B,2,FALSE),\"\")","v":""}]
[null,null,{"$f":"IFERROR(VLOOKUP(A4814,Insumos!A:B,2,FALSE),\"\")","v":""}]
[null,null,{"$f":"IFERROR(VLOOKUP(A4815,Insumos!A:B,2,FALSE),\"\")","v":""}]
[null,null,{"$f":"IFERROR(VLOOKUP(A4816,Insumos!A:B,2,FALSE),\"\")","v":""}]
[null,null,{"$f":"IFERROR(VLOOKUP(A4817,Insumos!A:B,2,FALSE),\"\")","v":""}]
[null,null,{"$f":"IFERROR(VLOOKUP(A4818,Insumos!A:B,2,FALSE),\"\")","v":""}]
[null,null,{"$f":"IFERROR(VLOOKUP(A4819,Insumos!A:B,2,FALSE),\"\")","v":""}]
[null,null,{"$f":"IFERROR(VLOOKUP(A4820,Insumos!A:B,2,FALSE),\"\")","v":""}]
[null,null,{"$f":"IFERROR(VLOOKUP(A4821,Insumos!A:B,2,FALSE),\"\")","v":""}]
[null,null,{"$f":"IFERROR(VLOOKUP(A4822,Insumos!A:B,2,FALSE),\"\")","v":""}]
[null,null,{"$f":"IFERROR(VLOOKUP(A4823,Insumos!A:B,2,FALSE),\"\")","v":""}]
[null,null,{"$f":"IFERROR(VLOOKUP(A4824,Insumos!A:B,2,FALSE),\"\")","v":""}]
[null,null,{"$f":"IFERROR(VLOOKUP(A4825,Insumos!A:B,2,FALSE),\"\")","v":""}]
[null,null,{"$f":"IFERROR(VLOOKUP(A4826,Insumos!A:B,2,FALSE),\"\")","v":""}]
[null,null,{"$f":"IFERROR(VLOOKUP(A4827,Insumos!A:B,2,FALSE),\"\")","v":""}]
[null,null,{"$f":"IFERROR(VLOOKUP(A4828,Insumos!A:B,2,FALSE),\"\")","v":""}]
[null,null,{"$f":"IFERROR(VLOOKUP(A4829,Insumos!A:B,2,FALSE),\"\")","v":""}]
[null,null,{"$f":"IFERROR(VLOOKUP(A4830,Insumos!A:B,2,FALSE),\"\")","v":""}]
[null,null,{"$f":"IFERROR(VLOOKUP(A4831,Insumos!A:B,2,FALSE),\"\")","v":""}]
[null,null,{"$f":"IFERROR(VLOOKUP(A4832,Insumos!A:B,2,FALSE),\"\")","v":""}]
[null,null,{"$f":"IFERROR(VLOOKUP(A4833,Insumos!A:B,2,FALSE),\"\")","v":""}]
[null,null,{"$f":"IFERROR(VLOOKUP(A4834,Insumos!A:B,2,FALSE),\"\")","v":""}]
[null,null,{"$f":"IFERROR(VLOOKUP(A4835,Insumos!A:B,2,FALSE),\"\")","v":""}]
[null,null,{"$f":"IFERROR(VLOOKUP(A4836,Insumos!A:B,2,FALSE),\"\")","v":""}]
[null,null,{"$f":"IFERROR(VLOOKUP(A4837,Insumos!A:B,2,FALSE),\"\")","v":""}]
[null,null,{"$f":"IFERROR(VLOOKUP(A4838,Insumos!A:B,2,FALSE),\"\")","v":""}]
[null,null,{"$f":"IFERROR(VLOOKUP(A4839,Insumos!A:B,2,FALSE),\"\")","v":""}]
[null,null,{"$f":"IFERROR(VLOOKUP(A4840,Insumos!A:B,2,FALSE),\"\")","v":""}]
[null,null,{"$f":"IFERROR(VLOOKUP(A4841,Insumos!A:B,2,FALSE),\"\")","v":""}]
[null,null,{"$f":"IFERROR(VLOOKUP(A4842,Insumos!A:B,2,FALSE),\"\")","v":""}]
[null,null,{"$f":"IFERROR(VLOOKUP(A4843,Insumos!A:B,2,FALSE),\"\")","v":""}]
[null,null,{"$f":"IFERROR(VLOOKUP(A4844,Insumos!A:B,2,FALSE),\"\")","v":""}]
[null,null,{"$f":"IFERROR(VLOOKUP(A4845,Insumos!A:B,2,FALSE),\"\")","v":""}]
[null,null,{"$f":"IFERROR(VLOOKUP(A4846,Insumos!A:B,2,FALSE),\"\")","v":""}]
[null,null,{"$f":"IFERROR(VLOOKUP(A4847,Insumos!A:B,2,FALSE),\"\")","v":""}]
[null,null,{"$f":"IFERROR(VLOOKUP(A4848,Insumos!A:B,2,FALSE),\"\")","v":""}]
[null,null,{"$f":"IFERROR(VLOOKUP(A4849,Insumos!A:B,2,FALSE),\"\")","v":""}]
[null,null,{"$f":"IFERROR(VLOOKUP(A4850,Insumos!A:B,2,FALSE),\"\")","v":""}]
[null,null,{"$f":"IFERROR(VLOOKUP(A4851,Insumos!A:B,2,FALSE),\"\")","v":""}]
[null,null,{"$f":"IFERROR(VLOOKUP(A4852,Insumos!A:B,2,FALSE),\"\")","v":""}]
[null,null,{"$f":"IFERROR(VLOOKUP(A4853,Insumos!A:B,2,FALSE),\"\")","v":""}]
[null,null,{"$f":"IFERROR(VLOOKUP(A4854,Insumos!A:B,2,FALSE),\"\")","v":""}]
[null,null,{"$f":"IFERROR(VLOOKUP(A4855,Insumos!A:B,2,FALSE),\"\")","v":""}]
[null,null,{"$f":"IFERROR(VLOOKUP(A4856,Insumos!A:B,2,FALSE),\"\")","v":""}]
[null,null,{"$f":"IFERROR(VLOOKUP(A4857,Insumos!A:B,2,FALSE),\"\")","v":""}]
[null,null,{"$f":"IFERROR(VLOOKUP(A4858,Insumos!A:B,2,FALSE),\"\")","v":""}]
[null,null,{"$f":"IFERROR(VLOOKUP(A4859,Insumos!A:B,2,FALSE),\"\")","v":""}]
[null,null,{"$f":"IFERROR(VLOOKUP(A4860,Insumos!A:B,2,FALSE),\"\")","v":""}]
[null,null,{"$f":"IFERROR(VLOOKUP(A4861,Insumos!A:B,2,FALSE),\"\")","v":""}]
[null,null,{"$f":"IFERROR(VLOOKUP(A4862,Insumos!A:B,2,FALSE),\"\")","v":""}]
[null,null,{"$f":"IFERROR(VLOOKUP(A4863,Insumos!A:B,2,FALSE),\"\")","v":""}]
[null,null,{"$f":"IFERROR(VLOOKUP(A4864,Insumos!A:B,2,FALSE),\"\")","v":""}]
[null,null,{"$f":"IFERROR(VLOOKUP(A4865,Insumos!A:B,2,FALSE),\"\")","v":""}]
[null,null,{"$f":"IFERROR(VLOOKUP(A4866,Insumos!A:B,2,FALSE),\"\")","v":""}]
[null,null,{"$f":"IFERROR(VLOOKUP(A4867,Insumos!A:B,2,FALSE),\"\")","v":""}]
[null,null,{"$f":"IFERROR(VLOOKUP(A4868,Insumos!A:B,2,FALSE),\"\")","v":""}]
[null,null,{"$f":"IFERROR(VLOOKUP(A4869,Insumos!A:B,2,FALSE),\"\")","v":""}]
[null,null,{"$f":"IFERROR(VLOOKUP(A4870,Insumos!A:B,2,FALSE),\"\")","v":""}]
[null,null,{"$f":"IFERROR(VLOOKUP(A4871,Insumos!A:B,2,FALSE),\"\")","v":""}]
[null,null,{"$f":"IFERROR(VLOOKUP(A4872,Insumos!A:B,2,FALSE),\"\")","v":""}]
[null,null,{"$f":"IFERROR(VLOOKUP(A4873,Insumos!A:B,2,FALSE),\"\")","v":""}]
[null,null,{"$f":"IFERROR(VLOOKUP(A4874,Insumos!A:B,2,FALSE),\"\")","v":""}]
[null,null,{"$f":"IFERROR(VLOOKUP(A4875,Insumos!A:B,2,FALSE),\"\")","v":""}]
[null,null,{"$f":"IFERROR(VLOOKUP(A4876,Insumos!A:B,2,FALSE),\"\")","v":""}]
[null,null,{"$f":"IFERROR(VLOOKUP(A4877,Insumos!A:B,2,FALSE),\"\")","v":""}]
[null,null,{"$f":"IFERROR(VLOOKUP(A4878,Insumos!A:B,2,FALSE),\"\")","v":""}]
[null,null,{"$f":"IFERROR(VLOOKUP(A4879,Insumos!A:B,2,FALSE),\"\")","v":""}]
[null,null,{"$f":"IFERROR(VLOOKUP(A4880,Insumos!A:B,2,FALSE),\"\")","v":""}]
[null,null,{"$f":"IFERROR(VLOOKUP(A4881,Insumos!A:B,2,FALSE),\"\")","v":""}]
[null,null,{"$f":"IFERROR(VLOOKUP(A4882,Insumos!A:B,2,FALSE),\"\")","v":""}]
[null,null,{"$f":"IFERROR(VLOOKUP(A4883,Insumos!A:B,2,FALSE),\"\")","v":""}]
[null,null,{"$f":"IFERROR(VLOOKUP(A4884,Insumos!A:B,2,FALSE),\"\")","v":""}]
[null,null,{"$f":"IFERROR(VLOOKUP(A4885,Insumos!A:B,2,FALSE),\"\")","v":""}]
[null,null,{"$f":"IFERROR(VLOOKUP(A4886,Insumos!A:B,2,FALSE),\"\")","v":""}]
[null,null,{"$f":"IFERROR(VLOOKUP(A4887,Insumos!A:B,2,FALSE),\"\")","v":""}]
[null,null,{"$f":"IFERROR(VLOOKUP(A4888,Insumos!A:B,2,FALSE),\"\")","v":""}]
[null,null,{"$f":"IFERROR(VLOOKUP(A4889,Insumos!A:B,2,FALSE),\"\")","v":""}]
[null,null,{"$f":"IFERROR(VLOOKUP(A4890,Insumos!A:B,2,FALSE),\"\")","v":""}]
[null,null,{"$f":"IFERROR(VLOOKUP(A4891,Insumos!A:B,2,FALSE),\"\")","v":""}]
[null,null,{"$f":"IFERROR(VLOOKUP(A4892,Insumos!A:B,2,FALSE),\"\")","v":""}]
[null,null,{"$f":"IFERROR(VLOOKUP(A4893,Insumos!A:B,2,FALSE),\"\")","v":""}]
[null,null,{"$f":"IFERROR(VLOOKUP(A4894,Insumos!A:B,2,FALSE),\"\")","v":""}]
[null,null,{"$f":"IFERROR(VLOOKUP(A4895,Insumos!A:B,2,FALSE),\"\")","v":""}]
[null,null,{"$f":"IFERROR(VLOOKUP(A4896,Insumos!A:B,2,FALSE),\"\")","v":""}]
[null,null,{"$f":"IFERROR(VLOOKUP(A4897,Insumos!A:B,2,FALSE),\"\")","v":""}]
[null,null,{"$f":"IFERROR(VLOOKUP(A4898,Insumos!A:B,2,FALSE),\"\")","v":""}]
[null,null,{"$f":"IFERROR(VLOOKUP(A4899,Insumos!A:B,2,FALSE),\"\")","v":""}]
[null,null,{"$f":"IFERROR(VLOOKUP(A4900,Insumos!A:B,2,FALSE),\"\")","v":""}]
[null,null,{"$f":"IFERROR(VLOOKUP(A4901,Insumos!A:B,2,FALSE),\"\")","v":""}]
[null,null,{"$f":"IFERROR(VLOOKUP(A4902,Insumos!A:B,2,FALSE),\"\")","v":""}]
[null,null,{"$f":"IFERROR(VLOOKUP(A4903,Insumos!A:B,2,FALSE),\"\")","v":""}]
[null,null,{"$f":"IFERROR(VLOOKUP(A4904,Insumos!A:B,2,FALSE),\"\")","v":""}]
[null,null,{"$f":"IFERROR(VLOOKUP(A4905,Insumos!A:B,2,FALSE),\"\")","v":""}]
[null,null,{"$f":"IFERROR(VLOOKUP(A4906,Insumos!A:B,2,FALSE),\"\")","v":""}]
[null,null,{"$f":"IFERROR(VLOOKUP(A4907,Insumos!A:B,2,FALSE),\"\")","v":""}]
[null,null,{"$f":"IFERROR(VLOOKUP(A4908,Insumos!A:B,2,FALSE),\"\")","v":""}]
[null,null,{"$f":"IFERROR(VLOOKUP(A4909,Insumos!A:B,2,FALSE),\"\")","v":""}]
[null,null,{"$f":"IFERROR(VLOOKUP(A4910,Insumos!A:B,2,FALSE),\"\")","v":""}]
[null,null,{"$f":"IFERROR(VLOOKUP(A4911,Insumos!A:B,2,FALSE),\"\")","v":""}]
[null,null,{"$f":"IFERROR(VLOOKUP(A4912,Insumos!A:B,2,FALSE),\"\")","v":""}]
[null,null,{"$f":"IFERROR(VLOOKUP(A4913,Insumos!A:B,2,FALSE),\"\")","v":""}]
[null,null,{"$f":"IFERROR(VLOOKUP(A4914,Insumos!A:B,2,FALSE),\"\")","v":""}]
[null,null,{"$f":"IFERROR(VLOOKUP(A4915,Insumos!A:B,2,FALSE),\"\")","v":""}]
[null,null,{"$f":"IFERROR(VLOOKUP(A4916,Insumos!A:B,2,FALSE),\"\")","v":""}]
[null,null,{"$f":"IFERROR(VLOOKUP(A4917,Insumos!A:B,2,FALSE),\"\")","v":""}]
[null,null,{"$f":"IFERROR(VLOOKUP(A4918,Insumos!A:B,2,FALSE),\"\")","v":""}]
[null,null,{"$f":"IFERROR(VLOOKUP(A4919,Insumos!A:B,2,FALSE),\"\")","v":""}]
[null,null,{"$f":"IFERROR(VLOOKUP(A4920,Insumos!A:B,2,FALSE),\"\")","v":""}]
[null,null,{"$f":"IFERROR(VLOOKUP(A4921,Insumos!A:B,2,FALSE),\"\")","v":""}]
[null,null,{"$f":"IFERROR(VLOOKUP(A4922,Insumos!A:B,2,FALSE),\"\")","v":""}]
[null,null,{"$f":"IFERROR(VLOOKUP(A4923,Insumos!A:B,2,FALSE),\"\")","v":""}]
[null,null,{"$f":"IFERROR(VLOOKUP(A4924,Insumos!A:B,2,FALSE),\"\")","v":""}]
[null,null,{"$f":"IFERROR(VLOOKUP(A4925,Insumos!A:B,2,FALSE),\"\")","v":""}]
[null,null,{"$f":"IFERROR(VLOOKUP(A4926,Insumos!A:B,2,FALSE),\"\")","v":""}]
[null,null,{"$f":"IFERROR(VLOOKUP(A4927,Insumos!A:B,2,FALSE),\"\")","v":""}]
[null,null,{"$f":"IFERROR(VLOOKUP(A4928,Insumos!A:B,2,FALSE),\"\")","v":""}]
[null,null,{"$f":"IFERROR(VLOOKUP(A4929,Insumos!A:B,2,FALSE),\"\")","v":""}]
[null,null,{"$f":"IFERROR(VLOOKUP(A4930,Insumos!A:B,2,FALSE),\"\")","v":""}]
[null,null,{"$f":"IFERROR(VLOOKUP(A4931,Insumos!A:B,2,FALSE),\"\")","v":""}]
[null,null,{"$f":"IFERROR(VLOOKUP(A4932,Insumos!A:B,2,FALSE),\"\")","v":""}]
[null,null,{"$f":"IFERROR(VLOOKUP(A4933,Insumos!A:B,2,FALSE),\"\")","v":""}]
[null,null,{"$f":"IFERROR(VLOOKUP(A4934,Insumos!A:B,2,FALSE),\"\")","v":""}]
[null,null,{"$f":"IFERROR(VLOOKUP(A4935,Insumos!A:B,2,FALSE),\"\")","v":""}]
[null,null,{"$f":"IFERROR(VLOOKUP(A4936,Insumos!A:B,2,FALSE),\"\")","v":""}]
[null,null,{"$f":"IFERROR(VLOOKUP(A4937,Insumos!A:B,2,FALSE),\"\")","v":""}]
[null,null,{"$f":"IFERROR(VLOOKUP(A4938,Insumos!A:B,2,FALSE),\"\")","v":""}]
[null,null,{"$f":"IFERROR(VLOOKUP(A4939,Insumos!A:B,2,FALSE),\"\")","v":""}]
[null,null,{"$f":"IFERROR(VLOOKUP(A4940,Insumos!A:B,2,FALSE),\"\")","v":""}]
[null,null,{"$f":"IFERROR(VLOOKUP(A4941,Insumos!A:B,2,FALSE),\"\")","v":""}]
[null,null,{"$f":"IFERROR(VLOOKUP(A4942,Insumos!A:B,2,FALSE),\"\")","v":""}]
[null,null,{"$f":"IFERROR(VLOOKUP(A4943,Insumos!A:B,2,FALSE),\"\")","v":""}]
[null,null,{"$f":"IFERROR(VLOOKUP(A4944,Insumos!A:B,2,FALSE),\"\")","v":""}]
[null,null,{"$f":"IFERROR(VLOOKUP(A4945,Insumos!A:B,2,FALSE),\"\")","v":""}]
[null,null,{"$f":"IFERROR(VLOOKUP(A4946,Insumos!A:B,2,FALSE),\"\")","v":""}]
[null,null,{"$f":"IFERROR(VLOOKUP(A4947,Insumos!A:B,2,FALSE),\"\")","v":""}]
[null,null,{"$f":"IFERROR(VLOOKUP(A4948,Insumos!A:B,2,FALSE),\"\")","v":""}]
[null,null,{"$f":"IFERROR(VLOOKUP(A4949,Insumos!A:B,2,FALSE),\"\")","v":""}]
[null,null,{"$f":"IFERROR(VLOOKUP(A4950,Insumos!A:B,2,FALSE),\"\")","v":""}]
[null,null,{"$f":"IFERROR(VLOOKUP(A4951,Insumos!A:B,2,FALSE),\"\")","v":""}]
[null,null,{"$f":"IFERROR(VLOOKUP(A4952,Insumos!A:B,2,FALSE),\"\")","v":""}]
[null,null,{"$f":"IFERROR(VLOOKUP(A4953,Insumos!A:B,2,FALSE),\"\")","v":""}]
[null,null,{"$f":"IFERROR(VLOOKUP(A4954,Insumos!A:B,2,FALSE),\"\")","v":""}]
[null,null,{"$f":"IFERROR(VLOOKUP(A4955,Insumos!A:B,2,FALSE),\"\")","v":""}]
[null,null,{"$f":"IFERROR(VLOOKUP(A4956,Insumos!A:B,2,FALSE),\"\")","v":""}]
[null,null,{"$f":"IFERROR(VLOOKUP(A4957,Insumos!A:B,2,FALSE),\"\")","v":""}]
[null,null,{"$f":"IFERROR(VLOOKUP(A4958,Insumos!A:B,2,FALSE),\"\")","v":""}]
[null,null,{"$f":"IFERROR(VLOOKUP(A4959,Insumos!A:B,2,FALSE),\"\")","v":""}]
[null,null,{"$f":"IFERROR(VLOOKUP(A4960,Insumos!A:B,2,FALSE),\"\")","v":""}]
[null,null,{"$f":"IFERROR(VLOOKUP(A4961,Insumos!A:B,2,FALSE),\"\")","v":""}]
[null,null,{"$f":"IFERROR(VLOOKUP(A4962,Insumos!A:B,2,FALSE),\"\")","v":""}]
[null,null,{"$f":"IFERROR(VLOOKUP(A4963,Insumos!A:B,2,FALSE),\"\")","v":""}]
[null,null,{"$f":"IFERROR(VLOOKUP(A4964,Insumos!A:B,2,FALSE),\"\")","v":""}]
[null,null,{"$f":"IFERROR(VLOOKUP(A4965,Insumos!A:B,2,FALSE),\"\")","v":""}]
[null,null,{"$f":"IFERROR(VLOOKUP(A4966,Insumos!A:B,2,FALSE),\"\")","v":""}]
[null,null,{"$f":"IFERROR(VLOOKUP(A4967,Insumos!A:B,2,FALSE),\"\")","v":""}]
[null,null,{"$f":"IFERROR(VLOOKUP(A4968,Insumos!A:B,2,FALSE),\"\")","v":""}]
[null,null,{"$f":"IFERROR(VLOOKUP(A4969,Insumos!A:B,2,FALSE),\"\")","v":""}]
[null,null,{"$f":"IFERROR(VLOOKUP(A4970,Insumos!A:B,2,FALSE),\"\")","v":""}]
[null,null,{"$f":"IFERROR(VLOOKUP(A4971,Insumos!A:B,2,FALSE),\"\")","v":""}]
[null,null,{"$f":"IFERROR(VLOOKUP(A4972,Insumos!A:B,2,FALSE),\"\")","v":""}]
[null,null,{"$f":"IFERROR(VLOOKUP(A4973,Insumos!A:B,2,FALSE),\"\")","v":""}]
[null,null,{"$f":"IFERROR(VLOOKUP(A4974,Insumos!A:B,2,FALSE),\"\")","v":""}]
[null,null,{"$f":"IFERROR(VLOOKUP(A4975,Insumos!A:B,2,FALSE),\"\")","v":""}]
[null,null,{"$f":"IFERROR(VLOOKUP(A4976,Insumos!A:B,2,FALSE),\"\")","v":""}]
[null,null,{"$f":"IFERROR(VLOOKUP(A4977,Insumos!A:B,2,FALSE),\"\")","v":""}]
[null,null,{"$f":"IFERROR(VLOOKUP(A4978,Insumos!A:B,2,FALSE),\"\")","v":""}]
[null,null,{"$f":"IFERROR(VLOOKUP(A4979,Insumos!A:B,2,FALSE),\"\")","v":""}]
[null,null,{"$f":"IFERROR(VLOOKUP(A4980,Insumos!A:B,2,FALSE),\"\")","v":""}]
[null,null,{"$f":"IFERROR(VLOOKUP(A4981,Insumos!A:B,2,FALSE),\"\")","v":""}]
[null,null,{"$f":"IFERROR(VLOOKUP(A4982,Insumos!A:B,2,FALSE),\"\")","v":""}]
[null,null,{"$f":"IFERROR(VLOOKUP(A4983,Insumos!A:B,2,FALSE),\"\")","v":""}]
[null,null,{"$f":"IFERROR(VLOOKUP(A4984,Insumos!A:B,2,FALSE),\"\")","v":""}]
[null,null,{"$f":"IFERROR(VLOOKUP(A4985,Insumos!A:B,2,FALSE),\"\")","v":""}]
[null,null,{"$f":"IFERROR(VLOOKUP(A4986,Insumos!A:B,2,FALSE),\"\")","v":""}]
[null,null,{"$f":"IFERROR(VLOOKUP(A4987,Insumos!A:B,2,FALSE),\"\")","v":""}]
[null,null,{"$f":"IFERROR(VLOOKUP(A4988,Insumos!A:B,2,FALSE),\"\")","v":""}]
[null,null,{"$f":"IFERROR(VLOOKUP(A4989,Insumos!A:B,2,FALSE),\"\")","v":""}]
[null,null,{"$f":"IFERROR(VLOOKUP(A4990,Insumos!A:B,2,FALSE),\"\")","v":""}]
[null,null,{"$f":"IFERROR(VLOOKUP(A4991,Insumos!A:B,2,FALSE),\"\")","v":""}]
[null,null,{"$f":"IFERROR(VLOOKUP(A4992,Insumos!A:B,2,FALSE),\"\")","v":""}]
[null,null,{"$f":"IFERROR(VLOOKUP(A4993,Insumos!A:B,2,FALSE),\"\")","v":""}]
[null,null,{"$f":"IFERROR(VLOOKUP(A4994,Insumos!A:B,2,FALSE),\"\")","v":""}]
[null,null,{"$f":"IFERROR(VLOOKUP(A4995,Insumos!A:B,2,FALSE),\"\")","v":""}]
[null,null,{"$f":"IFERROR(VLOOKUP(A4996,Insumos!A:B,2,FALSE),\"\")","v":""}]
[null,null,{"$f":"IFERROR(VLOOKUP(A4997,Insumos!A:B,2,FALSE),\"\")","v":""}]
[null,null,{"$f":"IFERROR(VLOOKUP(A4998,Insumos!A:B,2,FALSE),\"\")","v":""}]
[null,null,{"$f":"IFERROR(VLOOKUP(A4999,Insumos!A:B,2,FALSE),\"\")","v":""}]
[null,null,{"$f":"IFERROR(VLOOKUP(A5000,Insumos!A:B,2,FALSE),\"\")","v":""}]
[null,null,{"$f":"IFERROR(VLOOKUP(A5001,Insumos!A:B,2,FALSE),\"\")","v":""}]
[null,null,{"$f":"IFERROR(VLOOKUP(A5002,Insumos!A:B,2,FALSE),\"\")","v":""}]
[null,null,{"$f":"IFERROR(VLOOKUP(A5003,Insumos!A:B,2,FALSE),\"\")","v":""}]
[null,null,{"$f":"IFERROR(VLOOKUP(A5004,Insumos!A:B,2,FALSE),\"\")","v":""}]
[null,null,{"$f":"IFERROR(VLOOKUP(A5005,Insumos!A:B,2,FALSE),\"\")","v":""}]
[null,null,{"$f":"IFERROR(VLOOKUP(A5006,Insumos!A:B,2,FALSE),\"\")","v":""}]
[null,null,{"$f":"IFERROR(VLOOKUP(A5007,Insumos!A:B,2,FALSE),\"\")","v":""}]
[null,null,{"$f":"IFERROR(VLOOKUP(A5008,Insumos!A:B,2,FALSE),\"\")","v":""}]
[null,null,{"$f":"IFERROR(VLOOKUP(A5009,Insumos!A:B,2,FALSE),\"\")","v":""}]
[null,null,{"$f":"IFERROR(VLOOKUP(A5010,Insumos!A:B,2,FALSE),\"\")","v":""}]
[null,null,{"$f":"IFERROR(VLOOKUP(A5011,Insumos!A:B,2,FALSE),\"\")","v":""}]
[null,null,{"$f":"IFERROR(VLOOKUP(A5012,Insumos!A:B,2,FALSE),\"\")","v":""}]
[null,null,{"$f":"IFERROR(VLOOKUP(A5013,Insumos!A:B,2,FALSE),\"\")","v":""}]
[null,null,{"$f":"IFERROR(VLOOKUP(A5014,Insumos!A:B,2,FALSE),\"\")","v":""}]
[null,null,{"$f":"IFERROR(VLOOKUP(A5015,Insumos!A:B,2,FALSE),\"\")","v":""}]
[null,null,{"$f":"IFERROR(VLOOKUP(A5016,Insumos!A:B,2,FALSE),\"\")","v":""}]
[null,null,{"$f":"IFERROR(VLOOKUP(A5017,Insumos!A:B,2,FALSE),\"\")","v":""}]
[null,null,{"$f":"IFERROR(VLOOKUP(A5018,Insumos!A:B,2,FALSE),\"\")","v":""}]
[null,null,{"$f":"IFERROR(VLOOKUP(A5019,Insumos!A:B,2,FALSE),\"\")","v":""}]
[null,null,{"$f":"IFERROR(VLOOKUP(A5020,Insumos!A:B,2,FALSE),\"\")","v":""}]
[null,null,{"$f":"IFERROR(VLOOKUP(A5021,Insumos!A:B,2,FALSE),\"\")","v":""}]
[null,null,{"$f":"IFERROR(VLOOKUP(A5022,Insumos!A:B,2,FALSE),\"\")","v":""}]
[null,null,{"$f":"IFERROR(VLOOKUP(A5023,Insumos!A:B,2,FALSE),\"\")","v":""}]
[null,null,{"$f":"IFERROR(VLOOKUP(A5024,Insumos!A:B,2,FALSE),\"\")","v":""}]
[null,null,{"$f":"IFERROR(VLOOKUP(A5025,Insumos!A:B,2,FALSE),\"\")","v":""}]
[null,null,{"$f":"IFERROR(VLOOKUP(A5026,Insumos!A:B,2,FALSE),\"\")","v":""}]
[null,null,{"$f":"IFERROR(VLOOKUP(A5027,Insumos!A:B,2,FALSE),\"\")","v":""}]
[null,null,{"$f":"IFERROR(VLOOKUP(A5028,Insumos!A:B,2,FALSE),\"\")","v":""}]
[null,null,{"$f":"IFERROR(VLOOKUP(A5029,Insumos!A:B,2,FALSE),\"\")","v":""}]
[null,null,{"$f":"IFERROR(VLOOKUP(A5030,Insumos!A:B,2,FALSE),\"\")","v":""}]
[null,null,{"$f":"IFERROR(VLOOKUP(A5031,Insumos!A:B,2,FALSE),\"\")","v":""}]
[null,null,{"$f":"IFERROR(VLOOKUP(A5032,Insumos!A:B,2,FALSE),\"\")","v":""}]
[null,null,{"$f":"IFERROR(VLOOKUP(A5033,Insumos!A:B,2,FALSE),\"\")","v":""}]
[null,null,{"$f":"IFERROR(VLOOKUP(A5034,Insumos!A:B,2,FALSE),\"\")","v":""}]
[null,null,{"$f":"IFERROR(VLOOKUP(A5035,Insumos!A:B,2,FALSE),\"\")","v":""}]
[null,null,{"$f":"IFERROR(VLOOKUP(A5036,Insumos!A:B,2,FALSE),\"\")","v":""}]
[null,null,{"$f":"IFERROR(VLOOKUP(A5037,Insumos!A:B,2,FALSE),\"\")","v":""}]
[null,null,{"$f":"IFERROR(VLOOKUP(A5038,Insumos!A:B,2,FALSE),\"\")","v":""}]
[null,null,{"$f":"IFERROR(VLOOKUP(A5039,Insumos!A:B,2,FALSE),\"\")","v":""}]
[null,null,{"$f":"IFERROR(VLOOKUP(A5040,Insumos!A:B,2,FALSE),\"\")","v":""}]
[null,null,{"$f":"IFERROR(VLOOKUP(A5041,Insumos!A:B,2,FALSE),\"\")","v":""}]
[null,null,{"$f":"IFERROR(VLOOKUP(A5042,Insumos!A:B,2,FALSE),\"\")","v":""}]
[null,null,{"$f":"IFERROR(VLOOKUP(A5043,Insumos!A:B,2,FALSE),\"\")","v":""}]
[null,null,{"$f":"IFERROR(VLOOKUP(A5044,Insumos!A:B,2,FALSE),\"\")","v":""}]
[null,null,{"$f":"IFERROR(VLOOKUP(A5045,Insumos!A:B,2,FALSE),\"\")","v":""}]
[null,null,{"$f":"IFERROR(VLOOKUP(A5046,Insumos!A:B,2,FALSE),\"\")","v":""}]
[null,null,{"$f":"IFERROR(VLOOKUP(A5047,Insumos!A:B,2,FALSE),\"\")","v":""}]
[null,null,{"$f":"IFERROR(VLOOKUP(A5048,Insumos!A:B,2,FALSE),\"\")","v":""}]
[null,null,{"$f":"IFERROR(VLOOKUP(A5049,Insumos!A:B,2,FALSE),\"\")","v":""}]
[null,null,{"$f":"IFERROR(VLOOKUP(A5050,Insumos!A:B,2,FALSE),\"\")","v":""}]
[null,null,{"$f":"IFERROR(VLOOKUP(A5051,Insumos!A:B,2,FALSE),\"\")","v":""}]
[null,null,{"$f":"IFERROR(VLOOKUP(A5052,Insumos!A:B,2,FALSE),\"\")","v":""}]
[null,null,{"$f":"IFERROR(VLOOKUP(A5053,Insumos!A:B,2,FALSE),\"\")","v":""}]
[null,null,{"$f":"IFERROR(VLOOKUP(A5054,Insumos!A:B,2,FALSE),\"\")","v":""}]
[null,null,{"$f":"IFERROR(VLOOKUP(A5055,Insumos!A:B,2,FALSE),\"\")","v":""}]
[null,null,{"$f":"IFERROR(VLOOKUP(A5056,Insumos!A:B,2,FALSE),\"\")","v":""}]
[null,null,{"$f":"IFERROR(VLOOKUP(A5057,Insumos!A:B,2,FALSE),\"\")","v":""}]
[null,null,{"$f":"IFERROR(VLOOKUP(A5058,Insumos!A:B,2,FALSE),\"\")","v":""}]
[null,null,{"$f":"IFERROR(VLOOKUP(A5059,Insumos!A:B,2,FALSE),\"\")","v":""}]
[null,null,{"$f":"IFERROR(VLOOKUP(A5060,Insumos!A:B,2,FALSE),\"\")","v":""}]
[null,null,{"$f":"IFERROR(VLOOKUP(A5061,Insumos!A:B,2,FALSE),\"\")","v":""}]
[null,null,{"$f":"IFERROR(VLOOKUP(A5062,Insumos!A:B,2,FALSE),\"\")","v":""}]
[null,null,{"$f":"IFERROR(VLOOKUP(A5063,Insumos!A:B,2,FALSE),\"\")","v":""}]
[null,null,{"$f":"IFERROR(VLOOKUP(A5064,Insumos!A:B,2,FALSE),\"\")","v":""}]
[null,null,{"$f":"IFERROR(VLOOKUP(A5065,Insumos!A:B,2,FALSE),\"\")","v":""}]
[null,null,{"$f":"IFERROR(VLOOKUP(A5066,Insumos!A:B,2,FALSE),\"\")","v":""}]
[null,null,{"$f":"IFERROR(VLOOKUP(A5067,Insumos!A:B,2,FALSE),\"\")","v":""}]
[null,null,{"$f":"IFERROR(VLOOKUP(A5068,Insumos!A:B,2,FALSE),\"\")","v":""}]
[null,null,{"$f":"IFERROR(VLOOKUP(A5069,Insumos!A:B,2,FALSE),\"\")","v":""}]
[null,null,{"$f":"IFERROR(VLOOKUP(A5070,Insumos!A:B,2,FALSE),\"\")","v":""}]
[null,null,{"$f":"IFERROR(VLOOKUP(A5071,Insumos!A:B,2,FALSE),\"\")","v":""}]
[null,null,{"$f":"IFERROR(VLOOKUP(A5072,Insumos!A:B,2,FALSE),\"\")","v":""}]
[null,null,{"$f":"IFERROR(VLOOKUP(A5073,Insumos!A:B,2,FALSE),\"\")","v":""}]
[null,null,{"$f":"IFERROR(VLOOKUP(A5074,Insumos!A:B,2,FALSE),\"\")","v":""}]
[null,null,{"$f":"IFERROR(VLOOKUP(A5075,Insumos!A:B,2,FALSE),\"\")","v":""}]
[null,null,{"$f":"IFERROR(VLOOKUP(A5076,Insumos!A:B,2,FALSE),\"\")","v":""}]
[null,null,{"$f":"IFERROR(VLOOKUP(A5077,Insumos!A:B,2,FALSE),\"\")","v":""}]
[null,null,{"$f":"IFERROR(VLOOKUP(A5078,Insumos!A:B,2,FALSE),\"\")","v":""}]
[null,null,{"$f":"IFERROR(VLOOKUP(A5079,Insumos!A:B,2,FALSE),\"\")","v":""}]
[null,null,{"$f":"IFERROR(VLOOKUP(A5080,Insumos!A:B,2,FALSE),\"\")","v":""}]
[null,null,{"$f":"IFERROR(VLOOKUP(A5081,Insumos!A:B,2,FALSE),\"\")","v":""}]
[null,null,{"$f":"IFERROR(VLOOKUP(A5082,Insumos!A:B,2,FALSE),\"\")","v":""}]
[null,null,{"$f":"IFERROR(VLOOKUP(A5083,Insumos!A:B,2,FALSE),\"\")","v":""}]
[null,null,{"$f":"IFERROR(VLOOKUP(A5084,Insumos!A:B,2,FALSE),\"\")","v":""}]
[null,null,{"$f":"IFERROR(VLOOKUP(A5085,Insumos!A:B,2,FALSE),\"\")","v":""}]
[null,null,{"$f":"IFERROR(VLOOKUP(A5086,Insumos!A:B,2,FALSE),\"\")","v":""}]
[null,null,{"$f":"IFERROR(VLOOKUP(A5087,Insumos!A:B,2,FALSE),\"\")","v":""}]
[null,null,{"$f":"IFERROR(VLOOKUP(A5088,Insumos!A:B,2,FALSE),\"\")","v":""}]
[null,null,{"$f":"IFERROR(VLOOKUP(A5089,Insumos!A:B,2,FALSE),\"\")","v":""}]
[null,null,{"$f":"IFERROR(VLOOKUP(A5090,Insumos!A:B,2,FALSE),\"\")","v":""}]
[null,null,{"$f":"IFERROR(VLOOKUP(A5091,Insumos!A:B,2,FALSE),\"\")","v":""}]
[null,null,{"$f":"IFERROR(VLOOKUP(A5092,Insumos!A:B,2,FALSE),\"\")","v":""}]
[null,null,{"$f":"IFERROR(VLOOKUP(A5093,Insumos!A:B,2,FALSE),\"\")","v":""}]
[null,null,{"$f":"IFERROR(VLOOKUP(A5094,Insumos!A:B,2,FALSE),\"\")","v":""}]
[null,null,{"$f":"IFERROR(VLOOKUP(A5095,Insumos!A:B,2,FALSE),\"\")","v":""}]
[null,null,{"$f":"IFERROR(VLOOKUP(A5096,Insumos!A:B,2,FALSE),\"\")","v":""}]
[null,null,{"$f":"IFERROR(VLOOKUP(A5097,Insumos!A:B,2,FALSE),\"\")","v":""}]
[null,null,{"$f":"IFERROR(VLOOKUP(A5098,Insumos!A:B,2,FALSE),\"\")","v":""}]
[null,null,{"$f":"IFERROR(VLOOKUP(A5099,Insumos!A:B,2,FALSE),\"\")","v":""}]
[null,null,{"$f":"IFERROR(VLOOKUP(A5100,Insumos!A:B,2,FALSE),\"\")","v":""}]
[null,null,{"$f":"IFERROR(VLOOKUP(A5101,Insumos!A:B,2,FALSE),\"\")","v":""}]
[null,null,{"$f":"IFERROR(VLOOKUP(A5102,Insumos!A:B,2,FALSE),\"\")","v":""}]
[null,null,{"$f":"IFERROR(VLOOKUP(A5103,Insumos!A:B,2,FALSE),\"\")","v":""}]
[null,null,{"$f":"IFERROR(VLOOKUP(A5104,Insumos!A:B,2,FALSE),\"\")","v":""}]
[null,null,{"$f":"IFERROR(VLOOKUP(A5105,Insumos!A:B,2,FALSE),\"\")","v":""}]
[null,null,{"$f":"IFERROR(VLOOKUP(A5106,Insumos!A:B,2,FALSE),\"\")","v":""}]
[null,null,{"$f":"IFERROR(VLOOKUP(A5107,Insumos!A:B,2,FALSE),\"\")","v":""}]
[null,null,{"$f":"IFERROR(VLOOKUP(A5108,Insumos!A:B,2,FALSE),\"\")","v":""}]
[null,null,{"$f":"IFERROR(VLOOKUP(A5109,Insumos!A:B,2,FALSE),\"\")","v":""}]
[null,null,{"$f":"IFERROR(VLOOKUP(A5110,Insumos!A:B,2,FALSE),\"\")","v":""}]
[null,null,{"$f":"IFERROR(VLOOKUP(A5111,Insumos!A:B,2,FALSE),\"\")","v":""}]
[null,null,{"$f":"IFERROR(VLOOKUP(A5112,Insumos!A:B,2,FALSE),\"\")","v":""}]
[null,null,{"$f":"IFERROR(VLOOKUP(A5113,Insumos!A:B,2,FALSE),\"\")","v":""}]
[null,null,{"$f":"IFERROR(VLOOKUP(A5114,Insumos!A:B,2,FALSE),\"\")","v":""}]
[null,null,{"$f":"IFERROR(VLOOKUP(A5115,Insumos!A:B,2,FALSE),\"\")","v":""}]
[null,null,{"$f":"IFERROR(VLOOKUP(A5116,Insumos!A:B,2,FALSE),\"\")","v":""}]
[null,null,{"$f":"IFERROR(VLOOKUP(A5117,Insumos!A:B,2,FALSE),\"\")","v":""}]
[null,null,{"$f":"IFERROR(VLOOKUP(A5118,Insumos!A:B,2,FALSE),\"\")","v":""}]
[null,null,{"$f":"IFERROR(VLOOKUP(A5119,Insumos!A:B,2,FALSE),\"\")","v":""}]
[null,null,{"$f":"IFERROR(VLOOKUP(A5120,Insumos!A:B,2,FALSE),\"\")","v":""}]
[null,null,{"$f":"IFERROR(VLOOKUP(A5121,Insumos!A:B,2,FALSE),\"\")","v":""}]
[null,null,{"$f":"IFERROR(VLOOKUP(A5122,Insumos!A:B,2,FALSE),\"\")","v":""}]
[null,null,{"$f":"IFERROR(VLOOKUP(A5123,Insumos!A:B,2,FALSE),\"\")","v":""}]
[null,null,{"$f":"IFERROR(VLOOKUP(A5124,Insumos!A:B,2,FALSE),\"\")","v":""}]
[null,null,{"$f":"IFERROR(VLOOKUP(A5125,Insumos!A:B,2,FALSE),\"\")","v":""}]
[null,null,{"$f":"IFERROR(VLOOKUP(A5126,Insumos!A:B,2,FALSE),\"\")","v":""}]
[null,null,{"$f":"IFERROR(VLOOKUP(A5127,Insumos!A:B,2,FALSE),\"\")","v":""}]
[null,null,{"$f":"IFERROR(VLOOKUP(A5128,Insumos!A:B,2,FALSE),\"\")","v":""}]
[null,null,{"$f":"IFERROR(VLOOKUP(A5129,Insumos!A:B,2,FALSE),\"\")","v":""}]
[null,null,{"$f":"IFERROR(VLOOKUP(A5130,Insumos!A:B,2,FALSE),\"\")","v":""}]
[null,null,{"$f":"IFERROR(VLOOKUP(A5131,Insumos!A:B,2,FALSE),\"\")","v":""}]
[null,null,{"$f":"IFERROR(VLOOKUP(A5132,Insumos!A:B,2,FALSE),\"\")","v":""}]
[null,null,{"$f":"IFERROR(VLOOKUP(A5133,Insumos!A:B,2,FALSE),\"\")","v":""}]
[null,null,{"$f":"IFERROR(VLOOKUP(A5134,Insumos!A:B,2,FALSE),\"\")","v":""}]
[null,null,{"$f":"IFERROR(VLOOKUP(A5135,Insumos!A:B,2,FALSE),\"\")","v":""}]
[null,null,{"$f":"IFERROR(VLOOKUP(A5136,Insumos!A:B,2,FALSE),\"\")","v":""}]
[null,null,{"$f":"IFERROR(VLOOKUP(A5137,Insumos!A:B,2,FALSE),\"\")","v":""}]
[null,null,{"$f":"IFERROR(VLOOKUP(A5138,Insumos!A:B,2,FALSE),\"\")","v":""}]
[null,null,{"$f":"IFERROR(VLOOKUP(A5139,Insumos!A:B,2,FALSE),\"\")","v":""}]
[null,null,{"$f":"IFERROR(VLOOKUP(A5140,Insumos!A:B,2,FALSE),\"\")","v":""}]
[null,null,{"$f":"IFERROR(VLOOKUP(A5141,Insumos!A:B,2,FALSE),\"\")","v":""}]
[null,null,{"$f":"IFERROR(VLOOKUP(A5142,Insumos!A:B,2,FALSE),\"\")","v":""}]
[null,null,{"$f":"IFERROR(VLOOKUP(A5143,Insumos!A:B,2,FALSE),\"\")","v":""}]
[null,null,{"$f":"IFERROR(VLOOKUP(A5144,Insumos!A:B,2,FALSE),\"\")","v":""}]
[null,null,{"$f":"IFERROR(VLOOKUP(A5145,Insumos!A:B,2,FALSE),\"\")","v":""}]
[null,null,{"$f":"IFERROR(VLOOKUP(A5146,Insumos!A:B,2,FALSE),\"\")","v":""}]
[null,null,{"$f":"IFERROR(VLOOKUP(A5147,Insumos!A:B,2,FALSE),\"\")","v":""}]
[null,null,{"$f":"IFERROR(VLOOKUP(A5148,Insumos!A:B,2,FALSE),\"\")","v":""}]
[null,null,{"$f":"IFERROR(VLOOKUP(A5149,Insumos!A:B,2,FALSE),\"\")","v":""}]
[null,null,{"$f":"IFERROR(VLOOKUP(A5150,Insumos!A:B,2,FALSE),\"\")","v":""}]
[null,null,{"$f":"IFERROR(VLOOKUP(A5151,Insumos!A:B,2,FALSE),\"\")","v":""}]
[null,null,{"$f":"IFERROR(VLOOKUP(A5152,Insumos!A:B,2,FALSE),\"\")","v":""}]
[null,null,{"$f":"IFERROR(VLOOKUP(A5153,Insumos!A:B,2,FALSE),\"\")","v":""}]
[null,null,{"$f":"IFERROR(VLOOKUP(A5154,Insumos!A:B,2,FALSE),\"\")","v":""}]
[null,null,{"$f":"IFERROR(VLOOKUP(A5155,Insumos!A:B,2,FALSE),\"\")","v":""}]
[null,null,{"$f":"IFERROR(VLOOKUP(A5156,Insumos!A:B,2,FALSE),\"\")","v":""}]
[null,null,{"$f":"IFERROR(VLOOKUP(A5157,Insumos!A:B,2,FALSE),\"\")","v":""}]
[null,null,{"$f":"IFERROR(VLOOKUP(A5158,Insumos!A:B,2,FALSE),\"\")","v":""}]
[null,null,{"$f":"IFERROR(VLOOKUP(A5159,Insumos!A:B,2,FALSE),\"\")","v":""}]
[null,null,{"$f":"IFERROR(VLOOKUP(A5160,Insumos!A:B,2,FALSE),\"\")","v":""}]
[null,null,{"$f":"IFERROR(VLOOKUP(A5161,Insumos!A:B,2,FALSE),\"\")","v":""}]
[null,null,{"$f":"IFERROR(VLOOKUP(A5162,Insumos!A:B,2,FALSE),\"\")","v":""}]
[null,null,{"$f":"IFERROR(VLOOKUP(A5163,Insumos!A:B,2,FALSE),\"\")","v":""}]
[null,null,{"$f":"IFERROR(VLOOKUP(A5164,Insumos!A:B,2,FALSE),\"\")","v":""}]
[null,null,{"$f":"IFERROR(VLOOKUP(A5165,Insumos!A:B,2,FALSE),\"\")","v":""}]
[null,null,{"$f":"IFERROR(VLOOKUP(A5166,Insumos!A:B,2,FALSE),\"\")","v":""}]
[null,null,{"$f":"IFERROR(VLOOKUP(A5167,Insumos!A:B,2,FALSE),\"\")","v":""}]
[null,null,{"$f":"IFERROR(VLOOKUP(A5168,Insumos!A:B,2,FALSE),\"\")","v":""}]
[null,null,{"$f":"IFERROR(VLOOKUP(A5169,Insumos!A:B,2,FALSE),\"\")","v":""}]
[null,null,{"$f":"IFERROR(VLOOKUP(A5170,Insumos!A:B,2,FALSE),\"\")","v":""}]
[null,null,{"$f":"IFERROR(VLOOKUP(A5171,Insumos!A:B,2,FALSE),\"\")","v":""}]
[null,null,{"$f":"IFERROR(VLOOKUP(A5172,Insumos!A:B,2,FALSE),\"\")","v":""}]
[null,null,{"$f":"IFERROR(VLOOKUP(A5173,Insumos!A:B,2,FALSE),\"\")","v":""}]
[null,null,{"$f":"IFERROR(VLOOKUP(A5174,Insumos!A:B,2,FALSE),\"\")","v":""}]
[null,null,{"$f":"IFERROR(VLOOKUP(A5175,Insumos!A:B,2,FALSE),\"\")","v":""}]
[null,null,{"$f":"IFERROR(VLOOKUP(A5176,Insumos!A:B,2,FALSE),\"\")","v":""}]
[null,null,{"$f":"IFERROR(VLOOKUP(A5177,Insumos!A:B,2,FALSE),\"\")","v":""}]
[null,null,{"$f":"IFERROR(VLOOKUP(A5178,Insumos!A:B,2,FALSE),\"\")","v":""}]
[null,null,{"$f":"IFERROR(VLOOKUP(A5179,Insumos!A:B,2,FALSE),\"\")","v":""}]
[null,null,{"$f":"IFERROR(VLOOKUP(A5180,Insumos!A:B,2,FALSE),\"\")","v":""}]
[null,null,{"$f":"IFERROR(VLOOKUP(A5181,Insumos!A:B,2,FALSE),\"\")","v":""}]
[null,null,{"$f":"IFERROR(VLOOKUP(A5182,Insumos!A:B,2,FALSE),\"\")","v":""}]
[null,null,{"$f":"IFERROR(VLOOKUP(A5183,Insumos!A:B,2,FALSE),\"\")","v":""}]
[null,null,{"$f":"IFERROR(VLOOKUP(A5184,Insumos!A:B,2,FALSE),\"\")","v":""}]
[null,null,{"$f":"IFERROR(VLOOKUP(A5185,Insumos!A:B,2,FALSE),\"\")","v":""}]
[null,null,{"$f":"IFERROR(VLOOKUP(A5186,Insumos!A:B,2,FALSE),\"\")","v":""}]
[null,null,{"$f":"IFERROR(VLOOKUP(A5187,Insumos!A:B,2,FALSE),\"\")","v":""}]
[null,null,{"$f":"IFERROR(VLOOKUP(A5188,Insumos!A:B,2,FALSE),\"\")","v":""}]
[null,null,{"$f":"IFERROR(VLOOKUP(A5189,Insumos!A:B,2,FALSE),\"\")","v":""}]
[null,null,{"$f":"IFERROR(VLOOKUP(A5190,Insumos!A:B,2,FALSE),\"\")","v":""}]
[null,null,{"$f":"IFERROR(VLOOKUP(A5191,Insumos!A:B,2,FALSE),\"\")","v":""}]
[null,null,{"$f":"IFERROR(VLOOKUP(A5192,Insumos!A:B,2,FALSE),\"\")","v":""}]
[null,null,{"$f":"IFERROR(VLOOKUP(A5193,Insumos!A:B,2,FALSE),\"\")","v":""}]
[null,null,{"$f":"IFERROR(VLOOKUP(A5194,Insumos!A:B,2,FALSE),\"\")","v":""}]
[null,null,{"$f":"IFERROR(VLOOKUP(A5195,Insumos!A:B,2,FALSE),\"\")","v":""}]
[null,null,{"$f":"IFERROR(VLOOKUP(A5196,Insumos!A:B,2,FALSE),\"\")","v":""}]
[null,null,{"$f":"IFERROR(VLOOKUP(A5197,Insumos!A:B,2,FALSE),\"\")","v":""}]
[null,null,{"$f":"IFERROR(VLOOKUP(A5198,Insumos!A:B,2,FALSE),\"\")","v":""}]
[null,null,{"$f":"IFERROR(VLOOKUP(A5199,Insumos!A:B,2,FALSE),\"\")","v":""}]
[null,null,{"$f":"IFERROR(VLOOKUP(A5200,Insumos!A:B,2,FALSE),\"\")","v":""}]
[null,null,{"$f":"IFERROR(VLOOKUP(A5201,Insumos!A:B,2,FALSE),\"\")","v":""}]
[null,null,{"$f":"IFERROR(VLOOKUP(A5202,Insumos!A:B,2,FALSE),\"\")","v":""}]
[null,null,{"$f":"IFERROR(VLOOKUP(A5203,Insumos!A:B,2,FALSE),\"\")","v":""}]
[null,null,{"$f":"IFERROR(VLOOKUP(A5204,Insumos!A:B,2,FALSE),\"\")","v":""}]
[null,null,{"$f":"IFERROR(VLOOKUP(A5205,Insumos!A:B,2,FALSE),\"\")","v":""}]
[null,null,{"$f":"IFERROR(VLOOKUP(A5206,Insumos!A:B,2,FALSE),\"\")","v":""}]
[null,null,{"$f":"IFERROR(VLOOKUP(A5207,Insumos!A:B,2,FALSE),\"\")","v":""}]
[null,null,{"$f":"IFERROR(VLOOKUP(A5208,Insumos!A:B,2,FALSE),\"\")","v":""}]
[null,null,{"$f":"IFERROR(VLOOKUP(A5209,Insumos!A:B,2,FALSE),\"\")","v":""}]
[null,null,{"$f":"IFERROR(VLOOKUP(A5210,Insumos!A:B,2,FALSE),\"\")","v":""}]
[null,null,{"$f":"IFERROR(VLOOKUP(A5211,Insumos!A:B,2,FALSE),\"\")","v":""}]
[null,null,{"$f":"IFERROR(VLOOKUP(A5212,Insumos!A:B,2,FALSE),\"\")","v":""}]
[null,null,{"$f":"IFERROR(VLOOKUP(A5213,Insumos!A:B,2,FALSE),\"\")","v":""}]
[null,null,{"$f":"IFERROR(VLOOKUP(A5214,Insumos!A:B,2,FALSE),\"\")","v":""}]
[null,null,{"$f":"IFERROR(VLOOKUP(A5215,Insumos!A:B,2,FALSE),\"\")","v":""}]
[null,null,{"$f":"IFERROR(VLOOKUP(A5216,Insumos!A:B,2,FALSE),\"\")","v":""}]
[null,null,{"$f":"IFERROR(VLOOKUP(A5217,Insumos!A:B,2,FALSE),\"\")","v":""}]
[null,null,{"$f":"IFERROR(VLOOKUP(A5218,Insumos!A:B,2,FALSE),\"\")","v":""}]
[null,null,{"$f":"IFERROR(VLOOKUP(A5219,Insumos!A:B,2,FALSE),\"\")","v":""}]
[null,null,{"$f":"IFERROR(VLOOKUP(A5220,Insumos!A:B,2,FALSE),\"\")","v":""}]
[null,null,{"$f":"IFERROR(VLOOKUP(A5221,Insumos!A:B,2,FALSE),\"\")","v":""}]
[null,null,{"$f":"IFERROR(VLOOKUP(A5222,Insumos!A:B,2,FALSE),\"\")","v":""}]
[null,null,{"$f":"IFERROR(VLOOKUP(A5223,Insumos!A:B,2,FALSE),\"\")","v":""}]
[null,null,{"$f":"IFERROR(VLOOKUP(A5224,Insumos!A:B,2,FALSE),\"\")","v":""}]
[null,null,{"$f":"IFERROR(VLOOKUP(A5225,Insumos!A:B,2,FALSE),\"\")","v":""}]
[null,null,{"$f":"IFERROR(VLOOKUP(A5226,Insumos!A:B,2,FALSE),\"\")","v":""}]
[null,null,{"$f":"IFERROR(VLOOKUP(A5227,Insumos!A:B,2,FALSE),\"\")","v":""}]
[null,null,{"$f":"IFERROR(VLOOKUP(A5228,Insumos!A:B,2,FALSE),\"\")","v":""}]
[null,null,{"$f":"IFERROR(VLOOKUP(A5229,Insumos!A:B,2,FALSE),\"\")","v":""}]
[null,null,{"$f":"IFERROR(VLOOKUP(A5230,Insumos!A:B,2,FALSE),\"\")","v":""}]
[null,null,{"$f":"IFERROR(VLOOKUP(A5231,Insumos!A:B,2,FALSE),\"\")","v":""}]
[null,null,{"$f":"IFERROR(VLOOKUP(A5232,Insumos!A:B,2,FALSE),\"\")","v":""}]
[null,null,{"$f":"IFERROR(VLOOKUP(A5233,Insumos!A:B,2,FALSE),\"\")","v":""}]
[null,null,{"$f":"IFERROR(VLOOKUP(A5234,Insumos!A:B,2,FALSE),\"\")","v":""}]
[null,null,{"$f":"IFERROR(VLOOKUP(A5235,Insumos!A:B,2,FALSE),\"\")","v":""}]
[null,null,{"$f":"IFERROR(VLOOKUP(A5236,Insumos!A:B,2,FALSE),\"\")","v":""}]
[null,null,{"$f":"IFERROR(VLOOKUP(A5237,Insumos!A:B,2,FALSE),\"\")","v":""}]
[null,null,{"$f":"IFERROR(VLOOKUP(A5238,Insumos!A:B,2,FALSE),\"\")","v":""}]
[null,null,{"$f":"IFERROR(VLOOKUP(A5239,Insumos!A:B,2,FALSE),\"\")","v":""}]
[null,null,{"$f":"IFERROR(VLOOKUP(A5240,Insumos!A:B,2,FALSE),\"\")","v":""}]
[null,null,{"$f":"IFERROR(VLOOKUP(A5241,Insumos!A:B,2,FALSE),\"\")","v":""}]
[null,null,{"$f":"IFERROR(VLOOKUP(A5242,Insumos!A:B,2,FALSE),\"\")","v":""}]
[null,null,{"$f":"IFERROR(VLOOKUP(A5243,Insumos!A:B,2,FALSE),\"\")","v":""}]
[null,null,{"$f":"IFERROR(VLOOKUP(A5244,Insumos!A:B,2,FALSE),\"\")","v":""}]
[null,null,{"$f":"IFERROR(VLOOKUP(A5245,Insumos!A:B,2,FALSE),\"\")","v":""}]
[null,null,{"$f":"IFERROR(VLOOKUP(A5246,Insumos!A:B,2,FALSE),\"\")","v":""}]
[null,null,{"$f":"IFERROR(VLOOKUP(A5247,Insumos!A:B,2,FALSE),\"\")","v":""}]
[null,null,{"$f":"IFERROR(VLOOKUP(A5248,Insumos!A:B,2,FALSE),\"\")","v":""}]
[null,null,{"$f":"IFERROR(VLOOKUP(A5249,Insumos!A:B,2,FALSE),\"\")","v":""}]
[null,null,{"$f":"IFERROR(VLOOKUP(A5250,Insumos!A:B,2,FALSE),\"\")","v":""}]
[null,null,{"$f":"IFERROR(VLOOKUP(A5251,Insumos!A:B,2,FALSE),\"\")","v":""}]
[null,null,{"$f":"IFERROR(VLOOKUP(A5252,Insumos!A:B,2,FALSE),\"\")","v":""}]
[null,null,{"$f":"IFERROR(VLOOKUP(A5253,Insumos!A:B,2,FALSE),\"\")","v":""}]
[null,null,{"$f":"IFERROR(VLOOKUP(A5254,Insumos!A:B,2,FALSE),\"\")","v":""}]
[null,null,{"$f":"IFERROR(VLOOKUP(A5255,Insumos!A:B,2,FALSE),\"\")","v":""}]
[null,null,{"$f":"IFERROR(VLOOKUP(A5256,Insumos!A:B,2,FALSE),\"\")","v":""}]
[null,null,{"$f":"IFERROR(VLOOKUP(A5257,Insumos!A:B,2,FALSE),\"\")","v":""}]
[null,null,{"$f":"IFERROR(VLOOKUP(A5258,Insumos!A:B,2,FALSE),\"\")","v":""}]
[null,null,{"$f":"IFERROR(VLOOKUP(A5259,Insumos!A:B,2,FALSE),\"\")","v":""}]
[null,null,{"$f":"IFERROR(VLOOKUP(A5260,Insumos!A:B,2,FALSE),\"\")","v":""}]
[null,null,{"$f":"IFERROR(VLOOKUP(A5261,Insumos!A:B,2,FALSE),\"\")","v":""}]
[null,null,{"$f":"IFERROR(VLOOKUP(A5262,Insumos!A:B,2,FALSE),\"\")","v":""}]
[null,null,{"$f":"IFERROR(VLOOKUP(A5263,Insumos!A:B,2,FALSE),\"\")","v":""}]
[null,null,{"$f":"IFERROR(VLOOKUP(A5264,Insumos!A:B,2,FALSE),\"\")","v":""}]
[null,null,{"$f":"IFERROR(VLOOKUP(A5265,Insumos!A:B,2,FALSE),\"\")","v":""}]
[null,null,{"$f":"IFERROR(VLOOKUP(A5266,Insumos!A:B,2,FALSE),\"\")","v":""}]
[null,null,{"$f":"IFERROR(VLOOKUP(A5267,Insumos!A:B,2,FALSE),\"\")","v":""}]
[null,null,{"$f":"IFERROR(VLOOKUP(A5268,Insumos!A:B,2,FALSE),\"\")","v":""}]
[null,null,{"$f":"IFERROR(VLOOKUP(A5269,Insumos!A:B,2,FALSE),\"\")","v":""}]
[null,null,{"$f":"IFERROR(VLOOKUP(A5270,Insumos!A:B,2,FALSE),\"\")","v":""}]
[null,null,{"$f":"IFERROR(VLOOKUP(A5271,Insumos!A:B,2,FALSE),\"\")","v":""}]
[null,null,{"$f":"IFERROR(VLOOKUP(A5272,Insumos!A:B,2,FALSE),\"\")","v":""}]
[null,null,{"$f":"IFERROR(VLOOKUP(A5273,Insumos!A:B,2,FALSE),\"\")","v":""}]
[null,null,{"$f":"IFERROR(VLOOKUP(A5274,Insumos!A:B,2,FALSE),\"\")","v":""}]
[null,null,{"$f":"IFERROR(VLOOKUP(A5275,Insumos!A:B,2,FALSE),\"\")","v":""}]
[null,null,{"$f":"IFERROR(VLOOKUP(A5276,Insumos!A:B,2,FALSE),\"\")","v":""}]
[null,null,{"$f":"IFERROR(VLOOKUP(A5277,Insumos!A:B,2,FALSE),\"\")","v":""}]
[null,null,{"$f":"IFERROR(VLOOKUP(A5278,Insumos!A:B,2,FALSE),\"\")","v":""}]
[null,null,{"$f":"IFERROR(VLOOKUP(A5279,Insumos!A:B,2,FALSE),\"\")","v":""}]
[null,null,{"$f":"IFERROR(VLOOKUP(A5280,Insumos!A:B,2,FALSE),\"\")","v":""}]
[null,null,{"$f":"IFERROR(VLOOKUP(A5281,Insumos!A:B,2,FALSE),\"\")","v":""}]
[null,null,{"$f":"IFERROR(VLOOKUP(A5282,Insumos!A:B,2,FALSE),\"\")","v":""}]
[null,null,{"$f":"IFERROR(VLOOKUP(A5283,Insumos!A:B,2,FALSE),\"\")","v":""}]
[null,null,{"$f":"IFERROR(VLOOKUP(A5284,Insumos!A:B,2,FALSE),\"\")","v":""}]
[null,null,{"$f":"IFERROR(VLOOKUP(A5285,Insumos!A:B,2,FALSE),\"\")","v":""}]
[null,null,{"$f":"IFERROR(VLOOKUP(A5286,Insumos!A:B,2,FALSE),\"\")","v":""}]
[null,null,{"$f":"IFERROR(VLOOKUP(A5287,Insumos!A:B,2,FALSE),\"\")","v":""}]
[null,null,{"$f":"IFERROR(VLOOKUP(A5288,Insumos!A:B,2,FALSE),\"\")","v":""}]
[null,null,{"$f":"IFERROR(VLOOKUP(A5289,Insumos!A:B,2,FALSE),\"\")","v":""}]
[null,null,{"$f":"IFERROR(VLOOKUP(A5290,Insumos!A:B,2,FALSE),\"\")","v":""}]
[null,null,{"$f":"IFERROR(VLOOKUP(A5291,Insumos!A:B,2,FALSE),\"\")","v":""}]
[null,null,{"$f":"IFERROR(VLOOKUP(A5292,Insumos!A:B,2,FALSE),\"\")","v":""}]
[null,null,{"$f":"IFERROR(VLOOKUP(A5293,Insumos!A:B,2,FALSE),\"\")","v":""}]
[null,null,{"$f":"IFERROR(VLOOKUP(A5294,Insumos!A:B,2,FALSE),\"\")","v":""}]
[null,null,{"$f":"IFERROR(VLOOKUP(A5295,Insumos!A:B,2,FALSE),\"\")","v":""}]
[null,null,{"$f":"IFERROR(VLOOKUP(A5296,Insumos!A:B,2,FALSE),\"\")","v":""}]
[null,null,{"$f":"IFERROR(VLOOKUP(A5297,Insumos!A:B,2,FALSE),\"\")","v":""}]
[null,null,{"$f":"IFERROR(VLOOKUP(A5298,Insumos!A:B,2,FALSE),\"\")","v":""}]
[null,null,{"$f":"IFERROR(VLOOKUP(A5299,Insumos!A:B,2,FALSE),\"\")","v":""}]
[null,null,{"$f":"IFERROR(VLOOKUP(A5300,Insumos!A:B,2,FALSE),\"\")","v":""}]
[null,null,{"$f":"IFERROR(VLOOKUP(A5301,Insumos!A:B,2,FALSE),\"\")","v":""}]
[null,null,{"$f":"IFERROR(VLOOKUP(A5302,Insumos!A:B,2,FALSE),\"\")","v":""}]
[null,null,{"$f":"IFERROR(VLOOKUP(A5303,Insumos!A:B,2,FALSE),\"\")","v":""}]
[null,null,{"$f":"IFERROR(VLOOKUP(A5304,Insumos!A:B,2,FALSE),\"\")","v":""}]
[null,null,{"$f":"IFERROR(VLOOKUP(A5305,Insumos!A:B,2,FALSE),\"\")","v":""}]
[null,null,{"$f":"IFERROR(VLOOKUP(A5306,Insumos!A:B,2,FALSE),\"\")","v":""}]
[null,null,{"$f":"IFERROR(VLOOKUP(A5307,Insumos!A:B,2,FALSE),\"\")","v":""}]
[null,null,{"$f":"IFERROR(VLOOKUP(A5308,Insumos!A:B,2,FALSE),\"\")","v":""}]
[null,null,{"$f":"IFERROR(VLOOKUP(A5309,Insumos!A:B,2,FALSE),\"\")","v":""}]
[null,null,{"$f":"IFERROR(VLOOKUP(A5310,Insumos!A:B,2,FALSE),\"\")","v":""}]
[null,null,{"$f":"IFERROR(VLOOKUP(A5311,Insumos!A:B,2,FALSE),\"\")","v":""}]
[null,null,{"$f":"IFERROR(VLOOKUP(A5312,Insumos!A:B,2,FALSE),\"\")","v":""}]
[null,null,{"$f":"IFERROR(VLOOKUP(A5313,Insumos!A:B,2,FALSE),\"\")","v":""}]
[null,null,{"$f":"IFERROR(VLOOKUP(A5314,Insumos!A:B,2,FALSE),\"\")","v":""}]
[null,null,{"$f":"IFERROR(VLOOKUP(A5315,Insumos!A:B,2,FALSE),\"\")","v":""}]
[null,null,{"$f":"IFERROR(VLOOKUP(A5316,Insumos!A:B,2,FALSE),\"\")","v":""}]
[null,null,{"$f":"IFERROR(VLOOKUP(A5317,Insumos!A:B,2,FALSE),\"\")","v":""}]
[null,null,{"$f":"IFERROR(VLOOKUP(A5318,Insumos!A:B,2,FALSE),\"\")","v":""}]
[null,null,{"$f":"IFERROR(VLOOKUP(A5319,Insumos!A:B,2,FALSE),\"\")","v":""}]
[null,null,{"$f":"IFERROR(VLOOKUP(A5320,Insumos!A:B,2,FALSE),\"\")","v":""}]
[null,null,{"$f":"IFERROR(VLOOKUP(A5321,Insumos!A:B,2,FALSE),\"\")","v":""}]
[null,null,{"$f":"IFERROR(VLOOKUP(A5322,Insumos!A:B,2,FALSE),\"\")","v":""}]
[null,null,{"$f":"IFERROR(VLOOKUP(A5323,Insumos!A:B,2,FALSE),\"\")","v":""}]
[null,null,{"$f":"IFERROR(VLOOKUP(A5324,Insumos!A:B,2,FALSE),\"\")","v":""}]
[null,null,{"$f":"IFERROR(VLOOKUP(A5325,Insumos!A:B,2,FALSE),\"\")","v":""}]
[null,null,{"$f":"IFERROR(VLOOKUP(A5326,Insumos!A:B,2,FALSE),\"\")","v":""}]
[null,null,{"$f":"IFERROR(VLOOKUP(A5327,Insumos!A:B,2,FALSE),\"\")","v":""}]
[null,null,{"$f":"IFERROR(VLOOKUP(A5328,Insumos!A:B,2,FALSE),\"\")","v":""}]
[null,null,{"$f":"IFERROR(VLOOKUP(A5329,Insumos!A:B,2,FALSE),\"\")","v":""}]
[null,null,{"$f":"IFERROR(VLOOKUP(A5330,Insumos!A:B,2,FALSE),\"\")","v":""}]
[null,null,{"$f":"IFERROR(VLOOKUP(A5331,Insumos!A:B,2,FALSE),\"\")","v":""}]
[null,null,{"$f":"IFERROR(VLOOKUP(A5332,Insumos!A:B,2,FALSE),\"\")","v":""}]
[null,null,{"$f":"IFERROR(VLOOKUP(A5333,Insumos!A:B,2,FALSE),\"\")","v":""}]
[null,null,{"$f":"IFERROR(VLOOKUP(A5334,Insumos!A:B,2,FALSE),\"\")","v":""}]
[null,null,{"$f":"IFERROR(VLOOKUP(A5335,Insumos!A:B,2,FALSE),\"\")","v":""}]
[null,null,{"$f":"IFERROR(VLOOKUP(A5336,Insumos!A:B,2,FALSE),\"\")","v":""}]
[null,null,{"$f":"IFERROR(VLOOKUP(A5337,Insumos!A:B,2,FALSE),\"\")","v":""}]
[null,null,{"$f":"IFERROR(VLOOKUP(A5338,Insumos!A:B,2,FALSE),\"\")","v":""}]
[null,null,{"$f":"IFERROR(VLOOKUP(A5339,Insumos!A:B,2,FALSE),\"\")","v":""}]
[null,null,{"$f":"IFERROR(VLOOKUP(A5340,Insumos!A:B,2,FALSE),\"\")","v":""}]
[null,null,{"$f":"IFERROR(VLOOKUP(A5341,Insumos!A:B,2,FALSE),\"\")","v":""}]
[null,null,{"$f":"IFERROR(VLOOKUP(A5342,Insumos!A:B,2,FALSE),\"\")","v":""}]
[null,null,{"$f":"IFERROR(VLOOKUP(A5343,Insumos!A:B,2,FALSE),\"\")","v":""}]
[null,null,{"$f":"IFERROR(VLOOKUP(A5344,Insumos!A:B,2,FALSE),\"\")","v":""}]
[null,null,{"$f":"IFERROR(VLOOKUP(A5345,Insumos!A:B,2,FALSE),\"\")","v":""}]
[null,null,{"$f":"IFERROR(VLOOKUP(A5346,Insumos!A:B,2,FALSE),\"\")","v":""}]
[null,null,{"$f":"IFERROR(VLOOKUP(A5347,Insumos!A:B,2,FALSE),\"\")","v":""}]
[null,null,{"$f":"IFERROR(VLOOKUP(A5348,Insumos!A:B,2,FALSE),\"\")","v":""}]
[null,null,{"$f":"IFERROR(VLOOKUP(A5349,Insumos!A:B,2,FALSE),\"\")","v":""}]
[null,null,{"$f":"IFERROR(VLOOKUP(A5350,Insumos!A:B,2,FALSE),\"\")","v":""}]
[null,null,{"$f":"IFERROR(VLOOKUP(A5351,Insumos!A:B,2,FALSE),\"\")","v":""}]
[null,null,{"$f":"IFERROR(VLOOKUP(A5352,Insumos!A:B,2,FALSE),\"\")","v":""}]
[null,null,{"$f":"IFERROR(VLOOKUP(A5353,Insumos!A:B,2,FALSE),\"\")","v":""}]
[null,null,{"$f":"IFERROR(VLOOKUP(A5354,Insumos!A:B,2,FALSE),\"\")","v":""}]
[null,null,{"$f":"IFERROR(VLOOKUP(A5355,Insumos!A:B,2,FALSE),\"\")","v":""}]
[null,null,{"$f":"IFERROR(VLOOKUP(A5356,Insumos!A:B,2,FALSE),\"\")","v":""}]
[null,null,{"$f":"IFERROR(VLOOKUP(A5357,Insumos!A:B,2,FALSE),\"\")","v":""}]
[null,null,{"$f":"IFERROR(VLOOKUP(A5358,Insumos!A:B,2,FALSE),\"\")","v":""}]
[null,null,{"$f":"IFERROR(VLOOKUP(A5359,Insumos!A:B,2,FALSE),\"\")","v":""}]
[null,null,{"$f":"IFERROR(VLOOKUP(A5360,Insumos!A:B,2,FALSE),\"\")","v":""}]
[null,null,{"$f":"IFERROR(VLOOKUP(A5361,Insumos!A:B,2,FALSE),\"\")","v":""}]
[null,null,{"$f":"IFERROR(VLOOKUP(A5362,Insumos!A:B,2,FALSE),\"\")","v":""}]
[null,null,{"$f":"IFERROR(VLOOKUP(A5363,Insumos!A:B,2,FALSE),\"\")","v":""}]
[null,null,{"$f":"IFERROR(VLOOKUP(A5364,Insumos!A:B,2,FALSE),\"\")","v":""}]
[null,null,{"$f":"IFERROR(VLOOKUP(A5365,Insumos!A:B,2,FALSE),\"\")","v":""}]
[null,null,{"$f":"IFERROR(VLOOKUP(A5366,Insumos!A:B,2,FALSE),\"\")","v":""}]
[null,null,{"$f":"IFERROR(VLOOKUP(A5367,Insumos!A:B,2,FALSE),\"\")","v":""}]
[null,null,{"$f":"IFERROR(VLOOKUP(A5368,Insumos!A:B,2,FALSE),\"\")","v":""}]
[null,null,{"$f":"IFERROR(VLOOKUP(A5369,Insumos!A:B,2,FALSE),\"\")","v":""}]
[null,null,{"$f":"IFERROR(VLOOKUP(A5370,Insumos!A:B,2,FALSE),\"\")","v":""}]
[null,null,{"$f":"IFERROR(VLOOKUP(A5371,Insumos!A:B,2,FALSE),\"\")","v":""}]
[null,null,{"$f":"IFERROR(VLOOKUP(A5372,Insumos!A:B,2,FALSE),\"\")","v":""}]
[null,null,{"$f":"IFERROR(VLOOKUP(A5373,Insumos!A:B,2,FALSE),\"\")","v":""}]
[null,null,{"$f":"IFERROR(VLOOKUP(A5374,Insumos!A:B,2,FALSE),\"\")","v":""}]
[null,null,{"$f":"IFERROR(VLOOKUP(A5375,Insumos!A:B,2,FALSE),\"\")","v":""}]
[null,null,{"$f":"IFERROR(VLOOKUP(A5376,Insumos!A:B,2,FALSE),\"\")","v":""}]
[null,null,{"$f":"IFERROR(VLOOKUP(A5377,Insumos!A:B,2,FALSE),\"\")","v":""}]
[null,null,{"$f":"IFERROR(VLOOKUP(A5378,Insumos!A:B,2,FALSE),\"\")","v":""}]
[null,null,{"$f":"IFERROR(VLOOKUP(A5379,Insumos!A:B,2,FALSE),\"\")","v":""}]
[null,null,{"$f":"IFERROR(VLOOKUP(A5380,Insumos!A:B,2,FALSE),\"\")","v":""}]
[null,null,{"$f":"IFERROR(VLOOKUP(A5381,Insumos!A:B,2,FALSE),\"\")","v":""}]
[null,null,{"$f":"IFERROR(VLOOKUP(A5382,Insumos!A:B,2,FALSE),\"\")","v":""}]
[null,null,{"$f":"IFERROR(VLOOKUP(A5383,Insumos!A:B,2,FALSE),\"\")","v":""}]
[null,null,{"$f":"IFERROR(VLOOKUP(A5384,Insumos!A:B,2,FALSE),\"\")","v":""}]
[null,null,{"$f":"IFERROR(VLOOKUP(A5385,Insumos!A:B,2,FALSE),\"\")","v":""}]
[null,null,{"$f":"IFERROR(VLOOKUP(A5386,Insumos!A:B,2,FALSE),\"\")","v":""}]
[null,null,{"$f":"IFERROR(VLOOKUP(A5387,Insumos!A:B,2,FALSE),\"\")","v":""}]
[null,null,{"$f":"IFERROR(VLOOKUP(A5388,Insumos!A:B,2,FALSE),\"\")","v":""}]
[null,null,{"$f":"IFERROR(VLOOKUP(A5389,Insumos!A:B,2,FALSE),\"\")","v":""}]
[null,null,{"$f":"IFERROR(VLOOKUP(A5390,Insumos!A:B,2,FALSE),\"\")","v":""}]
[null,null,{"$f":"IFERROR(VLOOKUP(A5391,Insumos!A:B,2,FALSE),\"\")","v":""}]
[null,null,{"$f":"IFERROR(VLOOKUP(A5392,Insumos!A:B,2,FALSE),\"\")","v":""}]
[null,null,{"$f":"IFERROR(VLOOKUP(A5393,Insumos!A:B,2,FALSE),\"\")","v":""}]
[null,null,{"$f":"IFERROR(VLOOKUP(A5394,Insumos!A:B,2,FALSE),\"\")","v":""}]
[null,null,{"$f":"IFERROR(VLOOKUP(A5395,Insumos!A:B,2,FALSE),\"\")","v":""}]
[null,null,{"$f":"IFERROR(VLOOKUP(A5396,Insumos!A:B,2,FALSE),\"\")","v":""}]
[null,null,{"$f":"IFERROR(VLOOKUP(A5397,Insumos!A:B,2,FALSE),\"\")","v":""}]
[null,null,{"$f":"IFERROR(VLOOKUP(A5398,Insumos!A:B,2,FALSE),\"\")","v":""}]
[null,null,{"$f":"IFERROR(VLOOKUP(A5399,Insumos!A:B,2,FALSE),\"\")","v":""}]
[null,null,{"$f":"IFERROR(VLOOKUP(A5400,Insumos!A:B,2,FALSE),\"\")","v":""}]
[null,null,{"$f":"IFERROR(VLOOKUP(A5401,Insumos!A:B,2,FALSE),\"\")","v":""}]
[null,null,{"$f":"IFERROR(VLOOKUP(A5402,Insumos!A:B,2,FALSE),\"\")","v":""}]
[null,null,{"$f":"IFERROR(VLOOKUP(A5403,Insumos!A:B,2,FALSE),\"\")","v":""}]
[null,null,{"$f":"IFERROR(VLOOKUP(A5404,Insumos!A:B,2,FALSE),\"\")","v":""}]
[null,null,{"$f":"IFERROR(VLOOKUP(A5405,Insumos!A:B,2,FALSE),\"\")","v":""}]
[null,null,{"$f":"IFERROR(VLOOKUP(A5406,Insumos!A:B,2,FALSE),\"\")","v":""}]
[null,null,{"$f":"IFERROR(VLOOKUP(A5407,Insumos!A:B,2,FALSE),\"\")","v":""}]
[null,null,{"$f":"IFERROR(VLOOKUP(A5408,Insumos!A:B,2,FALSE),\"\")","v":""}]
[null,null,{"$f":"IFERROR(VLOOKUP(A5409,Insumos!A:B,2,FALSE),\"\")","v":""}]
[null,null,{"$f":"IFERROR(VLOOKUP(A5410,Insumos!A:B,2,FALSE),\"\")","v":""}]
[null,null,{"$f":"IFERROR(VLOOKUP(A5411,Insumos!A:B,2,FALSE),\"\")","v":""}]
[null,null,{"$f":"IFERROR(VLOOKUP(A5412,Insumos!A:B,2,FALSE),\"\")","v":""}]
[null,null,{"$f":"IFERROR(VLOOKUP(A5413,Insumos!A:B,2,FALSE),\"\")","v":""}]
[null,null,{"$f":"IFERROR(VLOOKUP(A5414,Insumos!A:B,2,FALSE),\"\")","v":""}]
[null,null,{"$f":"IFERROR(VLOOKUP(A5415,Insumos!A:B,2,FALSE),\"\")","v":""}]
[null,null,{"$f":"IFERROR(VLOOKUP(A5416,Insumos!A:B,2,FALSE),\"\")","v":""}]
[null,null,{"$f":"IFERROR(VLOOKUP(A5417,Insumos!A:B,2,FALSE),\"\")","v":""}]
[null,null,{"$f":"IFERROR(VLOOKUP(A5418,Insumos!A:B,2,FALSE),\"\")","v":""}]
[null,null,{"$f":"IFERROR(VLOOKUP(A5419,Insumos!A:B,2,FALSE),\"\")","v":""}]
[null,null,{"$f":"IFERROR(VLOOKUP(A5420,Insumos!A:B,2,FALSE),\"\")","v":""}]
[null,null,{"$f":"IFERROR(VLOOKUP(A5421,Insumos!A:B,2,FALSE),\"\")","v":""}]
[null,null,{"$f":"IFERROR(VLOOKUP(A5422,Insumos!A:B,2,FALSE),\"\")","v":""}]
[null,null,{"$f":"IFERROR(VLOOKUP(A5423,Insumos!A:B,2,FALSE),\"\")","v":""}]
[null,null,{"$f":"IFERROR(VLOOKUP(A5424,Insumos!A:B,2,FALSE),\"\")","v":""}]
[null,null,{"$f":"IFERROR(VLOOKUP(A5425,Insumos!A:B,2,FALSE),\"\")","v":""}]
[null,null,{"$f":"IFERROR(VLOOKUP(A5426,Insumos!A:B,2,FALSE),\"\")","v":""}]
[null,null,{"$f":"IFERROR(VLOOKUP(A5427,Insumos!A:B,2,FALSE),\"\")","v":""}]
[null,null,{"$f":"IFERROR(VLOOKUP(A5428,Insumos!A:B,2,FALSE),\"\")","v":""}]
[null,null,{"$f":"IFERROR(VLOOKUP(A5429,Insumos!A:B,2,FALSE),\"\")","v":""}]
[null,null,{"$f":"IFERROR(VLOOKUP(A5430,Insumos!A:B,2,FALSE),\"\")","v":""}]
[null,null,{"$f":"IFERROR(VLOOKUP(A5431,Insumos!A:B,2,FALSE),\"\")","v":""}]
[null,null,{"$f":"IFERROR(VLOOKUP(A5432,Insumos!A:B,2,FALSE),\"\")","v":""}]
[null,null,{"$f":"IFERROR(VLOOKUP(A5433,Insumos!A:B,2,FALSE),\"\")","v":""}]
[null,null,{"$f":"IFERROR(VLOOKUP(A5434,Insumos!A:B,2,FALSE),\"\")","v":""}]
[null,null,{"$f":"IFERROR(VLOOKUP(A5435,Insumos!A:B,2,FALSE),\"\")","v":""}]
[null,null,{"$f":"IFERROR(VLOOKUP(A5436,Insumos!A:B,2,FALSE),\"\")","v":""}]
[null,null,{"$f":"IFERROR(VLOOKUP(A5437,Insumos!A:B,2,FALSE),\"\")","v":""}]
[null,null,{"$f":"IFERROR(VLOOKUP(A5438,Insumos!A:B,2,FALSE),\"\")","v":""}]
[null,null,{"$f":"IFERROR(VLOOKUP(A5439,Insumos!A:B,2,FALSE),\"\")","v":""}]
[null,null,{"$f":"IFERROR(VLOOKUP(A5440,Insumos!A:B,2,FALSE),\"\")","v":""}]
[null,null,{"$f":"IFERROR(VLOOKUP(A5441,Insumos!A:B,2,FALSE),\"\")","v":""}]
[null,null,{"$f":"IFERROR(VLOOKUP(A5442,Insumos!A:B,2,FALSE),\"\")","v":""}]
[null,null,{"$f":"IFERROR(VLOOKUP(A5443,Insumos!A:B,2,FALSE),\"\")","v":""}]
[null,null,{"$f":"IFERROR(VLOOKUP(A5444,Insumos!A:B,2,FALSE),\"\")","v":""}]
[null,null,{"$f":"IFERROR(VLOOKUP(A5445,Insumos!A:B,2,FALSE),\"\")","v":""}]
[null,null,{"$f":"IFERROR(VLOOKUP(A5446,Insumos!A:B,2,FALSE),\"\")","v":""}]
[null,null,{"$f":"IFERROR(VLOOKUP(A5447,Insumos!A:B,2,FALSE),\"\")","v":""}]
[null,null,{"$f":"IFERROR(VLOOKUP(A5448,Insumos!A:B,2,FALSE),\"\")","v":""}]
[null,null,{"$f":"IFERROR(VLOOKUP(A5449,Insumos!A:B,2,FALSE),\"\")","v":""}]
[null,null,{"$f":"IFERROR(VLOOKUP(A5450,Insumos!A:B,2,FALSE),\"\")","v":""}]
[null,null,{"$f":"IFERROR(VLOOKUP(A5451,Insumos!A:B,2,FALSE),\"\")","v":""}]
[null,null,{"$f":"IFERROR(VLOOKUP(A5452,Insumos!A:B,2,FALSE),\"\")","v":""}]
[null,null,{"$f":"IFERROR(VLOOKUP(A5453,Insumos!A:B,2,FALSE),\"\")","v":""}]
[null,null,{"$f":"IFERROR(VLOOKUP(A5454,Insumos!A:B,2,FALSE),\"\")","v":""}]
[null,null,{"$f":"IFERROR(VLOOKUP(A5455,Insumos!A:B,2,FALSE),\"\")","v":""}]
[null,null,{"$f":"IFERROR(VLOOKUP(A5456,Insumos!A:B,2,FALSE),\"\")","v":""}]
[null,null,{"$f":"IFERROR(VLOOKUP(A5457,Insumos!A:B,2,FALSE),\"\")","v":""}]
[null,null,{"$f":"IFERROR(VLOOKUP(A5458,Insumos!A:B,2,FALSE),\"\")","v":""}]
[null,null,{"$f":"IFERROR(VLOOKUP(A5459,Insumos!A:B,2,FALSE),\"\")","v":""}]
[null,null,{"$f":"IFERROR(VLOOKUP(A5460,Insumos!A:B,2,FALSE),\"\")","v":""}]
[null,null,{"$f":"IFERROR(VLOOKUP(A5461,Insumos!A:B,2,FALSE),\"\")","v":""}]
[null,null,{"$f":"IFERROR(VLOOKUP(A5462,Insumos!A:B,2,FALSE),\"\")","v":""}]
[null,null,{"$f":"IFERROR(VLOOKUP(A5463,Insumos!A:B,2,FALSE),\"\")","v":""}]
[null,null,{"$f":"IFERROR(VLOOKUP(A5464,Insumos!A:B,2,FALSE),\"\")","v":""}]
[null,null,{"$f":"IFERROR(VLOOKUP(A5465,Insumos!A:B,2,FALSE),\"\")","v":""}]
[null,null,{"$f":"IFERROR(VLOOKUP(A5466,Insumos!A:B,2,FALSE),\"\")","v":""}]
[null,null,{"$f":"IFERROR(VLOOKUP(A5467,Insumos!A:B,2,FALSE),\"\")","v":""}]
[null,null,{"$f":"IFERROR(VLOOKUP(A5468,Insumos!A:B,2,FALSE),\"\")","v":""}]
[null,null,{"$f":"IFERROR(VLOOKUP(A5469,Insumos!A:B,2,FALSE),\"\")","v":""}]
[null,null,{"$f":"IFERROR(VLOOKUP(A5470,Insumos!A:B,2,FALSE),\"\")","v":""}]
[null,null,{"$f":"IFERROR(VLOOKUP(A5471,Insumos!A:B,2,FALSE),\"\")","v":""}]
[null,null,{"$f":"IFERROR(VLOOKUP(A5472,Insumos!A:B,2,FALSE),\"\")","v":""}]
[null,null,{"$f":"IFERROR(VLOOKUP(A5473,Insumos!A:B,2,FALSE),\"\")","v":""}]
[null,null,{"$f":"IFERROR(VLOOKUP(A5474,Insumos!A:B,2,FALSE),\"\")","v":""}]
[null,null,{"$f":"IFERROR(VLOOKUP(A5475,Insumos!A:B,2,FALSE),\"\")","v":""}]
[null,null,{"$f":"IFERROR(VLOOKUP(A5476,Insumos!A:B,2,FALSE),\"\")","v":""}]
[null,null,{"$f":"IFERROR(VLOOKUP(A5477,Insumos!A:B,2,FALSE),\"\")","v":""}]
[null,null,{"$f":"IFERROR(VLOOKUP(A5478,Insumos!A:B,2,FALSE),\"\")","v":""}]
[null,null,{"$f":"IFERROR(VLOOKUP(A5479,Insumos!A:B,2,FALSE),\"\")","v":""}]
[null,null,{"$f":"IFERROR(VLOOKUP(A5480,Insumos!A:B,2,FALSE),\"\")","v":""}]
[null,null,{"$f":"IFERROR(VLOOKUP(A5481,Insumos!A:B,2,FALSE),\"\")","v":""}]
[null,null,{"$f":"IFERROR(VLOOKUP(A5482,Insumos!A:B,2,FALSE),\"\")","v":""}]
[null,null,{"$f":"IFERROR(VLOOKUP(A5483,Insumos!A:B,2,FALSE),\"\")","v":""}]
[null,null,{"$f":"IFERROR(VLOOKUP(A5484,Insumos!A:B,2,FALSE),\"\")","v":""}]
[null,null,{"$f":"IFERROR(VLOOKUP(A5485,Insumos!A:B,2,FALSE),\"\")","v":""}]
[null,null,{"$f":"IFERROR(VLOOKUP(A5486,Insumos!A:B,2,FALSE),\"\")","v":""}]
[null,null,{"$f":"IFERROR(VLOOKUP(A5487,Insumos!A:B,2,FALSE),\"\")","v":""}]
[null,null,{"$f":"IFERROR(VLOOKUP(A5488,Insumos!A:B,2,FALSE),\"\")","v":""}]
[null,null,{"$f":"IFERROR(VLOOKUP(A5489,Insumos!A:B,2,FALSE),\"\")","v":""}]
[null,null,{"$f":"IFERROR(VLOOKUP(A5490,Insumos!A:B,2,FALSE),\"\")","v":""}]
[null,null,{"$f":"IFERROR(VLOOKUP(A5491,Insumos!A:B,2,FALSE),\"\")","v":""}]
[null,null,{"$f":"IFERROR(VLOOKUP(A5492,Insumos!A:B,2,FALSE),\"\")","v":""}]
[null,null,{"$f":"IFERROR(VLOOKUP(A5493,Insumos!A:B,2,FALSE),\"\")","v":""}]
[null,null,{"$f":"IFERROR(VLOOKUP(A5494,Insumos!A:B,2,FALSE),\"\")","v":""}]
[null,null,{"$f":"IFERROR(VLOOKUP(A5495,Insumos!A:B,2,FALSE),\"\")","v":""}]
[null,null,{"$f":"IFERROR(VLOOKUP(A5496,Insumos!A:B,2,FALSE),\"\")","v":""}]
[null,null,{"$f":"IFERROR(VLOOKUP(A5497,Insumos!A:B,2,FALSE),\"\")","v":""}]
[null,null,{"$f":"IFERROR(VLOOKUP(A5498,Insumos!A:B,2,FALSE),\"\")","v":""}]
[null,null,{"$f":"IFERROR(VLOOKUP(A5499,Insumos!A:B,2,FALSE),\"\")","v":""}]
[null,null,{"$f":"IFERROR(VLOOKUP(A5500,Insumos!A:B,2,FALSE),\"\")","v":""}]
[null,null,{"$f":"IFERROR(VLOOKUP(A5501,Insumos!A:B,2,FALSE),\"\")","v":""}]
[null,null,{"$f":"IFERROR(VLOOKUP(A5502,Insumos!A:B,2,FALSE),\"\")","v":""}]
[null,null,{"$f":"IFERROR(VLOOKUP(A5503,Insumos!A:B,2,FALSE),\"\")","v":""}]
[null,null,{"$f":"IFERROR(VLOOKUP(A5504,Insumos!A:B,2,FALSE),\"\")","v":""}]
[null,null,{"$f":"IFERROR(VLOOKUP(A5505,Insumos!A:B,2,FALSE),\"\")","v":""}]
[null,null,{"$f":"IFERROR(VLOOKUP(A5506,Insumos!A:B,2,FALSE),\"\")","v":""}]
[null,null,{"$f":"IFERROR(VLOOKUP(A5507,Insumos!A:B,2,FALSE),\"\")","v":""}]
[null,null,{"$f":"IFERROR(VLOOKUP(A5508,Insumos!A:B,2,FALSE),\"\")","v":""}]
[null,null,{"$f":"IFERROR(VLOOKUP(A5509,Insumos!A:B,2,FALSE),\"\")","v":""}]
[null,null,{"$f":"IFERROR(VLOOKUP(A5510,Insumos!A:B,2,FALSE),\"\")","v":""}]
[null,null,{"$f":"IFERROR(VLOOKUP(A5511,Insumos!A:B,2,FALSE),\"\")","v":""}]
[null,null,{"$f":"IFERROR(VLOOKUP(A5512,Insumos!A:B,2,FALSE),\"\")","v":""}]
[null,null,{"$f":"IFERROR(VLOOKUP(A5513,Insumos!A:B,2,FALSE),\"\")","v":""}]
[null,null,{"$f":"IFERROR(VLOOKUP(A5514,Insumos!A:B,2,FALSE),\"\")","v":""}]
[null,null,{"$f":"IFERROR(VLOOKUP(A5515,Insumos!A:B,2,FALSE),\"\")","v":""}]
[null,null,{"$f":"IFERROR(VLOOKUP(A5516,Insumos!A:B,2,FALSE),\"\")","v":""}]
[null,null,{"$f":"IFERROR(VLOOKUP(A5517,Insumos!A:B,2,FALSE),\"\")","v":""}]
[null,null,{"$f":"IFERROR(VLOOKUP(A5518,Insumos!A:B,2,FALSE),\"\")","v":""}]
[null,null,{"$f":"IFERROR(VLOOKUP(A5519,Insumos!A:B,2,FALSE),\"\")","v":""}]
[null,null,{"$f":"IFERROR(VLOOKUP(A5520,Insumos!A:B,2,FALSE),\"\")","v":""}]
[null,null,{"$f":"IFERROR(VLOOKUP(A5521,Insumos!A:B,2,FALSE),\"\")","v":""}]
[null,null,{"$f":"IFERROR(VLOOKUP(A5522,Insumos!A:B,2,FALSE),\"\")","v":""}]
[null,null,{"$f":"IFERROR(VLOOKUP(A5523,Insumos!A:B,2,FALSE),\"\")","v":""}]
[null,null,{"$f":"IFERROR(VLOOKUP(A5524,Insumos!A:B,2,FALSE),\"\")","v":""}]
[null,null,{"$f":"IFERROR(VLOOKUP(A5525,Insumos!A:B,2,FALSE),\"\")","v":""}]
[null,null,{"$f":"IFERROR(VLOOKUP(A5526,Insumos!A:B,2,FALSE),\"\")","v":""}]
[null,null,{"$f":"IFERROR(VLOOKUP(A5527,Insumos!A:B,2,FALSE),\"\")","v":""}]
[null,null,{"$f":"IFERROR(VLOOKUP(A5528,Insumos!A:B,2,FALSE),\"\")","v":""}]
[null,null,{"$f":"IFERROR(VLOOKUP(A5529,Insumos!A:B,2,FALSE),\"\")","v":""}]
[null,null,{"$f":"IFERROR(VLOOKUP(A5530,Insumos!A:B,2,FALSE),\"\")","v":""}]
[null,null,{"$f":"IFERROR(VLOOKUP(A5531,Insumos!A:B,2,FALSE),\"\")","v":""}]
[null,null,{"$f":"IFERROR(VLOOKUP(A5532,Insumos!A:B,2,FALSE),\"\")","v":""}]
[null,null,{"$f":"IFERROR(VLOOKUP(A5533,Insumos!A:B,2,FALSE),\"\")","v":""}]
[null,null,{"$f":"IFERROR(VLOOKUP(A5534,Insumos!A:B,2,FALSE),\"\")","v":""}]
[null,null,{"$f":"IFERROR(VLOOKUP(A5535,Insumos!A:B,2,FALSE),\"\")","v":""}]
[null,null,{"$f":"IFERROR(VLOOKUP(A5536,Insumos!A:B,2,FALSE),\"\")","v":""}]
[null,null,{"$f":"IFERROR(VLOOKUP(A5537,Insumos!A:B,2,FALSE),\"\")","v":""}]
[null,null,{"$f":"IFERROR(VLOOKUP(A5538,Insumos!A:B,2,FALSE),\"\")","v":""}]
[null,null,{"$f":"IFERROR(VLOOKUP(A5539,Insumos!A:B,2,FALSE),\"\")","v":""}]
[null,null,{"$f":"IFERROR(VLOOKUP(A5540,Insumos!A:B,2,FALSE),\"\")","v":""}]
[null,null,{"$f":"IFERROR(VLOOKUP(A5541,Insumos!A:B,2,FALSE),\"\")","v":""}]
[null,null,{"$f":"IFERROR(VLOOKUP(A5542,Insumos!A:B,2,FALSE),\"\")","v":""}]
[null,null,{"$f":"IFERROR(VLOOKUP(A5543,Insumos!A:B,2,FALSE),\"\")","v":""}]
[null,null,{"$f":"IFERROR(VLOOKUP(A5544,Insumos!A:B,2,FALSE),\"\")","v":""}]
[null,null,{"$f":"IFERROR(VLOOKUP(A5545,Insumos!A:B,2,FALSE),\"\")","v":""}]
[null,null,{"$f":"IFERROR(VLOOKUP(A5546,Insumos!A:B,2,FALSE),\"\")","v":""}]
[null,null,{"$f":"IFERROR(VLOOKUP(A5547,Insumos!A:B,2,FALSE),\"\")","v":""}]
[null,null,{"$f":"IFERROR(VLOOKUP(A5548,Insumos!A:B,2,FALSE),\"\")","v":""}]
[null,null,{"$f":"IFERROR(VLOOKUP(A5549,Insumos!A:B,2,FALSE),\"\")","v":""}]
[null,null,{"$f":"IFERROR(VLOOKUP(A5550,Insumos!A:B,2,FALSE),\"\")","v":""}]
[null,null,{"$f":"IFERROR(VLOOKUP(A5551,Insumos!A:B,2,FALSE),\"\")","v":""}]
[null,null,{"$f":"IFERROR(VLOOKUP(A5552,Insumos!A:B,2,FALSE),\"\")","v":""}]
[null,null,{"$f":"IFERROR(VLOOKUP(A5553,Insumos!A:B,2,FALSE),\"\")","v":""}]
[null,null,{"$f":"IFERROR(VLOOKUP(A5554,Insumos!A:B,2,FALSE),\"\")","v":""}]
[null,null,{"$f":"IFERROR(VLOOKUP(A5555,Insumos!A:B,2,FALSE),\"\")","v":""}]
[null,null,{"$f":"IFERROR(VLOOKUP(A5556,Insumos!A:B,2,FALSE),\"\")","v":""}]
[null,null,{"$f":"IFERROR(VLOOKUP(A5557,Insumos!A:B,2,FALSE),\"\")","v":""}]
[null,null,{"$f":"IFERROR(VLOOKUP(A5558,Insumos!A:B,2,FALSE),\"\")","v":""}]
[null,null,{"$f":"IFERROR(VLOOKUP(A5559,Insumos!A:B,2,FALSE),\"\")","v":""}]
[null,null,{"$f":"IFERROR(VLOOKUP(A5560,Insumos!A:B,2,FALSE),\"\")","v":""}]
[null,null,{"$f":"IFERROR(VLOOKUP(A5561,Insumos!A:B,2,FALSE),\"\")","v":""}]
[null,null,{"$f":"IFERROR(VLOOKUP(A5562,Insumos!A:B,2,FALSE),\"\")","v":""}]
[null,null,{"$f":"IFERROR(VLOOKUP(A5563,Insumos!A:B,2,FALSE),\"\")","v":""}]
[null,null,{"$f":"IFERROR(VLOOKUP(A5564,Insumos!A:B,2,FALSE),\"\")","v":""}]
[null,null,{"$f":"IFERROR(VLOOKUP(A5565,Insumos!A:B,2,FALSE),\"\")","v":""}]
[null,null,{"$f":"IFERROR(VLOOKUP(A5566,Insumos!A:B,2,FALSE),\"\")","v":""}]
[null,null,{"$f":"IFERROR(VLOOKUP(A5567,Insumos!A:B,2,FALSE),\"\")","v":""}]
[null,null,{"$f":"IFERROR(VLOOKUP(A5568,Insumos!A:B,2,FALSE),\"\")","v":""}]
[null,null,{"$f":"IFERROR(VLOOKUP(A5569,Insumos!A:B,2,FALSE),\"\")","v":""}]
[null,null,{"$f":"IFERROR(VLOOKUP(A5570,Insumos!A:B,2,FALSE),\"\")","v":""}]
[null,null,{"$f":"IFERROR(VLOOKUP(A5571,Insumos!A:B,2,FALSE),\"\")","v":""}]
[null,null,{"$f":"IFERROR(VLOOKUP(A5572,Insumos!A:B,2,FALSE),\"\")","v":""}]
[null,null,{"$f":"IFERROR(VLOOKUP(A5573,Insumos!A:B,2,FALSE),\"\")","v":""}]
[null,null,{"$f":"IFERROR(VLOOKUP(A5574,Insumos!A:B,2,FALSE),\"\")","v":""}]
[null,null,{"$f":"IFERROR(VLOOKUP(A5575,Insumos!A:B,2,FALSE),\"\")","v":""}]
[null,null,{"$f":"IFERROR(VLOOKUP(A5576,Insumos!A:B,2,FALSE),\"\")","v":""}]
[null,null,{"$f":"IFERROR(VLOOKUP(A5577,Insumos!A:B,2,FALSE),\"\")","v":""}]
[null,null,{"$f":"IFERROR(VLOOKUP(A5578,Insumos!A:B,2,FALSE),\"\")","v":""}]
[null,null,{"$f":"IFERROR(VLOOKUP(A5579,Insumos!A:B,2,FALSE),\"\")","v":""}]
[null,null,{"$f":"IFERROR(VLOOKUP(A5580,Insumos!A:B,2,FALSE),\"\")","v":""}]
[null,null,{"$f":"IFERROR(VLOOKUP(A5581,Insumos!A:B,2,FALSE),\"\")","v":""}]
[null,null,{"$f":"IFERROR(VLOOKUP(A5582,Insumos!A:B,2,FALSE),\"\")","v":""}]
[null,null,{"$f":"IFERROR(VLOOKUP(A5583,Insumos!A:B,2,FALSE),\"\")","v":""}]
[null,null,{"$f":"IFERROR(VLOOKUP(A5584,Insumos!A:B,2,FALSE),\"\")","v":""}]
[null,null,{"$f":"IFERROR(VLOOKUP(A5585,Insumos!A:B,2,FALSE),\"\")","v":""}]
[null,null,{"$f":"IFERROR(VLOOKUP(A5586,Insumos!A:B,2,FALSE),\"\")","v":""}]
[null,null,{"$f":"IFERROR(VLOOKUP(A5587,Insumos!A:B,2,FALSE),\"\")","v":""}]
[null,null,{"$f":"IFERROR(VLOOKUP(A5588,Insumos!A:B,2,FALSE),\"\")","v":""}]
[null,null,{"$f":"IFERROR(VLOOKUP(A5589,Insumos!A:B,2,FALSE),\"\")","v":""}]
[null,null,{"$f":"IFERROR(VLOOKUP(A5590,Insumos!A:B,2,FALSE),\"\")","v":""}]
[null,null,{"$f":"IFERROR(VLOOKUP(A5591,Insumos!A:B,2,FALSE),\"\")","v":""}]
[null,null,{"$f":"IFERROR(VLOOKUP(A5592,Insumos!A:B,2,FALSE),\"\")","v":""}]
[null,null,{"$f":"IFERROR(VLOOKUP(A5593,Insumos!A:B,2,FALSE),\"\")","v":""}]
[null,null,{"$f":"IFERROR(VLOOKUP(A5594,Insumos!A:B,2,FALSE),\"\")","v":""}]
[null,null,{"$f":"IFERROR(VLOOKUP(A5595,Insumos!A:B,2,FALSE),\"\")","v":""}]
[null,null,{"$f":"IFERROR(VLOOKUP(A5596,Insumos!A:B,2,FALSE),\"\")","v":""}]
[null,null,{"$f":"IFERROR(VLOOKUP(A5597,Insumos!A:B,2,FALSE),\"\")","v":""}]
[null,null,{"$f":"IFERROR(VLOOKUP(A5598,Insumos!A:B,2,FALSE),\"\")","v":""}]
[null,null,{"$f":"IFERROR(VLOOKUP(A5599,Insumos!A:B,2,FALSE),\"\")","v":""}]
[null,null,{"$f":"IFERROR(VLOOKUP(A5600,Insumos!A:B,2,FALSE),\"\")","v":""}]
[null,null,{"$f":"IFERROR(VLOOKUP(A5601,Insumos!A:B,2,FALSE),\"\")","v":""}]
[null,null,{"$f":"IFERROR(VLOOKUP(A5602,Insumos!A:B,2,FALSE),\"\")","v":""}]
[null,null,{"$f":"IFERROR(VLOOKUP(A5603,Insumos!A:B,2,FALSE),\"\")","v":""}]
[null,null,{"$f":"IFERROR(VLOOKUP(A5604,Insumos!A:B,2,FALSE),\"\")","v":""}]
[null,null,{"$f":"IFERROR(VLOOKUP(A5605,Insumos!A:B,2,FALSE),\"\")","v":""}]
[null,null,{"$f":"IFERROR(VLOOKUP(A5606,Insumos!A:B,2,FALSE),\"\")","v":""}]
[null,null,{"$f":"IFERROR(VLOOKUP(A5607,Insumos!A:B,2,FALSE),\"\")","v":""}]
[null,null,{"$f":"IFERROR(VLOOKUP(A5608,Insumos!A:B,2,FALSE),\"\")","v":""}]
[null,null,{"$f":"IFERROR(VLOOKUP(A5609,Insumos!A:B,2,FALSE),\"\")","v":""}]
[null,null,{"$f":"IFERROR(VLOOKUP(A5610,Insumos!A:B,2,FALSE),\"\")","v":""}]
[null,null,{"$f":"IFERROR(VLOOKUP(A5611,Insumos!A:B,2,FALSE),\"\")","v":""}]
[null,null,{"$f":"IFERROR(VLOOKUP(A5612,Insumos!A:B,2,FALSE),\"\")","v":""}]
[null,null,{"$f":"IFERROR(VLOOKUP(A5613,Insumos!A:B,2,FALSE),\"\")","v":""}]
[null,null,{"$f":"IFERROR(VLOOKUP(A5614,Insumos!A:B,2,FALSE),\"\")","v":""}]
[null,null,{"$f":"IFERROR(VLOOKUP(A5615,Insumos!A:B,2,FALSE),\"\")","v":""}]
[null,null,{"$f":"IFERROR(VLOOKUP(A5616,Insumos!A:B,2,FALSE),\"\")","v":""}]
[null,null,{"$f":"IFERROR(VLOOKUP(A5617,Insumos!A:B,2,FALSE),\"\")","v":""}]
[null,null,{"$f":"IFERROR(VLOOKUP(A5618,Insumos!A:B,2,FALSE),\"\")","v":""}]
[null,null,{"$f":"IFERROR(VLOOKUP(A5619,Insumos!A:B,2,FALSE),\"\")","v":""}]
[null,null,{"$f":"IFERROR(VLOOKUP(A5620,Insumos!A:B,2,FALSE),\"\")","v":""}]
[null,null,{"$f":"IFERROR(VLOOKUP(A5621,Insumos!A:B,2,FALSE),\"\")","v":""}]
[null,null,{"$f":"IFERROR(VLOOKUP(A5622,Insumos!A:B,2,FALSE),\"\")","v":""}]
[null,null,{"$f":"IFERROR(VLOOKUP(A5623,Insumos!A:B,2,FALSE),\"\")","v":""}]
[null,null,{"$f":"IFERROR(VLOOKUP(A5624,Insumos!A:B,2,FALSE),\"\")","v":""}]
[null,null,{"$f":"IFERROR(VLOOKUP(A5625,Insumos!A:B,2,FALSE),\"\")","v":""}]
[null,null,{"$f":"IFERROR(VLOOKUP(A5626,Insumos!A:B,2,FALSE),\"\")","v":""}]
[null,null,{"$f":"IFERROR(VLOOKUP(A5627,Insumos!A:B,2,FALSE),\"\")","v":""}]
[null,null,{"$f":"IFERROR(VLOOKUP(A5628,Insumos!A:B,2,FALSE),\"\")","v":""}]
[null,null,{"$f":"IFERROR(VLOOKUP(A5629,Insumos!A:B,2,FALSE),\"\")","v":""}]
[null,null,{"$f":"IFERROR(VLOOKUP(A5630,Insumos!A:B,2,FALSE),\"\")","v":""}]
[null,null,{"$f":"IFERROR(VLOOKUP(A5631,Insumos!A:B,2,FALSE),\"\")","v":""}]
[null,null,{"$f":"IFERROR(VLOOKUP(A5632,Insumos!A:B,2,FALSE),\"\")","v":""}]
[null,null,{"$f":"IFERROR(VLOOKUP(A5633,Insumos!A:B,2,FALSE),\"\")","v":""}]
[null,null,{"$f":"IFERROR(VLOOKUP(A5634,Insumos!A:B,2,FALSE),\"\")","v":""}]
[null,null,{"$f":"IFERROR(VLOOKUP(A5635,Insumos!A:B,2,FALSE),\"\")","v":""}]
[null,null,{"$f":"IFERROR(VLOOKUP(A5636,Insumos!A:B,2,FALSE),\"\")","v":""}]
[null,null,{"$f":"IFERROR(VLOOKUP(A5637,Insumos!A:B,2,FALSE),\"\")","v":""}]
[null,null,{"$f":"IFERROR(VLOOKUP(A5638,Insumos!A:B,2,FALSE),\"\")","v":""}]
[null,null,{"$f":"IFERROR(VLOOKUP(A5639,Insumos!A:B,2,FALSE),\"\")","v":""}]
[null,null,{"$f":"IFERROR(VLOOKUP(A5640,Insumos!A:B,2,FALSE),\"\")","v":""}]
[null,null,{"$f":"IFERROR(VLOOKUP(A5641,Insumos!A:B,2,FALSE),\"\")","v":""}]
[null,null,{"$f":"IFERROR(VLOOKUP(A5642,Insumos!A:B,2,FALSE),\"\")","v":""}]
[null,null,{"$f":"IFERROR(VLOOKUP(A5643,Insumos!A:B,2,FALSE),\"\")","v":""}]
[null,null,{"$f":"IFERROR(VLOOKUP(A5644,Insumos!A:B,2,FALSE),\"\")","v":""}]
[null,null,{"$f":"IFERROR(VLOOKUP(A5645,Insumos!A:B,2,FALSE),\"\")","v":""}]
[null,null,{"$f":"IFERROR(VLOOKUP(A5646,Insumos!A:B,2,FALSE),\"\")","v":""}]
[null,null,{"$f":"IFERROR(VLOOKUP(A5647,Insumos!A:B,2,FALSE),\"\")","v":""}]
[null,null,{"$f":"IFERROR(VLOOKUP(A5648,Insumos!A:B,2,FALSE),\"\")","v":""}]
[null,null,{"$f":"IFERROR(VLOOKUP(A5649,Insumos!A:B,2,FALSE),\"\")","v":""}]
[null,null,{"$f":"IFERROR(VLOOKUP(A5650,Insumos!A:B,2,FALSE),\"\")","v":""}]
[null,null,{"$f":"IFERROR(VLOOKUP(A5651,Insumos!A:B,2,FALSE),\"\")","v":""}]
[null,null,{"$f":"IFERROR(VLOOKUP(A5652,Insumos!A:B,2,FALSE),\"\")","v":""}]
[null,null,{"$f":"IFERROR(VLOOKUP(A5653,Insumos!A:B,2,FALSE),\"\")","v":""}]
[null,null,{"$f":"IFERROR(VLOOKUP(A5654,Insumos!A:B,2,FALSE),\"\")","v":""}]
[null,null,{"$f":"IFERROR(VLOOKUP(A5655,Insumos!A:B,2,FALSE),\"\")","v":""}]
[null,null,{"$f":"IFERROR(VLOOKUP(A5656,Insumos!A:B,2,FALSE),\"\")","v":""}]
[null,null,{"$f":"IFERROR(VLOOKUP(A5657,Insumos!A:B,2,FALSE),\"\")","v":""}]
[null,null,{"$f":"IFERROR(VLOOKUP(A5658,Insumos!A:B,2,FALSE),\"\")","v":""}]
[null,null,{"$f":"IFERROR(VLOOKUP(A5659,Insumos!A:B,2,FALSE),\"\")","v":""}]
[null,null,{"$f":"IFERROR(VLOOKUP(A5660,Insumos!A:B,2,FALSE),\"\")","v":""}]
[null,null,{"$f":"IFERROR(VLOOKUP(A5661,Insumos!A:B,2,FALSE),\"\")","v":""}]
[null,null,{"$f":"IFERROR(VLOOKUP(A5662,Insumos!A:B,2,FALSE),\"\")","v":""}]
[null,null,{"$f":"IFERROR(VLOOKUP(A5663,Insumos!A:B,2,FALSE),\"\")","v":""}]
[null,null,{"$f":"IFERROR(VLOOKUP(A5664,Insumos!A:B,2,FALSE),\"\")","v":""}]
[null,null,{"$f":"IFERROR(VLOOKUP(A5665,Insumos!A:B,2,FALSE),\"\")","v":""}]
[null,null,{"$f":"IFERROR(VLOOKUP(A5666,Insumos!A:B,2,FALSE),\"\")","v":""}]
[null,null,{"$f":"IFERROR(VLOOKUP(A5667,Insumos!A:B,2,FALSE),\"\")","v":""}]
[null,null,{"$f":"IFERROR(VLOOKUP(A5668,Insumos!A:B,2,FALSE),\"\")","v":""}]
[null,null,{"$f":"IFERROR(VLOOKUP(A5669,Insumos!A:B,2,FALSE),\"\")","v":""}]
[null,null,{"$f":"IFERROR(VLOOKUP(A5670,Insumos!A:B,2,FALSE),\"\")","v":""}]
[null,null,{"$f":"IFERROR(VLOOKUP(A5671,Insumos!A:B,2,FALSE),\"\")","v":""}]
[null,null,{"$f":"IFERROR(VLOOKUP(A5672,Insumos!A:B,2,FALSE),\"\")","v":""}]
[null,null,{"$f":"IFERROR(VLOOKUP(A5673,Insumos!A:B,2,FALSE),\"\")","v":""}]
[null,null,{"$f":"IFERROR(VLOOKUP(A5674,Insumos!A:B,2,FALSE),\"\")","v":""}]
[null,null,{"$f":"IFERROR(VLOOKUP(A5675,Insumos!A:B,2,FALSE),\"\")","v":""}]
[null,null,{"$f":"IFERROR(VLOOKUP(A5676,Insumos!A:B,2,FALSE),\"\")","v":""}]
[null,null,{"$f":"IFERROR(VLOOKUP(A5677,Insumos!A:B,2,FALSE),\"\")","v":""}]
[null,null,{"$f":"IFERROR(VLOOKUP(A5678,Insumos!A:B,2,FALSE),\"\")","v":""}]
[null,null,{"$f":"IFERROR(VLOOKUP(A5679,Insumos!A:B,2,FALSE),\"\")","v":""}]
[null,null,{"$f":"IFERROR(VLOOKUP(A5680,Insumos!A:B,2,FALSE),\"\")","v":""}]
[null,null,{"$f":"IFERROR(VLOOKUP(A5681,Insumos!A:B,2,FALSE),\"\")","v":""}]
[null,null,{"$f":"IFERROR(VLOOKUP(A5682,Insumos!A:B,2,FALSE),\"\")","v":""}]
[null,null,{"$f":"IFERROR(VLOOKUP(A5683,Insumos!A:B,2,FALSE),\"\")","v":""}]
[null,null,{"$f":"IFERROR(VLOOKUP(A5684,Insumos!A:B,2,FALSE),\"\")","v":""}]
[null,null,{"$f":"IFERROR(VLOOKUP(A5685,Insumos!A:B,2,FALSE),\"\")","v":""}]
[null,null,{"$f":"IFERROR(VLOOKUP(A5686,Insumos!A:B,2,FALSE),\"\")","v":""}]
[null,null,{"$f":"IFERROR(VLOOKUP(A5687,Insumos!A:B,2,FALSE),\"\")","v":""}]
[null,null,{"$f":"IFERROR(VLOOKUP(A5688,Insumos!A:B,2,FALSE),\"\")","v":""}]
[null,null,{"$f":"IFERROR(VLOOKUP(A5689,Insumos!A:B,2,FALSE),\"\")","v":""}]
[null,null,{"$f":"IFERROR(VLOOKUP(A5690,Insumos!A:B,2,FALSE),\"\")","v":""}]
[null,null,{"$f":"IFERROR(VLOOKUP(A5691,Insumos!A:B,2,FALSE),\"\")","v":""}]
[null,null,{"$f":"IFERROR(VLOOKUP(A5692,Insumos!A:B,2,FALSE),\"\")","v":""}]
[null,null,{"$f":"IFERROR(VLOOKUP(A5693,Insumos!A:B,2,FALSE),\"\")","v":""}]
[null,null,{"$f":"IFERROR(VLOOKUP(A5694,Insumos!A:B,2,FALSE),\"\")","v":""}]
[null,null,{"$f":"IFERROR(VLOOKUP(A5695,Insumos!A:B,2,FALSE),\"\")","v":""}]
[null,null,{"$f":"IFERROR(VLOOKUP(A5696,Insumos!A:B,2,FALSE),\"\")","v":""}]
[null,null,{"$f":"IFERROR(VLOOKUP(A5697,Insumos!A:B,2,FALSE),\"\")","v":""}]
[null,null,{"$f":"IFERROR(VLOOKUP(A5698,Insumos!A:B,2,FALSE),\"\")","v":""}]
[null,null,{"$f":"IFERROR(VLOOKUP(A5699,Insumos!A:B,2,FALSE),\"\")","v":""}]
[null,null,{"$f":"IFERROR(VLOOKUP(A5700,Insumos!A:B,2,FALSE),\"\")","v":""}]
[null,null,{"$f":"IFERROR(VLOOKUP(A5701,Insumos!A:B,2,FALSE),\"\")","v":""}]
[null,null,{"$f":"IFERROR(VLOOKUP(A5702,Insumos!A:B,2,FALSE),\"\")","v":""}]
[null,null,{"$f":"IFERROR(VLOOKUP(A5703,Insumos!A:B,2,FALSE),\"\")","v":""}]
[null,null,{"$f":"IFERROR(VLOOKUP(A5704,Insumos!A:B,2,FALSE),\"\")","v":""}]
[null,null,{"$f":"IFERROR(VLOOKUP(A5705,Insumos!A:B,2,FALSE),\"\")","v":""}]
[null,null,{"$f":"IFERROR(VLOOKUP(A5706,Insumos!A:B,2,FALSE),\"\")","v":""}]
[null,null,{"$f":"IFERROR(VLOOKUP(A5707,Insumos!A:B,2,FALSE),\"\")","v":""}]
[null,null,{"$f":"IFERROR(VLOOKUP(A5708,Insumos!A:B,2,FALSE),\"\")","v":""}]
[null,null,{"$f":"IFERROR(VLOOKUP(A5709,Insumos!A:B,2,FALSE),\"\")","v":""}]
[null,null,{"$f":"IFERROR(VLOOKUP(A5710,Insumos!A:B,2,FALSE),\"\")","v":""}]
[null,null,{"$f":"IFERROR(VLOOKUP(A5711,Insumos!A:B,2,FALSE),\"\")","v":""}]
[null,null,{"$f":"IFERROR(VLOOKUP(A5712,Insumos!A:B,2,FALSE),\"\")","v":""}]
[null,null,{"$f":"IFERROR(VLOOKUP(A5713,Insumos!A:B,2,FALSE),\"\")","v":""}]
[null,null,{"$f":"IFERROR(VLOOKUP(A5714,Insumos!A:B,2,FALSE),\"\")","v":""}]
[null,null,{"$f":"IFERROR(VLOOKUP(A5715,Insumos!A:B,2,FALSE),\"\")","v":""}]
[null,null,{"$f":"IFERROR(VLOOKUP(A5716,Insumos!A:B,2,FALSE),\"\")","v":""}]
[null,null,{"$f":"IFERROR(VLOOKUP(A5717,Insumos!A:B,2,FALSE),\"\")","v":""}]
[null,null,{"$f":"IFERROR(VLOOKUP(A5718,Insumos!A:B,2,FALSE),\"\")","v":""}]
[null,null,{"$f":"IFERROR(VLOOKUP(A5719,Insumos!A:B,2,FALSE),\"\")","v":""}]
[null,null,{"$f":"IFERROR(VLOOKUP(A5720,Insumos!A:B,2,FALSE),\"\")","v":""}]
[null,null,{"$f":"IFERROR(VLOOKUP(A5721,Insumos!A:B,2,FALSE),\"\")","v":""}]
[null,null,{"$f":"IFERROR(VLOOKUP(A5722,Insumos!A:B,2,FALSE),\"\")","v":""}]
[null,null,{"$f":"IFERROR(VLOOKUP(A5723,Insumos!A:B,2,FALSE),\"\")","v":""}]
[null,null,{"$f":"IFERROR(VLOOKUP(A5724,Insumos!A:B,2,FALSE),\"\")","v":""}]
[null,null,{"$f":"IFERROR(VLOOKUP(A5725,Insumos!A:B,2,FALSE),\"\")","v":""}]
[null,null,{"$f":"IFERROR(VLOOKUP(A5726,Insumos!A:B,2,FALSE),\"\")","v":""}]
[null,null,{"$f":"IFERROR(VLOOKUP(A5727,Insumos!A:B,2,FALSE),\"\")","v":""}]
[null,null,{"$f":"IFERROR(VLOOKUP(A5728,Insumos!A:B,2,FALSE),\"\")","v":""}]
[null,null,{"$f":"IFERROR(VLOOKUP(A5729,Insumos!A:B,2,FALSE),\"\")","v":""}]
[null,null,{"$f":"IFERROR(VLOOKUP(A5730,Insumos!A:B,2,FALSE),\"\")","v":""}]
[null,null,{"$f":"IFERROR(VLOOKUP(A5731,Insumos!A:B,2,FALSE),\"\")","v":""}]
[null,null,{"$f":"IFERROR(VLOOKUP(A5732,Insumos!A:B,2,FALSE),\"\")","v":""}]
[null,null,{"$f":"IFERROR(VLOOKUP(A5733,Insumos!A:B,2,FALSE),\"\")","v":""}]
[null,null,{"$f":"IFERROR(VLOOKUP(A5734,Insumos!A:B,2,FALSE),\"\")","v":""}]
[null,null,{"$f":"IFERROR(VLOOKUP(A5735,Insumos!A:B,2,FALSE),\"\")","v":""}]
[null,null,{"$f":"IFERROR(VLOOKUP(A5736,Insumos!A:B,2,FALSE),\"\")","v":""}]
[null,null,{"$f":"IFERROR(VLOOKUP(A5737,Insumos!A:B,2,FALSE),\"\")","v":""}]
[null,null,{"$f":"IFERROR(VLOOKUP(A5738,Insumos!A:B,2,FALSE),\"\")","v":""}]
[null,null,{"$f":"IFERROR(VLOOKUP(A5739,Insumos!A:B,2,FALSE),\"\")","v":""}]
[null,null,{"$f":"IFERROR(VLOOKUP(A5740,Insumos!A:B,2,FALSE),\"\")","v":""}]
[null,null,{"$f":"IFERROR(VLOOKUP(A5741,Insumos!A:B,2,FALSE),\"\")","v":""}]
[null,null,{"$f":"IFERROR(VLOOKUP(A5742,Insumos!A:B,2,FALSE),\"\")","v":""}]
[null,null,{"$f":"IFERROR(VLOOKUP(A5743,Insumos!A:B,2,FALSE),\"\")","v":""}]
[null,null,{"$f":"IFERROR(VLOOKUP(A5744,Insumos!A:B,2,FALSE),\"\")","v":""}]
[null,null,{"$f":"IFERROR(VLOOKUP(A5745,Insumos!A:B,2,FALSE),\"\")","v":""}]
[null,null,{"$f":"IFERROR(VLOOKUP(A5746,Insumos!A:B,2,FALSE),\"\")","v":""}]
[null,null,{"$f":"IFERROR(VLOOKUP(A5747,Insumos!A:B,2,FALSE),\"\")","v":""}]
[null,null,{"$f":"IFERROR(VLOOKUP(A5748,Insumos!A:B,2,FALSE),\"\")","v":""}]
[null,null,{"$f":"IFERROR(VLOOKUP(A5749,Insumos!A:B,2,FALSE),\"\")","v":""}]
[null,null,{"$f":"IFERROR(VLOOKUP(A5750,Insumos!A:B,2,FALSE),\"\")","v":""}]
[null,null,{"$f":"IFERROR(VLOOKUP(A5751,Insumos!A:B,2,FALSE),\"\")","v":""}]
[null,null,{"$f":"IFERROR(VLOOKUP(A5752,Insumos!A:B,2,FALSE),\"\")","v":""}]
[null,null,{"$f":"IFERROR(VLOOKUP(A5753,Insumos!A:B,2,FALSE),\"\")","v":""}]
[null,null,{"$f":"IFERROR(VLOOKUP(A5754,Insumos!A:B,2,FALSE),\"\")","v":""}]
[null,null,{"$f":"IFERROR(VLOOKUP(A5755,Insumos!A:B,2,FALSE),\"\")","v":""}]
[null,null,{"$f":"IFERROR(VLOOKUP(A5756,Insumos!A:B,2,FALSE),\"\")","v":""}]
[null,null,{"$f":"IFERROR(VLOOKUP(A5757,Insumos!A:B,2,FALSE),\"\")","v":""}]
[null,null,{"$f":"IFERROR(VLOOKUP(A5758,Insumos!A:B,2,FALSE),\"\")","v":""}]
[null,null,{"$f":"IFERROR(VLOOKUP(A5759,Insumos!A:B,2,FALSE),\"\")","v":""}]
[null,null,{"$f":"IFERROR(VLOOKUP(A5760,Insumos!A:B,2,FALSE),\"\")","v":""}]
[null,null,{"$f":"IFERROR(VLOOKUP(A5761,Insumos!A:B,2,FALSE),\"\")","v":""}]
[null,null,{"$f":"IFERROR(VLOOKUP(A5762,Insumos!A:B,2,FALSE),\"\")","v":""}]
[null,null,{"$f":"IFERROR(VLOOKUP(A5763,Insumos!A:B,2,FALSE),\"\")","v":""}]
[null,null,{"$f":"IFERROR(VLOOKUP(A5764,Insumos!A:B,2,FALSE),\"\")","v":""}]
[null,null,{"$f":"IFERROR(VLOOKUP(A5765,Insumos!A:B,2,FALSE),\"\")","v":""}]
[null,null,{"$f":"IFERROR(VLOOKUP(A5766,Insumos!A:B,2,FALSE),\"\")","v":""}]
[null,null,{"$f":"IFERROR(VLOOKUP(A5767,Insumos!A:B,2,FALSE),\"\")","v":""}]
[null,null,{"$f":"IFERROR(VLOOKUP(A5768,Insumos!A:B,2,FALSE),\"\")","v":""}]
[null,null,{"$f":"IFERROR(VLOOKUP(A5769,Insumos!A:B,2,FALSE),\"\")","v":""}]
[null,null,{"$f":"IFERROR(VLOOKUP(A5770,Insumos!A:B,2,FALSE),\"\")","v":""}]
[null,null,{"$f":"IFERROR(VLOOKUP(A5771,Insumos!A:B,2,FALSE),\"\")","v":""}]
[null,null,{"$f":"IFERROR(VLOOKUP(A5772,Insumos!A:B,2,FALSE),\"\")","v":""}]
[null,null,{"$f":"IFERROR(VLOOKUP(A5773,Insumos!A:B,2,FALSE),\"\")","v":""}]
[null,null,{"$f":"IFERROR(VLOOKUP(A5774,Insumos!A:B,2,FALSE),\"\")","v":""}]
[null,null,{"$f":"IFERROR(VLOOKUP(A5775,Insumos!A:B,2,FALSE),\"\")","v":""}]
[null,null,{"$f":"IFERROR(VLOOKUP(A5776,Insumos!A:B,2,FALSE),\"\")","v":""}]
[null,null,{"$f":"IFERROR(VLOOKUP(A5777,Insumos!A:B,2,FALSE),\"\")","v":""}]
[null,null,{"$f":"IFERROR(VLOOKUP(A5778,Insumos!A:B,2,FALSE),\"\")","v":""}]
[null,null,{"$f":"IFERROR(VLOOKUP(A5779,Insumos!A:B,2,FALSE),\"\")","v":""}]
[null,null,{"$f":"IFERROR(VLOOKUP(A5780,Insumos!A:B,2,FALSE),\"\")","v":""}]
[null,null,{"$f":"IFERROR(VLOOKUP(A5781,Insumos!A:B,2,FALSE),\"\")","v":""}]
[null,null,{"$f":"IFERROR(VLOOKUP(A5782,Insumos!A:B,2,FALSE),\"\")","v":""}]
[null,null,{"$f":"IFERROR(VLOOKUP(A5783,Insumos!A:B,2,FALSE),\"\")","v":""}]
[null,null,{"$f":"IFERROR(VLOOKUP(A5784,Insumos!A:B,2,FALSE),\"\")","v":""}]
[null,null,{"$f":"IFERROR(VLOOKUP(A5785,Insumos!A:B,2,FALSE),\"\")","v":""}]
[null,null,{"$f":"IFERROR(VLOOKUP(A5786,Insumos!A:B,2,FALSE),\"\")","v":""}]
[null,null,{"$f":"IFERROR(VLOOKUP(A5787,Insumos!A:B,2,FALSE),\"\")","v":""}]
[null,null,{"$f":"IFERROR(VLOOKUP(A5788,Insumos!A:B,2,FALSE),\"\")","v":""}]
[null,null,{"$f":"IFERROR(VLOOKUP(A5789,Insumos!A:B,2,FALSE),\"\")","v":""}]
[null,null,{"$f":"IFERROR(VLOOKUP(A5790,Insumos!A:B,2,FALSE),\"\")","v":""}]
[null,null,{"$f":"IFERROR(VLOOKUP(A5791,Insumos!A:B,2,FALSE),\"\")","v":""}]
[null,null,{"$f":"IFERROR(VLOOKUP(A5792,Insumos!A:B,2,FALSE),\"\")","v":""}]
[null,null,{"$f":"IFERROR(VLOOKUP(A5793,Insumos!A:B,2,FALSE),\"\")","v":""}]
[null,null,{"$f":"IFERROR(VLOOKUP(A5794,Insumos!A:B,2,FALSE),\"\")","v":""}]
[null,null,{"$f":"IFERROR(VLOOKUP(A5795,Insumos!A:B,2,FALSE),\"\")","v":""}]
[null,null,{"$f":"IFERROR(VLOOKUP(A5796,Insumos!A:B,2,FALSE),\"\")","v":""}]
[null,null,{"$f":"IFERROR(VLOOKUP(A5797,Insumos!A:B,2,FALSE),\"\")","v":""}]
[null,null,{"$f":"IFERROR(VLOOKUP(A5798,Insumos!A:B,2,FALSE),\"\")","v":""}]
[null,null,{"$f":"IFERROR(VLOOKUP(A5799,Insumos!A:B,2,FALSE),\"\")","v":""}]
[null,null,{"$f":"IFERROR(VLOOKUP(A5800,Insumos!A:B,2,FALSE),\"\")","v":""}]
[null,null,{"$f":"IFERROR(VLOOKUP(A5801,Insumos!A:B,2,FALSE),\"\")","v":""}]
[null,null,{"$f":"IFERROR(VLOOKUP(A5802,Insumos!A:B,2,FALSE),\"\")","v":""}]
[null,null,{"$f":"IFERROR(VLOOKUP(A5803,Insumos!A:B,2,FALSE),\"\")","v":""}]
[null,null,{"$f":"IFERROR(VLOOKUP(A5804,Insumos!A:B,2,FALSE),\"\")","v":""}]
[null,null,{"$f":"IFERROR(VLOOKUP(A5805,Insumos!A:B,2,FALSE),\"\")","v":""}]
[null,null,{"$f":"IFERROR(VLOOKUP(A5806,Insumos!A:B,2,FALSE),\"\")","v":""}]
[null,null,{"$f":"IFERROR(VLOOKUP(A5807,Insumos!A:B,2,FALSE),\"\")","v":""}]
[null,null,{"$f":"IFERROR(VLOOKUP(A5808,Insumos!A:B,2,FALSE),\"\")","v":""}]
[null,null,{"$f":"IFERROR(VLOOKUP(A5809,Insumos!A:B,2,FALSE),\"\")","v":""}]
[null,null,{"$f":"IFERROR(VLOOKUP(A5810,Insumos!A:B,2,FALSE),\"\")","v":""}]
[null,null,{"$f":"IFERROR(VLOOKUP(A5811,Insumos!A:B,2,FALSE),\"\")","v":""}]
[null,null,{"$f":"IFERROR(VLOOKUP(A5812,Insumos!A:B,2,FALSE),\"\")","v":""}]
[null,null,{"$f":"IFERROR(VLOOKUP(A5813,Insumos!A:B,2,FALSE),\"\")","v":""}]
[null,null,{"$f":"IFERROR(VLOOKUP(A5814,Insumos!A:B,2,FALSE),\"\")","v":""}]
[null,null,{"$f":"IFERROR(VLOOKUP(A5815,Insumos!A:B,2,FALSE),\"\")","v":""}]
[null,null,{"$f":"IFERROR(VLOOKUP(A5816,Insumos!A:B,2,FALSE),\"\")","v":""}]
[null,null,{"$f":"IFERROR(VLOOKUP(A5817,Insumos!A:B,2,FALSE),\"\")","v":""}]
[null,null,{"$f":"IFERROR(VLOOKUP(A5818,Insumos!A:B,2,FALSE),\"\")","v":""}]
[null,null,{"$f":"IFERROR(VLOOKUP(A5819,Insumos!A:B,2,FALSE),\"\")","v":""}]
[null,null,{"$f":"IFERROR(VLOOKUP(A5820,Insumos!A:B,2,FALSE),\"\")","v":""}]
[null,null,{"$f":"IFERROR(VLOOKUP(A5821,Insumos!A:B,2,FALSE),\"\")","v":""}]
[null,null,{"$f":"IFERROR(VLOOKUP(A5822,Insumos!A:B,2,FALSE),\"\")","v":""}]
[null,null,{"$f":"IFERROR(VLOOKUP(A5823,Insumos!A:B,2,FALSE),\"\")","v":""}]
[null,null,{"$f":"IFERROR(VLOOKUP(A5824,Insumos!A:B,2,FALSE),\"\")","v":""}]
[null,null,{"$f":"IFERROR(VLOOKUP(A5825,Insumos!A:B,2,FALSE),\"\")","v":""}]
[null,null,{"$f":"IFERROR(VLOOKUP(A5826,Insumos!A:B,2,FALSE),\"\")","v":""}]
[null,null,{"$f":"IFERROR(VLOOKUP(A5827,Insumos!A:B,2,FALSE),\"\")","v":""}]
[null,null,{"$f":"IFERROR(VLOOKUP(A5828,Insumos!A:B,2,FALSE),\"\")","v":""}]
[null,null,{"$f":"IFERROR(VLOOKUP(A5829,Insumos!A:B,2,FALSE),\"\")","v":""}]
[null,null,{"$f":"IFERROR(VLOOKUP(A5830,Insumos!A:B,2,FALSE),\"\")","v":""}]
[null,null,{"$f":"IFERROR(VLOOKUP(A5831,Insumos!A:B,2,FALSE),\"\")","v":""}]
[null,null,{"$f":"IFERROR(VLOOKUP(A5832,Insumos!A:B,2,FALSE),\"\")","v":""}]
[null,null,{"$f":"IFERROR(VLOOKUP(A5833,Insumos!A:B,2,FALSE),\"\")","v":""}]
[null,null,{"$f":"IFERROR(VLOOKUP(A5834,Insumos!A:B,2,FALSE),\"\")","v":""}]
[null,null,{"$f":"IFERROR(VLOOKUP(A5835,Insumos!A:B,2,FALSE),\"\")","v":""}]
[null,null,{"$f":"IFERROR(VLOOKUP(A5836,Insumos!A:B,2,FALSE),\"\")","v":""}]
[null,null,{"$f":"IFERROR(VLOOKUP(A5837,Insumos!A:B,2,FALSE),\"\")","v":""}]
[null,null,{"$f":"IFERROR(VLOOKUP(A5838,Insumos!A:B,2,FALSE),\"\")","v":""}]
[null,null,{"$f":"IFERROR(VLOOKUP(A5839,Insumos!A:B,2,FALSE),\"\")","v":""}]
[null,null,{"$f":"IFERROR(VLOOKUP(A5840,Insumos!A:B,2,FALSE),\"\")","v":""}]
[null,null,{"$f":"IFERROR(VLOOKUP(A5841,Insumos!A:B,2,FALSE),\"\")","v":""}]
[null,null,{"$f":"IFERROR(VLOOKUP(A5842,Insumos!A:B,2,FALSE),\"\")","v":""}]
[null,null,{"$f":"IFERROR(VLOOKUP(A5843,Insumos!A:B,2,FALSE),\"\")","v":""}]
[null,null,{"$f":"IFERROR(VLOOKUP(A5844,Insumos!A:B,2,FALSE),\"\")","v":""}]
[null,null,{"$f":"IFERROR(VLOOKUP(A5845,Insumos!A:B,2,FALSE),\"\")","v":""}]
[null,null,{"$f":"IFERROR(VLOOKUP(A5846,Insumos!A:B,2,FALSE),\"\")","v":""}]
[null,null,{"$f":"IFERROR(VLOOKUP(A5847,Insumos!A:B,2,FALSE),\"\")","v":""}]
[null,null,{"$f":"IFERROR(VLOOKUP(A5848,Insumos!A:B,2,FALSE),\"\")","v":""}]
[null,null,{"$f":"IFERROR(VLOOKUP(A5849,Insumos!A:B,2,FALSE),\"\")","v":""}]
[null,null,{"$f":"IFERROR(VLOOKUP(A5850,Insumos!A:B,2,FALSE),\"\")","v":""}]
[null,null,{"$f":"IFERROR(VLOOKUP(A5851,Insumos!A:B,2,FALSE),\"\")","v":""}]
[null,null,{"$f":"IFERROR(VLOOKUP(A5852,Insumos!A:B,2,FALSE),\"\")","v":""}]
[null,null,{"$f":"IFERROR(VLOOKUP(A5853,Insumos!A:B,2,FALSE),\"\")","v":""}]
[null,null,{"$f":"IFERROR(VLOOKUP(A5854,Insumos!A:B,2,FALSE),\"\")","v":""}]
[null,null,{"$f":"IFERROR(VLOOKUP(A5855,Insumos!A:B,2,FALSE),\"\")","v":""}]
[null,null,{"$f":"IFERROR(VLOOKUP(A5856,Insumos!A:B,2,FALSE),\"\")","v":""}]
[null,null,{"$f":"IFERROR(VLOOKUP(A5857,Insumos!A:B,2,FALSE),\"\")","v":""}]
[null,null,{"$f":"IFERROR(VLOOKUP(A5858,Insumos!A:B,2,FALSE),\"\")","v":""}]
[null,null,{"$f":"IFERROR(VLOOKUP(A5859,Insumos!A:B,2,FALSE),\"\")","v":""}]
[null,null,{"$f":"IFERROR(VLOOKUP(A5860,Insumos!A:B,2,FALSE),\"\")","v":""}]
[null,null,{"$f":"IFERROR(VLOOKUP(A5861,Insumos!A:B,2,FALSE),\"\")","v":""}]
[null,null,{"$f":"IFERROR(VLOOKUP(A5862,Insumos!A:B,2,FALSE),\"\")","v":""}]
[null,null,{"$f":"IFERROR(VLOOKUP(A5863,Insumos!A:B,2,FALSE),\"\")","v":""}]
[null,null,{"$f":"IFERROR(VLOOKUP(A5864,Insumos!A:B,2,FALSE),\"\")","v":""}]
[null,null,{"$f":"IFERROR(VLOOKUP(A5865,Insumos!A:B,2,FALSE),\"\")","v":""}]
[null,null,{"$f":"IFERROR(VLOOKUP(A5866,Insumos!A:B,2,FALSE),\"\")","v":""}]
[null,null,{"$f":"IFERROR(VLOOKUP(A5867,Insumos!A:B,2,FALSE),\"\")","v":""}]
[null,null,{"$f":"IFERROR(VLOOKUP(A5868,Insumos!A:B,2,FALSE),\"\")","v":""}]
[null,null,{"$f":"IFERROR(VLOOKUP(A5869,Insumos!A:B,2,FALSE),\"\")","v":""}]
[null,null,{"$f":"IFERROR(VLOOKUP(A5870,Insumos!A:B,2,FALSE),\"\")","v":""}]
[null,null,{"$f":"IFERROR(VLOOKUP(A5871,Insumos!A:B,2,FALSE),\"\")","v":""}]
[null,null,{"$f":"IFERROR(VLOOKUP(A5872,Insumos!A:B,2,FALSE),\"\")","v":""}]
[null,null,{"$f":"IFERROR(VLOOKUP(A5873,Insumos!A:B,2,FALSE),\"\")","v":""}]
[null,null,{"$f":"IFERROR(VLOOKUP(A5874,Insumos!A:B,2,FALSE),\"\")","v":""}]
[null,null,{"$f":"IFERROR(VLOOKUP(A5875,Insumos!A:B,2,FALSE),\"\")","v":""}]
[null,null,{"$f":"IFERROR(VLOOKUP(A5876,Insumos!A:B,2,FALSE),\"\")","v":""}]
[null,null,{"$f":"IFERROR(VLOOKUP(A5877,Insumos!A:B,2,FALSE),\"\")","v":""}]
[null,null,{"$f":"IFERROR(VLOOKUP(A5878,Insumos!A:B,2,FALSE),\"\")","v":""}]
[null,null,{"$f":"IFERROR(VLOOKUP(A5879,Insumos!A:B,2,FALSE),\"\")","v":""}]
[null,null,{"$f":"IFERROR(VLOOKUP(A5880,Insumos!A:B,2,FALSE),\"\")","v":""}]
[null,null,{"$f":"IFERROR(VLOOKUP(A5881,Insumos!A:B,2,FALSE),\"\")","v":""}]
[null,null,{"$f":"IFERROR(VLOOKUP(A5882,Insumos!A:B,2,FALSE),\"\")","v":""}]
[null,null,{"$f":"IFERROR(VLOOKUP(A5883,Insumos!A:B,2,FALSE),\"\")","v":""}]
[null,null,{"$f":"IFERROR(VLOOKUP(A5884,Insumos!A:B,2,FALSE),\"\")","v":""}]
[null,null,{"$f":"IFERROR(VLOOKUP(A5885,Insumos!A:B,2,FALSE),\"\")","v":""}]
[null,null,{"$f":"IFERROR(VLOOKUP(A5886,Insumos!A:B,2,FALSE),\"\")","v":""}]
[null,null,{"$f":"IFERROR(VLOOKUP(A5887,Insumos!A:B,2,FALSE),\"\")","v":""}]
[null,null,{"$f":"IFERROR(VLOOKUP(A5888,Insumos!A:B,2,FALSE),\"\")","v":""}]
[null,null,{"$f":"IFERROR(VLOOKUP(A5889,Insumos!A:B,2,FALSE),\"\")","v":""}]
[null,null,{"$f":"IFERROR(VLOOKUP(A5890,Insumos!A:B,2,FALSE),\"\")","v":""}]
[null,null,{"$f":"IFERROR(VLOOKUP(A5891,Insumos!A:B,2,FALSE),\"\")","v":""}]
[null,null,{"$f":"IFERROR(VLOOKUP(A5892,Insumos!A:B,2,FALSE),\"\")","v":""}]
[null,null,{"$f":"IFERROR(VLOOKUP(A5893,Insumos!A:B,2,FALSE),\"\")","v":""}]
[null,null,{"$f":"IFERROR(VLOOKUP(A5894,Insumos!A:B,2,FALSE),\"\")","v":""}]
[null,null,{"$f":"IFERROR(VLOOKUP(A5895,Insumos!A:B,2,FALSE),\"\")","v":""}]
[null,null,{"$f":"IFERROR(VLOOKUP(A5896,Insumos!A:B,2,FALSE),\"\")","v":""}]
[null,null,{"$f":"IFERROR(VLOOKUP(A5897,Insumos!A:B,2,FALSE),\"\")","v":""}]
[null,null,{"$f":"IFERROR(VLOOKUP(A5898,Insumos!A:B,2,FALSE),\"\")","v":""}]
[null,null,{"$f":"IFERROR(VLOOKUP(A5899,Insumos!A:B,2,FALSE),\"\")","v":""}]
[null,null,{"$f":"IFERROR(VLOOKUP(A5900,Insumos!A:B,2,FALSE),\"\")","v":""}]
[null,null,{"$f":"IFERROR(VLOOKUP(A5901,Insumos!A:B,2,FALSE),\"\")","v":""}]
[null,null,{"$f":"IFERROR(VLOOKUP(A5902,Insumos!A:B,2,FALSE),\"\")","v":""}]
[null,null,{"$f":"IFERROR(VLOOKUP(A5903,Insumos!A:B,2,FALSE),\"\")","v":""}]
[null,null,{"$f":"IFERROR(VLOOKUP(A5904,Insumos!A:B,2,FALSE),\"\")","v":""}]
[null,null,{"$f":"IFERROR(VLOOKUP(A5905,Insumos!A:B,2,FALSE),\"\")","v":""}]
[null,null,{"$f":"IFERROR(VLOOKUP(A5906,Insumos!A:B,2,FALSE),\"\")","v":""}]
[null,null,{"$f":"IFERROR(VLOOKUP(A5907,Insumos!A:B,2,FALSE),\"\")","v":""}]
[null,null,{"$f":"IFERROR(VLOOKUP(A5908,Insumos!A:B,2,FALSE),\"\")","v":""}]
[null,null,{"$f":"IFERROR(VLOOKUP(A5909,Insumos!A:B,2,FALSE),\"\")","v":""}]
[null,null,{"$f":"IFERROR(VLOOKUP(A5910,Insumos!A:B,2,FALSE),\"\")","v":""}]
[null,null,{"$f":"IFERROR(VLOOKUP(A5911,Insumos!A:B,2,FALSE),\"\")","v":""}]
[null,null,{"$f":"IFERROR(VLOOKUP(A5912,Insumos!A:B,2,FALSE),\"\")","v":""}]
[null,null,{"$f":"IFERROR(VLOOKUP(A5913,Insumos!A:B,2,FALSE),\"\")","v":""}]
[null,null,{"$f":"IFERROR(VLOOKUP(A5914,Insumos!A:B,2,FALSE),\"\")","v":""}]
[null,null,{"$f":"IFERROR(VLOOKUP(A5915,Insumos!A:B,2,FALSE),\"\")","v":""}]
[null,null,{"$f":"IFERROR(VLOOKUP(A5916,Insumos!A:B,2,FALSE),\"\")","v":""}]
[null,null,{"$f":"IFERROR(VLOOKUP(A5917,Insumos!A:B,2,FALSE),\"\")","v":""}]
[null,null,{"$f":"IFERROR(VLOOKUP(A5918,Insumos!A:B,2,FALSE),\"\")","v":""}]
[null,null,{"$f":"IFERROR(VLOOKUP(A5919,Insumos!A:B,2,FALSE),\"\")","v":""}]
[null,null,{"$f":"IFERROR(VLOOKUP(A5920,Insumos!A:B,2,FALSE),\"\")","v":""}]
[null,null,{"$f":"IFERROR(VLOOKUP(A5921,Insumos!A:B,2,FALSE),\"\")","v":""}]
[null,null,{"$f":"IFERROR(VLOOKUP(A5922,Insumos!A:B,2,FALSE),\"\")","v":""}]
[null,null,{"$f":"IFERROR(VLOOKUP(A5923,Insumos!A:B,2,FALSE),\"\")","v":""}]
[null,null,{"$f":"IFERROR(VLOOKUP(A5924,Insumos!A:B,2,FALSE),\"\")","v":""}]
[null,null,{"$f":"IFERROR(VLOOKUP(A5925,Insumos!A:B,2,FALSE),\"\")","v":""}]
[null,null,{"$f":"IFERROR(VLOOKUP(A5926,Insumos!A:B,2,FALSE),\"\")","v":""}]
[null,null,{"$f":"IFERROR(VLOOKUP(A5927,Insumos!A:B,2,FALSE),\"\")","v":""}]
[null,null,{"$f":"IFERROR(VLOOKUP(A5928,Insumos!A:B,2,FALSE),\"\")","v":""}]
[null,null,{"$f":"IFERROR(VLOOKUP(A5929,Insumos!A:B,2,FALSE),\"\")","v":""}]
[null,null,{"$f":"IFERROR(VLOOKUP(A5930,Insumos!A:B,2,FALSE),\"\")","v":""}]
[null,null,{"$f":"IFERROR(VLOOKUP(A5931,Insumos!A:B,2,FALSE),\"\")","v":""}]
[null,null,{"$f":"IFERROR(VLOOKUP(A5932,Insumos!A:B,2,FALSE),\"\")","v":""}]
[null,null,{"$f":"IFERROR(VLOOKUP(A5933,Insumos!A:B,2,FALSE),\"\")","v":""}]
[null,null,{"$f":"IFERROR(VLOOKUP(A5934,Insumos!A:B,2,FALSE),\"\")","v":""}]
[null,null,{"$f":"IFERROR(VLOOKUP(A5935,Insumos!A:B,2,FALSE),\"\")","v":""}]
[null,null,{"$f":"IFERROR(VLOOKUP(A5936,Insumos!A:B,2,FALSE),\"\")","v":""}]
[null,null,{"$f":"IFERROR(VLOOKUP(A5937,Insumos!A:B,2,FALSE),\"\")","v":""}]
[null,null,{"$f":"IFERROR(VLOOKUP(A5938,Insumos!A:B,2,FALSE),\"\")","v":""}]
[null,null,{"$f":"IFERROR(VLOOKUP(A5939,Insumos!A:B,2,FALSE),\"\")","v":""}]
[null,null,{"$f":"IFERROR(VLOOKUP(A5940,Insumos!A:B,2,FALSE),\"\")","v":""}]
[null,null,{"$f":"IFERROR(VLOOKUP(A5941,Insumos!A:B,2,FALSE),\"\")","v":""}]
[null,null,{"$f":"IFERROR(VLOOKUP(A5942,Insumos!A:B,2,FALSE),\"\")","v":""}]
[null,null,{"$f":"IFERROR(VLOOKUP(A5943,Insumos!A:B,2,FALSE),\"\")","v":""}]
[null,null,{"$f":"IFERROR(VLOOKUP(A5944,Insumos!A:B,2,FALSE),\"\")","v":""}]
[null,null,{"$f":"IFERROR(VLOOKUP(A5945,Insumos!A:B,2,FALSE),\"\")","v":""}]
[null,null,{"$f":"IFERROR(VLOOKUP(A5946,Insumos!A:B,2,FALSE),\"\")","v":""}]
[null,null,{"$f":"IFERROR(VLOOKUP(A5947,Insumos!A:B,2,FALSE),\"\")","v":""}]
[null,null,{"$f":"IFERROR(VLOOKUP(A5948,Insumos!A:B,2,FALSE),\"\")","v":""}]
[null,null,{"$f":"IFERROR(VLOOKUP(A5949,Insumos!A:B,2,FALSE),\"\")","v":""}]
[null,null,{"$f":"IFERROR(VLOOKUP(A5950,Insumos!A:B,2,FALSE),\"\")","v":""}]
[null,null,{"$f":"IFERROR(VLOOKUP(A5951,Insumos!A:B,2,FALSE),\"\")","v":""}]
[null,null,{"$f":"IFERROR(VLOOKUP(A5952,Insumos!A:B,2,FALSE),\"\")","v":""}]
[null,null,{"$f":"IFERROR(VLOOKUP(A5953,Insumos!A:B,2,FALSE),\"\")","v":""}]
[null,null,{"$f":"IFERROR(VLOOKUP(A5954,Insumos!A:B,2,FALSE),\"\")","v":""}]
[null,null,{"$f":"IFERROR(VLOOKUP(A5955,Insumos!A:B,2,FALSE),\"\")","v":""}]
[null,null,{"$f":"IFERROR(VLOOKUP(A5956,Insumos!A:B,2,FALSE),\"\")","v":""}]
[null,null,{"$f":"IFERROR(VLOOKUP(A5957,Insumos!A:B,2,FALSE),\"\")","v":""}]
[null,null,{"$f":"IFERROR(VLOOKUP(A5958,Insumos!A:B,2,FALSE),\"\")","v":""}]
[null,null,{"$f":"IFERROR(VLOOKUP(A5959,Insumos!A:B,2,FALSE),\"\")","v":""}]
[null,null,{"$f":"IFERROR(VLOOKUP(A5960,Insumos!A:B,2,FALSE),\"\")","v":""}]
[null,null,{"$f":"IFERROR(VLOOKUP(A5961,Insumos!A:B,2,FALSE),\"\")","v":""}]
[null,null,{"$f":"IFERROR(VLOOKUP(A5962,Insumos!A:B,2,FALSE),\"\")","v":""}]
[null,null,{"$f":"IFERROR(VLOOKUP(A5963,Insumos!A:B,2,FALSE),\"\")","v":""}]
[null,null,{"$f":"IFERROR(VLOOKUP(A5964,Insumos!A:B,2,FALSE),\"\")","v":""}]
[null,null,{"$f":"IFERROR(VLOOKUP(A5965,Insumos!A:B,2,FALSE),\"\")","v":""}]
[null,null,{"$f":"IFERROR(VLOOKUP(A5966,Insumos!A:B,2,FALSE),\"\")","v":""}]
[null,null,{"$f":"IFERROR(VLOOKUP(A5967,Insumos!A:B,2,FALSE),\"\")","v":""}]
[null,null,{"$f":"IFERROR(VLOOKUP(A5968,Insumos!A:B,2,FALSE),\"\")","v":""}]
[null,null,{"$f":"IFERROR(VLOOKUP(A5969,Insumos!A:B,2,FALSE),\"\")","v":""}]
[null,null,{"$f":"IFERROR(VLOOKUP(A5970,Insumos!A:B,2,FALSE),\"\")","v":""}]
[null,null,{"$f":"IFERROR(VLOOKUP(A5971,Insumos!A:B,2,FALSE),\"\")","v":""}]
[null,null,{"$f":"IFERROR(VLOOKUP(A5972,Insumos!A:B,2,FALSE),\"\")","v":""}]
[null,null,{"$f":"IFERROR(VLOOKUP(A5973,Insumos!A:B,2,FALSE),\"\")","v":""}]
[null,null,{"$f":"IFERROR(VLOOKUP(A5974,Insumos!A:B,2,FALSE),\"\")","v":""}]
[null,null,{"$f":"IFERROR(VLOOKUP(A5975,Insumos!A:B,2,FALSE),\"\")","v":""}]
[null,null,{"$f":"IFERROR(VLOOKUP(A5976,Insumos!A:B,2,FALSE),\"\")","v":""}]
[null,null,{"$f":"IFERROR(VLOOKUP(A5977,Insumos!A:B,2,FALSE),\"\")","v":""}]
[null,null,{"$f":"IFERROR(VLOOKUP(A5978,Insumos!A:B,2,FALSE),\"\")","v":""}]
[null,null,{"$f":"IFERROR(VLOOKUP(A5979,Insumos!A:B,2,FALSE),\"\")","v":""}]
[null,null,{"$f":"IFERROR(VLOOKUP(A5980,Insumos!A:B,2,FALSE),\"\")","v":""}]
[null,null,{"$f":"IFERROR(VLOOKUP(A5981,Insumos!A:B,2,FALSE),\"\")","v":""}]
[null,null,{"$f":"IFERROR(VLOOKUP(A5982,Insumos!A:B,2,FALSE),\"\")","v":""}]
[null,null,{"$f":"IFERROR(VLOOKUP(A5983,Insumos!A:B,2,FALSE),\"\")","v":""}]
[null,null,{"$f":"IFERROR(VLOOKUP(A5984,Insumos!A:B,2,FALSE),\"\")","v":""}]
[null,null,{"$f":"IFERROR(VLOOKUP(A5985,Insumos!A:B,2,FALSE),\"\")","v":""}]
[null,null,{"$f":"IFERROR(VLOOKUP(A5986,Insumos!A:B,2,FALSE),\"\")","v":""}]
[null,null,{"$f":"IFERROR(VLOOKUP(A5987,Insumos!A:B,2,FALSE),\"\")","v":""}]
[null,null,{"$f":"IFERROR(VLOOKUP(A5988,Insumos!A:B,2,FALSE),\"\")","v":""}]
[null,null,{"$f":"IFERROR(VLOOKUP(A5989,Insumos!A:B,2,FALSE),\"\")","v":""}]
[null,null,{"$f":"IFERROR(VLOOKUP(A5990,Insumos!A:B,2,FALSE),\"\")","v":""}]
[null,null,{"$f":"IFERROR(VLOOKUP(A5991,Insumos!A:B,2,FALSE),\"\")","v":""}]
[null,null,{"$f":"IFERROR(VLOOKUP(A5992,Insumos!A:B,2,FALSE),\"\")","v":""}]
[null,null,{"$f":"IFERROR(VLOOKUP(A5993,Insumos!A:B,2,FALSE),\"\")","v":""}]
[null,null,{"$f":"IFERROR(VLOOKUP(A5994,Insumos!A:B,2,FALSE),\"\")","v":""}]
[null,null,{"$f":"IFERROR(VLOOKUP(A5995,Insumos!A:B,2,FALSE),\"\")","v":""}]
[null,null,{"$f":"IFERROR(VLOOKUP(A5996,Insumos!A:B,2,FALSE),\"\")","v":""}]
[null,null,{"$f":"IFERROR(VLOOKUP(A5997,Insumos!A:B,2,FALSE),\"\")","v":""}]
[null,null,{"$f":"IFERROR(VLOOKUP(A5998,Insumos!A:B,2,FALSE),\"\")","v":""}]
[null,null,{"$f":"IFERROR(VLOOKUP(A5999,Insumos!A:B,2,FALSE),\"\")","v":""}]
[null,null,{"$f":"IFERROR(VLOOKUP(A6000,Insumos!A:B,2,FALSE),\"\")","v":""}]
[null,null,{"$f":"IFERROR(VLOOKUP(A6001,Insumos!A:B,2,FALSE),\"\")","v":""}]
[null,null,{"$f":"IFERROR(VLOOKUP(A6002,Insumos!A:B,2,FALSE),\"\")","v":""}]
[null,null,{"$f":"IFERROR(VLOOKUP(A6003,Insumos!A:B,2,FALSE),\"\")","v":""}]
[null,null,{"$f":"IFERROR(VLOOKUP(A6004,Insumos!A:B,2,FALSE),\"\")","v":""}]
[null,null,{"$f":"IFERROR(VLOOKUP(A6005,Insumos!A:B,2,FALSE),\"\")","v":""}]
[null,null,{"$f":"IFERROR(VLOOKUP(A6006,Insumos!A:B,2,FALSE),\"\")","v":""}]
[null,null,{"$f":"IFERROR(VLOOKUP(A6007,Insumos!A:B,2,FALSE),\"\")","v":""}]
[null,null,{"$f":"IFERROR(VLOOKUP(A6008,Insumos!A:B,2,FALSE),\"\")","v":""}]
[null,null,{"$f":"IFERROR(VLOOKUP(A6009,Insumos!A:B,2,FALSE),\"\")","v":""}]
[null,null,{"$f":"IFERROR(VLOOKUP(A6010,Insumos!A:B,2,FALSE),\"\")","v":""}]
[null,null,{"$f":"IFERROR(VLOOKUP(A6011,Insumos!A:B,2,FALSE),\"\")","v":""}]
[null,null,{"$f":"IFERROR(VLOOKUP(A6012,Insumos!A:B,2,FALSE),\"\")","v":""}]
[null,null,{"$f":"IFERROR(VLOOKUP(A6013,Insumos!A:B,2,FALSE),\"\")","v":""}]
[null,null,{"$f":"IFERROR(VLOOKUP(A6014,Insumos!A:B,2,FALSE),\"\")","v":""}]
[null,null,{"$f":"IFERROR(VLOOKUP(A6015,Insumos!A:B,2,FALSE),\"\")","v":""}]
[null,null,{"$f":"IFERROR(VLOOKUP(A6016,Insumos!A:B,2,FALSE),\"\")","v":""}]
[null,null,{"$f":"IFERROR(VLOOKUP(A6017,Insumos!A:B,2,FALSE),\"\")","v":""}]
[null,null,{"$f":"IFERROR(VLOOKUP(A6018,Insumos!A:B,2,FALSE),\"\")","v":""}]
[null,null,{"$f":"IFERROR(VLOOKUP(A6019,Insumos!A:B,2,FALSE),\"\")","v":""}]
[null,null,{"$f":"IFERROR(VLOOKUP(A6020,Insumos!A:B,2,FALSE),\"\")","v":""}]
[null,null,{"$f":"IFERROR(VLOOKUP(A6021,Insumos!A:B,2,FALSE),\"\")","v":""}]
[null,null,{"$f":"IFERROR(VLOOKUP(A6022,Insumos!A:B,2,FALSE),\"\")","v":""}]
[null,null,{"$f":"IFERROR(VLOOKUP(A6023,Insumos!A:B,2,FALSE),\"\")","v":""}]
[null,null,{"$f":"IFERROR(VLOOKUP(A6024,Insumos!A:B,2,FALSE),\"\")","v":""}]
[null,null,{"$f":"IFERROR(VLOOKUP(A6025,Insumos!A:B,2,FALSE),\"\")","v":""}]
[null,null,{"$f":"IFERROR(VLOOKUP(A6026,Insumos!A:B,2,FALSE),\"\")","v":""}]
[null,null,{"$f":"IFERROR(VLOOKUP(A6027,Insumos!A:B,2,FALSE),\"\")","v":""}]
[null,null,{"$f":"IFERROR(VLOOKUP(A6028,Insumos!A:B,2,FALSE),\"\")","v":""}]
[null,null,{"$f":"IFERROR(VLOOKUP(A6029,Insumos!A:B,2,FALSE),\"\")","v":""}]
[null,null,{"$f":"IFERROR(VLOOKUP(A6030,Insumos!A:B,2,FALSE),\"\")","v":""}]
[null,null,{"$f":"IFERROR(VLOOKUP(A6031,Insumos!A:B,2,FALSE),\"\")","v":""}]
[null,null,{"$f":"IFERROR(VLOOKUP(A6032,Insumos!A:B,2,FALSE),\"\")","v":""}]
[null,null,{"$f":"IFERROR(VLOOKUP(A6033,Insumos!A:B,2,FALSE),\"\")","v":""}]
[null,null,{"$f":"IFERROR(VLOOKUP(A6034,Insumos!A:B,2,FALSE),\"\")","v":""}]
[null,null,{"$f":"IFERROR(VLOOKUP(A6035,Insumos!A:B,2,FALSE),\"\")","v":""}]
[null,null,{"$f":"IFERROR(VLOOKUP(A6036,Insumos!A:B,2,FALSE),\"\")","v":""}]
[null,null,{"$f":"IFERROR(VLOOKUP(A6037,Insumos!A:B,2,FALSE),\"\")","v":""}]
[null,null,{"$f":"IFERROR(VLOOKUP(A6038,Insumos!A:B,2,FALSE),\"\")","v":""}]
[null,null,{"$f":"IFERROR(VLOOKUP(A6039,Insumos!A:B,2,FALSE),\"\")","v":""}]
[null,null,{"$f":"IFERROR(VLOOKUP(A6040,Insumos!A:B,2,FALSE),\"\")","v":""}]
[null,null,{"$f":"IFERROR(VLOOKUP(A6041,Insumos!A:B,2,FALSE),\"\")","v":""}]
[null,null,{"$f":"IFERROR(VLOOKUP(A6042,Insumos!A:B,2,FALSE),\"\")","v":""}]
[null,null,{"$f":"IFERROR(VLOOKUP(A6043,Insumos!A:B,2,FALSE),\"\")","v":""}]
[null,null,{"$f":"IFERROR(VLOOKUP(A6044,Insumos!A:B,2,FALSE),\"\")","v":""}]
[null,null,{"$f":"IFERROR(VLOOKUP(A6045,Insumos!A:B,2,FALSE),\"\")","v":""}]
[null,null,{"$f":"IFERROR(VLOOKUP(A6046,Insumos!A:B,2,FALSE),\"\")","v":""}]
[null,null,{"$f":"IFERROR(VLOOKUP(A6047,Insumos!A:B,2,FALSE),\"\")","v":""}]
[null,null,{"$f":"IFERROR(VLOOKUP(A6048,Insumos!A:B,2,FALSE),\"\")","v":""}]
[null,null,{"$f":"IFERROR(VLOOKUP(A6049,Insumos!A:B,2,FALSE),\"\")","v":""}]
[null,null,{"$f":"IFERROR(VLOOKUP(A6050,Insumos!A:B,2,FALSE),\"\")","v":""}]
[null,null,{"$f":"IFERROR(VLOOKUP(A6051,Insumos!A:B,2,FALSE),\"\")","v":""}]
[null,null,{"$f":"IFERROR(VLOOKUP(A6052,Insumos!A:B,2,FALSE),\"\")","v":""}]
[null,null,{"$f":"IFERROR(VLOOKUP(A6053,Insumos!A:B,2,FALSE),\"\")","v":""}]
[null,null,{"$f":"IFERROR(VLOOKUP(A6054,Insumos!A:B,2,FALSE),\"\")","v":""}]
[null,null,{"$f":"IFERROR(VLOOKUP(A6055,Insumos!A:B,2,FALSE),\"\")","v":""}]
[null,null,{"$f":"IFERROR(VLOOKUP(A6056,Insumos!A:B,2,FALSE),\"\")","v":""}]
[null,null,{"$f":"IFERROR(VLOOKUP(A6057,Insumos!A:B,2,FALSE),\"\")","v":""}]
[null,null,{"$f":"IFERROR(VLOOKUP(A6058,Insumos!A:B,2,FALSE),\"\")","v":""}]
[null,null,{"$f":"IFERROR(VLOOKUP(A6059,Insumos!A:B,2,FALSE),\"\")","v":""}]
[null,null,{"$f":"IFERROR(VLOOKUP(A6060,Insumos!A:B,2,FALSE),\"\")","v":""}]
[null,null,{"$f":"IFERROR(VLOOKUP(A6061,Insumos!A:B,2,FALSE),\"\")","v":""}]
[null,null,{"$f":"IFERROR(VLOOKUP(A6062,Insumos!A:B,2,FALSE),\"\")","v":""}]
[null,null,{"$f":"IFERROR(VLOOKUP(A6063,Insumos!A:B,2,FALSE),\"\")","v":""}]
[null,null,{"$f":"IFERROR(VLOOKUP(A6064,Insumos!A:B,2,FALSE),\"\")","v":""}]
[null,null,{"$f":"IFERROR(VLOOKUP(A6065,Insumos!A:B,2,FALSE),\"\")","v":""}]
[null,null,{"$f":"IFERROR(VLOOKUP(A6066,Insumos!A:B,2,FALSE),\"\")","v":""}]
[null,null,{"$f":"IFERROR(VLOOKUP(A6067,Insumos!A:B,2,FALSE),\"\")","v":""}]
[null,null,{"$f":"IFERROR(VLOOKUP(A6068,Insumos!A:B,2,FALSE),\"\")","v":""}]
[null,null,{"$f":"IFERROR(VLOOKUP(A6069,Insumos!A:B,2,FALSE),\"\")","v":""}]
[null,null,{"$f":"IFERROR(VLOOKUP(A6070,Insumos!A:B,2,FALSE),\"\")","v":""}]
[null,null,{"$f":"IFERROR(VLOOKUP(A6071,Insumos!A:B,2,FALSE),\"\")","v":""}]
[null,null,{"$f":"IFERROR(VLOOKUP(A6072,Insumos!A:B,2,FALSE),\"\")","v":""}]
[null,null,{"$f":"IFERROR(VLOOKUP(A6073,Insumos!A:B,2,FALSE),\"\")","v":""}]
[null,null,{"$f":"IFERROR(VLOOKUP(A6074,Insumos!A:B,2,FALSE),\"\")","v":""}]
[null,null,{"$f":"IFERROR(VLOOKUP(A6075,Insumos!A:B,2,FALSE),\"\")","v":""}]
[null,null,{"$f":"IFERROR(VLOOKUP(A6076,Insumos!A:B,2,FALSE),\"\")","v":""}]
[null,null,{"$f":"IFERROR(VLOOKUP(A6077,Insumos!A:B,2,FALSE),\"\")","v":""}]
[null,null,{"$f":"IFERROR(VLOOKUP(A6078,Insumos!A:B,2,FALSE),\"\")","v":""}]
[null,null,{"$f":"IFERROR(VLOOKUP(A6079,Insumos!A:B,2,FALSE),\"\")","v":""}]
[null,null,{"$f":"IFERROR(VLOOKUP(A6080,Insumos!A:B,2,FALSE),\"\")","v":""}]
[null,null,{"$f":"IFERROR(VLOOKUP(A6081,Insumos!A:B,2,FALSE),\"\")","v":""}]
[null,null,{"$f":"IFERROR(VLOOKUP(A6082,Insumos!A:B,2,FALSE),\"\")","v":""}]
[null,null,{"$f":"IFERROR(VLOOKUP(A6083,Insumos!A:B,2,FALSE),\"\")","v":""}]
[null,null,{"$f":"IFERROR(VLOOKUP(A6084,Insumos!A:B,2,FALSE),\"\")","v":""}]
[null,null,{"$f":"IFERROR(VLOOKUP(A6085,Insumos!A:B,2,FALSE),\"\")","v":""}]
[null,null,{"$f":"IFERROR(VLOOKUP(A6086,Insumos!A:B,2,FALSE),\"\")","v":""}]
[null,null,{"$f":"IFERROR(VLOOKUP(A6087,Insumos!A:B,2,FALSE),\"\")","v":""}]
[null,null,{"$f":"IFERROR(VLOOKUP(A6088,Insumos!A:B,2,FALSE),\"\")","v":""}]
[null,null,{"$f":"IFERROR(VLOOKUP(A6089,Insumos!A:B,2,FALSE),\"\")","v":""}]
[null,null,{"$f":"IFERROR(VLOOKUP(A6090,Insumos!A:B,2,FALSE),\"\")","v":""}]
[null,null,{"$f":"IFERROR(VLOOKUP(A6091,Insumos!A:B,2,FALSE),\"\")","v":""}]
[null,null,{"$f":"IFERROR(VLOOKUP(A6092,Insumos!A:B,2,FALSE),\"\")","v":""}]
[null,null,{"$f":"IFERROR(VLOOKUP(A6093,Insumos!A:B,2,FALSE),\"\")","v":""}]
[null,null,{"$f":"IFERROR(VLOOKUP(A6094,Insumos!A:B,2,FALSE),\"\")","v":""}]
[null,null,{"$f":"IFERROR(VLOOKUP(A6095,Insumos!A:B,2,FALSE),\"\")","v":""}]
[null,null,{"$f":"IFERROR(VLOOKUP(A6096,Insumos!A:B,2,FALSE),\"\")","v":""}]
[null,null,{"$f":"IFERROR(VLOOKUP(A6097,Insumos!A:B,2,FALSE),\"\")","v":""}]
[null,null,{"$f":"IFERROR(VLOOKUP(A6098,Insumos!A:B,2,FALSE),\"\")","v":""}]
[null,null,{"$f":"IFERROR(VLOOKUP(A6099,Insumos!A:B,2,FALSE),\"\")","v":""}]
[null,null,{"$f":"IFERROR(VLOOKUP(A6100,Insumos!A:B,2,FALSE),\"\")","v":""}]
[null,null,{"$f":"IFERROR(VLOOKUP(A6101,Insumos!A:B,2,FALSE),\"\")","v":""}]
[null,null,{"$f":"IFERROR(VLOOKUP(A6102,Insumos!A:B,2,FALSE),\"\")","v":""}]
[null,null,{"$f":"IFERROR(VLOOKUP(A6103,Insumos!A:B,2,FALSE),\"\")","v":""}]
[null,null,{"$f":"IFERROR(VLOOKUP(A6104,Insumos!A:B,2,FALSE),\"\")","v":""}]
[null,null,{"$f":"IFERROR(VLOOKUP(A6105,Insumos!A:B,2,FALSE),\"\")","v":""}]
[null,null,{"$f":"IFERROR(VLOOKUP(A6106,Insumos!A:B,2,FALSE),\"\")","v":""}]
[null,null,{"$f":"IFERROR(VLOOKUP(A6107,Insumos!A:B,2,FALSE),\"\")","v":""}]
[null,null,{"$f":"IFERROR(VLOOKUP(A6108,Insumos!A:B,2,FALSE),\"\")","v":""}]
[null,null,{"$f":"IFERROR(VLOOKUP(A6109,Insumos!A:B,2,FALSE),\"\")","v":""}]
[null,null,{"$f":"IFERROR(VLOOKUP(A6110,Insumos!A:B,2,FALSE),\"\")","v":""}]
[null,null,{"$f":"IFERROR(VLOOKUP(A6111,Insumos!A:B,2,FALSE),\"\")","v":""}]
[null,null,{"$f":"IFERROR(VLOOKUP(A6112,Insumos!A:B,2,FALSE),\"\")","v":""}]
[null,null,{"$f":"IFERROR(VLOOKUP(A6113,Insumos!A:B,2,FALSE),\"\")","v":""}]
[null,null,{"$f":"IFERROR(VLOOKUP(A6114,Insumos!A:B,2,FALSE),\"\")","v":""}]
[null,null,{"$f":"IFERROR(VLOOKUP(A6115,Insumos!A:B,2,FALSE),\"\")","v":""}]
[null,null,{"$f":"IFERROR(VLOOKUP(A6116,Insumos!A:B,2,FALSE),\"\")","v":""}]
[null,null,{"$f":"IFERROR(VLOOKUP(A6117,Insumos!A:B,2,FALSE),\"\")","v":""}]
[null,null,{"$f":"IFERROR(VLOOKUP(A6118,Insumos!A:B,2,FALSE),\"\")","v":""}]
[null,null,{"$f":"IFERROR(VLOOKUP(A6119,Insumos!A:B,2,FALSE),\"\")","v":""}]
[null,null,{"$f":"IFERROR(VLOOKUP(A6120,Insumos!A:B,2,FALSE),\"\")","v":""}]
[null,null,{"$f":"IFERROR(VLOOKUP(A6121,Insumos!A:B,2,FALSE),\"\")","v":""}]
[null,null,{"$f":"IFERROR(VLOOKUP(A6122,Insumos!A:B,2,FALSE),\"\")","v":""}]
[null,null,{"$f":"IFERROR(VLOOKUP(A6123,Insumos!A:B,2,FALSE),\"\")","v":""}]
[null,null,{"$f":"IFERROR(VLOOKUP(A6124,Insumos!A:B,2,FALSE),\"\")","v":""}]
[null,null,{"$f":"IFERROR(VLOOKUP(A6125,Insumos!A:B,2,FALSE),\"\")","v":""}]
[null,null,{"$f":"IFERROR(VLOOKUP(A6126,Insumos!A:B,2,FALSE),\"\")","v":""}]
[null,null,{"$f":"IFERROR(VLOOKUP(A6127,Insumos!A:B,2,FALSE),\"\")","v":""}]
[null,null,{"$f":"IFERROR(VLOOKUP(A6128,Insumos!A:B,2,FALSE),\"\")","v":""}]
[null,null,{"$f":"IFERROR(VLOOKUP(A6129,Insumos!A:B,2,FALSE),\"\")","v":""}]
[null,null,{"$f":"IFERROR(VLOOKUP(A6130,Insumos!A:B,2,FALSE),\"\")","v":""}]
[null,null,{"$f":"IFERROR(VLOOKUP(A6131,Insumos!A:B,2,FALSE),\"\")","v":""}]
[null,null,{"$f":"IFERROR(VLOOKUP(A6132,Insumos!A:B,2,FALSE),\"\")","v":""}]
[null,null,{"$f":"IFERROR(VLOOKUP(A6133,Insumos!A:B,2,FALSE),\"\")","v":""}]
[null,null,{"$f":"IFERROR(VLOOKUP(A6134,Insumos!A:B,2,FALSE),\"\")","v":""}]
[null,null,{"$f":"IFERROR(VLOOKUP(A6135,Insumos!A:B,2,FALSE),\"\")","v":""}]
[null,null,{"$f":"IFERROR(VLOOKUP(A6136,Insumos!A:B,2,FALSE),\"\")","v":""}]
[null,null,{"$f":"IFERROR(VLOOKUP(A6137,Insumos!A:B,2,FALSE),\"\")","v":""}]
[null,null,{"$f":"IFERROR(VLOOKUP(A6138,Insumos!A:B,2,FALSE),\"\")","v":""}]
[null,null,{"$f":"IFERROR(VLOOKUP(A6139,Insumos!A:B,2,FALSE),\"\")","v":""}]
[null,null,{"$f":"IFERROR(VLOOKUP(A6140,Insumos!A:B,2,FALSE),\"\")","v":""}]
[null,null,{"$f":"IFERROR(VLOOKUP(A6141,Insumos!A:B,2,FALSE),\"\")","v":""}]
[null,null,{"$f":"IFERROR(VLOOKUP(A6142,Insumos!A:B,2,FALSE),\"\")","v":""}]
[null,null,{"$f":"IFERROR(VLOOKUP(A6143,Insumos!A:B,2,FALSE),\"\")","v":""}]
[null,null,{"$f":"IFERROR(VLOOKUP(A6144,Insumos!A:B,2,FALSE),\"\")","v":""}]
[null,null,{"$f":"IFERROR(VLOOKUP(A6145,Insumos!A:B,2,FALSE),\"\")","v":""}]
[null,null,{"$f":"IFERROR(VLOOKUP(A6146,Insumos!A:B,2,FALSE),\"\")","v":""}]
[null,null,{"$f":"IFERROR(VLOOKUP(A6147,Insumos!A:B,2,FALSE),\"\")","v":""}]
[null,null,{"$f":"IFERROR(VLOOKUP(A6148,Insumos!A:B,2,FALSE),\"\")","v":""}]
[null,null,{"$f":"IFERROR(VLOOKUP(A6149,Insumos!A:B,2,FALSE),\"\")","v":""}]
[null,null,{"$f":"IFERROR(VLOOKUP(A6150,Insumos!A:B,2,FALSE),\"\")","v":""}]
[null,null,{"$f":"IFERROR(VLOOKUP(A6151,Insumos!A:B,2,FALSE),\"\")","v":""}]
[null,null,{"$f":"IFERROR(VLOOKUP(A6152,Insumos!A:B,2,FALSE),\"\")","v":""}]
[null,null,{"$f":"IFERROR(VLOOKUP(A6153,Insumos!A:B,2,FALSE),\"\")","v":""}]
[null,null,{"$f":"IFERROR(VLOOKUP(A6154,Insumos!A:B,2,FALSE),\"\")","v":""}]
[null,null,{"$f":"IFERROR(VLOOKUP(A6155,Insumos!A:B,2,FALSE),\"\")","v":""}]
[null,null,{"$f":"IFERROR(VLOOKUP(A6156,Insumos!A:B,2,FALSE),\"\")","v":""}]
[null,null,{"$f":"IFERROR(VLOOKUP(A6157,Insumos!A:B,2,FALSE),\"\")","v":""}]
[null,null,{"$f":"IFERROR(VLOOKUP(A6158,Insumos!A:B,2,FALSE),\"\")","v":""}]
[null,null,{"$f":"IFERROR(VLOOKUP(A6159,Insumos!A:B,2,FALSE),\"\")","v":""}]
[null,null,{"$f":"IFERROR(VLOOKUP(A6160,Insumos!A:B,2,FALSE),\"\")","v":""}]
[null,null,{"$f":"IFERROR(VLOOKUP(A6161,Insumos!A:B,2,FALSE),\"\")","v":""}]
[null,null,{"$f":"IFERROR(VLOOKUP(A6162,Insumos!A:B,2,FALSE),\"\")","v":""}]
[null,null,{"$f":"IFERROR(VLOOKUP(A6163,Insumos!A:B,2,FALSE),\"\")","v":""}]
[null,null,{"$f":"IFERROR(VLOOKUP(A6164,Insumos!A:B,2,FALSE),\"\")","v":""}]
[null,null,{"$f":"IFERROR(VLOOKUP(A6165,Insumos!A:B,2,FALSE),\"\")","v":""}]
[null,null,{"$f":"IFERROR(VLOOKUP(A6166,Insumos!A:B,2,FALSE),\"\")","v":""}]
[null,null,{"$f":"IFERROR(VLOOKUP(A6167,Insumos!A:B,2,FALSE),\"\")","v":""}]
[null,null,{"$f":"IFERROR(VLOOKUP(A6168,Insumos!A:B,2,FALSE),\"\")","v":""}]
[null,null,{"$f":"IFERROR(VLOOKUP(A6169,Insumos!A:B,2,FALSE),\"\")","v":""}]
[null,null,{"$f":"IFERROR(VLOOKUP(A6170,Insumos!A:B,2,FALSE),\"\")","v":""}]
[null,null,{"$f":"IFERROR(VLOOKUP(A6171,Insumos!A:B,2,FALSE),\"\")","v":""}]
[null,null,{"$f":"IFERROR(VLOOKUP(A6172,Insumos!A:B,2,FALSE),\"\")","v":""}]
[null,null,{"$f":"IFERROR(VLOOKUP(A6173,Insumos!A:B,2,FALSE),\"\")","v":""}]
[null,null,{"$f":"IFERROR(VLOOKUP(A6174,Insumos!A:B,2,FALSE),\"\")","v":""}]
[null,null,{"$f":"IFERROR(VLOOKUP(A6175,Insumos!A:B,2,FALSE),\"\")","v":""}]
[null,null,{"$f":"IFERROR(VLOOKUP(A6176,Insumos!A:B,2,FALSE),\"\")","v":""}]
[null,null,{"$f":"IFERROR(VLOOKUP(A6177,Insumos!A:B,2,FALSE),\"\")","v":""}]
[null,null,{"$f":"IFERROR(VLOOKUP(A6178,Insumos!A:B,2,FALSE),\"\")","v":""}]
[null,null,{"$f":"IFERROR(VLOOKUP(A6179,Insumos!A:B,2,FALSE),\"\")","v":""}]
[null,null,{"$f":"IFERROR(VLOOKUP(A6180,Insumos!A:B,2,FALSE),\"\")","v":""}]
[null,null,{"$f":"IFERROR(VLOOKUP(A6181,Insumos!A:B,2,FALSE),\"\")","v":""}]
[null,null,{"$f":"IFERROR(VLOOKUP(A6182,Insumos!A:B,2,FALSE),\"\")","v":""}]
[null,null,{"$f":"IFERROR(VLOOKUP(A6183,Insumos!A:B,2,FALSE),\"\")","v":""}]
[null,null,{"$f":"IFERROR(VLOOKUP(A6184,Insumos!A:B,2,FALSE),\"\")","v":""}]
[null,null,{"$f":"IFERROR(VLOOKUP(A6185,Insumos!A:B,2,FALSE),\"\")","v":""}]
[null,null,{"$f":"IFERROR(VLOOKUP(A6186,Insumos!A:B,2,FALSE),\"\")","v":""}]
[null,null,{"$f":"IFERROR(VLOOKUP(A6187,Insumos!A:B,2,FALSE),\"\")","v":""}]
[null,null,{"$f":"IFERROR(VLOOKUP(A6188,Insumos!A:B,2,FALSE),\"\")","v":""}]
[null,null,{"$f":"IFERROR(VLOOKUP(A6189,Insumos!A:B,2,FALSE),\"\")","v":""}]
[null,null,{"$f":"IFERROR(VLOOKUP(A6190,Insumos!A:B,2,FALSE),\"\")","v":""}]
[null,null,{"$f":"IFERROR(VLOOKUP(A6191,Insumos!A:B,2,FALSE),\"\")","v":""}]
[null,null,{"$f":"IFERROR(VLOOKUP(A6192,Insumos!A:B,2,FALSE),\"\")","v":""}]
[null,null,{"$f":"IFERROR(VLOOKUP(A6193,Insumos!A:B,2,FALSE),\"\")","v":""}]
[null,null,{"$f":"IFERROR(VLOOKUP(A6194,Insumos!A:B,2,FALSE),\"\")","v":""}]
[null,null,{"$f":"IFERROR(VLOOKUP(A6195,Insumos!A:B,2,FALSE),\"\")","v":""}]
[null,null,{"$f":"IFERROR(VLOOKUP(A6196,Insumos!A:B,2,FALSE),\"\")","v":""}]
[null,null,{"$f":"IFERROR(VLOOKUP(A6197,Insumos!A:B,2,FALSE),\"\")","v":""}]
[null,null,{"$f":"IFERROR(VLOOKUP(A6198,Insumos!A:B,2,FALSE),\"\")","v":""}]
[null,null,{"$f":"IFERROR(VLOOKUP(A6199,Insumos!A:B,2,FALSE),\"\")","v":""}]
[null,null,{"$f":"IFERROR(VLOOKUP(A6200,Insumos!A:B,2,FALSE),\"\")","v":""}]
[null,null,{"$f":"IFERROR(VLOOKUP(A6201,Insumos!A:B,2,FALSE),\"\")","v":""}]
[null,null,{"$f":"IFERROR(VLOOKUP(A6202,Insumos!A:B,2,FALSE),\"\")","v":""}]
[null,null,{"$f":"IFERROR(VLOOKUP(A6203,Insumos!A:B,2,FALSE),\"\")","v":""}]
[null,null,{"$f":"IFERROR(VLOOKUP(A6204,Insumos!A:B,2,FALSE),\"\")","v":""}]
[null,null,{"$f":"IFERROR(VLOOKUP(A6205,Insumos!A:B,2,FALSE),\"\")","v":""}]
[null,null,{"$f":"IFERROR(VLOOKUP(A6206,Insumos!A:B,2,FALSE),\"\")","v":""}]
[null,null,{"$f":"IFERROR(VLOOKUP(A6207,Insumos!A:B,2,FALSE),\"\")","v":""}]
[null,null,{"$f":"IFERROR(VLOOKUP(A6208,Insumos!A:B,2,FALSE),\"\")","v":""}]
[null,null,{"$f":"IFERROR(VLOOKUP(A6209,Insumos!A:B,2,FALSE),\"\")","v":""}]
[null,null,{"$f":"IFERROR(VLOOKUP(A6210,Insumos!A:B,2,FALSE),\"\")","v":""}]
[null,null,{"$f":"IFERROR(VLOOKUP(A6211,Insumos!A:B,2,FALSE),\"\")","v":""}]
[null,null,{"$f":"IFERROR(VLOOKUP(A6212,Insumos!A:B,2,FALSE),\"\")","v":""}]
[null,null,{"$f":"IFERROR(VLOOKUP(A6213,Insumos!A:B,2,FALSE),\"\")","v":""}]
[null,null,{"$f":"IFERROR(VLOOKUP(A6214,Insumos!A:B,2,FALSE),\"\")","v":""}]
[null,null,{"$f":"IFERROR(VLOOKUP(A6215,Insumos!A:B,2,FALSE),\"\")","v":""}]
[null,null,{"$f":"IFERROR(VLOOKUP(A6216,Insumos!A:B,2,FALSE),\"\")","v":""}]
[null,null,{"$f":"IFERROR(VLOOKUP(A6217,Insumos!A:B,2,FALSE),\"\")","v":""}]
[null,null,{"$f":"IFERROR(VLOOKUP(A6218,Insumos!A:B,2,FALSE),\"\")","v":""}]
[null,null,{"$f":"IFERROR(VLOOKUP(A6219,Insumos!A:B,2,FALSE),\"\")","v":""}]
[null,null,{"$f":"IFERROR(VLOOKUP(A6220,Insumos!A:B,2,FALSE),\"\")","v":""}]
[null,null,{"$f":"IFERROR(VLOOKUP(A6221,Insumos!A:B,2,FALSE),\"\")","v":""}]
[null,null,{"$f":"IFERROR(VLOOKUP(A6222,Insumos!A:B,2,FALSE),\"\")","v":""}]
[null,null,{"$f":"IFERROR(VLOOKUP(A6223,Insumos!A:B,2,FALSE),\"\")","v":""}]
[null,null,{"$f":"IFERROR(VLOOKUP(A6224,Insumos!A:B,2,FALSE),\"\")","v":""}]
[null,null,{"$f":"IFERROR(VLOOKUP(A6225,Insumos!A:B,2,FALSE),\"\")","v":""}]
[null,null,{"$f":"IFERROR(VLOOKUP(A6226,Insumos!A:B,2,FALSE),\"\")","v":""}]
[null,null,{"$f":"IFERROR(VLOOKUP(A6227,Insumos!A:B,2,FALSE),\"\")","v":""}]
[null,null,{"$f":"IFERROR(VLOOKUP(A6228,Insumos!A:B,2,FALSE),\"\")","v":""}]
[null,null,{"$f":"IFERROR(VLOOKUP(A6229,Insumos!A:B,2,FALSE),\"\")","v":""}]
[null,null,{"$f":"IFERROR(VLOOKUP(A6230,Insumos!A:B,2,FALSE),\"\")","v":""}]
[null,null,{"$f":"IFERROR(VLOOKUP(A6231,Insumos!A:B,2,FALSE),\"\")","v":""}]
[null,null,{"$f":"IFERROR(VLOOKUP(A6232,Insumos!A:B,2,FALSE),\"\")","v":""}]
[null,null,{"$f":"IFERROR(VLOOKUP(A6233,Insumos!A:B,2,FALSE),\"\")","v":""}]
[null,null,{"$f":"IFERROR(VLOOKUP(A6234,Insumos!A:B,2,FALSE),\"\")","v":""}]
[null,null,{"$f":"IFERROR(VLOOKUP(A6235,Insumos!A:B,2,FALSE),\"\")","v":""}]
[null,null,{"$f":"IFERROR(VLOOKUP(A6236,Insumos!A:B,2,FALSE),\"\")","v":""}]
[null,null,{"$f":"IFERROR(VLOOKUP(A6237,Insumos!A:B,2,FALSE),\"\")","v":""}]
[null,null,{"$f":"IFERROR(VLOOKUP(A6238,Insumos!A:B,2,FALSE),\"\")","v":""}]
[null,null,{"$f":"IFERROR(VLOOKUP(A6239,Insumos!A:B,2,FALSE),\"\")","v":""}]
[null,null,{"$f":"IFERROR(VLOOKUP(A6240,Insumos!A:B,2,FALSE),\"\")","v":""}]
[null,null,{"$f":"IFERROR(VLOOKUP(A6241,Insumos!A:B,2,FALSE),\"\")","v":""}]
[null,null,{"$f":"IFERROR(VLOOKUP(A6242,Insumos!A:B,2,FALSE),\"\")","v":""}]
[null,null,{"$f":"IFERROR(VLOOKUP(A6243,Insumos!A:B,2,FALSE),\"\")","v":""}]
[null,null,{"$f":"IFERROR(VLOOKUP(A6244,Insumos!A:B,2,FALSE),\"\")","v":""}]
[null,null,{"$f":"IFERROR(VLOOKUP(A6245,Insumos!A:B,2,FALSE),\"\")","v":""}]
[null,null,{"$f":"IFERROR(VLOOKUP(A6246,Insumos!A:B,2,FALSE),\"\")","v":""}]
[null,null,{"$f":"IFERROR(VLOOKUP(A6247,Insumos!A:B,2,FALSE),\"\")","v":""}]
[null,null,{"$f":"IFERROR(VLOOKUP(A6248,Insumos!A:B,2,FALSE),\"\")","v":""}]
[null,null,{"$f":"IFERROR(VLOOKUP(A6249,Insumos!A:B,2,FALSE),\"\")","v":""}]
[null,null,{"$f":"IFERROR(VLOOKUP(A6250,Insumos!A:B,2,FALSE),\"\")","v":""}]
[null,null,{"$f":"IFERROR(VLOOKUP(A6251,Insumos!A:B,2,FALSE),\"\")","v":""}]
[null,null,{"$f":"IFERROR(VLOOKUP(A6252,Insumos!A:B,2,FALSE),\"\")","v":""}]
[null,null,{"$f":"IFERROR(VLOOKUP(A6253,Insumos!A:B,2,FALSE),\"\")","v":""}]
[null,null,{"$f":"IFERROR(VLOOKUP(A6254,Insumos!A:B,2,FALSE),\"\")","v":""}]
[null,null,{"$f":"IFERROR(VLOOKUP(A6255,Insumos!A:B,2,FALSE),\"\")","v":""}]
[null,null,{"$f":"IFERROR(VLOOKUP(A6256,Insumos!A:B,2,FALSE),\"\")","v":""}]
[null,null,{"$f":"IFERROR(VLOOKUP(A6257,Insumos!A:B,2,FALSE),\"\")","v":""}]
[null,null,{"$f":"IFERROR(VLOOKUP(A6258,Insumos!A:B,2,FALSE),\"\")","v":""}]
[null,null,{"$f":"IFERROR(VLOOKUP(A6259,Insumos!A:B,2,FALSE),\"\")","v":""}]
[null,null,{"$f":"IFERROR(VLOOKUP(A6260,Insumos!A:B,2,FALSE),\"\")","v":""}]
[null,null,{"$f":"IFERROR(VLOOKUP(A6261,Insumos!A:B,2,FALSE),\"\")","v":""}]
[null,null,{"$f":"IFERROR(VLOOKUP(A6262,Insumos!A:B,2,FALSE),\"\")","v":""}]
[null,null,{"$f":"IFERROR(VLOOKUP(A6263,Insumos!A:B,2,FALSE),\"\")","v":""}]
[null,null,{"$f":"IFERROR(VLOOKUP(A6264,Insumos!A:B,2,FALSE),\"\")","v":""}]
[null,null,{"$f":"IFERROR(VLOOKUP(A6265,Insumos!A:B,2,FALSE),\"\")","v":""}]
[null,null,{"$f":"IFERROR(VLOOKUP(A6266,Insumos!A:B,2,FALSE),\"\")","v":""}]
[null,null,{"$f":"IFERROR(VLOOKUP(A6267,Insumos!A:B,2,FALSE),\"\")","v":""}]
[null,null,{"$f":"IFERROR(VLOOKUP(A6268,Insumos!A:B,2,FALSE),\"\")","v":""}]
[null,null,{"$f":"IFERROR(VLOOKUP(A6269,Insumos!A:B,2,FALSE),\"\")","v":""}]
[null,null,{"$f":"IFERROR(VLOOKUP(A6270,Insumos!A:B,2,FALSE),\"\")","v":""}]
[null,null,{"$f":"IFERROR(VLOOKUP(A6271,Insumos!A:B,2,FALSE),\"\")","v":""}]
[null,null,{"$f":"IFERROR(VLOOKUP(A6272,Insumos!A:B,2,FALSE),\"\")","v":""}]
[null,null,{"$f":"IFERROR(VLOOKUP(A6273,Insumos!A:B,2,FALSE),\"\")","v":""}]
[null,null,{"$f":"IFERROR(VLOOKUP(A6274,Insumos!A:B,2,FALSE),\"\")","v":""}]
[null,null,{"$f":"IFERROR(VLOOKUP(A6275,Insumos!A:B,2,FALSE),\"\")","v":""}]
[null,null,{"$f":"IFERROR(VLOOKUP(A6276,Insumos!A:B,2,FALSE),\"\")","v":""}]
[null,null,{"$f":"IFERROR(VLOOKUP(A6277,Insumos!A:B,2,FALSE),\"\")","v":""}]
[null,null,{"$f":"IFERROR(VLOOKUP(A6278,Insumos!A:B,2,FALSE),\"\")","v":""}]
[null,null,{"$f":"IFERROR(VLOOKUP(A6279,Insumos!A:B,2,FALSE),\"\")","v":""}]
[null,null,{"$f":"IFERROR(VLOOKUP(A6280,Insumos!A:B,2,FALSE),\"\")","v":""}]
[null,null,{"$f":"IFERROR(VLOOKUP(A6281,Insumos!A:B,2,FALSE),\"\")","v":""}]
[null,null,{"$f":"IFERROR(VLOOKUP(A6282,Insumos!A:B,2,FALSE),\"\")","v":""}]
[null,null,{"$f":"IFERROR(VLOOKUP(A6283,Insumos!A:B,2,FALSE),\"\")","v":""}]
[null,null,{"$f":"IFERROR(VLOOKUP(A6284,Insumos!A:B,2,FALSE),\"\")","v":""}]
[null,null,{"$f":"IFERROR(VLOOKUP(A6285,Insumos!A:B,2,FALSE),\"\")","v":""}]
[null,null,{"$f":"IFERROR(VLOOKUP(A6286,Insumos!A:B,2,FALSE),\"\")","v":""}]
[null,null,{"$f":"IFERROR(VLOOKUP(A6287,Insumos!A:B,2,FALSE),\"\")","v":""}]
[null,null,{"$f":"IFERROR(VLOOKUP(A6288,Insumos!A:B,2,FALSE),\"\")","v":""}]
[null,null,{"$f":"IFERROR(VLOOKUP(A6289,Insumos!A:B,2,FALSE),\"\")","v":""}]
[null,null,{"$f":"IFERROR(VLOOKUP(A6290,Insumos!A:B,2,FALSE),\"\")","v":""}]
[null,null,{"$f":"IFERROR(VLOOKUP(A6291,Insumos!A:B,2,FALSE),\"\")","v":""}]
[null,null,{"$f":"IFERROR(VLOOKUP(A6292,Insumos!A:B,2,FALSE),\"\")","v":""}]
[null,null,{"$f":"IFERROR(VLOOKUP(A6293,Insumos!A:B,2,FALSE),\"\")","v":""}]
[null,null,{"$f":"IFERROR(VLOOKUP(A6294,Insumos!A:B,2,FALSE),\"\")","v":""}]
[null,null,{"$f":"IFERROR(VLOOKUP(A6295,Insumos!A:B,2,FALSE),\"\")","v":""}]
[null,null,{"$f":"IFERROR(VLOOKUP(A6296,Insumos!A:B,2,FALSE),\"\")","v":""}]
[null,null,{"$f":"IFERROR(VLOOKUP(A6297,Insumos!A:B,2,FALSE),\"\")","v":""}]
[null,null,{"$f":"IFERROR(VLOOKUP(A6298,Insumos!A:B,2,FALSE),\"\")","v":""}]
[null,null,{"$f":"IFERROR(VLOOKUP(A6299,Insumos!A:B,2,FALSE),\"\")","v":""}]
[null,null,{"$f":"IFERROR(VLOOKUP(A6300,Insumos!A:B,2,FALSE),\"\")","v":""}]
[null,null,{"$f":"IFERROR(VLOOKUP(A6301,Insumos!A:B,2,FALSE),\"\")","v":""}]
[null,null,{"$f":"IFERROR(VLOOKUP(A6302,Insumos!A:B,2,FALSE),\"\")","v":""}]
[null,null,{"$f":"IFERROR(VLOOKUP(A6303,Insumos!A:B,2,FALSE),\"\")","v":""}]
[null,null,{"$f":"IFERROR(VLOOKUP(A6304,Insumos!A:B,2,FALSE),\"\")","v":""}]
[null,null,{"$f":"IFERROR(VLOOKUP(A6305,Insumos!A:B,2,FALSE),\"\")","v":""}]
[null,null,{"$f":"IFERROR(VLOOKUP(A6306,Insumos!A:B,2,FALSE),\"\")","v":""}]
[null,null,{"$f":"IFERROR(VLOOKUP(A6307,Insumos!A:B,2,FALSE),\"\")","v":""}]
[null,null,{"$f":"IFERROR(VLOOKUP(A6308,Insumos!A:B,2,FALSE),\"\")","v":""}]
[null,null,{"$f":"IFERROR(VLOOKUP(A6309,Insumos!A:B,2,FALSE),\"\")","v":""}]
[null,null,{"$f":"IFERROR(VLOOKUP(A6310,Insumos!A:B,2,FALSE),\"\")","v":""}]
[null,null,{"$f":"IFERROR(VLOOKUP(A6311,Insumos!A:B,2,FALSE),\"\")","v":""}]
[null,null,{"$f":"IFERROR(VLOOKUP(A6312,Insumos!A:B,2,FALSE),\"\")","v":""}]
[null,null,{"$f":"IFERROR(VLOOKUP(A6313,Insumos!A:B,2,FALSE),\"\")","v":""}]
[null,null,{"$f":"IFERROR(VLOOKUP(A6314,Insumos!A:B,2,FALSE),\"\")","v":""}]
[null,null,{"$f":"IFERROR(VLOOKUP(A6315,Insumos!A:B,2,FALSE),\"\")","v":""}]
[null,null,{"$f":"IFERROR(VLOOKUP(A6316,Insumos!A:B,2,FALSE),\"\")","v":""}]
[null,null,{"$f":"IFERROR(VLOOKUP(A6317,Insumos!A:B,2,FALSE),\"\")","v":""}]
[null,null,{"$f":"IFERROR(VLOOKUP(A6318,Insumos!A:B,2,FALSE),\"\")","v":""}]
[null,null,{"$f":"IFERROR(VLOOKUP(A6319,Insumos!A:B,2,FALSE),\"\")","v":""}]
[null,null,{"$f":"IFERROR(VLOOKUP(A6320,Insumos!A:B,2,FALSE),\"\")","v":""}]
[null,null,{"$f":"IFERROR(VLOOKUP(A6321,Insumos!A:B,2,FALSE),\"\")","v":""}]
[null,null,{"$f":"IFERROR(VLOOKUP(A6322,Insumos!A:B,2,FALSE),\"\")","v":""}]
[null,null,{"$f":"IFERROR(VLOOKUP(A6323,Insumos!A:B,2,FALSE),\"\")","v":""}]
[null,null,{"$f":"IFERROR(VLOOKUP(A6324,Insumos!A:B,2,FALSE),\"\")","v":""}]
[null,null,{"$f":"IFERROR(VLOOKUP(A6325,Insumos!A:B,2,FALSE),\"\")","v":""}]
[null,null,{"$f":"IFERROR(VLOOKUP(A6326,Insumos!A:B,2,FALSE),\"\")","v":""}]
[null,null,{"$f":"IFERROR(VLOOKUP(A6327,Insumos!A:B,2,FALSE),\"\")","v":""}]
[null,null,{"$f":"IFERROR(VLOOKUP(A6328,Insumos!A:B,2,FALSE),\"\")","v":""}]
[null,null,{"$f":"IFERROR(VLOOKUP(A6329,Insumos!A:B,2,FALSE),\"\")","v":""}]
[null,null,{"$f":"IFERROR(VLOOKUP(A6330,Insumos!A:B,2,FALSE),\"\")","v":""}]
[null,null,{"$f":"IFERROR(VLOOKUP(A6331,Insumos!A:B,2,FALSE),\"\")","v":""}]
[null,null,{"$f":"IFERROR(VLOOKUP(A6332,Insumos!A:B,2,FALSE),\"\")","v":""}]
[null,null,{"$f":"IFERROR(VLOOKUP(A6333,Insumos!A:B,2,FALSE),\"\")","v":""}]
[null,null,{"$f":"IFERROR(VLOOKUP(A6334,Insumos!A:B,2,FALSE),\"\")","v":""}]
[null,null,{"$f":"IFERROR(VLOOKUP(A6335,Insumos!A:B,2,FALSE),\"\")","v":""}]
[null,null,{"$f":"IFERROR(VLOOKUP(A6336,Insumos!A:B,2,FALSE),\"\")","v":""}]
[null,null,{"$f":"IFERROR(VLOOKUP(A6337,Insumos!A:B,2,FALSE),\"\")","v":""}]
[null,null,{"$f":"IFERROR(VLOOKUP(A6338,Insumos!A:B,2,FALSE),\"\")","v":""}]
[null,null,{"$f":"IFERROR(VLOOKUP(A6339,Insumos!A:B,2,FALSE),\"\")","v":""}]
[null,null,{"$f":"IFERROR(VLOOKUP(A6340,Insumos!A:B,2,FALSE),\"\")","v":""}]
[null,null,{"$f":"IFERROR(VLOOKUP(A6341,Insumos!A:B,2,FALSE),\"\")","v":""}]
[null,null,{"$f":"IFERROR(VLOOKUP(A6342,Insumos!A:B,2,FALSE),\"\")","v":""}]
[null,null,{"$f":"IFERROR(VLOOKUP(A6343,Insumos!A:B,2,FALSE),\"\")","v":""}]
[null,null,{"$f":"IFERROR(VLOOKUP(A6344,Insumos!A:B,2,FALSE),\"\")","v":""}]
[null,null,{"$f":"IFERROR(VLOOKUP(A6345,Insumos!A:B,2,FALSE),\"\")","v":""}]
[null,null,{"$f":"IFERROR(VLOOKUP(A6346,Insumos!A:B,2,FALSE),\"\")","v":""}]
[null,null,{"$f":"IFERROR(VLOOKUP(A6347,Insumos!A:B,2,FALSE),\"\")","v":""}]
[null,null,{"$f":"IFERROR(VLOOKUP(A6348,Insumos!A:B,2,FALSE),\"\")","v":""}]
[null,null,{"$f":"IFERROR(VLOOKUP(A6349,Insumos!A:B,2,FALSE),\"\")","v":""}]
[null,null,{"$f":"IFERROR(VLOOKUP(A6350,Insumos!A:B,2,FALSE),\"\")","v":""}]
[null,null,{"$f":"IFERROR(VLOOKUP(A6351,Insumos!A:B,2,FALSE),\"\")","v":""}]
[null,null,{"$f":"IFERROR(VLOOKUP(A6352,Insumos!A:B,2,FALSE),\"\")","v":""}]
[null,null,{"$f":"IFERROR(VLOOKUP(A6353,Insumos!A:B,2,FALSE),\"\")","v":""}]
[null,null,{"$f":"IFERROR(VLOOKUP(A6354,Insumos!A:B,2,FALSE),\"\")","v":""}]
[null,null,{"$f":"IFERROR(VLOOKUP(A6355,Insumos!A:B,2,FALSE),\"\")","v":""}]
[null,null,{"$f":"IFERROR(VLOOKUP(A6356,Insumos!A:B,2,FALSE),\"\")","v":""}]
[null,null,{"$f":"IFERROR(VLOOKUP(A6357,Insumos!A:B,2,FALSE),\"\")","v":""}]
[null,null,{"$f":"IFERROR(VLOOKUP(A6358,Insumos!A:B,2,FALSE),\"\")","v":""}]
[null,null,{"$f":"IFERROR(VLOOKUP(A6359,Insumos!A:B,2,FALSE),\"\")","v":""}]
[null,null,{"$f":"IFERROR(VLOOKUP(A6360,Insumos!A:B,2,FALSE),\"\")","v":""}]
[null,null,{"$f":"IFERROR(VLOOKUP(A6361,Insumos!A:B,2,FALSE),\"\")","v":""}]
[null,null,{"$f":"IFERROR(VLOOKUP(A6362,Insumos!A:B,2,FALSE),\"\")","v":""}]
[null,null,{"$f":"IFERROR(VLOOKUP(A6363,Insumos!A:B,2,FALSE),\"\")","v":""}]
[null,null,{"$f":"IFERROR(VLOOKUP(A6364,Insumos!A:B,2,FALSE),\"\")","v":""}]
[null,null,{"$f":"IFERROR(VLOOKUP(A6365,Insumos!A:B,2,FALSE),\"\")","v":""}]
[null,null,{"$f":"IFERROR(VLOOKUP(A6366,Insumos!A:B,2,FALSE),\"\")","v":""}]
[null,null,{"$f":"IFERROR(VLOOKUP(A6367,Insumos!A:B,2,FALSE),\"\")","v":""}]
[null,null,{"$f":"IFERROR(VLOOKUP(A6368,Insumos!A:B,2,FALSE),\"\")","v":""}]
[null,null,{"$f":"IFERROR(VLOOKUP(A6369,Insumos!A:B,2,FALSE),\"\")","v":""}]
[null,null,{"$f":"IFERROR(VLOOKUP(A6370,Insumos!A:B,2,FALSE),\"\")","v":""}]
[null,null,{"$f":"IFERROR(VLOOKUP(A6371,Insumos!A:B,2,FALSE),\"\")","v":""}]
[null,null,{"$f":"IFERROR(VLOOKUP(A6372,Insumos!A:B,2,FALSE),\"\")","v":""}]
[null,null,{"$f":"IFERROR(VLOOKUP(A6373,Insumos!A:B,2,FALSE),\"\")","v":""}]
[null,null,{"$f":"IFERROR(VLOOKUP(A6374,Insumos!A:B,2,FALSE),\"\")","v":""}]
[null,null,{"$f":"IFERROR(VLOOKUP(A6375,Insumos!A:B,2,FALSE),\"\")","v":""}]
[null,null,{"$f":"IFERROR(VLOOKUP(A6376,Insumos!A:B,2,FALSE),\"\")","v":""}]
[null,null,{"$f":"IFERROR(VLOOKUP(A6377,Insumos!A:B,2,FALSE),\"\")","v":""}]
[null,null,{"$f":"IFERROR(VLOOKUP(A6378,Insumos!A:B,2,FALSE),\"\")","v":""}]
[null,null,{"$f":"IFERROR(VLOOKUP(A6379,Insumos!A:B,2,FALSE),\"\")","v":""}]
[null,null,{"$f":"IFERROR(VLOOKUP(A6380,Insumos!A:B,2,FALSE),\"\")","v":""}]
[null,null,{"$f":"IFERROR(VLOOKUP(A6381,Insumos!A:B,2,FALSE),\"\")","v":""}]
[null,null,{"$f":"IFERROR(VLOOKUP(A6382,Insumos!A:B,2,FALSE),\"\")","v":""}]
[null,null,{"$f":"IFERROR(VLOOKUP(A6383,Insumos!A:B,2,FALSE),\"\")","v":""}]
[null,null,{"$f":"IFERROR(VLOOKUP(A6384,Insumos!A:B,2,FALSE),\"\")","v":""}]
[null,null,{"$f":"IFERROR(VLOOKUP(A6385,Insumos!A:B,2,FALSE),\"\")","v":""}]
[null,null,{"$f":"IFERROR(VLOOKUP(A6386,Insumos!A:B,2,FALSE),\"\")","v":""}]
[null,null,{"$f":"IFERROR(VLOOKUP(A6387,Insumos!A:B,2,FALSE),\"\")","v":""}]
[null,null,{"$f":"IFERROR(VLOOKUP(A6388,Insumos!A:B,2,FALSE),\"\")","v":""}]
[null,null,{"$f":"IFERROR(VLOOKUP(A6389,Insumos!A:B,2,FALSE),\"\")","v":""}]
[null,null,{"$f":"IFERROR(VLOOKUP(A6390,Insumos!A:B,2,FALSE),\"\")","v":""}]
[null,null,{"$f":"IFERROR(VLOOKUP(A6391,Insumos!A:B,2,FALSE),\"\")","v":""}]
[null,null,{"$f":"IFERROR(VLOOKUP(A6392,Insumos!A:B,2,FALSE),\"\")","v":""}]
[null,null,{"$f":"IFERROR(VLOOKUP(A6393,Insumos!A:B,2,FALSE),\"\")","v":""}]
[null,null,{"$f":"IFERROR(VLOOKUP(A6394,Insumos!A:B,2,FALSE),\"\")","v":""}]
[null,null,{"$f":"IFERROR(VLOOKUP(A6395,Insumos!A:B,2,FALSE),\"\")","v":""}]
[null,null,{"$f":"IFERROR(VLOOKUP(A6396,Insumos!A:B,2,FALSE),\"\")","v":""}]
[null,null,{"$f":"IFERROR(VLOOKUP(A6397,Insumos!A:B,2,FALSE),\"\")","v":""}]
[null,null,{"$f":"IFERROR(VLOOKUP(A6398,Insumos!A:B,2,FALSE),\"\")","v":""}]
[null,null,{"$f":"IFERROR(VLOOKUP(A6399,Insumos!A:B,2,FALSE),\"\")","v":""}]
[null,null,{"$f":"IFERROR(VLOOKUP(A6400,Insumos!A:B,2,FALSE),\"\")","v":""}]
[null,null,{"$f":"IFERROR(VLOOKUP(A6401,Insumos!A:B,2,FALSE),\"\")","v":""}]
[null,null,{"$f":"IFERROR(VLOOKUP(A6402,Insumos!A:B,2,FALSE),\"\")","v":""}]
[null,null,{"$f":"IFERROR(VLOOKUP(A6403,Insumos!A:B,2,FALSE),\"\")","v":""}]
[null,null,{"$f":"IFERROR(VLOOKUP(A6404,Insumos!A:B,2,FALSE),\"\")","v":""}]
[null,null,{"$f":"IFERROR(VLOOKUP(A6405,Insumos!A:B,2,FALSE),\"\")","v":""}]
[null,null,{"$f":"IFERROR(VLOOKUP(A6406,Insumos!A:B,2,FALSE),\"\")","v":""}]
[null,null,{"$f":"IFERROR(VLOOKUP(A6407,Insumos!A:B,2,FALSE),\"\")","v":""}]
[null,null,{"$f":"IFERROR(VLOOKUP(A6408,Insumos!A:B,2,FALSE),\"\")","v":""}]
[null,null,{"$f":"IFERROR(VLOOKUP(A6409,Insumos!A:B,2,FALSE),\"\")","v":""}]
[null,null,{"$f":"IFERROR(VLOOKUP(A6410,Insumos!A:B,2,FALSE),\"\")","v":""}]
[null,null,{"$f":"IFERROR(VLOOKUP(A6411,Insumos!A:B,2,FALSE),\"\")","v":""}]
[null,null,{"$f":"IFERROR(VLOOKUP(A6412,Insumos!A:B,2,FALSE),\"\")","v":""}]
[null,null,{"$f":"IFERROR(VLOOKUP(A6413,Insumos!A:B,2,FALSE),\"\")","v":""}]
[null,null,{"$f":"IFERROR(VLOOKUP(A6414,Insumos!A:B,2,FALSE),\"\")","v":""}]
[null,null,{"$f":"IFERROR(VLOOKUP(A6415,Insumos!A:B,2,FALSE),\"\")","v":""}]
[null,null,{"$f":"IFERROR(VLOOKUP(A6416,Insumos!A:B,2,FALSE),\"\")","v":""}]
[null,null,{"$f":"IFERROR(VLOOKUP(A6417,Insumos!A:B,2,FALSE),\"\")","v":""}]
[null,null,{"$f":"IFERROR(VLOOKUP(A6418,Insumos!A:B,2,FALSE),\"\")","v":""}]
[null,null,{"$f":"IFERROR(VLOOKUP(A6419,Insumos!A:B,2,FALSE),\"\")","v":""}]
[null,null,{"$f":"IFERROR(VLOOKUP(A6420,Insumos!A:B,2,FALSE),\"\")","v":""}]
[null,null,{"$f":"IFERROR(VLOOKUP(A6421,Insumos!A:B,2,FALSE),\"\")","v":""}]
[null,null,{"$f":"IFERROR(VLOOKUP(A6422,Insumos!A:B,2,FALSE),\"\")","v":""}]
[null,null,{"$f":"IFERROR(VLOOKUP(A6423,Insumos!A:B,2,FALSE),\"\")","v":""}]
[null,null,{"$f":"IFERROR(VLOOKUP(A6424,Insumos!A:B,2,FALSE),\"\")","v":""}]
[null,null,{"$f":"IFERROR(VLOOKUP(A6425,Insumos!A:B,2,FALSE),\"\")","v":""}]
[null,null,{"$f":"IFERROR(VLOOKUP(A6426,Insumos!A:B,2,FALSE),\"\")","v":""}]
[null,null,{"$f":"IFERROR(VLOOKUP(A6427,Insumos!A:B,2,FALSE),\"\")","v":""}]
[null,null,{"$f":"IFERROR(VLOOKUP(A6428,Insumos!A:B,2,FALSE),\"\")","v":""}]
[null,null,{"$f":"IFERROR(VLOOKUP(A6429,Insumos!A:B,2,FALSE),\"\")","v":""}]
[null,null,{"$f":"IFERROR(VLOOKUP(A6430,Insumos!A:B,2,FALSE),\"\")","v":""}]
[null,null,{"$f":"IFERROR(VLOOKUP(A6431,Insumos!A:B,2,FALSE),\"\")","v":""}]
[null,null,{"$f":"IFERROR(VLOOKUP(A6432,Insumos!A:B,2,FALSE),\"\")","v":""}]
[null,null,{"$f":"IFERROR(VLOOKUP(A6433,Insumos!A:B,2,FALSE),\"\")","v":""}]
[null,null,{"$f":"IFERROR(VLOOKUP(A6434,Insumos!A:B,2,FALSE),\"\")","v":""}]
[null,null,{"$f":"IFERROR(VLOOKUP(A6435,Insumos!A:B,2,FALSE),\"\")","v":""}]
[null,null,{"$f":"IFERROR(VLOOKUP(A6436,Insumos!A:B,2,FALSE),\"\")","v":""}]
[null,null,{"$f":"IFERROR(VLOOKUP(A6437,Insumos!A:B,2,FALSE),\"\")","v":""}]
[null,null,{"$f":"IFERROR(VLOOKUP(A6438,Insumos!A:B,2,FALSE),\"\")","v":""}]
[null,null,{"$f":"IFERROR(VLOOKUP(A6439,Insumos!A:B,2,FALSE),\"\")","v":""}]
[null,null,{"$f":"IFERROR(VLOOKUP(A6440,Insumos!A:B,2,FALSE),\"\")","v":""}]
[null,null,{"$f":"IFERROR(VLOOKUP(A6441,Insumos!A:B,2,FALSE),\"\")","v":""}]
[null,null,{"$f":"IFERROR(VLOOKUP(A6442,Insumos!A:B,2,FALSE),\"\")","v":""}]
[null,null,{"$f":"IFERROR(VLOOKUP(A6443,Insumos!A:B,2,FALSE),\"\")","v":""}]
[null,null,{"$f":"IFERROR(VLOOKUP(A6444,Insumos!A:B,2,FALSE),\"\")","v":""}]
[null,null,{"$f":"IFERROR(VLOOKUP(A6445,Insumos!A:B,2,FALSE),\"\")","v":""}]
[null,null,{"$f":"IFERROR(VLOOKUP(A6446,Insumos!A:B,2,FALSE),\"\")","v":""}]
[null,null,{"$f":"IFERROR(VLOOKUP(A6447,Insumos!A:B,2,FALSE),\"\")","v":""}]
[null,null,{"$f":"IFERROR(VLOOKUP(A6448,Insumos!A:B,2,FALSE),\"\")","v":""}]
[null,null,{"$f":"IFERROR(VLOOKUP(A6449,Insumos!A:B,2,FALSE),\"\")","v":""}]
[null,null,{"$f":"IFERROR(VLOOKUP(A6450,Insumos!A:B,2,FALSE),\"\")","v":""}]
[null,null,{"$f":"IFERROR(VLOOKUP(A6451,Insumos!A:B,2,FALSE),\"\")","v":""}]
[null,null,{"$f":"IFERROR(VLOOKUP(A6452,Insumos!A:B,2,FALSE),\"\")","v":""}]
[null,null,{"$f":"IFERROR(VLOOKUP(A6453,Insumos!A:B,2,FALSE),\"\")","v":""}]
[null,null,{"$f":"IFERROR(VLOOKUP(A6454,Insumos!A:B,2,FALSE),\"\")","v":""}]
[null,null,{"$f":"IFERROR(VLOOKUP(A6455,Insumos!A:B,2,FALSE),\"\")","v":""}]
[null,null,{"$f":"IFERROR(VLOOKUP(A6456,Insumos!A:B,2,FALSE),\"\")","v":""}]
[null,null,{"$f":"IFERROR(VLOOKUP(A6457,Insumos!A:B,2,FALSE),\"\")","v":""}]
[null,null,{"$f":"IFERROR(VLOOKUP(A6458,Insumos!A:B,2,FALSE),\"\")","v":""}]
[null,null,{"$f":"IFERROR(VLOOKUP(A6459,Insumos!A:B,2,FALSE),\"\")","v":""}]
[null,null,{"$f":"IFERROR(VLOOKUP(A6460,Insumos!A:B,2,FALSE),\"\")","v":""}]
[null,null,{"$f":"IFERROR(VLOOKUP(A6461,Insumos!A:B,2,FALSE),\"\")","v":""}]
[null,null,{"$f":"IFERROR(VLOOKUP(A6462,Insumos!A:B,2,FALSE),\"\")","v":""}]
[null,null,{"$f":"IFERROR(VLOOKUP(A6463,Insumos!A:B,2,FALSE),\"\")","v":""}]
[null,null,{"$f":"IFERROR(VLOOKUP(A6464,Insumos!A:B,2,FALSE),\"\")","v":""}]
[null,null,{"$f":"IFERROR(VLOOKUP(A6465,Insumos!A:B,2,FALSE),\"\")","v":""}]
[null,null,{"$f":"IFERROR(VLOOKUP(A6466,Insumos!A:B,2,FALSE),\"\")","v":""}]
[null,null,{"$f":"IFERROR(VLOOKUP(A6467,Insumos!A:B,2,FALSE),\"\")","v":""}]
[null,null,{"$f":"IFERROR(VLOOKUP(A6468,Insumos!A:B,2,FALSE),\"\")","v":""}]
[null,null,{"$f":"IFERROR(VLOOKUP(A6469,Insumos!A:B,2,FALSE),\"\")","v":""}]
[null,null,{"$f":"IFERROR(VLOOKUP(A6470,Insumos!A:B,2,FALSE),\"\")","v":""}]
[null,null,{"$f":"IFERROR(VLOOKUP(A6471,Insumos!A:B,2,FALSE),\"\")","v":""}]
[null,null,{"$f":"IFERROR(VLOOKUP(A6472,Insumos!A:B,2,FALSE),\"\")","v":""}]
[null,null,{"$f":"IFERROR(VLOOKUP(A6473,Insumos!A:B,2,FALSE),\"\")","v":""}]
[null,null,{"$f":"IFERROR(VLOOKUP(A6474,Insumos!A:B,2,FALSE),\"\")","v":""}]
[null,null,{"$f":"IFERROR(VLOOKUP(A6475,Insumos!A:B,2,FALSE),\"\")","v":""}]
[null,null,{"$f":"IFERROR(VLOOKUP(A6476,Insumos!A:B,2,FALSE),\"\")","v":""}]
[null,null,{"$f":"IFERROR(VLOOKUP(A6477,Insumos!A:B,2,FALSE),\"\")","v":""}]
[null,null,{"$f":"IFERROR(VLOOKUP(A6478,Insumos!A:B,2,FALSE),\"\")","v":""}]
[null,null,{"$f":"IFERROR(VLOOKUP(A6479,Insumos!A:B,2,FALSE),\"\")","v":""}]
[null,null,{"$f":"IFERROR(VLOOKUP(A6480,Insumos!A:B,2,FALSE),\"\")","v":""}]
[null,null,{"$f":"IFERROR(VLOOKUP(A6481,Insumos!A:B,2,FALSE),\"\")","v":""}]
[null,null,{"$f":"IFERROR(VLOOKUP(A6482,Insumos!A:B,2,FALSE),\"\")","v":""}]
[null,null,{"$f":"IFERROR(VLOOKUP(A6483,Insumos!A:B,2,FALSE),\"\")","v":""}]
[null,null,{"$f":"IFERROR(VLOOKUP(A6484,Insumos!A:B,2,FALSE),\"\")","v":""}]
[null,null,{"$f":"IFERROR(VLOOKUP(A6485,Insumos!A:B,2,FALSE),\"\")","v":""}]
[null,null,{"$f":"IFERROR(VLOOKUP(A6486,Insumos!A:B,2,FALSE),\"\")","v":""}]
[null,null,{"$f":"IFERROR(VLOOKUP(A6487,Insumos!A:B,2,FALSE),\"\")","v":""}]
[null,null,{"$f":"IFERROR(VLOOKUP(A6488,Insumos!A:B,2,FALSE),\"\")","v":""}]
[null,null,{"$f":"IFERROR(VLOOKUP(A6489,Insumos!A:B,2,FALSE),\"\")","v":""}]
[null,null,{"$f":"IFERROR(VLOOKUP(A6490,Insumos!A:B,2,FALSE),\"\")","v":""}]
[null,null,{"$f":"IFERROR(VLOOKUP(A6491,Insumos!A:B,2,FALSE),\"\")","v":""}]
[null,null,{"$f":"IFERROR(VLOOKUP(A6492,Insumos!A:B,2,FALSE),\"\")","v":""}]
[null,null,{"$f":"IFERROR(VLOOKUP(A6493,Insumos!A:B,2,FALSE),\"\")","v":""}]
[null,null,{"$f":"IFERROR(VLOOKUP(A6494,Insumos!A:B,2,FALSE),\"\")","v":""}]
[null,null,{"$f":"IFERROR(VLOOKUP(A6495,Insumos!A:B,2,FALSE),\"\")","v":""}]
[null,null,{"$f":"IFERROR(VLOOKUP(A6496,Insumos!A:B,2,FALSE),\"\")","v":""}]
[null,null,{"$f":"IFERROR(VLOOKUP(A6497,Insumos!A:B,2,FALSE),\"\")","v":""}]
[null,null,{"$f":"IFERROR(VLOOKUP(A6498,Insumos!A:B,2,FALSE),\"\")","v":""}]
[null,null,{"$f":"IFERROR(VLOOKUP(A6499,Insumos!A:B,2,FALSE),\"\")","v":""}]
[null,null,{"$f":"IFERROR(VLOOKUP(A6500,Insumos!A:B,2,FALSE),\"\")","v":""}]
[null,null,{"$f":"IFERROR(VLOOKUP(A6501,Insumos!A:B,2,FALSE),\"\")","v":""}]
[null,null,{"$f":"IFERROR(VLOOKUP(A6502,Insumos!A:B,2,FALSE),\"\")","v":""}]
[null,null,{"$f":"IFERROR(VLOOKUP(A6503,Insumos!A:B,2,FALSE),\"\")","v":""}]
[null,null,{"$f":"IFERROR(VLOOKUP(A6504,Insumos!A:B,2,FALSE),\"\")","v":""}]
[null,null,{"$f":"IFERROR(VLOOKUP(A6505,Insumos!A:B,2,FALSE),\"\")","v":""}]
[null,null,{"$f":"IFERROR(VLOOKUP(A6506,Insumos!A:B,2,FALSE),\"\")","v":""}]
[null,null,{"$f":"IFERROR(VLOOKUP(A6507,Insumos!A:B,2,FALSE),\"\")","v":""}]
[null,null,{"$f":"IFERROR(VLOOKUP(A6508,Insumos!A:B,2,FALSE),\"\")","v":""}]
[null,null,{"$f":"IFERROR(VLOOKUP(A6509,Insumos!A:B,2,FALSE),\"\")","v":""}]
[null,null,{"$f":"IFERROR(VLOOKUP(A6510,Insumos!A:B,2,FALSE),\"\")","v":""}]
[null,null,{"$f":"IFERROR(VLOOKUP(A6511,Insumos!A:B,2,FALSE),\"\")","v":""}]
[null,null,{"$f":"IFERROR(VLOOKUP(A6512,Insumos!A:B,2,FALSE),\"\")","v":""}]
[null,null,{"$f":"IFERROR(VLOOKUP(A6513,Insumos!A:B,2,FALSE),\"\")","v":""}]
[null,null,{"$f":"IFERROR(VLOOKUP(A6514,Insumos!A:B,2,FALSE),\"\")","v":""}]
[null,null,{"$f":"IFERROR(VLOOKUP(A6515,Insumos!A:B,2,FALSE),\"\")","v":""}]
[null,null,{"$f":"IFERROR(VLOOKUP(A6516,Insumos!A:B,2,FALSE),\"\")","v":""}]
[null,null,{"$f":"IFERROR(VLOOKUP(A6517,Insumos!A:B,2,FALSE),\"\")","v":""}]
[null,null,{"$f":"IFERROR(VLOOKUP(A6518,Insumos!A:B,2,FALSE),\"\")","v":""}]
[null,null,{"$f":"IFERROR(VLOOKUP(A6519,Insumos!A:B,2,FALSE),\"\")","v":""}]
[null,null,{"$f":"IFERROR(VLOOKUP(A6520,Insumos!A:B,2,FALSE),\"\")","v":""}]
[null,null,{"$f":"IFERROR(VLOOKUP(A6521,Insumos!A:B,2,FALSE),\"\")","v":""}]
[null,null,{"$f":"IFERROR(VLOOKUP(A6522,Insumos!A:B,2,FALSE),\"\")","v":""}]
[null,null,{"$f":"IFERROR(VLOOKUP(A6523,Insumos!A:B,2,FALSE),\"\")","v":""}]
[null,null,{"$f":"IFERROR(VLOOKUP(A6524,Insumos!A:B,2,FALSE),\"\")","v":""}]
[null,null,{"$f":"IFERROR(VLOOKUP(A6525,Insumos!A:B,2,FALSE),\"\")","v":""}]
[null,null,{"$f":"IFERROR(VLOOKUP(A6526,Insumos!A:B,2,FALSE),\"\")","v":""}]
[null,null,{"$f":"IFERROR(VLOOKUP(A6527,Insumos!A:B,2,FALSE),\"\")","v":""}]
[null,null,{"$f":"IFERROR(VLOOKUP(A6528,Insumos!A:B,2,FALSE),\"\")","v":""}]
[null,null,{"$f":"IFERROR(VLOOKUP(A6529,Insumos!A:B,2,FALSE),\"\")","v":""}]
[null,null,{"$f":"IFERROR(VLOOKUP(A6530,Insumos!A:B,2,FALSE),\"\")","v":""}]
[null,null,{"$f":"IFERROR(VLOOKUP(A6531,Insumos!A:B,2,FALSE),\"\")","v":""}]
[null,null,{"$f":"IFERROR(VLOOKUP(A6532,Insumos!A:B,2,FALSE),\"\")","v":""}]
[null,null,{"$f":"IFERROR(VLOOKUP(A6533,Insumos!A:B,2,FALSE),\"\")","v":""}]
[null,null,{"$f":"IFERROR(VLOOKUP(A6534,Insumos!A:B,2,FALSE),\"\")","v":""}]
[null,null,{"$f":"IFERROR(VLOOKUP(A6535,Insumos!A:B,2,FALSE),\"\")","v":""}]
[null,null,{"$f":"IFERROR(VLOOKUP(A6536,Insumos!A:B,2,FALSE),\"\")","v":""}]
[null,null,{"$f":"IFERROR(VLOOKUP(A6537,Insumos!A:B,2,FALSE),\"\")","v":""}]
[null,null,{"$f":"IFERROR(VLOOKUP(A6538,Insumos!A:B,2,FALSE),\"\")","v":""}]
[null,null,{"$f":"IFERROR(VLOOKUP(A6539,Insumos!A:B,2,FALSE),\"\")","v":""}]
[null,null,{"$f":"IFERROR(VLOOKUP(A6540,Insumos!A:B,2,FALSE),\"\")","v":""}]
[null,null,{"$f":"IFERROR(VLOOKUP(A6541,Insumos!A:B,2,FALSE),\"\")","v":""}]
[null,null,{"$f":"IFERROR(VLOOKUP(A6542,Insumos!A:B,2,FALSE),\"\")","v":""}]
[null,null,{"$f":"IFERROR(VLOOKUP(A6543,Insumos!A:B,2,FALSE),\"\")","v":""}]
[null,null,{"$f":"IFERROR(VLOOKUP(A6544,Insumos!A:B,2,FALSE),\"\")","v":""}]
[null,null,{"$f":"IFERROR(VLOOKUP(A6545,Insumos!A:B,2,FALSE),\"\")","v":""}]
[null,null,{"$f":"IFERROR(VLOOKUP(A6546,Insumos!A:B,2,FALSE),\"\")","v":""}]
[null,null,{"$f":"IFERROR(VLOOKUP(A6547,Insumos!A:B,2,FALSE),\"\")","v":""}]
[null,null,{"$f":"IFERROR(VLOOKUP(A6548,Insumos!A:B,2,FALSE),\"\")","v":""}]
[null,null,{"$f":"IFERROR(VLOOKUP(A6549,Insumos!A:B,2,FALSE),\"\")","v":""}]
[null,null,{"$f":"IFERROR(VLOOKUP(A6550,Insumos!A:B,2,FALSE),\"\")","v":""}]
[null,null,{"$f":"IFERROR(VLOOKUP(A6551,Insumos!A:B,2,FALSE),\"\")","v":""}]
[null,null,{"$f":"IFERROR(VLOOKUP(A6552,Insumos!A:B,2,FALSE),\"\")","v":""}]
[null,null,{"$f":"IFERROR(VLOOKUP(A6553,Insumos!A:B,2,FALSE),\"\")","v":""}]
[null,null,{"$f":"IFERROR(VLOOKUP(A6554,Insumos!A:B,2,FALSE),\"\")","v":""}]
[null,null,{"$f":"IFERROR(VLOOKUP(A6555,Insumos!A:B,2,FALSE),\"\")","v":""}]
[null,null,{"$f":"IFERROR(VLOOKUP(A6556,Insumos!A:B,2,FALSE),\"\")","v":""}]
[null,null,{"$f":"IFERROR(VLOOKUP(A6557,Insumos!A:B,2,FALSE),\"\")","v":""}]
[null,null,{"$f":"IFERROR(VLOOKUP(A6558,Insumos!A:B,2,FALSE),\"\")","v":""}]
[null,null,{"$f":"IFERROR(VLOOKUP(A6559,Insumos!A:B,2,FALSE),\"\")","v":""}]
[null,null,{"$f":"IFERROR(VLOOKUP(A6560,Insumos!A:B,2,FALSE),\"\")","v":""}]
[null,null,{"$f":"IFERROR(VLOOKUP(A6561,Insumos!A:B,2,FALSE),\"\")","v":""}]
[null,null,{"$f":"IFERROR(VLOOKUP(A6562,Insumos!A:B,2,FALSE),\"\")","v":""}]
[null,null,{"$f":"IFERROR(VLOOKUP(A6563,Insumos!A:B,2,FALSE),\"\")","v":""}]
[null,null,{"$f":"IFERROR(VLOOKUP(A6564,Insumos!A:B,2,FALSE),\"\")","v":""}]
[null,null,{"$f":"IFERROR(VLOOKUP(A6565,Insumos!A:B,2,FALSE),\"\")","v":""}]
[null,null,{"$f":"IFERROR(VLOOKUP(A6566,Insumos!A:B,2,FALSE),\"\")","v":""}]
[null,null,{"$f":"IFERROR(VLOOKUP(A6567,Insumos!A:B,2,FALSE),\"\")","v":""}]
[null,null,{"$f":"IFERROR(VLOOKUP(A6568,Insumos!A:B,2,FALSE),\"\")","v":""}]
[null,null,{"$f":"IFERROR(VLOOKUP(A6569,Insumos!A:B,2,FALSE),\"\")","v":""}]
[null,null,{"$f":"IFERROR(VLOOKUP(A6570,Insumos!A:B,2,FALSE),\"\")","v":""}]
[null,null,{"$f":"IFERROR(VLOOKUP(A6571,Insumos!A:B,2,FALSE),\"\")","v":""}]
[null,null,{"$f":"IFERROR(VLOOKUP(A6572,Insumos!A:B,2,FALSE),\"\")","v":""}]
[null,null,{"$f":"IFERROR(VLOOKUP(A6573,Insumos!A:B,2,FALSE),\"\")","v":""}]
[null,null,{"$f":"IFERROR(VLOOKUP(A6574,Insumos!A:B,2,FALSE),\"\")","v":""}]
[null,null,{"$f":"IFERROR(VLOOKUP(A6575,Insumos!A:B,2,FALSE),\"\")","v":""}]
[null,null,{"$f":"IFERROR(VLOOKUP(A6576,Insumos!A:B,2,FALSE),\"\")","v":""}]
[null,null,{"$f":"IFERROR(VLOOKUP(A6577,Insumos!A:B,2,FALSE),\"\")","v":""}]
[null,null,{"$f":"IFERROR(VLOOKUP(A6578,Insumos!A:B,2,FALSE),\"\")","v":""}]
[null,null,{"$f":"IFERROR(VLOOKUP(A6579,Insumos!A:B,2,FALSE),\"\")","v":""}]
[null,null,{"$f":"IFERROR(VLOOKUP(A6580,Insumos!A:B,2,FALSE),\"\")","v":""}]
[null,null,{"$f":"IFERROR(VLOOKUP(A6581,Insumos!A:B,2,FALSE),\"\")","v":""}]
[null,null,{"$f":"IFERROR(VLOOKUP(A6582,Insumos!A:B,2,FALSE),\"\")","v":""}]
[null,null,{"$f":"IFERROR(VLOOKUP(A6583,Insumos!A:B,2,FALSE),\"\")","v":""}]
[null,null,{"$f":"IFERROR(VLOOKUP(A6584,Insumos!A:B,2,FALSE),\"\")","v":""}]
[null,null,{"$f":"IFERROR(VLOOKUP(A6585,Insumos!A:B,2,FALSE),\"\")","v":""}]
[null,null,{"$f":"IFERROR(VLOOKUP(A6586,Insumos!A:B,2,FALSE),\"\")","v":""}]
[null,null,{"$f":"IFERROR(VLOOKUP(A6587,Insumos!A:B,2,FALSE),\"\")","v":""}]
[null,null,{"$f":"IFERROR(VLOOKUP(A6588,Insumos!A:B,2,FALSE),\"\")","v":""}]
[null,null,{"$f":"IFERROR(VLOOKUP(A6589,Insumos!A:B,2,FALSE),\"\")","v":""}]
[null,null,{"$f":"IFERROR(VLOOKUP(A6590,Insumos!A:B,2,FALSE),\"\")","v":""}]
[null,null,{"$f":"IFERROR(VLOOKUP(A6591,Insumos!A:B,2,FALSE),\"\")","v":""}]
[null,null,{"$f":"IFERROR(VLOOKUP(A6592,Insumos!A:B,2,FALSE),\"\")","v":""}]
[null,null,{"$f":"IFERROR(VLOOKUP(A6593,Insumos!A:B,2,FALSE),\"\")","v":""}]
[null,null,{"$f":"IFERROR(VLOOKUP(A6594,Insumos!A:B,2,FALSE),\"\")","v":""}]
[null,null,{"$f":"IFERROR(VLOOKUP(A6595,Insumos!A:B,2,FALSE),\"\")","v":""}]
[null,null,{"$f":"IFERROR(VLOOKUP(A6596,Insumos!A:B,2,FALSE),\"\")","v":""}]
[null,null,{"$f":"IFERROR(VLOOKUP(A6597,Insumos!A:B,2,FALSE),\"\")","v":""}]
[null,null,{"$f":"IFERROR(VLOOKUP(A6598,Insumos!A:B,2,FALSE),\"\")","v":""}]
[null,null,{"$f":"IFERROR(VLOOKUP(A6599,Insumos!A:B,2,FALSE),\"\")","v":""}]
[null,null,{"$f":"IFERROR(VLOOKUP(A6600,Insumos!A:B,2,FALSE),\"\")","v":""}]
[null,null,{"$f":"IFERROR(VLOOKUP(A6601,Insumos!A:B,2,FALSE),\"\")","v":""}]
[null,null,{"$f":"IFERROR(VLOOKUP(A6602,Insumos!A:B,2,FALSE),\"\")","v":""}]
[null,null,{"$f":"IFERROR(VLOOKUP(A6603,Insumos!A:B,2,FALSE),\"\")","v":""}]
[null,null,{"$f":"IFERROR(VLOOKUP(A6604,Insumos!A:B,2,FALSE),\"\")","v":""}]
[null,null,{"$f":"IFERROR(VLOOKUP(A6605,Insumos!A:B,2,FALSE),\"\")","v":""}]
[null,null,{"$f":"IFERROR(VLOOKUP(A6606,Insumos!A:B,2,FALSE),\"\")","v":""}]
[null,null,{"$f":"IFERROR(VLOOKUP(A6607,Insumos!A:B,2,FALSE),\"\")","v":""}]
[null,null,{"$f":"IFERROR(VLOOKUP(A6608,Insumos!A:B,2,FALSE),\"\")","v":""}]
[null,null,{"$f":"IFERROR(VLOOKUP(A6609,Insumos!A:B,2,FALSE),\"\")","v":""}]
[null,null,{"$f":"IFERROR(VLOOKUP(A6610,Insumos!A:B,2,FALSE),\"\")","v":""}]
[null,null,{"$f":"IFERROR(VLOOKUP(A6611,Insumos!A:B,2,FALSE),\"\")","v":""}]
[null,null,{"$f":"IFERROR(VLOOKUP(A6612,Insumos!A:B,2,FALSE),\"\")","v":""}]
[null,null,{"$f":"IFERROR(VLOOKUP(A6613,Insumos!A:B,2,FALSE),\"\")","v":""}]
[null,null,{"$f":"IFERROR(VLOOKUP(A6614,Insumos!A:B,2,FALSE),\"\")","v":""}]
[null,null,{"$f":"IFERROR(VLOOKUP(A6615,Insumos!A:B,2,FALSE),\"\")","v":""}]
[null,null,{"$f":"IFERROR(VLOOKUP(A6616,Insumos!A:B,2,FALSE),\"\")","v":""}]
[null,null,{"$f":"IFERROR(VLOOKUP(A6617,Insumos!A:B,2,FALSE),\"\")","v":""}]
[null,null,{"$f":"IFERROR(VLOOKUP(A6618,Insumos!A:B,2,FALSE),\"\")","v":""}]
[null,null,{"$f":"IFERROR(VLOOKUP(A6619,Insumos!A:B,2,FALSE),\"\")","v":""}]
[null,null,{"$f":"IFERROR(VLOOKUP(A6620,Insumos!A:B,2,FALSE),\"\")","v":""}]
[null,null,{"$f":"IFERROR(VLOOKUP(A6621,Insumos!A:B,2,FALSE),\"\")","v":""}]
[null,null,{"$f":"IFERROR(VLOOKUP(A6622,Insumos!A:B,2,FALSE),\"\")","v":""}]
[null,null,{"$f":"IFERROR(VLOOKUP(A6623,Insumos!A:B,2,FALSE),\"\")","v":""}]
[null,null,{"$f":"IFERROR(VLOOKUP(A6624,Insumos!A:B,2,FALSE),\"\")","v":""}]
[null,null,{"$f":"IFERROR(VLOOKUP(A6625,Insumos!A:B,2,FALSE),\"\")","v":""}]
[null,null,{"$f":"IFERROR(VLOOKUP(A6626,Insumos!A:B,2,FALSE),\"\")","v":""}]
[null,null,{"$f":"IFERROR(VLOOKUP(A6627,Insumos!A:B,2,FALSE),\"\")","v":""}]
[null,null,{"$f":"IFERROR(VLOOKUP(A6628,Insumos!A:B,2,FALSE),\"\")","v":""}]
[null,null,{"$f":"IFERROR(VLOOKUP(A6629,Insumos!A:B,2,FALSE),\"\")","v":""}]
[null,null,{"$f":"IFERROR(VLOOKUP(A6630,Insumos!A:B,2,FALSE),\"\")","v":""}]
[null,null,{"$f":"IFERROR(VLOOKUP(A6631,Insumos!A:B,2,FALSE),\"\")","v":""}]
[null,null,{"$f":"IFERROR(VLOOKUP(A6632,Insumos!A:B,2,FALSE),\"\")","v":""}]
[null,null,{"$f":"IFERROR(VLOOKUP(A6633,Insumos!A:B,2,FALSE),\"\")","v":""}]
[null,null,{"$f":"IFERROR(VLOOKUP(A6634,Insumos!A:B,2,FALSE),\"\")","v":""}]
[null,null,{"$f":"IFERROR(VLOOKUP(A6635,Insumos!A:B,2,FALSE),\"\")","v":""}]
[null,null,{"$f":"IFERROR(VLOOKUP(A6636,Insumos!A:B,2,FALSE),\"\")","v":""}]
[null,null,{"$f":"IFERROR(VLOOKUP(A6637,Insumos!A:B,2,FALSE),\"\")","v":""}]
[null,null,{"$f":"IFERROR(VLOOKUP(A6638,Insumos!A:B,2,FALSE),\"\")","v":""}]
[null,null,{"$f":"IFERROR(VLOOKUP(A6639,Insumos!A:B,2,FALSE),\"\")","v":""}]
[null,null,{"$f":"IFERROR(VLOOKUP(A6640,Insumos!A:B,2,FALSE),\"\")","v":""}]
[null,null,{"$f":"IFERROR(VLOOKUP(A6641,Insumos!A:B,2,FALSE),\"\")","v":""}]
[null,null,{"$f":"IFERROR(VLOOKUP(A6642,Insumos!A:B,2,FALSE),\"\")","v":""}]
[null,null,{"$f":"IFERROR(VLOOKUP(A6643,Insumos!A:B,2,FALSE),\"\")","v":""}]
[null,null,{"$f":"IFERROR(VLOOKUP(A6644,Insumos!A:B,2,FALSE),\"\")","v":""}]
[null,null,{"$f":"IFERROR(VLOOKUP(A6645,Insumos!A:B,2,FALSE),\"\")","v":""}]
[null,null,{"$f":"IFERROR(VLOOKUP(A6646,Insumos!A:B,2,FALSE),\"\")","v":""}]
[null,null,{"$f":"IFERROR(VLOOKUP(A6647,Insumos!A:B,2,FALSE),\"\")","v":""}]
[null,null,{"$f":"IFERROR(VLOOKUP(A6648,Insumos!A:B,2,FALSE),\"\")","v":""}]
[null,null,{"$f":"IFERROR(VLOOKUP(A6649,Insumos!A:B,2,FALSE),\"\")","v":""}]
[null,null,{"$f":"IFERROR(VLOOKUP(A6650,Insumos!A:B,2,FALSE),\"\")","v":""}]
[null,null,{"$f":"IFERROR(VLOOKUP(A6651,Insumos!A:B,2,FALSE),\"\")","v":""}]
[null,null,{"$f":"IFERROR(VLOOKUP(A6652,Insumos!A:B,2,FALSE),\"\")","v":""}]
[null,null,{"$f":"IFERROR(VLOOKUP(A6653,Insumos!A:B,2,FALSE),\"\")","v":""}]
[null,null,{"$f":"IFERROR(VLOOKUP(A6654,Insumos!A:B,2,FALSE),\"\")","v":""}]
[null,null,{"$f":"IFERROR(VLOOKUP(A6655,Insumos!A:B,2,FALSE),\"\")","v":""}]
[null,null,{"$f":"IFERROR(VLOOKUP(A6656,Insumos!A:B,2,FALSE),\"\")","v":""}]
[null,null,{"$f":"IFERROR(VLOOKUP(A6657,Insumos!A:B,2,FALSE),\"\")","v":""}]
[null,null,{"$f":"IFERROR(VLOOKUP(A6658,Insumos!A:B,2,FALSE),\"\")","v":""}]
[null,null,{"$f":"IFERROR(VLOOKUP(A6659,Insumos!A:B,2,FALSE),\"\")","v":""}]
[null,null,{"$f":"IFERROR(VLOOKUP(A6660,Insumos!A:B,2,FALSE),\"\")","v":""}]
[null,null,{"$f":"IFERROR(VLOOKUP(A6661,Insumos!A:B,2,FALSE),\"\")","v":""}]
[null,null,{"$f":"IFERROR(VLOOKUP(A6662,Insumos!A:B,2,FALSE),\"\")","v":""}]
[null,null,{"$f":"IFERROR(VLOOKUP(A6663,Insumos!A:B,2,FALSE),\"\")","v":""}]
[null,null,{"$f":"IFERROR(VLOOKUP(A6664,Insumos!A:B,2,FALSE),\"\")","v":""}]
[null,null,{"$f":"IFERROR(VLOOKUP(A6665,Insumos!A:B,2,FALSE),\"\")","v":""}]
[null,null,{"$f":"IFERROR(VLOOKUP(A6666,Insumos!A:B,2,FALSE),\"\")","v":""}]
[null,null,{"$f":"IFERROR(VLOOKUP(A6667,Insumos!A:B,2,FALSE),\"\")","v":""}]
[null,null,{"$f":"IFERROR(VLOOKUP(A6668,Insumos!A:B,2,FALSE),\"\")","v":""}]
[null,null,{"$f":"IFERROR(VLOOKUP(A6669,Insumos!A:B,2,FALSE),\"\")","v":""}]
[null,null,{"$f":"IFERROR(VLOOKUP(A6670,Insumos!A:B,2,FALSE),\"\")","v":""}]
[null,null,{"$f":"IFERROR(VLOOKUP(A6671,Insumos!A:B,2,FALSE),\"\")","v":""}]
[null,null,{"$f":"IFERROR(VLOOKUP(A6672,Insumos!A:B,2,FALSE),\"\")","v":""}]
[null,null,{"$f":"IFERROR(VLOOKUP(A6673,Insumos!A:B,2,FALSE),\"\")","v":""}]
[null,null,{"$f":"IFERROR(VLOOKUP(A6674,Insumos!A:B,2,FALSE),\"\")","v":""}]
[null,null,{"$f":"IFERROR(VLOOKUP(A6675,Insumos!A:B,2,FALSE),\"\")","v":""}]
[null,null,{"$f":"IFERROR(VLOOKUP(A6676,Insumos!A:B,2,FALSE),\"\")","v":""}]
[null,null,{"$f":"IFERROR(VLOOKUP(A6677,Insumos!A:B,2,FALSE),\"\")","v":""}]
[null,null,{"$f":"IFERROR(VLOOKUP(A6678,Insumos!A:B,2,FALSE),\"\")","v":""}]
[null,null,{"$f":"IFERROR(VLOOKUP(A6679,Insumos!A:B,2,FALSE),\"\")","v":""}]
[null,null,{"$f":"IFERROR(VLOOKUP(A6680,Insumos!A:B,2,FALSE),\"\")","v":""}]
[null,null,{"$f":"IFERROR(VLOOKUP(A6681,Insumos!A:B,2,FALSE),\"\")","v":""}]
[null,null,{"$f":"IFERROR(VLOOKUP(A6682,Insumos!A:B,2,FALSE),\"\")","v":""}]
[null,null,{"$f":"IFERROR(VLOOKUP(A6683,Insumos!A:B,2,FALSE),\"\")","v":""}]
[null,null,{"$f":"IFERROR(VLOOKUP(A6684,Insumos!A:B,2,FALSE),\"\")","v":""}]
[null,null,{"$f":"IFERROR(VLOOKUP(A6685,Insumos!A:B,2,FALSE),\"\")","v":""}]
[null,null,{"$f":"IFERROR(VLOOKUP(A6686,Insumos!A:B,2,FALSE),\"\")","v":""}]
[null,null,{"$f":"IFERROR(VLOOKUP(A6687,Insumos!A:B,2,FALSE),\"\")","v":""}]
[null,null,{"$f":"IFERROR(VLOOKUP(A6688,Insumos!A:B,2,FALSE),\"\")","v":""}]
[null,null,{"$f":"IFERROR(VLOOKUP(A6689,Insumos!A:B,2,FALSE),\"\")","v":""}]
[null,null,{"$f":"IFERROR(VLOOKUP(A6690,Insumos!A:B,2,FALSE),\"\")","v":""}]
[null,null,{"$f":"IFERROR(VLOOKUP(A6691,Insumos!A:B,2,FALSE),\"\")","v":""}]
[null,null,{"$f":"IFERROR(VLOOKUP(A6692,Insumos!A:B,2,FALSE),\"\")","v":""}]
[null,null,{"$f":"IFERROR(VLOOKUP(A6693,Insumos!A:B,2,FALSE),\"\")","v":""}]
[null,null,{"$f":"IFERROR(VLOOKUP(A6694,Insumos!A:B,2,FALSE),\"\")","v":""}]
[null,null,{"$f":"IFERROR(VLOOKUP(A6695,Insumos!A:B,2,FALSE),\"\")","v":""}]
[null,null,{"$f":"IFERROR(VLOOKUP(A6696,Insumos!A:B,2,FALSE),\"\")","v":""}]
[null,null,{"$f":"IFERROR(VLOOKUP(A6697,Insumos!A:B,2,FALSE),\"\")","v":""}]
[null,null,{"$f":"IFERROR(VLOOKUP(A6698,Insumos!A:B,2,FALSE),\"\")","v":""}]
[null,null,{"$f":"IFERROR(VLOOKUP(A6699,Insumos!A:B,2,FALSE),\"\")","v":""}]
[null,null,{"$f":"IFERROR(VLOOKUP(A6700,Insumos!A:B,2,FALSE),\"\")","v":""}]
[null,null,{"$f":"IFERROR(VLOOKUP(A6701,Insumos!A:B,2,FALSE),\"\")","v":""}]
[null,null,{"$f":"IFERROR(VLOOKUP(A6702,Insumos!A:B,2,FALSE),\"\")","v":""}]
[null,null,{"$f":"IFERROR(VLOOKUP(A6703,Insumos!A:B,2,FALSE),\"\")","v":""}]
[null,null,{"$f":"IFERROR(VLOOKUP(A6704,Insumos!A:B,2,FALSE),\"\")","v":""}]
[null,null,{"$f":"IFERROR(VLOOKUP(A6705,Insumos!A:B,2,FALSE),\"\")","v":""}]
[null,null,{"$f":"IFERROR(VLOOKUP(A6706,Insumos!A:B,2,FALSE),\"\")","v":""}]
[null,null,{"$f":"IFERROR(VLOOKUP(A6707,Insumos!A:B,2,FALSE),\"\")","v":""}]
[null,null,{"$f":"IFERROR(VLOOKUP(A6708,Insumos!A:B,2,FALSE),\"\")","v":""}]
[null,null,{"$f":"IFERROR(VLOOKUP(A6709,Insumos!A:B,2,FALSE),\"\")","v":""}]
[null,null,{"$f":"IFERROR(VLOOKUP(A6710,Insumos!A:B,2,FALSE),\"\")","v":""}]
[null,null,{"$f":"IFERROR(VLOOKUP(A6711,Insumos!A:B,2,FALSE),\"\")","v":""}]
[null,null,{"$f":"IFERROR(VLOOKUP(A6712,Insumos!A:B,2,FALSE),\"\")","v":""}]
[null,null,{"$f":"IFERROR(VLOOKUP(A6713,Insumos!A:B,2,FALSE),\"\")","v":""}]
[null,null,{"$f":"IFERROR(VLOOKUP(A6714,Insumos!A:B,2,FALSE),\"\")","v":""}]
[null,null,{"$f":"IFERROR(VLOOKUP(A6715,Insumos!A:B,2,FALSE),\"\")","v":""}]
[null,null,{"$f":"IFERROR(VLOOKUP(A6716,Insumos!A:B,2,FALSE),\"\")","v":""}]
[null,null,{"$f":"IFERROR(VLOOKUP(A6717,Insumos!A:B,2,FALSE),\"\")","v":""}]
[null,null,{"$f":"IFERROR(VLOOKUP(A6718,Insumos!A:B,2,FALSE),\"\")","v":""}]
[null,null,{"$f":"IFERROR(VLOOKUP(A6719,Insumos!A:B,2,FALSE),\"\")","v":""}]
[null,null,{"$f":"IFERROR(VLOOKUP(A6720,Insumos!A:B,2,FALSE),\"\")","v":""}]
[null,null,{"$f":"IFERROR(VLOOKUP(A6721,Insumos!A:B,2,FALSE),\"\")","v":""}]
[null,null,{"$f":"IFERROR(VLOOKUP(A6722,Insumos!A:B,2,FALSE),\"\")","v":""}]
[null,null,{"$f":"IFERROR(VLOOKUP(A6723,Insumos!A:B,2,FALSE),\"\")","v":""}]
[null,null,{"$f":"IFERROR(VLOOKUP(A6724,Insumos!A:B,2,FALSE),\"\")","v":""}]
[null,null,{"$f":"IFERROR(VLOOKUP(A6725,Insumos!A:B,2,FALSE),\"\")","v":""}]
[null,null,{"$f":"IFERROR(VLOOKUP(A6726,Insumos!A:B,2,FALSE),\"\")","v":""}]
[null,null,{"$f":"IFERROR(VLOOKUP(A6727,Insumos!A:B,2,FALSE),\"\")","v":""}]
[null,null,{"$f":"IFERROR(VLOOKUP(A6728,Insumos!A:B,2,FALSE),\"\")","v":""}]
[null,null,{"$f":"IFERROR(VLOOKUP(A6729,Insumos!A:B,2,FALSE),\"\")","v":""}]
[null,null,{"$f":"IFERROR(VLOOKUP(A6730,Insumos!A:B,2,FALSE),\"\")","v":""}]
[null,null,{"$f":"IFERROR(VLOOKUP(A6731,Insumos!A:B,2,FALSE),\"\")","v":""}]
[null,null,{"$f":"IFERROR(VLOOKUP(A6732,Insumos!A:B,2,FALSE),\"\")","v":""}]
[null,null,{"$f":"IFERROR(VLOOKUP(A6733,Insumos!A:B,2,FALSE),\"\")","v":""}]
[null,null,{"$f":"IFERROR(VLOOKUP(A6734,Insumos!A:B,2,FALSE),\"\")","v":""}]
[null,null,{"$f":"IFERROR(VLOOKUP(A6735,Insumos!A:B,2,FALSE),\"\")","v":""}]
[null,null,{"$f":"IFERROR(VLOOKUP(A6736,Insumos!A:B,2,FALSE),\"\")","v":""}]
[null,null,{"$f":"IFERROR(VLOOKUP(A6737,Insumos!A:B,2,FALSE),\"\")","v":""}]
[null,null,{"$f":"IFERROR(VLOOKUP(A6738,Insumos!A:B,2,FALSE),\"\")","v":""}]
[null,null,{"$f":"IFERROR(VLOOKUP(A6739,Insumos!A:B,2,FALSE),\"\")","v":""}]
[null,null,{"$f":"IFERROR(VLOOKUP(A6740,Insumos!A:B,2,FALSE),\"\")","v":""}]
[null,null,{"$f":"IFERROR(VLOOKUP(A6741,Insumos!A:B,2,FALSE),\"\")","v":""}]
[null,null,{"$f":"IFERROR(VLOOKUP(A6742,Insumos!A:B,2,FALSE),\"\")","v":""}]
[null,null,{"$f":"IFERROR(VLOOKUP(A6743,Insumos!A:B,2,FALSE),\"\")","v":""}]
[null,null,{"$f":"IFERROR(VLOOKUP(A6744,Insumos!A:B,2,FALSE),\"\")","v":""}]
[null,null,{"$f":"IFERROR(VLOOKUP(A6745,Insumos!A:B,2,FALSE),\"\")","v":""}]
[null,null,{"$f":"IFERROR(VLOOKUP(A6746,Insumos!A:B,2,FALSE),\"\")","v":""}]
[null,null,{"$f":"IFERROR(VLOOKUP(A6747,Insumos!A:B,2,FALSE),\"\")","v":""}]
[null,null,{"$f":"IFERROR(VLOOKUP(A6748,Insumos!A:B,2,FALSE),\"\")","v":""}]
[null,null,{"$f":"IFERROR(VLOOKUP(A6749,Insumos!A:B,2,FALSE),\"\")","v":""}]
[null,null,{"$f":"IFERROR(VLOOKUP(A6750,Insumos!A:B,2,FALSE),\"\")","v":""}]
[null,null,{"$f":"IFERROR(VLOOKUP(A6751,Insumos!A:B,2,FALSE),\"\")","v":""}]
[null,null,{"$f":"IFERROR(VLOOKUP(A6752,Insumos!A:B,2,FALSE),\"\")","v":""}]
[null,null,{"$f":"IFERROR(VLOOKUP(A6753,Insumos!A:B,2,FALSE),\"\")","v":""}]
[null,null,{"$f":"IFERROR(VLOOKUP(A6754,Insumos!A:B,2,FALSE),\"\")","v":""}]
[null,null,{"$f":"IFERROR(VLOOKUP(A6755,Insumos!A:B,2,FALSE),\"\")","v":""}]
[null,null,{"$f":"IFERROR(VLOOKUP(A6756,Insumos!A:B,2,FALSE),\"\")","v":""}]
[null,null,{"$f":"IFERROR(VLOOKUP(A6757,Insumos!A:B,2,FALSE),\"\")","v":""}]
[null,null,{"$f":"IFERROR(VLOOKUP(A6758,Insumos!A:B,2,FALSE),\"\")","v":""}]
[null,null,{"$f":"IFERROR(VLOOKUP(A6759,Insumos!A:B,2,FALSE),\"\")","v":""}]
[null,null,{"$f":"IFERROR(VLOOKUP(A6760,Insumos!A:B,2,FALSE),\"\")","v":""}]
[null,null,{"$f":"IFERROR(VLOOKUP(A6761,Insumos!A:B,2,FALSE),\"\")","v":""}]
[null,null,{"$f":"IFERROR(VLOOKUP(A6762,Insumos!A:B,2,FALSE),\"\")","v":""}]
[null,null,{"$f":"IFERROR(VLOOKUP(A6763,Insumos!A:B,2,FALSE),\"\")","v":""}]
[null,null,{"$f":"IFERROR(VLOOKUP(A6764,Insumos!A:B,2,FALSE),\"\")","v":""}]
[null,null,{"$f":"IFERROR(VLOOKUP(A6765,Insumos!A:B,2,FALSE),\"\")","v":""}]
[null,null,{"$f":"IFERROR(VLOOKUP(A6766,Insumos!A:B,2,FALSE),\"\")","v":""}]
[null,null,{"$f":"IFERROR(VLOOKUP(A6767,Insumos!A:B,2,FALSE),\"\")","v":""}]
[null,null,{"$f":"IFERROR(VLOOKUP(A6768,Insumos!A:B,2,FALSE),\"\")","v":""}]
[null,null,{"$f":"IFERROR(VLOOKUP(A6769,Insumos!A:B,2,FALSE),\"\")","v":""}]
[null,null,{"$f":"IFERROR(VLOOKUP(A6770,Insumos!A:B,2,FALSE),\"\")","v":""}]
[null,null,{"$f":"IFERROR(VLOOKUP(A6771,Insumos!A:B,2,FALSE),\"\")","v":""}]
[null,null,{"$f":"IFERROR(VLOOKUP(A6772,Insumos!A:B,2,FALSE),\"\")","v":""}]
[null,null,{"$f":"IFERROR(VLOOKUP(A6773,Insumos!A:B,2,FALSE),\"\")","v":""}]
[null,null,{"$f":"IFERROR(VLOOKUP(A6774,Insumos!A:B,2,FALSE),\"\")","v":""}]
[null,null,{"$f":"IFERROR(VLOOKUP(A6775,Insumos!A:B,2,FALSE),\"\")","v":""}]
[null,null,{"$f":"IFERROR(VLOOKUP(A6776,Insumos!A:B,2,FALSE),\"\")","v":""}]
[null,null,{"$f":"IFERROR(VLOOKUP(A6777,Insumos!A:B,2,FALSE),\"\")","v":""}]
[null,null,{"$f":"IFERROR(VLOOKUP(A6778,Insumos!A:B,2,FALSE),\"\")","v":""}]
[null,null,{"$f":"IFERROR(VLOOKUP(A6779,Insumos!A:B,2,FALSE),\"\")","v":""}]
[null,null,{"$f":"IFERROR(VLOOKUP(A6780,Insumos!A:B,2,FALSE),\"\")","v":""}]
[null,null,{"$f":"IFERROR(VLOOKUP(A6781,Insumos!A:B,2,FALSE),\"\")","v":""}]
[null,null,{"$f":"IFERROR(VLOOKUP(A6782,Insumos!A:B,2,FALSE),\"\")","v":""}]
[null,null,{"$f":"IFERROR(VLOOKUP(A6783,Insumos!A:B,2,FALSE),\"\")","v":""}]
[null,null,{"$f":"IFERROR(VLOOKUP(A6784,Insumos!A:B,2,FALSE),\"\")","v":""}]
[null,null,{"$f":"IFERROR(VLOOKUP(A6785,Insumos!A:B,2,FALSE),\"\")","v":""}]
[null,null,{"$f":"IFERROR(VLOOKUP(A6786,Insumos!A:B,2,FALSE),\"\")","v":""}]
[null,null,{"$f":"IFERROR(VLOOKUP(A6787,Insumos!A:B,2,FALSE),\"\")","v":""}]
[null,null,{"$f":"IFERROR(VLOOKUP(A6788,Insumos!A:B,2,FALSE),\"\")","v":""}]
[null,null,{"$f":"IFERROR(VLOOKUP(A6789,Insumos!A:B,2,FALSE),\"\")","v":""}]
[null,null,{"$f":"IFERROR(VLOOKUP(A6790,Insumos!A:B,2,FALSE),\"\")","v":""}]
[null,null,{"$f":"IFERROR(VLOOKUP(A6791,Insumos!A:B,2,FALSE),\"\")","v":""}]
[null,null,{"$f":"IFERROR(VLOOKUP(A6792,Insumos!A:B,2,FALSE),\"\")","v":""}]
[null,null,{"$f":"IFERROR(VLOOKUP(A6793,Insumos!A:B,2,FALSE),\"\")","v":""}]
[null,null,{"$f":"IFERROR(VLOOKUP(A6794,Insumos!A:B,2,FALSE),\"\")","v":""}]
[null,null,{"$f":"IFERROR(VLOOKUP(A6795,Insumos!A:B,2,FALSE),\"\")","v":""}]
[null,null,{"$f":"IFERROR(VLOOKUP(A6796,Insumos!A:B,2,FALSE),\"\")","v":""}]
[null,null,{"$f":"IFERROR(VLOOKUP(A6797,Insumos!A:B,2,FALSE),\"\")","v":""}]
[null,null,{"$f":"IFERROR(VLOOKUP(A6798,Insumos!A:B,2,FALSE),\"\")","v":""}]
[null,null,{"$f":"IFERROR(VLOOKUP(A6799,Insumos!A:B,2,FALSE),\"\")","v":""}]
[null,null,{"$f":"IFERROR(VLOOKUP(A6800,Insumos!A:B,2,FALSE),\"\")","v":""}]
[null,null,{"$f":"IFERROR(VLOOKUP(A6801,Insumos!A:B,2,FALSE),\"\")","v":""}]
[null,null,{"$f":"IFERROR(VLOOKUP(A6802,Insumos!A:B,2,FALSE),\"\")","v":""}]
[null,null,{"$f":"IFERROR(VLOOKUP(A6803,Insumos!A:B,2,FALSE),\"\")","v":""}]
[null,null,{"$f":"IFERROR(VLOOKUP(A6804,Insumos!A:B,2,FALSE),\"\")","v":""}]
[null,null,{"$f":"IFERROR(VLOOKUP(A6805,Insumos!A:B,2,FALSE),\"\")","v":""}]
[null,null,{"$f":"IFERROR(VLOOKUP(A6806,Insumos!A:B,2,FALSE),\"\")","v":""}]
[null,null,{"$f":"IFERROR(VLOOKUP(A6807,Insumos!A:B,2,FALSE),\"\")","v":""}]
[null,null,{"$f":"IFERROR(VLOOKUP(A6808,Insumos!A:B,2,FALSE),\"\")","v":""}]
[null,null,{"$f":"IFERROR(VLOOKUP(A6809,Insumos!A:B,2,FALSE),\"\")","v":""}]
[null,null,{"$f":"IFERROR(VLOOKUP(A6810,Insumos!A:B,2,FALSE),\"\")","v":""}]
[null,null,{"$f":"IFERROR(VLOOKUP(A6811,Insumos!A:B,2,FALSE),\"\")","v":""}]
[null,null,{"$f":"IFERROR(VLOOKUP(A6812,Insumos!A:B,2,FALSE),\"\")","v":""}]
[null,null,{"$f":"IFERROR(VLOOKUP(A6813,Insumos!A:B,2,FALSE),\"\")","v":""}]
[null,null,{"$f":"IFERROR(VLOOKUP(A6814,Insumos!A:B,2,FALSE),\"\")","v":""}]
[null,null,{"$f":"IFERROR(VLOOKUP(A6815,Insumos!A:B,2,FALSE),\"\")","v":""}]
[null,null,{"$f":"IFERROR(VLOOKUP(A6816,Insumos!A:B,2,FALSE),\"\")","v":""}]
[null,null,{"$f":"IFERROR(VLOOKUP(A6817,Insumos!A:B,2,FALSE),\"\")","v":""}]
[null,null,{"$f":"IFERROR(VLOOKUP(A6818,Insumos!A:B,2,FALSE),\"\")","v":""}]
[null,null,{"$f":"IFERROR(VLOOKUP(A6819,Insumos!A:B,2,FALSE),\"\")","v":""}]
[null,null,{"$f":"IFERROR(VLOOKUP(A6820,Insumos!A:B,2,FALSE),\"\")","v":""}]
[null,null,{"$f":"IFERROR(VLOOKUP(A6821,Insumos!A:B,2,FALSE),\"\")","v":""}]
[null,null,{"$f":"IFERROR(VLOOKUP(A6822,Insumos!A:B,2,FALSE),\"\")","v":""}]
[null,null,{"$f":"IFERROR(VLOOKUP(A6823,Insumos!A:B,2,FALSE),\"\")","v":""}]
[null,null,{"$f":"IFERROR(VLOOKUP(A6824,Insumos!A:B,2,FALSE),\"\")","v":""}]
[null,null,{"$f":"IFERROR(VLOOKUP(A6825,Insumos!A:B,2,FALSE),\"\")","v":""}]
[null,null,{"$f":"IFERROR(VLOOKUP(A6826,Insumos!A:B,2,FALSE),\"\")","v":""}]
[null,null,{"$f":"IFERROR(VLOOKUP(A6827,Insumos!A:B,2,FALSE),\"\")","v":""}]
[null,null,{"$f":"IFERROR(VLOOKUP(A6828,Insumos!A:B,2,FALSE),\"\")","v":""}]
[null,null,{"$f":"IFERROR(VLOOKUP(A6829,Insumos!A:B,2,FALSE),\"\")","v":""}]
[null,null,{"$f":"IFERROR(VLOOKUP(A6830,Insumos!A:B,2,FALSE),\"\")","v":""}]
[null,null,{"$f":"IFERROR(VLOOKUP(A6831,Insumos!A:B,2,FALSE),\"\")","v":""}]
[null,null,{"$f":"IFERROR(VLOOKUP(A6832,Insumos!A:B,2,FALSE),\"\")","v":""}]
[null,null,{"$f":"IFERROR(VLOOKUP(A6833,Insumos!A:B,2,FALSE),\"\")","v":""}]
[null,null,{"$f":"IFERROR(VLOOKUP(A6834,Insumos!A:B,2,FALSE),\"\")","v":""}]
[null,null,{"$f":"IFERROR(VLOOKUP(A6835,Insumos!A:B,2,FALSE),\"\")","v":""}]
[null,null,{"$f":"IFERROR(VLOOKUP(A6836,Insumos!A:B,2,FALSE),\"\")","v":""}]
[null,null,{"$f":"IFERROR(VLOOKUP(A6837,Insumos!A:B,2,FALSE),\"\")","v":""}]
[null,null,{"$f":"IFERROR(VLOOKUP(A6838,Insumos!A:B,2,FALSE),\"\")","v":""}]
[null,null,{"$f":"IFERROR(VLOOKUP(A6839,Insumos!A:B,2,FALSE),\"\")","v":""}]
[null,null,{"$f":"IFERROR(VLOOKUP(A6840,Insumos!A:B,2,FALSE),\"\")","v":""}]
[null,null,{"$f":"IFERROR(VLOOKUP(A6841,Insumos!A:B,2,FALSE),\"\")","v":""}]
[null,null,{"$f":"IFERROR(VLOOKUP(A6842,Insumos!A:B,2,FALSE),\"\")","v":""}]
[null,null,{"$f":"IFERROR(VLOOKUP(A6843,Insumos!A:B,2,FALSE),\"\")","v":""}]
[null,null,{"$f":"IFERROR(VLOOKUP(A6844,Insumos!A:B,2,FALSE),\"\")","v":""}]
[null,null,{"$f":"IFERROR(VLOOKUP(A6845,Insumos!A:B,2,FALSE),\"\")","v":""}]
[null,null,{"$f":"IFERROR(VLOOKUP(A6846,Insumos!A:B,2,FALSE),\"\")","v":""}]
[null,null,{"$f":"IFERROR(VLOOKUP(A6847,Insumos!A:B,2,FALSE),\"\")","v":""}]
[null,null,{"$f":"IFERROR(VLOOKUP(A6848,Insumos!A:B,2,FALSE),\"\")","v":""}]
[null,null,{"$f":"IFERROR(VLOOKUP(A6849,Insumos!A:B,2,FALSE),\"\")","v":""}]
[null,null,{"$f":"IFERROR(VLOOKUP(A6850,Insumos!A:B,2,FALSE),\"\")","v":""}]
[null,null,{"$f":"IFERROR(VLOOKUP(A6851,Insumos!A:B,2,FALSE),\"\")","v":""}]
[null,null,{"$f":"IFERROR(VLOOKUP(A6852,Insumos!A:B,2,FALSE),\"\")","v":""}]
[null,null,{"$f":"IFERROR(VLOOKUP(A6853,Insumos!A:B,2,FALSE),\"\")","v":""}]
[null,null,{"$f":"IFERROR(VLOOKUP(A6854,Insumos!A:B,2,FALSE),\"\")","v":""}]
[null,null,{"$f":"IFERROR(VLOOKUP(A6855,Insumos!A:B,2,FALSE),\"\")","v":""}]
[null,null,{"$f":"IFERROR(VLOOKUP(A6856,Insumos!A:B,2,FALSE),\"\")","v":""}]
[null,null,{"$f":"IFERROR(VLOOKUP(A6857,Insumos!A:B,2,FALSE),\"\")","v":""}]
[null,null,{"$f":"IFERROR(VLOOKUP(A6858,Insumos!A:B,2,FALSE),\"\")","v":""}]
[null,null,{"$f":"IFERROR(VLOOKUP(A6859,Insumos!A:B,2,FALSE),\"\")","v":""}]
[null,null,{"$f":"IFERROR(VLOOKUP(A6860,Insumos!A:B,2,FALSE),\"\")","v":""}]
[null,null,{"$f":"IFERROR(VLOOKUP(A6861,Insumos!A:B,2,FALSE),\"\")","v":""}]
[null,null,{"$f":"IFERROR(VLOOKUP(A6862,Insumos!A:B,2,FALSE),\"\")","v":""}]
[null,null,{"$f":"IFERROR(VLOOKUP(A6863,Insumos!A:B,2,FALSE),\"\")","v":""}]
[null,null,{"$f":"IFERROR(VLOOKUP(A6864,Insumos!A:B,2,FALSE),\"\")","v":""}]
[null,null,{"$f":"IFERROR(VLOOKUP(A6865,Insumos!A:B,2,FALSE),\"\")","v":""}]
[null,null,{"$f":"IFERROR(VLOOKUP(A6866,Insumos!A:B,2,FALSE),\"\")","v":""}]
[null,null,{"$f":"IFERROR(VLOOKUP(A6867,Insumos!A:B,2,FALSE),\"\")","v":""}]
[null,null,{"$f":"IFERROR(VLOOKUP(A6868,Insumos!A:B,2,FALSE),\"\")","v":""}]
[null,null,{"$f":"IFERROR(VLOOKUP(A6869,Insumos!A:B,2,FALSE),\"\")","v":""}]
[null,null,{"$f":"IFERROR(VLOOKUP(A6870,Insumos!A:B,2,FALSE),\"\")","v":""}]
[null,null,{"$f":"IFERROR(VLOOKUP(A6871,Insumos!A:B,2,FALSE),\"\")","v":""}]
[null,null,{"$f":"IFERROR(VLOOKUP(A6872,Insumos!A:B,2,FALSE),\"\")","v":""}]
[null,null,{"$f":"IFERROR(VLOOKUP(A6873,Insumos!A:B,2,FALSE),\"\")","v":""}]
[null,null,{"$f":"IFERROR(VLOOKUP(A6874,Insumos!A:B,2,FALSE),\"\")","v":""}]
[null,null,{"$f":"IFERROR(VLOOKUP(A6875,Insumos!A:B,2,FALSE),\"\")","v":""}]
[null,null,{"$f":"IFERROR(VLOOKUP(A6876,Insumos!A:B,2,FALSE),\"\")","v":""}]
[null,null,{"$f":"IFERROR(VLOOKUP(A6877,Insumos!A:B,2,FALSE),\"\")","v":""}]
[null,null,{"$f":"IFERROR(VLOOKUP(A6878,Insumos!A:B,2,FALSE),\"\")","v":""}]
[null,null,{"$f":"IFERROR(VLOOKUP(A6879,Insumos!A:B,2,FALSE),\"\")","v":""}]
[null,null,{"$f":"IFERROR(VLOOKUP(A6880,Insumos!A:B,2,FALSE),\"\")","v":""}]
[null,null,{"$f":"IFERROR(VLOOKUP(A6881,Insumos!A:B,2,FALSE),\"\")","v":""}]
[null,null,{"$f":"IFERROR(VLOOKUP(A6882,Insumos!A:B,2,FALSE),\"\")","v":""}]
[null,null,{"$f":"IFERROR(VLOOKUP(A6883,Insumos!A:B,2,FALSE),\"\")","v":""}]
[null,null,{"$f":"IFERROR(VLOOKUP(A6884,Insumos!A:B,2,FALSE),\"\")","v":""}]
[null,null,{"$f":"IFERROR(VLOOKUP(A6885,Insumos!A:B,2,FALSE),\"\")","v":""}]
[null,null,{"$f":"IFERROR(VLOOKUP(A6886,Insumos!A:B,2,FALSE),\"\")","v":""}]
[null,null,{"$f":"IFERROR(VLOOKUP(A6887,Insumos!A:B,2,FALSE),\"\")","v":""}]
[null,null,{"$f":"IFERROR(VLOOKUP(A6888,Insumos!A:B,2,FALSE),\"\")","v":""}]
[null,null,{"$f":"IFERROR(VLOOKUP(A6889,Insumos!A:B,2,FALSE),\"\")","v":""}]
[null,null,{"$f":"IFERROR(VLOOKUP(A6890,Insumos!A:B,2,FALSE),\"\")","v":""}]
[null,null,{"$f":"IFERROR(VLOOKUP(A6891,Insumos!A:B,2,FALSE),\"\")","v":""}]
[null,null,{"$f":"IFERROR(VLOOKUP(A6892,Insumos!A:B,2,FALSE),\"\")","v":""}]
[null,null,{"$f":"IFERROR(VLOOKUP(A6893,Insumos!A:B,2,FALSE),\"\")","v":""}]
[null,null,{"$f":"IFERROR(VLOOKUP(A6894,Insumos!A:B,2,FALSE),\"\")","v":""}]
[null,null,{"$f":"IFERROR(VLOOKUP(A6895,Insumos!A:B,2,FALSE),\"\")","v":""}]
[null,null,{"$f":"IFERROR(VLOOKUP(A6896,Insumos!A:B,2,FALSE),\"\")","v":""}]
[null,null,{"$f":"IFERROR(VLOOKUP(A6897,Insumos!A:B,2,FALSE),\"\")","v":""}]
[null,null,{"$f":"IFERROR(VLOOKUP(A6898,Insumos!A:B,2,FALSE),\"\")","v":""}]
[null,null,{"$f":"IFERROR(VLOOKUP(A6899,Insumos!A:B,2,FALSE),\"\")","v":""}]
[null,null,{"$f":"IFERROR(VLOOKUP(A6900,Insumos!A:B,2,FALSE),\"\")","v":""}]
[null,null,{"$f":"IFERROR(VLOOKUP(A6901,Insumos!A:B,2,FALSE),\"\")","v":""}]
[null,null,{"$f":"IFERROR(VLOOKUP(A6902,Insumos!A:B,2,FALSE),\"\")","v":""}]
[null,null,{"$f":"IFERROR(VLOOKUP(A6903,Insumos!A:B,2,FALSE),\"\")","v":""}]
[null,null,{"$f":"IFERROR(VLOOKUP(A6904,Insumos!A:B,2,FALSE),\"\")","v":""}]
[null,null,{"$f":"IFERROR(VLOOKUP(A6905,Insumos!A:B,2,FALSE),\"\")","v":""}]
[null,null,{"$f":"IFERROR(VLOOKUP(A6906,Insumos!A:B,2,FALSE),\"\")","v":""}]
[null,null,{"$f":"IFERROR(VLOOKUP(A6907,Insumos!A:B,2,FALSE),\"\")","v":""}]
[null,null,{"$f":"IFERROR(VLOOKUP(A6908,Insumos!A:B,2,FALSE),\"\")","v":""}]
[null,null,{"$f":"IFERROR(VLOOKUP(A6909,Insumos!A:B,2,FALSE),\"\")","v":""}]
[null,null,{"$f":"IFERROR(VLOOKUP(A6910,Insumos!A:B,2,FALSE),\"\")","v":""}]
[null,null,{"$f":"IFERROR(VLOOKUP(A6911,Insumos!A:B,2,FALSE),\"\")","v":""}]
[null,null,{"$f":"IFERROR(VLOOKUP(A6912,Insumos!A:B,2,FALSE),\"\")","v":""}]
[null,null,{"$f":"IFERROR(VLOOKUP(A6913,Insumos!A:B,2,FALSE),\"\")","v":""}]
[null,null,{"$f":"IFERROR(VLOOKUP(A6914,Insumos!A:B,2,FALSE),\"\")","v":""}]
[null,null,{"$f":"IFERROR(VLOOKUP(A6915,Insumos!A:B,2,FALSE),\"\")","v":""}]
[null,null,{"$f":"IFERROR(VLOOKUP(A6916,Insumos!A:B,2,FALSE),\"\")","v":""}]
[null,null,{"$f":"IFERROR(VLOOKUP(A6917,Insumos!A:B,2,FALSE),\"\")","v":""}]
[null,null,{"$f":"IFERROR(VLOOKUP(A6918,Insumos!A:B,2,FALSE),\"\")","v":""}]
[null,null,{"$f":"IFERROR(VLOOKUP(A6919,Insumos!A:B,2,FALSE),\"\")","v":""}]
[null,null,{"$f":"IFERROR(VLOOKUP(A6920,Insumos!A:B,2,FALSE),\"\")","v":""}]
[null,null,{"$f":"IFERROR(VLOOKUP(A6921,Insumos!A:B,2,FALSE),\"\")","v":""}]
[null,null,{"$f":"IFERROR(VLOOKUP(A6922,Insumos!A:B,2,FALSE),\"\")","v":""}]
[null,null,{"$f":"IFERROR(VLOOKUP(A6923,Insumos!A:B,2,FALSE),\"\")","v":""}]
[null,null,{"$f":"IFERROR(VLOOKUP(A6924,Insumos!A:B,2,FALSE),\"\")","v":""}]
[null,null,{"$f":"IFERROR(VLOOKUP(A6925,Insumos!A:B,2,FALSE),\"\")","v":""}]
[null,null,{"$f":"IFERROR(VLOOKUP(A6926,Insumos!A:B,2,FALSE),\"\")","v":""}]
[null,null,{"$f":"IFERROR(VLOOKUP(A6927,Insumos!A:B,2,FALSE),\"\")","v":""}]
[null,null,{"$f":"IFERROR(VLOOKUP(A6928,Insumos!A:B,2,FALSE),\"\")","v":""}]
[null,null,{"$f":"IFERROR(VLOOKUP(A6929,Insumos!A:B,2,FALSE),\"\")","v":""}]
[null,null,{"$f":"IFERROR(VLOOKUP(A6930,Insumos!A:B,2,FALSE),\"\")","v":""}]
[null,null,{"$f":"IFERROR(VLOOKUP(A6931,Insumos!A:B,2,FALSE),\"\")","v":""}]
[null,null,{"$f":"IFERROR(VLOOKUP(A6932,Insumos!A:B,2,FALSE),\"\")","v":""}]
[null,null,{"$f":"IFERROR(VLOOKUP(A6933,Insumos!A:B,2,FALSE),\"\")","v":""}]
[null,null,{"$f":"IFERROR(VLOOKUP(A6934,Insumos!A:B,2,FALSE),\"\")","v":""}]
[null,null,{"$f":"IFERROR(VLOOKUP(A6935,Insumos!A:B,2,FALSE),\"\")","v":""}]
[null,null,{"$f":"IFERROR(VLOOKUP(A6936,Insumos!A:B,2,FALSE),\"\")","v":""}]
[null,null,{"$f":"IFERROR(VLOOKUP(A6937,Insumos!A:B,2,FALSE),\"\")","v":""}]
[null,null,{"$f":"IFERROR(VLOOKUP(A6938,Insumos!A:B,2,FALSE),\"\")","v":""}]
[null,null,{"$f":"IFERROR(VLOOKUP(A6939,Insumos!A:B,2,FALSE),\"\")","v":""}]
[null,null,{"$f":"IFERROR(VLOOKUP(A6940,Insumos!A:B,2,FALSE),\"\")","v":""}]
[null,null,{"$f":"IFERROR(VLOOKUP(A6941,Insumos!A:B,2,FALSE),\"\")","v":""}]
[null,null,{"$f":"IFERROR(VLOOKUP(A6942,Insumos!A:B,2,FALSE),\"\")","v":""}]
[null,null,{"$f":"IFERROR(VLOOKUP(A6943,Insumos!A:B,2,FALSE),\"\")","v":""}]
[null,null,{"$f":"IFERROR(VLOOKUP(A6944,Insumos!A:B,2,FALSE),\"\")","v":""}]
[null,null,{"$f":"IFERROR(VLOOKUP(A6945,Insumos!A:B,2,FALSE),\"\")","v":""}]
[null,null,{"$f":"IFERROR(VLOOKUP(A6946,Insumos!A:B,2,FALSE),\"\")","v":""}]
[null,null,{"$f":"IFERROR(VLOOKUP(A6947,Insumos!A:B,2,FALSE),\"\")","v":""}]
[null,null,{"$f":"IFERROR(VLOOKUP(A6948,Insumos!A:B,2,FALSE),\"\")","v":""}]
[null,null,{"$f":"IFERROR(VLOOKUP(A6949,Insumos!A:B,2,FALSE),\"\")","v":""}]
[null,null,{"$f":"IFERROR(VLOOKUP(A6950,Insumos!A:B,2,FALSE),\"\")","v":""}]
[null,null,{"$f":"IFERROR(VLOOKUP(A6951,Insumos!A:B,2,FALSE),\"\")","v":""}]
[null,null,{"$f":"IFERROR(VLOOKUP(A6952,Insumos!A:B,2,FALSE),\"\")","v":""}]
[null,null,{"$f":"IFERROR(VLOOKUP(A6953,Insumos!A:B,2,FALSE),\"\")","v":""}]
[null,null,{"$f":"IFERROR(VLOOKUP(A6954,Insumos!A:B,2,FALSE),\"\")","v":""}]
[null,null,{"$f":"IFERROR(VLOOKUP(A6955,Insumos!A:B,2,FALSE),\"\")","v":""}]
[null,null,{"$f":"IFERROR(VLOOKUP(A6956,Insumos!A:B,2,FALSE),\"\")","v":""}]
[null,null,{"$f":"IFERROR(VLOOKUP(A6957,Insumos!A:B,2,FALSE),\"\")","v":""}]
[null,null,{"$f":"IFERROR(VLOOKUP(A6958,Insumos!A:B,2,FALSE),\"\")","v":""}]
[null,null,{"$f":"IFERROR(VLOOKUP(A6959,Insumos!A:B,2,FALSE),\"\")","v":""}]
[null,null,{"$f":"IFERROR(VLOOKUP(A6960,Insumos!A:B,2,FALSE),\"\")","v":""}]
[null,null,{"$f":"IFERROR(VLOOKUP(A6961,Insumos!A:B,2,FALSE),\"\")","v":""}]
[null,null,{"$f":"IFERROR(VLOOKUP(A6962,Insumos!A:B,2,FALSE),\"\")","v":""}]
[null,null,{"$f":"IFERROR(VLOOKUP(A6963,Insumos!A:B,2,FALSE),\"\")","v":""}]
[null,null,{"$f":"IFERROR(VLOOKUP(A6964,Insumos!A:B,2,FALSE),\"\")","v":""}]
[null,null,{"$f":"IFERROR(VLOOKUP(A6965,Insumos!A:B,2,FALSE),\"\")","v":""}]
[null,null,{"$f":"IFERROR(VLOOKUP(A6966,Insumos!A:B,2,FALSE),\"\")","v":""}]
[null,null,{"$f":"IFERROR(VLOOKUP(A6967,Insumos!A:B,2,FALSE),\"\")","v":""}]
[null,null,{"$f":"IFERROR(VLOOKUP(A6968,Insumos!A:B,2,FALSE),\"\")","v":""}]
[null,null,{"$f":"IFERROR(VLOOKUP(A6969,Insumos!A:B,2,FALSE),\"\")","v":""}]
[null,null,{"$f":"IFERROR(VLOOKUP(A6970,Insumos!A:B,2,FALSE),\"\")","v":""}]
[null,null,{"$f":"IFERROR(VLOOKUP(A6971,Insumos!A:B,2,FALSE),\"\")","v":""}]
[null,null,{"$f":"IFERROR(VLOOKUP(A6972,Insumos!A:B,2,FALSE),\"\")","v":""}]
[null,null,{"$f":"IFERROR(VLOOKUP(A6973,Insumos!A:B,2,FALSE),\"\")","v":""}]
[null,null,{"$f":"IFERROR(VLOOKUP(A6974,Insumos!A:B,2,FALSE),\"\")","v":""}]
[null,null,{"$f":"IFERROR(VLOOKUP(A6975,Insumos!A:B,2,FALSE),\"\")","v":""}]
[null,null,{"$f":"IFERROR(VLOOKUP(A6976,Insumos!A:B,2,FALSE),\"\")","v":""}]
[null,null,{"$f":"IFERROR(VLOOKUP(A6977,Insumos!A:B,2,FALSE),\"\")","v":""}]
[null,null,{"$f":"IFERROR(VLOOKUP(A6978,Insumos!A:B,2,FALSE),\"\")","v":""}]
[null,null,{"$f":"IFERROR(VLOOKUP(A6979,Insumos!A:B,2,FALSE),\"\")","v":""}]
[null,null,{"$f":"IFERROR(VLOOKUP(A6980,Insumos!A:B,2,FALSE),\"\")","v":""}]
[null,null,{"$f":"IFERROR(VLOOKUP(A6981,Insumos!A:B,2,FALSE),\"\")","v":""}]
[null,null,{"$f":"IFERROR(VLOOKUP(A6982,Insumos!A:B,2,FALSE),\"\")","v":""}]
[null,null,{"$f":"IFERROR(VLOOKUP(A6983,Insumos!A:B,2,FALSE),\"\")","v":""}]
[null,null,{"$f":"IFERROR(VLOOKUP(A6984,Insumos!A:B,2,FALSE),\"\")","v":""}]
[null,null,{"$f":"IFERROR(VLOOKUP(A6985,Insumos!A:B,2,FALSE),\"\")","v":""}]
[null,null,{"$f":"IFERROR(VLOOKUP(A6986,Insumos!A:B,2,FALSE),\"\")","v":""}]
[null,null,{"$f":"IFERROR(VLOOKUP(A6987,Insumos!A:B,2,FALSE),\"\")","v":""}]
[null,null,{"$f":"IFERROR(VLOOKUP(A6988,Insumos!A:B,2,FALSE),\"\")","v":""}]
[null,null,{"$f":"IFERROR(VLOOKUP(A6989,Insumos!A:B,2,FALSE),\"\")","v":""}]
[null,null,{"$f":"IFERROR(VLOOKUP(A6990,Insumos!A:B,2,FALSE),\"\")","v":""}]
[null,null,{"$f":"IFERROR(VLOOKUP(A6991,Insumos!A:B,2,FALSE),\"\")","v":""}]
[null,null,{"$f":"IFERROR(VLOOKUP(A6992,Insumos!A:B,2,FALSE),\"\")","v":""}]
[null,null,{"$f":"IFERROR(VLOOKUP(A6993,Insumos!A:B,2,FALSE),\"\")","v":""}]
[null,null,{"$f":"IFERROR(VLOOKUP(A6994,Insumos!A:B,2,FALSE),\"\")","v":""}]
[null,null,{"$f":"IFERROR(VLOOKUP(A6995,Insumos!A:B,2,FALSE),\"\")","v":""}]
[null,null,{"$f":"IFERROR(VLOOKUP(A6996,Insumos!A:B,2,FALSE),\"\")","v":""}]
[null,null,{"$f":"IFERROR(VLOOKUP(A6997,Insumos!A:B,2,FALSE),\"\")","v":""}]
[null,null,{"$f":"IFERROR(VLOOKUP(A6998,Insumos!A:B,2,FALSE),\"\")","v":""}]
[null,null,{"$f":"IFERROR(VLOOKUP(A6999,Insumos!A:B,2,FALSE),\"\")","v":""}]
[null,null,{"$f":"IFERROR(VLOOKUP(A7000,Insumos!A:B,2,FALSE),\"\")","v":""}]
[null,null,{"$f":"IFERROR(VLOOKUP(A7001,Insumos!A:B,2,FALSE),\"\")","v":""}]
[null,null,{"$f":"IFERROR(VLOOKUP(A7002,Insumos!A:B,2,FALSE),\"\")","v":""}]
[null,null,{"$f":"IFERROR(VLOOKUP(A7003,Insumos!A:B,2,FALSE),\"\")","v":""}]
[null,null,{"$f":"IFERROR(VLOOKUP(A7004,Insumos!A:B,2,FALSE),\"\")","v":""}]
[null,null,{"$f":"IFERROR(VLOOKUP(A7005,Insumos!A:B,2,FALSE),\"\")","v":""}]
[null,null,{"$f":"IFERROR(VLOOKUP(A7006,Insumos!A:B,2,FALSE),\"\")","v":""}]
[null,null,{"$f":"IFERROR(VLOOKUP(A7007,Insumos!A:B,2,FALSE),\"\")","v":""}]
[null,null,{"$f":"IFERROR(VLOOKUP(A7008,Insumos!A:B,2,FALSE),\"\")","v":""}]
[null,null,{"$f":"IFERROR(VLOOKUP(A7009,Insumos!A:B,2,FALSE),\"\")","v":""}]
[null,null,{"$f":"IFERROR(VLOOKUP(A7010,Insumos!A:B,2,FALSE),\"\")","v":""}]
[null,null,{"$f":"IFERROR(VLOOKUP(A7011,Insumos!A:B,2,FALSE),\"\")","v":""}]
[null,null,{"$f":"IFERROR(VLOOKUP(A7012,Insumos!A:B,2,FALSE),\"\")","v":""}]
[null,null,{"$f":"IFERROR(VLOOKUP(A7013,Insumos!A:B,2,FALSE),\"\")","v":""}]
[null,null,{"$f":"IFERROR(VLOOKUP(A7014,Insumos!A:B,2,FALSE),\"\")","v":""}]
[null,null,{"$f":"IFERROR(VLOOKUP(A7015,Insumos!A:B,2,FALSE),\"\")","v":""}]
[null,null,{"$f":"IFERROR(VLOOKUP(A7016,Insumos!A:B,2,FALSE),\"\")","v":""}]
[null,null,{"$f":"IFERROR(VLOOKUP(A7017,Insumos!A:B,2,FALSE),\"\")","v":""}]
[null,null,{"$f":"IFERROR(VLOOKUP(A7018,Insumos!A:B,2,FALSE),\"\")","v":""}]
[null,null,{"$f":"IFERROR(VLOOKUP(A7019,Insumos!A:B,2,FALSE),\"\")","v":""}]
[null,null,{"$f":"IFERROR(VLOOKUP(A7020,Insumos!A:B,2,FALSE),\"\")","v":""}]
[null,null,{"$f":"IFERROR(VLOOKUP(A7021,Insumos!A:B,2,FALSE),\"\")","v":""}]
[null,null,{"$f":"IFERROR(VLOOKUP(A7022,Insumos!A:B,2,FALSE),\"\")","v":""}]
[null,null,{"$f":"IFERROR(VLOOKUP(A7023,Insumos!A:B,2,FALSE),\"\")","v":""}]
[null,null,{"$f":"IFERROR(VLOOKUP(A7024,Insumos!A:B,2,FALSE),\"\")","v":""}]
[null,null,{"$f":"IFERROR(VLOOKUP(A7025,Insumos!A:B,2,FALSE),\"\")","v":""}]
[null,null,{"$f":"IFERROR(VLOOKUP(A7026,Insumos!A:B,2,FALSE),\"\")","v":""}]
[null,null,{"$f":"IFERROR(VLOOKUP(A7027,Insumos!A:B,2,FALSE),\"\")","v":""}]
[null,null,{"$f":"IFERROR(VLOOKUP(A7028,Insumos!A:B,2,FALSE),\"\")","v":""}]
[null,null,{"$f":"IFERROR(VLOOKUP(A7029,Insumos!A:B,2,FALSE),\"\")","v":""}]
[null,null,{"$f":"IFERROR(VLOOKUP(A7030,Insumos!A:B,2,FALSE),\"\")","v":""}]
[null,null,{"$f":"IFERROR(VLOOKUP(A7031,Insumos!A:B,2,FALSE),\"\")","v":""}]
[null,null,{"$f":"IFERROR(VLOOKUP(A7032,Insumos!A:B,2,FALSE),\"\")","v":""}]
[null,null,{"$f":"IFERROR(VLOOKUP(A7033,Insumos!A:B,2,FALSE),\"\")","v":""}]
[null,null,{"$f":"IFERROR(VLOOKUP(A7034,Insumos!A:B,2,FALSE),\"\")","v":""}]
[null,null,{"$f":"IFERROR(VLOOKUP(A7035,Insumos!A:B,2,FALSE),\"\")","v":""}]
[null,null,{"$f":"IFERROR(VLOOKUP(A7036,Insumos!A:B,2,FALSE),\"\")","v":""}]
[null,null,{"$f":"IFERROR(VLOOKUP(A7037,Insumos!A:B,2,FALSE),\"\")","v":""}]
[null,null,{"$f":"IFERROR(VLOOKUP(A7038,Insumos!A:B,2,FALSE),\"\")","v":""}]
[null,null,{"$f":"IFERROR(VLOOKUP(A7039,Insumos!A:B,2,FALSE),\"\")","v":""}]
[null,null,{"$f":"IFERROR(VLOOKUP(A7040,Insumos!A:B,2,FALSE),\"\")","v":""}]
[null,null,{"$f":"IFERROR(VLOOKUP(A7041,Insumos!A:B,2,FALSE),\"\")","v":""}]
[null,null,{"$f":"IFERROR(VLOOKUP(A7042,Insumos!A:B,2,FALSE),\"\")","v":""}]
[null,null,{"$f":"IFERROR(VLOOKUP(A7043,Insumos!A:B,2,FALSE),\"\")","v":""}]
[null,null,{"$f":"IFERROR(VLOOKUP(A7044,Insumos!A:B,2,FALSE),\"\")","v":""}]
[null,null,{"$f":"IFERROR(VLOOKUP(A7045,Insumos!A:B,2,FALSE),\"\")","v":""}]
[null,null,{"$f":"IFERROR(VLOOKUP(A7046,Insumos!A:B,2,FALSE),\"\")","v":""}]
[null,null,{"$f":"IFERROR(VLOOKUP(A7047,Insumos!A:B,2,FALSE),\"\")","v":""}]
[null,null,{"$f":"IFERROR(VLOOKUP(A7048,Insumos!A:B,2,FALSE),\"\")","v":""}]
[null,null,{"$f":"IFERROR(VLOOKUP(A7049,Insumos!A:B,2,FALSE),\"\")","v":""}]
[null,null,{"$f":"IFERROR(VLOOKUP(A7050,Insumos!A:B,2,FALSE),\"\")","v":""}]
[null,null,{"$f":"IFERROR(VLOOKUP(A7051,Insumos!A:B,2,FALSE),\"\")","v":""}]
[null,null,{"$f":"IFERROR(VLOOKUP(A7052,Insumos!A:B,2,FALSE),\"\")","v":""}]
[null,null,{"$f":"IFERROR(VLOOKUP(A7053,Insumos!A:B,2,FALSE),\"\")","v":""}]
[null,null,{"$f":"IFERROR(VLOOKUP(A7054,Insumos!A:B,2,FALSE),\"\")","v":""}]
[null,null,{"$f":"IFERROR(VLOOKUP(A7055,Insumos!A:B,2,FALSE),\"\")","v":""}]
[null,null,{"$f":"IFERROR(VLOOKUP(A7056,Insumos!A:B,2,FALSE),\"\")","v":""}]
[null,null,{"$f":"IFERROR(VLOOKUP(A7057,Insumos!A:B,2,FALSE),\"\")","v":""}]
[null,null,{"$f":"IFERROR(VLOOKUP(A7058,Insumos!A:B,2,FALSE),\"\")","v":""}]
[null,null,{"$f":"IFERROR(VLOOKUP(A7059,Insumos!A:B,2,FALSE),\"\")","v":""}]
[null,null,{"$f":"IFERROR(VLOOKUP(A7060,Insumos!A:B,2,FALSE),\"\")","v":""}]
[null,null,{"$f":"IFERROR(VLOOKUP(A7061,Insumos!A:B,2,FALSE),\"\")","v":""}]
[null,null,{"$f":"IFERROR(VLOOKUP(A7062,Insumos!A:B,2,FALSE),\"\")","v":""}]
[null,null,{"$f":"IFERROR(VLOOKUP(A7063,Insumos!A:B,2,FALSE),\"\")","v":""}]
[null,null,{"$f":"IFERROR(VLOOKUP(A7064,Insumos!A:B,2,FALSE),\"\")","v":""}]
[null,null,{"$f":"IFERROR(VLOOKUP(A7065,Insumos!A:B,2,FALSE),\"\")","v":""}]
[null,null,{"$f":"IFERROR(VLOOKUP(A7066,Insumos!A:B,2,FALSE),\"\")","v":""}]
[null,null,{"$f":"IFERROR(VLOOKUP(A7067,Insumos!A:B,2,FALSE),\"\")","v":""}]
[null,null,{"$f":"IFERROR(VLOOKUP(A7068,Insumos!A:B,2,FALSE),\"\")","v":""}]
[null,null,{"$f":"IFERROR(VLOOKUP(A7069,Insumos!A:B,2,FALSE),\"\")","v":""}]
[null,null,{"$f":"IFERROR(VLOOKUP(A7070,Insumos!A:B,2,FALSE),\"\")","v":""}]
[null,null,{"$f":"IFERROR(VLOOKUP(A7071,Insumos!A:B,2,FALSE),\"\")","v":""}]
[null,null,{"$f":"IFERROR(VLOOKUP(A7072,Insumos!A:B,2,FALSE),\"\")","v":""}]
[null,null,{"$f":"IFERROR(VLOOKUP(A7073,Insumos!A:B,2,FALSE),\"\")","v":""}]
[null,null,{"$f":"IFERROR(VLOOKUP(A7074,Insumos!A:B,2,FALSE),\"\")","v":""}]
[null,null,{"$f":"IFERROR(VLOOKUP(A7075,Insumos!A:B,2,FALSE),\"\")","v":""}]
[null,null,{"$f":"IFERROR(VLOOKUP(A7076,Insumos!A:B,2,FALSE),\"\")","v":""}]
[null,null,{"$f":"IFERROR(VLOOKUP(A7077,Insumos!A:B,2,FALSE),\"\")","v":""}]
[null,null,{"$f":"IFERROR(VLOOKUP(A7078,Insumos!A:B,2,FALSE),\"\")","v":""}]
[null,null,{"$f":"IFERROR(VLOOKUP(A7079,Insumos!A:B,2,FALSE),\"\")","v":""}]
[null,null,{"$f":"IFERROR(VLOOKUP(A7080,Insumos!A:B,2,FALSE),\"\")","v":""}]
[null,null,{"$f":"IFERROR(VLOOKUP(A7081,Insumos!A:B,2,FALSE),\"\")","v":""}]
[null,null,{"$f":"IFERROR(VLOOKUP(A7082,Insumos!A:B,2,FALSE),\"\")","v":""}]
[null,null,{"$f":"IFERROR(VLOOKUP(A7083,Insumos!A:B,2,FALSE),\"\")","v":""}]
[null,null,{"$f":"IFERROR(VLOOKUP(A7084,Insumos!A:B,2,FALSE),\"\")","v":""}]
[null,null,{"$f":"IFERROR(VLOOKUP(A7085,Insumos!A:B,2,FALSE),\"\")","v":""}]
[null,null,{"$f":"IFERROR(VLOOKUP(A7086,Insumos!A:B,2,FALSE),\"\")","v":""}]
[null,null,{"$f":"IFERROR(VLOOKUP(A7087,Insumos!A:B,2,FALSE),\"\")","v":""}]
[null,null,{"$f":"IFERROR(VLOOKUP(A7088,Insumos!A:B,2,FALSE),\"\")","v":""}]
[null,null,{"$f":"IFERROR(VLOOKUP(A7089,Insumos!A:B,2,FALSE),\"\")","v":""}]
[null,null,{"$f":"IFERROR(VLOOKUP(A7090,Insumos!A:B,2,FALSE),\"\")","v":""}]
[null,null,{"$f":"IFERROR(VLOOKUP(A7091,Insumos!A:B,2,FALSE),\"\")","v":""}]
[null,null,{"$f":"IFERROR(VLOOKUP(A7092,Insumos!A:B,2,FALSE),\"\")","v":""}]
[null,null,{"$f":"IFERROR(VLOOKUP(A7093,Insumos!A:B,2,FALSE),\"\")","v":""}]
[null,null,{"$f":"IFERROR(VLOOKUP(A7094,Insumos!A:B,2,FALSE),\"\")","v":""}]
[null,null,{"$f":"IFERROR(VLOOKUP(A7095,Insumos!A:B,2,FALSE),\"\")","v":""}]
[null,null,{"$f":"IFERROR(VLOOKUP(A7096,Insumos!A:B,2,FALSE),\"\")","v":""}]
[null,null,{"$f":"IFERROR(VLOOKUP(A7097,Insumos!A:B,2,FALSE),\"\")","v":""}]
[null,null,{"$f":"IFERROR(VLOOKUP(A7098,Insumos!A:B,2,FALSE),\"\")","v":""}]
[null,null,{"$f":"IFERROR(VLOOKUP(A7099,Insumos!A:B,2,FALSE),\"\")","v":""}]
[null,null,{"$f":"IFERROR(VLOOKUP(A7100,Insumos!A:B,2,FALSE),\"\")","v":""}]
[null,null,{"$f":"IFERROR(VLOOKUP(A7101,Insumos!A:B,2,FALSE),\"\")","v":""}]
[null,null,{"$f":"IFERROR(VLOOKUP(A7102,Insumos!A:B,2,FALSE),\"\")","v":""}]
[null,null,{"$f":"IFERROR(VLOOKUP(A7103,Insumos!A:B,2,FALSE),\"\")","v":""}]
[null,null,{"$f":"IFERROR(VLOOKUP(A7104,Insumos!A:B,2,FALSE),\"\")","v":""}]
[null,null,{"$f":"IFERROR(VLOOKUP(A7105,Insumos!A:B,2,FALSE),\"\")","v":""}]
[null,null,{"$f":"IFERROR(VLOOKUP(A7106,Insumos!A:B,2,FALSE),\"\")","v":""}]
[null,null,{"$f":"IFERROR(VLOOKUP(A7107,Insumos!A:B,2,FALSE),\"\")","v":""}]
[null,null,{"$f":"IFERROR(VLOOKUP(A7108,Insumos!A:B,2,FALSE),\"\")","v":""}]
[null,null,{"$f":"IFERROR(VLOOKUP(A7109,Insumos!A:B,2,FALSE),\"\")","v":""}]
[null,null,{"$f":"IFERROR(VLOOKUP(A7110,Insumos!A:B,2,FALSE),\"\")","v":""}]
[null,null,{"$f":"IFERROR(VLOOKUP(A7111,Insumos!A:B,2,FALSE),\"\")","v":""}]
[null,null,{"$f":"IFERROR(VLOOKUP(A7112,Insumos!A:B,2,FALSE),\"\")","v":""}]
[null,null,{"$f":"IFERROR(VLOOKUP(A7113,Insumos!A:B,2,FALSE),\"\")","v":""}]
[null,null,{"$f":"IFERROR(VLOOKUP(A7114,Insumos!A:B,2,FALSE),\"\")","v":""}]
[null,null,{"$f":"IFERROR(VLOOKUP(A7115,Insumos!A:B,2,FALSE),\"\")","v":""}]
[null,null,{"$f":"IFERROR(VLOOKUP(A7116,Insumos!A:B,2,FALSE),\"\")","v":""}]
[null,null,{"$f":"IFERROR(VLOOKUP(A7117,Insumos!A:B,2,FALSE),\"\")","v":""}]
[null,null,{"$f":"IFERROR(VLOOKUP(A7118,Insumos!A:B,2,FALSE),\"\")","v":""}]
[null,null,{"$f":"IFERROR(VLOOKUP(A7119,Insumos!A:B,2,FALSE),\"\")","v":""}]
[null,null,{"$f":"IFERROR(VLOOKUP(A7120,Insumos!A:B,2,FALSE),\"\")","v":""}]
[null,null,{"$f":"IFERROR(VLOOKUP(A7121,Insumos!A:B,2,FALSE),\"\")","v":""}]
[null,null,{"$f":"IFERROR(VLOOKUP(A7122,Insumos!A:B,2,FALSE),\"\")","v":""}]
[null,null,{"$f":"IFERROR(VLOOKUP(A7123,Insumos!A:B,2,FALSE),\"\")","v":""}]
[null,null,{"$f":"IFERROR(VLOOKUP(A7124,Insumos!A:B,2,FALSE),\"\")","v":""}]
[null,null,{"$f":"IFERROR(VLOOKUP(A7125,Insumos!A:B,2,FALSE),\"\")","v":""}]
[null,null,{"$f":"IFERROR(VLOOKUP(A7126,Insumos!A:B,2,FALSE),\"\")","v":""}]
[null,null,{"$f":"IFERROR(VLOOKUP(A7127,Insumos!A:B,2,FALSE),\"\")","v":""}]
[null,null,{"$f":"IFERROR(VLOOKUP(A7128,Insumos!A:B,2,FALSE),\"\")","v":""}]
[null,null,{"$f":"IFERROR(VLOOKUP(A7129,Insumos!A:B,2,FALSE),\"\")","v":""}]
[null,null,{"$f":"IFERROR(VLOOKUP(A7130,Insumos!A:B,2,FALSE),\"\")","v":""}]
[null,null,{"$f":"IFERROR(VLOOKUP(A7131,Insumos!A:B,2,FALSE),\"\")","v":""}]
[null,null,{"$f":"IFERROR(VLOOKUP(A7132,Insumos!A:B,2,FALSE),\"\")","v":""}]
[null,null,{"$f":"IFERROR(VLOOKUP(A7133,Insumos!A:B,2,FALSE),\"\")","v":""}]
[null,null,{"$f":"IFERROR(VLOOKUP(A7134,Insumos!A:B,2,FALSE),\"\")","v":""}]
[null,null,{"$f":"IFERROR(VLOOKUP(A7135,Insumos!A:B,2,FALSE),\"\")","v":""}]
[null,null,{"$f":"IFERROR(VLOOKUP(A7136,Insumos!A:B,2,FALSE),\"\")","v":""}]
[null,null,{"$f":"IFERROR(VLOOKUP(A7137,Insumos!A:B,2,FALSE),\"\")","v":""}]
[null,null,{"$f":"IFERROR(VLOOKUP(A7138,Insumos!A:B,2,FALSE),\"\")","v":""}]
[null,null,{"$f":"IFERROR(VLOOKUP(A7139,Insumos!A:B,2,FALSE),\"\")","v":""}]
[null,null,{"$f":"IFERROR(VLOOKUP(A7140,Insumos!A:B,2,FALSE),\"\")","v":""}]
[null,null,{"$f":"IFERROR(VLOOKUP(A7141,Insumos!A:B,2,FALSE),\"\")","v":""}]
[null,null,{"$f":"IFERROR(VLOOKUP(A7142,Insumos!A:B,2,FALSE),\"\")","v":""}]
[null,null,{"$f":"IFERROR(VLOOKUP(A7143,Insumos!A:B,2,FALSE),\"\")","v":""}]
[null,null,{"$f":"IFERROR(VLOOKUP(A7144,Insumos!A:B,2,FALSE),\"\")","v":""}]
[null,null,{"$f":"IFERROR(VLOOKUP(A7145,Insumos!A:B,2,FALSE),\"\")","v":""}]
[null,null,{"$f":"IFERROR(VLOOKUP(A7146,Insumos!A:B,2,FALSE),\"\")","v":""}]
[null,null,{"$f":"IFERROR(VLOOKUP(A7147,Insumos!A:B,2,FALSE),\"\")","v":""}]
[null,null,{"$f":"IFERROR(VLOOKUP(A7148,Insumos!A:B,2,FALSE),\"\")","v":""}]
[null,null,{"$f":"IFERROR(VLOOKUP(A7149,Insumos!A:B,2,FALSE),\"\")","v":""}]
[null,null,{"$f":"IFERROR(VLOOKUP(A7150,Insumos!A:B,2,FALSE),\"\")","v":""}]
[null,null,{"$f":"IFERROR(VLOOKUP(A7151,Insumos!A:B,2,FALSE),\"\")","v":""}]
[null,null,{"$f":"IFERROR(VLOOKUP(A7152,Insumos!A:B,2,FALSE),\"\")","v":""}]
[null,null,{"$f":"IFERROR(VLOOKUP(A7153,Insumos!A:B,2,FALSE),\"\")","v":""}]
[null,null,{"$f":"IFERROR(VLOOKUP(A7154,Insumos!A:B,2,FALSE),\"\")","v":""}]
[null,null,{"$f":"IFERROR(VLOOKUP(A7155,Insumos!A:B,2,FALSE),\"\")","v":""}]
[null,null,{"$f":"IFERROR(VLOOKUP(A7156,Insumos!A:B,2,FALSE),\"\")","v":""}]
[null,null,{"$f":"IFERROR(VLOOKUP(A7157,Insumos!A:B,2,FALSE),\"\")","v":""}]
[null,null,{"$f":"IFERROR(VLOOKUP(A7158,Insumos!A:B,2,FALSE),\"\")","v":""}]
[null,null,{"$f":"IFERROR(VLOOKUP(A7159,Insumos!A:B,2,FALSE),\"\")","v":""}]
[null,null,{"$f":"IFERROR(VLOOKUP(A7160,Insumos!A:B,2,FALSE),\"\")","v":""}]
[null,null,{"$f":"IFERROR(VLOOKUP(A7161,Insumos!A:B,2,FALSE),\"\")","v":""}]
[null,null,{"$f":"IFERROR(VLOOKUP(A7162,Insumos!A:B,2,FALSE),\"\")","v":""}]
[null,null,{"$f":"IFERROR(VLOOKUP(A7163,Insumos!A:B,2,FALSE),\"\")","v":""}]
[null,null,{"$f":"IFERROR(VLOOKUP(A7164,Insumos!A:B,2,FALSE),\"\")","v":""}]
[null,null,{"$f":"IFERROR(VLOOKUP(A7165,Insumos!A:B,2,FALSE),\"\")","v":""}]
[null,null,{"$f":"IFERROR(VLOOKUP(A7166,Insumos!A:B,2,FALSE),\"\")","v":""}]
[null,null,{"$f":"IFERROR(VLOOKUP(A7167,Insumos!A:B,2,FALSE),\"\")","v":""}]
[null,null,{"$f":"IFERROR(VLOOKUP(A7168,Insumos!A:B,2,FALSE),\"\")","v":""}]
[null,null,{"$f":"IFERROR(VLOOKUP(A7169,Insumos!A:B,2,FALSE),\"\")","v":""}]
[null,null,{"$f":"IFERROR(VLOOKUP(A7170,Insumos!A:B,2,FALSE),\"\")","v":""}]
[null,null,{"$f":"IFERROR(VLOOKUP(A7171,Insumos!A:B,2,FALSE),\"\")","v":""}]
[null,null,{"$f":"IFERROR(VLOOKUP(A7172,Insumos!A:B,2,FALSE),\"\")","v":""}]
[null,null,{"$f":"IFERROR(VLOOKUP(A7173,Insumos!A:B,2,FALSE),\"\")","v":""}]
[null,null,{"$f":"IFERROR(VLOOKUP(A7174,Insumos!A:B,2,FALSE),\"\")","v":""}]
[null,null,{"$f":"IFERROR(VLOOKUP(A7175,Insumos!A:B,2,FALSE),\"\")","v":""}]
[null,null,{"$f":"IFERROR(VLOOKUP(A7176,Insumos!A:B,2,FALSE),\"\")","v":""}]
[null,null,{"$f":"IFERROR(VLOOKUP(A7177,Insumos!A:B,2,FALSE),\"\")","v":""}]
[null,null,{"$f":"IFERROR(VLOOKUP(A7178,Insumos!A:B,2,FALSE),\"\")","v":""}]
[null,null,{"$f":"IFERROR(VLOOKUP(A7179,Insumos!A:B,2,FALSE),\"\")","v":""}]
[null,null,{"$f":"IFERROR(VLOOKUP(A7180,Insumos!A:B,2,FALSE),\"\")","v":""}]
[null,null,{"$f":"IFERROR(VLOOKUP(A7181,Insumos!A:B,2,FALSE),\"\")","v":""}]
[null,null,{"$f":"IFERROR(VLOOKUP(A7182,Insumos!A:B,2,FALSE),\"\")","v":""}]
[null,null,{"$f":"IFERROR(VLOOKUP(A7183,Insumos!A:B,2,FALSE),\"\")","v":""}]
[null,null,{"$f":"IFERROR(VLOOKUP(A7184,Insumos!A:B,2,FALSE),\"\")","v":""}]
[null,null,{"$f":"IFERROR(VLOOKUP(A7185,Insumos!A:B,2,FALSE),\"\")","v":""}]
[null,null,{"$f":"IFERROR(VLOOKUP(A7186,Insumos!A:B,2,FALSE),\"\")","v":""}]
[null,null,{"$f":"IFERROR(VLOOKUP(A7187,Insumos!A:B,2,FALSE),\"\")","v":""}]
[null,null,{"$f":"IFERROR(VLOOKUP(A7188,Insumos!A:B,2,FALSE),\"\")","v":""}]
[null,null,{"$f":"IFERROR(VLOOKUP(A7189,Insumos!A:B,2,FALSE),\"\")","v":""}]
[null,null,{"$f":"IFERROR(VLOOKUP(A7190,Insumos!A:B,2,FALSE),\"\")","v":""}]
[null,null,{"$f":"IFERROR(VLOOKUP(A7191,Insumos!A:B,2,FALSE),\"\")","v":""}]
[null,null,{"$f":"IFERROR(VLOOKUP(A7192,Insumos!A:B,2,FALSE),\"\")","v":""}]
[null,null,{"$f":"IFERROR(VLOOKUP(A7193,Insumos!A:B,2,FALSE),\"\")","v":""}]
[null,null,{"$f":"IFERROR(VLOOKUP(A7194,Insumos!A:B,2,FALSE),\"\")","v":""}]
[null,null,{"$f":"IFERROR(VLOOKUP(A7195,Insumos!A:B,2,FALSE),\"\")","v":""}]
[null,null,{"$f":"IFERROR(VLOOKUP(A7196,Insumos!A:B,2,FALSE),\"\")","v":""}]
[null,null,{"$f":"IFERROR(VLOOKUP(A7197,Insumos!A:B,2,FALSE),\"\")","v":""}]
[null,null,{"$f":"IFERROR(VLOOKUP(A7198,Insumos!A:B,2,FALSE),\"\")","v":""}]
[null,null,{"$f":"IFERROR(VLOOKUP(A7199,Insumos!A:B,2,FALSE),\"\")","v":""}]
[null,null,{"$f":"IFERROR(VLOOKUP(A7200,Insumos!A:B,2,FALSE),\"\")","v":""}]
[null,null,{"$f":"IFERROR(VLOOKUP(A7201,Insumos!A:B,2,FALSE),\"\")","v":""}]
[null,null,{"$f":"IFERROR(VLOOKUP(A7202,Insumos!A:B,2,FALSE),\"\")","v":""}]
[null,null,{"$f":"IFERROR(VLOOKUP(A7203,Insumos!A:B,2,FALSE),\"\")","v":""}]
[null,null,{"$f":"IFERROR(VLOOKUP(A7204,Insumos!A:B,2,FALSE),\"\")","v":""}]
[null,null,{"$f":"IFERROR(VLOOKUP(A7205,Insumos!A:B,2,FALSE),\"\")","v":""}]
[null,null,{"$f":"IFERROR(VLOOKUP(A7206,Insumos!A:B,2,FALSE),\"\")","v":""}]
[null,null,{"$f":"IFERROR(VLOOKUP(A7207,Insumos!A:B,2,FALSE),\"\")","v":""}]
[null,null,{"$f":"IFERROR(VLOOKUP(A7208,Insumos!A:B,2,FALSE),\"\")","v":""}]
[null,null,{"$f":"IFERROR(VLOOKUP(A7209,Insumos!A:B,2,FALSE),\"\")","v":""}]
[null,null,{"$f":"IFERROR(VLOOKUP(A7210,Insumos!A:B,2,FALSE),\"\")","v":""}]
[null,null,{"$f":"IFERROR(VLOOKUP(A7211,Insumos!A:B,2,FALSE),\"\")","v":""}]
[null,null,{"$f":"IFERROR(VLOOKUP(A7212,Insumos!A:B,2,FALSE),\"\")","v":""}]
[null,null,{"$f":"IFERROR(VLOOKUP(A7213,Insumos!A:B,2,FALSE),\"\")","v":""}]
[null,null,{"$f":"IFERROR(VLOOKUP(A7214,Insumos!A:B,2,FALSE),\"\")","v":""}]
[null,null,{"$f":"IFERROR(VLOOKUP(A7215,Insumos!A:B,2,FALSE),\"\")","v":""}]
[null,null,{"$f":"IFERROR(VLOOKUP(A7216,Insumos!A:B,2,FALSE),\"\")","v":""}]
[null,null,{"$f":"IFERROR(VLOOKUP(A7217,Insumos!A:B,2,FALSE),\"\")","v":""}]
[null,null,{"$f":"IFERROR(VLOOKUP(A7218,Insumos!A:B,2,FALSE),\"\")","v":""}]
[null,null,{"$f":"IFERROR(VLOOKUP(A7219,Insumos!A:B,2,FALSE),\"\")","v":""}]
[null,null,{"$f":"IFERROR(VLOOKUP(A7220,Insumos!A:B,2,FALSE),\"\")","v":""}]
[null,null,{"$f":"IFERROR(VLOOKUP(A7221,Insumos!A:B,2,FALSE),\"\")","v":""}]
[null,null,{"$f":"IFERROR(VLOOKUP(A7222,Insumos!A:B,2,FALSE),\"\")","v":""}]
[null,null,{"$f":"IFERROR(VLOOKUP(A7223,Insumos!A:B,2,FALSE),\"\")","v":""}]
[null,null,{"$f":"IFERROR(VLOOKUP(A7224,Insumos!A:B,2,FALSE),\"\")","v":""}]
[null,null,{"$f":"IFERROR(VLOOKUP(A7225,Insumos!A:B,2,FALSE),\"\")","v":""}]
[null,null,{"$f":"IFERROR(VLOOKUP(A7226,Insumos!A:B,2,FALSE),\"\")","v":""}]
[null,null,{"$f":"IFERROR(VLOOKUP(A7227,Insumos!A:B,2,FALSE),\"\")","v":""}]
[null,null,{"$f":"IFERROR(VLOOKUP(A7228,Insumos!A:B,2,FALSE),\"\")","v":""}]
[null,null,{"$f":"IFERROR(VLOOKUP(A7229,Insumos!A:B,2,FALSE),\"\")","v":""}]
[null,null,{"$f":"IFERROR(VLOOKUP(A7230,Insumos!A:B,2,FALSE),\"\")","v":""}]
[null,null,{"$f":"IFERROR(VLOOKUP(A7231,Insumos!A:B,2,FALSE),\"\")","v":""}]
[null,null,{"$f":"IFERROR(VLOOKUP(A7232,Insumos!A:B,2,FALSE),\"\")","v":""}]
[null,null,{"$f":"IFERROR(VLOOKUP(A7233,Insumos!A:B,2,FALSE),\"\")","v":""}]
[null,null,{"$f":"IFERROR(VLOOKUP(A7234,Insumos!A:B,2,FALSE),\"\")","v":""}]
[null,null,{"$f":"IFERROR(VLOOKUP(A7235,Insumos!A:B,2,FALSE),\"\")","v":""}]
[null,null,{"$f":"IFERROR(VLOOKUP(A7236,Insumos!A:B,2,FALSE),\"\")","v":""}]
[null,null,{"$f":"IFERROR(VLOOKUP(A7237,Insumos!A:B,2,FALSE),\"\")","v":""}]
[null,null,{"$f":"IFERROR(VLOOKUP(A7238,Insumos!A:B,2,FALSE),\"\")","v":""}]
[null,null,{"$f":"IFERROR(VLOOKUP(A7239,Insumos!A:B,2,FALSE),\"\")","v":""}]
[null,null,{"$f":"IFERROR(VLOOKUP(A7240,Insumos!A:B,2,FALSE),\"\")","v":""}]
[null,null,{"$f":"IFERROR(VLOOKUP(A7241,Insumos!A:B,2,FALSE),\"\")","v":""}]
[null,null,{"$f":"IFERROR(VLOOKUP(A7242,Insumos!A:B,2,FALSE),\"\")","v":""}]
[null,null,{"$f":"IFERROR(VLOOKUP(A7243,Insumos!A:B,2,FALSE),\"\")","v":""}]
[null,null,{"$f":"IFERROR(VLOOKUP(A7244,Insumos!A:B,2,FALSE),\"\")","v":""}]
[null,null,{"$f":"IFERROR(VLOOKUP(A7245,Insumos!A:B,2,FALSE),\"\")","v":""}]
[null,null,{"$f":"IFERROR(VLOOKUP(A7246,Insumos!A:B,2,FALSE),\"\")","v":""}]
[null,null,{"$f":"IFERROR(VLOOKUP(A7247,Insumos!A:B,2,FALSE),\"\")","v":""}]
[null,null,{"$f":"IFERROR(VLOOKUP(A7248,Insumos!A:B,2,FALSE),\"\")","v":""}]
[null,null,{"$f":"IFERROR(VLOOKUP(A7249,Insumos!A:B,2,FALSE),\"\")","v":""}]
[null,null,{"$f":"IFERROR(VLOOKUP(A7250,Insumos!A:B,2,FALSE),\"\")","v":""}]
[null,null,{"$f":"IFERROR(VLOOKUP(A7251,Insumos!A:B,2,FALSE),\"\")","v":""}]
[null,null,{"$f":"IFERROR(VLOOKUP(A7252,Insumos!A:B,2,FALSE),\"\")","v":""}]
[null,null,{"$f":"IFERROR(VLOOKUP(A7253,Insumos!A:B,2,FALSE),\"\")","v":""}]
[null,null,{"$f":"IFERROR(VLOOKUP(A7254,Insumos!A:B,2,FALSE),\"\")","v":""}]
[null,null,{"$f":"IFERROR(VLOOKUP(A7255,Insumos!A:B,2,FALSE),\"\")","v":""}]
[null,null,{"$f":"IFERROR(VLOOKUP(A7256,Insumos!A:B,2,FALSE),\"\")","v":""}]
[null,null,{"$f":"IFERROR(VLOOKUP(A7257,Insumos!A:B,2,FALSE),\"\")","v":""}]
[null,null,{"$f":"IFERROR(VLOOKUP(A7258,Insumos!A:B,2,FALSE),\"\")","v":""}]
[null,null,{"$f":"IFERROR(VLOOKUP(A7259,Insumos!A:B,2,FALSE),\"\")","v":""}]
[null,null,{"$f":"IFERROR(VLOOKUP(A7260,Insumos!A:B,2,FALSE),\"\")","v":""}]
[null,null,{"$f":"IFERROR(VLOOKUP(A7261,Insumos!A:B,2,FALSE),\"\")","v":""}]
[null,null,{"$f":"IFERROR(VLOOKUP(A7262,Insumos!A:B,2,FALSE),\"\")","v":""}]
[null,null,{"$f":"IFERROR(VLOOKUP(A7263,Insumos!A:B,2,FALSE),\"\")","v":""}]
[null,null,{"$f":"IFERROR(VLOOKUP(A7264,Insumos!A:B,2,FALSE),\"\")","v":""}]
[null,null,{"$f":"IFERROR(VLOOKUP(A7265,Insumos!A:B,2,FALSE),\"\")","v":""}]
[null,null,{"$f":"IFERROR(VLOOKUP(A7266,Insumos!A:B,2,FALSE),\"\")","v":""}]
[null,null,{"$f":"IFERROR(VLOOKUP(A7267,Insumos!A:B,2,FALSE),\"\")","v":""}]
[null,null,{"$f":"IFERROR(VLOOKUP(A7268,Insumos!A:B,2,FALSE),\"\")","v":""}]
[null,null,{"$f":"IFERROR(VLOOKUP(A7269,Insumos!A:B,2,FALSE),\"\")","v":""}]
[null,null,{"$f":"IFERROR(VLOOKUP(A7270,Insumos!A:B,2,FALSE),\"\")","v":""}]
[null,null,{"$f":"IFERROR(VLOOKUP(A7271,Insumos!A:B,2,FALSE),\"\")","v":""}]
[null,null,{"$f":"IFERROR(VLOOKUP(A7272,Insumos!A:B,2,FALSE),\"\")","v":""}]
[null,null,{"$f":"IFERROR(VLOOKUP(A7273,Insumos!A:B,2,FALSE),\"\")","v":""}]
[null,null,{"$f":"IFERROR(VLOOKUP(A7274,Insumos!A:B,2,FALSE),\"\")","v":""}]
[null,null,{"$f":"IFERROR(VLOOKUP(A7275,Insumos!A:B,2,FALSE),\"\")","v":""}]
[null,null,{"$f":"IFERROR(VLOOKUP(A7276,Insumos!A:B,2,FALSE),\"\")","v":""}]
[null,null,{"$f":"IFERROR(VLOOKUP(A7277,Insumos!A:B,2,FALSE),\"\")","v":""}]
[null,null,{"$f":"IFERROR(VLOOKUP(A7278,Insumos!A:B,2,FALSE),\"\")","v":""}]
[null,null,{"$f":"IFERROR(VLOOKUP(A7279,Insumos!A:B,2,FALSE),\"\")","v":""}]
[null,null,{"$f":"IFERROR(VLOOKUP(A7280,Insumos!A:B,2,FALSE),\"\")","v":""}]
[null,null,{"$f":"IFERROR(VLOOKUP(A7281,Insumos!A:B,2,FALSE),\"\")","v":""}]
[null,null,{"$f":"IFERROR(VLOOKUP(A7282,Insumos!A:B,2,FALSE),\"\")","v":""}]
[null,null,{"$f":"IFERROR(VLOOKUP(A7283,Insumos!A:B,2,FALSE),\"\")","v":""}]
[null,null,{"$f":"IFERROR(VLOOKUP(A7284,Insumos!A:B,2,FALSE),\"\")","v":""}]
[null,null,{"$f":"IFERROR(VLOOKUP(A7285,Insumos!A:B,2,FALSE),\"\")","v":""}]
[null,null,{"$f":"IFERROR(VLOOKUP(A7286,Insumos!A:B,2,FALSE),\"\")","v":""}]
[null,null,{"$f":"IFERROR(VLOOKUP(A7287,Insumos!A:B,2,FALSE),\"\")","v":""}]
[null,null,{"$f":"IFERROR(VLOOKUP(A7288,Insumos!A:B,2,FALSE),\"\")","v":""}]
[null,null,{"$f":"IFERROR(VLOOKUP(A7289,Insumos!A:B,2,FALSE),\"\")","v":""}]
[null,null,{"$f":"IFERROR(VLOOKUP(A7290,Insumos!A:B,2,FALSE),\"\")","v":""}]
[null,null,{"$f":"IFERROR(VLOOKUP(A7291,Insumos!A:B,2,FALSE),\"\")","v":""}]
[null,null,{"$f":"IFERROR(VLOOKUP(A7292,Insumos!A:B,2,FALSE),\"\")","v":""}]
[null,null,{"$f":"IFERROR(VLOOKUP(A7293,Insumos!A:B,2,FALSE),\"\")","v":""}]
[null,null,{"$f":"IFERROR(VLOOKUP(A7294,Insumos!A:B,2,FALSE),\"\")","v":""}]
[null,null,{"$f":"IFERROR(VLOOKUP(A7295,Insumos!A:B,2,FALSE),\"\")","v":""}]
[null,null,{"$f":"IFERROR(VLOOKUP(A7296,Insumos!A:B,2,FALSE),\"\")","v":""}]
[null,null,{"$f":"IFERROR(VLOOKUP(A7297,Insumos!A:B,2,FALSE),\"\")","v":""}]
[null,null,{"$f":"IFERROR(VLOOKUP(A7298,Insumos!A:B,2,FALSE),\"\")","v":""}]
[null,null,{"$f":"IFERROR(VLOOKUP(A7299,Insumos!A:B,2,FALSE),\"\")","v":""}]
[null,null,{"$f":"IFERROR(VLOOKUP(A7300,Insumos!A:B,2,FALSE),\"\")","v":""}]
[null,null,{"$f":"IFERROR(VLOOKUP(A7301,Insumos!A:B,2,FALSE),\"\")","v":""}]
[null,null,{"$f":"IFERROR(VLOOKUP(A7302,Insumos!A:B,2,FALSE),\"\")","v":""}]
[null,null,{"$f":"IFERROR(VLOOKUP(A7303,Insumos!A:B,2,FALSE),\"\")","v":""}]
[null,null,{"$f":"IFERROR(VLOOKUP(A7304,Insumos!A:B,2,FALSE),\"\")","v":""}]
[null,null,{"$f":"IFERROR(VLOOKUP(A7305,Insumos!A:B,2,FALSE),\"\")","v":""}]
[null,null,{"$f":"IFERROR(VLOOKUP(A7306,Insumos!A:B,2,FALSE),\"\")","v":""}]
[null,null,{"$f":"IFERROR(VLOOKUP(A7307,Insumos!A:B,2,FALSE),\"\")","v":""}]
[null,null,{"$f":"IFERROR(VLOOKUP(A7308,Insumos!A:B,2,FALSE),\"\")","v":""}]
[null,null,{"$f":"IFERROR(VLOOKUP(A7309,Insumos!A:B,2,FALSE),\"\")","v":""}]
[null,null,{"$f":"IFERROR(VLOOKUP(A7310,Insumos!A:B,2,FALSE),\"\")","v":""}]
[null,null,{"$f":"IFERROR(VLOOKUP(A7311,Insumos!A:B,2,FALSE),\"\")","v":""}]
[null,null,{"$f":"IFERROR(VLOOKUP(A7312,Insumos!A:B,2,FALSE),\"\")","v":""}]
[null,null,{"$f":"IFERROR(VLOOKUP(A7313,Insumos!A:B,2,FALSE),\"\")","v":""}]
[null,null,{"$f":"IFERROR(VLOOKUP(A7314,Insumos!A:B,2,FALSE),\"\")","v":""}]
[null,null,{"$f":"IFERROR(VLOOKUP(A7315,Insumos!A:B,2,FALSE),\"\")","v":""}]
[null,null,{"$f":"IFERROR(VLOOKUP(A7316,Insumos!A:B,2,FALSE),\"\")","v":""}]
[null,null,{"$f":"IFERROR(VLOOKUP(A7317,Insumos!A:B,2,FALSE),\"\")","v":""}]
[null,null,{"$f":"IFERROR(VLOOKUP(A7318,Insumos!A:B,2,FALSE),\"\")","v":""}]
[null,null,{"$f":"IFERROR(VLOOKUP(A7319,Insumos!A:B,2,FALSE),\"\")","v":""}]
[null,null,{"$f":"IFERROR(VLOOKUP(A7320,Insumos!A:B,2,FALSE),\"\")","v":""}]
[null,null,{"$f":"IFERROR(VLOOKUP(A7321,Insumos!A:B,2,FALSE),\"\")","v":""}]
[null,null,{"$f":"IFERROR(VLOOKUP(A7322,Insumos!A:B,2,FALSE),\"\")","v":""}]
[null,null,{"$f":"IFERROR(VLOOKUP(A7323,Insumos!A:B,2,FALSE),\"\")","v":""}]
[null,null,{"$f":"IFERROR(VLOOKUP(A7324,Insumos!A:B,2,FALSE),\"\")","v":""}]
[null,null,{"$f":"IFERROR(VLOOKUP(A7325,Insumos!A:B,2,FALSE),\"\")","v":""}]
[null,null,{"$f":"IFERROR(VLOOKUP(A7326,Insumos!A:B,2,FALSE),\"\")","v":""}]
[null,null,{"$f":"IFERROR(VLOOKUP(A7327,Insumos!A:B,2,FALSE),\"\")","v":""}]
[null,null,{"$f":"IFERROR(VLOOKUP(A7328,Insumos!A:B,2,FALSE),\"\")","v":""}]
[null,null,{"$f":"IFERROR(VLOOKUP(A7329,Insumos!A:B,2,FALSE),\"\")","v":""}]
[null,null,{"$f":"IFERROR(VLOOKUP(A7330,Insumos!A:B,2,FALSE),\"\")","v":""}]
[null,null,{"$f":"IFERROR(VLOOKUP(A7331,Insumos!A:B,2,FALSE),\"\")","v":""}]
[null,null,{"$f":"IFERROR(VLOOKUP(A7332,Insumos!A:B,2,FALSE),\"\")","v":""}]
[null,null,{"$f":"IFERROR(VLOOKUP(A7333,Insumos!A:B,2,FALSE),\"\")","v":""}]
[null,null,{"$f":"IFERROR(VLOOKUP(A7334,Insumos!A:B,2,FALSE),\"\")","v":""}]
[null,null,{"$f":"IFERROR(VLOOKUP(A7335,Insumos!A:B,2,FALSE),\"\")","v":""}]
[null,null,{"$f":"IFERROR(VLOOKUP(A7336,Insumos!A:B,2,FALSE),\"\")","v":""}]
[null,null,{"$f":"IFERROR(VLOOKUP(A7337,Insumos!A:B,2,FALSE),\"\")","v":""}]
[null,null,{"$f":"IFERROR(VLOOKUP(A7338,Insumos!A:B,2,FALSE),\"\")","v":""}]
[null,null,{"$f":"IFERROR(VLOOKUP(A7339,Insumos!A:B,2,FALSE),\"\")","v":""}]
[null,null,{"$f":"IFERROR(VLOOKUP(A7340,Insumos!A:B,2,FALSE),\"\")","v":""}]
[null,null,{"$f":"IFERROR(VLOOKUP(A7341,Insumos!A:B,2,FALSE),\"\")","v":""}]
[null,null,{"$f":"IFERROR(VLOOKUP(A7342,Insumos!A:B,2,FALSE),\"\")","v":""}]
[null,null,{"$f":"IFERROR(VLOOKUP(A7343,Insumos!A:B,2,FALSE),\"\")","v":""}]
[null,null,{"$f":"IFERROR(VLOOKUP(A7344,Insumos!A:B,2,FALSE),\"\")","v":""}]
[null,null,{"$f":"IFERROR(VLOOKUP(A7345,Insumos!A:B,2,FALSE),\"\")","v":""}]
[null,null,{"$f":"IFERROR(VLOOKUP(A7346,Insumos!A:B,2,FALSE),\"\")","v":""}]
[null,null,{"$f":"IFERROR(VLOOKUP(A7347,Insumos!A:B,2,FALSE),\"\")","v":""}]
[null,null,{"$f":"IFERROR(VLOOKUP(A7348,Insumos!A:B,2,FALSE),\"\")","v":""}]
[null,null,{"$f":"IFERROR(VLOOKUP(A7349,Insumos!A:B,2,FALSE),\"\")","v":""}]
[null,null,{"$f":"IFERROR(VLOOKUP(A7350,Insumos!A:B,2,FALSE),\"\")","v":""}]
[null,null,{"$f":"IFERROR(VLOOKUP(A7351,Insumos!A:B,2,FALSE),\"\")","v":""}]
[null,null,{"$f":"IFERROR(VLOOKUP(A7352,Insumos!A:B,2,FALSE),\"\")","v":""}]
[null,null,{"$f":"IFERROR(VLOOKUP(A7353,Insumos!A:B,2,FALSE),\"\")","v":""}]
[null,null,{"$f":"IFERROR(VLOOKUP(A7354,Insumos!A:B,2,FALSE),\"\")","v":""}]
[null,null,{"$f":"IFERROR(VLOOKUP(A7355,Insumos!A:B,2,FALSE),\"\")","v":""}]
[null,null,{"$f":"IFERROR(VLOOKUP(A7356,Insumos!A:B,2,FALSE),\"\")","v":""}]
[null,null,{"$f":"IFERROR(VLOOKUP(A7357,Insumos!A:B,2,FALSE),\"\")","v":""}]
[null,null,{"$f":"IFERROR(VLOOKUP(A7358,Insumos!A:B,2,FALSE),\"\")","v":""}]
[null,null,{"$f":"IFERROR(VLOOKUP(A7359,Insumos!A:B,2,FALSE),\"\")","v":""}]
[null,null,{"$f":"IFERROR(VLOOKUP(A7360,Insumos!A:B,2,FALSE),\"\")","v":""}]
[null,null,{"$f":"IFERROR(VLOOKUP(A7361,Insumos!A:B,2,FALSE),\"\")","v":""}]
[null,null,{"$f":"IFERROR(VLOOKUP(A7362,Insumos!A:B,2,FALSE),\"\")","v":""}]
[null,null,{"$f":"IFERROR(VLOOKUP(A7363,Insumos!A:B,2,FALSE),\"\")","v":""}]
[null,null,{"$f":"IFERROR(VLOOKUP(A7364,Insumos!A:B,2,FALSE),\"\")","v":""}]
[null,null,{"$f":"IFERROR(VLOOKUP(A7365,Insumos!A:B,2,FALSE),\"\")","v":""}]
[null,null,{"$f":"IFERROR(VLOOKUP(A7366,Insumos!A:B,2,FALSE),\"\")","v":""}]
[null,null,{"$f":"IFERROR(VLOOKUP(A7367,Insumos!A:B,2,FALSE),\"\")","v":""}]
[null,null,{"$f":"IFERROR(VLOOKUP(A7368,Insumos!A:B,2,FALSE),\"\")","v":""}]
[null,null,{"$f":"IFERROR(VLOOKUP(A7369,Insumos!A:B,2,FALSE),\"\")","v":""}]
[null,null,{"$f":"IFERROR(VLOOKUP(A7370,Insumos!A:B,2,FALSE),\"\")","v":""}]
[null,null,{"$f":"IFERROR(VLOOKUP(A7371,Insumos!A:B,2,FALSE),\"\")","v":""}]
[null,null,{"$f":"IFERROR(VLOOKUP(A7372,Insumos!A:B,2,FALSE),\"\")","v":""}]
[null,null,{"$f":"IFERROR(VLOOKUP(A7373,Insumos!A:B,2,FALSE),\"\")","v":""}]
[null,null,{"$f":"IFERROR(VLOOKUP(A7374,Insumos!A:B,2,FALSE),\"\")","v":""}]
[null,null,{"$f":"IFERROR(VLOOKUP(A7375,Insumos!A:B,2,FALSE),\"\")","v":""}]
[null,null,{"$f":"IFERROR(VLOOKUP(A7376,Insumos!A:B,2,FALSE),\"\")","v":""}]
[null,null,{"$f":"IFERROR(VLOOKUP(A7377,Insumos!A:B,2,FALSE),\"\")","v":""}]
[null,null,{"$f":"IFERROR(VLOOKUP(A7378,Insumos!A:B,2,FALSE),\"\")","v":""}]
[null,null,{"$f":"IFERROR(VLOOKUP(A7379,Insumos!A:B,2,FALSE),\"\")","v":""}]
[null,null,{"$f":"IFERROR(VLOOKUP(A7380,Insumos!A:B,2,FALSE),\"\")","v":""}]
[null,null,{"$f":"IFERROR(VLOOKUP(A7381,Insumos!A:B,2,FALSE),\"\")","v":""}]
[null,null,{"$f":"IFERROR(VLOOKUP(A7382,Insumos!A:B,2,FALSE),\"\")","v":""}]
[null,null,{"$f":"IFERROR(VLOOKUP(A7383,Insumos!A:B,2,FALSE),\"\")","v":""}]
[null,null,{"$f":"IFERROR(VLOOKUP(A7384,Insumos!A:B,2,FALSE),\"\")","v":""}]
[null,null,{"$f":"IFERROR(VLOOKUP(A7385,Insumos!A:B,2,FALSE),\"\")","v":""}]
[null,null,{"$f":"IFERROR(VLOOKUP(A7386,Insumos!A:B,2,FALSE),\"\")","v":""}]
[null,null,{"$f":"IFERROR(VLOOKUP(A7387,Insumos!A:B,2,FALSE),\"\")","v":""}]
[null,null,{"$f":"IFERROR(VLOOKUP(A7388,Insumos!A:B,2,FALSE),\"\")","v":""}]
[null,null,{"$f":"IFERROR(VLOOKUP(A7389,Insumos!A:B,2,FALSE),\"\")","v":""}]
[null,null,{"$f":"IFERROR(VLOOKUP(A7390,Insumos!A:B,2,FALSE),\"\")","v":""}]
[null,null,{"$f":"IFERROR(VLOOKUP(A7391,Insumos!A:B,2,FALSE),\"\")","v":""}]
[null,null,{"$f":"IFERROR(VLOOKUP(A7392,Insumos!A:B,2,FALSE),\"\")","v":""}]
[null,null,{"$f":"IFERROR(VLOOKUP(A7393,Insumos!A:B,2,FALSE),\"\")","v":""}]
[null,null,{"$f":"IFERROR(VLOOKUP(A7394,Insumos!A:B,2,FALSE),\"\")","v":""}]
[null,null,{"$f":"IFERROR(VLOOKUP(A7395,Insumos!A:B,2,FALSE),\"\")","v":""}]
[null,null,{"$f":"IFERROR(VLOOKUP(A7396,Insumos!A:B,2,FALSE),\"\")","v":""}]
[null,null,{"$f":"IFERROR(VLOOKUP(A7397,Insumos!A:B,2,FALSE),\"\")","v":""}]
[null,null,{"$f":"IFERROR(VLOOKUP(A7398,Insumos!A:B,2,FALSE),\"\")","v":""}]
[null,null,{"$f":"IFERROR(VLOOKUP(A7399,Insumos!A:B,2,FALSE),\"\")","v":""}]
[null,null,{"$f":"IFERROR(VLOOKUP(A7400,Insumos!A:B,2,FALSE),\"\")","v":""}]
[null,null,{"$f":"IFERROR(VLOOKUP(A7401,Insumos!A:B,2,FALSE),\"\")","v":""}]
[null,null,{"$f":"IFERROR(VLOOKUP(A7402,Insumos!A:B,2,FALSE),\"\")","v":""}]
[null,null,{"$f":"IFERROR(VLOOKUP(A7403,Insumos!A:B,2,FALSE),\"\")","v":""}]
[null,null,{"$f":"IFERROR(VLOOKUP(A7404,Insumos!A:B,2,FALSE),\"\")","v":""}]
[null,null,{"$f":"IFERROR(VLOOKUP(A7405,Insumos!A:B,2,FALSE),\"\")","v":""}]
[null,null,{"$f":"IFERROR(VLOOKUP(A7406,Insumos!A:B,2,FALSE),\"\")","v":""}]
[null,null,{"$f":"IFERROR(VLOOKUP(A7407,Insumos!A:B,2,FALSE),\"\")","v":""}]
[null,null,{"$f":"IFERROR(VLOOKUP(A7408,Insumos!A:B,2,FALSE),\"\")","v":""}]
[null,null,{"$f":"IFERROR(VLOOKUP(A7409,Insumos!A:B,2,FALSE),\"\")","v":""}]
[null,null,{"$f":"IFERROR(VLOOKUP(A7410,Insumos!A:B,2,FALSE),\"\")","v":""}]
[null,null,{"$f":"IFERROR(VLOOKUP(A7411,Insumos!A:B,2,FALSE),\"\")","v":""}]
[null,null,{"$f":"IFERROR(VLOOKUP(A7412,Insumos!A:B,2,FALSE),\"\")","v":""}]
[null,null,{"$f":"IFERROR(VLOOKUP(A7413,Insumos!A:B,2,FALSE),\"\")","v":""}]
[null,null,{"$f":"IFERROR(VLOOKUP(A7414,Insumos!A:B,2,FALSE),\"\")","v":""}]
[null,null,{"$f":"IFERROR(VLOOKUP(A7415,Insumos!A:B,2,FALSE),\"\")","v":""}]
[null,null,{"$f":"IFERROR(VLOOKUP(A7416,Insumos!A:B,2,FALSE),\"\")","v":""}]
[null,null,{"$f":"IFERROR(VLOOKUP(A7417,Insumos!A:B,2,FALSE),\"\")","v":""}]
[null,null,{"$f":"IFERROR(VLOOKUP(A7418,Insumos!A:B,2,FALSE),\"\")","v":""}]
[null,null,{"$f":"IFERROR(VLOOKUP(A7419,Insumos!A:B,2,FALSE),\"\")","v":""}]
[null,null,{"$f":"IFERROR(VLOOKUP(A7420,Insumos!A:B,2,FALSE),\"\")","v":""}]
[null,null,{"$f":"IFERROR(VLOOKUP(A7421,Insumos!A:B,2,FALSE),\"\")","v":""}]
[null,null,{"$f":"IFERROR(VLOOKUP(A7422,Insumos!A:B,2,FALSE),\"\")","v":""}]
[null,null,{"$f":"IFERROR(VLOOKUP(A7423,Insumos!A:B,2,FALSE),\"\")","v":""}]
[null,null,{"$f":"IFERROR(VLOOKUP(A7424,Insumos!A:B,2,FALSE),\"\")","v":""}]
[null,null,{"$f":"IFERROR(VLOOKUP(A7425,Insumos!A:B,2,FALSE),\"\")","v":""}]
[null,null,{"$f":"IFERROR(VLOOKUP(A7426,Insumos!A:B,2,FALSE),\"\")","v":""}]
[null,null,{"$f":"IFERROR(VLOOKUP(A7427,Insumos!A:B,2,FALSE),\"\")","v":""}]
[null,null,{"$f":"IFERROR(VLOOKUP(A7428,Insumos!A:B,2,FALSE),\"\")","v":""}]
[null,null,{"$f":"IFERROR(VLOOKUP(A7429,Insumos!A:B,2,FALSE),\"\")","v":""}]
[null,null,{"$f":"IFERROR(VLOOKUP(A7430,Insumos!A:B,2,FALSE),\"\")","v":""}]
[null,null,{"$f":"IFERROR(VLOOKUP(A7431,Insumos!A:B,2,FALSE),\"\")","v":""}]
[null,null,{"$f":"IFERROR(VLOOKUP(A7432,Insumos!A:B,2,FALSE),\"\")","v":""}]
[null,null,{"$f":"IFERROR(VLOOKUP(A7433,Insumos!A:B,2,FALSE),\"\")","v":""}]
[null,null,{"$f":"IFERROR(VLOOKUP(A7434,Insumos!A:B,2,FALSE),\"\")","v":""}]
[null,null,{"$f":"IFERROR(VLOOKUP(A7435,Insumos!A:B,2,FALSE),\"\")","v":""}]
[null,null,{"$f":"IFERROR(VLOOKUP(A7436,Insumos!A:B,2,FALSE),\"\")","v":""}]
[null,null,{"$f":"IFERROR(VLOOKUP(A7437,Insumos!A:B,2,FALSE),\"\")","v":""}]
[null,null,{"$f":"IFERROR(VLOOKUP(A7438,Insumos!A:B,2,FALSE),\"\")","v":""}]
[null,null,{"$f":"IFERROR(VLOOKUP(A7439,Insumos!A:B,2,FALSE),\"\")","v":""}]
[null,null,{"$f":"IFERROR(VLOOKUP(A7440,Insumos!A:B,2,FALSE),\"\")","v":""}]
[null,null,{"$f":"IFERROR(VLOOKUP(A7441,Insumos!A:B,2,FALSE),\"\")","v":""}]
[null,null,{"$f":"IFERROR(VLOOKUP(A7442,Insumos!A:B,2,FALSE),\"\")","v":""}]
[null,null,{"$f":"IFERROR(VLOOKUP(A7443,Insumos!A:B,2,FALSE),\"\")","v":""}]
[null,null,{"$f":"IFERROR(VLOOKUP(A7444,Insumos!A:B,2,FALSE),\"\")","v":""}]
[null,null,{"$f":"IFERROR(VLOOKUP(A7445,Insumos!A:B,2,FALSE),\"\")","v":""}]
[null,null,{"$f":"IFERROR(VLOOKUP(A7446,Insumos!A:B,2,FALSE),\"\")","v":""}]
[null,null,{"$f":"IFERROR(VLOOKUP(A7447,Insumos!A:B,2,FALSE),\"\")","v":""}]
[null,null,{"$f":"IFERROR(VLOOKUP(A7448,Insumos!A:B,2,FALSE),\"\")","v":""}]
[null,null,{"$f":"IFERROR(VLOOKUP(A7449,Insumos!A:B,2,FALSE),\"\")","v":""}]
[null,null,{"$f":"IFERROR(VLOOKUP(A7450,Insumos!A:B,2,FALSE),\"\")","v":""}]
[null,null,{"$f":"IFERROR(VLOOKUP(A7451,Insumos!A:B,2,FALSE),\"\")","v":""}]
[null,null,{"$f":"IFERROR(VLOOKUP(A7452,Insumos!A:B,2,FALSE),\"\")","v":""}]
[null,null,{"$f":"IFERROR(VLOOKUP(A7453,Insumos!A:B,2,FALSE),\"\")","v":""}]
[null,null,{"$f":"IFERROR(VLOOKUP(A7454,Insumos!A:B,2,FALSE),\"\")","v":""}]
[null,null,{"$f":"IFERROR(VLOOKUP(A7455,Insumos!A:B,2,FALSE),\"\")","v":""}]
[null,null,{"$f":"IFERROR(VLOOKUP(A7456,Insumos!A:B,2,FALSE),\"\")","v":""}]
[null,null,{"$f":"IFERROR(VLOOKUP(A7457,Insumos!A:B,2,FALSE),\"\")","v":""}]
[null,null,{"$f":"IFERROR(VLOOKUP(A7458,Insumos!A:B,2,FALSE),\"\")","v":""}]
[null,null,{"$f":"IFERROR(VLOOKUP(A7459,Insumos!A:B,2,FALSE),\"\")","v":""}]
[null,null,{"$f":"IFERROR(VLOOKUP(A7460,Insumos!A:B,2,FALSE),\"\")","v":""}]
[null,null,{"$f":"IFERROR(VLOOKUP(A7461,Insumos!A:B,2,FALSE),\"\")","v":""}]
[null,null,{"$f":"IFERROR(VLOOKUP(A7462,Insumos!A:B,2,FALSE),\"\")","v":""}]
[null,null,{"$f":"IFERROR(VLOOKUP(A7463,Insumos!A:B,2,FALSE),\"\")","v":""}]
[null,null,{"$f":"IFERROR(VLOOKUP(A7464,Insumos!A:B,2,FALSE),\"\")","v":""}]
[null,null,{"$f":"IFERROR(VLOOKUP(A7465,Insumos!A:B,2,FALSE),\"\")","v":""}]
[null,null,{"$f":"IFERROR(VLOOKUP(A7466,Insumos!A:B,2,FALSE),\"\")","v":""}]
[null,null,{"$f":"IFERROR(VLOOKUP(A7467,Insumos!A:B,2,FALSE),\"\")","v":""}]
[null,null,{"$f":"IFERROR(VLOOKUP(A7468,Insumos!A:B,2,FALSE),\"\")","v":""}]
[null,null,{"$f":"IFERROR(VLOOKUP(A7469,Insumos!A:B,2,FALSE),\"\")","v":""}]
[null,null,{"$f":"IFERROR(VLOOKUP(A7470,Insumos!A:B,2,FALSE),\"\")","v":""}]
[null,null,{"$f":"IFERROR(VLOOKUP(A7471,Insumos!A:B,2,FALSE),\"\")","v":""}]
[null,null,{"$f":"IFERROR(VLOOKUP(A7472,Insumos!A:B,2,FALSE),\"\")","v":""}]
[null,null,{"$f":"IFERROR(VLOOKUP(A7473,Insumos!A:B,2,FALSE),\"\")","v":""}]
[null,null,{"$f":"IFERROR(VLOOKUP(A7474,Insumos!A:B,2,FALSE),\"\")","v":""}]
[null,null,{"$f":"IFERROR(VLOOKUP(A7475,Insumos!A:B,2,FALSE),\"\")","v":""}]
[null,null,{"$f":"IFERROR(VLOOKUP(A7476,Insumos!A:B,2,FALSE),\"\")","v":""}]
[null,null,{"$f":"IFERROR(VLOOKUP(A7477,Insumos!A:B,2,FALSE),\"\")","v":""}]
[null,null,{"$f":"IFERROR(VLOOKUP(A7478,Insumos!A:B,2,FALSE),\"\")","v":""}]
[null,null,{"$f":"IFERROR(VLOOKUP(A7479,Insumos!A:B,2,FALSE),\"\")","v":""}]
[null,null,{"$f":"IFERROR(VLOOKUP(A7480,Insumos!A:B,2,FALSE),\"\")","v":""}]
[null,null,{"$f":"IFERROR(VLOOKUP(A7481,Insumos!A:B,2,FALSE),\"\")","v":""}]
[null,null,{"$f":"IFERROR(VLOOKUP(A7482,Insumos!A:B,2,FALSE),\"\")","v":""}]
[null,null,{"$f":"IFERROR(VLOOKUP(A7483,Insumos!A:B,2,FALSE),\"\")","v":""}]
[null,null,{"$f":"IFERROR(VLOOKUP(A7484,Insumos!A:B,2,FALSE),\"\")","v":""}]
[null,null,{"$f":"IFERROR(VLOOKUP(A7485,Insumos!A:B,2,FALSE),\"\")","v":""}]
[null,null,{"$f":"IFERROR(VLOOKUP(A7486,Insumos!A:B,2,FALSE),\"\")","v":""}]
[null,null,{"$f":"IFERROR(VLOOKUP(A7487,Insumos!A:B,2,FALSE),\"\")","v":""}]
[null,null,{"$f":"IFERROR(VLOOKUP(A7488,Insumos!A:B,2,FALSE),\"\")","v":""}]
[null,null,{"$f":"IFERROR(VLOOKUP(A7489,Insumos!A:B,2,FALSE),\"\")","v":""}]
[null,null,{"$f":"IFERROR(VLOOKUP(A7490,Insumos!A:B,2,FALSE),\"\")","v":""}]
[null,null,{"$f":"IFERROR(VLOOKUP(A7491,Insumos!A:B,2,FALSE),\"\")","v":""}]
[null,null,{"$f":"IFERROR(VLOOKUP(A7492,Insumos!A:B,2,FALSE),\"\")","v":""}]
[null,null,{"$f":"IFERROR(VLOOKUP(A7493,Insumos!A:B,2,FALSE),\"\")","v":""}]
[null,null,{"$f":"IFERROR(VLOOKUP(A7494,Insumos!A:B,2,FALSE),\"\")","v":""}]
[null,null,{"$f":"IFERROR(VLOOKUP(A7495,Insumos!A:B,2,FALSE),\"\")","v":""}]
[null,null,{"$f":"IFERROR(VLOOKUP(A7496,Insumos!A:B,2,FALSE),\"\")","v":""}]
[null,null,{"$f":"IFERROR(VLOOKUP(A7497,Insumos!A:B,2,FALSE),\"\")","v":""}]
[null,null,{"$f":"IFERROR(VLOOKUP(A7498,Insumos!A:B,2,FALSE),\"\")","v":""}]
[null,null,{"$f":"IFERROR(VLOOKUP(A7499,Insumos!A:B,2,FALSE),\"\")","v":""}]
[null,null,{"$f":"IFERROR(VLOOKUP(A7500,Insumos!A:B,2,FALSE),\"\")","v":""}]
[null,null,{"$f":"IFERROR(VLOOKUP(A7501,Insumos!A:B,2,FALSE),\"\")","v":""}]
[null,null,{"$f":"IFERROR(VLOOKUP(A7502,Insumos!A:B,2,FALSE),\"\")","v":""}]
[null,null,{"$f":"IFERROR(VLOOKUP(A7503,Insumos!A:B,2,FALSE),\"\")","v":""}]
[null,null,{"$f":"IFERROR(VLOOKUP(A7504,Insumos!A:B,2,FALSE),\"\")","v":""}]
[null,null,{"$f":"IFERROR(VLOOKUP(A7505,Insumos!A:B,2,FALSE),\"\")","v":""}]
[null,null,{"$f":"IFERROR(VLOOKUP(A7506,Insumos!A:B,2,FALSE),\"\")","v":""}]
[null,null,{"$f":"IFERROR(VLOOKUP(A7507,Insumos!A:B,2,FALSE),\"\")","v":""}]
[null,null,{"$f":"IFERROR(VLOOKUP(A7508,Insumos!A:B,2,FALSE),\"\")","v":""}]
[null,null,{"$f":"IFERROR(VLOOKUP(A7509,Insumos!A:B,2,FALSE),\"\")","v":""}]
[null,null,{"$f":"IFERROR(VLOOKUP(A7510,Insumos!A:B,2,FALSE),\"\")","v":""}]
[null,null,{"$f":"IFERROR(VLOOKUP(A7511,Insumos!A:B,2,FALSE),\"\")","v":""}]
[null,null,{"$f":"IFERROR(VLOOKUP(A7512,Insumos!A:B,2,FALSE),\"\")","v":""}]
[null,null,{"$f":"IFERROR(VLOOKUP(A7513,Insumos!A:B,2,FALSE),\"\")","v":""}]
[null,null,{"$f":"IFERROR(VLOOKUP(A7514,Insumos!A:B,2,FALSE),\"\")","v":""}]
[null,null,{"$f":"IFERROR(VLOOKUP(A7515,Insumos!A:B,2,FALSE),\"\")","v":""}]
[null,null,{"$f":"IFERROR(VLOOKUP(A7516,Insumos!A:B,2,FALSE),\"\")","v":""}]
[null,null,{"$f":"IFERROR(VLOOKUP(A7517,Insumos!A:B,2,FALSE),\"\")","v":""}]
[null,null,{"$f":"IFERROR(VLOOKUP(A7518,Insumos!A:B,2,FALSE),\"\")","v":""}]
[null,null,{"$f":"IFERROR(VLOOKUP(A7519,Insumos!A:B,2,FALSE),\"\")","v":""}]
[null,null,{"$f":"IFERROR(VLOOKUP(A7520,Insumos!A:B,2,FALSE),\"\")","v":""}]
[null,null,{"$f":"IFERROR(VLOOKUP(A7521,Insumos!A:B,2,FALSE),\"\")","v":""}]
[null,null,{"$f":"IFERROR(VLOOKUP(A7522,Insumos!A:B,2,FALSE),\"\")","v":""}]
[null,null,{"$f":"IFERROR(VLOOKUP(A7523,Insumos!A:B,2,FALSE),\"\")","v":""}]
[null,null,{"$f":"IFERROR(VLOOKUP(A7524,Insumos!A:B,2,FALSE),\"\")","v":""}]
[null,null,{"$f":"IFERROR(VLOOKUP(A7525,Insumos!A:B,2,FALSE),\"\")","v":""}]
[null,null,{"$f":"IFERROR(VLOOKUP(A7526,Insumos!A:B,2,FALSE),\"\")","v":""}]
[null,null,{"$f":"IFERROR(VLOOKUP(A7527,Insumos!A:B,2,FALSE),\"\")","v":""}]
[null,null,{"$f":"IFERROR(VLOOKUP(A7528,Insumos!A:B,2,FALSE),\"\")","v":""}]
[null,null,{"$f":"IFERROR(VLOOKUP(A7529,Insumos!A:B,2,FALSE),\"\")","v":""}]
[null,null,{"$f":"IFERROR(VLOOKUP(A7530,Insumos!A:B,2,FALSE),\"\")","v":""}]
[null,null,{"$f":"IFERROR(VLOOKUP(A7531,Insumos!A:B,2,FALSE),\"\")","v":""}]
[null,null,{"$f":"IFERROR(VLOOKUP(A7532,Insumos!A:B,2,FALSE),\"\")","v":""}]
[null,null,{"$f":"IFERROR(VLOOKUP(A7533,Insumos!A:B,2,FALSE),\"\")","v":""}]
[null,null,{"$f":"IFERROR(VLOOKUP(A7534,Insumos!A:B,2,FALSE),\"\")","v":""}]
[null,null,{"$f":"IFERROR(VLOOKUP(A7535,Insumos!A:B,2,FALSE),\"\")","v":""}]
[null,null,{"$f":"IFERROR(VLOOKUP(A7536,Insumos!A:B,2,FALSE),\"\")","v":""}]
[null,null,{"$f":"IFERROR(VLOOKUP(A7537,Insumos!A:B,2,FALSE),\"\")","v":""}]
[null,null,{"$f":"IFERROR(VLOOKUP(A7538,Insumos!A:B,2,FALSE),\"\")","v":""}]
[null,null,{"$f":"IFERROR(VLOOKUP(A7539,Insumos!A:B,2,FALSE),\"\")","v":""}]
[null,null,{"$f":"IFERROR(VLOOKUP(A7540,Insumos!A:B,2,FALSE),\"\")","v":""}]
[null,null,{"$f":"IFERROR(VLOOKUP(A7541,Insumos!A:B,2,FALSE),\"\")","v":""}]
[null,null,{"$f":"IFERROR(VLOOKUP(A7542,Insumos!A:B,2,FALSE),\"\")","v":""}]
[null,null,{"$f":"IFERROR(VLOOKUP(A7543,Insumos!A:B,2,FALSE),\"\")","v":""}]
[null,null,{"$f":"IFERROR(VLOOKUP(A7544,Insumos!A:B,2,FALSE),\"\")","v":""}]
[null,null,{"$f":"IFERROR(VLOOKUP(A7545,Insumos!A:B,2,FALSE),\"\")","v":""}]
[null,null,{"$f":"IFERROR(VLOOKUP(A7546,Insumos!A:B,2,FALSE),\"\")","v":""}]
[null,null,{"$f":"IFERROR(VLOOKUP(A7547,Insumos!A:B,2,FALSE),\"\")","v":""}]
[null,null,{"$f":"IFERROR(VLOOKUP(A7548,Insumos!A:B,2,FALSE),\"\")","v":""}]
[null,null,{"$f":"IFERROR(VLOOKUP(A7549,Insumos!A:B,2,FALSE),\"\")","v":""}]
[null,null,{"$f":"IFERROR(VLOOKUP(A7550,Insumos!A:B,2,FALSE),\"\")","v":""}]
[null,null,{"$f":"IFERROR(VLOOKUP(A7551,Insumos!A:B,2,FALSE),\"\")","v":""}]
[null,null,{"$f":"IFERROR(VLOOKUP(A7552,Insumos!A:B,2,FALSE),\"\")","v":""}]
[null,null,{"$f":"IFERROR(VLOOKUP(A7553,Insumos!A:B,2,FALSE),\"\")","v":""}]
[null,null,{"$f":"IFERROR(VLOOKUP(A7554,Insumos!A:B,2,FALSE),\"\")","v":""}]
[null,null,{"$f":"IFERROR(VLOOKUP(A7555,Insumos!A:B,2,FALSE),\"\")","v":""}]
[null,null,{"$f":"IFERROR(VLOOKUP(A7556,Insumos!A:B,2,FALSE),\"\")","v":""}]
[null,null,{"$f":"IFERROR(VLOOKUP(A7557,Insumos!A:B,2,FALSE),\"\")","v":""}]
[null,null,{"$f":"IFERROR(VLOOKUP(A7558,Insumos!A:B,2,FALSE),\"\")","v":""}]
[null,null,{"$f":"IFERROR(VLOOKUP(A7559,Insumos!A:B,2,FALSE),\"\")","v":""}]
[null,null,{"$f":"IFERROR(VLOOKUP(A7560,Insumos!A:B,2,FALSE),\"\")","v":""}]
[null,null,{"$f":"IFERROR(VLOOKUP(A7561,Insumos!A:B,2,FALSE),\"\")","v":""}]
[null,null,{"$f":"IFERROR(VLOOKUP(A7562,Insumos!A:B,2,FALSE),\"\")","v":""}]
[null,null,{"$f":"IFERROR(VLOOKUP(A7563,Insumos!A:B,2,FALSE),\"\")","v":""}]
[null,null,{"$f":"IFERROR(VLOOKUP(A7564,Insumos!A:B,2,FALSE),\"\")","v":""}]
[null,null,{"$f":"IFERROR(VLOOKUP(A7565,Insumos!A:B,2,FALSE),\"\")","v":""}]
[null,null,{"$f":"IFERROR(VLOOKUP(A7566,Insumos!A:B,2,FALSE),\"\")","v":""}]
[null,null,{"$f":"IFERROR(VLOOKUP(A7567,Insumos!A:B,2,FALSE),\"\")","v":""}]
[null,null,{"$f":"IFERROR(VLOOKUP(A7568,Insumos!A:B,2,FALSE),\"\")","v":""}]
[null,null,{"$f":"IFERROR(VLOOKUP(A7569,Insumos!A:B,2,FALSE),\"\")","v":""}]
[null,null,{"$f":"IFERROR(VLOOKUP(A7570,Insumos!A:B,2,FALSE),\"\")","v":""}]
[null,null,{"$f":"IFERROR(VLOOKUP(A7571,Insumos!A:B,2,FALSE),\"\")","v":""}]
[null,null,{"$f":"IFERROR(VLOOKUP(A7572,Insumos!A:B,2,FALSE),\"\")","v":""}]
[null,null,{"$f":"IFERROR(VLOOKUP(A7573,Insumos!A:B,2,FALSE),\"\")","v":""}]
[null,null,{"$f":"IFERROR(VLOOKUP(A7574,Insumos!A:B,2,FALSE),\"\")","v":""}]
[null,null,{"$f":"IFERROR(VLOOKUP(A7575,Insumos!A:B,2,FALSE),\"\")","v":""}]
[null,null,{"$f":"IFERROR(VLOOKUP(A7576,Insumos!A:B,2,FALSE),\"\")","v":""}]
[null,null,{"$f":"IFERROR(VLOOKUP(A7577,Insumos!A:B,2,FALSE),\"\")","v":""}]
[null,null,{"$f":"IFERROR(VLOOKUP(A7578,Insumos!A:B,2,FALSE),\"\")","v":""}]
[null,null,{"$f":"IFERROR(VLOOKUP(A7579,Insumos!A:B,2,FALSE),\"\")","v":""}]
[null,null,{"$f":"IFERROR(VLOOKUP(A7580,Insumos!A:B,2,FALSE),\"\")","v":""}]
[null,null,{"$f":"IFERROR(VLOOKUP(A7581,Insumos!A:B,2,FALSE),\"\")","v":""}]
[null,null,{"$f":"IFERROR(VLOOKUP(A7582,Insumos!A:B,2,FALSE),\"\")","v":""}]
[null,null,{"$f":"IFERROR(VLOOKUP(A7583,Insumos!A:B,2,FALSE),\"\")","v":""}]
[null,null,{"$f":"IFERROR(VLOOKUP(A7584,Insumos!A:B,2,FALSE),\"\")","v":""}]
[null,null,{"$f":"IFERROR(VLOOKUP(A7585,Insumos!A:B,2,FALSE),\"\")","v":""}]
[null,null,{"$f":"IFERROR(VLOOKUP(A7586,Insumos!A:B,2,FALSE),\"\")","v":""}]
[null,null,{"$f":"IFERROR(VLOOKUP(A7587,Insumos!A:B,2,FALSE),\"\")","v":""}]
[null,null,{"$f":"IFERROR(VLOOKUP(A7588,Insumos!A:B,2,FALSE),\"\")","v":""}]
[null,null,{"$f":"IFERROR(VLOOKUP(A7589,Insumos!A:B,2,FALSE),\"\")","v":""}]
[null,null,{"$f":"IFERROR(VLOOKUP(A7590,Insumos!A:B,2,FALSE),\"\")","v":""}]
[null,null,{"$f":"IFERROR(VLOOKUP(A7591,Insumos!A:B,2,FALSE),\"\")","v":""}]
[null,null,{"$f":"IFERROR(VLOOKUP(A7592,Insumos!A:B,2,FALSE),\"\")","v":""}]
[null,null,{"$f":"IFERROR(VLOOKUP(A7593,Insumos!A:B,2,FALSE),\"\")","v":""}]
[null,null,{"$f":"IFERROR(VLOOKUP(A7594,Insumos!A:B,2,FALSE),\"\")","v":""}]
[null,null,{"$f":"IFERROR(VLOOKUP(A7595,Insumos!A:B,2,FALSE),\"\")","v":""}]
[null,null,{"$f":"IFERROR(VLOOKUP(A7596,Insumos!A:B,2,FALSE),\"\")","v":""}]
[null,null,{"$f":"IFERROR(VLOOKUP(A7597,Insumos!A:B,2,FALSE),\"\")","v":""}]
[null,null,{"$f":"IFERROR(VLOOKUP(A7598,Insumos!A:B,2,FALSE),\"\")","v":""}]
[null,null,{"$f":"IFERROR(VLOOKUP(A7599,Insumos!A:B,2,FALSE),\"\")","v":""}]
[null,null,{"$f":"IFERROR(VLOOKUP(A7600,Insumos!A:B,2,FALSE),\"\")","v":""}]
[null,null,{"$f":"IFERROR(VLOOKUP(A7601,Insumos!A:B,2,FALSE),\"\")","v":""}]
[null,null,{"$f":"IFERROR(VLOOKUP(A7602,Insumos!A:B,2,FALSE),\"\")","v":""}]
[null,null,{"$f":"IFERROR(VLOOKUP(A7603,Insumos!A:B,2,FALSE),\"\")","v":""}]
[null,null,{"$f":"IFERROR(VLOOKUP(A7604,Insumos!A:B,2,FALSE),\"\")","v":""}]
[null,null,{"$f":"IFERROR(VLOOKUP(A7605,Insumos!A:B,2,FALSE),\"\")","v":""}]
[null,null,{"$f":"IFERROR(VLOOKUP(A7606,Insumos!A:B,2,FALSE),\"\")","v":""}]
[null,null,{"$f":"IFERROR(VLOOKUP(A7607,Insumos!A:B,2,FALSE),\"\")","v":""}]
[null,null,{"$f":"IFERROR(VLOOKUP(A7608,Insumos!A:B,2,FALSE),\"\")","v":""}]
[null,null,{"$f":"IFERROR(VLOOKUP(A7609,Insumos!A:B,2,FALSE),\"\")","v":""}]
[null,null,{"$f":"IFERROR(VLOOKUP(A7610,Insumos!A:B,2,FALSE),\"\")","v":""}]
[null,null,{"$f":"IFERROR(VLOOKUP(A7611,Insumos!A:B,2,FALSE),\"\")","v":""}]
[null,null,{"$f":"IFERROR(VLOOKUP(A7612,Insumos!A:B,2,FALSE),\"\")","v":""}]
[null,null,{"$f":"IFERROR(VLOOKUP(A7613,Insumos!A:B,2,FALSE),\"\")","v":""}]
[null,null,{"$f":"IFERROR(VLOOKUP(A7614,Insumos!A:B,2,FALSE),\"\")","v":""}]
[null,null,{"$f":"IFERROR(VLOOKUP(A7615,Insumos!A:B,2,FALSE),\"\")","v":""}]
[null,null,{"$f":"IFERROR(VLOOKUP(A7616,Insumos!A:B,2,FALSE),\"\")","v":""}]
[null,null,{"$f":"IFERROR(VLOOKUP(A7617,Insumos!A:B,2,FALSE),\"\")","v":""}]
[null,null,{"$f":"IFERROR(VLOOKUP(A7618,Insumos!A:B,2,FALSE),\"\")","v":""}]
[null,null,{"$f":"IFERROR(VLOOKUP(A7619,Insumos!A:B,2,FALSE),\"\")","v":""}]
[null,null,{"$f":"IFERROR(VLOOKUP(A7620,Insumos!A:B,2,FALSE),\"\")","v":""}]
[null,null,{"$f":"IFERROR(VLOOKUP(A7621,Insumos!A:B,2,FALSE),\"\")","v":""}]
[null,null,{"$f":"IFERROR(VLOOKUP(A7622,Insumos!A:B,2,FALSE),\"\")","v":""}]
[null,null,{"$f":"IFERROR(VLOOKUP(A7623,Insumos!A:B,2,FALSE),\"\")","v":""}]
[null,null,{"$f":"IFERROR(VLOOKUP(A7624,Insumos!A:B,2,FALSE),\"\")","v":""}]
[null,null,{"$f":"IFERROR(VLOOKUP(A7625,Insumos!A:B,2,FALSE),\"\")","v":""}]
[null,null,{"$f":"IFERROR(VLOOKUP(A7626,Insumos!A:B,2,FALSE),\"\")","v":""}]
[null,null,{"$f":"IFERROR(VLOOKUP(A7627,Insumos!A:B,2,FALSE),\"\")","v":""}]
[null,null,{"$f":"IFERROR(VLOOKUP(A7628,Insumos!A:B,2,FALSE),\"\")","v":""}]
[null,null,{"$f":"IFERROR(VLOOKUP(A7629,Insumos!A:B,2,FALSE),\"\")","v":""}]
[null,null,{"$f":"IFERROR(VLOOKUP(A7630,Insumos!A:B,2,FALSE),\"\")","v":""}]
[null,null,{"$f":"IFERROR(VLOOKUP(A7631,Insumos!A:B,2,FALSE),\"\")","v":""}]
[null,null,{"$f":"IFERROR(VLOOKUP(A7632,Insumos!A:B,2,FALSE),\"\")","v":""}]
[null,null,{"$f":"IFERROR(VLOOKUP(A7633,Insumos!A:B,2,FALSE),\"\")","v":""}]
[null,null,{"$f":"IFERROR(VLOOKUP(A7634,Insumos!A:B,2,FALSE),\"\")","v":""}]
[null,null,{"$f":"IFERROR(VLOOKUP(A7635,Insumos!A:B,2,FALSE),\"\")","v":""}]
[null,null,{"$f":"IFERROR(VLOOKUP(A7636,Insumos!A:B,2,FALSE),\"\")","v":""}]
[null,null,{"$f":"IFERROR(VLOOKUP(A7637,Insumos!A:B,2,FALSE),\"\")","v":""}]
[null,null,{"$f":"IFERROR(VLOOKUP(A7638,Insumos!A:B,2,FALSE),\"\")","v":""}]
[null,null,{"$f":"IFERROR(VLOOKUP(A7639,Insumos!A:B,2,FALSE),\"\")","v":""}]
[null,null,{"$f":"IFERROR(VLOOKUP(A7640,Insumos!A:B,2,FALSE),\"\")","v":""}]
[null,null,{"$f":"IFERROR(VLOOKUP(A7641,Insumos!A:B,2,FALSE),\"\")","v":""}]
[null,null,{"$f":"IFERROR(VLOOKUP(A7642,Insumos!A:B,2,FALSE),\"\")","v":""}]
[null,null,{"$f":"IFERROR(VLOOKUP(A7643,Insumos!A:B,2,FALSE),\"\")","v":""}]
[null,null,{"$f":"IFERROR(VLOOKUP(A7644,Insumos!A:B,2,FALSE),\"\")","v":""}]
[null,null,{"$f":"IFERROR(VLOOKUP(A7645,Insumos!A:B,2,FALSE),\"\")","v":""}]
[null,null,{"$f":"IFERROR(VLOOKUP(A7646,Insumos!A:B,2,FALSE),\"\")","v":""}]
[null,null,{"$f":"IFERROR(VLOOKUP(A7647,Insumos!A:B,2,FALSE),\"\")","v":""}]
[null,null,{"$f":"IFERROR(VLOOKUP(A7648,Insumos!A:B,2,FALSE),\"\")","v":""}]
[null,null,{"$f":"IFERROR(VLOOKUP(A7649,Insumos!A:B,2,FALSE),\"\")","v":""}]
[null,null,{"$f":"IFERROR(VLOOKUP(A7650,Insumos!A:B,2,FALSE),\"\")","v":""}]
[null,null,{"$f":"IFERROR(VLOOKUP(A7651,Insumos!A:B,2,FALSE),\"\")","v":""}]
[null,null,{"$f":"IFERROR(VLOOKUP(A7652,Insumos!A:B,2,FALSE),\"\")","v":""}]
[null,null,{"$f":"IFERROR(VLOOKUP(A7653,Insumos!A:B,2,FALSE),\"\")","v":""}]
[null,null,{"$f":"IFERROR(VLOOKUP(A7654,Insumos!A:B,2,FALSE),\"\")","v":""}]
[null,null,{"$f":"IFERROR(VLOOKUP(A7655,Insumos!A:B,2,FALSE),\"\")","v":""}]
[null,null,{"$f":"IFERROR(VLOOKUP(A7656,Insumos!A:B,2,FALSE),\"\")","v":""}]
[null,null,{"$f":"IFERROR(VLOOKUP(A7657,Insumos!A:B,2,FALSE),\"\")","v":""}]
[null,null,{"$f":"IFERROR(VLOOKUP(A7658,Insumos!A:B,2,FALSE),\"\")","v":""}]
[null,null,{"$f":"IFERROR(VLOOKUP(A7659,Insumos!A:B,2,FALSE),\"\")","v":""}]
[null,null,{"$f":"IFERROR(VLOOKUP(A7660,Insumos!A:B,2,FALSE),\"\")","v":""}]
[null,null,{"$f":"IFERROR(VLOOKUP(A7661,Insumos!A:B,2,FALSE),\"\")","v":""}]
[null,null,{"$f":"IFERROR(VLOOKUP(A7662,Insumos!A:B,2,FALSE),\"\")","v":""}]
[null,null,{"$f":"IFERROR(VLOOKUP(A7663,Insumos!A:B,2,FALSE),\"\")","v":""}]
[null,null,{"$f":"IFERROR(VLOOKUP(A7664,Insumos!A:B,2,FALSE),\"\")","v":""}]
[null,null,{"$f":"IFERROR(VLOOKUP(A7665,Insumos!A:B,2,FALSE),\"\")","v":""}]
[null,null,{"$f":"IFERROR(VLOOKUP(A7666,Insumos!A:B,2,FALSE),\"\")","v":""}]
[null,null,{"$f":"IFERROR(VLOOKUP(A7667,Insumos!A:B,2,FALSE),\"\")","v":""}]
[null,null,{"$f":"IFERROR(VLOOKUP(A7668,Insumos!A:B,2,FALSE),\"\")","v":""}]
[null,null,{"$f":"IFERROR(VLOOKUP(A7669,Insumos!A:B,2,FALSE),\"\")","v":""}]
[null,null,{"$f":"IFERROR(VLOOKUP(A7670,Insumos!A:B,2,FALSE),\"\")","v":""}]
[null,null,{"$f":"IFERROR(VLOOKUP(A7671,Insumos!A:B,2,FALSE),\"\")","v":""}]
[null,null,{"$f":"IFERROR(VLOOKUP(A7672,Insumos!A:B,2,FALSE),\"\")","v":""}]
[null,null,{"$f":"IFERROR(VLOOKUP(A7673,Insumos!A:B,2,FALSE),\"\")","v":""}]
[null,null,{"$f":"IFERROR(VLOOKUP(A7674,Insumos!A:B,2,FALSE),\"\")","v":""}]
[null,null,{"$f":"IFERROR(VLOOKUP(A7675,Insumos!A:B,2,FALSE),\"\")","v":""}]
[null,null,{"$f":"IFERROR(VLOOKUP(A7676,Insumos!A:B,2,FALSE),\"\")","v":""}]
[null,null,{"$f":"IFERROR(VLOOKUP(A7677,Insumos!A:B,2,FALSE),\"\")","v":""}]
[null,null,{"$f":"IFERROR(VLOOKUP(A7678,Insumos!A:B,2,FALSE),\"\")","v":""}]
[null,null,{"$f":"IFERROR(VLOOKUP(A7679,Insumos!A:B,2,FALSE),\"\")","v":""}]
[null,null,{"$f":"IFERROR(VLOOKUP(A7680,Insumos!A:B,2,FALSE),\"\")","v":""}]
[null,null,{"$f":"IFERROR(VLOOKUP(A7681,Insumos!A:B,2,FALSE),\"\")","v":""}]
[null,null,{"$f":"IFERROR(VLOOKUP(A7682,Insumos!A:B,2,FALSE),\"\")","v":""}]
[null,null,{"$f":"IFERROR(VLOOKUP(A7683,Insumos!A:B,2,FALSE),\"\")","v":""}]
[null,null,{"$f":"IFERROR(VLOOKUP(A7684,Insumos!A:B,2,FALSE),\"\")","v":""}]
[null,null,{"$f":"IFERROR(VLOOKUP(A7685,Insumos!A:B,2,FALSE),\"\")","v":""}]
[null,null,{"$f":"IFERROR(VLOOKUP(A7686,Insumos!A:B,2,FALSE),\"\")","v":""}]
[null,null,{"$f":"IFERROR(VLOOKUP(A7687,Insumos!A:B,2,FALSE),\"\")","v":""}]
[null,null,{"$f":"IFERROR(VLOOKUP(A7688,Insumos!A:B,2,FALSE),\"\")","v":""}]
[null,null,{"$f":"IFERROR(VLOOKUP(A7689,Insumos!A:B,2,FALSE),\"\")","v":""}]
[null,null,{"$f":"IFERROR(VLOOKUP(A7690,Insumos!A:B,2,FALSE),\"\")","v":""}]
[null,null,{"$f":"IFERROR(VLOOKUP(A7691,Insumos!A:B,2,FALSE),\"\")","v":""}]
[null,null,{"$f":"IFERROR(VLOOKUP(A7692,Insumos!A:B,2,FALSE),\"\")","v":""}]
[null,null,{"$f":"IFERROR(VLOOKUP(A7693,Insumos!A:B,2,FALSE),\"\")","v":""}]
[null,null,{"$f":"IFERROR(VLOOKUP(A7694,Insumos!A:B,2,FALSE),\"\")","v":""}]
[null,null,{"$f":"IFERROR(VLOOKUP(A7695,Insumos!A:B,2,FALSE),\"\")","v":""}]
[null,null,{"$f":"IFERROR(VLOOKUP(A7696,Insumos!A:B,2,FALSE),\"\")","v":""}]
[null,null,{"$f":"IFERROR(VLOOKUP(A7697,Insumos!A:B,2,FALSE),\"\")","v":""}]
[null,null,{"$f":"IFERROR(VLOOKUP(A7698,Insumos!A:B,2,FALSE),\"\")","v":""}]
[null,null,{"$f":"IFERROR(VLOOKUP(A7699,Insumos!A:B,2,FALSE),\"\")","v":""}]
[null,null,{"$f":"IFERROR(VLOOKUP(A7700,Insumos!A:B,2,FALSE),\"\")","v":""}]
[null,null,{"$f":"IFERROR(VLOOKUP(A7701,Insumos!A:B,2,FALSE),\"\")","v":""}]
[null,null,{"$f":"IFERROR(VLOOKUP(A7702,Insumos!A:B,2,FALSE),\"\")","v":""}]
[null,null,{"$f":"IFERROR(VLOOKUP(A7703,Insumos!A:B,2,FALSE),\"\")","v":""}]
[null,null,{"$f":"IFERROR(VLOOKUP(A7704,Insumos!A:B,2,FALSE),\"\")","v":""}]
[null,null,{"$f":"IFERROR(VLOOKUP(A7705,Insumos!A:B,2,FALSE),\"\")","v":""}]
[null,null,{"$f":"IFERROR(VLOOKUP(A7706,Insumos!A:B,2,FALSE),\"\")","v":""}]
[null,null,{"$f":"IFERROR(VLOOKUP(A7707,Insumos!A:B,2,FALSE),\"\")","v":""}]
[null,null,{"$f":"IFERROR(VLOOKUP(A7708,Insumos!A:B,2,FALSE),\"\")","v":""}]
[null,null,{"$f":"IFERROR(VLOOKUP(A7709,Insumos!A:B,2,FALSE),\"\")","v":""}]
[null,null,{"$f":"IFERROR(VLOOKUP(A7710,Insumos!A:B,2,FALSE),\"\")","v":""}]
[null,null,{"$f":"IFERROR(VLOOKUP(A7711,Insumos!A:B,2,FALSE),\"\")","v":""}]
[null,null,{"$f":"IFERROR(VLOOKUP(A7712,Insumos!A:B,2,FALSE),\"\")","v":""}]
[null,null,{"$f":"IFERROR(VLOOKUP(A7713,Insumos!A:B,2,FALSE),\"\")","v":""}]
[null,null,{"$f":"IFERROR(VLOOKUP(A7714,Insumos!A:B,2,FALSE),\"\")","v":""}]
[null,null,{"$f":"IFERROR(VLOOKUP(A7715,Insumos!A:B,2,FALSE),\"\")","v":""}]
[null,null,{"$f":"IFERROR(VLOOKUP(A7716,Insumos!A:B,2,FALSE),\"\")","v":""}]
[null,null,{"$f":"IFERROR(VLOOKUP(A7717,Insumos!A:B,2,FALSE),\"\")","v":""}]
[null,null,{"$f":"IFERROR(VLOOKUP(A7718,Insumos!A:B,2,FALSE),\"\")","v":""}]
[null,null,{"$f":"IFERROR(VLOOKUP(A7719,Insumos!A:B,2,FALSE),\"\")","v":""}]
[null,null,{"$f":"IFERROR(VLOOKUP(A7720,Insumos!A:B,2,FALSE),\"\")","v":""}]
[null,null,{"$f":"IFERROR(VLOOKUP(A7721,Insumos!A:B,2,FALSE),\"\")","v":""}]
[null,null,{"$f":"IFERROR(VLOOKUP(A7722,Insumos!A:B,2,FALSE),\"\")","v":""}]
[null,null,{"$f":"IFERROR(VLOOKUP(A7723,Insumos!A:B,2,FALSE),\"\")","v":""}]
[null,null,{"$f":"IFERROR(VLOOKUP(A7724,Insumos!A:B,2,FALSE),\"\")","v":""}]
[null,null,{"$f":"IFERROR(VLOOKUP(A7725,Insumos!A:B,2,FALSE),\"\")","v":""}]
[null,null,{"$f":"IFERROR(VLOOKUP(A7726,Insumos!A:B,2,FALSE),\"\")","v":""}]
[null,null,{"$f":"IFERROR(VLOOKUP(A7727,Insumos!A:B,2,FALSE),\"\")","v":""}]
[null,null,{"$f":"IFERROR(VLOOKUP(A7728,Insumos!A:B,2,FALSE),\"\")","v":""}]
[null,null,{"$f":"IFERROR(VLOOKUP(A7729,Insumos!A:B,2,FALSE),\"\")","v":""}]
[null,null,{"$f":"IFERROR(VLOOKUP(A7730,Insumos!A:B,2,FALSE),\"\")","v":""}]
[null,null,{"$f":"IFERROR(VLOOKUP(A7731,Insumos!A:B,2,FALSE),\"\")","v":""}]
[null,null,{"$f":"IFERROR(VLOOKUP(A7732,Insumos!A:B,2,FALSE),\"\")","v":""}]
[null,null,{"$f":"IFERROR(VLOOKUP(A7733,Insumos!A:B,2,FALSE),\"\")","v":""}]
[null,null,{"$f":"IFERROR(VLOOKUP(A7734,Insumos!A:B,2,FALSE),\"\")","v":""}]
[null,null,{"$f":"IFERROR(VLOOKUP(A7735,Insumos!A:B,2,FALSE),\"\")","v":""}]
[null,null,{"$f":"IFERROR(VLOOKUP(A7736,Insumos!A:B,2,FALSE),\"\")","v":""}]
[null,null,{"$f":"IFERROR(VLOOKUP(A7737,Insumos!A:B,2,FALSE),\"\")","v":""}]
[null,null,{"$f":"IFERROR(VLOOKUP(A7738,Insumos!A:B,2,FALSE),\"\")","v":""}]
[null,null,{"$f":"IFERROR(VLOOKUP(A7739,Insumos!A:B,2,FALSE),\"\")","v":""}]
[null,null,{"$f":"IFERROR(VLOOKUP(A7740,Insumos!A:B,2,FALSE),\"\")","v":""}]
[null,null,{"$f":"IFERROR(VLOOKUP(A7741,Insumos!A:B,2,FALSE),\"\")","v":""}]
[null,null,{"$f":"IFERROR(VLOOKUP(A7742,Insumos!A:B,2,FALSE),\"\")","v":""}]
[null,null,{"$f":"IFERROR(VLOOKUP(A7743,Insumos!A:B,2,FALSE),\"\")","v":""}]
[null,null,{"$f":"IFERROR(VLOOKUP(A7744,Insumos!A:B,2,FALSE),\"\")","v":""}]
[null,null,{"$f":"IFERROR(VLOOKUP(A7745,Insumos!A:B,2,FALSE),\"\")","v":""}]
[null,null,{"$f":"IFERROR(VLOOKUP(A7746,Insumos!A:B,2,FALSE),\"\")","v":""}]
[null,null,{"$f":"IFERROR(VLOOKUP(A7747,Insumos!A:B,2,FALSE),\"\")","v":""}]
[null,null,{"$f":"IFERROR(VLOOKUP(A7748,Insumos!A:B,2,FALSE),\"\")","v":""}]
[null,null,{"$f":"IFERROR(VLOOKUP(A7749,Insumos!A:B,2,FALSE),\"\")","v":""}]
[null,null,{"$f":"IFERROR(VLOOKUP(A7750,Insumos!A:B,2,FALSE),\"\")","v":""}]
[null,null,{"$f":"IFERROR(VLOOKUP(A7751,Insumos!A:B,2,FALSE),\"\")","v":""}]
[null,null,{"$f":"IFERROR(VLOOKUP(A7752,Insumos!A:B,2,FALSE),\"\")","v":""}]
[null,null,{"$f":"IFERROR(VLOOKUP(A7753,Insumos!A:B,2,FALSE),\"\")","v":""}]
[null,null,{"$f":"IFERROR(VLOOKUP(A7754,Insumos!A:B,2,FALSE),\"\")","v":""}]
[null,null,{"$f":"IFERROR(VLOOKUP(A7755,Insumos!A:B,2,FALSE),\"\")","v":""}]
[null,null,{"$f":"IFERROR(VLOOKUP(A7756,Insumos!A:B,2,FALSE),\"\")","v":""}]
[null,null,{"$f":"IFERROR(VLOOKUP(A7757,Insumos!A:B,2,FALSE),\"\")","v":""}]
[null,null,{"$f":"IFERROR(VLOOKUP(A7758,Insumos!A:B,2,FALSE),\"\")","v":""}]
[null,null,{"$f":"IFERROR(VLOOKUP(A7759,Insumos!A:B,2,FALSE),\"\")","v":""}]
[null,null,{"$f":"IFERROR(VLOOKUP(A7760,Insumos!A:B,2,FALSE),\"\")","v":""}]
[null,null,{"$f":"IFERROR(VLOOKUP(A7761,Insumos!A:B,2,FALSE),\"\")","v":""}]
[null,null,{"$f":"IFERROR(VLOOKUP(A7762,Insumos!A:B,2,FALSE),\"\")","v":""}]
[null,null,{"$f":"IFERROR(VLOOKUP(A7763,Insumos!A:B,2,FALSE),\"\")","v":""}]
[null,null,{"$f":"IFERROR(VLOOKUP(A7764,Insumos!A:B,2,FALSE),\"\")","v":""}]
[null,null,{"$f":"IFERROR(VLOOKUP(A7765,Insumos!A:B,2,FALSE),\"\")","v":""}]
[null,null,{"$f":"IFERROR(VLOOKUP(A7766,Insumos!A:B,2,FALSE),\"\")","v":""}]
[null,null,{"$f":"IFERROR(VLOOKUP(A7767,Insumos!A:B,2,FALSE),\"\")","v":""}]
[null,null,{"$f":"IFERROR(VLOOKUP(A7768,Insumos!A:B,2,FALSE),\"\")","v":""}]
[null,null,{"$f":"IFERROR(VLOOKUP(A7769,Insumos!A:B,2,FALSE),\"\")","v":""}]
[null,null,{"$f":"IFERROR(VLOOKUP(A7770,Insumos!A:B,2,FALSE),\"\")","v":""}]
[null,null,{"$f":"IFERROR(VLOOKUP(A7771,Insumos!A:B,2,FALSE),\"\")","v":""}]
[null,null,{"$f":"IFERROR(VLOOKUP(A7772,Insumos!A:B,2,FALSE),\"\")","v":""}]
[null,null,{"$f":"IFERROR(VLOOKUP(A7773,Insumos!A:B,2,FALSE),\"\")","v":""}]
[null,null,{"$f":"IFERROR(VLOOKUP(A7774,Insumos!A:B,2,FALSE),\"\")","v":""}]
[null,null,{"$f":"IFERROR(VLOOKUP(A7775,Insumos!A:B,2,FALSE),\"\")","v":""}]
[null,null,{"$f":"IFERROR(VLOOKUP(A7776,Insumos!A:B,2,FALSE),\"\")","v":""}]
[null,null,{"$f":"IFERROR(VLOOKUP(A7777,Insumos!A:B,2,FALSE),\"\")","v":""}]
[null,null,{"$f":"IFERROR(VLOOKUP(A7778,Insumos!A:B,2,FALSE),\"\")","v":""}]
[null,null,{"$f":"IFERROR(VLOOKUP(A7779,Insumos!A:B,2,FALSE),\"\")","v":""}]
[null,null,{"$f":"IFERROR(VLOOKUP(A7780,Insumos!A:B,2,FALSE),\"\")","v":""}]
[null,null,{"$f":"IFERROR(VLOOKUP(A7781,Insumos!A:B,2,FALSE),\"\")","v":""}]
[null,null,{"$f":"IFERROR(VLOOKUP(A7782,Insumos!A:B,2,FALSE),\"\")","v":""}]
[null,null,{"$f":"IFERROR(VLOOKUP(A7783,Insumos!A:B,2,FALSE),\"\")","v":""}]
[null,null,{"$f":"IFERROR(VLOOKUP(A7784,Insumos!A:B,2,FALSE),\"\")","v":""}]
[null,null,{"$f":"IFERROR(VLOOKUP(A7785,Insumos!A:B,2,FALSE),\"\")","v":""}]
[null,null,{"$f":"IFERROR(VLOOKUP(A7786,Insumos!A:B,2,FALSE),\"\")","v":""}]
[null,null,{"$f":"IFERROR(VLOOKUP(A7787,Insumos!A:B,2,FALSE),\"\")","v":""}]
[null,null,{"$f":"IFERROR(VLOOKUP(A7788,Insumos!A:B,2,FALSE),\"\")","v":""}]
[null,null,{"$f":"IFERROR(VLOOKUP(A7789,Insumos!A:B,2,FALSE),\"\")","v":""}]
[null,null,{"$f":"IFERROR(VLOOKUP(A7790,Insumos!A:B,2,FALSE),\"\")","v":""}]
[null,null,{"$f":"IFERROR(VLOOKUP(A7791,Insumos!A:B,2,FALSE),\"\")","v":""}]
[null,null,{"$f":"IFERROR(VLOOKUP(A7792,Insumos!A:B,2,FALSE),\"\")","v":""}]
[null,null,{"$f":"IFERROR(VLOOKUP(A7793,Insumos!A:B,2,FALSE),\"\")","v":""}]
[null,null,{"$f":"IFERROR(VLOOKUP(A7794,Insumos!A:B,2,FALSE),\"\")","v":""}]
[null,null,{"$f":"IFERROR(VLOOKUP(A7795,Insumos!A:B,2,FALSE),\"\")","v":""}]
[null,null,{"$f":"IFERROR(VLOOKUP(A7796,Insumos!A:B,2,FALSE),\"\")","v":""}]
[null,null,{"$f":"IFERROR(VLOOKUP(A7797,Insumos!A:B,2,FALSE),\"\")","v":""}]
[null,null,{"$f":"IFERROR(VLOOKUP(A7798,Insumos!A:B,2,FALSE),\"\")","v":""}]
[null,null,{"$f":"IFERROR(VLOOKUP(A7799,Insumos!A:B,2,FALSE),\"\")","v":""}]
[null,null,{"$f":"IFERROR(VLOOKUP(A7800,Insumos!A:B,2,FALSE),\"\")","v":""}]
[null,null,{"$f":"IFERROR(VLOOKUP(A7801,Insumos!A:B,2,FALSE),\"\")","v":""}]
[null,null,{"$f":"IFERROR(VLOOKUP(A7802,Insumos!A:B,2,FALSE),\"\")","v":""}]
[null,null,{"$f":"IFERROR(VLOOKUP(A7803,Insumos!A:B,2,FALSE),\"\")","v":""}]
[null,null,{"$f":"IFERROR(VLOOKUP(A7804,Insumos!A:B,2,FALSE),\"\")","v":""}]
[null,null,{"$f":"IFERROR(VLOOKUP(A7805,Insumos!A:B,2,FALSE),\"\")","v":""}]
[null,null,{"$f":"IFERROR(VLOOKUP(A7806,Insumos!A:B,2,FALSE),\"\")","v":""}]
[null,null,{"$f":"IFERROR(VLOOKUP(A7807,Insumos!A:B,2,FALSE),\"\")","v":""}]
[null,null,{"$f":"IFERROR(VLOOKUP(A7808,Insumos!A:B,2,FALSE),\"\")","v":""}]
[null,null,{"$f":"IFERROR(VLOOKUP(A7809,Insumos!A:B,2,FALSE),\"\")","v":""}]
[null,null,{"$f":"IFERROR(VLOOKUP(A7810,Insumos!A:B,2,FALSE),\"\")","v":""}]
[null,null,{"$f":"IFERROR(VLOOKUP(A7811,Insumos!A:B,2,FALSE),\"\")","v":""}]
[null,null,{"$f":"IFERROR(VLOOKUP(A7812,Insumos!A:B,2,FALSE),\"\")","v":""}]
[null,null,{"$f":"IFERROR(VLOOKUP(A7813,Insumos!A:B,2,FALSE),\"\")","v":""}]
[null,null,{"$f":"IFERROR(VLOOKUP(A7814,Insumos!A:B,2,FALSE),\"\")","v":""}]
[null,null,{"$f":"IFERROR(VLOOKUP(A7815,Insumos!A:B,2,FALSE),\"\")","v":""}]
[null,null,{"$f":"IFERROR(VLOOKUP(A7816,Insumos!A:B,2,FALSE),\"\")","v":""}]
[null,null,{"$f":"IFERROR(VLOOKUP(A7817,Insumos!A:B,2,FALSE),\"\")","v":""}]
[null,null,{"$f":"IFERROR(VLOOKUP(A7818,Insumos!A:B,2,FALSE),\"\")","v":""}]
[null,null,{"$f":"IFERROR(VLOOKUP(A7819,Insumos!A:B,2,FALSE),\"\")","v":""}]
[null,null,{"$f":"IFERROR(VLOOKUP(A7820,Insumos!A:B,2,FALSE),\"\")","v":""}]
[null,null,{"$f":"IFERROR(VLOOKUP(A7821,Insumos!A:B,2,FALSE),\"\")","v":""}]
[null,null,{"$f":"IFERROR(VLOOKUP(A7822,Insumos!A:B,2,FALSE),\"\")","v":""}]
[null,null,{"$f":"IFERROR(VLOOKUP(A7823,Insumos!A:B,2,FALSE),\"\")","v":""}]
[null,null,{"$f":"IFERROR(VLOOKUP(A7824,Insumos!A:B,2,FALSE),\"\")","v":""}]
[null,null,{"$f":"IFERROR(VLOOKUP(A7825,Insumos!A:B,2,FALSE),\"\")","v":""}]
[null,null,{"$f":"IFERROR(VLOOKUP(A7826,Insumos!A:B,2,FALSE),\"\")","v":""}]
[null,null,{"$f":"IFERROR(VLOOKUP(A7827,Insumos!A:B,2,FALSE),\"\")","v":""}]
[null,null,{"$f":"IFERROR(VLOOKUP(A7828,Insumos!A:B,2,FALSE),\"\")","v":""}]
[null,null,{"$f":"IFERROR(VLOOKUP(A7829,Insumos!A:B,2,FALSE),\"\")","v":""}]
[null,null,{"$f":"IFERROR(VLOOKUP(A7830,Insumos!A:B,2,FALSE),\"\")","v":""}]
[null,null,{"$f":"IFERROR(VLOOKUP(A7831,Insumos!A:B,2,FALSE),\"\")","v":""}]
[null,null,{"$f":"IFERROR(VLOOKUP(A7832,Insumos!A:B,2,FALSE),\"\")","v":""}]
[null,null,{"$f":"IFERROR(VLOOKUP(A7833,Insumos!A:B,2,FALSE),\"\")","v":""}]
[null,null,{"$f":"IFERROR(VLOOKUP(A7834,Insumos!A:B,2,FALSE),\"\")","v":""}]
[null,null,{"$f":"IFERROR(VLOOKUP(A7835,Insumos!A:B,2,FALSE),\"\")","v":""}]
[null,null,{"$f":"IFERROR(VLOOKUP(A7836,Insumos!A:B,2,FALSE),\"\")","v":""}]
[null,null,{"$f":"IFERROR(VLOOKUP(A7837,Insumos!A:B,2,FALSE),\"\")","v":""}]
[null,null,{"$f":"IFERROR(VLOOKUP(A7838,Insumos!A:B,2,FALSE),\"\")","v":""}]
[null,null,{"$f":"IFERROR(VLOOKUP(A7839,Insumos!A:B,2,FALSE),\"\")","v":""}]
[null,null,{"$f":"IFERROR(VLOOKUP(A7840,Insumos!A:B,2,FALSE),\"\")","v":""}]
[null,null,{"$f":"IFERROR(VLOOKUP(A7841,Insumos!A:B,2,FALSE),\"\")","v":""}]
[null,null,{"$f":"IFERROR(VLOOKUP(A7842,Insumos!A:B,2,FALSE),\"\")","v":""}]
[null,null,{"$f":"IFERROR(VLOOKUP(A7843,Insumos!A:B,2,FALSE),\"\")","v":""}]
[null,null,{"$f":"IFERROR(VLOOKUP(A7844,Insumos!A:B,2,FALSE),\"\")","v":""}]
[null,null,{"$f":"IFERROR(VLOOKUP(A7845,Insumos!A:B,2,FALSE),\"\")","v":""}]
[null,null,{"$f":"IFERROR(VLOOKUP(A7846,Insumos!A:B,2,FALSE),\"\")","v":""}]
[null,null,{"$f":"IFERROR(VLOOKUP(A7847,Insumos!A:B,2,FALSE),\"\")","v":""}]
[null,null,{"$f":"IFERROR(VLOOKUP(A7848,Insumos!A:B,2,FALSE),\"\")","v":""}]
[null,null,{"$f":"IFERROR(VLOOKUP(A7849,Insumos!A:B,2,FALSE),\"\")","v":""}]
[null,null,{"$f":"IFERROR(VLOOKUP(A7850,Insumos!A:B,2,FALSE),\"\")","v":""}]
[null,null,{"$f":"IFERROR(VLOOKUP(A7851,Insumos!A:B,2,FALSE),\"\")","v":""}]
[null,null,{"$f":"IFERROR(VLOOKUP(A7852,Insumos!A:B,2,FALSE),\"\")","v":""}]
[null,null,{"$f":"IFERROR(VLOOKUP(A7853,Insumos!A:B,2,FALSE),\"\")","v":""}]
[null,null,{"$f":"IFERROR(VLOOKUP(A7854,Insumos!A:B,2,FALSE),\"\")","v":""}]
[null,null,{"$f":"IFERROR(VLOOKUP(A7855,Insumos!A:B,2,FALSE),\"\")","v":""}]
[null,null,{"$f":"IFERROR(VLOOKUP(A7856,Insumos!A:B,2,FALSE),\"\")","v":""}]
[null,null,{"$f":"IFERROR(VLOOKUP(A7857,Insumos!A:B,2,FALSE),\"\")","v":""}]
[null,null,{"$f":"IFERROR(VLOOKUP(A7858,Insumos!A:B,2,FALSE),\"\")","v":""}]
[null,null,{"$f":"IFERROR(VLOOKUP(A7859,Insumos!A:B,2,FALSE),\"\")","v":""}]
[null,null,{"$f":"IFERROR(VLOOKUP(A7860,Insumos!A:B,2,FALSE),\"\")","v":""}]
[null,null,{"$f":"IFERROR(VLOOKUP(A7861,Insumos!A:B,2,FALSE),\"\")","v":""}]
[null,null,{"$f":"IFERROR(VLOOKUP(A7862,Insumos!A:B,2,FALSE),\"\")","v":""}]
[null,null,{"$f":"IFERROR(VLOOKUP(A7863,Insumos!A:B,2,FALSE),\"\")","v":""}]
[null,null,{"$f":"IFERROR(VLOOKUP(A7864,Insumos!A:B,2,FALSE),\"\")","v":""}]
[null,null,{"$f":"IFERROR(VLOOKUP(A7865,Insumos!A:B,2,FALSE),\"\")","v":""}]
[null,null,{"$f":"IFERROR(VLOOKUP(A7866,Insumos!A:B,2,FALSE),\"\")","v":""}]
[null,null,{"$f":"IFERROR(VLOOKUP(A7867,Insumos!A:B,2,FALSE),\"\")","v":""}]
[null,null,{"$f":"IFERROR(VLOOKUP(A7868,Insumos!A:B,2,FALSE),\"\")","v":""}]
[null,null,{"$f":"IFERROR(VLOOKUP(A7869,Insumos!A:B,2,FALSE),\"\")","v":""}]
[null,null,{"$f":"IFERROR(VLOOKUP(A7870,Insumos!A:B,2,FALSE),\"\")","v":""}]
[null,null,{"$f":"IFERROR(VLOOKUP(A7871,Insumos!A:B,2,FALSE),\"\")","v":""}]
[null,null,{"$f":"IFERROR(VLOOKUP(A7872,Insumos!A:B,2,FALSE),\"\")","v":""}]
[null,null,{"$f":"IFERROR(VLOOKUP(A7873,Insumos!A:B,2,FALSE),\"\")","v":""}]
[null,null,{"$f":"IFERROR(VLOOKUP(A7874,Insumos!A:B,2,FALSE),\"\")","v":""}]
[null,null,{"$f":"IFERROR(VLOOKUP(A7875,Insumos!A:B,2,FALSE),\"\")","v":""}]
[null,null,{"$f":"IFERROR(VLOOKUP(A7876,Insumos!A:B,2,FALSE),\"\")","v":""}]
[null,null,{"$f":"IFERROR(VLOOKUP(A7877,Insumos!A:B,2,FALSE),\"\")","v":""}]
[null,null,{"$f":"IFERROR(VLOOKUP(A7878,Insumos!A:B,2,FALSE),\"\")","v":""}]
[null,null,{"$f":"IFERROR(VLOOKUP(A7879,Insumos!A:B,2,FALSE),\"\")","v":""}]
[null,null,{"$f":"IFERROR(VLOOKUP(A7880,Insumos!A:B,2,FALSE),\"\")","v":""}]
[null,null,{"$f":"IFERROR(VLOOKUP(A7881,Insumos!A:B,2,FALSE),\"\")","v":""}]
[null,null,{"$f":"IFERROR(VLOOKUP(A7882,Insumos!A:B,2,FALSE),\"\")","v":""}]
[null,null,{"$f":"IFERROR(VLOOKUP(A7883,Insumos!A:B,2,FALSE),\"\")","v":""}]
[null,null,{"$f":"IFERROR(VLOOKUP(A7884,Insumos!A:B,2,FALSE),\"\")","v":""}]
[null,null,{"$f":"IFERROR(VLOOKUP(A7885,Insumos!A:B,2,FALSE),\"\")","v":""}]
[null,null,{"$f":"IFERROR(VLOOKUP(A7886,Insumos!A:B,2,FALSE),\"\")","v":""}]
[null,null,{"$f":"IFERROR(VLOOKUP(A7887,Insumos!A:B,2,FALSE),\"\")","v":""}]
[null,null,{"$f":"IFERROR(VLOOKUP(A7888,Insumos!A:B,2,FALSE),\"\")","v":""}]
[null,null,{"$f":"IFERROR(VLOOKUP(A7889,Insumos!A:B,2,FALSE),\"\")","v":""}]
[null,null,{"$f":"IFERROR(VLOOKUP(A7890,Insumos!A:B,2,FALSE),\"\")","v":""}]
[null,null,{"$f":"IFERROR(VLOOKUP(A7891,Insumos!A:B,2,FALSE),\"\")","v":""}]
[null,null,{"$f":"IFERROR(VLOOKUP(A7892,Insumos!A:B,2,FALSE),\"\")","v":""}]
[null,null,{"$f":"IFERROR(VLOOKUP(A7893,Insumos!A:B,2,FALSE),\"\")","v":""}]
[null,null,{"$f":"IFERROR(VLOOKUP(A7894,Insumos!A:B,2,FALSE),\"\")","v":""}]
[null,null,{"$f":"IFERROR(VLOOKUP(A7895,Insumos!A:B,2,FALSE),\"\")","v":""}]
[null,null,{"$f":"IFERROR(VLOOKUP(A7896,Insumos!A:B,2,FALSE),\"\")","v":""}]
[null,null,{"$f":"IFERROR(VLOOKUP(A7897,Insumos!A:B,2,FALSE),\"\")","v":""}]
[null,null,{"$f":"IFERROR(VLOOKUP(A7898,Insumos!A:B,2,FALSE),\"\")","v":""}]
[null,null,{"$f":"IFERROR(VLOOKUP(A7899,Insumos!A:B,2,FALSE),\"\")","v":""}]
[null,null,{"$f":"IFERROR(VLOOKUP(A7900,Insumos!A:B,2,FALSE),\"\")","v":""}]
[null,null,{"$f":"IFERROR(VLOOKUP(A7901,Insumos!A:B,2,FALSE),\"\")","v":""}]
[null,null,{"$f":"IFERROR(VLOOKUP(A7902,Insumos!A:B,2,FALSE),\"\")","v":""}]
[null,null,{"$f":"IFERROR(VLOOKUP(A7903,Insumos!A:B,2,FALSE),\"\")","v":""}]
[null,null,{"$f":"IFERROR(VLOOKUP(A7904,Insumos!A:B,2,FALSE),\"\")","v":""}]
[null,null,{"$f":"IFERROR(VLOOKUP(A7905,Insumos!A:B,2,FALSE),\"\")","v":""}]
[null,null,{"$f":"IFERROR(VLOOKUP(A7906,Insumos!A:B,2,FALSE),\"\")","v":""}]
[null,null,{"$f":"IFERROR(VLOOKUP(A7907,Insumos!A:B,2,FALSE),\"\")","v":""}]
[null,null,{"$f":"IFERROR(VLOOKUP(A7908,Insumos!A:B,2,FALSE),\"\")","v":""}]
[null,null,{"$f":"IFERROR(VLOOKUP(A7909,Insumos!A:B,2,FALSE),\"\")","v":""}]
[null,null,{"$f":"IFERROR(VLOOKUP(A7910,Insumos!A:B,2,FALSE),\"\")","v":""}]
[null,null,{"$f":"IFERROR(VLOOKUP(A7911,Insumos!A:B,2,FALSE),\"\")","v":""}]
[null,null,{"$f":"IFERROR(VLOOKUP(A7912,Insumos!A:B,2,FALSE),\"\")","v":""}]
[null,null,{"$f":"IFERROR(VLOOKUP(A7913,Insumos!A:B,2,FALSE),\"\")","v":""}]
[null,null,{"$f":"IFERROR(VLOOKUP(A7914,Insumos!A:B,2,FALSE),\"\")","v":""}]
[null,null,{"$f":"IFERROR(VLOOKUP(A7915,Insumos!A:B,2,FALSE),\"\")","v":""}]
[null,null,{"$f":"IFERROR(VLOOKUP(A7916,Insumos!A:B,2,FALSE),\"\")","v":""}]
[null,null,{"$f":"IFERROR(VLOOKUP(A7917,Insumos!A:B,2,FALSE),\"\")","v":""}]
[null,null,{"$f":"IFERROR(VLOOKUP(A7918,Insumos!A:B,2,FALSE),\"\")","v":""}]
[null,null,{"$f":"IFERROR(VLOOKUP(A7919,Insumos!A:B,2,FALSE),\"\")","v":""}]
[null,null,{"$f":"IFERROR(VLOOKUP(A7920,Insumos!A:B,2,FALSE),\"\")","v":""}]
[null,null,{"$f":"IFERROR(VLOOKUP(A7921,Insumos!A:B,2,FALSE),\"\")","v":""}]
[null,null,{"$f":"IFERROR(VLOOKUP(A7922,Insumos!A:B,2,FALSE),\"\")","v":""}]
[null,null,{"$f":"IFERROR(VLOOKUP(A7923,Insumos!A:B,2,FALSE),\"\")","v":""}]
[null,null,{"$f":"IFERROR(VLOOKUP(A7924,Insumos!A:B,2,FALSE),\"\")","v":""}]
[null,null,{"$f":"IFERROR(VLOOKUP(A7925,Insumos!A:B,2,FALSE),\"\")","v":""}]
[null,null,{"$f":"IFERROR(VLOOKUP(A7926,Insumos!A:B,2,FALSE),\"\")","v":""}]
[null,null,{"$f":"IFERROR(VLOOKUP(A7927,Insumos!A:B,2,FALSE),\"\")","v":""}]
[null,null,{"$f":"IFERROR(VLOOKUP(A7928,Insumos!A:B,2,FALSE),\"\")","v":""}]
[null,null,{"$f":"IFERROR(VLOOKUP(A7929,Insumos!A:B,2,FALSE),\"\")","v":""}]
[null,null,{"$f":"IFERROR(VLOOKUP(A7930,Insumos!A:B,2,FALSE),\"\")","v":""}]
[null,null,{"$f":"IFERROR(VLOOKUP(A7931,Insumos!A:B,2,FALSE),\"\")","v":""}]
[null,null,{"$f":"IFERROR(VLOOKUP(A7932,Insumos!A:B,2,FALSE),\"\")","v":""}]
[null,null,{"$f":"IFERROR(VLOOKUP(A7933,Insumos!A:B,2,FALSE),\"\")","v":""}]
[null,null,{"$f":"IFERROR(VLOOKUP(A7934,Insumos!A:B,2,FALSE),\"\")","v":""}]
[null,null,{"$f":"IFERROR(VLOOKUP(A7935,Insumos!A:B,2,FALSE),\"\")","v":""}]
[null,null,{"$f":"IFERROR(VLOOKUP(A7936,Insumos!A:B,2,FALSE),\"\")","v":""}]
[null,null,{"$f":"IFERROR(VLOOKUP(A7937,Insumos!A:B,2,FALSE),\"\")","v":""}]
[null,null,{"$f":"IFERROR(VLOOKUP(A7938,Insumos!A:B,2,FALSE),\"\")","v":""}]
[null,null,{"$f":"IFERROR(VLOOKUP(A7939,Insumos!A:B,2,FALSE),\"\")","v":""}]
[null,null,{"$f":"IFERROR(VLOOKUP(A7940,Insumos!A:B,2,FALSE),\"\")","v":""}]
[null,null,{"$f":"IFERROR(VLOOKUP(A7941,Insumos!A:B,2,FALSE),\"\")","v":""}]
[null,null,{"$f":"IFERROR(VLOOKUP(A7942,Insumos!A:B,2,FALSE),\"\")","v":""}]
[null,null,{"$f":"IFERROR(VLOOKUP(A7943,Insumos!A:B,2,FALSE),\"\")","v":""}]
[null,null,{"$f":"IFERROR(VLOOKUP(A7944,Insumos!A:B,2,FALSE),\"\")","v":""}]
[null,null,{"$f":"IFERROR(VLOOKUP(A7945,Insumos!A:B,2,FALSE),\"\")","v":""}]
[null,null,{"$f":"IFERROR(VLOOKUP(A7946,Insumos!A:B,2,FALSE),\"\")","v":""}]
[null,null,{"$f":"IFERROR(VLOOKUP(A7947,Insumos!A:B,2,FALSE),\"\")","v":""}]
[null,null,{"$f":"IFERROR(VLOOKUP(A7948,Insumos!A:B,2,FALSE),\"\")","v":""}]
[null,null,{"$f":"IFERROR(VLOOKUP(A7949,Insumos!A:B,2,FALSE),\"\")","v":""}]
[null,null,{"$f":"IFERROR(VLOOKUP(A7950,Insumos!A:B,2,FALSE),\"\")","v":""}]
[null,null,{"$f":"IFERROR(VLOOKUP(A7951,Insumos!A:B,2,FALSE),\"\")","v":""}]
[null,null,{"$f":"IFERROR(VLOOKUP(A7952,Insumos!A:B,2,FALSE),\"\")","v":""}]
[null,null,{"$f":"IFERROR(VLOOKUP(A7953,Insumos!A:B,2,FALSE),\"\")","v":""}]
[null,null,{"$f":"IFERROR(VLOOKUP(A7954,Insumos!A:B,2,FALSE),\"\")","v":""}]
[null,null,{"$f":"IFERROR(VLOOKUP(A7955,Insumos!A:B,2,FALSE),\"\")","v":""}]
[null,null,{"$f":"IFERROR(VLOOKUP(A7956,Insumos!A:B,2,FALSE),\"\")","v":""}]
[null,null,{"$f":"IFERROR(VLOOKUP(A7957,Insumos!A:B,2,FALSE),\"\")","v":""}]
[null,null,{"$f":"IFERROR(VLOOKUP(A7958,Insumos!A:B,2,FALSE),\"\")","v":""}]
[null,null,{"$f":"IFERROR(VLOOKUP(A7959,Insumos!A:B,2,FALSE),\"\")","v":""}]
[null,null,{"$f":"IFERROR(VLOOKUP(A7960,Insumos!A:B,2,FALSE),\"\")","v":""}]
[null,null,{"$f":"IFERROR(VLOOKUP(A7961,Insumos!A:B,2,FALSE),\"\")","v":""}]
[null,null,{"$f":"IFERROR(VLOOKUP(A7962,Insumos!A:B,2,FALSE),\"\")","v":""}]
[null,null,{"$f":"IFERROR(VLOOKUP(A7963,Insumos!A:B,2,FALSE),\"\")","v":""}]
[null,null,{"$f":"IFERROR(VLOOKUP(A7964,Insumos!A:B,2,FALSE),\"\")","v":""}]
[null,null,{"$f":"IFERROR(VLOOKUP(A7965,Insumos!A:B,2,FALSE),\"\")","v":""}]
[null,null,{"$f":"IFERROR(VLOOKUP(A7966,Insumos!A:B,2,FALSE),\"\")","v":""}]
[null,null,{"$f":"IFERROR(VLOOKUP(A7967,Insumos!A:B,2,FALSE),\"\")","v":""}]
[null,null,{"$f":"IFERROR(VLOOKUP(A7968,Insumos!A:B,2,FALSE),\"\")","v":""}]
[null,null,{"$f":"IFERROR(VLOOKUP(A7969,Insumos!A:B,2,FALSE),\"\")","v":""}]
[null,null,{"$f":"IFERROR(VLOOKUP(A7970,Insumos!A:B,2,FALSE),\"\")","v":""}]
[null,null,{"$f":"IFERROR(VLOOKUP(A7971,Insumos!A:B,2,FALSE),\"\")","v":""}]
[null,null,{"$f":"IFERROR(VLOOKUP(A7972,Insumos!A:B,2,FALSE),\"\")","v":""}]
[null,null,{"$f":"IFERROR(VLOOKUP(A7973,Insumos!A:B,2,FALSE),\"\")","v":""}]
[null,null,{"$f":"IFERROR(VLOOKUP(A7974,Insumos!A:B,2,FALSE),\"\")","v":""}]
[null,null,{"$f":"IFERROR(VLOOKUP(A7975,Insumos!A:B,2,FALSE),\"\")","v":""}]
[null,null,{"$f":"IFERROR(VLOOKUP(A7976,Insumos!A:B,2,FALSE),\"\")","v":""}]
[null,null,{"$f":"IFERROR(VLOOKUP(A7977,Insumos!A:B,2,FALSE),\"\")","v":""}]
[null,null,{"$f":"IFERROR(VLOOKUP(A7978,Insumos!A:B,2,FALSE),\"\")","v":""}]
[null,null,{"$f":"IFERROR(VLOOKUP(A7979,Insumos!A:B,2,FALSE),\"\")","v":""}]
[null,null,{"$f":"IFERROR(VLOOKUP(A7980,Insumos!A:B,2,FALSE),\"\")","v":""}]
[null,null,{"$f":"IFERROR(VLOOKUP(A7981,Insumos!A:B,2,FALSE),\"\")","v":""}]
[null,null,{"$f":"IFERROR(VLOOKUP(A7982,Insumos!A:B,2,FALSE),\"\")","v":""}]
[null,null,{"$f":"IFERROR(VLOOKUP(A7983,Insumos!A:B,2,FALSE),\"\")","v":""}]
[null,null,{"$f":"IFERROR(VLOOKUP(A7984,Insumos!A:B,2,FALSE),\"\")","v":""}]
[null,null,{"$f":"IFERROR(VLOOKUP(A7985,Insumos!A:B,2,FALSE),\"\")","v":""}]
[null,null,{"$f":"IFERROR(VLOOKUP(A7986,Insumos!A:B,2,FALSE),\"\")","v":""}]
[null,null,{"$f":"IFERROR(VLOOKUP(A7987,Insumos!A:B,2,FALSE),\"\")","v":""}]
[null,null,{"$f":"IFERROR(VLOOKUP(A7988,Insumos!A:B,2,FALSE),\"\")","v":""}]
[null,null,{"$f":"IFERROR(VLOOKUP(A7989,Insumos!A:B,2,FALSE),\"\")","v":""}]
[null,null,{"$f":"IFERROR(VLOOKUP(A7990,Insumos!A:B,2,FALSE),\"\")","v":""}]
[null,null,{"$f":"IFERROR(VLOOKUP(A7991,Insumos!A:B,2,FALSE),\"\")","v":""}]
[null,null,{"$f":"IFERROR(VLOOKUP(A7992,Insumos!A:B,2,FALSE),\"\")","v":""}]
[null,null,{"$f":"IFERROR(VLOOKUP(A7993,Insumos!A:B,2,FALSE),\"\")","v":""}]
[null,null,{"$f":"IFERROR(VLOOKUP(A7994,Insumos!A:B,2,FALSE),\"\")","v":""}]
[null,null,{"$f":"IFERROR(VLOOKUP(A7995,Insumos!A:B,2,FALSE),\"\")","v":""}]
[null,null,{"$f":"IFERROR(VLOOKUP(A7996,Insumos!A:B,2,FALSE),\"\")","v":""}]
[null,null,{"$f":"IFERROR(VLOOKUP(A7997,Insumos!A:B,2,FALSE),\"\")","v":""}]
[null,null,{"$f":"IFERROR(VLOOKUP(A7998,Insumos!A:B,2,FALSE),\"\")","v":""}]
[null,null,{"$f":"IFERROR(VLOOKUP(A7999,Insumos!A:B,2,FALSE),\"\")","v":""}]
[null,null,{"$f":"IFERROR(VLOOKUP(A8000,Insumos!A:B,2,FALSE),\"\")","v":""}]
[null,null,{"$f":"IFERROR(VLOOKUP(A8001,Insumos!A:B,2,FALSE),\"\")","v":""}]
[null,null,{"$f":"IFERROR(VLOOKUP(A8002,Insumos!A:B,2,FALSE),\"\")","v":""}]
[null,null,{"$f":"IFERROR(VLOOKUP(A8003,Insumos!A:B,2,FALSE),\"\")","v":""}]
[null,null,{"$f":"IFERROR(VLOOKUP(A8004,Insumos!A:B,2,FALSE),\"\")","v":""}]
[null,null,{"$f":"IFERROR(VLOOKUP(A8005,Insumos!A:B,2,FALSE),\"\")","v":""}]
[null,null,{"$f":"IFERROR(VLOOKUP(A8006,Insumos!A:B,2,FALSE),\"\")","v":""}]
[null,null,{"$f":"IFERROR(VLOOKUP(A8007,Insumos!A:B,2,FALSE),\"\")","v":""}]
[null,null,{"$f":"IFERROR(VLOOKUP(A8008,Insumos!A:B,2,FALSE),\"\")","v":""}]
[null,null,{"$f":"IFERROR(VLOOKUP(A8009,Insumos!A:B,2,FALSE),\"\")","v":""}]
[null,null,{"$f":"IFERROR(VLOOKUP(A8010,Insumos!A:B,2,FALSE),\"\")","v":""}]
[null,null,{"$f":"IFERROR(VLOOKUP(A8011,Insumos!A:B,2,FALSE),\"\")","v":""}]
[null,null,{"$f":"IFERROR(VLOOKUP(A8012,Insumos!A:B,2,FALSE),\"\")","v":""}]
[null,null,{"$f":"IFERROR(VLOOKUP(A8013,Insumos!A:B,2,FALSE),\"\")","v":""}]
[null,null,{"$f":"IFERROR(VLOOKUP(A8014,Insumos!A:B,2,FALSE),\"\")","v":""}]
[null,null,{"$f":"IFERROR(VLOOKUP(A8015,Insumos!A:B,2,FALSE),\"\")","v":""}]
[null,null,{"$f":"IFERROR(VLOOKUP(A8016,Insumos!A:B,2,FALSE),\"\")","v":""}]
[null,null,{"$f":"IFERROR(VLOOKUP(A8017,Insumos!A:B,2,FALSE),\"\")","v":""}]
[null,null,{"$f":"IFERROR(VLOOKUP(A8018,Insumos!A:B,2,FALSE),\"\")","v":""}]
[null,null,{"$f":"IFERROR(VLOOKUP(A8019,Insumos!A:B,2,FALSE),\"\")","v":""}]
[null,null,{"$f":"IFERROR(VLOOKUP(A8020,Insumos!A:B,2,FALSE),\"\")","v":""}]
[null,null,{"$f":"IFERROR(VLOOKUP(A8021,Insumos!A:B,2,FALSE),\"\")","v":""}]
[null,null,{"$f":"IFERROR(VLOOKUP(A8022,Insumos!A:B,2,FALSE),\"\")","v":""}]
[null,null,{"$f":"IFERROR(VLOOKUP(A8023,Insumos!A:B,2,FALSE),\"\")","v":""}]
[null,null,{"$f":"IFERROR(VLOOKUP(A8024,Insumos!A:B,2,FALSE),\"\")","v":""}]
[null,null,{"$f":"IFERROR(VLOOKUP(A8025,Insumos!A:B,2,FALSE),\"\")","v":""}]
[null,null,{"$f":"IFERROR(VLOOKUP(A8026,Insumos!A:B,2,FALSE),\"\")","v":""}]
[null,null,{"$f":"IFERROR(VLOOKUP(A8027,Insumos!A:B,2,FALSE),\"\")","v":""}]
[null,null,{"$f":"IFERROR(VLOOKUP(A8028,Insumos!A:B,2,FALSE),\"\")","v":""}]
[null,null,{"$f":"IFERROR(VLOOKUP(A8029,Insumos!A:B,2,FALSE),\"\")","v":""}]
[null,null,{"$f":"IFERROR(VLOOKUP(A8030,Insumos!A:B,2,FALSE),\"\")","v":""}]
[null,null,{"$f":"IFERROR(VLOOKUP(A8031,Insumos!A:B,2,FALSE),\"\")","v":""}]
[null,null,{"$f":"IFERROR(VLOOKUP(A8032,Insumos!A:B,2,FALSE),\"\")","v":""}]
[null,null,{"$f":"IFERROR(VLOOKUP(A8033,Insumos!A:B,2,FALSE),\"\")","v":""}]
[null,null,{"$f":"IFERROR(VLOOKUP(A8034,Insumos!A:B,2,FALSE),\"\")","v":""}]
[null,null,{"$f":"IFERROR(VLOOKUP(A8035,Insumos!A:B,2,FALSE),\"\")","v":""}]
[null,null,{"$f":"IFERROR(VLOOKUP(A8036,Insumos!A:B,2,FALSE),\"\")","v":""}]
[null,null,{"$f":"IFERROR(VLOOKUP(A8037,Insumos!A:B,2,FALSE),\"\")","v":""}]
[null,null,{"$f":"IFERROR(VLOOKUP(A8038,Insumos!A:B,2,FALSE),\"\")","v":""}]
[null,null,{"$f":"IFERROR(VLOOKUP(A8039,Insumos!A:B,2,FALSE),\"\")","v":""}]
[null,null,{"$f":"IFERROR(VLOOKUP(A8040,Insumos!A:B,2,FALSE),\"\")","v":""}]
[null,null,{"$f":"IFERROR(VLOOKUP(A8041,Insumos!A:B,2,FALSE),\"\")","v":""}]
[null,null,{"$f":"IFERROR(VLOOKUP(A8042,Insumos!A:B,2,FALSE),\"\")","v":""}]
[null,null,{"$f":"IFERROR(VLOOKUP(A8043,Insumos!A:B,2,FALSE),\"\")","v":""}]
[null,null,{"$f":"IFERROR(VLOOKUP(A8044,Insumos!A:B,2,FALSE),\"\")","v":""}]
[null,null,{"$f":"IFERROR(VLOOKUP(A8045,Insumos!A:B,2,FALSE),\"\")","v":""}]
[null,null,{"$f":"IFERROR(VLOOKUP(A8046,Insumos!A:B,2,FALSE),\"\")","v":""}]
[null,null,{"$f":"IFERROR(VLOOKUP(A8047,Insumos!A:B,2,FALSE),\"\")","v":""}]
[null,null,{"$f":"IFERROR(VLOOKUP(A8048,Insumos!A:B,2,FALSE),\"\")","v":""}]
[null,null,{"$f":"IFERROR(VLOOKUP(A8049,Insumos!A:B,2,FALSE),\"\")","v":""}]
[null,null,{"$f":"IFERROR(VLOOKUP(A8050,Insumos!A:B,2,FALSE),\"\")","v":""}]
[null,null,{"$f":"IFERROR(VLOOKUP(A8051,Insumos!A:B,2,FALSE),\"\")","v":""}]
[null,null,{"$f":"IFERROR(VLOOKUP(A8052,Insumos!A:B,2,FALSE),\"\")","v":""}]
[null,null,{"$f":"IFERROR(VLOOKUP(A8053,Insumos!A:B,2,FALSE),\"\")","v":""}]
[null,null,{"$f":"IFERROR(VLOOKUP(A8054,Insumos!A:B,2,FALSE),\"\")","v":""}]
[null,null,{"$f":"IFERROR(VLOOKUP(A8055,Insumos!A:B,2,FALSE),\"\")","v":""}]
[null,null,{"$f":"IFERROR(VLOOKUP(A8056,Insumos!A:B,2,FALSE),\"\")","v":""}]
[null,null,{"$f":"IFERROR(VLOOKUP(A8057,Insumos!A:B,2,FALSE),\"\")","v":""}]
[null,null,{"$f":"IFERROR(VLOOKUP(A8058,Insumos!A:B,2,FALSE),\"\")","v":""}]
[null,null,{"$f":"IFERROR(VLOOKUP(A8059,Insumos!A:B,2,FALSE),\"\")","v":""}]
[null,null,{"$f":"IFERROR(VLOOKUP(A8060,Insumos!A:B,2,FALSE),\"\")","v":""}]
[null,null,{"$f":"IFERROR(VLOOKUP(A8061,Insumos!A:B,2,FALSE),\"\")","v":""}]
[null,null,{"$f":"IFERROR(VLOOKUP(A8062,Insumos!A:B,2,FALSE),\"\")","v":""}]
[null,null,{"$f":"IFERROR(VLOOKUP(A8063,Insumos!A:B,2,FALSE),\"\")","v":""}]
[null,null,{"$f":"IFERROR(VLOOKUP(A8064,Insumos!A:B,2,FALSE),\"\")","v":""}]
[null,null,{"$f":"IFERROR(VLOOKUP(A8065,Insumos!A:B,2,FALSE),\"\")","v":""}]
[null,null,{"$f":"IFERROR(VLOOKUP(A8066,Insumos!A:B,2,FALSE),\"\")","v":""}]
[null,null,{"$f":"IFERROR(VLOOKUP(A8067,Insumos!A:B,2,FALSE),\"\")","v":""}]
[null,null,{"$f":"IFERROR(VLOOKUP(A8068,Insumos!A:B,2,FALSE),\"\")","v":""}]
[null,null,{"$f":"IFERROR(VLOOKUP(A8069,Insumos!A:B,2,FALSE),\"\")","v":""}]
[null,null,{"$f":"IFERROR(VLOOKUP(A8070,Insumos!A:B,2,FALSE),\"\")","v":""}]
[null,null,{"$f":"IFERROR(VLOOKUP(A8071,Insumos!A:B,2,FALSE),\"\")","v":""}]
[null,null,{"$f":"IFERROR(VLOOKUP(A8072,Insumos!A:B,2,FALSE),\"\")","v":""}]
[null,null,{"$f":"IFERROR(VLOOKUP(A8073,Insumos!A:B,2,FALSE),\"\")","v":""}]
[null,null,{"$f":"IFERROR(VLOOKUP(A8074,Insumos!A:B,2,FALSE),\"\")","v":""}]
[null,null,{"$f":"IFERROR(VLOOKUP(A8075,Insumos!A:B,2,FALSE),\"\")","v":""}]
[null,null,{"$f":"IFERROR(VLOOKUP(A8076,Insumos!A:B,2,FALSE),\"\")","v":""}]
[null,null,{"$f":"IFERROR(VLOOKUP(A8077,Insumos!A:B,2,FALSE),\"\")","v":""}]
[null,null,{"$f":"IFERROR(VLOOKUP(A8078,Insumos!A:B,2,FALSE),\"\")","v":""}]
[null,null,{"$f":"IFERROR(VLOOKUP(A8079,Insumos!A:B,2,FALSE),\"\")","v":""}]
[null,null,{"$f":"IFERROR(VLOOKUP(A8080,Insumos!A:B,2,FALSE),\"\")","v":""}]
[null,null,{"$f":"IFERROR(VLOOKUP(A8081,Insumos!A:B,2,FALSE),\"\")","v":""}]
[null,null,{"$f":"IFERROR(VLOOKUP(A8082,Insumos!A:B,2,FALSE),\"\")","v":""}]
[null,null,{"$f":"IFERROR(VLOOKUP(A8083,Insumos!A:B,2,FALSE),\"\")","v":""}]
[null,null,{"$f":"IFERROR(VLOOKUP(A8084,Insumos!A:B,2,FALSE),\"\")","v":""}]
[null,null,{"$f":"IFERROR(VLOOKUP(A8085,Insumos!A:B,2,FALSE),\"\")","v":""}]
[null,null,{"$f":"IFERROR(VLOOKUP(A8086,Insumos!A:B,2,FALSE),\"\")","v":""}]
[null,null,{"$f":"IFERROR(VLOOKUP(A8087,Insumos!A:B,2,FALSE),\"\")","v":""}]
[null,null,{"$f":"IFERROR(VLOOKUP(A8088,Insumos!A:B,2,FALSE),\"\")","v":""}]
[null,null,{"$f":"IFERROR(VLOOKUP(A8089,Insumos!A:B,2,FALSE),\"\")","v":""}]
[null,null,{"$f":"IFERROR(VLOOKUP(A8090,Insumos!A:B,2,FALSE),\"\")","v":""}]
[null,null,{"$f":"IFERROR(VLOOKUP(A8091,Insumos!A:B,2,FALSE),\"\")","v":""}]
[null,null,{"$f":"IFERROR(VLOOKUP(A8092,Insumos!A:B,2,FALSE),\"\")","v":""}]
[null,null,{"$f":"IFERROR(VLOOKUP(A8093,Insumos!A:B,2,FALSE),\"\")","v":""}]
[null,null,{"$f":"IFERROR(VLOOKUP(A8094,Insumos!A:B,2,FALSE),\"\")","v":""}]
[null,null,{"$f":"IFERROR(VLOOKUP(A8095,Insumos!A:B,2,FALSE),\"\")","v":""}]
[null,null,{"$f":"IFERROR(VLOOKUP(A8096,Insumos!A:B,2,FALSE),\"\")","v":""}]
[null,null,{"$f":"IFERROR(VLOOKUP(A8097,Insumos!A:B,2,FALSE),\"\")","v":""}]
[null,null,{"$f":"IFERROR(VLOOKUP(A8098,Insumos!A:B,2,FALSE),\"\")","v":""}]
[null,null,{"$f":"IFERROR(VLOOKUP(A8099,Insumos!A:B,2,FALSE),\"\")","v":""}]
[null,null,{"$f":"IFERROR(VLOOKUP(A8100,Insumos!A:B,2,FALSE),\"\")","v":""}]
[null,null,{"$f":"IFERROR(VLOOKUP(A8101,Insumos!A:B,2,FALSE),\"\")","v":""}]
[null,null,{"$f":"IFERROR(VLOOKUP(A8102,Insumos!A:B,2,FALSE),\"\")","v":""}]
[null,null,{"$f":"IFERROR(VLOOKUP(A8103,Insumos!A:B,2,FALSE),\"\")","v":""}]
[null,null,{"$f":"IFERROR(VLOOKUP(A8104,Insumos!A:B,2,FALSE),\"\")","v":""}]
[null,null,{"$f":"IFERROR(VLOOKUP(A8105,Insumos!A:B,2,FALSE),\"\")","v":""}]
[null,null,{"$f":"IFERROR(VLOOKUP(A8106,Insumos!A:B,2,FALSE),\"\")","v":""}]
[null,null,{"$f":"IFERROR(VLOOKUP(A8107,Insumos!A:B,2,FALSE),\"\")","v":""}]
[null,null,{"$f":"IFERROR(VLOOKUP(A8108,Insumos!A:B,2,FALSE),\"\")","v":""}]
[null,null,{"$f":"IFERROR(VLOOKUP(A8109,Insumos!A:B,2,FALSE),\"\")","v":""}]
[null,null,{"$f":"IFERROR(VLOOKUP(A8110,Insumos!A:B,2,FALSE),\"\")","v":""}]
[null,null,{"$f":"IFERROR(VLOOKUP(A8111,Insumos!A:B,2,FALSE),\"\")","v":""}]
[null,null,{"$f":"IFERROR(VLOOKUP(A8112,Insumos!A:B,2,FALSE),\"\")","v":""}]
[null,null,{"$f":"IFERROR(VLOOKUP(A8113,Insumos!A:B,2,FALSE),\"\")","v":""}]
[null,null,{"$f":"IFERROR(VLOOKUP(A8114,Insumos!A:B,2,FALSE),\"\")","v":""}]
[null,null,{"$f":"IFERROR(VLOOKUP(A8115,Insumos!A:B,2,FALSE),\"\")","v":""}]
[null,null,{"$f":"IFERROR(VLOOKUP(A8116,Insumos!A:B,2,FALSE),\"\")","v":""}]
[null,null,{"$f":"IFERROR(VLOOKUP(A8117,Insumos!A:B,2,FALSE),\"\")","v":""}]
[null,null,{"$f":"IFERROR(VLOOKUP(A8118,Insumos!A:B,2,FALSE),\"\")","v":""}]
[null,null,{"$f":"IFERROR(VLOOKUP(A8119,Insumos!A:B,2,FALSE),\"\")","v":""}]
[null,null,{"$f":"IFERROR(VLOOKUP(A8120,Insumos!A:B,2,FALSE),\"\")","v":""}]
[null,null,{"$f":"IFERROR(VLOOKUP(A8121,Insumos!A:B,2,FALSE),\"\")","v":""}]
[null,null,{"$f":"IFERROR(VLOOKUP(A8122,Insumos!A:B,2,FALSE),\"\")","v":""}]
[null,null,{"$f":"IFERROR(VLOOKUP(A8123,Insumos!A:B,2,FALSE),\"\")","v":""}]
[null,null,{"$f":"IFERROR(VLOOKUP(A8124,Insumos!A:B,2,FALSE),\"\")","v":""}]
[null,null,{"$f":"IFERROR(VLOOKUP(A8125,Insumos!A:B,2,FALSE),\"\")","v":""}]
[null,null,{"$f":"IFERROR(VLOOKUP(A8126,Insumos!A:B,2,FALSE),\"\")","v":""}]
[null,null,{"$f":"IFERROR(VLOOKUP(A8127,Insumos!A:B,2,FALSE),\"\")","v":""}]
[null,null,{"$f":"IFERROR(VLOOKUP(A8128,Insumos!A:B,2,FALSE),\"\")","v":""}]
[null,null,{"$f":"IFERROR(VLOOKUP(A8129,Insumos!A:B,2,FALSE),\"\")","v":""}]
[null,null,{"$f":"IFERROR(VLOOKUP(A8130,Insumos!A:B,2,FALSE),\"\")","v":""}]
[null,null,{"$f":"IFERROR(VLOOKUP(A8131,Insumos!A:B,2,FALSE),\"\")","v":""}]
[null,null,{"$f":"IFERROR(VLOOKUP(A8132,Insumos!A:B,2,FALSE),\"\")","v":""}]
[null,null,{"$f":"IFERROR(VLOOKUP(A8133,Insumos!A:B,2,FALSE),\"\")","v":""}]
[null,null,{"$f":"IFERROR(VLOOKUP(A8134,Insumos!A:B,2,FALSE),\"\")","v":""}]
[null,null,{"$f":"IFERROR(VLOOKUP(A8135,Insumos!A:B,2,FALSE),\"\")","v":""}]
[null,null,{"$f":"IFERROR(VLOOKUP(A8136,Insumos!A:B,2,FALSE),\"\")","v":""}]
[null,null,{"$f":"IFERROR(VLOOKUP(A8137,Insumos!A:B,2,FALSE),\"\")","v":""}]
[null,null,{"$f":"IFERROR(VLOOKUP(A8138,Insumos!A:B,2,FALSE),\"\")","v":""}]
[null,null,{"$f":"IFERROR(VLOOKUP(A8139,Insumos!A:B,2,FALSE),\"\")","v":""}]
[null,null,{"$f":"IFERROR(VLOOKUP(A8140,Insumos!A:B,2,FALSE),\"\")","v":""}]
[null,null,{"$f":"IFERROR(VLOOKUP(A8141,Insumos!A:B,2,FALSE),\"\")","v":""}]
[null,null,{"$f":"IFERROR(VLOOKUP(A8142,Insumos!A:B,2,FALSE),\"\")","v":""}]
[null,null,{"$f":"IFERROR(VLOOKUP(A8143,Insumos!A:B,2,FALSE),\"\")","v":""}]
[null,null,{"$f":"IFERROR(VLOOKUP(A8144,Insumos!A:B,2,FALSE),\"\")","v":""}]
[null,null,{"$f":"IFERROR(VLOOKUP(A8145,Insumos!A:B,2,FALSE),\"\")","v":""}]
[null,null,{"$f":"IFERROR(VLOOKUP(A8146,Insumos!A:B,2,FALSE),\"\")","v":""}]
[null,null,{"$f":"IFERROR(VLOOKUP(A8147,Insumos!A:B,2,FALSE),\"\")","v":""}]
[null,null,{"$f":"IFERROR(VLOOKUP(A8148,Insumos!A:B,2,FALSE),\"\")","v":""}]
[null,null,{"$f":"IFERROR(VLOOKUP(A8149,Insumos!A:B,2,FALSE),\"\")","v":""}]
[null,null,{"$f":"IFERROR(VLOOKUP(A8150,Insumos!A:B,2,FALSE),\"\")","v":""}]
[null,null,{"$f":"IFERROR(VLOOKUP(A8151,Insumos!A:B,2,FALSE),\"\")","v":""}]
[null,null,{"$f":"IFERROR(VLOOKUP(A8152,Insumos!A:B,2,FALSE),\"\")","v":""}]
[null,null,{"$f":"IFERROR(VLOOKUP(A8153,Insumos!A:B,2,FALSE),\"\")","v":""}]
[null,null,{"$f":"IFERROR(VLOOKUP(A8154,Insumos!A:B,2,FALSE),\"\")","v":""}]
[null,null,{"$f":"IFERROR(VLOOKUP(A8155,Insumos!A:B,2,FALSE),\"\")","v":""}]
[null,null,{"$f":"IFERROR(VLOOKUP(A8156,Insumos!A:B,2,FALSE),\"\")","v":""}]
[null,null,{"$f":"IFERROR(VLOOKUP(A8157,Insumos!A:B,2,FALSE),\"\")","v":""}]
[null,null,{"$f":"IFERROR(VLOOKUP(A8158,Insumos!A:B,2,FALSE),\"\")","v":""}]
[null,null,{"$f":"IFERROR(VLOOKUP(A8159,Insumos!A:B,2,FALSE),\"\")","v":""}]
[null,null,{"$f":"IFERROR(VLOOKUP(A8160,Insumos!A:B,2,FALSE),\"\")","v":""}]
[null,null,{"$f":"IFERROR(VLOOKUP(A8161,Insumos!A:B,2,FALSE),\"\")","v":""}]
[null,null,{"$f":"IFERROR(VLOOKUP(A8162,Insumos!A:B,2,FALSE),\"\")","v":""}]
[null,null,{"$f":"IFERROR(VLOOKUP(A8163,Insumos!A:B,2,FALSE),\"\")","v":""}]
[null,null,{"$f":"IFERROR(VLOOKUP(A8164,Insumos!A:B,2,FALSE),\"\")","v":""}]
[null,null,{"$f":"IFERROR(VLOOKUP(A8165,Insumos!A:B,2,FALSE),\"\")","v":""}]
[null,null,{"$f":"IFERROR(VLOOKUP(A8166,Insumos!A:B,2,FALSE),\"\")","v":""}]
[null,null,{"$f":"IFERROR(VLOOKUP(A8167,Insumos!A:B,2,FALSE),\"\")","v":""}]
[null,null,{"$f":"IFERROR(VLOOKUP(A8168,Insumos!A:B,2,FALSE),\"\")","v":""}]

{"sheet":"Consulta_Estoque","index":9,"n_rows":726,"n_cols":6,"rows_kept":726,"cut":false,"hidden":true,"merged":[[1,2,1,5]]}
[]
[null,null,"CONSULTA DO ESTOQUE"]
[]
[null,null,"INSUMO","QUANTIDADE EM ESTOQUE","QUANTIDADE RETIRADA","SALDO NO ESTOQUE"]
[null,null,"Defensivo Granulado",{"$f":"(SUMIF(Nota_Fiscal!E4:E994,Consulta_Estoque!C5,Nota_Fiscal!I4:I994))+(SUMIF(Insumos!A4:A8,Consulta_Estoque!C5,Insumos!C4:C997))","v":2000},{"$f":"SUMIF(Saída!A:A,Consulta_Estoque!C5,Saída!F:F)","v":495},{"$f":"IF(D5-E5>=0,D5-E5,D5-E5&\"   Produto em Falta\")","v":1505}]
[]
[]
[]
[]
[]
[]
[]
[]
[]
[]
[]
[]
[]
[]
[]
[]
[]
[]
[]
[]
[]
[]
[]
[]
[]
[]
[]
[]
[]
[]
[null,null,null,{"$f":"IFERROR(VLOOKUP(C36,Nota_Fiscal!E28:I29,2,0),\"\")","v":""}]
[null,null,null,{"$f":"IFERROR(VLOOKUP(C37,Nota_Fiscal!E29:I30,2,0),\"\")","v":""}]
[null,null,null,{"$f":"IFERROR(VLOOKUP(C38,Nota_Fiscal!E30:I31,2,0),\"\")","v":""}]
[null,null,null,{"$f":"IFERROR(VLOOKUP(C39,Nota_Fiscal!E31:I32,2,0),\"\")","v":""}]
[null,null,null,{"$f":"IFERROR(VLOOKUP(C40,Nota_Fiscal!E32:I33,2,0),\"\")","v":""}]
[null,null,null,{"$f":"IFERROR(VLOOKUP(C41,Nota_Fiscal!E33:I34,2,0),\"\")","v":""}]
[null,null,null,{"$f":"IFERROR(VLOOKUP(C42,Nota_Fiscal!E34:I35,2,0),\"\")","v":""}]
[null,null,null,{"$f":"IFERROR(VLOOKUP(C43,Nota_Fiscal!E35:I36,2,0),\"\")","v":""}]
[null,null,null,{"$f":"IFERROR(VLOOKUP(C44,Nota_Fiscal!E36:I37,2,0),\"\")","v":""}]
[null,null,null,{"$f":"IFERROR(VLOOKUP(C45,Nota_Fiscal!E37:I38,2,0),\"\")","v":""}]
[null,null,null,{"$f":"IFERROR(VLOOKUP(C46,Nota_Fiscal!E38:I39,2,0),\"\")","v":""}]
[null,null,null,{"$f":"IFERROR(VLOOKUP(C47,Nota_Fiscal!E39:I40,2,0),\"\")","v":""}]
[null,null,null,{"$f":"IFERROR(VLOOKUP(C48,Nota_Fiscal!E40:I41,2,0),\"\")","v":""}]
[null,null,null,{"$f":"IFERROR(VLOOKUP(C49,Nota_Fiscal!E41:I42,2,0),\"\")","v":""}]
[null,null,null,{"$f":"IFERROR(VLOOKUP(C50,Nota_Fiscal!E42:I43,2,0),\"\")","v":""}]
[null,null,null,{"$f":"IFERROR(VLOOKUP(C51,Nota_Fiscal!E43:I44,2,0),\"\")","v":""}]
[null,null,null,{"$f":"IFERROR(VLOOKUP(C52,Nota_Fiscal!E44:I45,2,0),\"\")","v":""}]
[null,null,null,{"$f":"IFERROR(VLOOKUP(C53,Nota_Fiscal!E45:I46,2,0),\"\")","v":""}]
[null,null,null,{"$f":"IFERROR(VLOOKUP(C54,Nota_Fiscal!E46:I47,2,0),\"\")","v":""}]
[null,null,null,{"$f":"IFERROR(VLOOKUP(C55,Nota_Fiscal!E47:I48,2,0),\"\")","v":""}]
[null,null,null,{"$f":"IFERROR(VLOOKUP(C56,Nota_Fiscal!E48:I49,2,0),\"\")","v":""}]
[null,null,null,{"$f":"IFERROR(VLOOKUP(C57,Nota_Fiscal!E49:I50,2,0),\"\")","v":""}]
[null,null,null,{"$f":"IFERROR(VLOOKUP(C58,Nota_Fiscal!E50:I51,2,0),\"\")","v":""}]
[null,null,null,{"$f":"IFERROR(VLOOKUP(C59,Nota_Fiscal!E51:I52,2,0),\"\")","v":""}]
[null,null,null,{"$f":"IFERROR(VLOOKUP(C60,Nota_Fiscal!E52:I53,2,0),\"\")","v":""}]
[null,null,null,{"$f":"IFERROR(VLOOKUP(C61,Nota_Fiscal!E53:I54,2,0),\"\")","v":""}]
[null,null,null,{"$f":"IFERROR(VLOOKUP(C62,Nota_Fiscal!E54:I55,2,0),\"\")","v":""}]
[null,null,null,{"$f":"IFERROR(VLOOKUP(C63,Nota_Fiscal!E55:I56,2,0),\"\")","v":""}]
[null,null,null,{"$f":"IFERROR(VLOOKUP(C64,Nota_Fiscal!E56:I57,2,0),\"\")","v":""}]
[null,null,null,{"$f":"IFERROR(VLOOKUP(C65,Nota_Fiscal!E57:I58,2,0),\"\")","v":""}]
[null,null,null,{"$f":"IFERROR(VLOOKUP(C66,Nota_Fiscal!E58:I59,2,0),\"\")","v":""}]
[null,null,null,{"$f":"IFERROR(VLOOKUP(C67,Nota_Fiscal!E59:I60,2,0),\"\")","v":""}]
[null,null,null,{"$f":"IFERROR(VLOOKUP(C68,Nota_Fiscal!E60:I61,2,0),\"\")","v":""}]
[null,null,null,{"$f":"IFERROR(VLOOKUP(C69,Nota_Fiscal!E61:I62,2,0),\"\")","v":""}]
[null,null,null,{"$f":"IFERROR(VLOOKUP(C70,Nota_Fiscal!E62:I63,2,0),\"\")","v":""}]
[null,null,null,{"$f":"IFERROR(VLOOKUP(C71,Nota_Fiscal!E63:I64,2,0),\"\")","v":""}]
[null,null,null,{"$f":"IFERROR(VLOOKUP(C72,Nota_Fiscal!E64:I65,2,0),\"\")","v":""}]
[null,null,null,{"$f":"IFERROR(VLOOKUP(C73,Nota_Fiscal!E65:I66,2,0),\"\")","v":""}]
[null,null,null,{"$f":"IFERROR(VLOOKUP(C74,Nota_Fiscal!E66:I67,2,0),\"\")","v":""}]
[null,null,null,{"$f":"IFERROR(VLOOKUP(C75,Nota_Fiscal!E67:I68,2,0),\"\")","v":""}]
[null,null,null,{"$f":"IFERROR(VLOOKUP(C76,Nota_Fiscal!E68:I69,2,0),\"\")","v":""}]
[null,null,null,{"$f":"IFERROR(VLOOKUP(C77,Nota_Fiscal!E69:I70,2,0),\"\")","v":""}]
[null,null,null,{"$f":"IFERROR(VLOOKUP(C78,Nota_Fiscal!E70:I71,2,0),\"\")","v":""}]
[null,null,null,{"$f":"IFERROR(VLOOKUP(C79,Nota_Fiscal!E71:I72,2,0),\"\")","v":""}]
[null,null,null,{"$f":"IFERROR(VLOOKUP(C80,Nota_Fiscal!E72:I73,2,0),\"\")","v":""}]
[null,null,null,{"$f":"IFERROR(VLOOKUP(C81,Nota_Fiscal!E73:I74,2,0),\"\")","v":""}]
[null,null,null,{"$f":"IFERROR(VLOOKUP(C82,Nota_Fiscal!E74:I75,2,0),\"\")","v":""}]
[null,null,null,{"$f":"IFERROR(VLOOKUP(C83,Nota_Fiscal!E75:I76,2,0),\"\")","v":""}]
[null,null,null,{"$f":"IFERROR(VLOOKUP(C84,Nota_Fiscal!E76:I77,2,0),\"\")","v":""}]
[null,null,null,{"$f":"IFERROR(VLOOKUP(C85,Nota_Fiscal!E77:I78,2,0),\"\")","v":""}]
[null,null,null,{"$f":"IFERROR(VLOOKUP(C86,Nota_Fiscal!E78:I79,2,0),\"\")","v":""}]
[null,null,null,{"$f":"IFERROR(VLOOKUP(C87,Nota_Fiscal!E79:I80,2,0),\"\")","v":""}]
[null,null,null,{"$f":"IFERROR(VLOOKUP(C88,Nota_Fiscal!E80:I81,2,0),\"\")","v":""}]
[null,null,null,{"$f":"IFERROR(VLOOKUP(C89,Nota_Fiscal!E81:I82,2,0),\"\")","v":""}]
[null,null,null,{"$f":"IFERROR(VLOOKUP(C90,Nota_Fiscal!E82:I83,2,0),\"\")","v":""}]
[null,null,null,{"$f":"IFERROR(VLOOKUP(C91,Nota_Fiscal!E83:I84,2,0),\"\")","v":""}]
[null,null,null,{"$f":"IFERROR(VLOOKUP(C92,Nota_Fiscal!E84:I85,2,0),\"\")","v":""}]
[null,null,null,{"$f":"IFERROR(VLOOKUP(C93,Nota_Fiscal!E85:I86,2,0),\"\")","v":""}]
[null,null,null,{"$f":"IFERROR(VLOOKUP(C94,Nota_Fiscal!E86:I87,2,0),\"\")","v":""}]
[null,null,null,{"$f":"IFERROR(VLOOKUP(C95,Nota_Fiscal!E87:I88,2,0),\"\")","v":""}]
[null,null,null,{"$f":"IFERROR(VLOOKUP(C96,Nota_Fiscal!E88:I89,2,0),\"\")","v":""}]
[null,null,null,{"$f":"IFERROR(VLOOKUP(C97,Nota_Fiscal!E89:I90,2,0),\"\")","v":""}]
[null,null,null,{"$f":"IFERROR(VLOOKUP(C98,Nota_Fiscal!E90:I91,2,0),\"\")","v":""}]
[null,null,null,{"$f":"IFERROR(VLOOKUP(C99,Nota_Fiscal!E91:I92,2,0),\"\")","v":""}]
[null,null,null,{"$f":"IFERROR(VLOOKUP(C100,Nota_Fiscal!E92:I93,2,0),\"\")","v":""}]
[null,null,null,{"$f":"IFERROR(VLOOKUP(C101,Nota_Fiscal!E93:I94,2,0),\"\")","v":""}]
[null,null,null,{"$f":"IFERROR(VLOOKUP(C102,Nota_Fiscal!E94:I95,2,0),\"\")","v":""}]
[null,null,null,{"$f":"IFERROR(VLOOKUP(C103,Nota_Fiscal!E95:I96,2,0),\"\")","v":""}]
[null,null,null,{"$f":"IFERROR(VLOOKUP(C104,Nota_Fiscal!E96:I97,2,0),\"\")","v":""}]
[null,null,null,{"$f":"IFERROR(VLOOKUP(C105,Nota_Fiscal!E97:I98,2,0),\"\")","v":""}]
[null,null,null,{"$f":"IFERROR(VLOOKUP(C106,Nota_Fiscal!E98:I99,2,0),\"\")","v":""}]
[null,null,null,{"$f":"IFERROR(VLOOKUP(C107,Nota_Fiscal!E99:I100,2,0),\"\")","v":""}]
[null,null,null,{"$f":"IFERROR(VLOOKUP(C108,Nota_Fiscal!E100:I101,2,0),\"\")","v":""}]
[null,null,null,{"$f":"IFERROR(VLOOKUP(C109,Nota_Fiscal!E101:I102,2,0),\"\")","v":""}]
[null,null,null,{"$f":"IFERROR(VLOOKUP(C110,Nota_Fiscal!E102:I103,2,0),\"\")","v":""}]
[null,null,null,{"$f":"IFERROR(VLOOKUP(C111,Nota_Fiscal!E103:I104,2,0),\"\")","v":""}]
[null,null,null,{"$f":"IFERROR(VLOOKUP(C112,Nota_Fiscal!E104:I105,2,0),\"\")","v":""}]
[null,null,null,{"$f":"IFERROR(VLOOKUP(C113,Nota_Fiscal!E105:I106,2,0),\"\")","v":""}]
[null,null,null,{"$f":"IFERROR(VLOOKUP(C114,Nota_Fiscal!E106:I107,2,0),\"\")","v":""}]
[null,null,null,{"$f":"IFERROR(VLOOKUP(C115,Nota_Fiscal!E107:I108,2,0),\"\")","v":""}]
[null,null,null,{"$f":"IFERROR(VLOOKUP(C116,Nota_Fiscal!E108:I109,2,0),\"\")","v":""}]
[null,null,null,{"$f":"IFERROR(VLOOKUP(C117,Nota_Fiscal!E109:I110,2,0),\"\")","v":""}]
[null,null,null,{"$f":"IFERROR(VLOOKUP(C118,Nota_Fiscal!E110:I111,2,0),\"\")","v":""}]
[null,null,null,{"$f":"IFERROR(VLOOKUP(C119,Nota_Fiscal!E111:I112,2,0),\"\")","v":""}]
[null,null,null,{"$f":"IFERROR(VLOOKUP(C120,Nota_Fiscal!E112:I113,2,0),\"\")","v":""}]
[null,null,null,{"$f":"IFERROR(VLOOKUP(C121,Nota_Fiscal!E113:I114,2,0),\"\")","v":""}]
[null,null,null,{"$f":"IFERROR(VLOOKUP(C122,Nota_Fiscal!E114:I115,2,0),\"\")","v":""}]
[null,null,null,{"$f":"IFERROR(VLOOKUP(C123,Nota_Fiscal!E115:I116,2,0),\"\")","v":""}]
[null,null,null,{"$f":"IFERROR(VLOOKUP(C124,Nota_Fiscal!E116:I117,2,0),\"\")","v":""}]
[null,null,null,{"$f":"IFERROR(VLOOKUP(C125,Nota_Fiscal!E117:I118,2,0),\"\")","v":""}]
[null,null,null,{"$f":"IFERROR(VLOOKUP(C126,Nota_Fiscal!E118:I119,2,0),\"\")","v":""}]
[null,null,null,{"$f":"IFERROR(VLOOKUP(C127,Nota_Fiscal!E119:I120,2,0),\"\")","v":""}]
[null,null,null,{"$f":"IFERROR(VLOOKUP(C128,Nota_Fiscal!E120:I121,2,0),\"\")","v":""}]
[null,null,null,{"$f":"IFERROR(VLOOKUP(C129,Nota_Fiscal!E121:I122,2,0),\"\")","v":""}]
[null,null,null,{"$f":"IFERROR(VLOOKUP(C130,Nota_Fiscal!E122:I123,2,0),\"\")","v":""}]
[null,null,null,{"$f":"IFERROR(VLOOKUP(C131,Nota_Fiscal!E123:I124,2,0),\"\")","v":""}]
[null,null,null,{"$f":"IFERROR(VLOOKUP(C132,Nota_Fiscal!E124:I125,2,0),\"\")","v":""}]
[null,null,null,{"$f":"IFERROR(VLOOKUP(C133,Nota_Fiscal!E125:I126,2,0),\"\")","v":""}]
[null,null,null,{"$f":"IFERROR(VLOOKUP(C134,Nota_Fiscal!E126:I127,2,0),\"\")","v":""}]
[null,null,null,{"$f":"IFERROR(VLOOKUP(C135,Nota_Fiscal!E127:I128,2,0),\"\")","v":""}]
[null,null,null,{"$f":"IFERROR(VLOOKUP(C136,Nota_Fiscal!E128:I129,2,0),\"\")","v":""}]
[null,null,null,{"$f":"IFERROR(VLOOKUP(C137,Nota_Fiscal!E129:I130,2,0),\"\")","v":""}]
[null,null,null,{"$f":"IFERROR(VLOOKUP(C138,Nota_Fiscal!E130:I131,2,0),\"\")","v":""}]
[null,null,null,{"$f":"IFERROR(VLOOKUP(C139,Nota_Fiscal!E131:I132,2,0),\"\")","v":""}]
[null,null,null,{"$f":"IFERROR(VLOOKUP(C140,Nota_Fiscal!E132:I133,2,0),\"\")","v":""}]
[null,null,null,{"$f":"IFERROR(VLOOKUP(C141,Nota_Fiscal!E133:I134,2,0),\"\")","v":""}]
[null,null,null,{"$f":"IFERROR(VLOOKUP(C142,Nota_Fiscal!E134:I135,2,0),\"\")","v":""}]
[null,null,null,{"$f":"IFERROR(VLOOKUP(C143,Nota_Fiscal!E135:I136,2,0),\"\")","v":""}]
[null,null,null,{"$f":"IFERROR(VLOOKUP(C144,Nota_Fiscal!E136:I137,2,0),\"\")","v":""}]
[null,null,null,{"$f":"IFERROR(VLOOKUP(C145,Nota_Fiscal!E137:I138,2,0),\"\")","v":""}]
[null,null,null,{"$f":"IFERROR(VLOOKUP(C146,Nota_Fiscal!E138:I139,2,0),\"\")","v":""}]
[null,null,null,{"$f":"IFERROR(VLOOKUP(C147,Nota_Fiscal!E139:I140,2,0),\"\")","v":""}]
[null,null,null,{"$f":"IFERROR(VLOOKUP(C148,Nota_Fiscal!E140:I141,2,0),\"\")","v":""}]
[null,null,null,{"$f":"IFERROR(VLOOKUP(C149,Nota_Fiscal!E141:I142,2,0),\"\")","v":""}]
[null,null,null,{"$f":"IFERROR(VLOOKUP(C150,Nota_Fiscal!E142:I143,2,0),\"\")","v":""}]
[null,null,null,{"$f":"IFERROR(VLOOKUP(C151,Nota_Fiscal!E143:I144,2,0),\"\")","v":""}]
[null,null,null,{"$f":"IFERROR(VLOOKUP(C152,Nota_Fiscal!E144:I145,2,0),\"\")","v":""}]
[null,null,null,{"$f":"IFERROR(VLOOKUP(C153,Nota_Fiscal!E145:I146,2,0),\"\")","v":""}]
[null,null,null,{"$f":"IFERROR(VLOOKUP(C154,Nota_Fiscal!E146:I147,2,0),\"\")","v":""}]
[null,null,null,{"$f":"IFERROR(VLOOKUP(C155,Nota_Fiscal!E147:I148,2,0),\"\")","v":""}]
[null,null,null,{"$f":"IFERROR(VLOOKUP(C156,Nota_Fiscal!E148:I149,2,0),\"\")","v":""}]
[null,null,null,{"$f":"IFERROR(VLOOKUP(C157,Nota_Fiscal!E149:I150,2,0),\"\")","v":""}]
[null,null,null,{"$f":"IFERROR(VLOOKUP(C158,Nota_Fiscal!E150:I151,2,0),\"\")","v":""}]
[null,null,null,{"$f":"IFERROR(VLOOKUP(C159,Nota_Fiscal!E151:I152,2,0),\"\")","v":""}]
[null,null,null,{"$f":"IFERROR(VLOOKUP(C160,Nota_Fiscal!E152:I153,2,0),\"\")","v":""}]
[null,null,null,{"$f":"IFERROR(VLOOKUP(C161,Nota_Fiscal!E153:I154,2,0),\"\")","v":""}]
[null,null,null,{"$f":"IFERROR(VLOOKUP(C162,Nota_Fiscal!E154:I155,2,0),\"\")","v":""}]
[null,null,null,{"$f":"IFERROR(VLOOKUP(C163,Nota_Fiscal!E155:I156,2,0),\"\")","v":""}]
[null,null,null,{"$f":"IFERROR(VLOOKUP(C164,Nota_Fiscal!E156:I157,2,0),\"\")","v":""}]
[null,null,null,{"$f":"IFERROR(VLOOKUP(C165,Nota_Fiscal!E157:I158,2,0),\"\")","v":""}]
[null,null,null,{"$f":"IFERROR(VLOOKUP(C166,Nota_Fiscal!E158:I159,2,0),\"\")","v":""}]
[null,null,null,{"$f":"IFERROR(VLOOKUP(C167,Nota_Fiscal!E159:I160,2,0),\"\")","v":""}]
[null,null,null,{"$f":"IFERROR(VLOOKUP(C168,Nota_Fiscal!E160:I161,2,0),\"\")","v":""}]
[null,null,null,{"$f":"IFERROR(VLOOKUP(C169,Nota_Fiscal!E161:I162,2,0),\"\")","v":""}]
[null,null,null,{"$f":"IFERROR(VLOOKUP(C170,Nota_Fiscal!E162:I163,2,0),\"\")","v":""}]
[null,null,null,{"$f":"IFERROR(VLOOKUP(C171,Nota_Fiscal!E163:I164,2,0),\"\")","v":""}]
[null,null,null,{"$f":"IFERROR(VLOOKUP(C172,Nota_Fiscal!E164:I165,2,0),\"\")","v":""}]
[null,null,null,{"$f":"IFERROR(VLOOKUP(C173,Nota_Fiscal!E165:I166,2,0),\"\")","v":""}]
[null,null,null,{"$f":"IFERROR(VLOOKUP(C174,Nota_Fiscal!E166:I167,2,0),\"\")","v":""}]
[null,null,null,{"$f":"IFERROR(VLOOKUP(C175,Nota_Fiscal!E167:I168,2,0),\"\")","v":""}]
[null,null,null,{"$f":"IFERROR(VLOOKUP(C176,Nota_Fiscal!E168:I169,2,0),\"\")","v":""}]
[null,null,null,{"$f":"IFERROR(VLOOKUP(C177,Nota_Fiscal!E169:I170,2,0),\"\")","v":""}]
[null,null,null,{"$f":"IFERROR(VLOOKUP(C178,Nota_Fiscal!E170:I171,2,0),\"\")","v":""}]
[null,null,null,{"$f":"IFERROR(VLOOKUP(C179,Nota_Fiscal!E171:I172,2,0),\"\")","v":""}]
[null,null,null,{"$f":"IFERROR(VLOOKUP(C180,Nota_Fiscal!E172:I173,2,0),\"\")","v":""}]
[null,null,null,{"$f":"IFERROR(VLOOKUP(C181,Nota_Fiscal!E173:I174,2,0),\"\")","v":""}]
[null,null,null,{"$f":"IFERROR(VLOOKUP(C182,Nota_Fiscal!E174:I175,2,0),\"\")","v":""}]
[null,null,null,{"$f":"IFERROR(VLOOKUP(C183,Nota_Fiscal!E175:I176,2,0),\"\")","v":""}]
[null,null,null,{"$f":"IFERROR(VLOOKUP(C184,Nota_Fiscal!E176:I177,2,0),\"\")","v":""}]
[null,null,null,{"$f":"IFERROR(VLOOKUP(C185,Nota_Fiscal!E177:I178,2,0),\"\")","v":""}]
[null,null,null,{"$f":"IFERROR(VLOOKUP(C186,Nota_Fiscal!E178:I179,2,0),\"\")","v":""}]
[null,null,null,{"$f":"IFERROR(VLOOKUP(C187,Nota_Fiscal!E179:I180,2,0),\"\")","v":""}]
[null,null,null,{"$f":"IFERROR(VLOOKUP(C188,Nota_Fiscal!E180:I181,2,0),\"\")","v":""}]
[null,null,null,{"$f":"IFERROR(VLOOKUP(C189,Nota_Fiscal!E181:I182,2,0),\"\")","v":""}]
[null,null,null,{"$f":"IFERROR(VLOOKUP(C190,Nota_Fiscal!E182:I183,2,0),\"\")","v":""}]
[null,null,null,{"$f":"IFERROR(VLOOKUP(C191,Nota_Fiscal!E183:I184,2,0),\"\")","v":""}]
[null,null,null,{"$f":"IFERROR(VLOOKUP(C192,Nota_Fiscal!E184:I185,2,0),\"\")","v":""}]
[null,null,null,{"$f":"IFERROR(VLOOKUP(C193,Nota_Fiscal!E185:I186,2,0),\"\")","v":""}]
[null,null,null,{"$f":"IFERROR(VLOOKUP(C194,Nota_Fiscal!E186:I187,2,0),\"\")","v":""}]
[null,null,null,{"$f":"IFERROR(VLOOKUP(C195,Nota_Fiscal!E187:I188,2,0),\"\")","v":""}]
[null,null,null,{"$f":"IFERROR(VLOOKUP(C196,Nota_Fiscal!E188:I189,2,0),\"\")","v":""}]
[null,null,null,{"$f":"IFERROR(VLOOKUP(C197,Nota_Fiscal!E189:I190,2,0),\"\")","v":""}]
[null,null,null,{"$f":"IFERROR(VLOOKUP(C198,Nota_Fiscal!E190:I191,2,0),\"\")","v":""}]
[null,null,null,{"$f":"IFERROR(VLOOKUP(C199,Nota_Fiscal!E191:I192,2,0),\"\")","v":""}]
[null,null,null,{"$f":"IFERROR(VLOOKUP(C200,Nota_Fiscal!E192:I193,2,0),\"\")","v":""}]
[null,null,null,{"$f":"IFERROR(VLOOKUP(C201,Nota_Fiscal!E193:I194,2,0),\"\")","v":""}]
[null,null,null,{"$f":"IFERROR(VLOOKUP(C202,Nota_Fiscal!E194:I195,2,0),\"\")","v":""}]
[null,null,null,{"$f":"IFERROR(VLOOKUP(C203,Nota_Fiscal!E195:I196,2,0),\"\")","v":""}]
[null,null,null,{"$f":"IFERROR(VLOOKUP(C204,Nota_Fiscal!E196:I197,2,0),\"\")","v":""}]
[null,null,null,{"$f":"IFERROR(VLOOKUP(C205,Nota_Fiscal!E197:I198,2,0),\"\")","v":""}]
[null,null,null,{"$f":"IFERROR(VLOOKUP(C206,Nota_Fiscal!E198:I199,2,0),\"\")","v":""}]
[null,null,null,{"$f":"IFERROR(VLOOKUP(C207,Nota_Fiscal!E199:I200,2,0),\"\")","v":""}]
[null,null,null,{"$f":"IFERROR(VLOOKUP(C208,Nota_Fiscal!E200:I201,2,0),\"\")","v":""}]
[null,null,null,{"$f":"IFERROR(VLOOKUP(C209,Nota_Fiscal!E201:I202,2,0),\"\")","v":""}]
[null,null,null,{"$f":"IFERROR(VLOOKUP(C210,Nota_Fiscal!E202:I203,2,0),\"\")","v":""}]
[null,null,null,{"$f":"IFERROR(VLOOKUP(C211,Nota_Fiscal!E203:I204,2,0),\"\")","v":""}]
[null,null,null,{"$f":"IFERROR(VLOOKUP(C212,Nota_Fiscal!E204:I205,2,0),\"\")","v":""}]
[null,null,null,{"$f":"IFERROR(VLOOKUP(C213,Nota_Fiscal!E205:I206,2,0),\"\")","v":""}]
[null,null,null,{"$f":"IFERROR(VLOOKUP(C214,Nota_Fiscal!E206:I207,2,0),\"\")","v":""}]
[null,null,null,{"$f":"IFERROR(VLOOKUP(C215,Nota_Fiscal!E207:I208,2,0),\"\")","v":""}]
[null,null,null,{"$f":"IFERROR(VLOOKUP(C216,Nota_Fiscal!E208:I209,2,0),\"\")","v":""}]
[null,null,null,{"$f":"IFERROR(VLOOKUP(C217,Nota_Fiscal!E209:I210,2,0),\"\")","v":""}]
[null,null,null,{"$f":"IFERROR(VLOOKUP(C218,Nota_Fiscal!E210:I211,2,0),\"\")","v":""}]
[null,null,null,{"$f":"IFERROR(VLOOKUP(C219,Nota_Fiscal!E211:I212,2,0),\"\")","v":""}]
[null,null,null,{"$f":"IFERROR(VLOOKUP(C220,Nota_Fiscal!E212:I213,2,0),\"\")","v":""}]
[null,null,null,{"$f":"IFERROR(VLOOKUP(C221,Nota_Fiscal!E213:I214,2,0),\"\")","v":""}]
[null,null,null,{"$f":"IFERROR(VLOOKUP(C222,Nota_Fiscal!E214:I215,2,0),\"\")","v":""}]
[null,null,null,{"$f":"IFERROR(VLOOKUP(C223,Nota_Fiscal!E215:I216,2,0),\"\")","v":""}]
[null,null,null,{"$f":"IFERROR(VLOOKUP(C224,Nota_Fiscal!E216:I217,2,0),\"\")","v":""}]
[null,null,null,{"$f":"IFERROR(VLOOKUP(C225,Nota_Fiscal!E217:I218,2,0),\"\")","v":""}]
[null,null,null,{"$f":"IFERROR(VLOOKUP(C226,Nota_Fiscal!E218:I219,2,0),\"\")","v":""}]
[null,null,null,{"$f":"IFERROR(VLOOKUP(C227,Nota_Fiscal!E219:I220,2,0),\"\")","v":""}]
[null,null,null,{"$f":"IFERROR(VLOOKUP(C228,Nota_Fiscal!E220:I221,2,0),\"\")","v":""}]
[null,null,null,{"$f":"IFERROR(VLOOKUP(C229,Nota_Fiscal!E221:I222,2,0),\"\")","v":""}]
[null,null,null,{"$f":"IFERROR(VLOOKUP(C230,Nota_Fiscal!E222:I223,2,0),\"\")","v":""}]
[null,null,null,{"$f":"IFERROR(VLOOKUP(C231,Nota_Fiscal!E223:I224,2,0),\"\")","v":""}]
[null,null,null,{"$f":"IFERROR(VLOOKUP(C232,Nota_Fiscal!E224:I225,2,0),\"\")","v":""}]
[null,null,null,{"$f":"IFERROR(VLOOKUP(C233,Nota_Fiscal!E225:I226,2,0),\"\")","v":""}]
[null,null,null,{"$f":"IFERROR(VLOOKUP(C234,Nota_Fiscal!E226:I227,2,0),\"\")","v":""}]
[null,null,null,{"$f":"IFERROR(VLOOKUP(C235,Nota_Fiscal!E227:I228,2,0),\"\")","v":""}]
[null,null,null,{"$f":"IFERROR(VLOOKUP(C236,Nota_Fiscal!E228:I229,2,0),\"\")","v":""}]
[null,null,null,{"$f":"IFERROR(VLOOKUP(C237,Nota_Fiscal!E229:I230,2,0),\"\")","v":""}]
[null,null,null,{"$f":"IFERROR(VLOOKUP(C238,Nota_Fiscal!E230:I231,2,0),\"\")","v":""}]
[null,null,null,{"$f":"IFERROR(VLOOKUP(C239,Nota_Fiscal!E231:I232,2,0),\"\")","v":""}]
[null,null,null,{"$f":"IFERROR(VLOOKUP(C240,Nota_Fiscal!E232:I233,2,0),\"\")","v":""}]
[null,null,null,{"$f":"IFERROR(VLOOKUP(C241,Nota_Fiscal!E233:I234,2,0),\"\")","v":""}]
[null,null,null,{"$f":"IFERROR(VLOOKUP(C242,Nota_Fiscal!E234:I235,2,0),\"\")","v":""}]
[null,null,null,{"$f":"IFERROR(VLOOKUP(C243,Nota_Fiscal!E235:I236,2,0),\"\")","v":""}]
[null,null,null,{"$f":"IFERROR(VLOOKUP(C244,Nota_Fiscal!E236:I237,2,0),\"\")","v":""}]
[null,null,null,{"$f":"IFERROR(VLOOKUP(C245,Nota_Fiscal!E237:I238,2,0),\"\")","v":""}]
[null,null,null,{"$f":"IFERROR(VLOOKUP(C246,Nota_Fiscal!E238:I239,2,0),\"\")","v":""}]
[null,null,null,{"$f":"IFERROR(VLOOKUP(C247,Nota_Fiscal!E239:I240,2,0),\"\")","v":""}]
[null,null,null,{"$f":"IFERROR(VLOOKUP(C248,Nota_Fiscal!E240:I241,2,0),\"\")","v":""}]
[null,null,null,{"$f":"IFERROR(VLOOKUP(C249,Nota_Fiscal!E241:I242,2,0),\"\")","v":""}]
[null,null,null,{"$f":"IFERROR(VLOOKUP(C250,Nota_Fiscal!E242:I243,2,0),\"\")","v":""}]
[null,null,null,{"$f":"IFERROR(VLOOKUP(C251,Nota_Fiscal!E243:I244,2,0),\"\")","v":""}]
[null,null,null,{"$f":"IFERROR(VLOOKUP(C252,Nota_Fiscal!E244:I245,2,0),\"\")","v":""}]
[null,null,null,{"$f":"IFERROR(VLOOKUP(C253,Nota_Fiscal!E245:I246,2,0),\"\")","v":""}]
[null,null,null,{"$f":"IFERROR(VLOOKUP(C254,Nota_Fiscal!E246:I247,2,0),\"\")","v":""}]
[null,null,null,{"$f":"IFERROR(VLOOKUP(C255,Nota_Fiscal!E247:I248,2,0),\"\")","v":""}]
[null,null,null,{"$f":"IFERROR(VLOOKUP(C256,Nota_Fiscal!E248:I249,2,0),\"\")","v":""}]
[null,null,null,{"$f":"IFERROR(VLOOKUP(C257,Nota_Fiscal!E249:I250,2,0),\"\")","v":""}]
[null,null,null,{"$f":"IFERROR(VLOOKUP(C258,Nota_Fiscal!E250:I251,2,0),\"\")","v":""}]
[null,null,null,{"$f":"IFERROR(VLOOKUP(C259,Nota_Fiscal!E251:I252,2,0),\"\")","v":""}]
[null,null,null,{"$f":"IFERROR(VLOOKUP(C260,Nota_Fiscal!E252:I253,2,0),\"\")","v":""}]
[null,null,null,{"$f":"IFERROR(VLOOKUP(C261,Nota_Fiscal!E253:I254,2,0),\"\")","v":""}]
[null,null,null,{"$f":"IFERROR(VLOOKUP(C262,Nota_Fiscal!E254:I255,2,0),\"\")","v":""}]
[null,null,null,{"$f":"IFERROR(VLOOKUP(C263,Nota_Fiscal!E255:I256,2,0),\"\")","v":""}]
[null,null,null,{"$f":"IFERROR(VLOOKUP(C264,Nota_Fiscal!E256:I257,2,0),\"\")","v":""}]
[null,null,null,{"$f":"IFERROR(VLOOKUP(C265,Nota_Fiscal!E257:I258,2,0),\"\")","v":""}]
[null,null,null,{"$f":"IFERROR(VLOOKUP(C266,Nota_Fiscal!E258:I259,2,0),\"\")","v":""}]
[null,null,null,{"$f":"IFERROR(VLOOKUP(C267,Nota_Fiscal!E259:I260,2,0),\"\")","v":""}]
[null,null,null,{"$f":"IFERROR(VLOOKUP(C268,Nota_Fiscal!E260:I261,2,0),\"\")","v":""}]
[null,null,null,{"$f":"IFERROR(VLOOKUP(C269,Nota_Fiscal!E261:I262,2,0),\"\")","v":""}]
[null,null,null,{"$f":"IFERROR(VLOOKUP(C270,Nota_Fiscal!E262:I263,2,0),\"\")","v":""}]
[null,null,null,{"$f":"IFERROR(VLOOKUP(C271,Nota_Fiscal!E263:I264,2,0),\"\")","v":""}]
[null,null,null,{"$f":"IFERROR(VLOOKUP(C272,Nota_Fiscal!E264:I265,2,0),\"\")","v":""}]
[null,null,null,{"$f":"IFERROR(VLOOKUP(C273,Nota_Fiscal!E265:I266,2,0),\"\")","v":""}]
[null,null,null,{"$f":"IFERROR(VLOOKUP(C274,Nota_Fiscal!E266:I267,2,0),\"\")","v":""}]
[null,null,null,{"$f":"IFERROR(VLOOKUP(C275,Nota_Fiscal!E267:I268,2,0),\"\")","v":""}]
[null,null,null,{"$f":"IFERROR(VLOOKUP(C276,Nota_Fiscal!E268:I269,2,0),\"\")","v":""}]
[null,null,null,{"$f":"IFERROR(VLOOKUP(C277,Nota_Fiscal!E269:I270,2,0),\"\")","v":""}]
[null,null,null,{"$f":"IFERROR(VLOOKUP(C278,Nota_Fiscal!E270:I271,2,0),\"\")","v":""}]
[null,null,null,{"$f":"IFERROR(VLOOKUP(C279,Nota_Fiscal!E271:I272,2,0),\"\")","v":""}]
[null,null,null,{"$f":"IFERROR(VLOOKUP(C280,Nota_Fiscal!E272:I273,2,0),\"\")","v":""}]
[null,null,null,{"$f":"IFERROR(VLOOKUP(C281,Nota_Fiscal!E273:I274,2,0),\"\")","v":""}]
[null,null,null,{"$f":"IFERROR(VLOOKUP(C282,Nota_Fiscal!E274:I275,2,0),\"\")","v":""}]
[null,null,null,{"$f":"IFERROR(VLOOKUP(C283,Nota_Fiscal!E275:I276,2,0),\"\")","v":""}]
[null,null,null,{"$f":"IFERROR(VLOOKUP(C284,Nota_Fiscal!E276:I277,2,0),\"\")","v":""}]
[null,null,null,{"$f":"IFERROR(VLOOKUP(C285,Nota_Fiscal!E277:I278,2,0),\"\")","v":""}]
[null,null,null,{"$f":"IFERROR(VLOOKUP(C286,Nota_Fiscal!E278:I279,2,0),\"\")","v":""}]
[null,null,null,{"$f":"IFERROR(VLOOKUP(C287,Nota_Fiscal!E279:I280,2,0),\"\")","v":""}]
[null,null,null,{"$f":"IFERROR(VLOOKUP(C288,Nota_Fiscal!E280:I281,2,0),\"\")","v":""}]
[null,null,null,{"$f":"IFERROR(VLOOKUP(C289,Nota_Fiscal!E281:I282,2,0),\"\")","v":""}]
[null,null,null,{"$f":"IFERROR(VLOOKUP(C290,Nota_Fiscal!E282:I283,2,0),\"\")","v":""}]
[null,null,null,{"$f":"IFERROR(VLOOKUP(C291,Nota_Fiscal!E283:I284,2,0),\"\")","v":""}]
[null,null,null,{"$f":"IFERROR(VLOOKUP(C292,Nota_Fiscal!E284:I285,2,0),\"\")","v":""}]
[null,null,null,{"$f":"IFERROR(VLOOKUP(C293,Nota_Fiscal!E285:I286,2,0),\"\")","v":""}]
[null,null,null,{"$f":"IFERROR(VLOOKUP(C294,Nota_Fiscal!E286:I287,2,0),\"\")","v":""}]
[null,null,null,{"$f":"IFERROR(VLOOKUP(C295,Nota_Fiscal!E287:I288,2,0),\"\")","v":""}]
[null,null,null,{"$f":"IFERROR(VLOOKUP(C296,Nota_Fiscal!E288:I289,2,0),\"\")","v":""}]
[null,null,null,{"$f":"IFERROR(VLOOKUP(C297,Nota_Fiscal!E289:I290,2,0),\"\")","v":""}]
[null,null,null,{"$f":"IFERROR(VLOOKUP(C298,Nota_Fiscal!E290:I291,2,0),\"\")","v":""}]
[null,null,null,{"$f":"IFERROR(VLOOKUP(C299,Nota_Fiscal!E291:I292,2,0),\"\")","v":""}]
[null,null,null,{"$f":"IFERROR(VLOOKUP(C300,Nota_Fiscal!E292:I293,2,0),\"\")","v":""}]
[null,null,null,{"$f":"IFERROR(VLOOKUP(C301,Nota_Fiscal!E293:I294,2,0),\"\")","v":""}]
[null,null,null,{"$f":"IFERROR(VLOOKUP(C302,Nota_Fiscal!E294:I295,2,0),\"\")","v":""}]
[null,null,null,{"$f":"IFERROR(VLOOKUP(C303,Nota_Fiscal!E295:I296,2,0),\"\")","v":""}]
[null,null,null,{"$f":"IFERROR(VLOOKUP(C304,Nota_Fiscal!E296:I297,2,0),\"\")","v":""}]
[null,null,null,{"$f":"IFERROR(VLOOKUP(C305,Nota_Fiscal!E297:I298,2,0),\"\")","v":""}]
[null,null,null,{"$f":"IFERROR(VLOOKUP(C306,Nota_Fiscal!E298:I299,2,0),\"\")","v":""}]
[null,null,null,{"$f":"IFERROR(VLOOKUP(C307,Nota_Fiscal!E299:I300,2,0),\"\")","v":""}]
[null,null,null,{"$f":"IFERROR(VLOOKUP(C308,Nota_Fiscal!E300:I301,2,0),\"\")","v":""}]
[null,null,null,{"$f":"IFERROR(VLOOKUP(C309,Nota_Fiscal!E301:I302,2,0),\"\")","v":""}]
[null,null,null,{"$f":"IFERROR(VLOOKUP(C310,Nota_Fiscal!E302:I303,2,0),\"\")","v":""}]
[null,null,null,{"$f":"IFERROR(VLOOKUP(C311,Nota_Fiscal!E303:I304,2,0),\"\")","v":""}]
[null,null,null,{"$f":"IFERROR(VLOOKUP(C312,Nota_Fiscal!E304:I305,2,0),\"\")","v":""}]
[null,null,null,{"$f":"IFERROR(VLOOKUP(C313,Nota_Fiscal!E305:I306,2,0),\"\")","v":""}]
[null,null,null,{"$f":"IFERROR(VLOOKUP(C314,Nota_Fiscal!E306:I307,2,0),\"\")","v":""}]
[null,null,null,{"$f":"IFERROR(VLOOKUP(C315,Nota_Fiscal!E307:I308,2,0),\"\")","v":""}]
[null,null,null,{"$f":"IFERROR(VLOOKUP(C316,Nota_Fiscal!E308:I309,2,0),\"\")","v":""}]
[null,null,null,{"$f":"IFERROR(VLOOKUP(C317,Nota_Fiscal!E309:I310,2,0),\"\")","v":""}]
[null,null,null,{"$f":"IFERROR(VLOOKUP(C318,Nota_Fiscal!E310:I311,2,0),\"\")","v":""}]
[null,null,null,{"$f":"IFERROR(VLOOKUP(C319,Nota_Fiscal!E311:I312,2,0),\"\")","v":""}]
[null,null,null,{"$f":"IFERROR(VLOOKUP(C320,Nota_Fiscal!E312:I313,2,0),\"\")","v":""}]
[null,null,null,{"$f":"IFERROR(VLOOKUP(C321,Nota_Fiscal!E313:I314,2,0),\"\")","v":""}]
[null,null,null,{"$f":"IFERROR(VLOOKUP(C322,Nota_Fiscal!E314:I315,2,0),\"\")","v":""}]
[null,null,null,{"$f":"IFERROR(VLOOKUP(C323,Nota_Fiscal!E315:I316,2,0),\"\")","v":""}]
[null,null,null,{"$f":"IFERROR(VLOOKUP(C324,Nota_Fiscal!E316:I317,2,0),\"\")","v":""}]
[null,null,null,{"$f":"IFERROR(VLOOKUP(C325,Nota_Fiscal!E317:I318,2,0),\"\")","v":""}]
[null,null,null,{"$f":"IFERROR(VLOOKUP(C326,Nota_Fiscal!E318:I319,2,0),\"\")","v":""}]
[null,null,null,{"$f":"IFERROR(VLOOKUP(C327,Nota_Fiscal!E319:I320,2,0),\"\")","v":""}]
[null,null,null,{"$f":"IFERROR(VLOOKUP(C328,Nota_Fiscal!E320:I321,2,0),\"\")","v":""}]
[null,null,null,{"$f":"IFERROR(VLOOKUP(C329,Nota_Fiscal!E321:I322,2,0),\"\")","v":""}]
[null,null,null,{"$f":"IFERROR(VLOOKUP(C330,Nota_Fiscal!E322:I323,2,0),\"\")","v":""}]
[null,null,null,{"$f":"IFERROR(VLOOKUP(C331,Nota_Fiscal!E323:I324,2,0),\"\")","v":""}]
[null,null,null,{"$f":"IFERROR(VLOOKUP(C332,Nota_Fiscal!E324:I325,2,0),\"\")","v":""}]
[null,null,null,{"$f":"IFERROR(VLOOKUP(C333,Nota_Fiscal!E325:I326,2,0),\"\")","v":""}]
[null,null,null,{"$f":"IFERROR(VLOOKUP(C334,Nota_Fiscal!E326:I327,2,0),\"\")","v":""}]
[null,null,null,{"$f":"IFERROR(VLOOKUP(C335,Nota_Fiscal!E327:I328,2,0),\"\")","v":""}]
[null,null,null,{"$f":"IFERROR(VLOOKUP(C336,Nota_Fiscal!E328:I329,2,0),\"\")","v":""}]
[null,null,null,{"$f":"IFERROR(VLOOKUP(C337,Nota_Fiscal!E329:I330,2,0),\"\")","v":""}]
[null,null,null,{"$f":"IFERROR(VLOOKUP(C338,Nota_Fiscal!E330:I331,2,0),\"\")","v":""}]
[null,null,null,{"$f":"IFERROR(VLOOKUP(C339,Nota_Fiscal!E331:I332,2,0),\"\")","v":""}]
[null,null,null,{"$f":"IFERROR(VLOOKUP(C340,Nota_Fiscal!E332:I333,2,0),\"\")","v":""}]
[null,null,null,{"$f":"IFERROR(VLOOKUP(C341,Nota_Fiscal!E333:I334,2,0),\"\")","v":""}]
[null,null,null,{"$f":"IFERROR(VLOOKUP(C342,Nota_Fiscal!E334:I335,2,0),\"\")","v":""}]
[null,null,null,{"$f":"IFERROR(VLOOKUP(C343,Nota_Fiscal!E335:I336,2,0),\"\")","v":""}]
[null,null,null,{"$f":"IFERROR(VLOOKUP(C344,Nota_Fiscal!E336:I337,2,0),\"\")","v":""}]
[null,null,null,{"$f":"IFERROR(VLOOKUP(C345,Nota_Fiscal!E337:I338,2,0),\"\")","v":""}]
[null,null,null,{"$f":"IFERROR(VLOOKUP(C346,Nota_Fiscal!E338:I339,2,0),\"\")","v":""}]
[null,null,null,{"$f":"IFERROR(VLOOKUP(C347,Nota_Fiscal!E339:I340,2,0),\"\")","v":""}]
[null,null,null,{"$f":"IFERROR(VLOOKUP(C348,Nota_Fiscal!E340:I341,2,0),\"\")","v":""}]
[null,null,null,{"$f":"IFERROR(VLOOKUP(C349,Nota_Fiscal!E341:I342,2,0),\"\")","v":""}]
[null,null,null,{"$f":"IFERROR(VLOOKUP(C350,Nota_Fiscal!E342:I343,2,0),\"\")","v":""}]
[null,null,null,{"$f":"IFERROR(VLOOKUP(C351,Nota_Fiscal!E343:I344,2,0),\"\")","v":""}]
[null,null,null,{"$f":"IFERROR(VLOOKUP(C352,Nota_Fiscal!E344:I345,2,0),\"\")","v":""}]
[null,null,null,{"$f":"IFERROR(VLOOKUP(C353,Nota_Fiscal!E345:I346,2,0),\"\")","v":""}]
[null,null,null,{"$f":"IFERROR(VLOOKUP(C354,Nota_Fiscal!E346:I347,2,0),\"\")","v":""}]
[null,null,null,{"$f":"IFERROR(VLOOKUP(C355,Nota_Fiscal!E347:I348,2,0),\"\")","v":""}]
[null,null,null,{"$f":"IFERROR(VLOOKUP(C356,Nota_Fiscal!E348:I349,2,0),\"\")","v":""}]
[null,null,null,{"$f":"IFERROR(VLOOKUP(C357,Nota_Fiscal!E349:I350,2,0),\"\")","v":""}]
[null,null,null,{"$f":"IFERROR(VLOOKUP(C358,Nota_Fiscal!E350:I351,2,0),\"\")","v":""}]
[null,null,null,{"$f":"IFERROR(VLOOKUP(C359,Nota_Fiscal!E351:I352,2,0),\"\")","v":""}]
[null,null,null,{"$f":"IFERROR(VLOOKUP(C360,Nota_Fiscal!E352:I353,2,0),\"\")","v":""}]
[null,null,null,{"$f":"IFERROR(VLOOKUP(C361,Nota_Fiscal!E353:I354,2,0),\"\")","v":""}]
[null,null,null,{"$f":"IFERROR(VLOOKUP(C362,Nota_Fiscal!E354:I355,2,0),\"\")","v":""}]
[null,null,null,{"$f":"IFERROR(VLOOKUP(C363,Nota_Fiscal!E355:I356,2,0),\"\")","v":""}]
[null,null,null,{"$f":"IFERROR(VLOOKUP(C364,Nota_Fiscal!E356:I357,2,0),\"\")","v":""}]
[null,null,null,{"$f":"IFERROR(VLOOKUP(C365,Nota_Fiscal!E357:I358,2,0),\"\")","v":""}]
[null,null,null,{"$f":"IFERROR(VLOOKUP(C366,Nota_Fiscal!E358:I359,2,0),\"\")","v":""}]
[null,null,null,{"$f":"IFERROR(VLOOKUP(C367,Nota_Fiscal!E359:I360,2,0),\"\")","v":""}]
[null,null,null,{"$f":"IFERROR(VLOOKUP(C368,Nota_Fiscal!E360:I361,2,0),\"\")","v":""}]
[null,null,null,{"$f":"IFERROR(VLOOKUP(C369,Nota_Fiscal!E361:I362,2,0),\"\")","v":""}]
[null,null,null,{"$f":"IFERROR(VLOOKUP(C370,Nota_Fiscal!E362:I363,2,0),\"\")","v":""}]
[null,null,null,{"$f":"IFERROR(VLOOKUP(C371,Nota_Fiscal!E363:I364,2,0),\"\")","v":""}]
[null,null,null,{"$f":"IFERROR(VLOOKUP(C372,Nota_Fiscal!E364:I365,2,0),\"\")","v":""}]
[null,null,null,{"$f":"IFERROR(VLOOKUP(C373,Nota_Fiscal!E365:I366,2,0),\"\")","v":""}]
[null,null,null,{"$f":"IFERROR(VLOOKUP(C374,Nota_Fiscal!E366:I367,2,0),\"\")","v":""}]
[null,null,null,{"$f":"IFERROR(VLOOKUP(C375,Nota_Fiscal!E367:I368,2,0),\"\")","v":""}]
[null,null,null,{"$f":"IFERROR(VLOOKUP(C376,Nota_Fiscal!E368:I369,2,0),\"\")","v":""}]
[null,null,null,{"$f":"IFERROR(VLOOKUP(C377,Nota_Fiscal!E369:I370,2,0),\"\")","v":""}]
[null,null,null,{"$f":"IFERROR(VLOOKUP(C378,Nota_Fiscal!E370:I371,2,0),\"\")","v":""}]
[null,null,null,{"$f":"IFERROR(VLOOKUP(C379,Nota_Fiscal!E371:I372,2,0),\"\")","v":""}]
[null,null,null,{"$f":"IFERROR(VLOOKUP(C380,Nota_Fiscal!E372:I373,2,0),\"\")","v":""}]
[null,null,null,{"$f":"IFERROR(VLOOKUP(C381,Nota_Fiscal!E373:I374,2,0),\"\")","v":""}]
[null,null,null,{"$f":"IFERROR(VLOOKUP(C382,Nota_Fiscal!E374:I375,2,0),\"\")","v":""}]
[null,null,null,{"$f":"IFERROR(VLOOKUP(C383,Nota_Fiscal!E375:I376,2,0),\"\")","v":""}]
[null,null,null,{"$f":"IFERROR(VLOOKUP(C384,Nota_Fiscal!E376:I377,2,0),\"\")","v":""}]
[null,null,null,{"$f":"IFERROR(VLOOKUP(C385,Nota_Fiscal!E377:I378,2,0),\"\")","v":""}]
[null,null,null,{"$f":"IFERROR(VLOOKUP(C386,Nota_Fiscal!E378:I379,2,0),\"\")","v":""}]
[null,null,null,{"$f":"IFERROR(VLOOKUP(C387,Nota_Fiscal!E379:I380,2,0),\"\")","v":""}]
[null,null,null,{"$f":"IFERROR(VLOOKUP(C388,Nota_Fiscal!E380:I381,2,0),\"\")","v":""}]
[null,null,null,{"$f":"IFERROR(VLOOKUP(C389,Nota_Fiscal!E381:I382,2,0),\"\")","v":""}]
[null,null,null,{"$f":"IFERROR(VLOOKUP(C390,Nota_Fiscal!E382:I383,2,0),\"\")","v":""}]
[null,null,null,{"$f":"IFERROR(VLOOKUP(C391,Nota_Fiscal!E383:I384,2,0),\"\")","v":""}]
[null,null,null,{"$f":"IFERROR(VLOOKUP(C392,Nota_Fiscal!E384:I385,2,0),\"\")","v":""}]
[null,null,null,{"$f":"IFERROR(VLOOKUP(C393,Nota_Fiscal!E385:I386,2,0),\"\")","v":""}]
[null,null,null,{"$f":"IFERROR(VLOOKUP(C394,Nota_Fiscal!E386:I387,2,0),\"\")","v":""}]
[null,null,null,{"$f":"IFERROR(VLOOKUP(C395,Nota_Fiscal!E387:I388,2,0),\"\")","v":""}]
[null,null,null,{"$f":"IFERROR(VLOOKUP(C396,Nota_Fiscal!E388:I389,2,0),\"\")","v":""}]
[null,null,null,{"$f":"IFERROR(VLOOKUP(C397,Nota_Fiscal!E389:I390,2,0),\"\")","v":""}]
[null,null,null,{"$f":"IFERROR(VLOOKUP(C398,Nota_Fiscal!E390:I391,2,0),\"\")","v":""}]
[null,null,null,{"$f":"IFERROR(VLOOKUP(C399,Nota_Fiscal!E391:I392,2,0),\"\")","v":""}]
[null,null,null,{"$f":"IFERROR(VLOOKUP(C400,Nota_Fiscal!E392:I393,2,0),\"\")","v":""}]
[null,null,null,{"$f":"IFERROR(VLOOKUP(C401,Nota_Fiscal!E393:I394,2,0),\"\")","v":""}]
[null,null,null,{"$f":"IFERROR(VLOOKUP(C402,Nota_Fiscal!E394:I395,2,0),\"\")","v":""}]
[null,null,null,{"$f":"IFERROR(VLOOKUP(C403,Nota_Fiscal!E395:I396,2,0),\"\")","v":""}]
[null,null,null,{"$f":"IFERROR(VLOOKUP(C404,Nota_Fiscal!E396:I397,2,0),\"\")","v":""}]
[null,null,null,{"$f":"IFERROR(VLOOKUP(C405,Nota_Fiscal!E397:I398,2,0),\"\")","v":""}]
[null,null,null,{"$f":"IFERROR(VLOOKUP(C406,Nota_Fiscal!E398:I399,2,0),\"\")","v":""}]
[null,null,null,{"$f":"IFERROR(VLOOKUP(C407,Nota_Fiscal!E399:I400,2,0),\"\")","v":""}]
[null,null,null,{"$f":"IFERROR(VLOOKUP(C408,Nota_Fiscal!E400:I401,2,0),\"\")","v":""}]
[null,null,null,{"$f":"IFERROR(VLOOKUP(C409,Nota_Fiscal!E401:I402,2,0),\"\")","v":""}]
[null,null,null,{"$f":"IFERROR(VLOOKUP(C410,Nota_Fiscal!E402:I403,2,0),\"\")","v":""}]
[null,null,null,{"$f":"IFERROR(VLOOKUP(C411,Nota_Fiscal!E403:I404,2,0),\"\")","v":""}]
[null,null,null,{"$f":"IFERROR(VLOOKUP(C412,Nota_Fiscal!E404:I405,2,0),\"\")","v":""}]
[null,null,null,{"$f":"IFERROR(VLOOKUP(C413,Nota_Fiscal!E405:I406,2,0),\"\")","v":""}]
[null,null,null,{"$f":"IFERROR(VLOOKUP(C414,Nota_Fiscal!E406:I407,2,0),\"\")","v":""}]
[null,null,null,{"$f":"IFERROR(VLOOKUP(C415,Nota_Fiscal!E407:I408,2,0),\"\")","v":""}]
[null,null,null,{"$f":"IFERROR(VLOOKUP(C416,Nota_Fiscal!E408:I409,2,0),\"\")","v":""}]
[null,null,null,{"$f":"IFERROR(VLOOKUP(C417,Nota_Fiscal!E409:I410,2,0),\"\")","v":""}]
[null,null,null,{"$f":"IFERROR(VLOOKUP(C418,Nota_Fiscal!E410:I411,2,0),\"\")","v":""}]
[null,null,null,{"$f":"IFERROR(VLOOKUP(C419,Nota_Fiscal!E411:I412,2,0),\"\")","v":""}]
[null,null,null,{"$f":"IFERROR(VLOOKUP(C420,Nota_Fiscal!E412:I413,2,0),\"\")","v":""}]
[null,null,null,{"$f":"IFERROR(VLOOKUP(C421,Nota_Fiscal!E413:I414,2,0),\"\")","v":""}]
[null,null,null,{"$f":"IFERROR(VLOOKUP(C422,Nota_Fiscal!E414:I415,2,0),\"\")","v":""}]
[null,null,null,{"$f":"IFERROR(VLOOKUP(C423,Nota_Fiscal!E415:I416,2,0),\"\")","v":""}]
[null,null,null,{"$f":"IFERROR(VLOOKUP(C424,Nota_Fiscal!E416:I417,2,0),\"\")","v":""}]
[null,null,null,{"$f":"IFERROR(VLOOKUP(C425,Nota_Fiscal!E417:I418,2,0),\"\")","v":""}]
[null,null,null,{"$f":"IFERROR(VLOOKUP(C426,Nota_Fiscal!E418:I419,2,0),\"\")","v":""}]
[null,null,null,{"$f":"IFERROR(VLOOKUP(C427,Nota_Fiscal!E419:I420,2,0),\"\")","v":""}]
[null,null,null,{"$f":"IFERROR(VLOOKUP(C428,Nota_Fiscal!E420:I421,2,0),\"\")","v":""}]
[null,null,null,{"$f":"IFERROR(VLOOKUP(C429,Nota_Fiscal!E421:I422,2,0),\"\")","v":""}]
[null,null,null,{"$f":"IFERROR(VLOOKUP(C430,Nota_Fiscal!E422:I423,2,0),\"\")","v":""}]
[null,null,null,{"$f":"IFERROR(VLOOKUP(C431,Nota_Fiscal!E423:I424,2,0),\"\")","v":""}]
[null,null,null,{"$f":"IFERROR(VLOOKUP(C432,Nota_Fiscal!E424:I425,2,0),\"\")","v":""}]
[null,null,null,{"$f":"IFERROR(VLOOKUP(C433,Nota_Fiscal!E425:I426,2,0),\"\")","v":""}]
[null,null,null,{"$f":"IFERROR(VLOOKUP(C434,Nota_Fiscal!E426:I427,2,0),\"\")","v":""}]
[null,null,null,{"$f":"IFERROR(VLOOKUP(C435,Nota_Fiscal!E427:I428,2,0),\"\")","v":""}]
[null,null,null,{"$f":"IFERROR(VLOOKUP(C436,Nota_Fiscal!E428:I429,2,0),\"\")","v":""}]
[null,null,null,{"$f":"IFERROR(VLOOKUP(C437,Nota_Fiscal!E429:I430,2,0),\"\")","v":""}]
[null,null,null,{"$f":"IFERROR(VLOOKUP(C438,Nota_Fiscal!E430:I431,2,0),\"\")","v":""}]
[null,null,null,{"$f":"IFERROR(VLOOKUP(C439,Nota_Fiscal!E431:I432,2,0),\"\")","v":""}]
[null,null,null,{"$f":"IFERROR(VLOOKUP(C440,Nota_Fiscal!E432:I433,2,0),\"\")","v":""}]
[null,null,null,{"$f":"IFERROR(VLOOKUP(C441,Nota_Fiscal!E433:I434,2,0),\"\")","v":""}]
[null,null,null,{"$f":"IFERROR(VLOOKUP(C442,Nota_Fiscal!E434:I435,2,0),\"\")","v":""}]
[null,null,null,{"$f":"IFERROR(VLOOKUP(C443,Nota_Fiscal!E435:I436,2,0),\"\")","v":""}]
[null,null,null,{"$f":"IFERROR(VLOOKUP(C444,Nota_Fiscal!E436:I437,2,0),\"\")","v":""}]
[null,null,null,{"$f":"IFERROR(VLOOKUP(C445,Nota_Fiscal!E437:I438,2,0),\"\")","v":""}]
[null,null,null,{"$f":"IFERROR(VLOOKUP(C446,Nota_Fiscal!E438:I439,2,0),\"\")","v":""}]
[null,null,null,{"$f":"IFERROR(VLOOKUP(C447,Nota_Fiscal!E439:I440,2,0),\"\")","v":""}]
[null,null,null,{"$f":"IFERROR(VLOOKUP(C448,Nota_Fiscal!E440:I441,2,0),\"\")","v":""}]
[null,null,null,{"$f":"IFERROR(VLOOKUP(C449,Nota_Fiscal!E441:I442,2,0),\"\")","v":""}]
[null,null,null,{"$f":"IFERROR(VLOOKUP(C450,Nota_Fiscal!E442:I443,2,0),\"\")","v":""}]
[null,null,null,{"$f":"IFERROR(VLOOKUP(C451,Nota_Fiscal!E443:I444,2,0),\"\")","v":""}]
[null,null,null,{"$f":"IFERROR(VLOOKUP(C452,Nota_Fiscal!E444:I445,2,0),\"\")","v":""}]
[null,null,null,{"$f":"IFERROR(VLOOKUP(C453,Nota_Fiscal!E445:I446,2,0),\"\")","v":""}]
[null,null,null,{"$f":"IFERROR(VLOOKUP(C454,Nota_Fiscal!E446:I447,2,0),\"\")","v":""}]
[null,null,null,{"$f":"IFERROR(VLOOKUP(C455,Nota_Fiscal!E447:I448,2,0),\"\")","v":""}]
[null,null,null,{"$f":"IFERROR(VLOOKUP(C456,Nota_Fiscal!E448:I449,2,0),\"\")","v":""}]
[null,null,null,{"$f":"IFERROR(VLOOKUP(C457,Nota_Fiscal!E449:I450,2,0),\"\")","v":""}]
[null,null,null,{"$f":"IFERROR(VLOOKUP(C458,Nota_Fiscal!E450:I451,2,0),\"\")","v":""}]
[null,null,null,{"$f":"IFERROR(VLOOKUP(C459,Nota_Fiscal!E451:I452,2,0),\"\")","v":""}]
[null,null,null,{"$f":"IFERROR(VLOOKUP(C460,Nota_Fiscal!E452:I453,2,0),\"\")","v":""}]
[null,null,null,{"$f":"IFERROR(VLOOKUP(C461,Nota_Fiscal!E453:I454,2,0),\"\")","v":""}]
[null,null,null,{"$f":"IFERROR(VLOOKUP(C462,Nota_Fiscal!E454:I455,2,0),\"\")","v":""}]
[null,null,null,{"$f":"IFERROR(VLOOKUP(C463,Nota_Fiscal!E455:I456,2,0),\"\")","v":""}]
[null,null,null,{"$f":"IFERROR(VLOOKUP(C464,Nota_Fiscal!E456:I457,2,0),\"\")","v":""}]
[null,null,null,{"$f":"IFERROR(VLOOKUP(C465,Nota_Fiscal!E457:I458,2,0),\"\")","v":""}]
[null,null,null,{"$f":"IFERROR(VLOOKUP(C466,Nota_Fiscal!E458:I459,2,0),\"\")","v":""}]
[null,null,null,{"$f":"IFERROR(VLOOKUP(C467,Nota_Fiscal!E459:I460,2,0),\"\")","v":""}]
[null,null,null,{"$f":"IFERROR(VLOOKUP(C468,Nota_Fiscal!E460:I461,2,0),\"\")","v":""}]
[null,null,null,{"$f":"IFERROR(VLOOKUP(C469,Nota_Fiscal!E461:I462,2,0),\"\")","v":""}]
[null,null,null,{"$f":"IFERROR(VLOOKUP(C470,Nota_Fiscal!E462:I463,2,0),\"\")","v":""}]
[null,null,null,{"$f":"IFERROR(VLOOKUP(C471,Nota_Fiscal!E463:I464,2,0),\"\")","v":""}]
[null,null,null,{"$f":"IFERROR(VLOOKUP(C472,Nota_Fiscal!E464:I465,2,0),\"\")","v":""}]
[null,null,null,{"$f":"IFERROR(VLOOKUP(C473,Nota_Fiscal!E465:I466,2,0),\"\")","v":""}]
[null,null,null,{"$f":"IFERROR(VLOOKUP(C474,Nota_Fiscal!E466:I467,2,0),\"\")","v":""}]
[null,null,null,{"$f":"IFERROR(VLOOKUP(C475,Nota_Fiscal!E467:I468,2,0),\"\")","v":""}]
[null,null,null,{"$f":"IFERROR(VLOOKUP(C476,Nota_Fiscal!E468:I469,2,0),\"\")","v":""}]
[null,null,null,{"$f":"IFERROR(VLOOKUP(C477,Nota_Fiscal!E469:I470,2,0),\"\")","v":""}]
[null,null,null,{"$f":"IFERROR(VLOOKUP(C478,Nota_Fiscal!E470:I471,2,0),\"\")","v":""}]
[null,null,null,{"$f":"IFERROR(VLOOKUP(C479,Nota_Fiscal!E471:I472,2,0),\"\")","v":""}]
[null,null,null,{"$f":"IFERROR(VLOOKUP(C480,Nota_Fiscal!E472:I473,2,0),\"\")","v":""}]
[null,null,null,{"$f":"IFERROR(VLOOKUP(C481,Nota_Fiscal!E473:I474,2,0),\"\")","v":""}]
[null,null,null,{"$f":"IFERROR(VLOOKUP(C482,Nota_Fiscal!E474:I475,2,0),\"\")","v":""}]
[null,null,null,{"$f":"IFERROR(VLOOKUP(C483,Nota_Fiscal!E475:I476,2,0),\"\")","v":""}]
[null,null,null,{"$f":"IFERROR(VLOOKUP(C484,Nota_Fiscal!E476:I477,2,0),\"\")","v":""}]
[null,null,null,{"$f":"IFERROR(VLOOKUP(C485,Nota_Fiscal!E477:I478,2,0),\"\")","v":""}]
[null,null,null,{"$f":"IFERROR(VLOOKUP(C486,Nota_Fiscal!E478:I479,2,0),\"\")","v":""}]
[null,null,null,{"$f":"IFERROR(VLOOKUP(C487,Nota_Fiscal!E479:I480,2,0),\"\")","v":""}]
[null,null,null,{"$f":"IFERROR(VLOOKUP(C488,Nota_Fiscal!E480:I481,2,0),\"\")","v":""}]
[null,null,null,{"$f":"IFERROR(VLOOKUP(C489,Nota_Fiscal!E481:I482,2,0),\"\")","v":""}]
[null,null,null,{"$f":"IFERROR(VLOOKUP(C490,Nota_Fiscal!E482:I483,2,0),\"\")","v":""}]
[null,null,null,{"$f":"IFERROR(VLOOKUP(C491,Nota_Fiscal!E483:I484,2,0),\"\")","v":""}]
[null,null,null,{"$f":"IFERROR(VLOOKUP(C492,Nota_Fiscal!E484:I485,2,0),\"\")","v":""}]
[null,null,null,{"$f":"IFERROR(VLOOKUP(C493,Nota_Fiscal!E485:I486,2,0),\"\")","v":""}]
[null,null,null,{"$f":"IFERROR(VLOOKUP(C494,Nota_Fiscal!E486:I487,2,0),\"\")","v":""}]
[null,null,null,{"$f":"IFERROR(VLOOKUP(C495,Nota_Fiscal!E487:I488,2,0),\"\")","v":""}]
[null,null,null,{"$f":"IFERROR(VLOOKUP(C496,Nota_Fiscal!E488:I489,2,0),\"\")","v":""}]
[null,null,null,{"$f":"IFERROR(VLOOKUP(C497,Nota_Fiscal!E489:I490,2,0),\"\")","v":""}]
[null,null,null,{"$f":"IFERROR(VLOOKUP(C498,Nota_Fiscal!E490:I491,2,0),\"\")","v":""}]
[null,null,null,{"$f":"IFERROR(VLOOKUP(C499,Nota_Fiscal!E491:I492,2,0),\"\")","v":""}]
[null,null,null,{"$f":"IFERROR(VLOOKUP(C500,Nota_Fiscal!E492:I493,2,0),\"\")","v":""}]
[null,null,null,{"$f":"IFERROR(VLOOKUP(C501,Nota_Fiscal!E493:I494,2,0),\"\")","v":""}]
[null,null,null,{"$f":"IFERROR(VLOOKUP(C502,Nota_Fiscal!E494:I495,2,0),\"\")","v":""}]
[null,null,null,{"$f":"IFERROR(VLOOKUP(C503,Nota_Fiscal!E495:I496,2,0),\"\")","v":""}]
[null,null,null,{"$f":"IFERROR(VLOOKUP(C504,Nota_Fiscal!E496:I497,2,0),\"\")","v":""}]
[null,null,null,{"$f":"IFERROR(VLOOKUP(C505,Nota_Fiscal!E497:I498,2,0),\"\")","v":""}]
[null,null,null,{"$f":"IFERROR(VLOOKUP(C506,Nota_Fiscal!E498:I499,2,0),\"\")","v":""}]
[null,null,null,{"$f":"IFERROR(VLOOKUP(C507,Nota_Fiscal!E499:I500,2,0),\"\")","v":""}]
[null,null,null,{"$f":"IFERROR(VLOOKUP(C508,Nota_Fiscal!E500:I501,2,0),\"\")","v":""}]
[null,null,null,{"$f":"IFERROR(VLOOKUP(C509,Nota_Fiscal!E501:I502,2,0),\"\")","v":""}]
[null,null,null,{"$f":"IFERROR(VLOOKUP(C510,Nota_Fiscal!E502:I503,2,0),\"\")","v":""}]
[null,null,null,{"$f":"IFERROR(VLOOKUP(C511,Nota_Fiscal!E503:I504,2,0),\"\")","v":""}]
[null,null,null,{"$f":"IFERROR(VLOOKUP(C512,Nota_Fiscal!E504:I505,2,0),\"\")","v":""}]
[null,null,null,{"$f":"IFERROR(VLOOKUP(C513,Nota_Fiscal!E505:I506,2,0),\"\")","v":""}]
[null,null,null,{"$f":"IFERROR(VLOOKUP(C514,Nota_Fiscal!E506:I507,2,0),\"\")","v":""}]
[null,null,null,{"$f":"IFERROR(VLOOKUP(C515,Nota_Fiscal!E507:I508,2,0),\"\")","v":""}]
[null,null,null,{"$f":"IFERROR(VLOOKUP(C516,Nota_Fiscal!E508:I509,2,0),\"\")","v":""}]
[null,null,null,{"$f":"IFERROR(VLOOKUP(C517,Nota_Fiscal!E509:I510,2,0),\"\")","v":""}]
[null,null,null,{"$f":"IFERROR(VLOOKUP(C518,Nota_Fiscal!E510:I511,2,0),\"\")","v":""}]
[null,null,null,{"$f":"IFERROR(VLOOKUP(C519,Nota_Fiscal!E511:I512,2,0),\"\")","v":""}]
[null,null,null,{"$f":"IFERROR(VLOOKUP(C520,Nota_Fiscal!E512:I513,2,0),\"\")","v":""}]
[null,null,null,{"$f":"IFERROR(VLOOKUP(C521,Nota_Fiscal!E513:I514,2,0),\"\")","v":""}]
[null,null,null,{"$f":"IFERROR(VLOOKUP(C522,Nota_Fiscal!E514:I515,2,0),\"\")","v":""}]
[null,null,null,{"$f":"IFERROR(VLOOKUP(C523,Nota_Fiscal!E515:I516,2,0),\"\")","v":""}]
[null,null,null,{"$f":"IFERROR(VLOOKUP(C524,Nota_Fiscal!E516:I517,2,0),\"\")","v":""}]
[null,null,null,{"$f":"IFERROR(VLOOKUP(C525,Nota_Fiscal!E517:I518,2,0),\"\")","v":""}]
[null,null,null,{"$f":"IFERROR(VLOOKUP(C526,Nota_Fiscal!E518:I519,2,0),\"\")","v":""}]
[null,null,null,{"$f":"IFERROR(VLOOKUP(C527,Nota_Fiscal!E519:I520,2,0),\"\")","v":""}]
[null,null,null,{"$f":"IFERROR(VLOOKUP(C528,Nota_Fiscal!E520:I521,2,0),\"\")","v":""}]
[null,null,null,{"$f":"IFERROR(VLOOKUP(C529,Nota_Fiscal!E521:I522,2,0),\"\")","v":""}]
[null,null,null,{"$f":"IFERROR(VLOOKUP(C530,Nota_Fiscal!E522:I523,2,0),\"\")","v":""}]
[null,null,null,{"$f":"IFERROR(VLOOKUP(C531,Nota_Fiscal!E523:I524,2,0),\"\")","v":""}]
[null,null,null,{"$f":"IFERROR(VLOOKUP(C532,Nota_Fiscal!E524:I525,2,0),\"\")","v":""}]
[null,null,null,{"$f":"IFERROR(VLOOKUP(C533,Nota_Fiscal!E525:I526,2,0),\"\")","v":""}]
[null,null,null,{"$f":"IFERROR(VLOOKUP(C534,Nota_Fiscal!E526:I527,2,0),\"\")","v":""}]
[null,null,null,{"$f":"IFERROR(VLOOKUP(C535,Nota_Fiscal!E527:I528,2,0),\"\")","v":""}]
[null,null,null,{"$f":"IFERROR(VLOOKUP(C536,Nota_Fiscal!E528:I529,2,0),\"\")","v":""}]
[null,null,null,{"$f":"IFERROR(VLOOKUP(C537,Nota_Fiscal!E529:I530,2,0),\"\")","v":""}]
[null,null,null,{"$f":"IFERROR(VLOOKUP(C538,Nota_Fiscal!E530:I531,2,0),\"\")","v":""}]
[null,null,null,{"$f":"IFERROR(VLOOKUP(C539,Nota_Fiscal!E531:I532,2,0),\"\")","v":""}]
[null,null,null,{"$f":"IFERROR(VLOOKUP(C540,Nota_Fiscal!E532:I533,2,0),\"\")","v":""}]
[null,null,null,{"$f":"IFERROR(VLOOKUP(C541,Nota_Fiscal!E533:I534,2,0),\"\")","v":""}]
[null,null,null,{"$f":"IFERROR(VLOOKUP(C542,Nota_Fiscal!E534:I535,2,0),\"\")","v":""}]
[null,null,null,{"$f":"IFERROR(VLOOKUP(C543,Nota_Fiscal!E535:I536,2,0),\"\")","v":""}]
[null,null,null,{"$f":"IFERROR(VLOOKUP(C544,Nota_Fiscal!E536:I537,2,0),\"\")","v":""}]
[null,null,null,{"$f":"IFERROR(VLOOKUP(C545,Nota_Fiscal!E537:I538,2,0),\"\")","v":""}]
[null,null,null,{"$f":"IFERROR(VLOOKUP(C546,Nota_Fiscal!E538:I539,2,0),\"\")","v":""}]
[null,null,null,{"$f":"IFERROR(VLOOKUP(C547,Nota_Fiscal!E539:I540,2,0),\"\")","v":""}]
[null,null,null,{"$f":"IFERROR(VLOOKUP(C548,Nota_Fiscal!E540:I541,2,0),\"\")","v":""}]
[null,null,null,{"$f":"IFERROR(VLOOKUP(C549,Nota_Fiscal!E541:I542,2,0),\"\")","v":""}]
[null,null,null,{"$f":"IFERROR(VLOOKUP(C550,Nota_Fiscal!E542:I543,2,0),\"\")","v":""}]
[null,null,null,{"$f":"IFERROR(VLOOKUP(C551,Nota_Fiscal!E543:I544,2,0),\"\")","v":""}]
[null,null,null,{"$f":"IFERROR(VLOOKUP(C552,Nota_Fiscal!E544:I545,2,0),\"\")","v":""}]
[null,null,null,{"$f":"IFERROR(VLOOKUP(C553,Nota_Fiscal!E545:I546,2,0),\"\")","v":""}]
[null,null,null,{"$f":"IFERROR(VLOOKUP(C554,Nota_Fiscal!E546:I547,2,0),\"\")","v":""}]
[null,null,null,{"$f":"IFERROR(VLOOKUP(C555,Nota_Fiscal!E547:I548,2,0),\"\")","v":""}]
[null,null,null,{"$f":"IFERROR(VLOOKUP(C556,Nota_Fiscal!E548:I549,2,0),\"\")","v":""}]
[null,null,null,{"$f":"IFERROR(VLOOKUP(C557,Nota_Fiscal!E549:I550,2,0),\"\")","v":""}]
[null,null,null,{"$f":"IFERROR(VLOOKUP(C558,Nota_Fiscal!E550:I551,2,0),\"\")","v":""}]
[null,null,null,{"$f":"IFERROR(VLOOKUP(C559,Nota_Fiscal!E551:I552,2,0),\"\")","v":""}]
[null,null,null,{"$f":"IFERROR(VLOOKUP(C560,Nota_Fiscal!E552:I553,2,0),\"\")","v":""}]
[null,null,null,{"$f":"IFERROR(VLOOKUP(C561,Nota_Fiscal!E553:I554,2,0),\"\")","v":""}]
[null,null,null,{"$f":"IFERROR(VLOOKUP(C562,Nota_Fiscal!E554:I555,2,0),\"\")","v":""}]
[null,null,null,{"$f":"IFERROR(VLOOKUP(C563,Nota_Fiscal!E555:I556,2,0),\"\")","v":""}]
[null,null,null,{"$f":"IFERROR(VLOOKUP(C564,Nota_Fiscal!E556:I557,2,0),\"\")","v":""}]
[null,null,null,{"$f":"IFERROR(VLOOKUP(C565,Nota_Fiscal!E557:I558,2,0),\"\")","v":""}]
[null,null,null,{"$f":"IFERROR(VLOOKUP(C566,Nota_Fiscal!E558:I559,2,0),\"\")","v":""}]
[null,null,null,{"$f":"IFERROR(VLOOKUP(C567,Nota_Fiscal!E559:I560,2,0),\"\")","v":""}]
[null,null,null,{"$f":"IFERROR(VLOOKUP(C568,Nota_Fiscal!E560:I561,2,0),\"\")","v":""}]
[null,null,null,{"$f":"IFERROR(VLOOKUP(C569,Nota_Fiscal!E561:I562,2,0),\"\")","v":""}]
[null,null,null,{"$f":"IFERROR(VLOOKUP(C570,Nota_Fiscal!E562:I563,2,0),\"\")","v":""}]
[null,null,null,{"$f":"IFERROR(VLOOKUP(C571,Nota_Fiscal!E563:I564,2,0),\"\")","v":""}]
[null,null,null,{"$f":"IFERROR(VLOOKUP(C572,Nota_Fiscal!E564:I565,2,0),\"\")","v":""}]
[null,null,null,{"$f":"IFERROR(VLOOKUP(C573,Nota_Fiscal!E565:I566,2,0),\"\")","v":""}]
[null,null,null,{"$f":"IFERROR(VLOOKUP(C574,Nota_Fiscal!E566:I567,2,0),\"\")","v":""}]
[null,null,null,{"$f":"IFERROR(VLOOKUP(C575,Nota_Fiscal!E567:I568,2,0),\"\")","v":""}]
[null,null,null,{"$f":"IFERROR(VLOOKUP(C576,Nota_Fiscal!E568:I569,2,0),\"\")","v":""}]
[null,null,null,{"$f":"IFERROR(VLOOKUP(C577,Nota_Fiscal!E569:I570,2,0),\"\")","v":""}]
[null,null,null,{"$f":"IFERROR(VLOOKUP(C578,Nota_Fiscal!E570:I571,2,0),\"\")","v":""}]
[null,null,null,{"$f":"IFERROR(VLOOKUP(C579,Nota_Fiscal!E571:I572,2,0),\"\")","v":""}]
[null,null,null,{"$f":"IFERROR(VLOOKUP(C580,Nota_Fiscal!E572:I573,2,0),\"\")","v":""}]
[null,null,null,{"$f":"IFERROR(VLOOKUP(C581,Nota_Fiscal!E573:I574,2,0),\"\")","v":""}]
[null,null,null,{"$f":"IFERROR(VLOOKUP(C582,Nota_Fiscal!E574:I575,2,0),\"\")","v":""}]
[null,null,null,{"$f":"IFERROR(VLOOKUP(C583,Nota_Fiscal!E575:I576,2,0),\"\")","v":""}]
[null,null,null,{"$f":"IFERROR(VLOOKUP(C584,Nota_Fiscal!E576:I577,2,0),\"\")","v":""}]
[null,null,null,{"$f":"IFERROR(VLOOKUP(C585,Nota_Fiscal!E577:I578,2,0),\"\")","v":""}]
[null,null,null,{"$f":"IFERROR(VLOOKUP(C586,Nota_Fiscal!E578:I579,2,0),\"\")","v":""}]
[null,null,null,{"$f":"IFERROR(VLOOKUP(C587,Nota_Fiscal!E579:I580,2,0),\"\")","v":""}]
[null,null,null,{"$f":"IFERROR(VLOOKUP(C588,Nota_Fiscal!E580:I581,2,0),\"\")","v":""}]
[null,null,null,{"$f":"IFERROR(VLOOKUP(C589,Nota_Fiscal!E581:I582,2,0),\"\")","v":""}]
[null,null,null,{"$f":"IFERROR(VLOOKUP(C590,Nota_Fiscal!E582:I583,2,0),\"\")","v":""}]
[null,null,null,{"$f":"IFERROR(VLOOKUP(C591,Nota_Fiscal!E583:I584,2,0),\"\")","v":""}]
[null,null,null,{"$f":"IFERROR(VLOOKUP(C592,Nota_Fiscal!E584:I585,2,0),\"\")","v":""}]
[null,null,null,{"$f":"IFERROR(VLOOKUP(C593,Nota_Fiscal!E585:I586,2,0),\"\")","v":""}]
[null,null,null,{"$f":"IFERROR(VLOOKUP(C594,Nota_Fiscal!E586:I587,2,0),\"\")","v":""}]
[null,null,null,{"$f":"IFERROR(VLOOKUP(C595,Nota_Fiscal!E587:I588,2,0),\"\")","v":""}]
[null,null,null,{"$f":"IFERROR(VLOOKUP(C596,Nota_Fiscal!E588:I589,2,0),\"\")","v":""}]
[null,null,null,{"$f":"IFERROR(VLOOKUP(C597,Nota_Fiscal!E589:I590,2,0),\"\")","v":""}]
[null,null,null,{"$f":"IFERROR(VLOOKUP(C598,Nota_Fiscal!E590:I591,2,0),\"\")","v":""}]
[null,null,null,{"$f":"IFERROR(VLOOKUP(C599,Nota_Fiscal!E591:I592,2,0),\"\")","v":""}]
[null,null,null,{"$f":"IFERROR(VLOOKUP(C600,Nota_Fiscal!E592:I593,2,0),\"\")","v":""}]
[null,null,null,{"$f":"IFERROR(VLOOKUP(C601,Nota_Fiscal!E593:I594,2,0),\"\")","v":""}]
[null,null,null,{"$f":"IFERROR(VLOOKUP(C602,Nota_Fiscal!E594:I595,2,0),\"\")","v":""}]
[null,null,null,{"$f":"IFERROR(VLOOKUP(C603,Nota_Fiscal!E595:I596,2,0),\"\")","v":""}]
[null,null,null,{"$f":"IFERROR(VLOOKUP(C604,Nota_Fiscal!E596:I597,2,0),\"\")","v":""}]
[null,null,null,{"$f":"IFERROR(VLOOKUP(C605,Nota_Fiscal!E597:I598,2,0),\"\")","v":""}]
[null,null,null,{"$f":"IFERROR(VLOOKUP(C606,Nota_Fiscal!E598:I599,2,0),\"\")","v":""}]
[null,null,null,{"$f":"IFERROR(VLOOKUP(C607,Nota_Fiscal!E599:I600,2,0),\"\")","v":""}]
[null,null,null,{"$f":"IFERROR(VLOOKUP(C608,Nota_Fiscal!E600:I601,2,0),\"\")","v":""}]
[null,null,null,{"$f":"IFERROR(VLOOKUP(C609,Nota_Fiscal!E601:I602,2,0),\"\")","v":""}]
[null,null,null,{"$f":"IFERROR(VLOOKUP(C610,Nota_Fiscal!E602:I603,2,0),\"\")","v":""}]
[null,null,null,{"$f":"IFERROR(VLOOKUP(C611,Nota_Fiscal!E603:I604,2,0),\"\")","v":""}]
[null,null,null,{"$f":"IFERROR(VLOOKUP(C612,Nota_Fiscal!E604:I605,2,0),\"\")","v":""}]
[null,null,null,{"$f":"IFERROR(VLOOKUP(C613,Nota_Fiscal!E605:I606,2,0),\"\")","v":""}]
[null,null,null,{"$f":"IFERROR(VLOOKUP(C614,Nota_Fiscal!E606:I607,2,0),\"\")","v":""}]
[null,null,null,{"$f":"IFERROR(VLOOKUP(C615,Nota_Fiscal!E607:I608,2,0),\"\")","v":""}]
[null,null,null,{"$f":"IFERROR(VLOOKUP(C616,Nota_Fiscal!E608:I609,2,0),\"\")","v":""}]
[null,null,null,{"$f":"IFERROR(VLOOKUP(C617,Nota_Fiscal!E609:I610,2,0),\"\")","v":""}]
[null,null,null,{"$f":"IFERROR(VLOOKUP(C618,Nota_Fiscal!E610:I611,2,0),\"\")","v":""}]
[null,null,null,{"$f":"IFERROR(VLOOKUP(C619,Nota_Fiscal!E611:I612,2,0),\"\")","v":""}]
[null,null,null,{"$f":"IFERROR(VLOOKUP(C620,Nota_Fiscal!E612:I613,2,0),\"\")","v":""}]
[null,null,null,{"$f":"IFERROR(VLOOKUP(C621,Nota_Fiscal!E613:I614,2,0),\"\")","v":""}]
[null,null,null,{"$f":"IFERROR(VLOOKUP(C622,Nota_Fiscal!E614:I615,2,0),\"\")","v":""}]
[null,null,null,{"$f":"IFERROR(VLOOKUP(C623,Nota_Fiscal!E615:I616,2,0),\"\")","v":""}]
[null,null,null,{"$f":"IFERROR(VLOOKUP(C624,Nota_Fiscal!E616:I617,2,0),\"\")","v":""}]
[null,null,null,{"$f":"IFERROR(VLOOKUP(C625,Nota_Fiscal!E617:I618,2,0),\"\")","v":""}]
[null,null,null,{"$f":"IFERROR(VLOOKUP(C626,Nota_Fiscal!E618:I619,2,0),\"\")","v":""}]
[null,null,null,{"$f":"IFERROR(VLOOKUP(C627,Nota_Fiscal!E619:I620,2,0),\"\")","v":""}]
[null,null,null,{"$f":"IFERROR(VLOOKUP(C628,Nota_Fiscal!E620:I621,2,0),\"\")","v":""}]
[null,null,null,{"$f":"IFERROR(VLOOKUP(C629,Nota_Fiscal!E621:I622,2,0),\"\")","v":""}]
[null,null,null,{"$f":"IFERROR(VLOOKUP(C630,Nota_Fiscal!E622:I623,2,0),\"\")","v":""}]
[null,null,null,{"$f":"IFERROR(VLOOKUP(C631,Nota_Fiscal!E623:I624,2,0),\"\")","v":""}]
[null,null,null,{"$f":"IFERROR(VLOOKUP(C632,Nota_Fiscal!E624:I625,2,0),\"\")","v":""}]
[null,null,null,{"$f":"IFERROR(VLOOKUP(C633,Nota_Fiscal!E625:I626,2,0),\"\")","v":""}]
[null,null,null,{"$f":"IFERROR(VLOOKUP(C634,Nota_Fiscal!E626:I627,2,0),\"\")","v":""}]
[null,null,null,{"$f":"IFERROR(VLOOKUP(C635,Nota_Fiscal!E627:I628,2,0),\"\")","v":""}]
[null,null,null,{"$f":"IFERROR(VLOOKUP(C636,Nota_Fiscal!E628:I629,2,0),\"\")","v":""}]
[null,null,null,{"$f":"IFERROR(VLOOKUP(C637,Nota_Fiscal!E629:I630,2,0),\"\")","v":""}]
[null,null,null,{"$f":"IFERROR(VLOOKUP(C638,Nota_Fiscal!E630:I631,2,0),\"\")","v":""}]
[null,null,null,{"$f":"IFERROR(VLOOKUP(C639,Nota_Fiscal!E631:I632,2,0),\"\")","v":""}]
[null,null,null,{"$f":"IFERROR(VLOOKUP(C640,Nota_Fiscal!E632:I633,2,0),\"\")","v":""}]
[null,null,null,{"$f":"IFERROR(VLOOKUP(C641,Nota_Fiscal!E633:I634,2,0),\"\")","v":""}]
[null,null,null,{"$f":"IFERROR(VLOOKUP(C642,Nota_Fiscal!E634:I635,2,0),\"\")","v":""}]
[null,null,null,{"$f":"IFERROR(VLOOKUP(C643,Nota_Fiscal!E635:I636,2,0),\"\")","v":""}]
[null,null,null,{"$f":"IFERROR(VLOOKUP(C644,Nota_Fiscal!E636:I637,2,0),\"\")","v":""}]
[null,null,null,{"$f":"IFERROR(VLOOKUP(C645,Nota_Fiscal!E637:I638,2,0),\"\")","v":""}]
[null,null,null,{"$f":"IFERROR(VLOOKUP(C646,Nota_Fiscal!E638:I639,2,0),\"\")","v":""}]
[null,null,null,{"$f":"IFERROR(VLOOKUP(C647,Nota_Fiscal!E639:I640,2,0),\"\")","v":""}]
[null,null,null,{"$f":"IFERROR(VLOOKUP(C648,Nota_Fiscal!E640:I641,2,0),\"\")","v":""}]
[null,null,null,{"$f":"IFERROR(VLOOKUP(C649,Nota_Fiscal!E641:I642,2,0),\"\")","v":""}]
[null,null,null,{"$f":"IFERROR(VLOOKUP(C650,Nota_Fiscal!E642:I643,2,0),\"\")","v":""}]
[null,null,null,{"$f":"IFERROR(VLOOKUP(C651,Nota_Fiscal!E643:I644,2,0),\"\")","v":""}]
[null,null,null,{"$f":"IFERROR(VLOOKUP(C652,Nota_Fiscal!E644:I645,2,0),\"\")","v":""}]
[null,null,null,{"$f":"IFERROR(VLOOKUP(C653,Nota_Fiscal!E645:I646,2,0),\"\")","v":""}]
[null,null,null,{"$f":"IFERROR(VLOOKUP(C654,Nota_Fiscal!E646:I647,2,0),\"\")","v":""}]
[null,null,null,{"$f":"IFERROR(VLOOKUP(C655,Nota_Fiscal!E647:I648,2,0),\"\")","v":""}]
[null,null,null,{"$f":"IFERROR(VLOOKUP(C656,Nota_Fiscal!E648:I649,2,0),\"\")","v":""}]
[null,null,null,{"$f":"IFERROR(VLOOKUP(C657,Nota_Fiscal!E649:I650,2,0),\"\")","v":""}]
[null,null,null,{"$f":"IFERROR(VLOOKUP(C658,Nota_Fiscal!E650:I651,2,0),\"\")","v":""}]
[null,null,null,{"$f":"IFERROR(VLOOKUP(C659,Nota_Fiscal!E651:I652,2,0),\"\")","v":""}]
[null,null,null,{"$f":"IFERROR(VLOOKUP(C660,Nota_Fiscal!E652:I653,2,0),\"\")","v":""}]
[null,null,null,{"$f":"IFERROR(VLOOKUP(C661,Nota_Fiscal!E653:I654,2,0),\"\")","v":""}]
[null,null,null,{"$f":"IFERROR(VLOOKUP(C662,Nota_Fiscal!E654:I655,2,0),\"\")","v":""}]
[null,null,null,{"$f":"IFERROR(VLOOKUP(C663,Nota_Fiscal!E655:I656,2,0),\"\")","v":""}]
[null,null,null,{"$f":"IFERROR(VLOOKUP(C664,Nota_Fiscal!E656:I657,2,0),\"\")","v":""}]
[null,null,null,{"$f":"IFERROR(VLOOKUP(C665,Nota_Fiscal!E657:I658,2,0),\"\")","v":""}]
[null,null,null,{"$f":"IFERROR(VLOOKUP(C666,Nota_Fiscal!E658:I659,2,0),\"\")","v":""}]
[null,null,null,{"$f":"IFERROR(VLOOKUP(C667,Nota_Fiscal!E659:I660,2,0),\"\")","v":""}]
[null,null,null,{"$f":"IFERROR(VLOOKUP(C668,Nota_Fiscal!E660:I661,2,0),\"\")","v":""}]
[null,null,null,{"$f":"IFERROR(VLOOKUP(C669,Nota_Fiscal!E661:I662,2,0),\"\")","v":""}]
[null,null,null,{"$f":"IFERROR(VLOOKUP(C670,Nota_Fiscal!E662:I663,2,0),\"\")","v":""}]
[null,null,null,{"$f":"IFERROR(VLOOKUP(C671,Nota_Fiscal!E663:I664,2,0),\"\")","v":""}]
[null,null,null,{"$f":"IFERROR(VLOOKUP(C672,Nota_Fiscal!E664:I665,2,0),\"\")","v":""}]
[null,null,null,{"$f":"IFERROR(VLOOKUP(C673,Nota_Fiscal!E665:I666,2,0),\"\")","v":""}]
[null,null,null,{"$f":"IFERROR(VLOOKUP(C674,Nota_Fiscal!E666:I667,2,0),\"\")","v":""}]
[null,null,null,{"$f":"IFERROR(VLOOKUP(C675,Nota_Fiscal!E667:I668,2,0),\"\")","v":""}]
[null,null,null,{"$f":"IFERROR(VLOOKUP(C676,Nota_Fiscal!E668:I669,2,0),\"\")","v":""}]
[null,null,null,{"$f":"IFERROR(VLOOKUP(C677,Nota_Fiscal!E669:I670,2,0),\"\")","v":""}]
[null,null,null,{"$f":"IFERROR(VLOOKUP(C678,Nota_Fiscal!E670:I671,2,0),\"\")","v":""}]
[null,null,null,{"$f":"IFERROR(VLOOKUP(C679,Nota_Fiscal!E671:I672,2,0),\"\")","v":""}]
[null,null,null,{"$f":"IFERROR(VLOOKUP(C680,Nota_Fiscal!E672:I673,2,0),\"\")","v":""}]
[null,null,null,{"$f":"IFERROR(VLOOKUP(C681,Nota_Fiscal!E673:I674,2,0),\"\")","v":""}]
[null,null,null,{"$f":"IFERROR(VLOOKUP(C682,Nota_Fiscal!E674:I675,2,0),\"\")","v":""}]
[null,null,null,{"$f":"IFERROR(VLOOKUP(C683,Nota_Fiscal!E675:I676,2,0),\"\")","v":""}]
[null,null,null,{"$f":"IFERROR(VLOOKUP(C684,Nota_Fiscal!E676:I677,2,0),\"\")","v":""}]
[null,null,null,{"$f":"IFERROR(VLOOKUP(C685,Nota_Fiscal!E677:I678,2,0),\"\")","v":""}]
[null,null,null,{"$f":"IFERROR(VLOOKUP(C686,Nota_Fiscal!E678:I679,2,0),\"\")","v":""}]
[null,null,null,{"$f":"IFERROR(VLOOKUP(C687,Nota_Fiscal!E679:I680,2,0),\"\")","v":""}]
[null,null,null,{"$f":"IFERROR(VLOOKUP(C688,Nota_Fiscal!E680:I681,2,0),\"\")","v":""}]
[null,null,null,{"$f":"IFERROR(VLOOKUP(C689,Nota_Fiscal!E681:I682,2,0),\"\")","v":""}]
[null,null,null,{"$f":"IFERROR(VLOOKUP(C690,Nota_Fiscal!E682:I683,2,0),\"\")","v":""}]
[null,null,null,{"$f":"IFERROR(VLOOKUP(C691,Nota_Fiscal!E683:I684,2,0),\"\")","v":""}]
[null,null,null,{"$f":"IFERROR(VLOOKUP(C692,Nota_Fiscal!E684:I685,2,0),\"\")","v":""}]
[null,null,null,{"$f":"IFERROR(VLOOKUP(C693,Nota_Fiscal!E685:I686,2,0),\"\")","v":""}]
[null,null,null,{"$f":"IFERROR(VLOOKUP(C694,Nota_Fiscal!E686:I687,2,0),\"\")","v":""}]
[null,null,null,{"$f":"IFERROR(VLOOKUP(C695,Nota_Fiscal!E687:I688,2,0),\"\")","v":""}]
[null,null,null,{"$f":"IFERROR(VLOOKUP(C696,Nota_Fiscal!E688:I689,2,0),\"\")","v":""}]
[null,null,null,{"$f":"IFERROR(VLOOKUP(C697,Nota_Fiscal!E689:I690,2,0),\"\")","v":""}]
[null,null,null,{"$f":"IFERROR(VLOOKUP(C698,Nota_Fiscal!E690:I691,2,0),\"\")","v":""}]
[null,null,null,{"$f":"IFERROR(VLOOKUP(C699,Nota_Fiscal!E691:I692,2,0),\"\")","v":""}]
[null,null,null,{"$f":"IFERROR(VLOOKUP(C700,Nota_Fiscal!E692:I693,2,0),\"\")","v":""}]
[null,null,null,{"$f":"IFERROR(VLOOKUP(C701,Nota_Fiscal!E693:I694,2,0),\"\")","v":""}]
[null,null,null,{"$f":"IFERROR(VLOOKUP(C702,Nota_Fiscal!E694:I695,2,0),\"\")","v":""}]
[null,null,null,{"$f":"IFERROR(VLOOKUP(C703,Nota_Fiscal!E695:I696,2,0),\"\")","v":""}]
[null,null,null,{"$f":"IFERROR(VLOOKUP(C704,Nota_Fiscal!E696:I697,2,0),\"\")","v":""}]
[null,null,null,{"$f":"IFERROR(VLOOKUP(C705,Nota_Fiscal!E697:I698,2,0),\"\")","v":""}]
[null,null,null,{"$f":"IFERROR(VLOOKUP(C706,Nota_Fiscal!E698:I699,2,0),\"\")","v":""}]
[null,null,null,{"$f":"IFERROR(VLOOKUP(C707,Nota_Fiscal!E699:I700,2,0),\"\")","v":""}]
[null,null,null,{"$f":"IFERROR(VLOOKUP(C708,Nota_Fiscal!E700:I701,2,0),\"\")","v":""}]
[null,null,null,{"$f":"IFERROR(VLOOKUP(C709,Nota_Fiscal!E701:I702,2,0),\"\")","v":""}]
[null,null,null,{"$f":"IFERROR(VLOOKUP(C710,Nota_Fiscal!E702:I703,2,0),\"\")","v":""}]
[null,null,null,{"$f":"IFERROR(VLOOKUP(C711,Nota_Fiscal!E703:I704,2,0),\"\")","v":""}]
[null,null,null,{"$f":"IFERROR(VLOOKUP(C712,Nota_Fiscal!E704:I705,2,0),\"\")","v":""}]
[null,null,null,{"$f":"IFERROR(VLOOKUP(C713,Nota_Fiscal!E705:I706,2,0),\"\")","v":""}]
[null,null,null,{"$f":"IFERROR(VLOOKUP(C714,Nota_Fiscal!E706:I707,2,0),\"\")","v":""}]
[null,null,null,{"$f":"IFERROR(VLOOKUP(C715,Nota_Fiscal!E707:I708,2,0),\"\")","v":""}]
[null,null,null,{"$f":"IFERROR(VLOOKUP(C716,Nota_Fiscal!E708:I709,2,0),\"\")","v":""}]
[null,null,null,{"$f":"IFERROR(VLOOKUP(C717,Nota_Fiscal!E709:I710,2,0),\"\")","v":""}]
[null,null,null,{"$f":"IFERROR(VLOOKUP(C718,Nota_Fiscal!E710:I711,2,0),\"\")","v":""}]
[null,null,null,{"$f":"IFERROR(VLOOKUP(C719,Nota_Fiscal!E711:I712,2,0),\"\")","v":""}]
[null,null,null,{"$f":"IFERROR(VLOOKUP(C720,Nota_Fiscal!E712:I713,2,0),\"\")","v":""}]
[null,null,null,{"$f":"IFERROR(VLOOKUP(C721,Nota_Fiscal!E713:I714,2,0),\"\")","v":""}]
[null,null,null,{"$f":"IFERROR(VLOOKUP(C722,Nota_Fiscal!E714:I715,2,0),\"\")","v":""}]
[null,null,null,{"$f":"IFERROR(VLOOKUP(C723,Nota_Fiscal!E715:I716,2,0),\"\")","v":""}]
[null,null,null,{"$f":"IFERROR(VLOOKUP(C724,Nota_Fiscal!E716:I717,2,0),\"\")","v":""}]
[null,null,null,{"$f":"IFERROR(VLOOKUP(C725,Nota_Fiscal!E717:I718,2,0),\"\")","v":""}]
[null,null,null,{"$f":"IFERROR(VLOOKUP(C726,Nota_Fiscal!E718:I719,2,0),\"\")","v":""}]

{"sheet":"Relatorio_Atividades","index":10,"n_rows":1000,"n_cols":4,"rows_kept":1000,"cut":false,"hidden":false,"merged":[[1,1,1,3]]}
[]
[null,"RELATÓRIO DE ATIVIDADES E UTILIZAÇÃO DE INSUMOS"]
[]
[null,null,"Escolha a Atividade"]
[null,null,"dessecação"]
[]
[]
[null,"INSUMOS","QUANTIDADE UTILIZADAS","UNIDADE"]
[null,{"$f":"IFERROR(INDEX(Saída!$A$4:$A$998,SMALL((Saída!$G$4:$G$998=$C$5)*ROW(Saída!$G$4:$G$998),SUMPRODUCT(N(((Saída!$G$4:$G$998=$C$5)*ROW(Saída!$G$4:$G$998))=0))+ROW(Saída!$G$4:$G$998)-3)-3),\"\")","v":"Defensivo Granulado"},{"$f":"IFERROR(INDEX(Saída!$F$4:$F$998,SMALL((Saída!$G$4:$G$998=$C$5)*ROW(Saída!$G$4:$G$998),SUMPRODUCT(N(((Saída!$G$4:$G$998=$C$5)*ROW(Saída!$G$4:$G$998))=0))+ROW(Saída!$G$4:$G$998)-3)-3),\"\")","v":220},{"$f":"IFERROR(VLOOKUP(B9,Insumos!$A$4:$B$8,2,FALSE),\"\")","v":"Kg"}]
[null,"Defensivo Galão",165,{"$f":"IFERROR(VLOOKUP(B10,Insumos!$A$4:$B$8,2,FALSE),\"\")","v":"Lt"}]
[null,"Defensivo Galão",30,{"$f":"IFERROR(VLOOKUP(B11,Insumos!$A$4:$B$8,2,FALSE),\"\")","v":"Lt"}]
[null,"Defensivo Galão",8,{"$f":"IFERROR(VLOOKUP(B12,Insumos!$A$4:$B$8,2,FALSE),\"\")","v":"Lt"}]
[null,"Defensivo Granulado",120,{"$f":"IFERROR(VLOOKUP(B13,Insumos!$A$4:$B$8,2,FALSE),\"\")","v":"Kg"}]
[null,"Defensivo Galão",90,{"$f":"IFERROR(VLOOKUP(B14,Insumos!$A$4:$B$8,2,FALSE),\"\")","v":"Lt"}]
[null,"Defensivo Galão",4,{"$f":"IFERROR(VLOOKUP(B15,Insumos!$A$4:$B$8,2,FALSE),\"\")","v":"Lt"}]
[null,"Defensivo Galão",20,{"$f":"IFERROR(VLOOKUP(B16,Insumos!$A$4:$B$8,2,FALSE),\"\")","v":"Lt"}]
[null,"Defensivo Granulado",155,{"$f":"IFERROR(VLOOKUP(B17,Insumos!$A$4:$B$8,2,FALSE),\"\")","v":"Kg"}]
[null,"","",{"$f":"IFERROR(VLOOKUP(B18,Insumos!$A$4:$B$8,2,FALSE),\"\")","v":""}]
[null,"","",{"$f":"IFERROR(VLOOKUP(B19,Insumos!$A$4:$B$8,2,FALSE),\"\")","v":""}]
[null,"","",{"$f":"IFERROR(VLOOKUP(B20,Insumos!$A$4:$B$8,2,FALSE),\"\")","v":""}]
[null,"","",{"$f":"IFERROR(VLOOKUP(B21,Insumos!$A$4:$B$8,2,FALSE),\"\")","v":""}]
[null,"","",{"$f":"IFERROR(VLOOKUP(B22,Insumos!$A$4:$B$8,2,FALSE),\"\")","v":""}]
[null,"","",{"$f":"IFERROR(VLOOKUP(B23,Insumos!$A$4:$B$8,2,FALSE),\"\")","v":""}]
[null,"","",{"$f":"IFERROR(VLOOKUP(B24,Insumos!$A$4:$B$8,2,FALSE),\"\")","v":""}]
[null,"","",{"$f":"IFERROR(VLOOKUP(B25,Insumos!$A$4:$B$8,2,FALSE),\"\")","v":""}]
[null,"","",{"$f":"IFERROR(VLOOKUP(B26,Insumos!$A$4:$B$8,2,FALSE),\"\")","v":""}]
[null,"","",{"$f":"IFERROR(VLOOKUP(B27,Insumos!$A$4:$B$8,2,FALSE),\"\")","v":""}]
[null,"","",{"$f":"IFERROR(VLOOKUP(B28,Insumos!$A$4:$B$8,2,FALSE),\"\")","v":""}]
[null,"","",{"$f":"IFERROR(VLOOKUP(B29,Insumos!$A$4:$B$8,2,FALSE),\"\")","v":""}]
[null,"","",{"$f":"IFERROR(VLOOKUP(B30,Insumos!$A$4:$B$8,2,FALSE),\"\")","v":""}]
[null,"","",{"$f":"IFERROR(VLOOKUP(B31,Insumos!$A$4:$B$8,2,FALSE),\"\")","v":""}]
[null,"","",{"$f":"IFERROR(VLOOKUP(B32,Insumos!$A$4:$B$8,2,FALSE),\"\")","v":""}]
[null,"","",{"$f":"IFERROR(VLOOKUP(B33,Insumos!$A$4:$B$8,2,FALSE),\"\")","v":""}]
[null,"","",{"$f":"IFERROR(VLOOKUP(B34,Insumos!$A$4:$B$8,2,FALSE),\"\")","v":""}]
[null,"","",{"$f":"IFERROR(VLOOKUP(B35,Insumos!$A$4:$B$8,2,FALSE),\"\")","v":""}]
[null,"","",{"$f":"IFERROR(VLOOKUP(B36,Insumos!$A$4:$B$8,2,FALSE),\"\")","v":""}]
[null,"","",{"$f":"IFERROR(VLOOKUP(B37,Insumos!$A$4:$B$8,2,FALSE),\"\")","v":""}]
[null,"","",{"$f":"IFERROR(VLOOKUP(B38,Insumos!$A$4:$B$8,2,FALSE),\"\")","v":""}]
[null,"","",{"$f":"IFERROR(VLOOKUP(B39,Insumos!$A$4:$B$8,2,FALSE),\"\")","v":""}]
[null,"","",{"$f":"IFERROR(VLOOKUP(B40,Insumos!$A$4:$B$8,2,FALSE),\"\")","v":""}]
[null,"","",{"$f":"IFERROR(VLOOKUP(B41,Insumos!$A$4:$B$8,2,FALSE),\"\")","v":""}]
[null,"","",{"$f":"IFERROR(VLOOKUP(B42,Insumos!$A$4:$B$8,2,FALSE),\"\")","v":""}]
[null,"","",{"$f":"IFERROR(VLOOKUP(B43,Insumos!$A$4:$B$8,2,FALSE),\"\")","v":""}]
[null,"","",{"$f":"IFERROR(VLOOKUP(B44,Insumos!$A$4:$B$8,2,FALSE),\"\")","v":""}]
[null,"","",{"$f":"IFERROR(VLOOKUP(B45,Insumos!$A$4:$B$8,2,FALSE),\"\")","v":""}]
[null,"","",{"$f":"IFERROR(VLOOKUP(B46,Insumos!$A$4:$B$8,2,FALSE),\"\")","v":""}]
[null,"","",{"$f":"IFERROR(VLOOKUP(B47,Insumos!$A$4:$B$8,2,FALSE),\"\")","v":""}]
[null,"","",{"$f":"IFERROR(VLOOKUP(B48,Insumos!$A$4:$B$8,2,FALSE),\"\")","v":""}]
[null,"","",{"$f":"IFERROR(VLOOKUP(B49,Insumos!$A$4:$B$8,2,FALSE),\"\")","v":""}]
[null,"","",{"$f":"IFERROR(VLOOKUP(B50,Insumos!$A$4:$B$8,2,FALSE),\"\")","v":""}]
[null,"","",{"$f":"IFERROR(VLOOKUP(B51,Insumos!$A$4:$B$8,2,FALSE),\"\")","v":""}]
[null,"","",{"$f":"IFERROR(VLOOKUP(B52,Insumos!$A$4:$B$8,2,FALSE),\"\")","v":""}]
[null,"","",{"$f":"IFERROR(VLOOKUP(B53,Insumos!$A$4:$B$8,2,FALSE),\"\")","v":""}]
[null,"","",{"$f":"IFERROR(VLOOKUP(B54,Insumos!$A$4:$B$8,2,FALSE),\"\")","v":""}]
[null,"","",{"$f":"IFERROR(VLOOKUP(B55,Insumos!$A$4:$B$8,2,FALSE),\"\")","v":""}]
[null,"","",{"$f":"IFERROR(VLOOKUP(B56,Insumos!$A$4:$B$8,2,FALSE),\"\")","v":""}]
[null,"","",{"$f":"IFERROR(VLOOKUP(B57,Insumos!$A$4:$B$8,2,FALSE),\"\")","v":""}]
[null,"","",{"$f":"IFERROR(VLOOKUP(B58,Insumos!$A$4:$B$8,2,FALSE),\"\")","v":""}]
[null,"","",{"$f":"IFERROR(VLOOKUP(B59,Insumos!$A$4:$B$8,2,FALSE),\"\")","v":""}]
[null,"","",{"$f":"IFERROR(VLOOKUP(B60,Insumos!$A$4:$B$8,2,FALSE),\"\")","v":""}]
[null,"","",{"$f":"IFERROR(VLOOKUP(B61,Insumos!$A$4:$B$8,2,FALSE),\"\")","v":""}]
[null,"","",{"$f":"IFERROR(VLOOKUP(B62,Insumos!$A$4:$B$8,2,FALSE),\"\")","v":""}]
[null,"","",{"$f":"IFERROR(VLOOKUP(B63,Insumos!$A$4:$B$8,2,FALSE),\"\")","v":""}]
[null,"","",{"$f":"IFERROR(VLOOKUP(B64,Insumos!$A$4:$B$8,2,FALSE),\"\")","v":""}]
[null,"","",{"$f":"IFERROR(VLOOKUP(B65,Insumos!$A$4:$B$8,2,FALSE),\"\")","v":""}]
[null,"","",{"$f":"IFERROR(VLOOKUP(B66,Insumos!$A$4:$B$8,2,FALSE),\"\")","v":""}]
[null,"","",{"$f":"IFERROR(VLOOKUP(B67,Insumos!$A$4:$B$8,2,FALSE),\"\")","v":""}]
[null,"","",{"$f":"IFERROR(VLOOKUP(B68,Insumos!$A$4:$B$8,2,FALSE),\"\")","v":""}]
[null,"","",{"$f":"IFERROR(VLOOKUP(B69,Insumos!$A$4:$B$8,2,FALSE),\"\")","v":""}]
[null,"","",{"$f":"IFERROR(VLOOKUP(B70,Insumos!$A$4:$B$8,2,FALSE),\"\")","v":""}]
[null,"","",{"$f":"IFERROR(VLOOKUP(B71,Insumos!$A$4:$B$8,2,FALSE),\"\")","v":""}]
[null,"","",{"$f":"IFERROR(VLOOKUP(B72,Insumos!$A$4:$B$8,2,FALSE),\"\")","v":""}]
[null,"","",{"$f":"IFERROR(VLOOKUP(B73,Insumos!$A$4:$B$8,2,FALSE),\"\")","v":""}]
[null,"","",{"$f":"IFERROR(VLOOKUP(B74,Insumos!$A$4:$B$8,2,FALSE),\"\")","v":""}]
[null,"","",{"$f":"IFERROR(VLOOKUP(B75,Insumos!$A$4:$B$8,2,FALSE),\"\")","v":""}]
[null,"","",{"$f":"IFERROR(VLOOKUP(B76,Insumos!$A$4:$B$8,2,FALSE),\"\")","v":""}]
[null,"","",{"$f":"IFERROR(VLOOKUP(B77,Insumos!$A$4:$B$8,2,FALSE),\"\")","v":""}]
[null,"","",{"$f":"IFERROR(VLOOKUP(B78,Insumos!$A$4:$B$8,2,FALSE),\"\")","v":""}]
[null,"","",{"$f":"IFERROR(VLOOKUP(B79,Insumos!$A$4:$B$8,2,FALSE),\"\")","v":""}]
[null,"","",{"$f":"IFERROR(VLOOKUP(B80,Insumos!$A$4:$B$8,2,FALSE),\"\")","v":""}]
[null,"","",{"$f":"IFERROR(VLOOKUP(B81,Insumos!$A$4:$B$8,2,FALSE),\"\")","v":""}]
[null,"","",{"$f":"IFERROR(VLOOKUP(B82,Insumos!$A$4:$B$8,2,FALSE),\"\")","v":""}]
[null,"","",{"$f":"IFERROR(VLOOKUP(B83,Insumos!$A$4:$B$8,2,FALSE),\"\")","v":""}]
[null,"","",{"$f":"IFERROR(VLOOKUP(B84,Insumos!$A$4:$B$8,2,FALSE),\"\")","v":""}]
[null,"","",{"$f":"IFERROR(VLOOKUP(B85,Insumos!$A$4:$B$8,2,FALSE),\"\")","v":""}]
[null,"","",{"$f":"IFERROR(VLOOKUP(B86,Insumos!$A$4:$B$8,2,FALSE),\"\")","v":""}]
[null,"","",{"$f":"IFERROR(VLOOKUP(B87,Insumos!$A$4:$B$8,2,FALSE),\"\")","v":""}]
[null,"","",{"$f":"IFERROR(VLOOKUP(B88,Insumos!$A$4:$B$8,2,FALSE),\"\")","v":""}]
[null,"","",{"$f":"IFERROR(VLOOKUP(B89,Insumos!$A$4:$B$8,2,FALSE),\"\")","v":""}]
[null,"","",{"$f":"IFERROR(VLOOKUP(B90,Insumos!$A$4:$B$8,2,FALSE),\"\")","v":""}]
[null,"","",{"$f":"IFERROR(VLOOKUP(B91,Insumos!$A$4:$B$8,2,FALSE),\"\")","v":""}]
[null,"","",{"$f":"IFERROR(VLOOKUP(B92,Insumos!$A$4:$B$8,2,FALSE),\"\")","v":""}]
[null,"","",{"$f":"IFERROR(VLOOKUP(B93,Insumos!$A$4:$B$8,2,FALSE),\"\")","v":""}]
[null,"","",{"$f":"IFERROR(VLOOKUP(B94,Insumos!$A$4:$B$8,2,FALSE),\"\")","v":""}]
[null,"","",{"$f":"IFERROR(VLOOKUP(B95,Insumos!$A$4:$B$8,2,FALSE),\"\")","v":""}]
[null,"","",{"$f":"IFERROR(VLOOKUP(B96,Insumos!$A$4:$B$8,2,FALSE),\"\")","v":""}]
[null,"","",{"$f":"IFERROR(VLOOKUP(B97,Insumos!$A$4:$B$8,2,FALSE),\"\")","v":""}]
[null,"","",{"$f":"IFERROR(VLOOKUP(B98,Insumos!$A$4:$B$8,2,FALSE),\"\")","v":""}]
[null,"","",{"$f":"IFERROR(VLOOKUP(B99,Insumos!$A$4:$B$8,2,FALSE),\"\")","v":""}]
[null,"","",{"$f":"IFERROR(VLOOKUP(B100,Insumos!$A$4:$B$8,2,FALSE),\"\")","v":""}]
[null,"","",{"$f":"IFERROR(VLOOKUP(B101,Insumos!$A$4:$B$8,2,FALSE),\"\")","v":""}]
[null,"","",{"$f":"IFERROR(VLOOKUP(B102,Insumos!$A$4:$B$8,2,FALSE),\"\")","v":""}]
[null,"","",{"$f":"IFERROR(VLOOKUP(B103,Insumos!$A$4:$B$8,2,FALSE),\"\")","v":""}]
[null,"","",{"$f":"IFERROR(VLOOKUP(B104,Insumos!$A$4:$B$8,2,FALSE),\"\")","v":""}]
[null,"","",{"$f":"IFERROR(VLOOKUP(B105,Insumos!$A$4:$B$8,2,FALSE),\"\")","v":""}]
[null,"","",{"$f":"IFERROR(VLOOKUP(B106,Insumos!$A$4:$B$8,2,FALSE),\"\")","v":""}]
[null,"","",{"$f":"IFERROR(VLOOKUP(B107,Insumos!$A$4:$B$8,2,FALSE),\"\")","v":""}]
[null,"","",{"$f":"IFERROR(VLOOKUP(B108,Insumos!$A$4:$B$8,2,FALSE),\"\")","v":""}]
[null,"","",{"$f":"IFERROR(VLOOKUP(B109,Insumos!$A$4:$B$8,2,FALSE),\"\")","v":""}]
[null,"","",{"$f":"IFERROR(VLOOKUP(B110,Insumos!$A$4:$B$8,2,FALSE),\"\")","v":""}]
[null,"","",{"$f":"IFERROR(VLOOKUP(B111,Insumos!$A$4:$B$8,2,FALSE),\"\")","v":""}]
[null,"","",{"$f":"IFERROR(VLOOKUP(B112,Insumos!$A$4:$B$8,2,FALSE),\"\")","v":""}]
[null,"","",{"$f":"IFERROR(VLOOKUP(B113,Insumos!$A$4:$B$8,2,FALSE),\"\")","v":""}]
[null,"","",{"$f":"IFERROR(VLOOKUP(B114,Insumos!$A$4:$B$8,2,FALSE),\"\")","v":""}]
[null,"","",{"$f":"IFERROR(VLOOKUP(B115,Insumos!$A$4:$B$8,2,FALSE),\"\")","v":""}]
[null,"","",{"$f":"IFERROR(VLOOKUP(B116,Insumos!$A$4:$B$8,2,FALSE),\"\")","v":""}]
[null,"","",{"$f":"IFERROR(VLOOKUP(B117,Insumos!$A$4:$B$8,2,FALSE),\"\")","v":""}]
[null,"","",{"$f":"IFERROR(VLOOKUP(B118,Insumos!$A$4:$B$8,2,FALSE),\"\")","v":""}]
[null,"","",{"$f":"IFERROR(VLOOKUP(B119,Insumos!$A$4:$B$8,2,FALSE),\"\")","v":""}]
[null,"","",{"$f":"IFERROR(VLOOKUP(B120,Insumos!$A$4:$B$8,2,FALSE),\"\")","v":""}]
[null,"","",{"$f":"IFERROR(VLOOKUP(B121,Insumos!$A$4:$B$8,2,FALSE),\"\")","v":""}]
[null,"","",{"$f":"IFERROR(VLOOKUP(B122,Insumos!$A$4:$B$8,2,FALSE),\"\")","v":""}]
[null,"","",{"$f":"IFERROR(VLOOKUP(B123,Insumos!$A$4:$B$8,2,FALSE),\"\")","v":""}]
[null,"","",{"$f":"IFERROR(VLOOKUP(B124,Insumos!$A$4:$B$8,2,FALSE),\"\")","v":""}]
[null,"","",{"$f":"IFERROR(VLOOKUP(B125,Insumos!$A$4:$B$8,2,FALSE),\"\")","v":""}]
[null,"","",{"$f":"IFERROR(VLOOKUP(B126,Insumos!$A$4:$B$8,2,FALSE),\"\")","v":""}]
[null,"","",{"$f":"IFERROR(VLOOKUP(B127,Insumos!$A$4:$B$8,2,FALSE),\"\")","v":""}]
[null,"","",{"$f":"IFERROR(VLOOKUP(B128,Insumos!$A$4:$B$8,2,FALSE),\"\")","v":""}]
[null,"","",{"$f":"IFERROR(VLOOKUP(B129,Insumos!$A$4:$B$8,2,FALSE),\"\")","v":""}]
[null,"","",{"$f":"IFERROR(VLOOKUP(B130,Insumos!$A$4:$B$8,2,FALSE),\"\")","v":""}]
[null,"","",{"$f":"IFERROR(VLOOKUP(B131,Insumos!$A$4:$B$8,2,FALSE),\"\")","v":""}]
[null,"","",{"$f":"IFERROR(VLOOKUP(B132,Insumos!$A$4:$B$8,2,FALSE),\"\")","v":""}]
[null,"","",{"$f":"IFERROR(VLOOKUP(B133,Insumos!$A$4:$B$8,2,FALSE),\"\")","v":""}]
[null,"","",{"$f":"IFERROR(VLOOKUP(B134,Insumos!$A$4:$B$8,2,FALSE),\"\")","v":""}]
[null,"","",{"$f":"IFERROR(VLOOKUP(B135,Insumos!$A$4:$B$8,2,FALSE),\"\")","v":""}]
[null,"","",{"$f":"IFERROR(VLOOKUP(B136,Insumos!$A$4:$B$8,2,FALSE),\"\")","v":""}]
[null,"","",{"$f":"IFERROR(VLOOKUP(B137,Insumos!$A$4:$B$8,2,FALSE),\"\")","v":""}]
[null,"","",{"$f":"IFERROR(VLOOKUP(B138,Insumos!$A$4:$B$8,2,FALSE),\"\")","v":""}]
[null,"","",{"$f":"IFERROR(VLOOKUP(B139,Insumos!$A$4:$B$8,2,FALSE),\"\")","v":""}]
[null,"","",{"$f":"IFERROR(VLOOKUP(B140,Insumos!$A$4:$B$8,2,FALSE),\"\")","v":""}]
[null,"","",{"$f":"IFERROR(VLOOKUP(B141,Insumos!$A$4:$B$8,2,FALSE),\"\")","v":""}]
[null,"","",{"$f":"IFERROR(VLOOKUP(B142,Insumos!$A$4:$B$8,2,FALSE),\"\")","v":""}]
[null,"","",{"$f":"IFERROR(VLOOKUP(B143,Insumos!$A$4:$B$8,2,FALSE),\"\")","v":""}]
[null,"","",{"$f":"IFERROR(VLOOKUP(B144,Insumos!$A$4:$B$8,2,FALSE),\"\")","v":""}]
[null,"","",{"$f":"IFERROR(VLOOKUP(B145,Insumos!$A$4:$B$8,2,FALSE),\"\")","v":""}]
[null,"","",{"$f":"IFERROR(VLOOKUP(B146,Insumos!$A$4:$B$8,2,FALSE),\"\")","v":""}]
[null,"","",{"$f":"IFERROR(VLOOKUP(B147,Insumos!$A$4:$B$8,2,FALSE),\"\")","v":""}]
[null,"","",{"$f":"IFERROR(VLOOKUP(B148,Insumos!$A$4:$B$8,2,FALSE),\"\")","v":""}]
[null,"","",{"$f":"IFERROR(VLOOKUP(B149,Insumos!$A$4:$B$8,2,FALSE),\"\")","v":""}]
[null,"","",{"$f":"IFERROR(VLOOKUP(B150,Insumos!$A$4:$B$8,2,FALSE),\"\")","v":""}]
[null,"","",{"$f":"IFERROR(VLOOKUP(B151,Insumos!$A$4:$B$8,2,FALSE),\"\")","v":""}]
[null,"","",{"$f":"IFERROR(VLOOKUP(B152,Insumos!$A$4:$B$8,2,FALSE),\"\")","v":""}]
[null,"","",{"$f":"IFERROR(VLOOKUP(B153,Insumos!$A$4:$B$8,2,FALSE),\"\")","v":""}]
[null,"","",{"$f":"IFERROR(VLOOKUP(B154,Insumos!$A$4:$B$8,2,FALSE),\"\")","v":""}]
[null,"","",{"$f":"IFERROR(VLOOKUP(B155,Insumos!$A$4:$B$8,2,FALSE),\"\")","v":""}]
[null,"","",{"$f":"IFERROR(VLOOKUP(B156,Insumos!$A$4:$B$8,2,FALSE),\"\")","v":""}]
[null,"","",{"$f":"IFERROR(VLOOKUP(B157,Insumos!$A$4:$B$8,2,FALSE),\"\")","v":""}]
[null,"","",{"$f":"IFERROR(VLOOKUP(B158,Insumos!$A$4:$B$8,2,FALSE),\"\")","v":""}]
[null,"","",{"$f":"IFERROR(VLOOKUP(B159,Insumos!$A$4:$B$8,2,FALSE),\"\")","v":""}]
[null,"","",{"$f":"IFERROR(VLOOKUP(B160,Insumos!$A$4:$B$8,2,FALSE),\"\")","v":""}]
[null,"","",{"$f":"IFERROR(VLOOKUP(B161,Insumos!$A$4:$B$8,2,FALSE),\"\")","v":""}]
[null,"","",{"$f":"IFERROR(VLOOKUP(B162,Insumos!$A$4:$B$8,2,FALSE),\"\")","v":""}]
[null,"","",{"$f":"IFERROR(VLOOKUP(B163,Insumos!$A$4:$B$8,2,FALSE),\"\")","v":""}]
[null,"","",{"$f":"IFERROR(VLOOKUP(B164,Insumos!$A$4:$B$8,2,FALSE),\"\")","v":""}]
[null,"","",{"$f":"IFERROR(VLOOKUP(B165,Insumos!$A$4:$B$8,2,FALSE),\"\")","v":""}]
[null,"","",{"$f":"IFERROR(VLOOKUP(B166,Insumos!$A$4:$B$8,2,FALSE),\"\")","v":""}]
[null,"","",{"$f":"IFERROR(VLOOKUP(B167,Insumos!$A$4:$B$8,2,FALSE),\"\")","v":""}]
[null,"","",{"$f":"IFERROR(VLOOKUP(B168,Insumos!$A$4:$B$8,2,FALSE),\"\")","v":""}]
[null,"","",{"$f":"IFERROR(VLOOKUP(B169,Insumos!$A$4:$B$8,2,FALSE),\"\")","v":""}]
[null,"","",{"$f":"IFERROR(VLOOKUP(B170,Insumos!$A$4:$B$8,2,FALSE),\"\")","v":""}]
[null,"","",{"$f":"IFERROR(VLOOKUP(B171,Insumos!$A$4:$B$8,2,FALSE),\"\")","v":""}]
[null,"","",{"$f":"IFERROR(VLOOKUP(B172,Insumos!$A$4:$B$8,2,FALSE),\"\")","v":""}]
[null,"","",{"$f":"IFERROR(VLOOKUP(B173,Insumos!$A$4:$B$8,2,FALSE),\"\")","v":""}]
[null,"","",{"$f":"IFERROR(VLOOKUP(B174,Insumos!$A$4:$B$8,2,FALSE),\"\")","v":""}]
[null,"","",{"$f":"IFERROR(VLOOKUP(B175,Insumos!$A$4:$B$8,2,FALSE),\"\")","v":""}]
[null,"","",{"$f":"IFERROR(VLOOKUP(B176,Insumos!$A$4:$B$8,2,FALSE),\"\")","v":""}]
[null,"","",{"$f":"IFERROR(VLOOKUP(B177,Insumos!$A$4:$B$8,2,FALSE),\"\")","v":""}]
[null,"","",{"$f":"IFERROR(VLOOKUP(B178,Insumos!$A$4:$B$8,2,FALSE),\"\")","v":""}]
[null,"","",{"$f":"IFERROR(VLOOKUP(B179,Insumos!$A$4:$B$8,2,FALSE),\"\")","v":""}]
[null,"","",{"$f":"IFERROR(VLOOKUP(B180,Insumos!$A$4:$B$8,2,FALSE),\"\")","v":""}]
[null,"","",{"$f":"IFERROR(VLOOKUP(B181,Insumos!$A$4:$B$8,2,FALSE),\"\")","v":""}]
[null,"","",{"$f":"IFERROR(VLOOKUP(B182,Insumos!$A$4:$B$8,2,FALSE),\"\")","v":""}]
[null,"","",{"$f":"IFERROR(VLOOKUP(B183,Insumos!$A$4:$B$8,2,FALSE),\"\")","v":""}]
[null,"","",{"$f":"IFERROR(VLOOKUP(B184,Insumos!$A$4:$B$8,2,FALSE),\"\")","v":""}]
[null,"","",{"$f":"IFERROR(VLOOKUP(B185,Insumos!$A$4:$B$8,2,FALSE),\"\")","v":""}]
[null,"","",{"$f":"IFERROR(VLOOKUP(B186,Insumos!$A$4:$B$8,2,FALSE),\"\")","v":""}]
[null,"","",{"$f":"IFERROR(VLOOKUP(B187,Insumos!$A$4:$B$8,2,FALSE),\"\")","v":""}]
[null,"","",{"$f":"IFERROR(VLOOKUP(B188,Insumos!$A$4:$B$8,2,FALSE),\"\")","v":""}]
[null,"","",{"$f":"IFERROR(VLOOKUP(B189,Insumos!$A$4:$B$8,2,FALSE),\"\")","v":""}]
[null,"","",{"$f":"IFERROR(VLOOKUP(B190,Insumos!$A$4:$B$8,2,FALSE),\"\")","v":""}]
[null,"","",{"$f":"IFERROR(VLOOKUP(B191,Insumos!$A$4:$B$8,2,FALSE),\"\")","v":""}]
[null,"","",{"$f":"IFERROR(VLOOKUP(B192,Insumos!$A$4:$B$8,2,FALSE),\"\")","v":""}]
[null,"","",{"$f":"IFERROR(VLOOKUP(B193,Insumos!$A$4:$B$8,2,FALSE),\"\")","v":""}]
[null,"","",{"$f":"IFERROR(VLOOKUP(B194,Insumos!$A$4:$B$8,2,FALSE),\"\")","v":""}]
[null,"","",{"$f":"IFERROR(VLOOKUP(B195,Insumos!$A$4:$B$8,2,FALSE),\"\")","v":""}]
[null,"","",{"$f":"IFERROR(VLOOKUP(B196,Insumos!$A$4:$B$8,2,FALSE),\"\")","v":""}]
[null,"","",{"$f":"IFERROR(VLOOKUP(B197,Insumos!$A$4:$B$8,2,FALSE),\"\")","v":""}]
[null,"","",{"$f":"IFERROR(VLOOKUP(B198,Insumos!$A$4:$B$8,2,FALSE),\"\")","v":""}]
[null,"","",{"$f":"IFERROR(VLOOKUP(B199,Insumos!$A$4:$B$8,2,FALSE),\"\")","v":""}]
[null,"","",{"$f":"IFERROR(VLOOKUP(B200,Insumos!$A$4:$B$8,2,FALSE),\"\")","v":""}]
[null,"","",{"$f":"IFERROR(VLOOKUP(B201,Insumos!$A$4:$B$8,2,FALSE),\"\")","v":""}]
[null,"","",{"$f":"IFERROR(VLOOKUP(B202,Insumos!$A$4:$B$8,2,FALSE),\"\")","v":""}]
[null,"","",{"$f":"IFERROR(VLOOKUP(B203,Insumos!$A$4:$B$8,2,FALSE),\"\")","v":""}]
[null,"","",{"$f":"IFERROR(VLOOKUP(B204,Insumos!$A$4:$B$8,2,FALSE),\"\")","v":""}]
[null,"","",{"$f":"IFERROR(VLOOKUP(B205,Insumos!$A$4:$B$8,2,FALSE),\"\")","v":""}]
[null,"","",{"$f":"IFERROR(VLOOKUP(B206,Insumos!$A$4:$B$8,2,FALSE),\"\")","v":""}]
[null,"","",{"$f":"IFERROR(VLOOKUP(B207,Insumos!$A$4:$B$8,2,FALSE),\"\")","v":""}]
[null,"","",{"$f":"IFERROR(VLOOKUP(B208,Insumos!$A$4:$B$8,2,FALSE),\"\")","v":""}]
[null,"","",{"$f":"IFERROR(VLOOKUP(B209,Insumos!$A$4:$B$8,2,FALSE),\"\")","v":""}]
[null,"","",{"$f":"IFERROR(VLOOKUP(B210,Insumos!$A$4:$B$8,2,FALSE),\"\")","v":""}]
[null,"","",{"$f":"IFERROR(VLOOKUP(B211,Insumos!$A$4:$B$8,2,FALSE),\"\")","v":""}]
[null,"","",{"$f":"IFERROR(VLOOKUP(B212,Insumos!$A$4:$B$8,2,FALSE),\"\")","v":""}]
[null,"","",{"$f":"IFERROR(VLOOKUP(B213,Insumos!$A$4:$B$8,2,FALSE),\"\")","v":""}]
[null,"","",{"$f":"IFERROR(VLOOKUP(B214,Insumos!$A$4:$B$8,2,FALSE),\"\")","v":""}]
[null,"","",{"$f":"IFERROR(VLOOKUP(B215,Insumos!$A$4:$B$8,2,FALSE),\"\")","v":""}]
[null,"","",{"$f":"IFERROR(VLOOKUP(B216,Insumos!$A$4:$B$8,2,FALSE),\"\")","v":""}]
[null,"","",{"$f":"IFERROR(VLOOKUP(B217,Insumos!$A$4:$B$8,2,FALSE),\"\")","v":""}]
[null,"","",{"$f":"IFERROR(VLOOKUP(B218,Insumos!$A$4:$B$8,2,FALSE),\"\")","v":""}]
[null,"","",{"$f":"IFERROR(VLOOKUP(B219,Insumos!$A$4:$B$8,2,FALSE),\"\")","v":""}]
[null,"","",{"$f":"IFERROR(VLOOKUP(B220,Insumos!$A$4:$B$8,2,FALSE),\"\")","v":""}]
[null,"","",{"$f":"IFERROR(VLOOKUP(B221,Insumos!$A$4:$B$8,2,FALSE),\"\")","v":""}]
[null,"","",{"$f":"IFERROR(VLOOKUP(B222,Insumos!$A$4:$B$8,2,FALSE),\"\")","v":""}]
[null,"","",{"$f":"IFERROR(VLOOKUP(B223,Insumos!$A$4:$B$8,2,FALSE),\"\")","v":""}]
[null,"","",{"$f":"IFERROR(VLOOKUP(B224,Insumos!$A$4:$B$8,2,FALSE),\"\")","v":""}]
[null,"","",{"$f":"IFERROR(VLOOKUP(B225,Insumos!$A$4:$B$8,2,FALSE),\"\")","v":""}]
[null,"","",{"$f":"IFERROR(VLOOKUP(B226,Insumos!$A$4:$B$8,2,FALSE),\"\")","v":""}]
[null,"","",{"$f":"IFERROR(VLOOKUP(B227,Insumos!$A$4:$B$8,2,FALSE),\"\")","v":""}]
[null,"","",{"$f":"IFERROR(VLOOKUP(B228,Insumos!$A$4:$B$8,2,FALSE),\"\")","v":""}]
[null,"","",{"$f":"IFERROR(VLOOKUP(B229,Insumos!$A$4:$B$8,2,FALSE),\"\")","v":""}]
[null,"","",{"$f":"IFERROR(VLOOKUP(B230,Insumos!$A$4:$B$8,2,FALSE),\"\")","v":""}]
[null,"","",{"$f":"IFERROR(VLOOKUP(B231,Insumos!$A$4:$B$8,2,FALSE),\"\")","v":""}]
[null,"","",{"$f":"IFERROR(VLOOKUP(B232,Insumos!$A$4:$B$8,2,FALSE),\"\")","v":""}]
[null,"","",{"$f":"IFERROR(VLOOKUP(B233,Insumos!$A$4:$B$8,2,FALSE),\"\")","v":""}]
[null,"","",{"$f":"IFERROR(VLOOKUP(B234,Insumos!$A$4:$B$8,2,FALSE),\"\")","v":""}]
[null,"","",{"$f":"IFERROR(VLOOKUP(B235,Insumos!$A$4:$B$8,2,FALSE),\"\")","v":""}]
[null,"","",{"$f":"IFERROR(VLOOKUP(B236,Insumos!$A$4:$B$8,2,FALSE),\"\")","v":""}]
[null,"","",{"$f":"IFERROR(VLOOKUP(B237,Insumos!$A$4:$B$8,2,FALSE),\"\")","v":""}]
[null,"","",{"$f":"IFERROR(VLOOKUP(B238,Insumos!$A$4:$B$8,2,FALSE),\"\")","v":""}]
[null,"","",{"$f":"IFERROR(VLOOKUP(B239,Insumos!$A$4:$B$8,2,FALSE),\"\")","v":""}]
[null,"","",{"$f":"IFERROR(VLOOKUP(B240,Insumos!$A$4:$B$8,2,FALSE),\"\")","v":""}]
[null,"","",{"$f":"IFERROR(VLOOKUP(B241,Insumos!$A$4:$B$8,2,FALSE),\"\")","v":""}]
[null,"","",{"$f":"IFERROR(VLOOKUP(B242,Insumos!$A$4:$B$8,2,FALSE),\"\")","v":""}]
[null,"","",{"$f":"IFERROR(VLOOKUP(B243,Insumos!$A$4:$B$8,2,FALSE),\"\")","v":""}]
[null,"","",{"$f":"IFERROR(VLOOKUP(B244,Insumos!$A$4:$B$8,2,FALSE),\"\")","v":""}]
[null,"","",{"$f":"IFERROR(VLOOKUP(B245,Insumos!$A$4:$B$8,2,FALSE),\"\")","v":""}]
[null,"","",{"$f":"IFERROR(VLOOKUP(B246,Insumos!$A$4:$B$8,2,FALSE),\"\")","v":""}]
[null,"","",{"$f":"IFERROR(VLOOKUP(B247,Insumos!$A$4:$B$8,2,FALSE),\"\")","v":""}]
[null,"","",{"$f":"IFERROR(VLOOKUP(B248,Insumos!$A$4:$B$8,2,FALSE),\"\")","v":""}]
[null,"","",{"$f":"IFERROR(VLOOKUP(B249,Insumos!$A$4:$B$8,2,FALSE),\"\")","v":""}]
[null,"","",{"$f":"IFERROR(VLOOKUP(B250,Insumos!$A$4:$B$8,2,FALSE),\"\")","v":""}]
[null,"","",{"$f":"IFERROR(VLOOKUP(B251,Insumos!$A$4:$B$8,2,FALSE),\"\")","v":""}]
[null,"","",{"$f":"IFERROR(VLOOKUP(B252,Insumos!$A$4:$B$8,2,FALSE),\"\")","v":""}]
[null,"","",{"$f":"IFERROR(VLOOKUP(B253,Insumos!$A$4:$B$8,2,FALSE),\"\")","v":""}]
[null,"","",{"$f":"IFERROR(VLOOKUP(B254,Insumos!$A$4:$B$8,2,FALSE),\"\")","v":""}]
[null,"","",{"$f":"IFERROR(VLOOKUP(B255,Insumos!$A$4:$B$8,2,FALSE),\"\")","v":""}]
[null,"","",{"$f":"IFERROR(VLOOKUP(B256,Insumos!$A$4:$B$8,2,FALSE),\"\")","v":""}]
[null,"","",{"$f":"IFERROR(VLOOKUP(B257,Insumos!$A$4:$B$8,2,FALSE),\"\")","v":""}]
[null,"","",{"$f":"IFERROR(VLOOKUP(B258,Insumos!$A$4:$B$8,2,FALSE),\"\")","v":""}]
[null,"","",{"$f":"IFERROR(VLOOKUP(B259,Insumos!$A$4:$B$8,2,FALSE),\"\")","v":""}]
[null,"","",{"$f":"IFERROR(VLOOKUP(B260,Insumos!$A$4:$B$8,2,FALSE),\"\")","v":""}]
[null,"","",{"$f":"IFERROR(VLOOKUP(B261,Insumos!$A$4:$B$8,2,FALSE),\"\")","v":""}]
[null,"","",{"$f":"IFERROR(VLOOKUP(B262,Insumos!$A$4:$B$8,2,FALSE),\"\")","v":""}]
[null,"","",{"$f":"IFERROR(VLOOKUP(B263,Insumos!$A$4:$B$8,2,FALSE),\"\")","v":""}]
[null,"","",{"$f":"IFERROR(VLOOKUP(B264,Insumos!$A$4:$B$8,2,FALSE),\"\")","v":""}]
[null,"","",{"$f":"IFERROR(VLOOKUP(B265,Insumos!$A$4:$B$8,2,FALSE),\"\")","v":""}]
[null,"","",{"$f":"IFERROR(VLOOKUP(B266,Insumos!$A$4:$B$8,2,FALSE),\"\")","v":""}]
[null,"","",{"$f":"IFERROR(VLOOKUP(B267,Insumos!$A$4:$B$8,2,FALSE),\"\")","v":""}]
[null,"","",{"$f":"IFERROR(VLOOKUP(B268,Insumos!$A$4:$B$8,2,FALSE),\"\")","v":""}]
[null,"","",{"$f":"IFERROR(VLOOKUP(B269,Insumos!$A$4:$B$8,2,FALSE),\"\")","v":""}]
[null,"","",{"$f":"IFERROR(VLOOKUP(B270,Insumos!$A$4:$B$8,2,FALSE),\"\")","v":""}]
[null,"","",{"$f":"IFERROR(VLOOKUP(B271,Insumos!$A$4:$B$8,2,FALSE),\"\")","v":""}]
[null,"","",{"$f":"IFERROR(VLOOKUP(B272,Insumos!$A$4:$B$8,2,FALSE),\"\")","v":""}]
[null,"","",{"$f":"IFERROR(VLOOKUP(B273,Insumos!$A$4:$B$8,2,FALSE),\"\")","v":""}]
[null,"","",{"$f":"IFERROR(VLOOKUP(B274,Insumos!$A$4:$B$8,2,FALSE),\"\")","v":""}]
[null,"","",{"$f":"IFERROR(VLOOKUP(B275,Insumos!$A$4:$B$8,2,FALSE),\"\")","v":""}]
[null,"","",{"$f":"IFERROR(VLOOKUP(B276,Insumos!$A$4:$B$8,2,FALSE),\"\")","v":""}]
[null,"","",{"$f":"IFERROR(VLOOKUP(B277,Insumos!$A$4:$B$8,2,FALSE),\"\")","v":""}]
[null,"","",{"$f":"IFERROR(VLOOKUP(B278,Insumos!$A$4:$B$8,2,FALSE),\"\")","v":""}]
[null,"","",{"$f":"IFERROR(VLOOKUP(B279,Insumos!$A$4:$B$8,2,FALSE),\"\")","v":""}]
[null,"","",{"$f":"IFERROR(VLOOKUP(B280,Insumos!$A$4:$B$8,2,FALSE),\"\")","v":""}]
[null,"","",{"$f":"IFERROR(VLOOKUP(B281,Insumos!$A$4:$B$8,2,FALSE),\"\")","v":""}]
[null,"","",{"$f":"IFERROR(VLOOKUP(B282,Insumos!$A$4:$B$8,2,FALSE),\"\")","v":""}]
[null,"","",{"$f":"IFERROR(VLOOKUP(B283,Insumos!$A$4:$B$8,2,FALSE),\"\")","v":""}]
[null,"","",{"$f":"IFERROR(VLOOKUP(B284,Insumos!$A$4:$B$8,2,FALSE),\"\")","v":""}]
[null,"","",{"$f":"IFERROR(VLOOKUP(B285,Insumos!$A$4:$B$8,2,FALSE),\"\")","v":""}]
[null,"","",{"$f":"IFERROR(VLOOKUP(B286,Insumos!$A$4:$B$8,2,FALSE),\"\")","v":""}]
[null,"","",{"$f":"IFERROR(VLOOKUP(B287,Insumos!$A$4:$B$8,2,FALSE),\"\")","v":""}]
[null,"","",{"$f":"IFERROR(VLOOKUP(B288,Insumos!$A$4:$B$8,2,FALSE),\"\")","v":""}]
[null,"","",{"$f":"IFERROR(VLOOKUP(B289,Insumos!$A$4:$B$8,2,FALSE),\"\")","v":""}]
[null,"","",{"$f":"IFERROR(VLOOKUP(B290,Insumos!$A$4:$B$8,2,FALSE),\"\")","v":""}]
[null,"","",{"$f":"IFERROR(VLOOKUP(B291,Insumos!$A$4:$B$8,2,FALSE),\"\")","v":""}]
[null,"","",{"$f":"IFERROR(VLOOKUP(B292,Insumos!$A$4:$B$8,2,FALSE),\"\")","v":""}]
[null,"","",{"$f":"IFERROR(VLOOKUP(B293,Insumos!$A$4:$B$8,2,FALSE),\"\")","v":""}]
[null,"","",{"$f":"IFERROR(VLOOKUP(B294,Insumos!$A$4:$B$8,2,FALSE),\"\")","v":""}]
[null,"","",{"$f":"IFERROR(VLOOKUP(B295,Insumos!$A$4:$B$8,2,FALSE),\"\")","v":""}]
[null,"","",{"$f":"IFERROR(VLOOKUP(B296,Insumos!$A$4:$B$8,2,FALSE),\"\")","v":""}]
[null,"","",{"$f":"IFERROR(VLOOKUP(B297,Insumos!$A$4:$B$8,2,FALSE),\"\")","v":""}]
[null,"","",{"$f":"IFERROR(VLOOKUP(B298,Insumos!$A$4:$B$8,2,FALSE),\"\")","v":""}]
[null,"","",{"$f":"IFERROR(VLOOKUP(B299,Insumos!$A$4:$B$8,2,FALSE),\"\")","v":""}]
[null,"","",{"$f":"IFERROR(VLOOKUP(B300,Insumos!$A$4:$B$8,2,FALSE),\"\")","v":""}]
[null,"","",{"$f":"IFERROR(VLOOKUP(B301,Insumos!$A$4:$B$8,2,FALSE),\"\")","v":""}]
[null,"","",{"$f":"IFERROR(VLOOKUP(B302,Insumos!$A$4:$B$8,2,FALSE),\"\")","v":""}]
[null,"","",{"$f":"IFERROR(VLOOKUP(B303,Insumos!$A$4:$B$8,2,FALSE),\"\")","v":""}]
[null,"","",{"$f":"IFERROR(VLOOKUP(B304,Insumos!$A$4:$B$8,2,FALSE),\"\")","v":""}]
[null,"","",{"$f":"IFERROR(VLOOKUP(B305,Insumos!$A$4:$B$8,2,FALSE),\"\")","v":""}]
[null,"","",{"$f":"IFERROR(VLOOKUP(B306,Insumos!$A$4:$B$8,2,FALSE),\"\")","v":""}]
[null,"","",{"$f":"IFERROR(VLOOKUP(B307,Insumos!$A$4:$B$8,2,FALSE),\"\")","v":""}]
[null,"","",{"$f":"IFERROR(VLOOKUP(B308,Insumos!$A$4:$B$8,2,FALSE),\"\")","v":""}]
[null,"","",{"$f":"IFERROR(VLOOKUP(B309,Insumos!$A$4:$B$8,2,FALSE),\"\")","v":""}]
[null,"","",{"$f":"IFERROR(VLOOKUP(B310,Insumos!$A$4:$B$8,2,FALSE),\"\")","v":""}]
[null,"","",{"$f":"IFERROR(VLOOKUP(B311,Insumos!$A$4:$B$8,2,FALSE),\"\")","v":""}]
[null,"","",{"$f":"IFERROR(VLOOKUP(B312,Insumos!$A$4:$B$8,2,FALSE),\"\")","v":""}]
[null,"","",{"$f":"IFERROR(VLOOKUP(B313,Insumos!$A$4:$B$8,2,FALSE),\"\")","v":""}]
[null,"","",{"$f":"IFERROR(VLOOKUP(B314,Insumos!$A$4:$B$8,2,FALSE),\"\")","v":""}]
[null,"","",{"$f":"IFERROR(VLOOKUP(B315,Insumos!$A$4:$B$8,2,FALSE),\"\")","v":""}]
[null,"","",{"$f":"IFERROR(VLOOKUP(B316,Insumos!$A$4:$B$8,2,FALSE),\"\")","v":""}]
[null,"","",{"$f":"IFERROR(VLOOKUP(B317,Insumos!$A$4:$B$8,2,FALSE),\"\")","v":""}]
[null,"","",{"$f":"IFERROR(VLOOKUP(B318,Insumos!$A$4:$B$8,2,FALSE),\"\")","v":""}]
[null,"","",{"$f":"IFERROR(VLOOKUP(B319,Insumos!$A$4:$B$8,2,FALSE),\"\")","v":""}]
[null,"","",{"$f":"IFERROR(VLOOKUP(B320,Insumos!$A$4:$B$8,2,FALSE),\"\")","v":""}]
[null,"","",{"$f":"IFERROR(VLOOKUP(B321,Insumos!$A$4:$B$8,2,FALSE),\"\")","v":""}]
[null,"","",{"$f":"IFERROR(VLOOKUP(B322,Insumos!$A$4:$B$8,2,FALSE),\"\")","v":""}]
[null,"","",{"$f":"IFERROR(VLOOKUP(B323,Insumos!$A$4:$B$8,2,FALSE),\"\")","v":""}]
[null,"","",{"$f":"IFERROR(VLOOKUP(B324,Insumos!$A$4:$B$8,2,FALSE),\"\")","v":""}]
[null,"","",{"$f":"IFERROR(VLOOKUP(B325,Insumos!$A$4:$B$8,2,FALSE),\"\")","v":""}]
[null,"","",{"$f":"IFERROR(VLOOKUP(B326,Insumos!$A$4:$B$8,2,FALSE),\"\")","v":""}]
[null,"","",{"$f":"IFERROR(VLOOKUP(B327,Insumos!$A$4:$B$8,2,FALSE),\"\")","v":""}]
[null,"","",{"$f":"IFERROR(VLOOKUP(B328,Insumos!$A$4:$B$8,2,FALSE),\"\")","v":""}]
[null,"","",{"$f":"IFERROR(VLOOKUP(B329,Insumos!$A$4:$B$8,2,FALSE),\"\")","v":""}]
[null,"","",{"$f":"IFERROR(VLOOKUP(B330,Insumos!$A$4:$B$8,2,FALSE),\"\")","v":""}]
[null,"","",{"$f":"IFERROR(VLOOKUP(B331,Insumos!$A$4:$B$8,2,FALSE),\"\")","v":""}]
[null,"","",{"$f":"IFERROR(VLOOKUP(B332,Insumos!$A$4:$B$8,2,FALSE),\"\")","v":""}]
[null,"","",{"$f":"IFERROR(VLOOKUP(B333,Insumos!$A$4:$B$8,2,FALSE),\"\")","v":""}]
[null,"","",{"$f":"IFERROR(VLOOKUP(B334,Insumos!$A$4:$B$8,2,FALSE),\"\")","v":""}]
[null,"","",{"$f":"IFERROR(VLOOKUP(B335,Insumos!$A$4:$B$8,2,FALSE),\"\")","v":""}]
[null,"","",{"$f":"IFERROR(VLOOKUP(B336,Insumos!$A$4:$B$8,2,FALSE),\"\")","v":""}]
[null,"","",{"$f":"IFERROR(VLOOKUP(B337,Insumos!$A$4:$B$8,2,FALSE),\"\")","v":""}]
[null,"","",{"$f":"IFERROR(VLOOKUP(B338,Insumos!$A$4:$B$8,2,FALSE),\"\")","v":""}]
[null,"","",{"$f":"IFERROR(VLOOKUP(B339,Insumos!$A$4:$B$8,2,FALSE),\"\")","v":""}]
[null,"","",{"$f":"IFERROR(VLOOKUP(B340,Insumos!$A$4:$B$8,2,FALSE),\"\")","v":""}]
[null,"","",{"$f":"IFERROR(VLOOKUP(B341,Insumos!$A$4:$B$8,2,FALSE),\"\")","v":""}]
[null,"","",{"$f":"IFERROR(VLOOKUP(B342,Insumos!$A$4:$B$8,2,FALSE),\"\")","v":""}]
[null,"","",{"$f":"IFERROR(VLOOKUP(B343,Insumos!$A$4:$B$8,2,FALSE),\"\")","v":""}]
[null,"","",{"$f":"IFERROR(VLOOKUP(B344,Insumos!$A$4:$B$8,2,FALSE),\"\")","v":""}]
[null,"","",{"$f":"IFERROR(VLOOKUP(B345,Insumos!$A$4:$B$8,2,FALSE),\"\")","v":""}]
[null,"","",{"$f":"IFERROR(VLOOKUP(B346,Insumos!$A$4:$B$8,2,FALSE),\"\")","v":""}]
[null,"","",{"$f":"IFERROR(VLOOKUP(B347,Insumos!$A$4:$B$8,2,FALSE),\"\")","v":""}]
[null,"","",{"$f":"IFERROR(VLOOKUP(B348,Insumos!$A$4:$B$8,2,FALSE),\"\")","v":""}]
[null,"","",{"$f":"IFERROR(VLOOKUP(B349,Insumos!$A$4:$B$8,2,FALSE),\"\")","v":""}]
[null,"","",{"$f":"IFERROR(VLOOKUP(B350,Insumos!$A$4:$B$8,2,FALSE),\"\")","v":""}]
[null,"","",{"$f":"IFERROR(VLOOKUP(B351,Insumos!$A$4:$B$8,2,FALSE),\"\")","v":""}]
[null,"","",{"$f":"IFERROR(VLOOKUP(B352,Insumos!$A$4:$B$8,2,FALSE),\"\")","v":""}]
[null,"","",{"$f":"IFERROR(VLOOKUP(B353,Insumos!$A$4:$B$8,2,FALSE),\"\")","v":""}]
[null,"","",{"$f":"IFERROR(VLOOKUP(B354,Insumos!$A$4:$B$8,2,FALSE),\"\")","v":""}]
[null,"","",{"$f":"IFERROR(VLOOKUP(B355,Insumos!$A$4:$B$8,2,FALSE),\"\")","v":""}]
[null,"","",{"$f":"IFERROR(VLOOKUP(B356,Insumos!$A$4:$B$8,2,FALSE),\"\")","v":""}]
[null,"","",{"$f":"IFERROR(VLOOKUP(B357,Insumos!$A$4:$B$8,2,FALSE),\"\")","v":""}]
[null,"","",{"$f":"IFERROR(VLOOKUP(B358,Insumos!$A$4:$B$8,2,FALSE),\"\")","v":""}]
[null,"","",{"$f":"IFERROR(VLOOKUP(B359,Insumos!$A$4:$B$8,2,FALSE),\"\")","v":""}]
[null,"","",{"$f":"IFERROR(VLOOKUP(B360,Insumos!$A$4:$B$8,2,FALSE),\"\")","v":""}]
[null,"","",{"$f":"IFERROR(VLOOKUP(B361,Insumos!$A$4:$B$8,2,FALSE),\"\")","v":""}]
[null,"","",{"$f":"IFERROR(VLOOKUP(B362,Insumos!$A$4:$B$8,2,FALSE),\"\")","v":""}]
[null,"","",{"$f":"IFERROR(VLOOKUP(B363,Insumos!$A$4:$B$8,2,FALSE),\"\")","v":""}]
[null,"","",{"$f":"IFERROR(VLOOKUP(B364,Insumos!$A$4:$B$8,2,FALSE),\"\")","v":""}]
[null,"","",{"$f":"IFERROR(VLOOKUP(B365,Insumos!$A$4:$B$8,2,FALSE),\"\")","v":""}]
[null,"","",{"$f":"IFERROR(VLOOKUP(B366,Insumos!$A$4:$B$8,2,FALSE),\"\")","v":""}]
[null,"","",{"$f":"IFERROR(VLOOKUP(B367,Insumos!$A$4:$B$8,2,FALSE),\"\")","v":""}]
[null,"","",{"$f":"IFERROR(VLOOKUP(B368,Insumos!$A$4:$B$8,2,FALSE),\"\")","v":""}]
[null,"","",{"$f":"IFERROR(VLOOKUP(B369,Insumos!$A$4:$B$8,2,FALSE),\"\")","v":""}]
[null,"","",{"$f":"IFERROR(VLOOKUP(B370,Insumos!$A$4:$B$8,2,FALSE),\"\")","v":""}]
[null,"","",{"$f":"IFERROR(VLOOKUP(B371,Insumos!$A$4:$B$8,2,FALSE),\"\")","v":""}]
[null,"","",{"$f":"IFERROR(VLOOKUP(B372,Insumos!$A$4:$B$8,2,FALSE),\"\")","v":""}]
[null,"","",{"$f":"IFERROR(VLOOKUP(B373,Insumos!$A$4:$B$8,2,FALSE),\"\")","v":""}]
[null,"","",{"$f":"IFERROR(VLOOKUP(B374,Insumos!$A$4:$B$8,2,FALSE),\"\")","v":""}]
[null,"","",{"$f":"IFERROR(VLOOKUP(B375,Insumos!$A$4:$B$8,2,FALSE),\"\")","v":""}]
[null,"","",{"$f":"IFERROR(VLOOKUP(B376,Insumos!$A$4:$B$8,2,FALSE),\"\")","v":""}]
[null,"","",{"$f":"IFERROR(VLOOKUP(B377,Insumos!$A$4:$B$8,2,FALSE),\"\")","v":""}]
[null,"","",{"$f":"IFERROR(VLOOKUP(B378,Insumos!$A$4:$B$8,2,FALSE),\"\")","v":""}]
[null,"","",{"$f":"IFERROR(VLOOKUP(B379,Insumos!$A$4:$B$8,2,FALSE),\"\")","v":""}]
[null,"","",{"$f":"IFERROR(VLOOKUP(B380,Insumos!$A$4:$B$8,2,FALSE),\"\")","v":""}]
[null,"","",{"$f":"IFERROR(VLOOKUP(B381,Insumos!$A$4:$B$8,2,FALSE),\"\")","v":""}]
[null,"","",{"$f":"IFERROR(VLOOKUP(B382,Insumos!$A$4:$B$8,2,FALSE),\"\")","v":""}]
[null,"","",{"$f":"IFERROR(VLOOKUP(B383,Insumos!$A$4:$B$8,2,FALSE),\"\")","v":""}]
[null,"","",{"$f":"IFERROR(VLOOKUP(B384,Insumos!$A$4:$B$8,2,FALSE),\"\")","v":""}]
[null,"","",{"$f":"IFERROR(VLOOKUP(B385,Insumos!$A$4:$B$8,2,FALSE),\"\")","v":""}]
[null,"","",{"$f":"IFERROR(VLOOKUP(B386,Insumos!$A$4:$B$8,2,FALSE),\"\")","v":""}]
[null,"","",{"$f":"IFERROR(VLOOKUP(B387,Insumos!$A$4:$B$8,2,FALSE),\"\")","v":""}]
[null,"","",{"$f":"IFERROR(VLOOKUP(B388,Insumos!$A$4:$B$8,2,FALSE),\"\")","v":""}]
[null,"","",{"$f":"IFERROR(VLOOKUP(B389,Insumos!$A$4:$B$8,2,FALSE),\"\")","v":""}]
[null,"","",{"$f":"IFERROR(VLOOKUP(B390,Insumos!$A$4:$B$8,2,FALSE),\"\")","v":""}]
[null,"","",{"$f":"IFERROR(VLOOKUP(B391,Insumos!$A$4:$B$8,2,FALSE),\"\")","v":""}]
[null,"","",{"$f":"IFERROR(VLOOKUP(B392,Insumos!$A$4:$B$8,2,FALSE),\"\")","v":""}]
[null,"","",{"$f":"IFERROR(VLOOKUP(B393,Insumos!$A$4:$B$8,2,FALSE),\"\")","v":""}]
[null,"","",{"$f":"IFERROR(VLOOKUP(B394,Insumos!$A$4:$B$8,2,FALSE),\"\")","v":""}]
[null,"","",{"$f":"IFERROR(VLOOKUP(B395,Insumos!$A$4:$B$8,2,FALSE),\"\")","v":""}]
[null,"","",{"$f":"IFERROR(VLOOKUP(B396,Insumos!$A$4:$B$8,2,FALSE),\"\")","v":""}]
[null,"","",{"$f":"IFERROR(VLOOKUP(B397,Insumos!$A$4:$B$8,2,FALSE),\"\")","v":""}]
[null,"","",{"$f":"IFERROR(VLOOKUP(B398,Insumos!$A$4:$B$8,2,FALSE),\"\")","v":""}]
[null,"","",{"$f":"IFERROR(VLOOKUP(B399,Insumos!$A$4:$B$8,2,FALSE),\"\")","v":""}]
[null,"","",{"$f":"IFERROR(VLOOKUP(B400,Insumos!$A$4:$B$8,2,FALSE),\"\")","v":""}]
[null,"","",{"$f":"IFERROR(VLOOKUP(B401,Insumos!$A$4:$B$8,2,FALSE),\"\")","v":""}]
[null,"","",{"$f":"IFERROR(VLOOKUP(B402,Insumos!$A$4:$B$8,2,FALSE),\"\")","v":""}]
[null,"","",{"$f":"IFERROR(VLOOKUP(B403,Insumos!$A$4:$B$8,2,FALSE),\"\")","v":""}]
[null,"","",{"$f":"IFERROR(VLOOKUP(B404,Insumos!$A$4:$B$8,2,FALSE),\"\")","v":""}]
[null,"","",{"$f":"IFERROR(VLOOKUP(B405,Insumos!$A$4:$B$8,2,FALSE),\"\")","v":""}]
[null,"","",{"$f":"IFERROR(VLOOKUP(B406,Insumos!$A$4:$B$8,2,FALSE),\"\")","v":""}]
[null,"","",{"$f":"IFERROR(VLOOKUP(B407,Insumos!$A$4:$B$8,2,FALSE),\"\")","v":""}]
[null,"","",{"$f":"IFERROR(VLOOKUP(B408,Insumos!$A$4:$B$8,2,FALSE),\"\")","v":""}]
[null,"","",{"$f":"IFERROR(VLOOKUP(B409,Insumos!$A$4:$B$8,2,FALSE),\"\")","v":""}]
[null,"","",{"$f":"IFERROR(VLOOKUP(B410,Insumos!$A$4:$B$8,2,FALSE),\"\")","v":""}]
[null,"","",{"$f":"IFERROR(VLOOKUP(B411,Insumos!$A$4:$B$8,2,FALSE),\"\")","v":""}]
[null,"","",{"$f":"IFERROR(VLOOKUP(B412,Insumos!$A$4:$B$8,2,FALSE),\"\")","v":""}]
[null,"","",{"$f":"IFERROR(VLOOKUP(B413,Insumos!$A$4:$B$8,2,FALSE),\"\")","v":""}]
[null,"","",{"$f":"IFERROR(VLOOKUP(B414,Insumos!$A$4:$B$8,2,FALSE),\"\")","v":""}]
[null,"","",{"$f":"IFERROR(VLOOKUP(B415,Insumos!$A$4:$B$8,2,FALSE),\"\")","v":""}]
[null,"","",{"$f":"IFERROR(VLOOKUP(B416,Insumos!$A$4:$B$8,2,FALSE),\"\")","v":""}]
[null,"","",{"$f":"IFERROR(VLOOKUP(B417,Insumos!$A$4:$B$8,2,FALSE),\"\")","v":""}]
[null,"","",{"$f":"IFERROR(VLOOKUP(B418,Insumos!$A$4:$B$8,2,FALSE),\"\")","v":""}]
[null,"","",{"$f":"IFERROR(VLOOKUP(B419,Insumos!$A$4:$B$8,2,FALSE),\"\")","v":""}]
[null,"","",{"$f":"IFERROR(VLOOKUP(B420,Insumos!$A$4:$B$8,2,FALSE),\"\")","v":""}]
[null,"","",{"$f":"IFERROR(VLOOKUP(B421,Insumos!$A$4:$B$8,2,FALSE),\"\")","v":""}]
[null,"","",{"$f":"IFERROR(VLOOKUP(B422,Insumos!$A$4:$B$8,2,FALSE),\"\")","v":""}]
[null,"","",{"$f":"IFERROR(VLOOKUP(B423,Insumos!$A$4:$B$8,2,FALSE),\"\")","v":""}]
[null,"","",{"$f":"IFERROR(VLOOKUP(B424,Insumos!$A$4:$B$8,2,FALSE),\"\")","v":""}]
[null,"","",{"$f":"IFERROR(VLOOKUP(B425,Insumos!$A$4:$B$8,2,FALSE),\"\")","v":""}]
[null,"","",{"$f":"IFERROR(VLOOKUP(B426,Insumos!$A$4:$B$8,2,FALSE),\"\")","v":""}]
[null,"","",{"$f":"IFERROR(VLOOKUP(B427,Insumos!$A$4:$B$8,2,FALSE),\"\")","v":""}]
[null,"","",{"$f":"IFERROR(VLOOKUP(B428,Insumos!$A$4:$B$8,2,FALSE),\"\")","v":""}]
[null,"","",{"$f":"IFERROR(VLOOKUP(B429,Insumos!$A$4:$B$8,2,FALSE),\"\")","v":""}]
[null,"","",{"$f":"IFERROR(VLOOKUP(B430,Insumos!$A$4:$B$8,2,FALSE),\"\")","v":""}]
[null,"","",{"$f":"IFERROR(VLOOKUP(B431,Insumos!$A$4:$B$8,2,FALSE),\"\")","v":""}]
[null,"","",{"$f":"IFERROR(VLOOKUP(B432,Insumos!$A$4:$B$8,2,FALSE),\"\")","v":""}]
[null,"","",{"$f":"IFERROR(VLOOKUP(B433,Insumos!$A$4:$B$8,2,FALSE),\"\")","v":""}]
[null,"","",{"$f":"IFERROR(VLOOKUP(B434,Insumos!$A$4:$B$8,2,FALSE),\"\")","v":""}]
[null,"","",{"$f":"IFERROR(VLOOKUP(B435,Insumos!$A$4:$B$8,2,FALSE),\"\")","v":""}]
[null,"","",{"$f":"IFERROR(VLOOKUP(B436,Insumos!$A$4:$B$8,2,FALSE),\"\")","v":""}]
[null,"","",{"$f":"IFERROR(VLOOKUP(B437,Insumos!$A$4:$B$8,2,FALSE),\"\")","v":""}]
[null,"","",{"$f":"IFERROR(VLOOKUP(B438,Insumos!$A$4:$B$8,2,FALSE),\"\")","v":""}]
[null,"","",{"$f":"IFERROR(VLOOKUP(B439,Insumos!$A$4:$B$8,2,FALSE),\"\")","v":""}]
[null,"","",{"$f":"IFERROR(VLOOKUP(B440,Insumos!$A$4:$B$8,2,FALSE),\"\")","v":""}]
[null,"","",{"$f":"IFERROR(VLOOKUP(B441,Insumos!$A$4:$B$8,2,FALSE),\"\")","v":""}]
[null,"","",{"$f":"IFERROR(VLOOKUP(B442,Insumos!$A$4:$B$8,2,FALSE),\"\")","v":""}]
[null,"","",{"$f":"IFERROR(VLOOKUP(B443,Insumos!$A$4:$B$8,2,FALSE),\"\")","v":""}]
[null,"","",{"$f":"IFERROR(VLOOKUP(B444,Insumos!$A$4:$B$8,2,FALSE),\"\")","v":""}]
[null,"","",{"$f":"IFERROR(VLOOKUP(B445,Insumos!$A$4:$B$8,2,FALSE),\"\")","v":""}]
[null,"","",{"$f":"IFERROR(VLOOKUP(B446,Insumos!$A$4:$B$8,2,FALSE),\"\")","v":""}]
[null,"","",{"$f":"IFERROR(VLOOKUP(B447,Insumos!$A$4:$B$8,2,FALSE),\"\")","v":""}]
[null,"","",{"$f":"IFERROR(VLOOKUP(B448,Insumos!$A$4:$B$8,2,FALSE),\"\")","v":""}]
[null,"","",{"$f":"IFERROR(VLOOKUP(B449,Insumos!$A$4:$B$8,2,FALSE),\"\")","v":""}]
[null,"","",{"$f":"IFERROR(VLOOKUP(B450,Insumos!$A$4:$B$8,2,FALSE),\"\")","v":""}]
[null,"","",{"$f":"IFERROR(VLOOKUP(B451,Insumos!$A$4:$B$8,2,FALSE),\"\")","v":""}]
[null,"","",{"$f":"IFERROR(VLOOKUP(B452,Insumos!$A$4:$B$8,2,FALSE),\"\")","v":""}]
[null,"","",{"$f":"IFERROR(VLOOKUP(B453,Insumos!$A$4:$B$8,2,FALSE),\"\")","v":""}]
[null,"","",{"$f":"IFERROR(VLOOKUP(B454,Insumos!$A$4:$B$8,2,FALSE),\"\")","v":""}]
[null,"","",{"$f":"IFERROR(VLOOKUP(B455,Insumos!$A$4:$B$8,2,FALSE),\"\")","v":""}]
[null,"","",{"$f":"IFERROR(VLOOKUP(B456,Insumos!$A$4:$B$8,2,FALSE),\"\")","v":""}]
[null,"","",{"$f":"IFERROR(VLOOKUP(B457,Insumos!$A$4:$B$8,2,FALSE),\"\")","v":""}]
[null,"","",{"$f":"IFERROR(VLOOKUP(B458,Insumos!$A$4:$B$8,2,FALSE),\"\")","v":""}]
[null,"","",{"$f":"IFERROR(VLOOKUP(B459,Insumos!$A$4:$B$8,2,FALSE),\"\")","v":""}]
[null,"","",{"$f":"IFERROR(VLOOKUP(B460,Insumos!$A$4:$B$8,2,FALSE),\"\")","v":""}]
[null,"","",{"$f":"IFERROR(VLOOKUP(B461,Insumos!$A$4:$B$8,2,FALSE),\"\")","v":""}]
[null,"","",{"$f":"IFERROR(VLOOKUP(B462,Insumos!$A$4:$B$8,2,FALSE),\"\")","v":""}]
[null,"","",{"$f":"IFERROR(VLOOKUP(B463,Insumos!$A$4:$B$8,2,FALSE),\"\")","v":""}]
[null,"","",{"$f":"IFERROR(VLOOKUP(B464,Insumos!$A$4:$B$8,2,FALSE),\"\")","v":""}]
[null,"","",{"$f":"IFERROR(VLOOKUP(B465,Insumos!$A$4:$B$8,2,FALSE),\"\")","v":""}]
[null,"","",{"$f":"IFERROR(VLOOKUP(B466,Insumos!$A$4:$B$8,2,FALSE),\"\")","v":""}]
[null,"","",{"$f":"IFERROR(VLOOKUP(B467,Insumos!$A$4:$B$8,2,FALSE),\"\")","v":""}]
[null,"","",{"$f":"IFERROR(VLOOKUP(B468,Insumos!$A$4:$B$8,2,FALSE),\"\")","v":""}]
[null,"","",{"$f":"IFERROR(VLOOKUP(B469,Insumos!$A$4:$B$8,2,FALSE),\"\")","v":""}]
[null,"","",{"$f":"IFERROR(VLOOKUP(B470,Insumos!$A$4:$B$8,2,FALSE),\"\")","v":""}]
[null,"","",{"$f":"IFERROR(VLOOKUP(B471,Insumos!$A$4:$B$8,2,FALSE),\"\")","v":""}]
[null,"","",{"$f":"IFERROR(VLOOKUP(B472,Insumos!$A$4:$B$8,2,FALSE),\"\")","v":""}]
[null,"","",{"$f":"IFERROR(VLOOKUP(B473,Insumos!$A$4:$B$8,2,FALSE),\"\")","v":""}]
[null,"","",{"$f":"IFERROR(VLOOKUP(B474,Insumos!$A$4:$B$8,2,FALSE),\"\")","v":""}]
[null,"","",{"$f":"IFERROR(VLOOKUP(B475,Insumos!$A$4:$B$8,2,FALSE),\"\")","v":""}]
[null,"","",{"$f":"IFERROR(VLOOKUP(B476,Insumos!$A$4:$B$8,2,FALSE),\"\")","v":""}]
[null,"","",{"$f":"IFERROR(VLOOKUP(B477,Insumos!$A$4:$B$8,2,FALSE),\"\")","v":""}]
[null,"","",{"$f":"IFERROR(VLOOKUP(B478,Insumos!$A$4:$B$8,2,FALSE),\"\")","v":""}]
[null,"","",{"$f":"IFERROR(VLOOKUP(B479,Insumos!$A$4:$B$8,2,FALSE),\"\")","v":""}]
[null,"","",{"$f":"IFERROR(VLOOKUP(B480,Insumos!$A$4:$B$8,2,FALSE),\"\")","v":""}]
[null,"","",{"$f":"IFERROR(VLOOKUP(B481,Insumos!$A$4:$B$8,2,FALSE),\"\")","v":""}]
[null,"","",{"$f":"IFERROR(VLOOKUP(B482,Insumos!$A$4:$B$8,2,FALSE),\"\")","v":""}]
[null,"","",{"$f":"IFERROR(VLOOKUP(B483,Insumos!$A$4:$B$8,2,FALSE),\"\")","v":""}]
[null,"","",{"$f":"IFERROR(VLOOKUP(B484,Insumos!$A$4:$B$8,2,FALSE),\"\")","v":""}]
[null,"","",{"$f":"IFERROR(VLOOKUP(B485,Insumos!$A$4:$B$8,2,FALSE),\"\")","v":""}]
[null,"","",{"$f":"IFERROR(VLOOKUP(B486,Insumos!$A$4:$B$8,2,FALSE),\"\")","v":""}]
[null,"","",{"$f":"IFERROR(VLOOKUP(B487,Insumos!$A$4:$B$8,2,FALSE),\"\")","v":""}]
[null,"","",{"$f":"IFERROR(VLOOKUP(B488,Insumos!$A$4:$B$8,2,FALSE),\"\")","v":""}]
[null,"","",{"$f":"IFERROR(VLOOKUP(B489,Insumos!$A$4:$B$8,2,FALSE),\"\")","v":""}]
[null,"","",{"$f":"IFERROR(VLOOKUP(B490,Insumos!$A$4:$B$8,2,FALSE),\"\")","v":""}]
[null,"","",{"$f":"IFERROR(VLOOKUP(B491,Insumos!$A$4:$B$8,2,FALSE),\"\")","v":""}]
[null,"","",{"$f":"IFERROR(VLOOKUP(B492,Insumos!$A$4:$B$8,2,FALSE),\"\")","v":""}]
[null,"","",{"$f":"IFERROR(VLOOKUP(B493,Insumos!$A$4:$B$8,2,FALSE),\"\")","v":""}]
[null,"","",{"$f":"IFERROR(VLOOKUP(B494,Insumos!$A$4:$B$8,2,FALSE),\"\")","v":""}]
[null,"","",{"$f":"IFERROR(VLOOKUP(B495,Insumos!$A$4:$B$8,2,FALSE),\"\")","v":""}]
[null,"","",{"$f":"IFERROR(VLOOKUP(B496,Insumos!$A$4:$B$8,2,FALSE),\"\")","v":""}]
[null,"","",{"$f":"IFERROR(VLOOKUP(B497,Insumos!$A$4:$B$8,2,FALSE),\"\")","v":""}]
[null,"","",{"$f":"IFERROR(VLOOKUP(B498,Insumos!$A$4:$B$8,2,FALSE),\"\")","v":""}]
[null,"","",{"$f":"IFERROR(VLOOKUP(B499,Insumos!$A$4:$B$8,2,FALSE),\"\")","v":""}]
[null,"","",{"$f":"IFERROR(VLOOKUP(B500,Insumos!$A$4:$B$8,2,FALSE),\"\")","v":""}]
[null,"","",{"$f":"IFERROR(VLOOKUP(B501,Insumos!$A$4:$B$8,2,FALSE),\"\")","v":""}]
[null,"","",{"$f":"IFERROR(VLOOKUP(B502,Insumos!$A$4:$B$8,2,FALSE),\"\")","v":""}]
[null,"","",{"$f":"IFERROR(VLOOKUP(B503,Insumos!$A$4:$B$8,2,FALSE),\"\")","v":""}]
[null,"","",{"$f":"IFERROR(VLOOKUP(B504,Insumos!$A$4:$B$8,2,FALSE),\"\")","v":""}]
[null,"","",{"$f":"IFERROR(VLOOKUP(B505,Insumos!$A$4:$B$8,2,FALSE),\"\")","v":""}]
[null,"","",{"$f":"IFERROR(VLOOKUP(B506,Insumos!$A$4:$B$8,2,FALSE),\"\")","v":""}]
[null,"","",{"$f":"IFERROR(VLOOKUP(B507,Insumos!$A$4:$B$8,2,FALSE),\"\")","v":""}]
[null,"","",{"$f":"IFERROR(VLOOKUP(B508,Insumos!$A$4:$B$8,2,FALSE),\"\")","v":""}]
[null,"","",{"$f":"IFERROR(VLOOKUP(B509,Insumos!$A$4:$B$8,2,FALSE),\"\")","v":""}]
[null,"","",{"$f":"IFERROR(VLOOKUP(B510,Insumos!$A$4:$B$8,2,FALSE),\"\")","v":""}]
[null,"","",{"$f":"IFERROR(VLOOKUP(B511,Insumos!$A$4:$B$8,2,FALSE),\"\")","v":""}]
[null,"","",{"$f":"IFERROR(VLOOKUP(B512,Insumos!$A$4:$B$8,2,FALSE),\"\")","v":""}]
[null,"","",{"$f":"IFERROR(VLOOKUP(B513,Insumos!$A$4:$B$8,2,FALSE),\"\")","v":""}]
[null,"","",{"$f":"IFERROR(VLOOKUP(B514,Insumos!$A$4:$B$8,2,FALSE),\"\")","v":""}]
[null,"","",{"$f":"IFERROR(VLOOKUP(B515,Insumos!$A$4:$B$8,2,FALSE),\"\")","v":""}]
[null,"","",{"$f":"IFERROR(VLOOKUP(B516,Insumos!$A$4:$B$8,2,FALSE),\"\")","v":""}]
[null,"","",{"$f":"IFERROR(VLOOKUP(B517,Insumos!$A$4:$B$8,2,FALSE),\"\")","v":""}]
[null,"","",{"$f":"IFERROR(VLOOKUP(B518,Insumos!$A$4:$B$8,2,FALSE),\"\")","v":""}]
[null,"","",{"$f":"IFERROR(VLOOKUP(B519,Insumos!$A$4:$B$8,2,FALSE),\"\")","v":""}]
[null,"","",{"$f":"IFERROR(VLOOKUP(B520,Insumos!$A$4:$B$8,2,FALSE),\"\")","v":""}]
[null,"","",{"$f":"IFERROR(VLOOKUP(B521,Insumos!$A$4:$B$8,2,FALSE),\"\")","v":""}]
[null,"","",{"$f":"IFERROR(VLOOKUP(B522,Insumos!$A$4:$B$8,2,FALSE),\"\")","v":""}]
[null,"","",{"$f":"IFERROR(VLOOKUP(B523,Insumos!$A$4:$B$8,2,FALSE),\"\")","v":""}]
[null,"","",{"$f":"IFERROR(VLOOKUP(B524,Insumos!$A$4:$B$8,2,FALSE),\"\")","v":""}]
[null,"","",{"$f":"IFERROR(VLOOKUP(B525,Insumos!$A$4:$B$8,2,FALSE),\"\")","v":""}]
[null,"","",{"$f":"IFERROR(VLOOKUP(B526,Insumos!$A$4:$B$8,2,FALSE),\"\")","v":""}]
[null,"","",{"$f":"IFERROR(VLOOKUP(B527,Insumos!$A$4:$B$8,2,FALSE),\"\")","v":""}]
[null,"","",{"$f":"IFERROR(VLOOKUP(B528,Insumos!$A$4:$B$8,2,FALSE),\"\")","v":""}]
[null,"","",{"$f":"IFERROR(VLOOKUP(B529,Insumos!$A$4:$B$8,2,FALSE),\"\")","v":""}]
[null,"","",{"$f":"IFERROR(VLOOKUP(B530,Insumos!$A$4:$B$8,2,FALSE),\"\")","v":""}]
[null,"","",{"$f":"IFERROR(VLOOKUP(B531,Insumos!$A$4:$B$8,2,FALSE),\"\")","v":""}]
[null,"","",{"$f":"IFERROR(VLOOKUP(B532,Insumos!$A$4:$B$8,2,FALSE),\"\")","v":""}]
[null,"","",{"$f":"IFERROR(VLOOKUP(B533,Insumos!$A$4:$B$8,2,FALSE),\"\")","v":""}]
[null,"","",{"$f":"IFERROR(VLOOKUP(B534,Insumos!$A$4:$B$8,2,FALSE),\"\")","v":""}]
[null,"","",{"$f":"IFERROR(VLOOKUP(B535,Insumos!$A$4:$B$8,2,FALSE),\"\")","v":""}]
[null,"","",{"$f":"IFERROR(VLOOKUP(B536,Insumos!$A$4:$B$8,2,FALSE),\"\")","v":""}]
[null,"","",{"$f":"IFERROR(VLOOKUP(B537,Insumos!$A$4:$B$8,2,FALSE),\"\")","v":""}]
[null,"","",{"$f":"IFERROR(VLOOKUP(B538,Insumos!$A$4:$B$8,2,FALSE),\"\")","v":""}]
[null,"","",{"$f":"IFERROR(VLOOKUP(B539,Insumos!$A$4:$B$8,2,FALSE),\"\")","v":""}]
[null,"","",{"$f":"IFERROR(VLOOKUP(B540,Insumos!$A$4:$B$8,2,FALSE),\"\")","v":""}]
[null,"","",{"$f":"IFERROR(VLOOKUP(B541,Insumos!$A$4:$B$8,2,FALSE),\"\")","v":""}]
[null,"","",{"$f":"IFERROR(VLOOKUP(B542,Insumos!$A$4:$B$8,2,FALSE),\"\")","v":""}]
[null,"","",{"$f":"IFERROR(VLOOKUP(B543,Insumos!$A$4:$B$8,2,FALSE),\"\")","v":""}]
[null,"","",{"$f":"IFERROR(VLOOKUP(B544,Insumos!$A$4:$B$8,2,FALSE),\"\")","v":""}]
[null,"","",{"$f":"IFERROR(VLOOKUP(B545,Insumos!$A$4:$B$8,2,FALSE),\"\")","v":""}]
[null,"","",{"$f":"IFERROR(VLOOKUP(B546,Insumos!$A$4:$B$8,2,FALSE),\"\")","v":""}]
[null,"","",{"$f":"IFERROR(VLOOKUP(B547,Insumos!$A$4:$B$8,2,FALSE),\"\")","v":""}]
[null,"","",{"$f":"IFERROR(VLOOKUP(B548,Insumos!$A$4:$B$8,2,FALSE),\"\")","v":""}]
[null,"","",{"$f":"IFERROR(VLOOKUP(B549,Insumos!$A$4:$B$8,2,FALSE),\"\")","v":""}]
[null,"","",{"$f":"IFERROR(VLOOKUP(B550,Insumos!$A$4:$B$8,2,FALSE),\"\")","v":""}]
[null,"","",{"$f":"IFERROR(VLOOKUP(B551,Insumos!$A$4:$B$8,2,FALSE),\"\")","v":""}]
[null,"","",{"$f":"IFERROR(VLOOKUP(B552,Insumos!$A$4:$B$8,2,FALSE),\"\")","v":""}]
[null,"","",{"$f":"IFERROR(VLOOKUP(B553,Insumos!$A$4:$B$8,2,FALSE),\"\")","v":""}]
[null,"","",{"$f":"IFERROR(VLOOKUP(B554,Insumos!$A$4:$B$8,2,FALSE),\"\")","v":""}]
[null,"","",{"$f":"IFERROR(VLOOKUP(B555,Insumos!$A$4:$B$8,2,FALSE),\"\")","v":""}]
[null,"","",{"$f":"IFERROR(VLOOKUP(B556,Insumos!$A$4:$B$8,2,FALSE),\"\")","v":""}]
[null,"","",{"$f":"IFERROR(VLOOKUP(B557,Insumos!$A$4:$B$8,2,FALSE),\"\")","v":""}]
[null,"","",{"$f":"IFERROR(VLOOKUP(B558,Insumos!$A$4:$B$8,2,FALSE),\"\")","v":""}]
[null,"","",{"$f":"IFERROR(VLOOKUP(B559,Insumos!$A$4:$B$8,2,FALSE),\"\")","v":""}]
[null,"","",{"$f":"IFERROR(VLOOKUP(B560,Insumos!$A$4:$B$8,2,FALSE),\"\")","v":""}]
[null,"","",{"$f":"IFERROR(VLOOKUP(B561,Insumos!$A$4:$B$8,2,FALSE),\"\")","v":""}]
[null,"","",{"$f":"IFERROR(VLOOKUP(B562,Insumos!$A$4:$B$8,2,FALSE),\"\")","v":""}]
[null,"","",{"$f":"IFERROR(VLOOKUP(B563,Insumos!$A$4:$B$8,2,FALSE),\"\")","v":""}]
[null,"","",{"$f":"IFERROR(VLOOKUP(B564,Insumos!$A$4:$B$8,2,FALSE),\"\")","v":""}]
[null,"","",{"$f":"IFERROR(VLOOKUP(B565,Insumos!$A$4:$B$8,2,FALSE),\"\")","v":""}]
[null,"","",{"$f":"IFERROR(VLOOKUP(B566,Insumos!$A$4:$B$8,2,FALSE),\"\")","v":""}]
[null,"","",{"$f":"IFERROR(VLOOKUP(B567,Insumos!$A$4:$B$8,2,FALSE),\"\")","v":""}]
[null,"","",{"$f":"IFERROR(VLOOKUP(B568,Insumos!$A$4:$B$8,2,FALSE),\"\")","v":""}]
[null,"","",{"$f":"IFERROR(VLOOKUP(B569,Insumos!$A$4:$B$8,2,FALSE),\"\")","v":""}]
[null,"","",{"$f":"IFERROR(VLOOKUP(B570,Insumos!$A$4:$B$8,2,FALSE),\"\")","v":""}]
[null,"","",{"$f":"IFERROR(VLOOKUP(B571,Insumos!$A$4:$B$8,2,FALSE),\"\")","v":""}]
[null,"","",{"$f":"IFERROR(VLOOKUP(B572,Insumos!$A$4:$B$8,2,FALSE),\"\")","v":""}]
[null,"","",{"$f":"IFERROR(VLOOKUP(B573,Insumos!$A$4:$B$8,2,FALSE),\"\")","v":""}]
[null,"","",{"$f":"IFERROR(VLOOKUP(B574,Insumos!$A$4:$B$8,2,FALSE),\"\")","v":""}]
[null,"","",{"$f":"IFERROR(VLOOKUP(B575,Insumos!$A$4:$B$8,2,FALSE),\"\")","v":""}]
[null,"","",{"$f":"IFERROR(VLOOKUP(B576,Insumos!$A$4:$B$8,2,FALSE),\"\")","v":""}]
[null,"","",{"$f":"IFERROR(VLOOKUP(B577,Insumos!$A$4:$B$8,2,FALSE),\"\")","v":""}]
[null,"","",{"$f":"IFERROR(VLOOKUP(B578,Insumos!$A$4:$B$8,2,FALSE),\"\")","v":""}]
[null,"","",{"$f":"IFERROR(VLOOKUP(B579,Insumos!$A$4:$B$8,2,FALSE),\"\")","v":""}]
[null,"","",{"$f":"IFERROR(VLOOKUP(B580,Insumos!$A$4:$B$8,2,FALSE),\"\")","v":""}]
[null,"","",{"$f":"IFERROR(VLOOKUP(B581,Insumos!$A$4:$B$8,2,FALSE),\"\")","v":""}]
[null,"","",{"$f":"IFERROR(VLOOKUP(B582,Insumos!$A$4:$B$8,2,FALSE),\"\")","v":""}]
[null,"","",{"$f":"IFERROR(VLOOKUP(B583,Insumos!$A$4:$B$8,2,FALSE),\"\")","v":""}]
[null,"","",{"$f":"IFERROR(VLOOKUP(B584,Insumos!$A$4:$B$8,2,FALSE),\"\")","v":""}]
[null,"","",{"$f":"IFERROR(VLOOKUP(B585,Insumos!$A$4:$B$8,2,FALSE),\"\")","v":""}]
[null,"","",{"$f":"IFERROR(VLOOKUP(B586,Insumos!$A$4:$B$8,2,FALSE),\"\")","v":""}]
[null,"","",{"$f":"IFERROR(VLOOKUP(B587,Insumos!$A$4:$B$8,2,FALSE),\"\")","v":""}]
[null,"","",{"$f":"IFERROR(VLOOKUP(B588,Insumos!$A$4:$B$8,2,FALSE),\"\")","v":""}]
[null,"","",{"$f":"IFERROR(VLOOKUP(B589,Insumos!$A$4:$B$8,2,FALSE),\"\")","v":""}]
[null,"","",{"$f":"IFERROR(VLOOKUP(B590,Insumos!$A$4:$B$8,2,FALSE),\"\")","v":""}]
[null,"","",{"$f":"IFERROR(VLOOKUP(B591,Insumos!$A$4:$B$8,2,FALSE),\"\")","v":""}]
[null,"","",{"$f":"IFERROR(VLOOKUP(B592,Insumos!$A$4:$B$8,2,FALSE),\"\")","v":""}]
[null,"","",{"$f":"IFERROR(VLOOKUP(B593,Insumos!$A$4:$B$8,2,FALSE),\"\")","v":""}]
[null,"","",{"$f":"IFERROR(VLOOKUP(B594,Insumos!$A$4:$B$8,2,FALSE),\"\")","v":""}]
[null,"","",{"$f":"IFERROR(VLOOKUP(B595,Insumos!$A$4:$B$8,2,FALSE),\"\")","v":""}]
[null,"","",{"$f":"IFERROR(VLOOKUP(B596,Insumos!$A$4:$B$8,2,FALSE),\"\")","v":""}]
[null,"","",{"$f":"IFERROR(VLOOKUP(B597,Insumos!$A$4:$B$8,2,FALSE),\"\")","v":""}]
[null,"","",{"$f":"IFERROR(VLOOKUP(B598,Insumos!$A$4:$B$8,2,FALSE),\"\")","v":""}]
[null,"","",{"$f":"IFERROR(VLOOKUP(B599,Insumos!$A$4:$B$8,2,FALSE),\"\")","v":""}]
[null,"","",{"$f":"IFERROR(VLOOKUP(B600,Insumos!$A$4:$B$8,2,FALSE),\"\")","v":""}]
[null,"","",{"$f":"IFERROR(VLOOKUP(B601,Insumos!$A$4:$B$8,2,FALSE),\"\")","v":""}]
[null,"","",{"$f":"IFERROR(VLOOKUP(B602,Insumos!$A$4:$B$8,2,FALSE),\"\")","v":""}]
[null,"","",{"$f":"IFERROR(VLOOKUP(B603,Insumos!$A$4:$B$8,2,FALSE),\"\")","v":""}]
[null,"","",{"$f":"IFERROR(VLOOKUP(B604,Insumos!$A$4:$B$8,2,FALSE),\"\")","v":""}]
[null,"","",{"$f":"IFERROR(VLOOKUP(B605,Insumos!$A$4:$B$8,2,FALSE),\"\")","v":""}]
[null,"","",{"$f":"IFERROR(VLOOKUP(B606,Insumos!$A$4:$B$8,2,FALSE),\"\")","v":""}]
[null,"","",{"$f":"IFERROR(VLOOKUP(B607,Insumos!$A$4:$B$8,2,FALSE),\"\")","v":""}]
[null,"","",{"$f":"IFERROR(VLOOKUP(B608,Insumos!$A$4:$B$8,2,FALSE),\"\")","v":""}]
[null,"","",{"$f":"IFERROR(VLOOKUP(B609,Insumos!$A$4:$B$8,2,FALSE),\"\")","v":""}]
[null,"","",{"$f":"IFERROR(VLOOKUP(B610,Insumos!$A$4:$B$8,2,FALSE),\"\")","v":""}]
[null,"","",{"$f":"IFERROR(VLOOKUP(B611,Insumos!$A$4:$B$8,2,FALSE),\"\")","v":""}]
[null,"","",{"$f":"IFERROR(VLOOKUP(B612,Insumos!$A$4:$B$8,2,FALSE),\"\")","v":""}]
[null,"","",{"$f":"IFERROR(VLOOKUP(B613,Insumos!$A$4:$B$8,2,FALSE),\"\")","v":""}]
[null,"","",{"$f":"IFERROR(VLOOKUP(B614,Insumos!$A$4:$B$8,2,FALSE),\"\")","v":""}]
[null,"","",{"$f":"IFERROR(VLOOKUP(B615,Insumos!$A$4:$B$8,2,FALSE),\"\")","v":""}]
[null,"","",{"$f":"IFERROR(VLOOKUP(B616,Insumos!$A$4:$B$8,2,FALSE),\"\")","v":""}]
[null,"","",{"$f":"IFERROR(VLOOKUP(B617,Insumos!$A$4:$B$8,2,FALSE),\"\")","v":""}]
[null,"","",{"$f":"IFERROR(VLOOKUP(B618,Insumos!$A$4:$B$8,2,FALSE),\"\")","v":""}]
[null,"","",{"$f":"IFERROR(VLOOKUP(B619,Insumos!$A$4:$B$8,2,FALSE),\"\")","v":""}]
[null,"","",{"$f":"IFERROR(VLOOKUP(B620,Insumos!$A$4:$B$8,2,FALSE),\"\")","v":""}]
[null,"","",{"$f":"IFERROR(VLOOKUP(B621,Insumos!$A$4:$B$8,2,FALSE),\"\")","v":""}]
[null,"","",{"$f":"IFERROR(VLOOKUP(B622,Insumos!$A$4:$B$8,2,FALSE),\"\")","v":""}]
[null,"","",{"$f":"IFERROR(VLOOKUP(B623,Insumos!$A$4:$B$8,2,FALSE),\"\")","v":""}]
[null,"","",{"$f":"IFERROR(VLOOKUP(B624,Insumos!$A$4:$B$8,2,FALSE),\"\")","v":""}]
[null,"","",{"$f":"IFERROR(VLOOKUP(B625,Insumos!$A$4:$B$8,2,FALSE),\"\")","v":""}]
[null,"","",{"$f":"IFERROR(VLOOKUP(B626,Insumos!$A$4:$B$8,2,FALSE),\"\")","v":""}]
[null,"","",{"$f":"IFERROR(VLOOKUP(B627,Insumos!$A$4:$B$8,2,FALSE),\"\")","v":""}]
[null,"","",{"$f":"IFERROR(VLOOKUP(B628,Insumos!$A$4:$B$8,2,FALSE),\"\")","v":""}]
[null,"","",{"$f":"IFERROR(VLOOKUP(B629,Insumos!$A$4:$B$8,2,FALSE),\"\")","v":""}]
[null,"","",{"$f":"IFERROR(VLOOKUP(B630,Insumos!$A$4:$B$8,2,FALSE),\"\")","v":""}]
[null,"","",{"$f":"IFERROR(VLOOKUP(B631,Insumos!$A$4:$B$8,2,FALSE),\"\")","v":""}]
[null,"","",{"$f":"IFERROR(VLOOKUP(B632,Insumos!$A$4:$B$8,2,FALSE),\"\")","v":""}]
[null,"","",{"$f":"IFERROR(VLOOKUP(B633,Insumos!$A$4:$B$8,2,FALSE),\"\")","v":""}]
[null,"","",{"$f":"IFERROR(VLOOKUP(B634,Insumos!$A$4:$B$8,2,FALSE),\"\")","v":""}]
[null,"","",{"$f":"IFERROR(VLOOKUP(B635,Insumos!$A$4:$B$8,2,FALSE),\"\")","v":""}]
[null,"","",{"$f":"IFERROR(VLOOKUP(B636,Insumos!$A$4:$B$8,2,FALSE),\"\")","v":""}]
[null,"","",{"$f":"IFERROR(VLOOKUP(B637,Insumos!$A$4:$B$8,2,FALSE),\"\")","v":""}]
[null,"","",{"$f":"IFERROR(VLOOKUP(B638,Insumos!$A$4:$B$8,2,FALSE),\"\")","v":""}]
[null,"","",{"$f":"IFERROR(VLOOKUP(B639,Insumos!$A$4:$B$8,2,FALSE),\"\")","v":""}]
[null,"","",{"$f":"IFERROR(VLOOKUP(B640,Insumos!$A$4:$B$8,2,FALSE),\"\")","v":""}]
[null,"","",{"$f":"IFERROR(VLOOKUP(B641,Insumos!$A$4:$B$8,2,FALSE),\"\")","v":""}]
[null,"","",{"$f":"IFERROR(VLOOKUP(B642,Insumos!$A$4:$B$8,2,FALSE),\"\")","v":""}]
[null,"","",{"$f":"IFERROR(VLOOKUP(B643,Insumos!$A$4:$B$8,2,FALSE),\"\")","v":""}]
[null,"","",{"$f":"IFERROR(VLOOKUP(B644,Insumos!$A$4:$B$8,2,FALSE),\"\")","v":""}]
[null,"","",{"$f":"IFERROR(VLOOKUP(B645,Insumos!$A$4:$B$8,2,FALSE),\"\")","v":""}]
[null,"","",{"$f":"IFERROR(VLOOKUP(B646,Insumos!$A$4:$B$8,2,FALSE),\"\")","v":""}]
[null,"","",{"$f":"IFERROR(VLOOKUP(B647,Insumos!$A$4:$B$8,2,FALSE),\"\")","v":""}]
[null,"","",{"$f":"IFERROR(VLOOKUP(B648,Insumos!$A$4:$B$8,2,FALSE),\"\")","v":""}]
[null,"","",{"$f":"IFERROR(VLOOKUP(B649,Insumos!$A$4:$B$8,2,FALSE),\"\")","v":""}]
[null,"","",{"$f":"IFERROR(VLOOKUP(B650,Insumos!$A$4:$B$8,2,FALSE),\"\")","v":""}]
[null,"","",{"$f":"IFERROR(VLOOKUP(B651,Insumos!$A$4:$B$8,2,FALSE),\"\")","v":""}]
[null,"","",{"$f":"IFERROR(VLOOKUP(B652,Insumos!$A$4:$B$8,2,FALSE),\"\")","v":""}]
[null,"","",{"$f":"IFERROR(VLOOKUP(B653,Insumos!$A$4:$B$8,2,FALSE),\"\")","v":""}]
[null,"","",{"$f":"IFERROR(VLOOKUP(B654,Insumos!$A$4:$B$8,2,FALSE),\"\")","v":""}]
[null,"","",{"$f":"IFERROR(VLOOKUP(B655,Insumos!$A$4:$B$8,2,FALSE),\"\")","v":""}]
[null,"","",{"$f":"IFERROR(VLOOKUP(B656,Insumos!$A$4:$B$8,2,FALSE),\"\")","v":""}]
[null,"","",{"$f":"IFERROR(VLOOKUP(B657,Insumos!$A$4:$B$8,2,FALSE),\"\")","v":""}]
[null,"","",{"$f":"IFERROR(VLOOKUP(B658,Insumos!$A$4:$B$8,2,FALSE),\"\")","v":""}]
[null,"","",{"$f":"IFERROR(VLOOKUP(B659,Insumos!$A$4:$B$8,2,FALSE),\"\")","v":""}]
[null,"","",{"$f":"IFERROR(VLOOKUP(B660,Insumos!$A$4:$B$8,2,FALSE),\"\")","v":""}]
[null,"","",{"$f":"IFERROR(VLOOKUP(B661,Insumos!$A$4:$B$8,2,FALSE),\"\")","v":""}]
[null,"","",{"$f":"IFERROR(VLOOKUP(B662,Insumos!$A$4:$B$8,2,FALSE),\"\")","v":""}]
[null,"","",{"$f":"IFERROR(VLOOKUP(B663,Insumos!$A$4:$B$8,2,FALSE),\"\")","v":""}]
[null,"","",{"$f":"IFERROR(VLOOKUP(B664,Insumos!$A$4:$B$8,2,FALSE),\"\")","v":""}]
[null,"","",{"$f":"IFERROR(VLOOKUP(B665,Insumos!$A$4:$B$8,2,FALSE),\"\")","v":""}]
[null,"","",{"$f":"IFERROR(VLOOKUP(B666,Insumos!$A$4:$B$8,2,FALSE),\"\")","v":""}]
[null,"","",{"$f":"IFERROR(VLOOKUP(B667,Insumos!$A$4:$B$8,2,FALSE),\"\")","v":""}]
[null,"","",{"$f":"IFERROR(VLOOKUP(B668,Insumos!$A$4:$B$8,2,FALSE),\"\")","v":""}]
[null,"","",{"$f":"IFERROR(VLOOKUP(B669,Insumos!$A$4:$B$8,2,FALSE),\"\")","v":""}]
[null,"","",{"$f":"IFERROR(VLOOKUP(B670,Insumos!$A$4:$B$8,2,FALSE),\"\")","v":""}]
[null,"","",{"$f":"IFERROR(VLOOKUP(B671,Insumos!$A$4:$B$8,2,FALSE),\"\")","v":""}]
[null,"","",{"$f":"IFERROR(VLOOKUP(B672,Insumos!$A$4:$B$8,2,FALSE),\"\")","v":""}]
[null,"","",{"$f":"IFERROR(VLOOKUP(B673,Insumos!$A$4:$B$8,2,FALSE),\"\")","v":""}]
[null,"","",{"$f":"IFERROR(VLOOKUP(B674,Insumos!$A$4:$B$8,2,FALSE),\"\")","v":""}]
[null,"","",{"$f":"IFERROR(VLOOKUP(B675,Insumos!$A$4:$B$8,2,FALSE),\"\")","v":""}]
[null,"","",{"$f":"IFERROR(VLOOKUP(B676,Insumos!$A$4:$B$8,2,FALSE),\"\")","v":""}]
[null,"","",{"$f":"IFERROR(VLOOKUP(B677,Insumos!$A$4:$B$8,2,FALSE),\"\")","v":""}]
[null,"","",{"$f":"IFERROR(VLOOKUP(B678,Insumos!$A$4:$B$8,2,FALSE),\"\")","v":""}]
[null,"","",{"$f":"IFERROR(VLOOKUP(B679,Insumos!$A$4:$B$8,2,FALSE),\"\")","v":""}]
[null,"","",{"$f":"IFERROR(VLOOKUP(B680,Insumos!$A$4:$B$8,2,FALSE),\"\")","v":""}]
[null,"","",{"$f":"IFERROR(VLOOKUP(B681,Insumos!$A$4:$B$8,2,FALSE),\"\")","v":""}]
[null,"","",{"$f":"IFERROR(VLOOKUP(B682,Insumos!$A$4:$B$8,2,FALSE),\"\")","v":""}]
[null,"","",{"$f":"IFERROR(VLOOKUP(B683,Insumos!$A$4:$B$8,2,FALSE),\"\")","v":""}]
[null,"","",{"$f":"IFERROR(VLOOKUP(B684,Insumos!$A$4:$B$8,2,FALSE),\"\")","v":""}]
[null,"","",{"$f":"IFERROR(VLOOKUP(B685,Insumos!$A$4:$B$8,2,FALSE),\"\")","v":""}]
[null,"","",{"$f":"IFERROR(VLOOKUP(B686,Insumos!$A$4:$B$8,2,FALSE),\"\")","v":""}]
[null,"","",{"$f":"IFERROR(VLOOKUP(B687,Insumos!$A$4:$B$8,2,FALSE),\"\")","v":""}]
[null,"","",{"$f":"IFERROR(VLOOKUP(B688,Insumos!$A$4:$B$8,2,FALSE),\"\")","v":""}]
[null,"","",{"$f":"IFERROR(VLOOKUP(B689,Insumos!$A$4:$B$8,2,FALSE),\"\")","v":""}]
[null,"","",{"$f":"IFERROR(VLOOKUP(B690,Insumos!$A$4:$B$8,2,FALSE),\"\")","v":""}]
[null,"","",{"$f":"IFERROR(VLOOKUP(B691,Insumos!$A$4:$B$8,2,FALSE),\"\")","v":""}]
[null,"","",{"$f":"IFERROR(VLOOKUP(B692,Insumos!$A$4:$B$8,2,FALSE),\"\")","v":""}]
[null,"","",{"$f":"IFERROR(VLOOKUP(B693,Insumos!$A$4:$B$8,2,FALSE),\"\")","v":""}]
[null,"","",{"$f":"IFERROR(VLOOKUP(B694,Insumos!$A$4:$B$8,2,FALSE),\"\")","v":""}]
[null,"","",{"$f":"IFERROR(VLOOKUP(B695,Insumos!$A$4:$B$8,2,FALSE),\"\")","v":""}]
[null,"","",{"$f":"IFERROR(VLOOKUP(B696,Insumos!$A$4:$B$8,2,FALSE),\"\")","v":""}]
[null,"","",{"$f":"IFERROR(VLOOKUP(B697,Insumos!$A$4:$B$8,2,FALSE),\"\")","v":""}]
[null,"","",{"$f":"IFERROR(VLOOKUP(B698,Insumos!$A$4:$B$8,2,FALSE),\"\")","v":""}]
[null,"","",{"$f":"IFERROR(VLOOKUP(B699,Insumos!$A$4:$B$8,2,FALSE),\"\")","v":""}]
[null,"","",{"$f":"IFERROR(VLOOKUP(B700,Insumos!$A$4:$B$8,2,FALSE),\"\")","v":""}]
[null,"","",{"$f":"IFERROR(VLOOKUP(B701,Insumos!$A$4:$B$8,2,FALSE),\"\")","v":""}]
[null,"","",{"$f":"IFERROR(VLOOKUP(B702,Insumos!$A$4:$B$8,2,FALSE),\"\")","v":""}]
[null,"","",{"$f":"IFERROR(VLOOKUP(B703,Insumos!$A$4:$B$8,2,FALSE),\"\")","v":""}]
[null,"","",{"$f":"IFERROR(VLOOKUP(B704,Insumos!$A$4:$B$8,2,FALSE),\"\")","v":""}]
[null,"","",{"$f":"IFERROR(VLOOKUP(B705,Insumos!$A$4:$B$8,2,FALSE),\"\")","v":""}]
[null,"","",{"$f":"IFERROR(VLOOKUP(B706,Insumos!$A$4:$B$8,2,FALSE),\"\")","v":""}]
[null,"","",{"$f":"IFERROR(VLOOKUP(B707,Insumos!$A$4:$B$8,2,FALSE),\"\")","v":""}]
[null,"","",{"$f":"IFERROR(VLOOKUP(B708,Insumos!$A$4:$B$8,2,FALSE),\"\")","v":""}]
[null,"","",{"$f":"IFERROR(VLOOKUP(B709,Insumos!$A$4:$B$8,2,FALSE),\"\")","v":""}]
[null,"","",{"$f":"IFERROR(VLOOKUP(B710,Insumos!$A$4:$B$8,2,FALSE),\"\")","v":""}]
[null,"","",{"$f":"IFERROR(VLOOKUP(B711,Insumos!$A$4:$B$8,2,FALSE),\"\")","v":""}]
[null,"","",{"$f":"IFERROR(VLOOKUP(B712,Insumos!$A$4:$B$8,2,FALSE),\"\")","v":""}]
[null,"","",{"$f":"IFERROR(VLOOKUP(B713,Insumos!$A$4:$B$8,2,FALSE),\"\")","v":""}]
[null,"","",{"$f":"IFERROR(VLOOKUP(B714,Insumos!$A$4:$B$8,2,FALSE),\"\")","v":""}]
[null,"","",{"$f":"IFERROR(VLOOKUP(B715,Insumos!$A$4:$B$8,2,FALSE),\"\")","v":""}]
[null,"","",{"$f":"IFERROR(VLOOKUP(B716,Insumos!$A$4:$B$8,2,FALSE),\"\")","v":""}]
[null,"","",{"$f":"IFERROR(VLOOKUP(B717,Insumos!$A$4:$B$8,2,FALSE),\"\")","v":""}]
[null,"","",{"$f":"IFERROR(VLOOKUP(B718,Insumos!$A$4:$B$8,2,FALSE),\"\")","v":""}]
[null,"","",{"$f":"IFERROR(VLOOKUP(B719,Insumos!$A$4:$B$8,2,FALSE),\"\")","v":""}]
[null,"","",{"$f":"IFERROR(VLOOKUP(B720,Insumos!$A$4:$B$8,2,FALSE),\"\")","v":""}]
[null,"","",{"$f":"IFERROR(VLOOKUP(B721,Insumos!$A$4:$B$8,2,FALSE),\"\")","v":""}]
[null,"","",{"$f":"IFERROR(VLOOKUP(B722,Insumos!$A$4:$B$8,2,FALSE),\"\")","v":""}]
[null,"","",{"$f":"IFERROR(VLOOKUP(B723,Insumos!$A$4:$B$8,2,FALSE),\"\")","v":""}]
[null,"","",{"$f":"IFERROR(VLOOKUP(B724,Insumos!$A$4:$B$8,2,FALSE),\"\")","v":""}]
[null,"","",{"$f":"IFERROR(VLOOKUP(B725,Insumos!$A$4:$B$8,2,FALSE),\"\")","v":""}]
[null,"","",{"$f":"IFERROR(VLOOKUP(B726,Insumos!$A$4:$B$8,2,FALSE),\"\")","v":""}]
[null,"","",{"$f":"IFERROR(VLOOKUP(B727,Insumos!$A$4:$B$8,2,FALSE),\"\")","v":""}]
[null,"","",{"$f":"IFERROR(VLOOKUP(B728,Insumos!$A$4:$B$8,2,FALSE),\"\")","v":""}]
[null,"","",{"$f":"IFERROR(VLOOKUP(B729,Insumos!$A$4:$B$8,2,FALSE),\"\")","v":""}]
[null,"","",{"$f":"IFERROR(VLOOKUP(B730,Insumos!$A$4:$B$8,2,FALSE),\"\")","v":""}]
[null,"","",{"$f":"IFERROR(VLOOKUP(B731,Insumos!$A$4:$B$8,2,FALSE),\"\")","v":""}]
[null,"","",{"$f":"IFERROR(VLOOKUP(B732,Insumos!$A$4:$B$8,2,FALSE),\"\")","v":""}]
[null,"","",{"$f":"IFERROR(VLOOKUP(B733,Insumos!$A$4:$B$8,2,FALSE),\"\")","v":""}]
[null,"","",{"$f":"IFERROR(VLOOKUP(B734,Insumos!$A$4:$B$8,2,FALSE),\"\")","v":""}]
[null,"","",{"$f":"IFERROR(VLOOKUP(B735,Insumos!$A$4:$B$8,2,FALSE),\"\")","v":""}]
[null,"","",{"$f":"IFERROR(VLOOKUP(B736,Insumos!$A$4:$B$8,2,FALSE),\"\")","v":""}]
[null,"","",{"$f":"IFERROR(VLOOKUP(B737,Insumos!$A$4:$B$8,2,FALSE),\"\")","v":""}]
[null,"","",{"$f":"IFERROR(VLOOKUP(B738,Insumos!$A$4:$B$8,2,FALSE),\"\")","v":""}]
[null,"","",{"$f":"IFERROR(VLOOKUP(B739,Insumos!$A$4:$B$8,2,FALSE),\"\")","v":""}]
[null,"","",{"$f":"IFERROR(VLOOKUP(B740,Insumos!$A$4:$B$8,2,FALSE),\"\")","v":""}]
[null,"","",{"$f":"IFERROR(VLOOKUP(B741,Insumos!$A$4:$B$8,2,FALSE),\"\")","v":""}]
[null,"","",{"$f":"IFERROR(VLOOKUP(B742,Insumos!$A$4:$B$8,2,FALSE),\"\")","v":""}]
[null,"","",{"$f":"IFERROR(VLOOKUP(B743,Insumos!$A$4:$B$8,2,FALSE),\"\")","v":""}]
[null,"","",{"$f":"IFERROR(VLOOKUP(B744,Insumos!$A$4:$B$8,2,FALSE),\"\")","v":""}]
[null,"","",{"$f":"IFERROR(VLOOKUP(B745,Insumos!$A$4:$B$8,2,FALSE),\"\")","v":""}]
[null,"","",{"$f":"IFERROR(VLOOKUP(B746,Insumos!$A$4:$B$8,2,FALSE),\"\")","v":""}]
[null,"","",{"$f":"IFERROR(VLOOKUP(B747,Insumos!$A$4:$B$8,2,FALSE),\"\")","v":""}]
[null,"","",{"$f":"IFERROR(VLOOKUP(B748,Insumos!$A$4:$B$8,2,FALSE),\"\")","v":""}]
[null,"","",{"$f":"IFERROR(VLOOKUP(B749,Insumos!$A$4:$B$8,2,FALSE),\"\")","v":""}]
[null,"","",{"$f":"IFERROR(VLOOKUP(B750,Insumos!$A$4:$B$8,2,FALSE),\"\")","v":""}]
[null,"","",{"$f":"IFERROR(VLOOKUP(B751,Insumos!$A$4:$B$8,2,FALSE),\"\")","v":""}]
[null,"","",{"$f":"IFERROR(VLOOKUP(B752,Insumos!$A$4:$B$8,2,FALSE),\"\")","v":""}]
[null,"","",{"$f":"IFERROR(VLOOKUP(B753,Insumos!$A$4:$B$8,2,FALSE),\"\")","v":""}]
[null,"","",{"$f":"IFERROR(VLOOKUP(B754,Insumos!$A$4:$B$8,2,FALSE),\"\")","v":""}]
[null,"","",{"$f":"IFERROR(VLOOKUP(B755,Insumos!$A$4:$B$8,2,FALSE),\"\")","v":""}]
[null,"","",{"$f":"IFERROR(VLOOKUP(B756,Insumos!$A$4:$B$8,2,FALSE),\"\")","v":""}]
[null,"","",{"$f":"IFERROR(VLOOKUP(B757,Insumos!$A$4:$B$8,2,FALSE),\"\")","v":""}]
[null,"","",{"$f":"IFERROR(VLOOKUP(B758,Insumos!$A$4:$B$8,2,FALSE),\"\")","v":""}]
[null,"","",{"$f":"IFERROR(VLOOKUP(B759,Insumos!$A$4:$B$8,2,FALSE),\"\")","v":""}]
[null,"","",{"$f":"IFERROR(VLOOKUP(B760,Insumos!$A$4:$B$8,2,FALSE),\"\")","v":""}]
[null,"","",{"$f":"IFERROR(VLOOKUP(B761,Insumos!$A$4:$B$8,2,FALSE),\"\")","v":""}]
[null,"","",{"$f":"IFERROR(VLOOKUP(B762,Insumos!$A$4:$B$8,2,FALSE),\"\")","v":""}]
[null,"","",{"$f":"IFERROR(VLOOKUP(B763,Insumos!$A$4:$B$8,2,FALSE),\"\")","v":""}]
[null,"","",{"$f":"IFERROR(VLOOKUP(B764,Insumos!$A$4:$B$8,2,FALSE),\"\")","v":""}]
[null,"","",{"$f":"IFERROR(VLOOKUP(B765,Insumos!$A$4:$B$8,2,FALSE),\"\")","v":""}]
[null,"","",{"$f":"IFERROR(VLOOKUP(B766,Insumos!$A$4:$B$8,2,FALSE),\"\")","v":""}]
[null,"","",{"$f":"IFERROR(VLOOKUP(B767,Insumos!$A$4:$B$8,2,FALSE),\"\")","v":""}]
[null,"","",{"$f":"IFERROR(VLOOKUP(B768,Insumos!$A$4:$B$8,2,FALSE),\"\")","v":""}]
[null,"","",{"$f":"IFERROR(VLOOKUP(B769,Insumos!$A$4:$B$8,2,FALSE),\"\")","v":""}]
[null,"","",{"$f":"IFERROR(VLOOKUP(B770,Insumos!$A$4:$B$8,2,FALSE),\"\")","v":""}]
[null,"","",{"$f":"IFERROR(VLOOKUP(B771,Insumos!$A$4:$B$8,2,FALSE),\"\")","v":""}]
[null,"","",{"$f":"IFERROR(VLOOKUP(B772,Insumos!$A$4:$B$8,2,FALSE),\"\")","v":""}]
[null,"","",{"$f":"IFERROR(VLOOKUP(B773,Insumos!$A$4:$B$8,2,FALSE),\"\")","v":""}]
[null,"","",{"$f":"IFERROR(VLOOKUP(B774,Insumos!$A$4:$B$8,2,FALSE),\"\")","v":""}]
[null,"","",{"$f":"IFERROR(VLOOKUP(B775,Insumos!$A$4:$B$8,2,FALSE),\"\")","v":""}]
[null,"","",{"$f":"IFERROR(VLOOKUP(B776,Insumos!$A$4:$B$8,2,FALSE),\"\")","v":""}]
[null,"","",{"$f":"IFERROR(VLOOKUP(B777,Insumos!$A$4:$B$8,2,FALSE),\"\")","v":""}]
[null,"","",{"$f":"IFERROR(VLOOKUP(B778,Insumos!$A$4:$B$8,2,FALSE),\"\")","v":""}]
[null,"","",{"$f":"IFERROR(VLOOKUP(B779,Insumos!$A$4:$B$8,2,FALSE),\"\")","v":""}]
[null,"","",{"$f":"IFERROR(VLOOKUP(B780,Insumos!$A$4:$B$8,2,FALSE),\"\")","v":""}]
[null,"","",{"$f":"IFERROR(VLOOKUP(B781,Insumos!$A$4:$B$8,2,FALSE),\"\")","v":""}]
[null,"","",{"$f":"IFERROR(VLOOKUP(B782,Insumos!$A$4:$B$8,2,FALSE),\"\")","v":""}]
[null,"","",{"$f":"IFERROR(VLOOKUP(B783,Insumos!$A$4:$B$8,2,FALSE),\"\")","v":""}]
[null,"","",{"$f":"IFERROR(VLOOKUP(B784,Insumos!$A$4:$B$8,2,FALSE),\"\")","v":""}]
[null,"","",{"$f":"IFERROR(VLOOKUP(B785,Insumos!$A$4:$B$8,2,FALSE),\"\")","v":""}]
[null,"","",{"$f":"IFERROR(VLOOKUP(B786,Insumos!$A$4:$B$8,2,FALSE),\"\")","v":""}]
[null,"","",{"$f":"IFERROR(VLOOKUP(B787,Insumos!$A$4:$B$8,2,FALSE),\"\")","v":""}]
[null,"","",{"$f":"IFERROR(VLOOKUP(B788,Insumos!$A$4:$B$8,2,FALSE),\"\")","v":""}]
[null,"","",{"$f":"IFERROR(VLOOKUP(B789,Insumos!$A$4:$B$8,2,FALSE),\"\")","v":""}]
[null,"","",{"$f":"IFERROR(VLOOKUP(B790,Insumos!$A$4:$B$8,2,FALSE),\"\")","v":""}]
[null,"","",{"$f":"IFERROR(VLOOKUP(B791,Insumos!$A$4:$B$8,2,FALSE),\"\")","v":""}]
[null,"","",{"$f":"IFERROR(VLOOKUP(B792,Insumos!$A$4:$B$8,2,FALSE),\"\")","v":""}]
[null,"","",{"$f":"IFERROR(VLOOKUP(B793,Insumos!$A$4:$B$8,2,FALSE),\"\")","v":""}]
[null,"","",{"$f":"IFERROR(VLOOKUP(B794,Insumos!$A$4:$B$8,2,FALSE),\"\")","v":""}]
[null,"","",{"$f":"IFERROR(VLOOKUP(B795,Insumos!$A$4:$B$8,2,FALSE),\"\")","v":""}]
[null,"","",{"$f":"IFERROR(VLOOKUP(B796,Insumos!$A$4:$B$8,2,FALSE),\"\")","v":""}]
[null,"","",{"$f":"IFERROR(VLOOKUP(B797,Insumos!$A$4:$B$8,2,FALSE),\"\")","v":""}]
[null,"","",{"$f":"IFERROR(VLOOKUP(B798,Insumos!$A$4:$B$8,2,FALSE),\"\")","v":""}]
[null,"","",{"$f":"IFERROR(VLOOKUP(B799,Insumos!$A$4:$B$8,2,FALSE),\"\")","v":""}]
[null,"","",{"$f":"IFERROR(VLOOKUP(B800,Insumos!$A$4:$B$8,2,FALSE),\"\")","v":""}]
[null,"","",{"$f":"IFERROR(VLOOKUP(B801,Insumos!$A$4:$B$8,2,FALSE),\"\")","v":""}]
[null,"","",{"$f":"IFERROR(VLOOKUP(B802,Insumos!$A$4:$B$8,2,FALSE),\"\")","v":""}]
[null,"","",{"$f":"IFERROR(VLOOKUP(B803,Insumos!$A$4:$B$8,2,FALSE),\"\")","v":""}]
[null,"","",{"$f":"IFERROR(VLOOKUP(B804,Insumos!$A$4:$B$8,2,FALSE),\"\")","v":""}]
[null,"","",{"$f":"IFERROR(VLOOKUP(B805,Insumos!$A$4:$B$8,2,FALSE),\"\")","v":""}]
[null,"","",{"$f":"IFERROR(VLOOKUP(B806,Insumos!$A$4:$B$8,2,FALSE),\"\")","v":""}]
[null,"","",{"$f":"IFERROR(VLOOKUP(B807,Insumos!$A$4:$B$8,2,FALSE),\"\")","v":""}]
[null,"","",{"$f":"IFERROR(VLOOKUP(B808,Insumos!$A$4:$B$8,2,FALSE),\"\")","v":""}]
[null,"","",{"$f":"IFERROR(VLOOKUP(B809,Insumos!$A$4:$B$8,2,FALSE),\"\")","v":""}]
[null,"","",{"$f":"IFERROR(VLOOKUP(B810,Insumos!$A$4:$B$8,2,FALSE),\"\")","v":""}]
[null,"","",{"$f":"IFERROR(VLOOKUP(B811,Insumos!$A$4:$B$8,2,FALSE),\"\")","v":""}]
[null,"","",{"$f":"IFERROR(VLOOKUP(B812,Insumos!$A$4:$B$8,2,FALSE),\"\")","v":""}]
[null,"","",{"$f":"IFERROR(VLOOKUP(B813,Insumos!$A$4:$B$8,2,FALSE),\"\")","v":""}]
[null,"","",{"$f":"IFERROR(VLOOKUP(B814,Insumos!$A$4:$B$8,2,FALSE),\"\")","v":""}]
[null,"","",{"$f":"IFERROR(VLOOKUP(B815,Insumos!$A$4:$B$8,2,FALSE),\"\")","v":""}]
[null,"","",{"$f":"IFERROR(VLOOKUP(B816,Insumos!$A$4:$B$8,2,FALSE),\"\")","v":""}]
[null,"","",{"$f":"IFERROR(VLOOKUP(B817,Insumos!$A$4:$B$8,2,FALSE),\"\")","v":""}]
[null,"","",{"$f":"IFERROR(VLOOKUP(B818,Insumos!$A$4:$B$8,2,FALSE),\"\")","v":""}]
[null,"","",{"$f":"IFERROR(VLOOKUP(B819,Insumos!$A$4:$B$8,2,FALSE),\"\")","v":""}]
[null,"","",{"$f":"IFERROR(VLOOKUP(B820,Insumos!$A$4:$B$8,2,FALSE),\"\")","v":""}]
[null,"","",{"$f":"IFERROR(VLOOKUP(B821,Insumos!$A$4:$B$8,2,FALSE),\"\")","v":""}]
[null,"","",{"$f":"IFERROR(VLOOKUP(B822,Insumos!$A$4:$B$8,2,FALSE),\"\")","v":""}]
[null,"","",{"$f":"IFERROR(VLOOKUP(B823,Insumos!$A$4:$B$8,2,FALSE),\"\")","v":""}]
[null,"","",{"$f":"IFERROR(VLOOKUP(B824,Insumos!$A$4:$B$8,2,FALSE),\"\")","v":""}]
[null,"","",{"$f":"IFERROR(VLOOKUP(B825,Insumos!$A$4:$B$8,2,FALSE),\"\")","v":""}]
[null,"","",{"$f":"IFERROR(VLOOKUP(B826,Insumos!$A$4:$B$8,2,FALSE),\"\")","v":""}]
[null,"","",{"$f":"IFERROR(VLOOKUP(B827,Insumos!$A$4:$B$8,2,FALSE),\"\")","v":""}]
[null,"","",{"$f":"IFERROR(VLOOKUP(B828,Insumos!$A$4:$B$8,2,FALSE),\"\")","v":""}]
[null,"","",{"$f":"IFERROR(VLOOKUP(B829,Insumos!$A$4:$B$8,2,FALSE),\"\")","v":""}]
[null,"","",{"$f":"IFERROR(VLOOKUP(B830,Insumos!$A$4:$B$8,2,FALSE),\"\")","v":""}]
[null,"","",{"$f":"IFERROR(VLOOKUP(B831,Insumos!$A$4:$B$8,2,FALSE),\"\")","v":""}]
[null,"","",{"$f":"IFERROR(VLOOKUP(B832,Insumos!$A$4:$B$8,2,FALSE),\"\")","v":""}]
[null,"","",{"$f":"IFERROR(VLOOKUP(B833,Insumos!$A$4:$B$8,2,FALSE),\"\")","v":""}]
[null,"","",{"$f":"IFERROR(VLOOKUP(B834,Insumos!$A$4:$B$8,2,FALSE),\"\")","v":""}]
[null,"","",{"$f":"IFERROR(VLOOKUP(B835,Insumos!$A$4:$B$8,2,FALSE),\"\")","v":""}]
[null,"","",{"$f":"IFERROR(VLOOKUP(B836,Insumos!$A$4:$B$8,2,FALSE),\"\")","v":""}]
[null,"","",{"$f":"IFERROR(VLOOKUP(B837,Insumos!$A$4:$B$8,2,FALSE),\"\")","v":""}]
[null,"","",{"$f":"IFERROR(VLOOKUP(B838,Insumos!$A$4:$B$8,2,FALSE),\"\")","v":""}]
[null,"","",{"$f":"IFERROR(VLOOKUP(B839,Insumos!$A$4:$B$8,2,FALSE),\"\")","v":""}]
[null,"","",{"$f":"IFERROR(VLOOKUP(B840,Insumos!$A$4:$B$8,2,FALSE),\"\")","v":""}]
[null,"","",{"$f":"IFERROR(VLOOKUP(B841,Insumos!$A$4:$B$8,2,FALSE),\"\")","v":""}]
[null,"","",{"$f":"IFERROR(VLOOKUP(B842,Insumos!$A$4:$B$8,2,FALSE),\"\")","v":""}]
[null,"","",{"$f":"IFERROR(VLOOKUP(B843,Insumos!$A$4:$B$8,2,FALSE),\"\")","v":""}]
[null,"","",{"$f":"IFERROR(VLOOKUP(B844,Insumos!$A$4:$B$8,2,FALSE),\"\")","v":""}]
[null,"","",{"$f":"IFERROR(VLOOKUP(B845,Insumos!$A$4:$B$8,2,FALSE),\"\")","v":""}]
[null,"","",{"$f":"IFERROR(VLOOKUP(B846,Insumos!$A$4:$B$8,2,FALSE),\"\")","v":""}]
[null,"","",{"$f":"IFERROR(VLOOKUP(B847,Insumos!$A$4:$B$8,2,FALSE),\"\")","v":""}]
[null,"","",{"$f":"IFERROR(VLOOKUP(B848,Insumos!$A$4:$B$8,2,FALSE),\"\")","v":""}]
[null,"","",{"$f":"IFERROR(VLOOKUP(B849,Insumos!$A$4:$B$8,2,FALSE),\"\")","v":""}]
[null,"","",{"$f":"IFERROR(VLOOKUP(B850,Insumos!$A$4:$B$8,2,FALSE),\"\")","v":""}]
[null,"","",{"$f":"IFERROR(VLOOKUP(B851,Insumos!$A$4:$B$8,2,FALSE),\"\")","v":""}]
[null,"","",{"$f":"IFERROR(VLOOKUP(B852,Insumos!$A$4:$B$8,2,FALSE),\"\")","v":""}]
[null,"","",{"$f":"IFERROR(VLOOKUP(B853,Insumos!$A$4:$B$8,2,FALSE),\"\")","v":""}]
[null,"","",{"$f":"IFERROR(VLOOKUP(B854,Insumos!$A$4:$B$8,2,FALSE),\"\")","v":""}]
[null,"","",{"$f":"IFERROR(VLOOKUP(B855,Insumos!$A$4:$B$8,2,FALSE),\"\")","v":""}]
[null,"","",{"$f":"IFERROR(VLOOKUP(B856,Insumos!$A$4:$B$8,2,FALSE),\"\")","v":""}]
[null,"","",{"$f":"IFERROR(VLOOKUP(B857,Insumos!$A$4:$B$8,2,FALSE),\"\")","v":""}]
[null,"","",{"$f":"IFERROR(VLOOKUP(B858,Insumos!$A$4:$B$8,2,FALSE),\"\")","v":""}]
[null,"","",{"$f":"IFERROR(VLOOKUP(B859,Insumos!$A$4:$B$8,2,FALSE),\"\")","v":""}]
[null,"","",{"$f":"IFERROR(VLOOKUP(B860,Insumos!$A$4:$B$8,2,FALSE),\"\")","v":""}]
[null,"","",{"$f":"IFERROR(VLOOKUP(B861,Insumos!$A$4:$B$8,2,FALSE),\"\")","v":""}]
[null,"","",{"$f":"IFERROR(VLOOKUP(B862,Insumos!$A$4:$B$8,2,FALSE),\"\")","v":""}]
[null,"","",{"$f":"IFERROR(VLOOKUP(B863,Insumos!$A$4:$B$8,2,FALSE),\"\")","v":""}]
[null,"","",{"$f":"IFERROR(VLOOKUP(B864,Insumos!$A$4:$B$8,2,FALSE),\"\")","v":""}]
[null,"","",{"$f":"IFERROR(VLOOKUP(B865,Insumos!$A$4:$B$8,2,FALSE),\"\")","v":""}]
[null,"","",{"$f":"IFERROR(VLOOKUP(B866,Insumos!$A$4:$B$8,2,FALSE),\"\")","v":""}]
[null,"","",{"$f":"IFERROR(VLOOKUP(B867,Insumos!$A$4:$B$8,2,FALSE),\"\")","v":""}]
[null,"","",{"$f":"IFERROR(VLOOKUP(B868,Insumos!$A$4:$B$8,2,FALSE),\"\")","v":""}]
[null,"","",{"$f":"IFERROR(VLOOKUP(B869,Insumos!$A$4:$B$8,2,FALSE),\"\")","v":""}]
[null,"","",{"$f":"IFERROR(VLOOKUP(B870,Insumos!$A$4:$B$8,2,FALSE),\"\")","v":""}]
[null,"","",{"$f":"IFERROR(VLOOKUP(B871,Insumos!$A$4:$B$8,2,FALSE),\"\")","v":""}]
[null,"","",{"$f":"IFERROR(VLOOKUP(B872,Insumos!$A$4:$B$8,2,FALSE),\"\")","v":""}]
[null,"","",{"$f":"IFERROR(VLOOKUP(B873,Insumos!$A$4:$B$8,2,FALSE),\"\")","v":""}]
[null,"","",{"$f":"IFERROR(VLOOKUP(B874,Insumos!$A$4:$B$8,2,FALSE),\"\")","v":""}]
[null,"","",{"$f":"IFERROR(VLOOKUP(B875,Insumos!$A$4:$B$8,2,FALSE),\"\")","v":""}]
[null,"","",{"$f":"IFERROR(VLOOKUP(B876,Insumos!$A$4:$B$8,2,FALSE),\"\")","v":""}]
[null,"","",{"$f":"IFERROR(VLOOKUP(B877,Insumos!$A$4:$B$8,2,FALSE),\"\")","v":""}]
[null,"","",{"$f":"IFERROR(VLOOKUP(B878,Insumos!$A$4:$B$8,2,FALSE),\"\")","v":""}]
[null,"","",{"$f":"IFERROR(VLOOKUP(B879,Insumos!$A$4:$B$8,2,FALSE),\"\")","v":""}]
[null,"","",{"$f":"IFERROR(VLOOKUP(B880,Insumos!$A$4:$B$8,2,FALSE),\"\")","v":""}]
[null,"","",{"$f":"IFERROR(VLOOKUP(B881,Insumos!$A$4:$B$8,2,FALSE),\"\")","v":""}]
[null,"","",{"$f":"IFERROR(VLOOKUP(B882,Insumos!$A$4:$B$8,2,FALSE),\"\")","v":""}]
[null,"","",{"$f":"IFERROR(VLOOKUP(B883,Insumos!$A$4:$B$8,2,FALSE),\"\")","v":""}]
[null,"","",{"$f":"IFERROR(VLOOKUP(B884,Insumos!$A$4:$B$8,2,FALSE),\"\")","v":""}]
[null,"","",{"$f":"IFERROR(VLOOKUP(B885,Insumos!$A$4:$B$8,2,FALSE),\"\")","v":""}]
[null,"","",{"$f":"IFERROR(VLOOKUP(B886,Insumos!$A$4:$B$8,2,FALSE),\"\")","v":""}]
[null,"","",{"$f":"IFERROR(VLOOKUP(B887,Insumos!$A$4:$B$8,2,FALSE),\"\")","v":""}]
[null,"","",{"$f":"IFERROR(VLOOKUP(B888,Insumos!$A$4:$B$8,2,FALSE),\"\")","v":""}]
[null,"","",{"$f":"IFERROR(VLOOKUP(B889,Insumos!$A$4:$B$8,2,FALSE),\"\")","v":""}]
[null,"","",{"$f":"IFERROR(VLOOKUP(B890,Insumos!$A$4:$B$8,2,FALSE),\"\")","v":""}]
[null,"","",{"$f":"IFERROR(VLOOKUP(B891,Insumos!$A$4:$B$8,2,FALSE),\"\")","v":""}]
[null,"","",{"$f":"IFERROR(VLOOKUP(B892,Insumos!$A$4:$B$8,2,FALSE),\"\")","v":""}]
[null,"","",{"$f":"IFERROR(VLOOKUP(B893,Insumos!$A$4:$B$8,2,FALSE),\"\")","v":""}]
[null,"","",{"$f":"IFERROR(VLOOKUP(B894,Insumos!$A$4:$B$8,2,FALSE),\"\")","v":""}]
[null,"","",{"$f":"IFERROR(VLOOKUP(B895,Insumos!$A$4:$B$8,2,FALSE),\"\")","v":""}]
[null,"","",{"$f":"IFERROR(VLOOKUP(B896,Insumos!$A$4:$B$8,2,FALSE),\"\")","v":""}]
[null,"","",{"$f":"IFERROR(VLOOKUP(B897,Insumos!$A$4:$B$8,2,FALSE),\"\")","v":""}]
[null,"","",{"$f":"IFERROR(VLOOKUP(B898,Insumos!$A$4:$B$8,2,FALSE),\"\")","v":""}]
[null,"","",{"$f":"IFERROR(VLOOKUP(B899,Insumos!$A$4:$B$8,2,FALSE),\"\")","v":""}]
[null,"","",{"$f":"IFERROR(VLOOKUP(B900,Insumos!$A$4:$B$8,2,FALSE),\"\")","v":""}]
[null,"","",{"$f":"IFERROR(VLOOKUP(B901,Insumos!$A$4:$B$8,2,FALSE),\"\")","v":""}]
[null,"","",{"$f":"IFERROR(VLOOKUP(B902,Insumos!$A$4:$B$8,2,FALSE),\"\")","v":""}]
[null,"","",{"$f":"IFERROR(VLOOKUP(B903,Insumos!$A$4:$B$8,2,FALSE),\"\")","v":""}]
[null,"","",{"$f":"IFERROR(VLOOKUP(B904,Insumos!$A$4:$B$8,2,FALSE),\"\")","v":""}]
[null,"","",{"$f":"IFERROR(VLOOKUP(B905,Insumos!$A$4:$B$8,2,FALSE),\"\")","v":""}]
[null,"","",{"$f":"IFERROR(VLOOKUP(B906,Insumos!$A$4:$B$8,2,FALSE),\"\")","v":""}]
[null,"","",{"$f":"IFERROR(VLOOKUP(B907,Insumos!$A$4:$B$8,2,FALSE),\"\")","v":""}]
[null,"","",{"$f":"IFERROR(VLOOKUP(B908,Insumos!$A$4:$B$8,2,FALSE),\"\")","v":""}]
[null,"","",{"$f":"IFERROR(VLOOKUP(B909,Insumos!$A$4:$B$8,2,FALSE),\"\")","v":""}]
[null,"","",{"$f":"IFERROR(VLOOKUP(B910,Insumos!$A$4:$B$8,2,FALSE),\"\")","v":""}]
[null,"","",{"$f":"IFERROR(VLOOKUP(B911,Insumos!$A$4:$B$8,2,FALSE),\"\")","v":""}]
[null,"","",{"$f":"IFERROR(VLOOKUP(B912,Insumos!$A$4:$B$8,2,FALSE),\"\")","v":""}]
[null,"","",{"$f":"IFERROR(VLOOKUP(B913,Insumos!$A$4:$B$8,2,FALSE),\"\")","v":""}]
[null,"","",{"$f":"IFERROR(VLOOKUP(B914,Insumos!$A$4:$B$8,2,FALSE),\"\")","v":""}]
[null,"","",{"$f":"IFERROR(VLOOKUP(B915,Insumos!$A$4:$B$8,2,FALSE),\"\")","v":""}]
[null,"","",{"$f":"IFERROR(VLOOKUP(B916,Insumos!$A$4:$B$8,2,FALSE),\"\")","v":""}]
[null,"","",{"$f":"IFERROR(VLOOKUP(B917,Insumos!$A$4:$B$8,2,FALSE),\"\")","v":""}]
[null,"","",{"$f":"IFERROR(VLOOKUP(B918,Insumos!$A$4:$B$8,2,FALSE),\"\")","v":""}]
[null,"","",{"$f":"IFERROR(VLOOKUP(B919,Insumos!$A$4:$B$8,2,FALSE),\"\")","v":""}]
[null,"","",{"$f":"IFERROR(VLOOKUP(B920,Insumos!$A$4:$B$8,2,FALSE),\"\")","v":""}]
[null,"","",{"$f":"IFERROR(VLOOKUP(B921,Insumos!$A$4:$B$8,2,FALSE),\"\")","v":""}]
[null,"","",{"$f":"IFERROR(VLOOKUP(B922,Insumos!$A$4:$B$8,2,FALSE),\"\")","v":""}]
[null,"","",{"$f":"IFERROR(VLOOKUP(B923,Insumos!$A$4:$B$8,2,FALSE),\"\")","v":""}]
[null,"","",{"$f":"IFERROR(VLOOKUP(B924,Insumos!$A$4:$B$8,2,FALSE),\"\")","v":""}]
[null,"","",{"$f":"IFERROR(VLOOKUP(B925,Insumos!$A$4:$B$8,2,FALSE),\"\")","v":""}]
[null,"","",{"$f":"IFERROR(VLOOKUP(B926,Insumos!$A$4:$B$8,2,FALSE),\"\")","v":""}]
[null,"","",{"$f":"IFERROR(VLOOKUP(B927,Insumos!$A$4:$B$8,2,FALSE),\"\")","v":""}]
[null,"","",{"$f":"IFERROR(VLOOKUP(B928,Insumos!$A$4:$B$8,2,FALSE),\"\")","v":""}]
[null,"","",{"$f":"IFERROR(VLOOKUP(B929,Insumos!$A$4:$B$8,2,FALSE),\"\")","v":""}]
[null,"","",{"$f":"IFERROR(VLOOKUP(B930,Insumos!$A$4:$B$8,2,FALSE),\"\")","v":""}]
[null,"","",{"$f":"IFERROR(VLOOKUP(B931,Insumos!$A$4:$B$8,2,FALSE),\"\")","v":""}]
[null,"","",{"$f":"IFERROR(VLOOKUP(B932,Insumos!$A$4:$B$8,2,FALSE),\"\")","v":""}]
[null,"","",{"$f":"IFERROR(VLOOKUP(B933,Insumos!$A$4:$B$8,2,FALSE),\"\")","v":""}]
[null,"","",{"$f":"IFERROR(VLOOKUP(B934,Insumos!$A$4:$B$8,2,FALSE),\"\")","v":""}]
[null,"","",{"$f":"IFERROR(VLOOKUP(B935,Insumos!$A$4:$B$8,2,FALSE),\"\")","v":""}]
[null,"","",{"$f":"IFERROR(VLOOKUP(B936,Insumos!$A$4:$B$8,2,FALSE),\"\")","v":""}]
[null,"","",{"$f":"IFERROR(VLOOKUP(B937,Insumos!$A$4:$B$8,2,FALSE),\"\")","v":""}]
[null,"","",{"$f":"IFERROR(VLOOKUP(B938,Insumos!$A$4:$B$8,2,FALSE),\"\")","v":""}]
[null,"","",{"$f":"IFERROR(VLOOKUP(B939,Insumos!$A$4:$B$8,2,FALSE),\"\")","v":""}]
[null,"","",{"$f":"IFERROR(VLOOKUP(B940,Insumos!$A$4:$B$8,2,FALSE),\"\")","v":""}]
[null,"","",{"$f":"IFERROR(VLOOKUP(B941,Insumos!$A$4:$B$8,2,FALSE),\"\")","v":""}]
[null,"","",{"$f":"IFERROR(VLOOKUP(B942,Insumos!$A$4:$B$8,2,FALSE),\"\")","v":""}]
[null,"","",{"$f":"IFERROR(VLOOKUP(B943,Insumos!$A$4:$B$8,2,FALSE),\"\")","v":""}]
[null,"","",{"$f":"IFERROR(VLOOKUP(B944,Insumos!$A$4:$B$8,2,FALSE),\"\")","v":""}]
[null,"","",{"$f":"IFERROR(VLOOKUP(B945,Insumos!$A$4:$B$8,2,FALSE),\"\")","v":""}]
[null,"","",{"$f":"IFERROR(VLOOKUP(B946,Insumos!$A$4:$B$8,2,FALSE),\"\")","v":""}]
[null,"","",{"$f":"IFERROR(VLOOKUP(B947,Insumos!$A$4:$B$8,2,FALSE),\"\")","v":""}]
[null,"","",{"$f":"IFERROR(VLOOKUP(B948,Insumos!$A$4:$B$8,2,FALSE),\"\")","v":""}]
[null,"","",{"$f":"IFERROR(VLOOKUP(B949,Insumos!$A$4:$B$8,2,FALSE),\"\")","v":""}]
[null,"","",{"$f":"IFERROR(VLOOKUP(B950,Insumos!$A$4:$B$8,2,FALSE),\"\")","v":""}]
[null,"","",{"$f":"IFERROR(VLOOKUP(B951,Insumos!$A$4:$B$8,2,FALSE),\"\")","v":""}]
[null,"","",{"$f":"IFERROR(VLOOKUP(B952,Insumos!$A$4:$B$8,2,FALSE),\"\")","v":""}]
[null,"","",{"$f":"IFERROR(VLOOKUP(B953,Insumos!$A$4:$B$8,2,FALSE),\"\")","v":""}]
[null,"","",{"$f":"IFERROR(VLOOKUP(B954,Insumos!$A$4:$B$8,2,FALSE),\"\")","v":""}]
[null,"","",{"$f":"IFERROR(VLOOKUP(B955,Insumos!$A$4:$B$8,2,FALSE),\"\")","v":""}]
[null,"","",{"$f":"IFERROR(VLOOKUP(B956,Insumos!$A$4:$B$8,2,FALSE),\"\")","v":""}]
[null,"","",{"$f":"IFERROR(VLOOKUP(B957,Insumos!$A$4:$B$8,2,FALSE),\"\")","v":""}]
[null,"","",{"$f":"IFERROR(VLOOKUP(B958,Insumos!$A$4:$B$8,2,FALSE),\"\")","v":""}]
[null,"","",{"$f":"IFERROR(VLOOKUP(B959,Insumos!$A$4:$B$8,2,FALSE),\"\")","v":""}]
[null,"","",{"$f":"IFERROR(VLOOKUP(B960,Insumos!$A$4:$B$8,2,FALSE),\"\")","v":""}]
[null,"","",{"$f":"IFERROR(VLOOKUP(B961,Insumos!$A$4:$B$8,2,FALSE),\"\")","v":""}]
[null,"","",{"$f":"IFERROR(VLOOKUP(B962,Insumos!$A$4:$B$8,2,FALSE),\"\")","v":""}]
[null,"","",{"$f":"IFERROR(VLOOKUP(B963,Insumos!$A$4:$B$8,2,FALSE),\"\")","v":""}]
[null,"","",{"$f":"IFERROR(VLOOKUP(B964,Insumos!$A$4:$B$8,2,FALSE),\"\")","v":""}]
[null,"","",{"$f":"IFERROR(VLOOKUP(B965,Insumos!$A$4:$B$8,2,FALSE),\"\")","v":""}]
[null,"","",{"$f":"IFERROR(VLOOKUP(B966,Insumos!$A$4:$B$8,2,FALSE),\"\")","v":""}]
[null,"","",{"$f":"IFERROR(VLOOKUP(B967,Insumos!$A$4:$B$8,2,FALSE),\"\")","v":""}]
[null,"","",{"$f":"IFERROR(VLOOKUP(B968,Insumos!$A$4:$B$8,2,FALSE),\"\")","v":""}]
[null,"","",{"$f":"IFERROR(VLOOKUP(B969,Insumos!$A$4:$B$8,2,FALSE),\"\")","v":""}]
[null,"","",{"$f":"IFERROR(VLOOKUP(B970,Insumos!$A$4:$B$8,2,FALSE),\"\")","v":""}]
[null,"","",{"$f":"IFERROR(VLOOKUP(B971,Insumos!$A$4:$B$8,2,FALSE),\"\")","v":""}]
[null,"","",{"$f":"IFERROR(VLOOKUP(B972,Insumos!$A$4:$B$8,2,FALSE),\"\")","v":""}]
[null,"","",{"$f":"IFERROR(VLOOKUP(B973,Insumos!$A$4:$B$8,2,FALSE),\"\")","v":""}]
[null,"","",{"$f":"IFERROR(VLOOKUP(B974,Insumos!$A$4:$B$8,2,FALSE),\"\")","v":""}]
[null,"","",{"$f":"IFERROR(VLOOKUP(B975,Insumos!$A$4:$B$8,2,FALSE),\"\")","v":""}]
[null,"","",{"$f":"IFERROR(VLOOKUP(B976,Insumos!$A$4:$B$8,2,FALSE),\"\")","v":""}]
[null,"","",{"$f":"IFERROR(VLOOKUP(B977,Insumos!$A$4:$B$8,2,FALSE),\"\")","v":""}]
[null,"","",{"$f":"IFERROR(VLOOKUP(B978,Insumos!$A$4:$B$8,2,FALSE),\"\")","v":""}]
[null,"","",{"$f":"IFERROR(VLOOKUP(B979,Insumos!$A$4:$B$8,2,FALSE),\"\")","v":""}]
[null,"","",{"$f":"IFERROR(VLOOKUP(B980,Insumos!$A$4:$B$8,2,FALSE),\"\")","v":""}]
[null,"","",{"$f":"IFERROR(VLOOKUP(B981,Insumos!$A$4:$B$8,2,FALSE),\"\")","v":""}]
[null,"","",{"$f":"IFERROR(VLOOKUP(B982,Insumos!$A$4:$B$8,2,FALSE),\"\")","v":""}]
[null,"","",{"$f":"IFERROR(VLOOKUP(B983,Insumos!$A$4:$B$8,2,FALSE),\"\")","v":""}]
[null,"","",{"$f":"IFERROR(VLOOKUP(B984,Insumos!$A$4:$B$8,2,FALSE),\"\")","v":""}]
[null,"","",{"$f":"IFERROR(VLOOKUP(B985,Insumos!$A$4:$B$8,2,FALSE),\"\")","v":""}]
[null,"","",{"$f":"IFERROR(VLOOKUP(B986,Insumos!$A$4:$B$8,2,FALSE),\"\")","v":""}]
[null,"","",{"$f":"IFERROR(VLOOKUP(B987,Insumos!$A$4:$B$8,2,FALSE),\"\")","v":""}]
[null,"","",{"$f":"IFERROR(VLOOKUP(B988,Insumos!$A$4:$B$8,2,FALSE),\"\")","v":""}]
[null,"","",{"$f":"IFERROR(VLOOKUP(B989,Insumos!$A$4:$B$8,2,FALSE),\"\")","v":""}]
[null,"","",{"$f":"IFERROR(VLOOKUP(B990,Insumos!$A$4:$B$8,2,FALSE),\"\")","v":""}]
[null,"","",{"$f":"IFERROR(VLOOKUP(B991,Insumos!$A$4:$B$8,2,FALSE),\"\")","v":""}]
[null,"","",{"$f":"IFERROR(VLOOKUP(B992,Insumos!$A$4:$B$8,2,FALSE),\"\")","v":""}]
[null,"","",{"$f":"IFERROR(VLOOKUP(B993,Insumos!$A$4:$B$8,2,FALSE),\"\")","v":""}]
[null,"","",{"$f":"IFERROR(VLOOKUP(B994,Insumos!$A$4:$B$8,2,FALSE),\"\")","v":""}]
[null,"","",{"$f":"IFERROR(VLOOKUP(B995,Insumos!$A$4:$B$8,2,FALSE),\"\")","v":""}]
[null,"","",{"$f":"IFERROR(VLOOKUP(B996,Insumos!$A$4:$B$8,2,FALSE),\"\")","v":""}]
[null,"","",{"$f":"IFERROR(VLOOKUP(B997,Insumos!$A$4:$B$8,2,FALSE),\"\")","v":""}]
[null,"","",{"$f":"IFERROR(VLOOKUP(B998,Insumos!$A$4:$B$8,2,FALSE),\"\")","v":""}]
[null,"","",{"$f":"IFERROR(VLOOKUP(B999,Insumos!$A$4:$B$8,2,FALSE),\"\")","v":""}]
[null,null,null,{"$f":"IFERROR(VLOOKUP(B1000,Insumos!$A$4:$B$8,2,FALSE),\"\")","v":""}]