{"text_format":"1","workbook":"xlsx","n_sheets":7,"sheets":["Cliente","Tecnico","Status","meses","Visita","BD","Cro"],"not_rendered":{"charts":0,"images":6,"macros":1,"external_links":0,"defined_names":18,"comments":0,"pivot_tables":6},"unopened":[],"bounds":{"document_bytes":16777216,"sheet_cells":100000,"rows_first":2000,"rows_last":500,"rows_between":2000,"halvings":0,"cell_chars":16384,"cell_head_chars":4096},"cells_cut":0,"cells_raw":0,"read":"whole","date_system":"1900"}

{"sheet":"Cliente","index":0,"n_rows":248,"n_cols":27,"rows_kept":248,"cut":false,"hidden":true,"merged":[]}
[]
[null,null,null,null,{"$f":"COUNTA(B4:B124)","v":49},{"$f":"COUNTA(F4:F1048576)","v":49},null,null,null,null,null,null,null,null,null,null,null,null,null,null,"Total Clientes:",{"$f":"COUNTA(X4:X1048576)","v":118}]
[null,"Cliente",null,null,"Cliente","Unidade",null,"Cliente","Unidade","ID Cliente","ID Unidade","x",null,null,"Agrosul Baixa Grande",null,null,"Cliente","Descrição",null,"Total Unidades:",{"$f":"COUNTA(AA5:AA1048576)","v":238}]
[null,"InovaTech",null,null,"InovaTech","InovaTech",null,{"$f":"E4","v":"InovaTech"},{"$f":"F4","v":"InovaTech"},1,11,1,null,null,"Agrosul Uruçuí ",null,null,"Agrosul Baixa Grande","Agrosul Baixa Grande"," ",null,null,null,"Cliente",null,null,"Rótulos de Linha"]
[null,"BrilhoTech",null,null,"BrilhoTech","BrilhoTech",null,"BrilhoTech","BrilhoTech",{"$f":"IF(Cliente!$H5=H4,J4,J4+1)","v":2},{"$f":"CONCATENATE(J5,IF(J5=J4,L4+1,0+1))","v":"21"},{"$f":"IF(J5=J4,L4+1,0+1)","v":1},null,null,"Água Mineral Daboa",null,null,"Agrosul Uruçuí ","Agrosul Uruçuí"," ",null,null,null,"Agrosul Baixa Grande",null,null,"Açaí Sunset (quiosque)"]
[null,"Esfera Criativa",null,null,"Esfera Criativa","Esfera Criativa",null,"Esfera Criativa","Esfera Criativa",{"$f":"IF(Cliente!$H6=H5,J5,J5+1)","v":3},{"$f":"CONCATENATE(J6,L6)","v":"31"},1,null,null,"Alfa Distribuidora",null,null,"Água Mineral Daboa","Água Mineral Daboa"," ",null,null,null,"Água Mineral Daboa",null,null,"Agrosul Baixa Grande"]
[null,"ImagineWorks",null,null,"ImagineWorks","ImagineWorks",null,"ImagineWorks","ImagineWorks",{"$f":"IF(Cliente!$H7=H6,J6,J6+1)","v":4},"41",1,null,null,"Atacadão",null,null,"Alfa Distribuidora","Alfa Distribuidora"," ",null,null,null,"Água Mineral Suprema",null,null,"Agrosul Uruçuí"]
[null,"Inovare",null,null,"Inovare","Inovare",null,"Inovare","Inovare",{"$f":"IF(Cliente!$H8=H7,J7,J7+1)","v":5},"51",1,null,null,"Athos Med",null,null,"Atacadão","Atacadão Picos"," ",null,null,null,"Alfa Distribuidora",null,null,"Água Mineral Daboa"]
[null,"Soluções Nexus",null,null,"Soluções Nexus","Soluções Nexus",null,"Soluções Nexus","Soluções Nexus",{"$f":"IF(Cliente!$H9=H8,J8,J8+1)","v":6},"61",1,null,null,"Bob's",null,null,"Athos Med","Athos Med Centro"," ",null,null,null,"Atacadão",null,null,"Água Mineral Suprema"]
[null,"DreamCraft",null,null,"DreamCraft","DreamCraft",null,"DreamCraft","DreamCraft",{"$f":"IF(Cliente!$H10=H9,J9,J9+1)","v":7},"71",1,null,null,"Bom Todo",null,null,"Athos Med","Athos Med Joquey"," ",null,null,null,"Athos Med",null,null,"Alfa Distribuidora"]
[null,"Tecnologia Pulso",null,null,"Tecnologia Pulso","Tecnologia Pulso",null,"Tecnologia Pulso","Tecnologia Pulso",{"$f":"IF(Cliente!$H11=H10,J10,J10+1)","v":8},"81",1,null,null,"Cacau Show",null,null,"Bob's","Bob's Aeroporto"," ",null,null,null,"Bob's",null,null,"Algodoeira"]
[null,"Borda Brilhante",null,null,"Borda Brilhante","Borda Brilhante",null,"Borda Brilhante","Borda Brilhante",{"$f":"IF(Cliente!$H12=H11,J11,J11+1)","v":9},"91",1,null,null,"Chico Xique",null,null,"Bob's","Bob's Barão"," ",null,null,null,"Bom Todo",null,null,"Arabian Grill"]
[null,"Nova Onda",null,null,"Nova Onda","Nova Onda",null,"Nova Onda","Nova Onda",{"$f":"IF(Cliente!$H13=H12,J12,J12+1)","v":10},"101",1,null,null,"Cinepolis",null,null,"Bob's","Bob's Jóquei"," ",null,null,null,"Cacau Show",null,null,"Atacadão Picos"]
[null,"MetaGenix",null,null,"MetaGenix","MetaGenix",null,"MetaGenix","MetaGenix",{"$f":"IF(Cliente!$H14=H13,J13,J13+1)","v":11},"111",1,null,null,"Comercial Ibiapina",null,null,"Bob's","Bob's Quiosque Rodoviária"," ",null,null,null,"Casa dos Salgados",null,null,"Athos Med Centro"]
[null,"Ideas Unlimited",null,null,"Ideas Unlimited","Ideas Unlimited",null,"Ideas Unlimited","Ideas Unlimited",{"$f":"IF(Cliente!$H15=H14,J14,J14+1)","v":12},"121",1,null,null,"Comercial Veloso",null,null,"Bob's","Bob's Quiosque Teresina Shopping"," ",null,null,null,"Chico Xique",null,null,"Athos Med Joquey"]
[null,"Prime Spark",null,null,"Prime Spark","Prime Spark",null,"Prime Spark","Prime Spark",{"$f":"IF(Cliente!$H16=H15,J15,J15+1)","v":13},"131",1,null,null,"Conveniência Portal Center",null,null,"Bob's","Bob's Teresina Shopping"," ",null,null,null,"Cinepolis",null,null,"Aviário"]
[null,"Swift Solutions",null,null,"Swift Solutions","Swift Solutions",null,"Swift Solutions","Swift Solutions",{"$f":"IF(Cliente!$H17=H16,J16,J16+1)","v":14},"141",1,null,null,"Dinâmica Distribuidora",null,null,"Bom Todo","Fazenda Bom Todo"," ",null,null,null,"Comercial Ibiapina",null,null,"B.lem Padaria Portuguesa"]
[null,"Nexus",null,null,"Nexus","Nexus",null,"Nexus","Nexus",{"$f":"IF(Cliente!$H18=H17,J17,J17+1)","v":15},"151",1,null,null,"Discar Distribuidora",null,null,"Bom Todo","Granja Adm e Refeitório"," ",null,null,null,"Comercial Veloso",null,null,"Beer Store"]
[null,"MindSpark",null,null,"MindSpark","MindSpark",null,"MindSpark","MindSpark",{"$f":"IF(Cliente!$H19=H18,J18,J18+1)","v":16},"161",1,null,null,"Drogaria Novafarma",null,null,"Bom Todo","Granja Núcleo 01"," ",null,null,null,"Conveniência Portal Center",null,null,"Biomundo"]
[null,"PixelPower",null,null,"PixelPower","PixelPower",null,"PixelPower","PixelPower",{"$f":"IF(Cliente!$H20=H19,J19,J19+1)","v":17},"171",1,null,null,"Eco Investimentos",null,null,"Bom Todo","Granja Núcleo 02"," ",null,null,null,"Conveniência Posto HC",null,null,"Bob's"]
[null,"Gênios do Futuro",null," ","Gênios do Futuro","Gênios do Futuro"," ","Gênios do Futuro","Gênios do Futuro",{"$f":"IF(Cliente!$H21=H20,J20,J20+1)","v":18},"181",1,null,null,"Economax"," ",null,"Bom Todo","Granja Núcleo 03"," ",null,null,null,"Cordeiro Amicato Pet Shop",null,null,"Bob's 1 (quiosque)"]
[null,"Inspiração Tech",null," ","Inspiração Tech","Inspiração Tech"," ","Inspiração Tech","Inspiração Tech",{"$f":"IF(Cliente!$H22=H21,J21,J21+1)","v":19},"191",1,null,null,"Edifício Jacarandá"," ",null,"Bom Todo","Granja Núcleo 05"," ",null,null,null,"Cristiano Laecio Evaristo de Sousa",null,null,"Bob's 2 (quiosque)"]
[null,"TecnoVanguarda",null," ","TecnoVanguarda","TecnoVanguarda"," ","TecnoVanguarda","TecnoVanguarda",{"$f":"IF(Cliente!$H23=H22,J22,J22+1)","v":20},"201",1,null,null,"Ello Distribuidora"," ",null,"Bom Todo","Granja Núcleo 06"," ",null,null,null,"Dinâmica Distribuidora",null,null,"Bob's Aeroporto"]
[null,"Transformação Digital",null," ","Transformação Digital","Transformação Digital"," ","Transformação Digital","Transformação Digital",{"$f":"IF(Cliente!$H24=H23,J23,J23+1)","v":21},"211",1,null,null,"Empório do Zeca"," ",null,"Bom Todo","Granja Núcleo 07"," ",null,null,null,"Discar Distribuidora",null,null,"Bob's Barão"]
[null,"InnovAction",null," ","InnovAction","InnovAction"," ","InnovAction","InnovAction",{"$f":"IF(Cliente!$H25=H24,J24,J24+1)","v":22},"221",1,null,null,"Enoteca Sanvino"," ",null,"Bom Todo","Silo Bom Todo"," ",null,null,null,"Doraneide Costa Rodrigues",null,null,"Bob's Jóquei"]
[null,"HighTech Solutions",null," ","HighTech Solutions","HighTech Solutions"," ","HighTech Solutions","HighTech Solutions",{"$f":"IF(Cliente!$H26=H25,J25,J25+1)","v":23},"231",1,null,null,"Equipmed"," ",null,"Cacau Show","Cacau Show Parque Piauí"," ",null,null,null,"Drogaria Novafarma",null,null,"Bob's Quiosque Rodoviária"]
[null,"Innovatrix",null," ","Innovatrix","Innovatrix"," ","Innovatrix","Innovatrix",{"$f":"IF(Cliente!$H27=H26,J26,J26+1)","v":24},"241",1,null,null,"Estogran"," ",null,"Chico Xique","Chico Xique Riverside"," ",null,null,null,"Eco Investimentos",null,null,"Bob's Quiosque Teresina Shopping"]
[null,"Ideia Genial",null," ","Ideia Genial","Ideia Genial"," ","Ideia Genial","Ideia Genial",{"$f":"IF(Cliente!$H28=H27,J27,J27+1)","v":25},"251",1,null,null,"Farmácia Santa Teresinha"," ",null,"Chico Xique","Chico Xique Teresina Shopping"," ",null,null,null,"Economax",null,null,"Bob's Teresina Shopping"]
[null,"EnerTech",null," ","EnerTech","EnerTech"," ","EnerTech","EnerTech",{"$f":"IF(Cliente!$H29=H28,J28,J28+1)","v":26},"261",1,null,null,"Fazenda Bela Vista"," ",null,"Cinepolis","Cinepolis"," ",null,null,null,"Edifício Jacarandá",null,null,"Bohcomer"]
[null,"Vanguardia",null," ","Vanguardia","Vanguardia"," ","Vanguardia","Vanguardia",{"$f":"IF(Cliente!$H30=H29,J29,J29+1)","v":27},"271",1,null,null,"Fazenda Brasil Agrícola"," ",null,"Comercial Ibiapina","Comercial Ibiapina"," ",null,null,null,"Ello Distribuidora",null,null,"Borelli"]
[null,"InteliTech",null," ","InteliTech","InteliTech"," ","InteliTech","InteliTech",{"$f":"IF(Cliente!$H31=H30,J30,J30+1)","v":28},"281",1,null,null,"Fazenda Califórnia"," ",null,"Comercial Veloso","Comercial Veloso Esplanada"," ",null,null,null,"Empório do Zeca",null,null,"Bubble Mix (quiosque)"]
[null,"IllumiNova",null," ","IllumiNova","IllumiNova"," ","IllumiNova","IllumiNova",{"$f":"IF(Cliente!$H32=H31,J31,J31+1)","v":29},"291",1,null,null,"Fazenda Cimpar"," ",null,"Comercial Veloso","Comercial Veloso Vamos Ver O Sol"," ",null,null,null,"Enoteca Sanvino",null,null,"Cacau Show"]
[null,"NexusEdge",null," ","NexusEdge","NexusEdge"," ","NexusEdge","NexusEdge",{"$f":"IF(Cliente!$H33=H32,J32,J32+1)","v":30},"301",1,null,null,"Fazenda Confiança"," ",null,"Conveniência Portal Center","Conveniência Portal Center"," ",null,null,null,"Equipmed",null,null,"Cacau Show Parque Piauí"]
[null,"VisionCraft",null," ","VisionCraft","VisionCraft"," ","VisionCraft","VisionCraft",{"$f":"IF(Cliente!$H34=H33,J33,J33+1)","v":31},"311",1,null,null,"Fazenda Dahma"," ",null,"Dinâmica Distribuidora","Dinâmica Distribuidora"," ",null,null,null,"Erasmo Carlos de Oliveira",null,null,"Cajookie"]
[null,"InnovaGenius",null," ","InnovaGenius","InnovaGenius"," ","InnovaGenius","InnovaGenius",{"$f":"IF(Cliente!$H35=H34,J34,J34+1)","v":32},"321",1,null,null,"Fazenda Fortaleza"," ",null,"Discar Distribuidora","Discar Distribuidora Caxias"," ",null,null,null,"Estogran",null,null,"Casa Açaí"]
[null,"MindShift",null," ","MindShift","MindShift"," ","MindShift","MindShift",{"$f":"IF(Cliente!$H36=H35,J35,J35+1)","v":33},"331",1,null,null,"Fazenda Galiléia"," ",null,"Discar Distribuidora","Discar Distribuidora Presidente Dutra"," ",null,null,null,"Farmácia Santa Teresinha",null,null,"Casa Baudduco"]
[null,"TechVision",null," ","TechVision","TechVision"," ","TechVision","TechVision",{"$f":"IF(Cliente!$H37=H36,J36,J36+1)","v":34},"341",1,null,null,"Fazenda Galiota"," ",null,"Drogaria Novafarma","Drogaria Novafarma"," ",null,null,null,"Fazenda Bela Vista",null,null,"Casa do Pão de Queijo"]
[null,"InspireX",null," ","InspireX","InspireX"," ","InspireX","InspireX",{"$f":"IF(Cliente!$H38=H37,J37,J37+1)","v":35},"351",1,null,null,"Fazenda Grauna"," ",null,"Eco Investimentos","Via Paris Salas Administrativas"," ",null,null,null,"Fazenda Brasil Agrícola",null,null,"Casa dos Salgados Rui Barbosa"]
[null,"NextWave",null," ","NextWave","NextWave"," ","NextWave","NextWave",{"$f":"IF(Cliente!$H39=H38,J38,J38+1)","v":36},"361",1,null,null,"Fazenda Horizontina"," ",null,"Economax","Economax"," ",null,null,null,"Fazenda Califórnia",null,null,"Casa dos Salgados São Cristovão"]
[null,"GenioTech",null," ","GenioTech","GenioTech"," ","GenioTech","GenioTech",{"$f":"IF(Cliente!$H40=H39,J39,J39+1)","v":37},"371",1,null,null,"Fazenda Imperial"," ",null,"Edifício Jacarandá","Edifício Jacarandá"," ",null,null,null,"Fazenda Cimpar",null,null,"Cheirin Bão"]
[null,"IdeasConnect",null," ","IdeasConnect","IdeasConnect"," ","IdeasConnect","IdeasConnect",{"$f":"IF(Cliente!$H41=H40,J40,J40+1)","v":38},"381",1,null,null,"Fazenda Ipê"," ",null,"Ello Distribuidora","Ello Distribuidora"," ",null,null,null,"Fazenda Confiança",null,null,"Chico Xique (Quiosque)"]
[null,"SparkSolutions",null," ","SparkSolutions","SparkSolutions"," ","SparkSolutions","SparkSolutions",{"$f":"IF(Cliente!$H42=H41,J41,J41+1)","v":39},"391",1,null,null,"Fazenda Japurá "," ",null,"Empório do Zeca","Empório do Zeca"," ",null,null,null,"Fazenda Dahma",null,null,"Chico Xique Riverside"]
[null,"NeuroInnovate",null," ","NeuroInnovate","NeuroInnovate"," ","NeuroInnovate","NeuroInnovate",{"$f":"IF(Cliente!$H43=H42,J42,J42+1)","v":40},"401",1,null,null,"Fazenda Marcos Vinícius"," ",null,"Enoteca Sanvino","Enoteca Sanvino"," ",null,null,null,"Fazenda Fortaleza",null,null,"Chico Xique Teresina Shopping"]
[null,"Futuris",null," ","Futuris","Futuris"," ","Futuris","Futuris",{"$f":"IF(Cliente!$H44=H43,J43,J43+1)","v":41},"411",1,null,null,"Fazenda Nova Aliança"," ",null,"Equipmed","Equipmed"," ",null,null,null,"Fazenda Galiléia",null,null,"Chiquinho Sorvete"]
[null,"SmartStart",null," ","SmartStart","SmartStart"," ","SmartStart","SmartStart",{"$f":"IF(Cliente!$H45=H44,J44,J44+1)","v":42},"421",1,null,null,"Fazenda Ovetrill"," ",null,"Estogran","Estogran"," ",null,null,null,"Fazenda Galiota",null,null,"Chopizza"]
[null,"BrainBox",null," ","BrainBox","BrainBox"," ","BrainBox","BrainBox",{"$f":"IF(Cliente!$H46=H45,J45,J45+1)","v":43},"431",1,null,null,"Fazenda Península"," ",null,"Estogran","Estogran Galpão"," ",null,null,null,"Fazenda Grauna",null,null,"Cinepolis"]
[null,"Innovision",null," ","Innovision","Innovision"," ","Innovision","Innovision",{"$f":"IF(Cliente!$H47=H46,J46,J46+1)","v":44},"441",1,null,null,"Fazenda Pratinha"," ",null,"Farmácia Santa Teresinha","Farmácia Santa Teresinha I"," ",null,null,null,"Fazenda Horizontina",null,null,"Comercial Ibiapina"]
[null,"MindSparkle",null," ","MindSparkle","MindSparkle"," ","MindSparkle","MindSparkle",{"$f":"IF(Cliente!$H48=H47,J47,J47+1)","v":45},"451",1,null,null,"Fazenda Progresso"," ",null,"Farmácia Santa Teresinha","Farmácia Santa Teresinha II"," ",null,null,null,"Fazenda Imperial",null,null,"Comercial Veloso Esplanada"]
[null,"IdeaLab",null," ","IdeaLab","IdeaLab"," ","IdeaLab","IdeaLab",{"$f":"IF(Cliente!$H49=H48,J48,J48+1)","v":46},"461",1,null,null,"Fazenda Santa Isabel"," ",null,"Fazenda Bela Vista","Fazenda Bela Vista"," ",null,null,null,"Fazenda Ipê",null,null,"Comercial Veloso Vamos Ver O Sol"]
[null,"VisionX",null," ","VisionX","VisionX"," ","VisionX","VisionX",{"$f":"IF(Cliente!$H50=H49,J49,J49+1)","v":47},"471",1,null,null,"Fazenda Santa Maria"," ",null,"Fazenda Brasil Agrícola","Fazenda Brasil Agrícola"," ",null,null,null,"Fazenda Marcos Vinícius",null,null,"Companhia do Churrasco"]
[null,"TechnoLink",null," ","TechnoLink","TechnoLink"," ","TechnoLink","TechnoLink",{"$f":"IF(Cliente!$H51=H50,J50,J50+1)","v":48},"481",1,null,null,"Fazenda Santa Teresa I e II"," ",null,"Fazenda Califórnia","Fazenda Califórnia"," ",null,null,null,"Fazenda Nova Aliança",null,null,"Conveniência Portal Center"]
[null,"InnovaGrowth",null," ","InnovaGrowth","InnovaGrowth"," ","InnovaGrowth","InnovaGrowth",{"$f":"IF(Cliente!$H52=H51,J51,J51+1)","v":49},"491",1,null,null,"Fazenda São Pedro"," ",null,"Fazenda Cimpar","Fazenda Cimpar"," ",null,null,null,"Fazenda Ovetrill",null,null,"Conveniência Posto HC"]
[null,null,null," ",null,null," ",0,0,{"$f":"IF(Cliente!$H53=H52,J52,J52+1)","v":50},"501",1,null,null,"Fazenda Serra Branca"," ",null,"Fazenda Confiança","Fazenda Confiança"," ",null,null,null,"Fazenda Península",null,null,"Cordeiro Amicato Pet Shop"]
[null,null,null," ",null,null," ",0,0,{"$f":"IF(Cliente!$H54=H53,J53,J53+1)","v":50},"502",2,null,null,"Fazenda Serra Grande"," ",null,"Fazenda Dahma","Fazenda Dahma"," ",null,null,null,"Fazenda Pratinha",null,null,"Coxinha no Cone"]
[null,null,null," ",null,null," ",0,0,{"$f":"IF(Cliente!$H55=H54,J54,J54+1)","v":50},"503",3,null,null,"Fazenda Tropical"," ",null,"Fazenda Fortaleza","Fazenda Fortaleza"," ",null,null,null,"Fazenda Progresso",null,null,"Cristiano Laecio Evaristo de Sousa"]
[null,null,null," ",null,null," ",0,0,{"$f":"IF(Cliente!$H56=H55,J55,J55+1)","v":50},"504",4,null,null,"Fazenda Verde Vale"," ",null,"Fazenda Galiléia","Fazenda Galiléia"," ",null,null,null,"Fazenda Santa Isabel",null,null,"Cuor Di Crema"]
[null,null,null," ",null,null," ",0,0,{"$f":"IF(Cliente!$H57=H56,J56,J56+1)","v":50},"505",5,null,null,"Fazendo Progresso "," ",null,"Fazenda Galiota","Fazenda Galiota"," ",null,null,null,"Fazenda Santa Maria",null,null,"Dinâmica Distribuidora"]
[null,null,null," ",null,null," ",0,0,{"$f":"IF(Cliente!$H58=H57,J57,J57+1)","v":50},"506",6,null,null,"Ferreira"," ",null,"Fazenda Grauna","Fazenda Grauna"," ",null,null,null,"Fazenda Santa Teresa I e II",null,null,"Discar Distribuidora Caxias"]
[null,null,null," ",null,null," ",0,0,{"$f":"IF(Cliente!$H59=H58,J58,J58+1)","v":50},"507",7,null,null,"Finess Buffet e Festas"," ",null,"Fazenda Horizontina","Fazenda Horizontina"," ",null,null,null,"Fazenda São Pedro",null,null,"Discar Distribuidora Presidente Dutra"]
[null,null,null," ",null,null," ",0,0,{"$f":"IF(Cliente!$H60=H59,J59,J59+1)","v":50},"508",8,null,null,"Frigotil"," ",null,"Fazenda Imperial","Fazenda Imperial"," ",null,null,null,"Fazenda Serra Branca",null,null,"Divino Fogão"]
[null,null,null," ",null,null," ",0,0,{"$f":"IF(Cliente!$H61=H60,J60,J60+1)","v":50},"509",9,null,null,"Garra Distribuidora"," ",null,"Fazenda Ipê","Fazenda Ipê"," ",null,null,null,"Fazenda Serra Grande",null,null,"Docitus"]
[null,null,null," ",null,null," ",0,0,{"$f":"IF(Cliente!$H62=H61,J61,J61+1)","v":50},"5010",10,null,null,"Giraffas"," ",null,"Fazenda Japurá ","Fazenda Japurá "," ",null,null,null,"Fazenda Tropical",null,null,"Donuts Now (quiosque)"]
[null,null,null," ",null,null," ",0,0,{"$f":"IF(Cliente!$H63=H62,J62,J62+1)","v":50},"5011",11,null,null,"Grelhata"," ",null,"Fazenda Marcos Vinícius","Fazenda Marcos Vinícius"," ",null,null,null,"Fazenda Verde Vale",null,null,"Doraneide Costa Rodrigues"]
[null,null,null," ",null,null," ",0,0,{"$f":"IF(Cliente!$H64=H63,J63,J63+1)","v":50},"5012",12,null,null,"Hapclínica Dib Tajra"," ",null,"Fazenda Nova Aliança","Fazenda Nova Aliança"," ",null,null,null,"Ferreira",null,null,"Drogaria Novafarma"]
[null,null,null," ",null,null," ",0,0,{"$f":"IF(Cliente!$H65=H64,J64,J64+1)","v":50},"5013",13,null,null,"Hospital Rio Poty"," ",null,"Fazenda Ovetrill","Fazenda Ovetrill"," ",null,null,null,"Finess Buffet e Festas",null,null,"Economax"]
[null,null,null," ",null,null," ",0,0,{"$f":"IF(Cliente!$H66=H65,J65,J65+1)","v":50},"5014",14,null,null,"Hotel Fórmula Flat"," ",null,"Fazenda Península","Fazenda Península"," ",null,null,null,"Frigotil",null,null,"Edifício Jacarandá"]
[null,null,null," ",null,null," ",0,0,{"$f":"IF(Cliente!$H67=H66,J66,J66+1)","v":50},"5015",15,null,null,"Ideal Alimentos"," ",null,"Fazenda Pratinha","Fazenda Pratinha"," ",null,null,null,"Garra Distribuidora",null,null,"Ello Distribuidora"]
[null,null,null," ",null,null," ",{"$f":"E68","v":0},{"$f":"F68","v":0},{"$f":"IF(Cliente!$H68=H67,J67,J67+1)","v":50},"5016",16,null,null,"Ilhotas Padaria e Mercearia"," ",null,"Fazenda Progresso","Fazenda Progresso"," ",null,null,null,"Giraffas",null,null,"Empório do Zeca"]
[null,null,null," ",null,null," ",0,0,{"$f":"IF(Cliente!$H69=H68,J68,J68+1)","v":50},"5017",{"$f":"IF(J69=J68,L68+1,0+1)","v":17},null,null,"Instituto de Performance e Saúde"," ",null,"Fazenda Santa Isabel","Fazenda Santa Isabel"," ",null,null,null,"Grelhata",null,null,"Enoteca Sanvino"]
[null,null,null," ",null,null," ",0,0,{"$f":"IF(Cliente!$H70=H69,J69,J69+1)","v":50},{"$f":"CONCATENATE(J70,L70)","v":"5018"},18,null,null,"Instituto Volta Vida"," ",null,"Fazenda Santa Maria","Fazenda Santa Maria"," ",null,null,null,"Hapclínica Dib Tajra",null,null,"Equipmed"]
[null,null,null," ",null,null," ",0,0,{"$f":"IF(Cliente!$H71=H70,J70,J70+1)","v":50},"5019",19,null,null,"Isotton Verduras"," ",null,"Fazenda Santa Teresa I e II","Fazenda Santa Teresa I e II"," ",null,null,null,"Hospital Rio Poty",null,null,"Erasmo Carlos de Oliveira"]
[null,null,null," ",null,null," ",0,0,{"$f":"IF(Cliente!$H72=H71,J71,J71+1)","v":50},"5020",20,null,null,"Kopenhagen"," ",null,"Fazenda São Pedro","Fazenda São Pedro"," ",null,null,null,"Hotel Fórmula Flat",null,null,"Estogran"]
[null,null,null," ",null,null," ",0,0,{"$f":"IF(Cliente!$H73=H72,J72,J72+1)","v":50},"5021",21,null,null,"Lavoro"," ",null,"Fazenda Serra Branca","Fazenda Serra Branca"," ",null,null,null,"Ideal Alimentos",null,null,"Estogran Galpão"]
[null,null,null," ",null,null," ",0,0,{"$f":"IF(Cliente!$H74=H73,J73,J73+1)","v":50},"5022",22,null,null,"Le Biscuit"," ",null,"Fazenda Serra Grande","Fazenda Serra Grande"," ",null,null,null,"Igor avulso",null,null,"Extrusora"]
[null,null,null," ",null,null," ",0,0,{"$f":"IF(Cliente!$H75=H74,J74,J74+1)","v":50},"5023",23,null,null,"Loja Tim"," ",null,"Fazenda Tropical","Fazenda Tropical"," ",null,null,null,"Ilhotas Padaria e Mercearia",null,null,"Fábrica de Ração"]
[null,null,null," ",null,null," ",0,0,{"$f":"IF(Cliente!$H76=H75,J75,J75+1)","v":50},"5024",24,null,null,"Magazine Luiza"," ",null,"Fazenda Verde Vale","Fazenda Verde Vale"," ",null,null,null,"Instituto de Performance e Saúde",null,null,"Farmácia Santa Teresinha I"]
[null,null,null," ",null,null," ",0,0,{"$f":"IF(Cliente!$H77=H76,J76,J76+1)","v":50},"5025",25,null,null,"Maná Prime"," ",null,"Fazendo Progresso ","Fazendo Progresso "," ",null,null,null,"Instituto Volta Vida",null,null,"Farmácia Santa Teresinha II"]
[null,null,null," ",null,null," ",0,0,{"$f":"IF(Cliente!$H78=H77,J77,J77+1)","v":50},"5026",26,null,null,"Max Comunicação Visual"," ",null,"Ferreira","Ferreira Água Branca"," ",null,null,null,"Isotton Verduras",null,null,"Fazenda Bela Bista"]
[null,null,null," ",null,null," ",0,0,{"$f":"IF(Cliente!$H79=H78,J78,J78+1)","v":50},"5027",27,null,null,"Mercadão Verde"," ",null,"Ferreira","Ferreira Água Mineral"," ",null,null,null,"Kopenhagen",null,null,"Fazenda Bela Vista"]
[null,null,null," ",null,null," ",0,0,{"$f":"IF(Cliente!$H80=H79,J79,J79+1)","v":50},"5028",28,null,null,"Milla"," ",null,"Ferreira","Ferreira Avenida Noé Mendes"," ",null,null,null,"Lavoro",null,null,"Fazenda Bom Todo"]
[null,null,null," ",null,null," ",0,0,{"$f":"IF(Cliente!$H81=H80,J80,J80+1)","v":50},"5029",29,null,null,"Monteorar"," ",null,"Ferreira","Ferreira Cd Areias"," ",null,null,null,"Le Biscuit",null,null,"Fazenda Brasil Agrícola"]
[null,null,null," ",null,null," ",0,0,{"$f":"IF(Cliente!$H82=H81,J81,J81+1)","v":50},"5030",30,null,null,"Nacional Carnes"," ",null,"Ferreira","Ferreira Cd Br 316"," ",null,null,null,"Loja Tim",null,null,"Fazenda Califórnia"]
[null,null,null," ",null,null," ",0,0,{"$f":"IF(Cliente!$H83=H82,J82,J82+1)","v":50},"5031",31,null,null,"Neurocentro"," ",null,"Ferreira","Ferreira Cd Ceasa"," ",null,null,null,"Magazine Luiza",null,null,"Fazenda Cimpar"]
[null,null,null," ",null,null," ",0,0,{"$f":"IF(Cliente!$H84=H83,J83,J83+1)","v":50},"5032",32,null,null,"Oxenthe Burger"," ",null,"Ferreira","Ferreira Cd Frios"," ",null,null,null,"Maná Prime",null,null,"Fazenda Confiança"]
[null,null,null," ",null,null," ",0,0,{"$f":"IF(Cliente!$H85=H84,J84,J84+1)","v":50},"5033",33,null,null,"Padaria Girassol"," ",null,"Ferreira","Ferreira Centro"," ",null,null,null,"Max Comunicação Visual",null,null,"Fazenda Dahma"]
[null,null,null," ",null,null," ",0,0,{"$f":"IF(Cliente!$H86=H85,J85,J85+1)","v":50},"5034",34,null,null,"Padaria Nacional"," ",null,"Ferreira","Ferreira Cristo Rei"," ",null,null,null,"Mercadão Verde",null,null,"Fazenda Fortaleza"]
[null,null,null," ",null,null," ",0,0,{"$f":"IF(Cliente!$H87=H86,J86,J86+1)","v":50},"5035",35,null,null,"Padaria Panisol"," ",null,"Ferreira","Ferreira Dirceu I"," ",null,null,null,"Milla",null,null,"Fazenda Galiléia"]
[null,null,null," ",null,null," ",0,0,{"$f":"IF(Cliente!$H88=H87,J87,J87+1)","v":50},"5036",36,null,null,"Panificadora Bom Sabor"," ",null,"Ferreira","Ferreira Empório Leste"," ",null,null,null,"Mix Mateus",null,null,"Fazenda Galiota"]
[null,null,null," ",null,null," ",0,0,{"$f":"IF(Cliente!$H89=H88,J88,J88+1)","v":50},"5037",37,null,null,"Panificadora Canindé"," ",null,"Ferreira","Ferreira Empório Mocambinho"," ",null,null,null,"Monteorar",null,null,"Fazenda Grauna"]
[null,null,null," ",null,null," ",0,0,{"$f":"IF(Cliente!$H90=H89,J89,J89+1)","v":50},"5038",38,null,null,"Panificadora Sol Nascente"," ",null,"Ferreira","Ferreira Kennedy"," ",null,null,null,"Nacional Carnes",null,null,"Fazenda Horizontina"]
[null,null,null," ",null,null," ",0,0,{"$f":"IF(Cliente!$H91=H90,J90,J90+1)","v":50},"5039",39,null,null,"Panificadora Taquari"," ",null,"Ferreira","Ferreira Lourival Parente"," ",null,null,null,"Neurocentro",null,null,"Fazenda Imperial"]
[null,null,null," ",null,null," ",0,0,{"$f":"IF(Cliente!$H92=H91,J91,J91+1)","v":50},"5040",40,null,null,"Picanharia e Pizzaria Abelha de Ouro"," ",null,"Ferreira","Ferreira Mocambinho"," ",null,null,null,"Oxenthe Burger",null,null,"Fazenda Ipê"]
[null,null,null," ",null,null," ",0,0,{"$f":"IF(Cliente!$H93=H92,J92,J92+1)","v":50},"5041",41,null,null,"Polpa Rio Grande"," ",null,"Ferreira","Ferreira Morada Do Sol"," ",null,null,null,"Padaria Girassol",null,null,"Fazenda Marcos Vinícius"]
[null,null,null," ",null,null," ",0,0,{"$f":"IF(Cliente!$H94=H93,J93,J93+1)","v":50},"5042",42,null,null,"Posto Full"," ",null,"Ferreira","Ferreira Noé Mendes"," ",null,null,null,"Padaria Nacional",null,null,"Fazenda Nova Aliança"]
[null,null,null," ",null,null," ",0,0,{"$f":"IF(Cliente!$H95=H94,J94,J94+1)","v":50},"5043",43,null,null,"Ração Nativa"," ",null,"Ferreira","Ferreira Parque Piauí"," ",null,null,null,"Padaria Panisol",null,null,"Fazenda Ovetrill"]
[null,null,null," ",null,null," ",0,0,{"$f":"IF(Cliente!$H96=H95,J95,J95+1)","v":50},"5044",44,null,null,"Restaurante Temperato",null,null,"Ferreira","Ferreira Porto Alegre"," ",null,null,null,"Panificadora Bom Sabor",null,null,"Fazenda Península"]
[null,null,null," ",null,null," ",0,0,{"$f":"IF(Cliente!$H97=H96,J96,J96+1)","v":50},"5045",45,null,null,"Shopping Rio Poty",null,null,"Ferreira","Ferreira Renascença"," ",null,null,null,"Panificadora Canindé",null,null,"Fazenda Pratinha"]
[null,null,null," ",null,null," ",0,0,{"$f":"IF(Cliente!$H98=H97,J97,J97+1)","v":50},"5046",46,null,null,"Spoleto",null,null,"Ferreira","Ferreira São Joaquim"," ",null,null,null,"Panificadora Sol Nascente",null,null,"Fazenda Progresso"]
[null,null,null," ",null,null," ",0,0,{"$f":"IF(Cliente!$H99=H98,J98,J98+1)","v":50},"5047",47,null,null,"Subway",null,null,"Ferreira","Ferreira Vila Irmã Dulce"," ",null,null,null,"Panificadora Taquari",null,null,"Fazenda Santa Isabel"]
[null,null,null," ",null,null," ",0,0,{"$f":"IF(Cliente!$H100=H99,J99,J99+1)","v":50},"5048",48,null,null,"Super Leve",null,null,"Finess Buffet e Festas","Finess Buffet e Festas"," ",null,null,null,"Pensão Silvana",null,null,"Fazenda Santa Maria"]
[null,null,null," ",null,null," ",0,0,{"$f":"IF(Cliente!$H101=H100,J100,J100+1)","v":50},"5049",49,null,null,"Supermercado São Brás",null,null,"Frigotil","Frigotil"," ",null,null,null,"Picanharia e Pizzaria Abelha de Ouro",null,null,"Fazenda Santa Teresa I e II"]
[null,null,null," ",null,null," ",0,0,{"$f":"IF(Cliente!$H102=H101,J101,J101+1)","v":50},"5050",50,null,null,"Supermercado Super Mário",null,null,"Garra Distribuidora","Garra Distribuidora"," ",null,null,null,"Polpa Rio Grande",null,null,"Fazenda São Pedro"]
[null,null,null," ",null,null," ",0,0,{"$f":"IF(Cliente!$H103=H102,J102,J102+1)","v":50},"5051",51,null,null,"Sushibar",null,null,"Giraffas","Giraffas São Cristovão Assaí"," ",null,null,null,"Posto Full",null,null,"Fazenda Serra Branca"]
[null,null,null," ",null,null," ",0,0,{"$f":"IF(Cliente!$H104=H103,J103,J103+1)","v":50},"5052",52,null,null,"Sushimy",null,null,"Giraffas","Giraffas Teresina Shopping"," ",null,null,null,"Ração Nativa",null,null,"Fazenda Serra Grande"]
[null,null,null," ",null,null," ",0,0,{"$f":"IF(Cliente!$H105=H104,J104,J104+1)","v":50},"5053",53,null,null,"Uruçuí Alvo Agrícola",null,null,"Grelhata","Grelhata Forneria"," ",null,null,null,"Restaurante Sabor Brasil",null,null,"Fazenda Tropical"]
[null,null,null," ",null,null," ",0,0,{"$f":"IF(Cliente!$H106=H105,J105,J105+1)","v":50},"5054",54,null,null,"Vaccinar",null,null,"Grelhata","Restaurante Grelhata"," ",null,null,null,"Restaurante Temperato",null,null,"Fazenda Verde Vale"]
[null,null,null," ",null,null," ",0,0,{"$f":"IF(Cliente!$H107=H106,J106,J106+1)","v":50},"5055",55,null,null,"Vale do Leite",null,null,"Hapclínica Dib Tajra","Hapclínica Dib Tajra"," ",null,null,null,"Samara Pinheiro Martins",null,null,"Ferreira Água Branca"]
[null,null,null," ",null,null," ",0,0,{"$f":"IF(Cliente!$H108=H107,J107,J107+1)","v":50},"5056",56,null,null,"Vida & Imagem Teresina",null,null,"Hospital Rio Poty","Hospital Rio Poty"," ",null,null,null,"Shopping Rio Poty",null,null,"Ferreira Água Mineral"]
[null,null,null," ",null,null," ",0,0,{"$f":"IF(Cliente!$H109=H108,J108,J108+1)","v":50},"5057",57,null,null,"Vino! Teresina",null,null,"Hotel Fórmula Flat","Hotel Fórmula Flat"," ",null,null,null,"Spoleto",null,null,"Ferreira Avenida Noé Mendes"]
[null,null,null," ",null,null," ",0,0,{"$f":"IF(Cliente!$H110=H109,J109,J109+1)","v":50},"5058",58,null,null,"(vazio)",null,null,"Ideal Alimentos","Ideal Alimentos"," ",null,null,null,"Subway",null,null,"Ferreira Cd Areias"]
[null,null,null," ",null,null," ",0,0,{"$f":"IF(Cliente!$H111=H110,J110,J110+1)","v":50},"5059",59,null,null,null,null,null,"Ilhotas Padaria e Mercearia","Ilhotas Padaria e Mercearia"," ",null,null,null,"Super Leve",null,null,"Ferreira Cd Br 316"]
[null,null,null," ",null,null," ",0,0,{"$f":"IF(Cliente!$H112=H111,J111,J111+1)","v":50},"5060",60,null,null,null,null,null,"Instituto de Performance e Saúde","Instituto de Performance e Saúde"," ",null,null,null,"Supermercado São Brás",null,null,"Ferreira Cd Ceasa"]
[null,null,null," ",null,null," ",0,0,{"$f":"IF(Cliente!$H113=H112,J112,J112+1)","v":50},"5061",61,null,null,null,null,null,"Instituto Volta Vida","Instituto Volta Vida Uni I"," ",null,null,null,"Supermercado Super Mário",null,null,"Ferreira Cd Frios"]
[null,null,null," ",null,null," ",0,0,{"$f":"IF(Cliente!$H114=H113,J113,J113+1)","v":50},"5062",62,null,null,null,null,null,"Instituto Volta Vida","Instituto Volta Vida Uni II"," ",null,null,null,"Sushibar",null,null,"Ferreira Centro"]
[null,null,null," ",null,null," ",0,0,{"$f":"IF(Cliente!$H115=H114,J114,J114+1)","v":50},"5063",63,null,null,null,null,null,"Isotton Verduras","Isotton Verduras"," ",null,null,null,"Sushimy",null,null,"Ferreira Cristo Rei"]
[null,null,null," ",null,null," ",0,0,{"$f":"IF(Cliente!$H116=H115,J115,J115+1)","v":50},"5064",64,null,null,null,null,null,"Kopenhagen","Kopenhagen Jóquei"," ",null,null,null,"Thefor",null,null,"Ferreira Dirceu I"]
[null,null,null," ",null,null," ",0,0,{"$f":"IF(Cliente!$H117=H116,J116,J116+1)","v":50},"5065",65,null,null,null,null,null,"Kopenhagen","Kopenhagen Riverside"," ",null,null,null,"Uruçuí Alvo Agrícola",null,null,"Ferreira Empório Leste"]
[null,null,null," ",null,null," ",0,0,{"$f":"IF(Cliente!$H118=H117,J117,J117+1)","v":50},"5066",66,null,null,null,null,null,"Lavoro","Algodoeira"," ",null,null,null,"Vaccinar",null,null,"Ferreira Empório Mocambinho"]
[null,null,null," ",null,null," ",0,0,{"$f":"IF(Cliente!$H119=H118,J118,J118+1)","v":50},"5067",67,null,null,null,null,null,"Lavoro","Aviário"," ",null,null,null,"Vale do Leite",null,null,"Ferreira Kennedy"]
[null,null,null," ",null,null," ",0,0,{"$f":"IF(Cliente!$H120=H119,J119,J119+1)","v":50},"5068",68,null,null,null,null,null,"Lavoro","Extrusora"," ",null,null,null,"Vida & Imagem Teresina",null,null,"Ferreira Lourival Parente"]
[null,null,null," ",null,null," ",0,0,{"$f":"IF(Cliente!$H121=H120,J120,J120+1)","v":50},"5069",69,null,null,null,null,null,"Lavoro","Fábrica de Ração"," ",null,null,null,"Vino! Teresina",null,null,"Ferreira Mocambinho"]
[null,null,null," ",null,null," ",0,0,{"$f":"IF(Cliente!$H122=H121,J121,J121+1)","v":50},"5070",70,null,null,null,null,null,"Le Biscuit","Le Biscuit Centro"," ",null,null,null,null,null,null,"Ferreira Morada do Sol"]
[null,null,null," ",null,null," ",0,0,{"$f":"IF(Cliente!$H123=H122,J122,J122+1)","v":50},"5071",71,null,null,null,null,null,"Le Biscuit","Le Biscuit Picos"," ",null,null,null,null,null,null,"Ferreira Noé Mendes"]
[null,null,null,null,null,null," ",0,0,{"$f":"IF(Cliente!$H124=H123,J123,J123+1)","v":50},"5072",72,null,null,null,null,null,"Le Biscuit","Le Biscuit Shopping Rio Poty"," ",null,null,null,null,null,null,"Ferreira Parque Piauí"]
[null,null,null,null,null,null," ",0,0,{"$f":"IF(Cliente!$H125=H124,J124,J124+1)","v":50},"5073",73,null,null,null,null,null,"Le Biscuit","Le Biscuit Teresina Shopping"," ",null,null,null,null,null,null,"Ferreira Porto Alegre"]
[null,null,null,null,null,null," ",0,0,{"$f":"IF(Cliente!$H126=H125,J125,J125+1)","v":50},"5074",74,null,null,null,null,null,"Loja Tim","Loja Tim"," ",null,null,null,null,null,null,"Ferreira Renascença"]
[null,null,null,null,null,null," ",0,0,{"$f":"IF(Cliente!$H127=H126,J126,J126+1)","v":50},"5075",75,null,null,null,null,null,"Magazine Luiza","Magazine Luiza Livramento"," ",null,null,null,null,null,null,"Ferreira São Joaquim"]
[null,null,null,null,null,null," ",0,0,{"$f":"IF(Cliente!$H128=H127,J127,J127+1)","v":50},"5076",76,null,null,null,null,null,"Maná Prime","Maná Prime"," ",null,null,null,null,null,null,"Ferreira Vila Irmã Dulce"]
[null,null,null,null,null,null," ",0,0,{"$f":"IF(Cliente!$H129=H128,J128,J128+1)","v":50},"5077",77,null,null,null,null,null,"Max Comunicação Visual","Max Comunicação Visual"," ",null,null,null,null,null,null,"Finess Buffet e Festas"]
[null,null,null,null,null,null," ",0,0,{"$f":"IF(Cliente!$H130=H129,J129,J129+1)","v":50},"5078",78,null,null,null,null,null,"Mercadão Verde","Mercadão Verde"," ",null,null,null,null,null,null,"Fini"]
[null,null,null,null,null,null," ",0,0,{"$f":"IF(Cliente!$H131=H130,J130,J130+1)","v":50},"5079",79,null,null,null,null,null,"Milla","Milla"," ",null,null,null,null,null,null,"Frigotil"]
[null,null,null,null,null,null," ",{"$f":"E132","v":0},{"$f":"F132","v":0},{"$f":"IF(Cliente!$H132=H131,J131,J131+1)","v":50},"5080",80,null,null,null,null,null,"Monteorar","Monteorar"," ",null,null,null,null,null,null,"Garra Distribuidora"]
[null,null,null,null,null,null," ",0,0,{"$f":"IF(Cliente!$H133=H132,J132,J132+1)","v":50},"5081",{"$f":"IF(J133=J132,L132+1,0+1)","v":81},null,null,null,null,null,"Nacional Carnes","Nacional Carnes Cd"," ",null,null,null,null,null,null,"Giraffas"]
[null,null,null,null,null,null," ",0,0,{"$f":"IF(Cliente!$H134=H133,J133,J133+1)","v":50},{"$f":"CONCATENATE(J134,L134)","v":"5082"},82,null,null,null,null,null,"Nacional Carnes","Nacional Carnes Miguel Rosa"," ",null,null,null,null,null,null,"Giraffas São Cristovão Assaí"]
[null,null,null,null,null,null," ",0,0,{"$f":"IF(Cliente!$H135=H134,J134,J134+1)","v":50},"5083",83,null,null,null,null,null,"Nacional Carnes","Nacional Carnes Parque Piauí"," ",null,null,null,null,null,null,"Giraffas Teresina Shopping"]
[null,null,null,null,null,null," ",0,0,{"$f":"IF(Cliente!$H136=H135,J135,J135+1)","v":50},"5084",84,null,null,null,null,null,"Nacional Carnes","Nacional Carnes Santa Fé"," ",null,null,null,null,null,null,"Granja Adm e Refeitório"]
[null,null,null,null,null,null," ",0,0,{"$f":"IF(Cliente!$H137=H136,J136,J136+1)","v":50},"5085",85,null,null,null,null,null,"Neurocentro","Neurocentro Centro Cirurgico"," ",null,null,null,null,null,null,"Granja Núcleo 01"]
[null,null,null,null,null,null," ",0,0,{"$f":"IF(Cliente!$H138=H137,J137,J137+1)","v":50},"5086",86,null,null,null,null,null,"Neurocentro","Neurocentro Edifício Laura"," ",null,null,null,null,null,null,"Granja Núcleo 02"]
[null,null,null,null,null,null," ",0,0,{"$f":"IF(Cliente!$H139=H138,J138,J138+1)","v":50},"5087",87,null,null,null,null,null,"Neurocentro","Neurocentro Edifício Luma"," ",null,null,null,null,null,null,"Granja Núcleo 03"]
[null,null,null,null,null,null," ",0,0,{"$f":"IF(Cliente!$H140=H139,J139,J139+1)","v":50},"5088",88,null,null,null,null,null,"Neurocentro","Neurocentro Edifício Nina"," ",null,null,null,null,null,null,"Granja Núcleo 05"]
[null,null,null,null,null,null," ",0,0,{"$f":"IF(Cliente!$H141=H140,J140,J140+1)","v":50},"5089",89,null,null,null,null,null,"Neurocentro","Phitofarma"," ",null,null,null,null,null,null,"Granja Núcleo 06"]
[null,null,null,null,null,null," ",0,0,{"$f":"IF(Cliente!$H142=H141,J141,J141+1)","v":50},"5090",90,null,null,null,null,null,"Oxenthe Burger","Oxenthe Burger"," ",null,null,null,null,null,null,"Granja Núcleo 07"]
[null,null,null,null,null,null," ",0,0,{"$f":"IF(Cliente!$H143=H142,J142,J142+1)","v":50},"5091",91,null,null,null,null,null,"Padaria Girassol","Padaria Girassol"," ",null,null,null,null,null,null,"Grelhata Forneria"]
[null,null,null,null,null,null," ",0,0,{"$f":"IF(Cliente!$H144=H143,J143,J143+1)","v":50},"5092",92,null,null,null,null,null,"Padaria Nacional","Padaria Nacional"," ",null,null,null,null,null,null,"Griletto"]
[null,null,null,null,null,null," ",0,0,{"$f":"IF(Cliente!$H145=H144,J144,J144+1)","v":50},"5093",93,null,null,null,null,null,"Padaria Panisol","Padaria Panisol"," ",null,null,null,null,null,null,"Hapclínica Dib Tajra"]
[null,null,null,null,null,null," ",0,0,{"$f":"IF(Cliente!$H146=H145,J145,J145+1)","v":50},"5094",94,null,null,null,null,null,"Panificadora Bom Sabor","Panificadora Bom Sabor"," ",null,null,null,null,null,null,"Hospital Rio Poty"]
[null,null,null,null,null,null," ",0,0,{"$f":"IF(Cliente!$H147=H146,J146,J146+1)","v":50},"5095",95,null,null,null,null,null,"Panificadora Canindé","Panificadora Canindé"," ",null,null,null,null,null,null,"Hotel Fórmula Flat"]
[null,null,null,null,null,null," ",0,0,{"$f":"IF(Cliente!$H148=H147,J147,J147+1)","v":50},"5096",96,null,null,null,null,null,"Panificadora Sol Nascente","Panificadora Sol Nascente"," ",null,null,null,null,null,null,"Ice Cream Roll"]
[null,null,null,null,null,null," ",0,0,{"$f":"IF(Cliente!$H149=H148,J148,J148+1)","v":50},"5097",97,null,null,null,null,null,"Panificadora Taquari","Panificadora Taquari Planalto"," ",null,null,null,null,null,null,"Ideal Alimentos"]
[null,null,null,null,null,null," ",0,0,{"$f":"IF(Cliente!$H150=H149,J149,J149+1)","v":50},"5098",98,null,null,null,null,null,"Panificadora Taquari","Panificadora Taquari Zequinha Freire"," ",null,null,null,null,null,null,"Igor avulso"]
[null,null,null,null,null,null," ",0,0,{"$f":"IF(Cliente!$H151=H150,J150,J150+1)","v":50},"5099",99,null,null,null,null,null,"Picanharia e Pizzaria Abelha de Ouro","Picanharia e Pizzaria Abelha de Ouro"," ",null,null,null,null,null,null,"Ilhotas Padaria e Mercearia"]
[null,null,null,null,null,null," ",0,0,{"$f":"IF(Cliente!$H152=H151,J151,J151+1)","v":50},"50100",100,null,null,null,null,null,"Polpa Rio Grande","Polpa Rio Grande"," ",null,null,null,null,null,null,"Instituto de Performance e Saúde"]
[null,null,null,null,null,null," ",0,0,{"$f":"IF(Cliente!$H153=H152,J152,J152+1)","v":50},"50101",101,null,null,null,null,null,"Polpa Rio Grande","Polpa Rio Grande Depósito"," ",null,null,null,null,null,null,"Instituto Volta Vida Uni I"]
[null,null,null,null,null,null," ",0,0,{"$f":"IF(Cliente!$H154=H153,J153,J153+1)","v":50},"50102",102,null,null,null,null,null,"Posto Full","Posto Full"," ",null,null,null,null,null,null,"Instituto Volta Vida Uni II"]
[null,null,null,null,null,null," ",0,0,{"$f":"IF(Cliente!$H155=H154,J154,J154+1)","v":50},"50103",103,null,null,null,null,null,"Ração Nativa","Ração Nativa"," ",null,null,null,null,null,null,"Isotton Verduras"]
[null,null,null,null,null,null," ",0,0,{"$f":"IF(Cliente!$H156=H155,J155,J155+1)","v":50},"50104",104,null,null,null,null,null,"Restaurante Temperato","Restaurante Temperato"," ",null,null,null,null,null,null,"Kekala (quiosque)"]
[null,null,null,null,null,null," ",0,0,{"$f":"IF(Cliente!$H157=H156,J156,J156+1)","v":50},"50105",105,null,null,null,null,null,"Shopping Rio Poty","Arabian Grill"," ",null,null,null,null,null,null,"Kopenhagen"]
[null,null,null,null,null,null," ",0,0,{"$f":"IF(Cliente!$H158=H157,J157,J157+1)","v":50},"50106",106,null,null,null,null,null,"Shopping Rio Poty","B.lem Padaria Portuguesa"," ",null,null,null,null,null,null,"Kopenhagen Jóquei"]
[null,null,null,null,null,null," ",0,0,{"$f":"IF(Cliente!$H159=H158,J158,J158+1)","v":50},"50107",107,null,null,null,null,null,"Shopping Rio Poty","Beer Store"," ",null,null,null,null,null,null,"Kopenhagen Riverside"]
[null,null,null,null,null,null," ",0,0,{"$f":"IF(Cliente!$H160=H159,J159,J159+1)","v":50},"50108",108,null,null,null,null,null,"Shopping Rio Poty","Biomundo"," ",null,null,null,null,null,null,"Le Biscuit Centro"]
[null,null,null,null,null,null," ",0,0,{"$f":"IF(Cliente!$H161=H160,J160,J160+1)","v":50},"50109",109,null,null,null,null,null,"Shopping Rio Poty","Bob's"," ",null,null,null,null,null,null,"Le Biscuit Picos"]
[null,null,null,null,null,null," ",0,0,{"$f":"IF(Cliente!$H162=H161,J161,J161+1)","v":50},"50110",110,null,null,null,null,null,"Shopping Rio Poty","Bob's 1 (quiosque)"," ",null,null,null,null,null,null,"Le Biscuit Shopping Rio Poty"]
[null,null,null,null,null,null," ",0,0,{"$f":"IF(Cliente!$H163=H162,J162,J162+1)","v":50},"50111",111,null,null,null,null,null,"Shopping Rio Poty","Bob's 2 (quiosque)"," ",null,null,null,null,null,null,"Le Biscuit Teresina Shopping"]
[null,null,null,null,null,null," ",0,0,{"$f":"IF(Cliente!$H164=H163,J163,J163+1)","v":50},"50112",112,null,null,null,null,null,"Shopping Rio Poty","Bohcomer"," ",null,null,null,null,null,null,"Loja Tim"]
[null,null,null,null,null,null," ",0,0,{"$f":"IF(Cliente!$H165=H164,J164,J164+1)","v":50},"50113",113,null,null,null,null,null,"Shopping Rio Poty","Borelli"," ",null,null,null,null,null,null,"Lollies"]
[null,null,null,null,null,null," ",0,0,{"$f":"IF(Cliente!$H166=H165,J165,J165+1)","v":50},"50114",114,null,null,null,null,null,"Shopping Rio Poty","Bubble Mix (quiosque)"," ",null,null,null,null,null,null,"Magazine Luiza Livramento"]
[null,null,null,null,null,null," ",0,0,{"$f":"IF(Cliente!$H167=H166,J166,J166+1)","v":50},"50115",115,null,null,null,null,null,"Shopping Rio Poty","Cacau Show"," ",null,null,null,null,null,null,"Maná Prime"]
[null,null,null,null,null,null," ",0,0,{"$f":"IF(Cliente!$H168=H167,J167,J167+1)","v":50},"50116",116,null,null,null,null,null,"Shopping Rio Poty","Cajookie"," ",null,null,null,null,null,null,"Matisse"]
[null,null,null,null,null,null," ",0,0,{"$f":"IF(Cliente!$H169=H168,J168,J168+1)","v":50},"50117",117,null,null,null,null,null,"Shopping Rio Poty","Casa Açaí"," ",null,null,null,null,null,null,"Max Comunicação Visual"]
[null,null,null,null,null,null," ",0,0,{"$f":"IF(Cliente!$H170=H169,J169,J169+1)","v":50},"50118",118,null,null,null,null,null,"Shopping Rio Poty","Casa Baudduco"," ",null,null,null,null,null,null,"Mercadão Verde"]
[null,null,null,null,null,null," ",0,0,{"$f":"IF(Cliente!$H171=H170,J170,J170+1)","v":50},"50119",119,null,null,null,null,null,"Shopping Rio Poty","Casa do Pão de Queijo"," ",null,null,null,null,null,null,"Milk Moo (quiosque)"]
[null,null,null,null,null,null," ",0,0,{"$f":"IF(Cliente!$H172=H171,J171,J171+1)","v":50},"50120",120,null,null,null,null,null,"Shopping Rio Poty","Cheirin Bão"," ",null,null,null,null,null,null,"Milla"]
[null,null,null,null,null,null," ",0,0,{"$f":"IF(Cliente!$H173=H172,J172,J172+1)","v":50},"50121",121,null,null,null,null,null,"Shopping Rio Poty","Chico Xique (Quiosque)"," ",null,null,null,null,null,null,"Mix Mateus Piririri"]
[null,null,null,null,null,null," ",0,0,{"$f":"IF(Cliente!$H174=H173,J173,J173+1)","v":50},"50122",122,null,null,null,null,null,"Shopping Rio Poty","Chiquinho Sorvete"," ",null,null,null,null,null,null,"Moncloa (quiosque)"]
[null,null,null,null,null,null," ",0,0,{"$f":"IF(Cliente!$H175=H174,J174,J174+1)","v":50},"50123",123,null,null,null,null,null,"Shopping Rio Poty","Chopizza"," ",null,null,null,null,null,null,"Monteorar"]
[null,null,null,null,null,null," ",0,0,{"$f":"IF(Cliente!$H176=H175,J175,J175+1)","v":50},"50124",124,null,null,null,null,null,"Shopping Rio Poty","Companhia do Churrasco"," ",null,null,null,null,null,null,"Mr Hashi"]
[null,null,null,null,null,null," ",0,0,{"$f":"IF(Cliente!$H177=H176,J176,J176+1)","v":50},"50125",125,null,null,null,null,null,"Shopping Rio Poty","Coxinha no Cone"," ",null,null,null,null,null,null,"Mucho Crepe"]
[null,null,null,null,null,null," ",0,0,{"$f":"IF(Cliente!$H178=H177,J177,J177+1)","v":50},"50126",126,null,null,null,null,null,"Shopping Rio Poty","Cuor Di Crema"," ",null,null,null,null,null,null,"Mundo Di Chocolate (quiosque)"]
[null,null,null,null,null,null," ",0,0,{"$f":"IF(Cliente!$H179=H178,J178,J178+1)","v":50},"50127",127,null,null,null,null,null,"Shopping Rio Poty","Divino Fogão"," ",null,null,null,null,null,null,"Mundo Zero"]
[null,null,null,null,null,null," ",0,0,{"$f":"IF(Cliente!$H180=H179,J179,J179+1)","v":50},"50128",128,null,null,null,null,null,"Shopping Rio Poty","Docitus"," ",null,null,null,null,null,null,"Nacional Carnes Cd"]
[null,null,null,null,null,null," ",0,0,{"$f":"IF(Cliente!$H181=H180,J180,J180+1)","v":50},"50129",129,null,null,null,null,null,"Shopping Rio Poty","Donuts Now (quiosque)"," ",null,null,null,null,null,null,"Nacional Carnes Miguel Rosa"]
[null,null,null,null,null,null," ",0,0,{"$f":"IF(Cliente!$H182=H181,J181,J181+1)","v":50},"50130",130,null,null,null,null,null,"Shopping Rio Poty","Fini"," ",null,null,null,null,null,null,"Nacional Carnes Parque Piauí"]
[null,null,null,null,null,null," ",0,0,{"$f":"IF(Cliente!$H183=H182,J182,J182+1)","v":50},"50131",131,null,null,null,null,null,"Shopping Rio Poty","Giraffas"," ",null,null,null,null,null,null,"Nacional Carnes Santa Fé"]
[null,null,null,null,null,null," ",0,0,{"$f":"IF(Cliente!$H184=H183,J183,J183+1)","v":50},"50132",132,null,null,null,null,null,"Shopping Rio Poty","Griletto"," ",null,null,null,null,null,null,"Neurocentro Centro Cirurgico"]
[null,null,null,null,null,null," ",0,0,{"$f":"IF(Cliente!$H185=H184,J184,J184+1)","v":50},"50133",133,null,null,null,null,null,"Shopping Rio Poty","Ice Cream Roll"," ",null,null,null,null,null,null,"Neurocentro Edifício Laura"]
[null,null,null,null,null,null," ",0,0,{"$f":"IF(Cliente!$H186=H185,J185,J185+1)","v":50},"50134",134,null,null,null,null,null,"Shopping Rio Poty","Kekala (quiosque)"," ",null,null,null,null,null,null,"Neurocentro Edifício Luma"]
[null,null,null,null,null,null," ",0,0,{"$f":"IF(Cliente!$H187=H186,J186,J186+1)","v":50},"50135",135,null,null,null,null,null,"Shopping Rio Poty","Kopenhagen"," ",null,null,null,null,null,null,"Neurocentro Edifício Nina"]
[null,null,null,null,null,null," ",0,0,{"$f":"IF(Cliente!$H188=H187,J187,J187+1)","v":50},"50136",136,null,null,null,null,null,"Shopping Rio Poty","Lollies"," ",null,null,null,null,null,null,"Ouro Preto Cafeteria"]
[null,null,null,null,null,null," ",0,0,{"$f":"IF(Cliente!$H189=H188,J188,J188+1)","v":50},"50137",137,null,null,null,null,null,"Shopping Rio Poty","Matisse"," ",null,null,null,null,null,null,"Oxenthe Burger"]
[null,null,null,null,null,null," ",0,0,{"$f":"IF(Cliente!$H190=H189,J189,J189+1)","v":50},"50138",138,null,null,null,null,null,"Shopping Rio Poty","Milk Moo (quiosque)"," ",null,null,null,null,null,null,"Padaria Girassol"]
[null,null,null,null,null,null," ",0,0,{"$f":"IF(Cliente!$H191=H190,J190,J190+1)","v":50},"50139",139,null,null,null,null,null,"Shopping Rio Poty","Moncloa (quiosque)"," ",null,null,null,null,null,null,"Padaria Nacional"]
[null,null,null,null,null,null," ",0,0,{"$f":"IF(Cliente!$H192=H191,J191,J191+1)","v":50},"50140",140,null,null,null,null,null,"Shopping Rio Poty","Mr Hashi"," ",null,null,null,null,null,null,"Padaria Panisol"]
[null,null,null,null,null,null," ",0,0,{"$f":"IF(Cliente!$H193=H192,J192,J192+1)","v":50},"50141",141,null,null,null,null,null,"Shopping Rio Poty","Mucho Crepe"," ",null,null,null,null,null,null,"Panificadora Bom Sabor"]
[null,null,null,null,null,null," ",0,0,{"$f":"IF(Cliente!$H194=H193,J193,J193+1)","v":50},"50142",142,null,null,null,null,null,"Shopping Rio Poty","Mundo Zero"," ",null,null,null,null,null,null,"Panificadora Canindé"]
[null,null,null,null,null,null," ",0,0,{"$f":"IF(Cliente!$H195=H194,J194,J194+1)","v":50},"50143",143,null,null,null,null,null,"Shopping Rio Poty","Ouro Preto Cafeteria"," ",null,null,null,null,null,null,"Panificadora Sol Nascente"]
[null,null,null,null,null,null," ",{"$f":"E196","v":0},{"$f":"F196","v":0},{"$f":"IF(Cliente!$H196=H195,J195,J195+1)","v":50},"50144",144,null,null,null,null,null,"Shopping Rio Poty","Sal e Brasa"," ",null,null,null,null,null,null,"Panificadora Taquari Planalto"]
[null,null,null,null,null,null," ",0,0,{"$f":"IF(Cliente!$H197=H196,J196,J196+1)","v":50},"50145",{"$f":"IF(J197=J196,L196+1,0+1)","v":145},null,null,null,null,null,"Shopping Rio Poty","San Paolo"," ",null,null,null,null,null,null,"Panificadora Taquari Zequinha Freire"]
[null,null,null,null,null,null," ",0,0,{"$f":"IF(Cliente!$H198=H197,J197,J197+1)","v":50},{"$f":"CONCATENATE(J198,L198)","v":"50146"},146,null,null,null,null,null,"Shopping Rio Poty","Shopping Rio Poty"," ",null,null,null,null,null,null,"Pensão Silvana"]
[null,null,null,null,null,null," ",0,0,{"$f":"IF(Cliente!$H199=H198,J198,J198+1)","v":50},"50147",147,null,null,null,null,null,"Shopping Rio Poty","Spoleto"," ",null,null,null,null,null,null,"Phitofarma"]
[null,null,null,null,null,null," ",0,0,{"$f":"IF(Cliente!$H200=H199,J199,J199+1)","v":50},"50148",148,null,null,null,null,null,"Shopping Rio Poty","Subway"," ",null,null,null,null,null,null,"Picanharia e Pizzaria Abelha de Ouro"]
[null,null,null,null,null,null," ",0,0,{"$f":"IF(Cliente!$H201=H200,J200,J200+1)","v":50},"50149",149,null,null,null,null,null,"Shopping Rio Poty","Sumosalad"," ",null,null,null,null,null,null,"Polpa Rio Grande"]
[null,null,null,null,null,null," ",0,0,{"$f":"IF(Cliente!$H202=H201,J201,J201+1)","v":50},"50150",150,null,null,null,null,null,"Shopping Rio Poty","Thebburgers"," ",null,null,null,null,null,null,"Polpa Rio Grande Depósito"]
[null,null,null,null,null,null," ",0,0,{"$f":"IF(Cliente!$H203=H202,J202,J202+1)","v":50},"50151",151,null,null,null,null,null,"Shopping Rio Poty","Vito Caffé"," ",null,null,null,null,null,null,"Posto Full"]
[null,null,null,null,null,null," ",0,0,{"$f":"IF(Cliente!$H204=H203,J203,J203+1)","v":50},"50152",152,null,null,null,null,null,"Shopping Rio Poty","Vito Caffé L4"," ",null,null,null,null,null,null,"Ração Nativa"]
[null,null,null,null,null,null," ",0,0,{"$f":"IF(Cliente!$H205=H204,J204,J204+1)","v":50},"50153",153,null,null,null,null,null,"Shopping Rio Poty","Yogoberry (quiosque)"," ",null,null,null,null,null,null,"Restaurante Grelhata"]
[null,null,null,null,null,null," ",0,0,{"$f":"IF(Cliente!$H206=H205,J205,J205+1)","v":50},"50154",154,null,null,null,null,null,"Spoleto","Spoleto Teresina Shopping"," ",null,null,null,null,null,null,"Restaurante Sabor Brasil Centro"]
[null,null,null,null,null,null," ",0,0,{"$f":"IF(Cliente!$H207=H206,J206,J206+1)","v":50},"50155",155,null,null,null,null,null,"Subway","Subway Teresina Shopping"," ",null,null,null,null,null,null,"Restaurante Sabor Brasil São Cristovão"]
[null,null,null,null,null,null," ",0,0,{"$f":"IF(Cliente!$H208=H207,J207,J207+1)","v":50},"50156",156,null,null,null,null,null,"Super Leve","Super Leve"," ",null,null,null,null,null,null,"Restaurante Temperato"]
[null,null,null,null,null,null," ",0,0,{"$f":"IF(Cliente!$H209=H208,J208,J208+1)","v":50},"50157",157,null,null,null,null,null,"Supermercado São Brás","Supermercado São Brás Esplanada"," ",null,null,null,null,null,null,"Sal e Brasa"]
[null,null,null,null,null,null," ",0,0,{"$f":"IF(Cliente!$H210=H209,J209,J209+1)","v":50},"50158",158,null,null,null,null,null,"Supermercado São Brás","Supermercado São Brás N. S. das Graças"," ",null,null,null,null,null,null,"Samara Pinheiro Martins"]
[null,null,null,null,null,null," ",0,0,{"$f":"IF(Cliente!$H211=H210,J210,J210+1)","v":50},"50159",159,null,null,null,null,null,"Supermercado São Brás","Supermercado São Brás Parque Sul"," ",null,null,null,null,null,null,"San Paolo"]
[null,null,null,null,null,null," ",0,0,{"$f":"IF(Cliente!$H212=H211,J211,J211+1)","v":50},"50160",160,null,null,null,null,null,"Supermercado São Brás","Supermercado São Brás Poty Velho"," ",null,null,null,null,null,null,"Shopping Rio Poty"]
[null,null,null,null,null,null," ",0,0,{"$f":"IF(Cliente!$H213=H212,J212,J212+1)","v":50},"50161",161,null,null,null,null,null,"Supermercado Super Mário","Supermercado Super Mário"," ",null,null,null,null,null,null,"Silo Bom Todo"]
[null,null,null,null,null,null," ",0,0,{"$f":"IF(Cliente!$H214=H213,J213,J213+1)","v":50},"50162",162,null,null,null,null,null,"Sushibar","Sushibar N. S. de Fátima"," ",null,null,null,null,null,null,"Spoleto"]
[null,null,null,null,null,null," ",0,0,{"$f":"IF(Cliente!$H215=H214,J214,J214+1)","v":50},"50163",163,null,null,null,null,null,"Sushimy","Sushimy Cristo Rei"," ",null,null,null,null,null,null,"Spoleto Teresina Shopping"]
[null,null,null,null,null,null," ",0,0,{"$f":"IF(Cliente!$H216=H215,J215,J215+1)","v":50},"50164",164,null,null,null,null,null,"Sushimy","Sushimy Horto"," ",null,null,null,null,null,null,"Subway"]
[null,null,null,null,null,null," ",0,0,{"$f":"IF(Cliente!$H217=H216,J216,J216+1)","v":50},"50165",165,null,null,null,null,null,"Sushimy","Sushimy Joaquim Nelson"," ",null,null,null,null,null,null,"Subway Teresina Shopping"]
[null,null,null,null,null,null," ",0,0,{"$f":"IF(Cliente!$H218=H217,J217,J217+1)","v":50},"50166",166,null,null,null,null,null,"Sushimy","Sushimy Morada do Sol"," ",null,null,null,null,null,null,"Sumosalad"]
[null,null,null,null,null,null," ",0,0,{"$f":"IF(Cliente!$H219=H218,J218,J218+1)","v":50},"50167",167,null,null,null,null,null,"Sushimy","Sushimy Morada Nova",null,null,null,null,null,null,null,"Super Leve"]
[null,null,null,null,null,null," ",0,0,{"$f":"IF(Cliente!$H220=H219,J219,J219+1)","v":50},"50168",168,null,null,null,null,null,"Sushimy","Sushimy Teresina Shopping",null,null,null,null,null,null,null,"Supermercado São Brás Esplanada"]
[null,null,null,null,null,null," ",0,0,{"$f":"IF(Cliente!$H221=H220,J220,J220+1)","v":50},"50169",169,null,null,null,null,null,"Uruçuí Alvo Agrícola","Uruçuí Alvo Agrícola",null,null,null,null,null,null,null,"Supermercado São Brás N. S. das Graças"]
[null,null,null,null,null,null," ",0,0,{"$f":"IF(Cliente!$H222=H221,J221,J221+1)","v":50},"50170",170,null,null,null,null,null,"Vaccinar","Vaccinar",null,null,null,null,null,null,null,"Supermercado São Brás Parque Sul"]
[null,null,null,null,null,null," ",0,0,{"$f":"IF(Cliente!$H223=H222,J222,J222+1)","v":50},"50171",171,null,null,null,null,null,"Vale do Leite","Vale do Leite",null,null,null,null,null,null,null,"Supermercado São Brás Poty Velho"]
[null,null,null,null,null,null," ",0,0,{"$f":"IF(Cliente!$H224=H223,J223,J223+1)","v":50},"50172",172,null,null,null,null,null,"Vida & Imagem Teresina","Vida & Imagem Teresina",null,null,null,null,null,null,null,"Supermercado Super Mário"]
[null,null,null,null,null,null," ",0,0,{"$f":"IF(Cliente!$H225=H224,J224,J224+1)","v":50},"50173",173,null,null,null,null,null,"Vino! Teresina","Vino! Teresina",null,null,null,null,null,null,null,"Sushibar N. S. de Fátima"]
[null,null,null,null,null,null," ",0,0,{"$f":"IF(Cliente!$H226=H225,J225,J225+1)","v":50},"50174",174,null,null,null,null,null,null,null,null,null,null,null,null,null,null,"Sushimy Cristo Rei"]
[null,null,null,null,null,null," ",0,0,{"$f":"IF(Cliente!$H227=H226,J226,J226+1)","v":50},"50175",175,null,null,null,null,null,null,null,null,null,null,null,null,null,null,"Sushimy Horto"]
[null,null,null,null,null,null," ",0,0,{"$f":"IF(Cliente!$H228=H227,J227,J227+1)","v":50},"50176",176,null,null,null,null,null,null,null,null,null,null,null,null,null,null,"Sushimy Joaquim Nelson"]
[null,null,null,null,null,null," ",0,0,{"$f":"IF(Cliente!$H229=H228,J228,J228+1)","v":50},"50177",177,null,null,null,null,null,null,null,null,null,null,null,null,null,null,"Sushimy Morada do Sol"]
[null,null,null,null,null,null," ",0,0,{"$f":"IF(Cliente!$H230=H229,J229,J229+1)","v":50},"50178",178,null,null,null,null,null,null,null,null,null,null,null,null,null,null,"Sushimy Morada Nova"]
[null,null,null,null,null,null," ",0,0,{"$f":"IF(Cliente!$H231=H230,J230,J230+1)","v":50},"50179",179,null,null,null,null,null,null,null,null,null,null,null,null,null,null,"Sushimy Teresina Shopping"]
[null,null,null,null,null,null," ",0,0,{"$f":"IF(Cliente!$H232=H231,J231,J231+1)","v":50},"50180",180,null,null,null,null,null,null,null,null,null,null,null,null,null,null,"Thebburgers"]
[null,null,null,null,null,null," ",0,0,{"$f":"IF(Cliente!$H233=H232,J232,J232+1)","v":50},"50181",181,null,null,null,null,null,null,null,null,null,null,null,null,null,null,"Thefor"]
[null,null,null,null,null,null," ",0,0,{"$f":"IF(Cliente!$H234=H233,J233,J233+1)","v":50},"50182",182,null,null,null,null,null,null,null,null,null,null,null,null,null,null,"Uruçuí Alvo Agrícola"]
[null,null,null,null,null,null," ",0,0,{"$f":"IF(Cliente!$H235=H234,J234,J234+1)","v":50},"50183",183,null,null,null,null,null,null,null,null,null,null,null,null,null,null,"Vaccinar"]
[null,null,null,null,null,null," ",0,0,{"$f":"IF(Cliente!$H236=H235,J235,J235+1)","v":50},"50184",184,null,null,null,null,null,null,null,null,null,null,null,null,null,null,"Vale do Leite"]
[null,null,null,null,null,null," ",0,0,{"$f":"IF(Cliente!$H237=H236,J236,J236+1)","v":50},"50185",185,null,null,null,null,null,null,null,null,null,null,null,null,null,null,"Via Paris Salas Administrativas"]
[null,null,null,null,null,null," ",0,0,{"$f":"IF(Cliente!$H238=H237,J237,J237+1)","v":50},"50186",186,null,null,null,null,null,null,null,null,null,null,null,null,null,null,"Vida & Imagem Teresina"]
[null,null,null,null,null,null," ",0,0,{"$f":"IF(Cliente!$H239=H238,J238,J238+1)","v":50},"50187",187,null,null,null,null,null,null,null,null,null,null,null,null,null,null,"Vino! Teresina"]
[null,null,null,null,null,null," ",0,0,{"$f":"IF(Cliente!$H240=H239,J239,J239+1)","v":50},"50188",188,null,null,null,null,null,null,null,null,null,null,null,null,null,null,"Vito Caffé"]
[null,null,null,null,null,null," ",0,0,{"$f":"IF(Cliente!$H241=H240,J240,J240+1)","v":50},"50189",189,null,null,null,null,null,null,null,null,null,null,null,null,null,null,"Vito Caffé L4"]
[null,null,null,null,null,null,null,{"$f":"E242","v":0},{"$f":"F242","v":0},{"$f":"IF(Cliente!$H242=H241,J241,J241+1)","v":50},{"$f":"CONCATENATE(J242,L242)","v":"50190"},{"$f":"IF(J242=J241,L241+1,0+1)","v":190},null,null,null,null,null,null,null,null,null,null,null,null,null,null,"Yogoberry (quiosque)"]
[null,null,null,null,null,null,null,0,0,{"$f":"IF(Cliente!$H243=H242,J242,J242+1)","v":50},"50191",191]
[null,null,null,null,null,null,null,0,0,{"$f":"IF(Cliente!$H244=H243,J243,J243+1)","v":50},"50192",192]
[null,null,null,null,null,null,null,0,0,{"$f":"IF(Cliente!$H245=H244,J244,J244+1)","v":50},"50193",193]
[null,null,null,null,null,null,null,0,0,{"$f":"IF(Cliente!$H246=H245,J245,J245+1)","v":50},"50194",194]
[null,null,null,null,null,null,null,0,0,{"$f":"IF(Cliente!$H247=H246,J246,J246+1)","v":50},"50195",195]
[null,null,null,null,null,null,null,0,0,{"$f":"IF(Cliente!$H248=H247,J247,J247+1)","v":50},"50196",196]

{"sheet":"Tecnico","index":1,"n_rows":8,"n_cols":2,"rows_kept":8,"cut":false,"hidden":true,"merged":[]}
["Tecnico","ID Tecnico"]
["Antônio",1]
["João",2]
["José",3]
["Paulo",4]
["Pedro",5]
["Augusto",6]
["Roberto",7]

{"sheet":"Status","index":2,"n_rows":5,"n_cols":2,"rows_kept":5,"cut":false,"hidden":true,"merged":[]}
["Status","ID Status"]
["À Realizar",1]
["Realizada",2]
["Reagendada",3]
["Cancelada",4]

{"sheet":"meses","index":3,"n_rows":13,"n_cols":1,"rows_kept":13,"cut":false,"hidden":true,"merged":[]}
["Meses"]
["Janeiro"]
["Fevereiro"]
["Março"]
["Abril"]
["Maio"]
["Junho"]
["Julho"]
["Agosto"]
["Setembro"]
["Outubro"]
["Novembro"]
["Dezembro"]

{"sheet":"Visita","index":4,"n_rows":11,"n_cols":2,"rows_kept":11,"cut":false,"hidden":true,"merged":[]}
["Visita","ID Visita"]
["v1",1]
["v2",2]
["v3",3]
["v4",4]
["v5",5]
["v6",6]
["v7",7]
["v8",8]
["v9",9]
["v10",10]

{"sheet":"BD","index":5,"n_rows":51,"n_cols":17,"rows_kept":51,"cut":false,"hidden":false,"merged":[]}
["Código","Data","Hora","Cliente","Descrição","Técnico","Visita","Status da visita","Histórico","Nº Semana","Dia sem","Dia","Mês","Ano","Mês/Ano","Integridade","Código Original"]
[1,"2023-12-01","23:50:00","InovaTech","InovaTech","Antônio","v1","Realizada",null,{"$f":"WEEKNUM(BD!$B2)","v":48},{"$f":"PROPER(TEXT(B2,\"ddd\"))","v":"Sex"},{"$f":"TEXT(B2,\"dd\")","v":"01"},{"$f":"PROPER(TEXT(B2,\"mmmm\"))","v":"Dezembro"},{"$f":"TEXT(B2,\"aaaa\")","v":"2023"},{"$f":"CONCATENATE(PROPER(TEXT(BD!$B2,\"mmm\")),\"/\",TEXT(BD!$B2,\"aa\"))","v":"Dez/23"}]
[2,"2023-12-04","14:40:00","BrilhoTech","BrilhoTech","João","v1","Realizada",null,{"$f":"WEEKNUM(BD!$B3)","v":49},"Seg","04","Dezembro","2023",{"$f":"CONCATENATE(PROPER(TEXT(BD!$B3,\"mmm\")),\"/\",TEXT(BD!$B3,\"aa\"))","v":"Dez/23"}]
[3,"2023-12-04","18:55:00","Esfera Criativa","Esfera Criativa","José","v1","Realizada",null,{"$f":"WEEKNUM(BD!$B4)","v":49},"Seg","04","Dezembro","2023",{"$f":"CONCATENATE(PROPER(TEXT(BD!$B4,\"mmm\")),\"/\",TEXT(BD!$B4,\"aa\"))","v":"Dez/23"}]
[4,"2023-12-04","14:20:00","ImagineWorks","ImagineWorks","Paulo","v1","Realizada",null,{"$f":"WEEKNUM(BD!$B5)","v":49},"Seg","04","Dezembro","2023",{"$f":"CONCATENATE(PROPER(TEXT(BD!$B5,\"mmm\")),\"/\",TEXT(BD!$B5,\"aa\"))","v":"Dez/23"}]
[5,"2023-12-04","15:10:00","Inovare","Inovare","Pedro","v1","Realizada",null,{"$f":"WEEKNUM(BD!$B6)","v":49},"Seg","04","Dezembro","2023",{"$f":"CONCATENATE(PROPER(TEXT(BD!$B6,\"mmm\")),\"/\",TEXT(BD!$B6,\"aa\"))","v":"Dez/23"}]
[6,"2023-12-05","14:30:00","Soluções Nexus","Soluções Nexus","Augusto","v1","Realizada",null,{"$f":"WEEKNUM(BD!$B7)","v":49},"Ter","05","Dezembro","2023",{"$f":"CONCATENATE(PROPER(TEXT(BD!$B7,\"mmm\")),\"/\",TEXT(BD!$B7,\"aa\"))","v":"Dez/23"}]
[7,"2023-12-05","15:50:00","DreamCraft","DreamCraft","Roberto","v1","Realizada",null,{"$f":"WEEKNUM(BD!$B8)","v":49},"Ter","05","Dezembro","2023",{"$f":"CONCATENATE(PROPER(TEXT(BD!$B8,\"mmm\")),\"/\",TEXT(BD!$B8,\"aa\"))","v":"Dez/23"}]
[8,"2023-12-05","16:35:00","Tecnologia Pulso","Tecnologia Pulso","Antônio","v1","Realizada",null,{"$f":"WEEKNUM(BD!$B9)","v":49},"Ter","05","Dezembro","2023",{"$f":"CONCATENATE(PROPER(TEXT(BD!$B9,\"mmm\")),\"/\",TEXT(BD!$B9,\"aa\"))","v":"Dez/23"}]
[9,"2023-12-05","19:00:00","Borda Brilhante","Borda Brilhante","João","v1","Realizada",null,{"$f":"WEEKNUM(BD!$B10)","v":49},"Ter","05","Dezembro","2023",{"$f":"CONCATENATE(PROPER(TEXT(BD!$B10,\"mmm\")),\"/\",TEXT(BD!$B10,\"aa\"))","v":"Dez/23"}]
[10,"2023-12-05","19:35:00","Nova Onda","Nova Onda","José","v1","Realizada",null,{"$f":"WEEKNUM(BD!$B11)","v":49},"Ter","05","Dezembro","2023",{"$f":"CONCATENATE(PROPER(TEXT(BD!$B11,\"mmm\")),\"/\",TEXT(BD!$B11,\"aa\"))","v":"Dez/23"}]
[11,"2023-12-05","22:05:00","MetaGenix","MetaGenix","Paulo","v1","Realizada",null,{"$f":"WEEKNUM(BD!$B12)","v":49},"Ter","05","Dezembro","2023",{"$f":"CONCATENATE(PROPER(TEXT(BD!$B12,\"mmm\")),\"/\",TEXT(BD!$B12,\"aa\"))","v":"Dez/23"}]
[12,"2023-12-05","22:30:00","Ideas Unlimited","Ideas Unlimited","Pedro","v1","Realizada",null,{"$f":"WEEKNUM(BD!$B13)","v":49},"Ter","05","Dezembro","2023",{"$f":"CONCATENATE(PROPER(TEXT(BD!$B13,\"mmm\")),\"/\",TEXT(BD!$B13,\"aa\"))","v":"Dez/23"}]
[13,"2023-12-05","23:00:00","Prime Spark","Prime Spark","Augusto","v1","Realizada",null,{"$f":"WEEKNUM(BD!$B14)","v":49},"Ter","05","Dezembro","2023",{"$f":"CONCATENATE(PROPER(TEXT(BD!$B14,\"mmm\")),\"/\",TEXT(BD!$B14,\"aa\"))","v":"Dez/23"}]
[14,"2023-12-06","19:45:00","Swift Solutions","Swift Solutions","Roberto","v1","Realizada",null,{"$f":"WEEKNUM(BD!$B15)","v":49},"Qua","06","Dezembro","2023",{"$f":"CONCATENATE(PROPER(TEXT(BD!$B15,\"mmm\")),\"/\",TEXT(BD!$B15,\"aa\"))","v":"Dez/23"}]
[15,"2023-12-06","13:30:00","Nexus","Nexus","Antônio","v1","Realizada",null,{"$f":"WEEKNUM(BD!$B16)","v":49},"Qua","06","Dezembro","2023",{"$f":"CONCATENATE(PROPER(TEXT(BD!$B16,\"mmm\")),\"/\",TEXT(BD!$B16,\"aa\"))","v":"Dez/23"}]
[16,"2023-12-06","14:50:00","MindSpark","MindSpark","João","v1","Realizada",null,{"$f":"WEEKNUM(BD!$B17)","v":49},"Qua","06","Dezembro","2023",{"$f":"CONCATENATE(PROPER(TEXT(BD!$B17,\"mmm\")),\"/\",TEXT(BD!$B17,\"aa\"))","v":"Dez/23"}]
[17,"2023-12-06","15:25:00","PixelPower","PixelPower","José","v1","Realizada",null,{"$f":"WEEKNUM(BD!$B18)","v":49},"Qua","06","Dezembro","2023",{"$f":"CONCATENATE(PROPER(TEXT(BD!$B18,\"mmm\")),\"/\",TEXT(BD!$B18,\"aa\"))","v":"Dez/23"}]
[18,"2023-12-06","18:40:00","Gênios do Futuro","Gênios do Futuro","Paulo","v1","Realizada",null,{"$f":"WEEKNUM(BD!$B19)","v":49},"Qua","06","Dezembro","2023",{"$f":"CONCATENATE(PROPER(TEXT(BD!$B19,\"mmm\")),\"/\",TEXT(BD!$B19,\"aa\"))","v":"Dez/23"}]
[19,"2023-12-06","20:50:00","Inspiração Tech","Inspiração Tech","Pedro","v1","Realizada",null,{"$f":"WEEKNUM(BD!$B20)","v":49},"Qua","06","Dezembro","2023",{"$f":"CONCATENATE(PROPER(TEXT(BD!$B20,\"mmm\")),\"/\",TEXT(BD!$B20,\"aa\"))","v":"Dez/23"}]
[20,"2023-12-07","10:10:00","TecnoVanguarda","TecnoVanguarda","Augusto","v1","Realizada",null,{"$f":"WEEKNUM(BD!$B21)","v":49},"Qui","07","Dezembro","2023",{"$f":"CONCATENATE(PROPER(TEXT(BD!$B21,\"mmm\")),\"/\",TEXT(BD!$B21,\"aa\"))","v":"Dez/23"}]
[21,"2023-12-07","14:30:00","Transformação Digital","Transformação Digital","Roberto","v1","Realizada",null,{"$f":"WEEKNUM(BD!$B22)","v":49},"Qui","07","Dezembro","2023",{"$f":"CONCATENATE(PROPER(TEXT(BD!$B22,\"mmm\")),\"/\",TEXT(BD!$B22,\"aa\"))","v":"Dez/23"}]
[22,"2023-12-07","14:50:00","InnovAction","InnovAction","Antônio","v1","Realizada",null,{"$f":"WEEKNUM(BD!$B23)","v":49},"Qui","07","Dezembro","2023",{"$f":"CONCATENATE(PROPER(TEXT(BD!$B23,\"mmm\")),\"/\",TEXT(BD!$B23,\"aa\"))","v":"Dez/23"}]
[23,"2023-12-07","15:20:00","HighTech Solutions","HighTech Solutions","João","v1","Realizada",null,{"$f":"WEEKNUM(BD!$B24)","v":49},"Qui","07","Dezembro","2023",{"$f":"CONCATENATE(PROPER(TEXT(BD!$B24,\"mmm\")),\"/\",TEXT(BD!$B24,\"aa\"))","v":"Dez/23"}]
[24,"2023-12-07","16:45:00","Innovatrix","Innovatrix","José","v1","Realizada",null,{"$f":"WEEKNUM(BD!$B25)","v":49},"Qui","07","Dezembro","2023",{"$f":"CONCATENATE(PROPER(TEXT(BD!$B25,\"mmm\")),\"/\",TEXT(BD!$B25,\"aa\"))","v":"Dez/23"}]
[25,"2023-12-07","22:30:00","Ideia Genial","Ideia Genial","Paulo","v1","Realizada",null,{"$f":"WEEKNUM(BD!$B26)","v":49},"Qui","07","Dezembro","2023",{"$f":"CONCATENATE(PROPER(TEXT(BD!$B26,\"mmm\")),\"/\",TEXT(BD!$B26,\"aa\"))","v":"Dez/23"}]
[26,"2023-12-07","23:00:00","EnerTech","EnerTech","Pedro","v1","Realizada",null,{"$f":"WEEKNUM(BD!$B27)","v":49},"Qui","07","Dezembro","2023",{"$f":"CONCATENATE(PROPER(TEXT(BD!$B27,\"mmm\")),\"/\",TEXT(BD!$B27,\"aa\"))","v":"Dez/23"}]
[27,"2023-12-07","23:25:00","Vanguardia","Vanguardia","Augusto","v1","Realizada",null,{"$f":"WEEKNUM(BD!$B28)","v":49},"Qui","07","Dezembro","2023",{"$f":"CONCATENATE(PROPER(TEXT(BD!$B28,\"mmm\")),\"/\",TEXT(BD!$B28,\"aa\"))","v":"Dez/23"}]
[28,"2023-12-09","12:15:00","InteliTech","InteliTech","Roberto","v1","Realizada",null,{"$f":"WEEKNUM(BD!$B29)","v":49},"Sáb","09","Dezembro","2023",{"$f":"CONCATENATE(PROPER(TEXT(BD!$B29,\"mmm\")),\"/\",TEXT(BD!$B29,\"aa\"))","v":"Dez/23"}]
[29,"2023-12-10","12:00:00","IllumiNova","IllumiNova","Antônio","v1","Cancelada",null,{"$f":"WEEKNUM(BD!$B30)","v":50},"Dom","10","Dezembro","2023",{"$f":"CONCATENATE(PROPER(TEXT(BD!$B30,\"mmm\")),\"/\",TEXT(BD!$B30,\"aa\"))","v":"Dez/23"}]
[30,"2023-12-11","14:50:00","NexusEdge","NexusEdge","João","v1","Realizada",null,{"$f":"WEEKNUM(BD!$B31)","v":50},"Seg","11","Dezembro","2023",{"$f":"CONCATENATE(PROPER(TEXT(BD!$B31,\"mmm\")),\"/\",TEXT(BD!$B31,\"aa\"))","v":"Dez/23"}]
[31,"2023-12-11","19:10:00","VisionCraft","VisionCraft","José","v1","Realizada",null,{"$f":"WEEKNUM(BD!$B32)","v":50},"Seg","11","Dezembro","2023",{"$f":"CONCATENATE(PROPER(TEXT(BD!$B32,\"mmm\")),\"/\",TEXT(BD!$B32,\"aa\"))","v":"Dez/23"}]
[32,"2023-12-11","21:00:00","InnovaGenius","InnovaGenius","Paulo","v1","Realizada",null,{"$f":"WEEKNUM(BD!$B33)","v":50},"Seg","11","Dezembro","2023",{"$f":"CONCATENATE(PROPER(TEXT(BD!$B33,\"mmm\")),\"/\",TEXT(BD!$B33,\"aa\"))","v":"Dez/23"}]
[33,"2023-12-11","14:20:00","MindShift","MindShift","Pedro","v1","Realizada",null,{"$f":"WEEKNUM(BD!$B34)","v":50},"Seg","11","Dezembro","2023",{"$f":"CONCATENATE(PROPER(TEXT(BD!$B34,\"mmm\")),\"/\",TEXT(BD!$B34,\"aa\"))","v":"Dez/23"}]
[34,"2023-12-11","16:00:00","TechVision","TechVision","Augusto","v1","Realizada",null,{"$f":"WEEKNUM(BD!$B35)","v":50},"Seg","11","Dezembro","2023",{"$f":"CONCATENATE(PROPER(TEXT(BD!$B35,\"mmm\")),\"/\",TEXT(BD!$B35,\"aa\"))","v":"Dez/23"}]
[35,"2023-12-11","18:50:00","InspireX","InspireX","Roberto","v1","Realizada",null,{"$f":"WEEKNUM(BD!$B36)","v":50},"Seg","11","Dezembro","2023",{"$f":"CONCATENATE(PROPER(TEXT(BD!$B36,\"mmm\")),\"/\",TEXT(BD!$B36,\"aa\"))","v":"Dez/23"}]
[36,"2023-12-11","21:00:00","NextWave","NextWave","Antônio","v1","Realizada",null,{"$f":"WEEKNUM(BD!$B37)","v":50},"Seg","11","Dezembro","2023",{"$f":"CONCATENATE(PROPER(TEXT(BD!$B37,\"mmm\")),\"/\",TEXT(BD!$B37,\"aa\"))","v":"Dez/23"}]
[37,"2023-12-12","14:50:00","GenioTech","GenioTech","João","v1","Realizada",null,{"$f":"WEEKNUM(BD!$B38)","v":50},"Ter","12","Dezembro","2023",{"$f":"CONCATENATE(PROPER(TEXT(BD!$B38,\"mmm\")),\"/\",TEXT(BD!$B38,\"aa\"))","v":"Dez/23"}]
[38,"2023-12-12","19:30:00","IdeasConnect","IdeasConnect","José","v1","Realizada",null,{"$f":"WEEKNUM(BD!$B39)","v":50},"Ter","12","Dezembro","2023",{"$f":"CONCATENATE(PROPER(TEXT(BD!$B39,\"mmm\")),\"/\",TEXT(BD!$B39,\"aa\"))","v":"Dez/23"}]
[39,"2023-12-12","22:00:00","SparkSolutions","SparkSolutions","Paulo","v1","Reagendada",null,{"$f":"WEEKNUM(BD!$B40)","v":50},"Ter","12","Dezembro","2023",{"$f":"CONCATENATE(PROPER(TEXT(BD!$B40,\"mmm\")),\"/\",TEXT(BD!$B40,\"aa\"))","v":"Dez/23"}]
[40,"2023-12-12","22:40:00","NeuroInnovate","NeuroInnovate","Pedro","v1","Realizada",null,{"$f":"WEEKNUM(BD!$B41)","v":50},"Ter","12","Dezembro","2023",{"$f":"CONCATENATE(PROPER(TEXT(BD!$B41,\"mmm\")),\"/\",TEXT(BD!$B41,\"aa\"))","v":"Dez/23"}]
[41,"2023-12-12","23:20:00","Futuris","Futuris","Augusto","v1","Realizada",null,{"$f":"WEEKNUM(BD!$B42)","v":50},"Ter","12","Dezembro","2023",{"$f":"CONCATENATE(PROPER(TEXT(BD!$B42,\"mmm\")),\"/\",TEXT(BD!$B42,\"aa\"))","v":"Dez/23"}]
[42,"2023-12-12","14:50:00","SmartStart","SmartStart","Roberto","v1","Realizada",null,{"$f":"WEEKNUM(BD!$B43)","v":50},"Ter","12","Dezembro","2023",{"$f":"CONCATENATE(PROPER(TEXT(BD!$B43,\"mmm\")),\"/\",TEXT(BD!$B43,\"aa\"))","v":"Dez/23"}]
[43,"2023-12-12","19:50:00","BrainBox","BrainBox","Antônio","v1","Realizada",null,{"$f":"WEEKNUM(BD!$B44)","v":50},"Ter","12","Dezembro","2023",{"$f":"CONCATENATE(PROPER(TEXT(BD!$B44,\"mmm\")),\"/\",TEXT(BD!$B44,\"aa\"))","v":"Dez/23"}]
[44,"2023-12-12","21:10:00","Innovision","Innovision","João","v1","Realizada","Cliente não esperou",{"$f":"WEEKNUM(BD!$B45)","v":50},"Ter","12","Dezembro","2023",{"$f":"CONCATENATE(PROPER(TEXT(BD!$B45,\"mmm\")),\"/\",TEXT(BD!$B45,\"aa\"))","v":"Dez/23"}]
[45,"2023-12-12","19:50:00","MindSparkle","MindSparkle","José","v1","Realizada","Cliente não esperou",{"$f":"WEEKNUM(BD!$B46)","v":50},"Ter","12","Dezembro","2023",{"$f":"CONCATENATE(PROPER(TEXT(BD!$B46,\"mmm\")),\"/\",TEXT(BD!$B46,\"aa\"))","v":"Dez/23"}]
[46,"2023-12-12","22:00:00","IdeaLab","IdeaLab","Paulo","v1","Cancelada",null,{"$f":"WEEKNUM(BD!$B47)","v":50},"Ter","12","Dezembro","2023",{"$f":"CONCATENATE(PROPER(TEXT(BD!$B47,\"mmm\")),\"/\",TEXT(BD!$B47,\"aa\"))","v":"Dez/23"}]
[47,"2023-12-12","22:00:00","VisionX","VisionX","Pedro","v1","Cancelada",null,{"$f":"WEEKNUM(BD!$B48)","v":50},"Ter","12","Dezembro","2023",{"$f":"CONCATENATE(PROPER(TEXT(BD!$B48,\"mmm\")),\"/\",TEXT(BD!$B48,\"aa\"))","v":"Dez/23"}]
[48,"2023-12-12","22:20:00","TechnoLink","TechnoLink","Augusto","v3","À Realizar",null,{"$f":"WEEKNUM(BD!$B49)","v":50},"Ter","12","Dezembro","2023",{"$f":"CONCATENATE(PROPER(TEXT(BD!$B49,\"mmm\")),\"/\",TEXT(BD!$B49,\"aa\"))","v":"Dez/23"}]
[49,"2023-12-13","00:00:00","InnovaGrowth","InnovaGrowth","Roberto","v1","À Realizar",null,{"$f":"WEEKNUM(BD!$B50)","v":50},"Qua","13","Dezembro","2023",{"$f":"CONCATENATE(PROPER(TEXT(BD!$B50,\"mmm\")),\"/\",TEXT(BD!$B50,\"aa\"))","v":"Dez/23"}]
[39,"2023-12-13","22:00:00","SparkSolutions","SparkSolutions","Paulo","v1","À Realizar",null,{"$f":"WEEKNUM(BD!$B51)","v":50},{"$f":"PROPER(TEXT(B51,\"ddd\"))","v":"Qua"},{"$f":"TEXT(B51,\"dd\")","v":"13"},{"$f":"PROPER(TEXT(B51,\"mmmm\"))","v":"Dezembro"},{"$f":"TEXT(B51,\"aaaa\")","v":"2023"},{"$f":"CONCATENATE(PROPER(TEXT(BD!$B51,\"mmm\")),\"/\",TEXT(BD!$B51,\"aa\"))","v":"Dez/23"},null,39]

{"sheet":"Cro","index":6,"n_rows":170,"n_cols":43,"rows_kept":170,"cut":false,"hidden":false,"merged":[[144,2,144,6],[144,8,144,12],[63,2,63,6],[63,8,63,12],[9,26,9,30],[36,8,36,12],[36,2,36,6],[36,14,36,18],[36,20,36,24],[36,26,36,30],[117,2,117,6],[117,8,117,12],[117,14,117,18],[117,20,117,24],[117,26,117,30],[90,20,90,24],[7,20,7,24],[7,26,7,30],[7,32,7,36],[7,38,7,42],[9,2,9,6],[9,8,9,12],[9,14,9,18],[9,20,9,24],[9,32,9,36],[7,2,7,6],[7,8,7,12],[7,14,7,18],[9,38,9,42],[117,38,117,42],[90,38,90,42],[144,14,144,18],[144,20,144,24],[144,26,144,30],[144,32,144,36],[144,38,144,42],[90,32,90,36],[117,32,117,36],[90,26,90,30],[36,38,36,42],[63,38,63,42],[90,2,90,6],[90,8,90,12],[90,14,90,18],[36,32,36,36],[63,14,63,18],[63,20,63,24],[63,26,63,30],[63,32,63,36]]}
[]
[]
[null,null,"Ano",2023]
[null,null,"Mês","Dezembro"]
[]
[]
[]
[null,null,"1900-01-01",null,null,null,null,null,"1900-01-02",null,null,null,null,null,"1900-01-03",null,null,null,null,null,"1900-01-04",null,null,null,null,null,"1900-01-05",null,null,null,null,null,"1900-01-06",null,null,null,null,null,"1900-01-07"]
[]
[null,{"$f":"IF(C10<>\"\",WEEKNUM(C10),IF(AM10<>\"\",WEEKNUM(AM10),\"x\"))","v":48},{"$f":"IF(WEEKDAY(inicio)=C8,inicio,\"\")","v":""},null,null,null,null,null,{"$f":"IF(WEEKDAY(inicio)=I8,inicio,IF(WEEKDAY(inicio)<I8,C10+1,\"\"))","v":""},null,null,null,null,null,{"$f":"IF(WEEKDAY(inicio)=O8,inicio,IF(WEEKDAY(inicio)<O8,I10+1,\"\"))","v":""},null,null,null,null,null,{"$f":"IF(WEEKDAY(inicio)=U8,inicio,IF(WEEKDAY(inicio)<U8,O10+1,\"\"))","v":""},null,null,null,null,null,{"$f":"IF(WEEKDAY(inicio)=AA8,inicio,IF(WEEKDAY(inicio)<AA8,U10+1,\"\"))","v":""},null,null,null,null,null,{"$f":"IF(WEEKDAY(inicio)=AG8,inicio,IF(WEEKDAY(inicio)<AG8,AA10+1,\"\"))","v":"2023-12-01"},null,null,null,null,null,{"$f":"IF(WEEKDAY(inicio)=AM8,inicio,IF(WEEKDAY(inicio)<AM8,AG10+1,\"\"))","v":"2023-12-02"}]
[null,null,{"$f":"IF($C$10=\"\",\"\",IF(ROWS(BD!$1:1)>COUNTIFS(BD!$B$1:$B$138,$C$10),\"\",INDEX(BD!$C$2:$C$138,SMALL(IF(BD!$B$2:$B$138=$C$10,IF(BD!$B$2:$B$138=$C$10,ROW(BD!$B$2:$B$138)-ROW(BD!$B$2)+1),FALSE),ROWS(BD!$1:1)))))","v":""},{"$f":"IF($C$10=\"\",\"\",IF(ROWS(BD!$1:1)>COUNTIFS(BD!$B$1:$B$138,$C$10),\"\",INDEX(BD!$E$2:$E$138,SMALL(IF(BD!$B$2:$B$138=$C$10,IF(BD!$B$2:$B$138=$C$10,ROW(BD!$B$2:$B$138)-ROW(BD!$B$2)+1),FALSE),ROWS(BD!$1:1)))))","v":""},{"$f":"IF($C$10=\"\",\"\",IF(ROWS(BD!$1:1)>COUNTIFS(BD!$B$1:$B$138,$C$10),\"\",INDEX(BD!$F$2:$F$138,SMALL(IF(BD!$B$2:$B$138=$C$10,IF(BD!$B$2:$B$138=$C$10,ROW(BD!$B$2:$B$138)-ROW(BD!$B$2)+1),FALSE),ROWS(BD!$1:1)))))","v":""},{"$f":"IF($C$10=\"\",\"\",IF(ROWS(BD!$1:1)>COUNTIFS(BD!$B:$B,$C$10),\"\",INDEX(BD!$G$2:$G$138,SMALL(IF(BD!$B$2:$B$138=$C$10,IF(BD!$B$2:$B$138=$C$10,ROW(BD!$B$2:$B$138)-ROW(BD!$B$2)+1),FALSE),ROWS(BD!$1:1)))))","v":""},{"$f":"IF($C$10=\"\",\"\",IF(ROWS(BD!$1:1)>COUNTIFS(BD!$B:$B,$C$10),\"\",INDEX(BD!$H$2:$H$138,SMALL(IF(BD!$B$2:$B$138=$C$10,IF(BD!$B$2:$B$138=$C$10,ROW(BD!$B$2:$B$138)-ROW(BD!$B$2)+1),FALSE),ROWS(BD!$1:1)))))","v":""},null,{"$f":"IF($I$10=\"\",\"\",IF(ROWS(BD!$1:1)>COUNTIFS(BD!$B$1:$B$138,$I$10),\"\",INDEX(BD!$C$2:$C$138,SMALL(IF(BD!$B$2:$B$138=$I$10,IF(BD!$B$2:$B$138=$I$10,ROW(BD!$B$2:$B$138)-ROW(BD!$B$2)+1),FALSE),ROWS(BD!$1:1)))))","v":""},{"$f":"IF($I$10=\"\",\"\",IF(ROWS(BD!$1:1)>COUNTIFS(BD!$B$1:$B$138,$I$10),\"\",INDEX(BD!$E$2:$E$138,SMALL(IF(BD!$B$2:$B$138=$I$10,IF(BD!$B$2:$B$138=$I$10,ROW(BD!$B$2:$B$138)-ROW(BD!$B$2)+1),FALSE),ROWS(BD!$1:1)))))","v":""},{"$f":"IF($I$10=\"\",\"\",IF(ROWS(BD!$1:1)>COUNTIFS(BD!$B$1:$B$138,$I$10),\"\",INDEX(BD!$F$2:$F$138,SMALL(IF(BD!$B$2:$B$138=$I$10,IF(BD!$B$2:$B$138=$I$10,ROW(BD!$B$2:$B$138)-ROW(BD!$B$2)+1),FALSE),ROWS(BD!$1:1)))))","v":""},{"$f":"IF($I$10=\"\",\"\",IF(ROWS(BD!$1:1)>COUNTIFS(BD!$B:$B,$I$10),\"\",INDEX(BD!$G$2:$G$138,SMALL(IF(BD!$B$2:$B$138=$I$10,IF(BD!$B$2:$B$138=$I$10,ROW(BD!$B$2:$B$138)-ROW(BD!$B$2)+1),FALSE),ROWS(BD!$1:1)))))","v":""},{"$f":"IF($I$10=\"\",\"\",IF(ROWS(BD!$1:1)>COUNTIFS(BD!$B:$B,$I$10),\"\",INDEX(BD!$H$2:$H$138,SMALL(IF(BD!$B$2:$B$138=$I$10,IF(BD!$B$2:$B$138=$I$10,ROW(BD!$B$2:$B$138)-ROW(BD!$B$2)+1),FALSE),ROWS(BD!$1:1)))))","v":""},null,{"$f":"IF($O$10=\"\",\"\",IF(ROWS(BD!$1:1)>COUNTIFS(BD!$B$1:$B$138,$O$10),\"\",INDEX(BD!$C$2:$C$138,SMALL(IF(BD!$B$2:$B$138=$O$10,IF(BD!$B$2:$B$138=$O$10,ROW(BD!$B$2:$B$138)-ROW(BD!$B$2)+1),FALSE),ROWS(BD!$1:1)))))","v":""},{"$f":"IF($O$10=\"\",\"\",IF(ROWS(BD!$1:1)>COUNTIFS(BD!$B$1:$B$138,$O$10),\"\",INDEX(BD!$E$2:$E$138,SMALL(IF(BD!$B$2:$B$138=$O$10,IF(BD!$B$2:$B$138=$O$10,ROW(BD!$B$2:$B$138)-ROW(BD!$B$2)+1),FALSE),ROWS(BD!$1:1)))))","v":""},{"$f":"IF($O$10=\"\",\"\",IF(ROWS(BD!$1:1)>COUNTIFS(BD!$B$1:$B$138,$O$10),\"\",INDEX(BD!$F$2:$F$138,SMALL(IF(BD!$B$2:$B$138=$O$10,IF(BD!$B$2:$B$138=$O$10,ROW(BD!$B$2:$B$138)-ROW(BD!$B$2)+1),FALSE),ROWS(BD!$1:1)))))","v":""},{"$f":"IF($O$10=\"\",\"\",IF(ROWS(BD!$1:1)>COUNTIFS(BD!$B:$B,$O$10),\"\",INDEX(BD!$G$2:$G$138,SMALL(IF(BD!$B$2:$B$138=$O$10,IF(BD!$B$2:$B$138=$O$10,ROW(BD!$B$2:$B$138)-ROW(BD!$B$2)+1),FALSE),ROWS(BD!$1:1)))))","v":""},{"$f":"IF($O$10=\"\",\"\",IF(ROWS(BD!$1:1)>COUNTIFS(BD!$B:$B,$O$10),\"\",INDEX(BD!$H$2:$H$138,SMALL(IF(BD!$B$2:$B$138=$O$10,IF(BD!$B$2:$B$138=$O$10,ROW(BD!$B$2:$B$138)-ROW(BD!$B$2)+1),FALSE),ROWS(BD!$1:1)))))","v":""},null,{"$f":"IF($U$10=\"\",\"\",IF(ROWS(BD!$1:1)>COUNTIFS(BD!$B$1:$B$138,$U$10),\"\",INDEX(BD!$C$2:$C$138,SMALL(IF(BD!$B$2:$B$138=$U$10,IF(BD!$B$2:$B$138=$U$10,ROW(BD!$B$2:$B$138)-ROW(BD!$B$2)+1),FALSE),ROWS(BD!$1:1)))))","v":""},{"$f":"IF($U$10=\"\",\"\",IF(ROWS(BD!$1:1)>COUNTIFS(BD!$B$1:$B$138,$U$10),\"\",INDEX(BD!$E$2:$E$138,SMALL(IF(BD!$B$2:$B$138=$U$10,IF(BD!$B$2:$B$138=$U$10,ROW(BD!$B$2:$B$138)-ROW(BD!$B$2)+1),FALSE),ROWS(BD!$1:1)))))","v":""},{"$f":"IF($U$10=\"\",\"\",IF(ROWS(BD!$1:1)>COUNTIFS(BD!$B$1:$B$138,$U$10),\"\",INDEX(BD!$F$2:$F$138,SMALL(IF(BD!$B$2:$B$138=$U$10,IF(BD!$B$2:$B$138=$U$10,ROW(BD!$B$2:$B$138)-ROW(BD!$B$2)+1),FALSE),ROWS(BD!$1:1)))))","v":""},{"$f":"IF($U$10=\"\",\"\",IF(ROWS(BD!$1:1)>COUNTIFS(BD!$B:$B,$U$10),\"\",INDEX(BD!$G$2:$G$138,SMALL(IF(BD!$B$2:$B$138=$U$10,IF(BD!$B$2:$B$138=$U$10,ROW(BD!$B$2:$B$138)-ROW(BD!$B$2)+1),FALSE),ROWS(BD!$1:1)))))","v":""},{"$f":"IF($U$10=\"\",\"\",IF(ROWS(BD!$1:1)>COUNTIFS(BD!$B:$B,$U$10),\"\",INDEX(BD!$H$2:$H$138,SMALL(IF(BD!$B$2:$B$138=$U$10,IF(BD!$B$2:$B$138=$U$10,ROW(BD!$B$2:$B$138)-ROW(BD!$B$2)+1),FALSE),ROWS(BD!$1:1)))))","v":""},null,{"$f":"IF($AA$10=\"\",\"\",IF(ROWS(BD!$1:1)>COUNTIFS(BD!$B$1:$B$138,$AA$10),\"\",INDEX(BD!$C$2:$C$138,SMALL(IF(BD!$B$2:$B$138=$AA$10,IF(BD!$B$2:$B$138=$AA$10,ROW(BD!$B$2:$B$138)-ROW(BD!$B$2)+1),FALSE),ROWS(BD!$1:1)))))","v":""},{"$f":"IF($AA$10=\"\",\"\",IF(ROWS(BD!$1:1)>COUNTIFS(BD!$B$1:$B$138,$AA$10),\"\",INDEX(BD!$E$2:$E$138,SMALL(IF(BD!$B$2:$B$138=$AA$10,IF(BD!$B$2:$B$138=$AA$10,ROW(BD!$B$2:$B$138)-ROW(BD!$B$2)+1),FALSE),ROWS(BD!$1:1)))))","v":""},{"$f":"IF($AA$10=\"\",\"\",IF(ROWS(BD!$1:1)>COUNTIFS(BD!$B$1:$B$138,$AA$10),\"\",INDEX(BD!$F$2:$F$138,SMALL(IF(BD!$B$2:$B$138=$AA$10,IF(BD!$B$2:$B$138=$AA$10,ROW(BD!$B$2:$B$138)-ROW(BD!$B$2)+1),FALSE),ROWS(BD!$1:1)))))","v":""},{"$f":"IF($AA$10=\"\",\"\",IF(ROWS(BD!$1:1)>COUNTIFS(BD!$B:$B,$AA$10),\"\",INDEX(BD!$G$2:$G$138,SMALL(IF(BD!$B$2:$B$138=$AA$10,IF(BD!$B$2:$B$138=$AA$10,ROW(BD!$B$2:$B$138)-ROW(BD!$B$2)+1),FALSE),ROWS(BD!$1:1)))))","v":""},{"$f":"IF($AA$10=\"\",\"\",IF(ROWS(BD!$1:1)>COUNTIFS(BD!$B:$B,$AA$10),\"\",INDEX(BD!$H$2:$H$138,SMALL(IF(BD!$B$2:$B$138=$AA$10,IF(BD!$B$2:$B$138=$AA$10,ROW(BD!$B$2:$B$138)-ROW(BD!$B$2)+1),FALSE),ROWS(BD!$1:1)))))","v":""},null,{"$f":"IF($AG$10=\"\",\"\",IF(ROWS(BD!$1:1)>COUNTIFS(BD!$B$1:$B$138,$AG$10),\"\",INDEX(BD!$C$2:$C$138,SMALL(IF(BD!$B$2:$B$138=$AG$10,IF(BD!$B$2:$B$138=$AG$10,ROW(BD!$B$2:$B$138)-ROW(BD!$B$2)+1),FALSE),ROWS(BD!$1:1)))))","v":"23:50:00"},{"$f":"IF($AG$10=\"\",\"\",IF(ROWS(BD!$1:1)>COUNTIFS(BD!$B$1:$B$138,$AG$10),\"\",INDEX(BD!$E$2:$E$138,SMALL(IF(BD!$B$2:$B$138=$AG$10,IF(BD!$B$2:$B$138=$AG$10,ROW(BD!$B$2:$B$138)-ROW(BD!$B$2)+1),FALSE),ROWS(BD!$1:1)))))","v":"InovaTech"},{"$f":"IF($AG$10=\"\",\"\",IF(ROWS(BD!$1:1)>COUNTIFS(BD!$B$1:$B$138,$AG$10),\"\",INDEX(BD!$F$2:$F$138,SMALL(IF(BD!$B$2:$B$138=$AG$10,IF(BD!$B$2:$B$138=$AG$10,ROW(BD!$B$2:$B$138)-ROW(BD!$B$2)+1),FALSE),ROWS(BD!$1:1)))))","v":"Antônio"},{"$f":"IF($AG$10=\"\",\"\",IF(ROWS(BD!$1:1)>COUNTIFS(BD!$B:$B,$AG$10),\"\",INDEX(BD!$G$2:$G$138,SMALL(IF(BD!$B$2:$B$138=$AG$10,IF(BD!$B$2:$B$138=$AG$10,ROW(BD!$B$2:$B$138)-ROW(BD!$B$2)+1),FALSE),ROWS(BD!$1:1)))))","v":"v1"},{"$f":"IF($AG$10=\"\",\"\",IF(ROWS(BD!$1:1)>COUNTIFS(BD!$B:$B,$AG$10),\"\",INDEX(BD!$H$2:$H$138,SMALL(IF(BD!$B$2:$B$138=$AG$10,IF(BD!$B$2:$B$138=$AG$10,ROW(BD!$B$2:$B$138)-ROW(BD!$B$2)+1),FALSE),ROWS(BD!$1:1)))))","v":"Realizada"},null,{"$f":"IF($AM$10=\"\",\"\",IF(ROWS(BD!$1:1)>COUNTIFS(BD!$B$1:$B$138,$AM$10),\"\",INDEX(BD!$C$2:$C$138,SMALL(IF(BD!$B$2:$B$138=$AM$10,IF(BD!$B$2:$B$138=$AM$10,ROW(BD!$B$2:$B$138)-ROW(BD!$B$2)+1),FALSE),ROWS(BD!$1:1)))))","v":""},{"$f":"IF($AM$10=\"\",\"\",IF(ROWS(BD!$1:1)>COUNTIFS(BD!$B$1:$B$138,$AM$10),\"\",INDEX(BD!$E$2:$E$138,SMALL(IF(BD!$B$2:$B$138=$AM$10,IF(BD!$B$2:$B$138=$AM$10,ROW(BD!$B$2:$B$138)-ROW(BD!$B$2)+1),FALSE),ROWS(BD!$1:1)))))","v":""},{"$f":"IF($AM$10=\"\",\"\",IF(ROWS(BD!$1:1)>COUNTIFS(BD!$B$1:$B$138,$AM$10),\"\",INDEX(BD!$F$2:$F$138,SMALL(IF(BD!$B$2:$B$138=$AM$10,IF(BD!$B$2:$B$138=$AM$10,ROW(BD!$B$2:$B$138)-ROW(BD!$B$2)+1),FALSE),ROWS(BD!$1:1)))))","v":""},{"$f":"IF($AM$10=\"\",\"\",IF(ROWS(BD!$1:1)>COUNTIFS(BD!$B:$B,$AM$10),\"\",INDEX(BD!$G$2:$G$138,SMALL(IF(BD!$B$2:$B$138=$AM$10,IF(BD!$B$2:$B$138=$AM$10,ROW(BD!$B$2:$B$138)-ROW(BD!$B$2)+1),FALSE),ROWS(BD!$1:1)))))","v":""},{"$f":"IF($AM$10=\"\",\"\",IF(ROWS(BD!$1:1)>COUNTIFS(BD!$B:$B,$AM$10),\"\",INDEX(BD!$H$2:$H$138,SMALL(IF(BD!$B$2:$B$138=$AM$10,IF(BD!$B$2:$B$138=$AM$10,ROW(BD!$B$2:$B$138)-ROW(BD!$B$2)+1),FALSE),ROWS(BD!$1:1)))))","v":""}]
[null,null,{"$f":"IF($C$10=\"\",\"\",IF(ROWS(BD!$1:2)>COUNTIFS(BD!$B$1:$B$138,$C$10),\"\",INDEX(BD!$C$2:$C$138,SMALL(IF(BD!$B$2:$B$138=$C$10,IF(BD!$B$2:$B$138=$C$10,ROW(BD!$B$2:$B$138)-ROW(BD!$B$2)+1),FALSE),ROWS(BD!$1:2)))))","v":""},{"$f":"IF($C$10=\"\",\"\",IF(ROWS(BD!$1:2)>COUNTIFS(BD!$B$1:$B$138,$C$10),\"\",INDEX(BD!$E$2:$E$138,SMALL(IF(BD!$B$2:$B$138=$C$10,IF(BD!$B$2:$B$138=$C$10,ROW(BD!$B$2:$B$138)-ROW(BD!$B$2)+1),FALSE),ROWS(BD!$1:2)))))","v":""},{"$f":"IF($C$10=\"\",\"\",IF(ROWS(BD!$1:2)>COUNTIFS(BD!$B$1:$B$138,$C$10),\"\",INDEX(BD!$F$2:$F$138,SMALL(IF(BD!$B$2:$B$138=$C$10,IF(BD!$B$2:$B$138=$C$10,ROW(BD!$B$2:$B$138)-ROW(BD!$B$2)+1),FALSE),ROWS(BD!$1:2)))))","v":""},{"$f":"IF($C$10=\"\",\"\",IF(ROWS(BD!$1:2)>COUNTIFS(BD!$B:$B,$C$10),\"\",INDEX(BD!$G$2:$G$138,SMALL(IF(BD!$B$2:$B$138=$C$10,IF(BD!$B$2:$B$138=$C$10,ROW(BD!$B$2:$B$138)-ROW(BD!$B$2)+1),FALSE),ROWS(BD!$1:2)))))","v":""},{"$f":"IF($C$10=\"\",\"\",IF(ROWS(BD!$1:2)>COUNTIFS(BD!$B:$B,$C$10),\"\",INDEX(BD!$H$2:$H$138,SMALL(IF(BD!$B$2:$B$138=$C$10,IF(BD!$B$2:$B$138=$C$10,ROW(BD!$B$2:$B$138)-ROW(BD!$B$2)+1),FALSE),ROWS(BD!$1:2)))))","v":""},null,{"$f":"IF($I$10=\"\",\"\",IF(ROWS(BD!$1:2)>COUNTIFS(BD!$B$1:$B$138,$I$10),\"\",INDEX(BD!$C$2:$C$138,SMALL(IF(BD!$B$2:$B$138=$I$10,IF(BD!$B$2:$B$138=$I$10,ROW(BD!$B$2:$B$138)-ROW(BD!$B$2)+1),FALSE),ROWS(BD!$1:2)))))","v":""},{"$f":"IF($I$10=\"\",\"\",IF(ROWS(BD!$1:2)>COUNTIFS(BD!$B$1:$B$138,$I$10),\"\",INDEX(BD!$E$2:$E$138,SMALL(IF(BD!$B$2:$B$138=$I$10,IF(BD!$B$2:$B$138=$I$10,ROW(BD!$B$2:$B$138)-ROW(BD!$B$2)+1),FALSE),ROWS(BD!$1:2)))))","v":""},{"$f":"IF($I$10=\"\",\"\",IF(ROWS(BD!$1:2)>COUNTIFS(BD!$B$1:$B$138,$I$10),\"\",INDEX(BD!$F$2:$F$138,SMALL(IF(BD!$B$2:$B$138=$I$10,IF(BD!$B$2:$B$138=$I$10,ROW(BD!$B$2:$B$138)-ROW(BD!$B$2)+1),FALSE),ROWS(BD!$1:2)))))","v":""},{"$f":"IF($I$10=\"\",\"\",IF(ROWS(BD!$1:2)>COUNTIFS(BD!$B:$B,$I$10),\"\",INDEX(BD!$G$2:$G$138,SMALL(IF(BD!$B$2:$B$138=$I$10,IF(BD!$B$2:$B$138=$I$10,ROW(BD!$B$2:$B$138)-ROW(BD!$B$2)+1),FALSE),ROWS(BD!$1:2)))))","v":""},{"$f":"IF($I$10=\"\",\"\",IF(ROWS(BD!$1:2)>COUNTIFS(BD!$B:$B,$I$10),\"\",INDEX(BD!$H$2:$H$138,SMALL(IF(BD!$B$2:$B$138=$I$10,IF(BD!$B$2:$B$138=$I$10,ROW(BD!$B$2:$B$138)-ROW(BD!$B$2)+1),FALSE),ROWS(BD!$1:2)))))","v":""},null,{"$f":"IF($O$10=\"\",\"\",IF(ROWS(BD!$1:2)>COUNTIFS(BD!$B$1:$B$138,$O$10),\"\",INDEX(BD!$C$2:$C$138,SMALL(IF(BD!$B$2:$B$138=$O$10,IF(BD!$B$2:$B$138=$O$10,ROW(BD!$B$2:$B$138)-ROW(BD!$B$2)+1),FALSE),ROWS(BD!$1:2)))))","v":""},{"$f":"IF($O$10=\"\",\"\",IF(ROWS(BD!$1:2)>COUNTIFS(BD!$B$1:$B$138,$O$10),\"\",INDEX(BD!$E$2:$E$138,SMALL(IF(BD!$B$2:$B$138=$O$10,IF(BD!$B$2:$B$138=$O$10,ROW(BD!$B$2:$B$138)-ROW(BD!$B$2)+1),FALSE),ROWS(BD!$1:2)))))","v":""},{"$f":"IF($O$10=\"\",\"\",IF(ROWS(BD!$1:2)>COUNTIFS(BD!$B$1:$B$138,$O$10),\"\",INDEX(BD!$F$2:$F$138,SMALL(IF(BD!$B$2:$B$138=$O$10,IF(BD!$B$2:$B$138=$O$10,ROW(BD!$B$2:$B$138)-ROW(BD!$B$2)+1),FALSE),ROWS(BD!$1:2)))))","v":""},{"$f":"IF($O$10=\"\",\"\",IF(ROWS(BD!$1:2)>COUNTIFS(BD!$B:$B,$O$10),\"\",INDEX(BD!$G$2:$G$138,SMALL(IF(BD!$B$2:$B$138=$O$10,IF(BD!$B$2:$B$138=$O$10,ROW(BD!$B$2:$B$138)-ROW(BD!$B$2)+1),FALSE),ROWS(BD!$1:2)))))","v":""},{"$f":"IF($O$10=\"\",\"\",IF(ROWS(BD!$1:2)>COUNTIFS(BD!$B:$B,$O$10),\"\",INDEX(BD!$H$2:$H$138,SMALL(IF(BD!$B$2:$B$138=$O$10,IF(BD!$B$2:$B$138=$O$10,ROW(BD!$B$2:$B$138)-ROW(BD!$B$2)+1),FALSE),ROWS(BD!$1:2)))))","v":""},null,{"$f":"IF($U$10=\"\",\"\",IF(ROWS(BD!$1:2)>COUNTIFS(BD!$B$1:$B$138,$U$10),\"\",INDEX(BD!$C$2:$C$138,SMALL(IF(BD!$B$2:$B$138=$U$10,IF(BD!$B$2:$B$138=$U$10,ROW(BD!$B$2:$B$138)-ROW(BD!$B$2)+1),FALSE),ROWS(BD!$1:2)))))","v":""},{"$f":"IF($U$10=\"\",\"\",IF(ROWS(BD!$1:2)>COUNTIFS(BD!$B$1:$B$138,$U$10),\"\",INDEX(BD!$E$2:$E$138,SMALL(IF(BD!$B$2:$B$138=$U$10,IF(BD!$B$2:$B$138=$U$10,ROW(BD!$B$2:$B$138)-ROW(BD!$B$2)+1),FALSE),ROWS(BD!$1:2)))))","v":""},{"$f":"IF($U$10=\"\",\"\",IF(ROWS(BD!$1:2)>COUNTIFS(BD!$B$1:$B$138,$U$10),\"\",INDEX(BD!$F$2:$F$138,SMALL(IF(BD!$B$2:$B$138=$U$10,IF(BD!$B$2:$B$138=$U$10,ROW(BD!$B$2:$B$138)-ROW(BD!$B$2)+1),FALSE),ROWS(BD!$1:2)))))","v":""},{"$f":"IF($U$10=\"\",\"\",IF(ROWS(BD!$1:2)>COUNTIFS(BD!$B:$B,$U$10),\"\",INDEX(BD!$G$2:$G$138,SMALL(IF(BD!$B$2:$B$138=$U$10,IF(BD!$B$2:$B$138=$U$10,ROW(BD!$B$2:$B$138)-ROW(BD!$B$2)+1),FALSE),ROWS(BD!$1:2)))))","v":""},{"$f":"IF($U$10=\"\",\"\",IF(ROWS(BD!$1:2)>COUNTIFS(BD!$B:$B,$U$10),\"\",INDEX(BD!$H$2:$H$138,SMALL(IF(BD!$B$2:$B$138=$U$10,IF(BD!$B$2:$B$138=$U$10,ROW(BD!$B$2:$B$138)-ROW(BD!$B$2)+1),FALSE),ROWS(BD!$1:2)))))","v":""},null,{"$f":"IF($AA$10=\"\",\"\",IF(ROWS(BD!$1:2)>COUNTIFS(BD!$B$1:$B$138,$AA$10),\"\",INDEX(BD!$C$2:$C$138,SMALL(IF(BD!$B$2:$B$138=$AA$10,IF(BD!$B$2:$B$138=$AA$10,ROW(BD!$B$2:$B$138)-ROW(BD!$B$2)+1),FALSE),ROWS(BD!$1:2)))))","v":""},{"$f":"IF($AA$10=\"\",\"\",IF(ROWS(BD!$1:2)>COUNTIFS(BD!$B$1:$B$138,$AA$10),\"\",INDEX(BD!$E$2:$E$138,SMALL(IF(BD!$B$2:$B$138=$AA$10,IF(BD!$B$2:$B$138=$AA$10,ROW(BD!$B$2:$B$138)-ROW(BD!$B$2)+1),FALSE),ROWS(BD!$1:2)))))","v":""},{"$f":"IF($AA$10=\"\",\"\",IF(ROWS(BD!$1:2)>COUNTIFS(BD!$B$1:$B$138,$AA$10),\"\",INDEX(BD!$F$2:$F$138,SMALL(IF(BD!$B$2:$B$138=$AA$10,IF(BD!$B$2:$B$138=$AA$10,ROW(BD!$B$2:$B$138)-ROW(BD!$B$2)+1),FALSE),ROWS(BD!$1:2)))))","v":""},{"$f":"IF($AA$10=\"\",\"\",IF(ROWS(BD!$1:2)>COUNTIFS(BD!$B:$B,$AA$10),\"\",INDEX(BD!$G$2:$G$138,SMALL(IF(BD!$B$2:$B$138=$AA$10,IF(BD!$B$2:$B$138=$AA$10,ROW(BD!$B$2:$B$138)-ROW(BD!$B$2)+1),FALSE),ROWS(BD!$1:2)))))","v":""},{"$f":"IF($AA$10=\"\",\"\",IF(ROWS(BD!$1:2)>COUNTIFS(BD!$B:$B,$AA$10),\"\",INDEX(BD!$H$2:$H$138,SMALL(IF(BD!$B$2:$B$138=$AA$10,IF(BD!$B$2:$B$138=$AA$10,ROW(BD!$B$2:$B$138)-ROW(BD!$B$2)+1),FALSE),ROWS(BD!$1:2)))))","v":""},null,{"$f":"IF($AG$10=\"\",\"\",IF(ROWS(BD!$1:2)>COUNTIFS(BD!$B$1:$B$138,$AG$10),\"\",INDEX(BD!$C$2:$C$138,SMALL(IF(BD!$B$2:$B$138=$AG$10,IF(BD!$B$2:$B$138=$AG$10,ROW(BD!$B$2:$B$138)-ROW(BD!$B$2)+1),FALSE),ROWS(BD!$1:2)))))","v":""},{"$f":"IF($AG$10=\"\",\"\",IF(ROWS(BD!$1:2)>COUNTIFS(BD!$B$1:$B$138,$AG$10),\"\",INDEX(BD!$E$2:$E$138,SMALL(IF(BD!$B$2:$B$138=$AG$10,IF(BD!$B$2:$B$138=$AG$10,ROW(BD!$B$2:$B$138)-ROW(BD!$B$2)+1),FALSE),ROWS(BD!$1:2)))))","v":""},{"$f":"IF($AG$10=\"\",\"\",IF(ROWS(BD!$1:2)>COUNTIFS(BD!$B$1:$B$138,$AG$10),\"\",INDEX(BD!$F$2:$F$138,SMALL(IF(BD!$B$2:$B$138=$AG$10,IF(BD!$B$2:$B$138=$AG$10,ROW(BD!$B$2:$B$138)-ROW(BD!$B$2)+1),FALSE),ROWS(BD!$1:2)))))","v":""},{"$f":"IF($AG$10=\"\",\"\",IF(ROWS(BD!$1:2)>COUNTIFS(BD!$B:$B,$AG$10),\"\",INDEX(BD!$G$2:$G$138,SMALL(IF(BD!$B$2:$B$138=$AG$10,IF(BD!$B$2:$B$138=$AG$10,ROW(BD!$B$2:$B$138)-ROW(BD!$B$2)+1),FALSE),ROWS(BD!$1:2)))))","v":""},{"$f":"IF($AG$10=\"\",\"\",IF(ROWS(BD!$1:2)>COUNTIFS(BD!$B:$B,$AG$10),\"\",INDEX(BD!$H$2:$H$138,SMALL(IF(BD!$B$2:$B$138=$AG$10,IF(BD!$B$2:$B$138=$AG$10,ROW(BD!$B$2:$B$138)-ROW(BD!$B$2)+1),FALSE),ROWS(BD!$1:2)))))","v":""},null,{"$f":"IF($AM$10=\"\",\"\",IF(ROWS(BD!$1:2)>COUNTIFS(BD!$B$1:$B$138,$AM$10),\"\",INDEX(BD!$C$2:$C$138,SMALL(IF(BD!$B$2:$B$138=$AM$10,IF(BD!$B$2:$B$138=$AM$10,ROW(BD!$B$2:$B$138)-ROW(BD!$B$2)+1),FALSE),ROWS(BD!$1:2)))))","v":""},{"$f":"IF($AM$10=\"\",\"\",IF(ROWS(BD!$1:2)>COUNTIFS(BD!$B$1:$B$138,$AM$10),\"\",INDEX(BD!$E$2:$E$138,SMALL(IF(BD!$B$2:$B$138=$AM$10,IF(BD!$B$2:$B$138=$AM$10,ROW(BD!$B$2:$B$138)-ROW(BD!$B$2)+1),FALSE),ROWS(BD!$1:2)))))","v":""},{"$f":"IF($AM$10=\"\",\"\",IF(ROWS(BD!$1:2)>COUNTIFS(BD!$B$1:$B$138,$AM$10),\"\",INDEX(BD!$F$2:$F$138,SMALL(IF(BD!$B$2:$B$138=$AM$10,IF(BD!$B$2:$B$138=$AM$10,ROW(BD!$B$2:$B$138)-ROW(BD!$B$2)+1),FALSE),ROWS(BD!$1:2)))))","v":""},{"$f":"IF($AM$10=\"\",\"\",IF(ROWS(BD!$1:2)>COUNTIFS(BD!$B:$B,$AM$10),\"\",INDEX(BD!$G$2:$G$138,SMALL(IF(BD!$B$2:$B$138=$AM$10,IF(BD!$B$2:$B$138=$AM$10,ROW(BD!$B$2:$B$138)-ROW(BD!$B$2)+1),FALSE),ROWS(BD!$1:2)))))","v":""},{"$f":"IF($AM$10=\"\",\"\",IF(ROWS(BD!$1:2)>COUNTIFS(BD!$B:$B,$AM$10),\"\",INDEX(BD!$H$2:$H$138,SMALL(IF(BD!$B$2:$B$138=$AM$10,IF(BD!$B$2:$B$138=$AM$10,ROW(BD!$B$2:$B$138)-ROW(BD!$B$2)+1),FALSE),ROWS(BD!$1:2)))))","v":""}]
[null,null,{"$f":"IF($C$10=\"\",\"\",IF(ROWS(BD!$1:3)>COUNTIFS(BD!$B$1:$B$138,$C$10),\"\",INDEX(BD!$C$2:$C$138,SMALL(IF(BD!$B$2:$B$138=$C$10,IF(BD!$B$2:$B$138=$C$10,ROW(BD!$B$2:$B$138)-ROW(BD!$B$2)+1),FALSE),ROWS(BD!$1:3)))))","v":""},{"$f":"IF($C$10=\"\",\"\",IF(ROWS(BD!$1:3)>COUNTIFS(BD!$B$1:$B$138,$C$10),\"\",INDEX(BD!$E$2:$E$138,SMALL(IF(BD!$B$2:$B$138=$C$10,IF(BD!$B$2:$B$138=$C$10,ROW(BD!$B$2:$B$138)-ROW(BD!$B$2)+1),FALSE),ROWS(BD!$1:3)))))","v":""},{"$f":"IF($C$10=\"\",\"\",IF(ROWS(BD!$1:3)>COUNTIFS(BD!$B$1:$B$138,$C$10),\"\",INDEX(BD!$F$2:$F$138,SMALL(IF(BD!$B$2:$B$138=$C$10,IF(BD!$B$2:$B$138=$C$10,ROW(BD!$B$2:$B$138)-ROW(BD!$B$2)+1),FALSE),ROWS(BD!$1:3)))))","v":""},{"$f":"IF($C$10=\"\",\"\",IF(ROWS(BD!$1:3)>COUNTIFS(BD!$B:$B,$C$10),\"\",INDEX(BD!$G$2:$G$138,SMALL(IF(BD!$B$2:$B$138=$C$10,IF(BD!$B$2:$B$138=$C$10,ROW(BD!$B$2:$B$138)-ROW(BD!$B$2)+1),FALSE),ROWS(BD!$1:3)))))","v":""},{"$f":"IF($C$10=\"\",\"\",IF(ROWS(BD!$1:3)>COUNTIFS(BD!$B:$B,$C$10),\"\",INDEX(BD!$H$2:$H$138,SMALL(IF(BD!$B$2:$B$138=$C$10,IF(BD!$B$2:$B$138=$C$10,ROW(BD!$B$2:$B$138)-ROW(BD!$B$2)+1),FALSE),ROWS(BD!$1:3)))))","v":""},null,{"$f":"IF($I$10=\"\",\"\",IF(ROWS(BD!$1:3)>COUNTIFS(BD!$B$1:$B$138,$I$10),\"\",INDEX(BD!$C$2:$C$138,SMALL(IF(BD!$B$2:$B$138=$I$10,IF(BD!$B$2:$B$138=$I$10,ROW(BD!$B$2:$B$138)-ROW(BD!$B$2)+1),FALSE),ROWS(BD!$1:3)))))","v":""},{"$f":"IF($I$10=\"\",\"\",IF(ROWS(BD!$1:3)>COUNTIFS(BD!$B$1:$B$138,$I$10),\"\",INDEX(BD!$E$2:$E$138,SMALL(IF(BD!$B$2:$B$138=$I$10,IF(BD!$B$2:$B$138=$I$10,ROW(BD!$B$2:$B$138)-ROW(BD!$B$2)+1),FALSE),ROWS(BD!$1:3)))))","v":""},{"$f":"IF($I$10=\"\",\"\",IF(ROWS(BD!$1:3)>COUNTIFS(BD!$B$1:$B$138,$I$10),\"\",INDEX(BD!$F$2:$F$138,SMALL(IF(BD!$B$2:$B$138=$I$10,IF(BD!$B$2:$B$138=$I$10,ROW(BD!$B$2:$B$138)-ROW(BD!$B$2)+1),FALSE),ROWS(BD!$1:3)))))","v":""},{"$f":"IF($I$10=\"\",\"\",IF(ROWS(BD!$1:3)>COUNTIFS(BD!$B:$B,$I$10),\"\",INDEX(BD!$G$2:$G$138,SMALL(IF(BD!$B$2:$B$138=$I$10,IF(BD!$B$2:$B$138=$I$10,ROW(BD!$B$2:$B$138)-ROW(BD!$B$2)+1),FALSE),ROWS(BD!$1:3)))))","v":""},{"$f":"IF($I$10=\"\",\"\",IF(ROWS(BD!$1:3)>COUNTIFS(BD!$B:$B,$I$10),\"\",INDEX(BD!$H$2:$H$138,SMALL(IF(BD!$B$2:$B$138=$I$10,IF(BD!$B$2:$B$138=$I$10,ROW(BD!$B$2:$B$138)-ROW(BD!$B$2)+1),FALSE),ROWS(BD!$1:3)))))","v":""},null,{"$f":"IF($O$10=\"\",\"\",IF(ROWS(BD!$1:3)>COUNTIFS(BD!$B$1:$B$138,$O$10),\"\",INDEX(BD!$C$2:$C$138,SMALL(IF(BD!$B$2:$B$138=$O$10,IF(BD!$B$2:$B$138=$O$10,ROW(BD!$B$2:$B$138)-ROW(BD!$B$2)+1),FALSE),ROWS(BD!$1:3)))))","v":""},{"$f":"IF($O$10=\"\",\"\",IF(ROWS(BD!$1:3)>COUNTIFS(BD!$B$1:$B$138,$O$10),\"\",INDEX(BD!$E$2:$E$138,SMALL(IF(BD!$B$2:$B$138=$O$10,IF(BD!$B$2:$B$138=$O$10,ROW(BD!$B$2:$B$138)-ROW(BD!$B$2)+1),FALSE),ROWS(BD!$1:3)))))","v":""},{"$f":"IF($O$10=\"\",\"\",IF(ROWS(BD!$1:3)>COUNTIFS(BD!$B$1:$B$138,$O$10),\"\",INDEX(BD!$F$2:$F$138,SMALL(IF(BD!$B$2:$B$138=$O$10,IF(BD!$B$2:$B$138=$O$10,ROW(BD!$B$2:$B$138)-ROW(BD!$B$2)+1),FALSE),ROWS(BD!$1:3)))))","v":""},{"$f":"IF($O$10=\"\",\"\",IF(ROWS(BD!$1:3)>COUNTIFS(BD!$B:$B,$O$10),\"\",INDEX(BD!$G$2:$G$138,SMALL(IF(BD!$B$2:$B$138=$O$10,IF(BD!$B$2:$B$138=$O$10,ROW(BD!$B$2:$B$138)-ROW(BD!$B$2)+1),FALSE),ROWS(BD!$1:3)))))","v":""},{"$f":"IF($O$10=\"\",\"\",IF(ROWS(BD!$1:3)>COUNTIFS(BD!$B:$B,$O$10),\"\",INDEX(BD!$H$2:$H$138,SMALL(IF(BD!$B$2:$B$138=$O$10,IF(BD!$B$2:$B$138=$O$10,ROW(BD!$B$2:$B$138)-ROW(BD!$B$2)+1),FALSE),ROWS(BD!$1:3)))))","v":""},null,{"$f":"IF($U$10=\"\",\"\",IF(ROWS(BD!$1:3)>COUNTIFS(BD!$B$1:$B$138,$U$10),\"\",INDEX(BD!$C$2:$C$138,SMALL(IF(BD!$B$2:$B$138=$U$10,IF(BD!$B$2:$B$138=$U$10,ROW(BD!$B$2:$B$138)-ROW(BD!$B$2)+1),FALSE),ROWS(BD!$1:3)))))","v":""},{"$f":"IF($U$10=\"\",\"\",IF(ROWS(BD!$1:3)>COUNTIFS(BD!$B$1:$B$138,$U$10),\"\",INDEX(BD!$E$2:$E$138,SMALL(IF(BD!$B$2:$B$138=$U$10,IF(BD!$B$2:$B$138=$U$10,ROW(BD!$B$2:$B$138)-ROW(BD!$B$2)+1),FALSE),ROWS(BD!$1:3)))))","v":""},{"$f":"IF($U$10=\"\",\"\",IF(ROWS(BD!$1:3)>COUNTIFS(BD!$B$1:$B$138,$U$10),\"\",INDEX(BD!$F$2:$F$138,SMALL(IF(BD!$B$2:$B$138=$U$10,IF(BD!$B$2:$B$138=$U$10,ROW(BD!$B$2:$B$138)-ROW(BD!$B$2)+1),FALSE),ROWS(BD!$1:3)))))","v":""},{"$f":"IF($U$10=\"\",\"\",IF(ROWS(BD!$1:3)>COUNTIFS(BD!$B:$B,$U$10),\"\",INDEX(BD!$G$2:$G$138,SMALL(IF(BD!$B$2:$B$138=$U$10,IF(BD!$B$2:$B$138=$U$10,ROW(BD!$B$2:$B$138)-ROW(BD!$B$2)+1),FALSE),ROWS(BD!$1:3)))))","v":""},{"$f":"IF($U$10=\"\",\"\",IF(ROWS(BD!$1:3)>COUNTIFS(BD!$B:$B,$U$10),\"\",INDEX(BD!$H$2:$H$138,SMALL(IF(BD!$B$2:$B$138=$U$10,IF(BD!$B$2:$B$138=$U$10,ROW(BD!$B$2:$B$138)-ROW(BD!$B$2)+1),FALSE),ROWS(BD!$1:3)))))","v":""},null,{"$f":"IF($AA$10=\"\",\"\",IF(ROWS(BD!$1:3)>COUNTIFS(BD!$B$1:$B$138,$AA$10),\"\",INDEX(BD!$C$2:$C$138,SMALL(IF(BD!$B$2:$B$138=$AA$10,IF(BD!$B$2:$B$138=$AA$10,ROW(BD!$B$2:$B$138)-ROW(BD!$B$2)+1),FALSE),ROWS(BD!$1:3)))))","v":""},{"$f":"IF($AA$10=\"\",\"\",IF(ROWS(BD!$1:3)>COUNTIFS(BD!$B$1:$B$138,$AA$10),\"\",INDEX(BD!$E$2:$E$138,SMALL(IF(BD!$B$2:$B$138=$AA$10,IF(BD!$B$2:$B$138=$AA$10,ROW(BD!$B$2:$B$138)-ROW(BD!$B$2)+1),FALSE),ROWS(BD!$1:3)))))","v":""},{"$f":"IF($AA$10=\"\",\"\",IF(ROWS(BD!$1:3)>COUNTIFS(BD!$B$1:$B$138,$AA$10),\"\",INDEX(BD!$F$2:$F$138,SMALL(IF(BD!$B$2:$B$138=$AA$10,IF(BD!$B$2:$B$138=$AA$10,ROW(BD!$B$2:$B$138)-ROW(BD!$B$2)+1),FALSE),ROWS(BD!$1:3)))))","v":""},{"$f":"IF($AA$10=\"\",\"\",IF(ROWS(BD!$1:3)>COUNTIFS(BD!$B:$B,$AA$10),\"\",INDEX(BD!$G$2:$G$138,SMALL(IF(BD!$B$2:$B$138=$AA$10,IF(BD!$B$2:$B$138=$AA$10,ROW(BD!$B$2:$B$138)-ROW(BD!$B$2)+1),FALSE),ROWS(BD!$1:3)))))","v":""},{"$f":"IF($AA$10=\"\",\"\",IF(ROWS(BD!$1:3)>COUNTIFS(BD!$B:$B,$AA$10),\"\",INDEX(BD!$H$2:$H$138,SMALL(IF(BD!$B$2:$B$138=$AA$10,IF(BD!$B$2:$B$138=$AA$10,ROW(BD!$B$2:$B$138)-ROW(BD!$B$2)+1),FALSE),ROWS(BD!$1:3)))))","v":""},null,{"$f":"IF($AG$10=\"\",\"\",IF(ROWS(BD!$1:3)>COUNTIFS(BD!$B$1:$B$138,$AG$10),\"\",INDEX(BD!$C$2:$C$138,SMALL(IF(BD!$B$2:$B$138=$AG$10,IF(BD!$B$2:$B$138=$AG$10,ROW(BD!$B$2:$B$138)-ROW(BD!$B$2)+1),FALSE),ROWS(BD!$1:3)))))","v":""},{"$f":"IF($AG$10=\"\",\"\",IF(ROWS(BD!$1:3)>COUNTIFS(BD!$B$1:$B$138,$AG$10),\"\",INDEX(BD!$E$2:$E$138,SMALL(IF(BD!$B$2:$B$138=$AG$10,IF(BD!$B$2:$B$138=$AG$10,ROW(BD!$B$2:$B$138)-ROW(BD!$B$2)+1),FALSE),ROWS(BD!$1:3)))))","v":""},{"$f":"IF($AG$10=\"\",\"\",IF(ROWS(BD!$1:3)>COUNTIFS(BD!$B$1:$B$138,$AG$10),\"\",INDEX(BD!$F$2:$F$138,SMALL(IF(BD!$B$2:$B$138=$AG$10,IF(BD!$B$2:$B$138=$AG$10,ROW(BD!$B$2:$B$138)-ROW(BD!$B$2)+1),FALSE),ROWS(BD!$1:3)))))","v":""},{"$f":"IF($AG$10=\"\",\"\",IF(ROWS(BD!$1:3)>COUNTIFS(BD!$B:$B,$AG$10),\"\",INDEX(BD!$G$2:$G$138,SMALL(IF(BD!$B$2:$B$138=$AG$10,IF(BD!$B$2:$B$138=$AG$10,ROW(BD!$B$2:$B$138)-ROW(BD!$B$2)+1),FALSE),ROWS(BD!$1:3)))))","v":""},{"$f":"IF($AG$10=\"\",\"\",IF(ROWS(BD!$1:3)>COUNTIFS(BD!$B:$B,$AG$10),\"\",INDEX(BD!$H$2:$H$138,SMALL(IF(BD!$B$2:$B$138=$AG$10,IF(BD!$B$2:$B$138=$AG$10,ROW(BD!$B$2:$B$138)-ROW(BD!$B$2)+1),FALSE),ROWS(BD!$1:3)))))","v":""},null,{"$f":"IF($AM$10=\"\",\"\",IF(ROWS(BD!$1:3)>COUNTIFS(BD!$B$1:$B$138,$AM$10),\"\",INDEX(BD!$C$2:$C$138,SMALL(IF(BD!$B$2:$B$138=$AM$10,IF(BD!$B$2:$B$138=$AM$10,ROW(BD!$B$2:$B$138)-ROW(BD!$B$2)+1),FALSE),ROWS(BD!$1:3)))))","v":""},{"$f":"IF($AM$10=\"\",\"\",IF(ROWS(BD!$1:3)>COUNTIFS(BD!$B$1:$B$138,$AM$10),\"\",INDEX(BD!$E$2:$E$138,SMALL(IF(BD!$B$2:$B$138=$AM$10,IF(BD!$B$2:$B$138=$AM$10,ROW(BD!$B$2:$B$138)-ROW(BD!$B$2)+1),FALSE),ROWS(BD!$1:3)))))","v":""},{"$f":"IF($AM$10=\"\",\"\",IF(ROWS(BD!$1:3)>COUNTIFS(BD!$B$1:$B$138,$AM$10),\"\",INDEX(BD!$F$2:$F$138,SMALL(IF(BD!$B$2:$B$138=$AM$10,IF(BD!$B$2:$B$138=$AM$10,ROW(BD!$B$2:$B$138)-ROW(BD!$B$2)+1),FALSE),ROWS(BD!$1:3)))))","v":""},{"$f":"IF($AM$10=\"\",\"\",IF(ROWS(BD!$1:3)>COUNTIFS(BD!$B:$B,$AM$10),\"\",INDEX(BD!$G$2:$G$138,SMALL(IF(BD!$B$2:$B$138=$AM$10,IF(BD!$B$2:$B$138=$AM$10,ROW(BD!$B$2:$B$138)-ROW(BD!$B$2)+1),FALSE),ROWS(BD!$1:3)))))","v":""},{"$f":"IF($AM$10=\"\",\"\",IF(ROWS(BD!$1:3)>COUNTIFS(BD!$B:$B,$AM$10),\"\",INDEX(BD!$H$2:$H$138,SMALL(IF(BD!$B$2:$B$138=$AM$10,IF(BD!$B$2:$B$138=$AM$10,ROW(BD!$B$2:$B$138)-ROW(BD!$B$2)+1),FALSE),ROWS(BD!$1:3)))))","v":""}]
[null,null,{"$f":"IF($C$10=\"\",\"\",IF(ROWS(BD!$1:4)>COUNTIFS(BD!$B$1:$B$138,$C$10),\"\",INDEX(BD!$C$2:$C$138,SMALL(IF(BD!$B$2:$B$138=$C$10,IF(BD!$B$2:$B$138=$C$10,ROW(BD!$B$2:$B$138)-ROW(BD!$B$2)+1),FALSE),ROWS(BD!$1:4)))))","v":""},{"$f":"IF($C$10=\"\",\"\",IF(ROWS(BD!$1:4)>COUNTIFS(BD!$B$1:$B$138,$C$10),\"\",INDEX(BD!$E$2:$E$138,SMALL(IF(BD!$B$2:$B$138=$C$10,IF(BD!$B$2:$B$138=$C$10,ROW(BD!$B$2:$B$138)-ROW(BD!$B$2)+1),FALSE),ROWS(BD!$1:4)))))","v":""},{"$f":"IF($C$10=\"\",\"\",IF(ROWS(BD!$1:4)>COUNTIFS(BD!$B$1:$B$138,$C$10),\"\",INDEX(BD!$F$2:$F$138,SMALL(IF(BD!$B$2:$B$138=$C$10,IF(BD!$B$2:$B$138=$C$10,ROW(BD!$B$2:$B$138)-ROW(BD!$B$2)+1),FALSE),ROWS(BD!$1:4)))))","v":""},{"$f":"IF($C$10=\"\",\"\",IF(ROWS(BD!$1:4)>COUNTIFS(BD!$B:$B,$C$10),\"\",INDEX(BD!$G$2:$G$138,SMALL(IF(BD!$B$2:$B$138=$C$10,IF(BD!$B$2:$B$138=$C$10,ROW(BD!$B$2:$B$138)-ROW(BD!$B$2)+1),FALSE),ROWS(BD!$1:4)))))","v":""},{"$f":"IF($C$10=\"\",\"\",IF(ROWS(BD!$1:4)>COUNTIFS(BD!$B:$B,$C$10),\"\",INDEX(BD!$H$2:$H$138,SMALL(IF(BD!$B$2:$B$138=$C$10,IF(BD!$B$2:$B$138=$C$10,ROW(BD!$B$2:$B$138)-ROW(BD!$B$2)+1),FALSE),ROWS(BD!$1:4)))))","v":""},null,{"$f":"IF($I$10=\"\",\"\",IF(ROWS(BD!$1:4)>COUNTIFS(BD!$B$1:$B$138,$I$10),\"\",INDEX(BD!$C$2:$C$138,SMALL(IF(BD!$B$2:$B$138=$I$10,IF(BD!$B$2:$B$138=$I$10,ROW(BD!$B$2:$B$138)-ROW(BD!$B$2)+1),FALSE),ROWS(BD!$1:4)))))","v":""},{"$f":"IF($I$10=\"\",\"\",IF(ROWS(BD!$1:4)>COUNTIFS(BD!$B$1:$B$138,$I$10),\"\",INDEX(BD!$E$2:$E$138,SMALL(IF(BD!$B$2:$B$138=$I$10,IF(BD!$B$2:$B$138=$I$10,ROW(BD!$B$2:$B$138)-ROW(BD!$B$2)+1),FALSE),ROWS(BD!$1:4)))))","v":""},{"$f":"IF($I$10=\"\",\"\",IF(ROWS(BD!$1:4)>COUNTIFS(BD!$B$1:$B$138,$I$10),\"\",INDEX(BD!$F$2:$F$138,SMALL(IF(BD!$B$2:$B$138=$I$10,IF(BD!$B$2:$B$138=$I$10,ROW(BD!$B$2:$B$138)-ROW(BD!$B$2)+1),FALSE),ROWS(BD!$1:4)))))","v":""},{"$f":"IF($I$10=\"\",\"\",IF(ROWS(BD!$1:4)>COUNTIFS(BD!$B:$B,$I$10),\"\",INDEX(BD!$G$2:$G$138,SMALL(IF(BD!$B$2:$B$138=$I$10,IF(BD!$B$2:$B$138=$I$10,ROW(BD!$B$2:$B$138)-ROW(BD!$B$2)+1),FALSE),ROWS(BD!$1:4)))))","v":""},{"$f":"IF($I$10=\"\",\"\",IF(ROWS(BD!$1:4)>COUNTIFS(BD!$B:$B,$I$10),\"\",INDEX(BD!$H$2:$H$138,SMALL(IF(BD!$B$2:$B$138=$I$10,IF(BD!$B$2:$B$138=$I$10,ROW(BD!$B$2:$B$138)-ROW(BD!$B$2)+1),FALSE),ROWS(BD!$1:4)))))","v":""},null,{"$f":"IF($O$10=\"\",\"\",IF(ROWS(BD!$1:4)>COUNTIFS(BD!$B$1:$B$138,$O$10),\"\",INDEX(BD!$C$2:$C$138,SMALL(IF(BD!$B$2:$B$138=$O$10,IF(BD!$B$2:$B$138=$O$10,ROW(BD!$B$2:$B$138)-ROW(BD!$B$2)+1),FALSE),ROWS(BD!$1:4)))))","v":""},{"$f":"IF($O$10=\"\",\"\",IF(ROWS(BD!$1:4)>COUNTIFS(BD!$B$1:$B$138,$O$10),\"\",INDEX(BD!$E$2:$E$138,SMALL(IF(BD!$B$2:$B$138=$O$10,IF(BD!$B$2:$B$138=$O$10,ROW(BD!$B$2:$B$138)-ROW(BD!$B$2)+1),FALSE),ROWS(BD!$1:4)))))","v":""},{"$f":"IF($O$10=\"\",\"\",IF(ROWS(BD!$1:4)>COUNTIFS(BD!$B$1:$B$138,$O$10),\"\",INDEX(BD!$F$2:$F$138,SMALL(IF(BD!$B$2:$B$138=$O$10,IF(BD!$B$2:$B$138=$O$10,ROW(BD!$B$2:$B$138)-ROW(BD!$B$2)+1),FALSE),ROWS(BD!$1:4)))))","v":""},{"$f":"IF($O$10=\"\",\"\",IF(ROWS(BD!$1:4)>COUNTIFS(BD!$B:$B,$O$10),\"\",INDEX(BD!$G$2:$G$138,SMALL(IF(BD!$B$2:$B$138=$O$10,IF(BD!$B$2:$B$138=$O$10,ROW(BD!$B$2:$B$138)-ROW(BD!$B$2)+1),FALSE),ROWS(BD!$1:4)))))","v":""},{"$f":"IF($O$10=\"\",\"\",IF(ROWS(BD!$1:4)>COUNTIFS(BD!$B:$B,$O$10),\"\",INDEX(BD!$H$2:$H$138,SMALL(IF(BD!$B$2:$B$138=$O$10,IF(BD!$B$2:$B$138=$O$10,ROW(BD!$B$2:$B$138)-ROW(BD!$B$2)+1),FALSE),ROWS(BD!$1:4)))))","v":""},null,{"$f":"IF($U$10=\"\",\"\",IF(ROWS(BD!$1:4)>COUNTIFS(BD!$B$1:$B$138,$U$10),\"\",INDEX(BD!$C$2:$C$138,SMALL(IF(BD!$B$2:$B$138=$U$10,IF(BD!$B$2:$B$138=$U$10,ROW(BD!$B$2:$B$138)-ROW(BD!$B$2)+1),FALSE),ROWS(BD!$1:4)))))","v":""},{"$f":"IF($U$10=\"\",\"\",IF(ROWS(BD!$1:4)>COUNTIFS(BD!$B$1:$B$138,$U$10),\"\",INDEX(BD!$E$2:$E$138,SMALL(IF(BD!$B$2:$B$138=$U$10,IF(BD!$B$2:$B$138=$U$10,ROW(BD!$B$2:$B$138)-ROW(BD!$B$2)+1),FALSE),ROWS(BD!$1:4)))))","v":""},{"$f":"IF($U$10=\"\",\"\",IF(ROWS(BD!$1:4)>COUNTIFS(BD!$B$1:$B$138,$U$10),\"\",INDEX(BD!$F$2:$F$138,SMALL(IF(BD!$B$2:$B$138=$U$10,IF(BD!$B$2:$B$138=$U$10,ROW(BD!$B$2:$B$138)-ROW(BD!$B$2)+1),FALSE),ROWS(BD!$1:4)))))","v":""},{"$f":"IF($U$10=\"\",\"\",IF(ROWS(BD!$1:4)>COUNTIFS(BD!$B:$B,$U$10),\"\",INDEX(BD!$G$2:$G$138,SMALL(IF(BD!$B$2:$B$138=$U$10,IF(BD!$B$2:$B$138=$U$10,ROW(BD!$B$2:$B$138)-ROW(BD!$B$2)+1),FALSE),ROWS(BD!$1:4)))))","v":""},{"$f":"IF($U$10=\"\",\"\",IF(ROWS(BD!$1:4)>COUNTIFS(BD!$B:$B,$U$10),\"\",INDEX(BD!$H$2:$H$138,SMALL(IF(BD!$B$2:$B$138=$U$10,IF(BD!$B$2:$B$138=$U$10,ROW(BD!$B$2:$B$138)-ROW(BD!$B$2)+1),FALSE),ROWS(BD!$1:4)))))","v":""},null,{"$f":"IF($AA$10=\"\",\"\",IF(ROWS(BD!$1:4)>COUNTIFS(BD!$B$1:$B$138,$AA$10),\"\",INDEX(BD!$C$2:$C$138,SMALL(IF(BD!$B$2:$B$138=$AA$10,IF(BD!$B$2:$B$138=$AA$10,ROW(BD!$B$2:$B$138)-ROW(BD!$B$2)+1),FALSE),ROWS(BD!$1:4)))))","v":""},{"$f":"IF($AA$10=\"\",\"\",IF(ROWS(BD!$1:4)>COUNTIFS(BD!$B$1:$B$138,$AA$10),\"\",INDEX(BD!$E$2:$E$138,SMALL(IF(BD!$B$2:$B$138=$AA$10,IF(BD!$B$2:$B$138=$AA$10,ROW(BD!$B$2:$B$138)-ROW(BD!$B$2)+1),FALSE),ROWS(BD!$1:4)))))","v":""},{"$f":"IF($AA$10=\"\",\"\",IF(ROWS(BD!$1:4)>COUNTIFS(BD!$B$1:$B$138,$AA$10),\"\",INDEX(BD!$F$2:$F$138,SMALL(IF(BD!$B$2:$B$138=$AA$10,IF(BD!$B$2:$B$138=$AA$10,ROW(BD!$B$2:$B$138)-ROW(BD!$B$2)+1),FALSE),ROWS(BD!$1:4)))))","v":""},{"$f":"IF($AA$10=\"\",\"\",IF(ROWS(BD!$1:4)>COUNTIFS(BD!$B:$B,$AA$10),\"\",INDEX(BD!$G$2:$G$138,SMALL(IF(BD!$B$2:$B$138=$AA$10,IF(BD!$B$2:$B$138=$AA$10,ROW(BD!$B$2:$B$138)-ROW(BD!$B$2)+1),FALSE),ROWS(BD!$1:4)))))","v":""},{"$f":"IF($AA$10=\"\",\"\",IF(ROWS(BD!$1:4)>COUNTIFS(BD!$B:$B,$AA$10),\"\",INDEX(BD!$H$2:$H$138,SMALL(IF(BD!$B$2:$B$138=$AA$10,IF(BD!$B$2:$B$138=$AA$10,ROW(BD!$B$2:$B$138)-ROW(BD!$B$2)+1),FALSE),ROWS(BD!$1:4)))))","v":""},null,{"$f":"IF($AG$10=\"\",\"\",IF(ROWS(BD!$1:4)>COUNTIFS(BD!$B$1:$B$138,$AG$10),\"\",INDEX(BD!$C$2:$C$138,SMALL(IF(BD!$B$2:$B$138=$AG$10,IF(BD!$B$2:$B$138=$AG$10,ROW(BD!$B$2:$B$138)-ROW(BD!$B$2)+1),FALSE),ROWS(BD!$1:4)))))","v":""},{"$f":"IF($AG$10=\"\",\"\",IF(ROWS(BD!$1:4)>COUNTIFS(BD!$B$1:$B$138,$AG$10),\"\",INDEX(BD!$E$2:$E$138,SMALL(IF(BD!$B$2:$B$138=$AG$10,IF(BD!$B$2:$B$138=$AG$10,ROW(BD!$B$2:$B$138)-ROW(BD!$B$2)+1),FALSE),ROWS(BD!$1:4)))))","v":""},{"$f":"IF($AG$10=\"\",\"\",IF(ROWS(BD!$1:4)>COUNTIFS(BD!$B$1:$B$138,$AG$10),\"\",INDEX(BD!$F$2:$F$138,SMALL(IF(BD!$B$2:$B$138=$AG$10,IF(BD!$B$2:$B$138=$AG$10,ROW(BD!$B$2:$B$138)-ROW(BD!$B$2)+1),FALSE),ROWS(BD!$1:4)))))","v":""},{"$f":"IF($AG$10=\"\",\"\",IF(ROWS(BD!$1:4)>COUNTIFS(BD!$B:$B,$AG$10),\"\",INDEX(BD!$G$2:$G$138,SMALL(IF(BD!$B$2:$B$138=$AG$10,IF(BD!$B$2:$B$138=$AG$10,ROW(BD!$B$2:$B$138)-ROW(BD!$B$2)+1),FALSE),ROWS(BD!$1:4)))))","v":""},{"$f":"IF($AG$10=\"\",\"\",IF(ROWS(BD!$1:4)>COUNTIFS(BD!$B:$B,$AG$10),\"\",INDEX(BD!$H$2:$H$138,SMALL(IF(BD!$B$2:$B$138=$AG$10,IF(BD!$B$2:$B$138=$AG$10,ROW(BD!$B$2:$B$138)-ROW(BD!$B$2)+1),FALSE),ROWS(BD!$1:4)))))","v":""},null,{"$f":"IF($AM$10=\"\",\"\",IF(ROWS(BD!$1:4)>COUNTIFS(BD!$B$1:$B$138,$AM$10),\"\",INDEX(BD!$C$2:$C$138,SMALL(IF(BD!$B$2:$B$138=$AM$10,IF(BD!$B$2:$B$138=$AM$10,ROW(BD!$B$2:$B$138)-ROW(BD!$B$2)+1),FALSE),ROWS(BD!$1:4)))))","v":""},{"$f":"IF($AM$10=\"\",\"\",IF(ROWS(BD!$1:4)>COUNTIFS(BD!$B$1:$B$138,$AM$10),\"\",INDEX(BD!$E$2:$E$138,SMALL(IF(BD!$B$2:$B$138=$AM$10,IF(BD!$B$2:$B$138=$AM$10,ROW(BD!$B$2:$B$138)-ROW(BD!$B$2)+1),FALSE),ROWS(BD!$1:4)))))","v":""},{"$f":"IF($AM$10=\"\",\"\",IF(ROWS(BD!$1:4)>COUNTIFS(BD!$B$1:$B$138,$AM$10),\"\",INDEX(BD!$F$2:$F$138,SMALL(IF(BD!$B$2:$B$138=$AM$10,IF(BD!$B$2:$B$138=$AM$10,ROW(BD!$B$2:$B$138)-ROW(BD!$B$2)+1),FALSE),ROWS(BD!$1:4)))))","v":""},{"$f":"IF($AM$10=\"\",\"\",IF(ROWS(BD!$1:4)>COUNTIFS(BD!$B:$B,$AM$10),\"\",INDEX(BD!$G$2:$G$138,SMALL(IF(BD!$B$2:$B$138=$AM$10,IF(BD!$B$2:$B$138=$AM$10,ROW(BD!$B$2:$B$138)-ROW(BD!$B$2)+1),FALSE),ROWS(BD!$1:4)))))","v":""},{"$f":"IF($AM$10=\"\",\"\",IF(ROWS(BD!$1:4)>COUNTIFS(BD!$B:$B,$AM$10),\"\",INDEX(BD!$H$2:$H$138,SMALL(IF(BD!$B$2:$B$138=$AM$10,IF(BD!$B$2:$B$138=$AM$10,ROW(BD!$B$2:$B$138)-ROW(BD!$B$2)+1),FALSE),ROWS(BD!$1:4)))))","v":""}]
[null,null,{"$f":"IF($C$10=\"\",\"\",IF(ROWS(BD!$1:5)>COUNTIFS(BD!$B$1:$B$138,$C$10),\"\",INDEX(BD!$C$2:$C$138,SMALL(IF(BD!$B$2:$B$138=$C$10,IF(BD!$B$2:$B$138=$C$10,ROW(BD!$B$2:$B$138)-ROW(BD!$B$2)+1),FALSE),ROWS(BD!$1:5)))))","v":""},{"$f":"IF($C$10=\"\",\"\",IF(ROWS(BD!$1:5)>COUNTIFS(BD!$B$1:$B$138,$C$10),\"\",INDEX(BD!$E$2:$E$138,SMALL(IF(BD!$B$2:$B$138=$C$10,IF(BD!$B$2:$B$138=$C$10,ROW(BD!$B$2:$B$138)-ROW(BD!$B$2)+1),FALSE),ROWS(BD!$1:5)))))","v":""},{"$f":"IF($C$10=\"\",\"\",IF(ROWS(BD!$1:5)>COUNTIFS(BD!$B$1:$B$138,$C$10),\"\",INDEX(BD!$F$2:$F$138,SMALL(IF(BD!$B$2:$B$138=$C$10,IF(BD!$B$2:$B$138=$C$10,ROW(BD!$B$2:$B$138)-ROW(BD!$B$2)+1),FALSE),ROWS(BD!$1:5)))))","v":""},{"$f":"IF($C$10=\"\",\"\",IF(ROWS(BD!$1:5)>COUNTIFS(BD!$B:$B,$C$10),\"\",INDEX(BD!$G$2:$G$138,SMALL(IF(BD!$B$2:$B$138=$C$10,IF(BD!$B$2:$B$138=$C$10,ROW(BD!$B$2:$B$138)-ROW(BD!$B$2)+1),FALSE),ROWS(BD!$1:5)))))","v":""},{"$f":"IF($C$10=\"\",\"\",IF(ROWS(BD!$1:5)>COUNTIFS(BD!$B:$B,$C$10),\"\",INDEX(BD!$H$2:$H$138,SMALL(IF(BD!$B$2:$B$138=$C$10,IF(BD!$B$2:$B$138=$C$10,ROW(BD!$B$2:$B$138)-ROW(BD!$B$2)+1),FALSE),ROWS(BD!$1:5)))))","v":""},null,{"$f":"IF($I$10=\"\",\"\",IF(ROWS(BD!$1:5)>COUNTIFS(BD!$B$1:$B$138,$I$10),\"\",INDEX(BD!$C$2:$C$138,SMALL(IF(BD!$B$2:$B$138=$I$10,IF(BD!$B$2:$B$138=$I$10,ROW(BD!$B$2:$B$138)-ROW(BD!$B$2)+1),FALSE),ROWS(BD!$1:5)))))","v":""},{"$f":"IF($I$10=\"\",\"\",IF(ROWS(BD!$1:5)>COUNTIFS(BD!$B$1:$B$138,$I$10),\"\",INDEX(BD!$E$2:$E$138,SMALL(IF(BD!$B$2:$B$138=$I$10,IF(BD!$B$2:$B$138=$I$10,ROW(BD!$B$2:$B$138)-ROW(BD!$B$2)+1),FALSE),ROWS(BD!$1:5)))))","v":""},{"$f":"IF($I$10=\"\",\"\",IF(ROWS(BD!$1:5)>COUNTIFS(BD!$B$1:$B$138,$I$10),\"\",INDEX(BD!$F$2:$F$138,SMALL(IF(BD!$B$2:$B$138=$I$10,IF(BD!$B$2:$B$138=$I$10,ROW(BD!$B$2:$B$138)-ROW(BD!$B$2)+1),FALSE),ROWS(BD!$1:5)))))","v":""},{"$f":"IF($I$10=\"\",\"\",IF(ROWS(BD!$1:5)>COUNTIFS(BD!$B:$B,$I$10),\"\",INDEX(BD!$G$2:$G$138,SMALL(IF(BD!$B$2:$B$138=$I$10,IF(BD!$B$2:$B$138=$I$10,ROW(BD!$B$2:$B$138)-ROW(BD!$B$2)+1),FALSE),ROWS(BD!$1:5)))))","v":""},{"$f":"IF($I$10=\"\",\"\",IF(ROWS(BD!$1:5)>COUNTIFS(BD!$B:$B,$I$10),\"\",INDEX(BD!$H$2:$H$138,SMALL(IF(BD!$B$2:$B$138=$I$10,IF(BD!$B$2:$B$138=$I$10,ROW(BD!$B$2:$B$138)-ROW(BD!$B$2)+1),FALSE),ROWS(BD!$1:5)))))","v":""},null,{"$f":"IF($O$10=\"\",\"\",IF(ROWS(BD!$1:5)>COUNTIFS(BD!$B$1:$B$138,$O$10),\"\",INDEX(BD!$C$2:$C$138,SMALL(IF(BD!$B$2:$B$138=$O$10,IF(BD!$B$2:$B$138=$O$10,ROW(BD!$B$2:$B$138)-ROW(BD!$B$2)+1),FALSE),ROWS(BD!$1:5)))))","v":""},{"$f":"IF($O$10=\"\",\"\",IF(ROWS(BD!$1:5)>COUNTIFS(BD!$B$1:$B$138,$O$10),\"\",INDEX(BD!$E$2:$E$138,SMALL(IF(BD!$B$2:$B$138=$O$10,IF(BD!$B$2:$B$138=$O$10,ROW(BD!$B$2:$B$138)-ROW(BD!$B$2)+1),FALSE),ROWS(BD!$1:5)))))","v":""},{"$f":"IF($O$10=\"\",\"\",IF(ROWS(BD!$1:5)>COUNTIFS(BD!$B$1:$B$138,$O$10),\"\",INDEX(BD!$F$2:$F$138,SMALL(IF(BD!$B$2:$B$138=$O$10,IF(BD!$B$2:$B$138=$O$10,ROW(BD!$B$2:$B$138)-ROW(BD!$B$2)+1),FALSE),ROWS(BD!$1:5)))))","v":""},{"$f":"IF($O$10=\"\",\"\",IF(ROWS(BD!$1:5)>COUNTIFS(BD!$B:$B,$O$10),\"\",INDEX(BD!$G$2:$G$138,SMALL(IF(BD!$B$2:$B$138=$O$10,IF(BD!$B$2:$B$138=$O$10,ROW(BD!$B$2:$B$138)-ROW(BD!$B$2)+1),FALSE),ROWS(BD!$1:5)))))","v":""},{"$f":"IF($O$10=\"\",\"\",IF(ROWS(BD!$1:5)>COUNTIFS(BD!$B:$B,$O$10),\"\",INDEX(BD!$H$2:$H$138,SMALL(IF(BD!$B$2:$B$138=$O$10,IF(BD!$B$2:$B$138=$O$10,ROW(BD!$B$2:$B$138)-ROW(BD!$B$2)+1),FALSE),ROWS(BD!$1:5)))))","v":""},null,{"$f":"IF($U$10=\"\",\"\",IF(ROWS(BD!$1:5)>COUNTIFS(BD!$B$1:$B$138,$U$10),\"\",INDEX(BD!$C$2:$C$138,SMALL(IF(BD!$B$2:$B$138=$U$10,IF(BD!$B$2:$B$138=$U$10,ROW(BD!$B$2:$B$138)-ROW(BD!$B$2)+1),FALSE),ROWS(BD!$1:5)))))","v":""},{"$f":"IF($U$10=\"\",\"\",IF(ROWS(BD!$1:5)>COUNTIFS(BD!$B$1:$B$138,$U$10),\"\",INDEX(BD!$E$2:$E$138,SMALL(IF(BD!$B$2:$B$138=$U$10,IF(BD!$B$2:$B$138=$U$10,ROW(BD!$B$2:$B$138)-ROW(BD!$B$2)+1),FALSE),ROWS(BD!$1:5)))))","v":""},{"$f":"IF($U$10=\"\",\"\",IF(ROWS(BD!$1:5)>COUNTIFS(BD!$B$1:$B$138,$U$10),\"\",INDEX(BD!$F$2:$F$138,SMALL(IF(BD!$B$2:$B$138=$U$10,IF(BD!$B$2:$B$138=$U$10,ROW(BD!$B$2:$B$138)-ROW(BD!$B$2)+1),FALSE),ROWS(BD!$1:5)))))","v":""},{"$f":"IF($U$10=\"\",\"\",IF(ROWS(BD!$1:5)>COUNTIFS(BD!$B:$B,$U$10),\"\",INDEX(BD!$G$2:$G$138,SMALL(IF(BD!$B$2:$B$138=$U$10,IF(BD!$B$2:$B$138=$U$10,ROW(BD!$B$2:$B$138)-ROW(BD!$B$2)+1),FALSE),ROWS(BD!$1:5)))))","v":""},{"$f":"IF($U$10=\"\",\"\",IF(ROWS(BD!$1:5)>COUNTIFS(BD!$B:$B,$U$10),\"\",INDEX(BD!$H$2:$H$138,SMALL(IF(BD!$B$2:$B$138=$U$10,IF(BD!$B$2:$B$138=$U$10,ROW(BD!$B$2:$B$138)-ROW(BD!$B$2)+1),FALSE),ROWS(BD!$1:5)))))","v":""},null,{"$f":"IF($AA$10=\"\",\"\",IF(ROWS(BD!$1:5)>COUNTIFS(BD!$B$1:$B$138,$AA$10),\"\",INDEX(BD!$C$2:$C$138,SMALL(IF(BD!$B$2:$B$138=$AA$10,IF(BD!$B$2:$B$138=$AA$10,ROW(BD!$B$2:$B$138)-ROW(BD!$B$2)+1),FALSE),ROWS(BD!$1:5)))))","v":""},{"$f":"IF($AA$10=\"\",\"\",IF(ROWS(BD!$1:5)>COUNTIFS(BD!$B$1:$B$138,$AA$10),\"\",INDEX(BD!$E$2:$E$138,SMALL(IF(BD!$B$2:$B$138=$AA$10,IF(BD!$B$2:$B$138=$AA$10,ROW(BD!$B$2:$B$138)-ROW(BD!$B$2)+1),FALSE),ROWS(BD!$1:5)))))","v":""},{"$f":"IF($AA$10=\"\",\"\",IF(ROWS(BD!$1:5)>COUNTIFS(BD!$B$1:$B$138,$AA$10),\"\",INDEX(BD!$F$2:$F$138,SMALL(IF(BD!$B$2:$B$138=$AA$10,IF(BD!$B$2:$B$138=$AA$10,ROW(BD!$B$2:$B$138)-ROW(BD!$B$2)+1),FALSE),ROWS(BD!$1:5)))))","v":""},{"$f":"IF($AA$10=\"\",\"\",IF(ROWS(BD!$1:5)>COUNTIFS(BD!$B:$B,$AA$10),\"\",INDEX(BD!$G$2:$G$138,SMALL(IF(BD!$B$2:$B$138=$AA$10,IF(BD!$B$2:$B$138=$AA$10,ROW(BD!$B$2:$B$138)-ROW(BD!$B$2)+1),FALSE),ROWS(BD!$1:5)))))","v":""},{"$f":"IF($AA$10=\"\",\"\",IF(ROWS(BD!$1:5)>COUNTIFS(BD!$B:$B,$AA$10),\"\",INDEX(BD!$H$2:$H$138,SMALL(IF(BD!$B$2:$B$138=$AA$10,IF(BD!$B$2:$B$138=$AA$10,ROW(BD!$B$2:$B$138)-ROW(BD!$B$2)+1),FALSE),ROWS(BD!$1:5)))))","v":""},null,{"$f":"IF($AG$10=\"\",\"\",IF(ROWS(BD!$1:5)>COUNTIFS(BD!$B$1:$B$138,$AG$10),\"\",INDEX(BD!$C$2:$C$138,SMALL(IF(BD!$B$2:$B$138=$AG$10,IF(BD!$B$2:$B$138=$AG$10,ROW(BD!$B$2:$B$138)-ROW(BD!$B$2)+1),FALSE),ROWS(BD!$1:5)))))","v":""},{"$f":"IF($AG$10=\"\",\"\",IF(ROWS(BD!$1:5)>COUNTIFS(BD!$B$1:$B$138,$AG$10),\"\",INDEX(BD!$E$2:$E$138,SMALL(IF(BD!$B$2:$B$138=$AG$10,IF(BD!$B$2:$B$138=$AG$10,ROW(BD!$B$2:$B$138)-ROW(BD!$B$2)+1),FALSE),ROWS(BD!$1:5)))))","v":""},{"$f":"IF($AG$10=\"\",\"\",IF(ROWS(BD!$1:5)>COUNTIFS(BD!$B$1:$B$138,$AG$10),\"\",INDEX(BD!$F$2:$F$138,SMALL(IF(BD!$B$2:$B$138=$AG$10,IF(BD!$B$2:$B$138=$AG$10,ROW(BD!$B$2:$B$138)-ROW(BD!$B$2)+1),FALSE),ROWS(BD!$1:5)))))","v":""},{"$f":"IF($AG$10=\"\",\"\",IF(ROWS(BD!$1:5)>COUNTIFS(BD!$B:$B,$AG$10),\"\",INDEX(BD!$G$2:$G$138,SMALL(IF(BD!$B$2:$B$138=$AG$10,IF(BD!$B$2:$B$138=$AG$10,ROW(BD!$B$2:$B$138)-ROW(BD!$B$2)+1),FALSE),ROWS(BD!$1:5)))))","v":""},{"$f":"IF($AG$10=\"\",\"\",IF(ROWS(BD!$1:5)>COUNTIFS(BD!$B:$B,$AG$10),\"\",INDEX(BD!$H$2:$H$138,SMALL(IF(BD!$B$2:$B$138=$AG$10,IF(BD!$B$2:$B$138=$AG$10,ROW(BD!$B$2:$B$138)-ROW(BD!$B$2)+1),FALSE),ROWS(BD!$1:5)))))","v":""},null,{"$f":"IF($AM$10=\"\",\"\",IF(ROWS(BD!$1:5)>COUNTIFS(BD!$B$1:$B$138,$AM$10),\"\",INDEX(BD!$C$2:$C$138,SMALL(IF(BD!$B$2:$B$138=$AM$10,IF(BD!$B$2:$B$138=$AM$10,ROW(BD!$B$2:$B$138)-ROW(BD!$B$2)+1),FALSE),ROWS(BD!$1:5)))))","v":""},{"$f":"IF($AM$10=\"\",\"\",IF(ROWS(BD!$1:5)>COUNTIFS(BD!$B$1:$B$138,$AM$10),\"\",INDEX(BD!$E$2:$E$138,SMALL(IF(BD!$B$2:$B$138=$AM$10,IF(BD!$B$2:$B$138=$AM$10,ROW(BD!$B$2:$B$138)-ROW(BD!$B$2)+1),FALSE),ROWS(BD!$1:5)))))","v":""},{"$f":"IF($AM$10=\"\",\"\",IF(ROWS(BD!$1:5)>COUNTIFS(BD!$B$1:$B$138,$AM$10),\"\",INDEX(BD!$F$2:$F$138,SMALL(IF(BD!$B$2:$B$138=$AM$10,IF(BD!$B$2:$B$138=$AM$10,ROW(BD!$B$2:$B$138)-ROW(BD!$B$2)+1),FALSE),ROWS(BD!$1:5)))))","v":""},{"$f":"IF($AM$10=\"\",\"\",IF(ROWS(BD!$1:5)>COUNTIFS(BD!$B:$B,$AM$10),\"\",INDEX(BD!$G$2:$G$138,SMALL(IF(BD!$B$2:$B$138=$AM$10,IF(BD!$B$2:$B$138=$AM$10,ROW(BD!$B$2:$B$138)-ROW(BD!$B$2)+1),FALSE),ROWS(BD!$1:5)))))","v":""},{"$f":"IF($AM$10=\"\",\"\",IF(ROWS(BD!$1:5)>COUNTIFS(BD!$B:$B,$AM$10),\"\",INDEX(BD!$H$2:$H$138,SMALL(IF(BD!$B$2:$B$138=$AM$10,IF(BD!$B$2:$B$138=$AM$10,ROW(BD!$B$2:$B$138)-ROW(BD!$B$2)+1),FALSE),ROWS(BD!$1:5)))))","v":""}]
[null,null,{"$f":"IF($C$10=\"\",\"\",IF(ROWS(BD!$1:6)>COUNTIFS(BD!$B$1:$B$138,$C$10),\"\",INDEX(BD!$C$2:$C$138,SMALL(IF(BD!$B$2:$B$138=$C$10,IF(BD!$B$2:$B$138=$C$10,ROW(BD!$B$2:$B$138)-ROW(BD!$B$2)+1),FALSE),ROWS(BD!$1:6)))))","v":""},{"$f":"IF($C$10=\"\",\"\",IF(ROWS(BD!$1:6)>COUNTIFS(BD!$B$1:$B$138,$C$10),\"\",INDEX(BD!$E$2:$E$138,SMALL(IF(BD!$B$2:$B$138=$C$10,IF(BD!$B$2:$B$138=$C$10,ROW(BD!$B$2:$B$138)-ROW(BD!$B$2)+1),FALSE),ROWS(BD!$1:6)))))","v":""},{"$f":"IF($C$10=\"\",\"\",IF(ROWS(BD!$1:6)>COUNTIFS(BD!$B$1:$B$138,$C$10),\"\",INDEX(BD!$F$2:$F$138,SMALL(IF(BD!$B$2:$B$138=$C$10,IF(BD!$B$2:$B$138=$C$10,ROW(BD!$B$2:$B$138)-ROW(BD!$B$2)+1),FALSE),ROWS(BD!$1:6)))))","v":""},{"$f":"IF($C$10=\"\",\"\",IF(ROWS(BD!$1:6)>COUNTIFS(BD!$B:$B,$C$10),\"\",INDEX(BD!$G$2:$G$138,SMALL(IF(BD!$B$2:$B$138=$C$10,IF(BD!$B$2:$B$138=$C$10,ROW(BD!$B$2:$B$138)-ROW(BD!$B$2)+1),FALSE),ROWS(BD!$1:6)))))","v":""},{"$f":"IF($C$10=\"\",\"\",IF(ROWS(BD!$1:6)>COUNTIFS(BD!$B:$B,$C$10),\"\",INDEX(BD!$H$2:$H$138,SMALL(IF(BD!$B$2:$B$138=$C$10,IF(BD!$B$2:$B$138=$C$10,ROW(BD!$B$2:$B$138)-ROW(BD!$B$2)+1),FALSE),ROWS(BD!$1:6)))))","v":""},null,{"$f":"IF($I$10=\"\",\"\",IF(ROWS(BD!$1:6)>COUNTIFS(BD!$B$1:$B$138,$I$10),\"\",INDEX(BD!$C$2:$C$138,SMALL(IF(BD!$B$2:$B$138=$I$10,IF(BD!$B$2:$B$138=$I$10,ROW(BD!$B$2:$B$138)-ROW(BD!$B$2)+1),FALSE),ROWS(BD!$1:6)))))","v":""},{"$f":"IF($I$10=\"\",\"\",IF(ROWS(BD!$1:6)>COUNTIFS(BD!$B$1:$B$138,$I$10),\"\",INDEX(BD!$E$2:$E$138,SMALL(IF(BD!$B$2:$B$138=$I$10,IF(BD!$B$2:$B$138=$I$10,ROW(BD!$B$2:$B$138)-ROW(BD!$B$2)+1),FALSE),ROWS(BD!$1:6)))))","v":""},{"$f":"IF($I$10=\"\",\"\",IF(ROWS(BD!$1:6)>COUNTIFS(BD!$B$1:$B$138,$I$10),\"\",INDEX(BD!$F$2:$F$138,SMALL(IF(BD!$B$2:$B$138=$I$10,IF(BD!$B$2:$B$138=$I$10,ROW(BD!$B$2:$B$138)-ROW(BD!$B$2)+1),FALSE),ROWS(BD!$1:6)))))","v":""},{"$f":"IF($I$10=\"\",\"\",IF(ROWS(BD!$1:6)>COUNTIFS(BD!$B:$B,$I$10),\"\",INDEX(BD!$G$2:$G$138,SMALL(IF(BD!$B$2:$B$138=$I$10,IF(BD!$B$2:$B$138=$I$10,ROW(BD!$B$2:$B$138)-ROW(BD!$B$2)+1),FALSE),ROWS(BD!$1:6)))))","v":""},{"$f":"IF($I$10=\"\",\"\",IF(ROWS(BD!$1:6)>COUNTIFS(BD!$B:$B,$I$10),\"\",INDEX(BD!$H$2:$H$138,SMALL(IF(BD!$B$2:$B$138=$I$10,IF(BD!$B$2:$B$138=$I$10,ROW(BD!$B$2:$B$138)-ROW(BD!$B$2)+1),FALSE),ROWS(BD!$1:6)))))","v":""},null,{"$f":"IF($O$10=\"\",\"\",IF(ROWS(BD!$1:6)>COUNTIFS(BD!$B$1:$B$138,$O$10),\"\",INDEX(BD!$C$2:$C$138,SMALL(IF(BD!$B$2:$B$138=$O$10,IF(BD!$B$2:$B$138=$O$10,ROW(BD!$B$2:$B$138)-ROW(BD!$B$2)+1),FALSE),ROWS(BD!$1:6)))))","v":""},{"$f":"IF($O$10=\"\",\"\",IF(ROWS(BD!$1:6)>COUNTIFS(BD!$B$1:$B$138,$O$10),\"\",INDEX(BD!$E$2:$E$138,SMALL(IF(BD!$B$2:$B$138=$O$10,IF(BD!$B$2:$B$138=$O$10,ROW(BD!$B$2:$B$138)-ROW(BD!$B$2)+1),FALSE),ROWS(BD!$1:6)))))","v":""},{"$f":"IF($O$10=\"\",\"\",IF(ROWS(BD!$1:6)>COUNTIFS(BD!$B$1:$B$138,$O$10),\"\",INDEX(BD!$F$2:$F$138,SMALL(IF(BD!$B$2:$B$138=$O$10,IF(BD!$B$2:$B$138=$O$10,ROW(BD!$B$2:$B$138)-ROW(BD!$B$2)+1),FALSE),ROWS(BD!$1:6)))))","v":""},{"$f":"IF($O$10=\"\",\"\",IF(ROWS(BD!$1:6)>COUNTIFS(BD!$B:$B,$O$10),\"\",INDEX(BD!$G$2:$G$138,SMALL(IF(BD!$B$2:$B$138=$O$10,IF(BD!$B$2:$B$138=$O$10,ROW(BD!$B$2:$B$138)-ROW(BD!$B$2)+1),FALSE),ROWS(BD!$1:6)))))","v":""},{"$f":"IF($O$10=\"\",\"\",IF(ROWS(BD!$1:6)>COUNTIFS(BD!$B:$B,$O$10),\"\",INDEX(BD!$H$2:$H$138,SMALL(IF(BD!$B$2:$B$138=$O$10,IF(BD!$B$2:$B$138=$O$10,ROW(BD!$B$2:$B$138)-ROW(BD!$B$2)+1),FALSE),ROWS(BD!$1:6)))))","v":""},null,{"$f":"IF($U$10=\"\",\"\",IF(ROWS(BD!$1:6)>COUNTIFS(BD!$B$1:$B$138,$U$10),\"\",INDEX(BD!$C$2:$C$138,SMALL(IF(BD!$B$2:$B$138=$U$10,IF(BD!$B$2:$B$138=$U$10,ROW(BD!$B$2:$B$138)-ROW(BD!$B$2)+1),FALSE),ROWS(BD!$1:6)))))","v":""},{"$f":"IF($U$10=\"\",\"\",IF(ROWS(BD!$1:6)>COUNTIFS(BD!$B$1:$B$138,$U$10),\"\",INDEX(BD!$E$2:$E$138,SMALL(IF(BD!$B$2:$B$138=$U$10,IF(BD!$B$2:$B$138=$U$10,ROW(BD!$B$2:$B$138)-ROW(BD!$B$2)+1),FALSE),ROWS(BD!$1:6)))))","v":""},{"$f":"IF($U$10=\"\",\"\",IF(ROWS(BD!$1:6)>COUNTIFS(BD!$B$1:$B$138,$U$10),\"\",INDEX(BD!$F$2:$F$138,SMALL(IF(BD!$B$2:$B$138=$U$10,IF(BD!$B$2:$B$138=$U$10,ROW(BD!$B$2:$B$138)-ROW(BD!$B$2)+1),FALSE),ROWS(BD!$1:6)))))","v":""},{"$f":"IF($U$10=\"\",\"\",IF(ROWS(BD!$1:6)>COUNTIFS(BD!$B:$B,$U$10),\"\",INDEX(BD!$G$2:$G$138,SMALL(IF(BD!$B$2:$B$138=$U$10,IF(BD!$B$2:$B$138=$U$10,ROW(BD!$B$2:$B$138)-ROW(BD!$B$2)+1),FALSE),ROWS(BD!$1:6)))))","v":""},{"$f":"IF($U$10=\"\",\"\",IF(ROWS(BD!$1:6)>COUNTIFS(BD!$B:$B,$U$10),\"\",INDEX(BD!$H$2:$H$138,SMALL(IF(BD!$B$2:$B$138=$U$10,IF(BD!$B$2:$B$138=$U$10,ROW(BD!$B$2:$B$138)-ROW(BD!$B$2)+1),FALSE),ROWS(BD!$1:6)))))","v":""},null,{"$f":"IF($AA$10=\"\",\"\",IF(ROWS(BD!$1:6)>COUNTIFS(BD!$B$1:$B$138,$AA$10),\"\",INDEX(BD!$C$2:$C$138,SMALL(IF(BD!$B$2:$B$138=$AA$10,IF(BD!$B$2:$B$138=$AA$10,ROW(BD!$B$2:$B$138)-ROW(BD!$B$2)+1),FALSE),ROWS(BD!$1:6)))))","v":""},{"$f":"IF($AA$10=\"\",\"\",IF(ROWS(BD!$1:6)>COUNTIFS(BD!$B$1:$B$138,$AA$10),\"\",INDEX(BD!$E$2:$E$138,SMALL(IF(BD!$B$2:$B$138=$AA$10,IF(BD!$B$2:$B$138=$AA$10,ROW(BD!$B$2:$B$138)-ROW(BD!$B$2)+1),FALSE),ROWS(BD!$1:6)))))","v":""},{"$f":"IF($AA$10=\"\",\"\",IF(ROWS(BD!$1:6)>COUNTIFS(BD!$B$1:$B$138,$AA$10),\"\",INDEX(BD!$F$2:$F$138,SMALL(IF(BD!$B$2:$B$138=$AA$10,IF(BD!$B$2:$B$138=$AA$10,ROW(BD!$B$2:$B$138)-ROW(BD!$B$2)+1),FALSE),ROWS(BD!$1:6)))))","v":""},{"$f":"IF($AA$10=\"\",\"\",IF(ROWS(BD!$1:6)>COUNTIFS(BD!$B:$B,$AA$10),\"\",INDEX(BD!$G$2:$G$138,SMALL(IF(BD!$B$2:$B$138=$AA$10,IF(BD!$B$2:$B$138=$AA$10,ROW(BD!$B$2:$B$138)-ROW(BD!$B$2)+1),FALSE),ROWS(BD!$1:6)))))","v":""},{"$f":"IF($AA$10=\"\",\"\",IF(ROWS(BD!$1:6)>COUNTIFS(BD!$B:$B,$AA$10),\"\",INDEX(BD!$H$2:$H$138,SMALL(IF(BD!$B$2:$B$138=$AA$10,IF(BD!$B$2:$B$138=$AA$10,ROW(BD!$B$2:$B$138)-ROW(BD!$B$2)+1),FALSE),ROWS(BD!$1:6)))))","v":""},null,{"$f":"IF($AG$10=\"\",\"\",IF(ROWS(BD!$1:6)>COUNTIFS(BD!$B$1:$B$138,$AG$10),\"\",INDEX(BD!$C$2:$C$138,SMALL(IF(BD!$B$2:$B$138=$AG$10,IF(BD!$B$2:$B$138=$AG$10,ROW(BD!$B$2:$B$138)-ROW(BD!$B$2)+1),FALSE),ROWS(BD!$1:6)))))","v":""},{"$f":"IF($AG$10=\"\",\"\",IF(ROWS(BD!$1:6)>COUNTIFS(BD!$B$1:$B$138,$AG$10),\"\",INDEX(BD!$E$2:$E$138,SMALL(IF(BD!$B$2:$B$138=$AG$10,IF(BD!$B$2:$B$138=$AG$10,ROW(BD!$B$2:$B$138)-ROW(BD!$B$2)+1),FALSE),ROWS(BD!$1:6)))))","v":""},{"$f":"IF($AG$10=\"\",\"\",IF(ROWS(BD!$1:6)>COUNTIFS(BD!$B$1:$B$138,$AG$10),\"\",INDEX(BD!$F$2:$F$138,SMALL(IF(BD!$B$2:$B$138=$AG$10,IF(BD!$B$2:$B$138=$AG$10,ROW(BD!$B$2:$B$138)-ROW(BD!$B$2)+1),FALSE),ROWS(BD!$1:6)))))","v":""},{"$f":"IF($AG$10=\"\",\"\",IF(ROWS(BD!$1:6)>COUNTIFS(BD!$B:$B,$AG$10),\"\",INDEX(BD!$G$2:$G$138,SMALL(IF(BD!$B$2:$B$138=$AG$10,IF(BD!$B$2:$B$138=$AG$10,ROW(BD!$B$2:$B$138)-ROW(BD!$B$2)+1),FALSE),ROWS(BD!$1:6)))))","v":""},{"$f":"IF($AG$10=\"\",\"\",IF(ROWS(BD!$1:6)>COUNTIFS(BD!$B:$B,$AG$10),\"\",INDEX(BD!$H$2:$H$138,SMALL(IF(BD!$B$2:$B$138=$AG$10,IF(BD!$B$2:$B$138=$AG$10,ROW(BD!$B$2:$B$138)-ROW(BD!$B$2)+1),FALSE),ROWS(BD!$1:6)))))","v":""},null,{"$f":"IF($AM$10=\"\",\"\",IF(ROWS(BD!$1:6)>COUNTIFS(BD!$B$1:$B$138,$AM$10),\"\",INDEX(BD!$C$2:$C$138,SMALL(IF(BD!$B$2:$B$138=$AM$10,IF(BD!$B$2:$B$138=$AM$10,ROW(BD!$B$2:$B$138)-ROW(BD!$B$2)+1),FALSE),ROWS(BD!$1:6)))))","v":""},{"$f":"IF($AM$10=\"\",\"\",IF(ROWS(BD!$1:6)>COUNTIFS(BD!$B$1:$B$138,$AM$10),\"\",INDEX(BD!$E$2:$E$138,SMALL(IF(BD!$B$2:$B$138=$AM$10,IF(BD!$B$2:$B$138=$AM$10,ROW(BD!$B$2:$B$138)-ROW(BD!$B$2)+1),FALSE),ROWS(BD!$1:6)))))","v":""},{"$f":"IF($AM$10=\"\",\"\",IF(ROWS(BD!$1:6)>COUNTIFS(BD!$B$1:$B$138,$AM$10),\"\",INDEX(BD!$F$2:$F$138,SMALL(IF(BD!$B$2:$B$138=$AM$10,IF(BD!$B$2:$B$138=$AM$10,ROW(BD!$B$2:$B$138)-ROW(BD!$B$2)+1),FALSE),ROWS(BD!$1:6)))))","v":""},{"$f":"IF($AM$10=\"\",\"\",IF(ROWS(BD!$1:6)>COUNTIFS(BD!$B:$B,$AM$10),\"\",INDEX(BD!$G$2:$G$138,SMALL(IF(BD!$B$2:$B$138=$AM$10,IF(BD!$B$2:$B$138=$AM$10,ROW(BD!$B$2:$B$138)-ROW(BD!$B$2)+1),FALSE),ROWS(BD!$1:6)))))","v":""},{"$f":"IF($AM$10=\"\",\"\",IF(ROWS(BD!$1:6)>COUNTIFS(BD!$B:$B,$AM$10),\"\",INDEX(BD!$H$2:$H$138,SMALL(IF(BD!$B$2:$B$138=$AM$10,IF(BD!$B$2:$B$138=$AM$10,ROW(BD!$B$2:$B$138)-ROW(BD!$B$2)+1),FALSE),ROWS(BD!$1:6)))))","v":""}]
[null,null,{"$f":"IF($C$10=\"\",\"\",IF(ROWS(BD!$1:7)>COUNTIFS(BD!$B$1:$B$138,$C$10),\"\",INDEX(BD!$C$2:$C$138,SMALL(IF(BD!$B$2:$B$138=$C$10,IF(BD!$B$2:$B$138=$C$10,ROW(BD!$B$2:$B$138)-ROW(BD!$B$2)+1),FALSE),ROWS(BD!$1:7)))))","v":""},{"$f":"IF($C$10=\"\",\"\",IF(ROWS(BD!$1:7)>COUNTIFS(BD!$B$1:$B$138,$C$10),\"\",INDEX(BD!$E$2:$E$138,SMALL(IF(BD!$B$2:$B$138=$C$10,IF(BD!$B$2:$B$138=$C$10,ROW(BD!$B$2:$B$138)-ROW(BD!$B$2)+1),FALSE),ROWS(BD!$1:7)))))","v":""},{"$f":"IF($C$10=\"\",\"\",IF(ROWS(BD!$1:7)>COUNTIFS(BD!$B$1:$B$138,$C$10),\"\",INDEX(BD!$F$2:$F$138,SMALL(IF(BD!$B$2:$B$138=$C$10,IF(BD!$B$2:$B$138=$C$10,ROW(BD!$B$2:$B$138)-ROW(BD!$B$2)+1),FALSE),ROWS(BD!$1:7)))))","v":""},{"$f":"IF($C$10=\"\",\"\",IF(ROWS(BD!$1:7)>COUNTIFS(BD!$B:$B,$C$10),\"\",INDEX(BD!$G$2:$G$138,SMALL(IF(BD!$B$2:$B$138=$C$10,IF(BD!$B$2:$B$138=$C$10,ROW(BD!$B$2:$B$138)-ROW(BD!$B$2)+1),FALSE),ROWS(BD!$1:7)))))","v":""},{"$f":"IF($C$10=\"\",\"\",IF(ROWS(BD!$1:7)>COUNTIFS(BD!$B:$B,$C$10),\"\",INDEX(BD!$H$2:$H$138,SMALL(IF(BD!$B$2:$B$138=$C$10,IF(BD!$B$2:$B$138=$C$10,ROW(BD!$B$2:$B$138)-ROW(BD!$B$2)+1),FALSE),ROWS(BD!$1:7)))))","v":""},null,{"$f":"IF($I$10=\"\",\"\",IF(ROWS(BD!$1:7)>COUNTIFS(BD!$B$1:$B$138,$I$10),\"\",INDEX(BD!$C$2:$C$138,SMALL(IF(BD!$B$2:$B$138=$I$10,IF(BD!$B$2:$B$138=$I$10,ROW(BD!$B$2:$B$138)-ROW(BD!$B$2)+1),FALSE),ROWS(BD!$1:7)))))","v":""},{"$f":"IF($I$10=\"\",\"\",IF(ROWS(BD!$1:7)>COUNTIFS(BD!$B$1:$B$138,$I$10),\"\",INDEX(BD!$E$2:$E$138,SMALL(IF(BD!$B$2:$B$138=$I$10,IF(BD!$B$2:$B$138=$I$10,ROW(BD!$B$2:$B$138)-ROW(BD!$B$2)+1),FALSE),ROWS(BD!$1:7)))))","v":""},{"$f":"IF($I$10=\"\",\"\",IF(ROWS(BD!$1:7)>COUNTIFS(BD!$B$1:$B$138,$I$10),\"\",INDEX(BD!$F$2:$F$138,SMALL(IF(BD!$B$2:$B$138=$I$10,IF(BD!$B$2:$B$138=$I$10,ROW(BD!$B$2:$B$138)-ROW(BD!$B$2)+1),FALSE),ROWS(BD!$1:7)))))","v":""},{"$f":"IF($I$10=\"\",\"\",IF(ROWS(BD!$1:7)>COUNTIFS(BD!$B:$B,$I$10),\"\",INDEX(BD!$G$2:$G$138,SMALL(IF(BD!$B$2:$B$138=$I$10,IF(BD!$B$2:$B$138=$I$10,ROW(BD!$B$2:$B$138)-ROW(BD!$B$2)+1),FALSE),ROWS(BD!$1:7)))))","v":""},{"$f":"IF($I$10=\"\",\"\",IF(ROWS(BD!$1:7)>COUNTIFS(BD!$B:$B,$I$10),\"\",INDEX(BD!$H$2:$H$138,SMALL(IF(BD!$B$2:$B$138=$I$10,IF(BD!$B$2:$B$138=$I$10,ROW(BD!$B$2:$B$138)-ROW(BD!$B$2)+1),FALSE),ROWS(BD!$1:7)))))","v":""},null,{"$f":"IF($O$10=\"\",\"\",IF(ROWS(BD!$1:7)>COUNTIFS(BD!$B$1:$B$138,$O$10),\"\",INDEX(BD!$C$2:$C$138,SMALL(IF(BD!$B$2:$B$138=$O$10,IF(BD!$B$2:$B$138=$O$10,ROW(BD!$B$2:$B$138)-ROW(BD!$B$2)+1),FALSE),ROWS(BD!$1:7)))))","v":""},{"$f":"IF($O$10=\"\",\"\",IF(ROWS(BD!$1:7)>COUNTIFS(BD!$B$1:$B$138,$O$10),\"\",INDEX(BD!$E$2:$E$138,SMALL(IF(BD!$B$2:$B$138=$O$10,IF(BD!$B$2:$B$138=$O$10,ROW(BD!$B$2:$B$138)-ROW(BD!$B$2)+1),FALSE),ROWS(BD!$1:7)))))","v":""},{"$f":"IF($O$10=\"\",\"\",IF(ROWS(BD!$1:7)>COUNTIFS(BD!$B$1:$B$138,$O$10),\"\",INDEX(BD!$F$2:$F$138,SMALL(IF(BD!$B$2:$B$138=$O$10,IF(BD!$B$2:$B$138=$O$10,ROW(BD!$B$2:$B$138)-ROW(BD!$B$2)+1),FALSE),ROWS(BD!$1:7)))))","v":""},{"$f":"IF($O$10=\"\",\"\",IF(ROWS(BD!$1:7)>COUNTIFS(BD!$B:$B,$O$10),\"\",INDEX(BD!$G$2:$G$138,SMALL(IF(BD!$B$2:$B$138=$O$10,IF(BD!$B$2:$B$138=$O$10,ROW(BD!$B$2:$B$138)-ROW(BD!$B$2)+1),FALSE),ROWS(BD!$1:7)))))","v":""},{"$f":"IF($O$10=\"\",\"\",IF(ROWS(BD!$1:7)>COUNTIFS(BD!$B:$B,$O$10),\"\",INDEX(BD!$H$2:$H$138,SMALL(IF(BD!$B$2:$B$138=$O$10,IF(BD!$B$2:$B$138=$O$10,ROW(BD!$B$2:$B$138)-ROW(BD!$B$2)+1),FALSE),ROWS(BD!$1:7)))))","v":""},null,{"$f":"IF($U$10=\"\",\"\",IF(ROWS(BD!$1:7)>COUNTIFS(BD!$B$1:$B$138,$U$10),\"\",INDEX(BD!$C$2:$C$138,SMALL(IF(BD!$B$2:$B$138=$U$10,IF(BD!$B$2:$B$138=$U$10,ROW(BD!$B$2:$B$138)-ROW(BD!$B$2)+1),FALSE),ROWS(BD!$1:7)))))","v":""},{"$f":"IF($U$10=\"\",\"\",IF(ROWS(BD!$1:7)>COUNTIFS(BD!$B$1:$B$138,$U$10),\"\",INDEX(BD!$E$2:$E$138,SMALL(IF(BD!$B$2:$B$138=$U$10,IF(BD!$B$2:$B$138=$U$10,ROW(BD!$B$2:$B$138)-ROW(BD!$B$2)+1),FALSE),ROWS(BD!$1:7)))))","v":""},{"$f":"IF($U$10=\"\",\"\",IF(ROWS(BD!$1:7)>COUNTIFS(BD!$B$1:$B$138,$U$10),\"\",INDEX(BD!$F$2:$F$138,SMALL(IF(BD!$B$2:$B$138=$U$10,IF(BD!$B$2:$B$138=$U$10,ROW(BD!$B$2:$B$138)-ROW(BD!$B$2)+1),FALSE),ROWS(BD!$1:7)))))","v":""},{"$f":"IF($U$10=\"\",\"\",IF(ROWS(BD!$1:7)>COUNTIFS(BD!$B:$B,$U$10),\"\",INDEX(BD!$G$2:$G$138,SMALL(IF(BD!$B$2:$B$138=$U$10,IF(BD!$B$2:$B$138=$U$10,ROW(BD!$B$2:$B$138)-ROW(BD!$B$2)+1),FALSE),ROWS(BD!$1:7)))))","v":""},{"$f":"IF($U$10=\"\",\"\",IF(ROWS(BD!$1:7)>COUNTIFS(BD!$B:$B,$U$10),\"\",INDEX(BD!$H$2:$H$138,SMALL(IF(BD!$B$2:$B$138=$U$10,IF(BD!$B$2:$B$138=$U$10,ROW(BD!$B$2:$B$138)-ROW(BD!$B$2)+1),FALSE),ROWS(BD!$1:7)))))","v":""},null,{"$f":"IF($AA$10=\"\",\"\",IF(ROWS(BD!$1:7)>COUNTIFS(BD!$B$1:$B$138,$AA$10),\"\",INDEX(BD!$C$2:$C$138,SMALL(IF(BD!$B$2:$B$138=$AA$10,IF(BD!$B$2:$B$138=$AA$10,ROW(BD!$B$2:$B$138)-ROW(BD!$B$2)+1),FALSE),ROWS(BD!$1:7)))))","v":""},{"$f":"IF($AA$10=\"\",\"\",IF(ROWS(BD!$1:7)>COUNTIFS(BD!$B$1:$B$138,$AA$10),\"\",INDEX(BD!$E$2:$E$138,SMALL(IF(BD!$B$2:$B$138=$AA$10,IF(BD!$B$2:$B$138=$AA$10,ROW(BD!$B$2:$B$138)-ROW(BD!$B$2)+1),FALSE),ROWS(BD!$1:7)))))","v":""},{"$f":"IF($AA$10=\"\",\"\",IF(ROWS(BD!$1:7)>COUNTIFS(BD!$B$1:$B$138,$AA$10),\"\",INDEX(BD!$F$2:$F$138,SMALL(IF(BD!$B$2:$B$138=$AA$10,IF(BD!$B$2:$B$138=$AA$10,ROW(BD!$B$2:$B$138)-ROW(BD!$B$2)+1),FALSE),ROWS(BD!$1:7)))))","v":""},{"$f":"IF($AA$10=\"\",\"\",IF(ROWS(BD!$1:7)>COUNTIFS(BD!$B:$B,$AA$10),\"\",INDEX(BD!$G$2:$G$138,SMALL(IF(BD!$B$2:$B$138=$AA$10,IF(BD!$B$2:$B$138=$AA$10,ROW(BD!$B$2:$B$138)-ROW(BD!$B$2)+1),FALSE),ROWS(BD!$1:7)))))","v":""},{"$f":"IF($AA$10=\"\",\"\",IF(ROWS(BD!$1:7)>COUNTIFS(BD!$B:$B,$AA$10),\"\",INDEX(BD!$H$2:$H$138,SMALL(IF(BD!$B$2:$B$138=$AA$10,IF(BD!$B$2:$B$138=$AA$10,ROW(BD!$B$2:$B$138)-ROW(BD!$B$2)+1),FALSE),ROWS(BD!$1:7)))))","v":""},null,{"$f":"IF($AG$10=\"\",\"\",IF(ROWS(BD!$1:7)>COUNTIFS(BD!$B$1:$B$138,$AG$10),\"\",INDEX(BD!$C$2:$C$138,SMALL(IF(BD!$B$2:$B$138=$AG$10,IF(BD!$B$2:$B$138=$AG$10,ROW(BD!$B$2:$B$138)-ROW(BD!$B$2)+1),FALSE),ROWS(BD!$1:7)))))","v":""},{"$f":"IF($AG$10=\"\",\"\",IF(ROWS(BD!$1:7)>COUNTIFS(BD!$B$1:$B$138,$AG$10),\"\",INDEX(BD!$E$2:$E$138,SMALL(IF(BD!$B$2:$B$138=$AG$10,IF(BD!$B$2:$B$138=$AG$10,ROW(BD!$B$2:$B$138)-ROW(BD!$B$2)+1),FALSE),ROWS(BD!$1:7)))))","v":""},{"$f":"IF($AG$10=\"\",\"\",IF(ROWS(BD!$1:7)>COUNTIFS(BD!$B$1:$B$138,$AG$10),\"\",INDEX(BD!$F$2:$F$138,SMALL(IF(BD!$B$2:$B$138=$AG$10,IF(BD!$B$2:$B$138=$AG$10,ROW(BD!$B$2:$B$138)-ROW(BD!$B$2)+1),FALSE),ROWS(BD!$1:7)))))","v":""},{"$f":"IF($AG$10=\"\",\"\",IF(ROWS(BD!$1:7)>COUNTIFS(BD!$B:$B,$AG$10),\"\",INDEX(BD!$G$2:$G$138,SMALL(IF(BD!$B$2:$B$138=$AG$10,IF(BD!$B$2:$B$138=$AG$10,ROW(BD!$B$2:$B$138)-ROW(BD!$B$2)+1),FALSE),ROWS(BD!$1:7)))))","v":""},{"$f":"IF($AG$10=\"\",\"\",IF(ROWS(BD!$1:7)>COUNTIFS(BD!$B:$B,$AG$10),\"\",INDEX(BD!$H$2:$H$138,SMALL(IF(BD!$B$2:$B$138=$AG$10,IF(BD!$B$2:$B$138=$AG$10,ROW(BD!$B$2:$B$138)-ROW(BD!$B$2)+1),FALSE),ROWS(BD!$1:7)))))","v":""},null,{"$f":"IF($AM$10=\"\",\"\",IF(ROWS(BD!$1:7)>COUNTIFS(BD!$B$1:$B$138,$AM$10),\"\",INDEX(BD!$C$2:$C$138,SMALL(IF(BD!$B$2:$B$138=$AM$10,IF(BD!$B$2:$B$138=$AM$10,ROW(BD!$B$2:$B$138)-ROW(BD!$B$2)+1),FALSE),ROWS(BD!$1:7)))))","v":""},{"$f":"IF($AM$10=\"\",\"\",IF(ROWS(BD!$1:7)>COUNTIFS(BD!$B$1:$B$138,$AM$10),\"\",INDEX(BD!$E$2:$E$138,SMALL(IF(BD!$B$2:$B$138=$AM$10,IF(BD!$B$2:$B$138=$AM$10,ROW(BD!$B$2:$B$138)-ROW(BD!$B$2)+1),FALSE),ROWS(BD!$1:7)))))","v":""},{"$f":"IF($AM$10=\"\",\"\",IF(ROWS(BD!$1:7)>COUNTIFS(BD!$B$1:$B$138,$AM$10),\"\",INDEX(BD!$F$2:$F$138,SMALL(IF(BD!$B$2:$B$138=$AM$10,IF(BD!$B$2:$B$138=$AM$10,ROW(BD!$B$2:$B$138)-ROW(BD!$B$2)+1),FALSE),ROWS(BD!$1:7)))))","v":""},{"$f":"IF($AM$10=\"\",\"\",IF(ROWS(BD!$1:7)>COUNTIFS(BD!$B:$B,$AM$10),\"\",INDEX(BD!$G$2:$G$138,SMALL(IF(BD!$B$2:$B$138=$AM$10,IF(BD!$B$2:$B$138=$AM$10,ROW(BD!$B$2:$B$138)-ROW(BD!$B$2)+1),FALSE),ROWS(BD!$1:7)))))","v":""},{"$f":"IF($AM$10=\"\",\"\",IF(ROWS(BD!$1:7)>COUNTIFS(BD!$B:$B,$AM$10),\"\",INDEX(BD!$H$2:$H$138,SMALL(IF(BD!$B$2:$B$138=$AM$10,IF(BD!$B$2:$B$138=$AM$10,ROW(BD!$B$2:$B$138)-ROW(BD!$B$2)+1),FALSE),ROWS(BD!$1:7)))))","v":""}]
[null,null,{"$f":"IF($C$10=\"\",\"\",IF(ROWS(BD!$1:8)>COUNTIFS(BD!$B$1:$B$138,$C$10),\"\",INDEX(BD!$C$2:$C$138,SMALL(IF(BD!$B$2:$B$138=$C$10,IF(BD!$B$2:$B$138=$C$10,ROW(BD!$B$2:$B$138)-ROW(BD!$B$2)+1),FALSE),ROWS(BD!$1:8)))))","v":""},{"$f":"IF($C$10=\"\",\"\",IF(ROWS(BD!$1:8)>COUNTIFS(BD!$B$1:$B$138,$C$10),\"\",INDEX(BD!$E$2:$E$138,SMALL(IF(BD!$B$2:$B$138=$C$10,IF(BD!$B$2:$B$138=$C$10,ROW(BD!$B$2:$B$138)-ROW(BD!$B$2)+1),FALSE),ROWS(BD!$1:8)))))","v":""},{"$f":"IF($C$10=\"\",\"\",IF(ROWS(BD!$1:8)>COUNTIFS(BD!$B$1:$B$138,$C$10),\"\",INDEX(BD!$F$2:$F$138,SMALL(IF(BD!$B$2:$B$138=$C$10,IF(BD!$B$2:$B$138=$C$10,ROW(BD!$B$2:$B$138)-ROW(BD!$B$2)+1),FALSE),ROWS(BD!$1:8)))))","v":""},{"$f":"IF($C$10=\"\",\"\",IF(ROWS(BD!$1:8)>COUNTIFS(BD!$B:$B,$C$10),\"\",INDEX(BD!$G$2:$G$138,SMALL(IF(BD!$B$2:$B$138=$C$10,IF(BD!$B$2:$B$138=$C$10,ROW(BD!$B$2:$B$138)-ROW(BD!$B$2)+1),FALSE),ROWS(BD!$1:8)))))","v":""},{"$f":"IF($C$10=\"\",\"\",IF(ROWS(BD!$1:8)>COUNTIFS(BD!$B:$B,$C$10),\"\",INDEX(BD!$H$2:$H$138,SMALL(IF(BD!$B$2:$B$138=$C$10,IF(BD!$B$2:$B$138=$C$10,ROW(BD!$B$2:$B$138)-ROW(BD!$B$2)+1),FALSE),ROWS(BD!$1:8)))))","v":""},null,{"$f":"IF($I$10=\"\",\"\",IF(ROWS(BD!$1:8)>COUNTIFS(BD!$B$1:$B$138,$I$10),\"\",INDEX(BD!$C$2:$C$138,SMALL(IF(BD!$B$2:$B$138=$I$10,IF(BD!$B$2:$B$138=$I$10,ROW(BD!$B$2:$B$138)-ROW(BD!$B$2)+1),FALSE),ROWS(BD!$1:8)))))","v":""},{"$f":"IF($I$10=\"\",\"\",IF(ROWS(BD!$1:8)>COUNTIFS(BD!$B$1:$B$138,$I$10),\"\",INDEX(BD!$E$2:$E$138,SMALL(IF(BD!$B$2:$B$138=$I$10,IF(BD!$B$2:$B$138=$I$10,ROW(BD!$B$2:$B$138)-ROW(BD!$B$2)+1),FALSE),ROWS(BD!$1:8)))))","v":""},{"$f":"IF($I$10=\"\",\"\",IF(ROWS(BD!$1:8)>COUNTIFS(BD!$B$1:$B$138,$I$10),\"\",INDEX(BD!$F$2:$F$138,SMALL(IF(BD!$B$2:$B$138=$I$10,IF(BD!$B$2:$B$138=$I$10,ROW(BD!$B$2:$B$138)-ROW(BD!$B$2)+1),FALSE),ROWS(BD!$1:8)))))","v":""},{"$f":"IF($I$10=\"\",\"\",IF(ROWS(BD!$1:8)>COUNTIFS(BD!$B:$B,$I$10),\"\",INDEX(BD!$G$2:$G$138,SMALL(IF(BD!$B$2:$B$138=$I$10,IF(BD!$B$2:$B$138=$I$10,ROW(BD!$B$2:$B$138)-ROW(BD!$B$2)+1),FALSE),ROWS(BD!$1:8)))))","v":""},{"$f":"IF($I$10=\"\",\"\",IF(ROWS(BD!$1:8)>COUNTIFS(BD!$B:$B,$I$10),\"\",INDEX(BD!$H$2:$H$138,SMALL(IF(BD!$B$2:$B$138=$I$10,IF(BD!$B$2:$B$138=$I$10,ROW(BD!$B$2:$B$138)-ROW(BD!$B$2)+1),FALSE),ROWS(BD!$1:8)))))","v":""},null,{"$f":"IF($O$10=\"\",\"\",IF(ROWS(BD!$1:8)>COUNTIFS(BD!$B$1:$B$138,$O$10),\"\",INDEX(BD!$C$2:$C$138,SMALL(IF(BD!$B$2:$B$138=$O$10,IF(BD!$B$2:$B$138=$O$10,ROW(BD!$B$2:$B$138)-ROW(BD!$B$2)+1),FALSE),ROWS(BD!$1:8)))))","v":""},{"$f":"IF($O$10=\"\",\"\",IF(ROWS(BD!$1:8)>COUNTIFS(BD!$B$1:$B$138,$O$10),\"\",INDEX(BD!$E$2:$E$138,SMALL(IF(BD!$B$2:$B$138=$O$10,IF(BD!$B$2:$B$138=$O$10,ROW(BD!$B$2:$B$138)-ROW(BD!$B$2)+1),FALSE),ROWS(BD!$1:8)))))","v":""},{"$f":"IF($O$10=\"\",\"\",IF(ROWS(BD!$1:8)>COUNTIFS(BD!$B$1:$B$138,$O$10),\"\",INDEX(BD!$F$2:$F$138,SMALL(IF(BD!$B$2:$B$138=$O$10,IF(BD!$B$2:$B$138=$O$10,ROW(BD!$B$2:$B$138)-ROW(BD!$B$2)+1),FALSE),ROWS(BD!$1:8)))))","v":""},{"$f":"IF($O$10=\"\",\"\",IF(ROWS(BD!$1:8)>COUNTIFS(BD!$B:$B,$O$10),\"\",INDEX(BD!$G$2:$G$138,SMALL(IF(BD!$B$2:$B$138=$O$10,IF(BD!$B$2:$B$138=$O$10,ROW(BD!$B$2:$B$138)-ROW(BD!$B$2)+1),FALSE),ROWS(BD!$1:8)))))","v":""},{"$f":"IF($O$10=\"\",\"\",IF(ROWS(BD!$1:8)>COUNTIFS(BD!$B:$B,$O$10),\"\",INDEX(BD!$H$2:$H$138,SMALL(IF(BD!$B$2:$B$138=$O$10,IF(BD!$B$2:$B$138=$O$10,ROW(BD!$B$2:$B$138)-ROW(BD!$B$2)+1),FALSE),ROWS(BD!$1:8)))))","v":""},null,{"$f":"IF($U$10=\"\",\"\",IF(ROWS(BD!$1:8)>COUNTIFS(BD!$B$1:$B$138,$U$10),\"\",INDEX(BD!$C$2:$C$138,SMALL(IF(BD!$B$2:$B$138=$U$10,IF(BD!$B$2:$B$138=$U$10,ROW(BD!$B$2:$B$138)-ROW(BD!$B$2)+1),FALSE),ROWS(BD!$1:8)))))","v":""},{"$f":"IF($U$10=\"\",\"\",IF(ROWS(BD!$1:8)>COUNTIFS(BD!$B$1:$B$138,$U$10),\"\",INDEX(BD!$E$2:$E$138,SMALL(IF(BD!$B$2:$B$138=$U$10,IF(BD!$B$2:$B$138=$U$10,ROW(BD!$B$2:$B$138)-ROW(BD!$B$2)+1),FALSE),ROWS(BD!$1:8)))))","v":""},{"$f":"IF($U$10=\"\",\"\",IF(ROWS(BD!$1:8)>COUNTIFS(BD!$B$1:$B$138,$U$10),\"\",INDEX(BD!$F$2:$F$138,SMALL(IF(BD!$B$2:$B$138=$U$10,IF(BD!$B$2:$B$138=$U$10,ROW(BD!$B$2:$B$138)-ROW(BD!$B$2)+1),FALSE),ROWS(BD!$1:8)))))","v":""},{"$f":"IF($U$10=\"\",\"\",IF(ROWS(BD!$1:8)>COUNTIFS(BD!$B:$B,$U$10),\"\",INDEX(BD!$G$2:$G$138,SMALL(IF(BD!$B$2:$B$138=$U$10,IF(BD!$B$2:$B$138=$U$10,ROW(BD!$B$2:$B$138)-ROW(BD!$B$2)+1),FALSE),ROWS(BD!$1:8)))))","v":""},{"$f":"IF($U$10=\"\",\"\",IF(ROWS(BD!$1:8)>COUNTIFS(BD!$B:$B,$U$10),\"\",INDEX(BD!$H$2:$H$138,SMALL(IF(BD!$B$2:$B$138=$U$10,IF(BD!$B$2:$B$138=$U$10,ROW(BD!$B$2:$B$138)-ROW(BD!$B$2)+1),FALSE),ROWS(BD!$1:8)))))","v":""},null,{"$f":"IF($AA$10=\"\",\"\",IF(ROWS(BD!$1:8)>COUNTIFS(BD!$B$1:$B$138,$AA$10),\"\",INDEX(BD!$C$2:$C$138,SMALL(IF(BD!$B$2:$B$138=$AA$10,IF(BD!$B$2:$B$138=$AA$10,ROW(BD!$B$2:$B$138)-ROW(BD!$B$2)+1),FALSE),ROWS(BD!$1:8)))))","v":""},{"$f":"IF($AA$10=\"\",\"\",IF(ROWS(BD!$1:8)>COUNTIFS(BD!$B$1:$B$138,$AA$10),\"\",INDEX(BD!$E$2:$E$138,SMALL(IF(BD!$B$2:$B$138=$AA$10,IF(BD!$B$2:$B$138=$AA$10,ROW(BD!$B$2:$B$138)-ROW(BD!$B$2)+1),FALSE),ROWS(BD!$1:8)))))","v":""},{"$f":"IF($AA$10=\"\",\"\",IF(ROWS(BD!$1:8)>COUNTIFS(BD!$B$1:$B$138,$AA$10),\"\",INDEX(BD!$F$2:$F$138,SMALL(IF(BD!$B$2:$B$138=$AA$10,IF(BD!$B$2:$B$138=$AA$10,ROW(BD!$B$2:$B$138)-ROW(BD!$B$2)+1),FALSE),ROWS(BD!$1:8)))))","v":""},{"$f":"IF($AA$10=\"\",\"\",IF(ROWS(BD!$1:8)>COUNTIFS(BD!$B:$B,$AA$10),\"\",INDEX(BD!$G$2:$G$138,SMALL(IF(BD!$B$2:$B$138=$AA$10,IF(BD!$B$2:$B$138=$AA$10,ROW(BD!$B$2:$B$138)-ROW(BD!$B$2)+1),FALSE),ROWS(BD!$1:8)))))","v":""},{"$f":"IF($AA$10=\"\",\"\",IF(ROWS(BD!$1:8)>COUNTIFS(BD!$B:$B,$AA$10),\"\",INDEX(BD!$H$2:$H$138,SMALL(IF(BD!$B$2:$B$138=$AA$10,IF(BD!$B$2:$B$138=$AA$10,ROW(BD!$B$2:$B$138)-ROW(BD!$B$2)+1),FALSE),ROWS(BD!$1:8)))))","v":""},null,{"$f":"IF($AG$10=\"\",\"\",IF(ROWS(BD!$1:8)>COUNTIFS(BD!$B$1:$B$138,$AG$10),\"\",INDEX(BD!$C$2:$C$138,SMALL(IF(BD!$B$2:$B$138=$AG$10,IF(BD!$B$2:$B$138=$AG$10,ROW(BD!$B$2:$B$138)-ROW(BD!$B$2)+1),FALSE),ROWS(BD!$1:8)))))","v":""},{"$f":"IF($AG$10=\"\",\"\",IF(ROWS(BD!$1:8)>COUNTIFS(BD!$B$1:$B$138,$AG$10),\"\",INDEX(BD!$E$2:$E$138,SMALL(IF(BD!$B$2:$B$138=$AG$10,IF(BD!$B$2:$B$138=$AG$10,ROW(BD!$B$2:$B$138)-ROW(BD!$B$2)+1),FALSE),ROWS(BD!$1:8)))))","v":""},{"$f":"IF($AG$10=\"\",\"\",IF(ROWS(BD!$1:8)>COUNTIFS(BD!$B$1:$B$138,$AG$10),\"\",INDEX(BD!$F$2:$F$138,SMALL(IF(BD!$B$2:$B$138=$AG$10,IF(BD!$B$2:$B$138=$AG$10,ROW(BD!$B$2:$B$138)-ROW(BD!$B$2)+1),FALSE),ROWS(BD!$1:8)))))","v":""},{"$f":"IF($AG$10=\"\",\"\",IF(ROWS(BD!$1:8)>COUNTIFS(BD!$B:$B,$AG$10),\"\",INDEX(BD!$G$2:$G$138,SMALL(IF(BD!$B$2:$B$138=$AG$10,IF(BD!$B$2:$B$138=$AG$10,ROW(BD!$B$2:$B$138)-ROW(BD!$B$2)+1),FALSE),ROWS(BD!$1:8)))))","v":""},{"$f":"IF($AG$10=\"\",\"\",IF(ROWS(BD!$1:8)>COUNTIFS(BD!$B:$B,$AG$10),\"\",INDEX(BD!$H$2:$H$138,SMALL(IF(BD!$B$2:$B$138=$AG$10,IF(BD!$B$2:$B$138=$AG$10,ROW(BD!$B$2:$B$138)-ROW(BD!$B$2)+1),FALSE),ROWS(BD!$1:8)))))","v":""},null,{"$f":"IF($AM$10=\"\",\"\",IF(ROWS(BD!$1:8)>COUNTIFS(BD!$B$1:$B$138,$AM$10),\"\",INDEX(BD!$C$2:$C$138,SMALL(IF(BD!$B$2:$B$138=$AM$10,IF(BD!$B$2:$B$138=$AM$10,ROW(BD!$B$2:$B$138)-ROW(BD!$B$2)+1),FALSE),ROWS(BD!$1:8)))))","v":""},{"$f":"IF($AM$10=\"\",\"\",IF(ROWS(BD!$1:8)>COUNTIFS(BD!$B$1:$B$138,$AM$10),\"\",INDEX(BD!$E$2:$E$138,SMALL(IF(BD!$B$2:$B$138=$AM$10,IF(BD!$B$2:$B$138=$AM$10,ROW(BD!$B$2:$B$138)-ROW(BD!$B$2)+1),FALSE),ROWS(BD!$1:8)))))","v":""},{"$f":"IF($AM$10=\"\",\"\",IF(ROWS(BD!$1:8)>COUNTIFS(BD!$B$1:$B$138,$AM$10),\"\",INDEX(BD!$F$2:$F$138,SMALL(IF(BD!$B$2:$B$138=$AM$10,IF(BD!$B$2:$B$138=$AM$10,ROW(BD!$B$2:$B$138)-ROW(BD!$B$2)+1),FALSE),ROWS(BD!$1:8)))))","v":""},{"$f":"IF($AM$10=\"\",\"\",IF(ROWS(BD!$1:8)>COUNTIFS(BD!$B:$B,$AM$10),\"\",INDEX(BD!$G$2:$G$138,SMALL(IF(BD!$B$2:$B$138=$AM$10,IF(BD!$B$2:$B$138=$AM$10,ROW(BD!$B$2:$B$138)-ROW(BD!$B$2)+1),FALSE),ROWS(BD!$1:8)))))","v":""},{"$f":"IF($AM$10=\"\",\"\",IF(ROWS(BD!$1:8)>COUNTIFS(BD!$B:$B,$AM$10),\"\",INDEX(BD!$H$2:$H$138,SMALL(IF(BD!$B$2:$B$138=$AM$10,IF(BD!$B$2:$B$138=$AM$10,ROW(BD!$B$2:$B$138)-ROW(BD!$B$2)+1),FALSE),ROWS(BD!$1:8)))))","v":""}]
[null,null,{"$f":"IF($C$10=\"\",\"\",IF(ROWS(BD!$1:9)>COUNTIFS(BD!$B$1:$B$138,$C$10),\"\",INDEX(BD!$C$2:$C$138,SMALL(IF(BD!$B$2:$B$138=$C$10,IF(BD!$B$2:$B$138=$C$10,ROW(BD!$B$2:$B$138)-ROW(BD!$B$2)+1),FALSE),ROWS(BD!$1:9)))))","v":""},{"$f":"IF($C$10=\"\",\"\",IF(ROWS(BD!$1:9)>COUNTIFS(BD!$B$1:$B$138,$C$10),\"\",INDEX(BD!$E$2:$E$138,SMALL(IF(BD!$B$2:$B$138=$C$10,IF(BD!$B$2:$B$138=$C$10,ROW(BD!$B$2:$B$138)-ROW(BD!$B$2)+1),FALSE),ROWS(BD!$1:9)))))","v":""},{"$f":"IF($C$10=\"\",\"\",IF(ROWS(BD!$1:9)>COUNTIFS(BD!$B$1:$B$138,$C$10),\"\",INDEX(BD!$F$2:$F$138,SMALL(IF(BD!$B$2:$B$138=$C$10,IF(BD!$B$2:$B$138=$C$10,ROW(BD!$B$2:$B$138)-ROW(BD!$B$2)+1),FALSE),ROWS(BD!$1:9)))))","v":""},{"$f":"IF($C$10=\"\",\"\",IF(ROWS(BD!$1:9)>COUNTIFS(BD!$B:$B,$C$10),\"\",INDEX(BD!$G$2:$G$138,SMALL(IF(BD!$B$2:$B$138=$C$10,IF(BD!$B$2:$B$138=$C$10,ROW(BD!$B$2:$B$138)-ROW(BD!$B$2)+1),FALSE),ROWS(BD!$1:9)))))","v":""},{"$f":"IF($C$10=\"\",\"\",IF(ROWS(BD!$1:9)>COUNTIFS(BD!$B:$B,$C$10),\"\",INDEX(BD!$H$2:$H$138,SMALL(IF(BD!$B$2:$B$138=$C$10,IF(BD!$B$2:$B$138=$C$10,ROW(BD!$B$2:$B$138)-ROW(BD!$B$2)+1),FALSE),ROWS(BD!$1:9)))))","v":""},null,{"$f":"IF($I$10=\"\",\"\",IF(ROWS(BD!$1:9)>COUNTIFS(BD!$B$1:$B$138,$I$10),\"\",INDEX(BD!$C$2:$C$138,SMALL(IF(BD!$B$2:$B$138=$I$10,IF(BD!$B$2:$B$138=$I$10,ROW(BD!$B$2:$B$138)-ROW(BD!$B$2)+1),FALSE),ROWS(BD!$1:9)))))","v":""},{"$f":"IF($I$10=\"\",\"\",IF(ROWS(BD!$1:9)>COUNTIFS(BD!$B$1:$B$138,$I$10),\"\",INDEX(BD!$E$2:$E$138,SMALL(IF(BD!$B$2:$B$138=$I$10,IF(BD!$B$2:$B$138=$I$10,ROW(BD!$B$2:$B$138)-ROW(BD!$B$2)+1),FALSE),ROWS(BD!$1:9)))))","v":""},{"$f":"IF($I$10=\"\",\"\",IF(ROWS(BD!$1:9)>COUNTIFS(BD!$B$1:$B$138,$I$10),\"\",INDEX(BD!$F$2:$F$138,SMALL(IF(BD!$B$2:$B$138=$I$10,IF(BD!$B$2:$B$138=$I$10,ROW(BD!$B$2:$B$138)-ROW(BD!$B$2)+1),FALSE),ROWS(BD!$1:9)))))","v":""},{"$f":"IF($I$10=\"\",\"\",IF(ROWS(BD!$1:9)>COUNTIFS(BD!$B:$B,$I$10),\"\",INDEX(BD!$G$2:$G$138,SMALL(IF(BD!$B$2:$B$138=$I$10,IF(BD!$B$2:$B$138=$I$10,ROW(BD!$B$2:$B$138)-ROW(BD!$B$2)+1),FALSE),ROWS(BD!$1:9)))))","v":""},{"$f":"IF($I$10=\"\",\"\",IF(ROWS(BD!$1:9)>COUNTIFS(BD!$B:$B,$I$10),\"\",INDEX(BD!$H$2:$H$138,SMALL(IF(BD!$B$2:$B$138=$I$10,IF(BD!$B$2:$B$138=$I$10,ROW(BD!$B$2:$B$138)-ROW(BD!$B$2)+1),FALSE),ROWS(BD!$1:9)))))","v":""},null,{"$f":"IF($O$10=\"\",\"\",IF(ROWS(BD!$1:9)>COUNTIFS(BD!$B$1:$B$138,$O$10),\"\",INDEX(BD!$C$2:$C$138,SMALL(IF(BD!$B$2:$B$138=$O$10,IF(BD!$B$2:$B$138=$O$10,ROW(BD!$B$2:$B$138)-ROW(BD!$B$2)+1),FALSE),ROWS(BD!$1:9)))))","v":""},{"$f":"IF($O$10=\"\",\"\",IF(ROWS(BD!$1:9)>COUNTIFS(BD!$B$1:$B$138,$O$10),\"\",INDEX(BD!$E$2:$E$138,SMALL(IF(BD!$B$2:$B$138=$O$10,IF(BD!$B$2:$B$138=$O$10,ROW(BD!$B$2:$B$138)-ROW(BD!$B$2)+1),FALSE),ROWS(BD!$1:9)))))","v":""},{"$f":"IF($O$10=\"\",\"\",IF(ROWS(BD!$1:9)>COUNTIFS(BD!$B$1:$B$138,$O$10),\"\",INDEX(BD!$F$2:$F$138,SMALL(IF(BD!$B$2:$B$138=$O$10,IF(BD!$B$2:$B$138=$O$10,ROW(BD!$B$2:$B$138)-ROW(BD!$B$2)+1),FALSE),ROWS(BD!$1:9)))))","v":""},{"$f":"IF($O$10=\"\",\"\",IF(ROWS(BD!$1:9)>COUNTIFS(BD!$B:$B,$O$10),\"\",INDEX(BD!$G$2:$G$138,SMALL(IF(BD!$B$2:$B$138=$O$10,IF(BD!$B$2:$B$138=$O$10,ROW(BD!$B$2:$B$138)-ROW(BD!$B$2)+1),FALSE),ROWS(BD!$1:9)))))","v":""},{"$f":"IF($O$10=\"\",\"\",IF(ROWS(BD!$1:9)>COUNTIFS(BD!$B:$B,$O$10),\"\",INDEX(BD!$H$2:$H$138,SMALL(IF(BD!$B$2:$B$138=$O$10,IF(BD!$B$2:$B$138=$O$10,ROW(BD!$B$2:$B$138)-ROW(BD!$B$2)+1),FALSE),ROWS(BD!$1:9)))))","v":""},null,{"$f":"IF($U$10=\"\",\"\",IF(ROWS(BD!$1:9)>COUNTIFS(BD!$B$1:$B$138,$U$10),\"\",INDEX(BD!$C$2:$C$138,SMALL(IF(BD!$B$2:$B$138=$U$10,IF(BD!$B$2:$B$138=$U$10,ROW(BD!$B$2:$B$138)-ROW(BD!$B$2)+1),FALSE),ROWS(BD!$1:9)))))","v":""},{"$f":"IF($U$10=\"\",\"\",IF(ROWS(BD!$1:9)>COUNTIFS(BD!$B$1:$B$138,$U$10),\"\",INDEX(BD!$E$2:$E$138,SMALL(IF(BD!$B$2:$B$138=$U$10,IF(BD!$B$2:$B$138=$U$10,ROW(BD!$B$2:$B$138)-ROW(BD!$B$2)+1),FALSE),ROWS(BD!$1:9)))))","v":""},{"$f":"IF($U$10=\"\",\"\",IF(ROWS(BD!$1:9)>COUNTIFS(BD!$B$1:$B$138,$U$10),\"\",INDEX(BD!$F$2:$F$138,SMALL(IF(BD!$B$2:$B$138=$U$10,IF(BD!$B$2:$B$138=$U$10,ROW(BD!$B$2:$B$138)-ROW(BD!$B$2)+1),FALSE),ROWS(BD!$1:9)))))","v":""},{"$f":"IF($U$10=\"\",\"\",IF(ROWS(BD!$1:9)>COUNTIFS(BD!$B:$B,$U$10),\"\",INDEX(BD!$G$2:$G$138,SMALL(IF(BD!$B$2:$B$138=$U$10,IF(BD!$B$2:$B$138=$U$10,ROW(BD!$B$2:$B$138)-ROW(BD!$B$2)+1),FALSE),ROWS(BD!$1:9)))))","v":""},{"$f":"IF($U$10=\"\",\"\",IF(ROWS(BD!$1:9)>COUNTIFS(BD!$B:$B,$U$10),\"\",INDEX(BD!$H$2:$H$138,SMALL(IF(BD!$B$2:$B$138=$U$10,IF(BD!$B$2:$B$138=$U$10,ROW(BD!$B$2:$B$138)-ROW(BD!$B$2)+1),FALSE),ROWS(BD!$1:9)))))","v":""},null,{"$f":"IF($AA$10=\"\",\"\",IF(ROWS(BD!$1:9)>COUNTIFS(BD!$B$1:$B$138,$AA$10),\"\",INDEX(BD!$C$2:$C$138,SMALL(IF(BD!$B$2:$B$138=$AA$10,IF(BD!$B$2:$B$138=$AA$10,ROW(BD!$B$2:$B$138)-ROW(BD!$B$2)+1),FALSE),ROWS(BD!$1:9)))))","v":""},{"$f":"IF($AA$10=\"\",\"\",IF(ROWS(BD!$1:9)>COUNTIFS(BD!$B$1:$B$138,$AA$10),\"\",INDEX(BD!$E$2:$E$138,SMALL(IF(BD!$B$2:$B$138=$AA$10,IF(BD!$B$2:$B$138=$AA$10,ROW(BD!$B$2:$B$138)-ROW(BD!$B$2)+1),FALSE),ROWS(BD!$1:9)))))","v":""},{"$f":"IF($AA$10=\"\",\"\",IF(ROWS(BD!$1:9)>COUNTIFS(BD!$B$1:$B$138,$AA$10),\"\",INDEX(BD!$F$2:$F$138,SMALL(IF(BD!$B$2:$B$138=$AA$10,IF(BD!$B$2:$B$138=$AA$10,ROW(BD!$B$2:$B$138)-ROW(BD!$B$2)+1),FALSE),ROWS(BD!$1:9)))))","v":""},{"$f":"IF($AA$10=\"\",\"\",IF(ROWS(BD!$1:9)>COUNTIFS(BD!$B:$B,$AA$10),\"\",INDEX(BD!$G$2:$G$138,SMALL(IF(BD!$B$2:$B$138=$AA$10,IF(BD!$B$2:$B$138=$AA$10,ROW(BD!$B$2:$B$138)-ROW(BD!$B$2)+1),FALSE),ROWS(BD!$1:9)))))","v":""},{"$f":"IF($AA$10=\"\",\"\",IF(ROWS(BD!$1:9)>COUNTIFS(BD!$B:$B,$AA$10),\"\",INDEX(BD!$H$2:$H$138,SMALL(IF(BD!$B$2:$B$138=$AA$10,IF(BD!$B$2:$B$138=$AA$10,ROW(BD!$B$2:$B$138)-ROW(BD!$B$2)+1),FALSE),ROWS(BD!$1:9)))))","v":""},null,{"$f":"IF($AG$10=\"\",\"\",IF(ROWS(BD!$1:9)>COUNTIFS(BD!$B$1:$B$138,$AG$10),\"\",INDEX(BD!$C$2:$C$138,SMALL(IF(BD!$B$2:$B$138=$AG$10,IF(BD!$B$2:$B$138=$AG$10,ROW(BD!$B$2:$B$138)-ROW(BD!$B$2)+1),FALSE),ROWS(BD!$1:9)))))","v":""},{"$f":"IF($AG$10=\"\",\"\",IF(ROWS(BD!$1:9)>COUNTIFS(BD!$B$1:$B$138,$AG$10),\"\",INDEX(BD!$E$2:$E$138,SMALL(IF(BD!$B$2:$B$138=$AG$10,IF(BD!$B$2:$B$138=$AG$10,ROW(BD!$B$2:$B$138)-ROW(BD!$B$2)+1),FALSE),ROWS(BD!$1:9)))))","v":""},{"$f":"IF($AG$10=\"\",\"\",IF(ROWS(BD!$1:9)>COUNTIFS(BD!$B$1:$B$138,$AG$10),\"\",INDEX(BD!$F$2:$F$138,SMALL(IF(BD!$B$2:$B$138=$AG$10,IF(BD!$B$2:$B$138=$AG$10,ROW(BD!$B$2:$B$138)-ROW(BD!$B$2)+1),FALSE),ROWS(BD!$1:9)))))","v":""},{"$f":"IF($AG$10=\"\",\"\",IF(ROWS(BD!$1:9)>COUNTIFS(BD!$B:$B,$AG$10),\"\",INDEX(BD!$G$2:$G$138,SMALL(IF(BD!$B$2:$B$138=$AG$10,IF(BD!$B$2:$B$138=$AG$10,ROW(BD!$B$2:$B$138)-ROW(BD!$B$2)+1),FALSE),ROWS(BD!$1:9)))))","v":""},{"$f":"IF($AG$10=\"\",\"\",IF(ROWS(BD!$1:9)>COUNTIFS(BD!$B:$B,$AG$10),\"\",INDEX(BD!$H$2:$H$138,SMALL(IF(BD!$B$2:$B$138=$AG$10,IF(BD!$B$2:$B$138=$AG$10,ROW(BD!$B$2:$B$138)-ROW(BD!$B$2)+1),FALSE),ROWS(BD!$1:9)))))","v":""},null,{"$f":"IF($AM$10=\"\",\"\",IF(ROWS(BD!$1:9)>COUNTIFS(BD!$B$1:$B$138,$AM$10),\"\",INDEX(BD!$C$2:$C$138,SMALL(IF(BD!$B$2:$B$138=$AM$10,IF(BD!$B$2:$B$138=$AM$10,ROW(BD!$B$2:$B$138)-ROW(BD!$B$2)+1),FALSE),ROWS(BD!$1:9)))))","v":""},{"$f":"IF($AM$10=\"\",\"\",IF(ROWS(BD!$1:9)>COUNTIFS(BD!$B$1:$B$138,$AM$10),\"\",INDEX(BD!$E$2:$E$138,SMALL(IF(BD!$B$2:$B$138=$AM$10,IF(BD!$B$2:$B$138=$AM$10,ROW(BD!$B$2:$B$138)-ROW(BD!$B$2)+1),FALSE),ROWS(BD!$1:9)))))","v":""},{"$f":"IF($AM$10=\"\",\"\",IF(ROWS(BD!$1:9)>COUNTIFS(BD!$B$1:$B$138,$AM$10),\"\",INDEX(BD!$F$2:$F$138,SMALL(IF(BD!$B$2:$B$138=$AM$10,IF(BD!$B$2:$B$138=$AM$10,ROW(BD!$B$2:$B$138)-ROW(BD!$B$2)+1),FALSE),ROWS(BD!$1:9)))))","v":""},{"$f":"IF($AM$10=\"\",\"\",IF(ROWS(BD!$1:9)>COUNTIFS(BD!$B:$B,$AM$10),\"\",INDEX(BD!$G$2:$G$138,SMALL(IF(BD!$B$2:$B$138=$AM$10,IF(BD!$B$2:$B$138=$AM$10,ROW(BD!$B$2:$B$138)-ROW(BD!$B$2)+1),FALSE),ROWS(BD!$1:9)))))","v":""},{"$f":"IF($AM$10=\"\",\"\",IF(ROWS(BD!$1:9)>COUNTIFS(BD!$B:$B,$AM$10),\"\",INDEX(BD!$H$2:$H$138,SMALL(IF(BD!$B$2:$B$138=$AM$10,IF(BD!$B$2:$B$138=$AM$10,ROW(BD!$B$2:$B$138)-ROW(BD!$B$2)+1),FALSE),ROWS(BD!$1:9)))))","v":""}]
[null,null,{"$f":"IF($C$10=\"\",\"\",IF(ROWS(BD!$1:10)>COUNTIFS(BD!$B$1:$B$138,$C$10),\"\",INDEX(BD!$C$2:$C$138,SMALL(IF(BD!$B$2:$B$138=$C$10,IF(BD!$B$2:$B$138=$C$10,ROW(BD!$B$2:$B$138)-ROW(BD!$B$2)+1),FALSE),ROWS(BD!$1:10)))))","v":""},{"$f":"IF($C$10=\"\",\"\",IF(ROWS(BD!$1:10)>COUNTIFS(BD!$B$1:$B$138,$C$10),\"\",INDEX(BD!$E$2:$E$138,SMALL(IF(BD!$B$2:$B$138=$C$10,IF(BD!$B$2:$B$138=$C$10,ROW(BD!$B$2:$B$138)-ROW(BD!$B$2)+1),FALSE),ROWS(BD!$1:10)))))","v":""},{"$f":"IF($C$10=\"\",\"\",IF(ROWS(BD!$1:10)>COUNTIFS(BD!$B$1:$B$138,$C$10),\"\",INDEX(BD!$F$2:$F$138,SMALL(IF(BD!$B$2:$B$138=$C$10,IF(BD!$B$2:$B$138=$C$10,ROW(BD!$B$2:$B$138)-ROW(BD!$B$2)+1),FALSE),ROWS(BD!$1:10)))))","v":""},{"$f":"IF($C$10=\"\",\"\",IF(ROWS(BD!$1:10)>COUNTIFS(BD!$B:$B,$C$10),\"\",INDEX(BD!$G$2:$G$138,SMALL(IF(BD!$B$2:$B$138=$C$10,IF(BD!$B$2:$B$138=$C$10,ROW(BD!$B$2:$B$138)-ROW(BD!$B$2)+1),FALSE),ROWS(BD!$1:10)))))","v":""},{"$f":"IF($C$10=\"\",\"\",IF(ROWS(BD!$1:10)>COUNTIFS(BD!$B:$B,$C$10),\"\",INDEX(BD!$H$2:$H$138,SMALL(IF(BD!$B$2:$B$138=$C$10,IF(BD!$B$2:$B$138=$C$10,ROW(BD!$B$2:$B$138)-ROW(BD!$B$2)+1),FALSE),ROWS(BD!$1:10)))))","v":""},null,{"$f":"IF($I$10=\"\",\"\",IF(ROWS(BD!$1:10)>COUNTIFS(BD!$B$1:$B$138,$I$10),\"\",INDEX(BD!$C$2:$C$138,SMALL(IF(BD!$B$2:$B$138=$I$10,IF(BD!$B$2:$B$138=$I$10,ROW(BD!$B$2:$B$138)-ROW(BD!$B$2)+1),FALSE),ROWS(BD!$1:10)))))","v":""},{"$f":"IF($I$10=\"\",\"\",IF(ROWS(BD!$1:10)>COUNTIFS(BD!$B$1:$B$138,$I$10),\"\",INDEX(BD!$E$2:$E$138,SMALL(IF(BD!$B$2:$B$138=$I$10,IF(BD!$B$2:$B$138=$I$10,ROW(BD!$B$2:$B$138)-ROW(BD!$B$2)+1),FALSE),ROWS(BD!$1:10)))))","v":""},{"$f":"IF($I$10=\"\",\"\",IF(ROWS(BD!$1:10)>COUNTIFS(BD!$B$1:$B$138,$I$10),\"\",INDEX(BD!$F$2:$F$138,SMALL(IF(BD!$B$2:$B$138=$I$10,IF(BD!$B$2:$B$138=$I$10,ROW(BD!$B$2:$B$138)-ROW(BD!$B$2)+1),FALSE),ROWS(BD!$1:10)))))","v":""},{"$f":"IF($I$10=\"\",\"\",IF(ROWS(BD!$1:10)>COUNTIFS(BD!$B:$B,$I$10),\"\",INDEX(BD!$G$2:$G$138,SMALL(IF(BD!$B$2:$B$138=$I$10,IF(BD!$B$2:$B$138=$I$10,ROW(BD!$B$2:$B$138)-ROW(BD!$B$2)+1),FALSE),ROWS(BD!$1:10)))))","v":""},{"$f":"IF($I$10=\"\",\"\",IF(ROWS(BD!$1:10)>COUNTIFS(BD!$B:$B,$I$10),\"\",INDEX(BD!$H$2:$H$138,SMALL(IF(BD!$B$2:$B$138=$I$10,IF(BD!$B$2:$B$138=$I$10,ROW(BD!$B$2:$B$138)-ROW(BD!$B$2)+1),FALSE),ROWS(BD!$1:10)))))","v":""},null,{"$f":"IF($O$10=\"\",\"\",IF(ROWS(BD!$1:10)>COUNTIFS(BD!$B$1:$B$138,$O$10),\"\",INDEX(BD!$C$2:$C$138,SMALL(IF(BD!$B$2:$B$138=$O$10,IF(BD!$B$2:$B$138=$O$10,ROW(BD!$B$2:$B$138)-ROW(BD!$B$2)+1),FALSE),ROWS(BD!$1:10)))))","v":""},{"$f":"IF($O$10=\"\",\"\",IF(ROWS(BD!$1:10)>COUNTIFS(BD!$B$1:$B$138,$O$10),\"\",INDEX(BD!$E$2:$E$138,SMALL(IF(BD!$B$2:$B$138=$O$10,IF(BD!$B$2:$B$138=$O$10,ROW(BD!$B$2:$B$138)-ROW(BD!$B$2)+1),FALSE),ROWS(BD!$1:10)))))","v":""},{"$f":"IF($O$10=\"\",\"\",IF(ROWS(BD!$1:10)>COUNTIFS(BD!$B$1:$B$138,$O$10),\"\",INDEX(BD!$F$2:$F$138,SMALL(IF(BD!$B$2:$B$138=$O$10,IF(BD!$B$2:$B$138=$O$10,ROW(BD!$B$2:$B$138)-ROW(BD!$B$2)+1),FALSE),ROWS(BD!$1:10)))))","v":""},{"$f":"IF($O$10=\"\",\"\",IF(ROWS(BD!$1:10)>COUNTIFS(BD!$B:$B,$O$10),\"\",INDEX(BD!$G$2:$G$138,SMALL(IF(BD!$B$2:$B$138=$O$10,IF(BD!$B$2:$B$138=$O$10,ROW(BD!$B$2:$B$138)-ROW(BD!$B$2)+1),FALSE),ROWS(BD!$1:10)))))","v":""},{"$f":"IF($O$10=\"\",\"\",IF(ROWS(BD!$1:10)>COUNTIFS(BD!$B:$B,$O$10),\"\",INDEX(BD!$H$2:$H$138,SMALL(IF(BD!$B$2:$B$138=$O$10,IF(BD!$B$2:$B$138=$O$10,ROW(BD!$B$2:$B$138)-ROW(BD!$B$2)+1),FALSE),ROWS(BD!$1:10)))))","v":""},null,{"$f":"IF($U$10=\"\",\"\",IF(ROWS(BD!$1:10)>COUNTIFS(BD!$B$1:$B$138,$U$10),\"\",INDEX(BD!$C$2:$C$138,SMALL(IF(BD!$B$2:$B$138=$U$10,IF(BD!$B$2:$B$138=$U$10,ROW(BD!$B$2:$B$138)-ROW(BD!$B$2)+1),FALSE),ROWS(BD!$1:10)))))","v":""},{"$f":"IF($U$10=\"\",\"\",IF(ROWS(BD!$1:10)>COUNTIFS(BD!$B$1:$B$138,$U$10),\"\",INDEX(BD!$E$2:$E$138,SMALL(IF(BD!$B$2:$B$138=$U$10,IF(BD!$B$2:$B$138=$U$10,ROW(BD!$B$2:$B$138)-ROW(BD!$B$2)+1),FALSE),ROWS(BD!$1:10)))))","v":""},{"$f":"IF($U$10=\"\",\"\",IF(ROWS(BD!$1:10)>COUNTIFS(BD!$B$1:$B$138,$U$10),\"\",INDEX(BD!$F$2:$F$138,SMALL(IF(BD!$B$2:$B$138=$U$10,IF(BD!$B$2:$B$138=$U$10,ROW(BD!$B$2:$B$138)-ROW(BD!$B$2)+1),FALSE),ROWS(BD!$1:10)))))","v":""},{"$f":"IF($U$10=\"\",\"\",IF(ROWS(BD!$1:10)>COUNTIFS(BD!$B:$B,$U$10),\"\",INDEX(BD!$G$2:$G$138,SMALL(IF(BD!$B$2:$B$138=$U$10,IF(BD!$B$2:$B$138=$U$10,ROW(BD!$B$2:$B$138)-ROW(BD!$B$2)+1),FALSE),ROWS(BD!$1:10)))))","v":""},{"$f":"IF($U$10=\"\",\"\",IF(ROWS(BD!$1:10)>COUNTIFS(BD!$B:$B,$U$10),\"\",INDEX(BD!$H$2:$H$138,SMALL(IF(BD!$B$2:$B$138=$U$10,IF(BD!$B$2:$B$138=$U$10,ROW(BD!$B$2:$B$138)-ROW(BD!$B$2)+1),FALSE),ROWS(BD!$1:10)))))","v":""},null,{"$f":"IF($AA$10=\"\",\"\",IF(ROWS(BD!$1:10)>COUNTIFS(BD!$B$1:$B$138,$AA$10),\"\",INDEX(BD!$C$2:$C$138,SMALL(IF(BD!$B$2:$B$138=$AA$10,IF(BD!$B$2:$B$138=$AA$10,ROW(BD!$B$2:$B$138)-ROW(BD!$B$2)+1),FALSE),ROWS(BD!$1:10)))))","v":""},{"$f":"IF($AA$10=\"\",\"\",IF(ROWS(BD!$1:10)>COUNTIFS(BD!$B$1:$B$138,$AA$10),\"\",INDEX(BD!$E$2:$E$138,SMALL(IF(BD!$B$2:$B$138=$AA$10,IF(BD!$B$2:$B$138=$AA$10,ROW(BD!$B$2:$B$138)-ROW(BD!$B$2)+1),FALSE),ROWS(BD!$1:10)))))","v":""},{"$f":"IF($AA$10=\"\",\"\",IF(ROWS(BD!$1:10)>COUNTIFS(BD!$B$1:$B$138,$AA$10),\"\",INDEX(BD!$F$2:$F$138,SMALL(IF(BD!$B$2:$B$138=$AA$10,IF(BD!$B$2:$B$138=$AA$10,ROW(BD!$B$2:$B$138)-ROW(BD!$B$2)+1),FALSE),ROWS(BD!$1:10)))))","v":""},{"$f":"IF($AA$10=\"\",\"\",IF(ROWS(BD!$1:10)>COUNTIFS(BD!$B:$B,$AA$10),\"\",INDEX(BD!$G$2:$G$138,SMALL(IF(BD!$B$2:$B$138=$AA$10,IF(BD!$B$2:$B$138=$AA$10,ROW(BD!$B$2:$B$138)-ROW(BD!$B$2)+1),FALSE),ROWS(BD!$1:10)))))","v":""},{"$f":"IF($AA$10=\"\",\"\",IF(ROWS(BD!$1:10)>COUNTIFS(BD!$B:$B,$AA$10),\"\",INDEX(BD!$H$2:$H$138,SMALL(IF(BD!$B$2:$B$138=$AA$10,IF(BD!$B$2:$B$138=$AA$10,ROW(BD!$B$2:$B$138)-ROW(BD!$B$2)+1),FALSE),ROWS(BD!$1:10)))))","v":""},null,{"$f":"IF($AG$10=\"\",\"\",IF(ROWS(BD!$1:10)>COUNTIFS(BD!$B$1:$B$138,$AG$10),\"\",INDEX(BD!$C$2:$C$138,SMALL(IF(BD!$B$2:$B$138=$AG$10,IF(BD!$B$2:$B$138=$AG$10,ROW(BD!$B$2:$B$138)-ROW(BD!$B$2)+1),FALSE),ROWS(BD!$1:10)))))","v":""},{"$f":"IF($AG$10=\"\",\"\",IF(ROWS(BD!$1:10)>COUNTIFS(BD!$B$1:$B$138,$AG$10),\"\",INDEX(BD!$E$2:$E$138,SMALL(IF(BD!$B$2:$B$138=$AG$10,IF(BD!$B$2:$B$138=$AG$10,ROW(BD!$B$2:$B$138)-ROW(BD!$B$2)+1),FALSE),ROWS(BD!$1:10)))))","v":""},{"$f":"IF($AG$10=\"\",\"\",IF(ROWS(BD!$1:10)>COUNTIFS(BD!$B$1:$B$138,$AG$10),\"\",INDEX(BD!$F$2:$F$138,SMALL(IF(BD!$B$2:$B$138=$AG$10,IF(BD!$B$2:$B$138=$AG$10,ROW(BD!$B$2:$B$138)-ROW(BD!$B$2)+1),FALSE),ROWS(BD!$1:10)))))","v":""},{"$f":"IF($AG$10=\"\",\"\",IF(ROWS(BD!$1:10)>COUNTIFS(BD!$B:$B,$AG$10),\"\",INDEX(BD!$G$2:$G$138,SMALL(IF(BD!$B$2:$B$138=$AG$10,IF(BD!$B$2:$B$138=$AG$10,ROW(BD!$B$2:$B$138)-ROW(BD!$B$2)+1),FALSE),ROWS(BD!$1:10)))))","v":""},{"$f":"IF($AG$10=\"\",\"\",IF(ROWS(BD!$1:10)>COUNTIFS(BD!$B:$B,$AG$10),\"\",INDEX(BD!$H$2:$H$138,SMALL(IF(BD!$B$2:$B$138=$AG$10,IF(BD!$B$2:$B$138=$AG$10,ROW(BD!$B$2:$B$138)-ROW(BD!$B$2)+1),FALSE),ROWS(BD!$1:10)))))","v":""},null,{"$f":"IF($AM$10=\"\",\"\",IF(ROWS(BD!$1:10)>COUNTIFS(BD!$B$1:$B$138,$AM$10),\"\",INDEX(BD!$C$2:$C$138,SMALL(IF(BD!$B$2:$B$138=$AM$10,IF(BD!$B$2:$B$138=$AM$10,ROW(BD!$B$2:$B$138)-ROW(BD!$B$2)+1),FALSE),ROWS(BD!$1:10)))))","v":""},{"$f":"IF($AM$10=\"\",\"\",IF(ROWS(BD!$1:10)>COUNTIFS(BD!$B$1:$B$138,$AM$10),\"\",INDEX(BD!$E$2:$E$138,SMALL(IF(BD!$B$2:$B$138=$AM$10,IF(BD!$B$2:$B$138=$AM$10,ROW(BD!$B$2:$B$138)-ROW(BD!$B$2)+1),FALSE),ROWS(BD!$1:10)))))","v":""},{"$f":"IF($AM$10=\"\",\"\",IF(ROWS(BD!$1:10)>COUNTIFS(BD!$B$1:$B$138,$AM$10),\"\",INDEX(BD!$F$2:$F$138,SMALL(IF(BD!$B$2:$B$138=$AM$10,IF(BD!$B$2:$B$138=$AM$10,ROW(BD!$B$2:$B$138)-ROW(BD!$B$2)+1),FALSE),ROWS(BD!$1:10)))))","v":""},{"$f":"IF($AM$10=\"\",\"\",IF(ROWS(BD!$1:10)>COUNTIFS(BD!$B:$B,$AM$10),\"\",INDEX(BD!$G$2:$G$138,SMALL(IF(BD!$B$2:$B$138=$AM$10,IF(BD!$B$2:$B$138=$AM$10,ROW(BD!$B$2:$B$138)-ROW(BD!$B$2)+1),FALSE),ROWS(BD!$1:10)))))","v":""},{"$f":"IF($AM$10=\"\",\"\",IF(ROWS(BD!$1:10)>COUNTIFS(BD!$B:$B,$AM$10),\"\",INDEX(BD!$H$2:$H$138,SMALL(IF(BD!$B$2:$B$138=$AM$10,IF(BD!$B$2:$B$138=$AM$10,ROW(BD!$B$2:$B$138)-ROW(BD!$B$2)+1),FALSE),ROWS(BD!$1:10)))))","v":""}]
[null,null,{"$f":"IF($C$10=\"\",\"\",IF(ROWS(BD!$1:11)>COUNTIFS(BD!$B$1:$B$138,$C$10),\"\",INDEX(BD!$C$2:$C$138,SMALL(IF(BD!$B$2:$B$138=$C$10,IF(BD!$B$2:$B$138=$C$10,ROW(BD!$B$2:$B$138)-ROW(BD!$B$2)+1),FALSE),ROWS(BD!$1:11)))))","v":""},{"$f":"IF($C$10=\"\",\"\",IF(ROWS(BD!$1:11)>COUNTIFS(BD!$B$1:$B$138,$C$10),\"\",INDEX(BD!$E$2:$E$138,SMALL(IF(BD!$B$2:$B$138=$C$10,IF(BD!$B$2:$B$138=$C$10,ROW(BD!$B$2:$B$138)-ROW(BD!$B$2)+1),FALSE),ROWS(BD!$1:11)))))","v":""},{"$f":"IF($C$10=\"\",\"\",IF(ROWS(BD!$1:11)>COUNTIFS(BD!$B$1:$B$138,$C$10),\"\",INDEX(BD!$F$2:$F$138,SMALL(IF(BD!$B$2:$B$138=$C$10,IF(BD!$B$2:$B$138=$C$10,ROW(BD!$B$2:$B$138)-ROW(BD!$B$2)+1),FALSE),ROWS(BD!$1:11)))))","v":""},{"$f":"IF($C$10=\"\",\"\",IF(ROWS(BD!$1:11)>COUNTIFS(BD!$B:$B,$C$10),\"\",INDEX(BD!$G$2:$G$138,SMALL(IF(BD!$B$2:$B$138=$C$10,IF(BD!$B$2:$B$138=$C$10,ROW(BD!$B$2:$B$138)-ROW(BD!$B$2)+1),FALSE),ROWS(BD!$1:11)))))","v":""},{"$f":"IF($C$10=\"\",\"\",IF(ROWS(BD!$1:11)>COUNTIFS(BD!$B:$B,$C$10),\"\",INDEX(BD!$H$2:$H$138,SMALL(IF(BD!$B$2:$B$138=$C$10,IF(BD!$B$2:$B$138=$C$10,ROW(BD!$B$2:$B$138)-ROW(BD!$B$2)+1),FALSE),ROWS(BD!$1:11)))))","v":""},null,{"$f":"IF($I$10=\"\",\"\",IF(ROWS(BD!$1:11)>COUNTIFS(BD!$B$1:$B$138,$I$10),\"\",INDEX(BD!$C$2:$C$138,SMALL(IF(BD!$B$2:$B$138=$I$10,IF(BD!$B$2:$B$138=$I$10,ROW(BD!$B$2:$B$138)-ROW(BD!$B$2)+1),FALSE),ROWS(BD!$1:11)))))","v":""},{"$f":"IF($I$10=\"\",\"\",IF(ROWS(BD!$1:11)>COUNTIFS(BD!$B$1:$B$138,$I$10),\"\",INDEX(BD!$E$2:$E$138,SMALL(IF(BD!$B$2:$B$138=$I$10,IF(BD!$B$2:$B$138=$I$10,ROW(BD!$B$2:$B$138)-ROW(BD!$B$2)+1),FALSE),ROWS(BD!$1:11)))))","v":""},{"$f":"IF($I$10=\"\",\"\",IF(ROWS(BD!$1:11)>COUNTIFS(BD!$B$1:$B$138,$I$10),\"\",INDEX(BD!$F$2:$F$138,SMALL(IF(BD!$B$2:$B$138=$I$10,IF(BD!$B$2:$B$138=$I$10,ROW(BD!$B$2:$B$138)-ROW(BD!$B$2)+1),FALSE),ROWS(BD!$1:11)))))","v":""},{"$f":"IF($I$10=\"\",\"\",IF(ROWS(BD!$1:11)>COUNTIFS(BD!$B:$B,$I$10),\"\",INDEX(BD!$G$2:$G$138,SMALL(IF(BD!$B$2:$B$138=$I$10,IF(BD!$B$2:$B$138=$I$10,ROW(BD!$B$2:$B$138)-ROW(BD!$B$2)+1),FALSE),ROWS(BD!$1:11)))))","v":""},{"$f":"IF($I$10=\"\",\"\",IF(ROWS(BD!$1:11)>COUNTIFS(BD!$B:$B,$I$10),\"\",INDEX(BD!$H$2:$H$138,SMALL(IF(BD!$B$2:$B$138=$I$10,IF(BD!$B$2:$B$138=$I$10,ROW(BD!$B$2:$B$138)-ROW(BD!$B$2)+1),FALSE),ROWS(BD!$1:11)))))","v":""},null,{"$f":"IF($O$10=\"\",\"\",IF(ROWS(BD!$1:11)>COUNTIFS(BD!$B$1:$B$138,$O$10),\"\",INDEX(BD!$C$2:$C$138,SMALL(IF(BD!$B$2:$B$138=$O$10,IF(BD!$B$2:$B$138=$O$10,ROW(BD!$B$2:$B$138)-ROW(BD!$B$2)+1),FALSE),ROWS(BD!$1:11)))))","v":""},{"$f":"IF($O$10=\"\",\"\",IF(ROWS(BD!$1:11)>COUNTIFS(BD!$B$1:$B$138,$O$10),\"\",INDEX(BD!$E$2:$E$138,SMALL(IF(BD!$B$2:$B$138=$O$10,IF(BD!$B$2:$B$138=$O$10,ROW(BD!$B$2:$B$138)-ROW(BD!$B$2)+1),FALSE),ROWS(BD!$1:11)))))","v":""},{"$f":"IF($O$10=\"\",\"\",IF(ROWS(BD!$1:11)>COUNTIFS(BD!$B$1:$B$138,$O$10),\"\",INDEX(BD!$F$2:$F$138,SMALL(IF(BD!$B$2:$B$138=$O$10,IF(BD!$B$2:$B$138=$O$10,ROW(BD!$B$2:$B$138)-ROW(BD!$B$2)+1),FALSE),ROWS(BD!$1:11)))))","v":""},{"$f":"IF($O$10=\"\",\"\",IF(ROWS(BD!$1:11)>COUNTIFS(BD!$B:$B,$O$10),\"\",INDEX(BD!$G$2:$G$138,SMALL(IF(BD!$B$2:$B$138=$O$10,IF(BD!$B$2:$B$138=$O$10,ROW(BD!$B$2:$B$138)-ROW(BD!$B$2)+1),FALSE),ROWS(BD!$1:11)))))","v":""},{"$f":"IF($O$10=\"\",\"\",IF(ROWS(BD!$1:11)>COUNTIFS(BD!$B:$B,$O$10),\"\",INDEX(BD!$H$2:$H$138,SMALL(IF(BD!$B$2:$B$138=$O$10,IF(BD!$B$2:$B$138=$O$10,ROW(BD!$B$2:$B$138)-ROW(BD!$B$2)+1),FALSE),ROWS(BD!$1:11)))))","v":""},null,{"$f":"IF($U$10=\"\",\"\",IF(ROWS(BD!$1:11)>COUNTIFS(BD!$B$1:$B$138,$U$10),\"\",INDEX(BD!$C$2:$C$138,SMALL(IF(BD!$B$2:$B$138=$U$10,IF(BD!$B$2:$B$138=$U$10,ROW(BD!$B$2:$B$138)-ROW(BD!$B$2)+1),FALSE),ROWS(BD!$1:11)))))","v":""},{"$f":"IF($U$10=\"\",\"\",IF(ROWS(BD!$1:11)>COUNTIFS(BD!$B$1:$B$138,$U$10),\"\",INDEX(BD!$E$2:$E$138,SMALL(IF(BD!$B$2:$B$138=$U$10,IF(BD!$B$2:$B$138=$U$10,ROW(BD!$B$2:$B$138)-ROW(BD!$B$2)+1),FALSE),ROWS(BD!$1:11)))))","v":""},{"$f":"IF($U$10=\"\",\"\",IF(ROWS(BD!$1:11)>COUNTIFS(BD!$B$1:$B$138,$U$10),\"\",INDEX(BD!$F$2:$F$138,SMALL(IF(BD!$B$2:$B$138=$U$10,IF(BD!$B$2:$B$138=$U$10,ROW(BD!$B$2:$B$138)-ROW(BD!$B$2)+1),FALSE),ROWS(BD!$1:11)))))","v":""},{"$f":"IF($U$10=\"\",\"\",IF(ROWS(BD!$1:11)>COUNTIFS(BD!$B:$B,$U$10),\"\",INDEX(BD!$G$2:$G$138,SMALL(IF(BD!$B$2:$B$138=$U$10,IF(BD!$B$2:$B$138=$U$10,ROW(BD!$B$2:$B$138)-ROW(BD!$B$2)+1),FALSE),ROWS(BD!$1:11)))))","v":""},{"$f":"IF($U$10=\"\",\"\",IF(ROWS(BD!$1:11)>COUNTIFS(BD!$B:$B,$U$10),\"\",INDEX(BD!$H$2:$H$138,SMALL(IF(BD!$B$2:$B$138=$U$10,IF(BD!$B$2:$B$138=$U$10,ROW(BD!$B$2:$B$138)-ROW(BD!$B$2)+1),FALSE),ROWS(BD!$1:11)))))","v":""},null,{"$f":"IF($AA$10=\"\",\"\",IF(ROWS(BD!$1:11)>COUNTIFS(BD!$B$1:$B$138,$AA$10),\"\",INDEX(BD!$C$2:$C$138,SMALL(IF(BD!$B$2:$B$138=$AA$10,IF(BD!$B$2:$B$138=$AA$10,ROW(BD!$B$2:$B$138)-ROW(BD!$B$2)+1),FALSE),ROWS(BD!$1:11)))))","v":""},{"$f":"IF($AA$10=\"\",\"\",IF(ROWS(BD!$1:11)>COUNTIFS(BD!$B$1:$B$138,$AA$10),\"\",INDEX(BD!$E$2:$E$138,SMALL(IF(BD!$B$2:$B$138=$AA$10,IF(BD!$B$2:$B$138=$AA$10,ROW(BD!$B$2:$B$138)-ROW(BD!$B$2)+1),FALSE),ROWS(BD!$1:11)))))","v":""},{"$f":"IF($AA$10=\"\",\"\",IF(ROWS(BD!$1:11)>COUNTIFS(BD!$B$1:$B$138,$AA$10),\"\",INDEX(BD!$F$2:$F$138,SMALL(IF(BD!$B$2:$B$138=$AA$10,IF(BD!$B$2:$B$138=$AA$10,ROW(BD!$B$2:$B$138)-ROW(BD!$B$2)+1),FALSE),ROWS(BD!$1:11)))))","v":""},{"$f":"IF($AA$10=\"\",\"\",IF(ROWS(BD!$1:11)>COUNTIFS(BD!$B:$B,$AA$10),\"\",INDEX(BD!$G$2:$G$138,SMALL(IF(BD!$B$2:$B$138=$AA$10,IF(BD!$B$2:$B$138=$AA$10,ROW(BD!$B$2:$B$138)-ROW(BD!$B$2)+1),FALSE),ROWS(BD!$1:11)))))","v":""},{"$f":"IF($AA$10=\"\",\"\",IF(ROWS(BD!$1:11)>COUNTIFS(BD!$B:$B,$AA$10),\"\",INDEX(BD!$H$2:$H$138,SMALL(IF(BD!$B$2:$B$138=$AA$10,IF(BD!$B$2:$B$138=$AA$10,ROW(BD!$B$2:$B$138)-ROW(BD!$B$2)+1),FALSE),ROWS(BD!$1:11)))))","v":""},null,{"$f":"IF($AG$10=\"\",\"\",IF(ROWS(BD!$1:11)>COUNTIFS(BD!$B$1:$B$138,$AG$10),\"\",INDEX(BD!$C$2:$C$138,SMALL(IF(BD!$B$2:$B$138=$AG$10,IF(BD!$B$2:$B$138=$AG$10,ROW(BD!$B$2:$B$138)-ROW(BD!$B$2)+1),FALSE),ROWS(BD!$1:11)))))","v":""},{"$f":"IF($AG$10=\"\",\"\",IF(ROWS(BD!$1:11)>COUNTIFS(BD!$B$1:$B$138,$AG$10),\"\",INDEX(BD!$E$2:$E$138,SMALL(IF(BD!$B$2:$B$138=$AG$10,IF(BD!$B$2:$B$138=$AG$10,ROW(BD!$B$2:$B$138)-ROW(BD!$B$2)+1),FALSE),ROWS(BD!$1:11)))))","v":""},{"$f":"IF($AG$10=\"\",\"\",IF(ROWS(BD!$1:11)>COUNTIFS(BD!$B$1:$B$138,$AG$10),\"\",INDEX(BD!$F$2:$F$138,SMALL(IF(BD!$B$2:$B$138=$AG$10,IF(BD!$B$2:$B$138=$AG$10,ROW(BD!$B$2:$B$138)-ROW(BD!$B$2)+1),FALSE),ROWS(BD!$1:11)))))","v":""},{"$f":"IF($AG$10=\"\",\"\",IF(ROWS(BD!$1:11)>COUNTIFS(BD!$B:$B,$AG$10),\"\",INDEX(BD!$G$2:$G$138,SMALL(IF(BD!$B$2:$B$138=$AG$10,IF(BD!$B$2:$B$138=$AG$10,ROW(BD!$B$2:$B$138)-ROW(BD!$B$2)+1),FALSE),ROWS(BD!$1:11)))))","v":""},{"$f":"IF($AG$10=\"\",\"\",IF(ROWS(BD!$1:11)>COUNTIFS(BD!$B:$B,$AG$10),\"\",INDEX(BD!$H$2:$H$138,SMALL(IF(BD!$B$2:$B$138=$AG$10,IF(BD!$B$2:$B$138=$AG$10,ROW(BD!$B$2:$B$138)-ROW(BD!$B$2)+1),FALSE),ROWS(BD!$1:11)))))","v":""},null,{"$f":"IF($AM$10=\"\",\"\",IF(ROWS(BD!$1:11)>COUNTIFS(BD!$B$1:$B$138,$AM$10),\"\",INDEX(BD!$C$2:$C$138,SMALL(IF(BD!$B$2:$B$138=$AM$10,IF(BD!$B$2:$B$138=$AM$10,ROW(BD!$B$2:$B$138)-ROW(BD!$B$2)+1),FALSE),ROWS(BD!$1:11)))))","v":""},{"$f":"IF($AM$10=\"\",\"\",IF(ROWS(BD!$1:11)>COUNTIFS(BD!$B$1:$B$138,$AM$10),\"\",INDEX(BD!$E$2:$E$138,SMALL(IF(BD!$B$2:$B$138=$AM$10,IF(BD!$B$2:$B$138=$AM$10,ROW(BD!$B$2:$B$138)-ROW(BD!$B$2)+1),FALSE),ROWS(BD!$1:11)))))","v":""},{"$f":"IF($AM$10=\"\",\"\",IF(ROWS(BD!$1:11)>COUNTIFS(BD!$B$1:$B$138,$AM$10),\"\",INDEX(BD!$F$2:$F$138,SMALL(IF(BD!$B$2:$B$138=$AM$10,IF(BD!$B$2:$B$138=$AM$10,ROW(BD!$B$2:$B$138)-ROW(BD!$B$2)+1),FALSE),ROWS(BD!$1:11)))))","v":""},{"$f":"IF($AM$10=\"\",\"\",IF(ROWS(BD!$1:11)>COUNTIFS(BD!$B:$B,$AM$10),\"\",INDEX(BD!$G$2:$G$138,SMALL(IF(BD!$B$2:$B$138=$AM$10,IF(BD!$B$2:$B$138=$AM$10,ROW(BD!$B$2:$B$138)-ROW(BD!$B$2)+1),FALSE),ROWS(BD!$1:11)))))","v":""},{"$f":"IF($AM$10=\"\",\"\",IF(ROWS(BD!$1:11)>COUNTIFS(BD!$B:$B,$AM$10),\"\",INDEX(BD!$H$2:$H$138,SMALL(IF(BD!$B$2:$B$138=$AM$10,IF(BD!$B$2:$B$138=$AM$10,ROW(BD!$B$2:$B$138)-ROW(BD!$B$2)+1),FALSE),ROWS(BD!$1:11)))))","v":""}]
[null,null,{"$f":"IF($C$10=\"\",\"\",IF(ROWS(BD!$1:12)>COUNTIFS(BD!$B$1:$B$138,$C$10),\"\",INDEX(BD!$C$2:$C$138,SMALL(IF(BD!$B$2:$B$138=$C$10,IF(BD!$B$2:$B$138=$C$10,ROW(BD!$B$2:$B$138)-ROW(BD!$B$2)+1),FALSE),ROWS(BD!$1:12)))))","v":""},{"$f":"IF($C$10=\"\",\"\",IF(ROWS(BD!$1:12)>COUNTIFS(BD!$B$1:$B$138,$C$10),\"\",INDEX(BD!$E$2:$E$138,SMALL(IF(BD!$B$2:$B$138=$C$10,IF(BD!$B$2:$B$138=$C$10,ROW(BD!$B$2:$B$138)-ROW(BD!$B$2)+1),FALSE),ROWS(BD!$1:12)))))","v":""},{"$f":"IF($C$10=\"\",\"\",IF(ROWS(BD!$1:12)>COUNTIFS(BD!$B$1:$B$138,$C$10),\"\",INDEX(BD!$F$2:$F$138,SMALL(IF(BD!$B$2:$B$138=$C$10,IF(BD!$B$2:$B$138=$C$10,ROW(BD!$B$2:$B$138)-ROW(BD!$B$2)+1),FALSE),ROWS(BD!$1:12)))))","v":""},{"$f":"IF($C$10=\"\",\"\",IF(ROWS(BD!$1:12)>COUNTIFS(BD!$B:$B,$C$10),\"\",INDEX(BD!$G$2:$G$138,SMALL(IF(BD!$B$2:$B$138=$C$10,IF(BD!$B$2:$B$138=$C$10,ROW(BD!$B$2:$B$138)-ROW(BD!$B$2)+1),FALSE),ROWS(BD!$1:12)))))","v":""},{"$f":"IF($C$10=\"\",\"\",IF(ROWS(BD!$1:12)>COUNTIFS(BD!$B:$B,$C$10),\"\",INDEX(BD!$H$2:$H$138,SMALL(IF(BD!$B$2:$B$138=$C$10,IF(BD!$B$2:$B$138=$C$10,ROW(BD!$B$2:$B$138)-ROW(BD!$B$2)+1),FALSE),ROWS(BD!$1:12)))))","v":""},null,{"$f":"IF($I$10=\"\",\"\",IF(ROWS(BD!$1:12)>COUNTIFS(BD!$B$1:$B$138,$I$10),\"\",INDEX(BD!$C$2:$C$138,SMALL(IF(BD!$B$2:$B$138=$I$10,IF(BD!$B$2:$B$138=$I$10,ROW(BD!$B$2:$B$138)-ROW(BD!$B$2)+1),FALSE),ROWS(BD!$1:12)))))","v":""},{"$f":"IF($I$10=\"\",\"\",IF(ROWS(BD!$1:12)>COUNTIFS(BD!$B$1:$B$138,$I$10),\"\",INDEX(BD!$E$2:$E$138,SMALL(IF(BD!$B$2:$B$138=$I$10,IF(BD!$B$2:$B$138=$I$10,ROW(BD!$B$2:$B$138)-ROW(BD!$B$2)+1),FALSE),ROWS(BD!$1:12)))))","v":""},{"$f":"IF($I$10=\"\",\"\",IF(ROWS(BD!$1:12)>COUNTIFS(BD!$B$1:$B$138,$I$10),\"\",INDEX(BD!$F$2:$F$138,SMALL(IF(BD!$B$2:$B$138=$I$10,IF(BD!$B$2:$B$138=$I$10,ROW(BD!$B$2:$B$138)-ROW(BD!$B$2)+1),FALSE),ROWS(BD!$1:12)))))","v":""},{"$f":"IF($I$10=\"\",\"\",IF(ROWS(BD!$1:12)>COUNTIFS(BD!$B:$B,$I$10),\"\",INDEX(BD!$G$2:$G$138,SMALL(IF(BD!$B$2:$B$138=$I$10,IF(BD!$B$2:$B$138=$I$10,ROW(BD!$B$2:$B$138)-ROW(BD!$B$2)+1),FALSE),ROWS(BD!$1:12)))))","v":""},{"$f":"IF($I$10=\"\",\"\",IF(ROWS(BD!$1:12)>COUNTIFS(BD!$B:$B,$I$10),\"\",INDEX(BD!$H$2:$H$138,SMALL(IF(BD!$B$2:$B$138=$I$10,IF(BD!$B$2:$B$138=$I$10,ROW(BD!$B$2:$B$138)-ROW(BD!$B$2)+1),FALSE),ROWS(BD!$1:12)))))","v":""},null,{"$f":"IF($O$10=\"\",\"\",IF(ROWS(BD!$1:12)>COUNTIFS(BD!$B$1:$B$138,$O$10),\"\",INDEX(BD!$C$2:$C$138,SMALL(IF(BD!$B$2:$B$138=$O$10,IF(BD!$B$2:$B$138=$O$10,ROW(BD!$B$2:$B$138)-ROW(BD!$B$2)+1),FALSE),ROWS(BD!$1:12)))))","v":""},{"$f":"IF($O$10=\"\",\"\",IF(ROWS(BD!$1:12)>COUNTIFS(BD!$B$1:$B$138,$O$10),\"\",INDEX(BD!$E$2:$E$138,SMALL(IF(BD!$B$2:$B$138=$O$10,IF(BD!$B$2:$B$138=$O$10,ROW(BD!$B$2:$B$138)-ROW(BD!$B$2)+1),FALSE),ROWS(BD!$1:12)))))","v":""},{"$f":"IF($O$10=\"\",\"\",IF(ROWS(BD!$1:12)>COUNTIFS(BD!$B$1:$B$138,$O$10),\"\",INDEX(BD!$F$2:$F$138,SMALL(IF(BD!$B$2:$B$138=$O$10,IF(BD!$B$2:$B$138=$O$10,ROW(BD!$B$2:$B$138)-ROW(BD!$B$2)+1),FALSE),ROWS(BD!$1:12)))))","v":""},{"$f":"IF($O$10=\"\",\"\",IF(ROWS(BD!$1:12)>COUNTIFS(BD!$B:$B,$O$10),\"\",INDEX(BD!$G$2:$G$138,SMALL(IF(BD!$B$2:$B$138=$O$10,IF(BD!$B$2:$B$138=$O$10,ROW(BD!$B$2:$B$138)-ROW(BD!$B$2)+1),FALSE),ROWS(BD!$1:12)))))","v":""},{"$f":"IF($O$10=\"\",\"\",IF(ROWS(BD!$1:12)>COUNTIFS(BD!$B:$B,$O$10),\"\",INDEX(BD!$H$2:$H$138,SMALL(IF(BD!$B$2:$B$138=$O$10,IF(BD!$B$2:$B$138=$O$10,ROW(BD!$B$2:$B$138)-ROW(BD!$B$2)+1),FALSE),ROWS(BD!$1:12)))))","v":""},null,{"$f":"IF($U$10=\"\",\"\",IF(ROWS(BD!$1:12)>COUNTIFS(BD!$B$1:$B$138,$U$10),\"\",INDEX(BD!$C$2:$C$138,SMALL(IF(BD!$B$2:$B$138=$U$10,IF(BD!$B$2:$B$138=$U$10,ROW(BD!$B$2:$B$138)-ROW(BD!$B$2)+1),FALSE),ROWS(BD!$1:12)))))","v":""},{"$f":"IF($U$10=\"\",\"\",IF(ROWS(BD!$1:12)>COUNTIFS(BD!$B$1:$B$138,$U$10),\"\",INDEX(BD!$E$2:$E$138,SMALL(IF(BD!$B$2:$B$138=$U$10,IF(BD!$B$2:$B$138=$U$10,ROW(BD!$B$2:$B$138)-ROW(BD!$B$2)+1),FALSE),ROWS(BD!$1:12)))))","v":""},{"$f":"IF($U$10=\"\",\"\",IF(ROWS(BD!$1:12)>COUNTIFS(BD!$B$1:$B$138,$U$10),\"\",INDEX(BD!$F$2:$F$138,SMALL(IF(BD!$B$2:$B$138=$U$10,IF(BD!$B$2:$B$138=$U$10,ROW(BD!$B$2:$B$138)-ROW(BD!$B$2)+1),FALSE),ROWS(BD!$1:12)))))","v":""},{"$f":"IF($U$10=\"\",\"\",IF(ROWS(BD!$1:12)>COUNTIFS(BD!$B:$B,$U$10),\"\",INDEX(BD!$G$2:$G$138,SMALL(IF(BD!$B$2:$B$138=$U$10,IF(BD!$B$2:$B$138=$U$10,ROW(BD!$B$2:$B$138)-ROW(BD!$B$2)+1),FALSE),ROWS(BD!$1:12)))))","v":""},{"$f":"IF($U$10=\"\",\"\",IF(ROWS(BD!$1:12)>COUNTIFS(BD!$B:$B,$U$10),\"\",INDEX(BD!$H$2:$H$138,SMALL(IF(BD!$B$2:$B$138=$U$10,IF(BD!$B$2:$B$138=$U$10,ROW(BD!$B$2:$B$138)-ROW(BD!$B$2)+1),FALSE),ROWS(BD!$1:12)))))","v":""},null,{"$f":"IF($AA$10=\"\",\"\",IF(ROWS(BD!$1:12)>COUNTIFS(BD!$B$1:$B$138,$AA$10),\"\",INDEX(BD!$C$2:$C$138,SMALL(IF(BD!$B$2:$B$138=$AA$10,IF(BD!$B$2:$B$138=$AA$10,ROW(BD!$B$2:$B$138)-ROW(BD!$B$2)+1),FALSE),ROWS(BD!$1:12)))))","v":""},{"$f":"IF($AA$10=\"\",\"\",IF(ROWS(BD!$1:12)>COUNTIFS(BD!$B$1:$B$138,$AA$10),\"\",INDEX(BD!$E$2:$E$138,SMALL(IF(BD!$B$2:$B$138=$AA$10,IF(BD!$B$2:$B$138=$AA$10,ROW(BD!$B$2:$B$138)-ROW(BD!$B$2)+1),FALSE),ROWS(BD!$1:12)))))","v":""},{"$f":"IF($AA$10=\"\",\"\",IF(ROWS(BD!$1:12)>COUNTIFS(BD!$B$1:$B$138,$AA$10),\"\",INDEX(BD!$F$2:$F$138,SMALL(IF(BD!$B$2:$B$138=$AA$10,IF(BD!$B$2:$B$138=$AA$10,ROW(BD!$B$2:$B$138)-ROW(BD!$B$2)+1),FALSE),ROWS(BD!$1:12)))))","v":""},{"$f":"IF($AA$10=\"\",\"\",IF(ROWS(BD!$1:12)>COUNTIFS(BD!$B:$B,$AA$10),\"\",INDEX(BD!$G$2:$G$138,SMALL(IF(BD!$B$2:$B$138=$AA$10,IF(BD!$B$2:$B$138=$AA$10,ROW(BD!$B$2:$B$138)-ROW(BD!$B$2)+1),FALSE),ROWS(BD!$1:12)))))","v":""},{"$f":"IF($AA$10=\"\",\"\",IF(ROWS(BD!$1:12)>COUNTIFS(BD!$B:$B,$AA$10),\"\",INDEX(BD!$H$2:$H$138,SMALL(IF(BD!$B$2:$B$138=$AA$10,IF(BD!$B$2:$B$138=$AA$10,ROW(BD!$B$2:$B$138)-ROW(BD!$B$2)+1),FALSE),ROWS(BD!$1:12)))))","v":""},null,{"$f":"IF($AG$10=\"\",\"\",IF(ROWS(BD!$1:12)>COUNTIFS(BD!$B$1:$B$138,$AG$10),\"\",INDEX(BD!$C$2:$C$138,SMALL(IF(BD!$B$2:$B$138=$AG$10,IF(BD!$B$2:$B$138=$AG$10,ROW(BD!$B$2:$B$138)-ROW(BD!$B$2)+1),FALSE),ROWS(BD!$1:12)))))","v":""},{"$f":"IF($AG$10=\"\",\"\",IF(ROWS(BD!$1:12)>COUNTIFS(BD!$B$1:$B$138,$AG$10),\"\",INDEX(BD!$E$2:$E$138,SMALL(IF(BD!$B$2:$B$138=$AG$10,IF(BD!$B$2:$B$138=$AG$10,ROW(BD!$B$2:$B$138)-ROW(BD!$B$2)+1),FALSE),ROWS(BD!$1:12)))))","v":""},{"$f":"IF($AG$10=\"\",\"\",IF(ROWS(BD!$1:12)>COUNTIFS(BD!$B$1:$B$138,$AG$10),\"\",INDEX(BD!$F$2:$F$138,SMALL(IF(BD!$B$2:$B$138=$AG$10,IF(BD!$B$2:$B$138=$AG$10,ROW(BD!$B$2:$B$138)-ROW(BD!$B$2)+1),FALSE),ROWS(BD!$1:12)))))","v":""},{"$f":"IF($AG$10=\"\",\"\",IF(ROWS(BD!$1:12)>COUNTIFS(BD!$B:$B,$AG$10),\"\",INDEX(BD!$G$2:$G$138,SMALL(IF(BD!$B$2:$B$138=$AG$10,IF(BD!$B$2:$B$138=$AG$10,ROW(BD!$B$2:$B$138)-ROW(BD!$B$2)+1),FALSE),ROWS(BD!$1:12)))))","v":""},{"$f":"IF($AG$10=\"\",\"\",IF(ROWS(BD!$1:12)>COUNTIFS(BD!$B:$B,$AG$10),\"\",INDEX(BD!$H$2:$H$138,SMALL(IF(BD!$B$2:$B$138=$AG$10,IF(BD!$B$2:$B$138=$AG$10,ROW(BD!$B$2:$B$138)-ROW(BD!$B$2)+1),FALSE),ROWS(BD!$1:12)))))","v":""},null,{"$f":"IF($AM$10=\"\",\"\",IF(ROWS(BD!$1:12)>COUNTIFS(BD!$B$1:$B$138,$AM$10),\"\",INDEX(BD!$C$2:$C$138,SMALL(IF(BD!$B$2:$B$138=$AM$10,IF(BD!$B$2:$B$138=$AM$10,ROW(BD!$B$2:$B$138)-ROW(BD!$B$2)+1),FALSE),ROWS(BD!$1:12)))))","v":""},{"$f":"IF($AM$10=\"\",\"\",IF(ROWS(BD!$1:12)>COUNTIFS(BD!$B$1:$B$138,$AM$10),\"\",INDEX(BD!$E$2:$E$138,SMALL(IF(BD!$B$2:$B$138=$AM$10,IF(BD!$B$2:$B$138=$AM$10,ROW(BD!$B$2:$B$138)-ROW(BD!$B$2)+1),FALSE),ROWS(BD!$1:12)))))","v":""},{"$f":"IF($AM$10=\"\",\"\",IF(ROWS(BD!$1:12)>COUNTIFS(BD!$B$1:$B$138,$AM$10),\"\",INDEX(BD!$F$2:$F$138,SMALL(IF(BD!$B$2:$B$138=$AM$10,IF(BD!$B$2:$B$138=$AM$10,ROW(BD!$B$2:$B$138)-ROW(BD!$B$2)+1),FALSE),ROWS(BD!$1:12)))))","v":""},{"$f":"IF($AM$10=\"\",\"\",IF(ROWS(BD!$1:12)>COUNTIFS(BD!$B:$B,$AM$10),\"\",INDEX(BD!$G$2:$G$138,SMALL(IF(BD!$B$2:$B$138=$AM$10,IF(BD!$B$2:$B$138=$AM$10,ROW(BD!$B$2:$B$138)-ROW(BD!$B$2)+1),FALSE),ROWS(BD!$1:12)))))","v":""},{"$f":"IF($AM$10=\"\",\"\",IF(ROWS(BD!$1:12)>COUNTIFS(BD!$B:$B,$AM$10),\"\",INDEX(BD!$H$2:$H$138,SMALL(IF(BD!$B$2:$B$138=$AM$10,IF(BD!$B$2:$B$138=$AM$10,ROW(BD!$B$2:$B$138)-ROW(BD!$B$2)+1),FALSE),ROWS(BD!$1:12)))))","v":""}]
[null,null,{"$f":"IF($C$10=\"\",\"\",IF(ROWS(BD!$1:13)>COUNTIFS(BD!$B$1:$B$138,$C$10),\"\",INDEX(BD!$C$2:$C$138,SMALL(IF(BD!$B$2:$B$138=$C$10,IF(BD!$B$2:$B$138=$C$10,ROW(BD!$B$2:$B$138)-ROW(BD!$B$2)+1),FALSE),ROWS(BD!$1:13)))))","v":""},{"$f":"IF($C$10=\"\",\"\",IF(ROWS(BD!$1:13)>COUNTIFS(BD!$B$1:$B$138,$C$10),\"\",INDEX(BD!$E$2:$E$138,SMALL(IF(BD!$B$2:$B$138=$C$10,IF(BD!$B$2:$B$138=$C$10,ROW(BD!$B$2:$B$138)-ROW(BD!$B$2)+1),FALSE),ROWS(BD!$1:13)))))","v":""},{"$f":"IF($C$10=\"\",\"\",IF(ROWS(BD!$1:13)>COUNTIFS(BD!$B$1:$B$138,$C$10),\"\",INDEX(BD!$F$2:$F$138,SMALL(IF(BD!$B$2:$B$138=$C$10,IF(BD!$B$2:$B$138=$C$10,ROW(BD!$B$2:$B$138)-ROW(BD!$B$2)+1),FALSE),ROWS(BD!$1:13)))))","v":""},{"$f":"IF($C$10=\"\",\"\",IF(ROWS(BD!$1:13)>COUNTIFS(BD!$B:$B,$C$10),\"\",INDEX(BD!$G$2:$G$138,SMALL(IF(BD!$B$2:$B$138=$C$10,IF(BD!$B$2:$B$138=$C$10,ROW(BD!$B$2:$B$138)-ROW(BD!$B$2)+1),FALSE),ROWS(BD!$1:13)))))","v":""},{"$f":"IF($C$10=\"\",\"\",IF(ROWS(BD!$1:13)>COUNTIFS(BD!$B:$B,$C$10),\"\",INDEX(BD!$H$2:$H$138,SMALL(IF(BD!$B$2:$B$138=$C$10,IF(BD!$B$2:$B$138=$C$10,ROW(BD!$B$2:$B$138)-ROW(BD!$B$2)+1),FALSE),ROWS(BD!$1:13)))))","v":""},null,{"$f":"IF($I$10=\"\",\"\",IF(ROWS(BD!$1:13)>COUNTIFS(BD!$B$1:$B$138,$I$10),\"\",INDEX(BD!$C$2:$C$138,SMALL(IF(BD!$B$2:$B$138=$I$10,IF(BD!$B$2:$B$138=$I$10,ROW(BD!$B$2:$B$138)-ROW(BD!$B$2)+1),FALSE),ROWS(BD!$1:13)))))","v":""},{"$f":"IF($I$10=\"\",\"\",IF(ROWS(BD!$1:13)>COUNTIFS(BD!$B$1:$B$138,$I$10),\"\",INDEX(BD!$E$2:$E$138,SMALL(IF(BD!$B$2:$B$138=$I$10,IF(BD!$B$2:$B$138=$I$10,ROW(BD!$B$2:$B$138)-ROW(BD!$B$2)+1),FALSE),ROWS(BD!$1:13)))))","v":""},{"$f":"IF($I$10=\"\",\"\",IF(ROWS(BD!$1:13)>COUNTIFS(BD!$B$1:$B$138,$I$10),\"\",INDEX(BD!$F$2:$F$138,SMALL(IF(BD!$B$2:$B$138=$I$10,IF(BD!$B$2:$B$138=$I$10,ROW(BD!$B$2:$B$138)-ROW(BD!$B$2)+1),FALSE),ROWS(BD!$1:13)))))","v":""},{"$f":"IF($I$10=\"\",\"\",IF(ROWS(BD!$1:13)>COUNTIFS(BD!$B:$B,$I$10),\"\",INDEX(BD!$G$2:$G$138,SMALL(IF(BD!$B$2:$B$138=$I$10,IF(BD!$B$2:$B$138=$I$10,ROW(BD!$B$2:$B$138)-ROW(BD!$B$2)+1),FALSE),ROWS(BD!$1:13)))))","v":""},{"$f":"IF($I$10=\"\",\"\",IF(ROWS(BD!$1:13)>COUNTIFS(BD!$B:$B,$I$10),\"\",INDEX(BD!$H$2:$H$138,SMALL(IF(BD!$B$2:$B$138=$I$10,IF(BD!$B$2:$B$138=$I$10,ROW(BD!$B$2:$B$138)-ROW(BD!$B$2)+1),FALSE),ROWS(BD!$1:13)))))","v":""},null,{"$f":"IF($O$10=\"\",\"\",IF(ROWS(BD!$1:13)>COUNTIFS(BD!$B$1:$B$138,$O$10),\"\",INDEX(BD!$C$2:$C$138,SMALL(IF(BD!$B$2:$B$138=$O$10,IF(BD!$B$2:$B$138=$O$10,ROW(BD!$B$2:$B$138)-ROW(BD!$B$2)+1),FALSE),ROWS(BD!$1:13)))))","v":""},{"$f":"IF($O$10=\"\",\"\",IF(ROWS(BD!$1:13)>COUNTIFS(BD!$B$1:$B$138,$O$10),\"\",INDEX(BD!$E$2:$E$138,SMALL(IF(BD!$B$2:$B$138=$O$10,IF(BD!$B$2:$B$138=$O$10,ROW(BD!$B$2:$B$138)-ROW(BD!$B$2)+1),FALSE),ROWS(BD!$1:13)))))","v":""},{"$f":"IF($O$10=\"\",\"\",IF(ROWS(BD!$1:13)>COUNTIFS(BD!$B$1:$B$138,$O$10),\"\",INDEX(BD!$F$2:$F$138,SMALL(IF(BD!$B$2:$B$138=$O$10,IF(BD!$B$2:$B$138=$O$10,ROW(BD!$B$2:$B$138)-ROW(BD!$B$2)+1),FALSE),ROWS(BD!$1:13)))))","v":""},{"$f":"IF($O$10=\"\",\"\",IF(ROWS(BD!$1:13)>COUNTIFS(BD!$B:$B,$O$10),\"\",INDEX(BD!$G$2:$G$138,SMALL(IF(BD!$B$2:$B$138=$O$10,IF(BD!$B$2:$B$138=$O$10,ROW(BD!$B$2:$B$138)-ROW(BD!$B$2)+1),FALSE),ROWS(BD!$1:13)))))","v":""},{"$f":"IF($O$10=\"\",\"\",IF(ROWS(BD!$1:13)>COUNTIFS(BD!$B:$B,$O$10),\"\",INDEX(BD!$H$2:$H$138,SMALL(IF(BD!$B$2:$B$138=$O$10,IF(BD!$B$2:$B$138=$O$10,ROW(BD!$B$2:$B$138)-ROW(BD!$B$2)+1),FALSE),ROWS(BD!$1:13)))))","v":""},null,{"$f":"IF($U$10=\"\",\"\",IF(ROWS(BD!$1:13)>COUNTIFS(BD!$B$1:$B$138,$U$10),\"\",INDEX(BD!$C$2:$C$138,SMALL(IF(BD!$B$2:$B$138=$U$10,IF(BD!$B$2:$B$138=$U$10,ROW(BD!$B$2:$B$138)-ROW(BD!$B$2)+1),FALSE),ROWS(BD!$1:13)))))","v":""},{"$f":"IF($U$10=\"\",\"\",IF(ROWS(BD!$1:13)>COUNTIFS(BD!$B$1:$B$138,$U$10),\"\",INDEX(BD!$E$2:$E$138,SMALL(IF(BD!$B$2:$B$138=$U$10,IF(BD!$B$2:$B$138=$U$10,ROW(BD!$B$2:$B$138)-ROW(BD!$B$2)+1),FALSE),ROWS(BD!$1:13)))))","v":""},{"$f":"IF($U$10=\"\",\"\",IF(ROWS(BD!$1:13)>COUNTIFS(BD!$B$1:$B$138,$U$10),\"\",INDEX(BD!$F$2:$F$138,SMALL(IF(BD!$B$2:$B$138=$U$10,IF(BD!$B$2:$B$138=$U$10,ROW(BD!$B$2:$B$138)-ROW(BD!$B$2)+1),FALSE),ROWS(BD!$1:13)))))","v":""},{"$f":"IF($U$10=\"\",\"\",IF(ROWS(BD!$1:13)>COUNTIFS(BD!$B:$B,$U$10),\"\",INDEX(BD!$G$2:$G$138,SMALL(IF(BD!$B$2:$B$138=$U$10,IF(BD!$B$2:$B$138=$U$10,ROW(BD!$B$2:$B$138)-ROW(BD!$B$2)+1),FALSE),ROWS(BD!$1:13)))))","v":""},{"$f":"IF($U$10=\"\",\"\",IF(ROWS(BD!$1:13)>COUNTIFS(BD!$B:$B,$U$10),\"\",INDEX(BD!$H$2:$H$138,SMALL(IF(BD!$B$2:$B$138=$U$10,IF(BD!$B$2:$B$138=$U$10,ROW(BD!$B$2:$B$138)-ROW(BD!$B$2)+1),FALSE),ROWS(BD!$1:13)))))","v":""},null,{"$f":"IF($AA$10=\"\",\"\",IF(ROWS(BD!$1:13)>COUNTIFS(BD!$B$1:$B$138,$AA$10),\"\",INDEX(BD!$C$2:$C$138,SMALL(IF(BD!$B$2:$B$138=$AA$10,IF(BD!$B$2:$B$138=$AA$10,ROW(BD!$B$2:$B$138)-ROW(BD!$B$2)+1),FALSE),ROWS(BD!$1:13)))))","v":""},{"$f":"IF($AA$10=\"\",\"\",IF(ROWS(BD!$1:13)>COUNTIFS(BD!$B$1:$B$138,$AA$10),\"\",INDEX(BD!$E$2:$E$138,SMALL(IF(BD!$B$2:$B$138=$AA$10,IF(BD!$B$2:$B$138=$AA$10,ROW(BD!$B$2:$B$138)-ROW(BD!$B$2)+1),FALSE),ROWS(BD!$1:13)))))","v":""},{"$f":"IF($AA$10=\"\",\"\",IF(ROWS(BD!$1:13)>COUNTIFS(BD!$B$1:$B$138,$AA$10),\"\",INDEX(BD!$F$2:$F$138,SMALL(IF(BD!$B$2:$B$138=$AA$10,IF(BD!$B$2:$B$138=$AA$10,ROW(BD!$B$2:$B$138)-ROW(BD!$B$2)+1),FALSE),ROWS(BD!$1:13)))))","v":""},{"$f":"IF($AA$10=\"\",\"\",IF(ROWS(BD!$1:13)>COUNTIFS(BD!$B:$B,$AA$10),\"\",INDEX(BD!$G$2:$G$138,SMALL(IF(BD!$B$2:$B$138=$AA$10,IF(BD!$B$2:$B$138=$AA$10,ROW(BD!$B$2:$B$138)-ROW(BD!$B$2)+1),FALSE),ROWS(BD!$1:13)))))","v":""},{"$f":"IF($AA$10=\"\",\"\",IF(ROWS(BD!$1:13)>COUNTIFS(BD!$B:$B,$AA$10),\"\",INDEX(BD!$H$2:$H$138,SMALL(IF(BD!$B$2:$B$138=$AA$10,IF(BD!$B$2:$B$138=$AA$10,ROW(BD!$B$2:$B$138)-ROW(BD!$B$2)+1),FALSE),ROWS(BD!$1:13)))))","v":""},null,{"$f":"IF($AG$10=\"\",\"\",IF(ROWS(BD!$1:13)>COUNTIFS(BD!$B$1:$B$138,$AG$10),\"\",INDEX(BD!$C$2:$C$138,SMALL(IF(BD!$B$2:$B$138=$AG$10,IF(BD!$B$2:$B$138=$AG$10,ROW(BD!$B$2:$B$138)-ROW(BD!$B$2)+1),FALSE),ROWS(BD!$1:13)))))","v":""},{"$f":"IF($AG$10=\"\",\"\",IF(ROWS(BD!$1:13)>COUNTIFS(BD!$B$1:$B$138,$AG$10),\"\",INDEX(BD!$E$2:$E$138,SMALL(IF(BD!$B$2:$B$138=$AG$10,IF(BD!$B$2:$B$138=$AG$10,ROW(BD!$B$2:$B$138)-ROW(BD!$B$2)+1),FALSE),ROWS(BD!$1:13)))))","v":""},{"$f":"IF($AG$10=\"\",\"\",IF(ROWS(BD!$1:13)>COUNTIFS(BD!$B$1:$B$138,$AG$10),\"\",INDEX(BD!$F$2:$F$138,SMALL(IF(BD!$B$2:$B$138=$AG$10,IF(BD!$B$2:$B$138=$AG$10,ROW(BD!$B$2:$B$138)-ROW(BD!$B$2)+1),FALSE),ROWS(BD!$1:13)))))","v":""},{"$f":"IF($AG$10=\"\",\"\",IF(ROWS(BD!$1:13)>COUNTIFS(BD!$B:$B,$AG$10),\"\",INDEX(BD!$G$2:$G$138,SMALL(IF(BD!$B$2:$B$138=$AG$10,IF(BD!$B$2:$B$138=$AG$10,ROW(BD!$B$2:$B$138)-ROW(BD!$B$2)+1),FALSE),ROWS(BD!$1:13)))))","v":""},{"$f":"IF($AG$10=\"\",\"\",IF(ROWS(BD!$1:13)>COUNTIFS(BD!$B:$B,$AG$10),\"\",INDEX(BD!$H$2:$H$138,SMALL(IF(BD!$B$2:$B$138=$AG$10,IF(BD!$B$2:$B$138=$AG$10,ROW(BD!$B$2:$B$138)-ROW(BD!$B$2)+1),FALSE),ROWS(BD!$1:13)))))","v":""},null,{"$f":"IF($AM$10=\"\",\"\",IF(ROWS(BD!$1:13)>COUNTIFS(BD!$B$1:$B$138,$AM$10),\"\",INDEX(BD!$C$2:$C$138,SMALL(IF(BD!$B$2:$B$138=$AM$10,IF(BD!$B$2:$B$138=$AM$10,ROW(BD!$B$2:$B$138)-ROW(BD!$B$2)+1),FALSE),ROWS(BD!$1:13)))))","v":""},{"$f":"IF($AM$10=\"\",\"\",IF(ROWS(BD!$1:13)>COUNTIFS(BD!$B$1:$B$138,$AM$10),\"\",INDEX(BD!$E$2:$E$138,SMALL(IF(BD!$B$2:$B$138=$AM$10,IF(BD!$B$2:$B$138=$AM$10,ROW(BD!$B$2:$B$138)-ROW(BD!$B$2)+1),FALSE),ROWS(BD!$1:13)))))","v":""},{"$f":"IF($AM$10=\"\",\"\",IF(ROWS(BD!$1:13)>COUNTIFS(BD!$B$1:$B$138,$AM$10),\"\",INDEX(BD!$F$2:$F$138,SMALL(IF(BD!$B$2:$B$138=$AM$10,IF(BD!$B$2:$B$138=$AM$10,ROW(BD!$B$2:$B$138)-ROW(BD!$B$2)+1),FALSE),ROWS(BD!$1:13)))))","v":""},{"$f":"IF($AM$10=\"\",\"\",IF(ROWS(BD!$1:13)>COUNTIFS(BD!$B:$B,$AM$10),\"\",INDEX(BD!$G$2:$G$138,SMALL(IF(BD!$B$2:$B$138=$AM$10,IF(BD!$B$2:$B$138=$AM$10,ROW(BD!$B$2:$B$138)-ROW(BD!$B$2)+1),FALSE),ROWS(BD!$1:13)))))","v":""},{"$f":"IF($AM$10=\"\",\"\",IF(ROWS(BD!$1:13)>COUNTIFS(BD!$B:$B,$AM$10),\"\",INDEX(BD!$H$2:$H$138,SMALL(IF(BD!$B$2:$B$138=$AM$10,IF(BD!$B$2:$B$138=$AM$10,ROW(BD!$B$2:$B$138)-ROW(BD!$B$2)+1),FALSE),ROWS(BD!$1:13)))))","v":""}]
[null,null,{"$f":"IF($C$10=\"\",\"\",IF(ROWS(BD!$1:14)>COUNTIFS(BD!$B$1:$B$138,$C$10),\"\",INDEX(BD!$C$2:$C$138,SMALL(IF(BD!$B$2:$B$138=$C$10,IF(BD!$B$2:$B$138=$C$10,ROW(BD!$B$2:$B$138)-ROW(BD!$B$2)+1),FALSE),ROWS(BD!$1:14)))))","v":""},{"$f":"IF($C$10=\"\",\"\",IF(ROWS(BD!$1:14)>COUNTIFS(BD!$B$1:$B$138,$C$10),\"\",INDEX(BD!$E$2:$E$138,SMALL(IF(BD!$B$2:$B$138=$C$10,IF(BD!$B$2:$B$138=$C$10,ROW(BD!$B$2:$B$138)-ROW(BD!$B$2)+1),FALSE),ROWS(BD!$1:14)))))","v":""},{"$f":"IF($C$10=\"\",\"\",IF(ROWS(BD!$1:14)>COUNTIFS(BD!$B$1:$B$138,$C$10),\"\",INDEX(BD!$F$2:$F$138,SMALL(IF(BD!$B$2:$B$138=$C$10,IF(BD!$B$2:$B$138=$C$10,ROW(BD!$B$2:$B$138)-ROW(BD!$B$2)+1),FALSE),ROWS(BD!$1:14)))))","v":""},{"$f":"IF($C$10=\"\",\"\",IF(ROWS(BD!$1:14)>COUNTIFS(BD!$B:$B,$C$10),\"\",INDEX(BD!$G$2:$G$138,SMALL(IF(BD!$B$2:$B$138=$C$10,IF(BD!$B$2:$B$138=$C$10,ROW(BD!$B$2:$B$138)-ROW(BD!$B$2)+1),FALSE),ROWS(BD!$1:14)))))","v":""},{"$f":"IF($C$10=\"\",\"\",IF(ROWS(BD!$1:14)>COUNTIFS(BD!$B:$B,$C$10),\"\",INDEX(BD!$H$2:$H$138,SMALL(IF(BD!$B$2:$B$138=$C$10,IF(BD!$B$2:$B$138=$C$10,ROW(BD!$B$2:$B$138)-ROW(BD!$B$2)+1),FALSE),ROWS(BD!$1:14)))))","v":""},null,{"$f":"IF($I$10=\"\",\"\",IF(ROWS(BD!$1:14)>COUNTIFS(BD!$B$1:$B$138,$I$10),\"\",INDEX(BD!$C$2:$C$138,SMALL(IF(BD!$B$2:$B$138=$I$10,IF(BD!$B$2:$B$138=$I$10,ROW(BD!$B$2:$B$138)-ROW(BD!$B$2)+1),FALSE),ROWS(BD!$1:14)))))","v":""},{"$f":"IF($I$10=\"\",\"\",IF(ROWS(BD!$1:14)>COUNTIFS(BD!$B$1:$B$138,$I$10),\"\",INDEX(BD!$E$2:$E$138,SMALL(IF(BD!$B$2:$B$138=$I$10,IF(BD!$B$2:$B$138=$I$10,ROW(BD!$B$2:$B$138)-ROW(BD!$B$2)+1),FALSE),ROWS(BD!$1:14)))))","v":""},{"$f":"IF($I$10=\"\",\"\",IF(ROWS(BD!$1:14)>COUNTIFS(BD!$B$1:$B$138,$I$10),\"\",INDEX(BD!$F$2:$F$138,SMALL(IF(BD!$B$2:$B$138=$I$10,IF(BD!$B$2:$B$138=$I$10,ROW(BD!$B$2:$B$138)-ROW(BD!$B$2)+1),FALSE),ROWS(BD!$1:14)))))","v":""},{"$f":"IF($I$10=\"\",\"\",IF(ROWS(BD!$1:14)>COUNTIFS(BD!$B:$B,$I$10),\"\",INDEX(BD!$G$2:$G$138,SMALL(IF(BD!$B$2:$B$138=$I$10,IF(BD!$B$2:$B$138=$I$10,ROW(BD!$B$2:$B$138)-ROW(BD!$B$2)+1),FALSE),ROWS(BD!$1:14)))))","v":""},{"$f":"IF($I$10=\"\",\"\",IF(ROWS(BD!$1:14)>COUNTIFS(BD!$B:$B,$I$10),\"\",INDEX(BD!$H$2:$H$138,SMALL(IF(BD!$B$2:$B$138=$I$10,IF(BD!$B$2:$B$138=$I$10,ROW(BD!$B$2:$B$138)-ROW(BD!$B$2)+1),FALSE),ROWS(BD!$1:14)))))","v":""},null,{"$f":"IF($O$10=\"\",\"\",IF(ROWS(BD!$1:14)>COUNTIFS(BD!$B$1:$B$138,$O$10),\"\",INDEX(BD!$C$2:$C$138,SMALL(IF(BD!$B$2:$B$138=$O$10,IF(BD!$B$2:$B$138=$O$10,ROW(BD!$B$2:$B$138)-ROW(BD!$B$2)+1),FALSE),ROWS(BD!$1:14)))))","v":""},{"$f":"IF($O$10=\"\",\"\",IF(ROWS(BD!$1:14)>COUNTIFS(BD!$B$1:$B$138,$O$10),\"\",INDEX(BD!$E$2:$E$138,SMALL(IF(BD!$B$2:$B$138=$O$10,IF(BD!$B$2:$B$138=$O$10,ROW(BD!$B$2:$B$138)-ROW(BD!$B$2)+1),FALSE),ROWS(BD!$1:14)))))","v":""},{"$f":"IF($O$10=\"\",\"\",IF(ROWS(BD!$1:14)>COUNTIFS(BD!$B$1:$B$138,$O$10),\"\",INDEX(BD!$F$2:$F$138,SMALL(IF(BD!$B$2:$B$138=$O$10,IF(BD!$B$2:$B$138=$O$10,ROW(BD!$B$2:$B$138)-ROW(BD!$B$2)+1),FALSE),ROWS(BD!$1:14)))))","v":""},{"$f":"IF($O$10=\"\",\"\",IF(ROWS(BD!$1:14)>COUNTIFS(BD!$B:$B,$O$10),\"\",INDEX(BD!$G$2:$G$138,SMALL(IF(BD!$B$2:$B$138=$O$10,IF(BD!$B$2:$B$138=$O$10,ROW(BD!$B$2:$B$138)-ROW(BD!$B$2)+1),FALSE),ROWS(BD!$1:14)))))","v":""},{"$f":"IF($O$10=\"\",\"\",IF(ROWS(BD!$1:14)>COUNTIFS(BD!$B:$B,$O$10),\"\",INDEX(BD!$H$2:$H$138,SMALL(IF(BD!$B$2:$B$138=$O$10,IF(BD!$B$2:$B$138=$O$10,ROW(BD!$B$2:$B$138)-ROW(BD!$B$2)+1),FALSE),ROWS(BD!$1:14)))))","v":""},null,{"$f":"IF($U$10=\"\",\"\",IF(ROWS(BD!$1:14)>COUNTIFS(BD!$B$1:$B$138,$U$10),\"\",INDEX(BD!$C$2:$C$138,SMALL(IF(BD!$B$2:$B$138=$U$10,IF(BD!$B$2:$B$138=$U$10,ROW(BD!$B$2:$B$138)-ROW(BD!$B$2)+1),FALSE),ROWS(BD!$1:14)))))","v":""},{"$f":"IF($U$10=\"\",\"\",IF(ROWS(BD!$1:14)>COUNTIFS(BD!$B$1:$B$138,$U$10),\"\",INDEX(BD!$E$2:$E$138,SMALL(IF(BD!$B$2:$B$138=$U$10,IF(BD!$B$2:$B$138=$U$10,ROW(BD!$B$2:$B$138)-ROW(BD!$B$2)+1),FALSE),ROWS(BD!$1:14)))))","v":""},{"$f":"IF($U$10=\"\",\"\",IF(ROWS(BD!$1:14)>COUNTIFS(BD!$B$1:$B$138,$U$10),\"\",INDEX(BD!$F$2:$F$138,SMALL(IF(BD!$B$2:$B$138=$U$10,IF(BD!$B$2:$B$138=$U$10,ROW(BD!$B$2:$B$138)-ROW(BD!$B$2)+1),FALSE),ROWS(BD!$1:14)))))","v":""},{"$f":"IF($U$10=\"\",\"\",IF(ROWS(BD!$1:14)>COUNTIFS(BD!$B:$B,$U$10),\"\",INDEX(BD!$G$2:$G$138,SMALL(IF(BD!$B$2:$B$138=$U$10,IF(BD!$B$2:$B$138=$U$10,ROW(BD!$B$2:$B$138)-ROW(BD!$B$2)+1),FALSE),ROWS(BD!$1:14)))))","v":""},{"$f":"IF($U$10=\"\",\"\",IF(ROWS(BD!$1:14)>COUNTIFS(BD!$B:$B,$U$10),\"\",INDEX(BD!$H$2:$H$138,SMALL(IF(BD!$B$2:$B$138=$U$10,IF(BD!$B$2:$B$138=$U$10,ROW(BD!$B$2:$B$138)-ROW(BD!$B$2)+1),FALSE),ROWS(BD!$1:14)))))","v":""},null,{"$f":"IF($AA$10=\"\",\"\",IF(ROWS(BD!$1:14)>COUNTIFS(BD!$B$1:$B$138,$AA$10),\"\",INDEX(BD!$C$2:$C$138,SMALL(IF(BD!$B$2:$B$138=$AA$10,IF(BD!$B$2:$B$138=$AA$10,ROW(BD!$B$2:$B$138)-ROW(BD!$B$2)+1),FALSE),ROWS(BD!$1:14)))))","v":""},{"$f":"IF($AA$10=\"\",\"\",IF(ROWS(BD!$1:14)>COUNTIFS(BD!$B$1:$B$138,$AA$10),\"\",INDEX(BD!$E$2:$E$138,SMALL(IF(BD!$B$2:$B$138=$AA$10,IF(BD!$B$2:$B$138=$AA$10,ROW(BD!$B$2:$B$138)-ROW(BD!$B$2)+1),FALSE),ROWS(BD!$1:14)))))","v":""},{"$f":"IF($AA$10=\"\",\"\",IF(ROWS(BD!$1:14)>COUNTIFS(BD!$B$1:$B$138,$AA$10),\"\",INDEX(BD!$F$2:$F$138,SMALL(IF(BD!$B$2:$B$138=$AA$10,IF(BD!$B$2:$B$138=$AA$10,ROW(BD!$B$2:$B$138)-ROW(BD!$B$2)+1),FALSE),ROWS(BD!$1:14)))))","v":""},{"$f":"IF($AA$10=\"\",\"\",IF(ROWS(BD!$1:14)>COUNTIFS(BD!$B:$B,$AA$10),\"\",INDEX(BD!$G$2:$G$138,SMALL(IF(BD!$B$2:$B$138=$AA$10,IF(BD!$B$2:$B$138=$AA$10,ROW(BD!$B$2:$B$138)-ROW(BD!$B$2)+1),FALSE),ROWS(BD!$1:14)))))","v":""},{"$f":"IF($AA$10=\"\",\"\",IF(ROWS(BD!$1:14)>COUNTIFS(BD!$B:$B,$AA$10),\"\",INDEX(BD!$H$2:$H$138,SMALL(IF(BD!$B$2:$B$138=$AA$10,IF(BD!$B$2:$B$138=$AA$10,ROW(BD!$B$2:$B$138)-ROW(BD!$B$2)+1),FALSE),ROWS(BD!$1:14)))))","v":""},null,{"$f":"IF($AG$10=\"\",\"\",IF(ROWS(BD!$1:14)>COUNTIFS(BD!$B$1:$B$138,$AG$10),\"\",INDEX(BD!$C$2:$C$138,SMALL(IF(BD!$B$2:$B$138=$AG$10,IF(BD!$B$2:$B$138=$AG$10,ROW(BD!$B$2:$B$138)-ROW(BD!$B$2)+1),FALSE),ROWS(BD!$1:14)))))","v":""},{"$f":"IF($AG$10=\"\",\"\",IF(ROWS(BD!$1:14)>COUNTIFS(BD!$B$1:$B$138,$AG$10),\"\",INDEX(BD!$E$2:$E$138,SMALL(IF(BD!$B$2:$B$138=$AG$10,IF(BD!$B$2:$B$138=$AG$10,ROW(BD!$B$2:$B$138)-ROW(BD!$B$2)+1),FALSE),ROWS(BD!$1:14)))))","v":""},{"$f":"IF($AG$10=\"\",\"\",IF(ROWS(BD!$1:14)>COUNTIFS(BD!$B$1:$B$138,$AG$10),\"\",INDEX(BD!$F$2:$F$138,SMALL(IF(BD!$B$2:$B$138=$AG$10,IF(BD!$B$2:$B$138=$AG$10,ROW(BD!$B$2:$B$138)-ROW(BD!$B$2)+1),FALSE),ROWS(BD!$1:14)))))","v":""},{"$f":"IF($AG$10=\"\",\"\",IF(ROWS(BD!$1:14)>COUNTIFS(BD!$B:$B,$AG$10),\"\",INDEX(BD!$G$2:$G$138,SMALL(IF(BD!$B$2:$B$138=$AG$10,IF(BD!$B$2:$B$138=$AG$10,ROW(BD!$B$2:$B$138)-ROW(BD!$B$2)+1),FALSE),ROWS(BD!$1:14)))))","v":""},{"$f":"IF($AG$10=\"\",\"\",IF(ROWS(BD!$1:14)>COUNTIFS(BD!$B:$B,$AG$10),\"\",INDEX(BD!$H$2:$H$138,SMALL(IF(BD!$B$2:$B$138=$AG$10,IF(BD!$B$2:$B$138=$AG$10,ROW(BD!$B$2:$B$138)-ROW(BD!$B$2)+1),FALSE),ROWS(BD!$1:14)))))","v":""},null,{"$f":"IF($AM$10=\"\",\"\",IF(ROWS(BD!$1:14)>COUNTIFS(BD!$B$1:$B$138,$AM$10),\"\",INDEX(BD!$C$2:$C$138,SMALL(IF(BD!$B$2:$B$138=$AM$10,IF(BD!$B$2:$B$138=$AM$10,ROW(BD!$B$2:$B$138)-ROW(BD!$B$2)+1),FALSE),ROWS(BD!$1:14)))))","v":""},{"$f":"IF($AM$10=\"\",\"\",IF(ROWS(BD!$1:14)>COUNTIFS(BD!$B$1:$B$138,$AM$10),\"\",INDEX(BD!$E$2:$E$138,SMALL(IF(BD!$B$2:$B$138=$AM$10,IF(BD!$B$2:$B$138=$AM$10,ROW(BD!$B$2:$B$138)-ROW(BD!$B$2)+1),FALSE),ROWS(BD!$1:14)))))","v":""},{"$f":"IF($AM$10=\"\",\"\",IF(ROWS(BD!$1:14)>COUNTIFS(BD!$B$1:$B$138,$AM$10),\"\",INDEX(BD!$F$2:$F$138,SMALL(IF(BD!$B$2:$B$138=$AM$10,IF(BD!$B$2:$B$138=$AM$10,ROW(BD!$B$2:$B$138)-ROW(BD!$B$2)+1),FALSE),ROWS(BD!$1:14)))))","v":""},{"$f":"IF($AM$10=\"\",\"\",IF(ROWS(BD!$1:14)>COUNTIFS(BD!$B:$B,$AM$10),\"\",INDEX(BD!$G$2:$G$138,SMALL(IF(BD!$B$2:$B$138=$AM$10,IF(BD!$B$2:$B$138=$AM$10,ROW(BD!$B$2:$B$138)-ROW(BD!$B$2)+1),FALSE),ROWS(BD!$1:14)))))","v":""},{"$f":"IF($AM$10=\"\",\"\",IF(ROWS(BD!$1:14)>COUNTIFS(BD!$B:$B,$AM$10),\"\",INDEX(BD!$H$2:$H$138,SMALL(IF(BD!$B$2:$B$138=$AM$10,IF(BD!$B$2:$B$138=$AM$10,ROW(BD!$B$2:$B$138)-ROW(BD!$B$2)+1),FALSE),ROWS(BD!$1:14)))))","v":""}]
[null,null,{"$f":"IF($C$10=\"\",\"\",IF(ROWS(BD!$1:15)>COUNTIFS(BD!$B$1:$B$138,$C$10),\"\",INDEX(BD!$C$2:$C$138,SMALL(IF(BD!$B$2:$B$138=$C$10,IF(BD!$B$2:$B$138=$C$10,ROW(BD!$B$2:$B$138)-ROW(BD!$B$2)+1),FALSE),ROWS(BD!$1:15)))))","v":""},{"$f":"IF($C$10=\"\",\"\",IF(ROWS(BD!$1:15)>COUNTIFS(BD!$B$1:$B$138,$C$10),\"\",INDEX(BD!$E$2:$E$138,SMALL(IF(BD!$B$2:$B$138=$C$10,IF(BD!$B$2:$B$138=$C$10,ROW(BD!$B$2:$B$138)-ROW(BD!$B$2)+1),FALSE),ROWS(BD!$1:15)))))","v":""},{"$f":"IF($C$10=\"\",\"\",IF(ROWS(BD!$1:15)>COUNTIFS(BD!$B$1:$B$138,$C$10),\"\",INDEX(BD!$F$2:$F$138,SMALL(IF(BD!$B$2:$B$138=$C$10,IF(BD!$B$2:$B$138=$C$10,ROW(BD!$B$2:$B$138)-ROW(BD!$B$2)+1),FALSE),ROWS(BD!$1:15)))))","v":""},{"$f":"IF($C$10=\"\",\"\",IF(ROWS(BD!$1:15)>COUNTIFS(BD!$B:$B,$C$10),\"\",INDEX(BD!$G$2:$G$138,SMALL(IF(BD!$B$2:$B$138=$C$10,IF(BD!$B$2:$B$138=$C$10,ROW(BD!$B$2:$B$138)-ROW(BD!$B$2)+1),FALSE),ROWS(BD!$1:15)))))","v":""},{"$f":"IF($C$10=\"\",\"\",IF(ROWS(BD!$1:15)>COUNTIFS(BD!$B:$B,$C$10),\"\",INDEX(BD!$H$2:$H$138,SMALL(IF(BD!$B$2:$B$138=$C$10,IF(BD!$B$2:$B$138=$C$10,ROW(BD!$B$2:$B$138)-ROW(BD!$B$2)+1),FALSE),ROWS(BD!$1:15)))))","v":""},null,{"$f":"IF($I$10=\"\",\"\",IF(ROWS(BD!$1:15)>COUNTIFS(BD!$B$1:$B$138,$I$10),\"\",INDEX(BD!$C$2:$C$138,SMALL(IF(BD!$B$2:$B$138=$I$10,IF(BD!$B$2:$B$138=$I$10,ROW(BD!$B$2:$B$138)-ROW(BD!$B$2)+1),FALSE),ROWS(BD!$1:15)))))","v":""},{"$f":"IF($I$10=\"\",\"\",IF(ROWS(BD!$1:15)>COUNTIFS(BD!$B$1:$B$138,$I$10),\"\",INDEX(BD!$E$2:$E$138,SMALL(IF(BD!$B$2:$B$138=$I$10,IF(BD!$B$2:$B$138=$I$10,ROW(BD!$B$2:$B$138)-ROW(BD!$B$2)+1),FALSE),ROWS(BD!$1:15)))))","v":""},{"$f":"IF($I$10=\"\",\"\",IF(ROWS(BD!$1:15)>COUNTIFS(BD!$B$1:$B$138,$I$10),\"\",INDEX(BD!$F$2:$F$138,SMALL(IF(BD!$B$2:$B$138=$I$10,IF(BD!$B$2:$B$138=$I$10,ROW(BD!$B$2:$B$138)-ROW(BD!$B$2)+1),FALSE),ROWS(BD!$1:15)))))","v":""},{"$f":"IF($I$10=\"\",\"\",IF(ROWS(BD!$1:15)>COUNTIFS(BD!$B:$B,$I$10),\"\",INDEX(BD!$G$2:$G$138,SMALL(IF(BD!$B$2:$B$138=$I$10,IF(BD!$B$2:$B$138=$I$10,ROW(BD!$B$2:$B$138)-ROW(BD!$B$2)+1),FALSE),ROWS(BD!$1:15)))))","v":""},{"$f":"IF($I$10=\"\",\"\",IF(ROWS(BD!$1:15)>COUNTIFS(BD!$B:$B,$I$10),\"\",INDEX(BD!$H$2:$H$138,SMALL(IF(BD!$B$2:$B$138=$I$10,IF(BD!$B$2:$B$138=$I$10,ROW(BD!$B$2:$B$138)-ROW(BD!$B$2)+1),FALSE),ROWS(BD!$1:15)))))","v":""},null,{"$f":"IF($O$10=\"\",\"\",IF(ROWS(BD!$1:15)>COUNTIFS(BD!$B$1:$B$138,$O$10),\"\",INDEX(BD!$C$2:$C$138,SMALL(IF(BD!$B$2:$B$138=$O$10,IF(BD!$B$2:$B$138=$O$10,ROW(BD!$B$2:$B$138)-ROW(BD!$B$2)+1),FALSE),ROWS(BD!$1:15)))))","v":""},{"$f":"IF($O$10=\"\",\"\",IF(ROWS(BD!$1:15)>COUNTIFS(BD!$B$1:$B$138,$O$10),\"\",INDEX(BD!$E$2:$E$138,SMALL(IF(BD!$B$2:$B$138=$O$10,IF(BD!$B$2:$B$138=$O$10,ROW(BD!$B$2:$B$138)-ROW(BD!$B$2)+1),FALSE),ROWS(BD!$1:15)))))","v":""},{"$f":"IF($O$10=\"\",\"\",IF(ROWS(BD!$1:15)>COUNTIFS(BD!$B$1:$B$138,$O$10),\"\",INDEX(BD!$F$2:$F$138,SMALL(IF(BD!$B$2:$B$138=$O$10,IF(BD!$B$2:$B$138=$O$10,ROW(BD!$B$2:$B$138)-ROW(BD!$B$2)+1),FALSE),ROWS(BD!$1:15)))))","v":""},{"$f":"IF($O$10=\"\",\"\",IF(ROWS(BD!$1:15)>COUNTIFS(BD!$B:$B,$O$10),\"\",INDEX(BD!$G$2:$G$138,SMALL(IF(BD!$B$2:$B$138=$O$10,IF(BD!$B$2:$B$138=$O$10,ROW(BD!$B$2:$B$138)-ROW(BD!$B$2)+1),FALSE),ROWS(BD!$1:15)))))","v":""},{"$f":"IF($O$10=\"\",\"\",IF(ROWS(BD!$1:15)>COUNTIFS(BD!$B:$B,$O$10),\"\",INDEX(BD!$H$2:$H$138,SMALL(IF(BD!$B$2:$B$138=$O$10,IF(BD!$B$2:$B$138=$O$10,ROW(BD!$B$2:$B$138)-ROW(BD!$B$2)+1),FALSE),ROWS(BD!$1:15)))))","v":""},null,{"$f":"IF($U$10=\"\",\"\",IF(ROWS(BD!$1:15)>COUNTIFS(BD!$B$1:$B$138,$U$10),\"\",INDEX(BD!$C$2:$C$138,SMALL(IF(BD!$B$2:$B$138=$U$10,IF(BD!$B$2:$B$138=$U$10,ROW(BD!$B$2:$B$138)-ROW(BD!$B$2)+1),FALSE),ROWS(BD!$1:15)))))","v":""},{"$f":"IF($U$10=\"\",\"\",IF(ROWS(BD!$1:15)>COUNTIFS(BD!$B$1:$B$138,$U$10),\"\",INDEX(BD!$E$2:$E$138,SMALL(IF(BD!$B$2:$B$138=$U$10,IF(BD!$B$2:$B$138=$U$10,ROW(BD!$B$2:$B$138)-ROW(BD!$B$2)+1),FALSE),ROWS(BD!$1:15)))))","v":""},{"$f":"IF($U$10=\"\",\"\",IF(ROWS(BD!$1:15)>COUNTIFS(BD!$B$1:$B$138,$U$10),\"\",INDEX(BD!$F$2:$F$138,SMALL(IF(BD!$B$2:$B$138=$U$10,IF(BD!$B$2:$B$138=$U$10,ROW(BD!$B$2:$B$138)-ROW(BD!$B$2)+1),FALSE),ROWS(BD!$1:15)))))","v":""},{"$f":"IF($U$10=\"\",\"\",IF(ROWS(BD!$1:15)>COUNTIFS(BD!$B:$B,$U$10),\"\",INDEX(BD!$G$2:$G$138,SMALL(IF(BD!$B$2:$B$138=$U$10,IF(BD!$B$2:$B$138=$U$10,ROW(BD!$B$2:$B$138)-ROW(BD!$B$2)+1),FALSE),ROWS(BD!$1:15)))))","v":""},{"$f":"IF($U$10=\"\",\"\",IF(ROWS(BD!$1:15)>COUNTIFS(BD!$B:$B,$U$10),\"\",INDEX(BD!$H$2:$H$138,SMALL(IF(BD!$B$2:$B$138=$U$10,IF(BD!$B$2:$B$138=$U$10,ROW(BD!$B$2:$B$138)-ROW(BD!$B$2)+1),FALSE),ROWS(BD!$1:15)))))","v":""},null,{"$f":"IF($AA$10=\"\",\"\",IF(ROWS(BD!$1:15)>COUNTIFS(BD!$B$1:$B$138,$AA$10),\"\",INDEX(BD!$C$2:$C$138,SMALL(IF(BD!$B$2:$B$138=$AA$10,IF(BD!$B$2:$B$138=$AA$10,ROW(BD!$B$2:$B$138)-ROW(BD!$B$2)+1),FALSE),ROWS(BD!$1:15)))))","v":""},{"$f":"IF($AA$10=\"\",\"\",IF(ROWS(BD!$1:15)>COUNTIFS(BD!$B$1:$B$138,$AA$10),\"\",INDEX(BD!$E$2:$E$138,SMALL(IF(BD!$B$2:$B$138=$AA$10,IF(BD!$B$2:$B$138=$AA$10,ROW(BD!$B$2:$B$138)-ROW(BD!$B$2)+1),FALSE),ROWS(BD!$1:15)))))","v":""},{"$f":"IF($AA$10=\"\",\"\",IF(ROWS(BD!$1:15)>COUNTIFS(BD!$B$1:$B$138,$AA$10),\"\",INDEX(BD!$F$2:$F$138,SMALL(IF(BD!$B$2:$B$138=$AA$10,IF(BD!$B$2:$B$138=$AA$10,ROW(BD!$B$2:$B$138)-ROW(BD!$B$2)+1),FALSE),ROWS(BD!$1:15)))))","v":""},{"$f":"IF($AA$10=\"\",\"\",IF(ROWS(BD!$1:15)>COUNTIFS(BD!$B:$B,$AA$10),\"\",INDEX(BD!$G$2:$G$138,SMALL(IF(BD!$B$2:$B$138=$AA$10,IF(BD!$B$2:$B$138=$AA$10,ROW(BD!$B$2:$B$138)-ROW(BD!$B$2)+1),FALSE),ROWS(BD!$1:15)))))","v":""},{"$f":"IF($AA$10=\"\",\"\",IF(ROWS(BD!$1:15)>COUNTIFS(BD!$B:$B,$AA$10),\"\",INDEX(BD!$H$2:$H$138,SMALL(IF(BD!$B$2:$B$138=$AA$10,IF(BD!$B$2:$B$138=$AA$10,ROW(BD!$B$2:$B$138)-ROW(BD!$B$2)+1),FALSE),ROWS(BD!$1:15)))))","v":""},null,{"$f":"IF($AG$10=\"\",\"\",IF(ROWS(BD!$1:15)>COUNTIFS(BD!$B$1:$B$138,$AG$10),\"\",INDEX(BD!$C$2:$C$138,SMALL(IF(BD!$B$2:$B$138=$AG$10,IF(BD!$B$2:$B$138=$AG$10,ROW(BD!$B$2:$B$138)-ROW(BD!$B$2)+1),FALSE),ROWS(BD!$1:15)))))","v":""},{"$f":"IF($AG$10=\"\",\"\",IF(ROWS(BD!$1:15)>COUNTIFS(BD!$B$1:$B$138,$AG$10),\"\",INDEX(BD!$E$2:$E$138,SMALL(IF(BD!$B$2:$B$138=$AG$10,IF(BD!$B$2:$B$138=$AG$10,ROW(BD!$B$2:$B$138)-ROW(BD!$B$2)+1),FALSE),ROWS(BD!$1:15)))))","v":""},{"$f":"IF($AG$10=\"\",\"\",IF(ROWS(BD!$1:15)>COUNTIFS(BD!$B$1:$B$138,$AG$10),\"\",INDEX(BD!$F$2:$F$138,SMALL(IF(BD!$B$2:$B$138=$AG$10,IF(BD!$B$2:$B$138=$AG$10,ROW(BD!$B$2:$B$138)-ROW(BD!$B$2)+1),FALSE),ROWS(BD!$1:15)))))","v":""},{"$f":"IF($AG$10=\"\",\"\",IF(ROWS(BD!$1:15)>COUNTIFS(BD!$B:$B,$AG$10),\"\",INDEX(BD!$G$2:$G$138,SMALL(IF(BD!$B$2:$B$138=$AG$10,IF(BD!$B$2:$B$138=$AG$10,ROW(BD!$B$2:$B$138)-ROW(BD!$B$2)+1),FALSE),ROWS(BD!$1:15)))))","v":""},{"$f":"IF($AG$10=\"\",\"\",IF(ROWS(BD!$1:15)>COUNTIFS(BD!$B:$B,$AG$10),\"\",INDEX(BD!$H$2:$H$138,SMALL(IF(BD!$B$2:$B$138=$AG$10,IF(BD!$B$2:$B$138=$AG$10,ROW(BD!$B$2:$B$138)-ROW(BD!$B$2)+1),FALSE),ROWS(BD!$1:15)))))","v":""},null,{"$f":"IF($AM$10=\"\",\"\",IF(ROWS(BD!$1:15)>COUNTIFS(BD!$B$1:$B$138,$AM$10),\"\",INDEX(BD!$C$2:$C$138,SMALL(IF(BD!$B$2:$B$138=$AM$10,IF(BD!$B$2:$B$138=$AM$10,ROW(BD!$B$2:$B$138)-ROW(BD!$B$2)+1),FALSE),ROWS(BD!$1:15)))))","v":""},{"$f":"IF($AM$10=\"\",\"\",IF(ROWS(BD!$1:15)>COUNTIFS(BD!$B$1:$B$138,$AM$10),\"\",INDEX(BD!$E$2:$E$138,SMALL(IF(BD!$B$2:$B$138=$AM$10,IF(BD!$B$2:$B$138=$AM$10,ROW(BD!$B$2:$B$138)-ROW(BD!$B$2)+1),FALSE),ROWS(BD!$1:15)))))","v":""},{"$f":"IF($AM$10=\"\",\"\",IF(ROWS(BD!$1:15)>COUNTIFS(BD!$B$1:$B$138,$AM$10),\"\",INDEX(BD!$F$2:$F$138,SMALL(IF(BD!$B$2:$B$138=$AM$10,IF(BD!$B$2:$B$138=$AM$10,ROW(BD!$B$2:$B$138)-ROW(BD!$B$2)+1),FALSE),ROWS(BD!$1:15)))))","v":""},{"$f":"IF($AM$10=\"\",\"\",IF(ROWS(BD!$1:15)>COUNTIFS(BD!$B:$B,$AM$10),\"\",INDEX(BD!$G$2:$G$138,SMALL(IF(BD!$B$2:$B$138=$AM$10,IF(BD!$B$2:$B$138=$AM$10,ROW(BD!$B$2:$B$138)-ROW(BD!$B$2)+1),FALSE),ROWS(BD!$1:15)))))","v":""},{"$f":"IF($AM$10=\"\",\"\",IF(ROWS(BD!$1:15)>COUNTIFS(BD!$B:$B,$AM$10),\"\",INDEX(BD!$H$2:$H$138,SMALL(IF(BD!$B$2:$B$138=$AM$10,IF(BD!$B$2:$B$138=$AM$10,ROW(BD!$B$2:$B$138)-ROW(BD!$B$2)+1),FALSE),ROWS(BD!$1:15)))))","v":""}]
[null,null,{"$f":"IF($C$10=\"\",\"\",IF(ROWS(BD!$1:16)>COUNTIFS(BD!$B$1:$B$138,$C$10),\"\",INDEX(BD!$C$2:$C$138,SMALL(IF(BD!$B$2:$B$138=$C$10,IF(BD!$B$2:$B$138=$C$10,ROW(BD!$B$2:$B$138)-ROW(BD!$B$2)+1),FALSE),ROWS(BD!$1:16)))))","v":""},{"$f":"IF($C$10=\"\",\"\",IF(ROWS(BD!$1:16)>COUNTIFS(BD!$B$1:$B$138,$C$10),\"\",INDEX(BD!$E$2:$E$138,SMALL(IF(BD!$B$2:$B$138=$C$10,IF(BD!$B$2:$B$138=$C$10,ROW(BD!$B$2:$B$138)-ROW(BD!$B$2)+1),FALSE),ROWS(BD!$1:16)))))","v":""},{"$f":"IF($C$10=\"\",\"\",IF(ROWS(BD!$1:16)>COUNTIFS(BD!$B$1:$B$138,$C$10),\"\",INDEX(BD!$F$2:$F$138,SMALL(IF(BD!$B$2:$B$138=$C$10,IF(BD!$B$2:$B$138=$C$10,ROW(BD!$B$2:$B$138)-ROW(BD!$B$2)+1),FALSE),ROWS(BD!$1:16)))))","v":""},{"$f":"IF($C$10=\"\",\"\",IF(ROWS(BD!$1:16)>COUNTIFS(BD!$B:$B,$C$10),\"\",INDEX(BD!$G$2:$G$138,SMALL(IF(BD!$B$2:$B$138=$C$10,IF(BD!$B$2:$B$138=$C$10,ROW(BD!$B$2:$B$138)-ROW(BD!$B$2)+1),FALSE),ROWS(BD!$1:16)))))","v":""},{"$f":"IF($C$10=\"\",\"\",IF(ROWS(BD!$1:16)>COUNTIFS(BD!$B:$B,$C$10),\"\",INDEX(BD!$H$2:$H$138,SMALL(IF(BD!$B$2:$B$138=$C$10,IF(BD!$B$2:$B$138=$C$10,ROW(BD!$B$2:$B$138)-ROW(BD!$B$2)+1),FALSE),ROWS(BD!$1:16)))))","v":""},null,{"$f":"IF($I$10=\"\",\"\",IF(ROWS(BD!$1:16)>COUNTIFS(BD!$B$1:$B$138,$I$10),\"\",INDEX(BD!$C$2:$C$138,SMALL(IF(BD!$B$2:$B$138=$I$10,IF(BD!$B$2:$B$138=$I$10,ROW(BD!$B$2:$B$138)-ROW(BD!$B$2)+1),FALSE),ROWS(BD!$1:16)))))","v":""},{"$f":"IF($I$10=\"\",\"\",IF(ROWS(BD!$1:16)>COUNTIFS(BD!$B$1:$B$138,$I$10),\"\",INDEX(BD!$E$2:$E$138,SMALL(IF(BD!$B$2:$B$138=$I$10,IF(BD!$B$2:$B$138=$I$10,ROW(BD!$B$2:$B$138)-ROW(BD!$B$2)+1),FALSE),ROWS(BD!$1:16)))))","v":""},{"$f":"IF($I$10=\"\",\"\",IF(ROWS(BD!$1:16)>COUNTIFS(BD!$B$1:$B$138,$I$10),\"\",INDEX(BD!$F$2:$F$138,SMALL(IF(BD!$B$2:$B$138=$I$10,IF(BD!$B$2:$B$138=$I$10,ROW(BD!$B$2:$B$138)-ROW(BD!$B$2)+1),FALSE),ROWS(BD!$1:16)))))","v":""},{"$f":"IF($I$10=\"\",\"\",IF(ROWS(BD!$1:16)>COUNTIFS(BD!$B:$B,$I$10),\"\",INDEX(BD!$G$2:$G$138,SMALL(IF(BD!$B$2:$B$138=$I$10,IF(BD!$B$2:$B$138=$I$10,ROW(BD!$B$2:$B$138)-ROW(BD!$B$2)+1),FALSE),ROWS(BD!$1:16)))))","v":""},{"$f":"IF($I$10=\"\",\"\",IF(ROWS(BD!$1:16)>COUNTIFS(BD!$B:$B,$I$10),\"\",INDEX(BD!$H$2:$H$138,SMALL(IF(BD!$B$2:$B$138=$I$10,IF(BD!$B$2:$B$138=$I$10,ROW(BD!$B$2:$B$138)-ROW(BD!$B$2)+1),FALSE),ROWS(BD!$1:16)))))","v":""},null,{"$f":"IF($O$10=\"\",\"\",IF(ROWS(BD!$1:16)>COUNTIFS(BD!$B$1:$B$138,$O$10),\"\",INDEX(BD!$C$2:$C$138,SMALL(IF(BD!$B$2:$B$138=$O$10,IF(BD!$B$2:$B$138=$O$10,ROW(BD!$B$2:$B$138)-ROW(BD!$B$2)+1),FALSE),ROWS(BD!$1:16)))))","v":""},{"$f":"IF($O$10=\"\",\"\",IF(ROWS(BD!$1:16)>COUNTIFS(BD!$B$1:$B$138,$O$10),\"\",INDEX(BD!$E$2:$E$138,SMALL(IF(BD!$B$2:$B$138=$O$10,IF(BD!$B$2:$B$138=$O$10,ROW(BD!$B$2:$B$138)-ROW(BD!$B$2)+1),FALSE),ROWS(BD!$1:16)))))","v":""},{"$f":"IF($O$10=\"\",\"\",IF(ROWS(BD!$1:16)>COUNTIFS(BD!$B$1:$B$138,$O$10),\"\",INDEX(BD!$F$2:$F$138,SMALL(IF(BD!$B$2:$B$138=$O$10,IF(BD!$B$2:$B$138=$O$10,ROW(BD!$B$2:$B$138)-ROW(BD!$B$2)+1),FALSE),ROWS(BD!$1:16)))))","v":""},{"$f":"IF($O$10=\"\",\"\",IF(ROWS(BD!$1:16)>COUNTIFS(BD!$B:$B,$O$10),\"\",INDEX(BD!$G$2:$G$138,SMALL(IF(BD!$B$2:$B$138=$O$10,IF(BD!$B$2:$B$138=$O$10,ROW(BD!$B$2:$B$138)-ROW(BD!$B$2)+1),FALSE),ROWS(BD!$1:16)))))","v":""},{"$f":"IF($O$10=\"\",\"\",IF(ROWS(BD!$1:16)>COUNTIFS(BD!$B:$B,$O$10),\"\",INDEX(BD!$H$2:$H$138,SMALL(IF(BD!$B$2:$B$138=$O$10,IF(BD!$B$2:$B$138=$O$10,ROW(BD!$B$2:$B$138)-ROW(BD!$B$2)+1),FALSE),ROWS(BD!$1:16)))))","v":""},null,{"$f":"IF($U$10=\"\",\"\",IF(ROWS(BD!$1:16)>COUNTIFS(BD!$B$1:$B$138,$U$10),\"\",INDEX(BD!$C$2:$C$138,SMALL(IF(BD!$B$2:$B$138=$U$10,IF(BD!$B$2:$B$138=$U$10,ROW(BD!$B$2:$B$138)-ROW(BD!$B$2)+1),FALSE),ROWS(BD!$1:16)))))","v":""},{"$f":"IF($U$10=\"\",\"\",IF(ROWS(BD!$1:16)>COUNTIFS(BD!$B$1:$B$138,$U$10),\"\",INDEX(BD!$E$2:$E$138,SMALL(IF(BD!$B$2:$B$138=$U$10,IF(BD!$B$2:$B$138=$U$10,ROW(BD!$B$2:$B$138)-ROW(BD!$B$2)+1),FALSE),ROWS(BD!$1:16)))))","v":""},{"$f":"IF($U$10=\"\",\"\",IF(ROWS(BD!$1:16)>COUNTIFS(BD!$B$1:$B$138,$U$10),\"\",INDEX(BD!$F$2:$F$138,SMALL(IF(BD!$B$2:$B$138=$U$10,IF(BD!$B$2:$B$138=$U$10,ROW(BD!$B$2:$B$138)-ROW(BD!$B$2)+1),FALSE),ROWS(BD!$1:16)))))","v":""},{"$f":"IF($U$10=\"\",\"\",IF(ROWS(BD!$1:16)>COUNTIFS(BD!$B:$B,$U$10),\"\",INDEX(BD!$G$2:$G$138,SMALL(IF(BD!$B$2:$B$138=$U$10,IF(BD!$B$2:$B$138=$U$10,ROW(BD!$B$2:$B$138)-ROW(BD!$B$2)+1),FALSE),ROWS(BD!$1:16)))))","v":""},{"$f":"IF($U$10=\"\",\"\",IF(ROWS(BD!$1:16)>COUNTIFS(BD!$B:$B,$U$10),\"\",INDEX(BD!$H$2:$H$138,SMALL(IF(BD!$B$2:$B$138=$U$10,IF(BD!$B$2:$B$138=$U$10,ROW(BD!$B$2:$B$138)-ROW(BD!$B$2)+1),FALSE),ROWS(BD!$1:16)))))","v":""},null,{"$f":"IF($AA$10=\"\",\"\",IF(ROWS(BD!$1:16)>COUNTIFS(BD!$B$1:$B$138,$AA$10),\"\",INDEX(BD!$C$2:$C$138,SMALL(IF(BD!$B$2:$B$138=$AA$10,IF(BD!$B$2:$B$138=$AA$10,ROW(BD!$B$2:$B$138)-ROW(BD!$B$2)+1),FALSE),ROWS(BD!$1:16)))))","v":""},{"$f":"IF($AA$10=\"\",\"\",IF(ROWS(BD!$1:16)>COUNTIFS(BD!$B$1:$B$138,$AA$10),\"\",INDEX(BD!$E$2:$E$138,SMALL(IF(BD!$B$2:$B$138=$AA$10,IF(BD!$B$2:$B$138=$AA$10,ROW(BD!$B$2:$B$138)-ROW(BD!$B$2)+1),FALSE),ROWS(BD!$1:16)))))","v":""},{"$f":"IF($AA$10=\"\",\"\",IF(ROWS(BD!$1:16)>COUNTIFS(BD!$B$1:$B$138,$AA$10),\"\",INDEX(BD!$F$2:$F$138,SMALL(IF(BD!$B$2:$B$138=$AA$10,IF(BD!$B$2:$B$138=$AA$10,ROW(BD!$B$2:$B$138)-ROW(BD!$B$2)+1),FALSE),ROWS(BD!$1:16)))))","v":""},{"$f":"IF($AA$10=\"\",\"\",IF(ROWS(BD!$1:16)>COUNTIFS(BD!$B:$B,$AA$10),\"\",INDEX(BD!$G$2:$G$138,SMALL(IF(BD!$B$2:$B$138=$AA$10,IF(BD!$B$2:$B$138=$AA$10,ROW(BD!$B$2:$B$138)-ROW(BD!$B$2)+1),FALSE),ROWS(BD!$1:16)))))","v":""},{"$f":"IF($AA$10=\"\",\"\",IF(ROWS(BD!$1:16)>COUNTIFS(BD!$B:$B,$AA$10),\"\",INDEX(BD!$H$2:$H$138,SMALL(IF(BD!$B$2:$B$138=$AA$10,IF(BD!$B$2:$B$138=$AA$10,ROW(BD!$B$2:$B$138)-ROW(BD!$B$2)+1),FALSE),ROWS(BD!$1:16)))))","v":""},null,{"$f":"IF($AG$10=\"\",\"\",IF(ROWS(BD!$1:16)>COUNTIFS(BD!$B$1:$B$138,$AG$10),\"\",INDEX(BD!$C$2:$C$138,SMALL(IF(BD!$B$2:$B$138=$AG$10,IF(BD!$B$2:$B$138=$AG$10,ROW(BD!$B$2:$B$138)-ROW(BD!$B$2)+1),FALSE),ROWS(BD!$1:16)))))","v":""},{"$f":"IF($AG$10=\"\",\"\",IF(ROWS(BD!$1:16)>COUNTIFS(BD!$B$1:$B$138,$AG$10),\"\",INDEX(BD!$E$2:$E$138,SMALL(IF(BD!$B$2:$B$138=$AG$10,IF(BD!$B$2:$B$138=$AG$10,ROW(BD!$B$2:$B$138)-ROW(BD!$B$2)+1),FALSE),ROWS(BD!$1:16)))))","v":""},{"$f":"IF($AG$10=\"\",\"\",IF(ROWS(BD!$1:16)>COUNTIFS(BD!$B$1:$B$138,$AG$10),\"\",INDEX(BD!$F$2:$F$138,SMALL(IF(BD!$B$2:$B$138=$AG$10,IF(BD!$B$2:$B$138=$AG$10,ROW(BD!$B$2:$B$138)-ROW(BD!$B$2)+1),FALSE),ROWS(BD!$1:16)))))","v":""},{"$f":"IF($AG$10=\"\",\"\",IF(ROWS(BD!$1:16)>COUNTIFS(BD!$B:$B,$AG$10),\"\",INDEX(BD!$G$2:$G$138,SMALL(IF(BD!$B$2:$B$138=$AG$10,IF(BD!$B$2:$B$138=$AG$10,ROW(BD!$B$2:$B$138)-ROW(BD!$B$2)+1),FALSE),ROWS(BD!$1:16)))))","v":""},{"$f":"IF($AG$10=\"\",\"\",IF(ROWS(BD!$1:16)>COUNTIFS(BD!$B:$B,$AG$10),\"\",INDEX(BD!$H$2:$H$138,SMALL(IF(BD!$B$2:$B$138=$AG$10,IF(BD!$B$2:$B$138=$AG$10,ROW(BD!$B$2:$B$138)-ROW(BD!$B$2)+1),FALSE),ROWS(BD!$1:16)))))","v":""},null,{"$f":"IF($AM$10=\"\",\"\",IF(ROWS(BD!$1:16)>COUNTIFS(BD!$B$1:$B$138,$AM$10),\"\",INDEX(BD!$C$2:$C$138,SMALL(IF(BD!$B$2:$B$138=$AM$10,IF(BD!$B$2:$B$138=$AM$10,ROW(BD!$B$2:$B$138)-ROW(BD!$B$2)+1),FALSE),ROWS(BD!$1:16)))))","v":""},{"$f":"IF($AM$10=\"\",\"\",IF(ROWS(BD!$1:16)>COUNTIFS(BD!$B$1:$B$138,$AM$10),\"\",INDEX(BD!$E$2:$E$138,SMALL(IF(BD!$B$2:$B$138=$AM$10,IF(BD!$B$2:$B$138=$AM$10,ROW(BD!$B$2:$B$138)-ROW(BD!$B$2)+1),FALSE),ROWS(BD!$1:16)))))","v":""},{"$f":"IF($AM$10=\"\",\"\",IF(ROWS(BD!$1:16)>COUNTIFS(BD!$B$1:$B$138,$AM$10),\"\",INDEX(BD!$F$2:$F$138,SMALL(IF(BD!$B$2:$B$138=$AM$10,IF(BD!$B$2:$B$138=$AM$10,ROW(BD!$B$2:$B$138)-ROW(BD!$B$2)+1),FALSE),ROWS(BD!$1:16)))))","v":""},{"$f":"IF($AM$10=\"\",\"\",IF(ROWS(BD!$1:16)>COUNTIFS(BD!$B:$B,$AM$10),\"\",INDEX(BD!$G$2:$G$138,SMALL(IF(BD!$B$2:$B$138=$AM$10,IF(BD!$B$2:$B$138=$AM$10,ROW(BD!$B$2:$B$138)-ROW(BD!$B$2)+1),FALSE),ROWS(BD!$1:16)))))","v":""},{"$f":"IF($AM$10=\"\",\"\",IF(ROWS(BD!$1:16)>COUNTIFS(BD!$B:$B,$AM$10),\"\",INDEX(BD!$H$2:$H$138,SMALL(IF(BD!$B$2:$B$138=$AM$10,IF(BD!$B$2:$B$138=$AM$10,ROW(BD!$B$2:$B$138)-ROW(BD!$B$2)+1),FALSE),ROWS(BD!$1:16)))))","v":""}]
[null,null,{"$f":"IF($C$10=\"\",\"\",IF(ROWS(BD!$1:17)>COUNTIFS(BD!$B$1:$B$138,$C$10),\"\",INDEX(BD!$C$2:$C$138,SMALL(IF(BD!$B$2:$B$138=$C$10,IF(BD!$B$2:$B$138=$C$10,ROW(BD!$B$2:$B$138)-ROW(BD!$B$2)+1),FALSE),ROWS(BD!$1:17)))))","v":""},{"$f":"IF($C$10=\"\",\"\",IF(ROWS(BD!$1:17)>COUNTIFS(BD!$B$1:$B$138,$C$10),\"\",INDEX(BD!$E$2:$E$138,SMALL(IF(BD!$B$2:$B$138=$C$10,IF(BD!$B$2:$B$138=$C$10,ROW(BD!$B$2:$B$138)-ROW(BD!$B$2)+1),FALSE),ROWS(BD!$1:17)))))","v":""},{"$f":"IF($C$10=\"\",\"\",IF(ROWS(BD!$1:17)>COUNTIFS(BD!$B$1:$B$138,$C$10),\"\",INDEX(BD!$F$2:$F$138,SMALL(IF(BD!$B$2:$B$138=$C$10,IF(BD!$B$2:$B$138=$C$10,ROW(BD!$B$2:$B$138)-ROW(BD!$B$2)+1),FALSE),ROWS(BD!$1:17)))))","v":""},{"$f":"IF($C$10=\"\",\"\",IF(ROWS(BD!$1:17)>COUNTIFS(BD!$B:$B,$C$10),\"\",INDEX(BD!$G$2:$G$138,SMALL(IF(BD!$B$2:$B$138=$C$10,IF(BD!$B$2:$B$138=$C$10,ROW(BD!$B$2:$B$138)-ROW(BD!$B$2)+1),FALSE),ROWS(BD!$1:17)))))","v":""},{"$f":"IF($C$10=\"\",\"\",IF(ROWS(BD!$1:17)>COUNTIFS(BD!$B:$B,$C$10),\"\",INDEX(BD!$H$2:$H$138,SMALL(IF(BD!$B$2:$B$138=$C$10,IF(BD!$B$2:$B$138=$C$10,ROW(BD!$B$2:$B$138)-ROW(BD!$B$2)+1),FALSE),ROWS(BD!$1:17)))))","v":""},null,{"$f":"IF($I$10=\"\",\"\",IF(ROWS(BD!$1:17)>COUNTIFS(BD!$B$1:$B$138,$I$10),\"\",INDEX(BD!$C$2:$C$138,SMALL(IF(BD!$B$2:$B$138=$I$10,IF(BD!$B$2:$B$138=$I$10,ROW(BD!$B$2:$B$138)-ROW(BD!$B$2)+1),FALSE),ROWS(BD!$1:17)))))","v":""},{"$f":"IF($I$10=\"\",\"\",IF(ROWS(BD!$1:17)>COUNTIFS(BD!$B$1:$B$138,$I$10),\"\",INDEX(BD!$E$2:$E$138,SMALL(IF(BD!$B$2:$B$138=$I$10,IF(BD!$B$2:$B$138=$I$10,ROW(BD!$B$2:$B$138)-ROW(BD!$B$2)+1),FALSE),ROWS(BD!$1:17)))))","v":""},{"$f":"IF($I$10=\"\",\"\",IF(ROWS(BD!$1:17)>COUNTIFS(BD!$B$1:$B$138,$I$10),\"\",INDEX(BD!$F$2:$F$138,SMALL(IF(BD!$B$2:$B$138=$I$10,IF(BD!$B$2:$B$138=$I$10,ROW(BD!$B$2:$B$138)-ROW(BD!$B$2)+1),FALSE),ROWS(BD!$1:17)))))","v":""},{"$f":"IF($I$10=\"\",\"\",IF(ROWS(BD!$1:17)>COUNTIFS(BD!$B:$B,$I$10),\"\",INDEX(BD!$G$2:$G$138,SMALL(IF(BD!$B$2:$B$138=$I$10,IF(BD!$B$2:$B$138=$I$10,ROW(BD!$B$2:$B$138)-ROW(BD!$B$2)+1),FALSE),ROWS(BD!$1:17)))))","v":""},{"$f":"IF($I$10=\"\",\"\",IF(ROWS(BD!$1:17)>COUNTIFS(BD!$B:$B,$I$10),\"\",INDEX(BD!$H$2:$H$138,SMALL(IF(BD!$B$2:$B$138=$I$10,IF(BD!$B$2:$B$138=$I$10,ROW(BD!$B$2:$B$138)-ROW(BD!$B$2)+1),FALSE),ROWS(BD!$1:17)))))","v":""},null,{"$f":"IF($O$10=\"\",\"\",IF(ROWS(BD!$1:17)>COUNTIFS(BD!$B$1:$B$138,$O$10),\"\",INDEX(BD!$C$2:$C$138,SMALL(IF(BD!$B$2:$B$138=$O$10,IF(BD!$B$2:$B$138=$O$10,ROW(BD!$B$2:$B$138)-ROW(BD!$B$2)+1),FALSE),ROWS(BD!$1:17)))))","v":""},{"$f":"IF($O$10=\"\",\"\",IF(ROWS(BD!$1:17)>COUNTIFS(BD!$B$1:$B$138,$O$10),\"\",INDEX(BD!$E$2:$E$138,SMALL(IF(BD!$B$2:$B$138=$O$10,IF(BD!$B$2:$B$138=$O$10,ROW(BD!$B$2:$B$138)-ROW(BD!$B$2)+1),FALSE),ROWS(BD!$1:17)))))","v":""},{"$f":"IF($O$10=\"\",\"\",IF(ROWS(BD!$1:17)>COUNTIFS(BD!$B$1:$B$138,$O$10),\"\",INDEX(BD!$F$2:$F$138,SMALL(IF(BD!$B$2:$B$138=$O$10,IF(BD!$B$2:$B$138=$O$10,ROW(BD!$B$2:$B$138)-ROW(BD!$B$2)+1),FALSE),ROWS(BD!$1:17)))))","v":""},{"$f":"IF($O$10=\"\",\"\",IF(ROWS(BD!$1:17)>COUNTIFS(BD!$B:$B,$O$10),\"\",INDEX(BD!$G$2:$G$138,SMALL(IF(BD!$B$2:$B$138=$O$10,IF(BD!$B$2:$B$138=$O$10,ROW(BD!$B$2:$B$138)-ROW(BD!$B$2)+1),FALSE),ROWS(BD!$1:17)))))","v":""},{"$f":"IF($O$10=\"\",\"\",IF(ROWS(BD!$1:17)>COUNTIFS(BD!$B:$B,$O$10),\"\",INDEX(BD!$H$2:$H$138,SMALL(IF(BD!$B$2:$B$138=$O$10,IF(BD!$B$2:$B$138=$O$10,ROW(BD!$B$2:$B$138)-ROW(BD!$B$2)+1),FALSE),ROWS(BD!$1:17)))))","v":""},null,{"$f":"IF($U$10=\"\",\"\",IF(ROWS(BD!$1:17)>COUNTIFS(BD!$B$1:$B$138,$U$10),\"\",INDEX(BD!$C$2:$C$138,SMALL(IF(BD!$B$2:$B$138=$U$10,IF(BD!$B$2:$B$138=$U$10,ROW(BD!$B$2:$B$138)-ROW(BD!$B$2)+1),FALSE),ROWS(BD!$1:17)))))","v":""},{"$f":"IF($U$10=\"\",\"\",IF(ROWS(BD!$1:17)>COUNTIFS(BD!$B$1:$B$138,$U$10),\"\",INDEX(BD!$E$2:$E$138,SMALL(IF(BD!$B$2:$B$138=$U$10,IF(BD!$B$2:$B$138=$U$10,ROW(BD!$B$2:$B$138)-ROW(BD!$B$2)+1),FALSE),ROWS(BD!$1:17)))))","v":""},{"$f":"IF($U$10=\"\",\"\",IF(ROWS(BD!$1:17)>COUNTIFS(BD!$B$1:$B$138,$U$10),\"\",INDEX(BD!$F$2:$F$138,SMALL(IF(BD!$B$2:$B$138=$U$10,IF(BD!$B$2:$B$138=$U$10,ROW(BD!$B$2:$B$138)-ROW(BD!$B$2)+1),FALSE),ROWS(BD!$1:17)))))","v":""},{"$f":"IF($U$10=\"\",\"\",IF(ROWS(BD!$1:17)>COUNTIFS(BD!$B:$B,$U$10),\"\",INDEX(BD!$G$2:$G$138,SMALL(IF(BD!$B$2:$B$138=$U$10,IF(BD!$B$2:$B$138=$U$10,ROW(BD!$B$2:$B$138)-ROW(BD!$B$2)+1),FALSE),ROWS(BD!$1:17)))))","v":""},{"$f":"IF($U$10=\"\",\"\",IF(ROWS(BD!$1:17)>COUNTIFS(BD!$B:$B,$U$10),\"\",INDEX(BD!$H$2:$H$138,SMALL(IF(BD!$B$2:$B$138=$U$10,IF(BD!$B$2:$B$138=$U$10,ROW(BD!$B$2:$B$138)-ROW(BD!$B$2)+1),FALSE),ROWS(BD!$1:17)))))","v":""},null,{"$f":"IF($AA$10=\"\",\"\",IF(ROWS(BD!$1:17)>COUNTIFS(BD!$B$1:$B$138,$AA$10),\"\",INDEX(BD!$C$2:$C$138,SMALL(IF(BD!$B$2:$B$138=$AA$10,IF(BD!$B$2:$B$138=$AA$10,ROW(BD!$B$2:$B$138)-ROW(BD!$B$2)+1),FALSE),ROWS(BD!$1:17)))))","v":""},{"$f":"IF($AA$10=\"\",\"\",IF(ROWS(BD!$1:17)>COUNTIFS(BD!$B$1:$B$138,$AA$10),\"\",INDEX(BD!$E$2:$E$138,SMALL(IF(BD!$B$2:$B$138=$AA$10,IF(BD!$B$2:$B$138=$AA$10,ROW(BD!$B$2:$B$138)-ROW(BD!$B$2)+1),FALSE),ROWS(BD!$1:17)))))","v":""},{"$f":"IF($AA$10=\"\",\"\",IF(ROWS(BD!$1:17)>COUNTIFS(BD!$B$1:$B$138,$AA$10),\"\",INDEX(BD!$F$2:$F$138,SMALL(IF(BD!$B$2:$B$138=$AA$10,IF(BD!$B$2:$B$138=$AA$10,ROW(BD!$B$2:$B$138)-ROW(BD!$B$2)+1),FALSE),ROWS(BD!$1:17)))))","v":""},{"$f":"IF($AA$10=\"\",\"\",IF(ROWS(BD!$1:17)>COUNTIFS(BD!$B:$B,$AA$10),\"\",INDEX(BD!$G$2:$G$138,SMALL(IF(BD!$B$2:$B$138=$AA$10,IF(BD!$B$2:$B$138=$AA$10,ROW(BD!$B$2:$B$138)-ROW(BD!$B$2)+1),FALSE),ROWS(BD!$1:17)))))","v":""},{"$f":"IF($AA$10=\"\",\"\",IF(ROWS(BD!$1:17)>COUNTIFS(BD!$B:$B,$AA$10),\"\",INDEX(BD!$H$2:$H$138,SMALL(IF(BD!$B$2:$B$138=$AA$10,IF(BD!$B$2:$B$138=$AA$10,ROW(BD!$B$2:$B$138)-ROW(BD!$B$2)+1),FALSE),ROWS(BD!$1:17)))))","v":""},null,{"$f":"IF($AG$10=\"\",\"\",IF(ROWS(BD!$1:17)>COUNTIFS(BD!$B$1:$B$138,$AG$10),\"\",INDEX(BD!$C$2:$C$138,SMALL(IF(BD!$B$2:$B$138=$AG$10,IF(BD!$B$2:$B$138=$AG$10,ROW(BD!$B$2:$B$138)-ROW(BD!$B$2)+1),FALSE),ROWS(BD!$1:17)))))","v":""},{"$f":"IF($AG$10=\"\",\"\",IF(ROWS(BD!$1:17)>COUNTIFS(BD!$B$1:$B$138,$AG$10),\"\",INDEX(BD!$E$2:$E$138,SMALL(IF(BD!$B$2:$B$138=$AG$10,IF(BD!$B$2:$B$138=$AG$10,ROW(BD!$B$2:$B$138)-ROW(BD!$B$2)+1),FALSE),ROWS(BD!$1:17)))))","v":""},{"$f":"IF($AG$10=\"\",\"\",IF(ROWS(BD!$1:17)>COUNTIFS(BD!$B$1:$B$138,$AG$10),\"\",INDEX(BD!$F$2:$F$138,SMALL(IF(BD!$B$2:$B$138=$AG$10,IF(BD!$B$2:$B$138=$AG$10,ROW(BD!$B$2:$B$138)-ROW(BD!$B$2)+1),FALSE),ROWS(BD!$1:17)))))","v":""},{"$f":"IF($AG$10=\"\",\"\",IF(ROWS(BD!$1:17)>COUNTIFS(BD!$B:$B,$AG$10),\"\",INDEX(BD!$G$2:$G$138,SMALL(IF(BD!$B$2:$B$138=$AG$10,IF(BD!$B$2:$B$138=$AG$10,ROW(BD!$B$2:$B$138)-ROW(BD!$B$2)+1),FALSE),ROWS(BD!$1:17)))))","v":""},{"$f":"IF($AG$10=\"\",\"\",IF(ROWS(BD!$1:17)>COUNTIFS(BD!$B:$B,$AG$10),\"\",INDEX(BD!$H$2:$H$138,SMALL(IF(BD!$B$2:$B$138=$AG$10,IF(BD!$B$2:$B$138=$AG$10,ROW(BD!$B$2:$B$138)-ROW(BD!$B$2)+1),FALSE),ROWS(BD!$1:17)))))","v":""},null,{"$f":"IF($AM$10=\"\",\"\",IF(ROWS(BD!$1:17)>COUNTIFS(BD!$B$1:$B$138,$AM$10),\"\",INDEX(BD!$C$2:$C$138,SMALL(IF(BD!$B$2:$B$138=$AM$10,IF(BD!$B$2:$B$138=$AM$10,ROW(BD!$B$2:$B$138)-ROW(BD!$B$2)+1),FALSE),ROWS(BD!$1:17)))))","v":""},{"$f":"IF($AM$10=\"\",\"\",IF(ROWS(BD!$1:17)>COUNTIFS(BD!$B$1:$B$138,$AM$10),\"\",INDEX(BD!$E$2:$E$138,SMALL(IF(BD!$B$2:$B$138=$AM$10,IF(BD!$B$2:$B$138=$AM$10,ROW(BD!$B$2:$B$138)-ROW(BD!$B$2)+1),FALSE),ROWS(BD!$1:17)))))","v":""},{"$f":"IF($AM$10=\"\",\"\",IF(ROWS(BD!$1:17)>COUNTIFS(BD!$B$1:$B$138,$AM$10),\"\",INDEX(BD!$F$2:$F$138,SMALL(IF(BD!$B$2:$B$138=$AM$10,IF(BD!$B$2:$B$138=$AM$10,ROW(BD!$B$2:$B$138)-ROW(BD!$B$2)+1),FALSE),ROWS(BD!$1:17)))))","v":""},{"$f":"IF($AM$10=\"\",\"\",IF(ROWS(BD!$1:17)>COUNTIFS(BD!$B:$B,$AM$10),\"\",INDEX(BD!$G$2:$G$138,SMALL(IF(BD!$B$2:$B$138=$AM$10,IF(BD!$B$2:$B$138=$AM$10,ROW(BD!$B$2:$B$138)-ROW(BD!$B$2)+1),FALSE),ROWS(BD!$1:17)))))","v":""},{"$f":"IF($AM$10=\"\",\"\",IF(ROWS(BD!$1:17)>COUNTIFS(BD!$B:$B,$AM$10),\"\",INDEX(BD!$H$2:$H$138,SMALL(IF(BD!$B$2:$B$138=$AM$10,IF(BD!$B$2:$B$138=$AM$10,ROW(BD!$B$2:$B$138)-ROW(BD!$B$2)+1),FALSE),ROWS(BD!$1:17)))))","v":""}]
[null,null,{"$f":"IF($C$10=\"\",\"\",IF(ROWS(BD!$1:18)>COUNTIFS(BD!$B$1:$B$138,$C$10),\"\",INDEX(BD!$C$2:$C$138,SMALL(IF(BD!$B$2:$B$138=$C$10,IF(BD!$B$2:$B$138=$C$10,ROW(BD!$B$2:$B$138)-ROW(BD!$B$2)+1),FALSE),ROWS(BD!$1:18)))))","v":""},{"$f":"IF($C$10=\"\",\"\",IF(ROWS(BD!$1:18)>COUNTIFS(BD!$B$1:$B$138,$C$10),\"\",INDEX(BD!$E$2:$E$138,SMALL(IF(BD!$B$2:$B$138=$C$10,IF(BD!$B$2:$B$138=$C$10,ROW(BD!$B$2:$B$138)-ROW(BD!$B$2)+1),FALSE),ROWS(BD!$1:18)))))","v":""},{"$f":"IF($C$10=\"\",\"\",IF(ROWS(BD!$1:18)>COUNTIFS(BD!$B$1:$B$138,$C$10),\"\",INDEX(BD!$F$2:$F$138,SMALL(IF(BD!$B$2:$B$138=$C$10,IF(BD!$B$2:$B$138=$C$10,ROW(BD!$B$2:$B$138)-ROW(BD!$B$2)+1),FALSE),ROWS(BD!$1:18)))))","v":""},{"$f":"IF($C$10=\"\",\"\",IF(ROWS(BD!$1:18)>COUNTIFS(BD!$B:$B,$C$10),\"\",INDEX(BD!$G$2:$G$138,SMALL(IF(BD!$B$2:$B$138=$C$10,IF(BD!$B$2:$B$138=$C$10,ROW(BD!$B$2:$B$138)-ROW(BD!$B$2)+1),FALSE),ROWS(BD!$1:18)))))","v":""},{"$f":"IF($C$10=\"\",\"\",IF(ROWS(BD!$1:18)>COUNTIFS(BD!$B:$B,$C$10),\"\",INDEX(BD!$H$2:$H$138,SMALL(IF(BD!$B$2:$B$138=$C$10,IF(BD!$B$2:$B$138=$C$10,ROW(BD!$B$2:$B$138)-ROW(BD!$B$2)+1),FALSE),ROWS(BD!$1:18)))))","v":""},null,{"$f":"IF($I$10=\"\",\"\",IF(ROWS(BD!$1:18)>COUNTIFS(BD!$B$1:$B$138,$I$10),\"\",INDEX(BD!$C$2:$C$138,SMALL(IF(BD!$B$2:$B$138=$I$10,IF(BD!$B$2:$B$138=$I$10,ROW(BD!$B$2:$B$138)-ROW(BD!$B$2)+1),FALSE),ROWS(BD!$1:18)))))","v":""},{"$f":"IF($I$10=\"\",\"\",IF(ROWS(BD!$1:18)>COUNTIFS(BD!$B$1:$B$138,$I$10),\"\",INDEX(BD!$E$2:$E$138,SMALL(IF(BD!$B$2:$B$138=$I$10,IF(BD!$B$2:$B$138=$I$10,ROW(BD!$B$2:$B$138)-ROW(BD!$B$2)+1),FALSE),ROWS(BD!$1:18)))))","v":""},{"$f":"IF($I$10=\"\",\"\",IF(ROWS(BD!$1:18)>COUNTIFS(BD!$B$1:$B$138,$I$10),\"\",INDEX(BD!$F$2:$F$138,SMALL(IF(BD!$B$2:$B$138=$I$10,IF(BD!$B$2:$B$138=$I$10,ROW(BD!$B$2:$B$138)-ROW(BD!$B$2)+1),FALSE),ROWS(BD!$1:18)))))","v":""},{"$f":"IF($I$10=\"\",\"\",IF(ROWS(BD!$1:18)>COUNTIFS(BD!$B:$B,$I$10),\"\",INDEX(BD!$G$2:$G$138,SMALL(IF(BD!$B$2:$B$138=$I$10,IF(BD!$B$2:$B$138=$I$10,ROW(BD!$B$2:$B$138)-ROW(BD!$B$2)+1),FALSE),ROWS(BD!$1:18)))))","v":""},{"$f":"IF($I$10=\"\",\"\",IF(ROWS(BD!$1:18)>COUNTIFS(BD!$B:$B,$I$10),\"\",INDEX(BD!$H$2:$H$138,SMALL(IF(BD!$B$2:$B$138=$I$10,IF(BD!$B$2:$B$138=$I$10,ROW(BD!$B$2:$B$138)-ROW(BD!$B$2)+1),FALSE),ROWS(BD!$1:18)))))","v":""},null,{"$f":"IF($O$10=\"\",\"\",IF(ROWS(BD!$1:18)>COUNTIFS(BD!$B$1:$B$138,$O$10),\"\",INDEX(BD!$C$2:$C$138,SMALL(IF(BD!$B$2:$B$138=$O$10,IF(BD!$B$2:$B$138=$O$10,ROW(BD!$B$2:$B$138)-ROW(BD!$B$2)+1),FALSE),ROWS(BD!$1:18)))))","v":""},{"$f":"IF($O$10=\"\",\"\",IF(ROWS(BD!$1:18)>COUNTIFS(BD!$B$1:$B$138,$O$10),\"\",INDEX(BD!$E$2:$E$138,SMALL(IF(BD!$B$2:$B$138=$O$10,IF(BD!$B$2:$B$138=$O$10,ROW(BD!$B$2:$B$138)-ROW(BD!$B$2)+1),FALSE),ROWS(BD!$1:18)))))","v":""},{"$f":"IF($O$10=\"\",\"\",IF(ROWS(BD!$1:18)>COUNTIFS(BD!$B$1:$B$138,$O$10),\"\",INDEX(BD!$F$2:$F$138,SMALL(IF(BD!$B$2:$B$138=$O$10,IF(BD!$B$2:$B$138=$O$10,ROW(BD!$B$2:$B$138)-ROW(BD!$B$2)+1),FALSE),ROWS(BD!$1:18)))))","v":""},{"$f":"IF($O$10=\"\",\"\",IF(ROWS(BD!$1:18)>COUNTIFS(BD!$B:$B,$O$10),\"\",INDEX(BD!$G$2:$G$138,SMALL(IF(BD!$B$2:$B$138=$O$10,IF(BD!$B$2:$B$138=$O$10,ROW(BD!$B$2:$B$138)-ROW(BD!$B$2)+1),FALSE),ROWS(BD!$1:18)))))","v":""},{"$f":"IF($O$10=\"\",\"\",IF(ROWS(BD!$1:18)>COUNTIFS(BD!$B:$B,$O$10),\"\",INDEX(BD!$H$2:$H$138,SMALL(IF(BD!$B$2:$B$138=$O$10,IF(BD!$B$2:$B$138=$O$10,ROW(BD!$B$2:$B$138)-ROW(BD!$B$2)+1),FALSE),ROWS(BD!$1:18)))))","v":""},null,{"$f":"IF($U$10=\"\",\"\",IF(ROWS(BD!$1:18)>COUNTIFS(BD!$B$1:$B$138,$U$10),\"\",INDEX(BD!$C$2:$C$138,SMALL(IF(BD!$B$2:$B$138=$U$10,IF(BD!$B$2:$B$138=$U$10,ROW(BD!$B$2:$B$138)-ROW(BD!$B$2)+1),FALSE),ROWS(BD!$1:18)))))","v":""},{"$f":"IF($U$10=\"\",\"\",IF(ROWS(BD!$1:18)>COUNTIFS(BD!$B$1:$B$138,$U$10),\"\",INDEX(BD!$E$2:$E$138,SMALL(IF(BD!$B$2:$B$138=$U$10,IF(BD!$B$2:$B$138=$U$10,ROW(BD!$B$2:$B$138)-ROW(BD!$B$2)+1),FALSE),ROWS(BD!$1:18)))))","v":""},{"$f":"IF($U$10=\"\",\"\",IF(ROWS(BD!$1:18)>COUNTIFS(BD!$B$1:$B$138,$U$10),\"\",INDEX(BD!$F$2:$F$138,SMALL(IF(BD!$B$2:$B$138=$U$10,IF(BD!$B$2:$B$138=$U$10,ROW(BD!$B$2:$B$138)-ROW(BD!$B$2)+1),FALSE),ROWS(BD!$1:18)))))","v":""},{"$f":"IF($U$10=\"\",\"\",IF(ROWS(BD!$1:18)>COUNTIFS(BD!$B:$B,$U$10),\"\",INDEX(BD!$G$2:$G$138,SMALL(IF(BD!$B$2:$B$138=$U$10,IF(BD!$B$2:$B$138=$U$10,ROW(BD!$B$2:$B$138)-ROW(BD!$B$2)+1),FALSE),ROWS(BD!$1:18)))))","v":""},{"$f":"IF($U$10=\"\",\"\",IF(ROWS(BD!$1:18)>COUNTIFS(BD!$B:$B,$U$10),\"\",INDEX(BD!$H$2:$H$138,SMALL(IF(BD!$B$2:$B$138=$U$10,IF(BD!$B$2:$B$138=$U$10,ROW(BD!$B$2:$B$138)-ROW(BD!$B$2)+1),FALSE),ROWS(BD!$1:18)))))","v":""},null,{"$f":"IF($AA$10=\"\",\"\",IF(ROWS(BD!$1:18)>COUNTIFS(BD!$B$1:$B$138,$AA$10),\"\",INDEX(BD!$C$2:$C$138,SMALL(IF(BD!$B$2:$B$138=$AA$10,IF(BD!$B$2:$B$138=$AA$10,ROW(BD!$B$2:$B$138)-ROW(BD!$B$2)+1),FALSE),ROWS(BD!$1:18)))))","v":""},{"$f":"IF($AA$10=\"\",\"\",IF(ROWS(BD!$1:18)>COUNTIFS(BD!$B$1:$B$138,$AA$10),\"\",INDEX(BD!$E$2:$E$138,SMALL(IF(BD!$B$2:$B$138=$AA$10,IF(BD!$B$2:$B$138=$AA$10,ROW(BD!$B$2:$B$138)-ROW(BD!$B$2)+1),FALSE),ROWS(BD!$1:18)))))","v":""},{"$f":"IF($AA$10=\"\",\"\",IF(ROWS(BD!$1:18)>COUNTIFS(BD!$B$1:$B$138,$AA$10),\"\",INDEX(BD!$F$2:$F$138,SMALL(IF(BD!$B$2:$B$138=$AA$10,IF(BD!$B$2:$B$138=$AA$10,ROW(BD!$B$2:$B$138)-ROW(BD!$B$2)+1),FALSE),ROWS(BD!$1:18)))))","v":""},{"$f":"IF($AA$10=\"\",\"\",IF(ROWS(BD!$1:18)>COUNTIFS(BD!$B:$B,$AA$10),\"\",INDEX(BD!$G$2:$G$138,SMALL(IF(BD!$B$2:$B$138=$AA$10,IF(BD!$B$2:$B$138=$AA$10,ROW(BD!$B$2:$B$138)-ROW(BD!$B$2)+1),FALSE),ROWS(BD!$1:18)))))","v":""},{"$f":"IF($AA$10=\"\",\"\",IF(ROWS(BD!$1:18)>COUNTIFS(BD!$B:$B,$AA$10),\"\",INDEX(BD!$H$2:$H$138,SMALL(IF(BD!$B$2:$B$138=$AA$10,IF(BD!$B$2:$B$138=$AA$10,ROW(BD!$B$2:$B$138)-ROW(BD!$B$2)+1),FALSE),ROWS(BD!$1:18)))))","v":""},null,{"$f":"IF($AG$10=\"\",\"\",IF(ROWS(BD!$1:18)>COUNTIFS(BD!$B$1:$B$138,$AG$10),\"\",INDEX(BD!$C$2:$C$138,SMALL(IF(BD!$B$2:$B$138=$AG$10,IF(BD!$B$2:$B$138=$AG$10,ROW(BD!$B$2:$B$138)-ROW(BD!$B$2)+1),FALSE),ROWS(BD!$1:18)))))","v":""},{"$f":"IF($AG$10=\"\",\"\",IF(ROWS(BD!$1:18)>COUNTIFS(BD!$B$1:$B$138,$AG$10),\"\",INDEX(BD!$E$2:$E$138,SMALL(IF(BD!$B$2:$B$138=$AG$10,IF(BD!$B$2:$B$138=$AG$10,ROW(BD!$B$2:$B$138)-ROW(BD!$B$2)+1),FALSE),ROWS(BD!$1:18)))))","v":""},{"$f":"IF($AG$10=\"\",\"\",IF(ROWS(BD!$1:18)>COUNTIFS(BD!$B$1:$B$138,$AG$10),\"\",INDEX(BD!$F$2:$F$138,SMALL(IF(BD!$B$2:$B$138=$AG$10,IF(BD!$B$2:$B$138=$AG$10,ROW(BD!$B$2:$B$138)-ROW(BD!$B$2)+1),FALSE),ROWS(BD!$1:18)))))","v":""},{"$f":"IF($AG$10=\"\",\"\",IF(ROWS(BD!$1:18)>COUNTIFS(BD!$B:$B,$AG$10),\"\",INDEX(BD!$G$2:$G$138,SMALL(IF(BD!$B$2:$B$138=$AG$10,IF(BD!$B$2:$B$138=$AG$10,ROW(BD!$B$2:$B$138)-ROW(BD!$B$2)+1),FALSE),ROWS(BD!$1:18)))))","v":""},{"$f":"IF($AG$10=\"\",\"\",IF(ROWS(BD!$1:18)>COUNTIFS(BD!$B:$B,$AG$10),\"\",INDEX(BD!$H$2:$H$138,SMALL(IF(BD!$B$2:$B$138=$AG$10,IF(BD!$B$2:$B$138=$AG$10,ROW(BD!$B$2:$B$138)-ROW(BD!$B$2)+1),FALSE),ROWS(BD!$1:18)))))","v":""},null,{"$f":"IF($AM$10=\"\",\"\",IF(ROWS(BD!$1:18)>COUNTIFS(BD!$B$1:$B$138,$AM$10),\"\",INDEX(BD!$C$2:$C$138,SMALL(IF(BD!$B$2:$B$138=$AM$10,IF(BD!$B$2:$B$138=$AM$10,ROW(BD!$B$2:$B$138)-ROW(BD!$B$2)+1),FALSE),ROWS(BD!$1:18)))))","v":""},{"$f":"IF($AM$10=\"\",\"\",IF(ROWS(BD!$1:18)>COUNTIFS(BD!$B$1:$B$138,$AM$10),\"\",INDEX(BD!$E$2:$E$138,SMALL(IF(BD!$B$2:$B$138=$AM$10,IF(BD!$B$2:$B$138=$AM$10,ROW(BD!$B$2:$B$138)-ROW(BD!$B$2)+1),FALSE),ROWS(BD!$1:18)))))","v":""},{"$f":"IF($AM$10=\"\",\"\",IF(ROWS(BD!$1:18)>COUNTIFS(BD!$B$1:$B$138,$AM$10),\"\",INDEX(BD!$F$2:$F$138,SMALL(IF(BD!$B$2:$B$138=$AM$10,IF(BD!$B$2:$B$138=$AM$10,ROW(BD!$B$2:$B$138)-ROW(BD!$B$2)+1),FALSE),ROWS(BD!$1:18)))))","v":""},{"$f":"IF($AM$10=\"\",\"\",IF(ROWS(BD!$1:18)>COUNTIFS(BD!$B:$B,$AM$10),\"\",INDEX(BD!$G$2:$G$138,SMALL(IF(BD!$B$2:$B$138=$AM$10,IF(BD!$B$2:$B$138=$AM$10,ROW(BD!$B$2:$B$138)-ROW(BD!$B$2)+1),FALSE),ROWS(BD!$1:18)))))","v":""},{"$f":"IF($AM$10=\"\",\"\",IF(ROWS(BD!$1:18)>COUNTIFS(BD!$B:$B,$AM$10),\"\",INDEX(BD!$H$2:$H$138,SMALL(IF(BD!$B$2:$B$138=$AM$10,IF(BD!$B$2:$B$138=$AM$10,ROW(BD!$B$2:$B$138)-ROW(BD!$B$2)+1),FALSE),ROWS(BD!$1:18)))))","v":""}]
[null,null,{"$f":"IF($C$10=\"\",\"\",IF(ROWS(BD!$1:19)>COUNTIFS(BD!$B$1:$B$138,$C$10),\"\",INDEX(BD!$C$2:$C$138,SMALL(IF(BD!$B$2:$B$138=$C$10,IF(BD!$B$2:$B$138=$C$10,ROW(BD!$B$2:$B$138)-ROW(BD!$B$2)+1),FALSE),ROWS(BD!$1:19)))))","v":""},{"$f":"IF($C$10=\"\",\"\",IF(ROWS(BD!$1:19)>COUNTIFS(BD!$B$1:$B$138,$C$10),\"\",INDEX(BD!$E$2:$E$138,SMALL(IF(BD!$B$2:$B$138=$C$10,IF(BD!$B$2:$B$138=$C$10,ROW(BD!$B$2:$B$138)-ROW(BD!$B$2)+1),FALSE),ROWS(BD!$1:19)))))","v":""},{"$f":"IF($C$10=\"\",\"\",IF(ROWS(BD!$1:19)>COUNTIFS(BD!$B$1:$B$138,$C$10),\"\",INDEX(BD!$F$2:$F$138,SMALL(IF(BD!$B$2:$B$138=$C$10,IF(BD!$B$2:$B$138=$C$10,ROW(BD!$B$2:$B$138)-ROW(BD!$B$2)+1),FALSE),ROWS(BD!$1:19)))))","v":""},{"$f":"IF($C$10=\"\",\"\",IF(ROWS(BD!$1:19)>COUNTIFS(BD!$B:$B,$C$10),\"\",INDEX(BD!$G$2:$G$138,SMALL(IF(BD!$B$2:$B$138=$C$10,IF(BD!$B$2:$B$138=$C$10,ROW(BD!$B$2:$B$138)-ROW(BD!$B$2)+1),FALSE),ROWS(BD!$1:19)))))","v":""},{"$f":"IF($C$10=\"\",\"\",IF(ROWS(BD!$1:19)>COUNTIFS(BD!$B:$B,$C$10),\"\",INDEX(BD!$H$2:$H$138,SMALL(IF(BD!$B$2:$B$138=$C$10,IF(BD!$B$2:$B$138=$C$10,ROW(BD!$B$2:$B$138)-ROW(BD!$B$2)+1),FALSE),ROWS(BD!$1:19)))))","v":""},null,{"$f":"IF($I$10=\"\",\"\",IF(ROWS(BD!$1:19)>COUNTIFS(BD!$B$1:$B$138,$I$10),\"\",INDEX(BD!$C$2:$C$138,SMALL(IF(BD!$B$2:$B$138=$I$10,IF(BD!$B$2:$B$138=$I$10,ROW(BD!$B$2:$B$138)-ROW(BD!$B$2)+1),FALSE),ROWS(BD!$1:19)))))","v":""},{"$f":"IF($I$10=\"\",\"\",IF(ROWS(BD!$1:19)>COUNTIFS(BD!$B$1:$B$138,$I$10),\"\",INDEX(BD!$E$2:$E$138,SMALL(IF(BD!$B$2:$B$138=$I$10,IF(BD!$B$2:$B$138=$I$10,ROW(BD!$B$2:$B$138)-ROW(BD!$B$2)+1),FALSE),ROWS(BD!$1:19)))))","v":""},{"$f":"IF($I$10=\"\",\"\",IF(ROWS(BD!$1:19)>COUNTIFS(BD!$B$1:$B$138,$I$10),\"\",INDEX(BD!$F$2:$F$138,SMALL(IF(BD!$B$2:$B$138=$I$10,IF(BD!$B$2:$B$138=$I$10,ROW(BD!$B$2:$B$138)-ROW(BD!$B$2)+1),FALSE),ROWS(BD!$1:19)))))","v":""},{"$f":"IF($I$10=\"\",\"\",IF(ROWS(BD!$1:19)>COUNTIFS(BD!$B:$B,$I$10),\"\",INDEX(BD!$G$2:$G$138,SMALL(IF(BD!$B$2:$B$138=$I$10,IF(BD!$B$2:$B$138=$I$10,ROW(BD!$B$2:$B$138)-ROW(BD!$B$2)+1),FALSE),ROWS(BD!$1:19)))))","v":""},{"$f":"IF($I$10=\"\",\"\",IF(ROWS(BD!$1:19)>COUNTIFS(BD!$B:$B,$I$10),\"\",INDEX(BD!$H$2:$H$138,SMALL(IF(BD!$B$2:$B$138=$I$10,IF(BD!$B$2:$B$138=$I$10,ROW(BD!$B$2:$B$138)-ROW(BD!$B$2)+1),FALSE),ROWS(BD!$1:19)))))","v":""},null,{"$f":"IF($O$10=\"\",\"\",IF(ROWS(BD!$1:19)>COUNTIFS(BD!$B$1:$B$138,$O$10),\"\",INDEX(BD!$C$2:$C$138,SMALL(IF(BD!$B$2:$B$138=$O$10,IF(BD!$B$2:$B$138=$O$10,ROW(BD!$B$2:$B$138)-ROW(BD!$B$2)+1),FALSE),ROWS(BD!$1:19)))))","v":""},{"$f":"IF($O$10=\"\",\"\",IF(ROWS(BD!$1:19)>COUNTIFS(BD!$B$1:$B$138,$O$10),\"\",INDEX(BD!$E$2:$E$138,SMALL(IF(BD!$B$2:$B$138=$O$10,IF(BD!$B$2:$B$138=$O$10,ROW(BD!$B$2:$B$138)-ROW(BD!$B$2)+1),FALSE),ROWS(BD!$1:19)))))","v":""},{"$f":"IF($O$10=\"\",\"\",IF(ROWS(BD!$1:19)>COUNTIFS(BD!$B$1:$B$138,$O$10),\"\",INDEX(BD!$F$2:$F$138,SMALL(IF(BD!$B$2:$B$138=$O$10,IF(BD!$B$2:$B$138=$O$10,ROW(BD!$B$2:$B$138)-ROW(BD!$B$2)+1),FALSE),ROWS(BD!$1:19)))))","v":""},{"$f":"IF($O$10=\"\",\"\",IF(ROWS(BD!$1:19)>COUNTIFS(BD!$B:$B,$O$10),\"\",INDEX(BD!$G$2:$G$138,SMALL(IF(BD!$B$2:$B$138=$O$10,IF(BD!$B$2:$B$138=$O$10,ROW(BD!$B$2:$B$138)-ROW(BD!$B$2)+1),FALSE),ROWS(BD!$1:19)))))","v":""},{"$f":"IF($O$10=\"\",\"\",IF(ROWS(BD!$1:19)>COUNTIFS(BD!$B:$B,$O$10),\"\",INDEX(BD!$H$2:$H$138,SMALL(IF(BD!$B$2:$B$138=$O$10,IF(BD!$B$2:$B$138=$O$10,ROW(BD!$B$2:$B$138)-ROW(BD!$B$2)+1),FALSE),ROWS(BD!$1:19)))))","v":""},null,{"$f":"IF($U$10=\"\",\"\",IF(ROWS(BD!$1:19)>COUNTIFS(BD!$B$1:$B$138,$U$10),\"\",INDEX(BD!$C$2:$C$138,SMALL(IF(BD!$B$2:$B$138=$U$10,IF(BD!$B$2:$B$138=$U$10,ROW(BD!$B$2:$B$138)-ROW(BD!$B$2)+1),FALSE),ROWS(BD!$1:19)))))","v":""},{"$f":"IF($U$10=\"\",\"\",IF(ROWS(BD!$1:19)>COUNTIFS(BD!$B$1:$B$138,$U$10),\"\",INDEX(BD!$E$2:$E$138,SMALL(IF(BD!$B$2:$B$138=$U$10,IF(BD!$B$2:$B$138=$U$10,ROW(BD!$B$2:$B$138)-ROW(BD!$B$2)+1),FALSE),ROWS(BD!$1:19)))))","v":""},{"$f":"IF($U$10=\"\",\"\",IF(ROWS(BD!$1:19)>COUNTIFS(BD!$B$1:$B$138,$U$10),\"\",INDEX(BD!$F$2:$F$138,SMALL(IF(BD!$B$2:$B$138=$U$10,IF(BD!$B$2:$B$138=$U$10,ROW(BD!$B$2:$B$138)-ROW(BD!$B$2)+1),FALSE),ROWS(BD!$1:19)))))","v":""},{"$f":"IF($U$10=\"\",\"\",IF(ROWS(BD!$1:19)>COUNTIFS(BD!$B:$B,$U$10),\"\",INDEX(BD!$G$2:$G$138,SMALL(IF(BD!$B$2:$B$138=$U$10,IF(BD!$B$2:$B$138=$U$10,ROW(BD!$B$2:$B$138)-ROW(BD!$B$2)+1),FALSE),ROWS(BD!$1:19)))))","v":""},{"$f":"IF($U$10=\"\",\"\",IF(ROWS(BD!$1:19)>COUNTIFS(BD!$B:$B,$U$10),\"\",INDEX(BD!$H$2:$H$138,SMALL(IF(BD!$B$2:$B$138=$U$10,IF(BD!$B$2:$B$138=$U$10,ROW(BD!$B$2:$B$138)-ROW(BD!$B$2)+1),FALSE),ROWS(BD!$1:19)))))","v":""},null,{"$f":"IF($AA$10=\"\",\"\",IF(ROWS(BD!$1:19)>COUNTIFS(BD!$B$1:$B$138,$AA$10),\"\",INDEX(BD!$C$2:$C$138,SMALL(IF(BD!$B$2:$B$138=$AA$10,IF(BD!$B$2:$B$138=$AA$10,ROW(BD!$B$2:$B$138)-ROW(BD!$B$2)+1),FALSE),ROWS(BD!$1:19)))))","v":""},{"$f":"IF($AA$10=\"\",\"\",IF(ROWS(BD!$1:19)>COUNTIFS(BD!$B$1:$B$138,$AA$10),\"\",INDEX(BD!$E$2:$E$138,SMALL(IF(BD!$B$2:$B$138=$AA$10,IF(BD!$B$2:$B$138=$AA$10,ROW(BD!$B$2:$B$138)-ROW(BD!$B$2)+1),FALSE),ROWS(BD!$1:19)))))","v":""},{"$f":"IF($AA$10=\"\",\"\",IF(ROWS(BD!$1:19)>COUNTIFS(BD!$B$1:$B$138,$AA$10),\"\",INDEX(BD!$F$2:$F$138,SMALL(IF(BD!$B$2:$B$138=$AA$10,IF(BD!$B$2:$B$138=$AA$10,ROW(BD!$B$2:$B$138)-ROW(BD!$B$2)+1),FALSE),ROWS(BD!$1:19)))))","v":""},{"$f":"IF($AA$10=\"\",\"\",IF(ROWS(BD!$1:19)>COUNTIFS(BD!$B:$B,$AA$10),\"\",INDEX(BD!$G$2:$G$138,SMALL(IF(BD!$B$2:$B$138=$AA$10,IF(BD!$B$2:$B$138=$AA$10,ROW(BD!$B$2:$B$138)-ROW(BD!$B$2)+1),FALSE),ROWS(BD!$1:19)))))","v":""},{"$f":"IF($AA$10=\"\",\"\",IF(ROWS(BD!$1:19)>COUNTIFS(BD!$B:$B,$AA$10),\"\",INDEX(BD!$H$2:$H$138,SMALL(IF(BD!$B$2:$B$138=$AA$10,IF(BD!$B$2:$B$138=$AA$10,ROW(BD!$B$2:$B$138)-ROW(BD!$B$2)+1),FALSE),ROWS(BD!$1:19)))))","v":""},null,{"$f":"IF($AG$10=\"\",\"\",IF(ROWS(BD!$1:19)>COUNTIFS(BD!$B$1:$B$138,$AG$10),\"\",INDEX(BD!$C$2:$C$138,SMALL(IF(BD!$B$2:$B$138=$AG$10,IF(BD!$B$2:$B$138=$AG$10,ROW(BD!$B$2:$B$138)-ROW(BD!$B$2)+1),FALSE),ROWS(BD!$1:19)))))","v":""},{"$f":"IF($AG$10=\"\",\"\",IF(ROWS(BD!$1:19)>COUNTIFS(BD!$B$1:$B$138,$AG$10),\"\",INDEX(BD!$E$2:$E$138,SMALL(IF(BD!$B$2:$B$138=$AG$10,IF(BD!$B$2:$B$138=$AG$10,ROW(BD!$B$2:$B$138)-ROW(BD!$B$2)+1),FALSE),ROWS(BD!$1:19)))))","v":""},{"$f":"IF($AG$10=\"\",\"\",IF(ROWS(BD!$1:19)>COUNTIFS(BD!$B$1:$B$138,$AG$10),\"\",INDEX(BD!$F$2:$F$138,SMALL(IF(BD!$B$2:$B$138=$AG$10,IF(BD!$B$2:$B$138=$AG$10,ROW(BD!$B$2:$B$138)-ROW(BD!$B$2)+1),FALSE),ROWS(BD!$1:19)))))","v":""},{"$f":"IF($AG$10=\"\",\"\",IF(ROWS(BD!$1:19)>COUNTIFS(BD!$B:$B,$AG$10),\"\",INDEX(BD!$G$2:$G$138,SMALL(IF(BD!$B$2:$B$138=$AG$10,IF(BD!$B$2:$B$138=$AG$10,ROW(BD!$B$2:$B$138)-ROW(BD!$B$2)+1),FALSE),ROWS(BD!$1:19)))))","v":""},{"$f":"IF($AG$10=\"\",\"\",IF(ROWS(BD!$1:19)>COUNTIFS(BD!$B:$B,$AG$10),\"\",INDEX(BD!$H$2:$H$138,SMALL(IF(BD!$B$2:$B$138=$AG$10,IF(BD!$B$2:$B$138=$AG$10,ROW(BD!$B$2:$B$138)-ROW(BD!$B$2)+1),FALSE),ROWS(BD!$1:19)))))","v":""},null,{"$f":"IF($AM$10=\"\",\"\",IF(ROWS(BD!$1:19)>COUNTIFS(BD!$B$1:$B$138,$AM$10),\"\",INDEX(BD!$C$2:$C$138,SMALL(IF(BD!$B$2:$B$138=$AM$10,IF(BD!$B$2:$B$138=$AM$10,ROW(BD!$B$2:$B$138)-ROW(BD!$B$2)+1),FALSE),ROWS(BD!$1:19)))))","v":""},{"$f":"IF($AM$10=\"\",\"\",IF(ROWS(BD!$1:19)>COUNTIFS(BD!$B$1:$B$138,$AM$10),\"\",INDEX(BD!$E$2:$E$138,SMALL(IF(BD!$B$2:$B$138=$AM$10,IF(BD!$B$2:$B$138=$AM$10,ROW(BD!$B$2:$B$138)-ROW(BD!$B$2)+1),FALSE),ROWS(BD!$1:19)))))","v":""},{"$f":"IF($AM$10=\"\",\"\",IF(ROWS(BD!$1:19)>COUNTIFS(BD!$B$1:$B$138,$AM$10),\"\",INDEX(BD!$F$2:$F$138,SMALL(IF(BD!$B$2:$B$138=$AM$10,IF(BD!$B$2:$B$138=$AM$10,ROW(BD!$B$2:$B$138)-ROW(BD!$B$2)+1),FALSE),ROWS(BD!$1:19)))))","v":""},{"$f":"IF($AM$10=\"\",\"\",IF(ROWS(BD!$1:19)>COUNTIFS(BD!$B:$B,$AM$10),\"\",INDEX(BD!$G$2:$G$138,SMALL(IF(BD!$B$2:$B$138=$AM$10,IF(BD!$B$2:$B$138=$AM$10,ROW(BD!$B$2:$B$138)-ROW(BD!$B$2)+1),FALSE),ROWS(BD!$1:19)))))","v":""},{"$f":"IF($AM$10=\"\",\"\",IF(ROWS(BD!$1:19)>COUNTIFS(BD!$B:$B,$AM$10),\"\",INDEX(BD!$H$2:$H$138,SMALL(IF(BD!$B$2:$B$138=$AM$10,IF(BD!$B$2:$B$138=$AM$10,ROW(BD!$B$2:$B$138)-ROW(BD!$B$2)+1),FALSE),ROWS(BD!$1:19)))))","v":""}]
[null,null,{"$f":"IF($C$10=\"\",\"\",IF(ROWS(BD!$1:20)>COUNTIFS(BD!$B$1:$B$138,$C$10),\"\",INDEX(BD!$C$2:$C$138,SMALL(IF(BD!$B$2:$B$138=$C$10,IF(BD!$B$2:$B$138=$C$10,ROW(BD!$B$2:$B$138)-ROW(BD!$B$2)+1),FALSE),ROWS(BD!$1:20)))))","v":""},{"$f":"IF($C$10=\"\",\"\",IF(ROWS(BD!$1:20)>COUNTIFS(BD!$B$1:$B$138,$C$10),\"\",INDEX(BD!$E$2:$E$138,SMALL(IF(BD!$B$2:$B$138=$C$10,IF(BD!$B$2:$B$138=$C$10,ROW(BD!$B$2:$B$138)-ROW(BD!$B$2)+1),FALSE),ROWS(BD!$1:20)))))","v":""},{"$f":"IF($C$10=\"\",\"\",IF(ROWS(BD!$1:20)>COUNTIFS(BD!$B$1:$B$138,$C$10),\"\",INDEX(BD!$F$2:$F$138,SMALL(IF(BD!$B$2:$B$138=$C$10,IF(BD!$B$2:$B$138=$C$10,ROW(BD!$B$2:$B$138)-ROW(BD!$B$2)+1),FALSE),ROWS(BD!$1:20)))))","v":""},{"$f":"IF($C$10=\"\",\"\",IF(ROWS(BD!$1:20)>COUNTIFS(BD!$B:$B,$C$10),\"\",INDEX(BD!$G$2:$G$138,SMALL(IF(BD!$B$2:$B$138=$C$10,IF(BD!$B$2:$B$138=$C$10,ROW(BD!$B$2:$B$138)-ROW(BD!$B$2)+1),FALSE),ROWS(BD!$1:20)))))","v":""},{"$f":"IF($C$10=\"\",\"\",IF(ROWS(BD!$1:20)>COUNTIFS(BD!$B:$B,$C$10),\"\",INDEX(BD!$H$2:$H$138,SMALL(IF(BD!$B$2:$B$138=$C$10,IF(BD!$B$2:$B$138=$C$10,ROW(BD!$B$2:$B$138)-ROW(BD!$B$2)+1),FALSE),ROWS(BD!$1:20)))))","v":""},null,{"$f":"IF($I$10=\"\",\"\",IF(ROWS(BD!$1:20)>COUNTIFS(BD!$B$1:$B$138,$I$10),\"\",INDEX(BD!$C$2:$C$138,SMALL(IF(BD!$B$2:$B$138=$I$10,IF(BD!$B$2:$B$138=$I$10,ROW(BD!$B$2:$B$138)-ROW(BD!$B$2)+1),FALSE),ROWS(BD!$1:20)))))","v":""},{"$f":"IF($I$10=\"\",\"\",IF(ROWS(BD!$1:20)>COUNTIFS(BD!$B$1:$B$138,$I$10),\"\",INDEX(BD!$E$2:$E$138,SMALL(IF(BD!$B$2:$B$138=$I$10,IF(BD!$B$2:$B$138=$I$10,ROW(BD!$B$2:$B$138)-ROW(BD!$B$2)+1),FALSE),ROWS(BD!$1:20)))))","v":""},{"$f":"IF($I$10=\"\",\"\",IF(ROWS(BD!$1:20)>COUNTIFS(BD!$B$1:$B$138,$I$10),\"\",INDEX(BD!$F$2:$F$138,SMALL(IF(BD!$B$2:$B$138=$I$10,IF(BD!$B$2:$B$138=$I$10,ROW(BD!$B$2:$B$138)-ROW(BD!$B$2)+1),FALSE),ROWS(BD!$1:20)))))","v":""},{"$f":"IF($I$10=\"\",\"\",IF(ROWS(BD!$1:20)>COUNTIFS(BD!$B:$B,$I$10),\"\",INDEX(BD!$G$2:$G$138,SMALL(IF(BD!$B$2:$B$138=$I$10,IF(BD!$B$2:$B$138=$I$10,ROW(BD!$B$2:$B$138)-ROW(BD!$B$2)+1),FALSE),ROWS(BD!$1:20)))))","v":""},{"$f":"IF($I$10=\"\",\"\",IF(ROWS(BD!$1:20)>COUNTIFS(BD!$B:$B,$I$10),\"\",INDEX(BD!$H$2:$H$138,SMALL(IF(BD!$B$2:$B$138=$I$10,IF(BD!$B$2:$B$138=$I$10,ROW(BD!$B$2:$B$138)-ROW(BD!$B$2)+1),FALSE),ROWS(BD!$1:20)))))","v":""},null,{"$f":"IF($O$10=\"\",\"\",IF(ROWS(BD!$1:20)>COUNTIFS(BD!$B$1:$B$138,$O$10),\"\",INDEX(BD!$C$2:$C$138,SMALL(IF(BD!$B$2:$B$138=$O$10,IF(BD!$B$2:$B$138=$O$10,ROW(BD!$B$2:$B$138)-ROW(BD!$B$2)+1),FALSE),ROWS(BD!$1:20)))))","v":""},{"$f":"IF($O$10=\"\",\"\",IF(ROWS(BD!$1:20)>COUNTIFS(BD!$B$1:$B$138,$O$10),\"\",INDEX(BD!$E$2:$E$138,SMALL(IF(BD!$B$2:$B$138=$O$10,IF(BD!$B$2:$B$138=$O$10,ROW(BD!$B$2:$B$138)-ROW(BD!$B$2)+1),FALSE),ROWS(BD!$1:20)))))","v":""},{"$f":"IF($O$10=\"\",\"\",IF(ROWS(BD!$1:20)>COUNTIFS(BD!$B$1:$B$138,$O$10),\"\",INDEX(BD!$F$2:$F$138,SMALL(IF(BD!$B$2:$B$138=$O$10,IF(BD!$B$2:$B$138=$O$10,ROW(BD!$B$2:$B$138)-ROW(BD!$B$2)+1),FALSE),ROWS(BD!$1:20)))))","v":""},{"$f":"IF($O$10=\"\",\"\",IF(ROWS(BD!$1:20)>COUNTIFS(BD!$B:$B,$O$10),\"\",INDEX(BD!$G$2:$G$138,SMALL(IF(BD!$B$2:$B$138=$O$10,IF(BD!$B$2:$B$138=$O$10,ROW(BD!$B$2:$B$138)-ROW(BD!$B$2)+1),FALSE),ROWS(BD!$1:20)))))","v":""},{"$f":"IF($O$10=\"\",\"\",IF(ROWS(BD!$1:20)>COUNTIFS(BD!$B:$B,$O$10),\"\",INDEX(BD!$H$2:$H$138,SMALL(IF(BD!$B$2:$B$138=$O$10,IF(BD!$B$2:$B$138=$O$10,ROW(BD!$B$2:$B$138)-ROW(BD!$B$2)+1),FALSE),ROWS(BD!$1:20)))))","v":""},null,{"$f":"IF($U$10=\"\",\"\",IF(ROWS(BD!$1:20)>COUNTIFS(BD!$B$1:$B$138,$U$10),\"\",INDEX(BD!$C$2:$C$138,SMALL(IF(BD!$B$2:$B$138=$U$10,IF(BD!$B$2:$B$138=$U$10,ROW(BD!$B$2:$B$138)-ROW(BD!$B$2)+1),FALSE),ROWS(BD!$1:20)))))","v":""},{"$f":"IF($U$10=\"\",\"\",IF(ROWS(BD!$1:20)>COUNTIFS(BD!$B$1:$B$138,$U$10),\"\",INDEX(BD!$E$2:$E$138,SMALL(IF(BD!$B$2:$B$138=$U$10,IF(BD!$B$2:$B$138=$U$10,ROW(BD!$B$2:$B$138)-ROW(BD!$B$2)+1),FALSE),ROWS(BD!$1:20)))))","v":""},{"$f":"IF($U$10=\"\",\"\",IF(ROWS(BD!$1:20)>COUNTIFS(BD!$B$1:$B$138,$U$10),\"\",INDEX(BD!$F$2:$F$138,SMALL(IF(BD!$B$2:$B$138=$U$10,IF(BD!$B$2:$B$138=$U$10,ROW(BD!$B$2:$B$138)-ROW(BD!$B$2)+1),FALSE),ROWS(BD!$1:20)))))","v":""},{"$f":"IF($U$10=\"\",\"\",IF(ROWS(BD!$1:20)>COUNTIFS(BD!$B:$B,$U$10),\"\",INDEX(BD!$G$2:$G$138,SMALL(IF(BD!$B$2:$B$138=$U$10,IF(BD!$B$2:$B$138=$U$10,ROW(BD!$B$2:$B$138)-ROW(BD!$B$2)+1),FALSE),ROWS(BD!$1:20)))))","v":""},{"$f":"IF($U$10=\"\",\"\",IF(ROWS(BD!$1:20)>COUNTIFS(BD!$B:$B,$U$10),\"\",INDEX(BD!$H$2:$H$138,SMALL(IF(BD!$B$2:$B$138=$U$10,IF(BD!$B$2:$B$138=$U$10,ROW(BD!$B$2:$B$138)-ROW(BD!$B$2)+1),FALSE),ROWS(BD!$1:20)))))","v":""},null,{"$f":"IF($AA$10=\"\",\"\",IF(ROWS(BD!$1:20)>COUNTIFS(BD!$B$1:$B$138,$AA$10),\"\",INDEX(BD!$C$2:$C$138,SMALL(IF(BD!$B$2:$B$138=$AA$10,IF(BD!$B$2:$B$138=$AA$10,ROW(BD!$B$2:$B$138)-ROW(BD!$B$2)+1),FALSE),ROWS(BD!$1:20)))))","v":""},{"$f":"IF($AA$10=\"\",\"\",IF(ROWS(BD!$1:20)>COUNTIFS(BD!$B$1:$B$138,$AA$10),\"\",INDEX(BD!$E$2:$E$138,SMALL(IF(BD!$B$2:$B$138=$AA$10,IF(BD!$B$2:$B$138=$AA$10,ROW(BD!$B$2:$B$138)-ROW(BD!$B$2)+1),FALSE),ROWS(BD!$1:20)))))","v":""},{"$f":"IF($AA$10=\"\",\"\",IF(ROWS(BD!$1:20)>COUNTIFS(BD!$B$1:$B$138,$AA$10),\"\",INDEX(BD!$F$2:$F$138,SMALL(IF(BD!$B$2:$B$138=$AA$10,IF(BD!$B$2:$B$138=$AA$10,ROW(BD!$B$2:$B$138)-ROW(BD!$B$2)+1),FALSE),ROWS(BD!$1:20)))))","v":""},{"$f":"IF($AA$10=\"\",\"\",IF(ROWS(BD!$1:20)>COUNTIFS(BD!$B:$B,$AA$10),\"\",INDEX(BD!$G$2:$G$138,SMALL(IF(BD!$B$2:$B$138=$AA$10,IF(BD!$B$2:$B$138=$AA$10,ROW(BD!$B$2:$B$138)-ROW(BD!$B$2)+1),FALSE),ROWS(BD!$1:20)))))","v":""},{"$f":"IF($AA$10=\"\",\"\",IF(ROWS(BD!$1:20)>COUNTIFS(BD!$B:$B,$AA$10),\"\",INDEX(BD!$H$2:$H$138,SMALL(IF(BD!$B$2:$B$138=$AA$10,IF(BD!$B$2:$B$138=$AA$10,ROW(BD!$B$2:$B$138)-ROW(BD!$B$2)+1),FALSE),ROWS(BD!$1:20)))))","v":""},null,{"$f":"IF($AG$10=\"\",\"\",IF(ROWS(BD!$1:20)>COUNTIFS(BD!$B$1:$B$138,$AG$10),\"\",INDEX(BD!$C$2:$C$138,SMALL(IF(BD!$B$2:$B$138=$AG$10,IF(BD!$B$2:$B$138=$AG$10,ROW(BD!$B$2:$B$138)-ROW(BD!$B$2)+1),FALSE),ROWS(BD!$1:20)))))","v":""},{"$f":"IF($AG$10=\"\",\"\",IF(ROWS(BD!$1:20)>COUNTIFS(BD!$B$1:$B$138,$AG$10),\"\",INDEX(BD!$E$2:$E$138,SMALL(IF(BD!$B$2:$B$138=$AG$10,IF(BD!$B$2:$B$138=$AG$10,ROW(BD!$B$2:$B$138)-ROW(BD!$B$2)+1),FALSE),ROWS(BD!$1:20)))))","v":""},{"$f":"IF($AG$10=\"\",\"\",IF(ROWS(BD!$1:20)>COUNTIFS(BD!$B$1:$B$138,$AG$10),\"\",INDEX(BD!$F$2:$F$138,SMALL(IF(BD!$B$2:$B$138=$AG$10,IF(BD!$B$2:$B$138=$AG$10,ROW(BD!$B$2:$B$138)-ROW(BD!$B$2)+1),FALSE),ROWS(BD!$1:20)))))","v":""},{"$f":"IF($AG$10=\"\",\"\",IF(ROWS(BD!$1:20)>COUNTIFS(BD!$B:$B,$AG$10),\"\",INDEX(BD!$G$2:$G$138,SMALL(IF(BD!$B$2:$B$138=$AG$10,IF(BD!$B$2:$B$138=$AG$10,ROW(BD!$B$2:$B$138)-ROW(BD!$B$2)+1),FALSE),ROWS(BD!$1:20)))))","v":""},{"$f":"IF($AG$10=\"\",\"\",IF(ROWS(BD!$1:20)>COUNTIFS(BD!$B:$B,$AG$10),\"\",INDEX(BD!$H$2:$H$138,SMALL(IF(BD!$B$2:$B$138=$AG$10,IF(BD!$B$2:$B$138=$AG$10,ROW(BD!$B$2:$B$138)-ROW(BD!$B$2)+1),FALSE),ROWS(BD!$1:20)))))","v":""},null,{"$f":"IF($AM$10=\"\",\"\",IF(ROWS(BD!$1:20)>COUNTIFS(BD!$B$1:$B$138,$AM$10),\"\",INDEX(BD!$C$2:$C$138,SMALL(IF(BD!$B$2:$B$138=$AM$10,IF(BD!$B$2:$B$138=$AM$10,ROW(BD!$B$2:$B$138)-ROW(BD!$B$2)+1),FALSE),ROWS(BD!$1:20)))))","v":""},{"$f":"IF($AM$10=\"\",\"\",IF(ROWS(BD!$1:20)>COUNTIFS(BD!$B$1:$B$138,$AM$10),\"\",INDEX(BD!$E$2:$E$138,SMALL(IF(BD!$B$2:$B$138=$AM$10,IF(BD!$B$2:$B$138=$AM$10,ROW(BD!$B$2:$B$138)-ROW(BD!$B$2)+1),FALSE),ROWS(BD!$1:20)))))","v":""},{"$f":"IF($AM$10=\"\",\"\",IF(ROWS(BD!$1:20)>COUNTIFS(BD!$B$1:$B$138,$AM$10),\"\",INDEX(BD!$F$2:$F$138,SMALL(IF(BD!$B$2:$B$138=$AM$10,IF(BD!$B$2:$B$138=$AM$10,ROW(BD!$B$2:$B$138)-ROW(BD!$B$2)+1),FALSE),ROWS(BD!$1:20)))))","v":""},{"$f":"IF($AM$10=\"\",\"\",IF(ROWS(BD!$1:20)>COUNTIFS(BD!$B:$B,$AM$10),\"\",INDEX(BD!$G$2:$G$138,SMALL(IF(BD!$B$2:$B$138=$AM$10,IF(BD!$B$2:$B$138=$AM$10,ROW(BD!$B$2:$B$138)-ROW(BD!$B$2)+1),FALSE),ROWS(BD!$1:20)))))","v":""},{"$f":"IF($AM$10=\"\",\"\",IF(ROWS(BD!$1:20)>COUNTIFS(BD!$B:$B,$AM$10),\"\",INDEX(BD!$H$2:$H$138,SMALL(IF(BD!$B$2:$B$138=$AM$10,IF(BD!$B$2:$B$138=$AM$10,ROW(BD!$B$2:$B$138)-ROW(BD!$B$2)+1),FALSE),ROWS(BD!$1:20)))))","v":""}]
[null,null,{"$f":"IF($C$10=\"\",\"\",IF(ROWS(BD!$1:21)>COUNTIFS(BD!$B$1:$B$138,$C$10),\"\",INDEX(BD!$C$2:$C$138,SMALL(IF(BD!$B$2:$B$138=$C$10,IF(BD!$B$2:$B$138=$C$10,ROW(BD!$B$2:$B$138)-ROW(BD!$B$2)+1),FALSE),ROWS(BD!$1:21)))))","v":""},{"$f":"IF($C$10=\"\",\"\",IF(ROWS(BD!$1:21)>COUNTIFS(BD!$B$1:$B$138,$C$10),\"\",INDEX(BD!$E$2:$E$138,SMALL(IF(BD!$B$2:$B$138=$C$10,IF(BD!$B$2:$B$138=$C$10,ROW(BD!$B$2:$B$138)-ROW(BD!$B$2)+1),FALSE),ROWS(BD!$1:21)))))","v":""},{"$f":"IF($C$10=\"\",\"\",IF(ROWS(BD!$1:21)>COUNTIFS(BD!$B$1:$B$138,$C$10),\"\",INDEX(BD!$F$2:$F$138,SMALL(IF(BD!$B$2:$B$138=$C$10,IF(BD!$B$2:$B$138=$C$10,ROW(BD!$B$2:$B$138)-ROW(BD!$B$2)+1),FALSE),ROWS(BD!$1:21)))))","v":""},{"$f":"IF($C$10=\"\",\"\",IF(ROWS(BD!$1:21)>COUNTIFS(BD!$B:$B,$C$10),\"\",INDEX(BD!$G$2:$G$138,SMALL(IF(BD!$B$2:$B$138=$C$10,IF(BD!$B$2:$B$138=$C$10,ROW(BD!$B$2:$B$138)-ROW(BD!$B$2)+1),FALSE),ROWS(BD!$1:21)))))","v":""},{"$f":"IF($C$10=\"\",\"\",IF(ROWS(BD!$1:21)>COUNTIFS(BD!$B:$B,$C$10),\"\",INDEX(BD!$H$2:$H$138,SMALL(IF(BD!$B$2:$B$138=$C$10,IF(BD!$B$2:$B$138=$C$10,ROW(BD!$B$2:$B$138)-ROW(BD!$B$2)+1),FALSE),ROWS(BD!$1:21)))))","v":""},null,{"$f":"IF($I$10=\"\",\"\",IF(ROWS(BD!$1:21)>COUNTIFS(BD!$B$1:$B$138,$I$10),\"\",INDEX(BD!$C$2:$C$138,SMALL(IF(BD!$B$2:$B$138=$I$10,IF(BD!$B$2:$B$138=$I$10,ROW(BD!$B$2:$B$138)-ROW(BD!$B$2)+1),FALSE),ROWS(BD!$1:21)))))","v":""},{"$f":"IF($I$10=\"\",\"\",IF(ROWS(BD!$1:21)>COUNTIFS(BD!$B$1:$B$138,$I$10),\"\",INDEX(BD!$E$2:$E$138,SMALL(IF(BD!$B$2:$B$138=$I$10,IF(BD!$B$2:$B$138=$I$10,ROW(BD!$B$2:$B$138)-ROW(BD!$B$2)+1),FALSE),ROWS(BD!$1:21)))))","v":""},{"$f":"IF($I$10=\"\",\"\",IF(ROWS(BD!$1:21)>COUNTIFS(BD!$B$1:$B$138,$I$10),\"\",INDEX(BD!$F$2:$F$138,SMALL(IF(BD!$B$2:$B$138=$I$10,IF(BD!$B$2:$B$138=$I$10,ROW(BD!$B$2:$B$138)-ROW(BD!$B$2)+1),FALSE),ROWS(BD!$1:21)))))","v":""},{"$f":"IF($I$10=\"\",\"\",IF(ROWS(BD!$1:21)>COUNTIFS(BD!$B:$B,$I$10),\"\",INDEX(BD!$G$2:$G$138,SMALL(IF(BD!$B$2:$B$138=$I$10,IF(BD!$B$2:$B$138=$I$10,ROW(BD!$B$2:$B$138)-ROW(BD!$B$2)+1),FALSE),ROWS(BD!$1:21)))))","v":""},{"$f":"IF($I$10=\"\",\"\",IF(ROWS(BD!$1:21)>COUNTIFS(BD!$B:$B,$I$10),\"\",INDEX(BD!$H$2:$H$138,SMALL(IF(BD!$B$2:$B$138=$I$10,IF(BD!$B$2:$B$138=$I$10,ROW(BD!$B$2:$B$138)-ROW(BD!$B$2)+1),FALSE),ROWS(BD!$1:21)))))","v":""},null,{"$f":"IF($O$10=\"\",\"\",IF(ROWS(BD!$1:21)>COUNTIFS(BD!$B$1:$B$138,$O$10),\"\",INDEX(BD!$C$2:$C$138,SMALL(IF(BD!$B$2:$B$138=$O$10,IF(BD!$B$2:$B$138=$O$10,ROW(BD!$B$2:$B$138)-ROW(BD!$B$2)+1),FALSE),ROWS(BD!$1:21)))))","v":""},{"$f":"IF($O$10=\"\",\"\",IF(ROWS(BD!$1:21)>COUNTIFS(BD!$B$1:$B$138,$O$10),\"\",INDEX(BD!$E$2:$E$138,SMALL(IF(BD!$B$2:$B$138=$O$10,IF(BD!$B$2:$B$138=$O$10,ROW(BD!$B$2:$B$138)-ROW(BD!$B$2)+1),FALSE),ROWS(BD!$1:21)))))","v":""},{"$f":"IF($O$10=\"\",\"\",IF(ROWS(BD!$1:21)>COUNTIFS(BD!$B$1:$B$138,$O$10),\"\",INDEX(BD!$F$2:$F$138,SMALL(IF(BD!$B$2:$B$138=$O$10,IF(BD!$B$2:$B$138=$O$10,ROW(BD!$B$2:$B$138)-ROW(BD!$B$2)+1),FALSE),ROWS(BD!$1:21)))))","v":""},{"$f":"IF($O$10=\"\",\"\",IF(ROWS(BD!$1:21)>COUNTIFS(BD!$B:$B,$O$10),\"\",INDEX(BD!$G$2:$G$138,SMALL(IF(BD!$B$2:$B$138=$O$10,IF(BD!$B$2:$B$138=$O$10,ROW(BD!$B$2:$B$138)-ROW(BD!$B$2)+1),FALSE),ROWS(BD!$1:21)))))","v":""},{"$f":"IF($O$10=\"\",\"\",IF(ROWS(BD!$1:21)>COUNTIFS(BD!$B:$B,$O$10),\"\",INDEX(BD!$H$2:$H$138,SMALL(IF(BD!$B$2:$B$138=$O$10,IF(BD!$B$2:$B$138=$O$10,ROW(BD!$B$2:$B$138)-ROW(BD!$B$2)+1),FALSE),ROWS(BD!$1:21)))))","v":""},null,{"$f":"IF($U$10=\"\",\"\",IF(ROWS(BD!$1:21)>COUNTIFS(BD!$B$1:$B$138,$U$10),\"\",INDEX(BD!$C$2:$C$138,SMALL(IF(BD!$B$2:$B$138=$U$10,IF(BD!$B$2:$B$138=$U$10,ROW(BD!$B$2:$B$138)-ROW(BD!$B$2)+1),FALSE),ROWS(BD!$1:21)))))","v":""},{"$f":"IF($U$10=\"\",\"\",IF(ROWS(BD!$1:21)>COUNTIFS(BD!$B$1:$B$138,$U$10),\"\",INDEX(BD!$E$2:$E$138,SMALL(IF(BD!$B$2:$B$138=$U$10,IF(BD!$B$2:$B$138=$U$10,ROW(BD!$B$2:$B$138)-ROW(BD!$B$2)+1),FALSE),ROWS(BD!$1:21)))))","v":""},{"$f":"IF($U$10=\"\",\"\",IF(ROWS(BD!$1:21)>COUNTIFS(BD!$B$1:$B$138,$U$10),\"\",INDEX(BD!$F$2:$F$138,SMALL(IF(BD!$B$2:$B$138=$U$10,IF(BD!$B$2:$B$138=$U$10,ROW(BD!$B$2:$B$138)-ROW(BD!$B$2)+1),FALSE),ROWS(BD!$1:21)))))","v":""},{"$f":"IF($U$10=\"\",\"\",IF(ROWS(BD!$1:21)>COUNTIFS(BD!$B:$B,$U$10),\"\",INDEX(BD!$G$2:$G$138,SMALL(IF(BD!$B$2:$B$138=$U$10,IF(BD!$B$2:$B$138=$U$10,ROW(BD!$B$2:$B$138)-ROW(BD!$B$2)+1),FALSE),ROWS(BD!$1:21)))))","v":""},{"$f":"IF($U$10=\"\",\"\",IF(ROWS(BD!$1:21)>COUNTIFS(BD!$B:$B,$U$10),\"\",INDEX(BD!$H$2:$H$138,SMALL(IF(BD!$B$2:$B$138=$U$10,IF(BD!$B$2:$B$138=$U$10,ROW(BD!$B$2:$B$138)-ROW(BD!$B$2)+1),FALSE),ROWS(BD!$1:21)))))","v":""},null,{"$f":"IF($AA$10=\"\",\"\",IF(ROWS(BD!$1:21)>COUNTIFS(BD!$B$1:$B$138,$AA$10),\"\",INDEX(BD!$C$2:$C$138,SMALL(IF(BD!$B$2:$B$138=$AA$10,IF(BD!$B$2:$B$138=$AA$10,ROW(BD!$B$2:$B$138)-ROW(BD!$B$2)+1),FALSE),ROWS(BD!$1:21)))))","v":""},{"$f":"IF($AA$10=\"\",\"\",IF(ROWS(BD!$1:21)>COUNTIFS(BD!$B$1:$B$138,$AA$10),\"\",INDEX(BD!$E$2:$E$138,SMALL(IF(BD!$B$2:$B$138=$AA$10,IF(BD!$B$2:$B$138=$AA$10,ROW(BD!$B$2:$B$138)-ROW(BD!$B$2)+1),FALSE),ROWS(BD!$1:21)))))","v":""},{"$f":"IF($AA$10=\"\",\"\",IF(ROWS(BD!$1:21)>COUNTIFS(BD!$B$1:$B$138,$AA$10),\"\",INDEX(BD!$F$2:$F$138,SMALL(IF(BD!$B$2:$B$138=$AA$10,IF(BD!$B$2:$B$138=$AA$10,ROW(BD!$B$2:$B$138)-ROW(BD!$B$2)+1),FALSE),ROWS(BD!$1:21)))))","v":""},{"$f":"IF($AA$10=\"\",\"\",IF(ROWS(BD!$1:21)>COUNTIFS(BD!$B:$B,$AA$10),\"\",INDEX(BD!$G$2:$G$138,SMALL(IF(BD!$B$2:$B$138=$AA$10,IF(BD!$B$2:$B$138=$AA$10,ROW(BD!$B$2:$B$138)-ROW(BD!$B$2)+1),FALSE),ROWS(BD!$1:21)))))","v":""},{"$f":"IF($AA$10=\"\",\"\",IF(ROWS(BD!$1:21)>COUNTIFS(BD!$B:$B,$AA$10),\"\",INDEX(BD!$H$2:$H$138,SMALL(IF(BD!$B$2:$B$138=$AA$10,IF(BD!$B$2:$B$138=$AA$10,ROW(BD!$B$2:$B$138)-ROW(BD!$B$2)+1),FALSE),ROWS(BD!$1:21)))))","v":""},null,{"$f":"IF($AG$10=\"\",\"\",IF(ROWS(BD!$1:21)>COUNTIFS(BD!$B$1:$B$138,$AG$10),\"\",INDEX(BD!$C$2:$C$138,SMALL(IF(BD!$B$2:$B$138=$AG$10,IF(BD!$B$2:$B$138=$AG$10,ROW(BD!$B$2:$B$138)-ROW(BD!$B$2)+1),FALSE),ROWS(BD!$1:21)))))","v":""},{"$f":"IF($AG$10=\"\",\"\",IF(ROWS(BD!$1:21)>COUNTIFS(BD!$B$1:$B$138,$AG$10),\"\",INDEX(BD!$E$2:$E$138,SMALL(IF(BD!$B$2:$B$138=$AG$10,IF(BD!$B$2:$B$138=$AG$10,ROW(BD!$B$2:$B$138)-ROW(BD!$B$2)+1),FALSE),ROWS(BD!$1:21)))))","v":""},{"$f":"IF($AG$10=\"\",\"\",IF(ROWS(BD!$1:21)>COUNTIFS(BD!$B$1:$B$138,$AG$10),\"\",INDEX(BD!$F$2:$F$138,SMALL(IF(BD!$B$2:$B$138=$AG$10,IF(BD!$B$2:$B$138=$AG$10,ROW(BD!$B$2:$B$138)-ROW(BD!$B$2)+1),FALSE),ROWS(BD!$1:21)))))","v":""},{"$f":"IF($AG$10=\"\",\"\",IF(ROWS(BD!$1:21)>COUNTIFS(BD!$B:$B,$AG$10),\"\",INDEX(BD!$G$2:$G$138,SMALL(IF(BD!$B$2:$B$138=$AG$10,IF(BD!$B$2:$B$138=$AG$10,ROW(BD!$B$2:$B$138)-ROW(BD!$B$2)+1),FALSE),ROWS(BD!$1:21)))))","v":""},{"$f":"IF($AG$10=\"\",\"\",IF(ROWS(BD!$1:21)>COUNTIFS(BD!$B:$B,$AG$10),\"\",INDEX(BD!$H$2:$H$138,SMALL(IF(BD!$B$2:$B$138=$AG$10,IF(BD!$B$2:$B$138=$AG$10,ROW(BD!$B$2:$B$138)-ROW(BD!$B$2)+1),FALSE),ROWS(BD!$1:21)))))","v":""},null,{"$f":"IF($AM$10=\"\",\"\",IF(ROWS(BD!$1:21)>COUNTIFS(BD!$B$1:$B$138,$AM$10),\"\",INDEX(BD!$C$2:$C$138,SMALL(IF(BD!$B$2:$B$138=$AM$10,IF(BD!$B$2:$B$138=$AM$10,ROW(BD!$B$2:$B$138)-ROW(BD!$B$2)+1),FALSE),ROWS(BD!$1:21)))))","v":""},{"$f":"IF($AM$10=\"\",\"\",IF(ROWS(BD!$1:21)>COUNTIFS(BD!$B$1:$B$138,$AM$10),\"\",INDEX(BD!$E$2:$E$138,SMALL(IF(BD!$B$2:$B$138=$AM$10,IF(BD!$B$2:$B$138=$AM$10,ROW(BD!$B$2:$B$138)-ROW(BD!$B$2)+1),FALSE),ROWS(BD!$1:21)))))","v":""},{"$f":"IF($AM$10=\"\",\"\",IF(ROWS(BD!$1:21)>COUNTIFS(BD!$B$1:$B$138,$AM$10),\"\",INDEX(BD!$F$2:$F$138,SMALL(IF(BD!$B$2:$B$138=$AM$10,IF(BD!$B$2:$B$138=$AM$10,ROW(BD!$B$2:$B$138)-ROW(BD!$B$2)+1),FALSE),ROWS(BD!$1:21)))))","v":""},{"$f":"IF($AM$10=\"\",\"\",IF(ROWS(BD!$1:21)>COUNTIFS(BD!$B:$B,$AM$10),\"\",INDEX(BD!$G$2:$G$138,SMALL(IF(BD!$B$2:$B$138=$AM$10,IF(BD!$B$2:$B$138=$AM$10,ROW(BD!$B$2:$B$138)-ROW(BD!$B$2)+1),FALSE),ROWS(BD!$1:21)))))","v":""},{"$f":"IF($AM$10=\"\",\"\",IF(ROWS(BD!$1:21)>COUNTIFS(BD!$B:$B,$AM$10),\"\",INDEX(BD!$H$2:$H$138,SMALL(IF(BD!$B$2:$B$138=$AM$10,IF(BD!$B$2:$B$138=$AM$10,ROW(BD!$B$2:$B$138)-ROW(BD!$B$2)+1),FALSE),ROWS(BD!$1:21)))))","v":""}]
[null,null,{"$f":"IF($C$10=\"\",\"\",IF(ROWS(BD!$1:22)>COUNTIFS(BD!$B$1:$B$138,$C$10),\"\",INDEX(BD!$C$2:$C$138,SMALL(IF(BD!$B$2:$B$138=$C$10,IF(BD!$B$2:$B$138=$C$10,ROW(BD!$B$2:$B$138)-ROW(BD!$B$2)+1),FALSE),ROWS(BD!$1:22)))))","v":""},{"$f":"IF($C$10=\"\",\"\",IF(ROWS(BD!$1:22)>COUNTIFS(BD!$B$1:$B$138,$C$10),\"\",INDEX(BD!$E$2:$E$138,SMALL(IF(BD!$B$2:$B$138=$C$10,IF(BD!$B$2:$B$138=$C$10,ROW(BD!$B$2:$B$138)-ROW(BD!$B$2)+1),FALSE),ROWS(BD!$1:22)))))","v":""},{"$f":"IF($C$10=\"\",\"\",IF(ROWS(BD!$1:22)>COUNTIFS(BD!$B$1:$B$138,$C$10),\"\",INDEX(BD!$F$2:$F$138,SMALL(IF(BD!$B$2:$B$138=$C$10,IF(BD!$B$2:$B$138=$C$10,ROW(BD!$B$2:$B$138)-ROW(BD!$B$2)+1),FALSE),ROWS(BD!$1:22)))))","v":""},{"$f":"IF($C$10=\"\",\"\",IF(ROWS(BD!$1:22)>COUNTIFS(BD!$B:$B,$C$10),\"\",INDEX(BD!$G$2:$G$138,SMALL(IF(BD!$B$2:$B$138=$C$10,IF(BD!$B$2:$B$138=$C$10,ROW(BD!$B$2:$B$138)-ROW(BD!$B$2)+1),FALSE),ROWS(BD!$1:22)))))","v":""},{"$f":"IF($C$10=\"\",\"\",IF(ROWS(BD!$1:22)>COUNTIFS(BD!$B:$B,$C$10),\"\",INDEX(BD!$H$2:$H$138,SMALL(IF(BD!$B$2:$B$138=$C$10,IF(BD!$B$2:$B$138=$C$10,ROW(BD!$B$2:$B$138)-ROW(BD!$B$2)+1),FALSE),ROWS(BD!$1:22)))))","v":""},null,{"$f":"IF($I$10=\"\",\"\",IF(ROWS(BD!$1:22)>COUNTIFS(BD!$B$1:$B$138,$I$10),\"\",INDEX(BD!$C$2:$C$138,SMALL(IF(BD!$B$2:$B$138=$I$10,IF(BD!$B$2:$B$138=$I$10,ROW(BD!$B$2:$B$138)-ROW(BD!$B$2)+1),FALSE),ROWS(BD!$1:22)))))","v":""},{"$f":"IF($I$10=\"\",\"\",IF(ROWS(BD!$1:22)>COUNTIFS(BD!$B$1:$B$138,$I$10),\"\",INDEX(BD!$E$2:$E$138,SMALL(IF(BD!$B$2:$B$138=$I$10,IF(BD!$B$2:$B$138=$I$10,ROW(BD!$B$2:$B$138)-ROW(BD!$B$2)+1),FALSE),ROWS(BD!$1:22)))))","v":""},{"$f":"IF($I$10=\"\",\"\",IF(ROWS(BD!$1:22)>COUNTIFS(BD!$B$1:$B$138,$I$10),\"\",INDEX(BD!$F$2:$F$138,SMALL(IF(BD!$B$2:$B$138=$I$10,IF(BD!$B$2:$B$138=$I$10,ROW(BD!$B$2:$B$138)-ROW(BD!$B$2)+1),FALSE),ROWS(BD!$1:22)))))","v":""},{"$f":"IF($I$10=\"\",\"\",IF(ROWS(BD!$1:22)>COUNTIFS(BD!$B:$B,$I$10),\"\",INDEX(BD!$G$2:$G$138,SMALL(IF(BD!$B$2:$B$138=$I$10,IF(BD!$B$2:$B$138=$I$10,ROW(BD!$B$2:$B$138)-ROW(BD!$B$2)+1),FALSE),ROWS(BD!$1:22)))))","v":""},{"$f":"IF($I$10=\"\",\"\",IF(ROWS(BD!$1:22)>COUNTIFS(BD!$B:$B,$I$10),\"\",INDEX(BD!$H$2:$H$138,SMALL(IF(BD!$B$2:$B$138=$I$10,IF(BD!$B$2:$B$138=$I$10,ROW(BD!$B$2:$B$138)-ROW(BD!$B$2)+1),FALSE),ROWS(BD!$1:22)))))","v":""},null,{"$f":"IF($O$10=\"\",\"\",IF(ROWS(BD!$1:22)>COUNTIFS(BD!$B$1:$B$138,$O$10),\"\",INDEX(BD!$C$2:$C$138,SMALL(IF(BD!$B$2:$B$138=$O$10,IF(BD!$B$2:$B$138=$O$10,ROW(BD!$B$2:$B$138)-ROW(BD!$B$2)+1),FALSE),ROWS(BD!$1:22)))))","v":""},{"$f":"IF($O$10=\"\",\"\",IF(ROWS(BD!$1:22)>COUNTIFS(BD!$B$1:$B$138,$O$10),\"\",INDEX(BD!$E$2:$E$138,SMALL(IF(BD!$B$2:$B$138=$O$10,IF(BD!$B$2:$B$138=$O$10,ROW(BD!$B$2:$B$138)-ROW(BD!$B$2)+1),FALSE),ROWS(BD!$1:22)))))","v":""},{"$f":"IF($O$10=\"\",\"\",IF(ROWS(BD!$1:22)>COUNTIFS(BD!$B$1:$B$138,$O$10),\"\",INDEX(BD!$F$2:$F$138,SMALL(IF(BD!$B$2:$B$138=$O$10,IF(BD!$B$2:$B$138=$O$10,ROW(BD!$B$2:$B$138)-ROW(BD!$B$2)+1),FALSE),ROWS(BD!$1:22)))))","v":""},{"$f":"IF($O$10=\"\",\"\",IF(ROWS(BD!$1:22)>COUNTIFS(BD!$B:$B,$O$10),\"\",INDEX(BD!$G$2:$G$138,SMALL(IF(BD!$B$2:$B$138=$O$10,IF(BD!$B$2:$B$138=$O$10,ROW(BD!$B$2:$B$138)-ROW(BD!$B$2)+1),FALSE),ROWS(BD!$1:22)))))","v":""},{"$f":"IF($O$10=\"\",\"\",IF(ROWS(BD!$1:22)>COUNTIFS(BD!$B:$B,$O$10),\"\",INDEX(BD!$H$2:$H$138,SMALL(IF(BD!$B$2:$B$138=$O$10,IF(BD!$B$2:$B$138=$O$10,ROW(BD!$B$2:$B$138)-ROW(BD!$B$2)+1),FALSE),ROWS(BD!$1:22)))))","v":""},null,{"$f":"IF($U$10=\"\",\"\",IF(ROWS(BD!$1:22)>COUNTIFS(BD!$B$1:$B$138,$U$10),\"\",INDEX(BD!$C$2:$C$138,SMALL(IF(BD!$B$2:$B$138=$U$10,IF(BD!$B$2:$B$138=$U$10,ROW(BD!$B$2:$B$138)-ROW(BD!$B$2)+1),FALSE),ROWS(BD!$1:22)))))","v":""},{"$f":"IF($U$10=\"\",\"\",IF(ROWS(BD!$1:22)>COUNTIFS(BD!$B$1:$B$138,$U$10),\"\",INDEX(BD!$E$2:$E$138,SMALL(IF(BD!$B$2:$B$138=$U$10,IF(BD!$B$2:$B$138=$U$10,ROW(BD!$B$2:$B$138)-ROW(BD!$B$2)+1),FALSE),ROWS(BD!$1:22)))))","v":""},{"$f":"IF($U$10=\"\",\"\",IF(ROWS(BD!$1:22)>COUNTIFS(BD!$B$1:$B$138,$U$10),\"\",INDEX(BD!$F$2:$F$138,SMALL(IF(BD!$B$2:$B$138=$U$10,IF(BD!$B$2:$B$138=$U$10,ROW(BD!$B$2:$B$138)-ROW(BD!$B$2)+1),FALSE),ROWS(BD!$1:22)))))","v":""},{"$f":"IF($U$10=\"\",\"\",IF(ROWS(BD!$1:22)>COUNTIFS(BD!$B:$B,$U$10),\"\",INDEX(BD!$G$2:$G$138,SMALL(IF(BD!$B$2:$B$138=$U$10,IF(BD!$B$2:$B$138=$U$10,ROW(BD!$B$2:$B$138)-ROW(BD!$B$2)+1),FALSE),ROWS(BD!$1:22)))))","v":""},{"$f":"IF($U$10=\"\",\"\",IF(ROWS(BD!$1:22)>COUNTIFS(BD!$B:$B,$U$10),\"\",INDEX(BD!$H$2:$H$138,SMALL(IF(BD!$B$2:$B$138=$U$10,IF(BD!$B$2:$B$138=$U$10,ROW(BD!$B$2:$B$138)-ROW(BD!$B$2)+1),FALSE),ROWS(BD!$1:22)))))","v":""},null,{"$f":"IF($AA$10=\"\",\"\",IF(ROWS(BD!$1:22)>COUNTIFS(BD!$B$1:$B$138,$AA$10),\"\",INDEX(BD!$C$2:$C$138,SMALL(IF(BD!$B$2:$B$138=$AA$10,IF(BD!$B$2:$B$138=$AA$10,ROW(BD!$B$2:$B$138)-ROW(BD!$B$2)+1),FALSE),ROWS(BD!$1:22)))))","v":""},{"$f":"IF($AA$10=\"\",\"\",IF(ROWS(BD!$1:22)>COUNTIFS(BD!$B$1:$B$138,$AA$10),\"\",INDEX(BD!$E$2:$E$138,SMALL(IF(BD!$B$2:$B$138=$AA$10,IF(BD!$B$2:$B$138=$AA$10,ROW(BD!$B$2:$B$138)-ROW(BD!$B$2)+1),FALSE),ROWS(BD!$1:22)))))","v":""},{"$f":"IF($AA$10=\"\",\"\",IF(ROWS(BD!$1:22)>COUNTIFS(BD!$B$1:$B$138,$AA$10),\"\",INDEX(BD!$F$2:$F$138,SMALL(IF(BD!$B$2:$B$138=$AA$10,IF(BD!$B$2:$B$138=$AA$10,ROW(BD!$B$2:$B$138)-ROW(BD!$B$2)+1),FALSE),ROWS(BD!$1:22)))))","v":""},{"$f":"IF($AA$10=\"\",\"\",IF(ROWS(BD!$1:22)>COUNTIFS(BD!$B:$B,$AA$10),\"\",INDEX(BD!$G$2:$G$138,SMALL(IF(BD!$B$2:$B$138=$AA$10,IF(BD!$B$2:$B$138=$AA$10,ROW(BD!$B$2:$B$138)-ROW(BD!$B$2)+1),FALSE),ROWS(BD!$1:22)))))","v":""},{"$f":"IF($AA$10=\"\",\"\",IF(ROWS(BD!$1:22)>COUNTIFS(BD!$B:$B,$AA$10),\"\",INDEX(BD!$H$2:$H$138,SMALL(IF(BD!$B$2:$B$138=$AA$10,IF(BD!$B$2:$B$138=$AA$10,ROW(BD!$B$2:$B$138)-ROW(BD!$B$2)+1),FALSE),ROWS(BD!$1:22)))))","v":""},null,{"$f":"IF($AG$10=\"\",\"\",IF(ROWS(BD!$1:22)>COUNTIFS(BD!$B$1:$B$138,$AG$10),\"\",INDEX(BD!$C$2:$C$138,SMALL(IF(BD!$B$2:$B$138=$AG$10,IF(BD!$B$2:$B$138=$AG$10,ROW(BD!$B$2:$B$138)-ROW(BD!$B$2)+1),FALSE),ROWS(BD!$1:22)))))","v":""},{"$f":"IF($AG$10=\"\",\"\",IF(ROWS(BD!$1:22)>COUNTIFS(BD!$B$1:$B$138,$AG$10),\"\",INDEX(BD!$E$2:$E$138,SMALL(IF(BD!$B$2:$B$138=$AG$10,IF(BD!$B$2:$B$138=$AG$10,ROW(BD!$B$2:$B$138)-ROW(BD!$B$2)+1),FALSE),ROWS(BD!$1:22)))))","v":""},{"$f":"IF($AG$10=\"\",\"\",IF(ROWS(BD!$1:22)>COUNTIFS(BD!$B$1:$B$138,$AG$10),\"\",INDEX(BD!$F$2:$F$138,SMALL(IF(BD!$B$2:$B$138=$AG$10,IF(BD!$B$2:$B$138=$AG$10,ROW(BD!$B$2:$B$138)-ROW(BD!$B$2)+1),FALSE),ROWS(BD!$1:22)))))","v":""},{"$f":"IF($AG$10=\"\",\"\",IF(ROWS(BD!$1:22)>COUNTIFS(BD!$B:$B,$AG$10),\"\",INDEX(BD!$G$2:$G$138,SMALL(IF(BD!$B$2:$B$138=$AG$10,IF(BD!$B$2:$B$138=$AG$10,ROW(BD!$B$2:$B$138)-ROW(BD!$B$2)+1),FALSE),ROWS(BD!$1:22)))))","v":""},{"$f":"IF($AG$10=\"\",\"\",IF(ROWS(BD!$1:22)>COUNTIFS(BD!$B:$B,$AG$10),\"\",INDEX(BD!$H$2:$H$138,SMALL(IF(BD!$B$2:$B$138=$AG$10,IF(BD!$B$2:$B$138=$AG$10,ROW(BD!$B$2:$B$138)-ROW(BD!$B$2)+1),FALSE),ROWS(BD!$1:22)))))","v":""},null,{"$f":"IF($AM$10=\"\",\"\",IF(ROWS(BD!$1:22)>COUNTIFS(BD!$B$1:$B$138,$AM$10),\"\",INDEX(BD!$C$2:$C$138,SMALL(IF(BD!$B$2:$B$138=$AM$10,IF(BD!$B$2:$B$138=$AM$10,ROW(BD!$B$2:$B$138)-ROW(BD!$B$2)+1),FALSE),ROWS(BD!$1:22)))))","v":""},{"$f":"IF($AM$10=\"\",\"\",IF(ROWS(BD!$1:22)>COUNTIFS(BD!$B$1:$B$138,$AM$10),\"\",INDEX(BD!$E$2:$E$138,SMALL(IF(BD!$B$2:$B$138=$AM$10,IF(BD!$B$2:$B$138=$AM$10,ROW(BD!$B$2:$B$138)-ROW(BD!$B$2)+1),FALSE),ROWS(BD!$1:22)))))","v":""},{"$f":"IF($AM$10=\"\",\"\",IF(ROWS(BD!$1:22)>COUNTIFS(BD!$B$1:$B$138,$AM$10),\"\",INDEX(BD!$F$2:$F$138,SMALL(IF(BD!$B$2:$B$138=$AM$10,IF(BD!$B$2:$B$138=$AM$10,ROW(BD!$B$2:$B$138)-ROW(BD!$B$2)+1),FALSE),ROWS(BD!$1:22)))))","v":""},{"$f":"IF($AM$10=\"\",\"\",IF(ROWS(BD!$1:22)>COUNTIFS(BD!$B:$B,$AM$10),\"\",INDEX(BD!$G$2:$G$138,SMALL(IF(BD!$B$2:$B$138=$AM$10,IF(BD!$B$2:$B$138=$AM$10,ROW(BD!$B$2:$B$138)-ROW(BD!$B$2)+1),FALSE),ROWS(BD!$1:22)))))","v":""},{"$f":"IF($AM$10=\"\",\"\",IF(ROWS(BD!$1:22)>COUNTIFS(BD!$B:$B,$AM$10),\"\",INDEX(BD!$H$2:$H$138,SMALL(IF(BD!$B$2:$B$138=$AM$10,IF(BD!$B$2:$B$138=$AM$10,ROW(BD!$B$2:$B$138)-ROW(BD!$B$2)+1),FALSE),ROWS(BD!$1:22)))))","v":""}]
[null,null,{"$f":"IF($C$10=\"\",\"\",IF(ROWS(BD!$1:23)>COUNTIFS(BD!$B$1:$B$138,$C$10),\"\",INDEX(BD!$C$2:$C$138,SMALL(IF(BD!$B$2:$B$138=$C$10,IF(BD!$B$2:$B$138=$C$10,ROW(BD!$B$2:$B$138)-ROW(BD!$B$2)+1),FALSE),ROWS(BD!$1:23)))))","v":""},{"$f":"IF($C$10=\"\",\"\",IF(ROWS(BD!$1:23)>COUNTIFS(BD!$B$1:$B$138,$C$10),\"\",INDEX(BD!$E$2:$E$138,SMALL(IF(BD!$B$2:$B$138=$C$10,IF(BD!$B$2:$B$138=$C$10,ROW(BD!$B$2:$B$138)-ROW(BD!$B$2)+1),FALSE),ROWS(BD!$1:23)))))","v":""},{"$f":"IF($C$10=\"\",\"\",IF(ROWS(BD!$1:23)>COUNTIFS(BD!$B$1:$B$138,$C$10),\"\",INDEX(BD!$F$2:$F$138,SMALL(IF(BD!$B$2:$B$138=$C$10,IF(BD!$B$2:$B$138=$C$10,ROW(BD!$B$2:$B$138)-ROW(BD!$B$2)+1),FALSE),ROWS(BD!$1:23)))))","v":""},{"$f":"IF($C$10=\"\",\"\",IF(ROWS(BD!$1:23)>COUNTIFS(BD!$B:$B,$C$10),\"\",INDEX(BD!$G$2:$G$138,SMALL(IF(BD!$B$2:$B$138=$C$10,IF(BD!$B$2:$B$138=$C$10,ROW(BD!$B$2:$B$138)-ROW(BD!$B$2)+1),FALSE),ROWS(BD!$1:23)))))","v":""},{"$f":"IF($C$10=\"\",\"\",IF(ROWS(BD!$1:23)>COUNTIFS(BD!$B:$B,$C$10),\"\",INDEX(BD!$H$2:$H$138,SMALL(IF(BD!$B$2:$B$138=$C$10,IF(BD!$B$2:$B$138=$C$10,ROW(BD!$B$2:$B$138)-ROW(BD!$B$2)+1),FALSE),ROWS(BD!$1:23)))))","v":""},null,{"$f":"IF($I$10=\"\",\"\",IF(ROWS(BD!$1:23)>COUNTIFS(BD!$B$1:$B$138,$I$10),\"\",INDEX(BD!$C$2:$C$138,SMALL(IF(BD!$B$2:$B$138=$I$10,IF(BD!$B$2:$B$138=$I$10,ROW(BD!$B$2:$B$138)-ROW(BD!$B$2)+1),FALSE),ROWS(BD!$1:23)))))","v":""},{"$f":"IF($I$10=\"\",\"\",IF(ROWS(BD!$1:23)>COUNTIFS(BD!$B$1:$B$138,$I$10),\"\",INDEX(BD!$E$2:$E$138,SMALL(IF(BD!$B$2:$B$138=$I$10,IF(BD!$B$2:$B$138=$I$10,ROW(BD!$B$2:$B$138)-ROW(BD!$B$2)+1),FALSE),ROWS(BD!$1:23)))))","v":""},{"$f":"IF($I$10=\"\",\"\",IF(ROWS(BD!$1:23)>COUNTIFS(BD!$B$1:$B$138,$I$10),\"\",INDEX(BD!$F$2:$F$138,SMALL(IF(BD!$B$2:$B$138=$I$10,IF(BD!$B$2:$B$138=$I$10,ROW(BD!$B$2:$B$138)-ROW(BD!$B$2)+1),FALSE),ROWS(BD!$1:23)))))","v":""},{"$f":"IF($I$10=\"\",\"\",IF(ROWS(BD!$1:23)>COUNTIFS(BD!$B:$B,$I$10),\"\",INDEX(BD!$G$2:$G$138,SMALL(IF(BD!$B$2:$B$138=$I$10,IF(BD!$B$2:$B$138=$I$10,ROW(BD!$B$2:$B$138)-ROW(BD!$B$2)+1),FALSE),ROWS(BD!$1:23)))))","v":""},{"$f":"IF($I$10=\"\",\"\",IF(ROWS(BD!$1:23)>COUNTIFS(BD!$B:$B,$I$10),\"\",INDEX(BD!$H$2:$H$138,SMALL(IF(BD!$B$2:$B$138=$I$10,IF(BD!$B$2:$B$138=$I$10,ROW(BD!$B$2:$B$138)-ROW(BD!$B$2)+1),FALSE),ROWS(BD!$1:23)))))","v":""},null,{"$f":"IF($O$10=\"\",\"\",IF(ROWS(BD!$1:23)>COUNTIFS(BD!$B$1:$B$138,$O$10),\"\",INDEX(BD!$C$2:$C$138,SMALL(IF(BD!$B$2:$B$138=$O$10,IF(BD!$B$2:$B$138=$O$10,ROW(BD!$B$2:$B$138)-ROW(BD!$B$2)+1),FALSE),ROWS(BD!$1:23)))))","v":""},{"$f":"IF($O$10=\"\",\"\",IF(ROWS(BD!$1:23)>COUNTIFS(BD!$B$1:$B$138,$O$10),\"\",INDEX(BD!$E$2:$E$138,SMALL(IF(BD!$B$2:$B$138=$O$10,IF(BD!$B$2:$B$138=$O$10,ROW(BD!$B$2:$B$138)-ROW(BD!$B$2)+1),FALSE),ROWS(BD!$1:23)))))","v":""},{"$f":"IF($O$10=\"\",\"\",IF(ROWS(BD!$1:23)>COUNTIFS(BD!$B$1:$B$138,$O$10),\"\",INDEX(BD!$F$2:$F$138,SMALL(IF(BD!$B$2:$B$138=$O$10,IF(BD!$B$2:$B$138=$O$10,ROW(BD!$B$2:$B$138)-ROW(BD!$B$2)+1),FALSE),ROWS(BD!$1:23)))))","v":""},{"$f":"IF($O$10=\"\",\"\",IF(ROWS(BD!$1:23)>COUNTIFS(BD!$B:$B,$O$10),\"\",INDEX(BD!$G$2:$G$138,SMALL(IF(BD!$B$2:$B$138=$O$10,IF(BD!$B$2:$B$138=$O$10,ROW(BD!$B$2:$B$138)-ROW(BD!$B$2)+1),FALSE),ROWS(BD!$1:23)))))","v":""},{"$f":"IF($O$10=\"\",\"\",IF(ROWS(BD!$1:23)>COUNTIFS(BD!$B:$B,$O$10),\"\",INDEX(BD!$H$2:$H$138,SMALL(IF(BD!$B$2:$B$138=$O$10,IF(BD!$B$2:$B$138=$O$10,ROW(BD!$B$2:$B$138)-ROW(BD!$B$2)+1),FALSE),ROWS(BD!$1:23)))))","v":""},null,{"$f":"IF($U$10=\"\",\"\",IF(ROWS(BD!$1:23)>COUNTIFS(BD!$B$1:$B$138,$U$10),\"\",INDEX(BD!$C$2:$C$138,SMALL(IF(BD!$B$2:$B$138=$U$10,IF(BD!$B$2:$B$138=$U$10,ROW(BD!$B$2:$B$138)-ROW(BD!$B$2)+1),FALSE),ROWS(BD!$1:23)))))","v":""},{"$f":"IF($U$10=\"\",\"\",IF(ROWS(BD!$1:23)>COUNTIFS(BD!$B$1:$B$138,$U$10),\"\",INDEX(BD!$E$2:$E$138,SMALL(IF(BD!$B$2:$B$138=$U$10,IF(BD!$B$2:$B$138=$U$10,ROW(BD!$B$2:$B$138)-ROW(BD!$B$2)+1),FALSE),ROWS(BD!$1:23)))))","v":""},{"$f":"IF($U$10=\"\",\"\",IF(ROWS(BD!$1:23)>COUNTIFS(BD!$B$1:$B$138,$U$10),\"\",INDEX(BD!$F$2:$F$138,SMALL(IF(BD!$B$2:$B$138=$U$10,IF(BD!$B$2:$B$138=$U$10,ROW(BD!$B$2:$B$138)-ROW(BD!$B$2)+1),FALSE),ROWS(BD!$1:23)))))","v":""},{"$f":"IF($U$10=\"\",\"\",IF(ROWS(BD!$1:23)>COUNTIFS(BD!$B:$B,$U$10),\"\",INDEX(BD!$G$2:$G$138,SMALL(IF(BD!$B$2:$B$138=$U$10,IF(BD!$B$2:$B$138=$U$10,ROW(BD!$B$2:$B$138)-ROW(BD!$B$2)+1),FALSE),ROWS(BD!$1:23)))))","v":""},{"$f":"IF($U$10=\"\",\"\",IF(ROWS(BD!$1:23)>COUNTIFS(BD!$B:$B,$U$10),\"\",INDEX(BD!$H$2:$H$138,SMALL(IF(BD!$B$2:$B$138=$U$10,IF(BD!$B$2:$B$138=$U$10,ROW(BD!$B$2:$B$138)-ROW(BD!$B$2)+1),FALSE),ROWS(BD!$1:23)))))","v":""},null,{"$f":"IF($AA$10=\"\",\"\",IF(ROWS(BD!$1:23)>COUNTIFS(BD!$B$1:$B$138,$AA$10),\"\",INDEX(BD!$C$2:$C$138,SMALL(IF(BD!$B$2:$B$138=$AA$10,IF(BD!$B$2:$B$138=$AA$10,ROW(BD!$B$2:$B$138)-ROW(BD!$B$2)+1),FALSE),ROWS(BD!$1:23)))))","v":""},{"$f":"IF($AA$10=\"\",\"\",IF(ROWS(BD!$1:23)>COUNTIFS(BD!$B$1:$B$138,$AA$10),\"\",INDEX(BD!$E$2:$E$138,SMALL(IF(BD!$B$2:$B$138=$AA$10,IF(BD!$B$2:$B$138=$AA$10,ROW(BD!$B$2:$B$138)-ROW(BD!$B$2)+1),FALSE),ROWS(BD!$1:23)))))","v":""},{"$f":"IF($AA$10=\"\",\"\",IF(ROWS(BD!$1:23)>COUNTIFS(BD!$B$1:$B$138,$AA$10),\"\",INDEX(BD!$F$2:$F$138,SMALL(IF(BD!$B$2:$B$138=$AA$10,IF(BD!$B$2:$B$138=$AA$10,ROW(BD!$B$2:$B$138)-ROW(BD!$B$2)+1),FALSE),ROWS(BD!$1:23)))))","v":""},{"$f":"IF($AA$10=\"\",\"\",IF(ROWS(BD!$1:23)>COUNTIFS(BD!$B:$B,$AA$10),\"\",INDEX(BD!$G$2:$G$138,SMALL(IF(BD!$B$2:$B$138=$AA$10,IF(BD!$B$2:$B$138=$AA$10,ROW(BD!$B$2:$B$138)-ROW(BD!$B$2)+1),FALSE),ROWS(BD!$1:23)))))","v":""},{"$f":"IF($AA$10=\"\",\"\",IF(ROWS(BD!$1:23)>COUNTIFS(BD!$B:$B,$AA$10),\"\",INDEX(BD!$H$2:$H$138,SMALL(IF(BD!$B$2:$B$138=$AA$10,IF(BD!$B$2:$B$138=$AA$10,ROW(BD!$B$2:$B$138)-ROW(BD!$B$2)+1),FALSE),ROWS(BD!$1:23)))))","v":""},null,{"$f":"IF($AG$10=\"\",\"\",IF(ROWS(BD!$1:23)>COUNTIFS(BD!$B$1:$B$138,$AG$10),\"\",INDEX(BD!$C$2:$C$138,SMALL(IF(BD!$B$2:$B$138=$AG$10,IF(BD!$B$2:$B$138=$AG$10,ROW(BD!$B$2:$B$138)-ROW(BD!$B$2)+1),FALSE),ROWS(BD!$1:23)))))","v":""},{"$f":"IF($AG$10=\"\",\"\",IF(ROWS(BD!$1:23)>COUNTIFS(BD!$B$1:$B$138,$AG$10),\"\",INDEX(BD!$E$2:$E$138,SMALL(IF(BD!$B$2:$B$138=$AG$10,IF(BD!$B$2:$B$138=$AG$10,ROW(BD!$B$2:$B$138)-ROW(BD!$B$2)+1),FALSE),ROWS(BD!$1:23)))))","v":""},{"$f":"IF($AG$10=\"\",\"\",IF(ROWS(BD!$1:23)>COUNTIFS(BD!$B$1:$B$138,$AG$10),\"\",INDEX(BD!$F$2:$F$138,SMALL(IF(BD!$B$2:$B$138=$AG$10,IF(BD!$B$2:$B$138=$AG$10,ROW(BD!$B$2:$B$138)-ROW(BD!$B$2)+1),FALSE),ROWS(BD!$1:23)))))","v":""},{"$f":"IF($AG$10=\"\",\"\",IF(ROWS(BD!$1:23)>COUNTIFS(BD!$B:$B,$AG$10),\"\",INDEX(BD!$G$2:$G$138,SMALL(IF(BD!$B$2:$B$138=$AG$10,IF(BD!$B$2:$B$138=$AG$10,ROW(BD!$B$2:$B$138)-ROW(BD!$B$2)+1),FALSE),ROWS(BD!$1:23)))))","v":""},{"$f":"IF($AG$10=\"\",\"\",IF(ROWS(BD!$1:23)>COUNTIFS(BD!$B:$B,$AG$10),\"\",INDEX(BD!$H$2:$H$138,SMALL(IF(BD!$B$2:$B$138=$AG$10,IF(BD!$B$2:$B$138=$AG$10,ROW(BD!$B$2:$B$138)-ROW(BD!$B$2)+1),FALSE),ROWS(BD!$1:23)))))","v":""},null,{"$f":"IF($AM$10=\"\",\"\",IF(ROWS(BD!$1:23)>COUNTIFS(BD!$B$1:$B$138,$AM$10),\"\",INDEX(BD!$C$2:$C$138,SMALL(IF(BD!$B$2:$B$138=$AM$10,IF(BD!$B$2:$B$138=$AM$10,ROW(BD!$B$2:$B$138)-ROW(BD!$B$2)+1),FALSE),ROWS(BD!$1:23)))))","v":""},{"$f":"IF($AM$10=\"\",\"\",IF(ROWS(BD!$1:23)>COUNTIFS(BD!$B$1:$B$138,$AM$10),\"\",INDEX(BD!$E$2:$E$138,SMALL(IF(BD!$B$2:$B$138=$AM$10,IF(BD!$B$2:$B$138=$AM$10,ROW(BD!$B$2:$B$138)-ROW(BD!$B$2)+1),FALSE),ROWS(BD!$1:23)))))","v":""},{"$f":"IF($AM$10=\"\",\"\",IF(ROWS(BD!$1:23)>COUNTIFS(BD!$B$1:$B$138,$AM$10),\"\",INDEX(BD!$F$2:$F$138,SMALL(IF(BD!$B$2:$B$138=$AM$10,IF(BD!$B$2:$B$138=$AM$10,ROW(BD!$B$2:$B$138)-ROW(BD!$B$2)+1),FALSE),ROWS(BD!$1:23)))))","v":""},{"$f":"IF($AM$10=\"\",\"\",IF(ROWS(BD!$1:23)>COUNTIFS(BD!$B:$B,$AM$10),\"\",INDEX(BD!$G$2:$G$138,SMALL(IF(BD!$B$2:$B$138=$AM$10,IF(BD!$B$2:$B$138=$AM$10,ROW(BD!$B$2:$B$138)-ROW(BD!$B$2)+1),FALSE),ROWS(BD!$1:23)))))","v":""},{"$f":"IF($AM$10=\"\",\"\",IF(ROWS(BD!$1:23)>COUNTIFS(BD!$B:$B,$AM$10),\"\",INDEX(BD!$H$2:$H$138,SMALL(IF(BD!$B$2:$B$138=$AM$10,IF(BD!$B$2:$B$138=$AM$10,ROW(BD!$B$2:$B$138)-ROW(BD!$B$2)+1),FALSE),ROWS(BD!$1:23)))))","v":""}]
[null,null,{"$f":"IF($C$10=\"\",\"\",IF(ROWS(BD!$1:24)>COUNTIFS(BD!$B$1:$B$138,$C$10),\"\",INDEX(BD!$C$2:$C$138,SMALL(IF(BD!$B$2:$B$138=$C$10,IF(BD!$B$2:$B$138=$C$10,ROW(BD!$B$2:$B$138)-ROW(BD!$B$2)+1),FALSE),ROWS(BD!$1:24)))))","v":""},{"$f":"IF($C$10=\"\",\"\",IF(ROWS(BD!$1:24)>COUNTIFS(BD!$B$1:$B$138,$C$10),\"\",INDEX(BD!$E$2:$E$138,SMALL(IF(BD!$B$2:$B$138=$C$10,IF(BD!$B$2:$B$138=$C$10,ROW(BD!$B$2:$B$138)-ROW(BD!$B$2)+1),FALSE),ROWS(BD!$1:24)))))","v":""},{"$f":"IF($C$10=\"\",\"\",IF(ROWS(BD!$1:24)>COUNTIFS(BD!$B$1:$B$138,$C$10),\"\",INDEX(BD!$F$2:$F$138,SMALL(IF(BD!$B$2:$B$138=$C$10,IF(BD!$B$2:$B$138=$C$10,ROW(BD!$B$2:$B$138)-ROW(BD!$B$2)+1),FALSE),ROWS(BD!$1:24)))))","v":""},{"$f":"IF($C$10=\"\",\"\",IF(ROWS(BD!$1:24)>COUNTIFS(BD!$B:$B,$C$10),\"\",INDEX(BD!$G$2:$G$138,SMALL(IF(BD!$B$2:$B$138=$C$10,IF(BD!$B$2:$B$138=$C$10,ROW(BD!$B$2:$B$138)-ROW(BD!$B$2)+1),FALSE),ROWS(BD!$1:24)))))","v":""},{"$f":"IF($C$10=\"\",\"\",IF(ROWS(BD!$1:24)>COUNTIFS(BD!$B:$B,$C$10),\"\",INDEX(BD!$H$2:$H$138,SMALL(IF(BD!$B$2:$B$138=$C$10,IF(BD!$B$2:$B$138=$C$10,ROW(BD!$B$2:$B$138)-ROW(BD!$B$2)+1),FALSE),ROWS(BD!$1:24)))))","v":""},null,{"$f":"IF($I$10=\"\",\"\",IF(ROWS(BD!$1:24)>COUNTIFS(BD!$B$1:$B$138,$I$10),\"\",INDEX(BD!$C$2:$C$138,SMALL(IF(BD!$B$2:$B$138=$I$10,IF(BD!$B$2:$B$138=$I$10,ROW(BD!$B$2:$B$138)-ROW(BD!$B$2)+1),FALSE),ROWS(BD!$1:24)))))","v":""},{"$f":"IF($I$10=\"\",\"\",IF(ROWS(BD!$1:24)>COUNTIFS(BD!$B$1:$B$138,$I$10),\"\",INDEX(BD!$E$2:$E$138,SMALL(IF(BD!$B$2:$B$138=$I$10,IF(BD!$B$2:$B$138=$I$10,ROW(BD!$B$2:$B$138)-ROW(BD!$B$2)+1),FALSE),ROWS(BD!$1:24)))))","v":""},{"$f":"IF($I$10=\"\",\"\",IF(ROWS(BD!$1:24)>COUNTIFS(BD!$B$1:$B$138,$I$10),\"\",INDEX(BD!$F$2:$F$138,SMALL(IF(BD!$B$2:$B$138=$I$10,IF(BD!$B$2:$B$138=$I$10,ROW(BD!$B$2:$B$138)-ROW(BD!$B$2)+1),FALSE),ROWS(BD!$1:24)))))","v":""},{"$f":"IF($I$10=\"\",\"\",IF(ROWS(BD!$1:24)>COUNTIFS(BD!$B:$B,$I$10),\"\",INDEX(BD!$G$2:$G$138,SMALL(IF(BD!$B$2:$B$138=$I$10,IF(BD!$B$2:$B$138=$I$10,ROW(BD!$B$2:$B$138)-ROW(BD!$B$2)+1),FALSE),ROWS(BD!$1:24)))))","v":""},{"$f":"IF($I$10=\"\",\"\",IF(ROWS(BD!$1:24)>COUNTIFS(BD!$B:$B,$I$10),\"\",INDEX(BD!$H$2:$H$138,SMALL(IF(BD!$B$2:$B$138=$I$10,IF(BD!$B$2:$B$138=$I$10,ROW(BD!$B$2:$B$138)-ROW(BD!$B$2)+1),FALSE),ROWS(BD!$1:24)))))","v":""},null,{"$f":"IF($O$10=\"\",\"\",IF(ROWS(BD!$1:24)>COUNTIFS(BD!$B$1:$B$138,$O$10),\"\",INDEX(BD!$C$2:$C$138,SMALL(IF(BD!$B$2:$B$138=$O$10,IF(BD!$B$2:$B$138=$O$10,ROW(BD!$B$2:$B$138)-ROW(BD!$B$2)+1),FALSE),ROWS(BD!$1:24)))))","v":""},{"$f":"IF($O$10=\"\",\"\",IF(ROWS(BD!$1:24)>COUNTIFS(BD!$B$1:$B$138,$O$10),\"\",INDEX(BD!$E$2:$E$138,SMALL(IF(BD!$B$2:$B$138=$O$10,IF(BD!$B$2:$B$138=$O$10,ROW(BD!$B$2:$B$138)-ROW(BD!$B$2)+1),FALSE),ROWS(BD!$1:24)))))","v":""},{"$f":"IF($O$10=\"\",\"\",IF(ROWS(BD!$1:24)>COUNTIFS(BD!$B$1:$B$138,$O$10),\"\",INDEX(BD!$F$2:$F$138,SMALL(IF(BD!$B$2:$B$138=$O$10,IF(BD!$B$2:$B$138=$O$10,ROW(BD!$B$2:$B$138)-ROW(BD!$B$2)+1),FALSE),ROWS(BD!$1:24)))))","v":""},{"$f":"IF($O$10=\"\",\"\",IF(ROWS(BD!$1:24)>COUNTIFS(BD!$B:$B,$O$10),\"\",INDEX(BD!$G$2:$G$138,SMALL(IF(BD!$B$2:$B$138=$O$10,IF(BD!$B$2:$B$138=$O$10,ROW(BD!$B$2:$B$138)-ROW(BD!$B$2)+1),FALSE),ROWS(BD!$1:24)))))","v":""},{"$f":"IF($O$10=\"\",\"\",IF(ROWS(BD!$1:24)>COUNTIFS(BD!$B:$B,$O$10),\"\",INDEX(BD!$H$2:$H$138,SMALL(IF(BD!$B$2:$B$138=$O$10,IF(BD!$B$2:$B$138=$O$10,ROW(BD!$B$2:$B$138)-ROW(BD!$B$2)+1),FALSE),ROWS(BD!$1:24)))))","v":""},null,{"$f":"IF($U$10=\"\",\"\",IF(ROWS(BD!$1:24)>COUNTIFS(BD!$B$1:$B$138,$U$10),\"\",INDEX(BD!$C$2:$C$138,SMALL(IF(BD!$B$2:$B$138=$U$10,IF(BD!$B$2:$B$138=$U$10,ROW(BD!$B$2:$B$138)-ROW(BD!$B$2)+1),FALSE),ROWS(BD!$1:24)))))","v":""},{"$f":"IF($U$10=\"\",\"\",IF(ROWS(BD!$1:24)>COUNTIFS(BD!$B$1:$B$138,$U$10),\"\",INDEX(BD!$E$2:$E$138,SMALL(IF(BD!$B$2:$B$138=$U$10,IF(BD!$B$2:$B$138=$U$10,ROW(BD!$B$2:$B$138)-ROW(BD!$B$2)+1),FALSE),ROWS(BD!$1:24)))))","v":""},{"$f":"IF($U$10=\"\",\"\",IF(ROWS(BD!$1:24)>COUNTIFS(BD!$B$1:$B$138,$U$10),\"\",INDEX(BD!$F$2:$F$138,SMALL(IF(BD!$B$2:$B$138=$U$10,IF(BD!$B$2:$B$138=$U$10,ROW(BD!$B$2:$B$138)-ROW(BD!$B$2)+1),FALSE),ROWS(BD!$1:24)))))","v":""},{"$f":"IF($U$10=\"\",\"\",IF(ROWS(BD!$1:24)>COUNTIFS(BD!$B:$B,$U$10),\"\",INDEX(BD!$G$2:$G$138,SMALL(IF(BD!$B$2:$B$138=$U$10,IF(BD!$B$2:$B$138=$U$10,ROW(BD!$B$2:$B$138)-ROW(BD!$B$2)+1),FALSE),ROWS(BD!$1:24)))))","v":""},{"$f":"IF($U$10=\"\",\"\",IF(ROWS(BD!$1:24)>COUNTIFS(BD!$B:$B,$U$10),\"\",INDEX(BD!$H$2:$H$138,SMALL(IF(BD!$B$2:$B$138=$U$10,IF(BD!$B$2:$B$138=$U$10,ROW(BD!$B$2:$B$138)-ROW(BD!$B$2)+1),FALSE),ROWS(BD!$1:24)))))","v":""},null,{"$f":"IF($AA$10=\"\",\"\",IF(ROWS(BD!$1:24)>COUNTIFS(BD!$B$1:$B$138,$AA$10),\"\",INDEX(BD!$C$2:$C$138,SMALL(IF(BD!$B$2:$B$138=$AA$10,IF(BD!$B$2:$B$138=$AA$10,ROW(BD!$B$2:$B$138)-ROW(BD!$B$2)+1),FALSE),ROWS(BD!$1:24)))))","v":""},{"$f":"IF($AA$10=\"\",\"\",IF(ROWS(BD!$1:24)>COUNTIFS(BD!$B$1:$B$138,$AA$10),\"\",INDEX(BD!$E$2:$E$138,SMALL(IF(BD!$B$2:$B$138=$AA$10,IF(BD!$B$2:$B$138=$AA$10,ROW(BD!$B$2:$B$138)-ROW(BD!$B$2)+1),FALSE),ROWS(BD!$1:24)))))","v":""},{"$f":"IF($AA$10=\"\",\"\",IF(ROWS(BD!$1:24)>COUNTIFS(BD!$B$1:$B$138,$AA$10),\"\",INDEX(BD!$F$2:$F$138,SMALL(IF(BD!$B$2:$B$138=$AA$10,IF(BD!$B$2:$B$138=$AA$10,ROW(BD!$B$2:$B$138)-ROW(BD!$B$2)+1),FALSE),ROWS(BD!$1:24)))))","v":""},{"$f":"IF($AA$10=\"\",\"\",IF(ROWS(BD!$1:24)>COUNTIFS(BD!$B:$B,$AA$10),\"\",INDEX(BD!$G$2:$G$138,SMALL(IF(BD!$B$2:$B$138=$AA$10,IF(BD!$B$2:$B$138=$AA$10,ROW(BD!$B$2:$B$138)-ROW(BD!$B$2)+1),FALSE),ROWS(BD!$1:24)))))","v":""},{"$f":"IF($AA$10=\"\",\"\",IF(ROWS(BD!$1:24)>COUNTIFS(BD!$B:$B,$AA$10),\"\",INDEX(BD!$H$2:$H$138,SMALL(IF(BD!$B$2:$B$138=$AA$10,IF(BD!$B$2:$B$138=$AA$10,ROW(BD!$B$2:$B$138)-ROW(BD!$B$2)+1),FALSE),ROWS(BD!$1:24)))))","v":""},null,{"$f":"IF($AG$10=\"\",\"\",IF(ROWS(BD!$1:24)>COUNTIFS(BD!$B$1:$B$138,$AG$10),\"\",INDEX(BD!$C$2:$C$138,SMALL(IF(BD!$B$2:$B$138=$AG$10,IF(BD!$B$2:$B$138=$AG$10,ROW(BD!$B$2:$B$138)-ROW(BD!$B$2)+1),FALSE),ROWS(BD!$1:24)))))","v":""},{"$f":"IF($AG$10=\"\",\"\",IF(ROWS(BD!$1:24)>COUNTIFS(BD!$B$1:$B$138,$AG$10),\"\",INDEX(BD!$E$2:$E$138,SMALL(IF(BD!$B$2:$B$138=$AG$10,IF(BD!$B$2:$B$138=$AG$10,ROW(BD!$B$2:$B$138)-ROW(BD!$B$2)+1),FALSE),ROWS(BD!$1:24)))))","v":""},{"$f":"IF($AG$10=\"\",\"\",IF(ROWS(BD!$1:24)>COUNTIFS(BD!$B$1:$B$138,$AG$10),\"\",INDEX(BD!$F$2:$F$138,SMALL(IF(BD!$B$2:$B$138=$AG$10,IF(BD!$B$2:$B$138=$AG$10,ROW(BD!$B$2:$B$138)-ROW(BD!$B$2)+1),FALSE),ROWS(BD!$1:24)))))","v":""},{"$f":"IF($AG$10=\"\",\"\",IF(ROWS(BD!$1:24)>COUNTIFS(BD!$B:$B,$AG$10),\"\",INDEX(BD!$G$2:$G$138,SMALL(IF(BD!$B$2:$B$138=$AG$10,IF(BD!$B$2:$B$138=$AG$10,ROW(BD!$B$2:$B$138)-ROW(BD!$B$2)+1),FALSE),ROWS(BD!$1:24)))))","v":""},{"$f":"IF($AG$10=\"\",\"\",IF(ROWS(BD!$1:24)>COUNTIFS(BD!$B:$B,$AG$10),\"\",INDEX(BD!$H$2:$H$138,SMALL(IF(BD!$B$2:$B$138=$AG$10,IF(BD!$B$2:$B$138=$AG$10,ROW(BD!$B$2:$B$138)-ROW(BD!$B$2)+1),FALSE),ROWS(BD!$1:24)))))","v":""},null,{"$f":"IF($AM$10=\"\",\"\",IF(ROWS(BD!$1:24)>COUNTIFS(BD!$B$1:$B$138,$AM$10),\"\",INDEX(BD!$C$2:$C$138,SMALL(IF(BD!$B$2:$B$138=$AM$10,IF(BD!$B$2:$B$138=$AM$10,ROW(BD!$B$2:$B$138)-ROW(BD!$B$2)+1),FALSE),ROWS(BD!$1:24)))))","v":""},{"$f":"IF($AM$10=\"\",\"\",IF(ROWS(BD!$1:24)>COUNTIFS(BD!$B$1:$B$138,$AM$10),\"\",INDEX(BD!$E$2:$E$138,SMALL(IF(BD!$B$2:$B$138=$AM$10,IF(BD!$B$2:$B$138=$AM$10,ROW(BD!$B$2:$B$138)-ROW(BD!$B$2)+1),FALSE),ROWS(BD!$1:24)))))","v":""},{"$f":"IF($AM$10=\"\",\"\",IF(ROWS(BD!$1:24)>COUNTIFS(BD!$B$1:$B$138,$AM$10),\"\",INDEX(BD!$F$2:$F$138,SMALL(IF(BD!$B$2:$B$138=$AM$10,IF(BD!$B$2:$B$138=$AM$10,ROW(BD!$B$2:$B$138)-ROW(BD!$B$2)+1),FALSE),ROWS(BD!$1:24)))))","v":""},{"$f":"IF($AM$10=\"\",\"\",IF(ROWS(BD!$1:24)>COUNTIFS(BD!$B:$B,$AM$10),\"\",INDEX(BD!$G$2:$G$138,SMALL(IF(BD!$B$2:$B$138=$AM$10,IF(BD!$B$2:$B$138=$AM$10,ROW(BD!$B$2:$B$138)-ROW(BD!$B$2)+1),FALSE),ROWS(BD!$1:24)))))","v":""},{"$f":"IF($AM$10=\"\",\"\",IF(ROWS(BD!$1:24)>COUNTIFS(BD!$B:$B,$AM$10),\"\",INDEX(BD!$H$2:$H$138,SMALL(IF(BD!$B$2:$B$138=$AM$10,IF(BD!$B$2:$B$138=$AM$10,ROW(BD!$B$2:$B$138)-ROW(BD!$B$2)+1),FALSE),ROWS(BD!$1:24)))))","v":""}]
[null,null,{"$f":"IF($C$10=\"\",\"\",IF(ROWS(BD!$1:25)>COUNTIFS(BD!$B$1:$B$138,$C$10),\"\",INDEX(BD!$C$2:$C$138,SMALL(IF(BD!$B$2:$B$138=$C$10,IF(BD!$B$2:$B$138=$C$10,ROW(BD!$B$2:$B$138)-ROW(BD!$B$2)+1),FALSE),ROWS(BD!$1:25)))))","v":""},{"$f":"IF($C$10=\"\",\"\",IF(ROWS(BD!$1:25)>COUNTIFS(BD!$B$1:$B$138,$C$10),\"\",INDEX(BD!$E$2:$E$138,SMALL(IF(BD!$B$2:$B$138=$C$10,IF(BD!$B$2:$B$138=$C$10,ROW(BD!$B$2:$B$138)-ROW(BD!$B$2)+1),FALSE),ROWS(BD!$1:25)))))","v":""},{"$f":"IF($C$10=\"\",\"\",IF(ROWS(BD!$1:25)>COUNTIFS(BD!$B$1:$B$138,$C$10),\"\",INDEX(BD!$F$2:$F$138,SMALL(IF(BD!$B$2:$B$138=$C$10,IF(BD!$B$2:$B$138=$C$10,ROW(BD!$B$2:$B$138)-ROW(BD!$B$2)+1),FALSE),ROWS(BD!$1:25)))))","v":""},{"$f":"IF($C$10=\"\",\"\",IF(ROWS(BD!$1:25)>COUNTIFS(BD!$B:$B,$C$10),\"\",INDEX(BD!$G$2:$G$138,SMALL(IF(BD!$B$2:$B$138=$C$10,IF(BD!$B$2:$B$138=$C$10,ROW(BD!$B$2:$B$138)-ROW(BD!$B$2)+1),FALSE),ROWS(BD!$1:25)))))","v":""},{"$f":"IF($C$10=\"\",\"\",IF(ROWS(BD!$1:25)>COUNTIFS(BD!$B:$B,$C$10),\"\",INDEX(BD!$H$2:$H$138,SMALL(IF(BD!$B$2:$B$138=$C$10,IF(BD!$B$2:$B$138=$C$10,ROW(BD!$B$2:$B$138)-ROW(BD!$B$2)+1),FALSE),ROWS(BD!$1:25)))))","v":""},null,{"$f":"IF($I$10=\"\",\"\",IF(ROWS(BD!$1:25)>COUNTIFS(BD!$B$1:$B$138,$I$10),\"\",INDEX(BD!$C$2:$C$138,SMALL(IF(BD!$B$2:$B$138=$I$10,IF(BD!$B$2:$B$138=$I$10,ROW(BD!$B$2:$B$138)-ROW(BD!$B$2)+1),FALSE),ROWS(BD!$1:25)))))","v":""},{"$f":"IF($I$10=\"\",\"\",IF(ROWS(BD!$1:25)>COUNTIFS(BD!$B$1:$B$138,$I$10),\"\",INDEX(BD!$E$2:$E$138,SMALL(IF(BD!$B$2:$B$138=$I$10,IF(BD!$B$2:$B$138=$I$10,ROW(BD!$B$2:$B$138)-ROW(BD!$B$2)+1),FALSE),ROWS(BD!$1:25)))))","v":""},{"$f":"IF($I$10=\"\",\"\",IF(ROWS(BD!$1:25)>COUNTIFS(BD!$B$1:$B$138,$I$10),\"\",INDEX(BD!$F$2:$F$138,SMALL(IF(BD!$B$2:$B$138=$I$10,IF(BD!$B$2:$B$138=$I$10,ROW(BD!$B$2:$B$138)-ROW(BD!$B$2)+1),FALSE),ROWS(BD!$1:25)))))","v":""},{"$f":"IF($I$10=\"\",\"\",IF(ROWS(BD!$1:25)>COUNTIFS(BD!$B:$B,$I$10),\"\",INDEX(BD!$G$2:$G$138,SMALL(IF(BD!$B$2:$B$138=$I$10,IF(BD!$B$2:$B$138=$I$10,ROW(BD!$B$2:$B$138)-ROW(BD!$B$2)+1),FALSE),ROWS(BD!$1:25)))))","v":""},{"$f":"IF($I$10=\"\",\"\",IF(ROWS(BD!$1:25)>COUNTIFS(BD!$B:$B,$I$10),\"\",INDEX(BD!$H$2:$H$138,SMALL(IF(BD!$B$2:$B$138=$I$10,IF(BD!$B$2:$B$138=$I$10,ROW(BD!$B$2:$B$138)-ROW(BD!$B$2)+1),FALSE),ROWS(BD!$1:25)))))","v":""},null,{"$f":"IF($O$10=\"\",\"\",IF(ROWS(BD!$1:25)>COUNTIFS(BD!$B$1:$B$138,$O$10),\"\",INDEX(BD!$C$2:$C$138,SMALL(IF(BD!$B$2:$B$138=$O$10,IF(BD!$B$2:$B$138=$O$10,ROW(BD!$B$2:$B$138)-ROW(BD!$B$2)+1),FALSE),ROWS(BD!$1:25)))))","v":""},{"$f":"IF($O$10=\"\",\"\",IF(ROWS(BD!$1:25)>COUNTIFS(BD!$B$1:$B$138,$O$10),\"\",INDEX(BD!$E$2:$E$138,SMALL(IF(BD!$B$2:$B$138=$O$10,IF(BD!$B$2:$B$138=$O$10,ROW(BD!$B$2:$B$138)-ROW(BD!$B$2)+1),FALSE),ROWS(BD!$1:25)))))","v":""},{"$f":"IF($O$10=\"\",\"\",IF(ROWS(BD!$1:25)>COUNTIFS(BD!$B$1:$B$138,$O$10),\"\",INDEX(BD!$F$2:$F$138,SMALL(IF(BD!$B$2:$B$138=$O$10,IF(BD!$B$2:$B$138=$O$10,ROW(BD!$B$2:$B$138)-ROW(BD!$B$2)+1),FALSE),ROWS(BD!$1:25)))))","v":""},{"$f":"IF($O$10=\"\",\"\",IF(ROWS(BD!$1:25)>COUNTIFS(BD!$B:$B,$O$10),\"\",INDEX(BD!$G$2:$G$138,SMALL(IF(BD!$B$2:$B$138=$O$10,IF(BD!$B$2:$B$138=$O$10,ROW(BD!$B$2:$B$138)-ROW(BD!$B$2)+1),FALSE),ROWS(BD!$1:25)))))","v":""},{"$f":"IF($O$10=\"\",\"\",IF(ROWS(BD!$1:25)>COUNTIFS(BD!$B:$B,$O$10),\"\",INDEX(BD!$H$2:$H$138,SMALL(IF(BD!$B$2:$B$138=$O$10,IF(BD!$B$2:$B$138=$O$10,ROW(BD!$B$2:$B$138)-ROW(BD!$B$2)+1),FALSE),ROWS(BD!$1:25)))))","v":""},null,{"$f":"IF($U$10=\"\",\"\",IF(ROWS(BD!$1:25)>COUNTIFS(BD!$B$1:$B$138,$U$10),\"\",INDEX(BD!$C$2:$C$138,SMALL(IF(BD!$B$2:$B$138=$U$10,IF(BD!$B$2:$B$138=$U$10,ROW(BD!$B$2:$B$138)-ROW(BD!$B$2)+1),FALSE),ROWS(BD!$1:25)))))","v":""},{"$f":"IF($U$10=\"\",\"\",IF(ROWS(BD!$1:25)>COUNTIFS(BD!$B$1:$B$138,$U$10),\"\",INDEX(BD!$E$2:$E$138,SMALL(IF(BD!$B$2:$B$138=$U$10,IF(BD!$B$2:$B$138=$U$10,ROW(BD!$B$2:$B$138)-ROW(BD!$B$2)+1),FALSE),ROWS(BD!$1:25)))))","v":""},{"$f":"IF($U$10=\"\",\"\",IF(ROWS(BD!$1:25)>COUNTIFS(BD!$B$1:$B$138,$U$10),\"\",INDEX(BD!$F$2:$F$138,SMALL(IF(BD!$B$2:$B$138=$U$10,IF(BD!$B$2:$B$138=$U$10,ROW(BD!$B$2:$B$138)-ROW(BD!$B$2)+1),FALSE),ROWS(BD!$1:25)))))","v":""},{"$f":"IF($U$10=\"\",\"\",IF(ROWS(BD!$1:25)>COUNTIFS(BD!$B:$B,$U$10),\"\",INDEX(BD!$G$2:$G$138,SMALL(IF(BD!$B$2:$B$138=$U$10,IF(BD!$B$2:$B$138=$U$10,ROW(BD!$B$2:$B$138)-ROW(BD!$B$2)+1),FALSE),ROWS(BD!$1:25)))))","v":""},{"$f":"IF($U$10=\"\",\"\",IF(ROWS(BD!$1:25)>COUNTIFS(BD!$B:$B,$U$10),\"\",INDEX(BD!$H$2:$H$138,SMALL(IF(BD!$B$2:$B$138=$U$10,IF(BD!$B$2:$B$138=$U$10,ROW(BD!$B$2:$B$138)-ROW(BD!$B$2)+1),FALSE),ROWS(BD!$1:25)))))","v":""},null,{"$f":"IF($AA$10=\"\",\"\",IF(ROWS(BD!$1:25)>COUNTIFS(BD!$B$1:$B$138,$AA$10),\"\",INDEX(BD!$C$2:$C$138,SMALL(IF(BD!$B$2:$B$138=$AA$10,IF(BD!$B$2:$B$138=$AA$10,ROW(BD!$B$2:$B$138)-ROW(BD!$B$2)+1),FALSE),ROWS(BD!$1:25)))))","v":""},{"$f":"IF($AA$10=\"\",\"\",IF(ROWS(BD!$1:25)>COUNTIFS(BD!$B$1:$B$138,$AA$10),\"\",INDEX(BD!$E$2:$E$138,SMALL(IF(BD!$B$2:$B$138=$AA$10,IF(BD!$B$2:$B$138=$AA$10,ROW(BD!$B$2:$B$138)-ROW(BD!$B$2)+1),FALSE),ROWS(BD!$1:25)))))","v":""},{"$f":"IF($AA$10=\"\",\"\",IF(ROWS(BD!$1:25)>COUNTIFS(BD!$B$1:$B$138,$AA$10),\"\",INDEX(BD!$F$2:$F$138,SMALL(IF(BD!$B$2:$B$138=$AA$10,IF(BD!$B$2:$B$138=$AA$10,ROW(BD!$B$2:$B$138)-ROW(BD!$B$2)+1),FALSE),ROWS(BD!$1:25)))))","v":""},{"$f":"IF($AA$10=\"\",\"\",IF(ROWS(BD!$1:25)>COUNTIFS(BD!$B:$B,$AA$10),\"\",INDEX(BD!$G$2:$G$138,SMALL(IF(BD!$B$2:$B$138=$AA$10,IF(BD!$B$2:$B$138=$AA$10,ROW(BD!$B$2:$B$138)-ROW(BD!$B$2)+1),FALSE),ROWS(BD!$1:25)))))","v":""},{"$f":"IF($AA$10=\"\",\"\",IF(ROWS(BD!$1:25)>COUNTIFS(BD!$B:$B,$AA$10),\"\",INDEX(BD!$H$2:$H$138,SMALL(IF(BD!$B$2:$B$138=$AA$10,IF(BD!$B$2:$B$138=$AA$10,ROW(BD!$B$2:$B$138)-ROW(BD!$B$2)+1),FALSE),ROWS(BD!$1:25)))))","v":""},null,{"$f":"IF($AG$10=\"\",\"\",IF(ROWS(BD!$1:25)>COUNTIFS(BD!$B$1:$B$138,$AG$10),\"\",INDEX(BD!$C$2:$C$138,SMALL(IF(BD!$B$2:$B$138=$AG$10,IF(BD!$B$2:$B$138=$AG$10,ROW(BD!$B$2:$B$138)-ROW(BD!$B$2)+1),FALSE),ROWS(BD!$1:25)))))","v":""},{"$f":"IF($AG$10=\"\",\"\",IF(ROWS(BD!$1:25)>COUNTIFS(BD!$B$1:$B$138,$AG$10),\"\",INDEX(BD!$E$2:$E$138,SMALL(IF(BD!$B$2:$B$138=$AG$10,IF(BD!$B$2:$B$138=$AG$10,ROW(BD!$B$2:$B$138)-ROW(BD!$B$2)+1),FALSE),ROWS(BD!$1:25)))))","v":""},{"$f":"IF($AG$10=\"\",\"\",IF(ROWS(BD!$1:25)>COUNTIFS(BD!$B$1:$B$138,$AG$10),\"\",INDEX(BD!$F$2:$F$138,SMALL(IF(BD!$B$2:$B$138=$AG$10,IF(BD!$B$2:$B$138=$AG$10,ROW(BD!$B$2:$B$138)-ROW(BD!$B$2)+1),FALSE),ROWS(BD!$1:25)))))","v":""},{"$f":"IF($AG$10=\"\",\"\",IF(ROWS(BD!$1:25)>COUNTIFS(BD!$B:$B,$AG$10),\"\",INDEX(BD!$G$2:$G$138,SMALL(IF(BD!$B$2:$B$138=$AG$10,IF(BD!$B$2:$B$138=$AG$10,ROW(BD!$B$2:$B$138)-ROW(BD!$B$2)+1),FALSE),ROWS(BD!$1:25)))))","v":""},{"$f":"IF($AG$10=\"\",\"\",IF(ROWS(BD!$1:25)>COUNTIFS(BD!$B:$B,$AG$10),\"\",INDEX(BD!$H$2:$H$138,SMALL(IF(BD!$B$2:$B$138=$AG$10,IF(BD!$B$2:$B$138=$AG$10,ROW(BD!$B$2:$B$138)-ROW(BD!$B$2)+1),FALSE),ROWS(BD!$1:25)))))","v":""},null,{"$f":"IF($AM$10=\"\",\"\",IF(ROWS(BD!$1:25)>COUNTIFS(BD!$B$1:$B$138,$AM$10),\"\",INDEX(BD!$C$2:$C$138,SMALL(IF(BD!$B$2:$B$138=$AM$10,IF(BD!$B$2:$B$138=$AM$10,ROW(BD!$B$2:$B$138)-ROW(BD!$B$2)+1),FALSE),ROWS(BD!$1:25)))))","v":""},{"$f":"IF($AM$10=\"\",\"\",IF(ROWS(BD!$1:25)>COUNTIFS(BD!$B$1:$B$138,$AM$10),\"\",INDEX(BD!$E$2:$E$138,SMALL(IF(BD!$B$2:$B$138=$AM$10,IF(BD!$B$2:$B$138=$AM$10,ROW(BD!$B$2:$B$138)-ROW(BD!$B$2)+1),FALSE),ROWS(BD!$1:25)))))","v":""},{"$f":"IF($AM$10=\"\",\"\",IF(ROWS(BD!$1:25)>COUNTIFS(BD!$B$1:$B$138,$AM$10),\"\",INDEX(BD!$F$2:$F$138,SMALL(IF(BD!$B$2:$B$138=$AM$10,IF(BD!$B$2:$B$138=$AM$10,ROW(BD!$B$2:$B$138)-ROW(BD!$B$2)+1),FALSE),ROWS(BD!$1:25)))))","v":""},{"$f":"IF($AM$10=\"\",\"\",IF(ROWS(BD!$1:25)>COUNTIFS(BD!$B:$B,$AM$10),\"\",INDEX(BD!$G$2:$G$138,SMALL(IF(BD!$B$2:$B$138=$AM$10,IF(BD!$B$2:$B$138=$AM$10,ROW(BD!$B$2:$B$138)-ROW(BD!$B$2)+1),FALSE),ROWS(BD!$1:25)))))","v":""},{"$f":"IF($AM$10=\"\",\"\",IF(ROWS(BD!$1:25)>COUNTIFS(BD!$B:$B,$AM$10),\"\",INDEX(BD!$H$2:$H$138,SMALL(IF(BD!$B$2:$B$138=$AM$10,IF(BD!$B$2:$B$138=$AM$10,ROW(BD!$B$2:$B$138)-ROW(BD!$B$2)+1),FALSE),ROWS(BD!$1:25)))))","v":""}]
[]
[null,null,{"$f":"IF(AM10<>\"\",IF(AM10+1<=fim,AM10+1,\"\"),\"\")","v":"2023-12-03"},null,null,null,null,null,{"$f":"IF(C37<>\"\",IF(C37+1<=fim,C37+1,\"\"),\"\")","v":"2023-12-04"},null,null,null,null,null,{"$f":"IF(I37<>\"\",IF(I37+1<=fim,I37+1,\"\"),\"\")","v":"2023-12-05"},null,null,null,null,null,{"$f":"IF(O37<>\"\",IF(O37+1<=fim,O37+1,\"\"),\"\")","v":"2023-12-06"},null,null,null,null,null,{"$f":"IF(U37<>\"\",IF(U37+1<=fim,U37+1,\"\"),\"\")","v":"2023-12-07"},null,null,null,null,null,{"$f":"IF(AA37<>\"\",IF(AA37+1<=fim,AA37+1,\"\"),\"\")","v":"2023-12-08"},null,null,null,null,null,{"$f":"IF(AG37<>\"\",IF(AG37+1<=fim,AG37+1,\"\"),\"\")","v":"2023-12-09"}]
[null,null,{"$f":"IF($C$37=\"\",\"\",IF(ROWS(BD!$1:1)>COUNTIFS(BD!$B$1:$B$138,$C$37),\"\",INDEX(BD!$C$2:$C$138,SMALL(IF(BD!$B$2:$B$138=$C$37,IF(BD!$B$2:$B$138=$C$37,ROW(BD!$B$2:$B$138)-ROW(BD!$B$2)+1),FALSE),ROWS(BD!$1:1)))))","v":""},{"$f":"IF($C$37=\"\",\"\",IF(ROWS(BD!$1:1)>COUNTIFS(BD!$B$1:$B$138,$C$37),\"\",INDEX(BD!$E$2:$E$138,SMALL(IF(BD!$B$2:$B$138=$C$37,IF(BD!$B$2:$B$138=$C$37,ROW(BD!$B$2:$B$138)-ROW(BD!$B$2)+1),FALSE),ROWS(BD!$1:1)))))","v":""},{"$f":"IF($C$37=\"\",\"\",IF(ROWS(BD!$1:1)>COUNTIFS(BD!$B$1:$B$138,$C$37),\"\",INDEX(BD!$F$2:$F$138,SMALL(IF(BD!$B$2:$B$138=$C$37,IF(BD!$B$2:$B$138=$C$37,ROW(BD!$B$2:$B$138)-ROW(BD!$B$2)+1),FALSE),ROWS(BD!$1:1)))))","v":""},{"$f":"IF($C$37=\"\",\"\",IF(ROWS(BD!$1:1)>COUNTIFS(BD!$B:$B,$C$37),\"\",INDEX(BD!$G$2:$G$138,SMALL(IF(BD!$B$2:$B$138=$C$37,IF(BD!$B$2:$B$138=$C$37,ROW(BD!$B$2:$B$138)-ROW(BD!$B$2)+1),FALSE),ROWS(BD!$1:1)))))","v":""},{"$f":"IF($C$37=\"\",\"\",IF(ROWS(BD!$1:1)>COUNTIFS(BD!$B:$B,$C$37),\"\",INDEX(BD!$H$2:$H$138,SMALL(IF(BD!$B$2:$B$138=$C$37,IF(BD!$B$2:$B$138=$C$37,ROW(BD!$B$2:$B$138)-ROW(BD!$B$2)+1),FALSE),ROWS(BD!$1:1)))))","v":""},null,{"$f":"IF($I$37=\"\",\"\",IF(ROWS(BD!$1:1)>COUNTIFS(BD!$B$1:$B$138,$I$37),\"\",INDEX(BD!$C$2:$C$138,SMALL(IF(BD!$B$2:$B$138=$I$37,IF(BD!$B$2:$B$138=$I$37,ROW(BD!$B$2:$B$138)-ROW(BD!$B$2)+1),FALSE),ROWS(BD!$1:1)))))","v":"14:40:00"},{"$f":"IF($I$37=\"\",\"\",IF(ROWS(BD!$1:1)>COUNTIFS(BD!$B$1:$B$138,$I$37),\"\",INDEX(BD!$E$2:$E$138,SMALL(IF(BD!$B$2:$B$138=$I$37,IF(BD!$B$2:$B$138=$I$37,ROW(BD!$B$2:$B$138)-ROW(BD!$B$2)+1),FALSE),ROWS(BD!$1:1)))))","v":"BrilhoTech"},{"$f":"IF($I$37=\"\",\"\",IF(ROWS(BD!$1:1)>COUNTIFS(BD!$B$1:$B$138,$I$37),\"\",INDEX(BD!$F$2:$F$138,SMALL(IF(BD!$B$2:$B$138=$I$37,IF(BD!$B$2:$B$138=$I$37,ROW(BD!$B$2:$B$138)-ROW(BD!$B$2)+1),FALSE),ROWS(BD!$1:1)))))","v":"João"},{"$f":"IF($I$37=\"\",\"\",IF(ROWS(BD!$1:1)>COUNTIFS(BD!$B:$B,$I$37),\"\",INDEX(BD!$G$2:$G$138,SMALL(IF(BD!$B$2:$B$138=$I$37,IF(BD!$B$2:$B$138=$I$37,ROW(BD!$B$2:$B$138)-ROW(BD!$B$2)+1),FALSE),ROWS(BD!$1:1)))))","v":"v1"},{"$f":"IF($I$37=\"\",\"\",IF(ROWS(BD!$1:1)>COUNTIFS(BD!$B:$B,$I$37),\"\",INDEX(BD!$H$2:$H$138,SMALL(IF(BD!$B$2:$B$138=$I$37,IF(BD!$B$2:$B$138=$I$37,ROW(BD!$B$2:$B$138)-ROW(BD!$B$2)+1),FALSE),ROWS(BD!$1:1)))))","v":"Realizada"},null,{"$f":"IF($O$37=\"\",\"\",IF(ROWS(BD!$1:1)>COUNTIFS(BD!$B$1:$B$138,$O$37),\"\",INDEX(BD!$C$2:$C$138,SMALL(IF(BD!$B$2:$B$138=$O$37,IF(BD!$B$2:$B$138=$O$37,ROW(BD!$B$2:$B$138)-ROW(BD!$B$2)+1),FALSE),ROWS(BD!$1:1)))))","v":"14:30:00"},{"$f":"IF($O$37=\"\",\"\",IF(ROWS(BD!$1:1)>COUNTIFS(BD!$B$1:$B$138,$O$37),\"\",INDEX(BD!$E$2:$E$138,SMALL(IF(BD!$B$2:$B$138=$O$37,IF(BD!$B$2:$B$138=$O$37,ROW(BD!$B$2:$B$138)-ROW(BD!$B$2)+1),FALSE),ROWS(BD!$1:1)))))","v":"Soluções Nexus"},{"$f":"IF($O$37=\"\",\"\",IF(ROWS(BD!$1:1)>COUNTIFS(BD!$B$1:$B$138,$O$37),\"\",INDEX(BD!$F$2:$F$138,SMALL(IF(BD!$B$2:$B$138=$O$37,IF(BD!$B$2:$B$138=$O$37,ROW(BD!$B$2:$B$138)-ROW(BD!$B$2)+1),FALSE),ROWS(BD!$1:1)))))","v":"Augusto"},{"$f":"IF($O$37=\"\",\"\",IF(ROWS(BD!$1:1)>COUNTIFS(BD!$B:$B,$O$37),\"\",INDEX(BD!$G$2:$G$138,SMALL(IF(BD!$B$2:$B$138=$O$37,IF(BD!$B$2:$B$138=$O$37,ROW(BD!$B$2:$B$138)-ROW(BD!$B$2)+1),FALSE),ROWS(BD!$1:1)))))","v":"v1"},{"$f":"IF($O$37=\"\",\"\",IF(ROWS(BD!$1:1)>COUNTIFS(BD!$B:$B,$O$37),\"\",INDEX(BD!$H$2:$H$138,SMALL(IF(BD!$B$2:$B$138=$O$37,IF(BD!$B$2:$B$138=$O$37,ROW(BD!$B$2:$B$138)-ROW(BD!$B$2)+1),FALSE),ROWS(BD!$1:1)))))","v":"Realizada"},null,{"$f":"IF($U$37=\"\",\"\",IF(ROWS(BD!$1:1)>COUNTIFS(BD!$B$1:$B$138,$U$37),\"\",INDEX(BD!$C$2:$C$138,SMALL(IF(BD!$B$2:$B$138=$U$37,IF(BD!$B$2:$B$138=$U$37,ROW(BD!$B$2:$B$138)-ROW(BD!$B$2)+1),FALSE),ROWS(BD!$1:1)))))","v":"19:45:00"},{"$f":"IF($U$37=\"\",\"\",IF(ROWS(BD!$1:1)>COUNTIFS(BD!$B$1:$B$138,$U$37),\"\",INDEX(BD!$E$2:$E$138,SMALL(IF(BD!$B$2:$B$138=$U$37,IF(BD!$B$2:$B$138=$U$37,ROW(BD!$B$2:$B$138)-ROW(BD!$B$2)+1),FALSE),ROWS(BD!$1:1)))))","v":"Swift Solutions"},{"$f":"IF($U$37=\"\",\"\",IF(ROWS(BD!$1:1)>COUNTIFS(BD!$B$1:$B$138,$U$37),\"\",INDEX(BD!$F$2:$F$138,SMALL(IF(BD!$B$2:$B$138=$U$37,IF(BD!$B$2:$B$138=$U$37,ROW(BD!$B$2:$B$138)-ROW(BD!$B$2)+1),FALSE),ROWS(BD!$1:1)))))","v":"Roberto"},{"$f":"IF($U$37=\"\",\"\",IF(ROWS(BD!$1:1)>COUNTIFS(BD!$B:$B,$U$37),\"\",INDEX(BD!$G$2:$G$138,SMALL(IF(BD!$B$2:$B$138=$U$37,IF(BD!$B$2:$B$138=$U$37,ROW(BD!$B$2:$B$138)-ROW(BD!$B$2)+1),FALSE),ROWS(BD!$1:1)))))","v":"v1"},{"$f":"IF($U$37=\"\",\"\",IF(ROWS(BD!$1:1)>COUNTIFS(BD!$B:$B,$U$37),\"\",INDEX(BD!$H$2:$H$138,SMALL(IF(BD!$B$2:$B$138=$U$37,IF(BD!$B$2:$B$138=$U$37,ROW(BD!$B$2:$B$138)-ROW(BD!$B$2)+1),FALSE),ROWS(BD!$1:1)))))","v":"Realizada"},null,{"$f":"IF($AA$37=\"\",\"\",IF(ROWS(BD!$1:1)>COUNTIFS(BD!$B$1:$B$138,$AA$37),\"\",INDEX(BD!$C$2:$C$138,SMALL(IF(BD!$B$2:$B$138=$AA$37,IF(BD!$B$2:$B$138=$AA$37,ROW(BD!$B$2:$B$138)-ROW(BD!$B$2)+1),FALSE),ROWS(BD!$1:1)))))","v":"10:10:00"},{"$f":"IF($AA$37=\"\",\"\",IF(ROWS(BD!$1:1)>COUNTIFS(BD!$B$1:$B$138,$AA$37),\"\",INDEX(BD!$E$2:$E$138,SMALL(IF(BD!$B$2:$B$138=$AA$37,IF(BD!$B$2:$B$138=$AA$37,ROW(BD!$B$2:$B$138)-ROW(BD!$B$2)+1),FALSE),ROWS(BD!$1:1)))))","v":"TecnoVanguarda"},{"$f":"IF($AA$37=\"\",\"\",IF(ROWS(BD!$1:1)>COUNTIFS(BD!$B$1:$B$138,$AA$37),\"\",INDEX(BD!$F$2:$F$138,SMALL(IF(BD!$B$2:$B$138=$AA$37,IF(BD!$B$2:$B$138=$AA$37,ROW(BD!$B$2:$B$138)-ROW(BD!$B$2)+1),FALSE),ROWS(BD!$1:1)))))","v":"Augusto"},{"$f":"IF($AA$37=\"\",\"\",IF(ROWS(BD!$1:1)>COUNTIFS(BD!$B:$B,$AA$37),\"\",INDEX(BD!$G$2:$G$138,SMALL(IF(BD!$B$2:$B$138=$AA$37,IF(BD!$B$2:$B$138=$AA$37,ROW(BD!$B$2:$B$138)-ROW(BD!$B$2)+1),FALSE),ROWS(BD!$1:1)))))","v":"v1"},{"$f":"IF($AA$37=\"\",\"\",IF(ROWS(BD!$1:1)>COUNTIFS(BD!$B:$B,$AA$37),\"\",INDEX(BD!$H$2:$H$138,SMALL(IF(BD!$B$2:$B$138=$AA$37,IF(BD!$B$2:$B$138=$AA$37,ROW(BD!$B$2:$B$138)-ROW(BD!$B$2)+1),FALSE),ROWS(BD!$1:1)))))","v":"Realizada"},null,{"$f":"IF($AG$37=\"\",\"\",IF(ROWS(BD!$1:1)>COUNTIFS(BD!$B$1:$B$138,$AG$37),\"\",INDEX(BD!$C$2:$C$138,SMALL(IF(BD!$B$2:$B$138=$AG$37,IF(BD!$B$2:$B$138=$AG$37,ROW(BD!$B$2:$B$138)-ROW(BD!$B$2)+1),FALSE),ROWS(BD!$1:1)))))","v":""},{"$f":"IF($AG$37=\"\",\"\",IF(ROWS(BD!$1:1)>COUNTIFS(BD!$B$1:$B$138,$AG$37),\"\",INDEX(BD!$E$2:$E$138,SMALL(IF(BD!$B$2:$B$138=$AG$37,IF(BD!$B$2:$B$138=$AG$37,ROW(BD!$B$2:$B$138)-ROW(BD!$B$2)+1),FALSE),ROWS(BD!$1:1)))))","v":""},{"$f":"IF($AG$37=\"\",\"\",IF(ROWS(BD!$1:1)>COUNTIFS(BD!$B$1:$B$138,$AG$37),\"\",INDEX(BD!$F$2:$F$138,SMALL(IF(BD!$B$2:$B$138=$AG$37,IF(BD!$B$2:$B$138=$AG$37,ROW(BD!$B$2:$B$138)-ROW(BD!$B$2)+1),FALSE),ROWS(BD!$1:1)))))","v":""},{"$f":"IF($AG$37=\"\",\"\",IF(ROWS(BD!$1:1)>COUNTIFS(BD!$B:$B,$AG$37),\"\",INDEX(BD!$G$2:$G$138,SMALL(IF(BD!$B$2:$B$138=$AG$37,IF(BD!$B$2:$B$138=$AG$37,ROW(BD!$B$2:$B$138)-ROW(BD!$B$2)+1),FALSE),ROWS(BD!$1:1)))))","v":""},{"$f":"IF($AG$37=\"\",\"\",IF(ROWS(BD!$1:1)>COUNTIFS(BD!$B:$B,$AG$37),\"\",INDEX(BD!$H$2:$H$138,SMALL(IF(BD!$B$2:$B$138=$AG$37,IF(BD!$B$2:$B$138=$AG$37,ROW(BD!$B$2:$B$138)-ROW(BD!$B$2)+1),FALSE),ROWS(BD!$1:1)))))","v":""},null,{"$f":"IF($AM$37=\"\",\"\",IF(ROWS(BD!$1:1)>COUNTIFS(BD!$B$1:$B$138,$AM$37),\"\",INDEX(BD!$C$2:$C$138,SMALL(IF(BD!$B$2:$B$138=$AM$37,IF(BD!$B$2:$B$138=$AM$37,ROW(BD!$B$2:$B$138)-ROW(BD!$B$2)+1),FALSE),ROWS(BD!$1:1)))))","v":"12:15:00"},{"$f":"IF($AM$37=\"\",\"\",IF(ROWS(BD!$1:1)>COUNTIFS(BD!$B$1:$B$138,$AM$37),\"\",INDEX(BD!$E$2:$E$138,SMALL(IF(BD!$B$2:$B$138=$AM$37,IF(BD!$B$2:$B$138=$AM$37,ROW(BD!$B$2:$B$138)-ROW(BD!$B$2)+1),FALSE),ROWS(BD!$1:1)))))","v":"InteliTech"},{"$f":"IF($AM$37=\"\",\"\",IF(ROWS(BD!$1:1)>COUNTIFS(BD!$B$1:$B$138,$AM$37),\"\",INDEX(BD!$F$2:$F$138,SMALL(IF(BD!$B$2:$B$138=$AM$37,IF(BD!$B$2:$B$138=$AM$37,ROW(BD!$B$2:$B$138)-ROW(BD!$B$2)+1),FALSE),ROWS(BD!$1:1)))))","v":"Roberto"},{"$f":"IF($AM$37=\"\",\"\",IF(ROWS(BD!$1:1)>COUNTIFS(BD!$B:$B,$AM$37),\"\",INDEX(BD!$G$2:$G$138,SMALL(IF(BD!$B$2:$B$138=$AM$37,IF(BD!$B$2:$B$138=$AM$37,ROW(BD!$B$2:$B$138)-ROW(BD!$B$2)+1),FALSE),ROWS(BD!$1:1)))))","v":"v1"},{"$f":"IF($AM$37=\"\",\"\",IF(ROWS(BD!$1:1)>COUNTIFS(BD!$B:$B,$AM$37),\"\",INDEX(BD!$H$2:$H$138,SMALL(IF(BD!$B$2:$B$138=$AM$37,IF(BD!$B$2:$B$138=$AM$37,ROW(BD!$B$2:$B$138)-ROW(BD!$B$2)+1),FALSE),ROWS(BD!$1:1)))))","v":"Realizada"}]
[null,null,{"$f":"IF($C$37=\"\",\"\",IF(ROWS(BD!$1:2)>COUNTIFS(BD!$B$1:$B$138,$C$37),\"\",INDEX(BD!$C$2:$C$138,SMALL(IF(BD!$B$2:$B$138=$C$37,IF(BD!$B$2:$B$138=$C$37,ROW(BD!$B$2:$B$138)-ROW(BD!$B$2)+1),FALSE),ROWS(BD!$1:2)))))","v":""},{"$f":"IF($C$37=\"\",\"\",IF(ROWS(BD!$1:2)>COUNTIFS(BD!$B$1:$B$138,$C$37),\"\",INDEX(BD!$E$2:$E$138,SMALL(IF(BD!$B$2:$B$138=$C$37,IF(BD!$B$2:$B$138=$C$37,ROW(BD!$B$2:$B$138)-ROW(BD!$B$2)+1),FALSE),ROWS(BD!$1:2)))))","v":""},{"$f":"IF($C$37=\"\",\"\",IF(ROWS(BD!$1:2)>COUNTIFS(BD!$B$1:$B$138,$C$37),\"\",INDEX(BD!$F$2:$F$138,SMALL(IF(BD!$B$2:$B$138=$C$37,IF(BD!$B$2:$B$138=$C$37,ROW(BD!$B$2:$B$138)-ROW(BD!$B$2)+1),FALSE),ROWS(BD!$1:2)))))","v":""},{"$f":"IF($C$37=\"\",\"\",IF(ROWS(BD!$1:2)>COUNTIFS(BD!$B:$B,$C$37),\"\",INDEX(BD!$G$2:$G$138,SMALL(IF(BD!$B$2:$B$138=$C$37,IF(BD!$B$2:$B$138=$C$37,ROW(BD!$B$2:$B$138)-ROW(BD!$B$2)+1),FALSE),ROWS(BD!$1:2)))))","v":""},{"$f":"IF($C$37=\"\",\"\",IF(ROWS(BD!$1:2)>COUNTIFS(BD!$B:$B,$C$37),\"\",INDEX(BD!$H$2:$H$138,SMALL(IF(BD!$B$2:$B$138=$C$37,IF(BD!$B$2:$B$138=$C$37,ROW(BD!$B$2:$B$138)-ROW(BD!$B$2)+1),FALSE),ROWS(BD!$1:2)))))","v":""},null,{"$f":"IF($I$37=\"\",\"\",IF(ROWS(BD!$1:2)>COUNTIFS(BD!$B$1:$B$138,$I$37),\"\",INDEX(BD!$C$2:$C$138,SMALL(IF(BD!$B$2:$B$138=$I$37,IF(BD!$B$2:$B$138=$I$37,ROW(BD!$B$2:$B$138)-ROW(BD!$B$2)+1),FALSE),ROWS(BD!$1:2)))))","v":"18:55:00"},{"$f":"IF($I$37=\"\",\"\",IF(ROWS(BD!$1:2)>COUNTIFS(BD!$B$1:$B$138,$I$37),\"\",INDEX(BD!$E$2:$E$138,SMALL(IF(BD!$B$2:$B$138=$I$37,IF(BD!$B$2:$B$138=$I$37,ROW(BD!$B$2:$B$138)-ROW(BD!$B$2)+1),FALSE),ROWS(BD!$1:2)))))","v":"Esfera Criativa"},{"$f":"IF($I$37=\"\",\"\",IF(ROWS(BD!$1:2)>COUNTIFS(BD!$B$1:$B$138,$I$37),\"\",INDEX(BD!$F$2:$F$138,SMALL(IF(BD!$B$2:$B$138=$I$37,IF(BD!$B$2:$B$138=$I$37,ROW(BD!$B$2:$B$138)-ROW(BD!$B$2)+1),FALSE),ROWS(BD!$1:2)))))","v":"José"},{"$f":"IF($I$37=\"\",\"\",IF(ROWS(BD!$1:2)>COUNTIFS(BD!$B:$B,$I$37),\"\",INDEX(BD!$G$2:$G$138,SMALL(IF(BD!$B$2:$B$138=$I$37,IF(BD!$B$2:$B$138=$I$37,ROW(BD!$B$2:$B$138)-ROW(BD!$B$2)+1),FALSE),ROWS(BD!$1:2)))))","v":"v1"},{"$f":"IF($I$37=\"\",\"\",IF(ROWS(BD!$1:2)>COUNTIFS(BD!$B:$B,$I$37),\"\",INDEX(BD!$H$2:$H$138,SMALL(IF(BD!$B$2:$B$138=$I$37,IF(BD!$B$2:$B$138=$I$37,ROW(BD!$B$2:$B$138)-ROW(BD!$B$2)+1),FALSE),ROWS(BD!$1:2)))))","v":"Realizada"},null,{"$f":"IF($O$37=\"\",\"\",IF(ROWS(BD!$1:2)>COUNTIFS(BD!$B$1:$B$138,$O$37),\"\",INDEX(BD!$C$2:$C$138,SMALL(IF(BD!$B$2:$B$138=$O$37,IF(BD!$B$2:$B$138=$O$37,ROW(BD!$B$2:$B$138)-ROW(BD!$B$2)+1),FALSE),ROWS(BD!$1:2)))))","v":"15:50:00"},{"$f":"IF($O$37=\"\",\"\",IF(ROWS(BD!$1:2)>COUNTIFS(BD!$B$1:$B$138,$O$37),\"\",INDEX(BD!$E$2:$E$138,SMALL(IF(BD!$B$2:$B$138=$O$37,IF(BD!$B$2:$B$138=$O$37,ROW(BD!$B$2:$B$138)-ROW(BD!$B$2)+1),FALSE),ROWS(BD!$1:2)))))","v":"DreamCraft"},{"$f":"IF($O$37=\"\",\"\",IF(ROWS(BD!$1:2)>COUNTIFS(BD!$B$1:$B$138,$O$37),\"\",INDEX(BD!$F$2:$F$138,SMALL(IF(BD!$B$2:$B$138=$O$37,IF(BD!$B$2:$B$138=$O$37,ROW(BD!$B$2:$B$138)-ROW(BD!$B$2)+1),FALSE),ROWS(BD!$1:2)))))","v":"Roberto"},{"$f":"IF($O$37=\"\",\"\",IF(ROWS(BD!$1:2)>COUNTIFS(BD!$B:$B,$O$37),\"\",INDEX(BD!$G$2:$G$138,SMALL(IF(BD!$B$2:$B$138=$O$37,IF(BD!$B$2:$B$138=$O$37,ROW(BD!$B$2:$B$138)-ROW(BD!$B$2)+1),FALSE),ROWS(BD!$1:2)))))","v":"v1"},{"$f":"IF($O$37=\"\",\"\",IF(ROWS(BD!$1:2)>COUNTIFS(BD!$B:$B,$O$37),\"\",INDEX(BD!$H$2:$H$138,SMALL(IF(BD!$B$2:$B$138=$O$37,IF(BD!$B$2:$B$138=$O$37,ROW(BD!$B$2:$B$138)-ROW(BD!$B$2)+1),FALSE),ROWS(BD!$1:2)))))","v":"Realizada"},null,{"$f":"IF($U$37=\"\",\"\",IF(ROWS(BD!$1:2)>COUNTIFS(BD!$B$1:$B$138,$U$37),\"\",INDEX(BD!$C$2:$C$138,SMALL(IF(BD!$B$2:$B$138=$U$37,IF(BD!$B$2:$B$138=$U$37,ROW(BD!$B$2:$B$138)-ROW(BD!$B$2)+1),FALSE),ROWS(BD!$1:2)))))","v":"13:30:00"},{"$f":"IF($U$37=\"\",\"\",IF(ROWS(BD!$1:2)>COUNTIFS(BD!$B$1:$B$138,$U$37),\"\",INDEX(BD!$E$2:$E$138,SMALL(IF(BD!$B$2:$B$138=$U$37,IF(BD!$B$2:$B$138=$U$37,ROW(BD!$B$2:$B$138)-ROW(BD!$B$2)+1),FALSE),ROWS(BD!$1:2)))))","v":"Nexus"},{"$f":"IF($U$37=\"\",\"\",IF(ROWS(BD!$1:2)>COUNTIFS(BD!$B$1:$B$138,$U$37),\"\",INDEX(BD!$F$2:$F$138,SMALL(IF(BD!$B$2:$B$138=$U$37,IF(BD!$B$2:$B$138=$U$37,ROW(BD!$B$2:$B$138)-ROW(BD!$B$2)+1),FALSE),ROWS(BD!$1:2)))))","v":"Antônio"},{"$f":"IF($U$37=\"\",\"\",IF(ROWS(BD!$1:2)>COUNTIFS(BD!$B:$B,$U$37),\"\",INDEX(BD!$G$2:$G$138,SMALL(IF(BD!$B$2:$B$138=$U$37,IF(BD!$B$2:$B$138=$U$37,ROW(BD!$B$2:$B$138)-ROW(BD!$B$2)+1),FALSE),ROWS(BD!$1:2)))))","v":"v1"},{"$f":"IF($U$37=\"\",\"\",IF(ROWS(BD!$1:2)>COUNTIFS(BD!$B:$B,$U$37),\"\",INDEX(BD!$H$2:$H$138,SMALL(IF(BD!$B$2:$B$138=$U$37,IF(BD!$B$2:$B$138=$U$37,ROW(BD!$B$2:$B$138)-ROW(BD!$B$2)+1),FALSE),ROWS(BD!$1:2)))))","v":"Realizada"},null,{"$f":"IF($AA$37=\"\",\"\",IF(ROWS(BD!$1:2)>COUNTIFS(BD!$B$1:$B$138,$AA$37),\"\",INDEX(BD!$C$2:$C$138,SMALL(IF(BD!$B$2:$B$138=$AA$37,IF(BD!$B$2:$B$138=$AA$37,ROW(BD!$B$2:$B$138)-ROW(BD!$B$2)+1),FALSE),ROWS(BD!$1:2)))))","v":"14:30:00"},{"$f":"IF($AA$37=\"\",\"\",IF(ROWS(BD!$1:2)>COUNTIFS(BD!$B$1:$B$138,$AA$37),\"\",INDEX(BD!$E$2:$E$138,SMALL(IF(BD!$B$2:$B$138=$AA$37,IF(BD!$B$2:$B$138=$AA$37,ROW(BD!$B$2:$B$138)-ROW(BD!$B$2)+1),FALSE),ROWS(BD!$1:2)))))","v":"Transformação Digital"},{"$f":"IF($AA$37=\"\",\"\",IF(ROWS(BD!$1:2)>COUNTIFS(BD!$B$1:$B$138,$AA$37),\"\",INDEX(BD!$F$2:$F$138,SMALL(IF(BD!$B$2:$B$138=$AA$37,IF(BD!$B$2:$B$138=$AA$37,ROW(BD!$B$2:$B$138)-ROW(BD!$B$2)+1),FALSE),ROWS(BD!$1:2)))))","v":"Roberto"},{"$f":"IF($AA$37=\"\",\"\",IF(ROWS(BD!$1:2)>COUNTIFS(BD!$B:$B,$AA$37),\"\",INDEX(BD!$G$2:$G$138,SMALL(IF(BD!$B$2:$B$138=$AA$37,IF(BD!$B$2:$B$138=$AA$37,ROW(BD!$B$2:$B$138)-ROW(BD!$B$2)+1),FALSE),ROWS(BD!$1:2)))))","v":"v1"},{"$f":"IF($AA$37=\"\",\"\",IF(ROWS(BD!$1:2)>COUNTIFS(BD!$B:$B,$AA$37),\"\",INDEX(BD!$H$2:$H$138,SMALL(IF(BD!$B$2:$B$138=$AA$37,IF(BD!$B$2:$B$138=$AA$37,ROW(BD!$B$2:$B$138)-ROW(BD!$B$2)+1),FALSE),ROWS(BD!$1:2)))))","v":"Realizada"},null,{"$f":"IF($AG$37=\"\",\"\",IF(ROWS(BD!$1:2)>COUNTIFS(BD!$B$1:$B$138,$AG$37),\"\",INDEX(BD!$C$2:$C$138,SMALL(IF(BD!$B$2:$B$138=$AG$37,IF(BD!$B$2:$B$138=$AG$37,ROW(BD!$B$2:$B$138)-ROW(BD!$B$2)+1),FALSE),ROWS(BD!$1:2)))))","v":""},{"$f":"IF($AG$37=\"\",\"\",IF(ROWS(BD!$1:2)>COUNTIFS(BD!$B$1:$B$138,$AG$37),\"\",INDEX(BD!$E$2:$E$138,SMALL(IF(BD!$B$2:$B$138=$AG$37,IF(BD!$B$2:$B$138=$AG$37,ROW(BD!$B$2:$B$138)-ROW(BD!$B$2)+1),FALSE),ROWS(BD!$1:2)))))","v":""},{"$f":"IF($AG$37=\"\",\"\",IF(ROWS(BD!$1:2)>COUNTIFS(BD!$B$1:$B$138,$AG$37),\"\",INDEX(BD!$F$2:$F$138,SMALL(IF(BD!$B$2:$B$138=$AG$37,IF(BD!$B$2:$B$138=$AG$37,ROW(BD!$B$2:$B$138)-ROW(BD!$B$2)+1),FALSE),ROWS(BD!$1:2)))))","v":""},{"$f":"IF($AG$37=\"\",\"\",IF(ROWS(BD!$1:2)>COUNTIFS(BD!$B:$B,$AG$37),\"\",INDEX(BD!$G$2:$G$138,SMALL(IF(BD!$B$2:$B$138=$AG$37,IF(BD!$B$2:$B$138=$AG$37,ROW(BD!$B$2:$B$138)-ROW(BD!$B$2)+1),FALSE),ROWS(BD!$1:2)))))","v":""},{"$f":"IF($AG$37=\"\",\"\",IF(ROWS(BD!$1:2)>COUNTIFS(BD!$B:$B,$AG$37),\"\",INDEX(BD!$H$2:$H$138,SMALL(IF(BD!$B$2:$B$138=$AG$37,IF(BD!$B$2:$B$138=$AG$37,ROW(BD!$B$2:$B$138)-ROW(BD!$B$2)+1),FALSE),ROWS(BD!$1:2)))))","v":""},null,{"$f":"IF($AM$37=\"\",\"\",IF(ROWS(BD!$1:2)>COUNTIFS(BD!$B$1:$B$138,$AM$37),\"\",INDEX(BD!$C$2:$C$138,SMALL(IF(BD!$B$2:$B$138=$AM$37,IF(BD!$B$2:$B$138=$AM$37,ROW(BD!$B$2:$B$138)-ROW(BD!$B$2)+1),FALSE),ROWS(BD!$1:2)))))","v":""},{"$f":"IF($AM$37=\"\",\"\",IF(ROWS(BD!$1:2)>COUNTIFS(BD!$B$1:$B$138,$AM$37),\"\",INDEX(BD!$E$2:$E$138,SMALL(IF(BD!$B$2:$B$138=$AM$37,IF(BD!$B$2:$B$138=$AM$37,ROW(BD!$B$2:$B$138)-ROW(BD!$B$2)+1),FALSE),ROWS(BD!$1:2)))))","v":""},{"$f":"IF($AM$37=\"\",\"\",IF(ROWS(BD!$1:2)>COUNTIFS(BD!$B$1:$B$138,$AM$37),\"\",INDEX(BD!$F$2:$F$138,SMALL(IF(BD!$B$2:$B$138=$AM$37,IF(BD!$B$2:$B$138=$AM$37,ROW(BD!$B$2:$B$138)-ROW(BD!$B$2)+1),FALSE),ROWS(BD!$1:2)))))","v":""},{"$f":"IF($AM$37=\"\",\"\",IF(ROWS(BD!$1:2)>COUNTIFS(BD!$B:$B,$AM$37),\"\",INDEX(BD!$G$2:$G$138,SMALL(IF(BD!$B$2:$B$138=$AM$37,IF(BD!$B$2:$B$138=$AM$37,ROW(BD!$B$2:$B$138)-ROW(BD!$B$2)+1),FALSE),ROWS(BD!$1:2)))))","v":""},{"$f":"IF($AM$37=\"\",\"\",IF(ROWS(BD!$1:2)>COUNTIFS(BD!$B:$B,$AM$37),\"\",INDEX(BD!$H$2:$H$138,SMALL(IF(BD!$B$2:$B$138=$AM$37,IF(BD!$B$2:$B$138=$AM$37,ROW(BD!$B$2:$B$138)-ROW(BD!$B$2)+1),FALSE),ROWS(BD!$1:2)))))","v":""}]
[null,null,{"$f":"IF($C$37=\"\",\"\",IF(ROWS(BD!$1:3)>COUNTIFS(BD!$B$1:$B$138,$C$37),\"\",INDEX(BD!$C$2:$C$138,SMALL(IF(BD!$B$2:$B$138=$C$37,IF(BD!$B$2:$B$138=$C$37,ROW(BD!$B$2:$B$138)-ROW(BD!$B$2)+1),FALSE),ROWS(BD!$1:3)))))","v":""},{"$f":"IF($C$37=\"\",\"\",IF(ROWS(BD!$1:3)>COUNTIFS(BD!$B$1:$B$138,$C$37),\"\",INDEX(BD!$E$2:$E$138,SMALL(IF(BD!$B$2:$B$138=$C$37,IF(BD!$B$2:$B$138=$C$37,ROW(BD!$B$2:$B$138)-ROW(BD!$B$2)+1),FALSE),ROWS(BD!$1:3)))))","v":""},{"$f":"IF($C$37=\"\",\"\",IF(ROWS(BD!$1:3)>COUNTIFS(BD!$B$1:$B$138,$C$37),\"\",INDEX(BD!$F$2:$F$138,SMALL(IF(BD!$B$2:$B$138=$C$37,IF(BD!$B$2:$B$138=$C$37,ROW(BD!$B$2:$B$138)-ROW(BD!$B$2)+1),FALSE),ROWS(BD!$1:3)))))","v":""},{"$f":"IF($C$37=\"\",\"\",IF(ROWS(BD!$1:3)>COUNTIFS(BD!$B:$B,$C$37),\"\",INDEX(BD!$G$2:$G$138,SMALL(IF(BD!$B$2:$B$138=$C$37,IF(BD!$B$2:$B$138=$C$37,ROW(BD!$B$2:$B$138)-ROW(BD!$B$2)+1),FALSE),ROWS(BD!$1:3)))))","v":""},{"$f":"IF($C$37=\"\",\"\",IF(ROWS(BD!$1:3)>COUNTIFS(BD!$B:$B,$C$37),\"\",INDEX(BD!$H$2:$H$138,SMALL(IF(BD!$B$2:$B$138=$C$37,IF(BD!$B$2:$B$138=$C$37,ROW(BD!$B$2:$B$138)-ROW(BD!$B$2)+1),FALSE),ROWS(BD!$1:3)))))","v":""},null,{"$f":"IF($I$37=\"\",\"\",IF(ROWS(BD!$1:3)>COUNTIFS(BD!$B$1:$B$138,$I$37),\"\",INDEX(BD!$C$2:$C$138,SMALL(IF(BD!$B$2:$B$138=$I$37,IF(BD!$B$2:$B$138=$I$37,ROW(BD!$B$2:$B$138)-ROW(BD!$B$2)+1),FALSE),ROWS(BD!$1:3)))))","v":"14:20:00"},{"$f":"IF($I$37=\"\",\"\",IF(ROWS(BD!$1:3)>COUNTIFS(BD!$B$1:$B$138,$I$37),\"\",INDEX(BD!$E$2:$E$138,SMALL(IF(BD!$B$2:$B$138=$I$37,IF(BD!$B$2:$B$138=$I$37,ROW(BD!$B$2:$B$138)-ROW(BD!$B$2)+1),FALSE),ROWS(BD!$1:3)))))","v":"ImagineWorks"},{"$f":"IF($I$37=\"\",\"\",IF(ROWS(BD!$1:3)>COUNTIFS(BD!$B$1:$B$138,$I$37),\"\",INDEX(BD!$F$2:$F$138,SMALL(IF(BD!$B$2:$B$138=$I$37,IF(BD!$B$2:$B$138=$I$37,ROW(BD!$B$2:$B$138)-ROW(BD!$B$2)+1),FALSE),ROWS(BD!$1:3)))))","v":"Paulo"},{"$f":"IF($I$37=\"\",\"\",IF(ROWS(BD!$1:3)>COUNTIFS(BD!$B:$B,$I$37),\"\",INDEX(BD!$G$2:$G$138,SMALL(IF(BD!$B$2:$B$138=$I$37,IF(BD!$B$2:$B$138=$I$37,ROW(BD!$B$2:$B$138)-ROW(BD!$B$2)+1),FALSE),ROWS(BD!$1:3)))))","v":"v1"},{"$f":"IF($I$37=\"\",\"\",IF(ROWS(BD!$1:3)>COUNTIFS(BD!$B:$B,$I$37),\"\",INDEX(BD!$H$2:$H$138,SMALL(IF(BD!$B$2:$B$138=$I$37,IF(BD!$B$2:$B$138=$I$37,ROW(BD!$B$2:$B$138)-ROW(BD!$B$2)+1),FALSE),ROWS(BD!$1:3)))))","v":"Realizada"},null,{"$f":"IF($O$37=\"\",\"\",IF(ROWS(BD!$1:3)>COUNTIFS(BD!$B$1:$B$138,$O$37),\"\",INDEX(BD!$C$2:$C$138,SMALL(IF(BD!$B$2:$B$138=$O$37,IF(BD!$B$2:$B$138=$O$37,ROW(BD!$B$2:$B$138)-ROW(BD!$B$2)+1),FALSE),ROWS(BD!$1:3)))))","v":"16:35:00"},{"$f":"IF($O$37=\"\",\"\",IF(ROWS(BD!$1:3)>COUNTIFS(BD!$B$1:$B$138,$O$37),\"\",INDEX(BD!$E$2:$E$138,SMALL(IF(BD!$B$2:$B$138=$O$37,IF(BD!$B$2:$B$138=$O$37,ROW(BD!$B$2:$B$138)-ROW(BD!$B$2)+1),FALSE),ROWS(BD!$1:3)))))","v":"Tecnologia Pulso"},{"$f":"IF($O$37=\"\",\"\",IF(ROWS(BD!$1:3)>COUNTIFS(BD!$B$1:$B$138,$O$37),\"\",INDEX(BD!$F$2:$F$138,SMALL(IF(BD!$B$2:$B$138=$O$37,IF(BD!$B$2:$B$138=$O$37,ROW(BD!$B$2:$B$138)-ROW(BD!$B$2)+1),FALSE),ROWS(BD!$1:3)))))","v":"Antônio"},{"$f":"IF($O$37=\"\",\"\",IF(ROWS(BD!$1:3)>COUNTIFS(BD!$B:$B,$O$37),\"\",INDEX(BD!$G$2:$G$138,SMALL(IF(BD!$B$2:$B$138=$O$37,IF(BD!$B$2:$B$138=$O$37,ROW(BD!$B$2:$B$138)-ROW(BD!$B$2)+1),FALSE),ROWS(BD!$1:3)))))","v":"v1"},{"$f":"IF($O$37=\"\",\"\",IF(ROWS(BD!$1:3)>COUNTIFS(BD!$B:$B,$O$37),\"\",INDEX(BD!$H$2:$H$138,SMALL(IF(BD!$B$2:$B$138=$O$37,IF(BD!$B$2:$B$138=$O$37,ROW(BD!$B$2:$B$138)-ROW(BD!$B$2)+1),FALSE),ROWS(BD!$1:3)))))","v":"Realizada"},null,{"$f":"IF($U$37=\"\",\"\",IF(ROWS(BD!$1:3)>COUNTIFS(BD!$B$1:$B$138,$U$37),\"\",INDEX(BD!$C$2:$C$138,SMALL(IF(BD!$B$2:$B$138=$U$37,IF(BD!$B$2:$B$138=$U$37,ROW(BD!$B$2:$B$138)-ROW(BD!$B$2)+1),FALSE),ROWS(BD!$1:3)))))","v":"14:50:00"},{"$f":"IF($U$37=\"\",\"\",IF(ROWS(BD!$1:3)>COUNTIFS(BD!$B$1:$B$138,$U$37),\"\",INDEX(BD!$E$2:$E$138,SMALL(IF(BD!$B$2:$B$138=$U$37,IF(BD!$B$2:$B$138=$U$37,ROW(BD!$B$2:$B$138)-ROW(BD!$B$2)+1),FALSE),ROWS(BD!$1:3)))))","v":"MindSpark"},{"$f":"IF($U$37=\"\",\"\",IF(ROWS(BD!$1:3)>COUNTIFS(BD!$B$1:$B$138,$U$37),\"\",INDEX(BD!$F$2:$F$138,SMALL(IF(BD!$B$2:$B$138=$U$37,IF(BD!$B$2:$B$138=$U$37,ROW(BD!$B$2:$B$138)-ROW(BD!$B$2)+1),FALSE),ROWS(BD!$1:3)))))","v":"João"},{"$f":"IF($U$37=\"\",\"\",IF(ROWS(BD!$1:3)>COUNTIFS(BD!$B:$B,$U$37),\"\",INDEX(BD!$G$2:$G$138,SMALL(IF(BD!$B$2:$B$138=$U$37,IF(BD!$B$2:$B$138=$U$37,ROW(BD!$B$2:$B$138)-ROW(BD!$B$2)+1),FALSE),ROWS(BD!$1:3)))))","v":"v1"},{"$f":"IF($U$37=\"\",\"\",IF(ROWS(BD!$1:3)>COUNTIFS(BD!$B:$B,$U$37),\"\",INDEX(BD!$H$2:$H$138,SMALL(IF(BD!$B$2:$B$138=$U$37,IF(BD!$B$2:$B$138=$U$37,ROW(BD!$B$2:$B$138)-ROW(BD!$B$2)+1),FALSE),ROWS(BD!$1:3)))))","v":"Realizada"},null,{"$f":"IF($AA$37=\"\",\"\",IF(ROWS(BD!$1:3)>COUNTIFS(BD!$B$1:$B$138,$AA$37),\"\",INDEX(BD!$C$2:$C$138,SMALL(IF(BD!$B$2:$B$138=$AA$37,IF(BD!$B$2:$B$138=$AA$37,ROW(BD!$B$2:$B$138)-ROW(BD!$B$2)+1),FALSE),ROWS(BD!$1:3)))))","v":"14:50:00"},{"$f":"IF($AA$37=\"\",\"\",IF(ROWS(BD!$1:3)>COUNTIFS(BD!$B$1:$B$138,$AA$37),\"\",INDEX(BD!$E$2:$E$138,SMALL(IF(BD!$B$2:$B$138=$AA$37,IF(BD!$B$2:$B$138=$AA$37,ROW(BD!$B$2:$B$138)-ROW(BD!$B$2)+1),FALSE),ROWS(BD!$1:3)))))","v":"InnovAction"},{"$f":"IF($AA$37=\"\",\"\",IF(ROWS(BD!$1:3)>COUNTIFS(BD!$B$1:$B$138,$AA$37),\"\",INDEX(BD!$F$2:$F$138,SMALL(IF(BD!$B$2:$B$138=$AA$37,IF(BD!$B$2:$B$138=$AA$37,ROW(BD!$B$2:$B$138)-ROW(BD!$B$2)+1),FALSE),ROWS(BD!$1:3)))))","v":"Antônio"},{"$f":"IF($AA$37=\"\",\"\",IF(ROWS(BD!$1:3)>COUNTIFS(BD!$B:$B,$AA$37),\"\",INDEX(BD!$G$2:$G$138,SMALL(IF(BD!$B$2:$B$138=$AA$37,IF(BD!$B$2:$B$138=$AA$37,ROW(BD!$B$2:$B$138)-ROW(BD!$B$2)+1),FALSE),ROWS(BD!$1:3)))))","v":"v1"},{"$f":"IF($AA$37=\"\",\"\",IF(ROWS(BD!$1:3)>COUNTIFS(BD!$B:$B,$AA$37),\"\",INDEX(BD!$H$2:$H$138,SMALL(IF(BD!$B$2:$B$138=$AA$37,IF(BD!$B$2:$B$138=$AA$37,ROW(BD!$B$2:$B$138)-ROW(BD!$B$2)+1),FALSE),ROWS(BD!$1:3)))))","v":"Realizada"},null,{"$f":"IF($AG$37=\"\",\"\",IF(ROWS(BD!$1:3)>COUNTIFS(BD!$B$1:$B$138,$AG$37),\"\",INDEX(BD!$C$2:$C$138,SMALL(IF(BD!$B$2:$B$138=$AG$37,IF(BD!$B$2:$B$138=$AG$37,ROW(BD!$B$2:$B$138)-ROW(BD!$B$2)+1),FALSE),ROWS(BD!$1:3)))))","v":""},{"$f":"IF($AG$37=\"\",\"\",IF(ROWS(BD!$1:3)>COUNTIFS(BD!$B$1:$B$138,$AG$37),\"\",INDEX(BD!$E$2:$E$138,SMALL(IF(BD!$B$2:$B$138=$AG$37,IF(BD!$B$2:$B$138=$AG$37,ROW(BD!$B$2:$B$138)-ROW(BD!$B$2)+1),FALSE),ROWS(BD!$1:3)))))","v":""},{"$f":"IF($AG$37=\"\",\"\",IF(ROWS(BD!$1:3)>COUNTIFS(BD!$B$1:$B$138,$AG$37),\"\",INDEX(BD!$F$2:$F$138,SMALL(IF(BD!$B$2:$B$138=$AG$37,IF(BD!$B$2:$B$138=$AG$37,ROW(BD!$B$2:$B$138)-ROW(BD!$B$2)+1),FALSE),ROWS(BD!$1:3)))))","v":""},{"$f":"IF($AG$37=\"\",\"\",IF(ROWS(BD!$1:3)>COUNTIFS(BD!$B:$B,$AG$37),\"\",INDEX(BD!$G$2:$G$138,SMALL(IF(BD!$B$2:$B$138=$AG$37,IF(BD!$B$2:$B$138=$AG$37,ROW(BD!$B$2:$B$138)-ROW(BD!$B$2)+1),FALSE),ROWS(BD!$1:3)))))","v":""},{"$f":"IF($AG$37=\"\",\"\",IF(ROWS(BD!$1:3)>COUNTIFS(BD!$B:$B,$AG$37),\"\",INDEX(BD!$H$2:$H$138,SMALL(IF(BD!$B$2:$B$138=$AG$37,IF(BD!$B$2:$B$138=$AG$37,ROW(BD!$B$2:$B$138)-ROW(BD!$B$2)+1),FALSE),ROWS(BD!$1:3)))))","v":""},null,{"$f":"IF($AM$37=\"\",\"\",IF(ROWS(BD!$1:3)>COUNTIFS(BD!$B$1:$B$138,$AM$37),\"\",INDEX(BD!$C$2:$C$138,SMALL(IF(BD!$B$2:$B$138=$AM$37,IF(BD!$B$2:$B$138=$AM$37,ROW(BD!$B$2:$B$138)-ROW(BD!$B$2)+1),FALSE),ROWS(BD!$1:3)))))","v":""},{"$f":"IF($AM$37=\"\",\"\",IF(ROWS(BD!$1:3)>COUNTIFS(BD!$B$1:$B$138,$AM$37),\"\",INDEX(BD!$E$2:$E$138,SMALL(IF(BD!$B$2:$B$138=$AM$37,IF(BD!$B$2:$B$138=$AM$37,ROW(BD!$B$2:$B$138)-ROW(BD!$B$2)+1),FALSE),ROWS(BD!$1:3)))))","v":""},{"$f":"IF($AM$37=\"\",\"\",IF(ROWS(BD!$1:3)>COUNTIFS(BD!$B$1:$B$138,$AM$37),\"\",INDEX(BD!$F$2:$F$138,SMALL(IF(BD!$B$2:$B$138=$AM$37,IF(BD!$B$2:$B$138=$AM$37,ROW(BD!$B$2:$B$138)-ROW(BD!$B$2)+1),FALSE),ROWS(BD!$1:3)))))","v":""},{"$f":"IF($AM$37=\"\",\"\",IF(ROWS(BD!$1:3)>COUNTIFS(BD!$B:$B,$AM$37),\"\",INDEX(BD!$G$2:$G$138,SMALL(IF(BD!$B$2:$B$138=$AM$37,IF(BD!$B$2:$B$138=$AM$37,ROW(BD!$B$2:$B$138)-ROW(BD!$B$2)+1),FALSE),ROWS(BD!$1:3)))))","v":""},{"$f":"IF($AM$37=\"\",\"\",IF(ROWS(BD!$1:3)>COUNTIFS(BD!$B:$B,$AM$37),\"\",INDEX(BD!$H$2:$H$138,SMALL(IF(BD!$B$2:$B$138=$AM$37,IF(BD!$B$2:$B$138=$AM$37,ROW(BD!$B$2:$B$138)-ROW(BD!$B$2)+1),FALSE),ROWS(BD!$1:3)))))","v":""}]
[null,null,{"$f":"IF($C$37=\"\",\"\",IF(ROWS(BD!$1:4)>COUNTIFS(BD!$B$1:$B$138,$C$37),\"\",INDEX(BD!$C$2:$C$138,SMALL(IF(BD!$B$2:$B$138=$C$37,IF(BD!$B$2:$B$138=$C$37,ROW(BD!$B$2:$B$138)-ROW(BD!$B$2)+1),FALSE),ROWS(BD!$1:4)))))","v":""},{"$f":"IF($C$37=\"\",\"\",IF(ROWS(BD!$1:4)>COUNTIFS(BD!$B$1:$B$138,$C$37),\"\",INDEX(BD!$E$2:$E$138,SMALL(IF(BD!$B$2:$B$138=$C$37,IF(BD!$B$2:$B$138=$C$37,ROW(BD!$B$2:$B$138)-ROW(BD!$B$2)+1),FALSE),ROWS(BD!$1:4)))))","v":""},{"$f":"IF($C$37=\"\",\"\",IF(ROWS(BD!$1:4)>COUNTIFS(BD!$B$1:$B$138,$C$37),\"\",INDEX(BD!$F$2:$F$138,SMALL(IF(BD!$B$2:$B$138=$C$37,IF(BD!$B$2:$B$138=$C$37,ROW(BD!$B$2:$B$138)-ROW(BD!$B$2)+1),FALSE),ROWS(BD!$1:4)))))","v":""},{"$f":"IF($C$37=\"\",\"\",IF(ROWS(BD!$1:4)>COUNTIFS(BD!$B:$B,$C$37),\"\",INDEX(BD!$G$2:$G$138,SMALL(IF(BD!$B$2:$B$138=$C$37,IF(BD!$B$2:$B$138=$C$37,ROW(BD!$B$2:$B$138)-ROW(BD!$B$2)+1),FALSE),ROWS(BD!$1:4)))))","v":""},{"$f":"IF($C$37=\"\",\"\",IF(ROWS(BD!$1:4)>COUNTIFS(BD!$B:$B,$C$37),\"\",INDEX(BD!$H$2:$H$138,SMALL(IF(BD!$B$2:$B$138=$C$37,IF(BD!$B$2:$B$138=$C$37,ROW(BD!$B$2:$B$138)-ROW(BD!$B$2)+1),FALSE),ROWS(BD!$1:4)))))","v":""},null,{"$f":"IF($I$37=\"\",\"\",IF(ROWS(BD!$1:4)>COUNTIFS(BD!$B$1:$B$138,$I$37),\"\",INDEX(BD!$C$2:$C$138,SMALL(IF(BD!$B$2:$B$138=$I$37,IF(BD!$B$2:$B$138=$I$37,ROW(BD!$B$2:$B$138)-ROW(BD!$B$2)+1),FALSE),ROWS(BD!$1:4)))))","v":"15:10:00"},{"$f":"IF($I$37=\"\",\"\",IF(ROWS(BD!$1:4)>COUNTIFS(BD!$B$1:$B$138,$I$37),\"\",INDEX(BD!$E$2:$E$138,SMALL(IF(BD!$B$2:$B$138=$I$37,IF(BD!$B$2:$B$138=$I$37,ROW(BD!$B$2:$B$138)-ROW(BD!$B$2)+1),FALSE),ROWS(BD!$1:4)))))","v":"Inovare"},{"$f":"IF($I$37=\"\",\"\",IF(ROWS(BD!$1:4)>COUNTIFS(BD!$B$1:$B$138,$I$37),\"\",INDEX(BD!$F$2:$F$138,SMALL(IF(BD!$B$2:$B$138=$I$37,IF(BD!$B$2:$B$138=$I$37,ROW(BD!$B$2:$B$138)-ROW(BD!$B$2)+1),FALSE),ROWS(BD!$1:4)))))","v":"Pedro"},{"$f":"IF($I$37=\"\",\"\",IF(ROWS(BD!$1:4)>COUNTIFS(BD!$B:$B,$I$37),\"\",INDEX(BD!$G$2:$G$138,SMALL(IF(BD!$B$2:$B$138=$I$37,IF(BD!$B$2:$B$138=$I$37,ROW(BD!$B$2:$B$138)-ROW(BD!$B$2)+1),FALSE),ROWS(BD!$1:4)))))","v":"v1"},{"$f":"IF($I$37=\"\",\"\",IF(ROWS(BD!$1:4)>COUNTIFS(BD!$B:$B,$I$37),\"\",INDEX(BD!$H$2:$H$138,SMALL(IF(BD!$B$2:$B$138=$I$37,IF(BD!$B$2:$B$138=$I$37,ROW(BD!$B$2:$B$138)-ROW(BD!$B$2)+1),FALSE),ROWS(BD!$1:4)))))","v":"Realizada"},null,{"$f":"IF($O$37=\"\",\"\",IF(ROWS(BD!$1:4)>COUNTIFS(BD!$B$1:$B$138,$O$37),\"\",INDEX(BD!$C$2:$C$138,SMALL(IF(BD!$B$2:$B$138=$O$37,IF(BD!$B$2:$B$138=$O$37,ROW(BD!$B$2:$B$138)-ROW(BD!$B$2)+1),FALSE),ROWS(BD!$1:4)))))","v":"19:00:00"},{"$f":"IF($O$37=\"\",\"\",IF(ROWS(BD!$1:4)>COUNTIFS(BD!$B$1:$B$138,$O$37),\"\",INDEX(BD!$E$2:$E$138,SMALL(IF(BD!$B$2:$B$138=$O$37,IF(BD!$B$2:$B$138=$O$37,ROW(BD!$B$2:$B$138)-ROW(BD!$B$2)+1),FALSE),ROWS(BD!$1:4)))))","v":"Borda Brilhante"},{"$f":"IF($O$37=\"\",\"\",IF(ROWS(BD!$1:4)>COUNTIFS(BD!$B$1:$B$138,$O$37),\"\",INDEX(BD!$F$2:$F$138,SMALL(IF(BD!$B$2:$B$138=$O$37,IF(BD!$B$2:$B$138=$O$37,ROW(BD!$B$2:$B$138)-ROW(BD!$B$2)+1),FALSE),ROWS(BD!$1:4)))))","v":"João"},{"$f":"IF($O$37=\"\",\"\",IF(ROWS(BD!$1:4)>COUNTIFS(BD!$B:$B,$O$37),\"\",INDEX(BD!$G$2:$G$138,SMALL(IF(BD!$B$2:$B$138=$O$37,IF(BD!$B$2:$B$138=$O$37,ROW(BD!$B$2:$B$138)-ROW(BD!$B$2)+1),FALSE),ROWS(BD!$1:4)))))","v":"v1"},{"$f":"IF($O$37=\"\",\"\",IF(ROWS(BD!$1:4)>COUNTIFS(BD!$B:$B,$O$37),\"\",INDEX(BD!$H$2:$H$138,SMALL(IF(BD!$B$2:$B$138=$O$37,IF(BD!$B$2:$B$138=$O$37,ROW(BD!$B$2:$B$138)-ROW(BD!$B$2)+1),FALSE),ROWS(BD!$1:4)))))","v":"Realizada"},null,{"$f":"IF($U$37=\"\",\"\",IF(ROWS(BD!$1:4)>COUNTIFS(BD!$B$1:$B$138,$U$37),\"\",INDEX(BD!$C$2:$C$138,SMALL(IF(BD!$B$2:$B$138=$U$37,IF(BD!$B$2:$B$138=$U$37,ROW(BD!$B$2:$B$138)-ROW(BD!$B$2)+1),FALSE),ROWS(BD!$1:4)))))","v":"15:25:00"},{"$f":"IF($U$37=\"\",\"\",IF(ROWS(BD!$1:4)>COUNTIFS(BD!$B$1:$B$138,$U$37),\"\",INDEX(BD!$E$2:$E$138,SMALL(IF(BD!$B$2:$B$138=$U$37,IF(BD!$B$2:$B$138=$U$37,ROW(BD!$B$2:$B$138)-ROW(BD!$B$2)+1),FALSE),ROWS(BD!$1:4)))))","v":"PixelPower"},{"$f":"IF($U$37=\"\",\"\",IF(ROWS(BD!$1:4)>COUNTIFS(BD!$B$1:$B$138,$U$37),\"\",INDEX(BD!$F$2:$F$138,SMALL(IF(BD!$B$2:$B$138=$U$37,IF(BD!$B$2:$B$138=$U$37,ROW(BD!$B$2:$B$138)-ROW(BD!$B$2)+1),FALSE),ROWS(BD!$1:4)))))","v":"José"},{"$f":"IF($U$37=\"\",\"\",IF(ROWS(BD!$1:4)>COUNTIFS(BD!$B:$B,$U$37),\"\",INDEX(BD!$G$2:$G$138,SMALL(IF(BD!$B$2:$B$138=$U$37,IF(BD!$B$2:$B$138=$U$37,ROW(BD!$B$2:$B$138)-ROW(BD!$B$2)+1),FALSE),ROWS(BD!$1:4)))))","v":"v1"},{"$f":"IF($U$37=\"\",\"\",IF(ROWS(BD!$1:4)>COUNTIFS(BD!$B:$B,$U$37),\"\",INDEX(BD!$H$2:$H$138,SMALL(IF(BD!$B$2:$B$138=$U$37,IF(BD!$B$2:$B$138=$U$37,ROW(BD!$B$2:$B$138)-ROW(BD!$B$2)+1),FALSE),ROWS(BD!$1:4)))))","v":"Realizada"},null,{"$f":"IF($AA$37=\"\",\"\",IF(ROWS(BD!$1:4)>COUNTIFS(BD!$B$1:$B$138,$AA$37),\"\",INDEX(BD!$C$2:$C$138,SMALL(IF(BD!$B$2:$B$138=$AA$37,IF(BD!$B$2:$B$138=$AA$37,ROW(BD!$B$2:$B$138)-ROW(BD!$B$2)+1),FALSE),ROWS(BD!$1:4)))))","v":"15:20:00"},{"$f":"IF($AA$37=\"\",\"\",IF(ROWS(BD!$1:4)>COUNTIFS(BD!$B$1:$B$138,$AA$37),\"\",INDEX(BD!$E$2:$E$138,SMALL(IF(BD!$B$2:$B$138=$AA$37,IF(BD!$B$2:$B$138=$AA$37,ROW(BD!$B$2:$B$138)-ROW(BD!$B$2)+1),FALSE),ROWS(BD!$1:4)))))","v":"HighTech Solutions"},{"$f":"IF($AA$37=\"\",\"\",IF(ROWS(BD!$1:4)>COUNTIFS(BD!$B$1:$B$138,$AA$37),\"\",INDEX(BD!$F$2:$F$138,SMALL(IF(BD!$B$2:$B$138=$AA$37,IF(BD!$B$2:$B$138=$AA$37,ROW(BD!$B$2:$B$138)-ROW(BD!$B$2)+1),FALSE),ROWS(BD!$1:4)))))","v":"João"},{"$f":"IF($AA$37=\"\",\"\",IF(ROWS(BD!$1:4)>COUNTIFS(BD!$B:$B,$AA$37),\"\",INDEX(BD!$G$2:$G$138,SMALL(IF(BD!$B$2:$B$138=$AA$37,IF(BD!$B$2:$B$138=$AA$37,ROW(BD!$B$2:$B$138)-ROW(BD!$B$2)+1),FALSE),ROWS(BD!$1:4)))))","v":"v1"},{"$f":"IF($AA$37=\"\",\"\",IF(ROWS(BD!$1:4)>COUNTIFS(BD!$B:$B,$AA$37),\"\",INDEX(BD!$H$2:$H$138,SMALL(IF(BD!$B$2:$B$138=$AA$37,IF(BD!$B$2:$B$138=$AA$37,ROW(BD!$B$2:$B$138)-ROW(BD!$B$2)+1),FALSE),ROWS(BD!$1:4)))))","v":"Realizada"},null,{"$f":"IF($AG$37=\"\",\"\",IF(ROWS(BD!$1:4)>COUNTIFS(BD!$B$1:$B$138,$AG$37),\"\",INDEX(BD!$C$2:$C$138,SMALL(IF(BD!$B$2:$B$138=$AG$37,IF(BD!$B$2:$B$138=$AG$37,ROW(BD!$B$2:$B$138)-ROW(BD!$B$2)+1),FALSE),ROWS(BD!$1:4)))))","v":""},{"$f":"IF($AG$37=\"\",\"\",IF(ROWS(BD!$1:4)>COUNTIFS(BD!$B$1:$B$138,$AG$37),\"\",INDEX(BD!$E$2:$E$138,SMALL(IF(BD!$B$2:$B$138=$AG$37,IF(BD!$B$2:$B$138=$AG$37,ROW(BD!$B$2:$B$138)-ROW(BD!$B$2)+1),FALSE),ROWS(BD!$1:4)))))","v":""},{"$f":"IF($AG$37=\"\",\"\",IF(ROWS(BD!$1:4)>COUNTIFS(BD!$B$1:$B$138,$AG$37),\"\",INDEX(BD!$F$2:$F$138,SMALL(IF(BD!$B$2:$B$138=$AG$37,IF(BD!$B$2:$B$138=$AG$37,ROW(BD!$B$2:$B$138)-ROW(BD!$B$2)+1),FALSE),ROWS(BD!$1:4)))))","v":""},{"$f":"IF($AG$37=\"\",\"\",IF(ROWS(BD!$1:4)>COUNTIFS(BD!$B:$B,$AG$37),\"\",INDEX(BD!$G$2:$G$138,SMALL(IF(BD!$B$2:$B$138=$AG$37,IF(BD!$B$2:$B$138=$AG$37,ROW(BD!$B$2:$B$138)-ROW(BD!$B$2)+1),FALSE),ROWS(BD!$1:4)))))","v":""},{"$f":"IF($AG$37=\"\",\"\",IF(ROWS(BD!$1:4)>COUNTIFS(BD!$B:$B,$AG$37),\"\",INDEX(BD!$H$2:$H$138,SMALL(IF(BD!$B$2:$B$138=$AG$37,IF(BD!$B$2:$B$138=$AG$37,ROW(BD!$B$2:$B$138)-ROW(BD!$B$2)+1),FALSE),ROWS(BD!$1:4)))))","v":""},null,{"$f":"IF($AM$37=\"\",\"\",IF(ROWS(BD!$1:4)>COUNTIFS(BD!$B$1:$B$138,$AM$37),\"\",INDEX(BD!$C$2:$C$138,SMALL(IF(BD!$B$2:$B$138=$AM$37,IF(BD!$B$2:$B$138=$AM$37,ROW(BD!$B$2:$B$138)-ROW(BD!$B$2)+1),FALSE),ROWS(BD!$1:4)))))","v":""},{"$f":"IF($AM$37=\"\",\"\",IF(ROWS(BD!$1:4)>COUNTIFS(BD!$B$1:$B$138,$AM$37),\"\",INDEX(BD!$E$2:$E$138,SMALL(IF(BD!$B$2:$B$138=$AM$37,IF(BD!$B$2:$B$138=$AM$37,ROW(BD!$B$2:$B$138)-ROW(BD!$B$2)+1),FALSE),ROWS(BD!$1:4)))))","v":""},{"$f":"IF($AM$37=\"\",\"\",IF(ROWS(BD!$1:4)>COUNTIFS(BD!$B$1:$B$138,$AM$37),\"\",INDEX(BD!$F$2:$F$138,SMALL(IF(BD!$B$2:$B$138=$AM$37,IF(BD!$B$2:$B$138=$AM$37,ROW(BD!$B$2:$B$138)-ROW(BD!$B$2)+1),FALSE),ROWS(BD!$1:4)))))","v":""},{"$f":"IF($AM$37=\"\",\"\",IF(ROWS(BD!$1:4)>COUNTIFS(BD!$B:$B,$AM$37),\"\",INDEX(BD!$G$2:$G$138,SMALL(IF(BD!$B$2:$B$138=$AM$37,IF(BD!$B$2:$B$138=$AM$37,ROW(BD!$B$2:$B$138)-ROW(BD!$B$2)+1),FALSE),ROWS(BD!$1:4)))))","v":""},{"$f":"IF($AM$37=\"\",\"\",IF(ROWS(BD!$1:4)>COUNTIFS(BD!$B:$B,$AM$37),\"\",INDEX(BD!$H$2:$H$138,SMALL(IF(BD!$B$2:$B$138=$AM$37,IF(BD!$B$2:$B$138=$AM$37,ROW(BD!$B$2:$B$138)-ROW(BD!$B$2)+1),FALSE),ROWS(BD!$1:4)))))","v":""}]
[null,null,{"$f":"IF($C$37=\"\",\"\",IF(ROWS(BD!$1:5)>COUNTIFS(BD!$B$1:$B$138,$C$37),\"\",INDEX(BD!$C$2:$C$138,SMALL(IF(BD!$B$2:$B$138=$C$37,IF(BD!$B$2:$B$138=$C$37,ROW(BD!$B$2:$B$138)-ROW(BD!$B$2)+1),FALSE),ROWS(BD!$1:5)))))","v":""},{"$f":"IF($C$37=\"\",\"\",IF(ROWS(BD!$1:5)>COUNTIFS(BD!$B$1:$B$138,$C$37),\"\",INDEX(BD!$E$2:$E$138,SMALL(IF(BD!$B$2:$B$138=$C$37,IF(BD!$B$2:$B$138=$C$37,ROW(BD!$B$2:$B$138)-ROW(BD!$B$2)+1),FALSE),ROWS(BD!$1:5)))))","v":""},{"$f":"IF($C$37=\"\",\"\",IF(ROWS(BD!$1:5)>COUNTIFS(BD!$B$1:$B$138,$C$37),\"\",INDEX(BD!$F$2:$F$138,SMALL(IF(BD!$B$2:$B$138=$C$37,IF(BD!$B$2:$B$138=$C$37,ROW(BD!$B$2:$B$138)-ROW(BD!$B$2)+1),FALSE),ROWS(BD!$1:5)))))","v":""},{"$f":"IF($C$37=\"\",\"\",IF(ROWS(BD!$1:5)>COUNTIFS(BD!$B:$B,$C$37),\"\",INDEX(BD!$G$2:$G$138,SMALL(IF(BD!$B$2:$B$138=$C$37,IF(BD!$B$2:$B$138=$C$37,ROW(BD!$B$2:$B$138)-ROW(BD!$B$2)+1),FALSE),ROWS(BD!$1:5)))))","v":""},{"$f":"IF($C$37=\"\",\"\",IF(ROWS(BD!$1:5)>COUNTIFS(BD!$B:$B,$C$37),\"\",INDEX(BD!$H$2:$H$138,SMALL(IF(BD!$B$2:$B$138=$C$37,IF(BD!$B$2:$B$138=$C$37,ROW(BD!$B$2:$B$138)-ROW(BD!$B$2)+1),FALSE),ROWS(BD!$1:5)))))","v":""},null,{"$f":"IF($I$37=\"\",\"\",IF(ROWS(BD!$1:5)>COUNTIFS(BD!$B$1:$B$138,$I$37),\"\",INDEX(BD!$C$2:$C$138,SMALL(IF(BD!$B$2:$B$138=$I$37,IF(BD!$B$2:$B$138=$I$37,ROW(BD!$B$2:$B$138)-ROW(BD!$B$2)+1),FALSE),ROWS(BD!$1:5)))))","v":""},{"$f":"IF($I$37=\"\",\"\",IF(ROWS(BD!$1:5)>COUNTIFS(BD!$B$1:$B$138,$I$37),\"\",INDEX(BD!$E$2:$E$138,SMALL(IF(BD!$B$2:$B$138=$I$37,IF(BD!$B$2:$B$138=$I$37,ROW(BD!$B$2:$B$138)-ROW(BD!$B$2)+1),FALSE),ROWS(BD!$1:5)))))","v":""},{"$f":"IF($I$37=\"\",\"\",IF(ROWS(BD!$1:5)>COUNTIFS(BD!$B$1:$B$138,$I$37),\"\",INDEX(BD!$F$2:$F$138,SMALL(IF(BD!$B$2:$B$138=$I$37,IF(BD!$B$2:$B$138=$I$37,ROW(BD!$B$2:$B$138)-ROW(BD!$B$2)+1),FALSE),ROWS(BD!$1:5)))))","v":""},{"$f":"IF($I$37=\"\",\"\",IF(ROWS(BD!$1:5)>COUNTIFS(BD!$B:$B,$I$37),\"\",INDEX(BD!$G$2:$G$138,SMALL(IF(BD!$B$2:$B$138=$I$37,IF(BD!$B$2:$B$138=$I$37,ROW(BD!$B$2:$B$138)-ROW(BD!$B$2)+1),FALSE),ROWS(BD!$1:5)))))","v":""},{"$f":"IF($I$37=\"\",\"\",IF(ROWS(BD!$1:5)>COUNTIFS(BD!$B:$B,$I$37),\"\",INDEX(BD!$H$2:$H$138,SMALL(IF(BD!$B$2:$B$138=$I$37,IF(BD!$B$2:$B$138=$I$37,ROW(BD!$B$2:$B$138)-ROW(BD!$B$2)+1),FALSE),ROWS(BD!$1:5)))))","v":""},null,{"$f":"IF($O$37=\"\",\"\",IF(ROWS(BD!$1:5)>COUNTIFS(BD!$B$1:$B$138,$O$37),\"\",INDEX(BD!$C$2:$C$138,SMALL(IF(BD!$B$2:$B$138=$O$37,IF(BD!$B$2:$B$138=$O$37,ROW(BD!$B$2:$B$138)-ROW(BD!$B$2)+1),FALSE),ROWS(BD!$1:5)))))","v":"19:35:00"},{"$f":"IF($O$37=\"\",\"\",IF(ROWS(BD!$1:5)>COUNTIFS(BD!$B$1:$B$138,$O$37),\"\",INDEX(BD!$E$2:$E$138,SMALL(IF(BD!$B$2:$B$138=$O$37,IF(BD!$B$2:$B$138=$O$37,ROW(BD!$B$2:$B$138)-ROW(BD!$B$2)+1),FALSE),ROWS(BD!$1:5)))))","v":"Nova Onda"},{"$f":"IF($O$37=\"\",\"\",IF(ROWS(BD!$1:5)>COUNTIFS(BD!$B$1:$B$138,$O$37),\"\",INDEX(BD!$F$2:$F$138,SMALL(IF(BD!$B$2:$B$138=$O$37,IF(BD!$B$2:$B$138=$O$37,ROW(BD!$B$2:$B$138)-ROW(BD!$B$2)+1),FALSE),ROWS(BD!$1:5)))))","v":"José"},{"$f":"IF($O$37=\"\",\"\",IF(ROWS(BD!$1:5)>COUNTIFS(BD!$B:$B,$O$37),\"\",INDEX(BD!$G$2:$G$138,SMALL(IF(BD!$B$2:$B$138=$O$37,IF(BD!$B$2:$B$138=$O$37,ROW(BD!$B$2:$B$138)-ROW(BD!$B$2)+1),FALSE),ROWS(BD!$1:5)))))","v":"v1"},{"$f":"IF($O$37=\"\",\"\",IF(ROWS(BD!$1:5)>COUNTIFS(BD!$B:$B,$O$37),\"\",INDEX(BD!$H$2:$H$138,SMALL(IF(BD!$B$2:$B$138=$O$37,IF(BD!$B$2:$B$138=$O$37,ROW(BD!$B$2:$B$138)-ROW(BD!$B$2)+1),FALSE),ROWS(BD!$1:5)))))","v":"Realizada"},null,{"$f":"IF($U$37=\"\",\"\",IF(ROWS(BD!$1:5)>COUNTIFS(BD!$B$1:$B$138,$U$37),\"\",INDEX(BD!$C$2:$C$138,SMALL(IF(BD!$B$2:$B$138=$U$37,IF(BD!$B$2:$B$138=$U$37,ROW(BD!$B$2:$B$138)-ROW(BD!$B$2)+1),FALSE),ROWS(BD!$1:5)))))","v":"18:40:00"},{"$f":"IF($U$37=\"\",\"\",IF(ROWS(BD!$1:5)>COUNTIFS(BD!$B$1:$B$138,$U$37),\"\",INDEX(BD!$E$2:$E$138,SMALL(IF(BD!$B$2:$B$138=$U$37,IF(BD!$B$2:$B$138=$U$37,ROW(BD!$B$2:$B$138)-ROW(BD!$B$2)+1),FALSE),ROWS(BD!$1:5)))))","v":"Gênios do Futuro"},{"$f":"IF($U$37=\"\",\"\",IF(ROWS(BD!$1:5)>COUNTIFS(BD!$B$1:$B$138,$U$37),\"\",INDEX(BD!$F$2:$F$138,SMALL(IF(BD!$B$2:$B$138=$U$37,IF(BD!$B$2:$B$138=$U$37,ROW(BD!$B$2:$B$138)-ROW(BD!$B$2)+1),FALSE),ROWS(BD!$1:5)))))","v":"Paulo"},{"$f":"IF($U$37=\"\",\"\",IF(ROWS(BD!$1:5)>COUNTIFS(BD!$B:$B,$U$37),\"\",INDEX(BD!$G$2:$G$138,SMALL(IF(BD!$B$2:$B$138=$U$37,IF(BD!$B$2:$B$138=$U$37,ROW(BD!$B$2:$B$138)-ROW(BD!$B$2)+1),FALSE),ROWS(BD!$1:5)))))","v":"v1"},{"$f":"IF($U$37=\"\",\"\",IF(ROWS(BD!$1:5)>COUNTIFS(BD!$B:$B,$U$37),\"\",INDEX(BD!$H$2:$H$138,SMALL(IF(BD!$B$2:$B$138=$U$37,IF(BD!$B$2:$B$138=$U$37,ROW(BD!$B$2:$B$138)-ROW(BD!$B$2)+1),FALSE),ROWS(BD!$1:5)))))","v":"Realizada"},null,{"$f":"IF($AA$37=\"\",\"\",IF(ROWS(BD!$1:5)>COUNTIFS(BD!$B$1:$B$138,$AA$37),\"\",INDEX(BD!$C$2:$C$138,SMALL(IF(BD!$B$2:$B$138=$AA$37,IF(BD!$B$2:$B$138=$AA$37,ROW(BD!$B$2:$B$138)-ROW(BD!$B$2)+1),FALSE),ROWS(BD!$1:5)))))","v":"16:45:00"},{"$f":"IF($AA$37=\"\",\"\",IF(ROWS(BD!$1:5)>COUNTIFS(BD!$B$1:$B$138,$AA$37),\"\",INDEX(BD!$E$2:$E$138,SMALL(IF(BD!$B$2:$B$138=$AA$37,IF(BD!$B$2:$B$138=$AA$37,ROW(BD!$B$2:$B$138)-ROW(BD!$B$2)+1),FALSE),ROWS(BD!$1:5)))))","v":"Innovatrix"},{"$f":"IF($AA$37=\"\",\"\",IF(ROWS(BD!$1:5)>COUNTIFS(BD!$B$1:$B$138,$AA$37),\"\",INDEX(BD!$F$2:$F$138,SMALL(IF(BD!$B$2:$B$138=$AA$37,IF(BD!$B$2:$B$138=$AA$37,ROW(BD!$B$2:$B$138)-ROW(BD!$B$2)+1),FALSE),ROWS(BD!$1:5)))))","v":"José"},{"$f":"IF($AA$37=\"\",\"\",IF(ROWS(BD!$1:5)>COUNTIFS(BD!$B:$B,$AA$37),\"\",INDEX(BD!$G$2:$G$138,SMALL(IF(BD!$B$2:$B$138=$AA$37,IF(BD!$B$2:$B$138=$AA$37,ROW(BD!$B$2:$B$138)-ROW(BD!$B$2)+1),FALSE),ROWS(BD!$1:5)))))","v":"v1"},{"$f":"IF($AA$37=\"\",\"\",IF(ROWS(BD!$1:5)>COUNTIFS(BD!$B:$B,$AA$37),\"\",INDEX(BD!$H$2:$H$138,SMALL(IF(BD!$B$2:$B$138=$AA$37,IF(BD!$B$2:$B$138=$AA$37,ROW(BD!$B$2:$B$138)-ROW(BD!$B$2)+1),FALSE),ROWS(BD!$1:5)))))","v":"Realizada"},null,{"$f":"IF($AG$37=\"\",\"\",IF(ROWS(BD!$1:5)>COUNTIFS(BD!$B$1:$B$138,$AG$37),\"\",INDEX(BD!$C$2:$C$138,SMALL(IF(BD!$B$2:$B$138=$AG$37,IF(BD!$B$2:$B$138=$AG$37,ROW(BD!$B$2:$B$138)-ROW(BD!$B$2)+1),FALSE),ROWS(BD!$1:5)))))","v":""},{"$f":"IF($AG$37=\"\",\"\",IF(ROWS(BD!$1:5)>COUNTIFS(BD!$B$1:$B$138,$AG$37),\"\",INDEX(BD!$E$2:$E$138,SMALL(IF(BD!$B$2:$B$138=$AG$37,IF(BD!$B$2:$B$138=$AG$37,ROW(BD!$B$2:$B$138)-ROW(BD!$B$2)+1),FALSE),ROWS(BD!$1:5)))))","v":""},{"$f":"IF($AG$37=\"\",\"\",IF(ROWS(BD!$1:5)>COUNTIFS(BD!$B$1:$B$138,$AG$37),\"\",INDEX(BD!$F$2:$F$138,SMALL(IF(BD!$B$2:$B$138=$AG$37,IF(BD!$B$2:$B$138=$AG$37,ROW(BD!$B$2:$B$138)-ROW(BD!$B$2)+1),FALSE),ROWS(BD!$1:5)))))","v":""},{"$f":"IF($AG$37=\"\",\"\",IF(ROWS(BD!$1:5)>COUNTIFS(BD!$B:$B,$AG$37),\"\",INDEX(BD!$G$2:$G$138,SMALL(IF(BD!$B$2:$B$138=$AG$37,IF(BD!$B$2:$B$138=$AG$37,ROW(BD!$B$2:$B$138)-ROW(BD!$B$2)+1),FALSE),ROWS(BD!$1:5)))))","v":""},{"$f":"IF($AG$37=\"\",\"\",IF(ROWS(BD!$1:5)>COUNTIFS(BD!$B:$B,$AG$37),\"\",INDEX(BD!$H$2:$H$138,SMALL(IF(BD!$B$2:$B$138=$AG$37,IF(BD!$B$2:$B$138=$AG$37,ROW(BD!$B$2:$B$138)-ROW(BD!$B$2)+1),FALSE),ROWS(BD!$1:5)))))","v":""},null,{"$f":"IF($AM$37=\"\",\"\",IF(ROWS(BD!$1:5)>COUNTIFS(BD!$B$1:$B$138,$AM$37),\"\",INDEX(BD!$C$2:$C$138,SMALL(IF(BD!$B$2:$B$138=$AM$37,IF(BD!$B$2:$B$138=$AM$37,ROW(BD!$B$2:$B$138)-ROW(BD!$B$2)+1),FALSE),ROWS(BD!$1:5)))))","v":""},{"$f":"IF($AM$37=\"\",\"\",IF(ROWS(BD!$1:5)>COUNTIFS(BD!$B$1:$B$138,$AM$37),\"\",INDEX(BD!$E$2:$E$138,SMALL(IF(BD!$B$2:$B$138=$AM$37,IF(BD!$B$2:$B$138=$AM$37,ROW(BD!$B$2:$B$138)-ROW(BD!$B$2)+1),FALSE),ROWS(BD!$1:5)))))","v":""},{"$f":"IF($AM$37=\"\",\"\",IF(ROWS(BD!$1:5)>COUNTIFS(BD!$B$1:$B$138,$AM$37),\"\",INDEX(BD!$F$2:$F$138,SMALL(IF(BD!$B$2:$B$138=$AM$37,IF(BD!$B$2:$B$138=$AM$37,ROW(BD!$B$2:$B$138)-ROW(BD!$B$2)+1),FALSE),ROWS(BD!$1:5)))))","v":""},{"$f":"IF($AM$37=\"\",\"\",IF(ROWS(BD!$1:5)>COUNTIFS(BD!$B:$B,$AM$37),\"\",INDEX(BD!$G$2:$G$138,SMALL(IF(BD!$B$2:$B$138=$AM$37,IF(BD!$B$2:$B$138=$AM$37,ROW(BD!$B$2:$B$138)-ROW(BD!$B$2)+1),FALSE),ROWS(BD!$1:5)))))","v":""},{"$f":"IF($AM$37=\"\",\"\",IF(ROWS(BD!$1:5)>COUNTIFS(BD!$B:$B,$AM$37),\"\",INDEX(BD!$H$2:$H$138,SMALL(IF(BD!$B$2:$B$138=$AM$37,IF(BD!$B$2:$B$138=$AM$37,ROW(BD!$B$2:$B$138)-ROW(BD!$B$2)+1),FALSE),ROWS(BD!$1:5)))))","v":""}]
[null,null,{"$f":"IF($C$37=\"\",\"\",IF(ROWS(BD!$1:6)>COUNTIFS(BD!$B$1:$B$138,$C$37),\"\",INDEX(BD!$C$2:$C$138,SMALL(IF(BD!$B$2:$B$138=$C$37,IF(BD!$B$2:$B$138=$C$37,ROW(BD!$B$2:$B$138)-ROW(BD!$B$2)+1),FALSE),ROWS(BD!$1:6)))))","v":""},{"$f":"IF($C$37=\"\",\"\",IF(ROWS(BD!$1:6)>COUNTIFS(BD!$B$1:$B$138,$C$37),\"\",INDEX(BD!$E$2:$E$138,SMALL(IF(BD!$B$2:$B$138=$C$37,IF(BD!$B$2:$B$138=$C$37,ROW(BD!$B$2:$B$138)-ROW(BD!$B$2)+1),FALSE),ROWS(BD!$1:6)))))","v":""},{"$f":"IF($C$37=\"\",\"\",IF(ROWS(BD!$1:6)>COUNTIFS(BD!$B$1:$B$138,$C$37),\"\",INDEX(BD!$F$2:$F$138,SMALL(IF(BD!$B$2:$B$138=$C$37,IF(BD!$B$2:$B$138=$C$37,ROW(BD!$B$2:$B$138)-ROW(BD!$B$2)+1),FALSE),ROWS(BD!$1:6)))))","v":""},{"$f":"IF($C$37=\"\",\"\",IF(ROWS(BD!$1:6)>COUNTIFS(BD!$B:$B,$C$37),\"\",INDEX(BD!$G$2:$G$138,SMALL(IF(BD!$B$2:$B$138=$C$37,IF(BD!$B$2:$B$138=$C$37,ROW(BD!$B$2:$B$138)-ROW(BD!$B$2)+1),FALSE),ROWS(BD!$1:6)))))","v":""},{"$f":"IF($C$37=\"\",\"\",IF(ROWS(BD!$1:6)>COUNTIFS(BD!$B:$B,$C$37),\"\",INDEX(BD!$H$2:$H$138,SMALL(IF(BD!$B$2:$B$138=$C$37,IF(BD!$B$2:$B$138=$C$37,ROW(BD!$B$2:$B$138)-ROW(BD!$B$2)+1),FALSE),ROWS(BD!$1:6)))))","v":""},null,{"$f":"IF($I$37=\"\",\"\",IF(ROWS(BD!$1:6)>COUNTIFS(BD!$B$1:$B$138,$I$37),\"\",INDEX(BD!$C$2:$C$138,SMALL(IF(BD!$B$2:$B$138=$I$37,IF(BD!$B$2:$B$138=$I$37,ROW(BD!$B$2:$B$138)-ROW(BD!$B$2)+1),FALSE),ROWS(BD!$1:6)))))","v":""},{"$f":"IF($I$37=\"\",\"\",IF(ROWS(BD!$1:6)>COUNTIFS(BD!$B$1:$B$138,$I$37),\"\",INDEX(BD!$E$2:$E$138,SMALL(IF(BD!$B$2:$B$138=$I$37,IF(BD!$B$2:$B$138=$I$37,ROW(BD!$B$2:$B$138)-ROW(BD!$B$2)+1),FALSE),ROWS(BD!$1:6)))))","v":""},{"$f":"IF($I$37=\"\",\"\",IF(ROWS(BD!$1:6)>COUNTIFS(BD!$B$1:$B$138,$I$37),\"\",INDEX(BD!$F$2:$F$138,SMALL(IF(BD!$B$2:$B$138=$I$37,IF(BD!$B$2:$B$138=$I$37,ROW(BD!$B$2:$B$138)-ROW(BD!$B$2)+1),FALSE),ROWS(BD!$1:6)))))","v":""},{"$f":"IF($I$37=\"\",\"\",IF(ROWS(BD!$1:6)>COUNTIFS(BD!$B:$B,$I$37),\"\",INDEX(BD!$G$2:$G$138,SMALL(IF(BD!$B$2:$B$138=$I$37,IF(BD!$B$2:$B$138=$I$37,ROW(BD!$B$2:$B$138)-ROW(BD!$B$2)+1),FALSE),ROWS(BD!$1:6)))))","v":""},{"$f":"IF($I$37=\"\",\"\",IF(ROWS(BD!$1:6)>COUNTIFS(BD!$B:$B,$I$37),\"\",INDEX(BD!$H$2:$H$138,SMALL(IF(BD!$B$2:$B$138=$I$37,IF(BD!$B$2:$B$138=$I$37,ROW(BD!$B$2:$B$138)-ROW(BD!$B$2)+1),FALSE),ROWS(BD!$1:6)))))","v":""},null,{"$f":"IF($O$37=\"\",\"\",IF(ROWS(BD!$1:6)>COUNTIFS(BD!$B$1:$B$138,$O$37),\"\",INDEX(BD!$C$2:$C$138,SMALL(IF(BD!$B$2:$B$138=$O$37,IF(BD!$B$2:$B$138=$O$37,ROW(BD!$B$2:$B$138)-ROW(BD!$B$2)+1),FALSE),ROWS(BD!$1:6)))))","v":"22:05:00"},{"$f":"IF($O$37=\"\",\"\",IF(ROWS(BD!$1:6)>COUNTIFS(BD!$B$1:$B$138,$O$37),\"\",INDEX(BD!$E$2:$E$138,SMALL(IF(BD!$B$2:$B$138=$O$37,IF(BD!$B$2:$B$138=$O$37,ROW(BD!$B$2:$B$138)-ROW(BD!$B$2)+1),FALSE),ROWS(BD!$1:6)))))","v":"MetaGenix"},{"$f":"IF($O$37=\"\",\"\",IF(ROWS(BD!$1:6)>COUNTIFS(BD!$B$1:$B$138,$O$37),\"\",INDEX(BD!$F$2:$F$138,SMALL(IF(BD!$B$2:$B$138=$O$37,IF(BD!$B$2:$B$138=$O$37,ROW(BD!$B$2:$B$138)-ROW(BD!$B$2)+1),FALSE),ROWS(BD!$1:6)))))","v":"Paulo"},{"$f":"IF($O$37=\"\",\"\",IF(ROWS(BD!$1:6)>COUNTIFS(BD!$B:$B,$O$37),\"\",INDEX(BD!$G$2:$G$138,SMALL(IF(BD!$B$2:$B$138=$O$37,IF(BD!$B$2:$B$138=$O$37,ROW(BD!$B$2:$B$138)-ROW(BD!$B$2)+1),FALSE),ROWS(BD!$1:6)))))","v":"v1"},{"$f":"IF($O$37=\"\",\"\",IF(ROWS(BD!$1:6)>COUNTIFS(BD!$B:$B,$O$37),\"\",INDEX(BD!$H$2:$H$138,SMALL(IF(BD!$B$2:$B$138=$O$37,IF(BD!$B$2:$B$138=$O$37,ROW(BD!$B$2:$B$138)-ROW(BD!$B$2)+1),FALSE),ROWS(BD!$1:6)))))","v":"Realizada"},null,{"$f":"IF($U$37=\"\",\"\",IF(ROWS(BD!$1:6)>COUNTIFS(BD!$B$1:$B$138,$U$37),\"\",INDEX(BD!$C$2:$C$138,SMALL(IF(BD!$B$2:$B$138=$U$37,IF(BD!$B$2:$B$138=$U$37,ROW(BD!$B$2:$B$138)-ROW(BD!$B$2)+1),FALSE),ROWS(BD!$1:6)))))","v":"20:50:00"},{"$f":"IF($U$37=\"\",\"\",IF(ROWS(BD!$1:6)>COUNTIFS(BD!$B$1:$B$138,$U$37),\"\",INDEX(BD!$E$2:$E$138,SMALL(IF(BD!$B$2:$B$138=$U$37,IF(BD!$B$2:$B$138=$U$37,ROW(BD!$B$2:$B$138)-ROW(BD!$B$2)+1),FALSE),ROWS(BD!$1:6)))))","v":"Inspiração Tech"},{"$f":"IF($U$37=\"\",\"\",IF(ROWS(BD!$1:6)>COUNTIFS(BD!$B$1:$B$138,$U$37),\"\",INDEX(BD!$F$2:$F$138,SMALL(IF(BD!$B$2:$B$138=$U$37,IF(BD!$B$2:$B$138=$U$37,ROW(BD!$B$2:$B$138)-ROW(BD!$B$2)+1),FALSE),ROWS(BD!$1:6)))))","v":"Pedro"},{"$f":"IF($U$37=\"\",\"\",IF(ROWS(BD!$1:6)>COUNTIFS(BD!$B:$B,$U$37),\"\",INDEX(BD!$G$2:$G$138,SMALL(IF(BD!$B$2:$B$138=$U$37,IF(BD!$B$2:$B$138=$U$37,ROW(BD!$B$2:$B$138)-ROW(BD!$B$2)+1),FALSE),ROWS(BD!$1:6)))))","v":"v1"},{"$f":"IF($U$37=\"\",\"\",IF(ROWS(BD!$1:6)>COUNTIFS(BD!$B:$B,$U$37),\"\",INDEX(BD!$H$2:$H$138,SMALL(IF(BD!$B$2:$B$138=$U$37,IF(BD!$B$2:$B$138=$U$37,ROW(BD!$B$2:$B$138)-ROW(BD!$B$2)+1),FALSE),ROWS(BD!$1:6)))))","v":"Realizada"},null,{"$f":"IF($AA$37=\"\",\"\",IF(ROWS(BD!$1:6)>COUNTIFS(BD!$B$1:$B$138,$AA$37),\"\",INDEX(BD!$C$2:$C$138,SMALL(IF(BD!$B$2:$B$138=$AA$37,IF(BD!$B$2:$B$138=$AA$37,ROW(BD!$B$2:$B$138)-ROW(BD!$B$2)+1),FALSE),ROWS(BD!$1:6)))))","v":"22:30:00"},{"$f":"IF($AA$37=\"\",\"\",IF(ROWS(BD!$1:6)>COUNTIFS(BD!$B$1:$B$138,$AA$37),\"\",INDEX(BD!$E$2:$E$138,SMALL(IF(BD!$B$2:$B$138=$AA$37,IF(BD!$B$2:$B$138=$AA$37,ROW(BD!$B$2:$B$138)-ROW(BD!$B$2)+1),FALSE),ROWS(BD!$1:6)))))","v":"Ideia Genial"},{"$f":"IF($AA$37=\"\",\"\",IF(ROWS(BD!$1:6)>COUNTIFS(BD!$B$1:$B$138,$AA$37),\"\",INDEX(BD!$F$2:$F$138,SMALL(IF(BD!$B$2:$B$138=$AA$37,IF(BD!$B$2:$B$138=$AA$37,ROW(BD!$B$2:$B$138)-ROW(BD!$B$2)+1),FALSE),ROWS(BD!$1:6)))))","v":"Paulo"},{"$f":"IF($AA$37=\"\",\"\",IF(ROWS(BD!$1:6)>COUNTIFS(BD!$B:$B,$AA$37),\"\",INDEX(BD!$G$2:$G$138,SMALL(IF(BD!$B$2:$B$138=$AA$37,IF(BD!$B$2:$B$138=$AA$37,ROW(BD!$B$2:$B$138)-ROW(BD!$B$2)+1),FALSE),ROWS(BD!$1:6)))))","v":"v1"},{"$f":"IF($AA$37=\"\",\"\",IF(ROWS(BD!$1:6)>COUNTIFS(BD!$B:$B,$AA$37),\"\",INDEX(BD!$H$2:$H$138,SMALL(IF(BD!$B$2:$B$138=$AA$37,IF(BD!$B$2:$B$138=$AA$37,ROW(BD!$B$2:$B$138)-ROW(BD!$B$2)+1),FALSE),ROWS(BD!$1:6)))))","v":"Realizada"},null,{"$f":"IF($AG$37=\"\",\"\",IF(ROWS(BD!$1:6)>COUNTIFS(BD!$B$1:$B$138,$AG$37),\"\",INDEX(BD!$C$2:$C$138,SMALL(IF(BD!$B$2:$B$138=$AG$37,IF(BD!$B$2:$B$138=$AG$37,ROW(BD!$B$2:$B$138)-ROW(BD!$B$2)+1),FALSE),ROWS(BD!$1:6)))))","v":""},{"$f":"IF($AG$37=\"\",\"\",IF(ROWS(BD!$1:6)>COUNTIFS(BD!$B$1:$B$138,$AG$37),\"\",INDEX(BD!$E$2:$E$138,SMALL(IF(BD!$B$2:$B$138=$AG$37,IF(BD!$B$2:$B$138=$AG$37,ROW(BD!$B$2:$B$138)-ROW(BD!$B$2)+1),FALSE),ROWS(BD!$1:6)))))","v":""},{"$f":"IF($AG$37=\"\",\"\",IF(ROWS(BD!$1:6)>COUNTIFS(BD!$B$1:$B$138,$AG$37),\"\",INDEX(BD!$F$2:$F$138,SMALL(IF(BD!$B$2:$B$138=$AG$37,IF(BD!$B$2:$B$138=$AG$37,ROW(BD!$B$2:$B$138)-ROW(BD!$B$2)+1),FALSE),ROWS(BD!$1:6)))))","v":""},{"$f":"IF($AG$37=\"\",\"\",IF(ROWS(BD!$1:6)>COUNTIFS(BD!$B:$B,$AG$37),\"\",INDEX(BD!$G$2:$G$138,SMALL(IF(BD!$B$2:$B$138=$AG$37,IF(BD!$B$2:$B$138=$AG$37,ROW(BD!$B$2:$B$138)-ROW(BD!$B$2)+1),FALSE),ROWS(BD!$1:6)))))","v":""},{"$f":"IF($AG$37=\"\",\"\",IF(ROWS(BD!$1:6)>COUNTIFS(BD!$B:$B,$AG$37),\"\",INDEX(BD!$H$2:$H$138,SMALL(IF(BD!$B$2:$B$138=$AG$37,IF(BD!$B$2:$B$138=$AG$37,ROW(BD!$B$2:$B$138)-ROW(BD!$B$2)+1),FALSE),ROWS(BD!$1:6)))))","v":""},null,{"$f":"IF($AM$37=\"\",\"\",IF(ROWS(BD!$1:6)>COUNTIFS(BD!$B$1:$B$138,$AM$37),\"\",INDEX(BD!$C$2:$C$138,SMALL(IF(BD!$B$2:$B$138=$AM$37,IF(BD!$B$2:$B$138=$AM$37,ROW(BD!$B$2:$B$138)-ROW(BD!$B$2)+1),FALSE),ROWS(BD!$1:6)))))","v":""},{"$f":"IF($AM$37=\"\",\"\",IF(ROWS(BD!$1:6)>COUNTIFS(BD!$B$1:$B$138,$AM$37),\"\",INDEX(BD!$E$2:$E$138,SMALL(IF(BD!$B$2:$B$138=$AM$37,IF(BD!$B$2:$B$138=$AM$37,ROW(BD!$B$2:$B$138)-ROW(BD!$B$2)+1),FALSE),ROWS(BD!$1:6)))))","v":""},{"$f":"IF($AM$37=\"\",\"\",IF(ROWS(BD!$1:6)>COUNTIFS(BD!$B$1:$B$138,$AM$37),\"\",INDEX(BD!$F$2:$F$138,SMALL(IF(BD!$B$2:$B$138=$AM$37,IF(BD!$B$2:$B$138=$AM$37,ROW(BD!$B$2:$B$138)-ROW(BD!$B$2)+1),FALSE),ROWS(BD!$1:6)))))","v":""},{"$f":"IF($AM$37=\"\",\"\",IF(ROWS(BD!$1:6)>COUNTIFS(BD!$B:$B,$AM$37),\"\",INDEX(BD!$G$2:$G$138,SMALL(IF(BD!$B$2:$B$138=$AM$37,IF(BD!$B$2:$B$138=$AM$37,ROW(BD!$B$2:$B$138)-ROW(BD!$B$2)+1),FALSE),ROWS(BD!$1:6)))))","v":""},{"$f":"IF($AM$37=\"\",\"\",IF(ROWS(BD!$1:6)>COUNTIFS(BD!$B:$B,$AM$37),\"\",INDEX(BD!$H$2:$H$138,SMALL(IF(BD!$B$2:$B$138=$AM$37,IF(BD!$B$2:$B$138=$AM$37,ROW(BD!$B$2:$B$138)-ROW(BD!$B$2)+1),FALSE),ROWS(BD!$1:6)))))","v":""}]
[null,null,{"$f":"IF($C$37=\"\",\"\",IF(ROWS(BD!$1:7)>COUNTIFS(BD!$B$1:$B$138,$C$37),\"\",INDEX(BD!$C$2:$C$138,SMALL(IF(BD!$B$2:$B$138=$C$37,IF(BD!$B$2:$B$138=$C$37,ROW(BD!$B$2:$B$138)-ROW(BD!$B$2)+1),FALSE),ROWS(BD!$1:7)))))","v":""},{"$f":"IF($C$37=\"\",\"\",IF(ROWS(BD!$1:7)>COUNTIFS(BD!$B$1:$B$138,$C$37),\"\",INDEX(BD!$E$2:$E$138,SMALL(IF(BD!$B$2:$B$138=$C$37,IF(BD!$B$2:$B$138=$C$37,ROW(BD!$B$2:$B$138)-ROW(BD!$B$2)+1),FALSE),ROWS(BD!$1:7)))))","v":""},{"$f":"IF($C$37=\"\",\"\",IF(ROWS(BD!$1:7)>COUNTIFS(BD!$B$1:$B$138,$C$37),\"\",INDEX(BD!$F$2:$F$138,SMALL(IF(BD!$B$2:$B$138=$C$37,IF(BD!$B$2:$B$138=$C$37,ROW(BD!$B$2:$B$138)-ROW(BD!$B$2)+1),FALSE),ROWS(BD!$1:7)))))","v":""},{"$f":"IF($C$37=\"\",\"\",IF(ROWS(BD!$1:7)>COUNTIFS(BD!$B:$B,$C$37),\"\",INDEX(BD!$G$2:$G$138,SMALL(IF(BD!$B$2:$B$138=$C$37,IF(BD!$B$2:$B$138=$C$37,ROW(BD!$B$2:$B$138)-ROW(BD!$B$2)+1),FALSE),ROWS(BD!$1:7)))))","v":""},{"$f":"IF($C$37=\"\",\"\",IF(ROWS(BD!$1:7)>COUNTIFS(BD!$B:$B,$C$37),\"\",INDEX(BD!$H$2:$H$138,SMALL(IF(BD!$B$2:$B$138=$C$37,IF(BD!$B$2:$B$138=$C$37,ROW(BD!$B$2:$B$138)-ROW(BD!$B$2)+1),FALSE),ROWS(BD!$1:7)))))","v":""},null,{"$f":"IF($I$37=\"\",\"\",IF(ROWS(BD!$1:7)>COUNTIFS(BD!$B$1:$B$138,$I$37),\"\",INDEX(BD!$C$2:$C$138,SMALL(IF(BD!$B$2:$B$138=$I$37,IF(BD!$B$2:$B$138=$I$37,ROW(BD!$B$2:$B$138)-ROW(BD!$B$2)+1),FALSE),ROWS(BD!$1:7)))))","v":""},{"$f":"IF($I$37=\"\",\"\",IF(ROWS(BD!$1:7)>COUNTIFS(BD!$B$1:$B$138,$I$37),\"\",INDEX(BD!$E$2:$E$138,SMALL(IF(BD!$B$2:$B$138=$I$37,IF(BD!$B$2:$B$138=$I$37,ROW(BD!$B$2:$B$138)-ROW(BD!$B$2)+1),FALSE),ROWS(BD!$1:7)))))","v":""},{"$f":"IF($I$37=\"\",\"\",IF(ROWS(BD!$1:7)>COUNTIFS(BD!$B$1:$B$138,$I$37),\"\",INDEX(BD!$F$2:$F$138,SMALL(IF(BD!$B$2:$B$138=$I$37,IF(BD!$B$2:$B$138=$I$37,ROW(BD!$B$2:$B$138)-ROW(BD!$B$2)+1),FALSE),ROWS(BD!$1:7)))))","v":""},{"$f":"IF($I$37=\"\",\"\",IF(ROWS(BD!$1:7)>COUNTIFS(BD!$B:$B,$I$37),\"\",INDEX(BD!$G$2:$G$138,SMALL(IF(BD!$B$2:$B$138=$I$37,IF(BD!$B$2:$B$138=$I$37,ROW(BD!$B$2:$B$138)-ROW(BD!$B$2)+1),FALSE),ROWS(BD!$1:7)))))","v":""},{"$f":"IF($I$37=\"\",\"\",IF(ROWS(BD!$1:7)>COUNTIFS(BD!$B:$B,$I$37),\"\",INDEX(BD!$H$2:$H$138,SMALL(IF(BD!$B$2:$B$138=$I$37,IF(BD!$B$2:$B$138=$I$37,ROW(BD!$B$2:$B$138)-ROW(BD!$B$2)+1),FALSE),ROWS(BD!$1:7)))))","v":""},null,{"$f":"IF($O$37=\"\",\"\",IF(ROWS(BD!$1:7)>COUNTIFS(BD!$B$1:$B$138,$O$37),\"\",INDEX(BD!$C$2:$C$138,SMALL(IF(BD!$B$2:$B$138=$O$37,IF(BD!$B$2:$B$138=$O$37,ROW(BD!$B$2:$B$138)-ROW(BD!$B$2)+1),FALSE),ROWS(BD!$1:7)))))","v":"22:30:00"},{"$f":"IF($O$37=\"\",\"\",IF(ROWS(BD!$1:7)>COUNTIFS(BD!$B$1:$B$138,$O$37),\"\",INDEX(BD!$E$2:$E$138,SMALL(IF(BD!$B$2:$B$138=$O$37,IF(BD!$B$2:$B$138=$O$37,ROW(BD!$B$2:$B$138)-ROW(BD!$B$2)+1),FALSE),ROWS(BD!$1:7)))))","v":"Ideas Unlimited"},{"$f":"IF($O$37=\"\",\"\",IF(ROWS(BD!$1:7)>COUNTIFS(BD!$B$1:$B$138,$O$37),\"\",INDEX(BD!$F$2:$F$138,SMALL(IF(BD!$B$2:$B$138=$O$37,IF(BD!$B$2:$B$138=$O$37,ROW(BD!$B$2:$B$138)-ROW(BD!$B$2)+1),FALSE),ROWS(BD!$1:7)))))","v":"Pedro"},{"$f":"IF($O$37=\"\",\"\",IF(ROWS(BD!$1:7)>COUNTIFS(BD!$B:$B,$O$37),\"\",INDEX(BD!$G$2:$G$138,SMALL(IF(BD!$B$2:$B$138=$O$37,IF(BD!$B$2:$B$138=$O$37,ROW(BD!$B$2:$B$138)-ROW(BD!$B$2)+1),FALSE),ROWS(BD!$1:7)))))","v":"v1"},{"$f":"IF($O$37=\"\",\"\",IF(ROWS(BD!$1:7)>COUNTIFS(BD!$B:$B,$O$37),\"\",INDEX(BD!$H$2:$H$138,SMALL(IF(BD!$B$2:$B$138=$O$37,IF(BD!$B$2:$B$138=$O$37,ROW(BD!$B$2:$B$138)-ROW(BD!$B$2)+1),FALSE),ROWS(BD!$1:7)))))","v":"Realizada"},null,{"$f":"IF($U$37=\"\",\"\",IF(ROWS(BD!$1:7)>COUNTIFS(BD!$B$1:$B$138,$U$37),\"\",INDEX(BD!$C$2:$C$138,SMALL(IF(BD!$B$2:$B$138=$U$37,IF(BD!$B$2:$B$138=$U$37,ROW(BD!$B$2:$B$138)-ROW(BD!$B$2)+1),FALSE),ROWS(BD!$1:7)))))","v":""},{"$f":"IF($U$37=\"\",\"\",IF(ROWS(BD!$1:7)>COUNTIFS(BD!$B$1:$B$138,$U$37),\"\",INDEX(BD!$E$2:$E$138,SMALL(IF(BD!$B$2:$B$138=$U$37,IF(BD!$B$2:$B$138=$U$37,ROW(BD!$B$2:$B$138)-ROW(BD!$B$2)+1),FALSE),ROWS(BD!$1:7)))))","v":""},{"$f":"IF($U$37=\"\",\"\",IF(ROWS(BD!$1:7)>COUNTIFS(BD!$B$1:$B$138,$U$37),\"\",INDEX(BD!$F$2:$F$138,SMALL(IF(BD!$B$2:$B$138=$U$37,IF(BD!$B$2:$B$138=$U$37,ROW(BD!$B$2:$B$138)-ROW(BD!$B$2)+1),FALSE),ROWS(BD!$1:7)))))","v":""},{"$f":"IF($U$37=\"\",\"\",IF(ROWS(BD!$1:7)>COUNTIFS(BD!$B:$B,$U$37),\"\",INDEX(BD!$G$2:$G$138,SMALL(IF(BD!$B$2:$B$138=$U$37,IF(BD!$B$2:$B$138=$U$37,ROW(BD!$B$2:$B$138)-ROW(BD!$B$2)+1),FALSE),ROWS(BD!$1:7)))))","v":""},{"$f":"IF($U$37=\"\",\"\",IF(ROWS(BD!$1:7)>COUNTIFS(BD!$B:$B,$U$37),\"\",INDEX(BD!$H$2:$H$138,SMALL(IF(BD!$B$2:$B$138=$U$37,IF(BD!$B$2:$B$138=$U$37,ROW(BD!$B$2:$B$138)-ROW(BD!$B$2)+1),FALSE),ROWS(BD!$1:7)))))","v":""},null,{"$f":"IF($AA$37=\"\",\"\",IF(ROWS(BD!$1:7)>COUNTIFS(BD!$B$1:$B$138,$AA$37),\"\",INDEX(BD!$C$2:$C$138,SMALL(IF(BD!$B$2:$B$138=$AA$37,IF(BD!$B$2:$B$138=$AA$37,ROW(BD!$B$2:$B$138)-ROW(BD!$B$2)+1),FALSE),ROWS(BD!$1:7)))))","v":"23:00:00"},{"$f":"IF($AA$37=\"\",\"\",IF(ROWS(BD!$1:7)>COUNTIFS(BD!$B$1:$B$138,$AA$37),\"\",INDEX(BD!$E$2:$E$138,SMALL(IF(BD!$B$2:$B$138=$AA$37,IF(BD!$B$2:$B$138=$AA$37,ROW(BD!$B$2:$B$138)-ROW(BD!$B$2)+1),FALSE),ROWS(BD!$1:7)))))","v":"EnerTech"},{"$f":"IF($AA$37=\"\",\"\",IF(ROWS(BD!$1:7)>COUNTIFS(BD!$B$1:$B$138,$AA$37),\"\",INDEX(BD!$F$2:$F$138,SMALL(IF(BD!$B$2:$B$138=$AA$37,IF(BD!$B$2:$B$138=$AA$37,ROW(BD!$B$2:$B$138)-ROW(BD!$B$2)+1),FALSE),ROWS(BD!$1:7)))))","v":"Pedro"},{"$f":"IF($AA$37=\"\",\"\",IF(ROWS(BD!$1:7)>COUNTIFS(BD!$B:$B,$AA$37),\"\",INDEX(BD!$G$2:$G$138,SMALL(IF(BD!$B$2:$B$138=$AA$37,IF(BD!$B$2:$B$138=$AA$37,ROW(BD!$B$2:$B$138)-ROW(BD!$B$2)+1),FALSE),ROWS(BD!$1:7)))))","v":"v1"},{"$f":"IF($AA$37=\"\",\"\",IF(ROWS(BD!$1:7)>COUNTIFS(BD!$B:$B,$AA$37),\"\",INDEX(BD!$H$2:$H$138,SMALL(IF(BD!$B$2:$B$138=$AA$37,IF(BD!$B$2:$B$138=$AA$37,ROW(BD!$B$2:$B$138)-ROW(BD!$B$2)+1),FALSE),ROWS(BD!$1:7)))))","v":"Realizada"},null,{"$f":"IF($AG$37=\"\",\"\",IF(ROWS(BD!$1:7)>COUNTIFS(BD!$B$1:$B$138,$AG$37),\"\",INDEX(BD!$C$2:$C$138,SMALL(IF(BD!$B$2:$B$138=$AG$37,IF(BD!$B$2:$B$138=$AG$37,ROW(BD!$B$2:$B$138)-ROW(BD!$B$2)+1),FALSE),ROWS(BD!$1:7)))))","v":""},{"$f":"IF($AG$37=\"\",\"\",IF(ROWS(BD!$1:7)>COUNTIFS(BD!$B$1:$B$138,$AG$37),\"\",INDEX(BD!$E$2:$E$138,SMALL(IF(BD!$B$2:$B$138=$AG$37,IF(BD!$B$2:$B$138=$AG$37,ROW(BD!$B$2:$B$138)-ROW(BD!$B$2)+1),FALSE),ROWS(BD!$1:7)))))","v":""},{"$f":"IF($AG$37=\"\",\"\",IF(ROWS(BD!$1:7)>COUNTIFS(BD!$B$1:$B$138,$AG$37),\"\",INDEX(BD!$F$2:$F$138,SMALL(IF(BD!$B$2:$B$138=$AG$37,IF(BD!$B$2:$B$138=$AG$37,ROW(BD!$B$2:$B$138)-ROW(BD!$B$2)+1),FALSE),ROWS(BD!$1:7)))))","v":""},{"$f":"IF($AG$37=\"\",\"\",IF(ROWS(BD!$1:7)>COUNTIFS(BD!$B:$B,$AG$37),\"\",INDEX(BD!$G$2:$G$138,SMALL(IF(BD!$B$2:$B$138=$AG$37,IF(BD!$B$2:$B$138=$AG$37,ROW(BD!$B$2:$B$138)-ROW(BD!$B$2)+1),FALSE),ROWS(BD!$1:7)))))","v":""},{"$f":"IF($AG$37=\"\",\"\",IF(ROWS(BD!$1:7)>COUNTIFS(BD!$B:$B,$AG$37),\"\",INDEX(BD!$H$2:$H$138,SMALL(IF(BD!$B$2:$B$138=$AG$37,IF(BD!$B$2:$B$138=$AG$37,ROW(BD!$B$2:$B$138)-ROW(BD!$B$2)+1),FALSE),ROWS(BD!$1:7)))))","v":""},null,{"$f":"IF($AM$37=\"\",\"\",IF(ROWS(BD!$1:7)>COUNTIFS(BD!$B$1:$B$138,$AM$37),\"\",INDEX(BD!$C$2:$C$138,SMALL(IF(BD!$B$2:$B$138=$AM$37,IF(BD!$B$2:$B$138=$AM$37,ROW(BD!$B$2:$B$138)-ROW(BD!$B$2)+1),FALSE),ROWS(BD!$1:7)))))","v":""},{"$f":"IF($AM$37=\"\",\"\",IF(ROWS(BD!$1:7)>COUNTIFS(BD!$B$1:$B$138,$AM$37),\"\",INDEX(BD!$E$2:$E$138,SMALL(IF(BD!$B$2:$B$138=$AM$37,IF(BD!$B$2:$B$138=$AM$37,ROW(BD!$B$2:$B$138)-ROW(BD!$B$2)+1),FALSE),ROWS(BD!$1:7)))))","v":""},{"$f":"IF($AM$37=\"\",\"\",IF(ROWS(BD!$1:7)>COUNTIFS(BD!$B$1:$B$138,$AM$37),\"\",INDEX(BD!$F$2:$F$138,SMALL(IF(BD!$B$2:$B$138=$AM$37,IF(BD!$B$2:$B$138=$AM$37,ROW(BD!$B$2:$B$138)-ROW(BD!$B$2)+1),FALSE),ROWS(BD!$1:7)))))","v":""},{"$f":"IF($AM$37=\"\",\"\",IF(ROWS(BD!$1:7)>COUNTIFS(BD!$B:$B,$AM$37),\"\",INDEX(BD!$G$2:$G$138,SMALL(IF(BD!$B$2:$B$138=$AM$37,IF(BD!$B$2:$B$138=$AM$37,ROW(BD!$B$2:$B$138)-ROW(BD!$B$2)+1),FALSE),ROWS(BD!$1:7)))))","v":""},{"$f":"IF($AM$37=\"\",\"\",IF(ROWS(BD!$1:7)>COUNTIFS(BD!$B:$B,$AM$37),\"\",INDEX(BD!$H$2:$H$138,SMALL(IF(BD!$B$2:$B$138=$AM$37,IF(BD!$B$2:$B$138=$AM$37,ROW(BD!$B$2:$B$138)-ROW(BD!$B$2)+1),FALSE),ROWS(BD!$1:7)))))","v":""}]
[null,null,{"$f":"IF($C$37=\"\",\"\",IF(ROWS(BD!$1:8)>COUNTIFS(BD!$B$1:$B$138,$C$37),\"\",INDEX(BD!$C$2:$C$138,SMALL(IF(BD!$B$2:$B$138=$C$37,IF(BD!$B$2:$B$138=$C$37,ROW(BD!$B$2:$B$138)-ROW(BD!$B$2)+1),FALSE),ROWS(BD!$1:8)))))","v":""},{"$f":"IF($C$37=\"\",\"\",IF(ROWS(BD!$1:8)>COUNTIFS(BD!$B$1:$B$138,$C$37),\"\",INDEX(BD!$E$2:$E$138,SMALL(IF(BD!$B$2:$B$138=$C$37,IF(BD!$B$2:$B$138=$C$37,ROW(BD!$B$2:$B$138)-ROW(BD!$B$2)+1),FALSE),ROWS(BD!$1:8)))))","v":""},{"$f":"IF($C$37=\"\",\"\",IF(ROWS(BD!$1:8)>COUNTIFS(BD!$B$1:$B$138,$C$37),\"\",INDEX(BD!$F$2:$F$138,SMALL(IF(BD!$B$2:$B$138=$C$37,IF(BD!$B$2:$B$138=$C$37,ROW(BD!$B$2:$B$138)-ROW(BD!$B$2)+1),FALSE),ROWS(BD!$1:8)))))","v":""},{"$f":"IF($C$37=\"\",\"\",IF(ROWS(BD!$1:8)>COUNTIFS(BD!$B:$B,$C$37),\"\",INDEX(BD!$G$2:$G$138,SMALL(IF(BD!$B$2:$B$138=$C$37,IF(BD!$B$2:$B$138=$C$37,ROW(BD!$B$2:$B$138)-ROW(BD!$B$2)+1),FALSE),ROWS(BD!$1:8)))))","v":""},{"$f":"IF($C$37=\"\",\"\",IF(ROWS(BD!$1:8)>COUNTIFS(BD!$B:$B,$C$37),\"\",INDEX(BD!$H$2:$H$138,SMALL(IF(BD!$B$2:$B$138=$C$37,IF(BD!$B$2:$B$138=$C$37,ROW(BD!$B$2:$B$138)-ROW(BD!$B$2)+1),FALSE),ROWS(BD!$1:8)))))","v":""},null,{"$f":"IF($I$37=\"\",\"\",IF(ROWS(BD!$1:8)>COUNTIFS(BD!$B$1:$B$138,$I$37),\"\",INDEX(BD!$C$2:$C$138,SMALL(IF(BD!$B$2:$B$138=$I$37,IF(BD!$B$2:$B$138=$I$37,ROW(BD!$B$2:$B$138)-ROW(BD!$B$2)+1),FALSE),ROWS(BD!$1:8)))))","v":""},{"$f":"IF($I$37=\"\",\"\",IF(ROWS(BD!$1:8)>COUNTIFS(BD!$B$1:$B$138,$I$37),\"\",INDEX(BD!$E$2:$E$138,SMALL(IF(BD!$B$2:$B$138=$I$37,IF(BD!$B$2:$B$138=$I$37,ROW(BD!$B$2:$B$138)-ROW(BD!$B$2)+1),FALSE),ROWS(BD!$1:8)))))","v":""},{"$f":"IF($I$37=\"\",\"\",IF(ROWS(BD!$1:8)>COUNTIFS(BD!$B$1:$B$138,$I$37),\"\",INDEX(BD!$F$2:$F$138,SMALL(IF(BD!$B$2:$B$138=$I$37,IF(BD!$B$2:$B$138=$I$37,ROW(BD!$B$2:$B$138)-ROW(BD!$B$2)+1),FALSE),ROWS(BD!$1:8)))))","v":""},{"$f":"IF($I$37=\"\",\"\",IF(ROWS(BD!$1:8)>COUNTIFS(BD!$B:$B,$I$37),\"\",INDEX(BD!$G$2:$G$138,SMALL(IF(BD!$B$2:$B$138=$I$37,IF(BD!$B$2:$B$138=$I$37,ROW(BD!$B$2:$B$138)-ROW(BD!$B$2)+1),FALSE),ROWS(BD!$1:8)))))","v":""},{"$f":"IF($I$37=\"\",\"\",IF(ROWS(BD!$1:8)>COUNTIFS(BD!$B:$B,$I$37),\"\",INDEX(BD!$H$2:$H$138,SMALL(IF(BD!$B$2:$B$138=$I$37,IF(BD!$B$2:$B$138=$I$37,ROW(BD!$B$2:$B$138)-ROW(BD!$B$2)+1),FALSE),ROWS(BD!$1:8)))))","v":""},null,{"$f":"IF($O$37=\"\",\"\",IF(ROWS(BD!$1:8)>COUNTIFS(BD!$B$1:$B$138,$O$37),\"\",INDEX(BD!$C$2:$C$138,SMALL(IF(BD!$B$2:$B$138=$O$37,IF(BD!$B$2:$B$138=$O$37,ROW(BD!$B$2:$B$138)-ROW(BD!$B$2)+1),FALSE),ROWS(BD!$1:8)))))","v":"23:00:00"},{"$f":"IF($O$37=\"\",\"\",IF(ROWS(BD!$1:8)>COUNTIFS(BD!$B$1:$B$138,$O$37),\"\",INDEX(BD!$E$2:$E$138,SMALL(IF(BD!$B$2:$B$138=$O$37,IF(BD!$B$2:$B$138=$O$37,ROW(BD!$B$2:$B$138)-ROW(BD!$B$2)+1),FALSE),ROWS(BD!$1:8)))))","v":"Prime Spark"},{"$f":"IF($O$37=\"\",\"\",IF(ROWS(BD!$1:8)>COUNTIFS(BD!$B$1:$B$138,$O$37),\"\",INDEX(BD!$F$2:$F$138,SMALL(IF(BD!$B$2:$B$138=$O$37,IF(BD!$B$2:$B$138=$O$37,ROW(BD!$B$2:$B$138)-ROW(BD!$B$2)+1),FALSE),ROWS(BD!$1:8)))))","v":"Augusto"},{"$f":"IF($O$37=\"\",\"\",IF(ROWS(BD!$1:8)>COUNTIFS(BD!$B:$B,$O$37),\"\",INDEX(BD!$G$2:$G$138,SMALL(IF(BD!$B$2:$B$138=$O$37,IF(BD!$B$2:$B$138=$O$37,ROW(BD!$B$2:$B$138)-ROW(BD!$B$2)+1),FALSE),ROWS(BD!$1:8)))))","v":"v1"},{"$f":"IF($O$37=\"\",\"\",IF(ROWS(BD!$1:8)>COUNTIFS(BD!$B:$B,$O$37),\"\",INDEX(BD!$H$2:$H$138,SMALL(IF(BD!$B$2:$B$138=$O$37,IF(BD!$B$2:$B$138=$O$37,ROW(BD!$B$2:$B$138)-ROW(BD!$B$2)+1),FALSE),ROWS(BD!$1:8)))))","v":"Realizada"},null,{"$f":"IF($U$37=\"\",\"\",IF(ROWS(BD!$1:8)>COUNTIFS(BD!$B$1:$B$138,$U$37),\"\",INDEX(BD!$C$2:$C$138,SMALL(IF(BD!$B$2:$B$138=$U$37,IF(BD!$B$2:$B$138=$U$37,ROW(BD!$B$2:$B$138)-ROW(BD!$B$2)+1),FALSE),ROWS(BD!$1:8)))))","v":""},{"$f":"IF($U$37=\"\",\"\",IF(ROWS(BD!$1:8)>COUNTIFS(BD!$B$1:$B$138,$U$37),\"\",INDEX(BD!$E$2:$E$138,SMALL(IF(BD!$B$2:$B$138=$U$37,IF(BD!$B$2:$B$138=$U$37,ROW(BD!$B$2:$B$138)-ROW(BD!$B$2)+1),FALSE),ROWS(BD!$1:8)))))","v":""},{"$f":"IF($U$37=\"\",\"\",IF(ROWS(BD!$1:8)>COUNTIFS(BD!$B$1:$B$138,$U$37),\"\",INDEX(BD!$F$2:$F$138,SMALL(IF(BD!$B$2:$B$138=$U$37,IF(BD!$B$2:$B$138=$U$37,ROW(BD!$B$2:$B$138)-ROW(BD!$B$2)+1),FALSE),ROWS(BD!$1:8)))))","v":""},{"$f":"IF($U$37=\"\",\"\",IF(ROWS(BD!$1:8)>COUNTIFS(BD!$B:$B,$U$37),\"\",INDEX(BD!$G$2:$G$138,SMALL(IF(BD!$B$2:$B$138=$U$37,IF(BD!$B$2:$B$138=$U$37,ROW(BD!$B$2:$B$138)-ROW(BD!$B$2)+1),FALSE),ROWS(BD!$1:8)))))","v":""},{"$f":"IF($U$37=\"\",\"\",IF(ROWS(BD!$1:8)>COUNTIFS(BD!$B:$B,$U$37),\"\",INDEX(BD!$H$2:$H$138,SMALL(IF(BD!$B$2:$B$138=$U$37,IF(BD!$B$2:$B$138=$U$37,ROW(BD!$B$2:$B$138)-ROW(BD!$B$2)+1),FALSE),ROWS(BD!$1:8)))))","v":""},null,{"$f":"IF($AA$37=\"\",\"\",IF(ROWS(BD!$1:8)>COUNTIFS(BD!$B$1:$B$138,$AA$37),\"\",INDEX(BD!$C$2:$C$138,SMALL(IF(BD!$B$2:$B$138=$AA$37,IF(BD!$B$2:$B$138=$AA$37,ROW(BD!$B$2:$B$138)-ROW(BD!$B$2)+1),FALSE),ROWS(BD!$1:8)))))","v":"23:25:00"},{"$f":"IF($AA$37=\"\",\"\",IF(ROWS(BD!$1:8)>COUNTIFS(BD!$B$1:$B$138,$AA$37),\"\",INDEX(BD!$E$2:$E$138,SMALL(IF(BD!$B$2:$B$138=$AA$37,IF(BD!$B$2:$B$138=$AA$37,ROW(BD!$B$2:$B$138)-ROW(BD!$B$2)+1),FALSE),ROWS(BD!$1:8)))))","v":"Vanguardia"},{"$f":"IF($AA$37=\"\",\"\",IF(ROWS(BD!$1:8)>COUNTIFS(BD!$B$1:$B$138,$AA$37),\"\",INDEX(BD!$F$2:$F$138,SMALL(IF(BD!$B$2:$B$138=$AA$37,IF(BD!$B$2:$B$138=$AA$37,ROW(BD!$B$2:$B$138)-ROW(BD!$B$2)+1),FALSE),ROWS(BD!$1:8)))))","v":"Augusto"},{"$f":"IF($AA$37=\"\",\"\",IF(ROWS(BD!$1:8)>COUNTIFS(BD!$B:$B,$AA$37),\"\",INDEX(BD!$G$2:$G$138,SMALL(IF(BD!$B$2:$B$138=$AA$37,IF(BD!$B$2:$B$138=$AA$37,ROW(BD!$B$2:$B$138)-ROW(BD!$B$2)+1),FALSE),ROWS(BD!$1:8)))))","v":"v1"},{"$f":"IF($AA$37=\"\",\"\",IF(ROWS(BD!$1:8)>COUNTIFS(BD!$B:$B,$AA$37),\"\",INDEX(BD!$H$2:$H$138,SMALL(IF(BD!$B$2:$B$138=$AA$37,IF(BD!$B$2:$B$138=$AA$37,ROW(BD!$B$2:$B$138)-ROW(BD!$B$2)+1),FALSE),ROWS(BD!$1:8)))))","v":"Realizada"},null,{"$f":"IF($AG$37=\"\",\"\",IF(ROWS(BD!$1:8)>COUNTIFS(BD!$B$1:$B$138,$AG$37),\"\",INDEX(BD!$C$2:$C$138,SMALL(IF(BD!$B$2:$B$138=$AG$37,IF(BD!$B$2:$B$138=$AG$37,ROW(BD!$B$2:$B$138)-ROW(BD!$B$2)+1),FALSE),ROWS(BD!$1:8)))))","v":""},{"$f":"IF($AG$37=\"\",\"\",IF(ROWS(BD!$1:8)>COUNTIFS(BD!$B$1:$B$138,$AG$37),\"\",INDEX(BD!$E$2:$E$138,SMALL(IF(BD!$B$2:$B$138=$AG$37,IF(BD!$B$2:$B$138=$AG$37,ROW(BD!$B$2:$B$138)-ROW(BD!$B$2)+1),FALSE),ROWS(BD!$1:8)))))","v":""},{"$f":"IF($AG$37=\"\",\"\",IF(ROWS(BD!$1:8)>COUNTIFS(BD!$B$1:$B$138,$AG$37),\"\",INDEX(BD!$F$2:$F$138,SMALL(IF(BD!$B$2:$B$138=$AG$37,IF(BD!$B$2:$B$138=$AG$37,ROW(BD!$B$2:$B$138)-ROW(BD!$B$2)+1),FALSE),ROWS(BD!$1:8)))))","v":""},{"$f":"IF($AG$37=\"\",\"\",IF(ROWS(BD!$1:8)>COUNTIFS(BD!$B:$B,$AG$37),\"\",INDEX(BD!$G$2:$G$138,SMALL(IF(BD!$B$2:$B$138=$AG$37,IF(BD!$B$2:$B$138=$AG$37,ROW(BD!$B$2:$B$138)-ROW(BD!$B$2)+1),FALSE),ROWS(BD!$1:8)))))","v":""},{"$f":"IF($AG$37=\"\",\"\",IF(ROWS(BD!$1:8)>COUNTIFS(BD!$B:$B,$AG$37),\"\",INDEX(BD!$H$2:$H$138,SMALL(IF(BD!$B$2:$B$138=$AG$37,IF(BD!$B$2:$B$138=$AG$37,ROW(BD!$B$2:$B$138)-ROW(BD!$B$2)+1),FALSE),ROWS(BD!$1:8)))))","v":""},null,{"$f":"IF($AM$37=\"\",\"\",IF(ROWS(BD!$1:8)>COUNTIFS(BD!$B$1:$B$138,$AM$37),\"\",INDEX(BD!$C$2:$C$138,SMALL(IF(BD!$B$2:$B$138=$AM$37,IF(BD!$B$2:$B$138=$AM$37,ROW(BD!$B$2:$B$138)-ROW(BD!$B$2)+1),FALSE),ROWS(BD!$1:8)))))","v":""},{"$f":"IF($AM$37=\"\",\"\",IF(ROWS(BD!$1:8)>COUNTIFS(BD!$B$1:$B$138,$AM$37),\"\",INDEX(BD!$E$2:$E$138,SMALL(IF(BD!$B$2:$B$138=$AM$37,IF(BD!$B$2:$B$138=$AM$37,ROW(BD!$B$2:$B$138)-ROW(BD!$B$2)+1),FALSE),ROWS(BD!$1:8)))))","v":""},{"$f":"IF($AM$37=\"\",\"\",IF(ROWS(BD!$1:8)>COUNTIFS(BD!$B$1:$B$138,$AM$37),\"\",INDEX(BD!$F$2:$F$138,SMALL(IF(BD!$B$2:$B$138=$AM$37,IF(BD!$B$2:$B$138=$AM$37,ROW(BD!$B$2:$B$138)-ROW(BD!$B$2)+1),FALSE),ROWS(BD!$1:8)))))","v":""},{"$f":"IF($AM$37=\"\",\"\",IF(ROWS(BD!$1:8)>COUNTIFS(BD!$B:$B,$AM$37),\"\",INDEX(BD!$G$2:$G$138,SMALL(IF(BD!$B$2:$B$138=$AM$37,IF(BD!$B$2:$B$138=$AM$37,ROW(BD!$B$2:$B$138)-ROW(BD!$B$2)+1),FALSE),ROWS(BD!$1:8)))))","v":""},{"$f":"IF($AM$37=\"\",\"\",IF(ROWS(BD!$1:8)>COUNTIFS(BD!$B:$B,$AM$37),\"\",INDEX(BD!$H$2:$H$138,SMALL(IF(BD!$B$2:$B$138=$AM$37,IF(BD!$B$2:$B$138=$AM$37,ROW(BD!$B$2:$B$138)-ROW(BD!$B$2)+1),FALSE),ROWS(BD!$1:8)))))","v":""}]
[null,null,{"$f":"IF($C$37=\"\",\"\",IF(ROWS(BD!$1:9)>COUNTIFS(BD!$B$1:$B$138,$C$37),\"\",INDEX(BD!$C$2:$C$138,SMALL(IF(BD!$B$2:$B$138=$C$37,IF(BD!$B$2:$B$138=$C$37,ROW(BD!$B$2:$B$138)-ROW(BD!$B$2)+1),FALSE),ROWS(BD!$1:9)))))","v":""},{"$f":"IF($C$37=\"\",\"\",IF(ROWS(BD!$1:9)>COUNTIFS(BD!$B$1:$B$138,$C$37),\"\",INDEX(BD!$E$2:$E$138,SMALL(IF(BD!$B$2:$B$138=$C$37,IF(BD!$B$2:$B$138=$C$37,ROW(BD!$B$2:$B$138)-ROW(BD!$B$2)+1),FALSE),ROWS(BD!$1:9)))))","v":""},{"$f":"IF($C$37=\"\",\"\",IF(ROWS(BD!$1:9)>COUNTIFS(BD!$B$1:$B$138,$C$37),\"\",INDEX(BD!$F$2:$F$138,SMALL(IF(BD!$B$2:$B$138=$C$37,IF(BD!$B$2:$B$138=$C$37,ROW(BD!$B$2:$B$138)-ROW(BD!$B$2)+1),FALSE),ROWS(BD!$1:9)))))","v":""},{"$f":"IF($C$37=\"\",\"\",IF(ROWS(BD!$1:9)>COUNTIFS(BD!$B:$B,$C$37),\"\",INDEX(BD!$G$2:$G$138,SMALL(IF(BD!$B$2:$B$138=$C$37,IF(BD!$B$2:$B$138=$C$37,ROW(BD!$B$2:$B$138)-ROW(BD!$B$2)+1),FALSE),ROWS(BD!$1:9)))))","v":""},{"$f":"IF($C$37=\"\",\"\",IF(ROWS(BD!$1:9)>COUNTIFS(BD!$B:$B,$C$37),\"\",INDEX(BD!$H$2:$H$138,SMALL(IF(BD!$B$2:$B$138=$C$37,IF(BD!$B$2:$B$138=$C$37,ROW(BD!$B$2:$B$138)-ROW(BD!$B$2)+1),FALSE),ROWS(BD!$1:9)))))","v":""},null,{"$f":"IF($I$37=\"\",\"\",IF(ROWS(BD!$1:9)>COUNTIFS(BD!$B$1:$B$138,$I$37),\"\",INDEX(BD!$C$2:$C$138,SMALL(IF(BD!$B$2:$B$138=$I$37,IF(BD!$B$2:$B$138=$I$37,ROW(BD!$B$2:$B$138)-ROW(BD!$B$2)+1),FALSE),ROWS(BD!$1:9)))))","v":""},{"$f":"IF($I$37=\"\",\"\",IF(ROWS(BD!$1:9)>COUNTIFS(BD!$B$1:$B$138,$I$37),\"\",INDEX(BD!$E$2:$E$138,SMALL(IF(BD!$B$2:$B$138=$I$37,IF(BD!$B$2:$B$138=$I$37,ROW(BD!$B$2:$B$138)-ROW(BD!$B$2)+1),FALSE),ROWS(BD!$1:9)))))","v":""},{"$f":"IF($I$37=\"\",\"\",IF(ROWS(BD!$1:9)>COUNTIFS(BD!$B$1:$B$138,$I$37),\"\",INDEX(BD!$F$2:$F$138,SMALL(IF(BD!$B$2:$B$138=$I$37,IF(BD!$B$2:$B$138=$I$37,ROW(BD!$B$2:$B$138)-ROW(BD!$B$2)+1),FALSE),ROWS(BD!$1:9)))))","v":""},{"$f":"IF($I$37=\"\",\"\",IF(ROWS(BD!$1:9)>COUNTIFS(BD!$B:$B,$I$37),\"\",INDEX(BD!$G$2:$G$138,SMALL(IF(BD!$B$2:$B$138=$I$37,IF(BD!$B$2:$B$138=$I$37,ROW(BD!$B$2:$B$138)-ROW(BD!$B$2)+1),FALSE),ROWS(BD!$1:9)))))","v":""},{"$f":"IF($I$37=\"\",\"\",IF(ROWS(BD!$1:9)>COUNTIFS(BD!$B:$B,$I$37),\"\",INDEX(BD!$H$2:$H$138,SMALL(IF(BD!$B$2:$B$138=$I$37,IF(BD!$B$2:$B$138=$I$37,ROW(BD!$B$2:$B$138)-ROW(BD!$B$2)+1),FALSE),ROWS(BD!$1:9)))))","v":""},null,{"$f":"IF($O$37=\"\",\"\",IF(ROWS(BD!$1:9)>COUNTIFS(BD!$B$1:$B$138,$O$37),\"\",INDEX(BD!$C$2:$C$138,SMALL(IF(BD!$B$2:$B$138=$O$37,IF(BD!$B$2:$B$138=$O$37,ROW(BD!$B$2:$B$138)-ROW(BD!$B$2)+1),FALSE),ROWS(BD!$1:9)))))","v":""},{"$f":"IF($O$37=\"\",\"\",IF(ROWS(BD!$1:9)>COUNTIFS(BD!$B$1:$B$138,$O$37),\"\",INDEX(BD!$E$2:$E$138,SMALL(IF(BD!$B$2:$B$138=$O$37,IF(BD!$B$2:$B$138=$O$37,ROW(BD!$B$2:$B$138)-ROW(BD!$B$2)+1),FALSE),ROWS(BD!$1:9)))))","v":""},{"$f":"IF($O$37=\"\",\"\",IF(ROWS(BD!$1:9)>COUNTIFS(BD!$B$1:$B$138,$O$37),\"\",INDEX(BD!$F$2:$F$138,SMALL(IF(BD!$B$2:$B$138=$O$37,IF(BD!$B$2:$B$138=$O$37,ROW(BD!$B$2:$B$138)-ROW(BD!$B$2)+1),FALSE),ROWS(BD!$1:9)))))","v":""},{"$f":"IF($O$37=\"\",\"\",IF(ROWS(BD!$1:9)>COUNTIFS(BD!$B:$B,$O$37),\"\",INDEX(BD!$G$2:$G$138,SMALL(IF(BD!$B$2:$B$138=$O$37,IF(BD!$B$2:$B$138=$O$37,ROW(BD!$B$2:$B$138)-ROW(BD!$B$2)+1),FALSE),ROWS(BD!$1:9)))))","v":""},{"$f":"IF($O$37=\"\",\"\",IF(ROWS(BD!$1:9)>COUNTIFS(BD!$B:$B,$O$37),\"\",INDEX(BD!$H$2:$H$138,SMALL(IF(BD!$B$2:$B$138=$O$37,IF(BD!$B$2:$B$138=$O$37,ROW(BD!$B$2:$B$138)-ROW(BD!$B$2)+1),FALSE),ROWS(BD!$1:9)))))","v":""},null,{"$f":"IF($U$37=\"\",\"\",IF(ROWS(BD!$1:9)>COUNTIFS(BD!$B$1:$B$138,$U$37),\"\",INDEX(BD!$C$2:$C$138,SMALL(IF(BD!$B$2:$B$138=$U$37,IF(BD!$B$2:$B$138=$U$37,ROW(BD!$B$2:$B$138)-ROW(BD!$B$2)+1),FALSE),ROWS(BD!$1:9)))))","v":""},{"$f":"IF($U$37=\"\",\"\",IF(ROWS(BD!$1:9)>COUNTIFS(BD!$B$1:$B$138,$U$37),\"\",INDEX(BD!$E$2:$E$138,SMALL(IF(BD!$B$2:$B$138=$U$37,IF(BD!$B$2:$B$138=$U$37,ROW(BD!$B$2:$B$138)-ROW(BD!$B$2)+1),FALSE),ROWS(BD!$1:9)))))","v":""},{"$f":"IF($U$37=\"\",\"\",IF(ROWS(BD!$1:9)>COUNTIFS(BD!$B$1:$B$138,$U$37),\"\",INDEX(BD!$F$2:$F$138,SMALL(IF(BD!$B$2:$B$138=$U$37,IF(BD!$B$2:$B$138=$U$37,ROW(BD!$B$2:$B$138)-ROW(BD!$B$2)+1),FALSE),ROWS(BD!$1:9)))))","v":""},{"$f":"IF($U$37=\"\",\"\",IF(ROWS(BD!$1:9)>COUNTIFS(BD!$B:$B,$U$37),\"\",INDEX(BD!$G$2:$G$138,SMALL(IF(BD!$B$2:$B$138=$U$37,IF(BD!$B$2:$B$138=$U$37,ROW(BD!$B$2:$B$138)-ROW(BD!$B$2)+1),FALSE),ROWS(BD!$1:9)))))","v":""},{"$f":"IF($U$37=\"\",\"\",IF(ROWS(BD!$1:9)>COUNTIFS(BD!$B:$B,$U$37),\"\",INDEX(BD!$H$2:$H$138,SMALL(IF(BD!$B$2:$B$138=$U$37,IF(BD!$B$2:$B$138=$U$37,ROW(BD!$B$2:$B$138)-ROW(BD!$B$2)+1),FALSE),ROWS(BD!$1:9)))))","v":""},null,{"$f":"IF($AA$37=\"\",\"\",IF(ROWS(BD!$1:9)>COUNTIFS(BD!$B$1:$B$138,$AA$37),\"\",INDEX(BD!$C$2:$C$138,SMALL(IF(BD!$B$2:$B$138=$AA$37,IF(BD!$B$2:$B$138=$AA$37,ROW(BD!$B$2:$B$138)-ROW(BD!$B$2)+1),FALSE),ROWS(BD!$1:9)))))","v":""},{"$f":"IF($AA$37=\"\",\"\",IF(ROWS(BD!$1:9)>COUNTIFS(BD!$B$1:$B$138,$AA$37),\"\",INDEX(BD!$E$2:$E$138,SMALL(IF(BD!$B$2:$B$138=$AA$37,IF(BD!$B$2:$B$138=$AA$37,ROW(BD!$B$2:$B$138)-ROW(BD!$B$2)+1),FALSE),ROWS(BD!$1:9)))))","v":""},{"$f":"IF($AA$37=\"\",\"\",IF(ROWS(BD!$1:9)>COUNTIFS(BD!$B$1:$B$138,$AA$37),\"\",INDEX(BD!$F$2:$F$138,SMALL(IF(BD!$B$2:$B$138=$AA$37,IF(BD!$B$2:$B$138=$AA$37,ROW(BD!$B$2:$B$138)-ROW(BD!$B$2)+1),FALSE),ROWS(BD!$1:9)))))","v":""},{"$f":"IF($AA$37=\"\",\"\",IF(ROWS(BD!$1:9)>COUNTIFS(BD!$B:$B,$AA$37),\"\",INDEX(BD!$G$2:$G$138,SMALL(IF(BD!$B$2:$B$138=$AA$37,IF(BD!$B$2:$B$138=$AA$37,ROW(BD!$B$2:$B$138)-ROW(BD!$B$2)+1),FALSE),ROWS(BD!$1:9)))))","v":""},{"$f":"IF($AA$37=\"\",\"\",IF(ROWS(BD!$1:9)>COUNTIFS(BD!$B:$B,$AA$37),\"\",INDEX(BD!$H$2:$H$138,SMALL(IF(BD!$B$2:$B$138=$AA$37,IF(BD!$B$2:$B$138=$AA$37,ROW(BD!$B$2:$B$138)-ROW(BD!$B$2)+1),FALSE),ROWS(BD!$1:9)))))","v":""},null,{"$f":"IF($AG$37=\"\",\"\",IF(ROWS(BD!$1:9)>COUNTIFS(BD!$B$1:$B$138,$AG$37),\"\",INDEX(BD!$C$2:$C$138,SMALL(IF(BD!$B$2:$B$138=$AG$37,IF(BD!$B$2:$B$138=$AG$37,ROW(BD!$B$2:$B$138)-ROW(BD!$B$2)+1),FALSE),ROWS(BD!$1:9)))))","v":""},{"$f":"IF($AG$37=\"\",\"\",IF(ROWS(BD!$1:9)>COUNTIFS(BD!$B$1:$B$138,$AG$37),\"\",INDEX(BD!$E$2:$E$138,SMALL(IF(BD!$B$2:$B$138=$AG$37,IF(BD!$B$2:$B$138=$AG$37,ROW(BD!$B$2:$B$138)-ROW(BD!$B$2)+1),FALSE),ROWS(BD!$1:9)))))","v":""},{"$f":"IF($AG$37=\"\",\"\",IF(ROWS(BD!$1:9)>COUNTIFS(BD!$B$1:$B$138,$AG$37),\"\",INDEX(BD!$F$2:$F$138,SMALL(IF(BD!$B$2:$B$138=$AG$37,IF(BD!$B$2:$B$138=$AG$37,ROW(BD!$B$2:$B$138)-ROW(BD!$B$2)+1),FALSE),ROWS(BD!$1:9)))))","v":""},{"$f":"IF($AG$37=\"\",\"\",IF(ROWS(BD!$1:9)>COUNTIFS(BD!$B:$B,$AG$37),\"\",INDEX(BD!$G$2:$G$138,SMALL(IF(BD!$B$2:$B$138=$AG$37,IF(BD!$B$2:$B$138=$AG$37,ROW(BD!$B$2:$B$138)-ROW(BD!$B$2)+1),FALSE),ROWS(BD!$1:9)))))","v":""},{"$f":"IF($AG$37=\"\",\"\",IF(ROWS(BD!$1:9)>COUNTIFS(BD!$B:$B,$AG$37),\"\",INDEX(BD!$H$2:$H$138,SMALL(IF(BD!$B$2:$B$138=$AG$37,IF(BD!$B$2:$B$138=$AG$37,ROW(BD!$B$2:$B$138)-ROW(BD!$B$2)+1),FALSE),ROWS(BD!$1:9)))))","v":""},null,{"$f":"IF($AM$37=\"\",\"\",IF(ROWS(BD!$1:9)>COUNTIFS(BD!$B$1:$B$138,$AM$37),\"\",INDEX(BD!$C$2:$C$138,SMALL(IF(BD!$B$2:$B$138=$AM$37,IF(BD!$B$2:$B$138=$AM$37,ROW(BD!$B$2:$B$138)-ROW(BD!$B$2)+1),FALSE),ROWS(BD!$1:9)))))","v":""},{"$f":"IF($AM$37=\"\",\"\",IF(ROWS(BD!$1:9)>COUNTIFS(BD!$B$1:$B$138,$AM$37),\"\",INDEX(BD!$E$2:$E$138,SMALL(IF(BD!$B$2:$B$138=$AM$37,IF(BD!$B$2:$B$138=$AM$37,ROW(BD!$B$2:$B$138)-ROW(BD!$B$2)+1),FALSE),ROWS(BD!$1:9)))))","v":""},{"$f":"IF($AM$37=\"\",\"\",IF(ROWS(BD!$1:9)>COUNTIFS(BD!$B$1:$B$138,$AM$37),\"\",INDEX(BD!$F$2:$F$138,SMALL(IF(BD!$B$2:$B$138=$AM$37,IF(BD!$B$2:$B$138=$AM$37,ROW(BD!$B$2:$B$138)-ROW(BD!$B$2)+1),FALSE),ROWS(BD!$1:9)))))","v":""},{"$f":"IF($AM$37=\"\",\"\",IF(ROWS(BD!$1:9)>COUNTIFS(BD!$B:$B,$AM$37),\"\",INDEX(BD!$G$2:$G$138,SMALL(IF(BD!$B$2:$B$138=$AM$37,IF(BD!$B$2:$B$138=$AM$37,ROW(BD!$B$2:$B$138)-ROW(BD!$B$2)+1),FALSE),ROWS(BD!$1:9)))))","v":""},{"$f":"IF($AM$37=\"\",\"\",IF(ROWS(BD!$1:9)>COUNTIFS(BD!$B:$B,$AM$37),\"\",INDEX(BD!$H$2:$H$138,SMALL(IF(BD!$B$2:$B$138=$AM$37,IF(BD!$B$2:$B$138=$AM$37,ROW(BD!$B$2:$B$138)-ROW(BD!$B$2)+1),FALSE),ROWS(BD!$1:9)))))","v":""}]
[null,null,{"$f":"IF($C$37=\"\",\"\",IF(ROWS(BD!$1:10)>COUNTIFS(BD!$B$1:$B$138,$C$37),\"\",INDEX(BD!$C$2:$C$138,SMALL(IF(BD!$B$2:$B$138=$C$37,IF(BD!$B$2:$B$138=$C$37,ROW(BD!$B$2:$B$138)-ROW(BD!$B$2)+1),FALSE),ROWS(BD!$1:10)))))","v":""},{"$f":"IF($C$37=\"\",\"\",IF(ROWS(BD!$1:10)>COUNTIFS(BD!$B$1:$B$138,$C$37),\"\",INDEX(BD!$E$2:$E$138,SMALL(IF(BD!$B$2:$B$138=$C$37,IF(BD!$B$2:$B$138=$C$37,ROW(BD!$B$2:$B$138)-ROW(BD!$B$2)+1),FALSE),ROWS(BD!$1:10)))))","v":""},{"$f":"IF($C$37=\"\",\"\",IF(ROWS(BD!$1:10)>COUNTIFS(BD!$B$1:$B$138,$C$37),\"\",INDEX(BD!$F$2:$F$138,SMALL(IF(BD!$B$2:$B$138=$C$37,IF(BD!$B$2:$B$138=$C$37,ROW(BD!$B$2:$B$138)-ROW(BD!$B$2)+1),FALSE),ROWS(BD!$1:10)))))","v":""},{"$f":"IF($C$37=\"\",\"\",IF(ROWS(BD!$1:10)>COUNTIFS(BD!$B:$B,$C$37),\"\",INDEX(BD!$G$2:$G$138,SMALL(IF(BD!$B$2:$B$138=$C$37,IF(BD!$B$2:$B$138=$C$37,ROW(BD!$B$2:$B$138)-ROW(BD!$B$2)+1),FALSE),ROWS(BD!$1:10)))))","v":""},{"$f":"IF($C$37=\"\",\"\",IF(ROWS(BD!$1:10)>COUNTIFS(BD!$B:$B,$C$37),\"\",INDEX(BD!$H$2:$H$138,SMALL(IF(BD!$B$2:$B$138=$C$37,IF(BD!$B$2:$B$138=$C$37,ROW(BD!$B$2:$B$138)-ROW(BD!$B$2)+1),FALSE),ROWS(BD!$1:10)))))","v":""},null,{"$f":"IF($I$37=\"\",\"\",IF(ROWS(BD!$1:10)>COUNTIFS(BD!$B$1:$B$138,$I$37),\"\",INDEX(BD!$C$2:$C$138,SMALL(IF(BD!$B$2:$B$138=$I$37,IF(BD!$B$2:$B$138=$I$37,ROW(BD!$B$2:$B$138)-ROW(BD!$B$2)+1),FALSE),ROWS(BD!$1:10)))))","v":""},{"$f":"IF($I$37=\"\",\"\",IF(ROWS(BD!$1:10)>COUNTIFS(BD!$B$1:$B$138,$I$37),\"\",INDEX(BD!$E$2:$E$138,SMALL(IF(BD!$B$2:$B$138=$I$37,IF(BD!$B$2:$B$138=$I$37,ROW(BD!$B$2:$B$138)-ROW(BD!$B$2)+1),FALSE),ROWS(BD!$1:10)))))","v":""},{"$f":"IF($I$37=\"\",\"\",IF(ROWS(BD!$1:10)>COUNTIFS(BD!$B$1:$B$138,$I$37),\"\",INDEX(BD!$F$2:$F$138,SMALL(IF(BD!$B$2:$B$138=$I$37,IF(BD!$B$2:$B$138=$I$37,ROW(BD!$B$2:$B$138)-ROW(BD!$B$2)+1),FALSE),ROWS(BD!$1:10)))))","v":""},{"$f":"IF($I$37=\"\",\"\",IF(ROWS(BD!$1:10)>COUNTIFS(BD!$B:$B,$I$37),\"\",INDEX(BD!$G$2:$G$138,SMALL(IF(BD!$B$2:$B$138=$I$37,IF(BD!$B$2:$B$138=$I$37,ROW(BD!$B$2:$B$138)-ROW(BD!$B$2)+1),FALSE),ROWS(BD!$1:10)))))","v":""},{"$f":"IF($I$37=\"\",\"\",IF(ROWS(BD!$1:10)>COUNTIFS(BD!$B:$B,$I$37),\"\",INDEX(BD!$H$2:$H$138,SMALL(IF(BD!$B$2:$B$138=$I$37,IF(BD!$B$2:$B$138=$I$37,ROW(BD!$B$2:$B$138)-ROW(BD!$B$2)+1),FALSE),ROWS(BD!$1:10)))))","v":""},null,{"$f":"IF($O$37=\"\",\"\",IF(ROWS(BD!$1:10)>COUNTIFS(BD!$B$1:$B$138,$O$37),\"\",INDEX(BD!$C$2:$C$138,SMALL(IF(BD!$B$2:$B$138=$O$37,IF(BD!$B$2:$B$138=$O$37,ROW(BD!$B$2:$B$138)-ROW(BD!$B$2)+1),FALSE),ROWS(BD!$1:10)))))","v":""},{"$f":"IF($O$37=\"\",\"\",IF(ROWS(BD!$1:10)>COUNTIFS(BD!$B$1:$B$138,$O$37),\"\",INDEX(BD!$E$2:$E$138,SMALL(IF(BD!$B$2:$B$138=$O$37,IF(BD!$B$2:$B$138=$O$37,ROW(BD!$B$2:$B$138)-ROW(BD!$B$2)+1),FALSE),ROWS(BD!$1:10)))))","v":""},{"$f":"IF($O$37=\"\",\"\",IF(ROWS(BD!$1:10)>COUNTIFS(BD!$B$1:$B$138,$O$37),\"\",INDEX(BD!$F$2:$F$138,SMALL(IF(BD!$B$2:$B$138=$O$37,IF(BD!$B$2:$B$138=$O$37,ROW(BD!$B$2:$B$138)-ROW(BD!$B$2)+1),FALSE),ROWS(BD!$1:10)))))","v":""},{"$f":"IF($O$37=\"\",\"\",IF(ROWS(BD!$1:10)>COUNTIFS(BD!$B:$B,$O$37),\"\",INDEX(BD!$G$2:$G$138,SMALL(IF(BD!$B$2:$B$138=$O$37,IF(BD!$B$2:$B$138=$O$37,ROW(BD!$B$2:$B$138)-ROW(BD!$B$2)+1),FALSE),ROWS(BD!$1:10)))))","v":""},{"$f":"IF($O$37=\"\",\"\",IF(ROWS(BD!$1:10)>COUNTIFS(BD!$B:$B,$O$37),\"\",INDEX(BD!$H$2:$H$138,SMALL(IF(BD!$B$2:$B$138=$O$37,IF(BD!$B$2:$B$138=$O$37,ROW(BD!$B$2:$B$138)-ROW(BD!$B$2)+1),FALSE),ROWS(BD!$1:10)))))","v":""},null,{"$f":"IF($U$37=\"\",\"\",IF(ROWS(BD!$1:10)>COUNTIFS(BD!$B$1:$B$138,$U$37),\"\",INDEX(BD!$C$2:$C$138,SMALL(IF(BD!$B$2:$B$138=$U$37,IF(BD!$B$2:$B$138=$U$37,ROW(BD!$B$2:$B$138)-ROW(BD!$B$2)+1),FALSE),ROWS(BD!$1:10)))))","v":""},{"$f":"IF($U$37=\"\",\"\",IF(ROWS(BD!$1:10)>COUNTIFS(BD!$B$1:$B$138,$U$37),\"\",INDEX(BD!$E$2:$E$138,SMALL(IF(BD!$B$2:$B$138=$U$37,IF(BD!$B$2:$B$138=$U$37,ROW(BD!$B$2:$B$138)-ROW(BD!$B$2)+1),FALSE),ROWS(BD!$1:10)))))","v":""},{"$f":"IF($U$37=\"\",\"\",IF(ROWS(BD!$1:10)>COUNTIFS(BD!$B$1:$B$138,$U$37),\"\",INDEX(BD!$F$2:$F$138,SMALL(IF(BD!$B$2:$B$138=$U$37,IF(BD!$B$2:$B$138=$U$37,ROW(BD!$B$2:$B$138)-ROW(BD!$B$2)+1),FALSE),ROWS(BD!$1:10)))))","v":""},{"$f":"IF($U$37=\"\",\"\",IF(ROWS(BD!$1:10)>COUNTIFS(BD!$B:$B,$U$37),\"\",INDEX(BD!$G$2:$G$138,SMALL(IF(BD!$B$2:$B$138=$U$37,IF(BD!$B$2:$B$138=$U$37,ROW(BD!$B$2:$B$138)-ROW(BD!$B$2)+1),FALSE),ROWS(BD!$1:10)))))","v":""},{"$f":"IF($U$37=\"\",\"\",IF(ROWS(BD!$1:10)>COUNTIFS(BD!$B:$B,$U$37),\"\",INDEX(BD!$H$2:$H$138,SMALL(IF(BD!$B$2:$B$138=$U$37,IF(BD!$B$2:$B$138=$U$37,ROW(BD!$B$2:$B$138)-ROW(BD!$B$2)+1),FALSE),ROWS(BD!$1:10)))))","v":""},null,{"$f":"IF($AA$37=\"\",\"\",IF(ROWS(BD!$1:10)>COUNTIFS(BD!$B$1:$B$138,$AA$37),\"\",INDEX(BD!$C$2:$C$138,SMALL(IF(BD!$B$2:$B$138=$AA$37,IF(BD!$B$2:$B$138=$AA$37,ROW(BD!$B$2:$B$138)-ROW(BD!$B$2)+1),FALSE),ROWS(BD!$1:10)))))","v":""},{"$f":"IF($AA$37=\"\",\"\",IF(ROWS(BD!$1:10)>COUNTIFS(BD!$B$1:$B$138,$AA$37),\"\",INDEX(BD!$E$2:$E$138,SMALL(IF(BD!$B$2:$B$138=$AA$37,IF(BD!$B$2:$B$138=$AA$37,ROW(BD!$B$2:$B$138)-ROW(BD!$B$2)+1),FALSE),ROWS(BD!$1:10)))))","v":""},{"$f":"IF($AA$37=\"\",\"\",IF(ROWS(BD!$1:10)>COUNTIFS(BD!$B$1:$B$138,$AA$37),\"\",INDEX(BD!$F$2:$F$138,SMALL(IF(BD!$B$2:$B$138=$AA$37,IF(BD!$B$2:$B$138=$AA$37,ROW(BD!$B$2:$B$138)-ROW(BD!$B$2)+1),FALSE),ROWS(BD!$1:10)))))","v":""},{"$f":"IF($AA$37=\"\",\"\",IF(ROWS(BD!$1:10)>COUNTIFS(BD!$B:$B,$AA$37),\"\",INDEX(BD!$G$2:$G$138,SMALL(IF(BD!$B$2:$B$138=$AA$37,IF(BD!$B$2:$B$138=$AA$37,ROW(BD!$B$2:$B$138)-ROW(BD!$B$2)+1),FALSE),ROWS(BD!$1:10)))))","v":""},{"$f":"IF($AA$37=\"\",\"\",IF(ROWS(BD!$1:10)>COUNTIFS(BD!$B:$B,$AA$37),\"\",INDEX(BD!$H$2:$H$138,SMALL(IF(BD!$B$2:$B$138=$AA$37,IF(BD!$B$2:$B$138=$AA$37,ROW(BD!$B$2:$B$138)-ROW(BD!$B$2)+1),FALSE),ROWS(BD!$1:10)))))","v":""},null,{"$f":"IF($AG$37=\"\",\"\",IF(ROWS(BD!$1:10)>COUNTIFS(BD!$B$1:$B$138,$AG$37),\"\",INDEX(BD!$C$2:$C$138,SMALL(IF(BD!$B$2:$B$138=$AG$37,IF(BD!$B$2:$B$138=$AG$37,ROW(BD!$B$2:$B$138)-ROW(BD!$B$2)+1),FALSE),ROWS(BD!$1:10)))))","v":""},{"$f":"IF($AG$37=\"\",\"\",IF(ROWS(BD!$1:10)>COUNTIFS(BD!$B$1:$B$138,$AG$37),\"\",INDEX(BD!$E$2:$E$138,SMALL(IF(BD!$B$2:$B$138=$AG$37,IF(BD!$B$2:$B$138=$AG$37,ROW(BD!$B$2:$B$138)-ROW(BD!$B$2)+1),FALSE),ROWS(BD!$1:10)))))","v":""},{"$f":"IF($AG$37=\"\",\"\",IF(ROWS(BD!$1:10)>COUNTIFS(BD!$B$1:$B$138,$AG$37),\"\",INDEX(BD!$F$2:$F$138,SMALL(IF(BD!$B$2:$B$138=$AG$37,IF(BD!$B$2:$B$138=$AG$37,ROW(BD!$B$2:$B$138)-ROW(BD!$B$2)+1),FALSE),ROWS(BD!$1:10)))))","v":""},{"$f":"IF($AG$37=\"\",\"\",IF(ROWS(BD!$1:10)>COUNTIFS(BD!$B:$B,$AG$37),\"\",INDEX(BD!$G$2:$G$138,SMALL(IF(BD!$B$2:$B$138=$AG$37,IF(BD!$B$2:$B$138=$AG$37,ROW(BD!$B$2:$B$138)-ROW(BD!$B$2)+1),FALSE),ROWS(BD!$1:10)))))","v":""},{"$f":"IF($AG$37=\"\",\"\",IF(ROWS(BD!$1:10)>COUNTIFS(BD!$B:$B,$AG$37),\"\",INDEX(BD!$H$2:$H$138,SMALL(IF(BD!$B$2:$B$138=$AG$37,IF(BD!$B$2:$B$138=$AG$37,ROW(BD!$B$2:$B$138)-ROW(BD!$B$2)+1),FALSE),ROWS(BD!$1:10)))))","v":""},null,{"$f":"IF($AM$37=\"\",\"\",IF(ROWS(BD!$1:10)>COUNTIFS(BD!$B$1:$B$138,$AM$37),\"\",INDEX(BD!$C$2:$C$138,SMALL(IF(BD!$B$2:$B$138=$AM$37,IF(BD!$B$2:$B$138=$AM$37,ROW(BD!$B$2:$B$138)-ROW(BD!$B$2)+1),FALSE),ROWS(BD!$1:10)))))","v":""},{"$f":"IF($AM$37=\"\",\"\",IF(ROWS(BD!$1:10)>COUNTIFS(BD!$B$1:$B$138,$AM$37),\"\",INDEX(BD!$E$2:$E$138,SMALL(IF(BD!$B$2:$B$138=$AM$37,IF(BD!$B$2:$B$138=$AM$37,ROW(BD!$B$2:$B$138)-ROW(BD!$B$2)+1),FALSE),ROWS(BD!$1:10)))))","v":""},{"$f":"IF($AM$37=\"\",\"\",IF(ROWS(BD!$1:10)>COUNTIFS(BD!$B$1:$B$138,$AM$37),\"\",INDEX(BD!$F$2:$F$138,SMALL(IF(BD!$B$2:$B$138=$AM$37,IF(BD!$B$2:$B$138=$AM$37,ROW(BD!$B$2:$B$138)-ROW(BD!$B$2)+1),FALSE),ROWS(BD!$1:10)))))","v":""},{"$f":"IF($AM$37=\"\",\"\",IF(ROWS(BD!$1:10)>COUNTIFS(BD!$B:$B,$AM$37),\"\",INDEX(BD!$G$2:$G$138,SMALL(IF(BD!$B$2:$B$138=$AM$37,IF(BD!$B$2:$B$138=$AM$37,ROW(BD!$B$2:$B$138)-ROW(BD!$B$2)+1),FALSE),ROWS(BD!$1:10)))))","v":""},{"$f":"IF($AM$37=\"\",\"\",IF(ROWS(BD!$1:10)>COUNTIFS(BD!$B:$B,$AM$37),\"\",INDEX(BD!$H$2:$H$138,SMALL(IF(BD!$B$2:$B$138=$AM$37,IF(BD!$B$2:$B$138=$AM$37,ROW(BD!$B$2:$B$138)-ROW(BD!$B$2)+1),FALSE),ROWS(BD!$1:10)))))","v":""}]
[null,null,{"$f":"IF($C$37=\"\",\"\",IF(ROWS(BD!$1:11)>COUNTIFS(BD!$B$1:$B$138,$C$37),\"\",INDEX(BD!$C$2:$C$138,SMALL(IF(BD!$B$2:$B$138=$C$37,IF(BD!$B$2:$B$138=$C$37,ROW(BD!$B$2:$B$138)-ROW(BD!$B$2)+1),FALSE),ROWS(BD!$1:11)))))","v":""},{"$f":"IF($C$37=\"\",\"\",IF(ROWS(BD!$1:11)>COUNTIFS(BD!$B$1:$B$138,$C$37),\"\",INDEX(BD!$E$2:$E$138,SMALL(IF(BD!$B$2:$B$138=$C$37,IF(BD!$B$2:$B$138=$C$37,ROW(BD!$B$2:$B$138)-ROW(BD!$B$2)+1),FALSE),ROWS(BD!$1:11)))))","v":""},{"$f":"IF($C$37=\"\",\"\",IF(ROWS(BD!$1:11)>COUNTIFS(BD!$B$1:$B$138,$C$37),\"\",INDEX(BD!$F$2:$F$138,SMALL(IF(BD!$B$2:$B$138=$C$37,IF(BD!$B$2:$B$138=$C$37,ROW(BD!$B$2:$B$138)-ROW(BD!$B$2)+1),FALSE),ROWS(BD!$1:11)))))","v":""},{"$f":"IF($C$37=\"\",\"\",IF(ROWS(BD!$1:11)>COUNTIFS(BD!$B:$B,$C$37),\"\",INDEX(BD!$G$2:$G$138,SMALL(IF(BD!$B$2:$B$138=$C$37,IF(BD!$B$2:$B$138=$C$37,ROW(BD!$B$2:$B$138)-ROW(BD!$B$2)+1),FALSE),ROWS(BD!$1:11)))))","v":""},{"$f":"IF($C$37=\"\",\"\",IF(ROWS(BD!$1:11)>COUNTIFS(BD!$B:$B,$C$37),\"\",INDEX(BD!$H$2:$H$138,SMALL(IF(BD!$B$2:$B$138=$C$37,IF(BD!$B$2:$B$138=$C$37,ROW(BD!$B$2:$B$138)-ROW(BD!$B$2)+1),FALSE),ROWS(BD!$1:11)))))","v":""},null,{"$f":"IF($I$37=\"\",\"\",IF(ROWS(BD!$1:11)>COUNTIFS(BD!$B$1:$B$138,$I$37),\"\",INDEX(BD!$C$2:$C$138,SMALL(IF(BD!$B$2:$B$138=$I$37,IF(BD!$B$2:$B$138=$I$37,ROW(BD!$B$2:$B$138)-ROW(BD!$B$2)+1),FALSE),ROWS(BD!$1:11)))))","v":""},{"$f":"IF($I$37=\"\",\"\",IF(ROWS(BD!$1:11)>COUNTIFS(BD!$B$1:$B$138,$I$37),\"\",INDEX(BD!$E$2:$E$138,SMALL(IF(BD!$B$2:$B$138=$I$37,IF(BD!$B$2:$B$138=$I$37,ROW(BD!$B$2:$B$138)-ROW(BD!$B$2)+1),FALSE),ROWS(BD!$1:11)))))","v":""},{"$f":"IF($I$37=\"\",\"\",IF(ROWS(BD!$1:11)>COUNTIFS(BD!$B$1:$B$138,$I$37),\"\",INDEX(BD!$F$2:$F$138,SMALL(IF(BD!$B$2:$B$138=$I$37,IF(BD!$B$2:$B$138=$I$37,ROW(BD!$B$2:$B$138)-ROW(BD!$B$2)+1),FALSE),ROWS(BD!$1:11)))))","v":""},{"$f":"IF($I$37=\"\",\"\",IF(ROWS(BD!$1:11)>COUNTIFS(BD!$B:$B,$I$37),\"\",INDEX(BD!$G$2:$G$138,SMALL(IF(BD!$B$2:$B$138=$I$37,IF(BD!$B$2:$B$138=$I$37,ROW(BD!$B$2:$B$138)-ROW(BD!$B$2)+1),FALSE),ROWS(BD!$1:11)))))","v":""},{"$f":"IF($I$37=\"\",\"\",IF(ROWS(BD!$1:11)>COUNTIFS(BD!$B:$B,$I$37),\"\",INDEX(BD!$H$2:$H$138,SMALL(IF(BD!$B$2:$B$138=$I$37,IF(BD!$B$2:$B$138=$I$37,ROW(BD!$B$2:$B$138)-ROW(BD!$B$2)+1),FALSE),ROWS(BD!$1:11)))))","v":""},null,{"$f":"IF($O$37=\"\",\"\",IF(ROWS(BD!$1:11)>COUNTIFS(BD!$B$1:$B$138,$O$37),\"\",INDEX(BD!$C$2:$C$138,SMALL(IF(BD!$B$2:$B$138=$O$37,IF(BD!$B$2:$B$138=$O$37,ROW(BD!$B$2:$B$138)-ROW(BD!$B$2)+1),FALSE),ROWS(BD!$1:11)))))","v":""},{"$f":"IF($O$37=\"\",\"\",IF(ROWS(BD!$1:11)>COUNTIFS(BD!$B$1:$B$138,$O$37),\"\",INDEX(BD!$E$2:$E$138,SMALL(IF(BD!$B$2:$B$138=$O$37,IF(BD!$B$2:$B$138=$O$37,ROW(BD!$B$2:$B$138)-ROW(BD!$B$2)+1),FALSE),ROWS(BD!$1:11)))))","v":""},{"$f":"IF($O$37=\"\",\"\",IF(ROWS(BD!$1:11)>COUNTIFS(BD!$B$1:$B$138,$O$37),\"\",INDEX(BD!$F$2:$F$138,SMALL(IF(BD!$B$2:$B$138=$O$37,IF(BD!$B$2:$B$138=$O$37,ROW(BD!$B$2:$B$138)-ROW(BD!$B$2)+1),FALSE),ROWS(BD!$1:11)))))","v":""},{"$f":"IF($O$37=\"\",\"\",IF(ROWS(BD!$1:11)>COUNTIFS(BD!$B:$B,$O$37),\"\",INDEX(BD!$G$2:$G$138,SMALL(IF(BD!$B$2:$B$138=$O$37,IF(BD!$B$2:$B$138=$O$37,ROW(BD!$B$2:$B$138)-ROW(BD!$B$2)+1),FALSE),ROWS(BD!$1:11)))))","v":""},{"$f":"IF($O$37=\"\",\"\",IF(ROWS(BD!$1:11)>COUNTIFS(BD!$B:$B,$O$37),\"\",INDEX(BD!$H$2:$H$138,SMALL(IF(BD!$B$2:$B$138=$O$37,IF(BD!$B$2:$B$138=$O$37,ROW(BD!$B$2:$B$138)-ROW(BD!$B$2)+1),FALSE),ROWS(BD!$1:11)))))","v":""},null,{"$f":"IF($U$37=\"\",\"\",IF(ROWS(BD!$1:11)>COUNTIFS(BD!$B$1:$B$138,$U$37),\"\",INDEX(BD!$C$2:$C$138,SMALL(IF(BD!$B$2:$B$138=$U$37,IF(BD!$B$2:$B$138=$U$37,ROW(BD!$B$2:$B$138)-ROW(BD!$B$2)+1),FALSE),ROWS(BD!$1:11)))))","v":""},{"$f":"IF($U$37=\"\",\"\",IF(ROWS(BD!$1:11)>COUNTIFS(BD!$B$1:$B$138,$U$37),\"\",INDEX(BD!$E$2:$E$138,SMALL(IF(BD!$B$2:$B$138=$U$37,IF(BD!$B$2:$B$138=$U$37,ROW(BD!$B$2:$B$138)-ROW(BD!$B$2)+1),FALSE),ROWS(BD!$1:11)))))","v":""},{"$f":"IF($U$37=\"\",\"\",IF(ROWS(BD!$1:11)>COUNTIFS(BD!$B$1:$B$138,$U$37),\"\",INDEX(BD!$F$2:$F$138,SMALL(IF(BD!$B$2:$B$138=$U$37,IF(BD!$B$2:$B$138=$U$37,ROW(BD!$B$2:$B$138)-ROW(BD!$B$2)+1),FALSE),ROWS(BD!$1:11)))))","v":""},{"$f":"IF($U$37=\"\",\"\",IF(ROWS(BD!$1:11)>COUNTIFS(BD!$B:$B,$U$37),\"\",INDEX(BD!$G$2:$G$138,SMALL(IF(BD!$B$2:$B$138=$U$37,IF(BD!$B$2:$B$138=$U$37,ROW(BD!$B$2:$B$138)-ROW(BD!$B$2)+1),FALSE),ROWS(BD!$1:11)))))","v":""},{"$f":"IF($U$37=\"\",\"\",IF(ROWS(BD!$1:11)>COUNTIFS(BD!$B:$B,$U$37),\"\",INDEX(BD!$H$2:$H$138,SMALL(IF(BD!$B$2:$B$138=$U$37,IF(BD!$B$2:$B$138=$U$37,ROW(BD!$B$2:$B$138)-ROW(BD!$B$2)+1),FALSE),ROWS(BD!$1:11)))))","v":""},null,{"$f":"IF($AA$37=\"\",\"\",IF(ROWS(BD!$1:11)>COUNTIFS(BD!$B$1:$B$138,$AA$37),\"\",INDEX(BD!$C$2:$C$138,SMALL(IF(BD!$B$2:$B$138=$AA$37,IF(BD!$B$2:$B$138=$AA$37,ROW(BD!$B$2:$B$138)-ROW(BD!$B$2)+1),FALSE),ROWS(BD!$1:11)))))","v":""},{"$f":"IF($AA$37=\"\",\"\",IF(ROWS(BD!$1:11)>COUNTIFS(BD!$B$1:$B$138,$AA$37),\"\",INDEX(BD!$E$2:$E$138,SMALL(IF(BD!$B$2:$B$138=$AA$37,IF(BD!$B$2:$B$138=$AA$37,ROW(BD!$B$2:$B$138)-ROW(BD!$B$2)+1),FALSE),ROWS(BD!$1:11)))))","v":""},{"$f":"IF($AA$37=\"\",\"\",IF(ROWS(BD!$1:11)>COUNTIFS(BD!$B$1:$B$138,$AA$37),\"\",INDEX(BD!$F$2:$F$138,SMALL(IF(BD!$B$2:$B$138=$AA$37,IF(BD!$B$2:$B$138=$AA$37,ROW(BD!$B$2:$B$138)-ROW(BD!$B$2)+1),FALSE),ROWS(BD!$1:11)))))","v":""},{"$f":"IF($AA$37=\"\",\"\",IF(ROWS(BD!$1:11)>COUNTIFS(BD!$B:$B,$AA$37),\"\",INDEX(BD!$G$2:$G$138,SMALL(IF(BD!$B$2:$B$138=$AA$37,IF(BD!$B$2:$B$138=$AA$37,ROW(BD!$B$2:$B$138)-ROW(BD!$B$2)+1),FALSE),ROWS(BD!$1:11)))))","v":""},{"$f":"IF($AA$37=\"\",\"\",IF(ROWS(BD!$1:11)>COUNTIFS(BD!$B:$B,$AA$37),\"\",INDEX(BD!$H$2:$H$138,SMALL(IF(BD!$B$2:$B$138=$AA$37,IF(BD!$B$2:$B$138=$AA$37,ROW(BD!$B$2:$B$138)-ROW(BD!$B$2)+1),FALSE),ROWS(BD!$1:11)))))","v":""},null,{"$f":"IF($AG$37=\"\",\"\",IF(ROWS(BD!$1:11)>COUNTIFS(BD!$B$1:$B$138,$AG$37),\"\",INDEX(BD!$C$2:$C$138,SMALL(IF(BD!$B$2:$B$138=$AG$37,IF(BD!$B$2:$B$138=$AG$37,ROW(BD!$B$2:$B$138)-ROW(BD!$B$2)+1),FALSE),ROWS(BD!$1:11)))))","v":""},{"$f":"IF($AG$37=\"\",\"\",IF(ROWS(BD!$1:11)>COUNTIFS(BD!$B$1:$B$138,$AG$37),\"\",INDEX(BD!$E$2:$E$138,SMALL(IF(BD!$B$2:$B$138=$AG$37,IF(BD!$B$2:$B$138=$AG$37,ROW(BD!$B$2:$B$138)-ROW(BD!$B$2)+1),FALSE),ROWS(BD!$1:11)))))","v":""},{"$f":"IF($AG$37=\"\",\"\",IF(ROWS(BD!$1:11)>COUNTIFS(BD!$B$1:$B$138,$AG$37),\"\",INDEX(BD!$F$2:$F$138,SMALL(IF(BD!$B$2:$B$138=$AG$37,IF(BD!$B$2:$B$138=$AG$37,ROW(BD!$B$2:$B$138)-ROW(BD!$B$2)+1),FALSE),ROWS(BD!$1:11)))))","v":""},{"$f":"IF($AG$37=\"\",\"\",IF(ROWS(BD!$1:11)>COUNTIFS(BD!$B:$B,$AG$37),\"\",INDEX(BD!$G$2:$G$138,SMALL(IF(BD!$B$2:$B$138=$AG$37,IF(BD!$B$2:$B$138=$AG$37,ROW(BD!$B$2:$B$138)-ROW(BD!$B$2)+1),FALSE),ROWS(BD!$1:11)))))","v":""},{"$f":"IF($AG$37=\"\",\"\",IF(ROWS(BD!$1:11)>COUNTIFS(BD!$B:$B,$AG$37),\"\",INDEX(BD!$H$2:$H$138,SMALL(IF(BD!$B$2:$B$138=$AG$37,IF(BD!$B$2:$B$138=$AG$37,ROW(BD!$B$2:$B$138)-ROW(BD!$B$2)+1),FALSE),ROWS(BD!$1:11)))))","v":""},null,{"$f":"IF($AM$37=\"\",\"\",IF(ROWS(BD!$1:11)>COUNTIFS(BD!$B$1:$B$138,$AM$37),\"\",INDEX(BD!$C$2:$C$138,SMALL(IF(BD!$B$2:$B$138=$AM$37,IF(BD!$B$2:$B$138=$AM$37,ROW(BD!$B$2:$B$138)-ROW(BD!$B$2)+1),FALSE),ROWS(BD!$1:11)))))","v":""},{"$f":"IF($AM$37=\"\",\"\",IF(ROWS(BD!$1:11)>COUNTIFS(BD!$B$1:$B$138,$AM$37),\"\",INDEX(BD!$E$2:$E$138,SMALL(IF(BD!$B$2:$B$138=$AM$37,IF(BD!$B$2:$B$138=$AM$37,ROW(BD!$B$2:$B$138)-ROW(BD!$B$2)+1),FALSE),ROWS(BD!$1:11)))))","v":""},{"$f":"IF($AM$37=\"\",\"\",IF(ROWS(BD!$1:11)>COUNTIFS(BD!$B$1:$B$138,$AM$37),\"\",INDEX(BD!$F$2:$F$138,SMALL(IF(BD!$B$2:$B$138=$AM$37,IF(BD!$B$2:$B$138=$AM$37,ROW(BD!$B$2:$B$138)-ROW(BD!$B$2)+1),FALSE),ROWS(BD!$1:11)))))","v":""},{"$f":"IF($AM$37=\"\",\"\",IF(ROWS(BD!$1:11)>COUNTIFS(BD!$B:$B,$AM$37),\"\",INDEX(BD!$G$2:$G$138,SMALL(IF(BD!$B$2:$B$138=$AM$37,IF(BD!$B$2:$B$138=$AM$37,ROW(BD!$B$2:$B$138)-ROW(BD!$B$2)+1),FALSE),ROWS(BD!$1:11)))))","v":""},{"$f":"IF($AM$37=\"\",\"\",IF(ROWS(BD!$1:11)>COUNTIFS(BD!$B:$B,$AM$37),\"\",INDEX(BD!$H$2:$H$138,SMALL(IF(BD!$B$2:$B$138=$AM$37,IF(BD!$B$2:$B$138=$AM$37,ROW(BD!$B$2:$B$138)-ROW(BD!$B$2)+1),FALSE),ROWS(BD!$1:11)))))","v":""}]
[null,null,{"$f":"IF($C$37=\"\",\"\",IF(ROWS(BD!$1:12)>COUNTIFS(BD!$B$1:$B$138,$C$37),\"\",INDEX(BD!$C$2:$C$138,SMALL(IF(BD!$B$2:$B$138=$C$37,IF(BD!$B$2:$B$138=$C$37,ROW(BD!$B$2:$B$138)-ROW(BD!$B$2)+1),FALSE),ROWS(BD!$1:12)))))","v":""},{"$f":"IF($C$37=\"\",\"\",IF(ROWS(BD!$1:12)>COUNTIFS(BD!$B$1:$B$138,$C$37),\"\",INDEX(BD!$E$2:$E$138,SMALL(IF(BD!$B$2:$B$138=$C$37,IF(BD!$B$2:$B$138=$C$37,ROW(BD!$B$2:$B$138)-ROW(BD!$B$2)+1),FALSE),ROWS(BD!$1:12)))))","v":""},{"$f":"IF($C$37=\"\",\"\",IF(ROWS(BD!$1:12)>COUNTIFS(BD!$B$1:$B$138,$C$37),\"\",INDEX(BD!$F$2:$F$138,SMALL(IF(BD!$B$2:$B$138=$C$37,IF(BD!$B$2:$B$138=$C$37,ROW(BD!$B$2:$B$138)-ROW(BD!$B$2)+1),FALSE),ROWS(BD!$1:12)))))","v":""},{"$f":"IF($C$37=\"\",\"\",IF(ROWS(BD!$1:12)>COUNTIFS(BD!$B:$B,$C$37),\"\",INDEX(BD!$G$2:$G$138,SMALL(IF(BD!$B$2:$B$138=$C$37,IF(BD!$B$2:$B$138=$C$37,ROW(BD!$B$2:$B$138)-ROW(BD!$B$2)+1),FALSE),ROWS(BD!$1:12)))))","v":""},{"$f":"IF($C$37=\"\",\"\",IF(ROWS(BD!$1:12)>COUNTIFS(BD!$B:$B,$C$37),\"\",INDEX(BD!$H$2:$H$138,SMALL(IF(BD!$B$2:$B$138=$C$37,IF(BD!$B$2:$B$138=$C$37,ROW(BD!$B$2:$B$138)-ROW(BD!$B$2)+1),FALSE),ROWS(BD!$1:12)))))","v":""},null,{"$f":"IF($I$37=\"\",\"\",IF(ROWS(BD!$1:12)>COUNTIFS(BD!$B$1:$B$138,$I$37),\"\",INDEX(BD!$C$2:$C$138,SMALL(IF(BD!$B$2:$B$138=$I$37,IF(BD!$B$2:$B$138=$I$37,ROW(BD!$B$2:$B$138)-ROW(BD!$B$2)+1),FALSE),ROWS(BD!$1:12)))))","v":""},{"$f":"IF($I$37=\"\",\"\",IF(ROWS(BD!$1:12)>COUNTIFS(BD!$B$1:$B$138,$I$37),\"\",INDEX(BD!$E$2:$E$138,SMALL(IF(BD!$B$2:$B$138=$I$37,IF(BD!$B$2:$B$138=$I$37,ROW(BD!$B$2:$B$138)-ROW(BD!$B$2)+1),FALSE),ROWS(BD!$1:12)))))","v":""},{"$f":"IF($I$37=\"\",\"\",IF(ROWS(BD!$1:12)>COUNTIFS(BD!$B$1:$B$138,$I$37),\"\",INDEX(BD!$F$2:$F$138,SMALL(IF(BD!$B$2:$B$138=$I$37,IF(BD!$B$2:$B$138=$I$37,ROW(BD!$B$2:$B$138)-ROW(BD!$B$2)+1),FALSE),ROWS(BD!$1:12)))))","v":""},{"$f":"IF($I$37=\"\",\"\",IF(ROWS(BD!$1:12)>COUNTIFS(BD!$B:$B,$I$37),\"\",INDEX(BD!$G$2:$G$138,SMALL(IF(BD!$B$2:$B$138=$I$37,IF(BD!$B$2:$B$138=$I$37,ROW(BD!$B$2:$B$138)-ROW(BD!$B$2)+1),FALSE),ROWS(BD!$1:12)))))","v":""},{"$f":"IF($I$37=\"\",\"\",IF(ROWS(BD!$1:12)>COUNTIFS(BD!$B:$B,$I$37),\"\",INDEX(BD!$H$2:$H$138,SMALL(IF(BD!$B$2:$B$138=$I$37,IF(BD!$B$2:$B$138=$I$37,ROW(BD!$B$2:$B$138)-ROW(BD!$B$2)+1),FALSE),ROWS(BD!$1:12)))))","v":""},null,{"$f":"IF($O$37=\"\",\"\",IF(ROWS(BD!$1:12)>COUNTIFS(BD!$B$1:$B$138,$O$37),\"\",INDEX(BD!$C$2:$C$138,SMALL(IF(BD!$B$2:$B$138=$O$37,IF(BD!$B$2:$B$138=$O$37,ROW(BD!$B$2:$B$138)-ROW(BD!$B$2)+1),FALSE),ROWS(BD!$1:12)))))","v":""},{"$f":"IF($O$37=\"\",\"\",IF(ROWS(BD!$1:12)>COUNTIFS(BD!$B$1:$B$138,$O$37),\"\",INDEX(BD!$E$2:$E$138,SMALL(IF(BD!$B$2:$B$138=$O$37,IF(BD!$B$2:$B$138=$O$37,ROW(BD!$B$2:$B$138)-ROW(BD!$B$2)+1),FALSE),ROWS(BD!$1:12)))))","v":""},{"$f":"IF($O$37=\"\",\"\",IF(ROWS(BD!$1:12)>COUNTIFS(BD!$B$1:$B$138,$O$37),\"\",INDEX(BD!$F$2:$F$138,SMALL(IF(BD!$B$2:$B$138=$O$37,IF(BD!$B$2:$B$138=$O$37,ROW(BD!$B$2:$B$138)-ROW(BD!$B$2)+1),FALSE),ROWS(BD!$1:12)))))","v":""},{"$f":"IF($O$37=\"\",\"\",IF(ROWS(BD!$1:12)>COUNTIFS(BD!$B:$B,$O$37),\"\",INDEX(BD!$G$2:$G$138,SMALL(IF(BD!$B$2:$B$138=$O$37,IF(BD!$B$2:$B$138=$O$37,ROW(BD!$B$2:$B$138)-ROW(BD!$B$2)+1),FALSE),ROWS(BD!$1:12)))))","v":""},{"$f":"IF($O$37=\"\",\"\",IF(ROWS(BD!$1:12)>COUNTIFS(BD!$B:$B,$O$37),\"\",INDEX(BD!$H$2:$H$138,SMALL(IF(BD!$B$2:$B$138=$O$37,IF(BD!$B$2:$B$138=$O$37,ROW(BD!$B$2:$B$138)-ROW(BD!$B$2)+1),FALSE),ROWS(BD!$1:12)))))","v":""},null,{"$f":"IF($U$37=\"\",\"\",IF(ROWS(BD!$1:12)>COUNTIFS(BD!$B$1:$B$138,$U$37),\"\",INDEX(BD!$C$2:$C$138,SMALL(IF(BD!$B$2:$B$138=$U$37,IF(BD!$B$2:$B$138=$U$37,ROW(BD!$B$2:$B$138)-ROW(BD!$B$2)+1),FALSE),ROWS(BD!$1:12)))))","v":""},{"$f":"IF($U$37=\"\",\"\",IF(ROWS(BD!$1:12)>COUNTIFS(BD!$B$1:$B$138,$U$37),\"\",INDEX(BD!$E$2:$E$138,SMALL(IF(BD!$B$2:$B$138=$U$37,IF(BD!$B$2:$B$138=$U$37,ROW(BD!$B$2:$B$138)-ROW(BD!$B$2)+1),FALSE),ROWS(BD!$1:12)))))","v":""},{"$f":"IF($U$37=\"\",\"\",IF(ROWS(BD!$1:12)>COUNTIFS(BD!$B$1:$B$138,$U$37),\"\",INDEX(BD!$F$2:$F$138,SMALL(IF(BD!$B$2:$B$138=$U$37,IF(BD!$B$2:$B$138=$U$37,ROW(BD!$B$2:$B$138)-ROW(BD!$B$2)+1),FALSE),ROWS(BD!$1:12)))))","v":""},{"$f":"IF($U$37=\"\",\"\",IF(ROWS(BD!$1:12)>COUNTIFS(BD!$B:$B,$U$37),\"\",INDEX(BD!$G$2:$G$138,SMALL(IF(BD!$B$2:$B$138=$U$37,IF(BD!$B$2:$B$138=$U$37,ROW(BD!$B$2:$B$138)-ROW(BD!$B$2)+1),FALSE),ROWS(BD!$1:12)))))","v":""},{"$f":"IF($U$37=\"\",\"\",IF(ROWS(BD!$1:12)>COUNTIFS(BD!$B:$B,$U$37),\"\",INDEX(BD!$H$2:$H$138,SMALL(IF(BD!$B$2:$B$138=$U$37,IF(BD!$B$2:$B$138=$U$37,ROW(BD!$B$2:$B$138)-ROW(BD!$B$2)+1),FALSE),ROWS(BD!$1:12)))))","v":""},null,{"$f":"IF($AA$37=\"\",\"\",IF(ROWS(BD!$1:12)>COUNTIFS(BD!$B$1:$B$138,$AA$37),\"\",INDEX(BD!$C$2:$C$138,SMALL(IF(BD!$B$2:$B$138=$AA$37,IF(BD!$B$2:$B$138=$AA$37,ROW(BD!$B$2:$B$138)-ROW(BD!$B$2)+1),FALSE),ROWS(BD!$1:12)))))","v":""},{"$f":"IF($AA$37=\"\",\"\",IF(ROWS(BD!$1:12)>COUNTIFS(BD!$B$1:$B$138,$AA$37),\"\",INDEX(BD!$E$2:$E$138,SMALL(IF(BD!$B$2:$B$138=$AA$37,IF(BD!$B$2:$B$138=$AA$37,ROW(BD!$B$2:$B$138)-ROW(BD!$B$2)+1),FALSE),ROWS(BD!$1:12)))))","v":""},{"$f":"IF($AA$37=\"\",\"\",IF(ROWS(BD!$1:12)>COUNTIFS(BD!$B$1:$B$138,$AA$37),\"\",INDEX(BD!$F$2:$F$138,SMALL(IF(BD!$B$2:$B$138=$AA$37,IF(BD!$B$2:$B$138=$AA$37,ROW(BD!$B$2:$B$138)-ROW(BD!$B$2)+1),FALSE),ROWS(BD!$1:12)))))","v":""},{"$f":"IF($AA$37=\"\",\"\",IF(ROWS(BD!$1:12)>COUNTIFS(BD!$B:$B,$AA$37),\"\",INDEX(BD!$G$2:$G$138,SMALL(IF(BD!$B$2:$B$138=$AA$37,IF(BD!$B$2:$B$138=$AA$37,ROW(BD!$B$2:$B$138)-ROW(BD!$B$2)+1),FALSE),ROWS(BD!$1:12)))))","v":""},{"$f":"IF($AA$37=\"\",\"\",IF(ROWS(BD!$1:12)>COUNTIFS(BD!$B:$B,$AA$37),\"\",INDEX(BD!$H$2:$H$138,SMALL(IF(BD!$B$2:$B$138=$AA$37,IF(BD!$B$2:$B$138=$AA$37,ROW(BD!$B$2:$B$138)-ROW(BD!$B$2)+1),FALSE),ROWS(BD!$1:12)))))","v":""},null,{"$f":"IF($AG$37=\"\",\"\",IF(ROWS(BD!$1:12)>COUNTIFS(BD!$B$1:$B$138,$AG$37),\"\",INDEX(BD!$C$2:$C$138,SMALL(IF(BD!$B$2:$B$138=$AG$37,IF(BD!$B$2:$B$138=$AG$37,ROW(BD!$B$2:$B$138)-ROW(BD!$B$2)+1),FALSE),ROWS(BD!$1:12)))))","v":""},{"$f":"IF($AG$37=\"\",\"\",IF(ROWS(BD!$1:12)>COUNTIFS(BD!$B$1:$B$138,$AG$37),\"\",INDEX(BD!$E$2:$E$138,SMALL(IF(BD!$B$2:$B$138=$AG$37,IF(BD!$B$2:$B$138=$AG$37,ROW(BD!$B$2:$B$138)-ROW(BD!$B$2)+1),FALSE),ROWS(BD!$1:12)))))","v":""},{"$f":"IF($AG$37=\"\",\"\",IF(ROWS(BD!$1:12)>COUNTIFS(BD!$B$1:$B$138,$AG$37),\"\",INDEX(BD!$F$2:$F$138,SMALL(IF(BD!$B$2:$B$138=$AG$37,IF(BD!$B$2:$B$138=$AG$37,ROW(BD!$B$2:$B$138)-ROW(BD!$B$2)+1),FALSE),ROWS(BD!$1:12)))))","v":""},{"$f":"IF($AG$37=\"\",\"\",IF(ROWS(BD!$1:12)>COUNTIFS(BD!$B:$B,$AG$37),\"\",INDEX(BD!$G$2:$G$138,SMALL(IF(BD!$B$2:$B$138=$AG$37,IF(BD!$B$2:$B$138=$AG$37,ROW(BD!$B$2:$B$138)-ROW(BD!$B$2)+1),FALSE),ROWS(BD!$1:12)))))","v":""},{"$f":"IF($AG$37=\"\",\"\",IF(ROWS(BD!$1:12)>COUNTIFS(BD!$B:$B,$AG$37),\"\",INDEX(BD!$H$2:$H$138,SMALL(IF(BD!$B$2:$B$138=$AG$37,IF(BD!$B$2:$B$138=$AG$37,ROW(BD!$B$2:$B$138)-ROW(BD!$B$2)+1),FALSE),ROWS(BD!$1:12)))))","v":""},null,{"$f":"IF($AM$37=\"\",\"\",IF(ROWS(BD!$1:12)>COUNTIFS(BD!$B$1:$B$138,$AM$37),\"\",INDEX(BD!$C$2:$C$138,SMALL(IF(BD!$B$2:$B$138=$AM$37,IF(BD!$B$2:$B$138=$AM$37,ROW(BD!$B$2:$B$138)-ROW(BD!$B$2)+1),FALSE),ROWS(BD!$1:12)))))","v":""},{"$f":"IF($AM$37=\"\",\"\",IF(ROWS(BD!$1:12)>COUNTIFS(BD!$B$1:$B$138,$AM$37),\"\",INDEX(BD!$E$2:$E$138,SMALL(IF(BD!$B$2:$B$138=$AM$37,IF(BD!$B$2:$B$138=$AM$37,ROW(BD!$B$2:$B$138)-ROW(BD!$B$2)+1),FALSE),ROWS(BD!$1:12)))))","v":""},{"$f":"IF($AM$37=\"\",\"\",IF(ROWS(BD!$1:12)>COUNTIFS(BD!$B$1:$B$138,$AM$37),\"\",INDEX(BD!$F$2:$F$138,SMALL(IF(BD!$B$2:$B$138=$AM$37,IF(BD!$B$2:$B$138=$AM$37,ROW(BD!$B$2:$B$138)-ROW(BD!$B$2)+1),FALSE),ROWS(BD!$1:12)))))","v":""},{"$f":"IF($AM$37=\"\",\"\",IF(ROWS(BD!$1:12)>COUNTIFS(BD!$B:$B,$AM$37),\"\",INDEX(BD!$G$2:$G$138,SMALL(IF(BD!$B$2:$B$138=$AM$37,IF(BD!$B$2:$B$138=$AM$37,ROW(BD!$B$2:$B$138)-ROW(BD!$B$2)+1),FALSE),ROWS(BD!$1:12)))))","v":""},{"$f":"IF($AM$37=\"\",\"\",IF(ROWS(BD!$1:12)>COUNTIFS(BD!$B:$B,$AM$37),\"\",INDEX(BD!$H$2:$H$138,SMALL(IF(BD!$B$2:$B$138=$AM$37,IF(BD!$B$2:$B$138=$AM$37,ROW(BD!$B$2:$B$138)-ROW(BD!$B$2)+1),FALSE),ROWS(BD!$1:12)))))","v":""}]
[null,null,{"$f":"IF($C$37=\"\",\"\",IF(ROWS(BD!$1:13)>COUNTIFS(BD!$B$1:$B$138,$C$37),\"\",INDEX(BD!$C$2:$C$138,SMALL(IF(BD!$B$2:$B$138=$C$37,IF(BD!$B$2:$B$138=$C$37,ROW(BD!$B$2:$B$138)-ROW(BD!$B$2)+1),FALSE),ROWS(BD!$1:13)))))","v":""},{"$f":"IF($C$37=\"\",\"\",IF(ROWS(BD!$1:13)>COUNTIFS(BD!$B$1:$B$138,$C$37),\"\",INDEX(BD!$E$2:$E$138,SMALL(IF(BD!$B$2:$B$138=$C$37,IF(BD!$B$2:$B$138=$C$37,ROW(BD!$B$2:$B$138)-ROW(BD!$B$2)+1),FALSE),ROWS(BD!$1:13)))))","v":""},{"$f":"IF($C$37=\"\",\"\",IF(ROWS(BD!$1:13)>COUNTIFS(BD!$B$1:$B$138,$C$37),\"\",INDEX(BD!$F$2:$F$138,SMALL(IF(BD!$B$2:$B$138=$C$37,IF(BD!$B$2:$B$138=$C$37,ROW(BD!$B$2:$B$138)-ROW(BD!$B$2)+1),FALSE),ROWS(BD!$1:13)))))","v":""},{"$f":"IF($C$37=\"\",\"\",IF(ROWS(BD!$1:13)>COUNTIFS(BD!$B:$B,$C$37),\"\",INDEX(BD!$G$2:$G$138,SMALL(IF(BD!$B$2:$B$138=$C$37,IF(BD!$B$2:$B$138=$C$37,ROW(BD!$B$2:$B$138)-ROW(BD!$B$2)+1),FALSE),ROWS(BD!$1:13)))))","v":""},{"$f":"IF($C$37=\"\",\"\",IF(ROWS(BD!$1:13)>COUNTIFS(BD!$B:$B,$C$37),\"\",INDEX(BD!$H$2:$H$138,SMALL(IF(BD!$B$2:$B$138=$C$37,IF(BD!$B$2:$B$138=$C$37,ROW(BD!$B$2:$B$138)-ROW(BD!$B$2)+1),FALSE),ROWS(BD!$1:13)))))","v":""},null,{"$f":"IF($I$37=\"\",\"\",IF(ROWS(BD!$1:13)>COUNTIFS(BD!$B$1:$B$138,$I$37),\"\",INDEX(BD!$C$2:$C$138,SMALL(IF(BD!$B$2:$B$138=$I$37,IF(BD!$B$2:$B$138=$I$37,ROW(BD!$B$2:$B$138)-ROW(BD!$B$2)+1),FALSE),ROWS(BD!$1:13)))))","v":""},{"$f":"IF($I$37=\"\",\"\",IF(ROWS(BD!$1:13)>COUNTIFS(BD!$B$1:$B$138,$I$37),\"\",INDEX(BD!$E$2:$E$138,SMALL(IF(BD!$B$2:$B$138=$I$37,IF(BD!$B$2:$B$138=$I$37,ROW(BD!$B$2:$B$138)-ROW(BD!$B$2)+1),FALSE),ROWS(BD!$1:13)))))","v":""},{"$f":"IF($I$37=\"\",\"\",IF(ROWS(BD!$1:13)>COUNTIFS(BD!$B$1:$B$138,$I$37),\"\",INDEX(BD!$F$2:$F$138,SMALL(IF(BD!$B$2:$B$138=$I$37,IF(BD!$B$2:$B$138=$I$37,ROW(BD!$B$2:$B$138)-ROW(BD!$B$2)+1),FALSE),ROWS(BD!$1:13)))))","v":""},{"$f":"IF($I$37=\"\",\"\",IF(ROWS(BD!$1:13)>COUNTIFS(BD!$B:$B,$I$37),\"\",INDEX(BD!$G$2:$G$138,SMALL(IF(BD!$B$2:$B$138=$I$37,IF(BD!$B$2:$B$138=$I$37,ROW(BD!$B$2:$B$138)-ROW(BD!$B$2)+1),FALSE),ROWS(BD!$1:13)))))","v":""},{"$f":"IF($I$37=\"\",\"\",IF(ROWS(BD!$1:13)>COUNTIFS(BD!$B:$B,$I$37),\"\",INDEX(BD!$H$2:$H$138,SMALL(IF(BD!$B$2:$B$138=$I$37,IF(BD!$B$2:$B$138=$I$37,ROW(BD!$B$2:$B$138)-ROW(BD!$B$2)+1),FALSE),ROWS(BD!$1:13)))))","v":""},null,{"$f":"IF($O$37=\"\",\"\",IF(ROWS(BD!$1:13)>COUNTIFS(BD!$B$1:$B$138,$O$37),\"\",INDEX(BD!$C$2:$C$138,SMALL(IF(BD!$B$2:$B$138=$O$37,IF(BD!$B$2:$B$138=$O$37,ROW(BD!$B$2:$B$138)-ROW(BD!$B$2)+1),FALSE),ROWS(BD!$1:13)))))","v":""},{"$f":"IF($O$37=\"\",\"\",IF(ROWS(BD!$1:13)>COUNTIFS(BD!$B$1:$B$138,$O$37),\"\",INDEX(BD!$E$2:$E$138,SMALL(IF(BD!$B$2:$B$138=$O$37,IF(BD!$B$2:$B$138=$O$37,ROW(BD!$B$2:$B$138)-ROW(BD!$B$2)+1),FALSE),ROWS(BD!$1:13)))))","v":""},{"$f":"IF($O$37=\"\",\"\",IF(ROWS(BD!$1:13)>COUNTIFS(BD!$B$1:$B$138,$O$37),\"\",INDEX(BD!$F$2:$F$138,SMALL(IF(BD!$B$2:$B$138=$O$37,IF(BD!$B$2:$B$138=$O$37,ROW(BD!$B$2:$B$138)-ROW(BD!$B$2)+1),FALSE),ROWS(BD!$1:13)))))","v":""},{"$f":"IF($O$37=\"\",\"\",IF(ROWS(BD!$1:13)>COUNTIFS(BD!$B:$B,$O$37),\"\",INDEX(BD!$G$2:$G$138,SMALL(IF(BD!$B$2:$B$138=$O$37,IF(BD!$B$2:$B$138=$O$37,ROW(BD!$B$2:$B$138)-ROW(BD!$B$2)+1),FALSE),ROWS(BD!$1:13)))))","v":""},{"$f":"IF($O$37=\"\",\"\",IF(ROWS(BD!$1:13)>COUNTIFS(BD!$B:$B,$O$37),\"\",INDEX(BD!$H$2:$H$138,SMALL(IF(BD!$B$2:$B$138=$O$37,IF(BD!$B$2:$B$138=$O$37,ROW(BD!$B$2:$B$138)-ROW(BD!$B$2)+1),FALSE),ROWS(BD!$1:13)))))","v":""},null,{"$f":"IF($U$37=\"\",\"\",IF(ROWS(BD!$1:13)>COUNTIFS(BD!$B$1:$B$138,$U$37),\"\",INDEX(BD!$C$2:$C$138,SMALL(IF(BD!$B$2:$B$138=$U$37,IF(BD!$B$2:$B$138=$U$37,ROW(BD!$B$2:$B$138)-ROW(BD!$B$2)+1),FALSE),ROWS(BD!$1:13)))))","v":""},{"$f":"IF($U$37=\"\",\"\",IF(ROWS(BD!$1:13)>COUNTIFS(BD!$B$1:$B$138,$U$37),\"\",INDEX(BD!$E$2:$E$138,SMALL(IF(BD!$B$2:$B$138=$U$37,IF(BD!$B$2:$B$138=$U$37,ROW(BD!$B$2:$B$138)-ROW(BD!$B$2)+1),FALSE),ROWS(BD!$1:13)))))","v":""},{"$f":"IF($U$37=\"\",\"\",IF(ROWS(BD!$1:13)>COUNTIFS(BD!$B$1:$B$138,$U$37),\"\",INDEX(BD!$F$2:$F$138,SMALL(IF(BD!$B$2:$B$138=$U$37,IF(BD!$B$2:$B$138=$U$37,ROW(BD!$B$2:$B$138)-ROW(BD!$B$2)+1),FALSE),ROWS(BD!$1:13)))))","v":""},{"$f":"IF($U$37=\"\",\"\",IF(ROWS(BD!$1:13)>COUNTIFS(BD!$B:$B,$U$37),\"\",INDEX(BD!$G$2:$G$138,SMALL(IF(BD!$B$2:$B$138=$U$37,IF(BD!$B$2:$B$138=$U$37,ROW(BD!$B$2:$B$138)-ROW(BD!$B$2)+1),FALSE),ROWS(BD!$1:13)))))","v":""},{"$f":"IF($U$37=\"\",\"\",IF(ROWS(BD!$1:13)>COUNTIFS(BD!$B:$B,$U$37),\"\",INDEX(BD!$H$2:$H$138,SMALL(IF(BD!$B$2:$B$138=$U$37,IF(BD!$B$2:$B$138=$U$37,ROW(BD!$B$2:$B$138)-ROW(BD!$B$2)+1),FALSE),ROWS(BD!$1:13)))))","v":""},null,{"$f":"IF($AA$37=\"\",\"\",IF(ROWS(BD!$1:13)>COUNTIFS(BD!$B$1:$B$138,$AA$37),\"\",INDEX(BD!$C$2:$C$138,SMALL(IF(BD!$B$2:$B$138=$AA$37,IF(BD!$B$2:$B$138=$AA$37,ROW(BD!$B$2:$B$138)-ROW(BD!$B$2)+1),FALSE),ROWS(BD!$1:13)))))","v":""},{"$f":"IF($AA$37=\"\",\"\",IF(ROWS(BD!$1:13)>COUNTIFS(BD!$B$1:$B$138,$AA$37),\"\",INDEX(BD!$E$2:$E$138,SMALL(IF(BD!$B$2:$B$138=$AA$37,IF(BD!$B$2:$B$138=$AA$37,ROW(BD!$B$2:$B$138)-ROW(BD!$B$2)+1),FALSE),ROWS(BD!$1:13)))))","v":""},{"$f":"IF($AA$37=\"\",\"\",IF(ROWS(BD!$1:13)>COUNTIFS(BD!$B$1:$B$138,$AA$37),\"\",INDEX(BD!$F$2:$F$138,SMALL(IF(BD!$B$2:$B$138=$AA$37,IF(BD!$B$2:$B$138=$AA$37,ROW(BD!$B$2:$B$138)-ROW(BD!$B$2)+1),FALSE),ROWS(BD!$1:13)))))","v":""},{"$f":"IF($AA$37=\"\",\"\",IF(ROWS(BD!$1:13)>COUNTIFS(BD!$B:$B,$AA$37),\"\",INDEX(BD!$G$2:$G$138,SMALL(IF(BD!$B$2:$B$138=$AA$37,IF(BD!$B$2:$B$138=$AA$37,ROW(BD!$B$2:$B$138)-ROW(BD!$B$2)+1),FALSE),ROWS(BD!$1:13)))))","v":""},{"$f":"IF($AA$37=\"\",\"\",IF(ROWS(BD!$1:13)>COUNTIFS(BD!$B:$B,$AA$37),\"\",INDEX(BD!$H$2:$H$138,SMALL(IF(BD!$B$2:$B$138=$AA$37,IF(BD!$B$2:$B$138=$AA$37,ROW(BD!$B$2:$B$138)-ROW(BD!$B$2)+1),FALSE),ROWS(BD!$1:13)))))","v":""},null,{"$f":"IF($AG$37=\"\",\"\",IF(ROWS(BD!$1:13)>COUNTIFS(BD!$B$1:$B$138,$AG$37),\"\",INDEX(BD!$C$2:$C$138,SMALL(IF(BD!$B$2:$B$138=$AG$37,IF(BD!$B$2:$B$138=$AG$37,ROW(BD!$B$2:$B$138)-ROW(BD!$B$2)+1),FALSE),ROWS(BD!$1:13)))))","v":""},{"$f":"IF($AG$37=\"\",\"\",IF(ROWS(BD!$1:13)>COUNTIFS(BD!$B$1:$B$138,$AG$37),\"\",INDEX(BD!$E$2:$E$138,SMALL(IF(BD!$B$2:$B$138=$AG$37,IF(BD!$B$2:$B$138=$AG$37,ROW(BD!$B$2:$B$138)-ROW(BD!$B$2)+1),FALSE),ROWS(BD!$1:13)))))","v":""},{"$f":"IF($AG$37=\"\",\"\",IF(ROWS(BD!$1:13)>COUNTIFS(BD!$B$1:$B$138,$AG$37),\"\",INDEX(BD!$F$2:$F$138,SMALL(IF(BD!$B$2:$B$138=$AG$37,IF(BD!$B$2:$B$138=$AG$37,ROW(BD!$B$2:$B$138)-ROW(BD!$B$2)+1),FALSE),ROWS(BD!$1:13)))))","v":""},{"$f":"IF($AG$37=\"\",\"\",IF(ROWS(BD!$1:13)>COUNTIFS(BD!$B:$B,$AG$37),\"\",INDEX(BD!$G$2:$G$138,SMALL(IF(BD!$B$2:$B$138=$AG$37,IF(BD!$B$2:$B$138=$AG$37,ROW(BD!$B$2:$B$138)-ROW(BD!$B$2)+1),FALSE),ROWS(BD!$1:13)))))","v":""},{"$f":"IF($AG$37=\"\",\"\",IF(ROWS(BD!$1:13)>COUNTIFS(BD!$B:$B,$AG$37),\"\",INDEX(BD!$H$2:$H$138,SMALL(IF(BD!$B$2:$B$138=$AG$37,IF(BD!$B$2:$B$138=$AG$37,ROW(BD!$B$2:$B$138)-ROW(BD!$B$2)+1),FALSE),ROWS(BD!$1:13)))))","v":""},null,{"$f":"IF($AM$37=\"\",\"\",IF(ROWS(BD!$1:13)>COUNTIFS(BD!$B$1:$B$138,$AM$37),\"\",INDEX(BD!$C$2:$C$138,SMALL(IF(BD!$B$2:$B$138=$AM$37,IF(BD!$B$2:$B$138=$AM$37,ROW(BD!$B$2:$B$138)-ROW(BD!$B$2)+1),FALSE),ROWS(BD!$1:13)))))","v":""},{"$f":"IF($AM$37=\"\",\"\",IF(ROWS(BD!$1:13)>COUNTIFS(BD!$B$1:$B$138,$AM$37),\"\",INDEX(BD!$E$2:$E$138,SMALL(IF(BD!$B$2:$B$138=$AM$37,IF(BD!$B$2:$B$138=$AM$37,ROW(BD!$B$2:$B$138)-ROW(BD!$B$2)+1),FALSE),ROWS(BD!$1:13)))))","v":""},{"$f":"IF($AM$37=\"\",\"\",IF(ROWS(BD!$1:13)>COUNTIFS(BD!$B$1:$B$138,$AM$37),\"\",INDEX(BD!$F$2:$F$138,SMALL(IF(BD!$B$2:$B$138=$AM$37,IF(BD!$B$2:$B$138=$AM$37,ROW(BD!$B$2:$B$138)-ROW(BD!$B$2)+1),FALSE),ROWS(BD!$1:13)))))","v":""},{"$f":"IF($AM$37=\"\",\"\",IF(ROWS(BD!$1:13)>COUNTIFS(BD!$B:$B,$AM$37),\"\",INDEX(BD!$G$2:$G$138,SMALL(IF(BD!$B$2:$B$138=$AM$37,IF(BD!$B$2:$B$138=$AM$37,ROW(BD!$B$2:$B$138)-ROW(BD!$B$2)+1),FALSE),ROWS(BD!$1:13)))))","v":""},{"$f":"IF($AM$37=\"\",\"\",IF(ROWS(BD!$1:13)>COUNTIFS(BD!$B:$B,$AM$37),\"\",INDEX(BD!$H$2:$H$138,SMALL(IF(BD!$B$2:$B$138=$AM$37,IF(BD!$B$2:$B$138=$AM$37,ROW(BD!$B$2:$B$138)-ROW(BD!$B$2)+1),FALSE),ROWS(BD!$1:13)))))","v":""}]
[null,null,{"$f":"IF($C$37=\"\",\"\",IF(ROWS(BD!$1:14)>COUNTIFS(BD!$B$1:$B$138,$C$37),\"\",INDEX(BD!$C$2:$C$138,SMALL(IF(BD!$B$2:$B$138=$C$37,IF(BD!$B$2:$B$138=$C$37,ROW(BD!$B$2:$B$138)-ROW(BD!$B$2)+1),FALSE),ROWS(BD!$1:14)))))","v":""},{"$f":"IF($C$37=\"\",\"\",IF(ROWS(BD!$1:14)>COUNTIFS(BD!$B$1:$B$138,$C$37),\"\",INDEX(BD!$E$2:$E$138,SMALL(IF(BD!$B$2:$B$138=$C$37,IF(BD!$B$2:$B$138=$C$37,ROW(BD!$B$2:$B$138)-ROW(BD!$B$2)+1),FALSE),ROWS(BD!$1:14)))))","v":""},{"$f":"IF($C$37=\"\",\"\",IF(ROWS(BD!$1:14)>COUNTIFS(BD!$B$1:$B$138,$C$37),\"\",INDEX(BD!$F$2:$F$138,SMALL(IF(BD!$B$2:$B$138=$C$37,IF(BD!$B$2:$B$138=$C$37,ROW(BD!$B$2:$B$138)-ROW(BD!$B$2)+1),FALSE),ROWS(BD!$1:14)))))","v":""},{"$f":"IF($C$37=\"\",\"\",IF(ROWS(BD!$1:14)>COUNTIFS(BD!$B:$B,$C$37),\"\",INDEX(BD!$G$2:$G$138,SMALL(IF(BD!$B$2:$B$138=$C$37,IF(BD!$B$2:$B$138=$C$37,ROW(BD!$B$2:$B$138)-ROW(BD!$B$2)+1),FALSE),ROWS(BD!$1:14)))))","v":""},{"$f":"IF($C$37=\"\",\"\",IF(ROWS(BD!$1:14)>COUNTIFS(BD!$B:$B,$C$37),\"\",INDEX(BD!$H$2:$H$138,SMALL(IF(BD!$B$2:$B$138=$C$37,IF(BD!$B$2:$B$138=$C$37,ROW(BD!$B$2:$B$138)-ROW(BD!$B$2)+1),FALSE),ROWS(BD!$1:14)))))","v":""},null,{"$f":"IF($I$37=\"\",\"\",IF(ROWS(BD!$1:14)>COUNTIFS(BD!$B$1:$B$138,$I$37),\"\",INDEX(BD!$C$2:$C$138,SMALL(IF(BD!$B$2:$B$138=$I$37,IF(BD!$B$2:$B$138=$I$37,ROW(BD!$B$2:$B$138)-ROW(BD!$B$2)+1),FALSE),ROWS(BD!$1:14)))))","v":""},{"$f":"IF($I$37=\"\",\"\",IF(ROWS(BD!$1:14)>COUNTIFS(BD!$B$1:$B$138,$I$37),\"\",INDEX(BD!$E$2:$E$138,SMALL(IF(BD!$B$2:$B$138=$I$37,IF(BD!$B$2:$B$138=$I$37,ROW(BD!$B$2:$B$138)-ROW(BD!$B$2)+1),FALSE),ROWS(BD!$1:14)))))","v":""},{"$f":"IF($I$37=\"\",\"\",IF(ROWS(BD!$1:14)>COUNTIFS(BD!$B$1:$B$138,$I$37),\"\",INDEX(BD!$F$2:$F$138,SMALL(IF(BD!$B$2:$B$138=$I$37,IF(BD!$B$2:$B$138=$I$37,ROW(BD!$B$2:$B$138)-ROW(BD!$B$2)+1),FALSE),ROWS(BD!$1:14)))))","v":""},{"$f":"IF($I$37=\"\",\"\",IF(ROWS(BD!$1:14)>COUNTIFS(BD!$B:$B,$I$37),\"\",INDEX(BD!$G$2:$G$138,SMALL(IF(BD!$B$2:$B$138=$I$37,IF(BD!$B$2:$B$138=$I$37,ROW(BD!$B$2:$B$138)-ROW(BD!$B$2)+1),FALSE),ROWS(BD!$1:14)))))","v":""},{"$f":"IF($I$37=\"\",\"\",IF(ROWS(BD!$1:14)>COUNTIFS(BD!$B:$B,$I$37),\"\",INDEX(BD!$H$2:$H$138,SMALL(IF(BD!$B$2:$B$138=$I$37,IF(BD!$B$2:$B$138=$I$37,ROW(BD!$B$2:$B$138)-ROW(BD!$B$2)+1),FALSE),ROWS(BD!$1:14)))))","v":""},null,{"$f":"IF($O$37=\"\",\"\",IF(ROWS(BD!$1:14)>COUNTIFS(BD!$B$1:$B$138,$O$37),\"\",INDEX(BD!$C$2:$C$138,SMALL(IF(BD!$B$2:$B$138=$O$37,IF(BD!$B$2:$B$138=$O$37,ROW(BD!$B$2:$B$138)-ROW(BD!$B$2)+1),FALSE),ROWS(BD!$1:14)))))","v":""},{"$f":"IF($O$37=\"\",\"\",IF(ROWS(BD!$1:14)>COUNTIFS(BD!$B$1:$B$138,$O$37),\"\",INDEX(BD!$E$2:$E$138,SMALL(IF(BD!$B$2:$B$138=$O$37,IF(BD!$B$2:$B$138=$O$37,ROW(BD!$B$2:$B$138)-ROW(BD!$B$2)+1),FALSE),ROWS(BD!$1:14)))))","v":""},{"$f":"IF($O$37=\"\",\"\",IF(ROWS(BD!$1:14)>COUNTIFS(BD!$B$1:$B$138,$O$37),\"\",INDEX(BD!$F$2:$F$138,SMALL(IF(BD!$B$2:$B$138=$O$37,IF(BD!$B$2:$B$138=$O$37,ROW(BD!$B$2:$B$138)-ROW(BD!$B$2)+1),FALSE),ROWS(BD!$1:14)))))","v":""},{"$f":"IF($O$37=\"\",\"\",IF(ROWS(BD!$1:14)>COUNTIFS(BD!$B:$B,$O$37),\"\",INDEX(BD!$G$2:$G$138,SMALL(IF(BD!$B$2:$B$138=$O$37,IF(BD!$B$2:$B$138=$O$37,ROW(BD!$B$2:$B$138)-ROW(BD!$B$2)+1),FALSE),ROWS(BD!$1:14)))))","v":""},{"$f":"IF($O$37=\"\",\"\",IF(ROWS(BD!$1:14)>COUNTIFS(BD!$B:$B,$O$37),\"\",INDEX(BD!$H$2:$H$138,SMALL(IF(BD!$B$2:$B$138=$O$37,IF(BD!$B$2:$B$138=$O$37,ROW(BD!$B$2:$B$138)-ROW(BD!$B$2)+1),FALSE),ROWS(BD!$1:14)))))","v":""},null,{"$f":"IF($U$37=\"\",\"\",IF(ROWS(BD!$1:14)>COUNTIFS(BD!$B$1:$B$138,$U$37),\"\",INDEX(BD!$C$2:$C$138,SMALL(IF(BD!$B$2:$B$138=$U$37,IF(BD!$B$2:$B$138=$U$37,ROW(BD!$B$2:$B$138)-ROW(BD!$B$2)+1),FALSE),ROWS(BD!$1:14)))))","v":""},{"$f":"IF($U$37=\"\",\"\",IF(ROWS(BD!$1:14)>COUNTIFS(BD!$B$1:$B$138,$U$37),\"\",INDEX(BD!$E$2:$E$138,SMALL(IF(BD!$B$2:$B$138=$U$37,IF(BD!$B$2:$B$138=$U$37,ROW(BD!$B$2:$B$138)-ROW(BD!$B$2)+1),FALSE),ROWS(BD!$1:14)))))","v":""},{"$f":"IF($U$37=\"\",\"\",IF(ROWS(BD!$1:14)>COUNTIFS(BD!$B$1:$B$138,$U$37),\"\",INDEX(BD!$F$2:$F$138,SMALL(IF(BD!$B$2:$B$138=$U$37,IF(BD!$B$2:$B$138=$U$37,ROW(BD!$B$2:$B$138)-ROW(BD!$B$2)+1),FALSE),ROWS(BD!$1:14)))))","v":""},{"$f":"IF($U$37=\"\",\"\",IF(ROWS(BD!$1:14)>COUNTIFS(BD!$B:$B,$U$37),\"\",INDEX(BD!$G$2:$G$138,SMALL(IF(BD!$B$2:$B$138=$U$37,IF(BD!$B$2:$B$138=$U$37,ROW(BD!$B$2:$B$138)-ROW(BD!$B$2)+1),FALSE),ROWS(BD!$1:14)))))","v":""},{"$f":"IF($U$37=\"\",\"\",IF(ROWS(BD!$1:14)>COUNTIFS(BD!$B:$B,$U$37),\"\",INDEX(BD!$H$2:$H$138,SMALL(IF(BD!$B$2:$B$138=$U$37,IF(BD!$B$2:$B$138=$U$37,ROW(BD!$B$2:$B$138)-ROW(BD!$B$2)+1),FALSE),ROWS(BD!$1:14)))))","v":""},null,{"$f":"IF($AA$37=\"\",\"\",IF(ROWS(BD!$1:14)>COUNTIFS(BD!$B$1:$B$138,$AA$37),\"\",INDEX(BD!$C$2:$C$138,SMALL(IF(BD!$B$2:$B$138=$AA$37,IF(BD!$B$2:$B$138=$AA$37,ROW(BD!$B$2:$B$138)-ROW(BD!$B$2)+1),FALSE),ROWS(BD!$1:14)))))","v":""},{"$f":"IF($AA$37=\"\",\"\",IF(ROWS(BD!$1:14)>COUNTIFS(BD!$B$1:$B$138,$AA$37),\"\",INDEX(BD!$E$2:$E$138,SMALL(IF(BD!$B$2:$B$138=$AA$37,IF(BD!$B$2:$B$138=$AA$37,ROW(BD!$B$2:$B$138)-ROW(BD!$B$2)+1),FALSE),ROWS(BD!$1:14)))))","v":""},{"$f":"IF($AA$37=\"\",\"\",IF(ROWS(BD!$1:14)>COUNTIFS(BD!$B$1:$B$138,$AA$37),\"\",INDEX(BD!$F$2:$F$138,SMALL(IF(BD!$B$2:$B$138=$AA$37,IF(BD!$B$2:$B$138=$AA$37,ROW(BD!$B$2:$B$138)-ROW(BD!$B$2)+1),FALSE),ROWS(BD!$1:14)))))","v":""},{"$f":"IF($AA$37=\"\",\"\",IF(ROWS(BD!$1:14)>COUNTIFS(BD!$B:$B,$AA$37),\"\",INDEX(BD!$G$2:$G$138,SMALL(IF(BD!$B$2:$B$138=$AA$37,IF(BD!$B$2:$B$138=$AA$37,ROW(BD!$B$2:$B$138)-ROW(BD!$B$2)+1),FALSE),ROWS(BD!$1:14)))))","v":""},{"$f":"IF($AA$37=\"\",\"\",IF(ROWS(BD!$1:14)>COUNTIFS(BD!$B:$B,$AA$37),\"\",INDEX(BD!$H$2:$H$138,SMALL(IF(BD!$B$2:$B$138=$AA$37,IF(BD!$B$2:$B$138=$AA$37,ROW(BD!$B$2:$B$138)-ROW(BD!$B$2)+1),FALSE),ROWS(BD!$1:14)))))","v":""},null,{"$f":"IF($AG$37=\"\",\"\",IF(ROWS(BD!$1:14)>COUNTIFS(BD!$B$1:$B$138,$AG$37),\"\",INDEX(BD!$C$2:$C$138,SMALL(IF(BD!$B$2:$B$138=$AG$37,IF(BD!$B$2:$B$138=$AG$37,ROW(BD!$B$2:$B$138)-ROW(BD!$B$2)+1),FALSE),ROWS(BD!$1:14)))))","v":""},{"$f":"IF($AG$37=\"\",\"\",IF(ROWS(BD!$1:14)>COUNTIFS(BD!$B$1:$B$138,$AG$37),\"\",INDEX(BD!$E$2:$E$138,SMALL(IF(BD!$B$2:$B$138=$AG$37,IF(BD!$B$2:$B$138=$AG$37,ROW(BD!$B$2:$B$138)-ROW(BD!$B$2)+1),FALSE),ROWS(BD!$1:14)))))","v":""},{"$f":"IF($AG$37=\"\",\"\",IF(ROWS(BD!$1:14)>COUNTIFS(BD!$B$1:$B$138,$AG$37),\"\",INDEX(BD!$F$2:$F$138,SMALL(IF(BD!$B$2:$B$138=$AG$37,IF(BD!$B$2:$B$138=$AG$37,ROW(BD!$B$2:$B$138)-ROW(BD!$B$2)+1),FALSE),ROWS(BD!$1:14)))))","v":""},{"$f":"IF($AG$37=\"\",\"\",IF(ROWS(BD!$1:14)>COUNTIFS(BD!$B:$B,$AG$37),\"\",INDEX(BD!$G$2:$G$138,SMALL(IF(BD!$B$2:$B$138=$AG$37,IF(BD!$B$2:$B$138=$AG$37,ROW(BD!$B$2:$B$138)-ROW(BD!$B$2)+1),FALSE),ROWS(BD!$1:14)))))","v":""},{"$f":"IF($AG$37=\"\",\"\",IF(ROWS(BD!$1:14)>COUNTIFS(BD!$B:$B,$AG$37),\"\",INDEX(BD!$H$2:$H$138,SMALL(IF(BD!$B$2:$B$138=$AG$37,IF(BD!$B$2:$B$138=$AG$37,ROW(BD!$B$2:$B$138)-ROW(BD!$B$2)+1),FALSE),ROWS(BD!$1:14)))))","v":""},null,{"$f":"IF($AM$37=\"\",\"\",IF(ROWS(BD!$1:14)>COUNTIFS(BD!$B$1:$B$138,$AM$37),\"\",INDEX(BD!$C$2:$C$138,SMALL(IF(BD!$B$2:$B$138=$AM$37,IF(BD!$B$2:$B$138=$AM$37,ROW(BD!$B$2:$B$138)-ROW(BD!$B$2)+1),FALSE),ROWS(BD!$1:14)))))","v":""},{"$f":"IF($AM$37=\"\",\"\",IF(ROWS(BD!$1:14)>COUNTIFS(BD!$B$1:$B$138,$AM$37),\"\",INDEX(BD!$E$2:$E$138,SMALL(IF(BD!$B$2:$B$138=$AM$37,IF(BD!$B$2:$B$138=$AM$37,ROW(BD!$B$2:$B$138)-ROW(BD!$B$2)+1),FALSE),ROWS(BD!$1:14)))))","v":""},{"$f":"IF($AM$37=\"\",\"\",IF(ROWS(BD!$1:14)>COUNTIFS(BD!$B$1:$B$138,$AM$37),\"\",INDEX(BD!$F$2:$F$138,SMALL(IF(BD!$B$2:$B$138=$AM$37,IF(BD!$B$2:$B$138=$AM$37,ROW(BD!$B$2:$B$138)-ROW(BD!$B$2)+1),FALSE),ROWS(BD!$1:14)))))","v":""},{"$f":"IF($AM$37=\"\",\"\",IF(ROWS(BD!$1:14)>COUNTIFS(BD!$B:$B,$AM$37),\"\",INDEX(BD!$G$2:$G$138,SMALL(IF(BD!$B$2:$B$138=$AM$37,IF(BD!$B$2:$B$138=$AM$37,ROW(BD!$B$2:$B$138)-ROW(BD!$B$2)+1),FALSE),ROWS(BD!$1:14)))))","v":""},{"$f":"IF($AM$37=\"\",\"\",IF(ROWS(BD!$1:14)>COUNTIFS(BD!$B:$B,$AM$37),\"\",INDEX(BD!$H$2:$H$138,SMALL(IF(BD!$B$2:$B$138=$AM$37,IF(BD!$B$2:$B$138=$AM$37,ROW(BD!$B$2:$B$138)-ROW(BD!$B$2)+1),FALSE),ROWS(BD!$1:14)))))","v":""}]
[null,null,{"$f":"IF($C$37=\"\",\"\",IF(ROWS(BD!$1:15)>COUNTIFS(BD!$B$1:$B$138,$C$37),\"\",INDEX(BD!$C$2:$C$138,SMALL(IF(BD!$B$2:$B$138=$C$37,IF(BD!$B$2:$B$138=$C$37,ROW(BD!$B$2:$B$138)-ROW(BD!$B$2)+1),FALSE),ROWS(BD!$1:15)))))","v":""},{"$f":"IF($C$37=\"\",\"\",IF(ROWS(BD!$1:15)>COUNTIFS(BD!$B$1:$B$138,$C$37),\"\",INDEX(BD!$E$2:$E$138,SMALL(IF(BD!$B$2:$B$138=$C$37,IF(BD!$B$2:$B$138=$C$37,ROW(BD!$B$2:$B$138)-ROW(BD!$B$2)+1),FALSE),ROWS(BD!$1:15)))))","v":""},{"$f":"IF($C$37=\"\",\"\",IF(ROWS(BD!$1:15)>COUNTIFS(BD!$B$1:$B$138,$C$37),\"\",INDEX(BD!$F$2:$F$138,SMALL(IF(BD!$B$2:$B$138=$C$37,IF(BD!$B$2:$B$138=$C$37,ROW(BD!$B$2:$B$138)-ROW(BD!$B$2)+1),FALSE),ROWS(BD!$1:15)))))","v":""},{"$f":"IF($C$37=\"\",\"\",IF(ROWS(BD!$1:15)>COUNTIFS(BD!$B:$B,$C$37),\"\",INDEX(BD!$G$2:$G$138,SMALL(IF(BD!$B$2:$B$138=$C$37,IF(BD!$B$2:$B$138=$C$37,ROW(BD!$B$2:$B$138)-ROW(BD!$B$2)+1),FALSE),ROWS(BD!$1:15)))))","v":""},{"$f":"IF($C$37=\"\",\"\",IF(ROWS(BD!$1:15)>COUNTIFS(BD!$B:$B,$C$37),\"\",INDEX(BD!$H$2:$H$138,SMALL(IF(BD!$B$2:$B$138=$C$37,IF(BD!$B$2:$B$138=$C$37,ROW(BD!$B$2:$B$138)-ROW(BD!$B$2)+1),FALSE),ROWS(BD!$1:15)))))","v":""},null,{"$f":"IF($I$37=\"\",\"\",IF(ROWS(BD!$1:15)>COUNTIFS(BD!$B$1:$B$138,$I$37),\"\",INDEX(BD!$C$2:$C$138,SMALL(IF(BD!$B$2:$B$138=$I$37,IF(BD!$B$2:$B$138=$I$37,ROW(BD!$B$2:$B$138)-ROW(BD!$B$2)+1),FALSE),ROWS(BD!$1:15)))))","v":""},{"$f":"IF($I$37=\"\",\"\",IF(ROWS(BD!$1:15)>COUNTIFS(BD!$B$1:$B$138,$I$37),\"\",INDEX(BD!$E$2:$E$138,SMALL(IF(BD!$B$2:$B$138=$I$37,IF(BD!$B$2:$B$138=$I$37,ROW(BD!$B$2:$B$138)-ROW(BD!$B$2)+1),FALSE),ROWS(BD!$1:15)))))","v":""},{"$f":"IF($I$37=\"\",\"\",IF(ROWS(BD!$1:15)>COUNTIFS(BD!$B$1:$B$138,$I$37),\"\",INDEX(BD!$F$2:$F$138,SMALL(IF(BD!$B$2:$B$138=$I$37,IF(BD!$B$2:$B$138=$I$37,ROW(BD!$B$2:$B$138)-ROW(BD!$B$2)+1),FALSE),ROWS(BD!$1:15)))))","v":""},{"$f":"IF($I$37=\"\",\"\",IF(ROWS(BD!$1:15)>COUNTIFS(BD!$B:$B,$I$37),\"\",INDEX(BD!$G$2:$G$138,SMALL(IF(BD!$B$2:$B$138=$I$37,IF(BD!$B$2:$B$138=$I$37,ROW(BD!$B$2:$B$138)-ROW(BD!$B$2)+1),FALSE),ROWS(BD!$1:15)))))","v":""},{"$f":"IF($I$37=\"\",\"\",IF(ROWS(BD!$1:15)>COUNTIFS(BD!$B:$B,$I$37),\"\",INDEX(BD!$H$2:$H$138,SMALL(IF(BD!$B$2:$B$138=$I$37,IF(BD!$B$2:$B$138=$I$37,ROW(BD!$B$2:$B$138)-ROW(BD!$B$2)+1),FALSE),ROWS(BD!$1:15)))))","v":""},null,{"$f":"IF($O$37=\"\",\"\",IF(ROWS(BD!$1:15)>COUNTIFS(BD!$B$1:$B$138,$O$37),\"\",INDEX(BD!$C$2:$C$138,SMALL(IF(BD!$B$2:$B$138=$O$37,IF(BD!$B$2:$B$138=$O$37,ROW(BD!$B$2:$B$138)-ROW(BD!$B$2)+1),FALSE),ROWS(BD!$1:15)))))","v":""},{"$f":"IF($O$37=\"\",\"\",IF(ROWS(BD!$1:15)>COUNTIFS(BD!$B$1:$B$138,$O$37),\"\",INDEX(BD!$E$2:$E$138,SMALL(IF(BD!$B$2:$B$138=$O$37,IF(BD!$B$2:$B$138=$O$37,ROW(BD!$B$2:$B$138)-ROW(BD!$B$2)+1),FALSE),ROWS(BD!$1:15)))))","v":""},{"$f":"IF($O$37=\"\",\"\",IF(ROWS(BD!$1:15)>COUNTIFS(BD!$B$1:$B$138,$O$37),\"\",INDEX(BD!$F$2:$F$138,SMALL(IF(BD!$B$2:$B$138=$O$37,IF(BD!$B$2:$B$138=$O$37,ROW(BD!$B$2:$B$138)-ROW(BD!$B$2)+1),FALSE),ROWS(BD!$1:15)))))","v":""},{"$f":"IF($O$37=\"\",\"\",IF(ROWS(BD!$1:15)>COUNTIFS(BD!$B:$B,$O$37),\"\",INDEX(BD!$G$2:$G$138,SMALL(IF(BD!$B$2:$B$138=$O$37,IF(BD!$B$2:$B$138=$O$37,ROW(BD!$B$2:$B$138)-ROW(BD!$B$2)+1),FALSE),ROWS(BD!$1:15)))))","v":""},{"$f":"IF($O$37=\"\",\"\",IF(ROWS(BD!$1:15)>COUNTIFS(BD!$B:$B,$O$37),\"\",INDEX(BD!$H$2:$H$138,SMALL(IF(BD!$B$2:$B$138=$O$37,IF(BD!$B$2:$B$138=$O$37,ROW(BD!$B$2:$B$138)-ROW(BD!$B$2)+1),FALSE),ROWS(BD!$1:15)))))","v":""},null,{"$f":"IF($U$37=\"\",\"\",IF(ROWS(BD!$1:15)>COUNTIFS(BD!$B$1:$B$138,$U$37),\"\",INDEX(BD!$C$2:$C$138,SMALL(IF(BD!$B$2:$B$138=$U$37,IF(BD!$B$2:$B$138=$U$37,ROW(BD!$B$2:$B$138)-ROW(BD!$B$2)+1),FALSE),ROWS(BD!$1:15)))))","v":""},{"$f":"IF($U$37=\"\",\"\",IF(ROWS(BD!$1:15)>COUNTIFS(BD!$B$1:$B$138,$U$37),\"\",INDEX(BD!$E$2:$E$138,SMALL(IF(BD!$B$2:$B$138=$U$37,IF(BD!$B$2:$B$138=$U$37,ROW(BD!$B$2:$B$138)-ROW(BD!$B$2)+1),FALSE),ROWS(BD!$1:15)))))","v":""},{"$f":"IF($U$37=\"\",\"\",IF(ROWS(BD!$1:15)>COUNTIFS(BD!$B$1:$B$138,$U$37),\"\",INDEX(BD!$F$2:$F$138,SMALL(IF(BD!$B$2:$B$138=$U$37,IF(BD!$B$2:$B$138=$U$37,ROW(BD!$B$2:$B$138)-ROW(BD!$B$2)+1),FALSE),ROWS(BD!$1:15)))))","v":""},{"$f":"IF($U$37=\"\",\"\",IF(ROWS(BD!$1:15)>COUNTIFS(BD!$B:$B,$U$37),\"\",INDEX(BD!$G$2:$G$138,SMALL(IF(BD!$B$2:$B$138=$U$37,IF(BD!$B$2:$B$138=$U$37,ROW(BD!$B$2:$B$138)-ROW(BD!$B$2)+1),FALSE),ROWS(BD!$1:15)))))","v":""},{"$f":"IF($U$37=\"\",\"\",IF(ROWS(BD!$1:15)>COUNTIFS(BD!$B:$B,$U$37),\"\",INDEX(BD!$H$2:$H$138,SMALL(IF(BD!$B$2:$B$138=$U$37,IF(BD!$B$2:$B$138=$U$37,ROW(BD!$B$2:$B$138)-ROW(BD!$B$2)+1),FALSE),ROWS(BD!$1:15)))))","v":""},null,{"$f":"IF($AA$37=\"\",\"\",IF(ROWS(BD!$1:15)>COUNTIFS(BD!$B$1:$B$138,$AA$37),\"\",INDEX(BD!$C$2:$C$138,SMALL(IF(BD!$B$2:$B$138=$AA$37,IF(BD!$B$2:$B$138=$AA$37,ROW(BD!$B$2:$B$138)-ROW(BD!$B$2)+1),FALSE),ROWS(BD!$1:15)))))","v":""},{"$f":"IF($AA$37=\"\",\"\",IF(ROWS(BD!$1:15)>COUNTIFS(BD!$B$1:$B$138,$AA$37),\"\",INDEX(BD!$E$2:$E$138,SMALL(IF(BD!$B$2:$B$138=$AA$37,IF(BD!$B$2:$B$138=$AA$37,ROW(BD!$B$2:$B$138)-ROW(BD!$B$2)+1),FALSE),ROWS(BD!$1:15)))))","v":""},{"$f":"IF($AA$37=\"\",\"\",IF(ROWS(BD!$1:15)>COUNTIFS(BD!$B$1:$B$138,$AA$37),\"\",INDEX(BD!$F$2:$F$138,SMALL(IF(BD!$B$2:$B$138=$AA$37,IF(BD!$B$2:$B$138=$AA$37,ROW(BD!$B$2:$B$138)-ROW(BD!$B$2)+1),FALSE),ROWS(BD!$1:15)))))","v":""},{"$f":"IF($AA$37=\"\",\"\",IF(ROWS(BD!$1:15)>COUNTIFS(BD!$B:$B,$AA$37),\"\",INDEX(BD!$G$2:$G$138,SMALL(IF(BD!$B$2:$B$138=$AA$37,IF(BD!$B$2:$B$138=$AA$37,ROW(BD!$B$2:$B$138)-ROW(BD!$B$2)+1),FALSE),ROWS(BD!$1:15)))))","v":""},{"$f":"IF($AA$37=\"\",\"\",IF(ROWS(BD!$1:15)>COUNTIFS(BD!$B:$B,$AA$37),\"\",INDEX(BD!$H$2:$H$138,SMALL(IF(BD!$B$2:$B$138=$AA$37,IF(BD!$B$2:$B$138=$AA$37,ROW(BD!$B$2:$B$138)-ROW(BD!$B$2)+1),FALSE),ROWS(BD!$1:15)))))","v":""},null,{"$f":"IF($AG$37=\"\",\"\",IF(ROWS(BD!$1:15)>COUNTIFS(BD!$B$1:$B$138,$AG$37),\"\",INDEX(BD!$C$2:$C$138,SMALL(IF(BD!$B$2:$B$138=$AG$37,IF(BD!$B$2:$B$138=$AG$37,ROW(BD!$B$2:$B$138)-ROW(BD!$B$2)+1),FALSE),ROWS(BD!$1:15)))))","v":""},{"$f":"IF($AG$37=\"\",\"\",IF(ROWS(BD!$1:15)>COUNTIFS(BD!$B$1:$B$138,$AG$37),\"\",INDEX(BD!$E$2:$E$138,SMALL(IF(BD!$B$2:$B$138=$AG$37,IF(BD!$B$2:$B$138=$AG$37,ROW(BD!$B$2:$B$138)-ROW(BD!$B$2)+1),FALSE),ROWS(BD!$1:15)))))","v":""},{"$f":"IF($AG$37=\"\",\"\",IF(ROWS(BD!$1:15)>COUNTIFS(BD!$B$1:$B$138,$AG$37),\"\",INDEX(BD!$F$2:$F$138,SMALL(IF(BD!$B$2:$B$138=$AG$37,IF(BD!$B$2:$B$138=$AG$37,ROW(BD!$B$2:$B$138)-ROW(BD!$B$2)+1),FALSE),ROWS(BD!$1:15)))))","v":""},{"$f":"IF($AG$37=\"\",\"\",IF(ROWS(BD!$1:15)>COUNTIFS(BD!$B:$B,$AG$37),\"\",INDEX(BD!$G$2:$G$138,SMALL(IF(BD!$B$2:$B$138=$AG$37,IF(BD!$B$2:$B$138=$AG$37,ROW(BD!$B$2:$B$138)-ROW(BD!$B$2)+1),FALSE),ROWS(BD!$1:15)))))","v":""},{"$f":"IF($AG$37=\"\",\"\",IF(ROWS(BD!$1:15)>COUNTIFS(BD!$B:$B,$AG$37),\"\",INDEX(BD!$H$2:$H$138,SMALL(IF(BD!$B$2:$B$138=$AG$37,IF(BD!$B$2:$B$138=$AG$37,ROW(BD!$B$2:$B$138)-ROW(BD!$B$2)+1),FALSE),ROWS(BD!$1:15)))))","v":""},null,{"$f":"IF($AM$37=\"\",\"\",IF(ROWS(BD!$1:15)>COUNTIFS(BD!$B$1:$B$138,$AM$37),\"\",INDEX(BD!$C$2:$C$138,SMALL(IF(BD!$B$2:$B$138=$AM$37,IF(BD!$B$2:$B$138=$AM$37,ROW(BD!$B$2:$B$138)-ROW(BD!$B$2)+1),FALSE),ROWS(BD!$1:15)))))","v":""},{"$f":"IF($AM$37=\"\",\"\",IF(ROWS(BD!$1:15)>COUNTIFS(BD!$B$1:$B$138,$AM$37),\"\",INDEX(BD!$E$2:$E$138,SMALL(IF(BD!$B$2:$B$138=$AM$37,IF(BD!$B$2:$B$138=$AM$37,ROW(BD!$B$2:$B$138)-ROW(BD!$B$2)+1),FALSE),ROWS(BD!$1:15)))))","v":""},{"$f":"IF($AM$37=\"\",\"\",IF(ROWS(BD!$1:15)>COUNTIFS(BD!$B$1:$B$138,$AM$37),\"\",INDEX(BD!$F$2:$F$138,SMALL(IF(BD!$B$2:$B$138=$AM$37,IF(BD!$B$2:$B$138=$AM$37,ROW(BD!$B$2:$B$138)-ROW(BD!$B$2)+1),FALSE),ROWS(BD!$1:15)))))","v":""},{"$f":"IF($AM$37=\"\",\"\",IF(ROWS(BD!$1:15)>COUNTIFS(BD!$B:$B,$AM$37),\"\",INDEX(BD!$G$2:$G$138,SMALL(IF(BD!$B$2:$B$138=$AM$37,IF(BD!$B$2:$B$138=$AM$37,ROW(BD!$B$2:$B$138)-ROW(BD!$B$2)+1),FALSE),ROWS(BD!$1:15)))))","v":""},{"$f":"IF($AM$37=\"\",\"\",IF(ROWS(BD!$1:15)>COUNTIFS(BD!$B:$B,$AM$37),\"\",INDEX(BD!$H$2:$H$138,SMALL(IF(BD!$B$2:$B$138=$AM$37,IF(BD!$B$2:$B$138=$AM$37,ROW(BD!$B$2:$B$138)-ROW(BD!$B$2)+1),FALSE),ROWS(BD!$1:15)))))","v":""}]
[null,null,{"$f":"IF($C$37=\"\",\"\",IF(ROWS(BD!$1:16)>COUNTIFS(BD!$B$1:$B$138,$C$37),\"\",INDEX(BD!$C$2:$C$138,SMALL(IF(BD!$B$2:$B$138=$C$37,IF(BD!$B$2:$B$138=$C$37,ROW(BD!$B$2:$B$138)-ROW(BD!$B$2)+1),FALSE),ROWS(BD!$1:16)))))","v":""},{"$f":"IF($C$37=\"\",\"\",IF(ROWS(BD!$1:16)>COUNTIFS(BD!$B$1:$B$138,$C$37),\"\",INDEX(BD!$E$2:$E$138,SMALL(IF(BD!$B$2:$B$138=$C$37,IF(BD!$B$2:$B$138=$C$37,ROW(BD!$B$2:$B$138)-ROW(BD!$B$2)+1),FALSE),ROWS(BD!$1:16)))))","v":""},{"$f":"IF($C$37=\"\",\"\",IF(ROWS(BD!$1:16)>COUNTIFS(BD!$B$1:$B$138,$C$37),\"\",INDEX(BD!$F$2:$F$138,SMALL(IF(BD!$B$2:$B$138=$C$37,IF(BD!$B$2:$B$138=$C$37,ROW(BD!$B$2:$B$138)-ROW(BD!$B$2)+1),FALSE),ROWS(BD!$1:16)))))","v":""},{"$f":"IF($C$37=\"\",\"\",IF(ROWS(BD!$1:16)>COUNTIFS(BD!$B:$B,$C$37),\"\",INDEX(BD!$G$2:$G$138,SMALL(IF(BD!$B$2:$B$138=$C$37,IF(BD!$B$2:$B$138=$C$37,ROW(BD!$B$2:$B$138)-ROW(BD!$B$2)+1),FALSE),ROWS(BD!$1:16)))))","v":""},{"$f":"IF($C$37=\"\",\"\",IF(ROWS(BD!$1:16)>COUNTIFS(BD!$B:$B,$C$37),\"\",INDEX(BD!$H$2:$H$138,SMALL(IF(BD!$B$2:$B$138=$C$37,IF(BD!$B$2:$B$138=$C$37,ROW(BD!$B$2:$B$138)-ROW(BD!$B$2)+1),FALSE),ROWS(BD!$1:16)))))","v":""},null,{"$f":"IF($I$37=\"\",\"\",IF(ROWS(BD!$1:16)>COUNTIFS(BD!$B$1:$B$138,$I$37),\"\",INDEX(BD!$C$2:$C$138,SMALL(IF(BD!$B$2:$B$138=$I$37,IF(BD!$B$2:$B$138=$I$37,ROW(BD!$B$2:$B$138)-ROW(BD!$B$2)+1),FALSE),ROWS(BD!$1:16)))))","v":""},{"$f":"IF($I$37=\"\",\"\",IF(ROWS(BD!$1:16)>COUNTIFS(BD!$B$1:$B$138,$I$37),\"\",INDEX(BD!$E$2:$E$138,SMALL(IF(BD!$B$2:$B$138=$I$37,IF(BD!$B$2:$B$138=$I$37,ROW(BD!$B$2:$B$138)-ROW(BD!$B$2)+1),FALSE),ROWS(BD!$1:16)))))","v":""},{"$f":"IF($I$37=\"\",\"\",IF(ROWS(BD!$1:16)>COUNTIFS(BD!$B$1:$B$138,$I$37),\"\",INDEX(BD!$F$2:$F$138,SMALL(IF(BD!$B$2:$B$138=$I$37,IF(BD!$B$2:$B$138=$I$37,ROW(BD!$B$2:$B$138)-ROW(BD!$B$2)+1),FALSE),ROWS(BD!$1:16)))))","v":""},{"$f":"IF($I$37=\"\",\"\",IF(ROWS(BD!$1:16)>COUNTIFS(BD!$B:$B,$I$37),\"\",INDEX(BD!$G$2:$G$138,SMALL(IF(BD!$B$2:$B$138=$I$37,IF(BD!$B$2:$B$138=$I$37,ROW(BD!$B$2:$B$138)-ROW(BD!$B$2)+1),FALSE),ROWS(BD!$1:16)))))","v":""},{"$f":"IF($I$37=\"\",\"\",IF(ROWS(BD!$1:16)>COUNTIFS(BD!$B:$B,$I$37),\"\",INDEX(BD!$H$2:$H$138,SMALL(IF(BD!$B$2:$B$138=$I$37,IF(BD!$B$2:$B$138=$I$37,ROW(BD!$B$2:$B$138)-ROW(BD!$B$2)+1),FALSE),ROWS(BD!$1:16)))))","v":""},null,{"$f":"IF($O$37=\"\",\"\",IF(ROWS(BD!$1:16)>COUNTIFS(BD!$B$1:$B$138,$O$37),\"\",INDEX(BD!$C$2:$C$138,SMALL(IF(BD!$B$2:$B$138=$O$37,IF(BD!$B$2:$B$138=$O$37,ROW(BD!$B$2:$B$138)-ROW(BD!$B$2)+1),FALSE),ROWS(BD!$1:16)))))","v":""},{"$f":"IF($O$37=\"\",\"\",IF(ROWS(BD!$1:16)>COUNTIFS(BD!$B$1:$B$138,$O$37),\"\",INDEX(BD!$E$2:$E$138,SMALL(IF(BD!$B$2:$B$138=$O$37,IF(BD!$B$2:$B$138=$O$37,ROW(BD!$B$2:$B$138)-ROW(BD!$B$2)+1),FALSE),ROWS(BD!$1:16)))))","v":""},{"$f":"IF($O$37=\"\",\"\",IF(ROWS(BD!$1:16)>COUNTIFS(BD!$B$1:$B$138,$O$37),\"\",INDEX(BD!$F$2:$F$138,SMALL(IF(BD!$B$2:$B$138=$O$37,IF(BD!$B$2:$B$138=$O$37,ROW(BD!$B$2:$B$138)-ROW(BD!$B$2)+1),FALSE),ROWS(BD!$1:16)))))","v":""},{"$f":"IF($O$37=\"\",\"\",IF(ROWS(BD!$1:16)>COUNTIFS(BD!$B:$B,$O$37),\"\",INDEX(BD!$G$2:$G$138,SMALL(IF(BD!$B$2:$B$138=$O$37,IF(BD!$B$2:$B$138=$O$37,ROW(BD!$B$2:$B$138)-ROW(BD!$B$2)+1),FALSE),ROWS(BD!$1:16)))))","v":""},{"$f":"IF($O$37=\"\",\"\",IF(ROWS(BD!$1:16)>COUNTIFS(BD!$B:$B,$O$37),\"\",INDEX(BD!$H$2:$H$138,SMALL(IF(BD!$B$2:$B$138=$O$37,IF(BD!$B$2:$B$138=$O$37,ROW(BD!$B$2:$B$138)-ROW(BD!$B$2)+1),FALSE),ROWS(BD!$1:16)))))","v":""},null,{"$f":"IF($U$37=\"\",\"\",IF(ROWS(BD!$1:16)>COUNTIFS(BD!$B$1:$B$138,$U$37),\"\",INDEX(BD!$C$2:$C$138,SMALL(IF(BD!$B$2:$B$138=$U$37,IF(BD!$B$2:$B$138=$U$37,ROW(BD!$B$2:$B$138)-ROW(BD!$B$2)+1),FALSE),ROWS(BD!$1:16)))))","v":""},{"$f":"IF($U$37=\"\",\"\",IF(ROWS(BD!$1:16)>COUNTIFS(BD!$B$1:$B$138,$U$37),\"\",INDEX(BD!$E$2:$E$138,SMALL(IF(BD!$B$2:$B$138=$U$37,IF(BD!$B$2:$B$138=$U$37,ROW(BD!$B$2:$B$138)-ROW(BD!$B$2)+1),FALSE),ROWS(BD!$1:16)))))","v":""},{"$f":"IF($U$37=\"\",\"\",IF(ROWS(BD!$1:16)>COUNTIFS(BD!$B$1:$B$138,$U$37),\"\",INDEX(BD!$F$2:$F$138,SMALL(IF(BD!$B$2:$B$138=$U$37,IF(BD!$B$2:$B$138=$U$37,ROW(BD!$B$2:$B$138)-ROW(BD!$B$2)+1),FALSE),ROWS(BD!$1:16)))))","v":""},{"$f":"IF($U$37=\"\",\"\",IF(ROWS(BD!$1:16)>COUNTIFS(BD!$B:$B,$U$37),\"\",INDEX(BD!$G$2:$G$138,SMALL(IF(BD!$B$2:$B$138=$U$37,IF(BD!$B$2:$B$138=$U$37,ROW(BD!$B$2:$B$138)-ROW(BD!$B$2)+1),FALSE),ROWS(BD!$1:16)))))","v":""},{"$f":"IF($U$37=\"\",\"\",IF(ROWS(BD!$1:16)>COUNTIFS(BD!$B:$B,$U$37),\"\",INDEX(BD!$H$2:$H$138,SMALL(IF(BD!$B$2:$B$138=$U$37,IF(BD!$B$2:$B$138=$U$37,ROW(BD!$B$2:$B$138)-ROW(BD!$B$2)+1),FALSE),ROWS(BD!$1:16)))))","v":""},null,{"$f":"IF($AA$37=\"\",\"\",IF(ROWS(BD!$1:16)>COUNTIFS(BD!$B$1:$B$138,$AA$37),\"\",INDEX(BD!$C$2:$C$138,SMALL(IF(BD!$B$2:$B$138=$AA$37,IF(BD!$B$2:$B$138=$AA$37,ROW(BD!$B$2:$B$138)-ROW(BD!$B$2)+1),FALSE),ROWS(BD!$1:16)))))","v":""},{"$f":"IF($AA$37=\"\",\"\",IF(ROWS(BD!$1:16)>COUNTIFS(BD!$B$1:$B$138,$AA$37),\"\",INDEX(BD!$E$2:$E$138,SMALL(IF(BD!$B$2:$B$138=$AA$37,IF(BD!$B$2:$B$138=$AA$37,ROW(BD!$B$2:$B$138)-ROW(BD!$B$2)+1),FALSE),ROWS(BD!$1:16)))))","v":""},{"$f":"IF($AA$37=\"\",\"\",IF(ROWS(BD!$1:16)>COUNTIFS(BD!$B$1:$B$138,$AA$37),\"\",INDEX(BD!$F$2:$F$138,SMALL(IF(BD!$B$2:$B$138=$AA$37,IF(BD!$B$2:$B$138=$AA$37,ROW(BD!$B$2:$B$138)-ROW(BD!$B$2)+1),FALSE),ROWS(BD!$1:16)))))","v":""},{"$f":"IF($AA$37=\"\",\"\",IF(ROWS(BD!$1:16)>COUNTIFS(BD!$B:$B,$AA$37),\"\",INDEX(BD!$G$2:$G$138,SMALL(IF(BD!$B$2:$B$138=$AA$37,IF(BD!$B$2:$B$138=$AA$37,ROW(BD!$B$2:$B$138)-ROW(BD!$B$2)+1),FALSE),ROWS(BD!$1:16)))))","v":""},{"$f":"IF($AA$37=\"\",\"\",IF(ROWS(BD!$1:16)>COUNTIFS(BD!$B:$B,$AA$37),\"\",INDEX(BD!$H$2:$H$138,SMALL(IF(BD!$B$2:$B$138=$AA$37,IF(BD!$B$2:$B$138=$AA$37,ROW(BD!$B$2:$B$138)-ROW(BD!$B$2)+1),FALSE),ROWS(BD!$1:16)))))","v":""},null,{"$f":"IF($AG$37=\"\",\"\",IF(ROWS(BD!$1:16)>COUNTIFS(BD!$B$1:$B$138,$AG$37),\"\",INDEX(BD!$C$2:$C$138,SMALL(IF(BD!$B$2:$B$138=$AG$37,IF(BD!$B$2:$B$138=$AG$37,ROW(BD!$B$2:$B$138)-ROW(BD!$B$2)+1),FALSE),ROWS(BD!$1:16)))))","v":""},{"$f":"IF($AG$37=\"\",\"\",IF(ROWS(BD!$1:16)>COUNTIFS(BD!$B$1:$B$138,$AG$37),\"\",INDEX(BD!$E$2:$E$138,SMALL(IF(BD!$B$2:$B$138=$AG$37,IF(BD!$B$2:$B$138=$AG$37,ROW(BD!$B$2:$B$138)-ROW(BD!$B$2)+1),FALSE),ROWS(BD!$1:16)))))","v":""},{"$f":"IF($AG$37=\"\",\"\",IF(ROWS(BD!$1:16)>COUNTIFS(BD!$B$1:$B$138,$AG$37),\"\",INDEX(BD!$F$2:$F$138,SMALL(IF(BD!$B$2:$B$138=$AG$37,IF(BD!$B$2:$B$138=$AG$37,ROW(BD!$B$2:$B$138)-ROW(BD!$B$2)+1),FALSE),ROWS(BD!$1:16)))))","v":""},{"$f":"IF($AG$37=\"\",\"\",IF(ROWS(BD!$1:16)>COUNTIFS(BD!$B:$B,$AG$37),\"\",INDEX(BD!$G$2:$G$138,SMALL(IF(BD!$B$2:$B$138=$AG$37,IF(BD!$B$2:$B$138=$AG$37,ROW(BD!$B$2:$B$138)-ROW(BD!$B$2)+1),FALSE),ROWS(BD!$1:16)))))","v":""},{"$f":"IF($AG$37=\"\",\"\",IF(ROWS(BD!$1:16)>COUNTIFS(BD!$B:$B,$AG$37),\"\",INDEX(BD!$H$2:$H$138,SMALL(IF(BD!$B$2:$B$138=$AG$37,IF(BD!$B$2:$B$138=$AG$37,ROW(BD!$B$2:$B$138)-ROW(BD!$B$2)+1),FALSE),ROWS(BD!$1:16)))))","v":""},null,{"$f":"IF($AM$37=\"\",\"\",IF(ROWS(BD!$1:16)>COUNTIFS(BD!$B$1:$B$138,$AM$37),\"\",INDEX(BD!$C$2:$C$138,SMALL(IF(BD!$B$2:$B$138=$AM$37,IF(BD!$B$2:$B$138=$AM$37,ROW(BD!$B$2:$B$138)-ROW(BD!$B$2)+1),FALSE),ROWS(BD!$1:16)))))","v":""},{"$f":"IF($AM$37=\"\",\"\",IF(ROWS(BD!$1:16)>COUNTIFS(BD!$B$1:$B$138,$AM$37),\"\",INDEX(BD!$E$2:$E$138,SMALL(IF(BD!$B$2:$B$138=$AM$37,IF(BD!$B$2:$B$138=$AM$37,ROW(BD!$B$2:$B$138)-ROW(BD!$B$2)+1),FALSE),ROWS(BD!$1:16)))))","v":""},{"$f":"IF($AM$37=\"\",\"\",IF(ROWS(BD!$1:16)>COUNTIFS(BD!$B$1:$B$138,$AM$37),\"\",INDEX(BD!$F$2:$F$138,SMALL(IF(BD!$B$2:$B$138=$AM$37,IF(BD!$B$2:$B$138=$AM$37,ROW(BD!$B$2:$B$138)-ROW(BD!$B$2)+1),FALSE),ROWS(BD!$1:16)))))","v":""},{"$f":"IF($AM$37=\"\",\"\",IF(ROWS(BD!$1:16)>COUNTIFS(BD!$B:$B,$AM$37),\"\",INDEX(BD!$G$2:$G$138,SMALL(IF(BD!$B$2:$B$138=$AM$37,IF(BD!$B$2:$B$138=$AM$37,ROW(BD!$B$2:$B$138)-ROW(BD!$B$2)+1),FALSE),ROWS(BD!$1:16)))))","v":""},{"$f":"IF($AM$37=\"\",\"\",IF(ROWS(BD!$1:16)>COUNTIFS(BD!$B:$B,$AM$37),\"\",INDEX(BD!$H$2:$H$138,SMALL(IF(BD!$B$2:$B$138=$AM$37,IF(BD!$B$2:$B$138=$AM$37,ROW(BD!$B$2:$B$138)-ROW(BD!$B$2)+1),FALSE),ROWS(BD!$1:16)))))","v":""}]
[null,null,{"$f":"IF($C$37=\"\",\"\",IF(ROWS(BD!$1:17)>COUNTIFS(BD!$B$1:$B$138,$C$37),\"\",INDEX(BD!$C$2:$C$138,SMALL(IF(BD!$B$2:$B$138=$C$37,IF(BD!$B$2:$B$138=$C$37,ROW(BD!$B$2:$B$138)-ROW(BD!$B$2)+1),FALSE),ROWS(BD!$1:17)))))","v":""},{"$f":"IF($C$37=\"\",\"\",IF(ROWS(BD!$1:17)>COUNTIFS(BD!$B$1:$B$138,$C$37),\"\",INDEX(BD!$E$2:$E$138,SMALL(IF(BD!$B$2:$B$138=$C$37,IF(BD!$B$2:$B$138=$C$37,ROW(BD!$B$2:$B$138)-ROW(BD!$B$2)+1),FALSE),ROWS(BD!$1:17)))))","v":""},{"$f":"IF($C$37=\"\",\"\",IF(ROWS(BD!$1:17)>COUNTIFS(BD!$B$1:$B$138,$C$37),\"\",INDEX(BD!$F$2:$F$138,SMALL(IF(BD!$B$2:$B$138=$C$37,IF(BD!$B$2:$B$138=$C$37,ROW(BD!$B$2:$B$138)-ROW(BD!$B$2)+1),FALSE),ROWS(BD!$1:17)))))","v":""},{"$f":"IF($C$37=\"\",\"\",IF(ROWS(BD!$1:17)>COUNTIFS(BD!$B:$B,$C$37),\"\",INDEX(BD!$G$2:$G$138,SMALL(IF(BD!$B$2:$B$138=$C$37,IF(BD!$B$2:$B$138=$C$37,ROW(BD!$B$2:$B$138)-ROW(BD!$B$2)+1),FALSE),ROWS(BD!$1:17)))))","v":""},{"$f":"IF($C$37=\"\",\"\",IF(ROWS(BD!$1:17)>COUNTIFS(BD!$B:$B,$C$37),\"\",INDEX(BD!$H$2:$H$138,SMALL(IF(BD!$B$2:$B$138=$C$37,IF(BD!$B$2:$B$138=$C$37,ROW(BD!$B$2:$B$138)-ROW(BD!$B$2)+1),FALSE),ROWS(BD!$1:17)))))","v":""},null,{"$f":"IF($I$37=\"\",\"\",IF(ROWS(BD!$1:17)>COUNTIFS(BD!$B$1:$B$138,$I$37),\"\",INDEX(BD!$C$2:$C$138,SMALL(IF(BD!$B$2:$B$138=$I$37,IF(BD!$B$2:$B$138=$I$37,ROW(BD!$B$2:$B$138)-ROW(BD!$B$2)+1),FALSE),ROWS(BD!$1:17)))))","v":""},{"$f":"IF($I$37=\"\",\"\",IF(ROWS(BD!$1:17)>COUNTIFS(BD!$B$1:$B$138,$I$37),\"\",INDEX(BD!$E$2:$E$138,SMALL(IF(BD!$B$2:$B$138=$I$37,IF(BD!$B$2:$B$138=$I$37,ROW(BD!$B$2:$B$138)-ROW(BD!$B$2)+1),FALSE),ROWS(BD!$1:17)))))","v":""},{"$f":"IF($I$37=\"\",\"\",IF(ROWS(BD!$1:17)>COUNTIFS(BD!$B$1:$B$138,$I$37),\"\",INDEX(BD!$F$2:$F$138,SMALL(IF(BD!$B$2:$B$138=$I$37,IF(BD!$B$2:$B$138=$I$37,ROW(BD!$B$2:$B$138)-ROW(BD!$B$2)+1),FALSE),ROWS(BD!$1:17)))))","v":""},{"$f":"IF($I$37=\"\",\"\",IF(ROWS(BD!$1:17)>COUNTIFS(BD!$B:$B,$I$37),\"\",INDEX(BD!$G$2:$G$138,SMALL(IF(BD!$B$2:$B$138=$I$37,IF(BD!$B$2:$B$138=$I$37,ROW(BD!$B$2:$B$138)-ROW(BD!$B$2)+1),FALSE),ROWS(BD!$1:17)))))","v":""},{"$f":"IF($I$37=\"\",\"\",IF(ROWS(BD!$1:17)>COUNTIFS(BD!$B:$B,$I$37),\"\",INDEX(BD!$H$2:$H$138,SMALL(IF(BD!$B$2:$B$138=$I$37,IF(BD!$B$2:$B$138=$I$37,ROW(BD!$B$2:$B$138)-ROW(BD!$B$2)+1),FALSE),ROWS(BD!$1:17)))))","v":""},null,{"$f":"IF($O$37=\"\",\"\",IF(ROWS(BD!$1:17)>COUNTIFS(BD!$B$1:$B$138,$O$37),\"\",INDEX(BD!$C$2:$C$138,SMALL(IF(BD!$B$2:$B$138=$O$37,IF(BD!$B$2:$B$138=$O$37,ROW(BD!$B$2:$B$138)-ROW(BD!$B$2)+1),FALSE),ROWS(BD!$1:17)))))","v":""},{"$f":"IF($O$37=\"\",\"\",IF(ROWS(BD!$1:17)>COUNTIFS(BD!$B$1:$B$138,$O$37),\"\",INDEX(BD!$E$2:$E$138,SMALL(IF(BD!$B$2:$B$138=$O$37,IF(BD!$B$2:$B$138=$O$37,ROW(BD!$B$2:$B$138)-ROW(BD!$B$2)+1),FALSE),ROWS(BD!$1:17)))))","v":""},{"$f":"IF($O$37=\"\",\"\",IF(ROWS(BD!$1:17)>COUNTIFS(BD!$B$1:$B$138,$O$37),\"\",INDEX(BD!$F$2:$F$138,SMALL(IF(BD!$B$2:$B$138=$O$37,IF(BD!$B$2:$B$138=$O$37,ROW(BD!$B$2:$B$138)-ROW(BD!$B$2)+1),FALSE),ROWS(BD!$1:17)))))","v":""},{"$f":"IF($O$37=\"\",\"\",IF(ROWS(BD!$1:17)>COUNTIFS(BD!$B:$B,$O$37),\"\",INDEX(BD!$G$2:$G$138,SMALL(IF(BD!$B$2:$B$138=$O$37,IF(BD!$B$2:$B$138=$O$37,ROW(BD!$B$2:$B$138)-ROW(BD!$B$2)+1),FALSE),ROWS(BD!$1:17)))))","v":""},{"$f":"IF($O$37=\"\",\"\",IF(ROWS(BD!$1:17)>COUNTIFS(BD!$B:$B,$O$37),\"\",INDEX(BD!$H$2:$H$138,SMALL(IF(BD!$B$2:$B$138=$O$37,IF(BD!$B$2:$B$138=$O$37,ROW(BD!$B$2:$B$138)-ROW(BD!$B$2)+1),FALSE),ROWS(BD!$1:17)))))","v":""},null,{"$f":"IF($U$37=\"\",\"\",IF(ROWS(BD!$1:17)>COUNTIFS(BD!$B$1:$B$138,$U$37),\"\",INDEX(BD!$C$2:$C$138,SMALL(IF(BD!$B$2:$B$138=$U$37,IF(BD!$B$2:$B$138=$U$37,ROW(BD!$B$2:$B$138)-ROW(BD!$B$2)+1),FALSE),ROWS(BD!$1:17)))))","v":""},{"$f":"IF($U$37=\"\",\"\",IF(ROWS(BD!$1:17)>COUNTIFS(BD!$B$1:$B$138,$U$37),\"\",INDEX(BD!$E$2:$E$138,SMALL(IF(BD!$B$2:$B$138=$U$37,IF(BD!$B$2:$B$138=$U$37,ROW(BD!$B$2:$B$138)-ROW(BD!$B$2)+1),FALSE),ROWS(BD!$1:17)))))","v":""},{"$f":"IF($U$37=\"\",\"\",IF(ROWS(BD!$1:17)>COUNTIFS(BD!$B$1:$B$138,$U$37),\"\",INDEX(BD!$F$2:$F$138,SMALL(IF(BD!$B$2:$B$138=$U$37,IF(BD!$B$2:$B$138=$U$37,ROW(BD!$B$2:$B$138)-ROW(BD!$B$2)+1),FALSE),ROWS(BD!$1:17)))))","v":""},{"$f":"IF($U$37=\"\",\"\",IF(ROWS(BD!$1:17)>COUNTIFS(BD!$B:$B,$U$37),\"\",INDEX(BD!$G$2:$G$138,SMALL(IF(BD!$B$2:$B$138=$U$37,IF(BD!$B$2:$B$138=$U$37,ROW(BD!$B$2:$B$138)-ROW(BD!$B$2)+1),FALSE),ROWS(BD!$1:17)))))","v":""},{"$f":"IF($U$37=\"\",\"\",IF(ROWS(BD!$1:17)>COUNTIFS(BD!$B:$B,$U$37),\"\",INDEX(BD!$H$2:$H$138,SMALL(IF(BD!$B$2:$B$138=$U$37,IF(BD!$B$2:$B$138=$U$37,ROW(BD!$B$2:$B$138)-ROW(BD!$B$2)+1),FALSE),ROWS(BD!$1:17)))))","v":""},null,{"$f":"IF($AA$37=\"\",\"\",IF(ROWS(BD!$1:17)>COUNTIFS(BD!$B$1:$B$138,$AA$37),\"\",INDEX(BD!$C$2:$C$138,SMALL(IF(BD!$B$2:$B$138=$AA$37,IF(BD!$B$2:$B$138=$AA$37,ROW(BD!$B$2:$B$138)-ROW(BD!$B$2)+1),FALSE),ROWS(BD!$1:17)))))","v":""},{"$f":"IF($AA$37=\"\",\"\",IF(ROWS(BD!$1:17)>COUNTIFS(BD!$B$1:$B$138,$AA$37),\"\",INDEX(BD!$E$2:$E$138,SMALL(IF(BD!$B$2:$B$138=$AA$37,IF(BD!$B$2:$B$138=$AA$37,ROW(BD!$B$2:$B$138)-ROW(BD!$B$2)+1),FALSE),ROWS(BD!$1:17)))))","v":""},{"$f":"IF($AA$37=\"\",\"\",IF(ROWS(BD!$1:17)>COUNTIFS(BD!$B$1:$B$138,$AA$37),\"\",INDEX(BD!$F$2:$F$138,SMALL(IF(BD!$B$2:$B$138=$AA$37,IF(BD!$B$2:$B$138=$AA$37,ROW(BD!$B$2:$B$138)-ROW(BD!$B$2)+1),FALSE),ROWS(BD!$1:17)))))","v":""},{"$f":"IF($AA$37=\"\",\"\",IF(ROWS(BD!$1:17)>COUNTIFS(BD!$B:$B,$AA$37),\"\",INDEX(BD!$G$2:$G$138,SMALL(IF(BD!$B$2:$B$138=$AA$37,IF(BD!$B$2:$B$138=$AA$37,ROW(BD!$B$2:$B$138)-ROW(BD!$B$2)+1),FALSE),ROWS(BD!$1:17)))))","v":""},{"$f":"IF($AA$37=\"\",\"\",IF(ROWS(BD!$1:17)>COUNTIFS(BD!$B:$B,$AA$37),\"\",INDEX(BD!$H$2:$H$138,SMALL(IF(BD!$B$2:$B$138=$AA$37,IF(BD!$B$2:$B$138=$AA$37,ROW(BD!$B$2:$B$138)-ROW(BD!$B$2)+1),FALSE),ROWS(BD!$1:17)))))","v":""},null,{"$f":"IF($AG$37=\"\",\"\",IF(ROWS(BD!$1:17)>COUNTIFS(BD!$B$1:$B$138,$AG$37),\"\",INDEX(BD!$C$2:$C$138,SMALL(IF(BD!$B$2:$B$138=$AG$37,IF(BD!$B$2:$B$138=$AG$37,ROW(BD!$B$2:$B$138)-ROW(BD!$B$2)+1),FALSE),ROWS(BD!$1:17)))))","v":""},{"$f":"IF($AG$37=\"\",\"\",IF(ROWS(BD!$1:17)>COUNTIFS(BD!$B$1:$B$138,$AG$37),\"\",INDEX(BD!$E$2:$E$138,SMALL(IF(BD!$B$2:$B$138=$AG$37,IF(BD!$B$2:$B$138=$AG$37,ROW(BD!$B$2:$B$138)-ROW(BD!$B$2)+1),FALSE),ROWS(BD!$1:17)))))","v":""},{"$f":"IF($AG$37=\"\",\"\",IF(ROWS(BD!$1:17)>COUNTIFS(BD!$B$1:$B$138,$AG$37),\"\",INDEX(BD!$F$2:$F$138,SMALL(IF(BD!$B$2:$B$138=$AG$37,IF(BD!$B$2:$B$138=$AG$37,ROW(BD!$B$2:$B$138)-ROW(BD!$B$2)+1),FALSE),ROWS(BD!$1:17)))))","v":""},{"$f":"IF($AG$37=\"\",\"\",IF(ROWS(BD!$1:17)>COUNTIFS(BD!$B:$B,$AG$37),\"\",INDEX(BD!$G$2:$G$138,SMALL(IF(BD!$B$2:$B$138=$AG$37,IF(BD!$B$2:$B$138=$AG$37,ROW(BD!$B$2:$B$138)-ROW(BD!$B$2)+1),FALSE),ROWS(BD!$1:17)))))","v":""},{"$f":"IF($AG$37=\"\",\"\",IF(ROWS(BD!$1:17)>COUNTIFS(BD!$B:$B,$AG$37),\"\",INDEX(BD!$H$2:$H$138,SMALL(IF(BD!$B$2:$B$138=$AG$37,IF(BD!$B$2:$B$138=$AG$37,ROW(BD!$B$2:$B$138)-ROW(BD!$B$2)+1),FALSE),ROWS(BD!$1:17)))))","v":""},null,{"$f":"IF($AM$37=\"\",\"\",IF(ROWS(BD!$1:17)>COUNTIFS(BD!$B$1:$B$138,$AM$37),\"\",INDEX(BD!$C$2:$C$138,SMALL(IF(BD!$B$2:$B$138=$AM$37,IF(BD!$B$2:$B$138=$AM$37,ROW(BD!$B$2:$B$138)-ROW(BD!$B$2)+1),FALSE),ROWS(BD!$1:17)))))","v":""},{"$f":"IF($AM$37=\"\",\"\",IF(ROWS(BD!$1:17)>COUNTIFS(BD!$B$1:$B$138,$AM$37),\"\",INDEX(BD!$E$2:$E$138,SMALL(IF(BD!$B$2:$B$138=$AM$37,IF(BD!$B$2:$B$138=$AM$37,ROW(BD!$B$2:$B$138)-ROW(BD!$B$2)+1),FALSE),ROWS(BD!$1:17)))))","v":""},{"$f":"IF($AM$37=\"\",\"\",IF(ROWS(BD!$1:17)>COUNTIFS(BD!$B$1:$B$138,$AM$37),\"\",INDEX(BD!$F$2:$F$138,SMALL(IF(BD!$B$2:$B$138=$AM$37,IF(BD!$B$2:$B$138=$AM$37,ROW(BD!$B$2:$B$138)-ROW(BD!$B$2)+1),FALSE),ROWS(BD!$1:17)))))","v":""},{"$f":"IF($AM$37=\"\",\"\",IF(ROWS(BD!$1:17)>COUNTIFS(BD!$B:$B,$AM$37),\"\",INDEX(BD!$G$2:$G$138,SMALL(IF(BD!$B$2:$B$138=$AM$37,IF(BD!$B$2:$B$138=$AM$37,ROW(BD!$B$2:$B$138)-ROW(BD!$B$2)+1),FALSE),ROWS(BD!$1:17)))))","v":""},{"$f":"IF($AM$37=\"\",\"\",IF(ROWS(BD!$1:17)>COUNTIFS(BD!$B:$B,$AM$37),\"\",INDEX(BD!$H$2:$H$138,SMALL(IF(BD!$B$2:$B$138=$AM$37,IF(BD!$B$2:$B$138=$AM$37,ROW(BD!$B$2:$B$138)-ROW(BD!$B$2)+1),FALSE),ROWS(BD!$1:17)))))","v":""}]
[null,null,{"$f":"IF($C$37=\"\",\"\",IF(ROWS(BD!$1:18)>COUNTIFS(BD!$B$1:$B$138,$C$37),\"\",INDEX(BD!$C$2:$C$138,SMALL(IF(BD!$B$2:$B$138=$C$37,IF(BD!$B$2:$B$138=$C$37,ROW(BD!$B$2:$B$138)-ROW(BD!$B$2)+1),FALSE),ROWS(BD!$1:18)))))","v":""},{"$f":"IF($C$37=\"\",\"\",IF(ROWS(BD!$1:18)>COUNTIFS(BD!$B$1:$B$138,$C$37),\"\",INDEX(BD!$E$2:$E$138,SMALL(IF(BD!$B$2:$B$138=$C$37,IF(BD!$B$2:$B$138=$C$37,ROW(BD!$B$2:$B$138)-ROW(BD!$B$2)+1),FALSE),ROWS(BD!$1:18)))))","v":""},{"$f":"IF($C$37=\"\",\"\",IF(ROWS(BD!$1:18)>COUNTIFS(BD!$B$1:$B$138,$C$37),\"\",INDEX(BD!$F$2:$F$138,SMALL(IF(BD!$B$2:$B$138=$C$37,IF(BD!$B$2:$B$138=$C$37,ROW(BD!$B$2:$B$138)-ROW(BD!$B$2)+1),FALSE),ROWS(BD!$1:18)))))","v":""},{"$f":"IF($C$37=\"\",\"\",IF(ROWS(BD!$1:18)>COUNTIFS(BD!$B:$B,$C$37),\"\",INDEX(BD!$G$2:$G$138,SMALL(IF(BD!$B$2:$B$138=$C$37,IF(BD!$B$2:$B$138=$C$37,ROW(BD!$B$2:$B$138)-ROW(BD!$B$2)+1),FALSE),ROWS(BD!$1:18)))))","v":""},{"$f":"IF($C$37=\"\",\"\",IF(ROWS(BD!$1:18)>COUNTIFS(BD!$B:$B,$C$37),\"\",INDEX(BD!$H$2:$H$138,SMALL(IF(BD!$B$2:$B$138=$C$37,IF(BD!$B$2:$B$138=$C$37,ROW(BD!$B$2:$B$138)-ROW(BD!$B$2)+1),FALSE),ROWS(BD!$1:18)))))","v":""},null,{"$f":"IF($I$37=\"\",\"\",IF(ROWS(BD!$1:18)>COUNTIFS(BD!$B$1:$B$138,$I$37),\"\",INDEX(BD!$C$2:$C$138,SMALL(IF(BD!$B$2:$B$138=$I$37,IF(BD!$B$2:$B$138=$I$37,ROW(BD!$B$2:$B$138)-ROW(BD!$B$2)+1),FALSE),ROWS(BD!$1:18)))))","v":""},{"$f":"IF($I$37=\"\",\"\",IF(ROWS(BD!$1:18)>COUNTIFS(BD!$B$1:$B$138,$I$37),\"\",INDEX(BD!$E$2:$E$138,SMALL(IF(BD!$B$2:$B$138=$I$37,IF(BD!$B$2:$B$138=$I$37,ROW(BD!$B$2:$B$138)-ROW(BD!$B$2)+1),FALSE),ROWS(BD!$1:18)))))","v":""},{"$f":"IF($I$37=\"\",\"\",IF(ROWS(BD!$1:18)>COUNTIFS(BD!$B$1:$B$138,$I$37),\"\",INDEX(BD!$F$2:$F$138,SMALL(IF(BD!$B$2:$B$138=$I$37,IF(BD!$B$2:$B$138=$I$37,ROW(BD!$B$2:$B$138)-ROW(BD!$B$2)+1),FALSE),ROWS(BD!$1:18)))))","v":""},{"$f":"IF($I$37=\"\",\"\",IF(ROWS(BD!$1:18)>COUNTIFS(BD!$B:$B,$I$37),\"\",INDEX(BD!$G$2:$G$138,SMALL(IF(BD!$B$2:$B$138=$I$37,IF(BD!$B$2:$B$138=$I$37,ROW(BD!$B$2:$B$138)-ROW(BD!$B$2)+1),FALSE),ROWS(BD!$1:18)))))","v":""},{"$f":"IF($I$37=\"\",\"\",IF(ROWS(BD!$1:18)>COUNTIFS(BD!$B:$B,$I$37),\"\",INDEX(BD!$H$2:$H$138,SMALL(IF(BD!$B$2:$B$138=$I$37,IF(BD!$B$2:$B$138=$I$37,ROW(BD!$B$2:$B$138)-ROW(BD!$B$2)+1),FALSE),ROWS(BD!$1:18)))))","v":""},null,{"$f":"IF($O$37=\"\",\"\",IF(ROWS(BD!$1:18)>COUNTIFS(BD!$B$1:$B$138,$O$37),\"\",INDEX(BD!$C$2:$C$138,SMALL(IF(BD!$B$2:$B$138=$O$37,IF(BD!$B$2:$B$138=$O$37,ROW(BD!$B$2:$B$138)-ROW(BD!$B$2)+1),FALSE),ROWS(BD!$1:18)))))","v":""},{"$f":"IF($O$37=\"\",\"\",IF(ROWS(BD!$1:18)>COUNTIFS(BD!$B$1:$B$138,$O$37),\"\",INDEX(BD!$E$2:$E$138,SMALL(IF(BD!$B$2:$B$138=$O$37,IF(BD!$B$2:$B$138=$O$37,ROW(BD!$B$2:$B$138)-ROW(BD!$B$2)+1),FALSE),ROWS(BD!$1:18)))))","v":""},{"$f":"IF($O$37=\"\",\"\",IF(ROWS(BD!$1:18)>COUNTIFS(BD!$B$1:$B$138,$O$37),\"\",INDEX(BD!$F$2:$F$138,SMALL(IF(BD!$B$2:$B$138=$O$37,IF(BD!$B$2:$B$138=$O$37,ROW(BD!$B$2:$B$138)-ROW(BD!$B$2)+1),FALSE),ROWS(BD!$1:18)))))","v":""},{"$f":"IF($O$37=\"\",\"\",IF(ROWS(BD!$1:18)>COUNTIFS(BD!$B:$B,$O$37),\"\",INDEX(BD!$G$2:$G$138,SMALL(IF(BD!$B$2:$B$138=$O$37,IF(BD!$B$2:$B$138=$O$37,ROW(BD!$B$2:$B$138)-ROW(BD!$B$2)+1),FALSE),ROWS(BD!$1:18)))))","v":""},{"$f":"IF($O$37=\"\",\"\",IF(ROWS(BD!$1:18)>COUNTIFS(BD!$B:$B,$O$37),\"\",INDEX(BD!$H$2:$H$138,SMALL(IF(BD!$B$2:$B$138=$O$37,IF(BD!$B$2:$B$138=$O$37,ROW(BD!$B$2:$B$138)-ROW(BD!$B$2)+1),FALSE),ROWS(BD!$1:18)))))","v":""},null,{"$f":"IF($U$37=\"\",\"\",IF(ROWS(BD!$1:18)>COUNTIFS(BD!$B$1:$B$138,$U$37),\"\",INDEX(BD!$C$2:$C$138,SMALL(IF(BD!$B$2:$B$138=$U$37,IF(BD!$B$2:$B$138=$U$37,ROW(BD!$B$2:$B$138)-ROW(BD!$B$2)+1),FALSE),ROWS(BD!$1:18)))))","v":""},{"$f":"IF($U$37=\"\",\"\",IF(ROWS(BD!$1:18)>COUNTIFS(BD!$B$1:$B$138,$U$37),\"\",INDEX(BD!$E$2:$E$138,SMALL(IF(BD!$B$2:$B$138=$U$37,IF(BD!$B$2:$B$138=$U$37,ROW(BD!$B$2:$B$138)-ROW(BD!$B$2)+1),FALSE),ROWS(BD!$1:18)))))","v":""},{"$f":"IF($U$37=\"\",\"\",IF(ROWS(BD!$1:18)>COUNTIFS(BD!$B$1:$B$138,$U$37),\"\",INDEX(BD!$F$2:$F$138,SMALL(IF(BD!$B$2:$B$138=$U$37,IF(BD!$B$2:$B$138=$U$37,ROW(BD!$B$2:$B$138)-ROW(BD!$B$2)+1),FALSE),ROWS(BD!$1:18)))))","v":""},{"$f":"IF($U$37=\"\",\"\",IF(ROWS(BD!$1:18)>COUNTIFS(BD!$B:$B,$U$37),\"\",INDEX(BD!$G$2:$G$138,SMALL(IF(BD!$B$2:$B$138=$U$37,IF(BD!$B$2:$B$138=$U$37,ROW(BD!$B$2:$B$138)-ROW(BD!$B$2)+1),FALSE),ROWS(BD!$1:18)))))","v":""},{"$f":"IF($U$37=\"\",\"\",IF(ROWS(BD!$1:18)>COUNTIFS(BD!$B:$B,$U$37),\"\",INDEX(BD!$H$2:$H$138,SMALL(IF(BD!$B$2:$B$138=$U$37,IF(BD!$B$2:$B$138=$U$37,ROW(BD!$B$2:$B$138)-ROW(BD!$B$2)+1),FALSE),ROWS(BD!$1:18)))))","v":""},null,{"$f":"IF($AA$37=\"\",\"\",IF(ROWS(BD!$1:18)>COUNTIFS(BD!$B$1:$B$138,$AA$37),\"\",INDEX(BD!$C$2:$C$138,SMALL(IF(BD!$B$2:$B$138=$AA$37,IF(BD!$B$2:$B$138=$AA$37,ROW(BD!$B$2:$B$138)-ROW(BD!$B$2)+1),FALSE),ROWS(BD!$1:18)))))","v":""},{"$f":"IF($AA$37=\"\",\"\",IF(ROWS(BD!$1:18)>COUNTIFS(BD!$B$1:$B$138,$AA$37),\"\",INDEX(BD!$E$2:$E$138,SMALL(IF(BD!$B$2:$B$138=$AA$37,IF(BD!$B$2:$B$138=$AA$37,ROW(BD!$B$2:$B$138)-ROW(BD!$B$2)+1),FALSE),ROWS(BD!$1:18)))))","v":""},{"$f":"IF($AA$37=\"\",\"\",IF(ROWS(BD!$1:18)>COUNTIFS(BD!$B$1:$B$138,$AA$37),\"\",INDEX(BD!$F$2:$F$138,SMALL(IF(BD!$B$2:$B$138=$AA$37,IF(BD!$B$2:$B$138=$AA$37,ROW(BD!$B$2:$B$138)-ROW(BD!$B$2)+1),FALSE),ROWS(BD!$1:18)))))","v":""},{"$f":"IF($AA$37=\"\",\"\",IF(ROWS(BD!$1:18)>COUNTIFS(BD!$B:$B,$AA$37),\"\",INDEX(BD!$G$2:$G$138,SMALL(IF(BD!$B$2:$B$138=$AA$37,IF(BD!$B$2:$B$138=$AA$37,ROW(BD!$B$2:$B$138)-ROW(BD!$B$2)+1),FALSE),ROWS(BD!$1:18)))))","v":""},{"$f":"IF($AA$37=\"\",\"\",IF(ROWS(BD!$1:18)>COUNTIFS(BD!$B:$B,$AA$37),\"\",INDEX(BD!$H$2:$H$138,SMALL(IF(BD!$B$2:$B$138=$AA$37,IF(BD!$B$2:$B$138=$AA$37,ROW(BD!$B$2:$B$138)-ROW(BD!$B$2)+1),FALSE),ROWS(BD!$1:18)))))","v":""},null,{"$f":"IF($AG$37=\"\",\"\",IF(ROWS(BD!$1:18)>COUNTIFS(BD!$B$1:$B$138,$AG$37),\"\",INDEX(BD!$C$2:$C$138,SMALL(IF(BD!$B$2:$B$138=$AG$37,IF(BD!$B$2:$B$138=$AG$37,ROW(BD!$B$2:$B$138)-ROW(BD!$B$2)+1),FALSE),ROWS(BD!$1:18)))))","v":""},{"$f":"IF($AG$37=\"\",\"\",IF(ROWS(BD!$1:18)>COUNTIFS(BD!$B$1:$B$138,$AG$37),\"\",INDEX(BD!$E$2:$E$138,SMALL(IF(BD!$B$2:$B$138=$AG$37,IF(BD!$B$2:$B$138=$AG$37,ROW(BD!$B$2:$B$138)-ROW(BD!$B$2)+1),FALSE),ROWS(BD!$1:18)))))","v":""},{"$f":"IF($AG$37=\"\",\"\",IF(ROWS(BD!$1:18)>COUNTIFS(BD!$B$1:$B$138,$AG$37),\"\",INDEX(BD!$F$2:$F$138,SMALL(IF(BD!$B$2:$B$138=$AG$37,IF(BD!$B$2:$B$138=$AG$37,ROW(BD!$B$2:$B$138)-ROW(BD!$B$2)+1),FALSE),ROWS(BD!$1:18)))))","v":""},{"$f":"IF($AG$37=\"\",\"\",IF(ROWS(BD!$1:18)>COUNTIFS(BD!$B:$B,$AG$37),\"\",INDEX(BD!$G$2:$G$138,SMALL(IF(BD!$B$2:$B$138=$AG$37,IF(BD!$B$2:$B$138=$AG$37,ROW(BD!$B$2:$B$138)-ROW(BD!$B$2)+1),FALSE),ROWS(BD!$1:18)))))","v":""},{"$f":"IF($AG$37=\"\",\"\",IF(ROWS(BD!$1:18)>COUNTIFS(BD!$B:$B,$AG$37),\"\",INDEX(BD!$H$2:$H$138,SMALL(IF(BD!$B$2:$B$138=$AG$37,IF(BD!$B$2:$B$138=$AG$37,ROW(BD!$B$2:$B$138)-ROW(BD!$B$2)+1),FALSE),ROWS(BD!$1:18)))))","v":""},null,{"$f":"IF($AM$37=\"\",\"\",IF(ROWS(BD!$1:18)>COUNTIFS(BD!$B$1:$B$138,$AM$37),\"\",INDEX(BD!$C$2:$C$138,SMALL(IF(BD!$B$2:$B$138=$AM$37,IF(BD!$B$2:$B$138=$AM$37,ROW(BD!$B$2:$B$138)-ROW(BD!$B$2)+1),FALSE),ROWS(BD!$1:18)))))","v":""},{"$f":"IF($AM$37=\"\",\"\",IF(ROWS(BD!$1:18)>COUNTIFS(BD!$B$1:$B$138,$AM$37),\"\",INDEX(BD!$E$2:$E$138,SMALL(IF(BD!$B$2:$B$138=$AM$37,IF(BD!$B$2:$B$138=$AM$37,ROW(BD!$B$2:$B$138)-ROW(BD!$B$2)+1),FALSE),ROWS(BD!$1:18)))))","v":""},{"$f":"IF($AM$37=\"\",\"\",IF(ROWS(BD!$1:18)>COUNTIFS(BD!$B$1:$B$138,$AM$37),\"\",INDEX(BD!$F$2:$F$138,SMALL(IF(BD!$B$2:$B$138=$AM$37,IF(BD!$B$2:$B$138=$AM$37,ROW(BD!$B$2:$B$138)-ROW(BD!$B$2)+1),FALSE),ROWS(BD!$1:18)))))","v":""},{"$f":"IF($AM$37=\"\",\"\",IF(ROWS(BD!$1:18)>COUNTIFS(BD!$B:$B,$AM$37),\"\",INDEX(BD!$G$2:$G$138,SMALL(IF(BD!$B$2:$B$138=$AM$37,IF(BD!$B$2:$B$138=$AM$37,ROW(BD!$B$2:$B$138)-ROW(BD!$B$2)+1),FALSE),ROWS(BD!$1:18)))))","v":""},{"$f":"IF($AM$37=\"\",\"\",IF(ROWS(BD!$1:18)>COUNTIFS(BD!$B:$B,$AM$37),\"\",INDEX(BD!$H$2:$H$138,SMALL(IF(BD!$B$2:$B$138=$AM$37,IF(BD!$B$2:$B$138=$AM$37,ROW(BD!$B$2:$B$138)-ROW(BD!$B$2)+1),FALSE),ROWS(BD!$1:18)))))","v":""}]
[null,null,{"$f":"IF($C$37=\"\",\"\",IF(ROWS(BD!$1:19)>COUNTIFS(BD!$B$1:$B$138,$C$37),\"\",INDEX(BD!$C$2:$C$138,SMALL(IF(BD!$B$2:$B$138=$C$37,IF(BD!$B$2:$B$138=$C$37,ROW(BD!$B$2:$B$138)-ROW(BD!$B$2)+1),FALSE),ROWS(BD!$1:19)))))","v":""},{"$f":"IF($C$37=\"\",\"\",IF(ROWS(BD!$1:19)>COUNTIFS(BD!$B$1:$B$138,$C$37),\"\",INDEX(BD!$E$2:$E$138,SMALL(IF(BD!$B$2:$B$138=$C$37,IF(BD!$B$2:$B$138=$C$37,ROW(BD!$B$2:$B$138)-ROW(BD!$B$2)+1),FALSE),ROWS(BD!$1:19)))))","v":""},{"$f":"IF($C$37=\"\",\"\",IF(ROWS(BD!$1:19)>COUNTIFS(BD!$B$1:$B$138,$C$37),\"\",INDEX(BD!$F$2:$F$138,SMALL(IF(BD!$B$2:$B$138=$C$37,IF(BD!$B$2:$B$138=$C$37,ROW(BD!$B$2:$B$138)-ROW(BD!$B$2)+1),FALSE),ROWS(BD!$1:19)))))","v":""},{"$f":"IF($C$37=\"\",\"\",IF(ROWS(BD!$1:19)>COUNTIFS(BD!$B:$B,$C$37),\"\",INDEX(BD!$G$2:$G$138,SMALL(IF(BD!$B$2:$B$138=$C$37,IF(BD!$B$2:$B$138=$C$37,ROW(BD!$B$2:$B$138)-ROW(BD!$B$2)+1),FALSE),ROWS(BD!$1:19)))))","v":""},{"$f":"IF($C$37=\"\",\"\",IF(ROWS(BD!$1:19)>COUNTIFS(BD!$B:$B,$C$37),\"\",INDEX(BD!$H$2:$H$138,SMALL(IF(BD!$B$2:$B$138=$C$37,IF(BD!$B$2:$B$138=$C$37,ROW(BD!$B$2:$B$138)-ROW(BD!$B$2)+1),FALSE),ROWS(BD!$1:19)))))","v":""},null,{"$f":"IF($I$37=\"\",\"\",IF(ROWS(BD!$1:19)>COUNTIFS(BD!$B$1:$B$138,$I$37),\"\",INDEX(BD!$C$2:$C$138,SMALL(IF(BD!$B$2:$B$138=$I$37,IF(BD!$B$2:$B$138=$I$37,ROW(BD!$B$2:$B$138)-ROW(BD!$B$2)+1),FALSE),ROWS(BD!$1:19)))))","v":""},{"$f":"IF($I$37=\"\",\"\",IF(ROWS(BD!$1:19)>COUNTIFS(BD!$B$1:$B$138,$I$37),\"\",INDEX(BD!$E$2:$E$138,SMALL(IF(BD!$B$2:$B$138=$I$37,IF(BD!$B$2:$B$138=$I$37,ROW(BD!$B$2:$B$138)-ROW(BD!$B$2)+1),FALSE),ROWS(BD!$1:19)))))","v":""},{"$f":"IF($I$37=\"\",\"\",IF(ROWS(BD!$1:19)>COUNTIFS(BD!$B$1:$B$138,$I$37),\"\",INDEX(BD!$F$2:$F$138,SMALL(IF(BD!$B$2:$B$138=$I$37,IF(BD!$B$2:$B$138=$I$37,ROW(BD!$B$2:$B$138)-ROW(BD!$B$2)+1),FALSE),ROWS(BD!$1:19)))))","v":""},{"$f":"IF($I$37=\"\",\"\",IF(ROWS(BD!$1:19)>COUNTIFS(BD!$B:$B,$I$37),\"\",INDEX(BD!$G$2:$G$138,SMALL(IF(BD!$B$2:$B$138=$I$37,IF(BD!$B$2:$B$138=$I$37,ROW(BD!$B$2:$B$138)-ROW(BD!$B$2)+1),FALSE),ROWS(BD!$1:19)))))","v":""},{"$f":"IF($I$37=\"\",\"\",IF(ROWS(BD!$1:19)>COUNTIFS(BD!$B:$B,$I$37),\"\",INDEX(BD!$H$2:$H$138,SMALL(IF(BD!$B$2:$B$138=$I$37,IF(BD!$B$2:$B$138=$I$37,ROW(BD!$B$2:$B$138)-ROW(BD!$B$2)+1),FALSE),ROWS(BD!$1:19)))))","v":""},null,{"$f":"IF($O$37=\"\",\"\",IF(ROWS(BD!$1:19)>COUNTIFS(BD!$B$1:$B$138,$O$37),\"\",INDEX(BD!$C$2:$C$138,SMALL(IF(BD!$B$2:$B$138=$O$37,IF(BD!$B$2:$B$138=$O$37,ROW(BD!$B$2:$B$138)-ROW(BD!$B$2)+1),FALSE),ROWS(BD!$1:19)))))","v":""},{"$f":"IF($O$37=\"\",\"\",IF(ROWS(BD!$1:19)>COUNTIFS(BD!$B$1:$B$138,$O$37),\"\",INDEX(BD!$E$2:$E$138,SMALL(IF(BD!$B$2:$B$138=$O$37,IF(BD!$B$2:$B$138=$O$37,ROW(BD!$B$2:$B$138)-ROW(BD!$B$2)+1),FALSE),ROWS(BD!$1:19)))))","v":""},{"$f":"IF($O$37=\"\",\"\",IF(ROWS(BD!$1:19)>COUNTIFS(BD!$B$1:$B$138,$O$37),\"\",INDEX(BD!$F$2:$F$138,SMALL(IF(BD!$B$2:$B$138=$O$37,IF(BD!$B$2:$B$138=$O$37,ROW(BD!$B$2:$B$138)-ROW(BD!$B$2)+1),FALSE),ROWS(BD!$1:19)))))","v":""},{"$f":"IF($O$37=\"\",\"\",IF(ROWS(BD!$1:19)>COUNTIFS(BD!$B:$B,$O$37),\"\",INDEX(BD!$G$2:$G$138,SMALL(IF(BD!$B$2:$B$138=$O$37,IF(BD!$B$2:$B$138=$O$37,ROW(BD!$B$2:$B$138)-ROW(BD!$B$2)+1),FALSE),ROWS(BD!$1:19)))))","v":""},{"$f":"IF($O$37=\"\",\"\",IF(ROWS(BD!$1:19)>COUNTIFS(BD!$B:$B,$O$37),\"\",INDEX(BD!$H$2:$H$138,SMALL(IF(BD!$B$2:$B$138=$O$37,IF(BD!$B$2:$B$138=$O$37,ROW(BD!$B$2:$B$138)-ROW(BD!$B$2)+1),FALSE),ROWS(BD!$1:19)))))","v":""},null,{"$f":"IF($U$37=\"\",\"\",IF(ROWS(BD!$1:19)>COUNTIFS(BD!$B$1:$B$138,$U$37),\"\",INDEX(BD!$C$2:$C$138,SMALL(IF(BD!$B$2:$B$138=$U$37,IF(BD!$B$2:$B$138=$U$37,ROW(BD!$B$2:$B$138)-ROW(BD!$B$2)+1),FALSE),ROWS(BD!$1:19)))))","v":""},{"$f":"IF($U$37=\"\",\"\",IF(ROWS(BD!$1:19)>COUNTIFS(BD!$B$1:$B$138,$U$37),\"\",INDEX(BD!$E$2:$E$138,SMALL(IF(BD!$B$2:$B$138=$U$37,IF(BD!$B$2:$B$138=$U$37,ROW(BD!$B$2:$B$138)-ROW(BD!$B$2)+1),FALSE),ROWS(BD!$1:19)))))","v":""},{"$f":"IF($U$37=\"\",\"\",IF(ROWS(BD!$1:19)>COUNTIFS(BD!$B$1:$B$138,$U$37),\"\",INDEX(BD!$F$2:$F$138,SMALL(IF(BD!$B$2:$B$138=$U$37,IF(BD!$B$2:$B$138=$U$37,ROW(BD!$B$2:$B$138)-ROW(BD!$B$2)+1),FALSE),ROWS(BD!$1:19)))))","v":""},{"$f":"IF($U$37=\"\",\"\",IF(ROWS(BD!$1:19)>COUNTIFS(BD!$B:$B,$U$37),\"\",INDEX(BD!$G$2:$G$138,SMALL(IF(BD!$B$2:$B$138=$U$37,IF(BD!$B$2:$B$138=$U$37,ROW(BD!$B$2:$B$138)-ROW(BD!$B$2)+1),FALSE),ROWS(BD!$1:19)))))","v":""},{"$f":"IF($U$37=\"\",\"\",IF(ROWS(BD!$1:19)>COUNTIFS(BD!$B:$B,$U$37),\"\",INDEX(BD!$H$2:$H$138,SMALL(IF(BD!$B$2:$B$138=$U$37,IF(BD!$B$2:$B$138=$U$37,ROW(BD!$B$2:$B$138)-ROW(BD!$B$2)+1),FALSE),ROWS(BD!$1:19)))))","v":""},null,{"$f":"IF($AA$37=\"\",\"\",IF(ROWS(BD!$1:19)>COUNTIFS(BD!$B$1:$B$138,$AA$37),\"\",INDEX(BD!$C$2:$C$138,SMALL(IF(BD!$B$2:$B$138=$AA$37,IF(BD!$B$2:$B$138=$AA$37,ROW(BD!$B$2:$B$138)-ROW(BD!$B$2)+1),FALSE),ROWS(BD!$1:19)))))","v":""},{"$f":"IF($AA$37=\"\",\"\",IF(ROWS(BD!$1:19)>COUNTIFS(BD!$B$1:$B$138,$AA$37),\"\",INDEX(BD!$E$2:$E$138,SMALL(IF(BD!$B$2:$B$138=$AA$37,IF(BD!$B$2:$B$138=$AA$37,ROW(BD!$B$2:$B$138)-ROW(BD!$B$2)+1),FALSE),ROWS(BD!$1:19)))))","v":""},{"$f":"IF($AA$37=\"\",\"\",IF(ROWS(BD!$1:19)>COUNTIFS(BD!$B$1:$B$138,$AA$37),\"\",INDEX(BD!$F$2:$F$138,SMALL(IF(BD!$B$2:$B$138=$AA$37,IF(BD!$B$2:$B$138=$AA$37,ROW(BD!$B$2:$B$138)-ROW(BD!$B$2)+1),FALSE),ROWS(BD!$1:19)))))","v":""},{"$f":"IF($AA$37=\"\",\"\",IF(ROWS(BD!$1:19)>COUNTIFS(BD!$B:$B,$AA$37),\"\",INDEX(BD!$G$2:$G$138,SMALL(IF(BD!$B$2:$B$138=$AA$37,IF(BD!$B$2:$B$138=$AA$37,ROW(BD!$B$2:$B$138)-ROW(BD!$B$2)+1),FALSE),ROWS(BD!$1:19)))))","v":""},{"$f":"IF($AA$37=\"\",\"\",IF(ROWS(BD!$1:19)>COUNTIFS(BD!$B:$B,$AA$37),\"\",INDEX(BD!$H$2:$H$138,SMALL(IF(BD!$B$2:$B$138=$AA$37,IF(BD!$B$2:$B$138=$AA$37,ROW(BD!$B$2:$B$138)-ROW(BD!$B$2)+1),FALSE),ROWS(BD!$1:19)))))","v":""},null,{"$f":"IF($AG$37=\"\",\"\",IF(ROWS(BD!$1:19)>COUNTIFS(BD!$B$1:$B$138,$AG$37),\"\",INDEX(BD!$C$2:$C$138,SMALL(IF(BD!$B$2:$B$138=$AG$37,IF(BD!$B$2:$B$138=$AG$37,ROW(BD!$B$2:$B$138)-ROW(BD!$B$2)+1),FALSE),ROWS(BD!$1:19)))))","v":""},{"$f":"IF($AG$37=\"\",\"\",IF(ROWS(BD!$1:19)>COUNTIFS(BD!$B$1:$B$138,$AG$37),\"\",INDEX(BD!$E$2:$E$138,SMALL(IF(BD!$B$2:$B$138=$AG$37,IF(BD!$B$2:$B$138=$AG$37,ROW(BD!$B$2:$B$138)-ROW(BD!$B$2)+1),FALSE),ROWS(BD!$1:19)))))","v":""},{"$f":"IF($AG$37=\"\",\"\",IF(ROWS(BD!$1:19)>COUNTIFS(BD!$B$1:$B$138,$AG$37),\"\",INDEX(BD!$F$2:$F$138,SMALL(IF(BD!$B$2:$B$138=$AG$37,IF(BD!$B$2:$B$138=$AG$37,ROW(BD!$B$2:$B$138)-ROW(BD!$B$2)+1),FALSE),ROWS(BD!$1:19)))))","v":""},{"$f":"IF($AG$37=\"\",\"\",IF(ROWS(BD!$1:19)>COUNTIFS(BD!$B:$B,$AG$37),\"\",INDEX(BD!$G$2:$G$138,SMALL(IF(BD!$B$2:$B$138=$AG$37,IF(BD!$B$2:$B$138=$AG$37,ROW(BD!$B$2:$B$138)-ROW(BD!$B$2)+1),FALSE),ROWS(BD!$1:19)))))","v":""},{"$f":"IF($AG$37=\"\",\"\",IF(ROWS(BD!$1:19)>COUNTIFS(BD!$B:$B,$AG$37),\"\",INDEX(BD!$H$2:$H$138,SMALL(IF(BD!$B$2:$B$138=$AG$37,IF(BD!$B$2:$B$138=$AG$37,ROW(BD!$B$2:$B$138)-ROW(BD!$B$2)+1),FALSE),ROWS(BD!$1:19)))))","v":""},null,{"$f":"IF($AM$37=\"\",\"\",IF(ROWS(BD!$1:19)>COUNTIFS(BD!$B$1:$B$138,$AM$37),\"\",INDEX(BD!$C$2:$C$138,SMALL(IF(BD!$B$2:$B$138=$AM$37,IF(BD!$B$2:$B$138=$AM$37,ROW(BD!$B$2:$B$138)-ROW(BD!$B$2)+1),FALSE),ROWS(BD!$1:19)))))","v":""},{"$f":"IF($AM$37=\"\",\"\",IF(ROWS(BD!$1:19)>COUNTIFS(BD!$B$1:$B$138,$AM$37),\"\",INDEX(BD!$E$2:$E$138,SMALL(IF(BD!$B$2:$B$138=$AM$37,IF(BD!$B$2:$B$138=$AM$37,ROW(BD!$B$2:$B$138)-ROW(BD!$B$2)+1),FALSE),ROWS(BD!$1:19)))))","v":""},{"$f":"IF($AM$37=\"\",\"\",IF(ROWS(BD!$1:19)>COUNTIFS(BD!$B$1:$B$138,$AM$37),\"\",INDEX(BD!$F$2:$F$138,SMALL(IF(BD!$B$2:$B$138=$AM$37,IF(BD!$B$2:$B$138=$AM$37,ROW(BD!$B$2:$B$138)-ROW(BD!$B$2)+1),FALSE),ROWS(BD!$1:19)))))","v":""},{"$f":"IF($AM$37=\"\",\"\",IF(ROWS(BD!$1:19)>COUNTIFS(BD!$B:$B,$AM$37),\"\",INDEX(BD!$G$2:$G$138,SMALL(IF(BD!$B$2:$B$138=$AM$37,IF(BD!$B$2:$B$138=$AM$37,ROW(BD!$B$2:$B$138)-ROW(BD!$B$2)+1),FALSE),ROWS(BD!$1:19)))))","v":""},{"$f":"IF($AM$37=\"\",\"\",IF(ROWS(BD!$1:19)>COUNTIFS(BD!$B:$B,$AM$37),\"\",INDEX(BD!$H$2:$H$138,SMALL(IF(BD!$B$2:$B$138=$AM$37,IF(BD!$B$2:$B$138=$AM$37,ROW(BD!$B$2:$B$138)-ROW(BD!$B$2)+1),FALSE),ROWS(BD!$1:19)))))","v":""}]
[null,null,{"$f":"IF($C$37=\"\",\"\",IF(ROWS(BD!$1:20)>COUNTIFS(BD!$B$1:$B$138,$C$37),\"\",INDEX(BD!$C$2:$C$138,SMALL(IF(BD!$B$2:$B$138=$C$37,IF(BD!$B$2:$B$138=$C$37,ROW(BD!$B$2:$B$138)-ROW(BD!$B$2)+1),FALSE),ROWS(BD!$1:20)))))","v":""},{"$f":"IF($C$37=\"\",\"\",IF(ROWS(BD!$1:20)>COUNTIFS(BD!$B$1:$B$138,$C$37),\"\",INDEX(BD!$E$2:$E$138,SMALL(IF(BD!$B$2:$B$138=$C$37,IF(BD!$B$2:$B$138=$C$37,ROW(BD!$B$2:$B$138)-ROW(BD!$B$2)+1),FALSE),ROWS(BD!$1:20)))))","v":""},{"$f":"IF($C$37=\"\",\"\",IF(ROWS(BD!$1:20)>COUNTIFS(BD!$B$1:$B$138,$C$37),\"\",INDEX(BD!$F$2:$F$138,SMALL(IF(BD!$B$2:$B$138=$C$37,IF(BD!$B$2:$B$138=$C$37,ROW(BD!$B$2:$B$138)-ROW(BD!$B$2)+1),FALSE),ROWS(BD!$1:20)))))","v":""},{"$f":"IF($C$37=\"\",\"\",IF(ROWS(BD!$1:20)>COUNTIFS(BD!$B:$B,$C$37),\"\",INDEX(BD!$G$2:$G$138,SMALL(IF(BD!$B$2:$B$138=$C$37,IF(BD!$B$2:$B$138=$C$37,ROW(BD!$B$2:$B$138)-ROW(BD!$B$2)+1),FALSE),ROWS(BD!$1:20)))))","v":""},{"$f":"IF($C$37=\"\",\"\",IF(ROWS(BD!$1:20)>COUNTIFS(BD!$B:$B,$C$37),\"\",INDEX(BD!$H$2:$H$138,SMALL(IF(BD!$B$2:$B$138=$C$37,IF(BD!$B$2:$B$138=$C$37,ROW(BD!$B$2:$B$138)-ROW(BD!$B$2)+1),FALSE),ROWS(BD!$1:20)))))","v":""},null,{"$f":"IF($I$37=\"\",\"\",IF(ROWS(BD!$1:20)>COUNTIFS(BD!$B$1:$B$138,$I$37),\"\",INDEX(BD!$C$2:$C$138,SMALL(IF(BD!$B$2:$B$138=$I$37,IF(BD!$B$2:$B$138=$I$37,ROW(BD!$B$2:$B$138)-ROW(BD!$B$2)+1),FALSE),ROWS(BD!$1:20)))))","v":""},{"$f":"IF($I$37=\"\",\"\",IF(ROWS(BD!$1:20)>COUNTIFS(BD!$B$1:$B$138,$I$37),\"\",INDEX(BD!$E$2:$E$138,SMALL(IF(BD!$B$2:$B$138=$I$37,IF(BD!$B$2:$B$138=$I$37,ROW(BD!$B$2:$B$138)-ROW(BD!$B$2)+1),FALSE),ROWS(BD!$1:20)))))","v":""},{"$f":"IF($I$37=\"\",\"\",IF(ROWS(BD!$1:20)>COUNTIFS(BD!$B$1:$B$138,$I$37),\"\",INDEX(BD!$F$2:$F$138,SMALL(IF(BD!$B$2:$B$138=$I$37,IF(BD!$B$2:$B$138=$I$37,ROW(BD!$B$2:$B$138)-ROW(BD!$B$2)+1),FALSE),ROWS(BD!$1:20)))))","v":""},{"$f":"IF($I$37=\"\",\"\",IF(ROWS(BD!$1:20)>COUNTIFS(BD!$B:$B,$I$37),\"\",INDEX(BD!$G$2:$G$138,SMALL(IF(BD!$B$2:$B$138=$I$37,IF(BD!$B$2:$B$138=$I$37,ROW(BD!$B$2:$B$138)-ROW(BD!$B$2)+1),FALSE),ROWS(BD!$1:20)))))","v":""},{"$f":"IF($I$37=\"\",\"\",IF(ROWS(BD!$1:20)>COUNTIFS(BD!$B:$B,$I$37),\"\",INDEX(BD!$H$2:$H$138,SMALL(IF(BD!$B$2:$B$138=$I$37,IF(BD!$B$2:$B$138=$I$37,ROW(BD!$B$2:$B$138)-ROW(BD!$B$2)+1),FALSE),ROWS(BD!$1:20)))))","v":""},null,{"$f":"IF($O$37=\"\",\"\",IF(ROWS(BD!$1:20)>COUNTIFS(BD!$B$1:$B$138,$O$37),\"\",INDEX(BD!$C$2:$C$138,SMALL(IF(BD!$B$2:$B$138=$O$37,IF(BD!$B$2:$B$138=$O$37,ROW(BD!$B$2:$B$138)-ROW(BD!$B$2)+1),FALSE),ROWS(BD!$1:20)))))","v":""},{"$f":"IF($O$37=\"\",\"\",IF(ROWS(BD!$1:20)>COUNTIFS(BD!$B$1:$B$138,$O$37),\"\",INDEX(BD!$E$2:$E$138,SMALL(IF(BD!$B$2:$B$138=$O$37,IF(BD!$B$2:$B$138=$O$37,ROW(BD!$B$2:$B$138)-ROW(BD!$B$2)+1),FALSE),ROWS(BD!$1:20)))))","v":""},{"$f":"IF($O$37=\"\",\"\",IF(ROWS(BD!$1:20)>COUNTIFS(BD!$B$1:$B$138,$O$37),\"\",INDEX(BD!$F$2:$F$138,SMALL(IF(BD!$B$2:$B$138=$O$37,IF(BD!$B$2:$B$138=$O$37,ROW(BD!$B$2:$B$138)-ROW(BD!$B$2)+1),FALSE),ROWS(BD!$1:20)))))","v":""},{"$f":"IF($O$37=\"\",\"\",IF(ROWS(BD!$1:20)>COUNTIFS(BD!$B:$B,$O$37),\"\",INDEX(BD!$G$2:$G$138,SMALL(IF(BD!$B$2:$B$138=$O$37,IF(BD!$B$2:$B$138=$O$37,ROW(BD!$B$2:$B$138)-ROW(BD!$B$2)+1),FALSE),ROWS(BD!$1:20)))))","v":""},{"$f":"IF($O$37=\"\",\"\",IF(ROWS(BD!$1:20)>COUNTIFS(BD!$B:$B,$O$37),\"\",INDEX(BD!$H$2:$H$138,SMALL(IF(BD!$B$2:$B$138=$O$37,IF(BD!$B$2:$B$138=$O$37,ROW(BD!$B$2:$B$138)-ROW(BD!$B$2)+1),FALSE),ROWS(BD!$1:20)))))","v":""},null,{"$f":"IF($U$37=\"\",\"\",IF(ROWS(BD!$1:20)>COUNTIFS(BD!$B$1:$B$138,$U$37),\"\",INDEX(BD!$C$2:$C$138,SMALL(IF(BD!$B$2:$B$138=$U$37,IF(BD!$B$2:$B$138=$U$37,ROW(BD!$B$2:$B$138)-ROW(BD!$B$2)+1),FALSE),ROWS(BD!$1:20)))))","v":""},{"$f":"IF($U$37=\"\",\"\",IF(ROWS(BD!$1:20)>COUNTIFS(BD!$B$1:$B$138,$U$37),\"\",INDEX(BD!$E$2:$E$138,SMALL(IF(BD!$B$2:$B$138=$U$37,IF(BD!$B$2:$B$138=$U$37,ROW(BD!$B$2:$B$138)-ROW(BD!$B$2)+1),FALSE),ROWS(BD!$1:20)))))","v":""},{"$f":"IF($U$37=\"\",\"\",IF(ROWS(BD!$1:20)>COUNTIFS(BD!$B$1:$B$138,$U$37),\"\",INDEX(BD!$F$2:$F$138,SMALL(IF(BD!$B$2:$B$138=$U$37,IF(BD!$B$2:$B$138=$U$37,ROW(BD!$B$2:$B$138)-ROW(BD!$B$2)+1),FALSE),ROWS(BD!$1:20)))))","v":""},{"$f":"IF($U$37=\"\",\"\",IF(ROWS(BD!$1:20)>COUNTIFS(BD!$B:$B,$U$37),\"\",INDEX(BD!$G$2:$G$138,SMALL(IF(BD!$B$2:$B$138=$U$37,IF(BD!$B$2:$B$138=$U$37,ROW(BD!$B$2:$B$138)-ROW(BD!$B$2)+1),FALSE),ROWS(BD!$1:20)))))","v":""},{"$f":"IF($U$37=\"\",\"\",IF(ROWS(BD!$1:20)>COUNTIFS(BD!$B:$B,$U$37),\"\",INDEX(BD!$H$2:$H$138,SMALL(IF(BD!$B$2:$B$138=$U$37,IF(BD!$B$2:$B$138=$U$37,ROW(BD!$B$2:$B$138)-ROW(BD!$B$2)+1),FALSE),ROWS(BD!$1:20)))))","v":""},null,{"$f":"IF($AA$37=\"\",\"\",IF(ROWS(BD!$1:20)>COUNTIFS(BD!$B$1:$B$138,$AA$37),\"\",INDEX(BD!$C$2:$C$138,SMALL(IF(BD!$B$2:$B$138=$AA$37,IF(BD!$B$2:$B$138=$AA$37,ROW(BD!$B$2:$B$138)-ROW(BD!$B$2)+1),FALSE),ROWS(BD!$1:20)))))","v":""},{"$f":"IF($AA$37=\"\",\"\",IF(ROWS(BD!$1:20)>COUNTIFS(BD!$B$1:$B$138,$AA$37),\"\",INDEX(BD!$E$2:$E$138,SMALL(IF(BD!$B$2:$B$138=$AA$37,IF(BD!$B$2:$B$138=$AA$37,ROW(BD!$B$2:$B$138)-ROW(BD!$B$2)+1),FALSE),ROWS(BD!$1:20)))))","v":""},{"$f":"IF($AA$37=\"\",\"\",IF(ROWS(BD!$1:20)>COUNTIFS(BD!$B$1:$B$138,$AA$37),\"\",INDEX(BD!$F$2:$F$138,SMALL(IF(BD!$B$2:$B$138=$AA$37,IF(BD!$B$2:$B$138=$AA$37,ROW(BD!$B$2:$B$138)-ROW(BD!$B$2)+1),FALSE),ROWS(BD!$1:20)))))","v":""},{"$f":"IF($AA$37=\"\",\"\",IF(ROWS(BD!$1:20)>COUNTIFS(BD!$B:$B,$AA$37),\"\",INDEX(BD!$G$2:$G$138,SMALL(IF(BD!$B$2:$B$138=$AA$37,IF(BD!$B$2:$B$138=$AA$37,ROW(BD!$B$2:$B$138)-ROW(BD!$B$2)+1),FALSE),ROWS(BD!$1:20)))))","v":""},{"$f":"IF($AA$37=\"\",\"\",IF(ROWS(BD!$1:20)>COUNTIFS(BD!$B:$B,$AA$37),\"\",INDEX(BD!$H$2:$H$138,SMALL(IF(BD!$B$2:$B$138=$AA$37,IF(BD!$B$2:$B$138=$AA$37,ROW(BD!$B$2:$B$138)-ROW(BD!$B$2)+1),FALSE),ROWS(BD!$1:20)))))","v":""},null,{"$f":"IF($AG$37=\"\",\"\",IF(ROWS(BD!$1:20)>COUNTIFS(BD!$B$1:$B$138,$AG$37),\"\",INDEX(BD!$C$2:$C$138,SMALL(IF(BD!$B$2:$B$138=$AG$37,IF(BD!$B$2:$B$138=$AG$37,ROW(BD!$B$2:$B$138)-ROW(BD!$B$2)+1),FALSE),ROWS(BD!$1:20)))))","v":""},{"$f":"IF($AG$37=\"\",\"\",IF(ROWS(BD!$1:20)>COUNTIFS(BD!$B$1:$B$138,$AG$37),\"\",INDEX(BD!$E$2:$E$138,SMALL(IF(BD!$B$2:$B$138=$AG$37,IF(BD!$B$2:$B$138=$AG$37,ROW(BD!$B$2:$B$138)-ROW(BD!$B$2)+1),FALSE),ROWS(BD!$1:20)))))","v":""},{"$f":"IF($AG$37=\"\",\"\",IF(ROWS(BD!$1:20)>COUNTIFS(BD!$B$1:$B$138,$AG$37),\"\",INDEX(BD!$F$2:$F$138,SMALL(IF(BD!$B$2:$B$138=$AG$37,IF(BD!$B$2:$B$138=$AG$37,ROW(BD!$B$2:$B$138)-ROW(BD!$B$2)+1),FALSE),ROWS(BD!$1:20)))))","v":""},{"$f":"IF($AG$37=\"\",\"\",IF(ROWS(BD!$1:20)>COUNTIFS(BD!$B:$B,$AG$37),\"\",INDEX(BD!$G$2:$G$138,SMALL(IF(BD!$B$2:$B$138=$AG$37,IF(BD!$B$2:$B$138=$AG$37,ROW(BD!$B$2:$B$138)-ROW(BD!$B$2)+1),FALSE),ROWS(BD!$1:20)))))","v":""},{"$f":"IF($AG$37=\"\",\"\",IF(ROWS(BD!$1:20)>COUNTIFS(BD!$B:$B,$AG$37),\"\",INDEX(BD!$H$2:$H$138,SMALL(IF(BD!$B$2:$B$138=$AG$37,IF(BD!$B$2:$B$138=$AG$37,ROW(BD!$B$2:$B$138)-ROW(BD!$B$2)+1),FALSE),ROWS(BD!$1:20)))))","v":""},null,{"$f":"IF($AM$37=\"\",\"\",IF(ROWS(BD!$1:20)>COUNTIFS(BD!$B$1:$B$138,$AM$37),\"\",INDEX(BD!$C$2:$C$138,SMALL(IF(BD!$B$2:$B$138=$AM$37,IF(BD!$B$2:$B$138=$AM$37,ROW(BD!$B$2:$B$138)-ROW(BD!$B$2)+1),FALSE),ROWS(BD!$1:20)))))","v":""},{"$f":"IF($AM$37=\"\",\"\",IF(ROWS(BD!$1:20)>COUNTIFS(BD!$B$1:$B$138,$AM$37),\"\",INDEX(BD!$E$2:$E$138,SMALL(IF(BD!$B$2:$B$138=$AM$37,IF(BD!$B$2:$B$138=$AM$37,ROW(BD!$B$2:$B$138)-ROW(BD!$B$2)+1),FALSE),ROWS(BD!$1:20)))))","v":""},{"$f":"IF($AM$37=\"\",\"\",IF(ROWS(BD!$1:20)>COUNTIFS(BD!$B$1:$B$138,$AM$37),\"\",INDEX(BD!$F$2:$F$138,SMALL(IF(BD!$B$2:$B$138=$AM$37,IF(BD!$B$2:$B$138=$AM$37,ROW(BD!$B$2:$B$138)-ROW(BD!$B$2)+1),FALSE),ROWS(BD!$1:20)))))","v":""},{"$f":"IF($AM$37=\"\",\"\",IF(ROWS(BD!$1:20)>COUNTIFS(BD!$B:$B,$AM$37),\"\",INDEX(BD!$G$2:$G$138,SMALL(IF(BD!$B$2:$B$138=$AM$37,IF(BD!$B$2:$B$138=$AM$37,ROW(BD!$B$2:$B$138)-ROW(BD!$B$2)+1),FALSE),ROWS(BD!$1:20)))))","v":""},{"$f":"IF($AM$37=\"\",\"\",IF(ROWS(BD!$1:20)>COUNTIFS(BD!$B:$B,$AM$37),\"\",INDEX(BD!$H$2:$H$138,SMALL(IF(BD!$B$2:$B$138=$AM$37,IF(BD!$B$2:$B$138=$AM$37,ROW(BD!$B$2:$B$138)-ROW(BD!$B$2)+1),FALSE),ROWS(BD!$1:20)))))","v":""}]
[null,null,{"$f":"IF($C$37=\"\",\"\",IF(ROWS(BD!$1:21)>COUNTIFS(BD!$B$1:$B$138,$C$37),\"\",INDEX(BD!$C$2:$C$138,SMALL(IF(BD!$B$2:$B$138=$C$37,IF(BD!$B$2:$B$138=$C$37,ROW(BD!$B$2:$B$138)-ROW(BD!$B$2)+1),FALSE),ROWS(BD!$1:21)))))","v":""},{"$f":"IF($C$37=\"\",\"\",IF(ROWS(BD!$1:21)>COUNTIFS(BD!$B$1:$B$138,$C$37),\"\",INDEX(BD!$E$2:$E$138,SMALL(IF(BD!$B$2:$B$138=$C$37,IF(BD!$B$2:$B$138=$C$37,ROW(BD!$B$2:$B$138)-ROW(BD!$B$2)+1),FALSE),ROWS(BD!$1:21)))))","v":""},{"$f":"IF($C$37=\"\",\"\",IF(ROWS(BD!$1:21)>COUNTIFS(BD!$B$1:$B$138,$C$37),\"\",INDEX(BD!$F$2:$F$138,SMALL(IF(BD!$B$2:$B$138=$C$37,IF(BD!$B$2:$B$138=$C$37,ROW(BD!$B$2:$B$138)-ROW(BD!$B$2)+1),FALSE),ROWS(BD!$1:21)))))","v":""},{"$f":"IF($C$37=\"\",\"\",IF(ROWS(BD!$1:21)>COUNTIFS(BD!$B:$B,$C$37),\"\",INDEX(BD!$G$2:$G$138,SMALL(IF(BD!$B$2:$B$138=$C$37,IF(BD!$B$2:$B$138=$C$37,ROW(BD!$B$2:$B$138)-ROW(BD!$B$2)+1),FALSE),ROWS(BD!$1:21)))))","v":""},{"$f":"IF($C$37=\"\",\"\",IF(ROWS(BD!$1:21)>COUNTIFS(BD!$B:$B,$C$37),\"\",INDEX(BD!$H$2:$H$138,SMALL(IF(BD!$B$2:$B$138=$C$37,IF(BD!$B$2:$B$138=$C$37,ROW(BD!$B$2:$B$138)-ROW(BD!$B$2)+1),FALSE),ROWS(BD!$1:21)))))","v":""},null,{"$f":"IF($I$37=\"\",\"\",IF(ROWS(BD!$1:21)>COUNTIFS(BD!$B$1:$B$138,$I$37),\"\",INDEX(BD!$C$2:$C$138,SMALL(IF(BD!$B$2:$B$138=$I$37,IF(BD!$B$2:$B$138=$I$37,ROW(BD!$B$2:$B$138)-ROW(BD!$B$2)+1),FALSE),ROWS(BD!$1:21)))))","v":""},{"$f":"IF($I$37=\"\",\"\",IF(ROWS(BD!$1:21)>COUNTIFS(BD!$B$1:$B$138,$I$37),\"\",INDEX(BD!$E$2:$E$138,SMALL(IF(BD!$B$2:$B$138=$I$37,IF(BD!$B$2:$B$138=$I$37,ROW(BD!$B$2:$B$138)-ROW(BD!$B$2)+1),FALSE),ROWS(BD!$1:21)))))","v":""},{"$f":"IF($I$37=\"\",\"\",IF(ROWS(BD!$1:21)>COUNTIFS(BD!$B$1:$B$138,$I$37),\"\",INDEX(BD!$F$2:$F$138,SMALL(IF(BD!$B$2:$B$138=$I$37,IF(BD!$B$2:$B$138=$I$37,ROW(BD!$B$2:$B$138)-ROW(BD!$B$2)+1),FALSE),ROWS(BD!$1:21)))))","v":""},{"$f":"IF($I$37=\"\",\"\",IF(ROWS(BD!$1:21)>COUNTIFS(BD!$B:$B,$I$37),\"\",INDEX(BD!$G$2:$G$138,SMALL(IF(BD!$B$2:$B$138=$I$37,IF(BD!$B$2:$B$138=$I$37,ROW(BD!$B$2:$B$138)-ROW(BD!$B$2)+1),FALSE),ROWS(BD!$1:21)))))","v":""},{"$f":"IF($I$37=\"\",\"\",IF(ROWS(BD!$1:21)>COUNTIFS(BD!$B:$B,$I$37),\"\",INDEX(BD!$H$2:$H$138,SMALL(IF(BD!$B$2:$B$138=$I$37,IF(BD!$B$2:$B$138=$I$37,ROW(BD!$B$2:$B$138)-ROW(BD!$B$2)+1),FALSE),ROWS(BD!$1:21)))))","v":""},null,{"$f":"IF($O$37=\"\",\"\",IF(ROWS(BD!$1:21)>COUNTIFS(BD!$B$1:$B$138,$O$37),\"\",INDEX(BD!$C$2:$C$138,SMALL(IF(BD!$B$2:$B$138=$O$37,IF(BD!$B$2:$B$138=$O$37,ROW(BD!$B$2:$B$138)-ROW(BD!$B$2)+1),FALSE),ROWS(BD!$1:21)))))","v":""},{"$f":"IF($O$37=\"\",\"\",IF(ROWS(BD!$1:21)>COUNTIFS(BD!$B$1:$B$138,$O$37),\"\",INDEX(BD!$E$2:$E$138,SMALL(IF(BD!$B$2:$B$138=$O$37,IF(BD!$B$2:$B$138=$O$37,ROW(BD!$B$2:$B$138)-ROW(BD!$B$2)+1),FALSE),ROWS(BD!$1:21)))))","v":""},{"$f":"IF($O$37=\"\",\"\",IF(ROWS(BD!$1:21)>COUNTIFS(BD!$B$1:$B$138,$O$37),\"\",INDEX(BD!$F$2:$F$138,SMALL(IF(BD!$B$2:$B$138=$O$37,IF(BD!$B$2:$B$138=$O$37,ROW(BD!$B$2:$B$138)-ROW(BD!$B$2)+1),FALSE),ROWS(BD!$1:21)))))","v":""},{"$f":"IF($O$37=\"\",\"\",IF(ROWS(BD!$1:21)>COUNTIFS(BD!$B:$B,$O$37),\"\",INDEX(BD!$G$2:$G$138,SMALL(IF(BD!$B$2:$B$138=$O$37,IF(BD!$B$2:$B$138=$O$37,ROW(BD!$B$2:$B$138)-ROW(BD!$B$2)+1),FALSE),ROWS(BD!$1:21)))))","v":""},{"$f":"IF($O$37=\"\",\"\",IF(ROWS(BD!$1:21)>COUNTIFS(BD!$B:$B,$O$37),\"\",INDEX(BD!$H$2:$H$138,SMALL(IF(BD!$B$2:$B$138=$O$37,IF(BD!$B$2:$B$138=$O$37,ROW(BD!$B$2:$B$138)-ROW(BD!$B$2)+1),FALSE),ROWS(BD!$1:21)))))","v":""},null,{"$f":"IF($U$37=\"\",\"\",IF(ROWS(BD!$1:21)>COUNTIFS(BD!$B$1:$B$138,$U$37),\"\",INDEX(BD!$C$2:$C$138,SMALL(IF(BD!$B$2:$B$138=$U$37,IF(BD!$B$2:$B$138=$U$37,ROW(BD!$B$2:$B$138)-ROW(BD!$B$2)+1),FALSE),ROWS(BD!$1:21)))))","v":""},{"$f":"IF($U$37=\"\",\"\",IF(ROWS(BD!$1:21)>COUNTIFS(BD!$B$1:$B$138,$U$37),\"\",INDEX(BD!$E$2:$E$138,SMALL(IF(BD!$B$2:$B$138=$U$37,IF(BD!$B$2:$B$138=$U$37,ROW(BD!$B$2:$B$138)-ROW(BD!$B$2)+1),FALSE),ROWS(BD!$1:21)))))","v":""},{"$f":"IF($U$37=\"\",\"\",IF(ROWS(BD!$1:21)>COUNTIFS(BD!$B$1:$B$138,$U$37),\"\",INDEX(BD!$F$2:$F$138,SMALL(IF(BD!$B$2:$B$138=$U$37,IF(BD!$B$2:$B$138=$U$37,ROW(BD!$B$2:$B$138)-ROW(BD!$B$2)+1),FALSE),ROWS(BD!$1:21)))))","v":""},{"$f":"IF($U$37=\"\",\"\",IF(ROWS(BD!$1:21)>COUNTIFS(BD!$B:$B,$U$37),\"\",INDEX(BD!$G$2:$G$138,SMALL(IF(BD!$B$2:$B$138=$U$37,IF(BD!$B$2:$B$138=$U$37,ROW(BD!$B$2:$B$138)-ROW(BD!$B$2)+1),FALSE),ROWS(BD!$1:21)))))","v":""},{"$f":"IF($U$37=\"\",\"\",IF(ROWS(BD!$1:21)>COUNTIFS(BD!$B:$B,$U$37),\"\",INDEX(BD!$H$2:$H$138,SMALL(IF(BD!$B$2:$B$138=$U$37,IF(BD!$B$2:$B$138=$U$37,ROW(BD!$B$2:$B$138)-ROW(BD!$B$2)+1),FALSE),ROWS(BD!$1:21)))))","v":""},null,{"$f":"IF($AA$37=\"\",\"\",IF(ROWS(BD!$1:21)>COUNTIFS(BD!$B$1:$B$138,$AA$37),\"\",INDEX(BD!$C$2:$C$138,SMALL(IF(BD!$B$2:$B$138=$AA$37,IF(BD!$B$2:$B$138=$AA$37,ROW(BD!$B$2:$B$138)-ROW(BD!$B$2)+1),FALSE),ROWS(BD!$1:21)))))","v":""},{"$f":"IF($AA$37=\"\",\"\",IF(ROWS(BD!$1:21)>COUNTIFS(BD!$B$1:$B$138,$AA$37),\"\",INDEX(BD!$E$2:$E$138,SMALL(IF(BD!$B$2:$B$138=$AA$37,IF(BD!$B$2:$B$138=$AA$37,ROW(BD!$B$2:$B$138)-ROW(BD!$B$2)+1),FALSE),ROWS(BD!$1:21)))))","v":""},{"$f":"IF($AA$37=\"\",\"\",IF(ROWS(BD!$1:21)>COUNTIFS(BD!$B$1:$B$138,$AA$37),\"\",INDEX(BD!$F$2:$F$138,SMALL(IF(BD!$B$2:$B$138=$AA$37,IF(BD!$B$2:$B$138=$AA$37,ROW(BD!$B$2:$B$138)-ROW(BD!$B$2)+1),FALSE),ROWS(BD!$1:21)))))","v":""},{"$f":"IF($AA$37=\"\",\"\",IF(ROWS(BD!$1:21)>COUNTIFS(BD!$B:$B,$AA$37),\"\",INDEX(BD!$G$2:$G$138,SMALL(IF(BD!$B$2:$B$138=$AA$37,IF(BD!$B$2:$B$138=$AA$37,ROW(BD!$B$2:$B$138)-ROW(BD!$B$2)+1),FALSE),ROWS(BD!$1:21)))))","v":""},{"$f":"IF($AA$37=\"\",\"\",IF(ROWS(BD!$1:21)>COUNTIFS(BD!$B:$B,$AA$37),\"\",INDEX(BD!$H$2:$H$138,SMALL(IF(BD!$B$2:$B$138=$AA$37,IF(BD!$B$2:$B$138=$AA$37,ROW(BD!$B$2:$B$138)-ROW(BD!$B$2)+1),FALSE),ROWS(BD!$1:21)))))","v":""},null,{"$f":"IF($AG$37=\"\",\"\",IF(ROWS(BD!$1:21)>COUNTIFS(BD!$B$1:$B$138,$AG$37),\"\",INDEX(BD!$C$2:$C$138,SMALL(IF(BD!$B$2:$B$138=$AG$37,IF(BD!$B$2:$B$138=$AG$37,ROW(BD!$B$2:$B$138)-ROW(BD!$B$2)+1),FALSE),ROWS(BD!$1:21)))))","v":""},{"$f":"IF($AG$37=\"\",\"\",IF(ROWS(BD!$1:21)>COUNTIFS(BD!$B$1:$B$138,$AG$37),\"\",INDEX(BD!$E$2:$E$138,SMALL(IF(BD!$B$2:$B$138=$AG$37,IF(BD!$B$2:$B$138=$AG$37,ROW(BD!$B$2:$B$138)-ROW(BD!$B$2)+1),FALSE),ROWS(BD!$1:21)))))","v":""},{"$f":"IF($AG$37=\"\",\"\",IF(ROWS(BD!$1:21)>COUNTIFS(BD!$B$1:$B$138,$AG$37),\"\",INDEX(BD!$F$2:$F$138,SMALL(IF(BD!$B$2:$B$138=$AG$37,IF(BD!$B$2:$B$138=$AG$37,ROW(BD!$B$2:$B$138)-ROW(BD!$B$2)+1),FALSE),ROWS(BD!$1:21)))))","v":""},{"$f":"IF($AG$37=\"\",\"\",IF(ROWS(BD!$1:21)>COUNTIFS(BD!$B:$B,$AG$37),\"\",INDEX(BD!$G$2:$G$138,SMALL(IF(BD!$B$2:$B$138=$AG$37,IF(BD!$B$2:$B$138=$AG$37,ROW(BD!$B$2:$B$138)-ROW(BD!$B$2)+1),FALSE),ROWS(BD!$1:21)))))","v":""},{"$f":"IF($AG$37=\"\",\"\",IF(ROWS(BD!$1:21)>COUNTIFS(BD!$B:$B,$AG$37),\"\",INDEX(BD!$H$2:$H$138,SMALL(IF(BD!$B$2:$B$138=$AG$37,IF(BD!$B$2:$B$138=$AG$37,ROW(BD!$B$2:$B$138)-ROW(BD!$B$2)+1),FALSE),ROWS(BD!$1:21)))))","v":""},null,{"$f":"IF($AM$37=\"\",\"\",IF(ROWS(BD!$1:21)>COUNTIFS(BD!$B$1:$B$138,$AM$37),\"\",INDEX(BD!$C$2:$C$138,SMALL(IF(BD!$B$2:$B$138=$AM$37,IF(BD!$B$2:$B$138=$AM$37,ROW(BD!$B$2:$B$138)-ROW(BD!$B$2)+1),FALSE),ROWS(BD!$1:21)))))","v":""},{"$f":"IF($AM$37=\"\",\"\",IF(ROWS(BD!$1:21)>COUNTIFS(BD!$B$1:$B$138,$AM$37),\"\",INDEX(BD!$E$2:$E$138,SMALL(IF(BD!$B$2:$B$138=$AM$37,IF(BD!$B$2:$B$138=$AM$37,ROW(BD!$B$2:$B$138)-ROW(BD!$B$2)+1),FALSE),ROWS(BD!$1:21)))))","v":""},{"$f":"IF($AM$37=\"\",\"\",IF(ROWS(BD!$1:21)>COUNTIFS(BD!$B$1:$B$138,$AM$37),\"\",INDEX(BD!$F$2:$F$138,SMALL(IF(BD!$B$2:$B$138=$AM$37,IF(BD!$B$2:$B$138=$AM$37,ROW(BD!$B$2:$B$138)-ROW(BD!$B$2)+1),FALSE),ROWS(BD!$1:21)))))","v":""},{"$f":"IF($AM$37=\"\",\"\",IF(ROWS(BD!$1:21)>COUNTIFS(BD!$B:$B,$AM$37),\"\",INDEX(BD!$G$2:$G$138,SMALL(IF(BD!$B$2:$B$138=$AM$37,IF(BD!$B$2:$B$138=$AM$37,ROW(BD!$B$2:$B$138)-ROW(BD!$B$2)+1),FALSE),ROWS(BD!$1:21)))))","v":""},{"$f":"IF($AM$37=\"\",\"\",IF(ROWS(BD!$1:21)>COUNTIFS(BD!$B:$B,$AM$37),\"\",INDEX(BD!$H$2:$H$138,SMALL(IF(BD!$B$2:$B$138=$AM$37,IF(BD!$B$2:$B$138=$AM$37,ROW(BD!$B$2:$B$138)-ROW(BD!$B$2)+1),FALSE),ROWS(BD!$1:21)))))","v":""}]
[null,null,{"$f":"IF($C$37=\"\",\"\",IF(ROWS(BD!$1:22)>COUNTIFS(BD!$B$1:$B$138,$C$37),\"\",INDEX(BD!$C$2:$C$138,SMALL(IF(BD!$B$2:$B$138=$C$37,IF(BD!$B$2:$B$138=$C$37,ROW(BD!$B$2:$B$138)-ROW(BD!$B$2)+1),FALSE),ROWS(BD!$1:22)))))","v":""},{"$f":"IF($C$37=\"\",\"\",IF(ROWS(BD!$1:22)>COUNTIFS(BD!$B$1:$B$138,$C$37),\"\",INDEX(BD!$E$2:$E$138,SMALL(IF(BD!$B$2:$B$138=$C$37,IF(BD!$B$2:$B$138=$C$37,ROW(BD!$B$2:$B$138)-ROW(BD!$B$2)+1),FALSE),ROWS(BD!$1:22)))))","v":""},{"$f":"IF($C$37=\"\",\"\",IF(ROWS(BD!$1:22)>COUNTIFS(BD!$B$1:$B$138,$C$37),\"\",INDEX(BD!$F$2:$F$138,SMALL(IF(BD!$B$2:$B$138=$C$37,IF(BD!$B$2:$B$138=$C$37,ROW(BD!$B$2:$B$138)-ROW(BD!$B$2)+1),FALSE),ROWS(BD!$1:22)))))","v":""},{"$f":"IF($C$37=\"\",\"\",IF(ROWS(BD!$1:22)>COUNTIFS(BD!$B:$B,$C$37),\"\",INDEX(BD!$G$2:$G$138,SMALL(IF(BD!$B$2:$B$138=$C$37,IF(BD!$B$2:$B$138=$C$37,ROW(BD!$B$2:$B$138)-ROW(BD!$B$2)+1),FALSE),ROWS(BD!$1:22)))))","v":""},{"$f":"IF($C$37=\"\",\"\",IF(ROWS(BD!$1:22)>COUNTIFS(BD!$B:$B,$C$37),\"\",INDEX(BD!$H$2:$H$138,SMALL(IF(BD!$B$2:$B$138=$C$37,IF(BD!$B$2:$B$138=$C$37,ROW(BD!$B$2:$B$138)-ROW(BD!$B$2)+1),FALSE),ROWS(BD!$1:22)))))","v":""},null,{"$f":"IF($I$37=\"\",\"\",IF(ROWS(BD!$1:22)>COUNTIFS(BD!$B$1:$B$138,$I$37),\"\",INDEX(BD!$C$2:$C$138,SMALL(IF(BD!$B$2:$B$138=$I$37,IF(BD!$B$2:$B$138=$I$37,ROW(BD!$B$2:$B$138)-ROW(BD!$B$2)+1),FALSE),ROWS(BD!$1:22)))))","v":""},{"$f":"IF($I$37=\"\",\"\",IF(ROWS(BD!$1:22)>COUNTIFS(BD!$B$1:$B$138,$I$37),\"\",INDEX(BD!$E$2:$E$138,SMALL(IF(BD!$B$2:$B$138=$I$37,IF(BD!$B$2:$B$138=$I$37,ROW(BD!$B$2:$B$138)-ROW(BD!$B$2)+1),FALSE),ROWS(BD!$1:22)))))","v":""},{"$f":"IF($I$37=\"\",\"\",IF(ROWS(BD!$1:22)>COUNTIFS(BD!$B$1:$B$138,$I$37),\"\",INDEX(BD!$F$2:$F$138,SMALL(IF(BD!$B$2:$B$138=$I$37,IF(BD!$B$2:$B$138=$I$37,ROW(BD!$B$2:$B$138)-ROW(BD!$B$2)+1),FALSE),ROWS(BD!$1:22)))))","v":""},{"$f":"IF($I$37=\"\",\"\",IF(ROWS(BD!$1:22)>COUNTIFS(BD!$B:$B,$I$37),\"\",INDEX(BD!$G$2:$G$138,SMALL(IF(BD!$B$2:$B$138=$I$37,IF(BD!$B$2:$B$138=$I$37,ROW(BD!$B$2:$B$138)-ROW(BD!$B$2)+1),FALSE),ROWS(BD!$1:22)))))","v":""},{"$f":"IF($I$37=\"\",\"\",IF(ROWS(BD!$1:22)>COUNTIFS(BD!$B:$B,$I$37),\"\",INDEX(BD!$H$2:$H$138,SMALL(IF(BD!$B$2:$B$138=$I$37,IF(BD!$B$2:$B$138=$I$37,ROW(BD!$B$2:$B$138)-ROW(BD!$B$2)+1),FALSE),ROWS(BD!$1:22)))))","v":""},null,{"$f":"IF($O$37=\"\",\"\",IF(ROWS(BD!$1:22)>COUNTIFS(BD!$B$1:$B$138,$O$37),\"\",INDEX(BD!$C$2:$C$138,SMALL(IF(BD!$B$2:$B$138=$O$37,IF(BD!$B$2:$B$138=$O$37,ROW(BD!$B$2:$B$138)-ROW(BD!$B$2)+1),FALSE),ROWS(BD!$1:22)))))","v":""},{"$f":"IF($O$37=\"\",\"\",IF(ROWS(BD!$1:22)>COUNTIFS(BD!$B$1:$B$138,$O$37),\"\",INDEX(BD!$E$2:$E$138,SMALL(IF(BD!$B$2:$B$138=$O$37,IF(BD!$B$2:$B$138=$O$37,ROW(BD!$B$2:$B$138)-ROW(BD!$B$2)+1),FALSE),ROWS(BD!$1:22)))))","v":""},{"$f":"IF($O$37=\"\",\"\",IF(ROWS(BD!$1:22)>COUNTIFS(BD!$B$1:$B$138,$O$37),\"\",INDEX(BD!$F$2:$F$138,SMALL(IF(BD!$B$2:$B$138=$O$37,IF(BD!$B$2:$B$138=$O$37,ROW(BD!$B$2:$B$138)-ROW(BD!$B$2)+1),FALSE),ROWS(BD!$1:22)))))","v":""},{"$f":"IF($O$37=\"\",\"\",IF(ROWS(BD!$1:22)>COUNTIFS(BD!$B:$B,$O$37),\"\",INDEX(BD!$G$2:$G$138,SMALL(IF(BD!$B$2:$B$138=$O$37,IF(BD!$B$2:$B$138=$O$37,ROW(BD!$B$2:$B$138)-ROW(BD!$B$2)+1),FALSE),ROWS(BD!$1:22)))))","v":""},{"$f":"IF($O$37=\"\",\"\",IF(ROWS(BD!$1:22)>COUNTIFS(BD!$B:$B,$O$37),\"\",INDEX(BD!$H$2:$H$138,SMALL(IF(BD!$B$2:$B$138=$O$37,IF(BD!$B$2:$B$138=$O$37,ROW(BD!$B$2:$B$138)-ROW(BD!$B$2)+1),FALSE),ROWS(BD!$1:22)))))","v":""},null,{"$f":"IF($U$37=\"\",\"\",IF(ROWS(BD!$1:22)>COUNTIFS(BD!$B$1:$B$138,$U$37),\"\",INDEX(BD!$C$2:$C$138,SMALL(IF(BD!$B$2:$B$138=$U$37,IF(BD!$B$2:$B$138=$U$37,ROW(BD!$B$2:$B$138)-ROW(BD!$B$2)+1),FALSE),ROWS(BD!$1:22)))))","v":""},{"$f":"IF($U$37=\"\",\"\",IF(ROWS(BD!$1:22)>COUNTIFS(BD!$B$1:$B$138,$U$37),\"\",INDEX(BD!$E$2:$E$138,SMALL(IF(BD!$B$2:$B$138=$U$37,IF(BD!$B$2:$B$138=$U$37,ROW(BD!$B$2:$B$138)-ROW(BD!$B$2)+1),FALSE),ROWS(BD!$1:22)))))","v":""},{"$f":"IF($U$37=\"\",\"\",IF(ROWS(BD!$1:22)>COUNTIFS(BD!$B$1:$B$138,$U$37),\"\",INDEX(BD!$F$2:$F$138,SMALL(IF(BD!$B$2:$B$138=$U$37,IF(BD!$B$2:$B$138=$U$37,ROW(BD!$B$2:$B$138)-ROW(BD!$B$2)+1),FALSE),ROWS(BD!$1:22)))))","v":""},{"$f":"IF($U$37=\"\",\"\",IF(ROWS(BD!$1:22)>COUNTIFS(BD!$B:$B,$U$37),\"\",INDEX(BD!$G$2:$G$138,SMALL(IF(BD!$B$2:$B$138=$U$37,IF(BD!$B$2:$B$138=$U$37,ROW(BD!$B$2:$B$138)-ROW(BD!$B$2)+1),FALSE),ROWS(BD!$1:22)))))","v":""},{"$f":"IF($U$37=\"\",\"\",IF(ROWS(BD!$1:22)>COUNTIFS(BD!$B:$B,$U$37),\"\",INDEX(BD!$H$2:$H$138,SMALL(IF(BD!$B$2:$B$138=$U$37,IF(BD!$B$2:$B$138=$U$37,ROW(BD!$B$2:$B$138)-ROW(BD!$B$2)+1),FALSE),ROWS(BD!$1:22)))))","v":""},null,{"$f":"IF($AA$37=\"\",\"\",IF(ROWS(BD!$1:22)>COUNTIFS(BD!$B$1:$B$138,$AA$37),\"\",INDEX(BD!$C$2:$C$138,SMALL(IF(BD!$B$2:$B$138=$AA$37,IF(BD!$B$2:$B$138=$AA$37,ROW(BD!$B$2:$B$138)-ROW(BD!$B$2)+1),FALSE),ROWS(BD!$1:22)))))","v":""},{"$f":"IF($AA$37=\"\",\"\",IF(ROWS(BD!$1:22)>COUNTIFS(BD!$B$1:$B$138,$AA$37),\"\",INDEX(BD!$E$2:$E$138,SMALL(IF(BD!$B$2:$B$138=$AA$37,IF(BD!$B$2:$B$138=$AA$37,ROW(BD!$B$2:$B$138)-ROW(BD!$B$2)+1),FALSE),ROWS(BD!$1:22)))))","v":""},{"$f":"IF($AA$37=\"\",\"\",IF(ROWS(BD!$1:22)>COUNTIFS(BD!$B$1:$B$138,$AA$37),\"\",INDEX(BD!$F$2:$F$138,SMALL(IF(BD!$B$2:$B$138=$AA$37,IF(BD!$B$2:$B$138=$AA$37,ROW(BD!$B$2:$B$138)-ROW(BD!$B$2)+1),FALSE),ROWS(BD!$1:22)))))","v":""},{"$f":"IF($AA$37=\"\",\"\",IF(ROWS(BD!$1:22)>COUNTIFS(BD!$B:$B,$AA$37),\"\",INDEX(BD!$G$2:$G$138,SMALL(IF(BD!$B$2:$B$138=$AA$37,IF(BD!$B$2:$B$138=$AA$37,ROW(BD!$B$2:$B$138)-ROW(BD!$B$2)+1),FALSE),ROWS(BD!$1:22)))))","v":""},{"$f":"IF($AA$37=\"\",\"\",IF(ROWS(BD!$1:22)>COUNTIFS(BD!$B:$B,$AA$37),\"\",INDEX(BD!$H$2:$H$138,SMALL(IF(BD!$B$2:$B$138=$AA$37,IF(BD!$B$2:$B$138=$AA$37,ROW(BD!$B$2:$B$138)-ROW(BD!$B$2)+1),FALSE),ROWS(BD!$1:22)))))","v":""},null,{"$f":"IF($AG$37=\"\",\"\",IF(ROWS(BD!$1:22)>COUNTIFS(BD!$B$1:$B$138,$AG$37),\"\",INDEX(BD!$C$2:$C$138,SMALL(IF(BD!$B$2:$B$138=$AG$37,IF(BD!$B$2:$B$138=$AG$37,ROW(BD!$B$2:$B$138)-ROW(BD!$B$2)+1),FALSE),ROWS(BD!$1:22)))))","v":""},{"$f":"IF($AG$37=\"\",\"\",IF(ROWS(BD!$1:22)>COUNTIFS(BD!$B$1:$B$138,$AG$37),\"\",INDEX(BD!$E$2:$E$138,SMALL(IF(BD!$B$2:$B$138=$AG$37,IF(BD!$B$2:$B$138=$AG$37,ROW(BD!$B$2:$B$138)-ROW(BD!$B$2)+1),FALSE),ROWS(BD!$1:22)))))","v":""},{"$f":"IF($AG$37=\"\",\"\",IF(ROWS(BD!$1:22)>COUNTIFS(BD!$B$1:$B$138,$AG$37),\"\",INDEX(BD!$F$2:$F$138,SMALL(IF(BD!$B$2:$B$138=$AG$37,IF(BD!$B$2:$B$138=$AG$37,ROW(BD!$B$2:$B$138)-ROW(BD!$B$2)+1),FALSE),ROWS(BD!$1:22)))))","v":""},{"$f":"IF($AG$37=\"\",\"\",IF(ROWS(BD!$1:22)>COUNTIFS(BD!$B:$B,$AG$37),\"\",INDEX(BD!$G$2:$G$138,SMALL(IF(BD!$B$2:$B$138=$AG$37,IF(BD!$B$2:$B$138=$AG$37,ROW(BD!$B$2:$B$138)-ROW(BD!$B$2)+1),FALSE),ROWS(BD!$1:22)))))","v":""},{"$f":"IF($AG$37=\"\",\"\",IF(ROWS(BD!$1:22)>COUNTIFS(BD!$B:$B,$AG$37),\"\",INDEX(BD!$H$2:$H$138,SMALL(IF(BD!$B$2:$B$138=$AG$37,IF(BD!$B$2:$B$138=$AG$37,ROW(BD!$B$2:$B$138)-ROW(BD!$B$2)+1),FALSE),ROWS(BD!$1:22)))))","v":""},null,{"$f":"IF($AM$37=\"\",\"\",IF(ROWS(BD!$1:22)>COUNTIFS(BD!$B$1:$B$138,$AM$37),\"\",INDEX(BD!$C$2:$C$138,SMALL(IF(BD!$B$2:$B$138=$AM$37,IF(BD!$B$2:$B$138=$AM$37,ROW(BD!$B$2:$B$138)-ROW(BD!$B$2)+1),FALSE),ROWS(BD!$1:22)))))","v":""},{"$f":"IF($AM$37=\"\",\"\",IF(ROWS(BD!$1:22)>COUNTIFS(BD!$B$1:$B$138,$AM$37),\"\",INDEX(BD!$E$2:$E$138,SMALL(IF(BD!$B$2:$B$138=$AM$37,IF(BD!$B$2:$B$138=$AM$37,ROW(BD!$B$2:$B$138)-ROW(BD!$B$2)+1),FALSE),ROWS(BD!$1:22)))))","v":""},{"$f":"IF($AM$37=\"\",\"\",IF(ROWS(BD!$1:22)>COUNTIFS(BD!$B$1:$B$138,$AM$37),\"\",INDEX(BD!$F$2:$F$138,SMALL(IF(BD!$B$2:$B$138=$AM$37,IF(BD!$B$2:$B$138=$AM$37,ROW(BD!$B$2:$B$138)-ROW(BD!$B$2)+1),FALSE),ROWS(BD!$1:22)))))","v":""},{"$f":"IF($AM$37=\"\",\"\",IF(ROWS(BD!$1:22)>COUNTIFS(BD!$B:$B,$AM$37),\"\",INDEX(BD!$G$2:$G$138,SMALL(IF(BD!$B$2:$B$138=$AM$37,IF(BD!$B$2:$B$138=$AM$37,ROW(BD!$B$2:$B$138)-ROW(BD!$B$2)+1),FALSE),ROWS(BD!$1:22)))))","v":""},{"$f":"IF($AM$37=\"\",\"\",IF(ROWS(BD!$1:22)>COUNTIFS(BD!$B:$B,$AM$37),\"\",INDEX(BD!$H$2:$H$138,SMALL(IF(BD!$B$2:$B$138=$AM$37,IF(BD!$B$2:$B$138=$AM$37,ROW(BD!$B$2:$B$138)-ROW(BD!$B$2)+1),FALSE),ROWS(BD!$1:22)))))","v":""}]
[null,null,{"$f":"IF($C$37=\"\",\"\",IF(ROWS(BD!$1:23)>COUNTIFS(BD!$B$1:$B$138,$C$37),\"\",INDEX(BD!$C$2:$C$138,SMALL(IF(BD!$B$2:$B$138=$C$37,IF(BD!$B$2:$B$138=$C$37,ROW(BD!$B$2:$B$138)-ROW(BD!$B$2)+1),FALSE),ROWS(BD!$1:23)))))","v":""},{"$f":"IF($C$37=\"\",\"\",IF(ROWS(BD!$1:23)>COUNTIFS(BD!$B$1:$B$138,$C$37),\"\",INDEX(BD!$E$2:$E$138,SMALL(IF(BD!$B$2:$B$138=$C$37,IF(BD!$B$2:$B$138=$C$37,ROW(BD!$B$2:$B$138)-ROW(BD!$B$2)+1),FALSE),ROWS(BD!$1:23)))))","v":""},{"$f":"IF($C$37=\"\",\"\",IF(ROWS(BD!$1:23)>COUNTIFS(BD!$B$1:$B$138,$C$37),\"\",INDEX(BD!$F$2:$F$138,SMALL(IF(BD!$B$2:$B$138=$C$37,IF(BD!$B$2:$B$138=$C$37,ROW(BD!$B$2:$B$138)-ROW(BD!$B$2)+1),FALSE),ROWS(BD!$1:23)))))","v":""},{"$f":"IF($C$37=\"\",\"\",IF(ROWS(BD!$1:23)>COUNTIFS(BD!$B:$B,$C$37),\"\",INDEX(BD!$G$2:$G$138,SMALL(IF(BD!$B$2:$B$138=$C$37,IF(BD!$B$2:$B$138=$C$37,ROW(BD!$B$2:$B$138)-ROW(BD!$B$2)+1),FALSE),ROWS(BD!$1:23)))))","v":""},{"$f":"IF($C$37=\"\",\"\",IF(ROWS(BD!$1:23)>COUNTIFS(BD!$B:$B,$C$37),\"\",INDEX(BD!$H$2:$H$138,SMALL(IF(BD!$B$2:$B$138=$C$37,IF(BD!$B$2:$B$138=$C$37,ROW(BD!$B$2:$B$138)-ROW(BD!$B$2)+1),FALSE),ROWS(BD!$1:23)))))","v":""},null,{"$f":"IF($I$37=\"\",\"\",IF(ROWS(BD!$1:23)>COUNTIFS(BD!$B$1:$B$138,$I$37),\"\",INDEX(BD!$C$2:$C$138,SMALL(IF(BD!$B$2:$B$138=$I$37,IF(BD!$B$2:$B$138=$I$37,ROW(BD!$B$2:$B$138)-ROW(BD!$B$2)+1),FALSE),ROWS(BD!$1:23)))))","v":""},{"$f":"IF($I$37=\"\",\"\",IF(ROWS(BD!$1:23)>COUNTIFS(BD!$B$1:$B$138,$I$37),\"\",INDEX(BD!$E$2:$E$138,SMALL(IF(BD!$B$2:$B$138=$I$37,IF(BD!$B$2:$B$138=$I$37,ROW(BD!$B$2:$B$138)-ROW(BD!$B$2)+1),FALSE),ROWS(BD!$1:23)))))","v":""},{"$f":"IF($I$37=\"\",\"\",IF(ROWS(BD!$1:23)>COUNTIFS(BD!$B$1:$B$138,$I$37),\"\",INDEX(BD!$F$2:$F$138,SMALL(IF(BD!$B$2:$B$138=$I$37,IF(BD!$B$2:$B$138=$I$37,ROW(BD!$B$2:$B$138)-ROW(BD!$B$2)+1),FALSE),ROWS(BD!$1:23)))))","v":""},{"$f":"IF($I$37=\"\",\"\",IF(ROWS(BD!$1:23)>COUNTIFS(BD!$B:$B,$I$37),\"\",INDEX(BD!$G$2:$G$138,SMALL(IF(BD!$B$2:$B$138=$I$37,IF(BD!$B$2:$B$138=$I$37,ROW(BD!$B$2:$B$138)-ROW(BD!$B$2)+1),FALSE),ROWS(BD!$1:23)))))","v":""},{"$f":"IF($I$37=\"\",\"\",IF(ROWS(BD!$1:23)>COUNTIFS(BD!$B:$B,$I$37),\"\",INDEX(BD!$H$2:$H$138,SMALL(IF(BD!$B$2:$B$138=$I$37,IF(BD!$B$2:$B$138=$I$37,ROW(BD!$B$2:$B$138)-ROW(BD!$B$2)+1),FALSE),ROWS(BD!$1:23)))))","v":""},null,{"$f":"IF($O$37=\"\",\"\",IF(ROWS(BD!$1:23)>COUNTIFS(BD!$B$1:$B$138,$O$37),\"\",INDEX(BD!$C$2:$C$138,SMALL(IF(BD!$B$2:$B$138=$O$37,IF(BD!$B$2:$B$138=$O$37,ROW(BD!$B$2:$B$138)-ROW(BD!$B$2)+1),FALSE),ROWS(BD!$1:23)))))","v":""},{"$f":"IF($O$37=\"\",\"\",IF(ROWS(BD!$1:23)>COUNTIFS(BD!$B$1:$B$138,$O$37),\"\",INDEX(BD!$E$2:$E$138,SMALL(IF(BD!$B$2:$B$138=$O$37,IF(BD!$B$2:$B$138=$O$37,ROW(BD!$B$2:$B$138)-ROW(BD!$B$2)+1),FALSE),ROWS(BD!$1:23)))))","v":""},{"$f":"IF($O$37=\"\",\"\",IF(ROWS(BD!$1:23)>COUNTIFS(BD!$B$1:$B$138,$O$37),\"\",INDEX(BD!$F$2:$F$138,SMALL(IF(BD!$B$2:$B$138=$O$37,IF(BD!$B$2:$B$138=$O$37,ROW(BD!$B$2:$B$138)-ROW(BD!$B$2)+1),FALSE),ROWS(BD!$1:23)))))","v":""},{"$f":"IF($O$37=\"\",\"\",IF(ROWS(BD!$1:23)>COUNTIFS(BD!$B:$B,$O$37),\"\",INDEX(BD!$G$2:$G$138,SMALL(IF(BD!$B$2:$B$138=$O$37,IF(BD!$B$2:$B$138=$O$37,ROW(BD!$B$2:$B$138)-ROW(BD!$B$2)+1),FALSE),ROWS(BD!$1:23)))))","v":""},{"$f":"IF($O$37=\"\",\"\",IF(ROWS(BD!$1:23)>COUNTIFS(BD!$B:$B,$O$37),\"\",INDEX(BD!$H$2:$H$138,SMALL(IF(BD!$B$2:$B$138=$O$37,IF(BD!$B$2:$B$138=$O$37,ROW(BD!$B$2:$B$138)-ROW(BD!$B$2)+1),FALSE),ROWS(BD!$1:23)))))","v":""},null,{"$f":"IF($U$37=\"\",\"\",IF(ROWS(BD!$1:23)>COUNTIFS(BD!$B$1:$B$138,$U$37),\"\",INDEX(BD!$C$2:$C$138,SMALL(IF(BD!$B$2:$B$138=$U$37,IF(BD!$B$2:$B$138=$U$37,ROW(BD!$B$2:$B$138)-ROW(BD!$B$2)+1),FALSE),ROWS(BD!$1:23)))))","v":""},{"$f":"IF($U$37=\"\",\"\",IF(ROWS(BD!$1:23)>COUNTIFS(BD!$B$1:$B$138,$U$37),\"\",INDEX(BD!$E$2:$E$138,SMALL(IF(BD!$B$2:$B$138=$U$37,IF(BD!$B$2:$B$138=$U$37,ROW(BD!$B$2:$B$138)-ROW(BD!$B$2)+1),FALSE),ROWS(BD!$1:23)))))","v":""},{"$f":"IF($U$37=\"\",\"\",IF(ROWS(BD!$1:23)>COUNTIFS(BD!$B$1:$B$138,$U$37),\"\",INDEX(BD!$F$2:$F$138,SMALL(IF(BD!$B$2:$B$138=$U$37,IF(BD!$B$2:$B$138=$U$37,ROW(BD!$B$2:$B$138)-ROW(BD!$B$2)+1),FALSE),ROWS(BD!$1:23)))))","v":""},{"$f":"IF($U$37=\"\",\"\",IF(ROWS(BD!$1:23)>COUNTIFS(BD!$B:$B,$U$37),\"\",INDEX(BD!$G$2:$G$138,SMALL(IF(BD!$B$2:$B$138=$U$37,IF(BD!$B$2:$B$138=$U$37,ROW(BD!$B$2:$B$138)-ROW(BD!$B$2)+1),FALSE),ROWS(BD!$1:23)))))","v":""},{"$f":"IF($U$37=\"\",\"\",IF(ROWS(BD!$1:23)>COUNTIFS(BD!$B:$B,$U$37),\"\",INDEX(BD!$H$2:$H$138,SMALL(IF(BD!$B$2:$B$138=$U$37,IF(BD!$B$2:$B$138=$U$37,ROW(BD!$B$2:$B$138)-ROW(BD!$B$2)+1),FALSE),ROWS(BD!$1:23)))))","v":""},null,{"$f":"IF($AA$37=\"\",\"\",IF(ROWS(BD!$1:23)>COUNTIFS(BD!$B$1:$B$138,$AA$37),\"\",INDEX(BD!$C$2:$C$138,SMALL(IF(BD!$B$2:$B$138=$AA$37,IF(BD!$B$2:$B$138=$AA$37,ROW(BD!$B$2:$B$138)-ROW(BD!$B$2)+1),FALSE),ROWS(BD!$1:23)))))","v":""},{"$f":"IF($AA$37=\"\",\"\",IF(ROWS(BD!$1:23)>COUNTIFS(BD!$B$1:$B$138,$AA$37),\"\",INDEX(BD!$E$2:$E$138,SMALL(IF(BD!$B$2:$B$138=$AA$37,IF(BD!$B$2:$B$138=$AA$37,ROW(BD!$B$2:$B$138)-ROW(BD!$B$2)+1),FALSE),ROWS(BD!$1:23)))))","v":""},{"$f":"IF($AA$37=\"\",\"\",IF(ROWS(BD!$1:23)>COUNTIFS(BD!$B$1:$B$138,$AA$37),\"\",INDEX(BD!$F$2:$F$138,SMALL(IF(BD!$B$2:$B$138=$AA$37,IF(BD!$B$2:$B$138=$AA$37,ROW(BD!$B$2:$B$138)-ROW(BD!$B$2)+1),FALSE),ROWS(BD!$1:23)))))","v":""},{"$f":"IF($AA$37=\"\",\"\",IF(ROWS(BD!$1:23)>COUNTIFS(BD!$B:$B,$AA$37),\"\",INDEX(BD!$G$2:$G$138,SMALL(IF(BD!$B$2:$B$138=$AA$37,IF(BD!$B$2:$B$138=$AA$37,ROW(BD!$B$2:$B$138)-ROW(BD!$B$2)+1),FALSE),ROWS(BD!$1:23)))))","v":""},{"$f":"IF($AA$37=\"\",\"\",IF(ROWS(BD!$1:23)>COUNTIFS(BD!$B:$B,$AA$37),\"\",INDEX(BD!$H$2:$H$138,SMALL(IF(BD!$B$2:$B$138=$AA$37,IF(BD!$B$2:$B$138=$AA$37,ROW(BD!$B$2:$B$138)-ROW(BD!$B$2)+1),FALSE),ROWS(BD!$1:23)))))","v":""},null,{"$f":"IF($AG$37=\"\",\"\",IF(ROWS(BD!$1:23)>COUNTIFS(BD!$B$1:$B$138,$AG$37),\"\",INDEX(BD!$C$2:$C$138,SMALL(IF(BD!$B$2:$B$138=$AG$37,IF(BD!$B$2:$B$138=$AG$37,ROW(BD!$B$2:$B$138)-ROW(BD!$B$2)+1),FALSE),ROWS(BD!$1:23)))))","v":""},{"$f":"IF($AG$37=\"\",\"\",IF(ROWS(BD!$1:23)>COUNTIFS(BD!$B$1:$B$138,$AG$37),\"\",INDEX(BD!$E$2:$E$138,SMALL(IF(BD!$B$2:$B$138=$AG$37,IF(BD!$B$2:$B$138=$AG$37,ROW(BD!$B$2:$B$138)-ROW(BD!$B$2)+1),FALSE),ROWS(BD!$1:23)))))","v":""},{"$f":"IF($AG$37=\"\",\"\",IF(ROWS(BD!$1:23)>COUNTIFS(BD!$B$1:$B$138,$AG$37),\"\",INDEX(BD!$F$2:$F$138,SMALL(IF(BD!$B$2:$B$138=$AG$37,IF(BD!$B$2:$B$138=$AG$37,ROW(BD!$B$2:$B$138)-ROW(BD!$B$2)+1),FALSE),ROWS(BD!$1:23)))))","v":""},{"$f":"IF($AG$37=\"\",\"\",IF(ROWS(BD!$1:23)>COUNTIFS(BD!$B:$B,$AG$37),\"\",INDEX(BD!$G$2:$G$138,SMALL(IF(BD!$B$2:$B$138=$AG$37,IF(BD!$B$2:$B$138=$AG$37,ROW(BD!$B$2:$B$138)-ROW(BD!$B$2)+1),FALSE),ROWS(BD!$1:23)))))","v":""},{"$f":"IF($AG$37=\"\",\"\",IF(ROWS(BD!$1:23)>COUNTIFS(BD!$B:$B,$AG$37),\"\",INDEX(BD!$H$2:$H$138,SMALL(IF(BD!$B$2:$B$138=$AG$37,IF(BD!$B$2:$B$138=$AG$37,ROW(BD!$B$2:$B$138)-ROW(BD!$B$2)+1),FALSE),ROWS(BD!$1:23)))))","v":""},null,{"$f":"IF($AM$37=\"\",\"\",IF(ROWS(BD!$1:23)>COUNTIFS(BD!$B$1:$B$138,$AM$37),\"\",INDEX(BD!$C$2:$C$138,SMALL(IF(BD!$B$2:$B$138=$AM$37,IF(BD!$B$2:$B$138=$AM$37,ROW(BD!$B$2:$B$138)-ROW(BD!$B$2)+1),FALSE),ROWS(BD!$1:23)))))","v":""},{"$f":"IF($AM$37=\"\",\"\",IF(ROWS(BD!$1:23)>COUNTIFS(BD!$B$1:$B$138,$AM$37),\"\",INDEX(BD!$E$2:$E$138,SMALL(IF(BD!$B$2:$B$138=$AM$37,IF(BD!$B$2:$B$138=$AM$37,ROW(BD!$B$2:$B$138)-ROW(BD!$B$2)+1),FALSE),ROWS(BD!$1:23)))))","v":""},{"$f":"IF($AM$37=\"\",\"\",IF(ROWS(BD!$1:23)>COUNTIFS(BD!$B$1:$B$138,$AM$37),\"\",INDEX(BD!$F$2:$F$138,SMALL(IF(BD!$B$2:$B$138=$AM$37,IF(BD!$B$2:$B$138=$AM$37,ROW(BD!$B$2:$B$138)-ROW(BD!$B$2)+1),FALSE),ROWS(BD!$1:23)))))","v":""},{"$f":"IF($AM$37=\"\",\"\",IF(ROWS(BD!$1:23)>COUNTIFS(BD!$B:$B,$AM$37),\"\",INDEX(BD!$G$2:$G$138,SMALL(IF(BD!$B$2:$B$138=$AM$37,IF(BD!$B$2:$B$138=$AM$37,ROW(BD!$B$2:$B$138)-ROW(BD!$B$2)+1),FALSE),ROWS(BD!$1:23)))))","v":""},{"$f":"IF($AM$37=\"\",\"\",IF(ROWS(BD!$1:23)>COUNTIFS(BD!$B:$B,$AM$37),\"\",INDEX(BD!$H$2:$H$138,SMALL(IF(BD!$B$2:$B$138=$AM$37,IF(BD!$B$2:$B$138=$AM$37,ROW(BD!$B$2:$B$138)-ROW(BD!$B$2)+1),FALSE),ROWS(BD!$1:23)))))","v":""}]
[null,null,{"$f":"IF($C$37=\"\",\"\",IF(ROWS(BD!$1:24)>COUNTIFS(BD!$B$1:$B$138,$C$37),\"\",INDEX(BD!$C$2:$C$138,SMALL(IF(BD!$B$2:$B$138=$C$37,IF(BD!$B$2:$B$138=$C$37,ROW(BD!$B$2:$B$138)-ROW(BD!$B$2)+1),FALSE),ROWS(BD!$1:24)))))","v":""},{"$f":"IF($C$37=\"\",\"\",IF(ROWS(BD!$1:24)>COUNTIFS(BD!$B$1:$B$138,$C$37),\"\",INDEX(BD!$E$2:$E$138,SMALL(IF(BD!$B$2:$B$138=$C$37,IF(BD!$B$2:$B$138=$C$37,ROW(BD!$B$2:$B$138)-ROW(BD!$B$2)+1),FALSE),ROWS(BD!$1:24)))))","v":""},{"$f":"IF($C$37=\"\",\"\",IF(ROWS(BD!$1:24)>COUNTIFS(BD!$B$1:$B$138,$C$37),\"\",INDEX(BD!$F$2:$F$138,SMALL(IF(BD!$B$2:$B$138=$C$37,IF(BD!$B$2:$B$138=$C$37,ROW(BD!$B$2:$B$138)-ROW(BD!$B$2)+1),FALSE),ROWS(BD!$1:24)))))","v":""},{"$f":"IF($C$37=\"\",\"\",IF(ROWS(BD!$1:24)>COUNTIFS(BD!$B:$B,$C$37),\"\",INDEX(BD!$G$2:$G$138,SMALL(IF(BD!$B$2:$B$138=$C$37,IF(BD!$B$2:$B$138=$C$37,ROW(BD!$B$2:$B$138)-ROW(BD!$B$2)+1),FALSE),ROWS(BD!$1:24)))))","v":""},{"$f":"IF($C$37=\"\",\"\",IF(ROWS(BD!$1:24)>COUNTIFS(BD!$B:$B,$C$37),\"\",INDEX(BD!$H$2:$H$138,SMALL(IF(BD!$B$2:$B$138=$C$37,IF(BD!$B$2:$B$138=$C$37,ROW(BD!$B$2:$B$138)-ROW(BD!$B$2)+1),FALSE),ROWS(BD!$1:24)))))","v":""},null,{"$f":"IF($I$37=\"\",\"\",IF(ROWS(BD!$1:24)>COUNTIFS(BD!$B$1:$B$138,$I$37),\"\",INDEX(BD!$C$2:$C$138,SMALL(IF(BD!$B$2:$B$138=$I$37,IF(BD!$B$2:$B$138=$I$37,ROW(BD!$B$2:$B$138)-ROW(BD!$B$2)+1),FALSE),ROWS(BD!$1:24)))))","v":""},{"$f":"IF($I$37=\"\",\"\",IF(ROWS(BD!$1:24)>COUNTIFS(BD!$B$1:$B$138,$I$37),\"\",INDEX(BD!$E$2:$E$138,SMALL(IF(BD!$B$2:$B$138=$I$37,IF(BD!$B$2:$B$138=$I$37,ROW(BD!$B$2:$B$138)-ROW(BD!$B$2)+1),FALSE),ROWS(BD!$1:24)))))","v":""},{"$f":"IF($I$37=\"\",\"\",IF(ROWS(BD!$1:24)>COUNTIFS(BD!$B$1:$B$138,$I$37),\"\",INDEX(BD!$F$2:$F$138,SMALL(IF(BD!$B$2:$B$138=$I$37,IF(BD!$B$2:$B$138=$I$37,ROW(BD!$B$2:$B$138)-ROW(BD!$B$2)+1),FALSE),ROWS(BD!$1:24)))))","v":""},{"$f":"IF($I$37=\"\",\"\",IF(ROWS(BD!$1:24)>COUNTIFS(BD!$B:$B,$I$37),\"\",INDEX(BD!$G$2:$G$138,SMALL(IF(BD!$B$2:$B$138=$I$37,IF(BD!$B$2:$B$138=$I$37,ROW(BD!$B$2:$B$138)-ROW(BD!$B$2)+1),FALSE),ROWS(BD!$1:24)))))","v":""},{"$f":"IF($I$37=\"\",\"\",IF(ROWS(BD!$1:24)>COUNTIFS(BD!$B:$B,$I$37),\"\",INDEX(BD!$H$2:$H$138,SMALL(IF(BD!$B$2:$B$138=$I$37,IF(BD!$B$2:$B$138=$I$37,ROW(BD!$B$2:$B$138)-ROW(BD!$B$2)+1),FALSE),ROWS(BD!$1:24)))))","v":""},null,{"$f":"IF($O$37=\"\",\"\",IF(ROWS(BD!$1:24)>COUNTIFS(BD!$B$1:$B$138,$O$37),\"\",INDEX(BD!$C$2:$C$138,SMALL(IF(BD!$B$2:$B$138=$O$37,IF(BD!$B$2:$B$138=$O$37,ROW(BD!$B$2:$B$138)-ROW(BD!$B$2)+1),FALSE),ROWS(BD!$1:24)))))","v":""},{"$f":"IF($O$37=\"\",\"\",IF(ROWS(BD!$1:24)>COUNTIFS(BD!$B$1:$B$138,$O$37),\"\",INDEX(BD!$E$2:$E$138,SMALL(IF(BD!$B$2:$B$138=$O$37,IF(BD!$B$2:$B$138=$O$37,ROW(BD!$B$2:$B$138)-ROW(BD!$B$2)+1),FALSE),ROWS(BD!$1:24)))))","v":""},{"$f":"IF($O$37=\"\",\"\",IF(ROWS(BD!$1:24)>COUNTIFS(BD!$B$1:$B$138,$O$37),\"\",INDEX(BD!$F$2:$F$138,SMALL(IF(BD!$B$2:$B$138=$O$37,IF(BD!$B$2:$B$138=$O$37,ROW(BD!$B$2:$B$138)-ROW(BD!$B$2)+1),FALSE),ROWS(BD!$1:24)))))","v":""},{"$f":"IF($O$37=\"\",\"\",IF(ROWS(BD!$1:24)>COUNTIFS(BD!$B:$B,$O$37),\"\",INDEX(BD!$G$2:$G$138,SMALL(IF(BD!$B$2:$B$138=$O$37,IF(BD!$B$2:$B$138=$O$37,ROW(BD!$B$2:$B$138)-ROW(BD!$B$2)+1),FALSE),ROWS(BD!$1:24)))))","v":""},{"$f":"IF($O$37=\"\",\"\",IF(ROWS(BD!$1:24)>COUNTIFS(BD!$B:$B,$O$37),\"\",INDEX(BD!$H$2:$H$138,SMALL(IF(BD!$B$2:$B$138=$O$37,IF(BD!$B$2:$B$138=$O$37,ROW(BD!$B$2:$B$138)-ROW(BD!$B$2)+1),FALSE),ROWS(BD!$1:24)))))","v":""},null,{"$f":"IF($U$37=\"\",\"\",IF(ROWS(BD!$1:24)>COUNTIFS(BD!$B$1:$B$138,$U$37),\"\",INDEX(BD!$C$2:$C$138,SMALL(IF(BD!$B$2:$B$138=$U$37,IF(BD!$B$2:$B$138=$U$37,ROW(BD!$B$2:$B$138)-ROW(BD!$B$2)+1),FALSE),ROWS(BD!$1:24)))))","v":""},{"$f":"IF($U$37=\"\",\"\",IF(ROWS(BD!$1:24)>COUNTIFS(BD!$B$1:$B$138,$U$37),\"\",INDEX(BD!$E$2:$E$138,SMALL(IF(BD!$B$2:$B$138=$U$37,IF(BD!$B$2:$B$138=$U$37,ROW(BD!$B$2:$B$138)-ROW(BD!$B$2)+1),FALSE),ROWS(BD!$1:24)))))","v":""},{"$f":"IF($U$37=\"\",\"\",IF(ROWS(BD!$1:24)>COUNTIFS(BD!$B$1:$B$138,$U$37),\"\",INDEX(BD!$F$2:$F$138,SMALL(IF(BD!$B$2:$B$138=$U$37,IF(BD!$B$2:$B$138=$U$37,ROW(BD!$B$2:$B$138)-ROW(BD!$B$2)+1),FALSE),ROWS(BD!$1:24)))))","v":""},{"$f":"IF($U$37=\"\",\"\",IF(ROWS(BD!$1:24)>COUNTIFS(BD!$B:$B,$U$37),\"\",INDEX(BD!$G$2:$G$138,SMALL(IF(BD!$B$2:$B$138=$U$37,IF(BD!$B$2:$B$138=$U$37,ROW(BD!$B$2:$B$138)-ROW(BD!$B$2)+1),FALSE),ROWS(BD!$1:24)))))","v":""},{"$f":"IF($U$37=\"\",\"\",IF(ROWS(BD!$1:24)>COUNTIFS(BD!$B:$B,$U$37),\"\",INDEX(BD!$H$2:$H$138,SMALL(IF(BD!$B$2:$B$138=$U$37,IF(BD!$B$2:$B$138=$U$37,ROW(BD!$B$2:$B$138)-ROW(BD!$B$2)+1),FALSE),ROWS(BD!$1:24)))))","v":""},null,{"$f":"IF($AA$37=\"\",\"\",IF(ROWS(BD!$1:24)>COUNTIFS(BD!$B$1:$B$138,$AA$37),\"\",INDEX(BD!$C$2:$C$138,SMALL(IF(BD!$B$2:$B$138=$AA$37,IF(BD!$B$2:$B$138=$AA$37,ROW(BD!$B$2:$B$138)-ROW(BD!$B$2)+1),FALSE),ROWS(BD!$1:24)))))","v":""},{"$f":"IF($AA$37=\"\",\"\",IF(ROWS(BD!$1:24)>COUNTIFS(BD!$B$1:$B$138,$AA$37),\"\",INDEX(BD!$E$2:$E$138,SMALL(IF(BD!$B$2:$B$138=$AA$37,IF(BD!$B$2:$B$138=$AA$37,ROW(BD!$B$2:$B$138)-ROW(BD!$B$2)+1),FALSE),ROWS(BD!$1:24)))))","v":""},{"$f":"IF($AA$37=\"\",\"\",IF(ROWS(BD!$1:24)>COUNTIFS(BD!$B$1:$B$138,$AA$37),\"\",INDEX(BD!$F$2:$F$138,SMALL(IF(BD!$B$2:$B$138=$AA$37,IF(BD!$B$2:$B$138=$AA$37,ROW(BD!$B$2:$B$138)-ROW(BD!$B$2)+1),FALSE),ROWS(BD!$1:24)))))","v":""},{"$f":"IF($AA$37=\"\",\"\",IF(ROWS(BD!$1:24)>COUNTIFS(BD!$B:$B,$AA$37),\"\",INDEX(BD!$G$2:$G$138,SMALL(IF(BD!$B$2:$B$138=$AA$37,IF(BD!$B$2:$B$138=$AA$37,ROW(BD!$B$2:$B$138)-ROW(BD!$B$2)+1),FALSE),ROWS(BD!$1:24)))))","v":""},{"$f":"IF($AA$37=\"\",\"\",IF(ROWS(BD!$1:24)>COUNTIFS(BD!$B:$B,$AA$37),\"\",INDEX(BD!$H$2:$H$138,SMALL(IF(BD!$B$2:$B$138=$AA$37,IF(BD!$B$2:$B$138=$AA$37,ROW(BD!$B$2:$B$138)-ROW(BD!$B$2)+1),FALSE),ROWS(BD!$1:24)))))","v":""},null,{"$f":"IF($AG$37=\"\",\"\",IF(ROWS(BD!$1:24)>COUNTIFS(BD!$B$1:$B$138,$AG$37),\"\",INDEX(BD!$C$2:$C$138,SMALL(IF(BD!$B$2:$B$138=$AG$37,IF(BD!$B$2:$B$138=$AG$37,ROW(BD!$B$2:$B$138)-ROW(BD!$B$2)+1),FALSE),ROWS(BD!$1:24)))))","v":""},{"$f":"IF($AG$37=\"\",\"\",IF(ROWS(BD!$1:24)>COUNTIFS(BD!$B$1:$B$138,$AG$37),\"\",INDEX(BD!$E$2:$E$138,SMALL(IF(BD!$B$2:$B$138=$AG$37,IF(BD!$B$2:$B$138=$AG$37,ROW(BD!$B$2:$B$138)-ROW(BD!$B$2)+1),FALSE),ROWS(BD!$1:24)))))","v":""},{"$f":"IF($AG$37=\"\",\"\",IF(ROWS(BD!$1:24)>COUNTIFS(BD!$B$1:$B$138,$AG$37),\"\",INDEX(BD!$F$2:$F$138,SMALL(IF(BD!$B$2:$B$138=$AG$37,IF(BD!$B$2:$B$138=$AG$37,ROW(BD!$B$2:$B$138)-ROW(BD!$B$2)+1),FALSE),ROWS(BD!$1:24)))))","v":""},{"$f":"IF($AG$37=\"\",\"\",IF(ROWS(BD!$1:24)>COUNTIFS(BD!$B:$B,$AG$37),\"\",INDEX(BD!$G$2:$G$138,SMALL(IF(BD!$B$2:$B$138=$AG$37,IF(BD!$B$2:$B$138=$AG$37,ROW(BD!$B$2:$B$138)-ROW(BD!$B$2)+1),FALSE),ROWS(BD!$1:24)))))","v":""},{"$f":"IF($AG$37=\"\",\"\",IF(ROWS(BD!$1:24)>COUNTIFS(BD!$B:$B,$AG$37),\"\",INDEX(BD!$H$2:$H$138,SMALL(IF(BD!$B$2:$B$138=$AG$37,IF(BD!$B$2:$B$138=$AG$37,ROW(BD!$B$2:$B$138)-ROW(BD!$B$2)+1),FALSE),ROWS(BD!$1:24)))))","v":""},null,{"$f":"IF($AM$37=\"\",\"\",IF(ROWS(BD!$1:24)>COUNTIFS(BD!$B$1:$B$138,$AM$37),\"\",INDEX(BD!$C$2:$C$138,SMALL(IF(BD!$B$2:$B$138=$AM$37,IF(BD!$B$2:$B$138=$AM$37,ROW(BD!$B$2:$B$138)-ROW(BD!$B$2)+1),FALSE),ROWS(BD!$1:24)))))","v":""},{"$f":"IF($AM$37=\"\",\"\",IF(ROWS(BD!$1:24)>COUNTIFS(BD!$B$1:$B$138,$AM$37),\"\",INDEX(BD!$E$2:$E$138,SMALL(IF(BD!$B$2:$B$138=$AM$37,IF(BD!$B$2:$B$138=$AM$37,ROW(BD!$B$2:$B$138)-ROW(BD!$B$2)+1),FALSE),ROWS(BD!$1:24)))))","v":""},{"$f":"IF($AM$37=\"\",\"\",IF(ROWS(BD!$1:24)>COUNTIFS(BD!$B$1:$B$138,$AM$37),\"\",INDEX(BD!$F$2:$F$138,SMALL(IF(BD!$B$2:$B$138=$AM$37,IF(BD!$B$2:$B$138=$AM$37,ROW(BD!$B$2:$B$138)-ROW(BD!$B$2)+1),FALSE),ROWS(BD!$1:24)))))","v":""},{"$f":"IF($AM$37=\"\",\"\",IF(ROWS(BD!$1:24)>COUNTIFS(BD!$B:$B,$AM$37),\"\",INDEX(BD!$G$2:$G$138,SMALL(IF(BD!$B$2:$B$138=$AM$37,IF(BD!$B$2:$B$138=$AM$37,ROW(BD!$B$2:$B$138)-ROW(BD!$B$2)+1),FALSE),ROWS(BD!$1:24)))))","v":""},{"$f":"IF($AM$37=\"\",\"\",IF(ROWS(BD!$1:24)>COUNTIFS(BD!$B:$B,$AM$37),\"\",INDEX(BD!$H$2:$H$138,SMALL(IF(BD!$B$2:$B$138=$AM$37,IF(BD!$B$2:$B$138=$AM$37,ROW(BD!$B$2:$B$138)-ROW(BD!$B$2)+1),FALSE),ROWS(BD!$1:24)))))","v":""}]
[null,null,{"$f":"IF($C$37=\"\",\"\",IF(ROWS(BD!$1:25)>COUNTIFS(BD!$B$1:$B$138,$C$37),\"\",INDEX(BD!$C$2:$C$138,SMALL(IF(BD!$B$2:$B$138=$C$37,IF(BD!$B$2:$B$138=$C$37,ROW(BD!$B$2:$B$138)-ROW(BD!$B$2)+1),FALSE),ROWS(BD!$1:25)))))","v":""},{"$f":"IF($C$37=\"\",\"\",IF(ROWS(BD!$1:25)>COUNTIFS(BD!$B$1:$B$138,$C$37),\"\",INDEX(BD!$E$2:$E$138,SMALL(IF(BD!$B$2:$B$138=$C$37,IF(BD!$B$2:$B$138=$C$37,ROW(BD!$B$2:$B$138)-ROW(BD!$B$2)+1),FALSE),ROWS(BD!$1:25)))))","v":""},{"$f":"IF($C$37=\"\",\"\",IF(ROWS(BD!$1:25)>COUNTIFS(BD!$B$1:$B$138,$C$37),\"\",INDEX(BD!$F$2:$F$138,SMALL(IF(BD!$B$2:$B$138=$C$37,IF(BD!$B$2:$B$138=$C$37,ROW(BD!$B$2:$B$138)-ROW(BD!$B$2)+1),FALSE),ROWS(BD!$1:25)))))","v":""},{"$f":"IF($C$37=\"\",\"\",IF(ROWS(BD!$1:25)>COUNTIFS(BD!$B:$B,$C$37),\"\",INDEX(BD!$G$2:$G$138,SMALL(IF(BD!$B$2:$B$138=$C$37,IF(BD!$B$2:$B$138=$C$37,ROW(BD!$B$2:$B$138)-ROW(BD!$B$2)+1),FALSE),ROWS(BD!$1:25)))))","v":""},{"$f":"IF($C$37=\"\",\"\",IF(ROWS(BD!$1:25)>COUNTIFS(BD!$B:$B,$C$37),\"\",INDEX(BD!$H$2:$H$138,SMALL(IF(BD!$B$2:$B$138=$C$37,IF(BD!$B$2:$B$138=$C$37,ROW(BD!$B$2:$B$138)-ROW(BD!$B$2)+1),FALSE),ROWS(BD!$1:25)))))","v":""},null,{"$f":"IF($I$37=\"\",\"\",IF(ROWS(BD!$1:25)>COUNTIFS(BD!$B$1:$B$138,$I$37),\"\",INDEX(BD!$C$2:$C$138,SMALL(IF(BD!$B$2:$B$138=$I$37,IF(BD!$B$2:$B$138=$I$37,ROW(BD!$B$2:$B$138)-ROW(BD!$B$2)+1),FALSE),ROWS(BD!$1:25)))))","v":""},{"$f":"IF($I$37=\"\",\"\",IF(ROWS(BD!$1:25)>COUNTIFS(BD!$B$1:$B$138,$I$37),\"\",INDEX(BD!$E$2:$E$138,SMALL(IF(BD!$B$2:$B$138=$I$37,IF(BD!$B$2:$B$138=$I$37,ROW(BD!$B$2:$B$138)-ROW(BD!$B$2)+1),FALSE),ROWS(BD!$1:25)))))","v":""},{"$f":"IF($I$37=\"\",\"\",IF(ROWS(BD!$1:25)>COUNTIFS(BD!$B$1:$B$138,$I$37),\"\",INDEX(BD!$F$2:$F$138,SMALL(IF(BD!$B$2:$B$138=$I$37,IF(BD!$B$2:$B$138=$I$37,ROW(BD!$B$2:$B$138)-ROW(BD!$B$2)+1),FALSE),ROWS(BD!$1:25)))))","v":""},{"$f":"IF($I$37=\"\",\"\",IF(ROWS(BD!$1:25)>COUNTIFS(BD!$B:$B,$I$37),\"\",INDEX(BD!$G$2:$G$138,SMALL(IF(BD!$B$2:$B$138=$I$37,IF(BD!$B$2:$B$138=$I$37,ROW(BD!$B$2:$B$138)-ROW(BD!$B$2)+1),FALSE),ROWS(BD!$1:25)))))","v":""},{"$f":"IF($I$37=\"\",\"\",IF(ROWS(BD!$1:25)>COUNTIFS(BD!$B:$B,$I$37),\"\",INDEX(BD!$H$2:$H$138,SMALL(IF(BD!$B$2:$B$138=$I$37,IF(BD!$B$2:$B$138=$I$37,ROW(BD!$B$2:$B$138)-ROW(BD!$B$2)+1),FALSE),ROWS(BD!$1:25)))))","v":""},null,{"$f":"IF($O$37=\"\",\"\",IF(ROWS(BD!$1:25)>COUNTIFS(BD!$B$1:$B$138,$O$37),\"\",INDEX(BD!$C$2:$C$138,SMALL(IF(BD!$B$2:$B$138=$O$37,IF(BD!$B$2:$B$138=$O$37,ROW(BD!$B$2:$B$138)-ROW(BD!$B$2)+1),FALSE),ROWS(BD!$1:25)))))","v":""},{"$f":"IF($O$37=\"\",\"\",IF(ROWS(BD!$1:25)>COUNTIFS(BD!$B$1:$B$138,$O$37),\"\",INDEX(BD!$E$2:$E$138,SMALL(IF(BD!$B$2:$B$138=$O$37,IF(BD!$B$2:$B$138=$O$37,ROW(BD!$B$2:$B$138)-ROW(BD!$B$2)+1),FALSE),ROWS(BD!$1:25)))))","v":""},{"$f":"IF($O$37=\"\",\"\",IF(ROWS(BD!$1:25)>COUNTIFS(BD!$B$1:$B$138,$O$37),\"\",INDEX(BD!$F$2:$F$138,SMALL(IF(BD!$B$2:$B$138=$O$37,IF(BD!$B$2:$B$138=$O$37,ROW(BD!$B$2:$B$138)-ROW(BD!$B$2)+1),FALSE),ROWS(BD!$1:25)))))","v":""},{"$f":"IF($O$37=\"\",\"\",IF(ROWS(BD!$1:25)>COUNTIFS(BD!$B:$B,$O$37),\"\",INDEX(BD!$G$2:$G$138,SMALL(IF(BD!$B$2:$B$138=$O$37,IF(BD!$B$2:$B$138=$O$37,ROW(BD!$B$2:$B$138)-ROW(BD!$B$2)+1),FALSE),ROWS(BD!$1:25)))))","v":""},{"$f":"IF($O$37=\"\",\"\",IF(ROWS(BD!$1:25)>COUNTIFS(BD!$B:$B,$O$37),\"\",INDEX(BD!$H$2:$H$138,SMALL(IF(BD!$B$2:$B$138=$O$37,IF(BD!$B$2:$B$138=$O$37,ROW(BD!$B$2:$B$138)-ROW(BD!$B$2)+1),FALSE),ROWS(BD!$1:25)))))","v":""},null,{"$f":"IF($U$37=\"\",\"\",IF(ROWS(BD!$1:25)>COUNTIFS(BD!$B$1:$B$138,$U$37),\"\",INDEX(BD!$C$2:$C$138,SMALL(IF(BD!$B$2:$B$138=$U$37,IF(BD!$B$2:$B$138=$U$37,ROW(BD!$B$2:$B$138)-ROW(BD!$B$2)+1),FALSE),ROWS(BD!$1:25)))))","v":""},{"$f":"IF($U$37=\"\",\"\",IF(ROWS(BD!$1:25)>COUNTIFS(BD!$B$1:$B$138,$U$37),\"\",INDEX(BD!$E$2:$E$138,SMALL(IF(BD!$B$2:$B$138=$U$37,IF(BD!$B$2:$B$138=$U$37,ROW(BD!$B$2:$B$138)-ROW(BD!$B$2)+1),FALSE),ROWS(BD!$1:25)))))","v":""},{"$f":"IF($U$37=\"\",\"\",IF(ROWS(BD!$1:25)>COUNTIFS(BD!$B$1:$B$138,$U$37),\"\",INDEX(BD!$F$2:$F$138,SMALL(IF(BD!$B$2:$B$138=$U$37,IF(BD!$B$2:$B$138=$U$37,ROW(BD!$B$2:$B$138)-ROW(BD!$B$2)+1),FALSE),ROWS(BD!$1:25)))))","v":""},{"$f":"IF($U$37=\"\",\"\",IF(ROWS(BD!$1:25)>COUNTIFS(BD!$B:$B,$U$37),\"\",INDEX(BD!$G$2:$G$138,SMALL(IF(BD!$B$2:$B$138=$U$37,IF(BD!$B$2:$B$138=$U$37,ROW(BD!$B$2:$B$138)-ROW(BD!$B$2)+1),FALSE),ROWS(BD!$1:25)))))","v":""},{"$f":"IF($U$37=\"\",\"\",IF(ROWS(BD!$1:25)>COUNTIFS(BD!$B:$B,$U$37),\"\",INDEX(BD!$H$2:$H$138,SMALL(IF(BD!$B$2:$B$138=$U$37,IF(BD!$B$2:$B$138=$U$37,ROW(BD!$B$2:$B$138)-ROW(BD!$B$2)+1),FALSE),ROWS(BD!$1:25)))))","v":""},null,{"$f":"IF($AA$37=\"\",\"\",IF(ROWS(BD!$1:25)>COUNTIFS(BD!$B$1:$B$138,$AA$37),\"\",INDEX(BD!$C$2:$C$138,SMALL(IF(BD!$B$2:$B$138=$AA$37,IF(BD!$B$2:$B$138=$AA$37,ROW(BD!$B$2:$B$138)-ROW(BD!$B$2)+1),FALSE),ROWS(BD!$1:25)))))","v":""},{"$f":"IF($AA$37=\"\",\"\",IF(ROWS(BD!$1:25)>COUNTIFS(BD!$B$1:$B$138,$AA$37),\"\",INDEX(BD!$E$2:$E$138,SMALL(IF(BD!$B$2:$B$138=$AA$37,IF(BD!$B$2:$B$138=$AA$37,ROW(BD!$B$2:$B$138)-ROW(BD!$B$2)+1),FALSE),ROWS(BD!$1:25)))))","v":""},{"$f":"IF($AA$37=\"\",\"\",IF(ROWS(BD!$1:25)>COUNTIFS(BD!$B$1:$B$138,$AA$37),\"\",INDEX(BD!$F$2:$F$138,SMALL(IF(BD!$B$2:$B$138=$AA$37,IF(BD!$B$2:$B$138=$AA$37,ROW(BD!$B$2:$B$138)-ROW(BD!$B$2)+1),FALSE),ROWS(BD!$1:25)))))","v":""},{"$f":"IF($AA$37=\"\",\"\",IF(ROWS(BD!$1:25)>COUNTIFS(BD!$B:$B,$AA$37),\"\",INDEX(BD!$G$2:$G$138,SMALL(IF(BD!$B$2:$B$138=$AA$37,IF(BD!$B$2:$B$138=$AA$37,ROW(BD!$B$2:$B$138)-ROW(BD!$B$2)+1),FALSE),ROWS(BD!$1:25)))))","v":""},{"$f":"IF($AA$37=\"\",\"\",IF(ROWS(BD!$1:25)>COUNTIFS(BD!$B:$B,$AA$37),\"\",INDEX(BD!$H$2:$H$138,SMALL(IF(BD!$B$2:$B$138=$AA$37,IF(BD!$B$2:$B$138=$AA$37,ROW(BD!$B$2:$B$138)-ROW(BD!$B$2)+1),FALSE),ROWS(BD!$1:25)))))","v":""},null,{"$f":"IF($AG$37=\"\",\"\",IF(ROWS(BD!$1:25)>COUNTIFS(BD!$B$1:$B$138,$AG$37),\"\",INDEX(BD!$C$2:$C$138,SMALL(IF(BD!$B$2:$B$138=$AG$37,IF(BD!$B$2:$B$138=$AG$37,ROW(BD!$B$2:$B$138)-ROW(BD!$B$2)+1),FALSE),ROWS(BD!$1:25)))))","v":""},{"$f":"IF($AG$37=\"\",\"\",IF(ROWS(BD!$1:25)>COUNTIFS(BD!$B$1:$B$138,$AG$37),\"\",INDEX(BD!$E$2:$E$138,SMALL(IF(BD!$B$2:$B$138=$AG$37,IF(BD!$B$2:$B$138=$AG$37,ROW(BD!$B$2:$B$138)-ROW(BD!$B$2)+1),FALSE),ROWS(BD!$1:25)))))","v":""},{"$f":"IF($AG$37=\"\",\"\",IF(ROWS(BD!$1:25)>COUNTIFS(BD!$B$1:$B$138,$AG$37),\"\",INDEX(BD!$F$2:$F$138,SMALL(IF(BD!$B$2:$B$138=$AG$37,IF(BD!$B$2:$B$138=$AG$37,ROW(BD!$B$2:$B$138)-ROW(BD!$B$2)+1),FALSE),ROWS(BD!$1:25)))))","v":""},{"$f":"IF($AG$37=\"\",\"\",IF(ROWS(BD!$1:25)>COUNTIFS(BD!$B:$B,$AG$37),\"\",INDEX(BD!$G$2:$G$138,SMALL(IF(BD!$B$2:$B$138=$AG$37,IF(BD!$B$2:$B$138=$AG$37,ROW(BD!$B$2:$B$138)-ROW(BD!$B$2)+1),FALSE),ROWS(BD!$1:25)))))","v":""},{"$f":"IF($AG$37=\"\",\"\",IF(ROWS(BD!$1:25)>COUNTIFS(BD!$B:$B,$AG$37),\"\",INDEX(BD!$H$2:$H$138,SMALL(IF(BD!$B$2:$B$138=$AG$37,IF(BD!$B$2:$B$138=$AG$37,ROW(BD!$B$2:$B$138)-ROW(BD!$B$2)+1),FALSE),ROWS(BD!$1:25)))))","v":""},null,{"$f":"IF($AM$37=\"\",\"\",IF(ROWS(BD!$1:25)>COUNTIFS(BD!$B$1:$B$138,$AM$37),\"\",INDEX(BD!$C$2:$C$138,SMALL(IF(BD!$B$2:$B$138=$AM$37,IF(BD!$B$2:$B$138=$AM$37,ROW(BD!$B$2:$B$138)-ROW(BD!$B$2)+1),FALSE),ROWS(BD!$1:25)))))","v":""},{"$f":"IF($AM$37=\"\",\"\",IF(ROWS(BD!$1:25)>COUNTIFS(BD!$B$1:$B$138,$AM$37),\"\",INDEX(BD!$E$2:$E$138,SMALL(IF(BD!$B$2:$B$138=$AM$37,IF(BD!$B$2:$B$138=$AM$37,ROW(BD!$B$2:$B$138)-ROW(BD!$B$2)+1),FALSE),ROWS(BD!$1:25)))))","v":""},{"$f":"IF($AM$37=\"\",\"\",IF(ROWS(BD!$1:25)>COUNTIFS(BD!$B$1:$B$138,$AM$37),\"\",INDEX(BD!$F$2:$F$138,SMALL(IF(BD!$B$2:$B$138=$AM$37,IF(BD!$B$2:$B$138=$AM$37,ROW(BD!$B$2:$B$138)-ROW(BD!$B$2)+1),FALSE),ROWS(BD!$1:25)))))","v":""},{"$f":"IF($AM$37=\"\",\"\",IF(ROWS(BD!$1:25)>COUNTIFS(BD!$B:$B,$AM$37),\"\",INDEX(BD!$G$2:$G$138,SMALL(IF(BD!$B$2:$B$138=$AM$37,IF(BD!$B$2:$B$138=$AM$37,ROW(BD!$B$2:$B$138)-ROW(BD!$B$2)+1),FALSE),ROWS(BD!$1:25)))))","v":""},{"$f":"IF($AM$37=\"\",\"\",IF(ROWS(BD!$1:25)>COUNTIFS(BD!$B:$B,$AM$37),\"\",INDEX(BD!$H$2:$H$138,SMALL(IF(BD!$B$2:$B$138=$AM$37,IF(BD!$B$2:$B$138=$AM$37,ROW(BD!$B$2:$B$138)-ROW(BD!$B$2)+1),FALSE),ROWS(BD!$1:25)))))","v":""}]
[]
[null,null,{"$f":"IF(AM37<>\"\",IF(AM37+1<=fim,AM37+1,\"\"),\"\")","v":"2023-12-10"},null,null,null,null,null,{"$f":"IF(C64<>\"\",IF(C64+1<=fim,C64+1,\"\"),\"\")","v":"2023-12-11"},null,null,null,null,null,{"$f":"IF(I64<>\"\",IF(I64+1<=fim,I64+1,\"\"),\"\")","v":"2023-12-12"},null,null,null,null,null,{"$f":"IF(O64<>\"\",IF(O64+1<=fim,O64+1,\"\"),\"\")","v":"2023-12-13"},null,null,null,null,null,{"$f":"IF(U64<>\"\",IF(U64+1<=fim,U64+1,\"\"),\"\")","v":"2023-12-14"},null,null,null,null,null,{"$f":"IF(AA64<>\"\",IF(AA64+1<=fim,AA64+1,\"\"),\"\")","v":"2023-12-15"},null,null,null,null,null,{"$f":"IF(AG64<>\"\",IF(AG64+1<=fim,AG64+1,\"\"),\"\")","v":"2023-12-16"}]
[null,null,{"$f":"IF($C$64=\"\",\"\",IF(ROWS(BD!$1:1)>COUNTIFS(BD!$B:$B,$C$64),\"\",INDEX(BD!$C$2:$C$138,SMALL(IF(BD!$B$2:$B$138=$C$64,IF(BD!$B$2:$B$138=$C$64,ROW(BD!$B$2:$B$138)-ROW(BD!$B$2)+1),FALSE),ROWS(BD!$1:1)))))","v":"12:00:00"},{"$f":"IF($C$64=\"\",\"\",IF(ROWS(BD!$1:1)>COUNTIFS(BD!$B:$B,$C$64),\"\",INDEX(BD!$E$2:$E$138,SMALL(IF(BD!$B$2:$B$138=$C$64,IF(BD!$B$2:$B$138=$C$64,ROW(BD!$B$2:$B$138)-ROW(BD!$B$2)+1),FALSE),ROWS(BD!$1:1)))))","v":"IllumiNova"},{"$f":"IF($C$64=\"\",\"\",IF(ROWS(BD!$1:1)>COUNTIFS(BD!$B:$B,$C$64),\"\",INDEX(BD!$F$2:$F$138,SMALL(IF(BD!$B$2:$B$138=$C$64,IF(BD!$B$2:$B$138=$C$64,ROW(BD!$B$2:$B$138)-ROW(BD!$B$2)+1),FALSE),ROWS(BD!$1:1)))))","v":"Antônio"},{"$f":"IF($C$64=\"\",\"\",IF(ROWS(BD!$1:1)>COUNTIFS(BD!$B:$B,$C$64),\"\",INDEX(BD!$G$2:$G$138,SMALL(IF(BD!$B$2:$B$138=$C$64,IF(BD!$B$2:$B$138=$C$64,ROW(BD!$B$2:$B$138)-ROW(BD!$B$2)+1),FALSE),ROWS(BD!$1:1)))))","v":"v1"},{"$f":"IF($C$64=\"\",\"\",IF(ROWS(BD!$1:1)>COUNTIFS(BD!$B:$B,$C$64),\"\",INDEX(BD!$H$2:$H$138,SMALL(IF(BD!$B$2:$B$138=$C$64,IF(BD!$B$2:$B$138=$C$64,ROW(BD!$B$2:$B$138)-ROW(BD!$B$2)+1),FALSE),ROWS(BD!$1:1)))))","v":"Cancelada"},null,{"$f":"IF($I$64=\"\",\"\",IF(ROWS(BD!$1:1)>COUNTIFS(BD!$B:$B,$I$64),\"\",INDEX(BD!$C$2:$C$138,SMALL(IF(BD!$B$2:$B$138=$I$64,IF(BD!$B$2:$B$138=$I$64,ROW(BD!$B$2:$B$138)-ROW(BD!$B$2)+1),FALSE),ROWS(BD!$1:1)))))","v":"14:50:00"},{"$f":"IF($I$64=\"\",\"\",IF(ROWS(BD!$1:1)>COUNTIFS(BD!$B:$B,$I$64),\"\",INDEX(BD!$E$2:$E$138,SMALL(IF(BD!$B$2:$B$138=$I$64,IF(BD!$B$2:$B$138=$I$64,ROW(BD!$B$2:$B$138)-ROW(BD!$B$2)+1),FALSE),ROWS(BD!$1:1)))))","v":"NexusEdge"},{"$f":"IF($I$64=\"\",\"\",IF(ROWS(BD!$1:1)>COUNTIFS(BD!$B:$B,$I$64),\"\",INDEX(BD!$F$2:$F$138,SMALL(IF(BD!$B$2:$B$138=$I$64,IF(BD!$B$2:$B$138=$I$64,ROW(BD!$B$2:$B$138)-ROW(BD!$B$2)+1),FALSE),ROWS(BD!$1:1)))))","v":"João"},{"$f":"IF($I$64=\"\",\"\",IF(ROWS(BD!$1:1)>COUNTIFS(BD!$B:$B,$I$64),\"\",INDEX(BD!$G$2:$G$138,SMALL(IF(BD!$B$2:$B$138=$I$64,IF(BD!$B$2:$B$138=$I$64,ROW(BD!$B$2:$B$138)-ROW(BD!$B$2)+1),FALSE),ROWS(BD!$1:1)))))","v":"v1"},{"$f":"IF($I$64=\"\",\"\",IF(ROWS(BD!$1:1)>COUNTIFS(BD!$B:$B,$I$64),\"\",INDEX(BD!$H$2:$H$138,SMALL(IF(BD!$B$2:$B$138=$I$64,IF(BD!$B$2:$B$138=$I$64,ROW(BD!$B$2:$B$138)-ROW(BD!$B$2)+1),FALSE),ROWS(BD!$1:1)))))","v":"Realizada"},null,{"$f":"IF($O$64=\"\",\"\",IF(ROWS(BD!$1:1)>COUNTIFS(BD!$B:$B,$O$64),\"\",INDEX(BD!$C$2:$C$138,SMALL(IF(BD!$B$2:$B$138=$O$64,IF(BD!$B$2:$B$138=$O$64,ROW(BD!$B$2:$B$138)-ROW(BD!$B$2)+1),FALSE),ROWS(BD!$1:1)))))","v":"14:50:00"},{"$f":"IF($O$64=\"\",\"\",IF(ROWS(BD!$1:1)>COUNTIFS(BD!$B:$B,$O$64),\"\",INDEX(BD!$E$2:$E$138,SMALL(IF(BD!$B$2:$B$138=$O$64,IF(BD!$B$2:$B$138=$O$64,ROW(BD!$B$2:$B$138)-ROW(BD!$B$2)+1),FALSE),ROWS(BD!$1:1)))))","v":"GenioTech"},{"$f":"IF($O$64=\"\",\"\",IF(ROWS(BD!$1:1)>COUNTIFS(BD!$B:$B,$O$64),\"\",INDEX(BD!$F$2:$F$138,SMALL(IF(BD!$B$2:$B$138=$O$64,IF(BD!$B$2:$B$138=$O$64,ROW(BD!$B$2:$B$138)-ROW(BD!$B$2)+1),FALSE),ROWS(BD!$1:1)))))","v":"João"},{"$f":"IF($O$64=\"\",\"\",IF(ROWS(BD!$1:1)>COUNTIFS(BD!$B:$B,$O$64),\"\",INDEX(BD!$G$2:$G$138,SMALL(IF(BD!$B$2:$B$138=$O$64,IF(BD!$B$2:$B$138=$O$64,ROW(BD!$B$2:$B$138)-ROW(BD!$B$2)+1),FALSE),ROWS(BD!$1:1)))))","v":"v1"},{"$f":"IF($O$64=\"\",\"\",IF(ROWS(BD!$1:1)>COUNTIFS(BD!$B:$B,$O$64),\"\",INDEX(BD!$H$2:$H$138,SMALL(IF(BD!$B$2:$B$138=$O$64,IF(BD!$B$2:$B$138=$O$64,ROW(BD!$B$2:$B$138)-ROW(BD!$B$2)+1),FALSE),ROWS(BD!$1:1)))))","v":"Realizada"},null,{"$f":"IF($U$64=\"\",\"\",IF(ROWS(BD!$1:1)>COUNTIFS(BD!$B:$B,$U$64),\"\",INDEX(BD!$C$2:$C$138,SMALL(IF(BD!$B$2:$B$138=$U$64,IF(BD!$B$2:$B$138=$U$64,ROW(BD!$B$2:$B$138)-ROW(BD!$B$2)+1),FALSE),ROWS(BD!$1:1)))))","v":"00:00:00"},{"$f":"IF($U$64=\"\",\"\",IF(ROWS(BD!$1:1)>COUNTIFS(BD!$B:$B,$U$64),\"\",INDEX(BD!$E$2:$E$138,SMALL(IF(BD!$B$2:$B$138=$U$64,IF(BD!$B$2:$B$138=$U$64,ROW(BD!$B$2:$B$138)-ROW(BD!$B$2)+1),FALSE),ROWS(BD!$1:1)))))","v":"InnovaGrowth"},{"$f":"IF($U$64=\"\",\"\",IF(ROWS(BD!$1:1)>COUNTIFS(BD!$B:$B,$U$64),\"\",INDEX(BD!$F$2:$F$138,SMALL(IF(BD!$B$2:$B$138=$U$64,IF(BD!$B$2:$B$138=$U$64,ROW(BD!$B$2:$B$138)-ROW(BD!$B$2)+1),FALSE),ROWS(BD!$1:1)))))","v":"Roberto"},{"$f":"IF($U$64=\"\",\"\",IF(ROWS(BD!$1:1)>COUNTIFS(BD!$B:$B,$U$64),\"\",INDEX(BD!$G$2:$G$138,SMALL(IF(BD!$B$2:$B$138=$U$64,IF(BD!$B$2:$B$138=$U$64,ROW(BD!$B$2:$B$138)-ROW(BD!$B$2)+1),FALSE),ROWS(BD!$1:1)))))","v":"v1"},{"$f":"IF($U$64=\"\",\"\",IF(ROWS(BD!$1:1)>COUNTIFS(BD!$B:$B,$U$64),\"\",INDEX(BD!$H$2:$H$138,SMALL(IF(BD!$B$2:$B$138=$U$64,IF(BD!$B$2:$B$138=$U$64,ROW(BD!$B$2:$B$138)-ROW(BD!$B$2)+1),FALSE),ROWS(BD!$1:1)))))","v":"À Realizar"},null,{"$f":"IF($AA$64=\"\",\"\",IF(ROWS(BD!$1:1)>COUNTIFS(BD!$B:$B,$AA$64),\"\",INDEX(BD!$C$2:$C$138,SMALL(IF(BD!$B$2:$B$138=$AA$64,IF(BD!$B$2:$B$138=$AA$64,ROW(BD!$B$2:$B$138)-ROW(BD!$B$2)+1),FALSE),ROWS(BD!$1:1)))))","v":""},{"$f":"IF($AA$64=\"\",\"\",IF(ROWS(BD!$1:1)>COUNTIFS(BD!$B:$B,$AA$64),\"\",INDEX(BD!$E$2:$E$138,SMALL(IF(BD!$B$2:$B$138=$AA$64,IF(BD!$B$2:$B$138=$AA$64,ROW(BD!$B$2:$B$138)-ROW(BD!$B$2)+1),FALSE),ROWS(BD!$1:1)))))","v":""},{"$f":"IF($AA$64=\"\",\"\",IF(ROWS(BD!$1:1)>COUNTIFS(BD!$B:$B,$AA$64),\"\",INDEX(BD!$F$2:$F$138,SMALL(IF(BD!$B$2:$B$138=$AA$64,IF(BD!$B$2:$B$138=$AA$64,ROW(BD!$B$2:$B$138)-ROW(BD!$B$2)+1),FALSE),ROWS(BD!$1:1)))))","v":""},{"$f":"IF($AA$64=\"\",\"\",IF(ROWS(BD!$1:1)>COUNTIFS(BD!$B:$B,$AA$64),\"\",INDEX(BD!$G$2:$G$138,SMALL(IF(BD!$B$2:$B$138=$AA$64,IF(BD!$B$2:$B$138=$AA$64,ROW(BD!$B$2:$B$138)-ROW(BD!$B$2)+1),FALSE),ROWS(BD!$1:1)))))","v":""},{"$f":"IF($AA$64=\"\",\"\",IF(ROWS(BD!$1:1)>COUNTIFS(BD!$B:$B,$AA$64),\"\",INDEX(BD!$H$2:$H$138,SMALL(IF(BD!$B$2:$B$138=$AA$64,IF(BD!$B$2:$B$138=$AA$64,ROW(BD!$B$2:$B$138)-ROW(BD!$B$2)+1),FALSE),ROWS(BD!$1:1)))))","v":""},null,{"$f":"IF($AG$64=\"\",\"\",IF(ROWS(BD!$1:1)>COUNTIFS(BD!$B:$B,$AG$64),\"\",INDEX(BD!$C$2:$C$138,SMALL(IF(BD!$B$2:$B$138=$AG$64,IF(BD!$B$2:$B$138=$AG$64,ROW(BD!$B$2:$B$138)-ROW(BD!$B$2)+1),FALSE),ROWS(BD!$1:1)))))","v":""},{"$f":"IF($AG$64=\"\",\"\",IF(ROWS(BD!$1:1)>COUNTIFS(BD!$B:$B,$AG$64),\"\",INDEX(BD!$E$2:$E$138,SMALL(IF(BD!$B$2:$B$138=$AG$64,IF(BD!$B$2:$B$138=$AG$64,ROW(BD!$B$2:$B$138)-ROW(BD!$B$2)+1),FALSE),ROWS(BD!$1:1)))))","v":""},{"$f":"IF($AG$64=\"\",\"\",IF(ROWS(BD!$1:1)>COUNTIFS(BD!$B:$B,$AG$64),\"\",INDEX(BD!$F$2:$F$138,SMALL(IF(BD!$B$2:$B$138=$AG$64,IF(BD!$B$2:$B$138=$AG$64,ROW(BD!$B$2:$B$138)-ROW(BD!$B$2)+1),FALSE),ROWS(BD!$1:1)))))","v":""},{"$f":"IF($AG$64=\"\",\"\",IF(ROWS(BD!$1:1)>COUNTIFS(BD!$B:$B,$AG$64),\"\",INDEX(BD!$G$2:$G$138,SMALL(IF(BD!$B$2:$B$138=$AG$64,IF(BD!$B$2:$B$138=$AG$64,ROW(BD!$B$2:$B$138)-ROW(BD!$B$2)+1),FALSE),ROWS(BD!$1:1)))))","v":""},{"$f":"IF($AG$64=\"\",\"\",IF(ROWS(BD!$1:1)>COUNTIFS(BD!$B:$B,$AG$64),\"\",INDEX(BD!$H$2:$H$138,SMALL(IF(BD!$B$2:$B$138=$AG$64,IF(BD!$B$2:$B$138=$AG$64,ROW(BD!$B$2:$B$138)-ROW(BD!$B$2)+1),FALSE),ROWS(BD!$1:1)))))","v":""},null,{"$f":"IF($AM$64=\"\",\"\",IF(ROWS(BD!$1:1)>COUNTIFS(BD!$B:$B,$AM$64),\"\",INDEX(BD!$C$2:$C$138,SMALL(IF(BD!$B$2:$B$138=$AM$64,IF(BD!$B$2:$B$138=$AM$64,ROW(BD!$B$2:$B$138)-ROW(BD!$B$2)+1),FALSE),ROWS(BD!$1:1)))))","v":""},{"$f":"IF($AM$64=\"\",\"\",IF(ROWS(BD!$1:1)>COUNTIFS(BD!$B:$B,$AM$64),\"\",INDEX(BD!$E$2:$E$138,SMALL(IF(BD!$B$2:$B$138=$AM$64,IF(BD!$B$2:$B$138=$AM$64,ROW(BD!$B$2:$B$138)-ROW(BD!$B$2)+1),FALSE),ROWS(BD!$1:1)))))","v":""},{"$f":"IF($AM$64=\"\",\"\",IF(ROWS(BD!$1:1)>COUNTIFS(BD!$B:$B,$AM$64),\"\",INDEX(BD!$F$2:$F$138,SMALL(IF(BD!$B$2:$B$138=$AM$64,IF(BD!$B$2:$B$138=$AM$64,ROW(BD!$B$2:$B$138)-ROW(BD!$B$2)+1),FALSE),ROWS(BD!$1:1)))))","v":""},{"$f":"IF($AM$64=\"\",\"\",IF(ROWS(BD!$1:1)>COUNTIFS(BD!$B:$B,$AM$64),\"\",INDEX(BD!$G$2:$G$138,SMALL(IF(BD!$B$2:$B$138=$AM$64,IF(BD!$B$2:$B$138=$AM$64,ROW(BD!$B$2:$B$138)-ROW(BD!$B$2)+1),FALSE),ROWS(BD!$1:1)))))","v":""},{"$f":"IF($AM$64=\"\",\"\",IF(ROWS(BD!$1:1)>COUNTIFS(BD!$B:$B,$AM$64),\"\",INDEX(BD!$H$2:$H$138,SMALL(IF(BD!$B$2:$B$138=$AM$64,IF(BD!$B$2:$B$138=$AM$64,ROW(BD!$B$2:$B$138)-ROW(BD!$B$2)+1),FALSE),ROWS(BD!$1:1)))))","v":""}]
[null,null,{"$f":"IF($C$64=\"\",\"\",IF(ROWS(BD!$1:2)>COUNTIFS(BD!$B:$B,$C$64),\"\",INDEX(BD!$C$2:$C$138,SMALL(IF(BD!$B$2:$B$138=$C$64,IF(BD!$B$2:$B$138=$C$64,ROW(BD!$B$2:$B$138)-ROW(BD!$B$2)+1),FALSE),ROWS(BD!$1:2)))))","v":""},{"$f":"IF($C$64=\"\",\"\",IF(ROWS(BD!$1:2)>COUNTIFS(BD!$B:$B,$C$64),\"\",INDEX(BD!$E$2:$E$138,SMALL(IF(BD!$B$2:$B$138=$C$64,IF(BD!$B$2:$B$138=$C$64,ROW(BD!$B$2:$B$138)-ROW(BD!$B$2)+1),FALSE),ROWS(BD!$1:2)))))","v":""},{"$f":"IF($C$64=\"\",\"\",IF(ROWS(BD!$1:2)>COUNTIFS(BD!$B:$B,$C$64),\"\",INDEX(BD!$F$2:$F$138,SMALL(IF(BD!$B$2:$B$138=$C$64,IF(BD!$B$2:$B$138=$C$64,ROW(BD!$B$2:$B$138)-ROW(BD!$B$2)+1),FALSE),ROWS(BD!$1:2)))))","v":""},{"$f":"IF($C$64=\"\",\"\",IF(ROWS(BD!$1:2)>COUNTIFS(BD!$B:$B,$C$64),\"\",INDEX(BD!$G$2:$G$138,SMALL(IF(BD!$B$2:$B$138=$C$64,IF(BD!$B$2:$B$138=$C$64,ROW(BD!$B$2:$B$138)-ROW(BD!$B$2)+1),FALSE),ROWS(BD!$1:2)))))","v":""},{"$f":"IF($C$64=\"\",\"\",IF(ROWS(BD!$1:2)>COUNTIFS(BD!$B:$B,$C$64),\"\",INDEX(BD!$H$2:$H$138,SMALL(IF(BD!$B$2:$B$138=$C$64,IF(BD!$B$2:$B$138=$C$64,ROW(BD!$B$2:$B$138)-ROW(BD!$B$2)+1),FALSE),ROWS(BD!$1:2)))))","v":""},null,{"$f":"IF($I$64=\"\",\"\",IF(ROWS(BD!$1:2)>COUNTIFS(BD!$B:$B,$I$64),\"\",INDEX(BD!$C$2:$C$138,SMALL(IF(BD!$B$2:$B$138=$I$64,IF(BD!$B$2:$B$138=$I$64,ROW(BD!$B$2:$B$138)-ROW(BD!$B$2)+1),FALSE),ROWS(BD!$1:2)))))","v":"19:10:00"},{"$f":"IF($I$64=\"\",\"\",IF(ROWS(BD!$1:2)>COUNTIFS(BD!$B:$B,$I$64),\"\",INDEX(BD!$E$2:$E$138,SMALL(IF(BD!$B$2:$B$138=$I$64,IF(BD!$B$2:$B$138=$I$64,ROW(BD!$B$2:$B$138)-ROW(BD!$B$2)+1),FALSE),ROWS(BD!$1:2)))))","v":"VisionCraft"},{"$f":"IF($I$64=\"\",\"\",IF(ROWS(BD!$1:2)>COUNTIFS(BD!$B:$B,$I$64),\"\",INDEX(BD!$F$2:$F$138,SMALL(IF(BD!$B$2:$B$138=$I$64,IF(BD!$B$2:$B$138=$I$64,ROW(BD!$B$2:$B$138)-ROW(BD!$B$2)+1),FALSE),ROWS(BD!$1:2)))))","v":"José"},{"$f":"IF($I$64=\"\",\"\",IF(ROWS(BD!$1:2)>COUNTIFS(BD!$B:$B,$I$64),\"\",INDEX(BD!$G$2:$G$138,SMALL(IF(BD!$B$2:$B$138=$I$64,IF(BD!$B$2:$B$138=$I$64,ROW(BD!$B$2:$B$138)-ROW(BD!$B$2)+1),FALSE),ROWS(BD!$1:2)))))","v":"v1"},{"$f":"IF($I$64=\"\",\"\",IF(ROWS(BD!$1:2)>COUNTIFS(BD!$B:$B,$I$64),\"\",INDEX(BD!$H$2:$H$138,SMALL(IF(BD!$B$2:$B$138=$I$64,IF(BD!$B$2:$B$138=$I$64,ROW(BD!$B$2:$B$138)-ROW(BD!$B$2)+1),FALSE),ROWS(BD!$1:2)))))","v":"Realizada"},null,{"$f":"IF($O$64=\"\",\"\",IF(ROWS(BD!$1:2)>COUNTIFS(BD!$B:$B,$O$64),\"\",INDEX(BD!$C$2:$C$138,SMALL(IF(BD!$B$2:$B$138=$O$64,IF(BD!$B$2:$B$138=$O$64,ROW(BD!$B$2:$B$138)-ROW(BD!$B$2)+1),FALSE),ROWS(BD!$1:2)))))","v":"19:30:00"},{"$f":"IF($O$64=\"\",\"\",IF(ROWS(BD!$1:2)>COUNTIFS(BD!$B:$B,$O$64),\"\",INDEX(BD!$E$2:$E$138,SMALL(IF(BD!$B$2:$B$138=$O$64,IF(BD!$B$2:$B$138=$O$64,ROW(BD!$B$2:$B$138)-ROW(BD!$B$2)+1),FALSE),ROWS(BD!$1:2)))))","v":"IdeasConnect"},{"$f":"IF($O$64=\"\",\"\",IF(ROWS(BD!$1:2)>COUNTIFS(BD!$B:$B,$O$64),\"\",INDEX(BD!$F$2:$F$138,SMALL(IF(BD!$B$2:$B$138=$O$64,IF(BD!$B$2:$B$138=$O$64,ROW(BD!$B$2:$B$138)-ROW(BD!$B$2)+1),FALSE),ROWS(BD!$1:2)))))","v":"José"},{"$f":"IF($O$64=\"\",\"\",IF(ROWS(BD!$1:2)>COUNTIFS(BD!$B:$B,$O$64),\"\",INDEX(BD!$G$2:$G$138,SMALL(IF(BD!$B$2:$B$138=$O$64,IF(BD!$B$2:$B$138=$O$64,ROW(BD!$B$2:$B$138)-ROW(BD!$B$2)+1),FALSE),ROWS(BD!$1:2)))))","v":"v1"},{"$f":"IF($O$64=\"\",\"\",IF(ROWS(BD!$1:2)>COUNTIFS(BD!$B:$B,$O$64),\"\",INDEX(BD!$H$2:$H$138,SMALL(IF(BD!$B$2:$B$138=$O$64,IF(BD!$B$2:$B$138=$O$64,ROW(BD!$B$2:$B$138)-ROW(BD!$B$2)+1),FALSE),ROWS(BD!$1:2)))))","v":"Realizada"},null,{"$f":"IF($U$64=\"\",\"\",IF(ROWS(BD!$1:2)>COUNTIFS(BD!$B:$B,$U$64),\"\",INDEX(BD!$C$2:$C$138,SMALL(IF(BD!$B$2:$B$138=$U$64,IF(BD!$B$2:$B$138=$U$64,ROW(BD!$B$2:$B$138)-ROW(BD!$B$2)+1),FALSE),ROWS(BD!$1:2)))))","v":"22:00:00"},{"$f":"IF($U$64=\"\",\"\",IF(ROWS(BD!$1:2)>COUNTIFS(BD!$B:$B,$U$64),\"\",INDEX(BD!$E$2:$E$138,SMALL(IF(BD!$B$2:$B$138=$U$64,IF(BD!$B$2:$B$138=$U$64,ROW(BD!$B$2:$B$138)-ROW(BD!$B$2)+1),FALSE),ROWS(BD!$1:2)))))","v":"SparkSolutions"},{"$f":"IF($U$64=\"\",\"\",IF(ROWS(BD!$1:2)>COUNTIFS(BD!$B:$B,$U$64),\"\",INDEX(BD!$F$2:$F$138,SMALL(IF(BD!$B$2:$B$138=$U$64,IF(BD!$B$2:$B$138=$U$64,ROW(BD!$B$2:$B$138)-ROW(BD!$B$2)+1),FALSE),ROWS(BD!$1:2)))))","v":"Paulo"},{"$f":"IF($U$64=\"\",\"\",IF(ROWS(BD!$1:2)>COUNTIFS(BD!$B:$B,$U$64),\"\",INDEX(BD!$G$2:$G$138,SMALL(IF(BD!$B$2:$B$138=$U$64,IF(BD!$B$2:$B$138=$U$64,ROW(BD!$B$2:$B$138)-ROW(BD!$B$2)+1),FALSE),ROWS(BD!$1:2)))))","v":"v1"},{"$f":"IF($U$64=\"\",\"\",IF(ROWS(BD!$1:2)>COUNTIFS(BD!$B:$B,$U$64),\"\",INDEX(BD!$H$2:$H$138,SMALL(IF(BD!$B$2:$B$138=$U$64,IF(BD!$B$2:$B$138=$U$64,ROW(BD!$B$2:$B$138)-ROW(BD!$B$2)+1),FALSE),ROWS(BD!$1:2)))))","v":"À Realizar"},null,{"$f":"IF($AA$64=\"\",\"\",IF(ROWS(BD!$1:2)>COUNTIFS(BD!$B:$B,$AA$64),\"\",INDEX(BD!$C$2:$C$138,SMALL(IF(BD!$B$2:$B$138=$AA$64,IF(BD!$B$2:$B$138=$AA$64,ROW(BD!$B$2:$B$138)-ROW(BD!$B$2)+1),FALSE),ROWS(BD!$1:2)))))","v":""},{"$f":"IF($AA$64=\"\",\"\",IF(ROWS(BD!$1:2)>COUNTIFS(BD!$B:$B,$AA$64),\"\",INDEX(BD!$E$2:$E$138,SMALL(IF(BD!$B$2:$B$138=$AA$64,IF(BD!$B$2:$B$138=$AA$64,ROW(BD!$B$2:$B$138)-ROW(BD!$B$2)+1),FALSE),ROWS(BD!$1:2)))))","v":""},{"$f":"IF($AA$64=\"\",\"\",IF(ROWS(BD!$1:2)>COUNTIFS(BD!$B:$B,$AA$64),\"\",INDEX(BD!$F$2:$F$138,SMALL(IF(BD!$B$2:$B$138=$AA$64,IF(BD!$B$2:$B$138=$AA$64,ROW(BD!$B$2:$B$138)-ROW(BD!$B$2)+1),FALSE),ROWS(BD!$1:2)))))","v":""},{"$f":"IF($AA$64=\"\",\"\",IF(ROWS(BD!$1:2)>COUNTIFS(BD!$B:$B,$AA$64),\"\",INDEX(BD!$G$2:$G$138,SMALL(IF(BD!$B$2:$B$138=$AA$64,IF(BD!$B$2:$B$138=$AA$64,ROW(BD!$B$2:$B$138)-ROW(BD!$B$2)+1),FALSE),ROWS(BD!$1:2)))))","v":""},{"$f":"IF($AA$64=\"\",\"\",IF(ROWS(BD!$1:2)>COUNTIFS(BD!$B:$B,$AA$64),\"\",INDEX(BD!$H$2:$H$138,SMALL(IF(BD!$B$2:$B$138=$AA$64,IF(BD!$B$2:$B$138=$AA$64,ROW(BD!$B$2:$B$138)-ROW(BD!$B$2)+1),FALSE),ROWS(BD!$1:2)))))","v":""},null,{"$f":"IF($AG$64=\"\",\"\",IF(ROWS(BD!$1:2)>COUNTIFS(BD!$B:$B,$AG$64),\"\",INDEX(BD!$C$2:$C$138,SMALL(IF(BD!$B$2:$B$138=$AG$64,IF(BD!$B$2:$B$138=$AG$64,ROW(BD!$B$2:$B$138)-ROW(BD!$B$2)+1),FALSE),ROWS(BD!$1:2)))))","v":""},{"$f":"IF($AG$64=\"\",\"\",IF(ROWS(BD!$1:2)>COUNTIFS(BD!$B:$B,$AG$64),\"\",INDEX(BD!$E$2:$E$138,SMALL(IF(BD!$B$2:$B$138=$AG$64,IF(BD!$B$2:$B$138=$AG$64,ROW(BD!$B$2:$B$138)-ROW(BD!$B$2)+1),FALSE),ROWS(BD!$1:2)))))","v":""},{"$f":"IF($AG$64=\"\",\"\",IF(ROWS(BD!$1:2)>COUNTIFS(BD!$B:$B,$AG$64),\"\",INDEX(BD!$F$2:$F$138,SMALL(IF(BD!$B$2:$B$138=$AG$64,IF(BD!$B$2:$B$138=$AG$64,ROW(BD!$B$2:$B$138)-ROW(BD!$B$2)+1),FALSE),ROWS(BD!$1:2)))))","v":""},{"$f":"IF($AG$64=\"\",\"\",IF(ROWS(BD!$1:2)>COUNTIFS(BD!$B:$B,$AG$64),\"\",INDEX(BD!$G$2:$G$138,SMALL(IF(BD!$B$2:$B$138=$AG$64,IF(BD!$B$2:$B$138=$AG$64,ROW(BD!$B$2:$B$138)-ROW(BD!$B$2)+1),FALSE),ROWS(BD!$1:2)))))","v":""},{"$f":"IF($AG$64=\"\",\"\",IF(ROWS(BD!$1:2)>COUNTIFS(BD!$B:$B,$AG$64),\"\",INDEX(BD!$H$2:$H$138,SMALL(IF(BD!$B$2:$B$138=$AG$64,IF(BD!$B$2:$B$138=$AG$64,ROW(BD!$B$2:$B$138)-ROW(BD!$B$2)+1),FALSE),ROWS(BD!$1:2)))))","v":""},null,{"$f":"IF($AM$64=\"\",\"\",IF(ROWS(BD!$1:2)>COUNTIFS(BD!$B:$B,$AM$64),\"\",INDEX(BD!$C$2:$C$138,SMALL(IF(BD!$B$2:$B$138=$AM$64,IF(BD!$B$2:$B$138=$AM$64,ROW(BD!$B$2:$B$138)-ROW(BD!$B$2)+1),FALSE),ROWS(BD!$1:2)))))","v":""},{"$f":"IF($AM$64=\"\",\"\",IF(ROWS(BD!$1:2)>COUNTIFS(BD!$B:$B,$AM$64),\"\",INDEX(BD!$E$2:$E$138,SMALL(IF(BD!$B$2:$B$138=$AM$64,IF(BD!$B$2:$B$138=$AM$64,ROW(BD!$B$2:$B$138)-ROW(BD!$B$2)+1),FALSE),ROWS(BD!$1:2)))))","v":""},{"$f":"IF($AM$64=\"\",\"\",IF(ROWS(BD!$1:2)>COUNTIFS(BD!$B:$B,$AM$64),\"\",INDEX(BD!$F$2:$F$138,SMALL(IF(BD!$B$2:$B$138=$AM$64,IF(BD!$B$2:$B$138=$AM$64,ROW(BD!$B$2:$B$138)-ROW(BD!$B$2)+1),FALSE),ROWS(BD!$1:2)))))","v":""},{"$f":"IF($AM$64=\"\",\"\",IF(ROWS(BD!$1:2)>COUNTIFS(BD!$B:$B,$AM$64),\"\",INDEX(BD!$G$2:$G$138,SMALL(IF(BD!$B$2:$B$138=$AM$64,IF(BD!$B$2:$B$138=$AM$64,ROW(BD!$B$2:$B$138)-ROW(BD!$B$2)+1),FALSE),ROWS(BD!$1:2)))))","v":""},{"$f":"IF($AM$64=\"\",\"\",IF(ROWS(BD!$1:2)>COUNTIFS(BD!$B:$B,$AM$64),\"\",INDEX(BD!$H$2:$H$138,SMALL(IF(BD!$B$2:$B$138=$AM$64,IF(BD!$B$2:$B$138=$AM$64,ROW(BD!$B$2:$B$138)-ROW(BD!$B$2)+1),FALSE),ROWS(BD!$1:2)))))","v":""}]
[null,null,{"$f":"IF($C$64=\"\",\"\",IF(ROWS(BD!$1:3)>COUNTIFS(BD!$B:$B,$C$64),\"\",INDEX(BD!$C$2:$C$138,SMALL(IF(BD!$B$2:$B$138=$C$64,IF(BD!$B$2:$B$138=$C$64,ROW(BD!$B$2:$B$138)-ROW(BD!$B$2)+1),FALSE),ROWS(BD!$1:3)))))","v":""},{"$f":"IF($C$64=\"\",\"\",IF(ROWS(BD!$1:3)>COUNTIFS(BD!$B:$B,$C$64),\"\",INDEX(BD!$E$2:$E$138,SMALL(IF(BD!$B$2:$B$138=$C$64,IF(BD!$B$2:$B$138=$C$64,ROW(BD!$B$2:$B$138)-ROW(BD!$B$2)+1),FALSE),ROWS(BD!$1:3)))))","v":""},{"$f":"IF($C$64=\"\",\"\",IF(ROWS(BD!$1:3)>COUNTIFS(BD!$B:$B,$C$64),\"\",INDEX(BD!$F$2:$F$138,SMALL(IF(BD!$B$2:$B$138=$C$64,IF(BD!$B$2:$B$138=$C$64,ROW(BD!$B$2:$B$138)-ROW(BD!$B$2)+1),FALSE),ROWS(BD!$1:3)))))","v":""},{"$f":"IF($C$64=\"\",\"\",IF(ROWS(BD!$1:3)>COUNTIFS(BD!$B:$B,$C$64),\"\",INDEX(BD!$G$2:$G$138,SMALL(IF(BD!$B$2:$B$138=$C$64,IF(BD!$B$2:$B$138=$C$64,ROW(BD!$B$2:$B$138)-ROW(BD!$B$2)+1),FALSE),ROWS(BD!$1:3)))))","v":""},{"$f":"IF($C$64=\"\",\"\",IF(ROWS(BD!$1:3)>COUNTIFS(BD!$B:$B,$C$64),\"\",INDEX(BD!$H$2:$H$138,SMALL(IF(BD!$B$2:$B$138=$C$64,IF(BD!$B$2:$B$138=$C$64,ROW(BD!$B$2:$B$138)-ROW(BD!$B$2)+1),FALSE),ROWS(BD!$1:3)))))","v":""},null,{"$f":"IF($I$64=\"\",\"\",IF(ROWS(BD!$1:3)>COUNTIFS(BD!$B:$B,$I$64),\"\",INDEX(BD!$C$2:$C$138,SMALL(IF(BD!$B$2:$B$138=$I$64,IF(BD!$B$2:$B$138=$I$64,ROW(BD!$B$2:$B$138)-ROW(BD!$B$2)+1),FALSE),ROWS(BD!$1:3)))))","v":"21:00:00"},{"$f":"IF($I$64=\"\",\"\",IF(ROWS(BD!$1:3)>COUNTIFS(BD!$B:$B,$I$64),\"\",INDEX(BD!$E$2:$E$138,SMALL(IF(BD!$B$2:$B$138=$I$64,IF(BD!$B$2:$B$138=$I$64,ROW(BD!$B$2:$B$138)-ROW(BD!$B$2)+1),FALSE),ROWS(BD!$1:3)))))","v":"InnovaGenius"},{"$f":"IF($I$64=\"\",\"\",IF(ROWS(BD!$1:3)>COUNTIFS(BD!$B:$B,$I$64),\"\",INDEX(BD!$F$2:$F$138,SMALL(IF(BD!$B$2:$B$138=$I$64,IF(BD!$B$2:$B$138=$I$64,ROW(BD!$B$2:$B$138)-ROW(BD!$B$2)+1),FALSE),ROWS(BD!$1:3)))))","v":"Paulo"},{"$f":"IF($I$64=\"\",\"\",IF(ROWS(BD!$1:3)>COUNTIFS(BD!$B:$B,$I$64),\"\",INDEX(BD!$G$2:$G$138,SMALL(IF(BD!$B$2:$B$138=$I$64,IF(BD!$B$2:$B$138=$I$64,ROW(BD!$B$2:$B$138)-ROW(BD!$B$2)+1),FALSE),ROWS(BD!$1:3)))))","v":"v1"},{"$f":"IF($I$64=\"\",\"\",IF(ROWS(BD!$1:3)>COUNTIFS(BD!$B:$B,$I$64),\"\",INDEX(BD!$H$2:$H$138,SMALL(IF(BD!$B$2:$B$138=$I$64,IF(BD!$B$2:$B$138=$I$64,ROW(BD!$B$2:$B$138)-ROW(BD!$B$2)+1),FALSE),ROWS(BD!$1:3)))))","v":"Realizada"},null,{"$f":"IF($O$64=\"\",\"\",IF(ROWS(BD!$1:3)>COUNTIFS(BD!$B:$B,$O$64),\"\",INDEX(BD!$C$2:$C$138,SMALL(IF(BD!$B$2:$B$138=$O$64,IF(BD!$B$2:$B$138=$O$64,ROW(BD!$B$2:$B$138)-ROW(BD!$B$2)+1),FALSE),ROWS(BD!$1:3)))))","v":"22:00:00"},{"$f":"IF($O$64=\"\",\"\",IF(ROWS(BD!$1:3)>COUNTIFS(BD!$B:$B,$O$64),\"\",INDEX(BD!$E$2:$E$138,SMALL(IF(BD!$B$2:$B$138=$O$64,IF(BD!$B$2:$B$138=$O$64,ROW(BD!$B$2:$B$138)-ROW(BD!$B$2)+1),FALSE),ROWS(BD!$1:3)))))","v":"SparkSolutions"},{"$f":"IF($O$64=\"\",\"\",IF(ROWS(BD!$1:3)>COUNTIFS(BD!$B:$B,$O$64),\"\",INDEX(BD!$F$2:$F$138,SMALL(IF(BD!$B$2:$B$138=$O$64,IF(BD!$B$2:$B$138=$O$64,ROW(BD!$B$2:$B$138)-ROW(BD!$B$2)+1),FALSE),ROWS(BD!$1:3)))))","v":"Paulo"},{"$f":"IF($O$64=\"\",\"\",IF(ROWS(BD!$1:3)>COUNTIFS(BD!$B:$B,$O$64),\"\",INDEX(BD!$G$2:$G$138,SMALL(IF(BD!$B$2:$B$138=$O$64,IF(BD!$B$2:$B$138=$O$64,ROW(BD!$B$2:$B$138)-ROW(BD!$B$2)+1),FALSE),ROWS(BD!$1:3)))))","v":"v1"},{"$f":"IF($O$64=\"\",\"\",IF(ROWS(BD!$1:3)>COUNTIFS(BD!$B:$B,$O$64),\"\",INDEX(BD!$H$2:$H$138,SMALL(IF(BD!$B$2:$B$138=$O$64,IF(BD!$B$2:$B$138=$O$64,ROW(BD!$B$2:$B$138)-ROW(BD!$B$2)+1),FALSE),ROWS(BD!$1:3)))))","v":"Reagendada"},null,{"$f":"IF($U$64=\"\",\"\",IF(ROWS(BD!$1:3)>COUNTIFS(BD!$B:$B,$U$64),\"\",INDEX(BD!$C$2:$C$138,SMALL(IF(BD!$B$2:$B$138=$U$64,IF(BD!$B$2:$B$138=$U$64,ROW(BD!$B$2:$B$138)-ROW(BD!$B$2)+1),FALSE),ROWS(BD!$1:3)))))","v":""},{"$f":"IF($U$64=\"\",\"\",IF(ROWS(BD!$1:3)>COUNTIFS(BD!$B:$B,$U$64),\"\",INDEX(BD!$E$2:$E$138,SMALL(IF(BD!$B$2:$B$138=$U$64,IF(BD!$B$2:$B$138=$U$64,ROW(BD!$B$2:$B$138)-ROW(BD!$B$2)+1),FALSE),ROWS(BD!$1:3)))))","v":""},{"$f":"IF($U$64=\"\",\"\",IF(ROWS(BD!$1:3)>COUNTIFS(BD!$B:$B,$U$64),\"\",INDEX(BD!$F$2:$F$138,SMALL(IF(BD!$B$2:$B$138=$U$64,IF(BD!$B$2:$B$138=$U$64,ROW(BD!$B$2:$B$138)-ROW(BD!$B$2)+1),FALSE),ROWS(BD!$1:3)))))","v":""},{"$f":"IF($U$64=\"\",\"\",IF(ROWS(BD!$1:3)>COUNTIFS(BD!$B:$B,$U$64),\"\",INDEX(BD!$G$2:$G$138,SMALL(IF(BD!$B$2:$B$138=$U$64,IF(BD!$B$2:$B$138=$U$64,ROW(BD!$B$2:$B$138)-ROW(BD!$B$2)+1),FALSE),ROWS(BD!$1:3)))))","v":""},{"$f":"IF($U$64=\"\",\"\",IF(ROWS(BD!$1:3)>COUNTIFS(BD!$B:$B,$U$64),\"\",INDEX(BD!$H$2:$H$138,SMALL(IF(BD!$B$2:$B$138=$U$64,IF(BD!$B$2:$B$138=$U$64,ROW(BD!$B$2:$B$138)-ROW(BD!$B$2)+1),FALSE),ROWS(BD!$1:3)))))","v":""},null,{"$f":"IF($AA$64=\"\",\"\",IF(ROWS(BD!$1:3)>COUNTIFS(BD!$B:$B,$AA$64),\"\",INDEX(BD!$C$2:$C$138,SMALL(IF(BD!$B$2:$B$138=$AA$64,IF(BD!$B$2:$B$138=$AA$64,ROW(BD!$B$2:$B$138)-ROW(BD!$B$2)+1),FALSE),ROWS(BD!$1:3)))))","v":""},{"$f":"IF($AA$64=\"\",\"\",IF(ROWS(BD!$1:3)>COUNTIFS(BD!$B:$B,$AA$64),\"\",INDEX(BD!$E$2:$E$138,SMALL(IF(BD!$B$2:$B$138=$AA$64,IF(BD!$B$2:$B$138=$AA$64,ROW(BD!$B$2:$B$138)-ROW(BD!$B$2)+1),FALSE),ROWS(BD!$1:3)))))","v":""},{"$f":"IF($AA$64=\"\",\"\",IF(ROWS(BD!$1:3)>COUNTIFS(BD!$B:$B,$AA$64),\"\",INDEX(BD!$F$2:$F$138,SMALL(IF(BD!$B$2:$B$138=$AA$64,IF(BD!$B$2:$B$138=$AA$64,ROW(BD!$B$2:$B$138)-ROW(BD!$B$2)+1),FALSE),ROWS(BD!$1:3)))))","v":""},{"$f":"IF($AA$64=\"\",\"\",IF(ROWS(BD!$1:3)>COUNTIFS(BD!$B:$B,$AA$64),\"\",INDEX(BD!$G$2:$G$138,SMALL(IF(BD!$B$2:$B$138=$AA$64,IF(BD!$B$2:$B$138=$AA$64,ROW(BD!$B$2:$B$138)-ROW(BD!$B$2)+1),FALSE),ROWS(BD!$1:3)))))","v":""},{"$f":"IF($AA$64=\"\",\"\",IF(ROWS(BD!$1:3)>COUNTIFS(BD!$B:$B,$AA$64),\"\",INDEX(BD!$H$2:$H$138,SMALL(IF(BD!$B$2:$B$138=$AA$64,IF(BD!$B$2:$B$138=$AA$64,ROW(BD!$B$2:$B$138)-ROW(BD!$B$2)+1),FALSE),ROWS(BD!$1:3)))))","v":""},null,{"$f":"IF($AG$64=\"\",\"\",IF(ROWS(BD!$1:3)>COUNTIFS(BD!$B:$B,$AG$64),\"\",INDEX(BD!$C$2:$C$138,SMALL(IF(BD!$B$2:$B$138=$AG$64,IF(BD!$B$2:$B$138=$AG$64,ROW(BD!$B$2:$B$138)-ROW(BD!$B$2)+1),FALSE),ROWS(BD!$1:3)))))","v":""},{"$f":"IF($AG$64=\"\",\"\",IF(ROWS(BD!$1:3)>COUNTIFS(BD!$B:$B,$AG$64),\"\",INDEX(BD!$E$2:$E$138,SMALL(IF(BD!$B$2:$B$138=$AG$64,IF(BD!$B$2:$B$138=$AG$64,ROW(BD!$B$2:$B$138)-ROW(BD!$B$2)+1),FALSE),ROWS(BD!$1:3)))))","v":""},{"$f":"IF($AG$64=\"\",\"\",IF(ROWS(BD!$1:3)>COUNTIFS(BD!$B:$B,$AG$64),\"\",INDEX(BD!$F$2:$F$138,SMALL(IF(BD!$B$2:$B$138=$AG$64,IF(BD!$B$2:$B$138=$AG$64,ROW(BD!$B$2:$B$138)-ROW(BD!$B$2)+1),FALSE),ROWS(BD!$1:3)))))","v":""},{"$f":"IF($AG$64=\"\",\"\",IF(ROWS(BD!$1:3)>COUNTIFS(BD!$B:$B,$AG$64),\"\",INDEX(BD!$G$2:$G$138,SMALL(IF(BD!$B$2:$B$138=$AG$64,IF(BD!$B$2:$B$138=$AG$64,ROW(BD!$B$2:$B$138)-ROW(BD!$B$2)+1),FALSE),ROWS(BD!$1:3)))))","v":""},{"$f":"IF($AG$64=\"\",\"\",IF(ROWS(BD!$1:3)>COUNTIFS(BD!$B:$B,$AG$64),\"\",INDEX(BD!$H$2:$H$138,SMALL(IF(BD!$B$2:$B$138=$AG$64,IF(BD!$B$2:$B$138=$AG$64,ROW(BD!$B$2:$B$138)-ROW(BD!$B$2)+1),FALSE),ROWS(BD!$1:3)))))","v":""},null,{"$f":"IF($AM$64=\"\",\"\",IF(ROWS(BD!$1:3)>COUNTIFS(BD!$B:$B,$AM$64),\"\",INDEX(BD!$C$2:$C$138,SMALL(IF(BD!$B$2:$B$138=$AM$64,IF(BD!$B$2:$B$138=$AM$64,ROW(BD!$B$2:$B$138)-ROW(BD!$B$2)+1),FALSE),ROWS(BD!$1:3)))))","v":""},{"$f":"IF($AM$64=\"\",\"\",IF(ROWS(BD!$1:3)>COUNTIFS(BD!$B:$B,$AM$64),\"\",INDEX(BD!$E$2:$E$138,SMALL(IF(BD!$B$2:$B$138=$AM$64,IF(BD!$B$2:$B$138=$AM$64,ROW(BD!$B$2:$B$138)-ROW(BD!$B$2)+1),FALSE),ROWS(BD!$1:3)))))","v":""},{"$f":"IF($AM$64=\"\",\"\",IF(ROWS(BD!$1:3)>COUNTIFS(BD!$B:$B,$AM$64),\"\",INDEX(BD!$F$2:$F$138,SMALL(IF(BD!$B$2:$B$138=$AM$64,IF(BD!$B$2:$B$138=$AM$64,ROW(BD!$B$2:$B$138)-ROW(BD!$B$2)+1),FALSE),ROWS(BD!$1:3)))))","v":""},{"$f":"IF($AM$64=\"\",\"\",IF(ROWS(BD!$1:3)>COUNTIFS(BD!$B:$B,$AM$64),\"\",INDEX(BD!$G$2:$G$138,SMALL(IF(BD!$B$2:$B$138=$AM$64,IF(BD!$B$2:$B$138=$AM$64,ROW(BD!$B$2:$B$138)-ROW(BD!$B$2)+1),FALSE),ROWS(BD!$1:3)))))","v":""},{"$f":"IF($AM$64=\"\",\"\",IF(ROWS(BD!$1:3)>COUNTIFS(BD!$B:$B,$AM$64),\"\",INDEX(BD!$H$2:$H$138,SMALL(IF(BD!$B$2:$B$138=$AM$64,IF(BD!$B$2:$B$138=$AM$64,ROW(BD!$B$2:$B$138)-ROW(BD!$B$2)+1),FALSE),ROWS(BD!$1:3)))))","v":""}]
[null,null,{"$f":"IF($C$64=\"\",\"\",IF(ROWS(BD!$1:4)>COUNTIFS(BD!$B:$B,$C$64),\"\",INDEX(BD!$C$2:$C$138,SMALL(IF(BD!$B$2:$B$138=$C$64,IF(BD!$B$2:$B$138=$C$64,ROW(BD!$B$2:$B$138)-ROW(BD!$B$2)+1),FALSE),ROWS(BD!$1:4)))))","v":""},{"$f":"IF($C$64=\"\",\"\",IF(ROWS(BD!$1:4)>COUNTIFS(BD!$B:$B,$C$64),\"\",INDEX(BD!$E$2:$E$138,SMALL(IF(BD!$B$2:$B$138=$C$64,IF(BD!$B$2:$B$138=$C$64,ROW(BD!$B$2:$B$138)-ROW(BD!$B$2)+1),FALSE),ROWS(BD!$1:4)))))","v":""},{"$f":"IF($C$64=\"\",\"\",IF(ROWS(BD!$1:4)>COUNTIFS(BD!$B:$B,$C$64),\"\",INDEX(BD!$F$2:$F$138,SMALL(IF(BD!$B$2:$B$138=$C$64,IF(BD!$B$2:$B$138=$C$64,ROW(BD!$B$2:$B$138)-ROW(BD!$B$2)+1),FALSE),ROWS(BD!$1:4)))))","v":""},{"$f":"IF($C$64=\"\",\"\",IF(ROWS(BD!$1:4)>COUNTIFS(BD!$B:$B,$C$64),\"\",INDEX(BD!$G$2:$G$138,SMALL(IF(BD!$B$2:$B$138=$C$64,IF(BD!$B$2:$B$138=$C$64,ROW(BD!$B$2:$B$138)-ROW(BD!$B$2)+1),FALSE),ROWS(BD!$1:4)))))","v":""},{"$f":"IF($C$64=\"\",\"\",IF(ROWS(BD!$1:4)>COUNTIFS(BD!$B:$B,$C$64),\"\",INDEX(BD!$H$2:$H$138,SMALL(IF(BD!$B$2:$B$138=$C$64,IF(BD!$B$2:$B$138=$C$64,ROW(BD!$B$2:$B$138)-ROW(BD!$B$2)+1),FALSE),ROWS(BD!$1:4)))))","v":""},null,{"$f":"IF($I$64=\"\",\"\",IF(ROWS(BD!$1:4)>COUNTIFS(BD!$B:$B,$I$64),\"\",INDEX(BD!$C$2:$C$138,SMALL(IF(BD!$B$2:$B$138=$I$64,IF(BD!$B$2:$B$138=$I$64,ROW(BD!$B$2:$B$138)-ROW(BD!$B$2)+1),FALSE),ROWS(BD!$1:4)))))","v":"14:20:00"},{"$f":"IF($I$64=\"\",\"\",IF(ROWS(BD!$1:4)>COUNTIFS(BD!$B:$B,$I$64),\"\",INDEX(BD!$E$2:$E$138,SMALL(IF(BD!$B$2:$B$138=$I$64,IF(BD!$B$2:$B$138=$I$64,ROW(BD!$B$2:$B$138)-ROW(BD!$B$2)+1),FALSE),ROWS(BD!$1:4)))))","v":"MindShift"},{"$f":"IF($I$64=\"\",\"\",IF(ROWS(BD!$1:4)>COUNTIFS(BD!$B:$B,$I$64),\"\",INDEX(BD!$F$2:$F$138,SMALL(IF(BD!$B$2:$B$138=$I$64,IF(BD!$B$2:$B$138=$I$64,ROW(BD!$B$2:$B$138)-ROW(BD!$B$2)+1),FALSE),ROWS(BD!$1:4)))))","v":"Pedro"},{"$f":"IF($I$64=\"\",\"\",IF(ROWS(BD!$1:4)>COUNTIFS(BD!$B:$B,$I$64),\"\",INDEX(BD!$G$2:$G$138,SMALL(IF(BD!$B$2:$B$138=$I$64,IF(BD!$B$2:$B$138=$I$64,ROW(BD!$B$2:$B$138)-ROW(BD!$B$2)+1),FALSE),ROWS(BD!$1:4)))))","v":"v1"},{"$f":"IF($I$64=\"\",\"\",IF(ROWS(BD!$1:4)>COUNTIFS(BD!$B:$B,$I$64),\"\",INDEX(BD!$H$2:$H$138,SMALL(IF(BD!$B$2:$B$138=$I$64,IF(BD!$B$2:$B$138=$I$64,ROW(BD!$B$2:$B$138)-ROW(BD!$B$2)+1),FALSE),ROWS(BD!$1:4)))))","v":"Realizada"},null,{"$f":"IF($O$64=\"\",\"\",IF(ROWS(BD!$1:4)>COUNTIFS(BD!$B:$B,$O$64),\"\",INDEX(BD!$C$2:$C$138,SMALL(IF(BD!$B$2:$B$138=$O$64,IF(BD!$B$2:$B$138=$O$64,ROW(BD!$B$2:$B$138)-ROW(BD!$B$2)+1),FALSE),ROWS(BD!$1:4)))))","v":"22:40:00"},{"$f":"IF($O$64=\"\",\"\",IF(ROWS(BD!$1:4)>COUNTIFS(BD!$B:$B,$O$64),\"\",INDEX(BD!$E$2:$E$138,SMALL(IF(BD!$B$2:$B$138=$O$64,IF(BD!$B$2:$B$138=$O$64,ROW(BD!$B$2:$B$138)-ROW(BD!$B$2)+1),FALSE),ROWS(BD!$1:4)))))","v":"NeuroInnovate"},{"$f":"IF($O$64=\"\",\"\",IF(ROWS(BD!$1:4)>COUNTIFS(BD!$B:$B,$O$64),\"\",INDEX(BD!$F$2:$F$138,SMALL(IF(BD!$B$2:$B$138=$O$64,IF(BD!$B$2:$B$138=$O$64,ROW(BD!$B$2:$B$138)-ROW(BD!$B$2)+1),FALSE),ROWS(BD!$1:4)))))","v":"Pedro"},{"$f":"IF($O$64=\"\",\"\",IF(ROWS(BD!$1:4)>COUNTIFS(BD!$B:$B,$O$64),\"\",INDEX(BD!$G$2:$G$138,SMALL(IF(BD!$B$2:$B$138=$O$64,IF(BD!$B$2:$B$138=$O$64,ROW(BD!$B$2:$B$138)-ROW(BD!$B$2)+1),FALSE),ROWS(BD!$1:4)))))","v":"v1"},{"$f":"IF($O$64=\"\",\"\",IF(ROWS(BD!$1:4)>COUNTIFS(BD!$B:$B,$O$64),\"\",INDEX(BD!$H$2:$H$138,SMALL(IF(BD!$B$2:$B$138=$O$64,IF(BD!$B$2:$B$138=$O$64,ROW(BD!$B$2:$B$138)-ROW(BD!$B$2)+1),FALSE),ROWS(BD!$1:4)))))","v":"Realizada"},null,{"$f":"IF($U$64=\"\",\"\",IF(ROWS(BD!$1:4)>COUNTIFS(BD!$B:$B,$U$64),\"\",INDEX(BD!$C$2:$C$138,SMALL(IF(BD!$B$2:$B$138=$U$64,IF(BD!$B$2:$B$138=$U$64,ROW(BD!$B$2:$B$138)-ROW(BD!$B$2)+1),FALSE),ROWS(BD!$1:4)))))","v":""},{"$f":"IF($U$64=\"\",\"\",IF(ROWS(BD!$1:4)>COUNTIFS(BD!$B:$B,$U$64),\"\",INDEX(BD!$E$2:$E$138,SMALL(IF(BD!$B$2:$B$138=$U$64,IF(BD!$B$2:$B$138=$U$64,ROW(BD!$B$2:$B$138)-ROW(BD!$B$2)+1),FALSE),ROWS(BD!$1:4)))))","v":""},{"$f":"IF($U$64=\"\",\"\",IF(ROWS(BD!$1:4)>COUNTIFS(BD!$B:$B,$U$64),\"\",INDEX(BD!$F$2:$F$138,SMALL(IF(BD!$B$2:$B$138=$U$64,IF(BD!$B$2:$B$138=$U$64,ROW(BD!$B$2:$B$138)-ROW(BD!$B$2)+1),FALSE),ROWS(BD!$1:4)))))","v":""},{"$f":"IF($U$64=\"\",\"\",IF(ROWS(BD!$1:4)>COUNTIFS(BD!$B:$B,$U$64),\"\",INDEX(BD!$G$2:$G$138,SMALL(IF(BD!$B$2:$B$138=$U$64,IF(BD!$B$2:$B$138=$U$64,ROW(BD!$B$2:$B$138)-ROW(BD!$B$2)+1),FALSE),ROWS(BD!$1:4)))))","v":""},{"$f":"IF($U$64=\"\",\"\",IF(ROWS(BD!$1:4)>COUNTIFS(BD!$B:$B,$U$64),\"\",INDEX(BD!$H$2:$H$138,SMALL(IF(BD!$B$2:$B$138=$U$64,IF(BD!$B$2:$B$138=$U$64,ROW(BD!$B$2:$B$138)-ROW(BD!$B$2)+1),FALSE),ROWS(BD!$1:4)))))","v":""},null,{"$f":"IF($AA$64=\"\",\"\",IF(ROWS(BD!$1:4)>COUNTIFS(BD!$B:$B,$AA$64),\"\",INDEX(BD!$C$2:$C$138,SMALL(IF(BD!$B$2:$B$138=$AA$64,IF(BD!$B$2:$B$138=$AA$64,ROW(BD!$B$2:$B$138)-ROW(BD!$B$2)+1),FALSE),ROWS(BD!$1:4)))))","v":""},{"$f":"IF($AA$64=\"\",\"\",IF(ROWS(BD!$1:4)>COUNTIFS(BD!$B:$B,$AA$64),\"\",INDEX(BD!$E$2:$E$138,SMALL(IF(BD!$B$2:$B$138=$AA$64,IF(BD!$B$2:$B$138=$AA$64,ROW(BD!$B$2:$B$138)-ROW(BD!$B$2)+1),FALSE),ROWS(BD!$1:4)))))","v":""},{"$f":"IF($AA$64=\"\",\"\",IF(ROWS(BD!$1:4)>COUNTIFS(BD!$B:$B,$AA$64),\"\",INDEX(BD!$F$2:$F$138,SMALL(IF(BD!$B$2:$B$138=$AA$64,IF(BD!$B$2:$B$138=$AA$64,ROW(BD!$B$2:$B$138)-ROW(BD!$B$2)+1),FALSE),ROWS(BD!$1:4)))))","v":""},{"$f":"IF($AA$64=\"\",\"\",IF(ROWS(BD!$1:4)>COUNTIFS(BD!$B:$B,$AA$64),\"\",INDEX(BD!$G$2:$G$138,SMALL(IF(BD!$B$2:$B$138=$AA$64,IF(BD!$B$2:$B$138=$AA$64,ROW(BD!$B$2:$B$138)-ROW(BD!$B$2)+1),FALSE),ROWS(BD!$1:4)))))","v":""},{"$f":"IF($AA$64=\"\",\"\",IF(ROWS(BD!$1:4)>COUNTIFS(BD!$B:$B,$AA$64),\"\",INDEX(BD!$H$2:$H$138,SMALL(IF(BD!$B$2:$B$138=$AA$64,IF(BD!$B$2:$B$138=$AA$64,ROW(BD!$B$2:$B$138)-ROW(BD!$B$2)+1),FALSE),ROWS(BD!$1:4)))))","v":""},null,{"$f":"IF($AG$64=\"\",\"\",IF(ROWS(BD!$1:4)>COUNTIFS(BD!$B:$B,$AG$64),\"\",INDEX(BD!$C$2:$C$138,SMALL(IF(BD!$B$2:$B$138=$AG$64,IF(BD!$B$2:$B$138=$AG$64,ROW(BD!$B$2:$B$138)-ROW(BD!$B$2)+1),FALSE),ROWS(BD!$1:4)))))","v":""},{"$f":"IF($AG$64=\"\",\"\",IF(ROWS(BD!$1:4)>COUNTIFS(BD!$B:$B,$AG$64),\"\",INDEX(BD!$E$2:$E$138,SMALL(IF(BD!$B$2:$B$138=$AG$64,IF(BD!$B$2:$B$138=$AG$64,ROW(BD!$B$2:$B$138)-ROW(BD!$B$2)+1),FALSE),ROWS(BD!$1:4)))))","v":""},{"$f":"IF($AG$64=\"\",\"\",IF(ROWS(BD!$1:4)>COUNTIFS(BD!$B:$B,$AG$64),\"\",INDEX(BD!$F$2:$F$138,SMALL(IF(BD!$B$2:$B$138=$AG$64,IF(BD!$B$2:$B$138=$AG$64,ROW(BD!$B$2:$B$138)-ROW(BD!$B$2)+1),FALSE),ROWS(BD!$1:4)))))","v":""},{"$f":"IF($AG$64=\"\",\"\",IF(ROWS(BD!$1:4)>COUNTIFS(BD!$B:$B,$AG$64),\"\",INDEX(BD!$G$2:$G$138,SMALL(IF(BD!$B$2:$B$138=$AG$64,IF(BD!$B$2:$B$138=$AG$64,ROW(BD!$B$2:$B$138)-ROW(BD!$B$2)+1),FALSE),ROWS(BD!$1:4)))))","v":""},{"$f":"IF($AG$64=\"\",\"\",IF(ROWS(BD!$1:4)>COUNTIFS(BD!$B:$B,$AG$64),\"\",INDEX(BD!$H$2:$H$138,SMALL(IF(BD!$B$2:$B$138=$AG$64,IF(BD!$B$2:$B$138=$AG$64,ROW(BD!$B$2:$B$138)-ROW(BD!$B$2)+1),FALSE),ROWS(BD!$1:4)))))","v":""},null,{"$f":"IF($AM$64=\"\",\"\",IF(ROWS(BD!$1:4)>COUNTIFS(BD!$B:$B,$AM$64),\"\",INDEX(BD!$C$2:$C$138,SMALL(IF(BD!$B$2:$B$138=$AM$64,IF(BD!$B$2:$B$138=$AM$64,ROW(BD!$B$2:$B$138)-ROW(BD!$B$2)+1),FALSE),ROWS(BD!$1:4)))))","v":""},{"$f":"IF($AM$64=\"\",\"\",IF(ROWS(BD!$1:4)>COUNTIFS(BD!$B:$B,$AM$64),\"\",INDEX(BD!$E$2:$E$138,SMALL(IF(BD!$B$2:$B$138=$AM$64,IF(BD!$B$2:$B$138=$AM$64,ROW(BD!$B$2:$B$138)-ROW(BD!$B$2)+1),FALSE),ROWS(BD!$1:4)))))","v":""},{"$f":"IF($AM$64=\"\",\"\",IF(ROWS(BD!$1:4)>COUNTIFS(BD!$B:$B,$AM$64),\"\",INDEX(BD!$F$2:$F$138,SMALL(IF(BD!$B$2:$B$138=$AM$64,IF(BD!$B$2:$B$138=$AM$64,ROW(BD!$B$2:$B$138)-ROW(BD!$B$2)+1),FALSE),ROWS(BD!$1:4)))))","v":""},{"$f":"IF($AM$64=\"\",\"\",IF(ROWS(BD!$1:4)>COUNTIFS(BD!$B:$B,$AM$64),\"\",INDEX(BD!$G$2:$G$138,SMALL(IF(BD!$B$2:$B$138=$AM$64,IF(BD!$B$2:$B$138=$AM$64,ROW(BD!$B$2:$B$138)-ROW(BD!$B$2)+1),FALSE),ROWS(BD!$1:4)))))","v":""},{"$f":"IF($AM$64=\"\",\"\",IF(ROWS(BD!$1:4)>COUNTIFS(BD!$B:$B,$AM$64),\"\",INDEX(BD!$H$2:$H$138,SMALL(IF(BD!$B$2:$B$138=$AM$64,IF(BD!$B$2:$B$138=$AM$64,ROW(BD!$B$2:$B$138)-ROW(BD!$B$2)+1),FALSE),ROWS(BD!$1:4)))))","v":""}]
[null,null,{"$f":"IF($C$64=\"\",\"\",IF(ROWS(BD!$1:5)>COUNTIFS(BD!$B:$B,$C$64),\"\",INDEX(BD!$C$2:$C$138,SMALL(IF(BD!$B$2:$B$138=$C$64,IF(BD!$B$2:$B$138=$C$64,ROW(BD!$B$2:$B$138)-ROW(BD!$B$2)+1),FALSE),ROWS(BD!$1:5)))))","v":""},{"$f":"IF($C$64=\"\",\"\",IF(ROWS(BD!$1:5)>COUNTIFS(BD!$B:$B,$C$64),\"\",INDEX(BD!$E$2:$E$138,SMALL(IF(BD!$B$2:$B$138=$C$64,IF(BD!$B$2:$B$138=$C$64,ROW(BD!$B$2:$B$138)-ROW(BD!$B$2)+1),FALSE),ROWS(BD!$1:5)))))","v":""},{"$f":"IF($C$64=\"\",\"\",IF(ROWS(BD!$1:5)>COUNTIFS(BD!$B:$B,$C$64),\"\",INDEX(BD!$F$2:$F$138,SMALL(IF(BD!$B$2:$B$138=$C$64,IF(BD!$B$2:$B$138=$C$64,ROW(BD!$B$2:$B$138)-ROW(BD!$B$2)+1),FALSE),ROWS(BD!$1:5)))))","v":""},{"$f":"IF($C$64=\"\",\"\",IF(ROWS(BD!$1:5)>COUNTIFS(BD!$B:$B,$C$64),\"\",INDEX(BD!$G$2:$G$138,SMALL(IF(BD!$B$2:$B$138=$C$64,IF(BD!$B$2:$B$138=$C$64,ROW(BD!$B$2:$B$138)-ROW(BD!$B$2)+1),FALSE),ROWS(BD!$1:5)))))","v":""},{"$f":"IF($C$64=\"\",\"\",IF(ROWS(BD!$1:5)>COUNTIFS(BD!$B:$B,$C$64),\"\",INDEX(BD!$H$2:$H$138,SMALL(IF(BD!$B$2:$B$138=$C$64,IF(BD!$B$2:$B$138=$C$64,ROW(BD!$B$2:$B$138)-ROW(BD!$B$2)+1),FALSE),ROWS(BD!$1:5)))))","v":""},null,{"$f":"IF($I$64=\"\",\"\",IF(ROWS(BD!$1:5)>COUNTIFS(BD!$B:$B,$I$64),\"\",INDEX(BD!$C$2:$C$138,SMALL(IF(BD!$B$2:$B$138=$I$64,IF(BD!$B$2:$B$138=$I$64,ROW(BD!$B$2:$B$138)-ROW(BD!$B$2)+1),FALSE),ROWS(BD!$1:5)))))","v":"16:00:00"},{"$f":"IF($I$64=\"\",\"\",IF(ROWS(BD!$1:5)>COUNTIFS(BD!$B:$B,$I$64),\"\",INDEX(BD!$E$2:$E$138,SMALL(IF(BD!$B$2:$B$138=$I$64,IF(BD!$B$2:$B$138=$I$64,ROW(BD!$B$2:$B$138)-ROW(BD!$B$2)+1),FALSE),ROWS(BD!$1:5)))))","v":"TechVision"},{"$f":"IF($I$64=\"\",\"\",IF(ROWS(BD!$1:5)>COUNTIFS(BD!$B:$B,$I$64),\"\",INDEX(BD!$F$2:$F$138,SMALL(IF(BD!$B$2:$B$138=$I$64,IF(BD!$B$2:$B$138=$I$64,ROW(BD!$B$2:$B$138)-ROW(BD!$B$2)+1),FALSE),ROWS(BD!$1:5)))))","v":"Augusto"},{"$f":"IF($I$64=\"\",\"\",IF(ROWS(BD!$1:5)>COUNTIFS(BD!$B:$B,$I$64),\"\",INDEX(BD!$G$2:$G$138,SMALL(IF(BD!$B$2:$B$138=$I$64,IF(BD!$B$2:$B$138=$I$64,ROW(BD!$B$2:$B$138)-ROW(BD!$B$2)+1),FALSE),ROWS(BD!$1:5)))))","v":"v1"},{"$f":"IF($I$64=\"\",\"\",IF(ROWS(BD!$1:5)>COUNTIFS(BD!$B:$B,$I$64),\"\",INDEX(BD!$H$2:$H$138,SMALL(IF(BD!$B$2:$B$138=$I$64,IF(BD!$B$2:$B$138=$I$64,ROW(BD!$B$2:$B$138)-ROW(BD!$B$2)+1),FALSE),ROWS(BD!$1:5)))))","v":"Realizada"},null,{"$f":"IF($O$64=\"\",\"\",IF(ROWS(BD!$1:5)>COUNTIFS(BD!$B:$B,$O$64),\"\",INDEX(BD!$C$2:$C$138,SMALL(IF(BD!$B$2:$B$138=$O$64,IF(BD!$B$2:$B$138=$O$64,ROW(BD!$B$2:$B$138)-ROW(BD!$B$2)+1),FALSE),ROWS(BD!$1:5)))))","v":"23:20:00"},{"$f":"IF($O$64=\"\",\"\",IF(ROWS(BD!$1:5)>COUNTIFS(BD!$B:$B,$O$64),\"\",INDEX(BD!$E$2:$E$138,SMALL(IF(BD!$B$2:$B$138=$O$64,IF(BD!$B$2:$B$138=$O$64,ROW(BD!$B$2:$B$138)-ROW(BD!$B$2)+1),FALSE),ROWS(BD!$1:5)))))","v":"Futuris"},{"$f":"IF($O$64=\"\",\"\",IF(ROWS(BD!$1:5)>COUNTIFS(BD!$B:$B,$O$64),\"\",INDEX(BD!$F$2:$F$138,SMALL(IF(BD!$B$2:$B$138=$O$64,IF(BD!$B$2:$B$138=$O$64,ROW(BD!$B$2:$B$138)-ROW(BD!$B$2)+1),FALSE),ROWS(BD!$1:5)))))","v":"Augusto"},{"$f":"IF($O$64=\"\",\"\",IF(ROWS(BD!$1:5)>COUNTIFS(BD!$B:$B,$O$64),\"\",INDEX(BD!$G$2:$G$138,SMALL(IF(BD!$B$2:$B$138=$O$64,IF(BD!$B$2:$B$138=$O$64,ROW(BD!$B$2:$B$138)-ROW(BD!$B$2)+1),FALSE),ROWS(BD!$1:5)))))","v":"v1"},{"$f":"IF($O$64=\"\",\"\",IF(ROWS(BD!$1:5)>COUNTIFS(BD!$B:$B,$O$64),\"\",INDEX(BD!$H$2:$H$138,SMALL(IF(BD!$B$2:$B$138=$O$64,IF(BD!$B$2:$B$138=$O$64,ROW(BD!$B$2:$B$138)-ROW(BD!$B$2)+1),FALSE),ROWS(BD!$1:5)))))","v":"Realizada"},null,{"$f":"IF($U$64=\"\",\"\",IF(ROWS(BD!$1:5)>COUNTIFS(BD!$B:$B,$U$64),\"\",INDEX(BD!$C$2:$C$138,SMALL(IF(BD!$B$2:$B$138=$U$64,IF(BD!$B$2:$B$138=$U$64,ROW(BD!$B$2:$B$138)-ROW(BD!$B$2)+1),FALSE),ROWS(BD!$1:5)))))","v":""},{"$f":"IF($U$64=\"\",\"\",IF(ROWS(BD!$1:5)>COUNTIFS(BD!$B:$B,$U$64),\"\",INDEX(BD!$E$2:$E$138,SMALL(IF(BD!$B$2:$B$138=$U$64,IF(BD!$B$2:$B$138=$U$64,ROW(BD!$B$2:$B$138)-ROW(BD!$B$2)+1),FALSE),ROWS(BD!$1:5)))))","v":""},{"$f":"IF($U$64=\"\",\"\",IF(ROWS(BD!$1:5)>COUNTIFS(BD!$B:$B,$U$64),\"\",INDEX(BD!$F$2:$F$138,SMALL(IF(BD!$B$2:$B$138=$U$64,IF(BD!$B$2:$B$138=$U$64,ROW(BD!$B$2:$B$138)-ROW(BD!$B$2)+1),FALSE),ROWS(BD!$1:5)))))","v":""},{"$f":"IF($U$64=\"\",\"\",IF(ROWS(BD!$1:5)>COUNTIFS(BD!$B:$B,$U$64),\"\",INDEX(BD!$G$2:$G$138,SMALL(IF(BD!$B$2:$B$138=$U$64,IF(BD!$B$2:$B$138=$U$64,ROW(BD!$B$2:$B$138)-ROW(BD!$B$2)+1),FALSE),ROWS(BD!$1:5)))))","v":""},{"$f":"IF($U$64=\"\",\"\",IF(ROWS(BD!$1:5)>COUNTIFS(BD!$B:$B,$U$64),\"\",INDEX(BD!$H$2:$H$138,SMALL(IF(BD!$B$2:$B$138=$U$64,IF(BD!$B$2:$B$138=$U$64,ROW(BD!$B$2:$B$138)-ROW(BD!$B$2)+1),FALSE),ROWS(BD!$1:5)))))","v":""},null,{"$f":"IF($AA$64=\"\",\"\",IF(ROWS(BD!$1:5)>COUNTIFS(BD!$B:$B,$AA$64),\"\",INDEX(BD!$C$2:$C$138,SMALL(IF(BD!$B$2:$B$138=$AA$64,IF(BD!$B$2:$B$138=$AA$64,ROW(BD!$B$2:$B$138)-ROW(BD!$B$2)+1),FALSE),ROWS(BD!$1:5)))))","v":""},{"$f":"IF($AA$64=\"\",\"\",IF(ROWS(BD!$1:5)>COUNTIFS(BD!$B:$B,$AA$64),\"\",INDEX(BD!$E$2:$E$138,SMALL(IF(BD!$B$2:$B$138=$AA$64,IF(BD!$B$2:$B$138=$AA$64,ROW(BD!$B$2:$B$138)-ROW(BD!$B$2)+1),FALSE),ROWS(BD!$1:5)))))","v":""},{"$f":"IF($AA$64=\"\",\"\",IF(ROWS(BD!$1:5)>COUNTIFS(BD!$B:$B,$AA$64),\"\",INDEX(BD!$F$2:$F$138,SMALL(IF(BD!$B$2:$B$138=$AA$64,IF(BD!$B$2:$B$138=$AA$64,ROW(BD!$B$2:$B$138)-ROW(BD!$B$2)+1),FALSE),ROWS(BD!$1:5)))))","v":""},{"$f":"IF($AA$64=\"\",\"\",IF(ROWS(BD!$1:5)>COUNTIFS(BD!$B:$B,$AA$64),\"\",INDEX(BD!$G$2:$G$138,SMALL(IF(BD!$B$2:$B$138=$AA$64,IF(BD!$B$2:$B$138=$AA$64,ROW(BD!$B$2:$B$138)-ROW(BD!$B$2)+1),FALSE),ROWS(BD!$1:5)))))","v":""},{"$f":"IF($AA$64=\"\",\"\",IF(ROWS(BD!$1:5)>COUNTIFS(BD!$B:$B,$AA$64),\"\",INDEX(BD!$H$2:$H$138,SMALL(IF(BD!$B$2:$B$138=$AA$64,IF(BD!$B$2:$B$138=$AA$64,ROW(BD!$B$2:$B$138)-ROW(BD!$B$2)+1),FALSE),ROWS(BD!$1:5)))))","v":""},null,{"$f":"IF($AG$64=\"\",\"\",IF(ROWS(BD!$1:5)>COUNTIFS(BD!$B:$B,$AG$64),\"\",INDEX(BD!$C$2:$C$138,SMALL(IF(BD!$B$2:$B$138=$AG$64,IF(BD!$B$2:$B$138=$AG$64,ROW(BD!$B$2:$B$138)-ROW(BD!$B$2)+1),FALSE),ROWS(BD!$1:5)))))","v":""},{"$f":"IF($AG$64=\"\",\"\",IF(ROWS(BD!$1:5)>COUNTIFS(BD!$B:$B,$AG$64),\"\",INDEX(BD!$E$2:$E$138,SMALL(IF(BD!$B$2:$B$138=$AG$64,IF(BD!$B$2:$B$138=$AG$64,ROW(BD!$B$2:$B$138)-ROW(BD!$B$2)+1),FALSE),ROWS(BD!$1:5)))))","v":""},{"$f":"IF($AG$64=\"\",\"\",IF(ROWS(BD!$1:5)>COUNTIFS(BD!$B:$B,$AG$64),\"\",INDEX(BD!$F$2:$F$138,SMALL(IF(BD!$B$2:$B$138=$AG$64,IF(BD!$B$2:$B$138=$AG$64,ROW(BD!$B$2:$B$138)-ROW(BD!$B$2)+1),FALSE),ROWS(BD!$1:5)))))","v":""},{"$f":"IF($AG$64=\"\",\"\",IF(ROWS(BD!$1:5)>COUNTIFS(BD!$B:$B,$AG$64),\"\",INDEX(BD!$G$2:$G$138,SMALL(IF(BD!$B$2:$B$138=$AG$64,IF(BD!$B$2:$B$138=$AG$64,ROW(BD!$B$2:$B$138)-ROW(BD!$B$2)+1),FALSE),ROWS(BD!$1:5)))))","v":""},{"$f":"IF($AG$64=\"\",\"\",IF(ROWS(BD!$1:5)>COUNTIFS(BD!$B:$B,$AG$64),\"\",INDEX(BD!$H$2:$H$138,SMALL(IF(BD!$B$2:$B$138=$AG$64,IF(BD!$B$2:$B$138=$AG$64,ROW(BD!$B$2:$B$138)-ROW(BD!$B$2)+1),FALSE),ROWS(BD!$1:5)))))","v":""},null,{"$f":"IF($AM$64=\"\",\"\",IF(ROWS(BD!$1:5)>COUNTIFS(BD!$B:$B,$AM$64),\"\",INDEX(BD!$C$2:$C$138,SMALL(IF(BD!$B$2:$B$138=$AM$64,IF(BD!$B$2:$B$138=$AM$64,ROW(BD!$B$2:$B$138)-ROW(BD!$B$2)+1),FALSE),ROWS(BD!$1:5)))))","v":""},{"$f":"IF($AM$64=\"\",\"\",IF(ROWS(BD!$1:5)>COUNTIFS(BD!$B:$B,$AM$64),\"\",INDEX(BD!$E$2:$E$138,SMALL(IF(BD!$B$2:$B$138=$AM$64,IF(BD!$B$2:$B$138=$AM$64,ROW(BD!$B$2:$B$138)-ROW(BD!$B$2)+1),FALSE),ROWS(BD!$1:5)))))","v":""},{"$f":"IF($AM$64=\"\",\"\",IF(ROWS(BD!$1:5)>COUNTIFS(BD!$B:$B,$AM$64),\"\",INDEX(BD!$F$2:$F$138,SMALL(IF(BD!$B$2:$B$138=$AM$64,IF(BD!$B$2:$B$138=$AM$64,ROW(BD!$B$2:$B$138)-ROW(BD!$B$2)+1),FALSE),ROWS(BD!$1:5)))))","v":""},{"$f":"IF($AM$64=\"\",\"\",IF(ROWS(BD!$1:5)>COUNTIFS(BD!$B:$B,$AM$64),\"\",INDEX(BD!$G$2:$G$138,SMALL(IF(BD!$B$2:$B$138=$AM$64,IF(BD!$B$2:$B$138=$AM$64,ROW(BD!$B$2:$B$138)-ROW(BD!$B$2)+1),FALSE),ROWS(BD!$1:5)))))","v":""},{"$f":"IF($AM$64=\"\",\"\",IF(ROWS(BD!$1:5)>COUNTIFS(BD!$B:$B,$AM$64),\"\",INDEX(BD!$H$2:$H$138,SMALL(IF(BD!$B$2:$B$138=$AM$64,IF(BD!$B$2:$B$138=$AM$64,ROW(BD!$B$2:$B$138)-ROW(BD!$B$2)+1),FALSE),ROWS(BD!$1:5)))))","v":""}]
[null,null,{"$f":"IF($C$64=\"\",\"\",IF(ROWS(BD!$1:6)>COUNTIFS(BD!$B:$B,$C$64),\"\",INDEX(BD!$C$2:$C$138,SMALL(IF(BD!$B$2:$B$138=$C$64,IF(BD!$B$2:$B$138=$C$64,ROW(BD!$B$2:$B$138)-ROW(BD!$B$2)+1),FALSE),ROWS(BD!$1:6)))))","v":""},{"$f":"IF($C$64=\"\",\"\",IF(ROWS(BD!$1:6)>COUNTIFS(BD!$B:$B,$C$64),\"\",INDEX(BD!$E$2:$E$138,SMALL(IF(BD!$B$2:$B$138=$C$64,IF(BD!$B$2:$B$138=$C$64,ROW(BD!$B$2:$B$138)-ROW(BD!$B$2)+1),FALSE),ROWS(BD!$1:6)))))","v":""},{"$f":"IF($C$64=\"\",\"\",IF(ROWS(BD!$1:6)>COUNTIFS(BD!$B:$B,$C$64),\"\",INDEX(BD!$F$2:$F$138,SMALL(IF(BD!$B$2:$B$138=$C$64,IF(BD!$B$2:$B$138=$C$64,ROW(BD!$B$2:$B$138)-ROW(BD!$B$2)+1),FALSE),ROWS(BD!$1:6)))))","v":""},{"$f":"IF($C$64=\"\",\"\",IF(ROWS(BD!$1:6)>COUNTIFS(BD!$B:$B,$C$64),\"\",INDEX(BD!$G$2:$G$138,SMALL(IF(BD!$B$2:$B$138=$C$64,IF(BD!$B$2:$B$138=$C$64,ROW(BD!$B$2:$B$138)-ROW(BD!$B$2)+1),FALSE),ROWS(BD!$1:6)))))","v":""},{"$f":"IF($C$64=\"\",\"\",IF(ROWS(BD!$1:6)>COUNTIFS(BD!$B:$B,$C$64),\"\",INDEX(BD!$H$2:$H$138,SMALL(IF(BD!$B$2:$B$138=$C$64,IF(BD!$B$2:$B$138=$C$64,ROW(BD!$B$2:$B$138)-ROW(BD!$B$2)+1),FALSE),ROWS(BD!$1:6)))))","v":""},null,{"$f":"IF($I$64=\"\",\"\",IF(ROWS(BD!$1:6)>COUNTIFS(BD!$B:$B,$I$64),\"\",INDEX(BD!$C$2:$C$138,SMALL(IF(BD!$B$2:$B$138=$I$64,IF(BD!$B$2:$B$138=$I$64,ROW(BD!$B$2:$B$138)-ROW(BD!$B$2)+1),FALSE),ROWS(BD!$1:6)))))","v":"18:50:00"},{"$f":"IF($I$64=\"\",\"\",IF(ROWS(BD!$1:6)>COUNTIFS(BD!$B:$B,$I$64),\"\",INDEX(BD!$E$2:$E$138,SMALL(IF(BD!$B$2:$B$138=$I$64,IF(BD!$B$2:$B$138=$I$64,ROW(BD!$B$2:$B$138)-ROW(BD!$B$2)+1),FALSE),ROWS(BD!$1:6)))))","v":"InspireX"},{"$f":"IF($I$64=\"\",\"\",IF(ROWS(BD!$1:6)>COUNTIFS(BD!$B:$B,$I$64),\"\",INDEX(BD!$F$2:$F$138,SMALL(IF(BD!$B$2:$B$138=$I$64,IF(BD!$B$2:$B$138=$I$64,ROW(BD!$B$2:$B$138)-ROW(BD!$B$2)+1),FALSE),ROWS(BD!$1:6)))))","v":"Roberto"},{"$f":"IF($I$64=\"\",\"\",IF(ROWS(BD!$1:6)>COUNTIFS(BD!$B:$B,$I$64),\"\",INDEX(BD!$G$2:$G$138,SMALL(IF(BD!$B$2:$B$138=$I$64,IF(BD!$B$2:$B$138=$I$64,ROW(BD!$B$2:$B$138)-ROW(BD!$B$2)+1),FALSE),ROWS(BD!$1:6)))))","v":"v1"},{"$f":"IF($I$64=\"\",\"\",IF(ROWS(BD!$1:6)>COUNTIFS(BD!$B:$B,$I$64),\"\",INDEX(BD!$H$2:$H$138,SMALL(IF(BD!$B$2:$B$138=$I$64,IF(BD!$B$2:$B$138=$I$64,ROW(BD!$B$2:$B$138)-ROW(BD!$B$2)+1),FALSE),ROWS(BD!$1:6)))))","v":"Realizada"},null,{"$f":"IF($O$64=\"\",\"\",IF(ROWS(BD!$1:6)>COUNTIFS(BD!$B:$B,$O$64),\"\",INDEX(BD!$C$2:$C$138,SMALL(IF(BD!$B$2:$B$138=$O$64,IF(BD!$B$2:$B$138=$O$64,ROW(BD!$B$2:$B$138)-ROW(BD!$B$2)+1),FALSE),ROWS(BD!$1:6)))))","v":"14:50:00"},{"$f":"IF($O$64=\"\",\"\",IF(ROWS(BD!$1:6)>COUNTIFS(BD!$B:$B,$O$64),\"\",INDEX(BD!$E$2:$E$138,SMALL(IF(BD!$B$2:$B$138=$O$64,IF(BD!$B$2:$B$138=$O$64,ROW(BD!$B$2:$B$138)-ROW(BD!$B$2)+1),FALSE),ROWS(BD!$1:6)))))","v":"SmartStart"},{"$f":"IF($O$64=\"\",\"\",IF(ROWS(BD!$1:6)>COUNTIFS(BD!$B:$B,$O$64),\"\",INDEX(BD!$F$2:$F$138,SMALL(IF(BD!$B$2:$B$138=$O$64,IF(BD!$B$2:$B$138=$O$64,ROW(BD!$B$2:$B$138)-ROW(BD!$B$2)+1),FALSE),ROWS(BD!$1:6)))))","v":"Roberto"},{"$f":"IF($O$64=\"\",\"\",IF(ROWS(BD!$1:6)>COUNTIFS(BD!$B:$B,$O$64),\"\",INDEX(BD!$G$2:$G$138,SMALL(IF(BD!$B$2:$B$138=$O$64,IF(BD!$B$2:$B$138=$O$64,ROW(BD!$B$2:$B$138)-ROW(BD!$B$2)+1),FALSE),ROWS(BD!$1:6)))))","v":"v1"},{"$f":"IF($O$64=\"\",\"\",IF(ROWS(BD!$1:6)>COUNTIFS(BD!$B:$B,$O$64),\"\",INDEX(BD!$H$2:$H$138,SMALL(IF(BD!$B$2:$B$138=$O$64,IF(BD!$B$2:$B$138=$O$64,ROW(BD!$B$2:$B$138)-ROW(BD!$B$2)+1),FALSE),ROWS(BD!$1:6)))))","v":"Realizada"},null,{"$f":"IF($U$64=\"\",\"\",IF(ROWS(BD!$1:6)>COUNTIFS(BD!$B:$B,$U$64),\"\",INDEX(BD!$C$2:$C$138,SMALL(IF(BD!$B$2:$B$138=$U$64,IF(BD!$B$2:$B$138=$U$64,ROW(BD!$B$2:$B$138)-ROW(BD!$B$2)+1),FALSE),ROWS(BD!$1:6)))))","v":""},{"$f":"IF($U$64=\"\",\"\",IF(ROWS(BD!$1:6)>COUNTIFS(BD!$B:$B,$U$64),\"\",INDEX(BD!$E$2:$E$138,SMALL(IF(BD!$B$2:$B$138=$U$64,IF(BD!$B$2:$B$138=$U$64,ROW(BD!$B$2:$B$138)-ROW(BD!$B$2)+1),FALSE),ROWS(BD!$1:6)))))","v":""},{"$f":"IF($U$64=\"\",\"\",IF(ROWS(BD!$1:6)>COUNTIFS(BD!$B:$B,$U$64),\"\",INDEX(BD!$F$2:$F$138,SMALL(IF(BD!$B$2:$B$138=$U$64,IF(BD!$B$2:$B$138=$U$64,ROW(BD!$B$2:$B$138)-ROW(BD!$B$2)+1),FALSE),ROWS(BD!$1:6)))))","v":""},{"$f":"IF($U$64=\"\",\"\",IF(ROWS(BD!$1:6)>COUNTIFS(BD!$B:$B,$U$64),\"\",INDEX(BD!$G$2:$G$138,SMALL(IF(BD!$B$2:$B$138=$U$64,IF(BD!$B$2:$B$138=$U$64,ROW(BD!$B$2:$B$138)-ROW(BD!$B$2)+1),FALSE),ROWS(BD!$1:6)))))","v":""},{"$f":"IF($U$64=\"\",\"\",IF(ROWS(BD!$1:6)>COUNTIFS(BD!$B:$B,$U$64),\"\",INDEX(BD!$H$2:$H$138,SMALL(IF(BD!$B$2:$B$138=$U$64,IF(BD!$B$2:$B$138=$U$64,ROW(BD!$B$2:$B$138)-ROW(BD!$B$2)+1),FALSE),ROWS(BD!$1:6)))))","v":""},null,{"$f":"IF($AA$64=\"\",\"\",IF(ROWS(BD!$1:6)>COUNTIFS(BD!$B:$B,$AA$64),\"\",INDEX(BD!$C$2:$C$138,SMALL(IF(BD!$B$2:$B$138=$AA$64,IF(BD!$B$2:$B$138=$AA$64,ROW(BD!$B$2:$B$138)-ROW(BD!$B$2)+1),FALSE),ROWS(BD!$1:6)))))","v":""},{"$f":"IF($AA$64=\"\",\"\",IF(ROWS(BD!$1:6)>COUNTIFS(BD!$B:$B,$AA$64),\"\",INDEX(BD!$E$2:$E$138,SMALL(IF(BD!$B$2:$B$138=$AA$64,IF(BD!$B$2:$B$138=$AA$64,ROW(BD!$B$2:$B$138)-ROW(BD!$B$2)+1),FALSE),ROWS(BD!$1:6)))))","v":""},{"$f":"IF($AA$64=\"\",\"\",IF(ROWS(BD!$1:6)>COUNTIFS(BD!$B:$B,$AA$64),\"\",INDEX(BD!$F$2:$F$138,SMALL(IF(BD!$B$2:$B$138=$AA$64,IF(BD!$B$2:$B$138=$AA$64,ROW(BD!$B$2:$B$138)-ROW(BD!$B$2)+1),FALSE),ROWS(BD!$1:6)))))","v":""},{"$f":"IF($AA$64=\"\",\"\",IF(ROWS(BD!$1:6)>COUNTIFS(BD!$B:$B,$AA$64),\"\",INDEX(BD!$G$2:$G$138,SMALL(IF(BD!$B$2:$B$138=$AA$64,IF(BD!$B$2:$B$138=$AA$64,ROW(BD!$B$2:$B$138)-ROW(BD!$B$2)+1),FALSE),ROWS(BD!$1:6)))))","v":""},{"$f":"IF($AA$64=\"\",\"\",IF(ROWS(BD!$1:6)>COUNTIFS(BD!$B:$B,$AA$64),\"\",INDEX(BD!$H$2:$H$138,SMALL(IF(BD!$B$2:$B$138=$AA$64,IF(BD!$B$2:$B$138=$AA$64,ROW(BD!$B$2:$B$138)-ROW(BD!$B$2)+1),FALSE),ROWS(BD!$1:6)))))","v":""},null,{"$f":"IF($AG$64=\"\",\"\",IF(ROWS(BD!$1:6)>COUNTIFS(BD!$B:$B,$AG$64),\"\",INDEX(BD!$C$2:$C$138,SMALL(IF(BD!$B$2:$B$138=$AG$64,IF(BD!$B$2:$B$138=$AG$64,ROW(BD!$B$2:$B$138)-ROW(BD!$B$2)+1),FALSE),ROWS(BD!$1:6)))))","v":""},{"$f":"IF($AG$64=\"\",\"\",IF(ROWS(BD!$1:6)>COUNTIFS(BD!$B:$B,$AG$64),\"\",INDEX(BD!$E$2:$E$138,SMALL(IF(BD!$B$2:$B$138=$AG$64,IF(BD!$B$2:$B$138=$AG$64,ROW(BD!$B$2:$B$138)-ROW(BD!$B$2)+1),FALSE),ROWS(BD!$1:6)))))","v":""},{"$f":"IF($AG$64=\"\",\"\",IF(ROWS(BD!$1:6)>COUNTIFS(BD!$B:$B,$AG$64),\"\",INDEX(BD!$F$2:$F$138,SMALL(IF(BD!$B$2:$B$138=$AG$64,IF(BD!$B$2:$B$138=$AG$64,ROW(BD!$B$2:$B$138)-ROW(BD!$B$2)+1),FALSE),ROWS(BD!$1:6)))))","v":""},{"$f":"IF($AG$64=\"\",\"\",IF(ROWS(BD!$1:6)>COUNTIFS(BD!$B:$B,$AG$64),\"\",INDEX(BD!$G$2:$G$138,SMALL(IF(BD!$B$2:$B$138=$AG$64,IF(BD!$B$2:$B$138=$AG$64,ROW(BD!$B$2:$B$138)-ROW(BD!$B$2)+1),FALSE),ROWS(BD!$1:6)))))","v":""},{"$f":"IF($AG$64=\"\",\"\",IF(ROWS(BD!$1:6)>COUNTIFS(BD!$B:$B,$AG$64),\"\",INDEX(BD!$H$2:$H$138,SMALL(IF(BD!$B$2:$B$138=$AG$64,IF(BD!$B$2:$B$138=$AG$64,ROW(BD!$B$2:$B$138)-ROW(BD!$B$2)+1),FALSE),ROWS(BD!$1:6)))))","v":""},null,{"$f":"IF($AM$64=\"\",\"\",IF(ROWS(BD!$1:6)>COUNTIFS(BD!$B:$B,$AM$64),\"\",INDEX(BD!$C$2:$C$138,SMALL(IF(BD!$B$2:$B$138=$AM$64,IF(BD!$B$2:$B$138=$AM$64,ROW(BD!$B$2:$B$138)-ROW(BD!$B$2)+1),FALSE),ROWS(BD!$1:6)))))","v":""},{"$f":"IF($AM$64=\"\",\"\",IF(ROWS(BD!$1:6)>COUNTIFS(BD!$B:$B,$AM$64),\"\",INDEX(BD!$E$2:$E$138,SMALL(IF(BD!$B$2:$B$138=$AM$64,IF(BD!$B$2:$B$138=$AM$64,ROW(BD!$B$2:$B$138)-ROW(BD!$B$2)+1),FALSE),ROWS(BD!$1:6)))))","v":""},{"$f":"IF($AM$64=\"\",\"\",IF(ROWS(BD!$1:6)>COUNTIFS(BD!$B:$B,$AM$64),\"\",INDEX(BD!$F$2:$F$138,SMALL(IF(BD!$B$2:$B$138=$AM$64,IF(BD!$B$2:$B$138=$AM$64,ROW(BD!$B$2:$B$138)-ROW(BD!$B$2)+1),FALSE),ROWS(BD!$1:6)))))","v":""},{"$f":"IF($AM$64=\"\",\"\",IF(ROWS(BD!$1:6)>COUNTIFS(BD!$B:$B,$AM$64),\"\",INDEX(BD!$G$2:$G$138,SMALL(IF(BD!$B$2:$B$138=$AM$64,IF(BD!$B$2:$B$138=$AM$64,ROW(BD!$B$2:$B$138)-ROW(BD!$B$2)+1),FALSE),ROWS(BD!$1:6)))))","v":""},{"$f":"IF($AM$64=\"\",\"\",IF(ROWS(BD!$1:6)>COUNTIFS(BD!$B:$B,$AM$64),\"\",INDEX(BD!$H$2:$H$138,SMALL(IF(BD!$B$2:$B$138=$AM$64,IF(BD!$B$2:$B$138=$AM$64,ROW(BD!$B$2:$B$138)-ROW(BD!$B$2)+1),FALSE),ROWS(BD!$1:6)))))","v":""}]
[null,null,{"$f":"IF($C$64=\"\",\"\",IF(ROWS(BD!$1:7)>COUNTIFS(BD!$B:$B,$C$64),\"\",INDEX(BD!$C$2:$C$138,SMALL(IF(BD!$B$2:$B$138=$C$64,IF(BD!$B$2:$B$138=$C$64,ROW(BD!$B$2:$B$138)-ROW(BD!$B$2)+1),FALSE),ROWS(BD!$1:7)))))","v":""},{"$f":"IF($C$64=\"\",\"\",IF(ROWS(BD!$1:7)>COUNTIFS(BD!$B:$B,$C$64),\"\",INDEX(BD!$E$2:$E$138,SMALL(IF(BD!$B$2:$B$138=$C$64,IF(BD!$B$2:$B$138=$C$64,ROW(BD!$B$2:$B$138)-ROW(BD!$B$2)+1),FALSE),ROWS(BD!$1:7)))))","v":""},{"$f":"IF($C$64=\"\",\"\",IF(ROWS(BD!$1:7)>COUNTIFS(BD!$B:$B,$C$64),\"\",INDEX(BD!$F$2:$F$138,SMALL(IF(BD!$B$2:$B$138=$C$64,IF(BD!$B$2:$B$138=$C$64,ROW(BD!$B$2:$B$138)-ROW(BD!$B$2)+1),FALSE),ROWS(BD!$1:7)))))","v":""},{"$f":"IF($C$64=\"\",\"\",IF(ROWS(BD!$1:7)>COUNTIFS(BD!$B:$B,$C$64),\"\",INDEX(BD!$G$2:$G$138,SMALL(IF(BD!$B$2:$B$138=$C$64,IF(BD!$B$2:$B$138=$C$64,ROW(BD!$B$2:$B$138)-ROW(BD!$B$2)+1),FALSE),ROWS(BD!$1:7)))))","v":""},{"$f":"IF($C$64=\"\",\"\",IF(ROWS(BD!$1:7)>COUNTIFS(BD!$B:$B,$C$64),\"\",INDEX(BD!$H$2:$H$138,SMALL(IF(BD!$B$2:$B$138=$C$64,IF(BD!$B$2:$B$138=$C$64,ROW(BD!$B$2:$B$138)-ROW(BD!$B$2)+1),FALSE),ROWS(BD!$1:7)))))","v":""},null,{"$f":"IF($I$64=\"\",\"\",IF(ROWS(BD!$1:7)>COUNTIFS(BD!$B:$B,$I$64),\"\",INDEX(BD!$C$2:$C$138,SMALL(IF(BD!$B$2:$B$138=$I$64,IF(BD!$B$2:$B$138=$I$64,ROW(BD!$B$2:$B$138)-ROW(BD!$B$2)+1),FALSE),ROWS(BD!$1:7)))))","v":"21:00:00"},{"$f":"IF($I$64=\"\",\"\",IF(ROWS(BD!$1:7)>COUNTIFS(BD!$B:$B,$I$64),\"\",INDEX(BD!$E$2:$E$138,SMALL(IF(BD!$B$2:$B$138=$I$64,IF(BD!$B$2:$B$138=$I$64,ROW(BD!$B$2:$B$138)-ROW(BD!$B$2)+1),FALSE),ROWS(BD!$1:7)))))","v":"NextWave"},{"$f":"IF($I$64=\"\",\"\",IF(ROWS(BD!$1:7)>COUNTIFS(BD!$B:$B,$I$64),\"\",INDEX(BD!$F$2:$F$138,SMALL(IF(BD!$B$2:$B$138=$I$64,IF(BD!$B$2:$B$138=$I$64,ROW(BD!$B$2:$B$138)-ROW(BD!$B$2)+1),FALSE),ROWS(BD!$1:7)))))","v":"Antônio"},{"$f":"IF($I$64=\"\",\"\",IF(ROWS(BD!$1:7)>COUNTIFS(BD!$B:$B,$I$64),\"\",INDEX(BD!$G$2:$G$138,SMALL(IF(BD!$B$2:$B$138=$I$64,IF(BD!$B$2:$B$138=$I$64,ROW(BD!$B$2:$B$138)-ROW(BD!$B$2)+1),FALSE),ROWS(BD!$1:7)))))","v":"v1"},{"$f":"IF($I$64=\"\",\"\",IF(ROWS(BD!$1:7)>COUNTIFS(BD!$B:$B,$I$64),\"\",INDEX(BD!$H$2:$H$138,SMALL(IF(BD!$B$2:$B$138=$I$64,IF(BD!$B$2:$B$138=$I$64,ROW(BD!$B$2:$B$138)-ROW(BD!$B$2)+1),FALSE),ROWS(BD!$1:7)))))","v":"Realizada"},null,{"$f":"IF($O$64=\"\",\"\",IF(ROWS(BD!$1:7)>COUNTIFS(BD!$B:$B,$O$64),\"\",INDEX(BD!$C$2:$C$138,SMALL(IF(BD!$B$2:$B$138=$O$64,IF(BD!$B$2:$B$138=$O$64,ROW(BD!$B$2:$B$138)-ROW(BD!$B$2)+1),FALSE),ROWS(BD!$1:7)))))","v":"19:50:00"},{"$f":"IF($O$64=\"\",\"\",IF(ROWS(BD!$1:7)>COUNTIFS(BD!$B:$B,$O$64),\"\",INDEX(BD!$E$2:$E$138,SMALL(IF(BD!$B$2:$B$138=$O$64,IF(BD!$B$2:$B$138=$O$64,ROW(BD!$B$2:$B$138)-ROW(BD!$B$2)+1),FALSE),ROWS(BD!$1:7)))))","v":"BrainBox"},{"$f":"IF($O$64=\"\",\"\",IF(ROWS(BD!$1:7)>COUNTIFS(BD!$B:$B,$O$64),\"\",INDEX(BD!$F$2:$F$138,SMALL(IF(BD!$B$2:$B$138=$O$64,IF(BD!$B$2:$B$138=$O$64,ROW(BD!$B$2:$B$138)-ROW(BD!$B$2)+1),FALSE),ROWS(BD!$1:7)))))","v":"Antônio"},{"$f":"IF($O$64=\"\",\"\",IF(ROWS(BD!$1:7)>COUNTIFS(BD!$B:$B,$O$64),\"\",INDEX(BD!$G$2:$G$138,SMALL(IF(BD!$B$2:$B$138=$O$64,IF(BD!$B$2:$B$138=$O$64,ROW(BD!$B$2:$B$138)-ROW(BD!$B$2)+1),FALSE),ROWS(BD!$1:7)))))","v":"v1"},{"$f":"IF($O$64=\"\",\"\",IF(ROWS(BD!$1:7)>COUNTIFS(BD!$B:$B,$O$64),\"\",INDEX(BD!$H$2:$H$138,SMALL(IF(BD!$B$2:$B$138=$O$64,IF(BD!$B$2:$B$138=$O$64,ROW(BD!$B$2:$B$138)-ROW(BD!$B$2)+1),FALSE),ROWS(BD!$1:7)))))","v":"Realizada"},null,{"$f":"IF($U$64=\"\",\"\",IF(ROWS(BD!$1:7)>COUNTIFS(BD!$B:$B,$U$64),\"\",INDEX(BD!$C$2:$C$138,SMALL(IF(BD!$B$2:$B$138=$U$64,IF(BD!$B$2:$B$138=$U$64,ROW(BD!$B$2:$B$138)-ROW(BD!$B$2)+1),FALSE),ROWS(BD!$1:7)))))","v":""},{"$f":"IF($U$64=\"\",\"\",IF(ROWS(BD!$1:7)>COUNTIFS(BD!$B:$B,$U$64),\"\",INDEX(BD!$E$2:$E$138,SMALL(IF(BD!$B$2:$B$138=$U$64,IF(BD!$B$2:$B$138=$U$64,ROW(BD!$B$2:$B$138)-ROW(BD!$B$2)+1),FALSE),ROWS(BD!$1:7)))))","v":""},{"$f":"IF($U$64=\"\",\"\",IF(ROWS(BD!$1:7)>COUNTIFS(BD!$B:$B,$U$64),\"\",INDEX(BD!$F$2:$F$138,SMALL(IF(BD!$B$2:$B$138=$U$64,IF(BD!$B$2:$B$138=$U$64,ROW(BD!$B$2:$B$138)-ROW(BD!$B$2)+1),FALSE),ROWS(BD!$1:7)))))","v":""},{"$f":"IF($U$64=\"\",\"\",IF(ROWS(BD!$1:7)>COUNTIFS(BD!$B:$B,$U$64),\"\",INDEX(BD!$G$2:$G$138,SMALL(IF(BD!$B$2:$B$138=$U$64,IF(BD!$B$2:$B$138=$U$64,ROW(BD!$B$2:$B$138)-ROW(BD!$B$2)+1),FALSE),ROWS(BD!$1:7)))))","v":""},{"$f":"IF($U$64=\"\",\"\",IF(ROWS(BD!$1:7)>COUNTIFS(BD!$B:$B,$U$64),\"\",INDEX(BD!$H$2:$H$138,SMALL(IF(BD!$B$2:$B$138=$U$64,IF(BD!$B$2:$B$138=$U$64,ROW(BD!$B$2:$B$138)-ROW(BD!$B$2)+1),FALSE),ROWS(BD!$1:7)))))","v":""},null,{"$f":"IF($AA$64=\"\",\"\",IF(ROWS(BD!$1:7)>COUNTIFS(BD!$B:$B,$AA$64),\"\",INDEX(BD!$C$2:$C$138,SMALL(IF(BD!$B$2:$B$138=$AA$64,IF(BD!$B$2:$B$138=$AA$64,ROW(BD!$B$2:$B$138)-ROW(BD!$B$2)+1),FALSE),ROWS(BD!$1:7)))))","v":""},{"$f":"IF($AA$64=\"\",\"\",IF(ROWS(BD!$1:7)>COUNTIFS(BD!$B:$B,$AA$64),\"\",INDEX(BD!$E$2:$E$138,SMALL(IF(BD!$B$2:$B$138=$AA$64,IF(BD!$B$2:$B$138=$AA$64,ROW(BD!$B$2:$B$138)-ROW(BD!$B$2)+1),FALSE),ROWS(BD!$1:7)))))","v":""},{"$f":"IF($AA$64=\"\",\"\",IF(ROWS(BD!$1:7)>COUNTIFS(BD!$B:$B,$AA$64),\"\",INDEX(BD!$F$2:$F$138,SMALL(IF(BD!$B$2:$B$138=$AA$64,IF(BD!$B$2:$B$138=$AA$64,ROW(BD!$B$2:$B$138)-ROW(BD!$B$2)+1),FALSE),ROWS(BD!$1:7)))))","v":""},{"$f":"IF($AA$64=\"\",\"\",IF(ROWS(BD!$1:7)>COUNTIFS(BD!$B:$B,$AA$64),\"\",INDEX(BD!$G$2:$G$138,SMALL(IF(BD!$B$2:$B$138=$AA$64,IF(BD!$B$2:$B$138=$AA$64,ROW(BD!$B$2:$B$138)-ROW(BD!$B$2)+1),FALSE),ROWS(BD!$1:7)))))","v":""},{"$f":"IF($AA$64=\"\",\"\",IF(ROWS(BD!$1:7)>COUNTIFS(BD!$B:$B,$AA$64),\"\",INDEX(BD!$H$2:$H$138,SMALL(IF(BD!$B$2:$B$138=$AA$64,IF(BD!$B$2:$B$138=$AA$64,ROW(BD!$B$2:$B$138)-ROW(BD!$B$2)+1),FALSE),ROWS(BD!$1:7)))))","v":""},null,{"$f":"IF($AG$64=\"\",\"\",IF(ROWS(BD!$1:7)>COUNTIFS(BD!$B:$B,$AG$64),\"\",INDEX(BD!$C$2:$C$138,SMALL(IF(BD!$B$2:$B$138=$AG$64,IF(BD!$B$2:$B$138=$AG$64,ROW(BD!$B$2:$B$138)-ROW(BD!$B$2)+1),FALSE),ROWS(BD!$1:7)))))","v":""},{"$f":"IF($AG$64=\"\",\"\",IF(ROWS(BD!$1:7)>COUNTIFS(BD!$B:$B,$AG$64),\"\",INDEX(BD!$E$2:$E$138,SMALL(IF(BD!$B$2:$B$138=$AG$64,IF(BD!$B$2:$B$138=$AG$64,ROW(BD!$B$2:$B$138)-ROW(BD!$B$2)+1),FALSE),ROWS(BD!$1:7)))))","v":""},{"$f":"IF($AG$64=\"\",\"\",IF(ROWS(BD!$1:7)>COUNTIFS(BD!$B:$B,$AG$64),\"\",INDEX(BD!$F$2:$F$138,SMALL(IF(BD!$B$2:$B$138=$AG$64,IF(BD!$B$2:$B$138=$AG$64,ROW(BD!$B$2:$B$138)-ROW(BD!$B$2)+1),FALSE),ROWS(BD!$1:7)))))","v":""},{"$f":"IF($AG$64=\"\",\"\",IF(ROWS(BD!$1:7)>COUNTIFS(BD!$B:$B,$AG$64),\"\",INDEX(BD!$G$2:$G$138,SMALL(IF(BD!$B$2:$B$138=$AG$64,IF(BD!$B$2:$B$138=$AG$64,ROW(BD!$B$2:$B$138)-ROW(BD!$B$2)+1),FALSE),ROWS(BD!$1:7)))))","v":""},{"$f":"IF($AG$64=\"\",\"\",IF(ROWS(BD!$1:7)>COUNTIFS(BD!$B:$B,$AG$64),\"\",INDEX(BD!$H$2:$H$138,SMALL(IF(BD!$B$2:$B$138=$AG$64,IF(BD!$B$2:$B$138=$AG$64,ROW(BD!$B$2:$B$138)-ROW(BD!$B$2)+1),FALSE),ROWS(BD!$1:7)))))","v":""},null,{"$f":"IF($AM$64=\"\",\"\",IF(ROWS(BD!$1:7)>COUNTIFS(BD!$B:$B,$AM$64),\"\",INDEX(BD!$C$2:$C$138,SMALL(IF(BD!$B$2:$B$138=$AM$64,IF(BD!$B$2:$B$138=$AM$64,ROW(BD!$B$2:$B$138)-ROW(BD!$B$2)+1),FALSE),ROWS(BD!$1:7)))))","v":""},{"$f":"IF($AM$64=\"\",\"\",IF(ROWS(BD!$1:7)>COUNTIFS(BD!$B:$B,$AM$64),\"\",INDEX(BD!$E$2:$E$138,SMALL(IF(BD!$B$2:$B$138=$AM$64,IF(BD!$B$2:$B$138=$AM$64,ROW(BD!$B$2:$B$138)-ROW(BD!$B$2)+1),FALSE),ROWS(BD!$1:7)))))","v":""},{"$f":"IF($AM$64=\"\",\"\",IF(ROWS(BD!$1:7)>COUNTIFS(BD!$B:$B,$AM$64),\"\",INDEX(BD!$F$2:$F$138,SMALL(IF(BD!$B$2:$B$138=$AM$64,IF(BD!$B$2:$B$138=$AM$64,ROW(BD!$B$2:$B$138)-ROW(BD!$B$2)+1),FALSE),ROWS(BD!$1:7)))))","v":""},{"$f":"IF($AM$64=\"\",\"\",IF(ROWS(BD!$1:7)>COUNTIFS(BD!$B:$B,$AM$64),\"\",INDEX(BD!$G$2:$G$138,SMALL(IF(BD!$B$2:$B$138=$AM$64,IF(BD!$B$2:$B$138=$AM$64,ROW(BD!$B$2:$B$138)-ROW(BD!$B$2)+1),FALSE),ROWS(BD!$1:7)))))","v":""},{"$f":"IF($AM$64=\"\",\"\",IF(ROWS(BD!$1:7)>COUNTIFS(BD!$B:$B,$AM$64),\"\",INDEX(BD!$H$2:$H$138,SMALL(IF(BD!$B$2:$B$138=$AM$64,IF(BD!$B$2:$B$138=$AM$64,ROW(BD!$B$2:$B$138)-ROW(BD!$B$2)+1),FALSE),ROWS(BD!$1:7)))))","v":""}]
[null,null,{"$f":"IF($C$64=\"\",\"\",IF(ROWS(BD!$1:8)>COUNTIFS(BD!$B:$B,$C$64),\"\",INDEX(BD!$C$2:$C$138,SMALL(IF(BD!$B$2:$B$138=$C$64,IF(BD!$B$2:$B$138=$C$64,ROW(BD!$B$2:$B$138)-ROW(BD!$B$2)+1),FALSE),ROWS(BD!$1:8)))))","v":""},{"$f":"IF($C$64=\"\",\"\",IF(ROWS(BD!$1:8)>COUNTIFS(BD!$B:$B,$C$64),\"\",INDEX(BD!$E$2:$E$138,SMALL(IF(BD!$B$2:$B$138=$C$64,IF(BD!$B$2:$B$138=$C$64,ROW(BD!$B$2:$B$138)-ROW(BD!$B$2)+1),FALSE),ROWS(BD!$1:8)))))","v":""},{"$f":"IF($C$64=\"\",\"\",IF(ROWS(BD!$1:8)>COUNTIFS(BD!$B:$B,$C$64),\"\",INDEX(BD!$F$2:$F$138,SMALL(IF(BD!$B$2:$B$138=$C$64,IF(BD!$B$2:$B$138=$C$64,ROW(BD!$B$2:$B$138)-ROW(BD!$B$2)+1),FALSE),ROWS(BD!$1:8)))))","v":""},{"$f":"IF($C$64=\"\",\"\",IF(ROWS(BD!$1:8)>COUNTIFS(BD!$B:$B,$C$64),\"\",INDEX(BD!$G$2:$G$138,SMALL(IF(BD!$B$2:$B$138=$C$64,IF(BD!$B$2:$B$138=$C$64,ROW(BD!$B$2:$B$138)-ROW(BD!$B$2)+1),FALSE),ROWS(BD!$1:8)))))","v":""},{"$f":"IF($C$64=\"\",\"\",IF(ROWS(BD!$1:8)>COUNTIFS(BD!$B:$B,$C$64),\"\",INDEX(BD!$H$2:$H$138,SMALL(IF(BD!$B$2:$B$138=$C$64,IF(BD!$B$2:$B$138=$C$64,ROW(BD!$B$2:$B$138)-ROW(BD!$B$2)+1),FALSE),ROWS(BD!$1:8)))))","v":""},null,{"$f":"IF($I$64=\"\",\"\",IF(ROWS(BD!$1:8)>COUNTIFS(BD!$B:$B,$I$64),\"\",INDEX(BD!$C$2:$C$138,SMALL(IF(BD!$B$2:$B$138=$I$64,IF(BD!$B$2:$B$138=$I$64,ROW(BD!$B$2:$B$138)-ROW(BD!$B$2)+1),FALSE),ROWS(BD!$1:8)))))","v":""},{"$f":"IF($I$64=\"\",\"\",IF(ROWS(BD!$1:8)>COUNTIFS(BD!$B:$B,$I$64),\"\",INDEX(BD!$E$2:$E$138,SMALL(IF(BD!$B$2:$B$138=$I$64,IF(BD!$B$2:$B$138=$I$64,ROW(BD!$B$2:$B$138)-ROW(BD!$B$2)+1),FALSE),ROWS(BD!$1:8)))))","v":""},{"$f":"IF($I$64=\"\",\"\",IF(ROWS(BD!$1:8)>COUNTIFS(BD!$B:$B,$I$64),\"\",INDEX(BD!$F$2:$F$138,SMALL(IF(BD!$B$2:$B$138=$I$64,IF(BD!$B$2:$B$138=$I$64,ROW(BD!$B$2:$B$138)-ROW(BD!$B$2)+1),FALSE),ROWS(BD!$1:8)))))","v":""},{"$f":"IF($I$64=\"\",\"\",IF(ROWS(BD!$1:8)>COUNTIFS(BD!$B:$B,$I$64),\"\",INDEX(BD!$G$2:$G$138,SMALL(IF(BD!$B$2:$B$138=$I$64,IF(BD!$B$2:$B$138=$I$64,ROW(BD!$B$2:$B$138)-ROW(BD!$B$2)+1),FALSE),ROWS(BD!$1:8)))))","v":""},{"$f":"IF($I$64=\"\",\"\",IF(ROWS(BD!$1:8)>COUNTIFS(BD!$B:$B,$I$64),\"\",INDEX(BD!$H$2:$H$138,SMALL(IF(BD!$B$2:$B$138=$I$64,IF(BD!$B$2:$B$138=$I$64,ROW(BD!$B$2:$B$138)-ROW(BD!$B$2)+1),FALSE),ROWS(BD!$1:8)))))","v":""},null,{"$f":"IF($O$64=\"\",\"\",IF(ROWS(BD!$1:8)>COUNTIFS(BD!$B:$B,$O$64),\"\",INDEX(BD!$C$2:$C$138,SMALL(IF(BD!$B$2:$B$138=$O$64,IF(BD!$B$2:$B$138=$O$64,ROW(BD!$B$2:$B$138)-ROW(BD!$B$2)+1),FALSE),ROWS(BD!$1:8)))))","v":"21:10:00"},{"$f":"IF($O$64=\"\",\"\",IF(ROWS(BD!$1:8)>COUNTIFS(BD!$B:$B,$O$64),\"\",INDEX(BD!$E$2:$E$138,SMALL(IF(BD!$B$2:$B$138=$O$64,IF(BD!$B$2:$B$138=$O$64,ROW(BD!$B$2:$B$138)-ROW(BD!$B$2)+1),FALSE),ROWS(BD!$1:8)))))","v":"Innovision"},{"$f":"IF($O$64=\"\",\"\",IF(ROWS(BD!$1:8)>COUNTIFS(BD!$B:$B,$O$64),\"\",INDEX(BD!$F$2:$F$138,SMALL(IF(BD!$B$2:$B$138=$O$64,IF(BD!$B$2:$B$138=$O$64,ROW(BD!$B$2:$B$138)-ROW(BD!$B$2)+1),FALSE),ROWS(BD!$1:8)))))","v":"João"},{"$f":"IF($O$64=\"\",\"\",IF(ROWS(BD!$1:8)>COUNTIFS(BD!$B:$B,$O$64),\"\",INDEX(BD!$G$2:$G$138,SMALL(IF(BD!$B$2:$B$138=$O$64,IF(BD!$B$2:$B$138=$O$64,ROW(BD!$B$2:$B$138)-ROW(BD!$B$2)+1),FALSE),ROWS(BD!$1:8)))))","v":"v1"},{"$f":"IF($O$64=\"\",\"\",IF(ROWS(BD!$1:8)>COUNTIFS(BD!$B:$B,$O$64),\"\",INDEX(BD!$H$2:$H$138,SMALL(IF(BD!$B$2:$B$138=$O$64,IF(BD!$B$2:$B$138=$O$64,ROW(BD!$B$2:$B$138)-ROW(BD!$B$2)+1),FALSE),ROWS(BD!$1:8)))))","v":"Realizada"},null,{"$f":"IF($U$64=\"\",\"\",IF(ROWS(BD!$1:8)>COUNTIFS(BD!$B:$B,$U$64),\"\",INDEX(BD!$C$2:$C$138,SMALL(IF(BD!$B$2:$B$138=$U$64,IF(BD!$B$2:$B$138=$U$64,ROW(BD!$B$2:$B$138)-ROW(BD!$B$2)+1),FALSE),ROWS(BD!$1:8)))))","v":""},{"$f":"IF($U$64=\"\",\"\",IF(ROWS(BD!$1:8)>COUNTIFS(BD!$B:$B,$U$64),\"\",INDEX(BD!$E$2:$E$138,SMALL(IF(BD!$B$2:$B$138=$U$64,IF(BD!$B$2:$B$138=$U$64,ROW(BD!$B$2:$B$138)-ROW(BD!$B$2)+1),FALSE),ROWS(BD!$1:8)))))","v":""},{"$f":"IF($U$64=\"\",\"\",IF(ROWS(BD!$1:8)>COUNTIFS(BD!$B:$B,$U$64),\"\",INDEX(BD!$F$2:$F$138,SMALL(IF(BD!$B$2:$B$138=$U$64,IF(BD!$B$2:$B$138=$U$64,ROW(BD!$B$2:$B$138)-ROW(BD!$B$2)+1),FALSE),ROWS(BD!$1:8)))))","v":""},{"$f":"IF($U$64=\"\",\"\",IF(ROWS(BD!$1:8)>COUNTIFS(BD!$B:$B,$U$64),\"\",INDEX(BD!$G$2:$G$138,SMALL(IF(BD!$B$2:$B$138=$U$64,IF(BD!$B$2:$B$138=$U$64,ROW(BD!$B$2:$B$138)-ROW(BD!$B$2)+1),FALSE),ROWS(BD!$1:8)))))","v":""},{"$f":"IF($U$64=\"\",\"\",IF(ROWS(BD!$1:8)>COUNTIFS(BD!$B:$B,$U$64),\"\",INDEX(BD!$H$2:$H$138,SMALL(IF(BD!$B$2:$B$138=$U$64,IF(BD!$B$2:$B$138=$U$64,ROW(BD!$B$2:$B$138)-ROW(BD!$B$2)+1),FALSE),ROWS(BD!$1:8)))))","v":""},null,{"$f":"IF($AA$64=\"\",\"\",IF(ROWS(BD!$1:8)>COUNTIFS(BD!$B:$B,$AA$64),\"\",INDEX(BD!$C$2:$C$138,SMALL(IF(BD!$B$2:$B$138=$AA$64,IF(BD!$B$2:$B$138=$AA$64,ROW(BD!$B$2:$B$138)-ROW(BD!$B$2)+1),FALSE),ROWS(BD!$1:8)))))","v":""},{"$f":"IF($AA$64=\"\",\"\",IF(ROWS(BD!$1:8)>COUNTIFS(BD!$B:$B,$AA$64),\"\",INDEX(BD!$E$2:$E$138,SMALL(IF(BD!$B$2:$B$138=$AA$64,IF(BD!$B$2:$B$138=$AA$64,ROW(BD!$B$2:$B$138)-ROW(BD!$B$2)+1),FALSE),ROWS(BD!$1:8)))))","v":""},{"$f":"IF($AA$64=\"\",\"\",IF(ROWS(BD!$1:8)>COUNTIFS(BD!$B:$B,$AA$64),\"\",INDEX(BD!$F$2:$F$138,SMALL(IF(BD!$B$2:$B$138=$AA$64,IF(BD!$B$2:$B$138=$AA$64,ROW(BD!$B$2:$B$138)-ROW(BD!$B$2)+1),FALSE),ROWS(BD!$1:8)))))","v":""},{"$f":"IF($AA$64=\"\",\"\",IF(ROWS(BD!$1:8)>COUNTIFS(BD!$B:$B,$AA$64),\"\",INDEX(BD!$G$2:$G$138,SMALL(IF(BD!$B$2:$B$138=$AA$64,IF(BD!$B$2:$B$138=$AA$64,ROW(BD!$B$2:$B$138)-ROW(BD!$B$2)+1),FALSE),ROWS(BD!$1:8)))))","v":""},{"$f":"IF($AA$64=\"\",\"\",IF(ROWS(BD!$1:8)>COUNTIFS(BD!$B:$B,$AA$64),\"\",INDEX(BD!$H$2:$H$138,SMALL(IF(BD!$B$2:$B$138=$AA$64,IF(BD!$B$2:$B$138=$AA$64,ROW(BD!$B$2:$B$138)-ROW(BD!$B$2)+1),FALSE),ROWS(BD!$1:8)))))","v":""},null,{"$f":"IF($AG$64=\"\",\"\",IF(ROWS(BD!$1:8)>COUNTIFS(BD!$B:$B,$AG$64),\"\",INDEX(BD!$C$2:$C$138,SMALL(IF(BD!$B$2:$B$138=$AG$64,IF(BD!$B$2:$B$138=$AG$64,ROW(BD!$B$2:$B$138)-ROW(BD!$B$2)+1),FALSE),ROWS(BD!$1:8)))))","v":""},{"$f":"IF($AG$64=\"\",\"\",IF(ROWS(BD!$1:8)>COUNTIFS(BD!$B:$B,$AG$64),\"\",INDEX(BD!$E$2:$E$138,SMALL(IF(BD!$B$2:$B$138=$AG$64,IF(BD!$B$2:$B$138=$AG$64,ROW(BD!$B$2:$B$138)-ROW(BD!$B$2)+1),FALSE),ROWS(BD!$1:8)))))","v":""},{"$f":"IF($AG$64=\"\",\"\",IF(ROWS(BD!$1:8)>COUNTIFS(BD!$B:$B,$AG$64),\"\",INDEX(BD!$F$2:$F$138,SMALL(IF(BD!$B$2:$B$138=$AG$64,IF(BD!$B$2:$B$138=$AG$64,ROW(BD!$B$2:$B$138)-ROW(BD!$B$2)+1),FALSE),ROWS(BD!$1:8)))))","v":""},{"$f":"IF($AG$64=\"\",\"\",IF(ROWS(BD!$1:8)>COUNTIFS(BD!$B:$B,$AG$64),\"\",INDEX(BD!$G$2:$G$138,SMALL(IF(BD!$B$2:$B$138=$AG$64,IF(BD!$B$2:$B$138=$AG$64,ROW(BD!$B$2:$B$138)-ROW(BD!$B$2)+1),FALSE),ROWS(BD!$1:8)))))","v":""},{"$f":"IF($AG$64=\"\",\"\",IF(ROWS(BD!$1:8)>COUNTIFS(BD!$B:$B,$AG$64),\"\",INDEX(BD!$H$2:$H$138,SMALL(IF(BD!$B$2:$B$138=$AG$64,IF(BD!$B$2:$B$138=$AG$64,ROW(BD!$B$2:$B$138)-ROW(BD!$B$2)+1),FALSE),ROWS(BD!$1:8)))))","v":""},null,{"$f":"IF($AM$64=\"\",\"\",IF(ROWS(BD!$1:8)>COUNTIFS(BD!$B:$B,$AM$64),\"\",INDEX(BD!$C$2:$C$138,SMALL(IF(BD!$B$2:$B$138=$AM$64,IF(BD!$B$2:$B$138=$AM$64,ROW(BD!$B$2:$B$138)-ROW(BD!$B$2)+1),FALSE),ROWS(BD!$1:8)))))","v":""},{"$f":"IF($AM$64=\"\",\"\",IF(ROWS(BD!$1:8)>COUNTIFS(BD!$B:$B,$AM$64),\"\",INDEX(BD!$E$2:$E$138,SMALL(IF(BD!$B$2:$B$138=$AM$64,IF(BD!$B$2:$B$138=$AM$64,ROW(BD!$B$2:$B$138)-ROW(BD!$B$2)+1),FALSE),ROWS(BD!$1:8)))))","v":""},{"$f":"IF($AM$64=\"\",\"\",IF(ROWS(BD!$1:8)>COUNTIFS(BD!$B:$B,$AM$64),\"\",INDEX(BD!$F$2:$F$138,SMALL(IF(BD!$B$2:$B$138=$AM$64,IF(BD!$B$2:$B$138=$AM$64,ROW(BD!$B$2:$B$138)-ROW(BD!$B$2)+1),FALSE),ROWS(BD!$1:8)))))","v":""},{"$f":"IF($AM$64=\"\",\"\",IF(ROWS(BD!$1:8)>COUNTIFS(BD!$B:$B,$AM$64),\"\",INDEX(BD!$G$2:$G$138,SMALL(IF(BD!$B$2:$B$138=$AM$64,IF(BD!$B$2:$B$138=$AM$64,ROW(BD!$B$2:$B$138)-ROW(BD!$B$2)+1),FALSE),ROWS(BD!$1:8)))))","v":""},{"$f":"IF($AM$64=\"\",\"\",IF(ROWS(BD!$1:8)>COUNTIFS(BD!$B:$B,$AM$64),\"\",INDEX(BD!$H$2:$H$138,SMALL(IF(BD!$B$2:$B$138=$AM$64,IF(BD!$B$2:$B$138=$AM$64,ROW(BD!$B$2:$B$138)-ROW(BD!$B$2)+1),FALSE),ROWS(BD!$1:8)))))","v":""}]
[null,null,{"$f":"IF($C$64=\"\",\"\",IF(ROWS(BD!$1:9)>COUNTIFS(BD!$B:$B,$C$64),\"\",INDEX(BD!$C$2:$C$138,SMALL(IF(BD!$B$2:$B$138=$C$64,IF(BD!$B$2:$B$138=$C$64,ROW(BD!$B$2:$B$138)-ROW(BD!$B$2)+1),FALSE),ROWS(BD!$1:9)))))","v":""},{"$f":"IF($C$64=\"\",\"\",IF(ROWS(BD!$1:9)>COUNTIFS(BD!$B:$B,$C$64),\"\",INDEX(BD!$E$2:$E$138,SMALL(IF(BD!$B$2:$B$138=$C$64,IF(BD!$B$2:$B$138=$C$64,ROW(BD!$B$2:$B$138)-ROW(BD!$B$2)+1),FALSE),ROWS(BD!$1:9)))))","v":""},{"$f":"IF($C$64=\"\",\"\",IF(ROWS(BD!$1:9)>COUNTIFS(BD!$B:$B,$C$64),\"\",INDEX(BD!$F$2:$F$138,SMALL(IF(BD!$B$2:$B$138=$C$64,IF(BD!$B$2:$B$138=$C$64,ROW(BD!$B$2:$B$138)-ROW(BD!$B$2)+1),FALSE),ROWS(BD!$1:9)))))","v":""},{"$f":"IF($C$64=\"\",\"\",IF(ROWS(BD!$1:9)>COUNTIFS(BD!$B:$B,$C$64),\"\",INDEX(BD!$G$2:$G$138,SMALL(IF(BD!$B$2:$B$138=$C$64,IF(BD!$B$2:$B$138=$C$64,ROW(BD!$B$2:$B$138)-ROW(BD!$B$2)+1),FALSE),ROWS(BD!$1:9)))))","v":""},{"$f":"IF($C$64=\"\",\"\",IF(ROWS(BD!$1:9)>COUNTIFS(BD!$B:$B,$C$64),\"\",INDEX(BD!$H$2:$H$138,SMALL(IF(BD!$B$2:$B$138=$C$64,IF(BD!$B$2:$B$138=$C$64,ROW(BD!$B$2:$B$138)-ROW(BD!$B$2)+1),FALSE),ROWS(BD!$1:9)))))","v":""},null,{"$f":"IF($I$64=\"\",\"\",IF(ROWS(BD!$1:9)>COUNTIFS(BD!$B:$B,$I$64),\"\",INDEX(BD!$C$2:$C$138,SMALL(IF(BD!$B$2:$B$138=$I$64,IF(BD!$B$2:$B$138=$I$64,ROW(BD!$B$2:$B$138)-ROW(BD!$B$2)+1),FALSE),ROWS(BD!$1:9)))))","v":""},{"$f":"IF($I$64=\"\",\"\",IF(ROWS(BD!$1:9)>COUNTIFS(BD!$B:$B,$I$64),\"\",INDEX(BD!$E$2:$E$138,SMALL(IF(BD!$B$2:$B$138=$I$64,IF(BD!$B$2:$B$138=$I$64,ROW(BD!$B$2:$B$138)-ROW(BD!$B$2)+1),FALSE),ROWS(BD!$1:9)))))","v":""},{"$f":"IF($I$64=\"\",\"\",IF(ROWS(BD!$1:9)>COUNTIFS(BD!$B:$B,$I$64),\"\",INDEX(BD!$F$2:$F$138,SMALL(IF(BD!$B$2:$B$138=$I$64,IF(BD!$B$2:$B$138=$I$64,ROW(BD!$B$2:$B$138)-ROW(BD!$B$2)+1),FALSE),ROWS(BD!$1:9)))))","v":""},{"$f":"IF($I$64=\"\",\"\",IF(ROWS(BD!$1:9)>COUNTIFS(BD!$B:$B,$I$64),\"\",INDEX(BD!$G$2:$G$138,SMALL(IF(BD!$B$2:$B$138=$I$64,IF(BD!$B$2:$B$138=$I$64,ROW(BD!$B$2:$B$138)-ROW(BD!$B$2)+1),FALSE),ROWS(BD!$1:9)))))","v":""},{"$f":"IF($I$64=\"\",\"\",IF(ROWS(BD!$1:9)>COUNTIFS(BD!$B:$B,$I$64),\"\",INDEX(BD!$H$2:$H$138,SMALL(IF(BD!$B$2:$B$138=$I$64,IF(BD!$B$2:$B$138=$I$64,ROW(BD!$B$2:$B$138)-ROW(BD!$B$2)+1),FALSE),ROWS(BD!$1:9)))))","v":""},null,{"$f":"IF($O$64=\"\",\"\",IF(ROWS(BD!$1:9)>COUNTIFS(BD!$B:$B,$O$64),\"\",INDEX(BD!$C$2:$C$138,SMALL(IF(BD!$B$2:$B$138=$O$64,IF(BD!$B$2:$B$138=$O$64,ROW(BD!$B$2:$B$138)-ROW(BD!$B$2)+1),FALSE),ROWS(BD!$1:9)))))","v":"19:50:00"},{"$f":"IF($O$64=\"\",\"\",IF(ROWS(BD!$1:9)>COUNTIFS(BD!$B:$B,$O$64),\"\",INDEX(BD!$E$2:$E$138,SMALL(IF(BD!$B$2:$B$138=$O$64,IF(BD!$B$2:$B$138=$O$64,ROW(BD!$B$2:$B$138)-ROW(BD!$B$2)+1),FALSE),ROWS(BD!$1:9)))))","v":"MindSparkle"},{"$f":"IF($O$64=\"\",\"\",IF(ROWS(BD!$1:9)>COUNTIFS(BD!$B:$B,$O$64),\"\",INDEX(BD!$F$2:$F$138,SMALL(IF(BD!$B$2:$B$138=$O$64,IF(BD!$B$2:$B$138=$O$64,ROW(BD!$B$2:$B$138)-ROW(BD!$B$2)+1),FALSE),ROWS(BD!$1:9)))))","v":"José"},{"$f":"IF($O$64=\"\",\"\",IF(ROWS(BD!$1:9)>COUNTIFS(BD!$B:$B,$O$64),\"\",INDEX(BD!$G$2:$G$138,SMALL(IF(BD!$B$2:$B$138=$O$64,IF(BD!$B$2:$B$138=$O$64,ROW(BD!$B$2:$B$138)-ROW(BD!$B$2)+1),FALSE),ROWS(BD!$1:9)))))","v":"v1"},{"$f":"IF($O$64=\"\",\"\",IF(ROWS(BD!$1:9)>COUNTIFS(BD!$B:$B,$O$64),\"\",INDEX(BD!$H$2:$H$138,SMALL(IF(BD!$B$2:$B$138=$O$64,IF(BD!$B$2:$B$138=$O$64,ROW(BD!$B$2:$B$138)-ROW(BD!$B$2)+1),FALSE),ROWS(BD!$1:9)))))","v":"Realizada"},null,{"$f":"IF($U$64=\"\",\"\",IF(ROWS(BD!$1:9)>COUNTIFS(BD!$B:$B,$U$64),\"\",INDEX(BD!$C$2:$C$138,SMALL(IF(BD!$B$2:$B$138=$U$64,IF(BD!$B$2:$B$138=$U$64,ROW(BD!$B$2:$B$138)-ROW(BD!$B$2)+1),FALSE),ROWS(BD!$1:9)))))","v":""},{"$f":"IF($U$64=\"\",\"\",IF(ROWS(BD!$1:9)>COUNTIFS(BD!$B:$B,$U$64),\"\",INDEX(BD!$E$2:$E$138,SMALL(IF(BD!$B$2:$B$138=$U$64,IF(BD!$B$2:$B$138=$U$64,ROW(BD!$B$2:$B$138)-ROW(BD!$B$2)+1),FALSE),ROWS(BD!$1:9)))))","v":""},{"$f":"IF($U$64=\"\",\"\",IF(ROWS(BD!$1:9)>COUNTIFS(BD!$B:$B,$U$64),\"\",INDEX(BD!$F$2:$F$138,SMALL(IF(BD!$B$2:$B$138=$U$64,IF(BD!$B$2:$B$138=$U$64,ROW(BD!$B$2:$B$138)-ROW(BD!$B$2)+1),FALSE),ROWS(BD!$1:9)))))","v":""},{"$f":"IF($U$64=\"\",\"\",IF(ROWS(BD!$1:9)>COUNTIFS(BD!$B:$B,$U$64),\"\",INDEX(BD!$G$2:$G$138,SMALL(IF(BD!$B$2:$B$138=$U$64,IF(BD!$B$2:$B$138=$U$64,ROW(BD!$B$2:$B$138)-ROW(BD!$B$2)+1),FALSE),ROWS(BD!$1:9)))))","v":""},{"$f":"IF($U$64=\"\",\"\",IF(ROWS(BD!$1:9)>COUNTIFS(BD!$B:$B,$U$64),\"\",INDEX(BD!$H$2:$H$138,SMALL(IF(BD!$B$2:$B$138=$U$64,IF(BD!$B$2:$B$138=$U$64,ROW(BD!$B$2:$B$138)-ROW(BD!$B$2)+1),FALSE),ROWS(BD!$1:9)))))","v":""},null,{"$f":"IF($AA$64=\"\",\"\",IF(ROWS(BD!$1:9)>COUNTIFS(BD!$B:$B,$AA$64),\"\",INDEX(BD!$C$2:$C$138,SMALL(IF(BD!$B$2:$B$138=$AA$64,IF(BD!$B$2:$B$138=$AA$64,ROW(BD!$B$2:$B$138)-ROW(BD!$B$2)+1),FALSE),ROWS(BD!$1:9)))))","v":""},{"$f":"IF($AA$64=\"\",\"\",IF(ROWS(BD!$1:9)>COUNTIFS(BD!$B:$B,$AA$64),\"\",INDEX(BD!$E$2:$E$138,SMALL(IF(BD!$B$2:$B$138=$AA$64,IF(BD!$B$2:$B$138=$AA$64,ROW(BD!$B$2:$B$138)-ROW(BD!$B$2)+1),FALSE),ROWS(BD!$1:9)))))","v":""},{"$f":"IF($AA$64=\"\",\"\",IF(ROWS(BD!$1:9)>COUNTIFS(BD!$B:$B,$AA$64),\"\",INDEX(BD!$F$2:$F$138,SMALL(IF(BD!$B$2:$B$138=$AA$64,IF(BD!$B$2:$B$138=$AA$64,ROW(BD!$B$2:$B$138)-ROW(BD!$B$2)+1),FALSE),ROWS(BD!$1:9)))))","v":""},{"$f":"IF($AA$64=\"\",\"\",IF(ROWS(BD!$1:9)>COUNTIFS(BD!$B:$B,$AA$64),\"\",INDEX(BD!$G$2:$G$138,SMALL(IF(BD!$B$2:$B$138=$AA$64,IF(BD!$B$2:$B$138=$AA$64,ROW(BD!$B$2:$B$138)-ROW(BD!$B$2)+1),FALSE),ROWS(BD!$1:9)))))","v":""},{"$f":"IF($AA$64=\"\",\"\",IF(ROWS(BD!$1:9)>COUNTIFS(BD!$B:$B,$AA$64),\"\",INDEX(BD!$H$2:$H$138,SMALL(IF(BD!$B$2:$B$138=$AA$64,IF(BD!$B$2:$B$138=$AA$64,ROW(BD!$B$2:$B$138)-ROW(BD!$B$2)+1),FALSE),ROWS(BD!$1:9)))))","v":""},null,{"$f":"IF($AG$64=\"\",\"\",IF(ROWS(BD!$1:9)>COUNTIFS(BD!$B:$B,$AG$64),\"\",INDEX(BD!$C$2:$C$138,SMALL(IF(BD!$B$2:$B$138=$AG$64,IF(BD!$B$2:$B$138=$AG$64,ROW(BD!$B$2:$B$138)-ROW(BD!$B$2)+1),FALSE),ROWS(BD!$1:9)))))","v":""},{"$f":"IF($AG$64=\"\",\"\",IF(ROWS(BD!$1:9)>COUNTIFS(BD!$B:$B,$AG$64),\"\",INDEX(BD!$E$2:$E$138,SMALL(IF(BD!$B$2:$B$138=$AG$64,IF(BD!$B$2:$B$138=$AG$64,ROW(BD!$B$2:$B$138)-ROW(BD!$B$2)+1),FALSE),ROWS(BD!$1:9)))))","v":""},{"$f":"IF($AG$64=\"\",\"\",IF(ROWS(BD!$1:9)>COUNTIFS(BD!$B:$B,$AG$64),\"\",INDEX(BD!$F$2:$F$138,SMALL(IF(BD!$B$2:$B$138=$AG$64,IF(BD!$B$2:$B$138=$AG$64,ROW(BD!$B$2:$B$138)-ROW(BD!$B$2)+1),FALSE),ROWS(BD!$1:9)))))","v":""},{"$f":"IF($AG$64=\"\",\"\",IF(ROWS(BD!$1:9)>COUNTIFS(BD!$B:$B,$AG$64),\"\",INDEX(BD!$G$2:$G$138,SMALL(IF(BD!$B$2:$B$138=$AG$64,IF(BD!$B$2:$B$138=$AG$64,ROW(BD!$B$2:$B$138)-ROW(BD!$B$2)+1),FALSE),ROWS(BD!$1:9)))))","v":""},{"$f":"IF($AG$64=\"\",\"\",IF(ROWS(BD!$1:9)>COUNTIFS(BD!$B:$B,$AG$64),\"\",INDEX(BD!$H$2:$H$138,SMALL(IF(BD!$B$2:$B$138=$AG$64,IF(BD!$B$2:$B$138=$AG$64,ROW(BD!$B$2:$B$138)-ROW(BD!$B$2)+1),FALSE),ROWS(BD!$1:9)))))","v":""},null,{"$f":"IF($AM$64=\"\",\"\",IF(ROWS(BD!$1:9)>COUNTIFS(BD!$B:$B,$AM$64),\"\",INDEX(BD!$C$2:$C$138,SMALL(IF(BD!$B$2:$B$138=$AM$64,IF(BD!$B$2:$B$138=$AM$64,ROW(BD!$B$2:$B$138)-ROW(BD!$B$2)+1),FALSE),ROWS(BD!$1:9)))))","v":""},{"$f":"IF($AM$64=\"\",\"\",IF(ROWS(BD!$1:9)>COUNTIFS(BD!$B:$B,$AM$64),\"\",INDEX(BD!$E$2:$E$138,SMALL(IF(BD!$B$2:$B$138=$AM$64,IF(BD!$B$2:$B$138=$AM$64,ROW(BD!$B$2:$B$138)-ROW(BD!$B$2)+1),FALSE),ROWS(BD!$1:9)))))","v":""},{"$f":"IF($AM$64=\"\",\"\",IF(ROWS(BD!$1:9)>COUNTIFS(BD!$B:$B,$AM$64),\"\",INDEX(BD!$F$2:$F$138,SMALL(IF(BD!$B$2:$B$138=$AM$64,IF(BD!$B$2:$B$138=$AM$64,ROW(BD!$B$2:$B$138)-ROW(BD!$B$2)+1),FALSE),ROWS(BD!$1:9)))))","v":""},{"$f":"IF($AM$64=\"\",\"\",IF(ROWS(BD!$1:9)>COUNTIFS(BD!$B:$B,$AM$64),\"\",INDEX(BD!$G$2:$G$138,SMALL(IF(BD!$B$2:$B$138=$AM$64,IF(BD!$B$2:$B$138=$AM$64,ROW(BD!$B$2:$B$138)-ROW(BD!$B$2)+1),FALSE),ROWS(BD!$1:9)))))","v":""},{"$f":"IF($AM$64=\"\",\"\",IF(ROWS(BD!$1:9)>COUNTIFS(BD!$B:$B,$AM$64),\"\",INDEX(BD!$H$2:$H$138,SMALL(IF(BD!$B$2:$B$138=$AM$64,IF(BD!$B$2:$B$138=$AM$64,ROW(BD!$B$2:$B$138)-ROW(BD!$B$2)+1),FALSE),ROWS(BD!$1:9)))))","v":""}]
[null,null,{"$f":"IF($C$64=\"\",\"\",IF(ROWS(BD!$1:10)>COUNTIFS(BD!$B:$B,$C$64),\"\",INDEX(BD!$C$2:$C$138,SMALL(IF(BD!$B$2:$B$138=$C$64,IF(BD!$B$2:$B$138=$C$64,ROW(BD!$B$2:$B$138)-ROW(BD!$B$2)+1),FALSE),ROWS(BD!$1:10)))))","v":""},{"$f":"IF($C$64=\"\",\"\",IF(ROWS(BD!$1:10)>COUNTIFS(BD!$B:$B,$C$64),\"\",INDEX(BD!$E$2:$E$138,SMALL(IF(BD!$B$2:$B$138=$C$64,IF(BD!$B$2:$B$138=$C$64,ROW(BD!$B$2:$B$138)-ROW(BD!$B$2)+1),FALSE),ROWS(BD!$1:10)))))","v":""},{"$f":"IF($C$64=\"\",\"\",IF(ROWS(BD!$1:10)>COUNTIFS(BD!$B:$B,$C$64),\"\",INDEX(BD!$F$2:$F$138,SMALL(IF(BD!$B$2:$B$138=$C$64,IF(BD!$B$2:$B$138=$C$64,ROW(BD!$B$2:$B$138)-ROW(BD!$B$2)+1),FALSE),ROWS(BD!$1:10)))))","v":""},{"$f":"IF($C$64=\"\",\"\",IF(ROWS(BD!$1:10)>COUNTIFS(BD!$B:$B,$C$64),\"\",INDEX(BD!$G$2:$G$138,SMALL(IF(BD!$B$2:$B$138=$C$64,IF(BD!$B$2:$B$138=$C$64,ROW(BD!$B$2:$B$138)-ROW(BD!$B$2)+1),FALSE),ROWS(BD!$1:10)))))","v":""},{"$f":"IF($C$64=\"\",\"\",IF(ROWS(BD!$1:10)>COUNTIFS(BD!$B:$B,$C$64),\"\",INDEX(BD!$H$2:$H$138,SMALL(IF(BD!$B$2:$B$138=$C$64,IF(BD!$B$2:$B$138=$C$64,ROW(BD!$B$2:$B$138)-ROW(BD!$B$2)+1),FALSE),ROWS(BD!$1:10)))))","v":""},null,{"$f":"IF($I$64=\"\",\"\",IF(ROWS(BD!$1:10)>COUNTIFS(BD!$B:$B,$I$64),\"\",INDEX(BD!$C$2:$C$138,SMALL(IF(BD!$B$2:$B$138=$I$64,IF(BD!$B$2:$B$138=$I$64,ROW(BD!$B$2:$B$138)-ROW(BD!$B$2)+1),FALSE),ROWS(BD!$1:10)))))","v":""},{"$f":"IF($I$64=\"\",\"\",IF(ROWS(BD!$1:10)>COUNTIFS(BD!$B:$B,$I$64),\"\",INDEX(BD!$E$2:$E$138,SMALL(IF(BD!$B$2:$B$138=$I$64,IF(BD!$B$2:$B$138=$I$64,ROW(BD!$B$2:$B$138)-ROW(BD!$B$2)+1),FALSE),ROWS(BD!$1:10)))))","v":""},{"$f":"IF($I$64=\"\",\"\",IF(ROWS(BD!$1:10)>COUNTIFS(BD!$B:$B,$I$64),\"\",INDEX(BD!$F$2:$F$138,SMALL(IF(BD!$B$2:$B$138=$I$64,IF(BD!$B$2:$B$138=$I$64,ROW(BD!$B$2:$B$138)-ROW(BD!$B$2)+1),FALSE),ROWS(BD!$1:10)))))","v":""},{"$f":"IF($I$64=\"\",\"\",IF(ROWS(BD!$1:10)>COUNTIFS(BD!$B:$B,$I$64),\"\",INDEX(BD!$G$2:$G$138,SMALL(IF(BD!$B$2:$B$138=$I$64,IF(BD!$B$2:$B$138=$I$64,ROW(BD!$B$2:$B$138)-ROW(BD!$B$2)+1),FALSE),ROWS(BD!$1:10)))))","v":""},{"$f":"IF($I$64=\"\",\"\",IF(ROWS(BD!$1:10)>COUNTIFS(BD!$B:$B,$I$64),\"\",INDEX(BD!$H$2:$H$138,SMALL(IF(BD!$B$2:$B$138=$I$64,IF(BD!$B$2:$B$138=$I$64,ROW(BD!$B$2:$B$138)-ROW(BD!$B$2)+1),FALSE),ROWS(BD!$1:10)))))","v":""},null,{"$f":"IF($O$64=\"\",\"\",IF(ROWS(BD!$1:10)>COUNTIFS(BD!$B:$B,$O$64),\"\",INDEX(BD!$C$2:$C$138,SMALL(IF(BD!$B$2:$B$138=$O$64,IF(BD!$B$2:$B$138=$O$64,ROW(BD!$B$2:$B$138)-ROW(BD!$B$2)+1),FALSE),ROWS(BD!$1:10)))))","v":"22:00:00"},{"$f":"IF($O$64=\"\",\"\",IF(ROWS(BD!$1:10)>COUNTIFS(BD!$B:$B,$O$64),\"\",INDEX(BD!$E$2:$E$138,SMALL(IF(BD!$B$2:$B$138=$O$64,IF(BD!$B$2:$B$138=$O$64,ROW(BD!$B$2:$B$138)-ROW(BD!$B$2)+1),FALSE),ROWS(BD!$1:10)))))","v":"IdeaLab"},{"$f":"IF($O$64=\"\",\"\",IF(ROWS(BD!$1:10)>COUNTIFS(BD!$B:$B,$O$64),\"\",INDEX(BD!$F$2:$F$138,SMALL(IF(BD!$B$2:$B$138=$O$64,IF(BD!$B$2:$B$138=$O$64,ROW(BD!$B$2:$B$138)-ROW(BD!$B$2)+1),FALSE),ROWS(BD!$1:10)))))","v":"Paulo"},{"$f":"IF($O$64=\"\",\"\",IF(ROWS(BD!$1:10)>COUNTIFS(BD!$B:$B,$O$64),\"\",INDEX(BD!$G$2:$G$138,SMALL(IF(BD!$B$2:$B$138=$O$64,IF(BD!$B$2:$B$138=$O$64,ROW(BD!$B$2:$B$138)-ROW(BD!$B$2)+1),FALSE),ROWS(BD!$1:10)))))","v":"v1"},{"$f":"IF($O$64=\"\",\"\",IF(ROWS(BD!$1:10)>COUNTIFS(BD!$B:$B,$O$64),\"\",INDEX(BD!$H$2:$H$138,SMALL(IF(BD!$B$2:$B$138=$O$64,IF(BD!$B$2:$B$138=$O$64,ROW(BD!$B$2:$B$138)-ROW(BD!$B$2)+1),FALSE),ROWS(BD!$1:10)))))","v":"Cancelada"},null,{"$f":"IF($U$64=\"\",\"\",IF(ROWS(BD!$1:10)>COUNTIFS(BD!$B:$B,$U$64),\"\",INDEX(BD!$C$2:$C$138,SMALL(IF(BD!$B$2:$B$138=$U$64,IF(BD!$B$2:$B$138=$U$64,ROW(BD!$B$2:$B$138)-ROW(BD!$B$2)+1),FALSE),ROWS(BD!$1:10)))))","v":""},{"$f":"IF($U$64=\"\",\"\",IF(ROWS(BD!$1:10)>COUNTIFS(BD!$B:$B,$U$64),\"\",INDEX(BD!$E$2:$E$138,SMALL(IF(BD!$B$2:$B$138=$U$64,IF(BD!$B$2:$B$138=$U$64,ROW(BD!$B$2:$B$138)-ROW(BD!$B$2)+1),FALSE),ROWS(BD!$1:10)))))","v":""},{"$f":"IF($U$64=\"\",\"\",IF(ROWS(BD!$1:10)>COUNTIFS(BD!$B:$B,$U$64),\"\",INDEX(BD!$F$2:$F$138,SMALL(IF(BD!$B$2:$B$138=$U$64,IF(BD!$B$2:$B$138=$U$64,ROW(BD!$B$2:$B$138)-ROW(BD!$B$2)+1),FALSE),ROWS(BD!$1:10)))))","v":""},{"$f":"IF($U$64=\"\",\"\",IF(ROWS(BD!$1:10)>COUNTIFS(BD!$B:$B,$U$64),\"\",INDEX(BD!$G$2:$G$138,SMALL(IF(BD!$B$2:$B$138=$U$64,IF(BD!$B$2:$B$138=$U$64,ROW(BD!$B$2:$B$138)-ROW(BD!$B$2)+1),FALSE),ROWS(BD!$1:10)))))","v":""},{"$f":"IF($U$64=\"\",\"\",IF(ROWS(BD!$1:10)>COUNTIFS(BD!$B:$B,$U$64),\"\",INDEX(BD!$H$2:$H$138,SMALL(IF(BD!$B$2:$B$138=$U$64,IF(BD!$B$2:$B$138=$U$64,ROW(BD!$B$2:$B$138)-ROW(BD!$B$2)+1),FALSE),ROWS(BD!$1:10)))))","v":""},null,{"$f":"IF($AA$64=\"\",\"\",IF(ROWS(BD!$1:10)>COUNTIFS(BD!$B:$B,$AA$64),\"\",INDEX(BD!$C$2:$C$138,SMALL(IF(BD!$B$2:$B$138=$AA$64,IF(BD!$B$2:$B$138=$AA$64,ROW(BD!$B$2:$B$138)-ROW(BD!$B$2)+1),FALSE),ROWS(BD!$1:10)))))","v":""},{"$f":"IF($AA$64=\"\",\"\",IF(ROWS(BD!$1:10)>COUNTIFS(BD!$B:$B,$AA$64),\"\",INDEX(BD!$E$2:$E$138,SMALL(IF(BD!$B$2:$B$138=$AA$64,IF(BD!$B$2:$B$138=$AA$64,ROW(BD!$B$2:$B$138)-ROW(BD!$B$2)+1),FALSE),ROWS(BD!$1:10)))))","v":""},{"$f":"IF($AA$64=\"\",\"\",IF(ROWS(BD!$1:10)>COUNTIFS(BD!$B:$B,$AA$64),\"\",INDEX(BD!$F$2:$F$138,SMALL(IF(BD!$B$2:$B$138=$AA$64,IF(BD!$B$2:$B$138=$AA$64,ROW(BD!$B$2:$B$138)-ROW(BD!$B$2)+1),FALSE),ROWS(BD!$1:10)))))","v":""},{"$f":"IF($AA$64=\"\",\"\",IF(ROWS(BD!$1:10)>COUNTIFS(BD!$B:$B,$AA$64),\"\",INDEX(BD!$G$2:$G$138,SMALL(IF(BD!$B$2:$B$138=$AA$64,IF(BD!$B$2:$B$138=$AA$64,ROW(BD!$B$2:$B$138)-ROW(BD!$B$2)+1),FALSE),ROWS(BD!$1:10)))))","v":""},{"$f":"IF($AA$64=\"\",\"\",IF(ROWS(BD!$1:10)>COUNTIFS(BD!$B:$B,$AA$64),\"\",INDEX(BD!$H$2:$H$138,SMALL(IF(BD!$B$2:$B$138=$AA$64,IF(BD!$B$2:$B$138=$AA$64,ROW(BD!$B$2:$B$138)-ROW(BD!$B$2)+1),FALSE),ROWS(BD!$1:10)))))","v":""},null,{"$f":"IF($AG$64=\"\",\"\",IF(ROWS(BD!$1:10)>COUNTIFS(BD!$B:$B,$AG$64),\"\",INDEX(BD!$C$2:$C$138,SMALL(IF(BD!$B$2:$B$138=$AG$64,IF(BD!$B$2:$B$138=$AG$64,ROW(BD!$B$2:$B$138)-ROW(BD!$B$2)+1),FALSE),ROWS(BD!$1:10)))))","v":""},{"$f":"IF($AG$64=\"\",\"\",IF(ROWS(BD!$1:10)>COUNTIFS(BD!$B:$B,$AG$64),\"\",INDEX(BD!$E$2:$E$138,SMALL(IF(BD!$B$2:$B$138=$AG$64,IF(BD!$B$2:$B$138=$AG$64,ROW(BD!$B$2:$B$138)-ROW(BD!$B$2)+1),FALSE),ROWS(BD!$1:10)))))","v":""},{"$f":"IF($AG$64=\"\",\"\",IF(ROWS(BD!$1:10)>COUNTIFS(BD!$B:$B,$AG$64),\"\",INDEX(BD!$F$2:$F$138,SMALL(IF(BD!$B$2:$B$138=$AG$64,IF(BD!$B$2:$B$138=$AG$64,ROW(BD!$B$2:$B$138)-ROW(BD!$B$2)+1),FALSE),ROWS(BD!$1:10)))))","v":""},{"$f":"IF($AG$64=\"\",\"\",IF(ROWS(BD!$1:10)>COUNTIFS(BD!$B:$B,$AG$64),\"\",INDEX(BD!$G$2:$G$138,SMALL(IF(BD!$B$2:$B$138=$AG$64,IF(BD!$B$2:$B$138=$AG$64,ROW(BD!$B$2:$B$138)-ROW(BD!$B$2)+1),FALSE),ROWS(BD!$1:10)))))","v":""},{"$f":"IF($AG$64=\"\",\"\",IF(ROWS(BD!$1:10)>COUNTIFS(BD!$B:$B,$AG$64),\"\",INDEX(BD!$H$2:$H$138,SMALL(IF(BD!$B$2:$B$138=$AG$64,IF(BD!$B$2:$B$138=$AG$64,ROW(BD!$B$2:$B$138)-ROW(BD!$B$2)+1),FALSE),ROWS(BD!$1:10)))))","v":""},null,{"$f":"IF($AM$64=\"\",\"\",IF(ROWS(BD!$1:10)>COUNTIFS(BD!$B:$B,$AM$64),\"\",INDEX(BD!$C$2:$C$138,SMALL(IF(BD!$B$2:$B$138=$AM$64,IF(BD!$B$2:$B$138=$AM$64,ROW(BD!$B$2:$B$138)-ROW(BD!$B$2)+1),FALSE),ROWS(BD!$1:10)))))","v":""},{"$f":"IF($AM$64=\"\",\"\",IF(ROWS(BD!$1:10)>COUNTIFS(BD!$B:$B,$AM$64),\"\",INDEX(BD!$E$2:$E$138,SMALL(IF(BD!$B$2:$B$138=$AM$64,IF(BD!$B$2:$B$138=$AM$64,ROW(BD!$B$2:$B$138)-ROW(BD!$B$2)+1),FALSE),ROWS(BD!$1:10)))))","v":""},{"$f":"IF($AM$64=\"\",\"\",IF(ROWS(BD!$1:10)>COUNTIFS(BD!$B:$B,$AM$64),\"\",INDEX(BD!$F$2:$F$138,SMALL(IF(BD!$B$2:$B$138=$AM$64,IF(BD!$B$2:$B$138=$AM$64,ROW(BD!$B$2:$B$138)-ROW(BD!$B$2)+1),FALSE),ROWS(BD!$1:10)))))","v":""},{"$f":"IF($AM$64=\"\",\"\",IF(ROWS(BD!$1:10)>COUNTIFS(BD!$B:$B,$AM$64),\"\",INDEX(BD!$G$2:$G$138,SMALL(IF(BD!$B$2:$B$138=$AM$64,IF(BD!$B$2:$B$138=$AM$64,ROW(BD!$B$2:$B$138)-ROW(BD!$B$2)+1),FALSE),ROWS(BD!$1:10)))))","v":""},{"$f":"IF($AM$64=\"\",\"\",IF(ROWS(BD!$1:10)>COUNTIFS(BD!$B:$B,$AM$64),\"\",INDEX(BD!$H$2:$H$138,SMALL(IF(BD!$B$2:$B$138=$AM$64,IF(BD!$B$2:$B$138=$AM$64,ROW(BD!$B$2:$B$138)-ROW(BD!$B$2)+1),FALSE),ROWS(BD!$1:10)))))","v":""}]
[null,null,{"$f":"IF($C$64=\"\",\"\",IF(ROWS(BD!$1:11)>COUNTIFS(BD!$B:$B,$C$64),\"\",INDEX(BD!$C$2:$C$138,SMALL(IF(BD!$B$2:$B$138=$C$64,IF(BD!$B$2:$B$138=$C$64,ROW(BD!$B$2:$B$138)-ROW(BD!$B$2)+1),FALSE),ROWS(BD!$1:11)))))","v":""},{"$f":"IF($C$64=\"\",\"\",IF(ROWS(BD!$1:11)>COUNTIFS(BD!$B:$B,$C$64),\"\",INDEX(BD!$E$2:$E$138,SMALL(IF(BD!$B$2:$B$138=$C$64,IF(BD!$B$2:$B$138=$C$64,ROW(BD!$B$2:$B$138)-ROW(BD!$B$2)+1),FALSE),ROWS(BD!$1:11)))))","v":""},{"$f":"IF($C$64=\"\",\"\",IF(ROWS(BD!$1:11)>COUNTIFS(BD!$B:$B,$C$64),\"\",INDEX(BD!$F$2:$F$138,SMALL(IF(BD!$B$2:$B$138=$C$64,IF(BD!$B$2:$B$138=$C$64,ROW(BD!$B$2:$B$138)-ROW(BD!$B$2)+1),FALSE),ROWS(BD!$1:11)))))","v":""},{"$f":"IF($C$64=\"\",\"\",IF(ROWS(BD!$1:11)>COUNTIFS(BD!$B:$B,$C$64),\"\",INDEX(BD!$G$2:$G$138,SMALL(IF(BD!$B$2:$B$138=$C$64,IF(BD!$B$2:$B$138=$C$64,ROW(BD!$B$2:$B$138)-ROW(BD!$B$2)+1),FALSE),ROWS(BD!$1:11)))))","v":""},{"$f":"IF($C$64=\"\",\"\",IF(ROWS(BD!$1:11)>COUNTIFS(BD!$B:$B,$C$64),\"\",INDEX(BD!$H$2:$H$138,SMALL(IF(BD!$B$2:$B$138=$C$64,IF(BD!$B$2:$B$138=$C$64,ROW(BD!$B$2:$B$138)-ROW(BD!$B$2)+1),FALSE),ROWS(BD!$1:11)))))","v":""},null,{"$f":"IF($I$64=\"\",\"\",IF(ROWS(BD!$1:11)>COUNTIFS(BD!$B:$B,$I$64),\"\",INDEX(BD!$C$2:$C$138,SMALL(IF(BD!$B$2:$B$138=$I$64,IF(BD!$B$2:$B$138=$I$64,ROW(BD!$B$2:$B$138)-ROW(BD!$B$2)+1),FALSE),ROWS(BD!$1:11)))))","v":""},{"$f":"IF($I$64=\"\",\"\",IF(ROWS(BD!$1:11)>COUNTIFS(BD!$B:$B,$I$64),\"\",INDEX(BD!$E$2:$E$138,SMALL(IF(BD!$B$2:$B$138=$I$64,IF(BD!$B$2:$B$138=$I$64,ROW(BD!$B$2:$B$138)-ROW(BD!$B$2)+1),FALSE),ROWS(BD!$1:11)))))","v":""},{"$f":"IF($I$64=\"\",\"\",IF(ROWS(BD!$1:11)>COUNTIFS(BD!$B:$B,$I$64),\"\",INDEX(BD!$F$2:$F$138,SMALL(IF(BD!$B$2:$B$138=$I$64,IF(BD!$B$2:$B$138=$I$64,ROW(BD!$B$2:$B$138)-ROW(BD!$B$2)+1),FALSE),ROWS(BD!$1:11)))))","v":""},{"$f":"IF($I$64=\"\",\"\",IF(ROWS(BD!$1:11)>COUNTIFS(BD!$B:$B,$I$64),\"\",INDEX(BD!$G$2:$G$138,SMALL(IF(BD!$B$2:$B$138=$I$64,IF(BD!$B$2:$B$138=$I$64,ROW(BD!$B$2:$B$138)-ROW(BD!$B$2)+1),FALSE),ROWS(BD!$1:11)))))","v":""},{"$f":"IF($I$64=\"\",\"\",IF(ROWS(BD!$1:11)>COUNTIFS(BD!$B:$B,$I$64),\"\",INDEX(BD!$H$2:$H$138,SMALL(IF(BD!$B$2:$B$138=$I$64,IF(BD!$B$2:$B$138=$I$64,ROW(BD!$B$2:$B$138)-ROW(BD!$B$2)+1),FALSE),ROWS(BD!$1:11)))))","v":""},null,{"$f":"IF($O$64=\"\",\"\",IF(ROWS(BD!$1:11)>COUNTIFS(BD!$B:$B,$O$64),\"\",INDEX(BD!$C$2:$C$138,SMALL(IF(BD!$B$2:$B$138=$O$64,IF(BD!$B$2:$B$138=$O$64,ROW(BD!$B$2:$B$138)-ROW(BD!$B$2)+1),FALSE),ROWS(BD!$1:11)))))","v":"22:00:00"},{"$f":"IF($O$64=\"\",\"\",IF(ROWS(BD!$1:11)>COUNTIFS(BD!$B:$B,$O$64),\"\",INDEX(BD!$E$2:$E$138,SMALL(IF(BD!$B$2:$B$138=$O$64,IF(BD!$B$2:$B$138=$O$64,ROW(BD!$B$2:$B$138)-ROW(BD!$B$2)+1),FALSE),ROWS(BD!$1:11)))))","v":"VisionX"},{"$f":"IF($O$64=\"\",\"\",IF(ROWS(BD!$1:11)>COUNTIFS(BD!$B:$B,$O$64),\"\",INDEX(BD!$F$2:$F$138,SMALL(IF(BD!$B$2:$B$138=$O$64,IF(BD!$B$2:$B$138=$O$64,ROW(BD!$B$2:$B$138)-ROW(BD!$B$2)+1),FALSE),ROWS(BD!$1:11)))))","v":"Pedro"},{"$f":"IF($O$64=\"\",\"\",IF(ROWS(BD!$1:11)>COUNTIFS(BD!$B:$B,$O$64),\"\",INDEX(BD!$G$2:$G$138,SMALL(IF(BD!$B$2:$B$138=$O$64,IF(BD!$B$2:$B$138=$O$64,ROW(BD!$B$2:$B$138)-ROW(BD!$B$2)+1),FALSE),ROWS(BD!$1:11)))))","v":"v1"},{"$f":"IF($O$64=\"\",\"\",IF(ROWS(BD!$1:11)>COUNTIFS(BD!$B:$B,$O$64),\"\",INDEX(BD!$H$2:$H$138,SMALL(IF(BD!$B$2:$B$138=$O$64,IF(BD!$B$2:$B$138=$O$64,ROW(BD!$B$2:$B$138)-ROW(BD!$B$2)+1),FALSE),ROWS(BD!$1:11)))))","v":"Cancelada"},null,{"$f":"IF($U$64=\"\",\"\",IF(ROWS(BD!$1:11)>COUNTIFS(BD!$B:$B,$U$64),\"\",INDEX(BD!$C$2:$C$138,SMALL(IF(BD!$B$2:$B$138=$U$64,IF(BD!$B$2:$B$138=$U$64,ROW(BD!$B$2:$B$138)-ROW(BD!$B$2)+1),FALSE),ROWS(BD!$1:11)))))","v":""},{"$f":"IF($U$64=\"\",\"\",IF(ROWS(BD!$1:11)>COUNTIFS(BD!$B:$B,$U$64),\"\",INDEX(BD!$E$2:$E$138,SMALL(IF(BD!$B$2:$B$138=$U$64,IF(BD!$B$2:$B$138=$U$64,ROW(BD!$B$2:$B$138)-ROW(BD!$B$2)+1),FALSE),ROWS(BD!$1:11)))))","v":""},{"$f":"IF($U$64=\"\",\"\",IF(ROWS(BD!$1:11)>COUNTIFS(BD!$B:$B,$U$64),\"\",INDEX(BD!$F$2:$F$138,SMALL(IF(BD!$B$2:$B$138=$U$64,IF(BD!$B$2:$B$138=$U$64,ROW(BD!$B$2:$B$138)-ROW(BD!$B$2)+1),FALSE),ROWS(BD!$1:11)))))","v":""},{"$f":"IF($U$64=\"\",\"\",IF(ROWS(BD!$1:11)>COUNTIFS(BD!$B:$B,$U$64),\"\",INDEX(BD!$G$2:$G$138,SMALL(IF(BD!$B$2:$B$138=$U$64,IF(BD!$B$2:$B$138=$U$64,ROW(BD!$B$2:$B$138)-ROW(BD!$B$2)+1),FALSE),ROWS(BD!$1:11)))))","v":""},{"$f":"IF($U$64=\"\",\"\",IF(ROWS(BD!$1:11)>COUNTIFS(BD!$B:$B,$U$64),\"\",INDEX(BD!$H$2:$H$138,SMALL(IF(BD!$B$2:$B$138=$U$64,IF(BD!$B$2:$B$138=$U$64,ROW(BD!$B$2:$B$138)-ROW(BD!$B$2)+1),FALSE),ROWS(BD!$1:11)))))","v":""},null,{"$f":"IF($AA$64=\"\",\"\",IF(ROWS(BD!$1:11)>COUNTIFS(BD!$B:$B,$AA$64),\"\",INDEX(BD!$C$2:$C$138,SMALL(IF(BD!$B$2:$B$138=$AA$64,IF(BD!$B$2:$B$138=$AA$64,ROW(BD!$B$2:$B$138)-ROW(BD!$B$2)+1),FALSE),ROWS(BD!$1:11)))))","v":""},{"$f":"IF($AA$64=\"\",\"\",IF(ROWS(BD!$1:11)>COUNTIFS(BD!$B:$B,$AA$64),\"\",INDEX(BD!$E$2:$E$138,SMALL(IF(BD!$B$2:$B$138=$AA$64,IF(BD!$B$2:$B$138=$AA$64,ROW(BD!$B$2:$B$138)-ROW(BD!$B$2)+1),FALSE),ROWS(BD!$1:11)))))","v":""},{"$f":"IF($AA$64=\"\",\"\",IF(ROWS(BD!$1:11)>COUNTIFS(BD!$B:$B,$AA$64),\"\",INDEX(BD!$F$2:$F$138,SMALL(IF(BD!$B$2:$B$138=$AA$64,IF(BD!$B$2:$B$138=$AA$64,ROW(BD!$B$2:$B$138)-ROW(BD!$B$2)+1),FALSE),ROWS(BD!$1:11)))))","v":""},{"$f":"IF($AA$64=\"\",\"\",IF(ROWS(BD!$1:11)>COUNTIFS(BD!$B:$B,$AA$64),\"\",INDEX(BD!$G$2:$G$138,SMALL(IF(BD!$B$2:$B$138=$AA$64,IF(BD!$B$2:$B$138=$AA$64,ROW(BD!$B$2:$B$138)-ROW(BD!$B$2)+1),FALSE),ROWS(BD!$1:11)))))","v":""},{"$f":"IF($AA$64=\"\",\"\",IF(ROWS(BD!$1:11)>COUNTIFS(BD!$B:$B,$AA$64),\"\",INDEX(BD!$H$2:$H$138,SMALL(IF(BD!$B$2:$B$138=$AA$64,IF(BD!$B$2:$B$138=$AA$64,ROW(BD!$B$2:$B$138)-ROW(BD!$B$2)+1),FALSE),ROWS(BD!$1:11)))))","v":""},null,{"$f":"IF($AG$64=\"\",\"\",IF(ROWS(BD!$1:11)>COUNTIFS(BD!$B:$B,$AG$64),\"\",INDEX(BD!$C$2:$C$138,SMALL(IF(BD!$B$2:$B$138=$AG$64,IF(BD!$B$2:$B$138=$AG$64,ROW(BD!$B$2:$B$138)-ROW(BD!$B$2)+1),FALSE),ROWS(BD!$1:11)))))","v":""},{"$f":"IF($AG$64=\"\",\"\",IF(ROWS(BD!$1:11)>COUNTIFS(BD!$B:$B,$AG$64),\"\",INDEX(BD!$E$2:$E$138,SMALL(IF(BD!$B$2:$B$138=$AG$64,IF(BD!$B$2:$B$138=$AG$64,ROW(BD!$B$2:$B$138)-ROW(BD!$B$2)+1),FALSE),ROWS(BD!$1:11)))))","v":""},{"$f":"IF($AG$64=\"\",\"\",IF(ROWS(BD!$1:11)>COUNTIFS(BD!$B:$B,$AG$64),\"\",INDEX(BD!$F$2:$F$138,SMALL(IF(BD!$B$2:$B$138=$AG$64,IF(BD!$B$2:$B$138=$AG$64,ROW(BD!$B$2:$B$138)-ROW(BD!$B$2)+1),FALSE),ROWS(BD!$1:11)))))","v":""},{"$f":"IF($AG$64=\"\",\"\",IF(ROWS(BD!$1:11)>COUNTIFS(BD!$B:$B,$AG$64),\"\",INDEX(BD!$G$2:$G$138,SMALL(IF(BD!$B$2:$B$138=$AG$64,IF(BD!$B$2:$B$138=$AG$64,ROW(BD!$B$2:$B$138)-ROW(BD!$B$2)+1),FALSE),ROWS(BD!$1:11)))))","v":""},{"$f":"IF($AG$64=\"\",\"\",IF(ROWS(BD!$1:11)>COUNTIFS(BD!$B:$B,$AG$64),\"\",INDEX(BD!$H$2:$H$138,SMALL(IF(BD!$B$2:$B$138=$AG$64,IF(BD!$B$2:$B$138=$AG$64,ROW(BD!$B$2:$B$138)-ROW(BD!$B$2)+1),FALSE),ROWS(BD!$1:11)))))","v":""},null,{"$f":"IF($AM$64=\"\",\"\",IF(ROWS(BD!$1:11)>COUNTIFS(BD!$B:$B,$AM$64),\"\",INDEX(BD!$C$2:$C$138,SMALL(IF(BD!$B$2:$B$138=$AM$64,IF(BD!$B$2:$B$138=$AM$64,ROW(BD!$B$2:$B$138)-ROW(BD!$B$2)+1),FALSE),ROWS(BD!$1:11)))))","v":""},{"$f":"IF($AM$64=\"\",\"\",IF(ROWS(BD!$1:11)>COUNTIFS(BD!$B:$B,$AM$64),\"\",INDEX(BD!$E$2:$E$138,SMALL(IF(BD!$B$2:$B$138=$AM$64,IF(BD!$B$2:$B$138=$AM$64,ROW(BD!$B$2:$B$138)-ROW(BD!$B$2)+1),FALSE),ROWS(BD!$1:11)))))","v":""},{"$f":"IF($AM$64=\"\",\"\",IF(ROWS(BD!$1:11)>COUNTIFS(BD!$B:$B,$AM$64),\"\",INDEX(BD!$F$2:$F$138,SMALL(IF(BD!$B$2:$B$138=$AM$64,IF(BD!$B$2:$B$138=$AM$64,ROW(BD!$B$2:$B$138)-ROW(BD!$B$2)+1),FALSE),ROWS(BD!$1:11)))))","v":""},{"$f":"IF($AM$64=\"\",\"\",IF(ROWS(BD!$1:11)>COUNTIFS(BD!$B:$B,$AM$64),\"\",INDEX(BD!$G$2:$G$138,SMALL(IF(BD!$B$2:$B$138=$AM$64,IF(BD!$B$2:$B$138=$AM$64,ROW(BD!$B$2:$B$138)-ROW(BD!$B$2)+1),FALSE),ROWS(BD!$1:11)))))","v":""},{"$f":"IF($AM$64=\"\",\"\",IF(ROWS(BD!$1:11)>COUNTIFS(BD!$B:$B,$AM$64),\"\",INDEX(BD!$H$2:$H$138,SMALL(IF(BD!$B$2:$B$138=$AM$64,IF(BD!$B$2:$B$138=$AM$64,ROW(BD!$B$2:$B$138)-ROW(BD!$B$2)+1),FALSE),ROWS(BD!$1:11)))))","v":""}]
[null,null,{"$f":"IF($C$64=\"\",\"\",IF(ROWS(BD!$1:12)>COUNTIFS(BD!$B:$B,$C$64),\"\",INDEX(BD!$C$2:$C$138,SMALL(IF(BD!$B$2:$B$138=$C$64,IF(BD!$B$2:$B$138=$C$64,ROW(BD!$B$2:$B$138)-ROW(BD!$B$2)+1),FALSE),ROWS(BD!$1:12)))))","v":""},{"$f":"IF($C$64=\"\",\"\",IF(ROWS(BD!$1:12)>COUNTIFS(BD!$B:$B,$C$64),\"\",INDEX(BD!$E$2:$E$138,SMALL(IF(BD!$B$2:$B$138=$C$64,IF(BD!$B$2:$B$138=$C$64,ROW(BD!$B$2:$B$138)-ROW(BD!$B$2)+1),FALSE),ROWS(BD!$1:12)))))","v":""},{"$f":"IF($C$64=\"\",\"\",IF(ROWS(BD!$1:12)>COUNTIFS(BD!$B:$B,$C$64),\"\",INDEX(BD!$F$2:$F$138,SMALL(IF(BD!$B$2:$B$138=$C$64,IF(BD!$B$2:$B$138=$C$64,ROW(BD!$B$2:$B$138)-ROW(BD!$B$2)+1),FALSE),ROWS(BD!$1:12)))))","v":""},{"$f":"IF($C$64=\"\",\"\",IF(ROWS(BD!$1:12)>COUNTIFS(BD!$B:$B,$C$64),\"\",INDEX(BD!$G$2:$G$138,SMALL(IF(BD!$B$2:$B$138=$C$64,IF(BD!$B$2:$B$138=$C$64,ROW(BD!$B$2:$B$138)-ROW(BD!$B$2)+1),FALSE),ROWS(BD!$1:12)))))","v":""},{"$f":"IF($C$64=\"\",\"\",IF(ROWS(BD!$1:12)>COUNTIFS(BD!$B:$B,$C$64),\"\",INDEX(BD!$H$2:$H$138,SMALL(IF(BD!$B$2:$B$138=$C$64,IF(BD!$B$2:$B$138=$C$64,ROW(BD!$B$2:$B$138)-ROW(BD!$B$2)+1),FALSE),ROWS(BD!$1:12)))))","v":""},null,{"$f":"IF($I$64=\"\",\"\",IF(ROWS(BD!$1:12)>COUNTIFS(BD!$B:$B,$I$64),\"\",INDEX(BD!$C$2:$C$138,SMALL(IF(BD!$B$2:$B$138=$I$64,IF(BD!$B$2:$B$138=$I$64,ROW(BD!$B$2:$B$138)-ROW(BD!$B$2)+1),FALSE),ROWS(BD!$1:12)))))","v":""},{"$f":"IF($I$64=\"\",\"\",IF(ROWS(BD!$1:12)>COUNTIFS(BD!$B:$B,$I$64),\"\",INDEX(BD!$E$2:$E$138,SMALL(IF(BD!$B$2:$B$138=$I$64,IF(BD!$B$2:$B$138=$I$64,ROW(BD!$B$2:$B$138)-ROW(BD!$B$2)+1),FALSE),ROWS(BD!$1:12)))))","v":""},{"$f":"IF($I$64=\"\",\"\",IF(ROWS(BD!$1:12)>COUNTIFS(BD!$B:$B,$I$64),\"\",INDEX(BD!$F$2:$F$138,SMALL(IF(BD!$B$2:$B$138=$I$64,IF(BD!$B$2:$B$138=$I$64,ROW(BD!$B$2:$B$138)-ROW(BD!$B$2)+1),FALSE),ROWS(BD!$1:12)))))","v":""},{"$f":"IF($I$64=\"\",\"\",IF(ROWS(BD!$1:12)>COUNTIFS(BD!$B:$B,$I$64),\"\",INDEX(BD!$G$2:$G$138,SMALL(IF(BD!$B$2:$B$138=$I$64,IF(BD!$B$2:$B$138=$I$64,ROW(BD!$B$2:$B$138)-ROW(BD!$B$2)+1),FALSE),ROWS(BD!$1:12)))))","v":""},{"$f":"IF($I$64=\"\",\"\",IF(ROWS(BD!$1:12)>COUNTIFS(BD!$B:$B,$I$64),\"\",INDEX(BD!$H$2:$H$138,SMALL(IF(BD!$B$2:$B$138=$I$64,IF(BD!$B$2:$B$138=$I$64,ROW(BD!$B$2:$B$138)-ROW(BD!$B$2)+1),FALSE),ROWS(BD!$1:12)))))","v":""},null,{"$f":"IF($O$64=\"\",\"\",IF(ROWS(BD!$1:12)>COUNTIFS(BD!$B:$B,$O$64),\"\",INDEX(BD!$C$2:$C$138,SMALL(IF(BD!$B$2:$B$138=$O$64,IF(BD!$B$2:$B$138=$O$64,ROW(BD!$B$2:$B$138)-ROW(BD!$B$2)+1),FALSE),ROWS(BD!$1:12)))))","v":"22:20:00"},{"$f":"IF($O$64=\"\",\"\",IF(ROWS(BD!$1:12)>COUNTIFS(BD!$B:$B,$O$64),\"\",INDEX(BD!$E$2:$E$138,SMALL(IF(BD!$B$2:$B$138=$O$64,IF(BD!$B$2:$B$138=$O$64,ROW(BD!$B$2:$B$138)-ROW(BD!$B$2)+1),FALSE),ROWS(BD!$1:12)))))","v":"TechnoLink"},{"$f":"IF($O$64=\"\",\"\",IF(ROWS(BD!$1:12)>COUNTIFS(BD!$B:$B,$O$64),\"\",INDEX(BD!$F$2:$F$138,SMALL(IF(BD!$B$2:$B$138=$O$64,IF(BD!$B$2:$B$138=$O$64,ROW(BD!$B$2:$B$138)-ROW(BD!$B$2)+1),FALSE),ROWS(BD!$1:12)))))","v":"Augusto"},{"$f":"IF($O$64=\"\",\"\",IF(ROWS(BD!$1:12)>COUNTIFS(BD!$B:$B,$O$64),\"\",INDEX(BD!$G$2:$G$138,SMALL(IF(BD!$B$2:$B$138=$O$64,IF(BD!$B$2:$B$138=$O$64,ROW(BD!$B$2:$B$138)-ROW(BD!$B$2)+1),FALSE),ROWS(BD!$1:12)))))","v":"v3"},{"$f":"IF($O$64=\"\",\"\",IF(ROWS(BD!$1:12)>COUNTIFS(BD!$B:$B,$O$64),\"\",INDEX(BD!$H$2:$H$138,SMALL(IF(BD!$B$2:$B$138=$O$64,IF(BD!$B$2:$B$138=$O$64,ROW(BD!$B$2:$B$138)-ROW(BD!$B$2)+1),FALSE),ROWS(BD!$1:12)))))","v":"À Realizar"},null,{"$f":"IF($U$64=\"\",\"\",IF(ROWS(BD!$1:12)>COUNTIFS(BD!$B:$B,$U$64),\"\",INDEX(BD!$C$2:$C$138,SMALL(IF(BD!$B$2:$B$138=$U$64,IF(BD!$B$2:$B$138=$U$64,ROW(BD!$B$2:$B$138)-ROW(BD!$B$2)+1),FALSE),ROWS(BD!$1:12)))))","v":""},{"$f":"IF($U$64=\"\",\"\",IF(ROWS(BD!$1:12)>COUNTIFS(BD!$B:$B,$U$64),\"\",INDEX(BD!$E$2:$E$138,SMALL(IF(BD!$B$2:$B$138=$U$64,IF(BD!$B$2:$B$138=$U$64,ROW(BD!$B$2:$B$138)-ROW(BD!$B$2)+1),FALSE),ROWS(BD!$1:12)))))","v":""},{"$f":"IF($U$64=\"\",\"\",IF(ROWS(BD!$1:12)>COUNTIFS(BD!$B:$B,$U$64),\"\",INDEX(BD!$F$2:$F$138,SMALL(IF(BD!$B$2:$B$138=$U$64,IF(BD!$B$2:$B$138=$U$64,ROW(BD!$B$2:$B$138)-ROW(BD!$B$2)+1),FALSE),ROWS(BD!$1:12)))))","v":""},{"$f":"IF($U$64=\"\",\"\",IF(ROWS(BD!$1:12)>COUNTIFS(BD!$B:$B,$U$64),\"\",INDEX(BD!$G$2:$G$138,SMALL(IF(BD!$B$2:$B$138=$U$64,IF(BD!$B$2:$B$138=$U$64,ROW(BD!$B$2:$B$138)-ROW(BD!$B$2)+1),FALSE),ROWS(BD!$1:12)))))","v":""},{"$f":"IF($U$64=\"\",\"\",IF(ROWS(BD!$1:12)>COUNTIFS(BD!$B:$B,$U$64),\"\",INDEX(BD!$H$2:$H$138,SMALL(IF(BD!$B$2:$B$138=$U$64,IF(BD!$B$2:$B$138=$U$64,ROW(BD!$B$2:$B$138)-ROW(BD!$B$2)+1),FALSE),ROWS(BD!$1:12)))))","v":""},null,{"$f":"IF($AA$64=\"\",\"\",IF(ROWS(BD!$1:12)>COUNTIFS(BD!$B:$B,$AA$64),\"\",INDEX(BD!$C$2:$C$138,SMALL(IF(BD!$B$2:$B$138=$AA$64,IF(BD!$B$2:$B$138=$AA$64,ROW(BD!$B$2:$B$138)-ROW(BD!$B$2)+1),FALSE),ROWS(BD!$1:12)))))","v":""},{"$f":"IF($AA$64=\"\",\"\",IF(ROWS(BD!$1:12)>COUNTIFS(BD!$B:$B,$AA$64),\"\",INDEX(BD!$E$2:$E$138,SMALL(IF(BD!$B$2:$B$138=$AA$64,IF(BD!$B$2:$B$138=$AA$64,ROW(BD!$B$2:$B$138)-ROW(BD!$B$2)+1),FALSE),ROWS(BD!$1:12)))))","v":""},{"$f":"IF($AA$64=\"\",\"\",IF(ROWS(BD!$1:12)>COUNTIFS(BD!$B:$B,$AA$64),\"\",INDEX(BD!$F$2:$F$138,SMALL(IF(BD!$B$2:$B$138=$AA$64,IF(BD!$B$2:$B$138=$AA$64,ROW(BD!$B$2:$B$138)-ROW(BD!$B$2)+1),FALSE),ROWS(BD!$1:12)))))","v":""},{"$f":"IF($AA$64=\"\",\"\",IF(ROWS(BD!$1:12)>COUNTIFS(BD!$B:$B,$AA$64),\"\",INDEX(BD!$G$2:$G$138,SMALL(IF(BD!$B$2:$B$138=$AA$64,IF(BD!$B$2:$B$138=$AA$64,ROW(BD!$B$2:$B$138)-ROW(BD!$B$2)+1),FALSE),ROWS(BD!$1:12)))))","v":""},{"$f":"IF($AA$64=\"\",\"\",IF(ROWS(BD!$1:12)>COUNTIFS(BD!$B:$B,$AA$64),\"\",INDEX(BD!$H$2:$H$138,SMALL(IF(BD!$B$2:$B$138=$AA$64,IF(BD!$B$2:$B$138=$AA$64,ROW(BD!$B$2:$B$138)-ROW(BD!$B$2)+1),FALSE),ROWS(BD!$1:12)))))","v":""},null,{"$f":"IF($AG$64=\"\",\"\",IF(ROWS(BD!$1:12)>COUNTIFS(BD!$B:$B,$AG$64),\"\",INDEX(BD!$C$2:$C$138,SMALL(IF(BD!$B$2:$B$138=$AG$64,IF(BD!$B$2:$B$138=$AG$64,ROW(BD!$B$2:$B$138)-ROW(BD!$B$2)+1),FALSE),ROWS(BD!$1:12)))))","v":""},{"$f":"IF($AG$64=\"\",\"\",IF(ROWS(BD!$1:12)>COUNTIFS(BD!$B:$B,$AG$64),\"\",INDEX(BD!$E$2:$E$138,SMALL(IF(BD!$B$2:$B$138=$AG$64,IF(BD!$B$2:$B$138=$AG$64,ROW(BD!$B$2:$B$138)-ROW(BD!$B$2)+1),FALSE),ROWS(BD!$1:12)))))","v":""},{"$f":"IF($AG$64=\"\",\"\",IF(ROWS(BD!$1:12)>COUNTIFS(BD!$B:$B,$AG$64),\"\",INDEX(BD!$F$2:$F$138,SMALL(IF(BD!$B$2:$B$138=$AG$64,IF(BD!$B$2:$B$138=$AG$64,ROW(BD!$B$2:$B$138)-ROW(BD!$B$2)+1),FALSE),ROWS(BD!$1:12)))))","v":""},{"$f":"IF($AG$64=\"\",\"\",IF(ROWS(BD!$1:12)>COUNTIFS(BD!$B:$B,$AG$64),\"\",INDEX(BD!$G$2:$G$138,SMALL(IF(BD!$B$2:$B$138=$AG$64,IF(BD!$B$2:$B$138=$AG$64,ROW(BD!$B$2:$B$138)-ROW(BD!$B$2)+1),FALSE),ROWS(BD!$1:12)))))","v":""},{"$f":"IF($AG$64=\"\",\"\",IF(ROWS(BD!$1:12)>COUNTIFS(BD!$B:$B,$AG$64),\"\",INDEX(BD!$H$2:$H$138,SMALL(IF(BD!$B$2:$B$138=$AG$64,IF(BD!$B$2:$B$138=$AG$64,ROW(BD!$B$2:$B$138)-ROW(BD!$B$2)+1),FALSE),ROWS(BD!$1:12)))))","v":""},null,{"$f":"IF($AM$64=\"\",\"\",IF(ROWS(BD!$1:12)>COUNTIFS(BD!$B:$B,$AM$64),\"\",INDEX(BD!$C$2:$C$138,SMALL(IF(BD!$B$2:$B$138=$AM$64,IF(BD!$B$2:$B$138=$AM$64,ROW(BD!$B$2:$B$138)-ROW(BD!$B$2)+1),FALSE),ROWS(BD!$1:12)))))","v":""},{"$f":"IF($AM$64=\"\",\"\",IF(ROWS(BD!$1:12)>COUNTIFS(BD!$B:$B,$AM$64),\"\",INDEX(BD!$E$2:$E$138,SMALL(IF(BD!$B$2:$B$138=$AM$64,IF(BD!$B$2:$B$138=$AM$64,ROW(BD!$B$2:$B$138)-ROW(BD!$B$2)+1),FALSE),ROWS(BD!$1:12)))))","v":""},{"$f":"IF($AM$64=\"\",\"\",IF(ROWS(BD!$1:12)>COUNTIFS(BD!$B:$B,$AM$64),\"\",INDEX(BD!$F$2:$F$138,SMALL(IF(BD!$B$2:$B$138=$AM$64,IF(BD!$B$2:$B$138=$AM$64,ROW(BD!$B$2:$B$138)-ROW(BD!$B$2)+1),FALSE),ROWS(BD!$1:12)))))","v":""},{"$f":"IF($AM$64=\"\",\"\",IF(ROWS(BD!$1:12)>COUNTIFS(BD!$B:$B,$AM$64),\"\",INDEX(BD!$G$2:$G$138,SMALL(IF(BD!$B$2:$B$138=$AM$64,IF(BD!$B$2:$B$138=$AM$64,ROW(BD!$B$2:$B$138)-ROW(BD!$B$2)+1),FALSE),ROWS(BD!$1:12)))))","v":""},{"$f":"IF($AM$64=\"\",\"\",IF(ROWS(BD!$1:12)>COUNTIFS(BD!$B:$B,$AM$64),\"\",INDEX(BD!$H$2:$H$138,SMALL(IF(BD!$B$2:$B$138=$AM$64,IF(BD!$B$2:$B$138=$AM$64,ROW(BD!$B$2:$B$138)-ROW(BD!$B$2)+1),FALSE),ROWS(BD!$1:12)))))","v":""}]
[null,null,{"$f":"IF($C$64=\"\",\"\",IF(ROWS(BD!$1:13)>COUNTIFS(BD!$B:$B,$C$64),\"\",INDEX(BD!$C$2:$C$138,SMALL(IF(BD!$B$2:$B$138=$C$64,IF(BD!$B$2:$B$138=$C$64,ROW(BD!$B$2:$B$138)-ROW(BD!$B$2)+1),FALSE),ROWS(BD!$1:13)))))","v":""},{"$f":"IF($C$64=\"\",\"\",IF(ROWS(BD!$1:13)>COUNTIFS(BD!$B:$B,$C$64),\"\",INDEX(BD!$E$2:$E$138,SMALL(IF(BD!$B$2:$B$138=$C$64,IF(BD!$B$2:$B$138=$C$64,ROW(BD!$B$2:$B$138)-ROW(BD!$B$2)+1),FALSE),ROWS(BD!$1:13)))))","v":""},{"$f":"IF($C$64=\"\",\"\",IF(ROWS(BD!$1:13)>COUNTIFS(BD!$B:$B,$C$64),\"\",INDEX(BD!$F$2:$F$138,SMALL(IF(BD!$B$2:$B$138=$C$64,IF(BD!$B$2:$B$138=$C$64,ROW(BD!$B$2:$B$138)-ROW(BD!$B$2)+1),FALSE),ROWS(BD!$1:13)))))","v":""},{"$f":"IF($C$64=\"\",\"\",IF(ROWS(BD!$1:13)>COUNTIFS(BD!$B:$B,$C$64),\"\",INDEX(BD!$G$2:$G$138,SMALL(IF(BD!$B$2:$B$138=$C$64,IF(BD!$B$2:$B$138=$C$64,ROW(BD!$B$2:$B$138)-ROW(BD!$B$2)+1),FALSE),ROWS(BD!$1:13)))))","v":""},{"$f":"IF($C$64=\"\",\"\",IF(ROWS(BD!$1:13)>COUNTIFS(BD!$B:$B,$C$64),\"\",INDEX(BD!$H$2:$H$138,SMALL(IF(BD!$B$2:$B$138=$C$64,IF(BD!$B$2:$B$138=$C$64,ROW(BD!$B$2:$B$138)-ROW(BD!$B$2)+1),FALSE),ROWS(BD!$1:13)))))","v":""},null,{"$f":"IF($I$64=\"\",\"\",IF(ROWS(BD!$1:13)>COUNTIFS(BD!$B:$B,$I$64),\"\",INDEX(BD!$C$2:$C$138,SMALL(IF(BD!$B$2:$B$138=$I$64,IF(BD!$B$2:$B$138=$I$64,ROW(BD!$B$2:$B$138)-ROW(BD!$B$2)+1),FALSE),ROWS(BD!$1:13)))))","v":""},{"$f":"IF($I$64=\"\",\"\",IF(ROWS(BD!$1:13)>COUNTIFS(BD!$B:$B,$I$64),\"\",INDEX(BD!$E$2:$E$138,SMALL(IF(BD!$B$2:$B$138=$I$64,IF(BD!$B$2:$B$138=$I$64,ROW(BD!$B$2:$B$138)-ROW(BD!$B$2)+1),FALSE),ROWS(BD!$1:13)))))","v":""},{"$f":"IF($I$64=\"\",\"\",IF(ROWS(BD!$1:13)>COUNTIFS(BD!$B:$B,$I$64),\"\",INDEX(BD!$F$2:$F$138,SMALL(IF(BD!$B$2:$B$138=$I$64,IF(BD!$B$2:$B$138=$I$64,ROW(BD!$B$2:$B$138)-ROW(BD!$B$2)+1),FALSE),ROWS(BD!$1:13)))))","v":""},{"$f":"IF($I$64=\"\",\"\",IF(ROWS(BD!$1:13)>COUNTIFS(BD!$B:$B,$I$64),\"\",INDEX(BD!$G$2:$G$138,SMALL(IF(BD!$B$2:$B$138=$I$64,IF(BD!$B$2:$B$138=$I$64,ROW(BD!$B$2:$B$138)-ROW(BD!$B$2)+1),FALSE),ROWS(BD!$1:13)))))","v":""},{"$f":"IF($I$64=\"\",\"\",IF(ROWS(BD!$1:13)>COUNTIFS(BD!$B:$B,$I$64),\"\",INDEX(BD!$H$2:$H$138,SMALL(IF(BD!$B$2:$B$138=$I$64,IF(BD!$B$2:$B$138=$I$64,ROW(BD!$B$2:$B$138)-ROW(BD!$B$2)+1),FALSE),ROWS(BD!$1:13)))))","v":""},null,{"$f":"IF($O$64=\"\",\"\",IF(ROWS(BD!$1:13)>COUNTIFS(BD!$B:$B,$O$64),\"\",INDEX(BD!$C$2:$C$138,SMALL(IF(BD!$B$2:$B$138=$O$64,IF(BD!$B$2:$B$138=$O$64,ROW(BD!$B$2:$B$138)-ROW(BD!$B$2)+1),FALSE),ROWS(BD!$1:13)))))","v":""},{"$f":"IF($O$64=\"\",\"\",IF(ROWS(BD!$1:13)>COUNTIFS(BD!$B:$B,$O$64),\"\",INDEX(BD!$E$2:$E$138,SMALL(IF(BD!$B$2:$B$138=$O$64,IF(BD!$B$2:$B$138=$O$64,ROW(BD!$B$2:$B$138)-ROW(BD!$B$2)+1),FALSE),ROWS(BD!$1:13)))))","v":""},{"$f":"IF($O$64=\"\",\"\",IF(ROWS(BD!$1:13)>COUNTIFS(BD!$B:$B,$O$64),\"\",INDEX(BD!$F$2:$F$138,SMALL(IF(BD!$B$2:$B$138=$O$64,IF(BD!$B$2:$B$138=$O$64,ROW(BD!$B$2:$B$138)-ROW(BD!$B$2)+1),FALSE),ROWS(BD!$1:13)))))","v":""},{"$f":"IF($O$64=\"\",\"\",IF(ROWS(BD!$1:13)>COUNTIFS(BD!$B:$B,$O$64),\"\",INDEX(BD!$G$2:$G$138,SMALL(IF(BD!$B$2:$B$138=$O$64,IF(BD!$B$2:$B$138=$O$64,ROW(BD!$B$2:$B$138)-ROW(BD!$B$2)+1),FALSE),ROWS(BD!$1:13)))))","v":""},{"$f":"IF($O$64=\"\",\"\",IF(ROWS(BD!$1:13)>COUNTIFS(BD!$B:$B,$O$64),\"\",INDEX(BD!$H$2:$H$138,SMALL(IF(BD!$B$2:$B$138=$O$64,IF(BD!$B$2:$B$138=$O$64,ROW(BD!$B$2:$B$138)-ROW(BD!$B$2)+1),FALSE),ROWS(BD!$1:13)))))","v":""},null,{"$f":"IF($U$64=\"\",\"\",IF(ROWS(BD!$1:13)>COUNTIFS(BD!$B:$B,$U$64),\"\",INDEX(BD!$C$2:$C$138,SMALL(IF(BD!$B$2:$B$138=$U$64,IF(BD!$B$2:$B$138=$U$64,ROW(BD!$B$2:$B$138)-ROW(BD!$B$2)+1),FALSE),ROWS(BD!$1:13)))))","v":""},{"$f":"IF($U$64=\"\",\"\",IF(ROWS(BD!$1:13)>COUNTIFS(BD!$B:$B,$U$64),\"\",INDEX(BD!$E$2:$E$138,SMALL(IF(BD!$B$2:$B$138=$U$64,IF(BD!$B$2:$B$138=$U$64,ROW(BD!$B$2:$B$138)-ROW(BD!$B$2)+1),FALSE),ROWS(BD!$1:13)))))","v":""},{"$f":"IF($U$64=\"\",\"\",IF(ROWS(BD!$1:13)>COUNTIFS(BD!$B:$B,$U$64),\"\",INDEX(BD!$F$2:$F$138,SMALL(IF(BD!$B$2:$B$138=$U$64,IF(BD!$B$2:$B$138=$U$64,ROW(BD!$B$2:$B$138)-ROW(BD!$B$2)+1),FALSE),ROWS(BD!$1:13)))))","v":""},{"$f":"IF($U$64=\"\",\"\",IF(ROWS(BD!$1:13)>COUNTIFS(BD!$B:$B,$U$64),\"\",INDEX(BD!$G$2:$G$138,SMALL(IF(BD!$B$2:$B$138=$U$64,IF(BD!$B$2:$B$138=$U$64,ROW(BD!$B$2:$B$138)-ROW(BD!$B$2)+1),FALSE),ROWS(BD!$1:13)))))","v":""},{"$f":"IF($U$64=\"\",\"\",IF(ROWS(BD!$1:13)>COUNTIFS(BD!$B:$B,$U$64),\"\",INDEX(BD!$H$2:$H$138,SMALL(IF(BD!$B$2:$B$138=$U$64,IF(BD!$B$2:$B$138=$U$64,ROW(BD!$B$2:$B$138)-ROW(BD!$B$2)+1),FALSE),ROWS(BD!$1:13)))))","v":""},null,{"$f":"IF($AA$64=\"\",\"\",IF(ROWS(BD!$1:13)>COUNTIFS(BD!$B:$B,$AA$64),\"\",INDEX(BD!$C$2:$C$138,SMALL(IF(BD!$B$2:$B$138=$AA$64,IF(BD!$B$2:$B$138=$AA$64,ROW(BD!$B$2:$B$138)-ROW(BD!$B$2)+1),FALSE),ROWS(BD!$1:13)))))","v":""},{"$f":"IF($AA$64=\"\",\"\",IF(ROWS(BD!$1:13)>COUNTIFS(BD!$B:$B,$AA$64),\"\",INDEX(BD!$E$2:$E$138,SMALL(IF(BD!$B$2:$B$138=$AA$64,IF(BD!$B$2:$B$138=$AA$64,ROW(BD!$B$2:$B$138)-ROW(BD!$B$2)+1),FALSE),ROWS(BD!$1:13)))))","v":""},{"$f":"IF($AA$64=\"\",\"\",IF(ROWS(BD!$1:13)>COUNTIFS(BD!$B:$B,$AA$64),\"\",INDEX(BD!$F$2:$F$138,SMALL(IF(BD!$B$2:$B$138=$AA$64,IF(BD!$B$2:$B$138=$AA$64,ROW(BD!$B$2:$B$138)-ROW(BD!$B$2)+1),FALSE),ROWS(BD!$1:13)))))","v":""},{"$f":"IF($AA$64=\"\",\"\",IF(ROWS(BD!$1:13)>COUNTIFS(BD!$B:$B,$AA$64),\"\",INDEX(BD!$G$2:$G$138,SMALL(IF(BD!$B$2:$B$138=$AA$64,IF(BD!$B$2:$B$138=$AA$64,ROW(BD!$B$2:$B$138)-ROW(BD!$B$2)+1),FALSE),ROWS(BD!$1:13)))))","v":""},{"$f":"IF($AA$64=\"\",\"\",IF(ROWS(BD!$1:13)>COUNTIFS(BD!$B:$B,$AA$64),\"\",INDEX(BD!$H$2:$H$138,SMALL(IF(BD!$B$2:$B$138=$AA$64,IF(BD!$B$2:$B$138=$AA$64,ROW(BD!$B$2:$B$138)-ROW(BD!$B$2)+1),FALSE),ROWS(BD!$1:13)))))","v":""},null,{"$f":"IF($AG$64=\"\",\"\",IF(ROWS(BD!$1:13)>COUNTIFS(BD!$B:$B,$AG$64),\"\",INDEX(BD!$C$2:$C$138,SMALL(IF(BD!$B$2:$B$138=$AG$64,IF(BD!$B$2:$B$138=$AG$64,ROW(BD!$B$2:$B$138)-ROW(BD!$B$2)+1),FALSE),ROWS(BD!$1:13)))))","v":""},{"$f":"IF($AG$64=\"\",\"\",IF(ROWS(BD!$1:13)>COUNTIFS(BD!$B:$B,$AG$64),\"\",INDEX(BD!$E$2:$E$138,SMALL(IF(BD!$B$2:$B$138=$AG$64,IF(BD!$B$2:$B$138=$AG$64,ROW(BD!$B$2:$B$138)-ROW(BD!$B$2)+1),FALSE),ROWS(BD!$1:13)))))","v":""},{"$f":"IF($AG$64=\"\",\"\",IF(ROWS(BD!$1:13)>COUNTIFS(BD!$B:$B,$AG$64),\"\",INDEX(BD!$F$2:$F$138,SMALL(IF(BD!$B$2:$B$138=$AG$64,IF(BD!$B$2:$B$138=$AG$64,ROW(BD!$B$2:$B$138)-ROW(BD!$B$2)+1),FALSE),ROWS(BD!$1:13)))))","v":""},{"$f":"IF($AG$64=\"\",\"\",IF(ROWS(BD!$1:13)>COUNTIFS(BD!$B:$B,$AG$64),\"\",INDEX(BD!$G$2:$G$138,SMALL(IF(BD!$B$2:$B$138=$AG$64,IF(BD!$B$2:$B$138=$AG$64,ROW(BD!$B$2:$B$138)-ROW(BD!$B$2)+1),FALSE),ROWS(BD!$1:13)))))","v":""},{"$f":"IF($AG$64=\"\",\"\",IF(ROWS(BD!$1:13)>COUNTIFS(BD!$B:$B,$AG$64),\"\",INDEX(BD!$H$2:$H$138,SMALL(IF(BD!$B$2:$B$138=$AG$64,IF(BD!$B$2:$B$138=$AG$64,ROW(BD!$B$2:$B$138)-ROW(BD!$B$2)+1),FALSE),ROWS(BD!$1:13)))))","v":""},null,{"$f":"IF($AM$64=\"\",\"\",IF(ROWS(BD!$1:13)>COUNTIFS(BD!$B:$B,$AM$64),\"\",INDEX(BD!$C$2:$C$138,SMALL(IF(BD!$B$2:$B$138=$AM$64,IF(BD!$B$2:$B$138=$AM$64,ROW(BD!$B$2:$B$138)-ROW(BD!$B$2)+1),FALSE),ROWS(BD!$1:13)))))","v":""},{"$f":"IF($AM$64=\"\",\"\",IF(ROWS(BD!$1:13)>COUNTIFS(BD!$B:$B,$AM$64),\"\",INDEX(BD!$E$2:$E$138,SMALL(IF(BD!$B$2:$B$138=$AM$64,IF(BD!$B$2:$B$138=$AM$64,ROW(BD!$B$2:$B$138)-ROW(BD!$B$2)+1),FALSE),ROWS(BD!$1:13)))))","v":""},{"$f":"IF($AM$64=\"\",\"\",IF(ROWS(BD!$1:13)>COUNTIFS(BD!$B:$B,$AM$64),\"\",INDEX(BD!$F$2:$F$138,SMALL(IF(BD!$B$2:$B$138=$AM$64,IF(BD!$B$2:$B$138=$AM$64,ROW(BD!$B$2:$B$138)-ROW(BD!$B$2)+1),FALSE),ROWS(BD!$1:13)))))","v":""},{"$f":"IF($AM$64=\"\",\"\",IF(ROWS(BD!$1:13)>COUNTIFS(BD!$B:$B,$AM$64),\"\",INDEX(BD!$G$2:$G$138,SMALL(IF(BD!$B$2:$B$138=$AM$64,IF(BD!$B$2:$B$138=$AM$64,ROW(BD!$B$2:$B$138)-ROW(BD!$B$2)+1),FALSE),ROWS(BD!$1:13)))))","v":""},{"$f":"IF($AM$64=\"\",\"\",IF(ROWS(BD!$1:13)>COUNTIFS(BD!$B:$B,$AM$64),\"\",INDEX(BD!$H$2:$H$138,SMALL(IF(BD!$B$2:$B$138=$AM$64,IF(BD!$B$2:$B$138=$AM$64,ROW(BD!$B$2:$B$138)-ROW(BD!$B$2)+1),FALSE),ROWS(BD!$1:13)))))","v":""}]
[null,null,{"$f":"IF($C$64=\"\",\"\",IF(ROWS(BD!$1:14)>COUNTIFS(BD!$B:$B,$C$64),\"\",INDEX(BD!$C$2:$C$138,SMALL(IF(BD!$B$2:$B$138=$C$64,IF(BD!$B$2:$B$138=$C$64,ROW(BD!$B$2:$B$138)-ROW(BD!$B$2)+1),FALSE),ROWS(BD!$1:14)))))","v":""},{"$f":"IF($C$64=\"\",\"\",IF(ROWS(BD!$1:14)>COUNTIFS(BD!$B:$B,$C$64),\"\",INDEX(BD!$E$2:$E$138,SMALL(IF(BD!$B$2:$B$138=$C$64,IF(BD!$B$2:$B$138=$C$64,ROW(BD!$B$2:$B$138)-ROW(BD!$B$2)+1),FALSE),ROWS(BD!$1:14)))))","v":""},{"$f":"IF($C$64=\"\",\"\",IF(ROWS(BD!$1:14)>COUNTIFS(BD!$B:$B,$C$64),\"\",INDEX(BD!$F$2:$F$138,SMALL(IF(BD!$B$2:$B$138=$C$64,IF(BD!$B$2:$B$138=$C$64,ROW(BD!$B$2:$B$138)-ROW(BD!$B$2)+1),FALSE),ROWS(BD!$1:14)))))","v":""},{"$f":"IF($C$64=\"\",\"\",IF(ROWS(BD!$1:14)>COUNTIFS(BD!$B:$B,$C$64),\"\",INDEX(BD!$G$2:$G$138,SMALL(IF(BD!$B$2:$B$138=$C$64,IF(BD!$B$2:$B$138=$C$64,ROW(BD!$B$2:$B$138)-ROW(BD!$B$2)+1),FALSE),ROWS(BD!$1:14)))))","v":""},{"$f":"IF($C$64=\"\",\"\",IF(ROWS(BD!$1:14)>COUNTIFS(BD!$B:$B,$C$64),\"\",INDEX(BD!$H$2:$H$138,SMALL(IF(BD!$B$2:$B$138=$C$64,IF(BD!$B$2:$B$138=$C$64,ROW(BD!$B$2:$B$138)-ROW(BD!$B$2)+1),FALSE),ROWS(BD!$1:14)))))","v":""},null,{"$f":"IF($I$64=\"\",\"\",IF(ROWS(BD!$1:14)>COUNTIFS(BD!$B:$B,$I$64),\"\",INDEX(BD!$C$2:$C$138,SMALL(IF(BD!$B$2:$B$138=$I$64,IF(BD!$B$2:$B$138=$I$64,ROW(BD!$B$2:$B$138)-ROW(BD!$B$2)+1),FALSE),ROWS(BD!$1:14)))))","v":""},{"$f":"IF($I$64=\"\",\"\",IF(ROWS(BD!$1:14)>COUNTIFS(BD!$B:$B,$I$64),\"\",INDEX(BD!$E$2:$E$138,SMALL(IF(BD!$B$2:$B$138=$I$64,IF(BD!$B$2:$B$138=$I$64,ROW(BD!$B$2:$B$138)-ROW(BD!$B$2)+1),FALSE),ROWS(BD!$1:14)))))","v":""},{"$f":"IF($I$64=\"\",\"\",IF(ROWS(BD!$1:14)>COUNTIFS(BD!$B:$B,$I$64),\"\",INDEX(BD!$F$2:$F$138,SMALL(IF(BD!$B$2:$B$138=$I$64,IF(BD!$B$2:$B$138=$I$64,ROW(BD!$B$2:$B$138)-ROW(BD!$B$2)+1),FALSE),ROWS(BD!$1:14)))))","v":""},{"$f":"IF($I$64=\"\",\"\",IF(ROWS(BD!$1:14)>COUNTIFS(BD!$B:$B,$I$64),\"\",INDEX(BD!$G$2:$G$138,SMALL(IF(BD!$B$2:$B$138=$I$64,IF(BD!$B$2:$B$138=$I$64,ROW(BD!$B$2:$B$138)-ROW(BD!$B$2)+1),FALSE),ROWS(BD!$1:14)))))","v":""},{"$f":"IF($I$64=\"\",\"\",IF(ROWS(BD!$1:14)>COUNTIFS(BD!$B:$B,$I$64),\"\",INDEX(BD!$H$2:$H$138,SMALL(IF(BD!$B$2:$B$138=$I$64,IF(BD!$B$2:$B$138=$I$64,ROW(BD!$B$2:$B$138)-ROW(BD!$B$2)+1),FALSE),ROWS(BD!$1:14)))))","v":""},null,{"$f":"IF($O$64=\"\",\"\",IF(ROWS(BD!$1:14)>COUNTIFS(BD!$B:$B,$O$64),\"\",INDEX(BD!$C$2:$C$138,SMALL(IF(BD!$B$2:$B$138=$O$64,IF(BD!$B$2:$B$138=$O$64,ROW(BD!$B$2:$B$138)-ROW(BD!$B$2)+1),FALSE),ROWS(BD!$1:14)))))","v":""},{"$f":"IF($O$64=\"\",\"\",IF(ROWS(BD!$1:14)>COUNTIFS(BD!$B:$B,$O$64),\"\",INDEX(BD!$E$2:$E$138,SMALL(IF(BD!$B$2:$B$138=$O$64,IF(BD!$B$2:$B$138=$O$64,ROW(BD!$B$2:$B$138)-ROW(BD!$B$2)+1),FALSE),ROWS(BD!$1:14)))))","v":""},{"$f":"IF($O$64=\"\",\"\",IF(ROWS(BD!$1:14)>COUNTIFS(BD!$B:$B,$O$64),\"\",INDEX(BD!$F$2:$F$138,SMALL(IF(BD!$B$2:$B$138=$O$64,IF(BD!$B$2:$B$138=$O$64,ROW(BD!$B$2:$B$138)-ROW(BD!$B$2)+1),FALSE),ROWS(BD!$1:14)))))","v":""},{"$f":"IF($O$64=\"\",\"\",IF(ROWS(BD!$1:14)>COUNTIFS(BD!$B:$B,$O$64),\"\",INDEX(BD!$G$2:$G$138,SMALL(IF(BD!$B$2:$B$138=$O$64,IF(BD!$B$2:$B$138=$O$64,ROW(BD!$B$2:$B$138)-ROW(BD!$B$2)+1),FALSE),ROWS(BD!$1:14)))))","v":""},{"$f":"IF($O$64=\"\",\"\",IF(ROWS(BD!$1:14)>COUNTIFS(BD!$B:$B,$O$64),\"\",INDEX(BD!$H$2:$H$138,SMALL(IF(BD!$B$2:$B$138=$O$64,IF(BD!$B$2:$B$138=$O$64,ROW(BD!$B$2:$B$138)-ROW(BD!$B$2)+1),FALSE),ROWS(BD!$1:14)))))","v":""},null,{"$f":"IF($U$64=\"\",\"\",IF(ROWS(BD!$1:14)>COUNTIFS(BD!$B:$B,$U$64),\"\",INDEX(BD!$C$2:$C$138,SMALL(IF(BD!$B$2:$B$138=$U$64,IF(BD!$B$2:$B$138=$U$64,ROW(BD!$B$2:$B$138)-ROW(BD!$B$2)+1),FALSE),ROWS(BD!$1:14)))))","v":""},{"$f":"IF($U$64=\"\",\"\",IF(ROWS(BD!$1:14)>COUNTIFS(BD!$B:$B,$U$64),\"\",INDEX(BD!$E$2:$E$138,SMALL(IF(BD!$B$2:$B$138=$U$64,IF(BD!$B$2:$B$138=$U$64,ROW(BD!$B$2:$B$138)-ROW(BD!$B$2)+1),FALSE),ROWS(BD!$1:14)))))","v":""},{"$f":"IF($U$64=\"\",\"\",IF(ROWS(BD!$1:14)>COUNTIFS(BD!$B:$B,$U$64),\"\",INDEX(BD!$F$2:$F$138,SMALL(IF(BD!$B$2:$B$138=$U$64,IF(BD!$B$2:$B$138=$U$64,ROW(BD!$B$2:$B$138)-ROW(BD!$B$2)+1),FALSE),ROWS(BD!$1:14)))))","v":""},{"$f":"IF($U$64=\"\",\"\",IF(ROWS(BD!$1:14)>COUNTIFS(BD!$B:$B,$U$64),\"\",INDEX(BD!$G$2:$G$138,SMALL(IF(BD!$B$2:$B$138=$U$64,IF(BD!$B$2:$B$138=$U$64,ROW(BD!$B$2:$B$138)-ROW(BD!$B$2)+1),FALSE),ROWS(BD!$1:14)))))","v":""},{"$f":"IF($U$64=\"\",\"\",IF(ROWS(BD!$1:14)>COUNTIFS(BD!$B:$B,$U$64),\"\",INDEX(BD!$H$2:$H$138,SMALL(IF(BD!$B$2:$B$138=$U$64,IF(BD!$B$2:$B$138=$U$64,ROW(BD!$B$2:$B$138)-ROW(BD!$B$2)+1),FALSE),ROWS(BD!$1:14)))))","v":""},null,{"$f":"IF($AA$64=\"\",\"\",IF(ROWS(BD!$1:14)>COUNTIFS(BD!$B:$B,$AA$64),\"\",INDEX(BD!$C$2:$C$138,SMALL(IF(BD!$B$2:$B$138=$AA$64,IF(BD!$B$2:$B$138=$AA$64,ROW(BD!$B$2:$B$138)-ROW(BD!$B$2)+1),FALSE),ROWS(BD!$1:14)))))","v":""},{"$f":"IF($AA$64=\"\",\"\",IF(ROWS(BD!$1:14)>COUNTIFS(BD!$B:$B,$AA$64),\"\",INDEX(BD!$E$2:$E$138,SMALL(IF(BD!$B$2:$B$138=$AA$64,IF(BD!$B$2:$B$138=$AA$64,ROW(BD!$B$2:$B$138)-ROW(BD!$B$2)+1),FALSE),ROWS(BD!$1:14)))))","v":""},{"$f":"IF($AA$64=\"\",\"\",IF(ROWS(BD!$1:14)>COUNTIFS(BD!$B:$B,$AA$64),\"\",INDEX(BD!$F$2:$F$138,SMALL(IF(BD!$B$2:$B$138=$AA$64,IF(BD!$B$2:$B$138=$AA$64,ROW(BD!$B$2:$B$138)-ROW(BD!$B$2)+1),FALSE),ROWS(BD!$1:14)))))","v":""},{"$f":"IF($AA$64=\"\",\"\",IF(ROWS(BD!$1:14)>COUNTIFS(BD!$B:$B,$AA$64),\"\",INDEX(BD!$G$2:$G$138,SMALL(IF(BD!$B$2:$B$138=$AA$64,IF(BD!$B$2:$B$138=$AA$64,ROW(BD!$B$2:$B$138)-ROW(BD!$B$2)+1),FALSE),ROWS(BD!$1:14)))))","v":""},{"$f":"IF($AA$64=\"\",\"\",IF(ROWS(BD!$1:14)>COUNTIFS(BD!$B:$B,$AA$64),\"\",INDEX(BD!$H$2:$H$138,SMALL(IF(BD!$B$2:$B$138=$AA$64,IF(BD!$B$2:$B$138=$AA$64,ROW(BD!$B$2:$B$138)-ROW(BD!$B$2)+1),FALSE),ROWS(BD!$1:14)))))","v":""},null,{"$f":"IF($AG$64=\"\",\"\",IF(ROWS(BD!$1:14)>COUNTIFS(BD!$B:$B,$AG$64),\"\",INDEX(BD!$C$2:$C$138,SMALL(IF(BD!$B$2:$B$138=$AG$64,IF(BD!$B$2:$B$138=$AG$64,ROW(BD!$B$2:$B$138)-ROW(BD!$B$2)+1),FALSE),ROWS(BD!$1:14)))))","v":""},{"$f":"IF($AG$64=\"\",\"\",IF(ROWS(BD!$1:14)>COUNTIFS(BD!$B:$B,$AG$64),\"\",INDEX(BD!$E$2:$E$138,SMALL(IF(BD!$B$2:$B$138=$AG$64,IF(BD!$B$2:$B$138=$AG$64,ROW(BD!$B$2:$B$138)-ROW(BD!$B$2)+1),FALSE),ROWS(BD!$1:14)))))","v":""},{"$f":"IF($AG$64=\"\",\"\",IF(ROWS(BD!$1:14)>COUNTIFS(BD!$B:$B,$AG$64),\"\",INDEX(BD!$F$2:$F$138,SMALL(IF(BD!$B$2:$B$138=$AG$64,IF(BD!$B$2:$B$138=$AG$64,ROW(BD!$B$2:$B$138)-ROW(BD!$B$2)+1),FALSE),ROWS(BD!$1:14)))))","v":""},{"$f":"IF($AG$64=\"\",\"\",IF(ROWS(BD!$1:14)>COUNTIFS(BD!$B:$B,$AG$64),\"\",INDEX(BD!$G$2:$G$138,SMALL(IF(BD!$B$2:$B$138=$AG$64,IF(BD!$B$2:$B$138=$AG$64,ROW(BD!$B$2:$B$138)-ROW(BD!$B$2)+1),FALSE),ROWS(BD!$1:14)))))","v":""},{"$f":"IF($AG$64=\"\",\"\",IF(ROWS(BD!$1:14)>COUNTIFS(BD!$B:$B,$AG$64),\"\",INDEX(BD!$H$2:$H$138,SMALL(IF(BD!$B$2:$B$138=$AG$64,IF(BD!$B$2:$B$138=$AG$64,ROW(BD!$B$2:$B$138)-ROW(BD!$B$2)+1),FALSE),ROWS(BD!$1:14)))))","v":""},null,{"$f":"IF($AM$64=\"\",\"\",IF(ROWS(BD!$1:14)>COUNTIFS(BD!$B:$B,$AM$64),\"\",INDEX(BD!$C$2:$C$138,SMALL(IF(BD!$B$2:$B$138=$AM$64,IF(BD!$B$2:$B$138=$AM$64,ROW(BD!$B$2:$B$138)-ROW(BD!$B$2)+1),FALSE),ROWS(BD!$1:14)))))","v":""},{"$f":"IF($AM$64=\"\",\"\",IF(ROWS(BD!$1:14)>COUNTIFS(BD!$B:$B,$AM$64),\"\",INDEX(BD!$E$2:$E$138,SMALL(IF(BD!$B$2:$B$138=$AM$64,IF(BD!$B$2:$B$138=$AM$64,ROW(BD!$B$2:$B$138)-ROW(BD!$B$2)+1),FALSE),ROWS(BD!$1:14)))))","v":""},{"$f":"IF($AM$64=\"\",\"\",IF(ROWS(BD!$1:14)>COUNTIFS(BD!$B:$B,$AM$64),\"\",INDEX(BD!$F$2:$F$138,SMALL(IF(BD!$B$2:$B$138=$AM$64,IF(BD!$B$2:$B$138=$AM$64,ROW(BD!$B$2:$B$138)-ROW(BD!$B$2)+1),FALSE),ROWS(BD!$1:14)))))","v":""},{"$f":"IF($AM$64=\"\",\"\",IF(ROWS(BD!$1:14)>COUNTIFS(BD!$B:$B,$AM$64),\"\",INDEX(BD!$G$2:$G$138,SMALL(IF(BD!$B$2:$B$138=$AM$64,IF(BD!$B$2:$B$138=$AM$64,ROW(BD!$B$2:$B$138)-ROW(BD!$B$2)+1),FALSE),ROWS(BD!$1:14)))))","v":""},{"$f":"IF($AM$64=\"\",\"\",IF(ROWS(BD!$1:14)>COUNTIFS(BD!$B:$B,$AM$64),\"\",INDEX(BD!$H$2:$H$138,SMALL(IF(BD!$B$2:$B$138=$AM$64,IF(BD!$B$2:$B$138=$AM$64,ROW(BD!$B$2:$B$138)-ROW(BD!$B$2)+1),FALSE),ROWS(BD!$1:14)))))","v":""}]
[null,null,{"$f":"IF($C$64=\"\",\"\",IF(ROWS(BD!$1:15)>COUNTIFS(BD!$B:$B,$C$64),\"\",INDEX(BD!$C$2:$C$138,SMALL(IF(BD!$B$2:$B$138=$C$64,IF(BD!$B$2:$B$138=$C$64,ROW(BD!$B$2:$B$138)-ROW(BD!$B$2)+1),FALSE),ROWS(BD!$1:15)))))","v":""},{"$f":"IF($C$64=\"\",\"\",IF(ROWS(BD!$1:15)>COUNTIFS(BD!$B:$B,$C$64),\"\",INDEX(BD!$E$2:$E$138,SMALL(IF(BD!$B$2:$B$138=$C$64,IF(BD!$B$2:$B$138=$C$64,ROW(BD!$B$2:$B$138)-ROW(BD!$B$2)+1),FALSE),ROWS(BD!$1:15)))))","v":""},{"$f":"IF($C$64=\"\",\"\",IF(ROWS(BD!$1:15)>COUNTIFS(BD!$B:$B,$C$64),\"\",INDEX(BD!$F$2:$F$138,SMALL(IF(BD!$B$2:$B$138=$C$64,IF(BD!$B$2:$B$138=$C$64,ROW(BD!$B$2:$B$138)-ROW(BD!$B$2)+1),FALSE),ROWS(BD!$1:15)))))","v":""},{"$f":"IF($C$64=\"\",\"\",IF(ROWS(BD!$1:15)>COUNTIFS(BD!$B:$B,$C$64),\"\",INDEX(BD!$G$2:$G$138,SMALL(IF(BD!$B$2:$B$138=$C$64,IF(BD!$B$2:$B$138=$C$64,ROW(BD!$B$2:$B$138)-ROW(BD!$B$2)+1),FALSE),ROWS(BD!$1:15)))))","v":""},{"$f":"IF($C$64=\"\",\"\",IF(ROWS(BD!$1:15)>COUNTIFS(BD!$B:$B,$C$64),\"\",INDEX(BD!$H$2:$H$138,SMALL(IF(BD!$B$2:$B$138=$C$64,IF(BD!$B$2:$B$138=$C$64,ROW(BD!$B$2:$B$138)-ROW(BD!$B$2)+1),FALSE),ROWS(BD!$1:15)))))","v":""},null,{"$f":"IF($I$64=\"\",\"\",IF(ROWS(BD!$1:15)>COUNTIFS(BD!$B:$B,$I$64),\"\",INDEX(BD!$C$2:$C$138,SMALL(IF(BD!$B$2:$B$138=$I$64,IF(BD!$B$2:$B$138=$I$64,ROW(BD!$B$2:$B$138)-ROW(BD!$B$2)+1),FALSE),ROWS(BD!$1:15)))))","v":""},{"$f":"IF($I$64=\"\",\"\",IF(ROWS(BD!$1:15)>COUNTIFS(BD!$B:$B,$I$64),\"\",INDEX(BD!$E$2:$E$138,SMALL(IF(BD!$B$2:$B$138=$I$64,IF(BD!$B$2:$B$138=$I$64,ROW(BD!$B$2:$B$138)-ROW(BD!$B$2)+1),FALSE),ROWS(BD!$1:15)))))","v":""},{"$f":"IF($I$64=\"\",\"\",IF(ROWS(BD!$1:15)>COUNTIFS(BD!$B:$B,$I$64),\"\",INDEX(BD!$F$2:$F$138,SMALL(IF(BD!$B$2:$B$138=$I$64,IF(BD!$B$2:$B$138=$I$64,ROW(BD!$B$2:$B$138)-ROW(BD!$B$2)+1),FALSE),ROWS(BD!$1:15)))))","v":""},{"$f":"IF($I$64=\"\",\"\",IF(ROWS(BD!$1:15)>COUNTIFS(BD!$B:$B,$I$64),\"\",INDEX(BD!$G$2:$G$138,SMALL(IF(BD!$B$2:$B$138=$I$64,IF(BD!$B$2:$B$138=$I$64,ROW(BD!$B$2:$B$138)-ROW(BD!$B$2)+1),FALSE),ROWS(BD!$1:15)))))","v":""},{"$f":"IF($I$64=\"\",\"\",IF(ROWS(BD!$1:15)>COUNTIFS(BD!$B:$B,$I$64),\"\",INDEX(BD!$H$2:$H$138,SMALL(IF(BD!$B$2:$B$138=$I$64,IF(BD!$B$2:$B$138=$I$64,ROW(BD!$B$2:$B$138)-ROW(BD!$B$2)+1),FALSE),ROWS(BD!$1:15)))))","v":""},null,{"$f":"IF($O$64=\"\",\"\",IF(ROWS(BD!$1:15)>COUNTIFS(BD!$B:$B,$O$64),\"\",INDEX(BD!$C$2:$C$138,SMALL(IF(BD!$B$2:$B$138=$O$64,IF(BD!$B$2:$B$138=$O$64,ROW(BD!$B$2:$B$138)-ROW(BD!$B$2)+1),FALSE),ROWS(BD!$1:15)))))","v":""},{"$f":"IF($O$64=\"\",\"\",IF(ROWS(BD!$1:15)>COUNTIFS(BD!$B:$B,$O$64),\"\",INDEX(BD!$E$2:$E$138,SMALL(IF(BD!$B$2:$B$138=$O$64,IF(BD!$B$2:$B$138=$O$64,ROW(BD!$B$2:$B$138)-ROW(BD!$B$2)+1),FALSE),ROWS(BD!$1:15)))))","v":""},{"$f":"IF($O$64=\"\",\"\",IF(ROWS(BD!$1:15)>COUNTIFS(BD!$B:$B,$O$64),\"\",INDEX(BD!$F$2:$F$138,SMALL(IF(BD!$B$2:$B$138=$O$64,IF(BD!$B$2:$B$138=$O$64,ROW(BD!$B$2:$B$138)-ROW(BD!$B$2)+1),FALSE),ROWS(BD!$1:15)))))","v":""},{"$f":"IF($O$64=\"\",\"\",IF(ROWS(BD!$1:15)>COUNTIFS(BD!$B:$B,$O$64),\"\",INDEX(BD!$G$2:$G$138,SMALL(IF(BD!$B$2:$B$138=$O$64,IF(BD!$B$2:$B$138=$O$64,ROW(BD!$B$2:$B$138)-ROW(BD!$B$2)+1),FALSE),ROWS(BD!$1:15)))))","v":""},{"$f":"IF($O$64=\"\",\"\",IF(ROWS(BD!$1:15)>COUNTIFS(BD!$B:$B,$O$64),\"\",INDEX(BD!$H$2:$H$138,SMALL(IF(BD!$B$2:$B$138=$O$64,IF(BD!$B$2:$B$138=$O$64,ROW(BD!$B$2:$B$138)-ROW(BD!$B$2)+1),FALSE),ROWS(BD!$1:15)))))","v":""},null,{"$f":"IF($U$64=\"\",\"\",IF(ROWS(BD!$1:15)>COUNTIFS(BD!$B:$B,$U$64),\"\",INDEX(BD!$C$2:$C$138,SMALL(IF(BD!$B$2:$B$138=$U$64,IF(BD!$B$2:$B$138=$U$64,ROW(BD!$B$2:$B$138)-ROW(BD!$B$2)+1),FALSE),ROWS(BD!$1:15)))))","v":""},{"$f":"IF($U$64=\"\",\"\",IF(ROWS(BD!$1:15)>COUNTIFS(BD!$B:$B,$U$64),\"\",INDEX(BD!$E$2:$E$138,SMALL(IF(BD!$B$2:$B$138=$U$64,IF(BD!$B$2:$B$138=$U$64,ROW(BD!$B$2:$B$138)-ROW(BD!$B$2)+1),FALSE),ROWS(BD!$1:15)))))","v":""},{"$f":"IF($U$64=\"\",\"\",IF(ROWS(BD!$1:15)>COUNTIFS(BD!$B:$B,$U$64),\"\",INDEX(BD!$F$2:$F$138,SMALL(IF(BD!$B$2:$B$138=$U$64,IF(BD!$B$2:$B$138=$U$64,ROW(BD!$B$2:$B$138)-ROW(BD!$B$2)+1),FALSE),ROWS(BD!$1:15)))))","v":""},{"$f":"IF($U$64=\"\",\"\",IF(ROWS(BD!$1:15)>COUNTIFS(BD!$B:$B,$U$64),\"\",INDEX(BD!$G$2:$G$138,SMALL(IF(BD!$B$2:$B$138=$U$64,IF(BD!$B$2:$B$138=$U$64,ROW(BD!$B$2:$B$138)-ROW(BD!$B$2)+1),FALSE),ROWS(BD!$1:15)))))","v":""},{"$f":"IF($U$64=\"\",\"\",IF(ROWS(BD!$1:15)>COUNTIFS(BD!$B:$B,$U$64),\"\",INDEX(BD!$H$2:$H$138,SMALL(IF(BD!$B$2:$B$138=$U$64,IF(BD!$B$2:$B$138=$U$64,ROW(BD!$B$2:$B$138)-ROW(BD!$B$2)+1),FALSE),ROWS(BD!$1:15)))))","v":""},null,{"$f":"IF($AA$64=\"\",\"\",IF(ROWS(BD!$1:15)>COUNTIFS(BD!$B:$B,$AA$64),\"\",INDEX(BD!$C$2:$C$138,SMALL(IF(BD!$B$2:$B$138=$AA$64,IF(BD!$B$2:$B$138=$AA$64,ROW(BD!$B$2:$B$138)-ROW(BD!$B$2)+1),FALSE),ROWS(BD!$1:15)))))","v":""},{"$f":"IF($AA$64=\"\",\"\",IF(ROWS(BD!$1:15)>COUNTIFS(BD!$B:$B,$AA$64),\"\",INDEX(BD!$E$2:$E$138,SMALL(IF(BD!$B$2:$B$138=$AA$64,IF(BD!$B$2:$B$138=$AA$64,ROW(BD!$B$2:$B$138)-ROW(BD!$B$2)+1),FALSE),ROWS(BD!$1:15)))))","v":""},{"$f":"IF($AA$64=\"\",\"\",IF(ROWS(BD!$1:15)>COUNTIFS(BD!$B:$B,$AA$64),\"\",INDEX(BD!$F$2:$F$138,SMALL(IF(BD!$B$2:$B$138=$AA$64,IF(BD!$B$2:$B$138=$AA$64,ROW(BD!$B$2:$B$138)-ROW(BD!$B$2)+1),FALSE),ROWS(BD!$1:15)))))","v":""},{"$f":"IF($AA$64=\"\",\"\",IF(ROWS(BD!$1:15)>COUNTIFS(BD!$B:$B,$AA$64),\"\",INDEX(BD!$G$2:$G$138,SMALL(IF(BD!$B$2:$B$138=$AA$64,IF(BD!$B$2:$B$138=$AA$64,ROW(BD!$B$2:$B$138)-ROW(BD!$B$2)+1),FALSE),ROWS(BD!$1:15)))))","v":""},{"$f":"IF($AA$64=\"\",\"\",IF(ROWS(BD!$1:15)>COUNTIFS(BD!$B:$B,$AA$64),\"\",INDEX(BD!$H$2:$H$138,SMALL(IF(BD!$B$2:$B$138=$AA$64,IF(BD!$B$2:$B$138=$AA$64,ROW(BD!$B$2:$B$138)-ROW(BD!$B$2)+1),FALSE),ROWS(BD!$1:15)))))","v":""},null,{"$f":"IF($AG$64=\"\",\"\",IF(ROWS(BD!$1:15)>COUNTIFS(BD!$B:$B,$AG$64),\"\",INDEX(BD!$C$2:$C$138,SMALL(IF(BD!$B$2:$B$138=$AG$64,IF(BD!$B$2:$B$138=$AG$64,ROW(BD!$B$2:$B$138)-ROW(BD!$B$2)+1),FALSE),ROWS(BD!$1:15)))))","v":""},{"$f":"IF($AG$64=\"\",\"\",IF(ROWS(BD!$1:15)>COUNTIFS(BD!$B:$B,$AG$64),\"\",INDEX(BD!$E$2:$E$138,SMALL(IF(BD!$B$2:$B$138=$AG$64,IF(BD!$B$2:$B$138=$AG$64,ROW(BD!$B$2:$B$138)-ROW(BD!$B$2)+1),FALSE),ROWS(BD!$1:15)))))","v":""},{"$f":"IF($AG$64=\"\",\"\",IF(ROWS(BD!$1:15)>COUNTIFS(BD!$B:$B,$AG$64),\"\",INDEX(BD!$F$2:$F$138,SMALL(IF(BD!$B$2:$B$138=$AG$64,IF(BD!$B$2:$B$138=$AG$64,ROW(BD!$B$2:$B$138)-ROW(BD!$B$2)+1),FALSE),ROWS(BD!$1:15)))))","v":""},{"$f":"IF($AG$64=\"\",\"\",IF(ROWS(BD!$1:15)>COUNTIFS(BD!$B:$B,$AG$64),\"\",INDEX(BD!$G$2:$G$138,SMALL(IF(BD!$B$2:$B$138=$AG$64,IF(BD!$B$2:$B$138=$AG$64,ROW(BD!$B$2:$B$138)-ROW(BD!$B$2)+1),FALSE),ROWS(BD!$1:15)))))","v":""},{"$f":"IF($AG$64=\"\",\"\",IF(ROWS(BD!$1:15)>COUNTIFS(BD!$B:$B,$AG$64),\"\",INDEX(BD!$H$2:$H$138,SMALL(IF(BD!$B$2:$B$138=$AG$64,IF(BD!$B$2:$B$138=$AG$64,ROW(BD!$B$2:$B$138)-ROW(BD!$B$2)+1),FALSE),ROWS(BD!$1:15)))))","v":""},null,{"$f":"IF($AM$64=\"\",\"\",IF(ROWS(BD!$1:15)>COUNTIFS(BD!$B:$B,$AM$64),\"\",INDEX(BD!$C$2:$C$138,SMALL(IF(BD!$B$2:$B$138=$AM$64,IF(BD!$B$2:$B$138=$AM$64,ROW(BD!$B$2:$B$138)-ROW(BD!$B$2)+1),FALSE),ROWS(BD!$1:15)))))","v":""},{"$f":"IF($AM$64=\"\",\"\",IF(ROWS(BD!$1:15)>COUNTIFS(BD!$B:$B,$AM$64),\"\",INDEX(BD!$E$2:$E$138,SMALL(IF(BD!$B$2:$B$138=$AM$64,IF(BD!$B$2:$B$138=$AM$64,ROW(BD!$B$2:$B$138)-ROW(BD!$B$2)+1),FALSE),ROWS(BD!$1:15)))))","v":""},{"$f":"IF($AM$64=\"\",\"\",IF(ROWS(BD!$1:15)>COUNTIFS(BD!$B:$B,$AM$64),\"\",INDEX(BD!$F$2:$F$138,SMALL(IF(BD!$B$2:$B$138=$AM$64,IF(BD!$B$2:$B$138=$AM$64,ROW(BD!$B$2:$B$138)-ROW(BD!$B$2)+1),FALSE),ROWS(BD!$1:15)))))","v":""},{"$f":"IF($AM$64=\"\",\"\",IF(ROWS(BD!$1:15)>COUNTIFS(BD!$B:$B,$AM$64),\"\",INDEX(BD!$G$2:$G$138,SMALL(IF(BD!$B$2:$B$138=$AM$64,IF(BD!$B$2:$B$138=$AM$64,ROW(BD!$B$2:$B$138)-ROW(BD!$B$2)+1),FALSE),ROWS(BD!$1:15)))))","v":""},{"$f":"IF($AM$64=\"\",\"\",IF(ROWS(BD!$1:15)>COUNTIFS(BD!$B:$B,$AM$64),\"\",INDEX(BD!$H$2:$H$138,SMALL(IF(BD!$B$2:$B$138=$AM$64,IF(BD!$B$2:$B$138=$AM$64,ROW(BD!$B$2:$B$138)-ROW(BD!$B$2)+1),FALSE),ROWS(BD!$1:15)))))","v":""}]
[null,null,{"$f":"IF($C$64=\"\",\"\",IF(ROWS(BD!$1:16)>COUNTIFS(BD!$B:$B,$C$64),\"\",INDEX(BD!$C$2:$C$138,SMALL(IF(BD!$B$2:$B$138=$C$64,IF(BD!$B$2:$B$138=$C$64,ROW(BD!$B$2:$B$138)-ROW(BD!$B$2)+1),FALSE),ROWS(BD!$1:16)))))","v":""},{"$f":"IF($C$64=\"\",\"\",IF(ROWS(BD!$1:16)>COUNTIFS(BD!$B:$B,$C$64),\"\",INDEX(BD!$E$2:$E$138,SMALL(IF(BD!$B$2:$B$138=$C$64,IF(BD!$B$2:$B$138=$C$64,ROW(BD!$B$2:$B$138)-ROW(BD!$B$2)+1),FALSE),ROWS(BD!$1:16)))))","v":""},{"$f":"IF($C$64=\"\",\"\",IF(ROWS(BD!$1:16)>COUNTIFS(BD!$B:$B,$C$64),\"\",INDEX(BD!$F$2:$F$138,SMALL(IF(BD!$B$2:$B$138=$C$64,IF(BD!$B$2:$B$138=$C$64,ROW(BD!$B$2:$B$138)-ROW(BD!$B$2)+1),FALSE),ROWS(BD!$1:16)))))","v":""},{"$f":"IF($C$64=\"\",\"\",IF(ROWS(BD!$1:16)>COUNTIFS(BD!$B:$B,$C$64),\"\",INDEX(BD!$G$2:$G$138,SMALL(IF(BD!$B$2:$B$138=$C$64,IF(BD!$B$2:$B$138=$C$64,ROW(BD!$B$2:$B$138)-ROW(BD!$B$2)+1),FALSE),ROWS(BD!$1:16)))))","v":""},{"$f":"IF($C$64=\"\",\"\",IF(ROWS(BD!$1:16)>COUNTIFS(BD!$B:$B,$C$64),\"\",INDEX(BD!$H$2:$H$138,SMALL(IF(BD!$B$2:$B$138=$C$64,IF(BD!$B$2:$B$138=$C$64,ROW(BD!$B$2:$B$138)-ROW(BD!$B$2)+1),FALSE),ROWS(BD!$1:16)))))","v":""},null,{"$f":"IF($I$64=\"\",\"\",IF(ROWS(BD!$1:16)>COUNTIFS(BD!$B:$B,$I$64),\"\",INDEX(BD!$C$2:$C$138,SMALL(IF(BD!$B$2:$B$138=$I$64,IF(BD!$B$2:$B$138=$I$64,ROW(BD!$B$2:$B$138)-ROW(BD!$B$2)+1),FALSE),ROWS(BD!$1:16)))))","v":""},{"$f":"IF($I$64=\"\",\"\",IF(ROWS(BD!$1:16)>COUNTIFS(BD!$B:$B,$I$64),\"\",INDEX(BD!$E$2:$E$138,SMALL(IF(BD!$B$2:$B$138=$I$64,IF(BD!$B$2:$B$138=$I$64,ROW(BD!$B$2:$B$138)-ROW(BD!$B$2)+1),FALSE),ROWS(BD!$1:16)))))","v":""},{"$f":"IF($I$64=\"\",\"\",IF(ROWS(BD!$1:16)>COUNTIFS(BD!$B:$B,$I$64),\"\",INDEX(BD!$F$2:$F$138,SMALL(IF(BD!$B$2:$B$138=$I$64,IF(BD!$B$2:$B$138=$I$64,ROW(BD!$B$2:$B$138)-ROW(BD!$B$2)+1),FALSE),ROWS(BD!$1:16)))))","v":""},{"$f":"IF($I$64=\"\",\"\",IF(ROWS(BD!$1:16)>COUNTIFS(BD!$B:$B,$I$64),\"\",INDEX(BD!$G$2:$G$138,SMALL(IF(BD!$B$2:$B$138=$I$64,IF(BD!$B$2:$B$138=$I$64,ROW(BD!$B$2:$B$138)-ROW(BD!$B$2)+1),FALSE),ROWS(BD!$1:16)))))","v":""},{"$f":"IF($I$64=\"\",\"\",IF(ROWS(BD!$1:16)>COUNTIFS(BD!$B:$B,$I$64),\"\",INDEX(BD!$H$2:$H$138,SMALL(IF(BD!$B$2:$B$138=$I$64,IF(BD!$B$2:$B$138=$I$64,ROW(BD!$B$2:$B$138)-ROW(BD!$B$2)+1),FALSE),ROWS(BD!$1:16)))))","v":""},null,{"$f":"IF($O$64=\"\",\"\",IF(ROWS(BD!$1:16)>COUNTIFS(BD!$B:$B,$O$64),\"\",INDEX(BD!$C$2:$C$138,SMALL(IF(BD!$B$2:$B$138=$O$64,IF(BD!$B$2:$B$138=$O$64,ROW(BD!$B$2:$B$138)-ROW(BD!$B$2)+1),FALSE),ROWS(BD!$1:16)))))","v":""},{"$f":"IF($O$64=\"\",\"\",IF(ROWS(BD!$1:16)>COUNTIFS(BD!$B:$B,$O$64),\"\",INDEX(BD!$E$2:$E$138,SMALL(IF(BD!$B$2:$B$138=$O$64,IF(BD!$B$2:$B$138=$O$64,ROW(BD!$B$2:$B$138)-ROW(BD!$B$2)+1),FALSE),ROWS(BD!$1:16)))))","v":""},{"$f":"IF($O$64=\"\",\"\",IF(ROWS(BD!$1:16)>COUNTIFS(BD!$B:$B,$O$64),\"\",INDEX(BD!$F$2:$F$138,SMALL(IF(BD!$B$2:$B$138=$O$64,IF(BD!$B$2:$B$138=$O$64,ROW(BD!$B$2:$B$138)-ROW(BD!$B$2)+1),FALSE),ROWS(BD!$1:16)))))","v":""},{"$f":"IF($O$64=\"\",\"\",IF(ROWS(BD!$1:16)>COUNTIFS(BD!$B:$B,$O$64),\"\",INDEX(BD!$G$2:$G$138,SMALL(IF(BD!$B$2:$B$138=$O$64,IF(BD!$B$2:$B$138=$O$64,ROW(BD!$B$2:$B$138)-ROW(BD!$B$2)+1),FALSE),ROWS(BD!$1:16)))))","v":""},{"$f":"IF($O$64=\"\",\"\",IF(ROWS(BD!$1:16)>COUNTIFS(BD!$B:$B,$O$64),\"\",INDEX(BD!$H$2:$H$138,SMALL(IF(BD!$B$2:$B$138=$O$64,IF(BD!$B$2:$B$138=$O$64,ROW(BD!$B$2:$B$138)-ROW(BD!$B$2)+1),FALSE),ROWS(BD!$1:16)))))","v":""},null,{"$f":"IF($U$64=\"\",\"\",IF(ROWS(BD!$1:16)>COUNTIFS(BD!$B:$B,$U$64),\"\",INDEX(BD!$C$2:$C$138,SMALL(IF(BD!$B$2:$B$138=$U$64,IF(BD!$B$2:$B$138=$U$64,ROW(BD!$B$2:$B$138)-ROW(BD!$B$2)+1),FALSE),ROWS(BD!$1:16)))))","v":""},{"$f":"IF($U$64=\"\",\"\",IF(ROWS(BD!$1:16)>COUNTIFS(BD!$B:$B,$U$64),\"\",INDEX(BD!$E$2:$E$138,SMALL(IF(BD!$B$2:$B$138=$U$64,IF(BD!$B$2:$B$138=$U$64,ROW(BD!$B$2:$B$138)-ROW(BD!$B$2)+1),FALSE),ROWS(BD!$1:16)))))","v":""},{"$f":"IF($U$64=\"\",\"\",IF(ROWS(BD!$1:16)>COUNTIFS(BD!$B:$B,$U$64),\"\",INDEX(BD!$F$2:$F$138,SMALL(IF(BD!$B$2:$B$138=$U$64,IF(BD!$B$2:$B$138=$U$64,ROW(BD!$B$2:$B$138)-ROW(BD!$B$2)+1),FALSE),ROWS(BD!$1:16)))))","v":""},{"$f":"IF($U$64=\"\",\"\",IF(ROWS(BD!$1:16)>COUNTIFS(BD!$B:$B,$U$64),\"\",INDEX(BD!$G$2:$G$138,SMALL(IF(BD!$B$2:$B$138=$U$64,IF(BD!$B$2:$B$138=$U$64,ROW(BD!$B$2:$B$138)-ROW(BD!$B$2)+1),FALSE),ROWS(BD!$1:16)))))","v":""},{"$f":"IF($U$64=\"\",\"\",IF(ROWS(BD!$1:16)>COUNTIFS(BD!$B:$B,$U$64),\"\",INDEX(BD!$H$2:$H$138,SMALL(IF(BD!$B$2:$B$138=$U$64,IF(BD!$B$2:$B$138=$U$64,ROW(BD!$B$2:$B$138)-ROW(BD!$B$2)+1),FALSE),ROWS(BD!$1:16)))))","v":""},null,{"$f":"IF($AA$64=\"\",\"\",IF(ROWS(BD!$1:16)>COUNTIFS(BD!$B:$B,$AA$64),\"\",INDEX(BD!$C$2:$C$138,SMALL(IF(BD!$B$2:$B$138=$AA$64,IF(BD!$B$2:$B$138=$AA$64,ROW(BD!$B$2:$B$138)-ROW(BD!$B$2)+1),FALSE),ROWS(BD!$1:16)))))","v":""},{"$f":"IF($AA$64=\"\",\"\",IF(ROWS(BD!$1:16)>COUNTIFS(BD!$B:$B,$AA$64),\"\",INDEX(BD!$E$2:$E$138,SMALL(IF(BD!$B$2:$B$138=$AA$64,IF(BD!$B$2:$B$138=$AA$64,ROW(BD!$B$2:$B$138)-ROW(BD!$B$2)+1),FALSE),ROWS(BD!$1:16)))))","v":""},{"$f":"IF($AA$64=\"\",\"\",IF(ROWS(BD!$1:16)>COUNTIFS(BD!$B:$B,$AA$64),\"\",INDEX(BD!$F$2:$F$138,SMALL(IF(BD!$B$2:$B$138=$AA$64,IF(BD!$B$2:$B$138=$AA$64,ROW(BD!$B$2:$B$138)-ROW(BD!$B$2)+1),FALSE),ROWS(BD!$1:16)))))","v":""},{"$f":"IF($AA$64=\"\",\"\",IF(ROWS(BD!$1:16)>COUNTIFS(BD!$B:$B,$AA$64),\"\",INDEX(BD!$G$2:$G$138,SMALL(IF(BD!$B$2:$B$138=$AA$64,IF(BD!$B$2:$B$138=$AA$64,ROW(BD!$B$2:$B$138)-ROW(BD!$B$2)+1),FALSE),ROWS(BD!$1:16)))))","v":""},{"$f":"IF($AA$64=\"\",\"\",IF(ROWS(BD!$1:16)>COUNTIFS(BD!$B:$B,$AA$64),\"\",INDEX(BD!$H$2:$H$138,SMALL(IF(BD!$B$2:$B$138=$AA$64,IF(BD!$B$2:$B$138=$AA$64,ROW(BD!$B$2:$B$138)-ROW(BD!$B$2)+1),FALSE),ROWS(BD!$1:16)))))","v":""},null,{"$f":"IF($AG$64=\"\",\"\",IF(ROWS(BD!$1:16)>COUNTIFS(BD!$B:$B,$AG$64),\"\",INDEX(BD!$C$2:$C$138,SMALL(IF(BD!$B$2:$B$138=$AG$64,IF(BD!$B$2:$B$138=$AG$64,ROW(BD!$B$2:$B$138)-ROW(BD!$B$2)+1),FALSE),ROWS(BD!$1:16)))))","v":""},{"$f":"IF($AG$64=\"\",\"\",IF(ROWS(BD!$1:16)>COUNTIFS(BD!$B:$B,$AG$64),\"\",INDEX(BD!$E$2:$E$138,SMALL(IF(BD!$B$2:$B$138=$AG$64,IF(BD!$B$2:$B$138=$AG$64,ROW(BD!$B$2:$B$138)-ROW(BD!$B$2)+1),FALSE),ROWS(BD!$1:16)))))","v":""},null,{"$f":"IF($AG$64=\"\",\"\",IF(ROWS(BD!$1:16)>COUNTIFS(BD!$B:$B,$AG$64),\"\",INDEX(BD!$G$2:$G$138,SMALL(IF(BD!$B$2:$B$138=$AG$64,IF(BD!$B$2:$B$138=$AG$64,ROW(BD!$B$2:$B$138)-ROW(BD!$B$2)+1),FALSE),ROWS(BD!$1:16)))))","v":""},{"$f":"IF($AG$64=\"\",\"\",IF(ROWS(BD!$1:16)>COUNTIFS(BD!$B:$B,$AG$64),\"\",INDEX(BD!$H$2:$H$138,SMALL(IF(BD!$B$2:$B$138=$AG$64,IF(BD!$B$2:$B$138=$AG$64,ROW(BD!$B$2:$B$138)-ROW(BD!$B$2)+1),FALSE),ROWS(BD!$1:16)))))","v":""},null,{"$f":"IF($AM$64=\"\",\"\",IF(ROWS(BD!$1:16)>COUNTIFS(BD!$B:$B,$AM$64),\"\",INDEX(BD!$C$2:$C$138,SMALL(IF(BD!$B$2:$B$138=$AM$64,IF(BD!$B$2:$B$138=$AM$64,ROW(BD!$B$2:$B$138)-ROW(BD!$B$2)+1),FALSE),ROWS(BD!$1:16)))))","v":""},{"$f":"IF($AM$64=\"\",\"\",IF(ROWS(BD!$1:16)>COUNTIFS(BD!$B:$B,$AM$64),\"\",INDEX(BD!$E$2:$E$138,SMALL(IF(BD!$B$2:$B$138=$AM$64,IF(BD!$B$2:$B$138=$AM$64,ROW(BD!$B$2:$B$138)-ROW(BD!$B$2)+1),FALSE),ROWS(BD!$1:16)))))","v":""},{"$f":"IF($AM$64=\"\",\"\",IF(ROWS(BD!$1:16)>COUNTIFS(BD!$B:$B,$AM$64),\"\",INDEX(BD!$F$2:$F$138,SMALL(IF(BD!$B$2:$B$138=$AM$64,IF(BD!$B$2:$B$138=$AM$64,ROW(BD!$B$2:$B$138)-ROW(BD!$B$2)+1),FALSE),ROWS(BD!$1:16)))))","v":""},{"$f":"IF($AM$64=\"\",\"\",IF(ROWS(BD!$1:16)>COUNTIFS(BD!$B:$B,$AM$64),\"\",INDEX(BD!$G$2:$G$138,SMALL(IF(BD!$B$2:$B$138=$AM$64,IF(BD!$B$2:$B$138=$AM$64,ROW(BD!$B$2:$B$138)-ROW(BD!$B$2)+1),FALSE),ROWS(BD!$1:16)))))","v":""},{"$f":"IF($AM$64=\"\",\"\",IF(ROWS(BD!$1:16)>COUNTIFS(BD!$B:$B,$AM$64),\"\",INDEX(BD!$H$2:$H$138,SMALL(IF(BD!$B$2:$B$138=$AM$64,IF(BD!$B$2:$B$138=$AM$64,ROW(BD!$B$2:$B$138)-ROW(BD!$B$2)+1),FALSE),ROWS(BD!$1:16)))))","v":""}]
[null,null,{"$f":"IF($C$64=\"\",\"\",IF(ROWS(BD!$1:17)>COUNTIFS(BD!$B:$B,$C$64),\"\",INDEX(BD!$C$2:$C$138,SMALL(IF(BD!$B$2:$B$138=$C$64,IF(BD!$B$2:$B$138=$C$64,ROW(BD!$B$2:$B$138)-ROW(BD!$B$2)+1),FALSE),ROWS(BD!$1:17)))))","v":""},{"$f":"IF($C$64=\"\",\"\",IF(ROWS(BD!$1:17)>COUNTIFS(BD!$B:$B,$C$64),\"\",INDEX(BD!$E$2:$E$138,SMALL(IF(BD!$B$2:$B$138=$C$64,IF(BD!$B$2:$B$138=$C$64,ROW(BD!$B$2:$B$138)-ROW(BD!$B$2)+1),FALSE),ROWS(BD!$1:17)))))","v":""},{"$f":"IF($C$64=\"\",\"\",IF(ROWS(BD!$1:17)>COUNTIFS(BD!$B:$B,$C$64),\"\",INDEX(BD!$F$2:$F$138,SMALL(IF(BD!$B$2:$B$138=$C$64,IF(BD!$B$2:$B$138=$C$64,ROW(BD!$B$2:$B$138)-ROW(BD!$B$2)+1),FALSE),ROWS(BD!$1:17)))))","v":""},{"$f":"IF($C$64=\"\",\"\",IF(ROWS(BD!$1:17)>COUNTIFS(BD!$B:$B,$C$64),\"\",INDEX(BD!$G$2:$G$138,SMALL(IF(BD!$B$2:$B$138=$C$64,IF(BD!$B$2:$B$138=$C$64,ROW(BD!$B$2:$B$138)-ROW(BD!$B$2)+1),FALSE),ROWS(BD!$1:17)))))","v":""},{"$f":"IF($C$64=\"\",\"\",IF(ROWS(BD!$1:17)>COUNTIFS(BD!$B:$B,$C$64),\"\",INDEX(BD!$H$2:$H$138,SMALL(IF(BD!$B$2:$B$138=$C$64,IF(BD!$B$2:$B$138=$C$64,ROW(BD!$B$2:$B$138)-ROW(BD!$B$2)+1),FALSE),ROWS(BD!$1:17)))))","v":""},null,{"$f":"IF($I$64=\"\",\"\",IF(ROWS(BD!$1:17)>COUNTIFS(BD!$B:$B,$I$64),\"\",INDEX(BD!$C$2:$C$138,SMALL(IF(BD!$B$2:$B$138=$I$64,IF(BD!$B$2:$B$138=$I$64,ROW(BD!$B$2:$B$138)-ROW(BD!$B$2)+1),FALSE),ROWS(BD!$1:17)))))","v":""},{"$f":"IF($I$64=\"\",\"\",IF(ROWS(BD!$1:17)>COUNTIFS(BD!$B:$B,$I$64),\"\",INDEX(BD!$E$2:$E$138,SMALL(IF(BD!$B$2:$B$138=$I$64,IF(BD!$B$2:$B$138=$I$64,ROW(BD!$B$2:$B$138)-ROW(BD!$B$2)+1),FALSE),ROWS(BD!$1:17)))))","v":""},{"$f":"IF($I$64=\"\",\"\",IF(ROWS(BD!$1:17)>COUNTIFS(BD!$B:$B,$I$64),\"\",INDEX(BD!$F$2:$F$138,SMALL(IF(BD!$B$2:$B$138=$I$64,IF(BD!$B$2:$B$138=$I$64,ROW(BD!$B$2:$B$138)-ROW(BD!$B$2)+1),FALSE),ROWS(BD!$1:17)))))","v":""},{"$f":"IF($I$64=\"\",\"\",IF(ROWS(BD!$1:17)>COUNTIFS(BD!$B:$B,$I$64),\"\",INDEX(BD!$G$2:$G$138,SMALL(IF(BD!$B$2:$B$138=$I$64,IF(BD!$B$2:$B$138=$I$64,ROW(BD!$B$2:$B$138)-ROW(BD!$B$2)+1),FALSE),ROWS(BD!$1:17)))))","v":""},{"$f":"IF($I$64=\"\",\"\",IF(ROWS(BD!$1:17)>COUNTIFS(BD!$B:$B,$I$64),\"\",INDEX(BD!$H$2:$H$138,SMALL(IF(BD!$B$2:$B$138=$I$64,IF(BD!$B$2:$B$138=$I$64,ROW(BD!$B$2:$B$138)-ROW(BD!$B$2)+1),FALSE),ROWS(BD!$1:17)))))","v":""},null,{"$f":"IF($O$64=\"\",\"\",IF(ROWS(BD!$1:17)>COUNTIFS(BD!$B:$B,$O$64),\"\",INDEX(BD!$C$2:$C$138,SMALL(IF(BD!$B$2:$B$138=$O$64,IF(BD!$B$2:$B$138=$O$64,ROW(BD!$B$2:$B$138)-ROW(BD!$B$2)+1),FALSE),ROWS(BD!$1:17)))))","v":""},{"$f":"IF($O$64=\"\",\"\",IF(ROWS(BD!$1:17)>COUNTIFS(BD!$B:$B,$O$64),\"\",INDEX(BD!$E$2:$E$138,SMALL(IF(BD!$B$2:$B$138=$O$64,IF(BD!$B$2:$B$138=$O$64,ROW(BD!$B$2:$B$138)-ROW(BD!$B$2)+1),FALSE),ROWS(BD!$1:17)))))","v":""},{"$f":"IF($O$64=\"\",\"\",IF(ROWS(BD!$1:17)>COUNTIFS(BD!$B:$B,$O$64),\"\",INDEX(BD!$F$2:$F$138,SMALL(IF(BD!$B$2:$B$138=$O$64,IF(BD!$B$2:$B$138=$O$64,ROW(BD!$B$2:$B$138)-ROW(BD!$B$2)+1),FALSE),ROWS(BD!$1:17)))))","v":""},{"$f":"IF($O$64=\"\",\"\",IF(ROWS(BD!$1:17)>COUNTIFS(BD!$B:$B,$O$64),\"\",INDEX(BD!$G$2:$G$138,SMALL(IF(BD!$B$2:$B$138=$O$64,IF(BD!$B$2:$B$138=$O$64,ROW(BD!$B$2:$B$138)-ROW(BD!$B$2)+1),FALSE),ROWS(BD!$1:17)))))","v":""},{"$f":"IF($O$64=\"\",\"\",IF(ROWS(BD!$1:17)>COUNTIFS(BD!$B:$B,$O$64),\"\",INDEX(BD!$H$2:$H$138,SMALL(IF(BD!$B$2:$B$138=$O$64,IF(BD!$B$2:$B$138=$O$64,ROW(BD!$B$2:$B$138)-ROW(BD!$B$2)+1),FALSE),ROWS(BD!$1:17)))))","v":""},null,{"$f":"IF($U$64=\"\",\"\",IF(ROWS(BD!$1:17)>COUNTIFS(BD!$B:$B,$U$64),\"\",INDEX(BD!$C$2:$C$138,SMALL(IF(BD!$B$2:$B$138=$U$64,IF(BD!$B$2:$B$138=$U$64,ROW(BD!$B$2:$B$138)-ROW(BD!$B$2)+1),FALSE),ROWS(BD!$1:17)))))","v":""},{"$f":"IF($U$64=\"\",\"\",IF(ROWS(BD!$1:17)>COUNTIFS(BD!$B:$B,$U$64),\"\",INDEX(BD!$E$2:$E$138,SMALL(IF(BD!$B$2:$B$138=$U$64,IF(BD!$B$2:$B$138=$U$64,ROW(BD!$B$2:$B$138)-ROW(BD!$B$2)+1),FALSE),ROWS(BD!$1:17)))))","v":""},{"$f":"IF($U$64=\"\",\"\",IF(ROWS(BD!$1:17)>COUNTIFS(BD!$B:$B,$U$64),\"\",INDEX(BD!$F$2:$F$138,SMALL(IF(BD!$B$2:$B$138=$U$64,IF(BD!$B$2:$B$138=$U$64,ROW(BD!$B$2:$B$138)-ROW(BD!$B$2)+1),FALSE),ROWS(BD!$1:17)))))","v":""},{"$f":"IF($U$64=\"\",\"\",IF(ROWS(BD!$1:17)>COUNTIFS(BD!$B:$B,$U$64),\"\",INDEX(BD!$G$2:$G$138,SMALL(IF(BD!$B$2:$B$138=$U$64,IF(BD!$B$2:$B$138=$U$64,ROW(BD!$B$2:$B$138)-ROW(BD!$B$2)+1),FALSE),ROWS(BD!$1:17)))))","v":""},{"$f":"IF($U$64=\"\",\"\",IF(ROWS(BD!$1:17)>COUNTIFS(BD!$B:$B,$U$64),\"\",INDEX(BD!$H$2:$H$138,SMALL(IF(BD!$B$2:$B$138=$U$64,IF(BD!$B$2:$B$138=$U$64,ROW(BD!$B$2:$B$138)-ROW(BD!$B$2)+1),FALSE),ROWS(BD!$1:17)))))","v":""},null,{"$f":"IF($AA$64=\"\",\"\",IF(ROWS(BD!$1:17)>COUNTIFS(BD!$B:$B,$AA$64),\"\",INDEX(BD!$C$2:$C$138,SMALL(IF(BD!$B$2:$B$138=$AA$64,IF(BD!$B$2:$B$138=$AA$64,ROW(BD!$B$2:$B$138)-ROW(BD!$B$2)+1),FALSE),ROWS(BD!$1:17)))))","v":""},{"$f":"IF($AA$64=\"\",\"\",IF(ROWS(BD!$1:17)>COUNTIFS(BD!$B:$B,$AA$64),\"\",INDEX(BD!$E$2:$E$138,SMALL(IF(BD!$B$2:$B$138=$AA$64,IF(BD!$B$2:$B$138=$AA$64,ROW(BD!$B$2:$B$138)-ROW(BD!$B$2)+1),FALSE),ROWS(BD!$1:17)))))","v":""},{"$f":"IF($AA$64=\"\",\"\",IF(ROWS(BD!$1:17)>COUNTIFS(BD!$B:$B,$AA$64),\"\",INDEX(BD!$F$2:$F$138,SMALL(IF(BD!$B$2:$B$138=$AA$64,IF(BD!$B$2:$B$138=$AA$64,ROW(BD!$B$2:$B$138)-ROW(BD!$B$2)+1),FALSE),ROWS(BD!$1:17)))))","v":""},{"$f":"IF($AA$64=\"\",\"\",IF(ROWS(BD!$1:17)>COUNTIFS(BD!$B:$B,$AA$64),\"\",INDEX(BD!$G$2:$G$138,SMALL(IF(BD!$B$2:$B$138=$AA$64,IF(BD!$B$2:$B$138=$AA$64,ROW(BD!$B$2:$B$138)-ROW(BD!$B$2)+1),FALSE),ROWS(BD!$1:17)))))","v":""},{"$f":"IF($AA$64=\"\",\"\",IF(ROWS(BD!$1:17)>COUNTIFS(BD!$B:$B,$AA$64),\"\",INDEX(BD!$H$2:$H$138,SMALL(IF(BD!$B$2:$B$138=$AA$64,IF(BD!$B$2:$B$138=$AA$64,ROW(BD!$B$2:$B$138)-ROW(BD!$B$2)+1),FALSE),ROWS(BD!$1:17)))))","v":""},null,{"$f":"IF($AG$64=\"\",\"\",IF(ROWS(BD!$1:17)>COUNTIFS(BD!$B:$B,$AG$64),\"\",INDEX(BD!$C$2:$C$138,SMALL(IF(BD!$B$2:$B$138=$AG$64,IF(BD!$B$2:$B$138=$AG$64,ROW(BD!$B$2:$B$138)-ROW(BD!$B$2)+1),FALSE),ROWS(BD!$1:17)))))","v":""},{"$f":"IF($AG$64=\"\",\"\",IF(ROWS(BD!$1:17)>COUNTIFS(BD!$B:$B,$AG$64),\"\",INDEX(BD!$E$2:$E$138,SMALL(IF(BD!$B$2:$B$138=$AG$64,IF(BD!$B$2:$B$138=$AG$64,ROW(BD!$B$2:$B$138)-ROW(BD!$B$2)+1),FALSE),ROWS(BD!$1:17)))))","v":""},{"$f":"IF($AG$64=\"\",\"\",IF(ROWS(BD!$1:17)>COUNTIFS(BD!$B:$B,$AG$64),\"\",INDEX(BD!$F$2:$F$138,SMALL(IF(BD!$B$2:$B$138=$AG$64,IF(BD!$B$2:$B$138=$AG$64,ROW(BD!$B$2:$B$138)-ROW(BD!$B$2)+1),FALSE),ROWS(BD!$1:17)))))","v":""},{"$f":"IF($AG$64=\"\",\"\",IF(ROWS(BD!$1:17)>COUNTIFS(BD!$B:$B,$AG$64),\"\",INDEX(BD!$G$2:$G$138,SMALL(IF(BD!$B$2:$B$138=$AG$64,IF(BD!$B$2:$B$138=$AG$64,ROW(BD!$B$2:$B$138)-ROW(BD!$B$2)+1),FALSE),ROWS(BD!$1:17)))))","v":""},{"$f":"IF($AG$64=\"\",\"\",IF(ROWS(BD!$1:17)>COUNTIFS(BD!$B:$B,$AG$64),\"\",INDEX(BD!$H$2:$H$138,SMALL(IF(BD!$B$2:$B$138=$AG$64,IF(BD!$B$2:$B$138=$AG$64,ROW(BD!$B$2:$B$138)-ROW(BD!$B$2)+1),FALSE),ROWS(BD!$1:17)))))","v":""},null,{"$f":"IF($AM$64=\"\",\"\",IF(ROWS(BD!$1:17)>COUNTIFS(BD!$B:$B,$AM$64),\"\",INDEX(BD!$C$2:$C$138,SMALL(IF(BD!$B$2:$B$138=$AM$64,IF(BD!$B$2:$B$138=$AM$64,ROW(BD!$B$2:$B$138)-ROW(BD!$B$2)+1),FALSE),ROWS(BD!$1:17)))))","v":""},{"$f":"IF($AM$64=\"\",\"\",IF(ROWS(BD!$1:17)>COUNTIFS(BD!$B:$B,$AM$64),\"\",INDEX(BD!$E$2:$E$138,SMALL(IF(BD!$B$2:$B$138=$AM$64,IF(BD!$B$2:$B$138=$AM$64,ROW(BD!$B$2:$B$138)-ROW(BD!$B$2)+1),FALSE),ROWS(BD!$1:17)))))","v":""},{"$f":"IF($AM$64=\"\",\"\",IF(ROWS(BD!$1:17)>COUNTIFS(BD!$B:$B,$AM$64),\"\",INDEX(BD!$F$2:$F$138,SMALL(IF(BD!$B$2:$B$138=$AM$64,IF(BD!$B$2:$B$138=$AM$64,ROW(BD!$B$2:$B$138)-ROW(BD!$B$2)+1),FALSE),ROWS(BD!$1:17)))))","v":""},{"$f":"IF($AM$64=\"\",\"\",IF(ROWS(BD!$1:17)>COUNTIFS(BD!$B:$B,$AM$64),\"\",INDEX(BD!$G$2:$G$138,SMALL(IF(BD!$B$2:$B$138=$AM$64,IF(BD!$B$2:$B$138=$AM$64,ROW(BD!$B$2:$B$138)-ROW(BD!$B$2)+1),FALSE),ROWS(BD!$1:17)))))","v":""},{"$f":"IF($AM$64=\"\",\"\",IF(ROWS(BD!$1:17)>COUNTIFS(BD!$B:$B,$AM$64),\"\",INDEX(BD!$H$2:$H$138,SMALL(IF(BD!$B$2:$B$138=$AM$64,IF(BD!$B$2:$B$138=$AM$64,ROW(BD!$B$2:$B$138)-ROW(BD!$B$2)+1),FALSE),ROWS(BD!$1:17)))))","v":""}]
[null,null,{"$f":"IF($C$64=\"\",\"\",IF(ROWS(BD!$1:18)>COUNTIFS(BD!$B:$B,$C$64),\"\",INDEX(BD!$C$2:$C$138,SMALL(IF(BD!$B$2:$B$138=$C$64,IF(BD!$B$2:$B$138=$C$64,ROW(BD!$B$2:$B$138)-ROW(BD!$B$2)+1),FALSE),ROWS(BD!$1:18)))))","v":""},{"$f":"IF($C$64=\"\",\"\",IF(ROWS(BD!$1:18)>COUNTIFS(BD!$B:$B,$C$64),\"\",INDEX(BD!$E$2:$E$138,SMALL(IF(BD!$B$2:$B$138=$C$64,IF(BD!$B$2:$B$138=$C$64,ROW(BD!$B$2:$B$138)-ROW(BD!$B$2)+1),FALSE),ROWS(BD!$1:18)))))","v":""},{"$f":"IF($C$64=\"\",\"\",IF(ROWS(BD!$1:18)>COUNTIFS(BD!$B:$B,$C$64),\"\",INDEX(BD!$F$2:$F$138,SMALL(IF(BD!$B$2:$B$138=$C$64,IF(BD!$B$2:$B$138=$C$64,ROW(BD!$B$2:$B$138)-ROW(BD!$B$2)+1),FALSE),ROWS(BD!$1:18)))))","v":""},{"$f":"IF($C$64=\"\",\"\",IF(ROWS(BD!$1:18)>COUNTIFS(BD!$B:$B,$C$64),\"\",INDEX(BD!$G$2:$G$138,SMALL(IF(BD!$B$2:$B$138=$C$64,IF(BD!$B$2:$B$138=$C$64,ROW(BD!$B$2:$B$138)-ROW(BD!$B$2)+1),FALSE),ROWS(BD!$1:18)))))","v":""},{"$f":"IF($C$64=\"\",\"\",IF(ROWS(BD!$1:18)>COUNTIFS(BD!$B:$B,$C$64),\"\",INDEX(BD!$H$2:$H$138,SMALL(IF(BD!$B$2:$B$138=$C$64,IF(BD!$B$2:$B$138=$C$64,ROW(BD!$B$2:$B$138)-ROW(BD!$B$2)+1),FALSE),ROWS(BD!$1:18)))))","v":""},null,{"$f":"IF($I$64=\"\",\"\",IF(ROWS(BD!$1:18)>COUNTIFS(BD!$B:$B,$I$64),\"\",INDEX(BD!$C$2:$C$138,SMALL(IF(BD!$B$2:$B$138=$I$64,IF(BD!$B$2:$B$138=$I$64,ROW(BD!$B$2:$B$138)-ROW(BD!$B$2)+1),FALSE),ROWS(BD!$1:18)))))","v":""},{"$f":"IF($I$64=\"\",\"\",IF(ROWS(BD!$1:18)>COUNTIFS(BD!$B:$B,$I$64),\"\",INDEX(BD!$E$2:$E$138,SMALL(IF(BD!$B$2:$B$138=$I$64,IF(BD!$B$2:$B$138=$I$64,ROW(BD!$B$2:$B$138)-ROW(BD!$B$2)+1),FALSE),ROWS(BD!$1:18)))))","v":""},{"$f":"IF($I$64=\"\",\"\",IF(ROWS(BD!$1:18)>COUNTIFS(BD!$B:$B,$I$64),\"\",INDEX(BD!$F$2:$F$138,SMALL(IF(BD!$B$2:$B$138=$I$64,IF(BD!$B$2:$B$138=$I$64,ROW(BD!$B$2:$B$138)-ROW(BD!$B$2)+1),FALSE),ROWS(BD!$1:18)))))","v":""},{"$f":"IF($I$64=\"\",\"\",IF(ROWS(BD!$1:18)>COUNTIFS(BD!$B:$B,$I$64),\"\",INDEX(BD!$G$2:$G$138,SMALL(IF(BD!$B$2:$B$138=$I$64,IF(BD!$B$2:$B$138=$I$64,ROW(BD!$B$2:$B$138)-ROW(BD!$B$2)+1),FALSE),ROWS(BD!$1:18)))))","v":""},{"$f":"IF($I$64=\"\",\"\",IF(ROWS(BD!$1:18)>COUNTIFS(BD!$B:$B,$I$64),\"\",INDEX(BD!$H$2:$H$138,SMALL(IF(BD!$B$2:$B$138=$I$64,IF(BD!$B$2:$B$138=$I$64,ROW(BD!$B$2:$B$138)-ROW(BD!$B$2)+1),FALSE),ROWS(BD!$1:18)))))","v":""},null,{"$f":"IF($O$64=\"\",\"\",IF(ROWS(BD!$1:18)>COUNTIFS(BD!$B:$B,$O$64),\"\",INDEX(BD!$C$2:$C$138,SMALL(IF(BD!$B$2:$B$138=$O$64,IF(BD!$B$2:$B$138=$O$64,ROW(BD!$B$2:$B$138)-ROW(BD!$B$2)+1),FALSE),ROWS(BD!$1:18)))))","v":""},{"$f":"IF($O$64=\"\",\"\",IF(ROWS(BD!$1:18)>COUNTIFS(BD!$B:$B,$O$64),\"\",INDEX(BD!$E$2:$E$138,SMALL(IF(BD!$B$2:$B$138=$O$64,IF(BD!$B$2:$B$138=$O$64,ROW(BD!$B$2:$B$138)-ROW(BD!$B$2)+1),FALSE),ROWS(BD!$1:18)))))","v":""},{"$f":"IF($O$64=\"\",\"\",IF(ROWS(BD!$1:18)>COUNTIFS(BD!$B:$B,$O$64),\"\",INDEX(BD!$F$2:$F$138,SMALL(IF(BD!$B$2:$B$138=$O$64,IF(BD!$B$2:$B$138=$O$64,ROW(BD!$B$2:$B$138)-ROW(BD!$B$2)+1),FALSE),ROWS(BD!$1:18)))))","v":""},{"$f":"IF($O$64=\"\",\"\",IF(ROWS(BD!$1:18)>COUNTIFS(BD!$B:$B,$O$64),\"\",INDEX(BD!$G$2:$G$138,SMALL(IF(BD!$B$2:$B$138=$O$64,IF(BD!$B$2:$B$138=$O$64,ROW(BD!$B$2:$B$138)-ROW(BD!$B$2)+1),FALSE),ROWS(BD!$1:18)))))","v":""},{"$f":"IF($O$64=\"\",\"\",IF(ROWS(BD!$1:18)>COUNTIFS(BD!$B:$B,$O$64),\"\",INDEX(BD!$H$2:$H$138,SMALL(IF(BD!$B$2:$B$138=$O$64,IF(BD!$B$2:$B$138=$O$64,ROW(BD!$B$2:$B$138)-ROW(BD!$B$2)+1),FALSE),ROWS(BD!$1:18)))))","v":""},null,{"$f":"IF($U$64=\"\",\"\",IF(ROWS(BD!$1:18)>COUNTIFS(BD!$B:$B,$U$64),\"\",INDEX(BD!$C$2:$C$138,SMALL(IF(BD!$B$2:$B$138=$U$64,IF(BD!$B$2:$B$138=$U$64,ROW(BD!$B$2:$B$138)-ROW(BD!$B$2)+1),FALSE),ROWS(BD!$1:18)))))","v":""},{"$f":"IF($U$64=\"\",\"\",IF(ROWS(BD!$1:18)>COUNTIFS(BD!$B:$B,$U$64),\"\",INDEX(BD!$E$2:$E$138,SMALL(IF(BD!$B$2:$B$138=$U$64,IF(BD!$B$2:$B$138=$U$64,ROW(BD!$B$2:$B$138)-ROW(BD!$B$2)+1),FALSE),ROWS(BD!$1:18)))))","v":""},{"$f":"IF($U$64=\"\",\"\",IF(ROWS(BD!$1:18)>COUNTIFS(BD!$B:$B,$U$64),\"\",INDEX(BD!$F$2:$F$138,SMALL(IF(BD!$B$2:$B$138=$U$64,IF(BD!$B$2:$B$138=$U$64,ROW(BD!$B$2:$B$138)-ROW(BD!$B$2)+1),FALSE),ROWS(BD!$1:18)))))","v":""},{"$f":"IF($U$64=\"\",\"\",IF(ROWS(BD!$1:18)>COUNTIFS(BD!$B:$B,$U$64),\"\",INDEX(BD!$G$2:$G$138,SMALL(IF(BD!$B$2:$B$138=$U$64,IF(BD!$B$2:$B$138=$U$64,ROW(BD!$B$2:$B$138)-ROW(BD!$B$2)+1),FALSE),ROWS(BD!$1:18)))))","v":""},{"$f":"IF($U$64=\"\",\"\",IF(ROWS(BD!$1:18)>COUNTIFS(BD!$B:$B,$U$64),\"\",INDEX(BD!$H$2:$H$138,SMALL(IF(BD!$B$2:$B$138=$U$64,IF(BD!$B$2:$B$138=$U$64,ROW(BD!$B$2:$B$138)-ROW(BD!$B$2)+1),FALSE),ROWS(BD!$1:18)))))","v":""},null,{"$f":"IF($AA$64=\"\",\"\",IF(ROWS(BD!$1:18)>COUNTIFS(BD!$B:$B,$AA$64),\"\",INDEX(BD!$C$2:$C$138,SMALL(IF(BD!$B$2:$B$138=$AA$64,IF(BD!$B$2:$B$138=$AA$64,ROW(BD!$B$2:$B$138)-ROW(BD!$B$2)+1),FALSE),ROWS(BD!$1:18)))))","v":""},{"$f":"IF($AA$64=\"\",\"\",IF(ROWS(BD!$1:18)>COUNTIFS(BD!$B:$B,$AA$64),\"\",INDEX(BD!$E$2:$E$138,SMALL(IF(BD!$B$2:$B$138=$AA$64,IF(BD!$B$2:$B$138=$AA$64,ROW(BD!$B$2:$B$138)-ROW(BD!$B$2)+1),FALSE),ROWS(BD!$1:18)))))","v":""},{"$f":"IF($AA$64=\"\",\"\",IF(ROWS(BD!$1:18)>COUNTIFS(BD!$B:$B,$AA$64),\"\",INDEX(BD!$F$2:$F$138,SMALL(IF(BD!$B$2:$B$138=$AA$64,IF(BD!$B$2:$B$138=$AA$64,ROW(BD!$B$2:$B$138)-ROW(BD!$B$2)+1),FALSE),ROWS(BD!$1:18)))))","v":""},{"$f":"IF($AA$64=\"\",\"\",IF(ROWS(BD!$1:18)>COUNTIFS(BD!$B:$B,$AA$64),\"\",INDEX(BD!$G$2:$G$138,SMALL(IF(BD!$B$2:$B$138=$AA$64,IF(BD!$B$2:$B$138=$AA$64,ROW(BD!$B$2:$B$138)-ROW(BD!$B$2)+1),FALSE),ROWS(BD!$1:18)))))","v":""},{"$f":"IF($AA$64=\"\",\"\",IF(ROWS(BD!$1:18)>COUNTIFS(BD!$B:$B,$AA$64),\"\",INDEX(BD!$H$2:$H$138,SMALL(IF(BD!$B$2:$B$138=$AA$64,IF(BD!$B$2:$B$138=$AA$64,ROW(BD!$B$2:$B$138)-ROW(BD!$B$2)+1),FALSE),ROWS(BD!$1:18)))))","v":""},null,{"$f":"IF($AG$64=\"\",\"\",IF(ROWS(BD!$1:18)>COUNTIFS(BD!$B:$B,$AG$64),\"\",INDEX(BD!$C$2:$C$138,SMALL(IF(BD!$B$2:$B$138=$AG$64,IF(BD!$B$2:$B$138=$AG$64,ROW(BD!$B$2:$B$138)-ROW(BD!$B$2)+1),FALSE),ROWS(BD!$1:18)))))","v":""},{"$f":"IF($AG$64=\"\",\"\",IF(ROWS(BD!$1:18)>COUNTIFS(BD!$B:$B,$AG$64),\"\",INDEX(BD!$E$2:$E$138,SMALL(IF(BD!$B$2:$B$138=$AG$64,IF(BD!$B$2:$B$138=$AG$64,ROW(BD!$B$2:$B$138)-ROW(BD!$B$2)+1),FALSE),ROWS(BD!$1:18)))))","v":""},{"$f":"IF($AG$64=\"\",\"\",IF(ROWS(BD!$1:18)>COUNTIFS(BD!$B:$B,$AG$64),\"\",INDEX(BD!$F$2:$F$138,SMALL(IF(BD!$B$2:$B$138=$AG$64,IF(BD!$B$2:$B$138=$AG$64,ROW(BD!$B$2:$B$138)-ROW(BD!$B$2)+1),FALSE),ROWS(BD!$1:18)))))","v":""},{"$f":"IF($AG$64=\"\",\"\",IF(ROWS(BD!$1:18)>COUNTIFS(BD!$B:$B,$AG$64),\"\",INDEX(BD!$G$2:$G$138,SMALL(IF(BD!$B$2:$B$138=$AG$64,IF(BD!$B$2:$B$138=$AG$64,ROW(BD!$B$2:$B$138)-ROW(BD!$B$2)+1),FALSE),ROWS(BD!$1:18)))))","v":""},{"$f":"IF($AG$64=\"\",\"\",IF(ROWS(BD!$1:18)>COUNTIFS(BD!$B:$B,$AG$64),\"\",INDEX(BD!$H$2:$H$138,SMALL(IF(BD!$B$2:$B$138=$AG$64,IF(BD!$B$2:$B$138=$AG$64,ROW(BD!$B$2:$B$138)-ROW(BD!$B$2)+1),FALSE),ROWS(BD!$1:18)))))","v":""},null,{"$f":"IF($AM$64=\"\",\"\",IF(ROWS(BD!$1:18)>COUNTIFS(BD!$B:$B,$AM$64),\"\",INDEX(BD!$C$2:$C$138,SMALL(IF(BD!$B$2:$B$138=$AM$64,IF(BD!$B$2:$B$138=$AM$64,ROW(BD!$B$2:$B$138)-ROW(BD!$B$2)+1),FALSE),ROWS(BD!$1:18)))))","v":""},{"$f":"IF($AM$64=\"\",\"\",IF(ROWS(BD!$1:18)>COUNTIFS(BD!$B:$B,$AM$64),\"\",INDEX(BD!$E$2:$E$138,SMALL(IF(BD!$B$2:$B$138=$AM$64,IF(BD!$B$2:$B$138=$AM$64,ROW(BD!$B$2:$B$138)-ROW(BD!$B$2)+1),FALSE),ROWS(BD!$1:18)))))","v":""},{"$f":"IF($AM$64=\"\",\"\",IF(ROWS(BD!$1:18)>COUNTIFS(BD!$B:$B,$AM$64),\"\",INDEX(BD!$F$2:$F$138,SMALL(IF(BD!$B$2:$B$138=$AM$64,IF(BD!$B$2:$B$138=$AM$64,ROW(BD!$B$2:$B$138)-ROW(BD!$B$2)+1),FALSE),ROWS(BD!$1:18)))))","v":""},{"$f":"IF($AM$64=\"\",\"\",IF(ROWS(BD!$1:18)>COUNTIFS(BD!$B:$B,$AM$64),\"\",INDEX(BD!$G$2:$G$138,SMALL(IF(BD!$B$2:$B$138=$AM$64,IF(BD!$B$2:$B$138=$AM$64,ROW(BD!$B$2:$B$138)-ROW(BD!$B$2)+1),FALSE),ROWS(BD!$1:18)))))","v":""},{"$f":"IF($AM$64=\"\",\"\",IF(ROWS(BD!$1:18)>COUNTIFS(BD!$B:$B,$AM$64),\"\",INDEX(BD!$H$2:$H$138,SMALL(IF(BD!$B$2:$B$138=$AM$64,IF(BD!$B$2:$B$138=$AM$64,ROW(BD!$B$2:$B$138)-ROW(BD!$B$2)+1),FALSE),ROWS(BD!$1:18)))))","v":""}]
[null,null,{"$f":"IF($C$64=\"\",\"\",IF(ROWS(BD!$1:19)>COUNTIFS(BD!$B:$B,$C$64),\"\",INDEX(BD!$C$2:$C$138,SMALL(IF(BD!$B$2:$B$138=$C$64,IF(BD!$B$2:$B$138=$C$64,ROW(BD!$B$2:$B$138)-ROW(BD!$B$2)+1),FALSE),ROWS(BD!$1:19)))))","v":""},{"$f":"IF($C$64=\"\",\"\",IF(ROWS(BD!$1:19)>COUNTIFS(BD!$B:$B,$C$64),\"\",INDEX(BD!$E$2:$E$138,SMALL(IF(BD!$B$2:$B$138=$C$64,IF(BD!$B$2:$B$138=$C$64,ROW(BD!$B$2:$B$138)-ROW(BD!$B$2)+1),FALSE),ROWS(BD!$1:19)))))","v":""},{"$f":"IF($C$64=\"\",\"\",IF(ROWS(BD!$1:19)>COUNTIFS(BD!$B:$B,$C$64),\"\",INDEX(BD!$F$2:$F$138,SMALL(IF(BD!$B$2:$B$138=$C$64,IF(BD!$B$2:$B$138=$C$64,ROW(BD!$B$2:$B$138)-ROW(BD!$B$2)+1),FALSE),ROWS(BD!$1:19)))))","v":""},{"$f":"IF($C$64=\"\",\"\",IF(ROWS(BD!$1:19)>COUNTIFS(BD!$B:$B,$C$64),\"\",INDEX(BD!$G$2:$G$138,SMALL(IF(BD!$B$2:$B$138=$C$64,IF(BD!$B$2:$B$138=$C$64,ROW(BD!$B$2:$B$138)-ROW(BD!$B$2)+1),FALSE),ROWS(BD!$1:19)))))","v":""},{"$f":"IF($C$64=\"\",\"\",IF(ROWS(BD!$1:19)>COUNTIFS(BD!$B:$B,$C$64),\"\",INDEX(BD!$H$2:$H$138,SMALL(IF(BD!$B$2:$B$138=$C$64,IF(BD!$B$2:$B$138=$C$64,ROW(BD!$B$2:$B$138)-ROW(BD!$B$2)+1),FALSE),ROWS(BD!$1:19)))))","v":""},null,{"$f":"IF($I$64=\"\",\"\",IF(ROWS(BD!$1:19)>COUNTIFS(BD!$B:$B,$I$64),\"\",INDEX(BD!$C$2:$C$138,SMALL(IF(BD!$B$2:$B$138=$I$64,IF(BD!$B$2:$B$138=$I$64,ROW(BD!$B$2:$B$138)-ROW(BD!$B$2)+1),FALSE),ROWS(BD!$1:19)))))","v":""},{"$f":"IF($I$64=\"\",\"\",IF(ROWS(BD!$1:19)>COUNTIFS(BD!$B:$B,$I$64),\"\",INDEX(BD!$E$2:$E$138,SMALL(IF(BD!$B$2:$B$138=$I$64,IF(BD!$B$2:$B$138=$I$64,ROW(BD!$B$2:$B$138)-ROW(BD!$B$2)+1),FALSE),ROWS(BD!$1:19)))))","v":""},{"$f":"IF($I$64=\"\",\"\",IF(ROWS(BD!$1:19)>COUNTIFS(BD!$B:$B,$I$64),\"\",INDEX(BD!$F$2:$F$138,SMALL(IF(BD!$B$2:$B$138=$I$64,IF(BD!$B$2:$B$138=$I$64,ROW(BD!$B$2:$B$138)-ROW(BD!$B$2)+1),FALSE),ROWS(BD!$1:19)))))","v":""},{"$f":"IF($I$64=\"\",\"\",IF(ROWS(BD!$1:19)>COUNTIFS(BD!$B:$B,$I$64),\"\",INDEX(BD!$G$2:$G$138,SMALL(IF(BD!$B$2:$B$138=$I$64,IF(BD!$B$2:$B$138=$I$64,ROW(BD!$B$2:$B$138)-ROW(BD!$B$2)+1),FALSE),ROWS(BD!$1:19)))))","v":""},{"$f":"IF($I$64=\"\",\"\",IF(ROWS(BD!$1:19)>COUNTIFS(BD!$B:$B,$I$64),\"\",INDEX(BD!$H$2:$H$138,SMALL(IF(BD!$B$2:$B$138=$I$64,IF(BD!$B$2:$B$138=$I$64,ROW(BD!$B$2:$B$138)-ROW(BD!$B$2)+1),FALSE),ROWS(BD!$1:19)))))","v":""},null,{"$f":"IF($O$64=\"\",\"\",IF(ROWS(BD!$1:19)>COUNTIFS(BD!$B:$B,$O$64),\"\",INDEX(BD!$C$2:$C$138,SMALL(IF(BD!$B$2:$B$138=$O$64,IF(BD!$B$2:$B$138=$O$64,ROW(BD!$B$2:$B$138)-ROW(BD!$B$2)+1),FALSE),ROWS(BD!$1:19)))))","v":""},{"$f":"IF($O$64=\"\",\"\",IF(ROWS(BD!$1:19)>COUNTIFS(BD!$B:$B,$O$64),\"\",INDEX(BD!$E$2:$E$138,SMALL(IF(BD!$B$2:$B$138=$O$64,IF(BD!$B$2:$B$138=$O$64,ROW(BD!$B$2:$B$138)-ROW(BD!$B$2)+1),FALSE),ROWS(BD!$1:19)))))","v":""},{"$f":"IF($O$64=\"\",\"\",IF(ROWS(BD!$1:19)>COUNTIFS(BD!$B:$B,$O$64),\"\",INDEX(BD!$F$2:$F$138,SMALL(IF(BD!$B$2:$B$138=$O$64,IF(BD!$B$2:$B$138=$O$64,ROW(BD!$B$2:$B$138)-ROW(BD!$B$2)+1),FALSE),ROWS(BD!$1:19)))))","v":""},{"$f":"IF($O$64=\"\",\"\",IF(ROWS(BD!$1:19)>COUNTIFS(BD!$B:$B,$O$64),\"\",INDEX(BD!$G$2:$G$138,SMALL(IF(BD!$B$2:$B$138=$O$64,IF(BD!$B$2:$B$138=$O$64,ROW(BD!$B$2:$B$138)-ROW(BD!$B$2)+1),FALSE),ROWS(BD!$1:19)))))","v":""},{"$f":"IF($O$64=\"\",\"\",IF(ROWS(BD!$1:19)>COUNTIFS(BD!$B:$B,$O$64),\"\",INDEX(BD!$H$2:$H$138,SMALL(IF(BD!$B$2:$B$138=$O$64,IF(BD!$B$2:$B$138=$O$64,ROW(BD!$B$2:$B$138)-ROW(BD!$B$2)+1),FALSE),ROWS(BD!$1:19)))))","v":""},null,{"$f":"IF($U$64=\"\",\"\",IF(ROWS(BD!$1:19)>COUNTIFS(BD!$B:$B,$U$64),\"\",INDEX(BD!$C$2:$C$138,SMALL(IF(BD!$B$2:$B$138=$U$64,IF(BD!$B$2:$B$138=$U$64,ROW(BD!$B$2:$B$138)-ROW(BD!$B$2)+1),FALSE),ROWS(BD!$1:19)))))","v":""},{"$f":"IF($U$64=\"\",\"\",IF(ROWS(BD!$1:19)>COUNTIFS(BD!$B:$B,$U$64),\"\",INDEX(BD!$E$2:$E$138,SMALL(IF(BD!$B$2:$B$138=$U$64,IF(BD!$B$2:$B$138=$U$64,ROW(BD!$B$2:$B$138)-ROW(BD!$B$2)+1),FALSE),ROWS(BD!$1:19)))))","v":""},{"$f":"IF($U$64=\"\",\"\",IF(ROWS(BD!$1:19)>COUNTIFS(BD!$B:$B,$U$64),\"\",INDEX(BD!$F$2:$F$138,SMALL(IF(BD!$B$2:$B$138=$U$64,IF(BD!$B$2:$B$138=$U$64,ROW(BD!$B$2:$B$138)-ROW(BD!$B$2)+1),FALSE),ROWS(BD!$1:19)))))","v":""},{"$f":"IF($U$64=\"\",\"\",IF(ROWS(BD!$1:19)>COUNTIFS(BD!$B:$B,$U$64),\"\",INDEX(BD!$G$2:$G$138,SMALL(IF(BD!$B$2:$B$138=$U$64,IF(BD!$B$2:$B$138=$U$64,ROW(BD!$B$2:$B$138)-ROW(BD!$B$2)+1),FALSE),ROWS(BD!$1:19)))))","v":""},{"$f":"IF($U$64=\"\",\"\",IF(ROWS(BD!$1:19)>COUNTIFS(BD!$B:$B,$U$64),\"\",INDEX(BD!$H$2:$H$138,SMALL(IF(BD!$B$2:$B$138=$U$64,IF(BD!$B$2:$B$138=$U$64,ROW(BD!$B$2:$B$138)-ROW(BD!$B$2)+1),FALSE),ROWS(BD!$1:19)))))","v":""},null,{"$f":"IF($AA$64=\"\",\"\",IF(ROWS(BD!$1:19)>COUNTIFS(BD!$B:$B,$AA$64),\"\",INDEX(BD!$C$2:$C$138,SMALL(IF(BD!$B$2:$B$138=$AA$64,IF(BD!$B$2:$B$138=$AA$64,ROW(BD!$B$2:$B$138)-ROW(BD!$B$2)+1),FALSE),ROWS(BD!$1:19)))))","v":""},{"$f":"IF($AA$64=\"\",\"\",IF(ROWS(BD!$1:19)>COUNTIFS(BD!$B:$B,$AA$64),\"\",INDEX(BD!$E$2:$E$138,SMALL(IF(BD!$B$2:$B$138=$AA$64,IF(BD!$B$2:$B$138=$AA$64,ROW(BD!$B$2:$B$138)-ROW(BD!$B$2)+1),FALSE),ROWS(BD!$1:19)))))","v":""},{"$f":"IF($AA$64=\"\",\"\",IF(ROWS(BD!$1:19)>COUNTIFS(BD!$B:$B,$AA$64),\"\",INDEX(BD!$F$2:$F$138,SMALL(IF(BD!$B$2:$B$138=$AA$64,IF(BD!$B$2:$B$138=$AA$64,ROW(BD!$B$2:$B$138)-ROW(BD!$B$2)+1),FALSE),ROWS(BD!$1:19)))))","v":""},{"$f":"IF($AA$64=\"\",\"\",IF(ROWS(BD!$1:19)>COUNTIFS(BD!$B:$B,$AA$64),\"\",INDEX(BD!$G$2:$G$138,SMALL(IF(BD!$B$2:$B$138=$AA$64,IF(BD!$B$2:$B$138=$AA$64,ROW(BD!$B$2:$B$138)-ROW(BD!$B$2)+1),FALSE),ROWS(BD!$1:19)))))","v":""},{"$f":"IF($AA$64=\"\",\"\",IF(ROWS(BD!$1:19)>COUNTIFS(BD!$B:$B,$AA$64),\"\",INDEX(BD!$H$2:$H$138,SMALL(IF(BD!$B$2:$B$138=$AA$64,IF(BD!$B$2:$B$138=$AA$64,ROW(BD!$B$2:$B$138)-ROW(BD!$B$2)+1),FALSE),ROWS(BD!$1:19)))))","v":""},null,{"$f":"IF($AG$64=\"\",\"\",IF(ROWS(BD!$1:19)>COUNTIFS(BD!$B:$B,$AG$64),\"\",INDEX(BD!$C$2:$C$138,SMALL(IF(BD!$B$2:$B$138=$AG$64,IF(BD!$B$2:$B$138=$AG$64,ROW(BD!$B$2:$B$138)-ROW(BD!$B$2)+1),FALSE),ROWS(BD!$1:19)))))","v":""},{"$f":"IF($AG$64=\"\",\"\",IF(ROWS(BD!$1:19)>COUNTIFS(BD!$B:$B,$AG$64),\"\",INDEX(BD!$E$2:$E$138,SMALL(IF(BD!$B$2:$B$138=$AG$64,IF(BD!$B$2:$B$138=$AG$64,ROW(BD!$B$2:$B$138)-ROW(BD!$B$2)+1),FALSE),ROWS(BD!$1:19)))))","v":""},{"$f":"IF($AG$64=\"\",\"\",IF(ROWS(BD!$1:19)>COUNTIFS(BD!$B:$B,$AG$64),\"\",INDEX(BD!$F$2:$F$138,SMALL(IF(BD!$B$2:$B$138=$AG$64,IF(BD!$B$2:$B$138=$AG$64,ROW(BD!$B$2:$B$138)-ROW(BD!$B$2)+1),FALSE),ROWS(BD!$1:19)))))","v":""},{"$f":"IF($AG$64=\"\",\"\",IF(ROWS(BD!$1:19)>COUNTIFS(BD!$B:$B,$AG$64),\"\",INDEX(BD!$G$2:$G$138,SMALL(IF(BD!$B$2:$B$138=$AG$64,IF(BD!$B$2:$B$138=$AG$64,ROW(BD!$B$2:$B$138)-ROW(BD!$B$2)+1),FALSE),ROWS(BD!$1:19)))))","v":""},{"$f":"IF($AG$64=\"\",\"\",IF(ROWS(BD!$1:19)>COUNTIFS(BD!$B:$B,$AG$64),\"\",INDEX(BD!$H$2:$H$138,SMALL(IF(BD!$B$2:$B$138=$AG$64,IF(BD!$B$2:$B$138=$AG$64,ROW(BD!$B$2:$B$138)-ROW(BD!$B$2)+1),FALSE),ROWS(BD!$1:19)))))","v":""},null,{"$f":"IF($AM$64=\"\",\"\",IF(ROWS(BD!$1:19)>COUNTIFS(BD!$B:$B,$AM$64),\"\",INDEX(BD!$C$2:$C$138,SMALL(IF(BD!$B$2:$B$138=$AM$64,IF(BD!$B$2:$B$138=$AM$64,ROW(BD!$B$2:$B$138)-ROW(BD!$B$2)+1),FALSE),ROWS(BD!$1:19)))))","v":""},{"$f":"IF($AM$64=\"\",\"\",IF(ROWS(BD!$1:19)>COUNTIFS(BD!$B:$B,$AM$64),\"\",INDEX(BD!$E$2:$E$138,SMALL(IF(BD!$B$2:$B$138=$AM$64,IF(BD!$B$2:$B$138=$AM$64,ROW(BD!$B$2:$B$138)-ROW(BD!$B$2)+1),FALSE),ROWS(BD!$1:19)))))","v":""},{"$f":"IF($AM$64=\"\",\"\",IF(ROWS(BD!$1:19)>COUNTIFS(BD!$B:$B,$AM$64),\"\",INDEX(BD!$F$2:$F$138,SMALL(IF(BD!$B$2:$B$138=$AM$64,IF(BD!$B$2:$B$138=$AM$64,ROW(BD!$B$2:$B$138)-ROW(BD!$B$2)+1),FALSE),ROWS(BD!$1:19)))))","v":""},{"$f":"IF($AM$64=\"\",\"\",IF(ROWS(BD!$1:19)>COUNTIFS(BD!$B:$B,$AM$64),\"\",INDEX(BD!$G$2:$G$138,SMALL(IF(BD!$B$2:$B$138=$AM$64,IF(BD!$B$2:$B$138=$AM$64,ROW(BD!$B$2:$B$138)-ROW(BD!$B$2)+1),FALSE),ROWS(BD!$1:19)))))","v":""},{"$f":"IF($AM$64=\"\",\"\",IF(ROWS(BD!$1:19)>COUNTIFS(BD!$B:$B,$AM$64),\"\",INDEX(BD!$H$2:$H$138,SMALL(IF(BD!$B$2:$B$138=$AM$64,IF(BD!$B$2:$B$138=$AM$64,ROW(BD!$B$2:$B$138)-ROW(BD!$B$2)+1),FALSE),ROWS(BD!$1:19)))))","v":""}]
[null,null,{"$f":"IF($C$64=\"\",\"\",IF(ROWS(BD!$1:20)>COUNTIFS(BD!$B:$B,$C$64),\"\",INDEX(BD!$C$2:$C$138,SMALL(IF(BD!$B$2:$B$138=$C$64,IF(BD!$B$2:$B$138=$C$64,ROW(BD!$B$2:$B$138)-ROW(BD!$B$2)+1),FALSE),ROWS(BD!$1:20)))))","v":""},{"$f":"IF($C$64=\"\",\"\",IF(ROWS(BD!$1:20)>COUNTIFS(BD!$B:$B,$C$64),\"\",INDEX(BD!$E$2:$E$138,SMALL(IF(BD!$B$2:$B$138=$C$64,IF(BD!$B$2:$B$138=$C$64,ROW(BD!$B$2:$B$138)-ROW(BD!$B$2)+1),FALSE),ROWS(BD!$1:20)))))","v":""},{"$f":"IF($C$64=\"\",\"\",IF(ROWS(BD!$1:20)>COUNTIFS(BD!$B:$B,$C$64),\"\",INDEX(BD!$F$2:$F$138,SMALL(IF(BD!$B$2:$B$138=$C$64,IF(BD!$B$2:$B$138=$C$64,ROW(BD!$B$2:$B$138)-ROW(BD!$B$2)+1),FALSE),ROWS(BD!$1:20)))))","v":""},{"$f":"IF($C$64=\"\",\"\",IF(ROWS(BD!$1:20)>COUNTIFS(BD!$B:$B,$C$64),\"\",INDEX(BD!$G$2:$G$138,SMALL(IF(BD!$B$2:$B$138=$C$64,IF(BD!$B$2:$B$138=$C$64,ROW(BD!$B$2:$B$138)-ROW(BD!$B$2)+1),FALSE),ROWS(BD!$1:20)))))","v":""},{"$f":"IF($C$64=\"\",\"\",IF(ROWS(BD!$1:20)>COUNTIFS(BD!$B:$B,$C$64),\"\",INDEX(BD!$H$2:$H$138,SMALL(IF(BD!$B$2:$B$138=$C$64,IF(BD!$B$2:$B$138=$C$64,ROW(BD!$B$2:$B$138)-ROW(BD!$B$2)+1),FALSE),ROWS(BD!$1:20)))))","v":""},null,{"$f":"IF($I$64=\"\",\"\",IF(ROWS(BD!$1:20)>COUNTIFS(BD!$B:$B,$I$64),\"\",INDEX(BD!$C$2:$C$138,SMALL(IF(BD!$B$2:$B$138=$I$64,IF(BD!$B$2:$B$138=$I$64,ROW(BD!$B$2:$B$138)-ROW(BD!$B$2)+1),FALSE),ROWS(BD!$1:20)))))","v":""},{"$f":"IF($I$64=\"\",\"\",IF(ROWS(BD!$1:20)>COUNTIFS(BD!$B:$B,$I$64),\"\",INDEX(BD!$E$2:$E$138,SMALL(IF(BD!$B$2:$B$138=$I$64,IF(BD!$B$2:$B$138=$I$64,ROW(BD!$B$2:$B$138)-ROW(BD!$B$2)+1),FALSE),ROWS(BD!$1:20)))))","v":""},{"$f":"IF($I$64=\"\",\"\",IF(ROWS(BD!$1:20)>COUNTIFS(BD!$B:$B,$I$64),\"\",INDEX(BD!$F$2:$F$138,SMALL(IF(BD!$B$2:$B$138=$I$64,IF(BD!$B$2:$B$138=$I$64,ROW(BD!$B$2:$B$138)-ROW(BD!$B$2)+1),FALSE),ROWS(BD!$1:20)))))","v":""},{"$f":"IF($I$64=\"\",\"\",IF(ROWS(BD!$1:20)>COUNTIFS(BD!$B:$B,$I$64),\"\",INDEX(BD!$G$2:$G$138,SMALL(IF(BD!$B$2:$B$138=$I$64,IF(BD!$B$2:$B$138=$I$64,ROW(BD!$B$2:$B$138)-ROW(BD!$B$2)+1),FALSE),ROWS(BD!$1:20)))))","v":""},{"$f":"IF($I$64=\"\",\"\",IF(ROWS(BD!$1:20)>COUNTIFS(BD!$B:$B,$I$64),\"\",INDEX(BD!$H$2:$H$138,SMALL(IF(BD!$B$2:$B$138=$I$64,IF(BD!$B$2:$B$138=$I$64,ROW(BD!$B$2:$B$138)-ROW(BD!$B$2)+1),FALSE),ROWS(BD!$1:20)))))","v":""},null,{"$f":"IF($O$64=\"\",\"\",IF(ROWS(BD!$1:20)>COUNTIFS(BD!$B:$B,$O$64),\"\",INDEX(BD!$C$2:$C$138,SMALL(IF(BD!$B$2:$B$138=$O$64,IF(BD!$B$2:$B$138=$O$64,ROW(BD!$B$2:$B$138)-ROW(BD!$B$2)+1),FALSE),ROWS(BD!$1:20)))))","v":""},{"$f":"IF($O$64=\"\",\"\",IF(ROWS(BD!$1:20)>COUNTIFS(BD!$B:$B,$O$64),\"\",INDEX(BD!$E$2:$E$138,SMALL(IF(BD!$B$2:$B$138=$O$64,IF(BD!$B$2:$B$138=$O$64,ROW(BD!$B$2:$B$138)-ROW(BD!$B$2)+1),FALSE),ROWS(BD!$1:20)))))","v":""},{"$f":"IF($O$64=\"\",\"\",IF(ROWS(BD!$1:20)>COUNTIFS(BD!$B:$B,$O$64),\"\",INDEX(BD!$F$2:$F$138,SMALL(IF(BD!$B$2:$B$138=$O$64,IF(BD!$B$2:$B$138=$O$64,ROW(BD!$B$2:$B$138)-ROW(BD!$B$2)+1),FALSE),ROWS(BD!$1:20)))))","v":""},{"$f":"IF($O$64=\"\",\"\",IF(ROWS(BD!$1:20)>COUNTIFS(BD!$B:$B,$O$64),\"\",INDEX(BD!$G$2:$G$138,SMALL(IF(BD!$B$2:$B$138=$O$64,IF(BD!$B$2:$B$138=$O$64,ROW(BD!$B$2:$B$138)-ROW(BD!$B$2)+1),FALSE),ROWS(BD!$1:20)))))","v":""},{"$f":"IF($O$64=\"\",\"\",IF(ROWS(BD!$1:20)>COUNTIFS(BD!$B:$B,$O$64),\"\",INDEX(BD!$H$2:$H$138,SMALL(IF(BD!$B$2:$B$138=$O$64,IF(BD!$B$2:$B$138=$O$64,ROW(BD!$B$2:$B$138)-ROW(BD!$B$2)+1),FALSE),ROWS(BD!$1:20)))))","v":""},null,{"$f":"IF($U$64=\"\",\"\",IF(ROWS(BD!$1:20)>COUNTIFS(BD!$B:$B,$U$64),\"\",INDEX(BD!$C$2:$C$138,SMALL(IF(BD!$B$2:$B$138=$U$64,IF(BD!$B$2:$B$138=$U$64,ROW(BD!$B$2:$B$138)-ROW(BD!$B$2)+1),FALSE),ROWS(BD!$1:20)))))","v":""},{"$f":"IF($U$64=\"\",\"\",IF(ROWS(BD!$1:20)>COUNTIFS(BD!$B:$B,$U$64),\"\",INDEX(BD!$E$2:$E$138,SMALL(IF(BD!$B$2:$B$138=$U$64,IF(BD!$B$2:$B$138=$U$64,ROW(BD!$B$2:$B$138)-ROW(BD!$B$2)+1),FALSE),ROWS(BD!$1:20)))))","v":""},{"$f":"IF($U$64=\"\",\"\",IF(ROWS(BD!$1:20)>COUNTIFS(BD!$B:$B,$U$64),\"\",INDEX(BD!$F$2:$F$138,SMALL(IF(BD!$B$2:$B$138=$U$64,IF(BD!$B$2:$B$138=$U$64,ROW(BD!$B$2:$B$138)-ROW(BD!$B$2)+1),FALSE),ROWS(BD!$1:20)))))","v":""},{"$f":"IF($U$64=\"\",\"\",IF(ROWS(BD!$1:20)>COUNTIFS(BD!$B:$B,$U$64),\"\",INDEX(BD!$G$2:$G$138,SMALL(IF(BD!$B$2:$B$138=$U$64,IF(BD!$B$2:$B$138=$U$64,ROW(BD!$B$2:$B$138)-ROW(BD!$B$2)+1),FALSE),ROWS(BD!$1:20)))))","v":""},{"$f":"IF($U$64=\"\",\"\",IF(ROWS(BD!$1:20)>COUNTIFS(BD!$B:$B,$U$64),\"\",INDEX(BD!$H$2:$H$138,SMALL(IF(BD!$B$2:$B$138=$U$64,IF(BD!$B$2:$B$138=$U$64,ROW(BD!$B$2:$B$138)-ROW(BD!$B$2)+1),FALSE),ROWS(BD!$1:20)))))","v":""},null,{"$f":"IF($AA$64=\"\",\"\",IF(ROWS(BD!$1:20)>COUNTIFS(BD!$B:$B,$AA$64),\"\",INDEX(BD!$C$2:$C$138,SMALL(IF(BD!$B$2:$B$138=$AA$64,IF(BD!$B$2:$B$138=$AA$64,ROW(BD!$B$2:$B$138)-ROW(BD!$B$2)+1),FALSE),ROWS(BD!$1:20)))))","v":""},{"$f":"IF($AA$64=\"\",\"\",IF(ROWS(BD!$1:20)>COUNTIFS(BD!$B:$B,$AA$64),\"\",INDEX(BD!$E$2:$E$138,SMALL(IF(BD!$B$2:$B$138=$AA$64,IF(BD!$B$2:$B$138=$AA$64,ROW(BD!$B$2:$B$138)-ROW(BD!$B$2)+1),FALSE),ROWS(BD!$1:20)))))","v":""},{"$f":"IF($AA$64=\"\",\"\",IF(ROWS(BD!$1:20)>COUNTIFS(BD!$B:$B,$AA$64),\"\",INDEX(BD!$F$2:$F$138,SMALL(IF(BD!$B$2:$B$138=$AA$64,IF(BD!$B$2:$B$138=$AA$64,ROW(BD!$B$2:$B$138)-ROW(BD!$B$2)+1),FALSE),ROWS(BD!$1:20)))))","v":""},{"$f":"IF($AA$64=\"\",\"\",IF(ROWS(BD!$1:20)>COUNTIFS(BD!$B:$B,$AA$64),\"\",INDEX(BD!$G$2:$G$138,SMALL(IF(BD!$B$2:$B$138=$AA$64,IF(BD!$B$2:$B$138=$AA$64,ROW(BD!$B$2:$B$138)-ROW(BD!$B$2)+1),FALSE),ROWS(BD!$1:20)))))","v":""},{"$f":"IF($AA$64=\"\",\"\",IF(ROWS(BD!$1:20)>COUNTIFS(BD!$B:$B,$AA$64),\"\",INDEX(BD!$H$2:$H$138,SMALL(IF(BD!$B$2:$B$138=$AA$64,IF(BD!$B$2:$B$138=$AA$64,ROW(BD!$B$2:$B$138)-ROW(BD!$B$2)+1),FALSE),ROWS(BD!$1:20)))))","v":""},null,{"$f":"IF($AG$64=\"\",\"\",IF(ROWS(BD!$1:20)>COUNTIFS(BD!$B:$B,$AG$64),\"\",INDEX(BD!$C$2:$C$138,SMALL(IF(BD!$B$2:$B$138=$AG$64,IF(BD!$B$2:$B$138=$AG$64,ROW(BD!$B$2:$B$138)-ROW(BD!$B$2)+1),FALSE),ROWS(BD!$1:20)))))","v":""},{"$f":"IF($AG$64=\"\",\"\",IF(ROWS(BD!$1:20)>COUNTIFS(BD!$B:$B,$AG$64),\"\",INDEX(BD!$E$2:$E$138,SMALL(IF(BD!$B$2:$B$138=$AG$64,IF(BD!$B$2:$B$138=$AG$64,ROW(BD!$B$2:$B$138)-ROW(BD!$B$2)+1),FALSE),ROWS(BD!$1:20)))))","v":""},{"$f":"IF($AG$64=\"\",\"\",IF(ROWS(BD!$1:20)>COUNTIFS(BD!$B:$B,$AG$64),\"\",INDEX(BD!$F$2:$F$138,SMALL(IF(BD!$B$2:$B$138=$AG$64,IF(BD!$B$2:$B$138=$AG$64,ROW(BD!$B$2:$B$138)-ROW(BD!$B$2)+1),FALSE),ROWS(BD!$1:20)))))","v":""},{"$f":"IF($AG$64=\"\",\"\",IF(ROWS(BD!$1:20)>COUNTIFS(BD!$B:$B,$AG$64),\"\",INDEX(BD!$G$2:$G$138,SMALL(IF(BD!$B$2:$B$138=$AG$64,IF(BD!$B$2:$B$138=$AG$64,ROW(BD!$B$2:$B$138)-ROW(BD!$B$2)+1),FALSE),ROWS(BD!$1:20)))))","v":""},{"$f":"IF($AG$64=\"\",\"\",IF(ROWS(BD!$1:20)>COUNTIFS(BD!$B:$B,$AG$64),\"\",INDEX(BD!$H$2:$H$138,SMALL(IF(BD!$B$2:$B$138=$AG$64,IF(BD!$B$2:$B$138=$AG$64,ROW(BD!$B$2:$B$138)-ROW(BD!$B$2)+1),FALSE),ROWS(BD!$1:20)))))","v":""},null,{"$f":"IF($AM$64=\"\",\"\",IF(ROWS(BD!$1:20)>COUNTIFS(BD!$B:$B,$AM$64),\"\",INDEX(BD!$C$2:$C$138,SMALL(IF(BD!$B$2:$B$138=$AM$64,IF(BD!$B$2:$B$138=$AM$64,ROW(BD!$B$2:$B$138)-ROW(BD!$B$2)+1),FALSE),ROWS(BD!$1:20)))))","v":""},{"$f":"IF($AM$64=\"\",\"\",IF(ROWS(BD!$1:20)>COUNTIFS(BD!$B:$B,$AM$64),\"\",INDEX(BD!$E$2:$E$138,SMALL(IF(BD!$B$2:$B$138=$AM$64,IF(BD!$B$2:$B$138=$AM$64,ROW(BD!$B$2:$B$138)-ROW(BD!$B$2)+1),FALSE),ROWS(BD!$1:20)))))","v":""},{"$f":"IF($AM$64=\"\",\"\",IF(ROWS(BD!$1:20)>COUNTIFS(BD!$B:$B,$AM$64),\"\",INDEX(BD!$F$2:$F$138,SMALL(IF(BD!$B$2:$B$138=$AM$64,IF(BD!$B$2:$B$138=$AM$64,ROW(BD!$B$2:$B$138)-ROW(BD!$B$2)+1),FALSE),ROWS(BD!$1:20)))))","v":""},{"$f":"IF($AM$64=\"\",\"\",IF(ROWS(BD!$1:20)>COUNTIFS(BD!$B:$B,$AM$64),\"\",INDEX(BD!$G$2:$G$138,SMALL(IF(BD!$B$2:$B$138=$AM$64,IF(BD!$B$2:$B$138=$AM$64,ROW(BD!$B$2:$B$138)-ROW(BD!$B$2)+1),FALSE),ROWS(BD!$1:20)))))","v":""},{"$f":"IF($AM$64=\"\",\"\",IF(ROWS(BD!$1:20)>COUNTIFS(BD!$B:$B,$AM$64),\"\",INDEX(BD!$H$2:$H$138,SMALL(IF(BD!$B$2:$B$138=$AM$64,IF(BD!$B$2:$B$138=$AM$64,ROW(BD!$B$2:$B$138)-ROW(BD!$B$2)+1),FALSE),ROWS(BD!$1:20)))))","v":""}]
[null,null,{"$f":"IF($C$64=\"\",\"\",IF(ROWS(BD!$1:21)>COUNTIFS(BD!$B:$B,$C$64),\"\",INDEX(BD!$C$2:$C$138,SMALL(IF(BD!$B$2:$B$138=$C$64,IF(BD!$B$2:$B$138=$C$64,ROW(BD!$B$2:$B$138)-ROW(BD!$B$2)+1),FALSE),ROWS(BD!$1:21)))))","v":""},{"$f":"IF($C$64=\"\",\"\",IF(ROWS(BD!$1:21)>COUNTIFS(BD!$B:$B,$C$64),\"\",INDEX(BD!$E$2:$E$138,SMALL(IF(BD!$B$2:$B$138=$C$64,IF(BD!$B$2:$B$138=$C$64,ROW(BD!$B$2:$B$138)-ROW(BD!$B$2)+1),FALSE),ROWS(BD!$1:21)))))","v":""},{"$f":"IF($C$64=\"\",\"\",IF(ROWS(BD!$1:21)>COUNTIFS(BD!$B:$B,$C$64),\"\",INDEX(BD!$F$2:$F$138,SMALL(IF(BD!$B$2:$B$138=$C$64,IF(BD!$B$2:$B$138=$C$64,ROW(BD!$B$2:$B$138)-ROW(BD!$B$2)+1),FALSE),ROWS(BD!$1:21)))))","v":""},{"$f":"IF($C$64=\"\",\"\",IF(ROWS(BD!$1:21)>COUNTIFS(BD!$B:$B,$C$64),\"\",INDEX(BD!$G$2:$G$138,SMALL(IF(BD!$B$2:$B$138=$C$64,IF(BD!$B$2:$B$138=$C$64,ROW(BD!$B$2:$B$138)-ROW(BD!$B$2)+1),FALSE),ROWS(BD!$1:21)))))","v":""},{"$f":"IF($C$64=\"\",\"\",IF(ROWS(BD!$1:21)>COUNTIFS(BD!$B:$B,$C$64),\"\",INDEX(BD!$H$2:$H$138,SMALL(IF(BD!$B$2:$B$138=$C$64,IF(BD!$B$2:$B$138=$C$64,ROW(BD!$B$2:$B$138)-ROW(BD!$B$2)+1),FALSE),ROWS(BD!$1:21)))))","v":""},null,{"$f":"IF($I$64=\"\",\"\",IF(ROWS(BD!$1:21)>COUNTIFS(BD!$B:$B,$I$64),\"\",INDEX(BD!$C$2:$C$138,SMALL(IF(BD!$B$2:$B$138=$I$64,IF(BD!$B$2:$B$138=$I$64,ROW(BD!$B$2:$B$138)-ROW(BD!$B$2)+1),FALSE),ROWS(BD!$1:21)))))","v":""},{"$f":"IF($I$64=\"\",\"\",IF(ROWS(BD!$1:21)>COUNTIFS(BD!$B:$B,$I$64),\"\",INDEX(BD!$E$2:$E$138,SMALL(IF(BD!$B$2:$B$138=$I$64,IF(BD!$B$2:$B$138=$I$64,ROW(BD!$B$2:$B$138)-ROW(BD!$B$2)+1),FALSE),ROWS(BD!$1:21)))))","v":""},{"$f":"IF($I$64=\"\",\"\",IF(ROWS(BD!$1:21)>COUNTIFS(BD!$B:$B,$I$64),\"\",INDEX(BD!$F$2:$F$138,SMALL(IF(BD!$B$2:$B$138=$I$64,IF(BD!$B$2:$B$138=$I$64,ROW(BD!$B$2:$B$138)-ROW(BD!$B$2)+1),FALSE),ROWS(BD!$1:21)))))","v":""},{"$f":"IF($I$64=\"\",\"\",IF(ROWS(BD!$1:21)>COUNTIFS(BD!$B:$B,$I$64),\"\",INDEX(BD!$G$2:$G$138,SMALL(IF(BD!$B$2:$B$138=$I$64,IF(BD!$B$2:$B$138=$I$64,ROW(BD!$B$2:$B$138)-ROW(BD!$B$2)+1),FALSE),ROWS(BD!$1:21)))))","v":""},{"$f":"IF($I$64=\"\",\"\",IF(ROWS(BD!$1:21)>COUNTIFS(BD!$B:$B,$I$64),\"\",INDEX(BD!$H$2:$H$138,SMALL(IF(BD!$B$2:$B$138=$I$64,IF(BD!$B$2:$B$138=$I$64,ROW(BD!$B$2:$B$138)-ROW(BD!$B$2)+1),FALSE),ROWS(BD!$1:21)))))","v":""},null,{"$f":"IF($O$64=\"\",\"\",IF(ROWS(BD!$1:21)>COUNTIFS(BD!$B:$B,$O$64),\"\",INDEX(BD!$C$2:$C$138,SMALL(IF(BD!$B$2:$B$138=$O$64,IF(BD!$B$2:$B$138=$O$64,ROW(BD!$B$2:$B$138)-ROW(BD!$B$2)+1),FALSE),ROWS(BD!$1:21)))))","v":""},{"$f":"IF($O$64=\"\",\"\",IF(ROWS(BD!$1:21)>COUNTIFS(BD!$B:$B,$O$64),\"\",INDEX(BD!$E$2:$E$138,SMALL(IF(BD!$B$2:$B$138=$O$64,IF(BD!$B$2:$B$138=$O$64,ROW(BD!$B$2:$B$138)-ROW(BD!$B$2)+1),FALSE),ROWS(BD!$1:21)))))","v":""},{"$f":"IF($O$64=\"\",\"\",IF(ROWS(BD!$1:21)>COUNTIFS(BD!$B:$B,$O$64),\"\",INDEX(BD!$F$2:$F$138,SMALL(IF(BD!$B$2:$B$138=$O$64,IF(BD!$B$2:$B$138=$O$64,ROW(BD!$B$2:$B$138)-ROW(BD!$B$2)+1),FALSE),ROWS(BD!$1:21)))))","v":""},{"$f":"IF($O$64=\"\",\"\",IF(ROWS(BD!$1:21)>COUNTIFS(BD!$B:$B,$O$64),\"\",INDEX(BD!$G$2:$G$138,SMALL(IF(BD!$B$2:$B$138=$O$64,IF(BD!$B$2:$B$138=$O$64,ROW(BD!$B$2:$B$138)-ROW(BD!$B$2)+1),FALSE),ROWS(BD!$1:21)))))","v":""},{"$f":"IF($O$64=\"\",\"\",IF(ROWS(BD!$1:21)>COUNTIFS(BD!$B:$B,$O$64),\"\",INDEX(BD!$H$2:$H$138,SMALL(IF(BD!$B$2:$B$138=$O$64,IF(BD!$B$2:$B$138=$O$64,ROW(BD!$B$2:$B$138)-ROW(BD!$B$2)+1),FALSE),ROWS(BD!$1:21)))))","v":""},null,{"$f":"IF($U$64=\"\",\"\",IF(ROWS(BD!$1:21)>COUNTIFS(BD!$B:$B,$U$64),\"\",INDEX(BD!$C$2:$C$138,SMALL(IF(BD!$B$2:$B$138=$U$64,IF(BD!$B$2:$B$138=$U$64,ROW(BD!$B$2:$B$138)-ROW(BD!$B$2)+1),FALSE),ROWS(BD!$1:21)))))","v":""},{"$f":"IF($U$64=\"\",\"\",IF(ROWS(BD!$1:21)>COUNTIFS(BD!$B:$B,$U$64),\"\",INDEX(BD!$E$2:$E$138,SMALL(IF(BD!$B$2:$B$138=$U$64,IF(BD!$B$2:$B$138=$U$64,ROW(BD!$B$2:$B$138)-ROW(BD!$B$2)+1),FALSE),ROWS(BD!$1:21)))))","v":""},{"$f":"IF($U$64=\"\",\"\",IF(ROWS(BD!$1:21)>COUNTIFS(BD!$B:$B,$U$64),\"\",INDEX(BD!$F$2:$F$138,SMALL(IF(BD!$B$2:$B$138=$U$64,IF(BD!$B$2:$B$138=$U$64,ROW(BD!$B$2:$B$138)-ROW(BD!$B$2)+1),FALSE),ROWS(BD!$1:21)))))","v":""},{"$f":"IF($U$64=\"\",\"\",IF(ROWS(BD!$1:21)>COUNTIFS(BD!$B:$B,$U$64),\"\",INDEX(BD!$G$2:$G$138,SMALL(IF(BD!$B$2:$B$138=$U$64,IF(BD!$B$2:$B$138=$U$64,ROW(BD!$B$2:$B$138)-ROW(BD!$B$2)+1),FALSE),ROWS(BD!$1:21)))))","v":""},{"$f":"IF($U$64=\"\",\"\",IF(ROWS(BD!$1:21)>COUNTIFS(BD!$B:$B,$U$64),\"\",INDEX(BD!$H$2:$H$138,SMALL(IF(BD!$B$2:$B$138=$U$64,IF(BD!$B$2:$B$138=$U$64,ROW(BD!$B$2:$B$138)-ROW(BD!$B$2)+1),FALSE),ROWS(BD!$1:21)))))","v":""},null,{"$f":"IF($AA$64=\"\",\"\",IF(ROWS(BD!$1:21)>COUNTIFS(BD!$B:$B,$AA$64),\"\",INDEX(BD!$C$2:$C$138,SMALL(IF(BD!$B$2:$B$138=$AA$64,IF(BD!$B$2:$B$138=$AA$64,ROW(BD!$B$2:$B$138)-ROW(BD!$B$2)+1),FALSE),ROWS(BD!$1:21)))))","v":""},{"$f":"IF($AA$64=\"\",\"\",IF(ROWS(BD!$1:21)>COUNTIFS(BD!$B:$B,$AA$64),\"\",INDEX(BD!$E$2:$E$138,SMALL(IF(BD!$B$2:$B$138=$AA$64,IF(BD!$B$2:$B$138=$AA$64,ROW(BD!$B$2:$B$138)-ROW(BD!$B$2)+1),FALSE),ROWS(BD!$1:21)))))","v":""},{"$f":"IF($AA$64=\"\",\"\",IF(ROWS(BD!$1:21)>COUNTIFS(BD!$B:$B,$AA$64),\"\",INDEX(BD!$F$2:$F$138,SMALL(IF(BD!$B$2:$B$138=$AA$64,IF(BD!$B$2:$B$138=$AA$64,ROW(BD!$B$2:$B$138)-ROW(BD!$B$2)+1),FALSE),ROWS(BD!$1:21)))))","v":""},{"$f":"IF($AA$64=\"\",\"\",IF(ROWS(BD!$1:21)>COUNTIFS(BD!$B:$B,$AA$64),\"\",INDEX(BD!$G$2:$G$138,SMALL(IF(BD!$B$2:$B$138=$AA$64,IF(BD!$B$2:$B$138=$AA$64,ROW(BD!$B$2:$B$138)-ROW(BD!$B$2)+1),FALSE),ROWS(BD!$1:21)))))","v":""},{"$f":"IF($AA$64=\"\",\"\",IF(ROWS(BD!$1:21)>COUNTIFS(BD!$B:$B,$AA$64),\"\",INDEX(BD!$H$2:$H$138,SMALL(IF(BD!$B$2:$B$138=$AA$64,IF(BD!$B$2:$B$138=$AA$64,ROW(BD!$B$2:$B$138)-ROW(BD!$B$2)+1),FALSE),ROWS(BD!$1:21)))))","v":""},null,{"$f":"IF($AG$64=\"\",\"\",IF(ROWS(BD!$1:21)>COUNTIFS(BD!$B:$B,$AG$64),\"\",INDEX(BD!$C$2:$C$138,SMALL(IF(BD!$B$2:$B$138=$AG$64,IF(BD!$B$2:$B$138=$AG$64,ROW(BD!$B$2:$B$138)-ROW(BD!$B$2)+1),FALSE),ROWS(BD!$1:21)))))","v":""},{"$f":"IF($AG$64=\"\",\"\",IF(ROWS(BD!$1:21)>COUNTIFS(BD!$B:$B,$AG$64),\"\",INDEX(BD!$E$2:$E$138,SMALL(IF(BD!$B$2:$B$138=$AG$64,IF(BD!$B$2:$B$138=$AG$64,ROW(BD!$B$2:$B$138)-ROW(BD!$B$2)+1),FALSE),ROWS(BD!$1:21)))))","v":""},{"$f":"IF($AG$64=\"\",\"\",IF(ROWS(BD!$1:21)>COUNTIFS(BD!$B:$B,$AG$64),\"\",INDEX(BD!$F$2:$F$138,SMALL(IF(BD!$B$2:$B$138=$AG$64,IF(BD!$B$2:$B$138=$AG$64,ROW(BD!$B$2:$B$138)-ROW(BD!$B$2)+1),FALSE),ROWS(BD!$1:21)))))","v":""},{"$f":"IF($AG$64=\"\",\"\",IF(ROWS(BD!$1:21)>COUNTIFS(BD!$B:$B,$AG$64),\"\",INDEX(BD!$G$2:$G$138,SMALL(IF(BD!$B$2:$B$138=$AG$64,IF(BD!$B$2:$B$138=$AG$64,ROW(BD!$B$2:$B$138)-ROW(BD!$B$2)+1),FALSE),ROWS(BD!$1:21)))))","v":""},{"$f":"IF($AG$64=\"\",\"\",IF(ROWS(BD!$1:21)>COUNTIFS(BD!$B:$B,$AG$64),\"\",INDEX(BD!$H$2:$H$138,SMALL(IF(BD!$B$2:$B$138=$AG$64,IF(BD!$B$2:$B$138=$AG$64,ROW(BD!$B$2:$B$138)-ROW(BD!$B$2)+1),FALSE),ROWS(BD!$1:21)))))","v":""},null,{"$f":"IF($AM$64=\"\",\"\",IF(ROWS(BD!$1:21)>COUNTIFS(BD!$B:$B,$AM$64),\"\",INDEX(BD!$C$2:$C$138,SMALL(IF(BD!$B$2:$B$138=$AM$64,IF(BD!$B$2:$B$138=$AM$64,ROW(BD!$B$2:$B$138)-ROW(BD!$B$2)+1),FALSE),ROWS(BD!$1:21)))))","v":""},{"$f":"IF($AM$64=\"\",\"\",IF(ROWS(BD!$1:21)>COUNTIFS(BD!$B:$B,$AM$64),\"\",INDEX(BD!$E$2:$E$138,SMALL(IF(BD!$B$2:$B$138=$AM$64,IF(BD!$B$2:$B$138=$AM$64,ROW(BD!$B$2:$B$138)-ROW(BD!$B$2)+1),FALSE),ROWS(BD!$1:21)))))","v":""},{"$f":"IF($AM$64=\"\",\"\",IF(ROWS(BD!$1:21)>COUNTIFS(BD!$B:$B,$AM$64),\"\",INDEX(BD!$F$2:$F$138,SMALL(IF(BD!$B$2:$B$138=$AM$64,IF(BD!$B$2:$B$138=$AM$64,ROW(BD!$B$2:$B$138)-ROW(BD!$B$2)+1),FALSE),ROWS(BD!$1:21)))))","v":""},{"$f":"IF($AM$64=\"\",\"\",IF(ROWS(BD!$1:21)>COUNTIFS(BD!$B:$B,$AM$64),\"\",INDEX(BD!$G$2:$G$138,SMALL(IF(BD!$B$2:$B$138=$AM$64,IF(BD!$B$2:$B$138=$AM$64,ROW(BD!$B$2:$B$138)-ROW(BD!$B$2)+1),FALSE),ROWS(BD!$1:21)))))","v":""},{"$f":"IF($AM$64=\"\",\"\",IF(ROWS(BD!$1:21)>COUNTIFS(BD!$B:$B,$AM$64),\"\",INDEX(BD!$H$2:$H$138,SMALL(IF(BD!$B$2:$B$138=$AM$64,IF(BD!$B$2:$B$138=$AM$64,ROW(BD!$B$2:$B$138)-ROW(BD!$B$2)+1),FALSE),ROWS(BD!$1:21)))))","v":""}]
[null,null,{"$f":"IF($C$64=\"\",\"\",IF(ROWS(BD!$1:22)>COUNTIFS(BD!$B:$B,$C$64),\"\",INDEX(BD!$C$2:$C$138,SMALL(IF(BD!$B$2:$B$138=$C$64,IF(BD!$B$2:$B$138=$C$64,ROW(BD!$B$2:$B$138)-ROW(BD!$B$2)+1),FALSE),ROWS(BD!$1:22)))))","v":""},{"$f":"IF($C$64=\"\",\"\",IF(ROWS(BD!$1:22)>COUNTIFS(BD!$B:$B,$C$64),\"\",INDEX(BD!$E$2:$E$138,SMALL(IF(BD!$B$2:$B$138=$C$64,IF(BD!$B$2:$B$138=$C$64,ROW(BD!$B$2:$B$138)-ROW(BD!$B$2)+1),FALSE),ROWS(BD!$1:22)))))","v":""},{"$f":"IF($C$64=\"\",\"\",IF(ROWS(BD!$1:22)>COUNTIFS(BD!$B:$B,$C$64),\"\",INDEX(BD!$F$2:$F$138,SMALL(IF(BD!$B$2:$B$138=$C$64,IF(BD!$B$2:$B$138=$C$64,ROW(BD!$B$2:$B$138)-ROW(BD!$B$2)+1),FALSE),ROWS(BD!$1:22)))))","v":""},{"$f":"IF($C$64=\"\",\"\",IF(ROWS(BD!$1:22)>COUNTIFS(BD!$B:$B,$C$64),\"\",INDEX(BD!$G$2:$G$138,SMALL(IF(BD!$B$2:$B$138=$C$64,IF(BD!$B$2:$B$138=$C$64,ROW(BD!$B$2:$B$138)-ROW(BD!$B$2)+1),FALSE),ROWS(BD!$1:22)))))","v":""},{"$f":"IF($C$64=\"\",\"\",IF(ROWS(BD!$1:22)>COUNTIFS(BD!$B:$B,$C$64),\"\",INDEX(BD!$H$2:$H$138,SMALL(IF(BD!$B$2:$B$138=$C$64,IF(BD!$B$2:$B$138=$C$64,ROW(BD!$B$2:$B$138)-ROW(BD!$B$2)+1),FALSE),ROWS(BD!$1:22)))))","v":""},null,{"$f":"IF($I$64=\"\",\"\",IF(ROWS(BD!$1:22)>COUNTIFS(BD!$B:$B,$I$64),\"\",INDEX(BD!$C$2:$C$138,SMALL(IF(BD!$B$2:$B$138=$I$64,IF(BD!$B$2:$B$138=$I$64,ROW(BD!$B$2:$B$138)-ROW(BD!$B$2)+1),FALSE),ROWS(BD!$1:22)))))","v":""},{"$f":"IF($I$64=\"\",\"\",IF(ROWS(BD!$1:22)>COUNTIFS(BD!$B:$B,$I$64),\"\",INDEX(BD!$E$2:$E$138,SMALL(IF(BD!$B$2:$B$138=$I$64,IF(BD!$B$2:$B$138=$I$64,ROW(BD!$B$2:$B$138)-ROW(BD!$B$2)+1),FALSE),ROWS(BD!$1:22)))))","v":""},{"$f":"IF($I$64=\"\",\"\",IF(ROWS(BD!$1:22)>COUNTIFS(BD!$B:$B,$I$64),\"\",INDEX(BD!$F$2:$F$138,SMALL(IF(BD!$B$2:$B$138=$I$64,IF(BD!$B$2:$B$138=$I$64,ROW(BD!$B$2:$B$138)-ROW(BD!$B$2)+1),FALSE),ROWS(BD!$1:22)))))","v":""},{"$f":"IF($I$64=\"\",\"\",IF(ROWS(BD!$1:22)>COUNTIFS(BD!$B:$B,$I$64),\"\",INDEX(BD!$G$2:$G$138,SMALL(IF(BD!$B$2:$B$138=$I$64,IF(BD!$B$2:$B$138=$I$64,ROW(BD!$B$2:$B$138)-ROW(BD!$B$2)+1),FALSE),ROWS(BD!$1:22)))))","v":""},{"$f":"IF($I$64=\"\",\"\",IF(ROWS(BD!$1:22)>COUNTIFS(BD!$B:$B,$I$64),\"\",INDEX(BD!$H$2:$H$138,SMALL(IF(BD!$B$2:$B$138=$I$64,IF(BD!$B$2:$B$138=$I$64,ROW(BD!$B$2:$B$138)-ROW(BD!$B$2)+1),FALSE),ROWS(BD!$1:22)))))","v":""},null,{"$f":"IF($O$64=\"\",\"\",IF(ROWS(BD!$1:22)>COUNTIFS(BD!$B:$B,$O$64),\"\",INDEX(BD!$C$2:$C$138,SMALL(IF(BD!$B$2:$B$138=$O$64,IF(BD!$B$2:$B$138=$O$64,ROW(BD!$B$2:$B$138)-ROW(BD!$B$2)+1),FALSE),ROWS(BD!$1:22)))))","v":""},{"$f":"IF($O$64=\"\",\"\",IF(ROWS(BD!$1:22)>COUNTIFS(BD!$B:$B,$O$64),\"\",INDEX(BD!$E$2:$E$138,SMALL(IF(BD!$B$2:$B$138=$O$64,IF(BD!$B$2:$B$138=$O$64,ROW(BD!$B$2:$B$138)-ROW(BD!$B$2)+1),FALSE),ROWS(BD!$1:22)))))","v":""},{"$f":"IF($O$64=\"\",\"\",IF(ROWS(BD!$1:22)>COUNTIFS(BD!$B:$B,$O$64),\"\",INDEX(BD!$F$2:$F$138,SMALL(IF(BD!$B$2:$B$138=$O$64,IF(BD!$B$2:$B$138=$O$64,ROW(BD!$B$2:$B$138)-ROW(BD!$B$2)+1),FALSE),ROWS(BD!$1:22)))))","v":""},{"$f":"IF($O$64=\"\",\"\",IF(ROWS(BD!$1:22)>COUNTIFS(BD!$B:$B,$O$64),\"\",INDEX(BD!$G$2:$G$138,SMALL(IF(BD!$B$2:$B$138=$O$64,IF(BD!$B$2:$B$138=$O$64,ROW(BD!$B$2:$B$138)-ROW(BD!$B$2)+1),FALSE),ROWS(BD!$1:22)))))","v":""},{"$f":"IF($O$64=\"\",\"\",IF(ROWS(BD!$1:22)>COUNTIFS(BD!$B:$B,$O$64),\"\",INDEX(BD!$H$2:$H$138,SMALL(IF(BD!$B$2:$B$138=$O$64,IF(BD!$B$2:$B$138=$O$64,ROW(BD!$B$2:$B$138)-ROW(BD!$B$2)+1),FALSE),ROWS(BD!$1:22)))))","v":""},null,{"$f":"IF($U$64=\"\",\"\",IF(ROWS(BD!$1:22)>COUNTIFS(BD!$B:$B,$U$64),\"\",INDEX(BD!$C$2:$C$138,SMALL(IF(BD!$B$2:$B$138=$U$64,IF(BD!$B$2:$B$138=$U$64,ROW(BD!$B$2:$B$138)-ROW(BD!$B$2)+1),FALSE),ROWS(BD!$1:22)))))","v":""},{"$f":"IF($U$64=\"\",\"\",IF(ROWS(BD!$1:22)>COUNTIFS(BD!$B:$B,$U$64),\"\",INDEX(BD!$E$2:$E$138,SMALL(IF(BD!$B$2:$B$138=$U$64,IF(BD!$B$2:$B$138=$U$64,ROW(BD!$B$2:$B$138)-ROW(BD!$B$2)+1),FALSE),ROWS(BD!$1:22)))))","v":""},{"$f":"IF($U$64=\"\",\"\",IF(ROWS(BD!$1:22)>COUNTIFS(BD!$B:$B,$U$64),\"\",INDEX(BD!$F$2:$F$138,SMALL(IF(BD!$B$2:$B$138=$U$64,IF(BD!$B$2:$B$138=$U$64,ROW(BD!$B$2:$B$138)-ROW(BD!$B$2)+1),FALSE),ROWS(BD!$1:22)))))","v":""},{"$f":"IF($U$64=\"\",\"\",IF(ROWS(BD!$1:22)>COUNTIFS(BD!$B:$B,$U$64),\"\",INDEX(BD!$G$2:$G$138,SMALL(IF(BD!$B$2:$B$138=$U$64,IF(BD!$B$2:$B$138=$U$64,ROW(BD!$B$2:$B$138)-ROW(BD!$B$2)+1),FALSE),ROWS(BD!$1:22)))))","v":""},{"$f":"IF($U$64=\"\",\"\",IF(ROWS(BD!$1:22)>COUNTIFS(BD!$B:$B,$U$64),\"\",INDEX(BD!$H$2:$H$138,SMALL(IF(BD!$B$2:$B$138=$U$64,IF(BD!$B$2:$B$138=$U$64,ROW(BD!$B$2:$B$138)-ROW(BD!$B$2)+1),FALSE),ROWS(BD!$1:22)))))","v":""},null,{"$f":"IF($AA$64=\"\",\"\",IF(ROWS(BD!$1:22)>COUNTIFS(BD!$B:$B,$AA$64),\"\",INDEX(BD!$C$2:$C$138,SMALL(IF(BD!$B$2:$B$138=$AA$64,IF(BD!$B$2:$B$138=$AA$64,ROW(BD!$B$2:$B$138)-ROW(BD!$B$2)+1),FALSE),ROWS(BD!$1:22)))))","v":""},{"$f":"IF($AA$64=\"\",\"\",IF(ROWS(BD!$1:22)>COUNTIFS(BD!$B:$B,$AA$64),\"\",INDEX(BD!$E$2:$E$138,SMALL(IF(BD!$B$2:$B$138=$AA$64,IF(BD!$B$2:$B$138=$AA$64,ROW(BD!$B$2:$B$138)-ROW(BD!$B$2)+1),FALSE),ROWS(BD!$1:22)))))","v":""},{"$f":"IF($AA$64=\"\",\"\",IF(ROWS(BD!$1:22)>COUNTIFS(BD!$B:$B,$AA$64),\"\",INDEX(BD!$F$2:$F$138,SMALL(IF(BD!$B$2:$B$138=$AA$64,IF(BD!$B$2:$B$138=$AA$64,ROW(BD!$B$2:$B$138)-ROW(BD!$B$2)+1),FALSE),ROWS(BD!$1:22)))))","v":""},{"$f":"IF($AA$64=\"\",\"\",IF(ROWS(BD!$1:22)>COUNTIFS(BD!$B:$B,$AA$64),\"\",INDEX(BD!$G$2:$G$138,SMALL(IF(BD!$B$2:$B$138=$AA$64,IF(BD!$B$2:$B$138=$AA$64,ROW(BD!$B$2:$B$138)-ROW(BD!$B$2)+1),FALSE),ROWS(BD!$1:22)))))","v":""},{"$f":"IF($AA$64=\"\",\"\",IF(ROWS(BD!$1:22)>COUNTIFS(BD!$B:$B,$AA$64),\"\",INDEX(BD!$H$2:$H$138,SMALL(IF(BD!$B$2:$B$138=$AA$64,IF(BD!$B$2:$B$138=$AA$64,ROW(BD!$B$2:$B$138)-ROW(BD!$B$2)+1),FALSE),ROWS(BD!$1:22)))))","v":""},null,{"$f":"IF($AG$64=\"\",\"\",IF(ROWS(BD!$1:22)>COUNTIFS(BD!$B:$B,$AG$64),\"\",INDEX(BD!$C$2:$C$138,SMALL(IF(BD!$B$2:$B$138=$AG$64,IF(BD!$B$2:$B$138=$AG$64,ROW(BD!$B$2:$B$138)-ROW(BD!$B$2)+1),FALSE),ROWS(BD!$1:22)))))","v":""},{"$f":"IF($AG$64=\"\",\"\",IF(ROWS(BD!$1:22)>COUNTIFS(BD!$B:$B,$AG$64),\"\",INDEX(BD!$E$2:$E$138,SMALL(IF(BD!$B$2:$B$138=$AG$64,IF(BD!$B$2:$B$138=$AG$64,ROW(BD!$B$2:$B$138)-ROW(BD!$B$2)+1),FALSE),ROWS(BD!$1:22)))))","v":""},{"$f":"IF($AG$64=\"\",\"\",IF(ROWS(BD!$1:22)>COUNTIFS(BD!$B:$B,$AG$64),\"\",INDEX(BD!$F$2:$F$138,SMALL(IF(BD!$B$2:$B$138=$AG$64,IF(BD!$B$2:$B$138=$AG$64,ROW(BD!$B$2:$B$138)-ROW(BD!$B$2)+1),FALSE),ROWS(BD!$1:22)))))","v":""},{"$f":"IF($AG$64=\"\",\"\",IF(ROWS(BD!$1:22)>COUNTIFS(BD!$B:$B,$AG$64),\"\",INDEX(BD!$G$2:$G$138,SMALL(IF(BD!$B$2:$B$138=$AG$64,IF(BD!$B$2:$B$138=$AG$64,ROW(BD!$B$2:$B$138)-ROW(BD!$B$2)+1),FALSE),ROWS(BD!$1:22)))))","v":""},{"$f":"IF($AG$64=\"\",\"\",IF(ROWS(BD!$1:22)>COUNTIFS(BD!$B:$B,$AG$64),\"\",INDEX(BD!$H$2:$H$138,SMALL(IF(BD!$B$2:$B$138=$AG$64,IF(BD!$B$2:$B$138=$AG$64,ROW(BD!$B$2:$B$138)-ROW(BD!$B$2)+1),FALSE),ROWS(BD!$1:22)))))","v":""},null,{"$f":"IF($AM$64=\"\",\"\",IF(ROWS(BD!$1:22)>COUNTIFS(BD!$B:$B,$AM$64),\"\",INDEX(BD!$C$2:$C$138,SMALL(IF(BD!$B$2:$B$138=$AM$64,IF(BD!$B$2:$B$138=$AM$64,ROW(BD!$B$2:$B$138)-ROW(BD!$B$2)+1),FALSE),ROWS(BD!$1:22)))))","v":""},{"$f":"IF($AM$64=\"\",\"\",IF(ROWS(BD!$1:22)>COUNTIFS(BD!$B:$B,$AM$64),\"\",INDEX(BD!$E$2:$E$138,SMALL(IF(BD!$B$2:$B$138=$AM$64,IF(BD!$B$2:$B$138=$AM$64,ROW(BD!$B$2:$B$138)-ROW(BD!$B$2)+1),FALSE),ROWS(BD!$1:22)))))","v":""},{"$f":"IF($AM$64=\"\",\"\",IF(ROWS(BD!$1:22)>COUNTIFS(BD!$B:$B,$AM$64),\"\",INDEX(BD!$F$2:$F$138,SMALL(IF(BD!$B$2:$B$138=$AM$64,IF(BD!$B$2:$B$138=$AM$64,ROW(BD!$B$2:$B$138)-ROW(BD!$B$2)+1),FALSE),ROWS(BD!$1:22)))))","v":""},{"$f":"IF($AM$64=\"\",\"\",IF(ROWS(BD!$1:22)>COUNTIFS(BD!$B:$B,$AM$64),\"\",INDEX(BD!$G$2:$G$138,SMALL(IF(BD!$B$2:$B$138=$AM$64,IF(BD!$B$2:$B$138=$AM$64,ROW(BD!$B$2:$B$138)-ROW(BD!$B$2)+1),FALSE),ROWS(BD!$1:22)))))","v":""},{"$f":"IF($AM$64=\"\",\"\",IF(ROWS(BD!$1:22)>COUNTIFS(BD!$B:$B,$AM$64),\"\",INDEX(BD!$H$2:$H$138,SMALL(IF(BD!$B$2:$B$138=$AM$64,IF(BD!$B$2:$B$138=$AM$64,ROW(BD!$B$2:$B$138)-ROW(BD!$B$2)+1),FALSE),ROWS(BD!$1:22)))))","v":""}]
[null,null,{"$f":"IF($C$64=\"\",\"\",IF(ROWS(BD!$1:23)>COUNTIFS(BD!$B:$B,$C$64),\"\",INDEX(BD!$C$2:$C$138,SMALL(IF(BD!$B$2:$B$138=$C$64,IF(BD!$B$2:$B$138=$C$64,ROW(BD!$B$2:$B$138)-ROW(BD!$B$2)+1),FALSE),ROWS(BD!$1:23)))))","v":""},{"$f":"IF($C$64=\"\",\"\",IF(ROWS(BD!$1:23)>COUNTIFS(BD!$B:$B,$C$64),\"\",INDEX(BD!$E$2:$E$138,SMALL(IF(BD!$B$2:$B$138=$C$64,IF(BD!$B$2:$B$138=$C$64,ROW(BD!$B$2:$B$138)-ROW(BD!$B$2)+1),FALSE),ROWS(BD!$1:23)))))","v":""},{"$f":"IF($C$64=\"\",\"\",IF(ROWS(BD!$1:23)>COUNTIFS(BD!$B:$B,$C$64),\"\",INDEX(BD!$F$2:$F$138,SMALL(IF(BD!$B$2:$B$138=$C$64,IF(BD!$B$2:$B$138=$C$64,ROW(BD!$B$2:$B$138)-ROW(BD!$B$2)+1),FALSE),ROWS(BD!$1:23)))))","v":""},{"$f":"IF($C$64=\"\",\"\",IF(ROWS(BD!$1:23)>COUNTIFS(BD!$B:$B,$C$64),\"\",INDEX(BD!$G$2:$G$138,SMALL(IF(BD!$B$2:$B$138=$C$64,IF(BD!$B$2:$B$138=$C$64,ROW(BD!$B$2:$B$138)-ROW(BD!$B$2)+1),FALSE),ROWS(BD!$1:23)))))","v":""},{"$f":"IF($C$64=\"\",\"\",IF(ROWS(BD!$1:23)>COUNTIFS(BD!$B:$B,$C$64),\"\",INDEX(BD!$H$2:$H$138,SMALL(IF(BD!$B$2:$B$138=$C$64,IF(BD!$B$2:$B$138=$C$64,ROW(BD!$B$2:$B$138)-ROW(BD!$B$2)+1),FALSE),ROWS(BD!$1:23)))))","v":""},null,{"$f":"IF($I$64=\"\",\"\",IF(ROWS(BD!$1:23)>COUNTIFS(BD!$B:$B,$I$64),\"\",INDEX(BD!$C$2:$C$138,SMALL(IF(BD!$B$2:$B$138=$I$64,IF(BD!$B$2:$B$138=$I$64,ROW(BD!$B$2:$B$138)-ROW(BD!$B$2)+1),FALSE),ROWS(BD!$1:23)))))","v":""},{"$f":"IF($I$64=\"\",\"\",IF(ROWS(BD!$1:23)>COUNTIFS(BD!$B:$B,$I$64),\"\",INDEX(BD!$E$2:$E$138,SMALL(IF(BD!$B$2:$B$138=$I$64,IF(BD!$B$2:$B$138=$I$64,ROW(BD!$B$2:$B$138)-ROW(BD!$B$2)+1),FALSE),ROWS(BD!$1:23)))))","v":""},{"$f":"IF($I$64=\"\",\"\",IF(ROWS(BD!$1:23)>COUNTIFS(BD!$B:$B,$I$64),\"\",INDEX(BD!$F$2:$F$138,SMALL(IF(BD!$B$2:$B$138=$I$64,IF(BD!$B$2:$B$138=$I$64,ROW(BD!$B$2:$B$138)-ROW(BD!$B$2)+1),FALSE),ROWS(BD!$1:23)))))","v":""},{"$f":"IF($I$64=\"\",\"\",IF(ROWS(BD!$1:23)>COUNTIFS(BD!$B:$B,$I$64),\"\",INDEX(BD!$G$2:$G$138,SMALL(IF(BD!$B$2:$B$138=$I$64,IF(BD!$B$2:$B$138=$I$64,ROW(BD!$B$2:$B$138)-ROW(BD!$B$2)+1),FALSE),ROWS(BD!$1:23)))))","v":""},{"$f":"IF($I$64=\"\",\"\",IF(ROWS(BD!$1:23)>COUNTIFS(BD!$B:$B,$I$64),\"\",INDEX(BD!$H$2:$H$138,SMALL(IF(BD!$B$2:$B$138=$I$64,IF(BD!$B$2:$B$138=$I$64,ROW(BD!$B$2:$B$138)-ROW(BD!$B$2)+1),FALSE),ROWS(BD!$1:23)))))","v":""},null,{"$f":"IF($O$64=\"\",\"\",IF(ROWS(BD!$1:23)>COUNTIFS(BD!$B:$B,$O$64),\"\",INDEX(BD!$C$2:$C$138,SMALL(IF(BD!$B$2:$B$138=$O$64,IF(BD!$B$2:$B$138=$O$64,ROW(BD!$B$2:$B$138)-ROW(BD!$B$2)+1),FALSE),ROWS(BD!$1:23)))))","v":""},{"$f":"IF($O$64=\"\",\"\",IF(ROWS(BD!$1:23)>COUNTIFS(BD!$B:$B,$O$64),\"\",INDEX(BD!$E$2:$E$138,SMALL(IF(BD!$B$2:$B$138=$O$64,IF(BD!$B$2:$B$138=$O$64,ROW(BD!$B$2:$B$138)-ROW(BD!$B$2)+1),FALSE),ROWS(BD!$1:23)))))","v":""},{"$f":"IF($O$64=\"\",\"\",IF(ROWS(BD!$1:23)>COUNTIFS(BD!$B:$B,$O$64),\"\",INDEX(BD!$F$2:$F$138,SMALL(IF(BD!$B$2:$B$138=$O$64,IF(BD!$B$2:$B$138=$O$64,ROW(BD!$B$2:$B$138)-ROW(BD!$B$2)+1),FALSE),ROWS(BD!$1:23)))))","v":""},{"$f":"IF($O$64=\"\",\"\",IF(ROWS(BD!$1:23)>COUNTIFS(BD!$B:$B,$O$64),\"\",INDEX(BD!$G$2:$G$138,SMALL(IF(BD!$B$2:$B$138=$O$64,IF(BD!$B$2:$B$138=$O$64,ROW(BD!$B$2:$B$138)-ROW(BD!$B$2)+1),FALSE),ROWS(BD!$1:23)))))","v":""},{"$f":"IF($O$64=\"\",\"\",IF(ROWS(BD!$1:23)>COUNTIFS(BD!$B:$B,$O$64),\"\",INDEX(BD!$H$2:$H$138,SMALL(IF(BD!$B$2:$B$138=$O$64,IF(BD!$B$2:$B$138=$O$64,ROW(BD!$B$2:$B$138)-ROW(BD!$B$2)+1),FALSE),ROWS(BD!$1:23)))))","v":""},null,{"$f":"IF($U$64=\"\",\"\",IF(ROWS(BD!$1:23)>COUNTIFS(BD!$B:$B,$U$64),\"\",INDEX(BD!$C$2:$C$138,SMALL(IF(BD!$B$2:$B$138=$U$64,IF(BD!$B$2:$B$138=$U$64,ROW(BD!$B$2:$B$138)-ROW(BD!$B$2)+1),FALSE),ROWS(BD!$1:23)))))","v":""},{"$f":"IF($U$64=\"\",\"\",IF(ROWS(BD!$1:23)>COUNTIFS(BD!$B:$B,$U$64),\"\",INDEX(BD!$E$2:$E$138,SMALL(IF(BD!$B$2:$B$138=$U$64,IF(BD!$B$2:$B$138=$U$64,ROW(BD!$B$2:$B$138)-ROW(BD!$B$2)+1),FALSE),ROWS(BD!$1:23)))))","v":""},{"$f":"IF($U$64=\"\",\"\",IF(ROWS(BD!$1:23)>COUNTIFS(BD!$B:$B,$U$64),\"\",INDEX(BD!$F$2:$F$138,SMALL(IF(BD!$B$2:$B$138=$U$64,IF(BD!$B$2:$B$138=$U$64,ROW(BD!$B$2:$B$138)-ROW(BD!$B$2)+1),FALSE),ROWS(BD!$1:23)))))","v":""},{"$f":"IF($U$64=\"\",\"\",IF(ROWS(BD!$1:23)>COUNTIFS(BD!$B:$B,$U$64),\"\",INDEX(BD!$G$2:$G$138,SMALL(IF(BD!$B$2:$B$138=$U$64,IF(BD!$B$2:$B$138=$U$64,ROW(BD!$B$2:$B$138)-ROW(BD!$B$2)+1),FALSE),ROWS(BD!$1:23)))))","v":""},{"$f":"IF($U$64=\"\",\"\",IF(ROWS(BD!$1:23)>COUNTIFS(BD!$B:$B,$U$64),\"\",INDEX(BD!$H$2:$H$138,SMALL(IF(BD!$B$2:$B$138=$U$64,IF(BD!$B$2:$B$138=$U$64,ROW(BD!$B$2:$B$138)-ROW(BD!$B$2)+1),FALSE),ROWS(BD!$1:23)))))","v":""},null,{"$f":"IF($AA$64=\"\",\"\",IF(ROWS(BD!$1:23)>COUNTIFS(BD!$B:$B,$AA$64),\"\",INDEX(BD!$C$2:$C$138,SMALL(IF(BD!$B$2:$B$138=$AA$64,IF(BD!$B$2:$B$138=$AA$64,ROW(BD!$B$2:$B$138)-ROW(BD!$B$2)+1),FALSE),ROWS(BD!$1:23)))))","v":""},{"$f":"IF($AA$64=\"\",\"\",IF(ROWS(BD!$1:23)>COUNTIFS(BD!$B:$B,$AA$64),\"\",INDEX(BD!$E$2:$E$138,SMALL(IF(BD!$B$2:$B$138=$AA$64,IF(BD!$B$2:$B$138=$AA$64,ROW(BD!$B$2:$B$138)-ROW(BD!$B$2)+1),FALSE),ROWS(BD!$1:23)))))","v":""},{"$f":"IF($AA$64=\"\",\"\",IF(ROWS(BD!$1:23)>COUNTIFS(BD!$B:$B,$AA$64),\"\",INDEX(BD!$F$2:$F$138,SMALL(IF(BD!$B$2:$B$138=$AA$64,IF(BD!$B$2:$B$138=$AA$64,ROW(BD!$B$2:$B$138)-ROW(BD!$B$2)+1),FALSE),ROWS(BD!$1:23)))))","v":""},{"$f":"IF($AA$64=\"\",\"\",IF(ROWS(BD!$1:23)>COUNTIFS(BD!$B:$B,$AA$64),\"\",INDEX(BD!$G$2:$G$138,SMALL(IF(BD!$B$2:$B$138=$AA$64,IF(BD!$B$2:$B$138=$AA$64,ROW(BD!$B$2:$B$138)-ROW(BD!$B$2)+1),FALSE),ROWS(BD!$1:23)))))","v":""},{"$f":"IF($AA$64=\"\",\"\",IF(ROWS(BD!$1:23)>COUNTIFS(BD!$B:$B,$AA$64),\"\",INDEX(BD!$H$2:$H$138,SMALL(IF(BD!$B$2:$B$138=$AA$64,IF(BD!$B$2:$B$138=$AA$64,ROW(BD!$B$2:$B$138)-ROW(BD!$B$2)+1),FALSE),ROWS(BD!$1:23)))))","v":""},null,{"$f":"IF($AG$64=\"\",\"\",IF(ROWS(BD!$1:23)>COUNTIFS(BD!$B:$B,$AG$64),\"\",INDEX(BD!$C$2:$C$138,SMALL(IF(BD!$B$2:$B$138=$AG$64,IF(BD!$B$2:$B$138=$AG$64,ROW(BD!$B$2:$B$138)-ROW(BD!$B$2)+1),FALSE),ROWS(BD!$1:23)))))","v":""},{"$f":"IF($AG$64=\"\",\"\",IF(ROWS(BD!$1:23)>COUNTIFS(BD!$B:$B,$AG$64),\"\",INDEX(BD!$E$2:$E$138,SMALL(IF(BD!$B$2:$B$138=$AG$64,IF(BD!$B$2:$B$138=$AG$64,ROW(BD!$B$2:$B$138)-ROW(BD!$B$2)+1),FALSE),ROWS(BD!$1:23)))))","v":""},{"$f":"IF($AG$64=\"\",\"\",IF(ROWS(BD!$1:23)>COUNTIFS(BD!$B:$B,$AG$64),\"\",INDEX(BD!$F$2:$F$138,SMALL(IF(BD!$B$2:$B$138=$AG$64,IF(BD!$B$2:$B$138=$AG$64,ROW(BD!$B$2:$B$138)-ROW(BD!$B$2)+1),FALSE),ROWS(BD!$1:23)))))","v":""},{"$f":"IF($AG$64=\"\",\"\",IF(ROWS(BD!$1:23)>COUNTIFS(BD!$B:$B,$AG$64),\"\",INDEX(BD!$G$2:$G$138,SMALL(IF(BD!$B$2:$B$138=$AG$64,IF(BD!$B$2:$B$138=$AG$64,ROW(BD!$B$2:$B$138)-ROW(BD!$B$2)+1),FALSE),ROWS(BD!$1:23)))))","v":""},{"$f":"IF($AG$64=\"\",\"\",IF(ROWS(BD!$1:23)>COUNTIFS(BD!$B:$B,$AG$64),\"\",INDEX(BD!$H$2:$H$138,SMALL(IF(BD!$B$2:$B$138=$AG$64,IF(BD!$B$2:$B$138=$AG$64,ROW(BD!$B$2:$B$138)-ROW(BD!$B$2)+1),FALSE),ROWS(BD!$1:23)))))","v":""},null,{"$f":"IF($AM$64=\"\",\"\",IF(ROWS(BD!$1:23)>COUNTIFS(BD!$B:$B,$AM$64),\"\",INDEX(BD!$C$2:$C$138,SMALL(IF(BD!$B$2:$B$138=$AM$64,IF(BD!$B$2:$B$138=$AM$64,ROW(BD!$B$2:$B$138)-ROW(BD!$B$2)+1),FALSE),ROWS(BD!$1:23)))))","v":""},{"$f":"IF($AM$64=\"\",\"\",IF(ROWS(BD!$1:23)>COUNTIFS(BD!$B:$B,$AM$64),\"\",INDEX(BD!$E$2:$E$138,SMALL(IF(BD!$B$2:$B$138=$AM$64,IF(BD!$B$2:$B$138=$AM$64,ROW(BD!$B$2:$B$138)-ROW(BD!$B$2)+1),FALSE),ROWS(BD!$1:23)))))","v":""},{"$f":"IF($AM$64=\"\",\"\",IF(ROWS(BD!$1:23)>COUNTIFS(BD!$B:$B,$AM$64),\"\",INDEX(BD!$F$2:$F$138,SMALL(IF(BD!$B$2:$B$138=$AM$64,IF(BD!$B$2:$B$138=$AM$64,ROW(BD!$B$2:$B$138)-ROW(BD!$B$2)+1),FALSE),ROWS(BD!$1:23)))))","v":""},{"$f":"IF($AM$64=\"\",\"\",IF(ROWS(BD!$1:23)>COUNTIFS(BD!$B:$B,$AM$64),\"\",INDEX(BD!$G$2:$G$138,SMALL(IF(BD!$B$2:$B$138=$AM$64,IF(BD!$B$2:$B$138=$AM$64,ROW(BD!$B$2:$B$138)-ROW(BD!$B$2)+1),FALSE),ROWS(BD!$1:23)))))","v":""},{"$f":"IF($AM$64=\"\",\"\",IF(ROWS(BD!$1:23)>COUNTIFS(BD!$B:$B,$AM$64),\"\",INDEX(BD!$H$2:$H$138,SMALL(IF(BD!$B$2:$B$138=$AM$64,IF(BD!$B$2:$B$138=$AM$64,ROW(BD!$B$2:$B$138)-ROW(BD!$B$2)+1),FALSE),ROWS(BD!$1:23)))))","v":""}]
[null,null,{"$f":"IF($C$64=\"\",\"\",IF(ROWS(BD!$1:24)>COUNTIFS(BD!$B:$B,$C$64),\"\",INDEX(BD!$C$2:$C$138,SMALL(IF(BD!$B$2:$B$138=$C$64,IF(BD!$B$2:$B$138=$C$64,ROW(BD!$B$2:$B$138)-ROW(BD!$B$2)+1),FALSE),ROWS(BD!$1:24)))))","v":""},{"$f":"IF($C$64=\"\",\"\",IF(ROWS(BD!$1:24)>COUNTIFS(BD!$B:$B,$C$64),\"\",INDEX(BD!$E$2:$E$138,SMALL(IF(BD!$B$2:$B$138=$C$64,IF(BD!$B$2:$B$138=$C$64,ROW(BD!$B$2:$B$138)-ROW(BD!$B$2)+1),FALSE),ROWS(BD!$1:24)))))","v":""},{"$f":"IF($C$64=\"\",\"\",IF(ROWS(BD!$1:24)>COUNTIFS(BD!$B:$B,$C$64),\"\",INDEX(BD!$F$2:$F$138,SMALL(IF(BD!$B$2:$B$138=$C$64,IF(BD!$B$2:$B$138=$C$64,ROW(BD!$B$2:$B$138)-ROW(BD!$B$2)+1),FALSE),ROWS(BD!$1:24)))))","v":""},{"$f":"IF($C$64=\"\",\"\",IF(ROWS(BD!$1:24)>COUNTIFS(BD!$B:$B,$C$64),\"\",INDEX(BD!$G$2:$G$138,SMALL(IF(BD!$B$2:$B$138=$C$64,IF(BD!$B$2:$B$138=$C$64,ROW(BD!$B$2:$B$138)-ROW(BD!$B$2)+1),FALSE),ROWS(BD!$1:24)))))","v":""},{"$f":"IF($C$64=\"\",\"\",IF(ROWS(BD!$1:24)>COUNTIFS(BD!$B:$B,$C$64),\"\",INDEX(BD!$H$2:$H$138,SMALL(IF(BD!$B$2:$B$138=$C$64,IF(BD!$B$2:$B$138=$C$64,ROW(BD!$B$2:$B$138)-ROW(BD!$B$2)+1),FALSE),ROWS(BD!$1:24)))))","v":""},null,{"$f":"IF($I$64=\"\",\"\",IF(ROWS(BD!$1:24)>COUNTIFS(BD!$B:$B,$I$64),\"\",INDEX(BD!$C$2:$C$138,SMALL(IF(BD!$B$2:$B$138=$I$64,IF(BD!$B$2:$B$138=$I$64,ROW(BD!$B$2:$B$138)-ROW(BD!$B$2)+1),FALSE),ROWS(BD!$1:24)))))","v":""},{"$f":"IF($I$64=\"\",\"\",IF(ROWS(BD!$1:24)>COUNTIFS(BD!$B:$B,$I$64),\"\",INDEX(BD!$E$2:$E$138,SMALL(IF(BD!$B$2:$B$138=$I$64,IF(BD!$B$2:$B$138=$I$64,ROW(BD!$B$2:$B$138)-ROW(BD!$B$2)+1),FALSE),ROWS(BD!$1:24)))))","v":""},{"$f":"IF($I$64=\"\",\"\",IF(ROWS(BD!$1:24)>COUNTIFS(BD!$B:$B,$I$64),\"\",INDEX(BD!$F$2:$F$138,SMALL(IF(BD!$B$2:$B$138=$I$64,IF(BD!$B$2:$B$138=$I$64,ROW(BD!$B$2:$B$138)-ROW(BD!$B$2)+1),FALSE),ROWS(BD!$1:24)))))","v":""},{"$f":"IF($I$64=\"\",\"\",IF(ROWS(BD!$1:24)>COUNTIFS(BD!$B:$B,$I$64),\"\",INDEX(BD!$G$2:$G$138,SMALL(IF(BD!$B$2:$B$138=$I$64,IF(BD!$B$2:$B$138=$I$64,ROW(BD!$B$2:$B$138)-ROW(BD!$B$2)+1),FALSE),ROWS(BD!$1:24)))))","v":""},{"$f":"IF($I$64=\"\",\"\",IF(ROWS(BD!$1:24)>COUNTIFS(BD!$B:$B,$I$64),\"\",INDEX(BD!$H$2:$H$138,SMALL(IF(BD!$B$2:$B$138=$I$64,IF(BD!$B$2:$B$138=$I$64,ROW(BD!$B$2:$B$138)-ROW(BD!$B$2)+1),FALSE),ROWS(BD!$1:24)))))","v":""},null,{"$f":"IF($O$64=\"\",\"\",IF(ROWS(BD!$1:24)>COUNTIFS(BD!$B:$B,$O$64),\"\",INDEX(BD!$C$2:$C$138,SMALL(IF(BD!$B$2:$B$138=$O$64,IF(BD!$B$2:$B$138=$O$64,ROW(BD!$B$2:$B$138)-ROW(BD!$B$2)+1),FALSE),ROWS(BD!$1:24)))))","v":""},{"$f":"IF($O$64=\"\",\"\",IF(ROWS(BD!$1:24)>COUNTIFS(BD!$B:$B,$O$64),\"\",INDEX(BD!$E$2:$E$138,SMALL(IF(BD!$B$2:$B$138=$O$64,IF(BD!$B$2:$B$138=$O$64,ROW(BD!$B$2:$B$138)-ROW(BD!$B$2)+1),FALSE),ROWS(BD!$1:24)))))","v":""},{"$f":"IF($O$64=\"\",\"\",IF(ROWS(BD!$1:24)>COUNTIFS(BD!$B:$B,$O$64),\"\",INDEX(BD!$F$2:$F$138,SMALL(IF(BD!$B$2:$B$138=$O$64,IF(BD!$B$2:$B$138=$O$64,ROW(BD!$B$2:$B$138)-ROW(BD!$B$2)+1),FALSE),ROWS(BD!$1:24)))))","v":""},{"$f":"IF($O$64=\"\",\"\",IF(ROWS(BD!$1:24)>COUNTIFS(BD!$B:$B,$O$64),\"\",INDEX(BD!$G$2:$G$138,SMALL(IF(BD!$B$2:$B$138=$O$64,IF(BD!$B$2:$B$138=$O$64,ROW(BD!$B$2:$B$138)-ROW(BD!$B$2)+1),FALSE),ROWS(BD!$1:24)))))","v":""},{"$f":"IF($O$64=\"\",\"\",IF(ROWS(BD!$1:24)>COUNTIFS(BD!$B:$B,$O$64),\"\",INDEX(BD!$H$2:$H$138,SMALL(IF(BD!$B$2:$B$138=$O$64,IF(BD!$B$2:$B$138=$O$64,ROW(BD!$B$2:$B$138)-ROW(BD!$B$2)+1),FALSE),ROWS(BD!$1:24)))))","v":""},null,{"$f":"IF($U$64=\"\",\"\",IF(ROWS(BD!$1:24)>COUNTIFS(BD!$B:$B,$U$64),\"\",INDEX(BD!$C$2:$C$138,SMALL(IF(BD!$B$2:$B$138=$U$64,IF(BD!$B$2:$B$138=$U$64,ROW(BD!$B$2:$B$138)-ROW(BD!$B$2)+1),FALSE),ROWS(BD!$1:24)))))","v":""},{"$f":"IF($U$64=\"\",\"\",IF(ROWS(BD!$1:24)>COUNTIFS(BD!$B:$B,$U$64),\"\",INDEX(BD!$E$2:$E$138,SMALL(IF(BD!$B$2:$B$138=$U$64,IF(BD!$B$2:$B$138=$U$64,ROW(BD!$B$2:$B$138)-ROW(BD!$B$2)+1),FALSE),ROWS(BD!$1:24)))))","v":""},{"$f":"IF($U$64=\"\",\"\",IF(ROWS(BD!$1:24)>COUNTIFS(BD!$B:$B,$U$64),\"\",INDEX(BD!$F$2:$F$138,SMALL(IF(BD!$B$2:$B$138=$U$64,IF(BD!$B$2:$B$138=$U$64,ROW(BD!$B$2:$B$138)-ROW(BD!$B$2)+1),FALSE),ROWS(BD!$1:24)))))","v":""},{"$f":"IF($U$64=\"\",\"\",IF(ROWS(BD!$1:24)>COUNTIFS(BD!$B:$B,$U$64),\"\",INDEX(BD!$G$2:$G$138,SMALL(IF(BD!$B$2:$B$138=$U$64,IF(BD!$B$2:$B$138=$U$64,ROW(BD!$B$2:$B$138)-ROW(BD!$B$2)+1),FALSE),ROWS(BD!$1:24)))))","v":""},{"$f":"IF($U$64=\"\",\"\",IF(ROWS(BD!$1:24)>COUNTIFS(BD!$B:$B,$U$64),\"\",INDEX(BD!$H$2:$H$138,SMALL(IF(BD!$B$2:$B$138=$U$64,IF(BD!$B$2:$B$138=$U$64,ROW(BD!$B$2:$B$138)-ROW(BD!$B$2)+1),FALSE),ROWS(BD!$1:24)))))","v":""},null,{"$f":"IF($AA$64=\"\",\"\",IF(ROWS(BD!$1:24)>COUNTIFS(BD!$B:$B,$AA$64),\"\",INDEX(BD!$C$2:$C$138,SMALL(IF(BD!$B$2:$B$138=$AA$64,IF(BD!$B$2:$B$138=$AA$64,ROW(BD!$B$2:$B$138)-ROW(BD!$B$2)+1),FALSE),ROWS(BD!$1:24)))))","v":""},{"$f":"IF($AA$64=\"\",\"\",IF(ROWS(BD!$1:24)>COUNTIFS(BD!$B:$B,$AA$64),\"\",INDEX(BD!$E$2:$E$138,SMALL(IF(BD!$B$2:$B$138=$AA$64,IF(BD!$B$2:$B$138=$AA$64,ROW(BD!$B$2:$B$138)-ROW(BD!$B$2)+1),FALSE),ROWS(BD!$1:24)))))","v":""},{"$f":"IF($AA$64=\"\",\"\",IF(ROWS(BD!$1:24)>COUNTIFS(BD!$B:$B,$AA$64),\"\",INDEX(BD!$F$2:$F$138,SMALL(IF(BD!$B$2:$B$138=$AA$64,IF(BD!$B$2:$B$138=$AA$64,ROW(BD!$B$2:$B$138)-ROW(BD!$B$2)+1),FALSE),ROWS(BD!$1:24)))))","v":""},{"$f":"IF($AA$64=\"\",\"\",IF(ROWS(BD!$1:24)>COUNTIFS(BD!$B:$B,$AA$64),\"\",INDEX(BD!$G$2:$G$138,SMALL(IF(BD!$B$2:$B$138=$AA$64,IF(BD!$B$2:$B$138=$AA$64,ROW(BD!$B$2:$B$138)-ROW(BD!$B$2)+1),FALSE),ROWS(BD!$1:24)))))","v":""},{"$f":"IF($AA$64=\"\",\"\",IF(ROWS(BD!$1:24)>COUNTIFS(BD!$B:$B,$AA$64),\"\",INDEX(BD!$H$2:$H$138,SMALL(IF(BD!$B$2:$B$138=$AA$64,IF(BD!$B$2:$B$138=$AA$64,ROW(BD!$B$2:$B$138)-ROW(BD!$B$2)+1),FALSE),ROWS(BD!$1:24)))))","v":""},null,{"$f":"IF($AG$64=\"\",\"\",IF(ROWS(BD!$1:24)>COUNTIFS(BD!$B:$B,$AG$64),\"\",INDEX(BD!$C$2:$C$138,SMALL(IF(BD!$B$2:$B$138=$AG$64,IF(BD!$B$2:$B$138=$AG$64,ROW(BD!$B$2:$B$138)-ROW(BD!$B$2)+1),FALSE),ROWS(BD!$1:24)))))","v":""},{"$f":"IF($AG$64=\"\",\"\",IF(ROWS(BD!$1:24)>COUNTIFS(BD!$B:$B,$AG$64),\"\",INDEX(BD!$E$2:$E$138,SMALL(IF(BD!$B$2:$B$138=$AG$64,IF(BD!$B$2:$B$138=$AG$64,ROW(BD!$B$2:$B$138)-ROW(BD!$B$2)+1),FALSE),ROWS(BD!$1:24)))))","v":""},{"$f":"IF($AG$64=\"\",\"\",IF(ROWS(BD!$1:24)>COUNTIFS(BD!$B:$B,$AG$64),\"\",INDEX(BD!$F$2:$F$138,SMALL(IF(BD!$B$2:$B$138=$AG$64,IF(BD!$B$2:$B$138=$AG$64,ROW(BD!$B$2:$B$138)-ROW(BD!$B$2)+1),FALSE),ROWS(BD!$1:24)))))","v":""},{"$f":"IF($AG$64=\"\",\"\",IF(ROWS(BD!$1:24)>COUNTIFS(BD!$B:$B,$AG$64),\"\",INDEX(BD!$G$2:$G$138,SMALL(IF(BD!$B$2:$B$138=$AG$64,IF(BD!$B$2:$B$138=$AG$64,ROW(BD!$B$2:$B$138)-ROW(BD!$B$2)+1),FALSE),ROWS(BD!$1:24)))))","v":""},{"$f":"IF($AG$64=\"\",\"\",IF(ROWS(BD!$1:24)>COUNTIFS(BD!$B:$B,$AG$64),\"\",INDEX(BD!$H$2:$H$138,SMALL(IF(BD!$B$2:$B$138=$AG$64,IF(BD!$B$2:$B$138=$AG$64,ROW(BD!$B$2:$B$138)-ROW(BD!$B$2)+1),FALSE),ROWS(BD!$1:24)))))","v":""},null,{"$f":"IF($AM$64=\"\",\"\",IF(ROWS(BD!$1:24)>COUNTIFS(BD!$B:$B,$AM$64),\"\",INDEX(BD!$C$2:$C$138,SMALL(IF(BD!$B$2:$B$138=$AM$64,IF(BD!$B$2:$B$138=$AM$64,ROW(BD!$B$2:$B$138)-ROW(BD!$B$2)+1),FALSE),ROWS(BD!$1:24)))))","v":""},{"$f":"IF($AM$64=\"\",\"\",IF(ROWS(BD!$1:24)>COUNTIFS(BD!$B:$B,$AM$64),\"\",INDEX(BD!$E$2:$E$138,SMALL(IF(BD!$B$2:$B$138=$AM$64,IF(BD!$B$2:$B$138=$AM$64,ROW(BD!$B$2:$B$138)-ROW(BD!$B$2)+1),FALSE),ROWS(BD!$1:24)))))","v":""},{"$f":"IF($AM$64=\"\",\"\",IF(ROWS(BD!$1:24)>COUNTIFS(BD!$B:$B,$AM$64),\"\",INDEX(BD!$F$2:$F$138,SMALL(IF(BD!$B$2:$B$138=$AM$64,IF(BD!$B$2:$B$138=$AM$64,ROW(BD!$B$2:$B$138)-ROW(BD!$B$2)+1),FALSE),ROWS(BD!$1:24)))))","v":""},{"$f":"IF($AM$64=\"\",\"\",IF(ROWS(BD!$1:24)>COUNTIFS(BD!$B:$B,$AM$64),\"\",INDEX(BD!$G$2:$G$138,SMALL(IF(BD!$B$2:$B$138=$AM$64,IF(BD!$B$2:$B$138=$AM$64,ROW(BD!$B$2:$B$138)-ROW(BD!$B$2)+1),FALSE),ROWS(BD!$1:24)))))","v":""},{"$f":"IF($AM$64=\"\",\"\",IF(ROWS(BD!$1:24)>COUNTIFS(BD!$B:$B,$AM$64),\"\",INDEX(BD!$H$2:$H$138,SMALL(IF(BD!$B$2:$B$138=$AM$64,IF(BD!$B$2:$B$138=$AM$64,ROW(BD!$B$2:$B$138)-ROW(BD!$B$2)+1),FALSE),ROWS(BD!$1:24)))))","v":""}]
[null,null,{"$f":"IF($C$64=\"\",\"\",IF(ROWS(BD!$1:25)>COUNTIFS(BD!$B:$B,$C$64),\"\",INDEX(BD!$C$2:$C$138,SMALL(IF(BD!$B$2:$B$138=$C$64,IF(BD!$B$2:$B$138=$C$64,ROW(BD!$B$2:$B$138)-ROW(BD!$B$2)+1),FALSE),ROWS(BD!$1:25)))))","v":""},{"$f":"IF($C$64=\"\",\"\",IF(ROWS(BD!$1:25)>COUNTIFS(BD!$B:$B,$C$64),\"\",INDEX(BD!$E$2:$E$138,SMALL(IF(BD!$B$2:$B$138=$C$64,IF(BD!$B$2:$B$138=$C$64,ROW(BD!$B$2:$B$138)-ROW(BD!$B$2)+1),FALSE),ROWS(BD!$1:25)))))","v":""},{"$f":"IF($C$64=\"\",\"\",IF(ROWS(BD!$1:25)>COUNTIFS(BD!$B:$B,$C$64),\"\",INDEX(BD!$F$2:$F$138,SMALL(IF(BD!$B$2:$B$138=$C$64,IF(BD!$B$2:$B$138=$C$64,ROW(BD!$B$2:$B$138)-ROW(BD!$B$2)+1),FALSE),ROWS(BD!$1:25)))))","v":""},{"$f":"IF($C$64=\"\",\"\",IF(ROWS(BD!$1:25)>COUNTIFS(BD!$B:$B,$C$64),\"\",INDEX(BD!$G$2:$G$138,SMALL(IF(BD!$B$2:$B$138=$C$64,IF(BD!$B$2:$B$138=$C$64,ROW(BD!$B$2:$B$138)-ROW(BD!$B$2)+1),FALSE),ROWS(BD!$1:25)))))","v":""},{"$f":"IF($C$64=\"\",\"\",IF(ROWS(BD!$1:25)>COUNTIFS(BD!$B:$B,$C$64),\"\",INDEX(BD!$H$2:$H$138,SMALL(IF(BD!$B$2:$B$138=$C$64,IF(BD!$B$2:$B$138=$C$64,ROW(BD!$B$2:$B$138)-ROW(BD!$B$2)+1),FALSE),ROWS(BD!$1:25)))))","v":""},null,{"$f":"IF($I$64=\"\",\"\",IF(ROWS(BD!$1:25)>COUNTIFS(BD!$B:$B,$I$64),\"\",INDEX(BD!$C$2:$C$138,SMALL(IF(BD!$B$2:$B$138=$I$64,IF(BD!$B$2:$B$138=$I$64,ROW(BD!$B$2:$B$138)-ROW(BD!$B$2)+1),FALSE),ROWS(BD!$1:25)))))","v":""},{"$f":"IF($I$64=\"\",\"\",IF(ROWS(BD!$1:25)>COUNTIFS(BD!$B:$B,$I$64),\"\",INDEX(BD!$E$2:$E$138,SMALL(IF(BD!$B$2:$B$138=$I$64,IF(BD!$B$2:$B$138=$I$64,ROW(BD!$B$2:$B$138)-ROW(BD!$B$2)+1),FALSE),ROWS(BD!$1:25)))))","v":""},{"$f":"IF($I$64=\"\",\"\",IF(ROWS(BD!$1:25)>COUNTIFS(BD!$B:$B,$I$64),\"\",INDEX(BD!$F$2:$F$138,SMALL(IF(BD!$B$2:$B$138=$I$64,IF(BD!$B$2:$B$138=$I$64,ROW(BD!$B$2:$B$138)-ROW(BD!$B$2)+1),FALSE),ROWS(BD!$1:25)))))","v":""},{"$f":"IF($I$64=\"\",\"\",IF(ROWS(BD!$1:25)>COUNTIFS(BD!$B:$B,$I$64),\"\",INDEX(BD!$G$2:$G$138,SMALL(IF(BD!$B$2:$B$138=$I$64,IF(BD!$B$2:$B$138=$I$64,ROW(BD!$B$2:$B$138)-ROW(BD!$B$2)+1),FALSE),ROWS(BD!$1:25)))))","v":""},{"$f":"IF($I$64=\"\",\"\",IF(ROWS(BD!$1:25)>COUNTIFS(BD!$B:$B,$I$64),\"\",INDEX(BD!$H$2:$H$138,SMALL(IF(BD!$B$2:$B$138=$I$64,IF(BD!$B$2:$B$138=$I$64,ROW(BD!$B$2:$B$138)-ROW(BD!$B$2)+1),FALSE),ROWS(BD!$1:25)))))","v":""},null,{"$f":"IF($O$64=\"\",\"\",IF(ROWS(BD!$1:25)>COUNTIFS(BD!$B:$B,$O$64),\"\",INDEX(BD!$C$2:$C$138,SMALL(IF(BD!$B$2:$B$138=$O$64,IF(BD!$B$2:$B$138=$O$64,ROW(BD!$B$2:$B$138)-ROW(BD!$B$2)+1),FALSE),ROWS(BD!$1:25)))))","v":""},{"$f":"IF($O$64=\"\",\"\",IF(ROWS(BD!$1:25)>COUNTIFS(BD!$B:$B,$O$64),\"\",INDEX(BD!$E$2:$E$138,SMALL(IF(BD!$B$2:$B$138=$O$64,IF(BD!$B$2:$B$138=$O$64,ROW(BD!$B$2:$B$138)-ROW(BD!$B$2)+1),FALSE),ROWS(BD!$1:25)))))","v":""},{"$f":"IF($O$64=\"\",\"\",IF(ROWS(BD!$1:25)>COUNTIFS(BD!$B:$B,$O$64),\"\",INDEX(BD!$F$2:$F$138,SMALL(IF(BD!$B$2:$B$138=$O$64,IF(BD!$B$2:$B$138=$O$64,ROW(BD!$B$2:$B$138)-ROW(BD!$B$2)+1),FALSE),ROWS(BD!$1:25)))))","v":""},{"$f":"IF($O$64=\"\",\"\",IF(ROWS(BD!$1:25)>COUNTIFS(BD!$B:$B,$O$64),\"\",INDEX(BD!$G$2:$G$138,SMALL(IF(BD!$B$2:$B$138=$O$64,IF(BD!$B$2:$B$138=$O$64,ROW(BD!$B$2:$B$138)-ROW(BD!$B$2)+1),FALSE),ROWS(BD!$1:25)))))","v":""},{"$f":"IF($O$64=\"\",\"\",IF(ROWS(BD!$1:25)>COUNTIFS(BD!$B:$B,$O$64),\"\",INDEX(BD!$H$2:$H$138,SMALL(IF(BD!$B$2:$B$138=$O$64,IF(BD!$B$2:$B$138=$O$64,ROW(BD!$B$2:$B$138)-ROW(BD!$B$2)+1),FALSE),ROWS(BD!$1:25)))))","v":""},null,{"$f":"IF($U$64=\"\",\"\",IF(ROWS(BD!$1:25)>COUNTIFS(BD!$B:$B,$U$64),\"\",INDEX(BD!$C$2:$C$138,SMALL(IF(BD!$B$2:$B$138=$U$64,IF(BD!$B$2:$B$138=$U$64,ROW(BD!$B$2:$B$138)-ROW(BD!$B$2)+1),FALSE),ROWS(BD!$1:25)))))","v":""},{"$f":"IF($U$64=\"\",\"\",IF(ROWS(BD!$1:25)>COUNTIFS(BD!$B:$B,$U$64),\"\",INDEX(BD!$E$2:$E$138,SMALL(IF(BD!$B$2:$B$138=$U$64,IF(BD!$B$2:$B$138=$U$64,ROW(BD!$B$2:$B$138)-ROW(BD!$B$2)+1),FALSE),ROWS(BD!$1:25)))))","v":""},{"$f":"IF($U$64=\"\",\"\",IF(ROWS(BD!$1:25)>COUNTIFS(BD!$B:$B,$U$64),\"\",INDEX(BD!$F$2:$F$138,SMALL(IF(BD!$B$2:$B$138=$U$64,IF(BD!$B$2:$B$138=$U$64,ROW(BD!$B$2:$B$138)-ROW(BD!$B$2)+1),FALSE),ROWS(BD!$1:25)))))","v":""},{"$f":"IF($U$64=\"\",\"\",IF(ROWS(BD!$1:25)>COUNTIFS(BD!$B:$B,$U$64),\"\",INDEX(BD!$G$2:$G$138,SMALL(IF(BD!$B$2:$B$138=$U$64,IF(BD!$B$2:$B$138=$U$64,ROW(BD!$B$2:$B$138)-ROW(BD!$B$2)+1),FALSE),ROWS(BD!$1:25)))))","v":""},{"$f":"IF($U$64=\"\",\"\",IF(ROWS(BD!$1:25)>COUNTIFS(BD!$B:$B,$U$64),\"\",INDEX(BD!$H$2:$H$138,SMALL(IF(BD!$B$2:$B$138=$U$64,IF(BD!$B$2:$B$138=$U$64,ROW(BD!$B$2:$B$138)-ROW(BD!$B$2)+1),FALSE),ROWS(BD!$1:25)))))","v":""},null,{"$f":"IF($AA$64=\"\",\"\",IF(ROWS(BD!$1:25)>COUNTIFS(BD!$B:$B,$AA$64),\"\",INDEX(BD!$C$2:$C$138,SMALL(IF(BD!$B$2:$B$138=$AA$64,IF(BD!$B$2:$B$138=$AA$64,ROW(BD!$B$2:$B$138)-ROW(BD!$B$2)+1),FALSE),ROWS(BD!$1:25)))))","v":""},{"$f":"IF($AA$64=\"\",\"\",IF(ROWS(BD!$1:25)>COUNTIFS(BD!$B:$B,$AA$64),\"\",INDEX(BD!$E$2:$E$138,SMALL(IF(BD!$B$2:$B$138=$AA$64,IF(BD!$B$2:$B$138=$AA$64,ROW(BD!$B$2:$B$138)-ROW(BD!$B$2)+1),FALSE),ROWS(BD!$1:25)))))","v":""},{"$f":"IF($AA$64=\"\",\"\",IF(ROWS(BD!$1:25)>COUNTIFS(BD!$B:$B,$AA$64),\"\",INDEX(BD!$F$2:$F$138,SMALL(IF(BD!$B$2:$B$138=$AA$64,IF(BD!$B$2:$B$138=$AA$64,ROW(BD!$B$2:$B$138)-ROW(BD!$B$2)+1),FALSE),ROWS(BD!$1:25)))))","v":""},{"$f":"IF($AA$64=\"\",\"\",IF(ROWS(BD!$1:25)>COUNTIFS(BD!$B:$B,$AA$64),\"\",INDEX(BD!$G$2:$G$138,SMALL(IF(BD!$B$2:$B$138=$AA$64,IF(BD!$B$2:$B$138=$AA$64,ROW(BD!$B$2:$B$138)-ROW(BD!$B$2)+1),FALSE),ROWS(BD!$1:25)))))","v":""},{"$f":"IF($AA$64=\"\",\"\",IF(ROWS(BD!$1:25)>COUNTIFS(BD!$B:$B,$AA$64),\"\",INDEX(BD!$H$2:$H$138,SMALL(IF(BD!$B$2:$B$138=$AA$64,IF(BD!$B$2:$B$138=$AA$64,ROW(BD!$B$2:$B$138)-ROW(BD!$B$2)+1),FALSE),ROWS(BD!$1:25)))))","v":""},null,{"$f":"IF($AG$64=\"\",\"\",IF(ROWS(BD!$1:25)>COUNTIFS(BD!$B:$B,$AG$64),\"\",INDEX(BD!$C$2:$C$138,SMALL(IF(BD!$B$2:$B$138=$AG$64,IF(BD!$B$2:$B$138=$AG$64,ROW(BD!$B$2:$B$138)-ROW(BD!$B$2)+1),FALSE),ROWS(BD!$1:25)))))","v":""},{"$f":"IF($AG$64=\"\",\"\",IF(ROWS(BD!$1:25)>COUNTIFS(BD!$B:$B,$AG$64),\"\",INDEX(BD!$E$2:$E$138,SMALL(IF(BD!$B$2:$B$138=$AG$64,IF(BD!$B$2:$B$138=$AG$64,ROW(BD!$B$2:$B$138)-ROW(BD!$B$2)+1),FALSE),ROWS(BD!$1:25)))))","v":""},{"$f":"IF($AG$64=\"\",\"\",IF(ROWS(BD!$1:25)>COUNTIFS(BD!$B:$B,$AG$64),\"\",INDEX(BD!$F$2:$F$138,SMALL(IF(BD!$B$2:$B$138=$AG$64,IF(BD!$B$2:$B$138=$AG$64,ROW(BD!$B$2:$B$138)-ROW(BD!$B$2)+1),FALSE),ROWS(BD!$1:25)))))","v":""},{"$f":"IF($AG$64=\"\",\"\",IF(ROWS(BD!$1:25)>COUNTIFS(BD!$B:$B,$AG$64),\"\",INDEX(BD!$G$2:$G$138,SMALL(IF(BD!$B$2:$B$138=$AG$64,IF(BD!$B$2:$B$138=$AG$64,ROW(BD!$B$2:$B$138)-ROW(BD!$B$2)+1),FALSE),ROWS(BD!$1:25)))))","v":""},{"$f":"IF($AG$64=\"\",\"\",IF(ROWS(BD!$1:25)>COUNTIFS(BD!$B:$B,$AG$64),\"\",INDEX(BD!$H$2:$H$138,SMALL(IF(BD!$B$2:$B$138=$AG$64,IF(BD!$B$2:$B$138=$AG$64,ROW(BD!$B$2:$B$138)-ROW(BD!$B$2)+1),FALSE),ROWS(BD!$1:25)))))","v":""},null,{"$f":"IF($AM$64=\"\",\"\",IF(ROWS(BD!$1:25)>COUNTIFS(BD!$B:$B,$AM$64),\"\",INDEX(BD!$C$2:$C$138,SMALL(IF(BD!$B$2:$B$138=$AM$64,IF(BD!$B$2:$B$138=$AM$64,ROW(BD!$B$2:$B$138)-ROW(BD!$B$2)+1),FALSE),ROWS(BD!$1:25)))))","v":""},{"$f":"IF($AM$64=\"\",\"\",IF(ROWS(BD!$1:25)>COUNTIFS(BD!$B:$B,$AM$64),\"\",INDEX(BD!$E$2:$E$138,SMALL(IF(BD!$B$2:$B$138=$AM$64,IF(BD!$B$2:$B$138=$AM$64,ROW(BD!$B$2:$B$138)-ROW(BD!$B$2)+1),FALSE),ROWS(BD!$1:25)))))","v":""},{"$f":"IF($AM$64=\"\",\"\",IF(ROWS(BD!$1:25)>COUNTIFS(BD!$B:$B,$AM$64),\"\",INDEX(BD!$F$2:$F$138,SMALL(IF(BD!$B$2:$B$138=$AM$64,IF(BD!$B$2:$B$138=$AM$64,ROW(BD!$B$2:$B$138)-ROW(BD!$B$2)+1),FALSE),ROWS(BD!$1:25)))))","v":""},{"$f":"IF($AM$64=\"\",\"\",IF(ROWS(BD!$1:25)>COUNTIFS(BD!$B:$B,$AM$64),\"\",INDEX(BD!$G$2:$G$138,SMALL(IF(BD!$B$2:$B$138=$AM$64,IF(BD!$B$2:$B$138=$AM$64,ROW(BD!$B$2:$B$138)-ROW(BD!$B$2)+1),FALSE),ROWS(BD!$1:25)))))","v":""},{"$f":"IF($AM$64=\"\",\"\",IF(ROWS(BD!$1:25)>COUNTIFS(BD!$B:$B,$AM$64),\"\",INDEX(BD!$H$2:$H$138,SMALL(IF(BD!$B$2:$B$138=$AM$64,IF(BD!$B$2:$B$138=$AM$64,ROW(BD!$B$2:$B$138)-ROW(BD!$B$2)+1),FALSE),ROWS(BD!$1:25)))))","v":""}]
[]
[null,null,{"$f":"IF(AM64<>\"\",IF(AM64+1<=fim,AM64+1,\"\"),\"\")","v":"2023-12-17"},null,null,null,null,null,{"$f":"IF(C91<>\"\",IF(C91+1<=fim,C91+1,\"\"),\"\")","v":"2023-12-18"},null,null,null,null,null,{"$f":"IF(I91<>\"\",IF(I91+1<=fim,I91+1,\"\"),\"\")","v":"2023-12-19"},null,null,null,null,null,{"$f":"IF(O91<>\"\",IF(O91+1<=fim,O91+1,\"\"),\"\")","v":"2023-12-20"},null,null,null,null,null,{"$f":"IF(U91<>\"\",IF(U91+1<=fim,U91+1,\"\"),\"\")","v":"2023-12-21"},null,null,null,null,null,{"$f":"IF(AA91<>\"\",IF(AA91+1<=fim,AA91+1,\"\"),\"\")","v":"2023-12-22"},null,null,null,null,null,{"$f":"IF(AG91<>\"\",IF(AG91+1<=fim,AG91+1,\"\"),\"\")","v":"2023-12-23"}]
[null,null,{"$f":"IF($C$91=\"\",\"\",IF(ROWS(BD!$1:1)>COUNTIFS(BD!$B:$B,$C$91),\"\",INDEX(BD!$C$2:$C$138,SMALL(IF(BD!$B$2:$B$138=$C$91,IF(BD!$B$2:$B$138=$C$91,ROW(BD!$B$2:$B$138)-ROW(BD!$B$2)+1),FALSE),ROWS(BD!$1:1)))))","v":""},{"$f":"IF($C$91=\"\",\"\",IF(ROWS(BD!$1:1)>COUNTIFS(BD!$B:$B,$C$91),\"\",INDEX(BD!$E$2:$E$138,SMALL(IF(BD!$B$2:$B$138=$C$91,IF(BD!$B$2:$B$138=$C$91,ROW(BD!$B$2:$B$138)-ROW(BD!$B$2)+1),FALSE),ROWS(BD!$1:1)))))","v":""},{"$f":"IF($C$91=\"\",\"\",IF(ROWS(BD!$1:1)>COUNTIFS(BD!$B:$B,$C$91),\"\",INDEX(BD!$F$2:$F$138,SMALL(IF(BD!$B$2:$B$138=$C$91,IF(BD!$B$2:$B$138=$C$91,ROW(BD!$B$2:$B$138)-ROW(BD!$B$2)+1),FALSE),ROWS(BD!$1:1)))))","v":""},{"$f":"IF($C$91=\"\",\"\",IF(ROWS(BD!$1:1)>COUNTIFS(BD!$B:$B,$C$91),\"\",INDEX(BD!$G$2:$G$138,SMALL(IF(BD!$B$2:$B$138=$C$91,IF(BD!$B$2:$B$138=$C$91,ROW(BD!$B$2:$B$138)-ROW(BD!$B$2)+1),FALSE),ROWS(BD!$1:1)))))","v":""},{"$f":"IF($C$91=\"\",\"\",IF(ROWS(BD!$1:1)>COUNTIFS(BD!$B:$B,$C$91),\"\",INDEX(BD!$H$2:$H$138,SMALL(IF(BD!$B$2:$B$138=$C$91,IF(BD!$B$2:$B$138=$C$91,ROW(BD!$B$2:$B$138)-ROW(BD!$B$2)+1),FALSE),ROWS(BD!$1:1)))))","v":""},null,{"$f":"IF($I$91=\"\",\"\",IF(ROWS(BD!$1:1)>COUNTIFS(BD!$B:$B,$I$91),\"\",INDEX(BD!$C$2:$C$138,SMALL(IF(BD!$B$2:$B$138=$I$91,IF(BD!$B$2:$B$138=$I$91,ROW(BD!$B$2:$B$138)-ROW(BD!$B$2)+1),FALSE),ROWS(BD!$1:1)))))","v":""},{"$f":"IF($I$91=\"\",\"\",IF(ROWS(BD!$1:1)>COUNTIFS(BD!$B:$B,$I$91),\"\",INDEX(BD!$E$2:$E$138,SMALL(IF(BD!$B$2:$B$138=$I$91,IF(BD!$B$2:$B$138=$I$91,ROW(BD!$B$2:$B$138)-ROW(BD!$B$2)+1),FALSE),ROWS(BD!$1:1)))))","v":""},{"$f":"IF($I$91=\"\",\"\",IF(ROWS(BD!$1:1)>COUNTIFS(BD!$B:$B,$I$91),\"\",INDEX(BD!$F$2:$F$138,SMALL(IF(BD!$B$2:$B$138=$I$91,IF(BD!$B$2:$B$138=$I$91,ROW(BD!$B$2:$B$138)-ROW(BD!$B$2)+1),FALSE),ROWS(BD!$1:1)))))","v":""},{"$f":"IF($I$91=\"\",\"\",IF(ROWS(BD!$1:1)>COUNTIFS(BD!$B:$B,$I$91),\"\",INDEX(BD!$G$2:$G$138,SMALL(IF(BD!$B$2:$B$138=$I$91,IF(BD!$B$2:$B$138=$I$91,ROW(BD!$B$2:$B$138)-ROW(BD!$B$2)+1),FALSE),ROWS(BD!$1:1)))))","v":""},{"$f":"IF($I$91=\"\",\"\",IF(ROWS(BD!$1:1)>COUNTIFS(BD!$B:$B,$I$91),\"\",INDEX(BD!$H$2:$H$138,SMALL(IF(BD!$B$2:$B$138=$I$91,IF(BD!$B$2:$B$138=$I$91,ROW(BD!$B$2:$B$138)-ROW(BD!$B$2)+1),FALSE),ROWS(BD!$1:1)))))","v":""},null,{"$f":"IF($O$91=\"\",\"\",IF(ROWS(BD!$1:1)>COUNTIFS(BD!$B:$B,$O$91),\"\",INDEX(BD!$C$2:$C$138,SMALL(IF(BD!$B$2:$B$138=$O$91,IF(BD!$B$2:$B$138=$O$91,ROW(BD!$B$2:$B$138)-ROW(BD!$B$2)+1),FALSE),ROWS(BD!$1:1)))))","v":""},{"$f":"IF($O$91=\"\",\"\",IF(ROWS(BD!$1:1)>COUNTIFS(BD!$B:$B,$O$91),\"\",INDEX(BD!$E$2:$E$138,SMALL(IF(BD!$B$2:$B$138=$O$91,IF(BD!$B$2:$B$138=$O$91,ROW(BD!$B$2:$B$138)-ROW(BD!$B$2)+1),FALSE),ROWS(BD!$1:1)))))","v":""},{"$f":"IF($O$91=\"\",\"\",IF(ROWS(BD!$1:1)>COUNTIFS(BD!$B:$B,$O$91),\"\",INDEX(BD!$F$2:$F$138,SMALL(IF(BD!$B$2:$B$138=$O$91,IF(BD!$B$2:$B$138=$O$91,ROW(BD!$B$2:$B$138)-ROW(BD!$B$2)+1),FALSE),ROWS(BD!$1:1)))))","v":""},{"$f":"IF($O$91=\"\",\"\",IF(ROWS(BD!$1:1)>COUNTIFS(BD!$B:$B,$O$91),\"\",INDEX(BD!$G$2:$G$138,SMALL(IF(BD!$B$2:$B$138=$O$91,IF(BD!$B$2:$B$138=$O$91,ROW(BD!$B$2:$B$138)-ROW(BD!$B$2)+1),FALSE),ROWS(BD!$1:1)))))","v":""},{"$f":"IF($O$91=\"\",\"\",IF(ROWS(BD!$1:1)>COUNTIFS(BD!$B:$B,$O$91),\"\",INDEX(BD!$H$2:$H$138,SMALL(IF(BD!$B$2:$B$138=$O$91,IF(BD!$B$2:$B$138=$O$91,ROW(BD!$B$2:$B$138)-ROW(BD!$B$2)+1),FALSE),ROWS(BD!$1:1)))))","v":""},null,{"$f":"IF($U$91=\"\",\"\",IF(ROWS(BD!$1:1)>COUNTIFS(BD!$B:$B,$U$91),\"\",INDEX(BD!$C$2:$C$138,SMALL(IF(BD!$B$2:$B$138=$U$91,IF(BD!$B$2:$B$138=$U$91,ROW(BD!$B$2:$B$138)-ROW(BD!$B$2)+1),FALSE),ROWS(BD!$1:1)))))","v":""},{"$f":"IF($U$91=\"\",\"\",IF(ROWS(BD!$1:1)>COUNTIFS(BD!$B:$B,$U$91),\"\",INDEX(BD!$E$2:$E$138,SMALL(IF(BD!$B$2:$B$138=$U$91,IF(BD!$B$2:$B$138=$U$91,ROW(BD!$B$2:$B$138)-ROW(BD!$B$2)+1),FALSE),ROWS(BD!$1:1)))))","v":""},{"$f":"IF($U$91=\"\",\"\",IF(ROWS(BD!$1:1)>COUNTIFS(BD!$B:$B,$U$91),\"\",INDEX(BD!$F$2:$F$138,SMALL(IF(BD!$B$2:$B$138=$U$91,IF(BD!$B$2:$B$138=$U$91,ROW(BD!$B$2:$B$138)-ROW(BD!$B$2)+1),FALSE),ROWS(BD!$1:1)))))","v":""},{"$f":"IF($U$91=\"\",\"\",IF(ROWS(BD!$1:1)>COUNTIFS(BD!$B:$B,$U$91),\"\",INDEX(BD!$G$2:$G$138,SMALL(IF(BD!$B$2:$B$138=$U$91,IF(BD!$B$2:$B$138=$U$91,ROW(BD!$B$2:$B$138)-ROW(BD!$B$2)+1),FALSE),ROWS(BD!$1:1)))))","v":""},{"$f":"IF($U$91=\"\",\"\",IF(ROWS(BD!$1:1)>COUNTIFS(BD!$B:$B,$U$91),\"\",INDEX(BD!$H$2:$H$138,SMALL(IF(BD!$B$2:$B$138=$U$91,IF(BD!$B$2:$B$138=$U$91,ROW(BD!$B$2:$B$138)-ROW(BD!$B$2)+1),FALSE),ROWS(BD!$1:1)))))","v":""},null,{"$f":"IF($AA$91=\"\",\"\",IF(ROWS(BD!$1:1)>COUNTIFS(BD!$B:$B,$AA$91),\"\",INDEX(BD!$C$2:$C$138,SMALL(IF(BD!$B$2:$B$138=$AA$91,IF(BD!$B$2:$B$138=$AA$91,ROW(BD!$B$2:$B$138)-ROW(BD!$B$2)+1),FALSE),ROWS(BD!$1:1)))))","v":""},{"$f":"IF($AA$91=\"\",\"\",IF(ROWS(BD!$1:1)>COUNTIFS(BD!$B:$B,$AA$91),\"\",INDEX(BD!$E$2:$E$138,SMALL(IF(BD!$B$2:$B$138=$AA$91,IF(BD!$B$2:$B$138=$AA$91,ROW(BD!$B$2:$B$138)-ROW(BD!$B$2)+1),FALSE),ROWS(BD!$1:1)))))","v":""},{"$f":"IF($AA$91=\"\",\"\",IF(ROWS(BD!$1:1)>COUNTIFS(BD!$B:$B,$AA$91),\"\",INDEX(BD!$F$2:$F$138,SMALL(IF(BD!$B$2:$B$138=$AA$91,IF(BD!$B$2:$B$138=$AA$91,ROW(BD!$B$2:$B$138)-ROW(BD!$B$2)+1),FALSE),ROWS(BD!$1:1)))))","v":""},{"$f":"IF($AA$91=\"\",\"\",IF(ROWS(BD!$1:1)>COUNTIFS(BD!$B:$B,$AA$91),\"\",INDEX(BD!$G$2:$G$138,SMALL(IF(BD!$B$2:$B$138=$AA$91,IF(BD!$B$2:$B$138=$AA$91,ROW(BD!$B$2:$B$138)-ROW(BD!$B$2)+1),FALSE),ROWS(BD!$1:1)))))","v":""},{"$f":"IF($AA$91=\"\",\"\",IF(ROWS(BD!$1:1)>COUNTIFS(BD!$B:$B,$AA$91),\"\",INDEX(BD!$H$2:$H$138,SMALL(IF(BD!$B$2:$B$138=$AA$91,IF(BD!$B$2:$B$138=$AA$91,ROW(BD!$B$2:$B$138)-ROW(BD!$B$2)+1),FALSE),ROWS(BD!$1:1)))))","v":""},null,{"$f":"IF($AG$91=\"\",\"\",IF(ROWS(BD!$1:1)>COUNTIFS(BD!$B:$B,$AG$91),\"\",INDEX(BD!$C$2:$C$138,SMALL(IF(BD!$B$2:$B$138=$AG$91,IF(BD!$B$2:$B$138=$AG$91,ROW(BD!$B$2:$B$138)-ROW(BD!$B$2)+1),FALSE),ROWS(BD!$1:1)))))","v":""},{"$f":"IF($AG$91=\"\",\"\",IF(ROWS(BD!$1:1)>COUNTIFS(BD!$B:$B,$AG$91),\"\",INDEX(BD!$E$2:$E$138,SMALL(IF(BD!$B$2:$B$138=$AG$91,IF(BD!$B$2:$B$138=$AG$91,ROW(BD!$B$2:$B$138)-ROW(BD!$B$2)+1),FALSE),ROWS(BD!$1:1)))))","v":""},{"$f":"IF($AG$91=\"\",\"\",IF(ROWS(BD!$1:1)>COUNTIFS(BD!$B:$B,$AG$91),\"\",INDEX(BD!$F$2:$F$138,SMALL(IF(BD!$B$2:$B$138=$AG$91,IF(BD!$B$2:$B$138=$AG$91,ROW(BD!$B$2:$B$138)-ROW(BD!$B$2)+1),FALSE),ROWS(BD!$1:1)))))","v":""},{"$f":"IF($AG$91=\"\",\"\",IF(ROWS(BD!$1:1)>COUNTIFS(BD!$B:$B,$AG$91),\"\",INDEX(BD!$G$2:$G$138,SMALL(IF(BD!$B$2:$B$138=$AG$91,IF(BD!$B$2:$B$138=$AG$91,ROW(BD!$B$2:$B$138)-ROW(BD!$B$2)+1),FALSE),ROWS(BD!$1:1)))))","v":""},{"$f":"IF($AG$91=\"\",\"\",IF(ROWS(BD!$1:1)>COUNTIFS(BD!$B:$B,$AG$91),\"\",INDEX(BD!$H$2:$H$138,SMALL(IF(BD!$B$2:$B$138=$AG$91,IF(BD!$B$2:$B$138=$AG$91,ROW(BD!$B$2:$B$138)-ROW(BD!$B$2)+1),FALSE),ROWS(BD!$1:1)))))","v":""},null,{"$f":"IF($AM$91=\"\",\"\",IF(ROWS(BD!$1:1)>COUNTIFS(BD!$B:$B,$AM$91),\"\",INDEX(BD!$C$2:$C$138,SMALL(IF(BD!$B$2:$B$138=$AM$91,IF(BD!$B$2:$B$138=$AM$91,ROW(BD!$B$2:$B$138)-ROW(BD!$B$2)+1),FALSE),ROWS(BD!$1:1)))))","v":""},{"$f":"IF($AM$91=\"\",\"\",IF(ROWS(BD!$1:1)>COUNTIFS(BD!$B:$B,$AM$91),\"\",INDEX(BD!$E$2:$E$138,SMALL(IF(BD!$B$2:$B$138=$AM$91,IF(BD!$B$2:$B$138=$AM$91,ROW(BD!$B$2:$B$138)-ROW(BD!$B$2)+1),FALSE),ROWS(BD!$1:1)))))","v":""},{"$f":"IF($AM$91=\"\",\"\",IF(ROWS(BD!$1:1)>COUNTIFS(BD!$B:$B,$AM$91),\"\",INDEX(BD!$F$2:$F$138,SMALL(IF(BD!$B$2:$B$138=$AM$91,IF(BD!$B$2:$B$138=$AM$91,ROW(BD!$B$2:$B$138)-ROW(BD!$B$2)+1),FALSE),ROWS(BD!$1:1)))))","v":""},{"$f":"IF($AM$91=\"\",\"\",IF(ROWS(BD!$1:1)>COUNTIFS(BD!$B:$B,$AM$91),\"\",INDEX(BD!$G$2:$G$138,SMALL(IF(BD!$B$2:$B$138=$AM$91,IF(BD!$B$2:$B$138=$AM$91,ROW(BD!$B$2:$B$138)-ROW(BD!$B$2)+1),FALSE),ROWS(BD!$1:1)))))","v":""},{"$f":"IF($AM$91=\"\",\"\",IF(ROWS(BD!$1:1)>COUNTIFS(BD!$B:$B,$AM$91),\"\",INDEX(BD!$H$2:$H$138,SMALL(IF(BD!$B$2:$B$138=$AM$91,IF(BD!$B$2:$B$138=$AM$91,ROW(BD!$B$2:$B$138)-ROW(BD!$B$2)+1),FALSE),ROWS(BD!$1:1)))))","v":""}]
[null,null,{"$f":"IF($C$91=\"\",\"\",IF(ROWS(BD!$1:2)>COUNTIFS(BD!$B:$B,$C$91),\"\",INDEX(BD!$C$2:$C$138,SMALL(IF(BD!$B$2:$B$138=$C$91,IF(BD!$B$2:$B$138=$C$91,ROW(BD!$B$2:$B$138)-ROW(BD!$B$2)+1),FALSE),ROWS(BD!$1:2)))))","v":""},{"$f":"IF($C$91=\"\",\"\",IF(ROWS(BD!$1:2)>COUNTIFS(BD!$B:$B,$C$91),\"\",INDEX(BD!$E$2:$E$138,SMALL(IF(BD!$B$2:$B$138=$C$91,IF(BD!$B$2:$B$138=$C$91,ROW(BD!$B$2:$B$138)-ROW(BD!$B$2)+1),FALSE),ROWS(BD!$1:2)))))","v":""},{"$f":"IF($C$91=\"\",\"\",IF(ROWS(BD!$1:2)>COUNTIFS(BD!$B:$B,$C$91),\"\",INDEX(BD!$F$2:$F$138,SMALL(IF(BD!$B$2:$B$138=$C$91,IF(BD!$B$2:$B$138=$C$91,ROW(BD!$B$2:$B$138)-ROW(BD!$B$2)+1),FALSE),ROWS(BD!$1:2)))))","v":""},{"$f":"IF($C$91=\"\",\"\",IF(ROWS(BD!$1:2)>COUNTIFS(BD!$B:$B,$C$91),\"\",INDEX(BD!$G$2:$G$138,SMALL(IF(BD!$B$2:$B$138=$C$91,IF(BD!$B$2:$B$138=$C$91,ROW(BD!$B$2:$B$138)-ROW(BD!$B$2)+1),FALSE),ROWS(BD!$1:2)))))","v":""},{"$f":"IF($C$91=\"\",\"\",IF(ROWS(BD!$1:2)>COUNTIFS(BD!$B:$B,$C$91),\"\",INDEX(BD!$H$2:$H$138,SMALL(IF(BD!$B$2:$B$138=$C$91,IF(BD!$B$2:$B$138=$C$91,ROW(BD!$B$2:$B$138)-ROW(BD!$B$2)+1),FALSE),ROWS(BD!$1:2)))))","v":""},null,{"$f":"IF($I$91=\"\",\"\",IF(ROWS(BD!$1:2)>COUNTIFS(BD!$B:$B,$I$91),\"\",INDEX(BD!$C$2:$C$138,SMALL(IF(BD!$B$2:$B$138=$I$91,IF(BD!$B$2:$B$138=$I$91,ROW(BD!$B$2:$B$138)-ROW(BD!$B$2)+1),FALSE),ROWS(BD!$1:2)))))","v":""},{"$f":"IF($I$91=\"\",\"\",IF(ROWS(BD!$1:2)>COUNTIFS(BD!$B:$B,$I$91),\"\",INDEX(BD!$E$2:$E$138,SMALL(IF(BD!$B$2:$B$138=$I$91,IF(BD!$B$2:$B$138=$I$91,ROW(BD!$B$2:$B$138)-ROW(BD!$B$2)+1),FALSE),ROWS(BD!$1:2)))))","v":""},{"$f":"IF($I$91=\"\",\"\",IF(ROWS(BD!$1:2)>COUNTIFS(BD!$B:$B,$I$91),\"\",INDEX(BD!$F$2:$F$138,SMALL(IF(BD!$B$2:$B$138=$I$91,IF(BD!$B$2:$B$138=$I$91,ROW(BD!$B$2:$B$138)-ROW(BD!$B$2)+1),FALSE),ROWS(BD!$1:2)))))","v":""},{"$f":"IF($I$91=\"\",\"\",IF(ROWS(BD!$1:2)>COUNTIFS(BD!$B:$B,$I$91),\"\",INDEX(BD!$G$2:$G$138,SMALL(IF(BD!$B$2:$B$138=$I$91,IF(BD!$B$2:$B$138=$I$91,ROW(BD!$B$2:$B$138)-ROW(BD!$B$2)+1),FALSE),ROWS(BD!$1:2)))))","v":""},{"$f":"IF($I$91=\"\",\"\",IF(ROWS(BD!$1:2)>COUNTIFS(BD!$B:$B,$I$91),\"\",INDEX(BD!$H$2:$H$138,SMALL(IF(BD!$B$2:$B$138=$I$91,IF(BD!$B$2:$B$138=$I$91,ROW(BD!$B$2:$B$138)-ROW(BD!$B$2)+1),FALSE),ROWS(BD!$1:2)))))","v":""},null,{"$f":"IF($O$91=\"\",\"\",IF(ROWS(BD!$1:2)>COUNTIFS(BD!$B:$B,$O$91),\"\",INDEX(BD!$C$2:$C$138,SMALL(IF(BD!$B$2:$B$138=$O$91,IF(BD!$B$2:$B$138=$O$91,ROW(BD!$B$2:$B$138)-ROW(BD!$B$2)+1),FALSE),ROWS(BD!$1:2)))))","v":""},{"$f":"IF($O$91=\"\",\"\",IF(ROWS(BD!$1:2)>COUNTIFS(BD!$B:$B,$O$91),\"\",INDEX(BD!$E$2:$E$138,SMALL(IF(BD!$B$2:$B$138=$O$91,IF(BD!$B$2:$B$138=$O$91,ROW(BD!$B$2:$B$138)-ROW(BD!$B$2)+1),FALSE),ROWS(BD!$1:2)))))","v":""},{"$f":"IF($O$91=\"\",\"\",IF(ROWS(BD!$1:2)>COUNTIFS(BD!$B:$B,$O$91),\"\",INDEX(BD!$F$2:$F$138,SMALL(IF(BD!$B$2:$B$138=$O$91,IF(BD!$B$2:$B$138=$O$91,ROW(BD!$B$2:$B$138)-ROW(BD!$B$2)+1),FALSE),ROWS(BD!$1:2)))))","v":""},{"$f":"IF($O$91=\"\",\"\",IF(ROWS(BD!$1:2)>COUNTIFS(BD!$B:$B,$O$91),\"\",INDEX(BD!$G$2:$G$138,SMALL(IF(BD!$B$2:$B$138=$O$91,IF(BD!$B$2:$B$138=$O$91,ROW(BD!$B$2:$B$138)-ROW(BD!$B$2)+1),FALSE),ROWS(BD!$1:2)))))","v":""},{"$f":"IF($O$91=\"\",\"\",IF(ROWS(BD!$1:2)>COUNTIFS(BD!$B:$B,$O$91),\"\",INDEX(BD!$H$2:$H$138,SMALL(IF(BD!$B$2:$B$138=$O$91,IF(BD!$B$2:$B$138=$O$91,ROW(BD!$B$2:$B$138)-ROW(BD!$B$2)+1),FALSE),ROWS(BD!$1:2)))))","v":""},null,{"$f":"IF($U$91=\"\",\"\",IF(ROWS(BD!$1:2)>COUNTIFS(BD!$B:$B,$U$91),\"\",INDEX(BD!$C$2:$C$138,SMALL(IF(BD!$B$2:$B$138=$U$91,IF(BD!$B$2:$B$138=$U$91,ROW(BD!$B$2:$B$138)-ROW(BD!$B$2)+1),FALSE),ROWS(BD!$1:2)))))","v":""},{"$f":"IF($U$91=\"\",\"\",IF(ROWS(BD!$1:2)>COUNTIFS(BD!$B:$B,$U$91),\"\",INDEX(BD!$E$2:$E$138,SMALL(IF(BD!$B$2:$B$138=$U$91,IF(BD!$B$2:$B$138=$U$91,ROW(BD!$B$2:$B$138)-ROW(BD!$B$2)+1),FALSE),ROWS(BD!$1:2)))))","v":""},{"$f":"IF($U$91=\"\",\"\",IF(ROWS(BD!$1:2)>COUNTIFS(BD!$B:$B,$U$91),\"\",INDEX(BD!$F$2:$F$138,SMALL(IF(BD!$B$2:$B$138=$U$91,IF(BD!$B$2:$B$138=$U$91,ROW(BD!$B$2:$B$138)-ROW(BD!$B$2)+1),FALSE),ROWS(BD!$1:2)))))","v":""},{"$f":"IF($U$91=\"\",\"\",IF(ROWS(BD!$1:2)>COUNTIFS(BD!$B:$B,$U$91),\"\",INDEX(BD!$G$2:$G$138,SMALL(IF(BD!$B$2:$B$138=$U$91,IF(BD!$B$2:$B$138=$U$91,ROW(BD!$B$2:$B$138)-ROW(BD!$B$2)+1),FALSE),ROWS(BD!$1:2)))))","v":""},{"$f":"IF($U$91=\"\",\"\",IF(ROWS(BD!$1:2)>COUNTIFS(BD!$B:$B,$U$91),\"\",INDEX(BD!$H$2:$H$138,SMALL(IF(BD!$B$2:$B$138=$U$91,IF(BD!$B$2:$B$138=$U$91,ROW(BD!$B$2:$B$138)-ROW(BD!$B$2)+1),FALSE),ROWS(BD!$1:2)))))","v":""},null,{"$f":"IF($AA$91=\"\",\"\",IF(ROWS(BD!$1:2)>COUNTIFS(BD!$B:$B,$AA$91),\"\",INDEX(BD!$C$2:$C$138,SMALL(IF(BD!$B$2:$B$138=$AA$91,IF(BD!$B$2:$B$138=$AA$91,ROW(BD!$B$2:$B$138)-ROW(BD!$B$2)+1),FALSE),ROWS(BD!$1:2)))))","v":""},{"$f":"IF($AA$91=\"\",\"\",IF(ROWS(BD!$1:2)>COUNTIFS(BD!$B:$B,$AA$91),\"\",INDEX(BD!$E$2:$E$138,SMALL(IF(BD!$B$2:$B$138=$AA$91,IF(BD!$B$2:$B$138=$AA$91,ROW(BD!$B$2:$B$138)-ROW(BD!$B$2)+1),FALSE),ROWS(BD!$1:2)))))","v":""},{"$f":"IF($AA$91=\"\",\"\",IF(ROWS(BD!$1:2)>COUNTIFS(BD!$B:$B,$AA$91),\"\",INDEX(BD!$F$2:$F$138,SMALL(IF(BD!$B$2:$B$138=$AA$91,IF(BD!$B$2:$B$138=$AA$91,ROW(BD!$B$2:$B$138)-ROW(BD!$B$2)+1),FALSE),ROWS(BD!$1:2)))))","v":""},{"$f":"IF($AA$91=\"\",\"\",IF(ROWS(BD!$1:2)>COUNTIFS(BD!$B:$B,$AA$91),\"\",INDEX(BD!$G$2:$G$138,SMALL(IF(BD!$B$2:$B$138=$AA$91,IF(BD!$B$2:$B$138=$AA$91,ROW(BD!$B$2:$B$138)-ROW(BD!$B$2)+1),FALSE),ROWS(BD!$1:2)))))","v":""},{"$f":"IF($AA$91=\"\",\"\",IF(ROWS(BD!$1:2)>COUNTIFS(BD!$B:$B,$AA$91),\"\",INDEX(BD!$H$2:$H$138,SMALL(IF(BD!$B$2:$B$138=$AA$91,IF(BD!$B$2:$B$138=$AA$91,ROW(BD!$B$2:$B$138)-ROW(BD!$B$2)+1),FALSE),ROWS(BD!$1:2)))))","v":""},null,{"$f":"IF($AG$91=\"\",\"\",IF(ROWS(BD!$1:2)>COUNTIFS(BD!$B:$B,$AG$91),\"\",INDEX(BD!$C$2:$C$138,SMALL(IF(BD!$B$2:$B$138=$AG$91,IF(BD!$B$2:$B$138=$AG$91,ROW(BD!$B$2:$B$138)-ROW(BD!$B$2)+1),FALSE),ROWS(BD!$1:2)))))","v":""},{"$f":"IF($AG$91=\"\",\"\",IF(ROWS(BD!$1:2)>COUNTIFS(BD!$B:$B,$AG$91),\"\",INDEX(BD!$E$2:$E$138,SMALL(IF(BD!$B$2:$B$138=$AG$91,IF(BD!$B$2:$B$138=$AG$91,ROW(BD!$B$2:$B$138)-ROW(BD!$B$2)+1),FALSE),ROWS(BD!$1:2)))))","v":""},{"$f":"IF($AG$91=\"\",\"\",IF(ROWS(BD!$1:2)>COUNTIFS(BD!$B:$B,$AG$91),\"\",INDEX(BD!$F$2:$F$138,SMALL(IF(BD!$B$2:$B$138=$AG$91,IF(BD!$B$2:$B$138=$AG$91,ROW(BD!$B$2:$B$138)-ROW(BD!$B$2)+1),FALSE),ROWS(BD!$1:2)))))","v":""},{"$f":"IF($AG$91=\"\",\"\",IF(ROWS(BD!$1:2)>COUNTIFS(BD!$B:$B,$AG$91),\"\",INDEX(BD!$G$2:$G$138,SMALL(IF(BD!$B$2:$B$138=$AG$91,IF(BD!$B$2:$B$138=$AG$91,ROW(BD!$B$2:$B$138)-ROW(BD!$B$2)+1),FALSE),ROWS(BD!$1:2)))))","v":""},{"$f":"IF($AG$91=\"\",\"\",IF(ROWS(BD!$1:2)>COUNTIFS(BD!$B:$B,$AG$91),\"\",INDEX(BD!$H$2:$H$138,SMALL(IF(BD!$B$2:$B$138=$AG$91,IF(BD!$B$2:$B$138=$AG$91,ROW(BD!$B$2:$B$138)-ROW(BD!$B$2)+1),FALSE),ROWS(BD!$1:2)))))","v":""},null,{"$f":"IF($AM$91=\"\",\"\",IF(ROWS(BD!$1:2)>COUNTIFS(BD!$B:$B,$AM$91),\"\",INDEX(BD!$C$2:$C$138,SMALL(IF(BD!$B$2:$B$138=$AM$91,IF(BD!$B$2:$B$138=$AM$91,ROW(BD!$B$2:$B$138)-ROW(BD!$B$2)+1),FALSE),ROWS(BD!$1:2)))))","v":""},{"$f":"IF($AM$91=\"\",\"\",IF(ROWS(BD!$1:2)>COUNTIFS(BD!$B:$B,$AM$91),\"\",INDEX(BD!$E$2:$E$138,SMALL(IF(BD!$B$2:$B$138=$AM$91,IF(BD!$B$2:$B$138=$AM$91,ROW(BD!$B$2:$B$138)-ROW(BD!$B$2)+1),FALSE),ROWS(BD!$1:2)))))","v":""},{"$f":"IF($AM$91=\"\",\"\",IF(ROWS(BD!$1:2)>COUNTIFS(BD!$B:$B,$AM$91),\"\",INDEX(BD!$F$2:$F$138,SMALL(IF(BD!$B$2:$B$138=$AM$91,IF(BD!$B$2:$B$138=$AM$91,ROW(BD!$B$2:$B$138)-ROW(BD!$B$2)+1),FALSE),ROWS(BD!$1:2)))))","v":""},{"$f":"IF($AM$91=\"\",\"\",IF(ROWS(BD!$1:2)>COUNTIFS(BD!$B:$B,$AM$91),\"\",INDEX(BD!$G$2:$G$138,SMALL(IF(BD!$B$2:$B$138=$AM$91,IF(BD!$B$2:$B$138=$AM$91,ROW(BD!$B$2:$B$138)-ROW(BD!$B$2)+1),FALSE),ROWS(BD!$1:2)))))","v":""},{"$f":"IF($AM$91=\"\",\"\",IF(ROWS(BD!$1:2)>COUNTIFS(BD!$B:$B,$AM$91),\"\",INDEX(BD!$H$2:$H$138,SMALL(IF(BD!$B$2:$B$138=$AM$91,IF(BD!$B$2:$B$138=$AM$91,ROW(BD!$B$2:$B$138)-ROW(BD!$B$2)+1),FALSE),ROWS(BD!$1:2)))))","v":""}]
[null,null,{"$f":"IF($C$91=\"\",\"\",IF(ROWS(BD!$1:3)>COUNTIFS(BD!$B:$B,$C$91),\"\",INDEX(BD!$C$2:$C$138,SMALL(IF(BD!$B$2:$B$138=$C$91,IF(BD!$B$2:$B$138=$C$91,ROW(BD!$B$2:$B$138)-ROW(BD!$B$2)+1),FALSE),ROWS(BD!$1:3)))))","v":""},{"$f":"IF($C$91=\"\",\"\",IF(ROWS(BD!$1:3)>COUNTIFS(BD!$B:$B,$C$91),\"\",INDEX(BD!$E$2:$E$138,SMALL(IF(BD!$B$2:$B$138=$C$91,IF(BD!$B$2:$B$138=$C$91,ROW(BD!$B$2:$B$138)-ROW(BD!$B$2)+1),FALSE),ROWS(BD!$1:3)))))","v":""},{"$f":"IF($C$91=\"\",\"\",IF(ROWS(BD!$1:3)>COUNTIFS(BD!$B:$B,$C$91),\"\",INDEX(BD!$F$2:$F$138,SMALL(IF(BD!$B$2:$B$138=$C$91,IF(BD!$B$2:$B$138=$C$91,ROW(BD!$B$2:$B$138)-ROW(BD!$B$2)+1),FALSE),ROWS(BD!$1:3)))))","v":""},{"$f":"IF($C$91=\"\",\"\",IF(ROWS(BD!$1:3)>COUNTIFS(BD!$B:$B,$C$91),\"\",INDEX(BD!$G$2:$G$138,SMALL(IF(BD!$B$2:$B$138=$C$91,IF(BD!$B$2:$B$138=$C$91,ROW(BD!$B$2:$B$138)-ROW(BD!$B$2)+1),FALSE),ROWS(BD!$1:3)))))","v":""},{"$f":"IF($C$91=\"\",\"\",IF(ROWS(BD!$1:3)>COUNTIFS(BD!$B:$B,$C$91),\"\",INDEX(BD!$H$2:$H$138,SMALL(IF(BD!$B$2:$B$138=$C$91,IF(BD!$B$2:$B$138=$C$91,ROW(BD!$B$2:$B$138)-ROW(BD!$B$2)+1),FALSE),ROWS(BD!$1:3)))))","v":""},null,{"$f":"IF($I$91=\"\",\"\",IF(ROWS(BD!$1:3)>COUNTIFS(BD!$B:$B,$I$91),\"\",INDEX(BD!$C$2:$C$138,SMALL(IF(BD!$B$2:$B$138=$I$91,IF(BD!$B$2:$B$138=$I$91,ROW(BD!$B$2:$B$138)-ROW(BD!$B$2)+1),FALSE),ROWS(BD!$1:3)))))","v":""},{"$f":"IF($I$91=\"\",\"\",IF(ROWS(BD!$1:3)>COUNTIFS(BD!$B:$B,$I$91),\"\",INDEX(BD!$E$2:$E$138,SMALL(IF(BD!$B$2:$B$138=$I$91,IF(BD!$B$2:$B$138=$I$91,ROW(BD!$B$2:$B$138)-ROW(BD!$B$2)+1),FALSE),ROWS(BD!$1:3)))))","v":""},{"$f":"IF($I$91=\"\",\"\",IF(ROWS(BD!$1:3)>COUNTIFS(BD!$B:$B,$I$91),\"\",INDEX(BD!$F$2:$F$138,SMALL(IF(BD!$B$2:$B$138=$I$91,IF(BD!$B$2:$B$138=$I$91,ROW(BD!$B$2:$B$138)-ROW(BD!$B$2)+1),FALSE),ROWS(BD!$1:3)))))","v":""},{"$f":"IF($I$91=\"\",\"\",IF(ROWS(BD!$1:3)>COUNTIFS(BD!$B:$B,$I$91),\"\",INDEX(BD!$G$2:$G$138,SMALL(IF(BD!$B$2:$B$138=$I$91,IF(BD!$B$2:$B$138=$I$91,ROW(BD!$B$2:$B$138)-ROW(BD!$B$2)+1),FALSE),ROWS(BD!$1:3)))))","v":""},{"$f":"IF($I$91=\"\",\"\",IF(ROWS(BD!$1:3)>COUNTIFS(BD!$B:$B,$I$91),\"\",INDEX(BD!$H$2:$H$138,SMALL(IF(BD!$B$2:$B$138=$I$91,IF(BD!$B$2:$B$138=$I$91,ROW(BD!$B$2:$B$138)-ROW(BD!$B$2)+1),FALSE),ROWS(BD!$1:3)))))","v":""},null,{"$f":"IF($O$91=\"\",\"\",IF(ROWS(BD!$1:3)>COUNTIFS(BD!$B:$B,$O$91),\"\",INDEX(BD!$C$2:$C$138,SMALL(IF(BD!$B$2:$B$138=$O$91,IF(BD!$B$2:$B$138=$O$91,ROW(BD!$B$2:$B$138)-ROW(BD!$B$2)+1),FALSE),ROWS(BD!$1:3)))))","v":""},{"$f":"IF($O$91=\"\",\"\",IF(ROWS(BD!$1:3)>COUNTIFS(BD!$B:$B,$O$91),\"\",INDEX(BD!$E$2:$E$138,SMALL(IF(BD!$B$2:$B$138=$O$91,IF(BD!$B$2:$B$138=$O$91,ROW(BD!$B$2:$B$138)-ROW(BD!$B$2)+1),FALSE),ROWS(BD!$1:3)))))","v":""},{"$f":"IF($O$91=\"\",\"\",IF(ROWS(BD!$1:3)>COUNTIFS(BD!$B:$B,$O$91),\"\",INDEX(BD!$F$2:$F$138,SMALL(IF(BD!$B$2:$B$138=$O$91,IF(BD!$B$2:$B$138=$O$91,ROW(BD!$B$2:$B$138)-ROW(BD!$B$2)+1),FALSE),ROWS(BD!$1:3)))))","v":""},{"$f":"IF($O$91=\"\",\"\",IF(ROWS(BD!$1:3)>COUNTIFS(BD!$B:$B,$O$91),\"\",INDEX(BD!$G$2:$G$138,SMALL(IF(BD!$B$2:$B$138=$O$91,IF(BD!$B$2:$B$138=$O$91,ROW(BD!$B$2:$B$138)-ROW(BD!$B$2)+1),FALSE),ROWS(BD!$1:3)))))","v":""},{"$f":"IF($O$91=\"\",\"\",IF(ROWS(BD!$1:3)>COUNTIFS(BD!$B:$B,$O$91),\"\",INDEX(BD!$H$2:$H$138,SMALL(IF(BD!$B$2:$B$138=$O$91,IF(BD!$B$2:$B$138=$O$91,ROW(BD!$B$2:$B$138)-ROW(BD!$B$2)+1),FALSE),ROWS(BD!$1:3)))))","v":""},null,{"$f":"IF($U$91=\"\",\"\",IF(ROWS(BD!$1:3)>COUNTIFS(BD!$B:$B,$U$91),\"\",INDEX(BD!$C$2:$C$138,SMALL(IF(BD!$B$2:$B$138=$U$91,IF(BD!$B$2:$B$138=$U$91,ROW(BD!$B$2:$B$138)-ROW(BD!$B$2)+1),FALSE),ROWS(BD!$1:3)))))","v":""},{"$f":"IF($U$91=\"\",\"\",IF(ROWS(BD!$1:3)>COUNTIFS(BD!$B:$B,$U$91),\"\",INDEX(BD!$E$2:$E$138,SMALL(IF(BD!$B$2:$B$138=$U$91,IF(BD!$B$2:$B$138=$U$91,ROW(BD!$B$2:$B$138)-ROW(BD!$B$2)+1),FALSE),ROWS(BD!$1:3)))))","v":""},{"$f":"IF($U$91=\"\",\"\",IF(ROWS(BD!$1:3)>COUNTIFS(BD!$B:$B,$U$91),\"\",INDEX(BD!$F$2:$F$138,SMALL(IF(BD!$B$2:$B$138=$U$91,IF(BD!$B$2:$B$138=$U$91,ROW(BD!$B$2:$B$138)-ROW(BD!$B$2)+1),FALSE),ROWS(BD!$1:3)))))","v":""},{"$f":"IF($U$91=\"\",\"\",IF(ROWS(BD!$1:3)>COUNTIFS(BD!$B:$B,$U$91),\"\",INDEX(BD!$G$2:$G$138,SMALL(IF(BD!$B$2:$B$138=$U$91,IF(BD!$B$2:$B$138=$U$91,ROW(BD!$B$2:$B$138)-ROW(BD!$B$2)+1),FALSE),ROWS(BD!$1:3)))))","v":""},{"$f":"IF($U$91=\"\",\"\",IF(ROWS(BD!$1:3)>COUNTIFS(BD!$B:$B,$U$91),\"\",INDEX(BD!$H$2:$H$138,SMALL(IF(BD!$B$2:$B$138=$U$91,IF(BD!$B$2:$B$138=$U$91,ROW(BD!$B$2:$B$138)-ROW(BD!$B$2)+1),FALSE),ROWS(BD!$1:3)))))","v":""},null,{"$f":"IF($AA$91=\"\",\"\",IF(ROWS(BD!$1:3)>COUNTIFS(BD!$B:$B,$AA$91),\"\",INDEX(BD!$C$2:$C$138,SMALL(IF(BD!$B$2:$B$138=$AA$91,IF(BD!$B$2:$B$138=$AA$91,ROW(BD!$B$2:$B$138)-ROW(BD!$B$2)+1),FALSE),ROWS(BD!$1:3)))))","v":""},{"$f":"IF($AA$91=\"\",\"\",IF(ROWS(BD!$1:3)>COUNTIFS(BD!$B:$B,$AA$91),\"\",INDEX(BD!$E$2:$E$138,SMALL(IF(BD!$B$2:$B$138=$AA$91,IF(BD!$B$2:$B$138=$AA$91,ROW(BD!$B$2:$B$138)-ROW(BD!$B$2)+1),FALSE),ROWS(BD!$1:3)))))","v":""},{"$f":"IF($AA$91=\"\",\"\",IF(ROWS(BD!$1:3)>COUNTIFS(BD!$B:$B,$AA$91),\"\",INDEX(BD!$F$2:$F$138,SMALL(IF(BD!$B$2:$B$138=$AA$91,IF(BD!$B$2:$B$138=$AA$91,ROW(BD!$B$2:$B$138)-ROW(BD!$B$2)+1),FALSE),ROWS(BD!$1:3)))))","v":""},{"$f":"IF($AA$91=\"\",\"\",IF(ROWS(BD!$1:3)>COUNTIFS(BD!$B:$B,$AA$91),\"\",INDEX(BD!$G$2:$G$138,SMALL(IF(BD!$B$2:$B$138=$AA$91,IF(BD!$B$2:$B$138=$AA$91,ROW(BD!$B$2:$B$138)-ROW(BD!$B$2)+1),FALSE),ROWS(BD!$1:3)))))","v":""},{"$f":"IF($AA$91=\"\",\"\",IF(ROWS(BD!$1:3)>COUNTIFS(BD!$B:$B,$AA$91),\"\",INDEX(BD!$H$2:$H$138,SMALL(IF(BD!$B$2:$B$138=$AA$91,IF(BD!$B$2:$B$138=$AA$91,ROW(BD!$B$2:$B$138)-ROW(BD!$B$2)+1),FALSE),ROWS(BD!$1:3)))))","v":""},null,{"$f":"IF($AG$91=\"\",\"\",IF(ROWS(BD!$1:3)>COUNTIFS(BD!$B:$B,$AG$91),\"\",INDEX(BD!$C$2:$C$138,SMALL(IF(BD!$B$2:$B$138=$AG$91,IF(BD!$B$2:$B$138=$AG$91,ROW(BD!$B$2:$B$138)-ROW(BD!$B$2)+1),FALSE),ROWS(BD!$1:3)))))","v":""},{"$f":"IF($AG$91=\"\",\"\",IF(ROWS(BD!$1:3)>COUNTIFS(BD!$B:$B,$AG$91),\"\",INDEX(BD!$E$2:$E$138,SMALL(IF(BD!$B$2:$B$138=$AG$91,IF(BD!$B$2:$B$138=$AG$91,ROW(BD!$B$2:$B$138)-ROW(BD!$B$2)+1),FALSE),ROWS(BD!$1:3)))))","v":""},{"$f":"IF($AG$91=\"\",\"\",IF(ROWS(BD!$1:3)>COUNTIFS(BD!$B:$B,$AG$91),\"\",INDEX(BD!$F$2:$F$138,SMALL(IF(BD!$B$2:$B$138=$AG$91,IF(BD!$B$2:$B$138=$AG$91,ROW(BD!$B$2:$B$138)-ROW(BD!$B$2)+1),FALSE),ROWS(BD!$1:3)))))","v":""},{"$f":"IF($AG$91=\"\",\"\",IF(ROWS(BD!$1:3)>COUNTIFS(BD!$B:$B,$AG$91),\"\",INDEX(BD!$G$2:$G$138,SMALL(IF(BD!$B$2:$B$138=$AG$91,IF(BD!$B$2:$B$138=$AG$91,ROW(BD!$B$2:$B$138)-ROW(BD!$B$2)+1),FALSE),ROWS(BD!$1:3)))))","v":""},{"$f":"IF($AG$91=\"\",\"\",IF(ROWS(BD!$1:3)>COUNTIFS(BD!$B:$B,$AG$91),\"\",INDEX(BD!$H$2:$H$138,SMALL(IF(BD!$B$2:$B$138=$AG$91,IF(BD!$B$2:$B$138=$AG$91,ROW(BD!$B$2:$B$138)-ROW(BD!$B$2)+1),FALSE),ROWS(BD!$1:3)))))","v":""},null,{"$f":"IF($AM$91=\"\",\"\",IF(ROWS(BD!$1:3)>COUNTIFS(BD!$B:$B,$AM$91),\"\",INDEX(BD!$C$2:$C$138,SMALL(IF(BD!$B$2:$B$138=$AM$91,IF(BD!$B$2:$B$138=$AM$91,ROW(BD!$B$2:$B$138)-ROW(BD!$B$2)+1),FALSE),ROWS(BD!$1:3)))))","v":""},{"$f":"IF($AM$91=\"\",\"\",IF(ROWS(BD!$1:3)>COUNTIFS(BD!$B:$B,$AM$91),\"\",INDEX(BD!$E$2:$E$138,SMALL(IF(BD!$B$2:$B$138=$AM$91,IF(BD!$B$2:$B$138=$AM$91,ROW(BD!$B$2:$B$138)-ROW(BD!$B$2)+1),FALSE),ROWS(BD!$1:3)))))","v":""},{"$f":"IF($AM$91=\"\",\"\",IF(ROWS(BD!$1:3)>COUNTIFS(BD!$B:$B,$AM$91),\"\",INDEX(BD!$F$2:$F$138,SMALL(IF(BD!$B$2:$B$138=$AM$91,IF(BD!$B$2:$B$138=$AM$91,ROW(BD!$B$2:$B$138)-ROW(BD!$B$2)+1),FALSE),ROWS(BD!$1:3)))))","v":""},{"$f":"IF($AM$91=\"\",\"\",IF(ROWS(BD!$1:3)>COUNTIFS(BD!$B:$B,$AM$91),\"\",INDEX(BD!$G$2:$G$138,SMALL(IF(BD!$B$2:$B$138=$AM$91,IF(BD!$B$2:$B$138=$AM$91,ROW(BD!$B$2:$B$138)-ROW(BD!$B$2)+1),FALSE),ROWS(BD!$1:3)))))","v":""},{"$f":"IF($AM$91=\"\",\"\",IF(ROWS(BD!$1:3)>COUNTIFS(BD!$B:$B,$AM$91),\"\",INDEX(BD!$H$2:$H$138,SMALL(IF(BD!$B$2:$B$138=$AM$91,IF(BD!$B$2:$B$138=$AM$91,ROW(BD!$B$2:$B$138)-ROW(BD!$B$2)+1),FALSE),ROWS(BD!$1:3)))))","v":""}]
[null,null,{"$f":"IF($C$91=\"\",\"\",IF(ROWS(BD!$1:4)>COUNTIFS(BD!$B:$B,$C$91),\"\",INDEX(BD!$C$2:$C$138,SMALL(IF(BD!$B$2:$B$138=$C$91,IF(BD!$B$2:$B$138=$C$91,ROW(BD!$B$2:$B$138)-ROW(BD!$B$2)+1),FALSE),ROWS(BD!$1:4)))))","v":""},{"$f":"IF($C$91=\"\",\"\",IF(ROWS(BD!$1:4)>COUNTIFS(BD!$B:$B,$C$91),\"\",INDEX(BD!$E$2:$E$138,SMALL(IF(BD!$B$2:$B$138=$C$91,IF(BD!$B$2:$B$138=$C$91,ROW(BD!$B$2:$B$138)-ROW(BD!$B$2)+1),FALSE),ROWS(BD!$1:4)))))","v":""},{"$f":"IF($C$91=\"\",\"\",IF(ROWS(BD!$1:4)>COUNTIFS(BD!$B:$B,$C$91),\"\",INDEX(BD!$F$2:$F$138,SMALL(IF(BD!$B$2:$B$138=$C$91,IF(BD!$B$2:$B$138=$C$91,ROW(BD!$B$2:$B$138)-ROW(BD!$B$2)+1),FALSE),ROWS(BD!$1:4)))))","v":""},{"$f":"IF($C$91=\"\",\"\",IF(ROWS(BD!$1:4)>COUNTIFS(BD!$B:$B,$C$91),\"\",INDEX(BD!$G$2:$G$138,SMALL(IF(BD!$B$2:$B$138=$C$91,IF(BD!$B$2:$B$138=$C$91,ROW(BD!$B$2:$B$138)-ROW(BD!$B$2)+1),FALSE),ROWS(BD!$1:4)))))","v":""},{"$f":"IF($C$91=\"\",\"\",IF(ROWS(BD!$1:4)>COUNTIFS(BD!$B:$B,$C$91),\"\",INDEX(BD!$H$2:$H$138,SMALL(IF(BD!$B$2:$B$138=$C$91,IF(BD!$B$2:$B$138=$C$91,ROW(BD!$B$2:$B$138)-ROW(BD!$B$2)+1),FALSE),ROWS(BD!$1:4)))))","v":""},null,{"$f":"IF($I$91=\"\",\"\",IF(ROWS(BD!$1:4)>COUNTIFS(BD!$B:$B,$I$91),\"\",INDEX(BD!$C$2:$C$138,SMALL(IF(BD!$B$2:$B$138=$I$91,IF(BD!$B$2:$B$138=$I$91,ROW(BD!$B$2:$B$138)-ROW(BD!$B$2)+1),FALSE),ROWS(BD!$1:4)))))","v":""},{"$f":"IF($I$91=\"\",\"\",IF(ROWS(BD!$1:4)>COUNTIFS(BD!$B:$B,$I$91),\"\",INDEX(BD!$E$2:$E$138,SMALL(IF(BD!$B$2:$B$138=$I$91,IF(BD!$B$2:$B$138=$I$91,ROW(BD!$B$2:$B$138)-ROW(BD!$B$2)+1),FALSE),ROWS(BD!$1:4)))))","v":""},{"$f":"IF($I$91=\"\",\"\",IF(ROWS(BD!$1:4)>COUNTIFS(BD!$B:$B,$I$91),\"\",INDEX(BD!$F$2:$F$138,SMALL(IF(BD!$B$2:$B$138=$I$91,IF(BD!$B$2:$B$138=$I$91,ROW(BD!$B$2:$B$138)-ROW(BD!$B$2)+1),FALSE),ROWS(BD!$1:4)))))","v":""},{"$f":"IF($I$91=\"\",\"\",IF(ROWS(BD!$1:4)>COUNTIFS(BD!$B:$B,$I$91),\"\",INDEX(BD!$G$2:$G$138,SMALL(IF(BD!$B$2:$B$138=$I$91,IF(BD!$B$2:$B$138=$I$91,ROW(BD!$B$2:$B$138)-ROW(BD!$B$2)+1),FALSE),ROWS(BD!$1:4)))))","v":""},{"$f":"IF($I$91=\"\",\"\",IF(ROWS(BD!$1:4)>COUNTIFS(BD!$B:$B,$I$91),\"\",INDEX(BD!$H$2:$H$138,SMALL(IF(BD!$B$2:$B$138=$I$91,IF(BD!$B$2:$B$138=$I$91,ROW(BD!$B$2:$B$138)-ROW(BD!$B$2)+1),FALSE),ROWS(BD!$1:4)))))","v":""},null,{"$f":"IF($O$91=\"\",\"\",IF(ROWS(BD!$1:4)>COUNTIFS(BD!$B:$B,$O$91),\"\",INDEX(BD!$C$2:$C$138,SMALL(IF(BD!$B$2:$B$138=$O$91,IF(BD!$B$2:$B$138=$O$91,ROW(BD!$B$2:$B$138)-ROW(BD!$B$2)+1),FALSE),ROWS(BD!$1:4)))))","v":""},{"$f":"IF($O$91=\"\",\"\",IF(ROWS(BD!$1:4)>COUNTIFS(BD!$B:$B,$O$91),\"\",INDEX(BD!$E$2:$E$138,SMALL(IF(BD!$B$2:$B$138=$O$91,IF(BD!$B$2:$B$138=$O$91,ROW(BD!$B$2:$B$138)-ROW(BD!$B$2)+1),FALSE),ROWS(BD!$1:4)))))","v":""},{"$f":"IF($O$91=\"\",\"\",IF(ROWS(BD!$1:4)>COUNTIFS(BD!$B:$B,$O$91),\"\",INDEX(BD!$F$2:$F$138,SMALL(IF(BD!$B$2:$B$138=$O$91,IF(BD!$B$2:$B$138=$O$91,ROW(BD!$B$2:$B$138)-ROW(BD!$B$2)+1),FALSE),ROWS(BD!$1:4)))))","v":""},{"$f":"IF($O$91=\"\",\"\",IF(ROWS(BD!$1:4)>COUNTIFS(BD!$B:$B,$O$91),\"\",INDEX(BD!$G$2:$G$138,SMALL(IF(BD!$B$2:$B$138=$O$91,IF(BD!$B$2:$B$138=$O$91,ROW(BD!$B$2:$B$138)-ROW(BD!$B$2)+1),FALSE),ROWS(BD!$1:4)))))","v":""},{"$f":"IF($O$91=\"\",\"\",IF(ROWS(BD!$1:4)>COUNTIFS(BD!$B:$B,$O$91),\"\",INDEX(BD!$H$2:$H$138,SMALL(IF(BD!$B$2:$B$138=$O$91,IF(BD!$B$2:$B$138=$O$91,ROW(BD!$B$2:$B$138)-ROW(BD!$B$2)+1),FALSE),ROWS(BD!$1:4)))))","v":""},null,{"$f":"IF($U$91=\"\",\"\",IF(ROWS(BD!$1:4)>COUNTIFS(BD!$B:$B,$U$91),\"\",INDEX(BD!$C$2:$C$138,SMALL(IF(BD!$B$2:$B$138=$U$91,IF(BD!$B$2:$B$138=$U$91,ROW(BD!$B$2:$B$138)-ROW(BD!$B$2)+1),FALSE),ROWS(BD!$1:4)))))","v":""},{"$f":"IF($U$91=\"\",\"\",IF(ROWS(BD!$1:4)>COUNTIFS(BD!$B:$B,$U$91),\"\",INDEX(BD!$E$2:$E$138,SMALL(IF(BD!$B$2:$B$138=$U$91,IF(BD!$B$2:$B$138=$U$91,ROW(BD!$B$2:$B$138)-ROW(BD!$B$2)+1),FALSE),ROWS(BD!$1:4)))))","v":""},{"$f":"IF($U$91=\"\",\"\",IF(ROWS(BD!$1:4)>COUNTIFS(BD!$B:$B,$U$91),\"\",INDEX(BD!$F$2:$F$138,SMALL(IF(BD!$B$2:$B$138=$U$91,IF(BD!$B$2:$B$138=$U$91,ROW(BD!$B$2:$B$138)-ROW(BD!$B$2)+1),FALSE),ROWS(BD!$1:4)))))","v":""},{"$f":"IF($U$91=\"\",\"\",IF(ROWS(BD!$1:4)>COUNTIFS(BD!$B:$B,$U$91),\"\",INDEX(BD!$G$2:$G$138,SMALL(IF(BD!$B$2:$B$138=$U$91,IF(BD!$B$2:$B$138=$U$91,ROW(BD!$B$2:$B$138)-ROW(BD!$B$2)+1),FALSE),ROWS(BD!$1:4)))))","v":""},{"$f":"IF($U$91=\"\",\"\",IF(ROWS(BD!$1:4)>COUNTIFS(BD!$B:$B,$U$91),\"\",INDEX(BD!$H$2:$H$138,SMALL(IF(BD!$B$2:$B$138=$U$91,IF(BD!$B$2:$B$138=$U$91,ROW(BD!$B$2:$B$138)-ROW(BD!$B$2)+1),FALSE),ROWS(BD!$1:4)))))","v":""},null,{"$f":"IF($AA$91=\"\",\"\",IF(ROWS(BD!$1:4)>COUNTIFS(BD!$B:$B,$AA$91),\"\",INDEX(BD!$C$2:$C$138,SMALL(IF(BD!$B$2:$B$138=$AA$91,IF(BD!$B$2:$B$138=$AA$91,ROW(BD!$B$2:$B$138)-ROW(BD!$B$2)+1),FALSE),ROWS(BD!$1:4)))))","v":""},{"$f":"IF($AA$91=\"\",\"\",IF(ROWS(BD!$1:4)>COUNTIFS(BD!$B:$B,$AA$91),\"\",INDEX(BD!$E$2:$E$138,SMALL(IF(BD!$B$2:$B$138=$AA$91,IF(BD!$B$2:$B$138=$AA$91,ROW(BD!$B$2:$B$138)-ROW(BD!$B$2)+1),FALSE),ROWS(BD!$1:4)))))","v":""},{"$f":"IF($AA$91=\"\",\"\",IF(ROWS(BD!$1:4)>COUNTIFS(BD!$B:$B,$AA$91),\"\",INDEX(BD!$F$2:$F$138,SMALL(IF(BD!$B$2:$B$138=$AA$91,IF(BD!$B$2:$B$138=$AA$91,ROW(BD!$B$2:$B$138)-ROW(BD!$B$2)+1),FALSE),ROWS(BD!$1:4)))))","v":""},{"$f":"IF($AA$91=\"\",\"\",IF(ROWS(BD!$1:4)>COUNTIFS(BD!$B:$B,$AA$91),\"\",INDEX(BD!$G$2:$G$138,SMALL(IF(BD!$B$2:$B$138=$AA$91,IF(BD!$B$2:$B$138=$AA$91,ROW(BD!$B$2:$B$138)-ROW(BD!$B$2)+1),FALSE),ROWS(BD!$1:4)))))","v":""},{"$f":"IF($AA$91=\"\",\"\",IF(ROWS(BD!$1:4)>COUNTIFS(BD!$B:$B,$AA$91),\"\",INDEX(BD!$H$2:$H$138,SMALL(IF(BD!$B$2:$B$138=$AA$91,IF(BD!$B$2:$B$138=$AA$91,ROW(BD!$B$2:$B$138)-ROW(BD!$B$2)+1),FALSE),ROWS(BD!$1:4)))))","v":""},null,{"$f":"IF($AG$91=\"\",\"\",IF(ROWS(BD!$1:4)>COUNTIFS(BD!$B:$B,$AG$91),\"\",INDEX(BD!$C$2:$C$138,SMALL(IF(BD!$B$2:$B$138=$AG$91,IF(BD!$B$2:$B$138=$AG$91,ROW(BD!$B$2:$B$138)-ROW(BD!$B$2)+1),FALSE),ROWS(BD!$1:4)))))","v":""},{"$f":"IF($AG$91=\"\",\"\",IF(ROWS(BD!$1:4)>COUNTIFS(BD!$B:$B,$AG$91),\"\",INDEX(BD!$E$2:$E$138,SMALL(IF(BD!$B$2:$B$138=$AG$91,IF(BD!$B$2:$B$138=$AG$91,ROW(BD!$B$2:$B$138)-ROW(BD!$B$2)+1),FALSE),ROWS(BD!$1:4)))))","v":""},{"$f":"IF($AG$91=\"\",\"\",IF(ROWS(BD!$1:4)>COUNTIFS(BD!$B:$B,$AG$91),\"\",INDEX(BD!$F$2:$F$138,SMALL(IF(BD!$B$2:$B$138=$AG$91,IF(BD!$B$2:$B$138=$AG$91,ROW(BD!$B$2:$B$138)-ROW(BD!$B$2)+1),FALSE),ROWS(BD!$1:4)))))","v":""},{"$f":"IF($AG$91=\"\",\"\",IF(ROWS(BD!$1:4)>COUNTIFS(BD!$B:$B,$AG$91),\"\",INDEX(BD!$G$2:$G$138,SMALL(IF(BD!$B$2:$B$138=$AG$91,IF(BD!$B$2:$B$138=$AG$91,ROW(BD!$B$2:$B$138)-ROW(BD!$B$2)+1),FALSE),ROWS(BD!$1:4)))))","v":""},{"$f":"IF($AG$91=\"\",\"\",IF(ROWS(BD!$1:4)>COUNTIFS(BD!$B:$B,$AG$91),\"\",INDEX(BD!$H$2:$H$138,SMALL(IF(BD!$B$2:$B$138=$AG$91,IF(BD!$B$2:$B$138=$AG$91,ROW(BD!$B$2:$B$138)-ROW(BD!$B$2)+1),FALSE),ROWS(BD!$1:4)))))","v":""},null,{"$f":"IF($AM$91=\"\",\"\",IF(ROWS(BD!$1:4)>COUNTIFS(BD!$B:$B,$AM$91),\"\",INDEX(BD!$C$2:$C$138,SMALL(IF(BD!$B$2:$B$138=$AM$91,IF(BD!$B$2:$B$138=$AM$91,ROW(BD!$B$2:$B$138)-ROW(BD!$B$2)+1),FALSE),ROWS(BD!$1:4)))))","v":""},{"$f":"IF($AM$91=\"\",\"\",IF(ROWS(BD!$1:4)>COUNTIFS(BD!$B:$B,$AM$91),\"\",INDEX(BD!$E$2:$E$138,SMALL(IF(BD!$B$2:$B$138=$AM$91,IF(BD!$B$2:$B$138=$AM$91,ROW(BD!$B$2:$B$138)-ROW(BD!$B$2)+1),FALSE),ROWS(BD!$1:4)))))","v":""},{"$f":"IF($AM$91=\"\",\"\",IF(ROWS(BD!$1:4)>COUNTIFS(BD!$B:$B,$AM$91),\"\",INDEX(BD!$F$2:$F$138,SMALL(IF(BD!$B$2:$B$138=$AM$91,IF(BD!$B$2:$B$138=$AM$91,ROW(BD!$B$2:$B$138)-ROW(BD!$B$2)+1),FALSE),ROWS(BD!$1:4)))))","v":""},{"$f":"IF($AM$91=\"\",\"\",IF(ROWS(BD!$1:4)>COUNTIFS(BD!$B:$B,$AM$91),\"\",INDEX(BD!$G$2:$G$138,SMALL(IF(BD!$B$2:$B$138=$AM$91,IF(BD!$B$2:$B$138=$AM$91,ROW(BD!$B$2:$B$138)-ROW(BD!$B$2)+1),FALSE),ROWS(BD!$1:4)))))","v":""},{"$f":"IF($AM$91=\"\",\"\",IF(ROWS(BD!$1:4)>COUNTIFS(BD!$B:$B,$AM$91),\"\",INDEX(BD!$H$2:$H$138,SMALL(IF(BD!$B$2:$B$138=$AM$91,IF(BD!$B$2:$B$138=$AM$91,ROW(BD!$B$2:$B$138)-ROW(BD!$B$2)+1),FALSE),ROWS(BD!$1:4)))))","v":""}]
[null,null,{"$f":"IF($C$91=\"\",\"\",IF(ROWS(BD!$1:5)>COUNTIFS(BD!$B:$B,$C$91),\"\",INDEX(BD!$C$2:$C$138,SMALL(IF(BD!$B$2:$B$138=$C$91,IF(BD!$B$2:$B$138=$C$91,ROW(BD!$B$2:$B$138)-ROW(BD!$B$2)+1),FALSE),ROWS(BD!$1:5)))))","v":""},{"$f":"IF($C$91=\"\",\"\",IF(ROWS(BD!$1:5)>COUNTIFS(BD!$B:$B,$C$91),\"\",INDEX(BD!$E$2:$E$138,SMALL(IF(BD!$B$2:$B$138=$C$91,IF(BD!$B$2:$B$138=$C$91,ROW(BD!$B$2:$B$138)-ROW(BD!$B$2)+1),FALSE),ROWS(BD!$1:5)))))","v":""},{"$f":"IF($C$91=\"\",\"\",IF(ROWS(BD!$1:5)>COUNTIFS(BD!$B:$B,$C$91),\"\",INDEX(BD!$F$2:$F$138,SMALL(IF(BD!$B$2:$B$138=$C$91,IF(BD!$B$2:$B$138=$C$91,ROW(BD!$B$2:$B$138)-ROW(BD!$B$2)+1),FALSE),ROWS(BD!$1:5)))))","v":""},{"$f":"IF($C$91=\"\",\"\",IF(ROWS(BD!$1:5)>COUNTIFS(BD!$B:$B,$C$91),\"\",INDEX(BD!$G$2:$G$138,SMALL(IF(BD!$B$2:$B$138=$C$91,IF(BD!$B$2:$B$138=$C$91,ROW(BD!$B$2:$B$138)-ROW(BD!$B$2)+1),FALSE),ROWS(BD!$1:5)))))","v":""},{"$f":"IF($C$91=\"\",\"\",IF(ROWS(BD!$1:5)>COUNTIFS(BD!$B:$B,$C$91),\"\",INDEX(BD!$H$2:$H$138,SMALL(IF(BD!$B$2:$B$138=$C$91,IF(BD!$B$2:$B$138=$C$91,ROW(BD!$B$2:$B$138)-ROW(BD!$B$2)+1),FALSE),ROWS(BD!$1:5)))))","v":""},null,{"$f":"IF($I$91=\"\",\"\",IF(ROWS(BD!$1:5)>COUNTIFS(BD!$B:$B,$I$91),\"\",INDEX(BD!$C$2:$C$138,SMALL(IF(BD!$B$2:$B$138=$I$91,IF(BD!$B$2:$B$138=$I$91,ROW(BD!$B$2:$B$138)-ROW(BD!$B$2)+1),FALSE),ROWS(BD!$1:5)))))","v":""},{"$f":"IF($I$91=\"\",\"\",IF(ROWS(BD!$1:5)>COUNTIFS(BD!$B:$B,$I$91),\"\",INDEX(BD!$E$2:$E$138,SMALL(IF(BD!$B$2:$B$138=$I$91,IF(BD!$B$2:$B$138=$I$91,ROW(BD!$B$2:$B$138)-ROW(BD!$B$2)+1),FALSE),ROWS(BD!$1:5)))))","v":""},{"$f":"IF($I$91=\"\",\"\",IF(ROWS(BD!$1:5)>COUNTIFS(BD!$B:$B,$I$91),\"\",INDEX(BD!$F$2:$F$138,SMALL(IF(BD!$B$2:$B$138=$I$91,IF(BD!$B$2:$B$138=$I$91,ROW(BD!$B$2:$B$138)-ROW(BD!$B$2)+1),FALSE),ROWS(BD!$1:5)))))","v":""},{"$f":"IF($I$91=\"\",\"\",IF(ROWS(BD!$1:5)>COUNTIFS(BD!$B:$B,$I$91),\"\",INDEX(BD!$G$2:$G$138,SMALL(IF(BD!$B$2:$B$138=$I$91,IF(BD!$B$2:$B$138=$I$91,ROW(BD!$B$2:$B$138)-ROW(BD!$B$2)+1),FALSE),ROWS(BD!$1:5)))))","v":""},{"$f":"IF($I$91=\"\",\"\",IF(ROWS(BD!$1:5)>COUNTIFS(BD!$B:$B,$I$91),\"\",INDEX(BD!$H$2:$H$138,SMALL(IF(BD!$B$2:$B$138=$I$91,IF(BD!$B$2:$B$138=$I$91,ROW(BD!$B$2:$B$138)-ROW(BD!$B$2)+1),FALSE),ROWS(BD!$1:5)))))","v":""},null,{"$f":"IF($O$91=\"\",\"\",IF(ROWS(BD!$1:5)>COUNTIFS(BD!$B:$B,$O$91),\"\",INDEX(BD!$C$2:$C$138,SMALL(IF(BD!$B$2:$B$138=$O$91,IF(BD!$B$2:$B$138=$O$91,ROW(BD!$B$2:$B$138)-ROW(BD!$B$2)+1),FALSE),ROWS(BD!$1:5)))))","v":""},{"$f":"IF($O$91=\"\",\"\",IF(ROWS(BD!$1:5)>COUNTIFS(BD!$B:$B,$O$91),\"\",INDEX(BD!$E$2:$E$138,SMALL(IF(BD!$B$2:$B$138=$O$91,IF(BD!$B$2:$B$138=$O$91,ROW(BD!$B$2:$B$138)-ROW(BD!$B$2)+1),FALSE),ROWS(BD!$1:5)))))","v":""},{"$f":"IF($O$91=\"\",\"\",IF(ROWS(BD!$1:5)>COUNTIFS(BD!$B:$B,$O$91),\"\",INDEX(BD!$F$2:$F$138,SMALL(IF(BD!$B$2:$B$138=$O$91,IF(BD!$B$2:$B$138=$O$91,ROW(BD!$B$2:$B$138)-ROW(BD!$B$2)+1),FALSE),ROWS(BD!$1:5)))))","v":""},{"$f":"IF($O$91=\"\",\"\",IF(ROWS(BD!$1:5)>COUNTIFS(BD!$B:$B,$O$91),\"\",INDEX(BD!$G$2:$G$138,SMALL(IF(BD!$B$2:$B$138=$O$91,IF(BD!$B$2:$B$138=$O$91,ROW(BD!$B$2:$B$138)-ROW(BD!$B$2)+1),FALSE),ROWS(BD!$1:5)))))","v":""},{"$f":"IF($O$91=\"\",\"\",IF(ROWS(BD!$1:5)>COUNTIFS(BD!$B:$B,$O$91),\"\",INDEX(BD!$H$2:$H$138,SMALL(IF(BD!$B$2:$B$138=$O$91,IF(BD!$B$2:$B$138=$O$91,ROW(BD!$B$2:$B$138)-ROW(BD!$B$2)+1),FALSE),ROWS(BD!$1:5)))))","v":""},null,{"$f":"IF($U$91=\"\",\"\",IF(ROWS(BD!$1:5)>COUNTIFS(BD!$B:$B,$U$91),\"\",INDEX(BD!$C$2:$C$138,SMALL(IF(BD!$B$2:$B$138=$U$91,IF(BD!$B$2:$B$138=$U$91,ROW(BD!$B$2:$B$138)-ROW(BD!$B$2)+1),FALSE),ROWS(BD!$1:5)))))","v":""},{"$f":"IF($U$91=\"\",\"\",IF(ROWS(BD!$1:5)>COUNTIFS(BD!$B:$B,$U$91),\"\",INDEX(BD!$E$2:$E$138,SMALL(IF(BD!$B$2:$B$138=$U$91,IF(BD!$B$2:$B$138=$U$91,ROW(BD!$B$2:$B$138)-ROW(BD!$B$2)+1),FALSE),ROWS(BD!$1:5)))))","v":""},{"$f":"IF($U$91=\"\",\"\",IF(ROWS(BD!$1:5)>COUNTIFS(BD!$B:$B,$U$91),\"\",INDEX(BD!$F$2:$F$138,SMALL(IF(BD!$B$2:$B$138=$U$91,IF(BD!$B$2:$B$138=$U$91,ROW(BD!$B$2:$B$138)-ROW(BD!$B$2)+1),FALSE),ROWS(BD!$1:5)))))","v":""},{"$f":"IF($U$91=\"\",\"\",IF(ROWS(BD!$1:5)>COUNTIFS(BD!$B:$B,$U$91),\"\",INDEX(BD!$G$2:$G$138,SMALL(IF(BD!$B$2:$B$138=$U$91,IF(BD!$B$2:$B$138=$U$91,ROW(BD!$B$2:$B$138)-ROW(BD!$B$2)+1),FALSE),ROWS(BD!$1:5)))))","v":""},{"$f":"IF($U$91=\"\",\"\",IF(ROWS(BD!$1:5)>COUNTIFS(BD!$B:$B,$U$91),\"\",INDEX(BD!$H$2:$H$138,SMALL(IF(BD!$B$2:$B$138=$U$91,IF(BD!$B$2:$B$138=$U$91,ROW(BD!$B$2:$B$138)-ROW(BD!$B$2)+1),FALSE),ROWS(BD!$1:5)))))","v":""},null,{"$f":"IF($AA$91=\"\",\"\",IF(ROWS(BD!$1:5)>COUNTIFS(BD!$B:$B,$AA$91),\"\",INDEX(BD!$C$2:$C$138,SMALL(IF(BD!$B$2:$B$138=$AA$91,IF(BD!$B$2:$B$138=$AA$91,ROW(BD!$B$2:$B$138)-ROW(BD!$B$2)+1),FALSE),ROWS(BD!$1:5)))))","v":""},{"$f":"IF($AA$91=\"\",\"\",IF(ROWS(BD!$1:5)>COUNTIFS(BD!$B:$B,$AA$91),\"\",INDEX(BD!$E$2:$E$138,SMALL(IF(BD!$B$2:$B$138=$AA$91,IF(BD!$B$2:$B$138=$AA$91,ROW(BD!$B$2:$B$138)-ROW(BD!$B$2)+1),FALSE),ROWS(BD!$1:5)))))","v":""},{"$f":"IF($AA$91=\"\",\"\",IF(ROWS(BD!$1:5)>COUNTIFS(BD!$B:$B,$AA$91),\"\",INDEX(BD!$F$2:$F$138,SMALL(IF(BD!$B$2:$B$138=$AA$91,IF(BD!$B$2:$B$138=$AA$91,ROW(BD!$B$2:$B$138)-ROW(BD!$B$2)+1),FALSE),ROWS(BD!$1:5)))))","v":""},{"$f":"IF($AA$91=\"\",\"\",IF(ROWS(BD!$1:5)>COUNTIFS(BD!$B:$B,$AA$91),\"\",INDEX(BD!$G$2:$G$138,SMALL(IF(BD!$B$2:$B$138=$AA$91,IF(BD!$B$2:$B$138=$AA$91,ROW(BD!$B$2:$B$138)-ROW(BD!$B$2)+1),FALSE),ROWS(BD!$1:5)))))","v":""},{"$f":"IF($AA$91=\"\",\"\",IF(ROWS(BD!$1:5)>COUNTIFS(BD!$B:$B,$AA$91),\"\",INDEX(BD!$H$2:$H$138,SMALL(IF(BD!$B$2:$B$138=$AA$91,IF(BD!$B$2:$B$138=$AA$91,ROW(BD!$B$2:$B$138)-ROW(BD!$B$2)+1),FALSE),ROWS(BD!$1:5)))))","v":""},null,{"$f":"IF($AG$91=\"\",\"\",IF(ROWS(BD!$1:5)>COUNTIFS(BD!$B:$B,$AG$91),\"\",INDEX(BD!$C$2:$C$138,SMALL(IF(BD!$B$2:$B$138=$AG$91,IF(BD!$B$2:$B$138=$AG$91,ROW(BD!$B$2:$B$138)-ROW(BD!$B$2)+1),FALSE),ROWS(BD!$1:5)))))","v":""},{"$f":"IF($AG$91=\"\",\"\",IF(ROWS(BD!$1:5)>COUNTIFS(BD!$B:$B,$AG$91),\"\",INDEX(BD!$E$2:$E$138,SMALL(IF(BD!$B$2:$B$138=$AG$91,IF(BD!$B$2:$B$138=$AG$91,ROW(BD!$B$2:$B$138)-ROW(BD!$B$2)+1),FALSE),ROWS(BD!$1:5)))))","v":""},{"$f":"IF($AG$91=\"\",\"\",IF(ROWS(BD!$1:5)>COUNTIFS(BD!$B:$B,$AG$91),\"\",INDEX(BD!$F$2:$F$138,SMALL(IF(BD!$B$2:$B$138=$AG$91,IF(BD!$B$2:$B$138=$AG$91,ROW(BD!$B$2:$B$138)-ROW(BD!$B$2)+1),FALSE),ROWS(BD!$1:5)))))","v":""},{"$f":"IF($AG$91=\"\",\"\",IF(ROWS(BD!$1:5)>COUNTIFS(BD!$B:$B,$AG$91),\"\",INDEX(BD!$G$2:$G$138,SMALL(IF(BD!$B$2:$B$138=$AG$91,IF(BD!$B$2:$B$138=$AG$91,ROW(BD!$B$2:$B$138)-ROW(BD!$B$2)+1),FALSE),ROWS(BD!$1:5)))))","v":""},{"$f":"IF($AG$91=\"\",\"\",IF(ROWS(BD!$1:5)>COUNTIFS(BD!$B:$B,$AG$91),\"\",INDEX(BD!$H$2:$H$138,SMALL(IF(BD!$B$2:$B$138=$AG$91,IF(BD!$B$2:$B$138=$AG$91,ROW(BD!$B$2:$B$138)-ROW(BD!$B$2)+1),FALSE),ROWS(BD!$1:5)))))","v":""},null,{"$f":"IF($AM$91=\"\",\"\",IF(ROWS(BD!$1:5)>COUNTIFS(BD!$B:$B,$AM$91),\"\",INDEX(BD!$C$2:$C$138,SMALL(IF(BD!$B$2:$B$138=$AM$91,IF(BD!$B$2:$B$138=$AM$91,ROW(BD!$B$2:$B$138)-ROW(BD!$B$2)+1),FALSE),ROWS(BD!$1:5)))))","v":""},{"$f":"IF($AM$91=\"\",\"\",IF(ROWS(BD!$1:5)>COUNTIFS(BD!$B:$B,$AM$91),\"\",INDEX(BD!$E$2:$E$138,SMALL(IF(BD!$B$2:$B$138=$AM$91,IF(BD!$B$2:$B$138=$AM$91,ROW(BD!$B$2:$B$138)-ROW(BD!$B$2)+1),FALSE),ROWS(BD!$1:5)))))","v":""},{"$f":"IF($AM$91=\"\",\"\",IF(ROWS(BD!$1:5)>COUNTIFS(BD!$B:$B,$AM$91),\"\",INDEX(BD!$F$2:$F$138,SMALL(IF(BD!$B$2:$B$138=$AM$91,IF(BD!$B$2:$B$138=$AM$91,ROW(BD!$B$2:$B$138)-ROW(BD!$B$2)+1),FALSE),ROWS(BD!$1:5)))))","v":""},{"$f":"IF($AM$91=\"\",\"\",IF(ROWS(BD!$1:5)>COUNTIFS(BD!$B:$B,$AM$91),\"\",INDEX(BD!$G$2:$G$138,SMALL(IF(BD!$B$2:$B$138=$AM$91,IF(BD!$B$2:$B$138=$AM$91,ROW(BD!$B$2:$B$138)-ROW(BD!$B$2)+1),FALSE),ROWS(BD!$1:5)))))","v":""},{"$f":"IF($AM$91=\"\",\"\",IF(ROWS(BD!$1:5)>COUNTIFS(BD!$B:$B,$AM$91),\"\",INDEX(BD!$H$2:$H$138,SMALL(IF(BD!$B$2:$B$138=$AM$91,IF(BD!$B$2:$B$138=$AM$91,ROW(BD!$B$2:$B$138)-ROW(BD!$B$2)+1),FALSE),ROWS(BD!$1:5)))))","v":""}]
[null,null,{"$f":"IF($C$91=\"\",\"\",IF(ROWS(BD!$1:6)>COUNTIFS(BD!$B:$B,$C$91),\"\",INDEX(BD!$C$2:$C$138,SMALL(IF(BD!$B$2:$B$138=$C$91,IF(BD!$B$2:$B$138=$C$91,ROW(BD!$B$2:$B$138)-ROW(BD!$B$2)+1),FALSE),ROWS(BD!$1:6)))))","v":""},{"$f":"IF($C$91=\"\",\"\",IF(ROWS(BD!$1:6)>COUNTIFS(BD!$B:$B,$C$91),\"\",INDEX(BD!$E$2:$E$138,SMALL(IF(BD!$B$2:$B$138=$C$91,IF(BD!$B$2:$B$138=$C$91,ROW(BD!$B$2:$B$138)-ROW(BD!$B$2)+1),FALSE),ROWS(BD!$1:6)))))","v":""},{"$f":"IF($C$91=\"\",\"\",IF(ROWS(BD!$1:6)>COUNTIFS(BD!$B:$B,$C$91),\"\",INDEX(BD!$F$2:$F$138,SMALL(IF(BD!$B$2:$B$138=$C$91,IF(BD!$B$2:$B$138=$C$91,ROW(BD!$B$2:$B$138)-ROW(BD!$B$2)+1),FALSE),ROWS(BD!$1:6)))))","v":""},{"$f":"IF($C$91=\"\",\"\",IF(ROWS(BD!$1:6)>COUNTIFS(BD!$B:$B,$C$91),\"\",INDEX(BD!$G$2:$G$138,SMALL(IF(BD!$B$2:$B$138=$C$91,IF(BD!$B$2:$B$138=$C$91,ROW(BD!$B$2:$B$138)-ROW(BD!$B$2)+1),FALSE),ROWS(BD!$1:6)))))","v":""},{"$f":"IF($C$91=\"\",\"\",IF(ROWS(BD!$1:6)>COUNTIFS(BD!$B:$B,$C$91),\"\",INDEX(BD!$H$2:$H$138,SMALL(IF(BD!$B$2:$B$138=$C$91,IF(BD!$B$2:$B$138=$C$91,ROW(BD!$B$2:$B$138)-ROW(BD!$B$2)+1),FALSE),ROWS(BD!$1:6)))))","v":""},null,{"$f":"IF($I$91=\"\",\"\",IF(ROWS(BD!$1:6)>COUNTIFS(BD!$B:$B,$I$91),\"\",INDEX(BD!$C$2:$C$138,SMALL(IF(BD!$B$2:$B$138=$I$91,IF(BD!$B$2:$B$138=$I$91,ROW(BD!$B$2:$B$138)-ROW(BD!$B$2)+1),FALSE),ROWS(BD!$1:6)))))","v":""},{"$f":"IF($I$91=\"\",\"\",IF(ROWS(BD!$1:6)>COUNTIFS(BD!$B:$B,$I$91),\"\",INDEX(BD!$E$2:$E$138,SMALL(IF(BD!$B$2:$B$138=$I$91,IF(BD!$B$2:$B$138=$I$91,ROW(BD!$B$2:$B$138)-ROW(BD!$B$2)+1),FALSE),ROWS(BD!$1:6)))))","v":""},{"$f":"IF($I$91=\"\",\"\",IF(ROWS(BD!$1:6)>COUNTIFS(BD!$B:$B,$I$91),\"\",INDEX(BD!$F$2:$F$138,SMALL(IF(BD!$B$2:$B$138=$I$91,IF(BD!$B$2:$B$138=$I$91,ROW(BD!$B$2:$B$138)-ROW(BD!$B$2)+1),FALSE),ROWS(BD!$1:6)))))","v":""},{"$f":"IF($I$91=\"\",\"\",IF(ROWS(BD!$1:6)>COUNTIFS(BD!$B:$B,$I$91),\"\",INDEX(BD!$G$2:$G$138,SMALL(IF(BD!$B$2:$B$138=$I$91,IF(BD!$B$2:$B$138=$I$91,ROW(BD!$B$2:$B$138)-ROW(BD!$B$2)+1),FALSE),ROWS(BD!$1:6)))))","v":""},{"$f":"IF($I$91=\"\",\"\",IF(ROWS(BD!$1:6)>COUNTIFS(BD!$B:$B,$I$91),\"\",INDEX(BD!$H$2:$H$138,SMALL(IF(BD!$B$2:$B$138=$I$91,IF(BD!$B$2:$B$138=$I$91,ROW(BD!$B$2:$B$138)-ROW(BD!$B$2)+1),FALSE),ROWS(BD!$1:6)))))","v":""},null,{"$f":"IF($O$91=\"\",\"\",IF(ROWS(BD!$1:6)>COUNTIFS(BD!$B:$B,$O$91),\"\",INDEX(BD!$C$2:$C$138,SMALL(IF(BD!$B$2:$B$138=$O$91,IF(BD!$B$2:$B$138=$O$91,ROW(BD!$B$2:$B$138)-ROW(BD!$B$2)+1),FALSE),ROWS(BD!$1:6)))))","v":""},{"$f":"IF($O$91=\"\",\"\",IF(ROWS(BD!$1:6)>COUNTIFS(BD!$B:$B,$O$91),\"\",INDEX(BD!$E$2:$E$138,SMALL(IF(BD!$B$2:$B$138=$O$91,IF(BD!$B$2:$B$138=$O$91,ROW(BD!$B$2:$B$138)-ROW(BD!$B$2)+1),FALSE),ROWS(BD!$1:6)))))","v":""},{"$f":"IF($O$91=\"\",\"\",IF(ROWS(BD!$1:6)>COUNTIFS(BD!$B:$B,$O$91),\"\",INDEX(BD!$F$2:$F$138,SMALL(IF(BD!$B$2:$B$138=$O$91,IF(BD!$B$2:$B$138=$O$91,ROW(BD!$B$2:$B$138)-ROW(BD!$B$2)+1),FALSE),ROWS(BD!$1:6)))))","v":""},{"$f":"IF($O$91=\"\",\"\",IF(ROWS(BD!$1:6)>COUNTIFS(BD!$B:$B,$O$91),\"\",INDEX(BD!$G$2:$G$138,SMALL(IF(BD!$B$2:$B$138=$O$91,IF(BD!$B$2:$B$138=$O$91,ROW(BD!$B$2:$B$138)-ROW(BD!$B$2)+1),FALSE),ROWS(BD!$1:6)))))","v":""},{"$f":"IF($O$91=\"\",\"\",IF(ROWS(BD!$1:6)>COUNTIFS(BD!$B:$B,$O$91),\"\",INDEX(BD!$H$2:$H$138,SMALL(IF(BD!$B$2:$B$138=$O$91,IF(BD!$B$2:$B$138=$O$91,ROW(BD!$B$2:$B$138)-ROW(BD!$B$2)+1),FALSE),ROWS(BD!$1:6)))))","v":""},null,{"$f":"IF($U$91=\"\",\"\",IF(ROWS(BD!$1:6)>COUNTIFS(BD!$B:$B,$U$91),\"\",INDEX(BD!$C$2:$C$138,SMALL(IF(BD!$B$2:$B$138=$U$91,IF(BD!$B$2:$B$138=$U$91,ROW(BD!$B$2:$B$138)-ROW(BD!$B$2)+1),FALSE),ROWS(BD!$1:6)))))","v":""},{"$f":"IF($U$91=\"\",\"\",IF(ROWS(BD!$1:6)>COUNTIFS(BD!$B:$B,$U$91),\"\",INDEX(BD!$E$2:$E$138,SMALL(IF(BD!$B$2:$B$138=$U$91,IF(BD!$B$2:$B$138=$U$91,ROW(BD!$B$2:$B$138)-ROW(BD!$B$2)+1),FALSE),ROWS(BD!$1:6)))))","v":""},{"$f":"IF($U$91=\"\",\"\",IF(ROWS(BD!$1:6)>COUNTIFS(BD!$B:$B,$U$91),\"\",INDEX(BD!$F$2:$F$138,SMALL(IF(BD!$B$2:$B$138=$U$91,IF(BD!$B$2:$B$138=$U$91,ROW(BD!$B$2:$B$138)-ROW(BD!$B$2)+1),FALSE),ROWS(BD!$1:6)))))","v":""},{"$f":"IF($U$91=\"\",\"\",IF(ROWS(BD!$1:6)>COUNTIFS(BD!$B:$B,$U$91),\"\",INDEX(BD!$G$2:$G$138,SMALL(IF(BD!$B$2:$B$138=$U$91,IF(BD!$B$2:$B$138=$U$91,ROW(BD!$B$2:$B$138)-ROW(BD!$B$2)+1),FALSE),ROWS(BD!$1:6)))))","v":""},{"$f":"IF($U$91=\"\",\"\",IF(ROWS(BD!$1:6)>COUNTIFS(BD!$B:$B,$U$91),\"\",INDEX(BD!$H$2:$H$138,SMALL(IF(BD!$B$2:$B$138=$U$91,IF(BD!$B$2:$B$138=$U$91,ROW(BD!$B$2:$B$138)-ROW(BD!$B$2)+1),FALSE),ROWS(BD!$1:6)))))","v":""},null,{"$f":"IF($AA$91=\"\",\"\",IF(ROWS(BD!$1:6)>COUNTIFS(BD!$B:$B,$AA$91),\"\",INDEX(BD!$C$2:$C$138,SMALL(IF(BD!$B$2:$B$138=$AA$91,IF(BD!$B$2:$B$138=$AA$91,ROW(BD!$B$2:$B$138)-ROW(BD!$B$2)+1),FALSE),ROWS(BD!$1:6)))))","v":""},{"$f":"IF($AA$91=\"\",\"\",IF(ROWS(BD!$1:6)>COUNTIFS(BD!$B:$B,$AA$91),\"\",INDEX(BD!$E$2:$E$138,SMALL(IF(BD!$B$2:$B$138=$AA$91,IF(BD!$B$2:$B$138=$AA$91,ROW(BD!$B$2:$B$138)-ROW(BD!$B$2)+1),FALSE),ROWS(BD!$1:6)))))","v":""},{"$f":"IF($AA$91=\"\",\"\",IF(ROWS(BD!$1:6)>COUNTIFS(BD!$B:$B,$AA$91),\"\",INDEX(BD!$F$2:$F$138,SMALL(IF(BD!$B$2:$B$138=$AA$91,IF(BD!$B$2:$B$138=$AA$91,ROW(BD!$B$2:$B$138)-ROW(BD!$B$2)+1),FALSE),ROWS(BD!$1:6)))))","v":""},{"$f":"IF($AA$91=\"\",\"\",IF(ROWS(BD!$1:6)>COUNTIFS(BD!$B:$B,$AA$91),\"\",INDEX(BD!$G$2:$G$138,SMALL(IF(BD!$B$2:$B$138=$AA$91,IF(BD!$B$2:$B$138=$AA$91,ROW(BD!$B$2:$B$138)-ROW(BD!$B$2)+1),FALSE),ROWS(BD!$1:6)))))","v":""},{"$f":"IF($AA$91=\"\",\"\",IF(ROWS(BD!$1:6)>COUNTIFS(BD!$B:$B,$AA$91),\"\",INDEX(BD!$H$2:$H$138,SMALL(IF(BD!$B$2:$B$138=$AA$91,IF(BD!$B$2:$B$138=$AA$91,ROW(BD!$B$2:$B$138)-ROW(BD!$B$2)+1),FALSE),ROWS(BD!$1:6)))))","v":""},null,{"$f":"IF($AG$91=\"\",\"\",IF(ROWS(BD!$1:6)>COUNTIFS(BD!$B:$B,$AG$91),\"\",INDEX(BD!$C$2:$C$138,SMALL(IF(BD!$B$2:$B$138=$AG$91,IF(BD!$B$2:$B$138=$AG$91,ROW(BD!$B$2:$B$138)-ROW(BD!$B$2)+1),FALSE),ROWS(BD!$1:6)))))","v":""},{"$f":"IF($AG$91=\"\",\"\",IF(ROWS(BD!$1:6)>COUNTIFS(BD!$B:$B,$AG$91),\"\",INDEX(BD!$E$2:$E$138,SMALL(IF(BD!$B$2:$B$138=$AG$91,IF(BD!$B$2:$B$138=$AG$91,ROW(BD!$B$2:$B$138)-ROW(BD!$B$2)+1),FALSE),ROWS(BD!$1:6)))))","v":""},{"$f":"IF($AG$91=\"\",\"\",IF(ROWS(BD!$1:6)>COUNTIFS(BD!$B:$B,$AG$91),\"\",INDEX(BD!$F$2:$F$138,SMALL(IF(BD!$B$2:$B$138=$AG$91,IF(BD!$B$2:$B$138=$AG$91,ROW(BD!$B$2:$B$138)-ROW(BD!$B$2)+1),FALSE),ROWS(BD!$1:6)))))","v":""},{"$f":"IF($AG$91=\"\",\"\",IF(ROWS(BD!$1:6)>COUNTIFS(BD!$B:$B,$AG$91),\"\",INDEX(BD!$G$2:$G$138,SMALL(IF(BD!$B$2:$B$138=$AG$91,IF(BD!$B$2:$B$138=$AG$91,ROW(BD!$B$2:$B$138)-ROW(BD!$B$2)+1),FALSE),ROWS(BD!$1:6)))))","v":""},{"$f":"IF($AG$91=\"\",\"\",IF(ROWS(BD!$1:6)>COUNTIFS(BD!$B:$B,$AG$91),\"\",INDEX(BD!$H$2:$H$138,SMALL(IF(BD!$B$2:$B$138=$AG$91,IF(BD!$B$2:$B$138=$AG$91,ROW(BD!$B$2:$B$138)-ROW(BD!$B$2)+1),FALSE),ROWS(BD!$1:6)))))","v":""},null,{"$f":"IF($AM$91=\"\",\"\",IF(ROWS(BD!$1:6)>COUNTIFS(BD!$B:$B,$AM$91),\"\",INDEX(BD!$C$2:$C$138,SMALL(IF(BD!$B$2:$B$138=$AM$91,IF(BD!$B$2:$B$138=$AM$91,ROW(BD!$B$2:$B$138)-ROW(BD!$B$2)+1),FALSE),ROWS(BD!$1:6)))))","v":""},{"$f":"IF($AM$91=\"\",\"\",IF(ROWS(BD!$1:6)>COUNTIFS(BD!$B:$B,$AM$91),\"\",INDEX(BD!$E$2:$E$138,SMALL(IF(BD!$B$2:$B$138=$AM$91,IF(BD!$B$2:$B$138=$AM$91,ROW(BD!$B$2:$B$138)-ROW(BD!$B$2)+1),FALSE),ROWS(BD!$1:6)))))","v":""},{"$f":"IF($AM$91=\"\",\"\",IF(ROWS(BD!$1:6)>COUNTIFS(BD!$B:$B,$AM$91),\"\",INDEX(BD!$F$2:$F$138,SMALL(IF(BD!$B$2:$B$138=$AM$91,IF(BD!$B$2:$B$138=$AM$91,ROW(BD!$B$2:$B$138)-ROW(BD!$B$2)+1),FALSE),ROWS(BD!$1:6)))))","v":""},{"$f":"IF($AM$91=\"\",\"\",IF(ROWS(BD!$1:6)>COUNTIFS(BD!$B:$B,$AM$91),\"\",INDEX(BD!$G$2:$G$138,SMALL(IF(BD!$B$2:$B$138=$AM$91,IF(BD!$B$2:$B$138=$AM$91,ROW(BD!$B$2:$B$138)-ROW(BD!$B$2)+1),FALSE),ROWS(BD!$1:6)))))","v":""},{"$f":"IF($AM$91=\"\",\"\",IF(ROWS(BD!$1:6)>COUNTIFS(BD!$B:$B,$AM$91),\"\",INDEX(BD!$H$2:$H$138,SMALL(IF(BD!$B$2:$B$138=$AM$91,IF(BD!$B$2:$B$138=$AM$91,ROW(BD!$B$2:$B$138)-ROW(BD!$B$2)+1),FALSE),ROWS(BD!$1:6)))))","v":""}]
[null,null,{"$f":"IF($C$91=\"\",\"\",IF(ROWS(BD!$1:7)>COUNTIFS(BD!$B:$B,$C$91),\"\",INDEX(BD!$C$2:$C$138,SMALL(IF(BD!$B$2:$B$138=$C$91,IF(BD!$B$2:$B$138=$C$91,ROW(BD!$B$2:$B$138)-ROW(BD!$B$2)+1),FALSE),ROWS(BD!$1:7)))))","v":""},{"$f":"IF($C$91=\"\",\"\",IF(ROWS(BD!$1:7)>COUNTIFS(BD!$B:$B,$C$91),\"\",INDEX(BD!$E$2:$E$138,SMALL(IF(BD!$B$2:$B$138=$C$91,IF(BD!$B$2:$B$138=$C$91,ROW(BD!$B$2:$B$138)-ROW(BD!$B$2)+1),FALSE),ROWS(BD!$1:7)))))","v":""},{"$f":"IF($C$91=\"\",\"\",IF(ROWS(BD!$1:7)>COUNTIFS(BD!$B:$B,$C$91),\"\",INDEX(BD!$F$2:$F$138,SMALL(IF(BD!$B$2:$B$138=$C$91,IF(BD!$B$2:$B$138=$C$91,ROW(BD!$B$2:$B$138)-ROW(BD!$B$2)+1),FALSE),ROWS(BD!$1:7)))))","v":""},{"$f":"IF($C$91=\"\",\"\",IF(ROWS(BD!$1:7)>COUNTIFS(BD!$B:$B,$C$91),\"\",INDEX(BD!$G$2:$G$138,SMALL(IF(BD!$B$2:$B$138=$C$91,IF(BD!$B$2:$B$138=$C$91,ROW(BD!$B$2:$B$138)-ROW(BD!$B$2)+1),FALSE),ROWS(BD!$1:7)))))","v":""},{"$f":"IF($C$91=\"\",\"\",IF(ROWS(BD!$1:7)>COUNTIFS(BD!$B:$B,$C$91),\"\",INDEX(BD!$H$2:$H$138,SMALL(IF(BD!$B$2:$B$138=$C$91,IF(BD!$B$2:$B$138=$C$91,ROW(BD!$B$2:$B$138)-ROW(BD!$B$2)+1),FALSE),ROWS(BD!$1:7)))))","v":""},null,{"$f":"IF($I$91=\"\",\"\",IF(ROWS(BD!$1:7)>COUNTIFS(BD!$B:$B,$I$91),\"\",INDEX(BD!$C$2:$C$138,SMALL(IF(BD!$B$2:$B$138=$I$91,IF(BD!$B$2:$B$138=$I$91,ROW(BD!$B$2:$B$138)-ROW(BD!$B$2)+1),FALSE),ROWS(BD!$1:7)))))","v":""},{"$f":"IF($I$91=\"\",\"\",IF(ROWS(BD!$1:7)>COUNTIFS(BD!$B:$B,$I$91),\"\",INDEX(BD!$E$2:$E$138,SMALL(IF(BD!$B$2:$B$138=$I$91,IF(BD!$B$2:$B$138=$I$91,ROW(BD!$B$2:$B$138)-ROW(BD!$B$2)+1),FALSE),ROWS(BD!$1:7)))))","v":""},{"$f":"IF($I$91=\"\",\"\",IF(ROWS(BD!$1:7)>COUNTIFS(BD!$B:$B,$I$91),\"\",INDEX(BD!$F$2:$F$138,SMALL(IF(BD!$B$2:$B$138=$I$91,IF(BD!$B$2:$B$138=$I$91,ROW(BD!$B$2:$B$138)-ROW(BD!$B$2)+1),FALSE),ROWS(BD!$1:7)))))","v":""},{"$f":"IF($I$91=\"\",\"\",IF(ROWS(BD!$1:7)>COUNTIFS(BD!$B:$B,$I$91),\"\",INDEX(BD!$G$2:$G$138,SMALL(IF(BD!$B$2:$B$138=$I$91,IF(BD!$B$2:$B$138=$I$91,ROW(BD!$B$2:$B$138)-ROW(BD!$B$2)+1),FALSE),ROWS(BD!$1:7)))))","v":""},{"$f":"IF($I$91=\"\",\"\",IF(ROWS(BD!$1:7)>COUNTIFS(BD!$B:$B,$I$91),\"\",INDEX(BD!$H$2:$H$138,SMALL(IF(BD!$B$2:$B$138=$I$91,IF(BD!$B$2:$B$138=$I$91,ROW(BD!$B$2:$B$138)-ROW(BD!$B$2)+1),FALSE),ROWS(BD!$1:7)))))","v":""},null,{"$f":"IF($O$91=\"\",\"\",IF(ROWS(BD!$1:7)>COUNTIFS(BD!$B:$B,$O$91),\"\",INDEX(BD!$C$2:$C$138,SMALL(IF(BD!$B$2:$B$138=$O$91,IF(BD!$B$2:$B$138=$O$91,ROW(BD!$B$2:$B$138)-ROW(BD!$B$2)+1),FALSE),ROWS(BD!$1:7)))))","v":""},{"$f":"IF($O$91=\"\",\"\",IF(ROWS(BD!$1:7)>COUNTIFS(BD!$B:$B,$O$91),\"\",INDEX(BD!$E$2:$E$138,SMALL(IF(BD!$B$2:$B$138=$O$91,IF(BD!$B$2:$B$138=$O$91,ROW(BD!$B$2:$B$138)-ROW(BD!$B$2)+1),FALSE),ROWS(BD!$1:7)))))","v":""},{"$f":"IF($O$91=\"\",\"\",IF(ROWS(BD!$1:7)>COUNTIFS(BD!$B:$B,$O$91),\"\",INDEX(BD!$F$2:$F$138,SMALL(IF(BD!$B$2:$B$138=$O$91,IF(BD!$B$2:$B$138=$O$91,ROW(BD!$B$2:$B$138)-ROW(BD!$B$2)+1),FALSE),ROWS(BD!$1:7)))))","v":""},{"$f":"IF($O$91=\"\",\"\",IF(ROWS(BD!$1:7)>COUNTIFS(BD!$B:$B,$O$91),\"\",INDEX(BD!$G$2:$G$138,SMALL(IF(BD!$B$2:$B$138=$O$91,IF(BD!$B$2:$B$138=$O$91,ROW(BD!$B$2:$B$138)-ROW(BD!$B$2)+1),FALSE),ROWS(BD!$1:7)))))","v":""},{"$f":"IF($O$91=\"\",\"\",IF(ROWS(BD!$1:7)>COUNTIFS(BD!$B:$B,$O$91),\"\",INDEX(BD!$H$2:$H$138,SMALL(IF(BD!$B$2:$B$138=$O$91,IF(BD!$B$2:$B$138=$O$91,ROW(BD!$B$2:$B$138)-ROW(BD!$B$2)+1),FALSE),ROWS(BD!$1:7)))))","v":""},null,{"$f":"IF($U$91=\"\",\"\",IF(ROWS(BD!$1:7)>COUNTIFS(BD!$B:$B,$U$91),\"\",INDEX(BD!$C$2:$C$138,SMALL(IF(BD!$B$2:$B$138=$U$91,IF(BD!$B$2:$B$138=$U$91,ROW(BD!$B$2:$B$138)-ROW(BD!$B$2)+1),FALSE),ROWS(BD!$1:7)))))","v":""},{"$f":"IF($U$91=\"\",\"\",IF(ROWS(BD!$1:7)>COUNTIFS(BD!$B:$B,$U$91),\"\",INDEX(BD!$E$2:$E$138,SMALL(IF(BD!$B$2:$B$138=$U$91,IF(BD!$B$2:$B$138=$U$91,ROW(BD!$B$2:$B$138)-ROW(BD!$B$2)+1),FALSE),ROWS(BD!$1:7)))))","v":""},{"$f":"IF($U$91=\"\",\"\",IF(ROWS(BD!$1:7)>COUNTIFS(BD!$B:$B,$U$91),\"\",INDEX(BD!$F$2:$F$138,SMALL(IF(BD!$B$2:$B$138=$U$91,IF(BD!$B$2:$B$138=$U$91,ROW(BD!$B$2:$B$138)-ROW(BD!$B$2)+1),FALSE),ROWS(BD!$1:7)))))","v":""},{"$f":"IF($U$91=\"\",\"\",IF(ROWS(BD!$1:7)>COUNTIFS(BD!$B:$B,$U$91),\"\",INDEX(BD!$G$2:$G$138,SMALL(IF(BD!$B$2:$B$138=$U$91,IF(BD!$B$2:$B$138=$U$91,ROW(BD!$B$2:$B$138)-ROW(BD!$B$2)+1),FALSE),ROWS(BD!$1:7)))))","v":""},{"$f":"IF($U$91=\"\",\"\",IF(ROWS(BD!$1:7)>COUNTIFS(BD!$B:$B,$U$91),\"\",INDEX(BD!$H$2:$H$138,SMALL(IF(BD!$B$2:$B$138=$U$91,IF(BD!$B$2:$B$138=$U$91,ROW(BD!$B$2:$B$138)-ROW(BD!$B$2)+1),FALSE),ROWS(BD!$1:7)))))","v":""},null,{"$f":"IF($AA$91=\"\",\"\",IF(ROWS(BD!$1:7)>COUNTIFS(BD!$B:$B,$AA$91),\"\",INDEX(BD!$C$2:$C$138,SMALL(IF(BD!$B$2:$B$138=$AA$91,IF(BD!$B$2:$B$138=$AA$91,ROW(BD!$B$2:$B$138)-ROW(BD!$B$2)+1),FALSE),ROWS(BD!$1:7)))))","v":""},{"$f":"IF($AA$91=\"\",\"\",IF(ROWS(BD!$1:7)>COUNTIFS(BD!$B:$B,$AA$91),\"\",INDEX(BD!$E$2:$E$138,SMALL(IF(BD!$B$2:$B$138=$AA$91,IF(BD!$B$2:$B$138=$AA$91,ROW(BD!$B$2:$B$138)-ROW(BD!$B$2)+1),FALSE),ROWS(BD!$1:7)))))","v":""},{"$f":"IF($AA$91=\"\",\"\",IF(ROWS(BD!$1:7)>COUNTIFS(BD!$B:$B,$AA$91),\"\",INDEX(BD!$F$2:$F$138,SMALL(IF(BD!$B$2:$B$138=$AA$91,IF(BD!$B$2:$B$138=$AA$91,ROW(BD!$B$2:$B$138)-ROW(BD!$B$2)+1),FALSE),ROWS(BD!$1:7)))))","v":""},{"$f":"IF($AA$91=\"\",\"\",IF(ROWS(BD!$1:7)>COUNTIFS(BD!$B:$B,$AA$91),\"\",INDEX(BD!$G$2:$G$138,SMALL(IF(BD!$B$2:$B$138=$AA$91,IF(BD!$B$2:$B$138=$AA$91,ROW(BD!$B$2:$B$138)-ROW(BD!$B$2)+1),FALSE),ROWS(BD!$1:7)))))","v":""},{"$f":"IF($AA$91=\"\",\"\",IF(ROWS(BD!$1:7)>COUNTIFS(BD!$B:$B,$AA$91),\"\",INDEX(BD!$H$2:$H$138,SMALL(IF(BD!$B$2:$B$138=$AA$91,IF(BD!$B$2:$B$138=$AA$91,ROW(BD!$B$2:$B$138)-ROW(BD!$B$2)+1),FALSE),ROWS(BD!$1:7)))))","v":""},null,{"$f":"IF($AG$91=\"\",\"\",IF(ROWS(BD!$1:7)>COUNTIFS(BD!$B:$B,$AG$91),\"\",INDEX(BD!$C$2:$C$138,SMALL(IF(BD!$B$2:$B$138=$AG$91,IF(BD!$B$2:$B$138=$AG$91,ROW(BD!$B$2:$B$138)-ROW(BD!$B$2)+1),FALSE),ROWS(BD!$1:7)))))","v":""},{"$f":"IF($AG$91=\"\",\"\",IF(ROWS(BD!$1:7)>COUNTIFS(BD!$B:$B,$AG$91),\"\",INDEX(BD!$E$2:$E$138,SMALL(IF(BD!$B$2:$B$138=$AG$91,IF(BD!$B$2:$B$138=$AG$91,ROW(BD!$B$2:$B$138)-ROW(BD!$B$2)+1),FALSE),ROWS(BD!$1:7)))))","v":""},{"$f":"IF($AG$91=\"\",\"\",IF(ROWS(BD!$1:7)>COUNTIFS(BD!$B:$B,$AG$91),\"\",INDEX(BD!$F$2:$F$138,SMALL(IF(BD!$B$2:$B$138=$AG$91,IF(BD!$B$2:$B$138=$AG$91,ROW(BD!$B$2:$B$138)-ROW(BD!$B$2)+1),FALSE),ROWS(BD!$1:7)))))","v":""},{"$f":"IF($AG$91=\"\",\"\",IF(ROWS(BD!$1:7)>COUNTIFS(BD!$B:$B,$AG$91),\"\",INDEX(BD!$G$2:$G$138,SMALL(IF(BD!$B$2:$B$138=$AG$91,IF(BD!$B$2:$B$138=$AG$91,ROW(BD!$B$2:$B$138)-ROW(BD!$B$2)+1),FALSE),ROWS(BD!$1:7)))))","v":""},{"$f":"IF($AG$91=\"\",\"\",IF(ROWS(BD!$1:7)>COUNTIFS(BD!$B:$B,$AG$91),\"\",INDEX(BD!$H$2:$H$138,SMALL(IF(BD!$B$2:$B$138=$AG$91,IF(BD!$B$2:$B$138=$AG$91,ROW(BD!$B$2:$B$138)-ROW(BD!$B$2)+1),FALSE),ROWS(BD!$1:7)))))","v":""},null,{"$f":"IF($AM$91=\"\",\"\",IF(ROWS(BD!$1:7)>COUNTIFS(BD!$B:$B,$AM$91),\"\",INDEX(BD!$C$2:$C$138,SMALL(IF(BD!$B$2:$B$138=$AM$91,IF(BD!$B$2:$B$138=$AM$91,ROW(BD!$B$2:$B$138)-ROW(BD!$B$2)+1),FALSE),ROWS(BD!$1:7)))))","v":""},{"$f":"IF($AM$91=\"\",\"\",IF(ROWS(BD!$1:7)>COUNTIFS(BD!$B:$B,$AM$91),\"\",INDEX(BD!$E$2:$E$138,SMALL(IF(BD!$B$2:$B$138=$AM$91,IF(BD!$B$2:$B$138=$AM$91,ROW(BD!$B$2:$B$138)-ROW(BD!$B$2)+1),FALSE),ROWS(BD!$1:7)))))","v":""},{"$f":"IF($AM$91=\"\",\"\",IF(ROWS(BD!$1:7)>COUNTIFS(BD!$B:$B,$AM$91),\"\",INDEX(BD!$F$2:$F$138,SMALL(IF(BD!$B$2:$B$138=$AM$91,IF(BD!$B$2:$B$138=$AM$91,ROW(BD!$B$2:$B$138)-ROW(BD!$B$2)+1),FALSE),ROWS(BD!$1:7)))))","v":""},{"$f":"IF($AM$91=\"\",\"\",IF(ROWS(BD!$1:7)>COUNTIFS(BD!$B:$B,$AM$91),\"\",INDEX(BD!$G$2:$G$138,SMALL(IF(BD!$B$2:$B$138=$AM$91,IF(BD!$B$2:$B$138=$AM$91,ROW(BD!$B$2:$B$138)-ROW(BD!$B$2)+1),FALSE),ROWS(BD!$1:7)))))","v":""},{"$f":"IF($AM$91=\"\",\"\",IF(ROWS(BD!$1:7)>COUNTIFS(BD!$B:$B,$AM$91),\"\",INDEX(BD!$H$2:$H$138,SMALL(IF(BD!$B$2:$B$138=$AM$91,IF(BD!$B$2:$B$138=$AM$91,ROW(BD!$B$2:$B$138)-ROW(BD!$B$2)+1),FALSE),ROWS(BD!$1:7)))))","v":""}]
[null,null,{"$f":"IF($C$91=\"\",\"\",IF(ROWS(BD!$1:8)>COUNTIFS(BD!$B:$B,$C$91),\"\",INDEX(BD!$C$2:$C$138,SMALL(IF(BD!$B$2:$B$138=$C$91,IF(BD!$B$2:$B$138=$C$91,ROW(BD!$B$2:$B$138)-ROW(BD!$B$2)+1),FALSE),ROWS(BD!$1:8)))))","v":""},{"$f":"IF($C$91=\"\",\"\",IF(ROWS(BD!$1:8)>COUNTIFS(BD!$B:$B,$C$91),\"\",INDEX(BD!$E$2:$E$138,SMALL(IF(BD!$B$2:$B$138=$C$91,IF(BD!$B$2:$B$138=$C$91,ROW(BD!$B$2:$B$138)-ROW(BD!$B$2)+1),FALSE),ROWS(BD!$1:8)))))","v":""},{"$f":"IF($C$91=\"\",\"\",IF(ROWS(BD!$1:8)>COUNTIFS(BD!$B:$B,$C$91),\"\",INDEX(BD!$F$2:$F$138,SMALL(IF(BD!$B$2:$B$138=$C$91,IF(BD!$B$2:$B$138=$C$91,ROW(BD!$B$2:$B$138)-ROW(BD!$B$2)+1),FALSE),ROWS(BD!$1:8)))))","v":""},{"$f":"IF($C$91=\"\",\"\",IF(ROWS(BD!$1:8)>COUNTIFS(BD!$B:$B,$C$91),\"\",INDEX(BD!$G$2:$G$138,SMALL(IF(BD!$B$2:$B$138=$C$91,IF(BD!$B$2:$B$138=$C$91,ROW(BD!$B$2:$B$138)-ROW(BD!$B$2)+1),FALSE),ROWS(BD!$1:8)))))","v":""},{"$f":"IF($C$91=\"\",\"\",IF(ROWS(BD!$1:8)>COUNTIFS(BD!$B:$B,$C$91),\"\",INDEX(BD!$H$2:$H$138,SMALL(IF(BD!$B$2:$B$138=$C$91,IF(BD!$B$2:$B$138=$C$91,ROW(BD!$B$2:$B$138)-ROW(BD!$B$2)+1),FALSE),ROWS(BD!$1:8)))))","v":""},null,{"$f":"IF($I$91=\"\",\"\",IF(ROWS(BD!$1:8)>COUNTIFS(BD!$B:$B,$I$91),\"\",INDEX(BD!$C$2:$C$138,SMALL(IF(BD!$B$2:$B$138=$I$91,IF(BD!$B$2:$B$138=$I$91,ROW(BD!$B$2:$B$138)-ROW(BD!$B$2)+1),FALSE),ROWS(BD!$1:8)))))","v":""},{"$f":"IF($I$91=\"\",\"\",IF(ROWS(BD!$1:8)>COUNTIFS(BD!$B:$B,$I$91),\"\",INDEX(BD!$E$2:$E$138,SMALL(IF(BD!$B$2:$B$138=$I$91,IF(BD!$B$2:$B$138=$I$91,ROW(BD!$B$2:$B$138)-ROW(BD!$B$2)+1),FALSE),ROWS(BD!$1:8)))))","v":""},{"$f":"IF($I$91=\"\",\"\",IF(ROWS(BD!$1:8)>COUNTIFS(BD!$B:$B,$I$91),\"\",INDEX(BD!$F$2:$F$138,SMALL(IF(BD!$B$2:$B$138=$I$91,IF(BD!$B$2:$B$138=$I$91,ROW(BD!$B$2:$B$138)-ROW(BD!$B$2)+1),FALSE),ROWS(BD!$1:8)))))","v":""},{"$f":"IF($I$91=\"\",\"\",IF(ROWS(BD!$1:8)>COUNTIFS(BD!$B:$B,$I$91),\"\",INDEX(BD!$G$2:$G$138,SMALL(IF(BD!$B$2:$B$138=$I$91,IF(BD!$B$2:$B$138=$I$91,ROW(BD!$B$2:$B$138)-ROW(BD!$B$2)+1),FALSE),ROWS(BD!$1:8)))))","v":""},{"$f":"IF($I$91=\"\",\"\",IF(ROWS(BD!$1:8)>COUNTIFS(BD!$B:$B,$I$91),\"\",INDEX(BD!$H$2:$H$138,SMALL(IF(BD!$B$2:$B$138=$I$91,IF(BD!$B$2:$B$138=$I$91,ROW(BD!$B$2:$B$138)-ROW(BD!$B$2)+1),FALSE),ROWS(BD!$1:8)))))","v":""},null,{"$f":"IF($O$91=\"\",\"\",IF(ROWS(BD!$1:8)>COUNTIFS(BD!$B:$B,$O$91),\"\",INDEX(BD!$C$2:$C$138,SMALL(IF(BD!$B$2:$B$138=$O$91,IF(BD!$B$2:$B$138=$O$91,ROW(BD!$B$2:$B$138)-ROW(BD!$B$2)+1),FALSE),ROWS(BD!$1:8)))))","v":""},{"$f":"IF($O$91=\"\",\"\",IF(ROWS(BD!$1:8)>COUNTIFS(BD!$B:$B,$O$91),\"\",INDEX(BD!$E$2:$E$138,SMALL(IF(BD!$B$2:$B$138=$O$91,IF(BD!$B$2:$B$138=$O$91,ROW(BD!$B$2:$B$138)-ROW(BD!$B$2)+1),FALSE),ROWS(BD!$1:8)))))","v":""},{"$f":"IF($O$91=\"\",\"\",IF(ROWS(BD!$1:8)>COUNTIFS(BD!$B:$B,$O$91),\"\",INDEX(BD!$F$2:$F$138,SMALL(IF(BD!$B$2:$B$138=$O$91,IF(BD!$B$2:$B$138=$O$91,ROW(BD!$B$2:$B$138)-ROW(BD!$B$2)+1),FALSE),ROWS(BD!$1:8)))))","v":""},{"$f":"IF($O$91=\"\",\"\",IF(ROWS(BD!$1:8)>COUNTIFS(BD!$B:$B,$O$91),\"\",INDEX(BD!$G$2:$G$138,SMALL(IF(BD!$B$2:$B$138=$O$91,IF(BD!$B$2:$B$138=$O$91,ROW(BD!$B$2:$B$138)-ROW(BD!$B$2)+1),FALSE),ROWS(BD!$1:8)))))","v":""},{"$f":"IF($O$91=\"\",\"\",IF(ROWS(BD!$1:8)>COUNTIFS(BD!$B:$B,$O$91),\"\",INDEX(BD!$H$2:$H$138,SMALL(IF(BD!$B$2:$B$138=$O$91,IF(BD!$B$2:$B$138=$O$91,ROW(BD!$B$2:$B$138)-ROW(BD!$B$2)+1),FALSE),ROWS(BD!$1:8)))))","v":""},null,{"$f":"IF($U$91=\"\",\"\",IF(ROWS(BD!$1:8)>COUNTIFS(BD!$B:$B,$U$91),\"\",INDEX(BD!$C$2:$C$138,SMALL(IF(BD!$B$2:$B$138=$U$91,IF(BD!$B$2:$B$138=$U$91,ROW(BD!$B$2:$B$138)-ROW(BD!$B$2)+1),FALSE),ROWS(BD!$1:8)))))","v":""},{"$f":"IF($U$91=\"\",\"\",IF(ROWS(BD!$1:8)>COUNTIFS(BD!$B:$B,$U$91),\"\",INDEX(BD!$E$2:$E$138,SMALL(IF(BD!$B$2:$B$138=$U$91,IF(BD!$B$2:$B$138=$U$91,ROW(BD!$B$2:$B$138)-ROW(BD!$B$2)+1),FALSE),ROWS(BD!$1:8)))))","v":""},{"$f":"IF($U$91=\"\",\"\",IF(ROWS(BD!$1:8)>COUNTIFS(BD!$B:$B,$U$91),\"\",INDEX(BD!$F$2:$F$138,SMALL(IF(BD!$B$2:$B$138=$U$91,IF(BD!$B$2:$B$138=$U$91,ROW(BD!$B$2:$B$138)-ROW(BD!$B$2)+1),FALSE),ROWS(BD!$1:8)))))","v":""},{"$f":"IF($U$91=\"\",\"\",IF(ROWS(BD!$1:8)>COUNTIFS(BD!$B:$B,$U$91),\"\",INDEX(BD!$G$2:$G$138,SMALL(IF(BD!$B$2:$B$138=$U$91,IF(BD!$B$2:$B$138=$U$91,ROW(BD!$B$2:$B$138)-ROW(BD!$B$2)+1),FALSE),ROWS(BD!$1:8)))))","v":""},{"$f":"IF($U$91=\"\",\"\",IF(ROWS(BD!$1:8)>COUNTIFS(BD!$B:$B,$U$91),\"\",INDEX(BD!$H$2:$H$138,SMALL(IF(BD!$B$2:$B$138=$U$91,IF(BD!$B$2:$B$138=$U$91,ROW(BD!$B$2:$B$138)-ROW(BD!$B$2)+1),FALSE),ROWS(BD!$1:8)))))","v":""},null,{"$f":"IF($AA$91=\"\",\"\",IF(ROWS(BD!$1:8)>COUNTIFS(BD!$B:$B,$AA$91),\"\",INDEX(BD!$C$2:$C$138,SMALL(IF(BD!$B$2:$B$138=$AA$91,IF(BD!$B$2:$B$138=$AA$91,ROW(BD!$B$2:$B$138)-ROW(BD!$B$2)+1),FALSE),ROWS(BD!$1:8)))))","v":""},{"$f":"IF($AA$91=\"\",\"\",IF(ROWS(BD!$1:8)>COUNTIFS(BD!$B:$B,$AA$91),\"\",INDEX(BD!$E$2:$E$138,SMALL(IF(BD!$B$2:$B$138=$AA$91,IF(BD!$B$2:$B$138=$AA$91,ROW(BD!$B$2:$B$138)-ROW(BD!$B$2)+1),FALSE),ROWS(BD!$1:8)))))","v":""},{"$f":"IF($AA$91=\"\",\"\",IF(ROWS(BD!$1:8)>COUNTIFS(BD!$B:$B,$AA$91),\"\",INDEX(BD!$F$2:$F$138,SMALL(IF(BD!$B$2:$B$138=$AA$91,IF(BD!$B$2:$B$138=$AA$91,ROW(BD!$B$2:$B$138)-ROW(BD!$B$2)+1),FALSE),ROWS(BD!$1:8)))))","v":""},{"$f":"IF($AA$91=\"\",\"\",IF(ROWS(BD!$1:8)>COUNTIFS(BD!$B:$B,$AA$91),\"\",INDEX(BD!$G$2:$G$138,SMALL(IF(BD!$B$2:$B$138=$AA$91,IF(BD!$B$2:$B$138=$AA$91,ROW(BD!$B$2:$B$138)-ROW(BD!$B$2)+1),FALSE),ROWS(BD!$1:8)))))","v":""},{"$f":"IF($AA$91=\"\",\"\",IF(ROWS(BD!$1:8)>COUNTIFS(BD!$B:$B,$AA$91),\"\",INDEX(BD!$H$2:$H$138,SMALL(IF(BD!$B$2:$B$138=$AA$91,IF(BD!$B$2:$B$138=$AA$91,ROW(BD!$B$2:$B$138)-ROW(BD!$B$2)+1),FALSE),ROWS(BD!$1:8)))))","v":""},null,{"$f":"IF($AG$91=\"\",\"\",IF(ROWS(BD!$1:8)>COUNTIFS(BD!$B:$B,$AG$91),\"\",INDEX(BD!$C$2:$C$138,SMALL(IF(BD!$B$2:$B$138=$AG$91,IF(BD!$B$2:$B$138=$AG$91,ROW(BD!$B$2:$B$138)-ROW(BD!$B$2)+1),FALSE),ROWS(BD!$1:8)))))","v":""},{"$f":"IF($AG$91=\"\",\"\",IF(ROWS(BD!$1:8)>COUNTIFS(BD!$B:$B,$AG$91),\"\",INDEX(BD!$E$2:$E$138,SMALL(IF(BD!$B$2:$B$138=$AG$91,IF(BD!$B$2:$B$138=$AG$91,ROW(BD!$B$2:$B$138)-ROW(BD!$B$2)+1),FALSE),ROWS(BD!$1:8)))))","v":""},{"$f":"IF($AG$91=\"\",\"\",IF(ROWS(BD!$1:8)>COUNTIFS(BD!$B:$B,$AG$91),\"\",INDEX(BD!$F$2:$F$138,SMALL(IF(BD!$B$2:$B$138=$AG$91,IF(BD!$B$2:$B$138=$AG$91,ROW(BD!$B$2:$B$138)-ROW(BD!$B$2)+1),FALSE),ROWS(BD!$1:8)))))","v":""},{"$f":"IF($AG$91=\"\",\"\",IF(ROWS(BD!$1:8)>COUNTIFS(BD!$B:$B,$AG$91),\"\",INDEX(BD!$G$2:$G$138,SMALL(IF(BD!$B$2:$B$138=$AG$91,IF(BD!$B$2:$B$138=$AG$91,ROW(BD!$B$2:$B$138)-ROW(BD!$B$2)+1),FALSE),ROWS(BD!$1:8)))))","v":""},{"$f":"IF($AG$91=\"\",\"\",IF(ROWS(BD!$1:8)>COUNTIFS(BD!$B:$B,$AG$91),\"\",INDEX(BD!$H$2:$H$138,SMALL(IF(BD!$B$2:$B$138=$AG$91,IF(BD!$B$2:$B$138=$AG$91,ROW(BD!$B$2:$B$138)-ROW(BD!$B$2)+1),FALSE),ROWS(BD!$1:8)))))","v":""},null,{"$f":"IF($AM$91=\"\",\"\",IF(ROWS(BD!$1:8)>COUNTIFS(BD!$B:$B,$AM$91),\"\",INDEX(BD!$C$2:$C$138,SMALL(IF(BD!$B$2:$B$138=$AM$91,IF(BD!$B$2:$B$138=$AM$91,ROW(BD!$B$2:$B$138)-ROW(BD!$B$2)+1),FALSE),ROWS(BD!$1:8)))))","v":""},{"$f":"IF($AM$91=\"\",\"\",IF(ROWS(BD!$1:8)>COUNTIFS(BD!$B:$B,$AM$91),\"\",INDEX(BD!$E$2:$E$138,SMALL(IF(BD!$B$2:$B$138=$AM$91,IF(BD!$B$2:$B$138=$AM$91,ROW(BD!$B$2:$B$138)-ROW(BD!$B$2)+1),FALSE),ROWS(BD!$1:8)))))","v":""},{"$f":"IF($AM$91=\"\",\"\",IF(ROWS(BD!$1:8)>COUNTIFS(BD!$B:$B,$AM$91),\"\",INDEX(BD!$F$2:$F$138,SMALL(IF(BD!$B$2:$B$138=$AM$91,IF(BD!$B$2:$B$138=$AM$91,ROW(BD!$B$2:$B$138)-ROW(BD!$B$2)+1),FALSE),ROWS(BD!$1:8)))))","v":""},{"$f":"IF($AM$91=\"\",\"\",IF(ROWS(BD!$1:8)>COUNTIFS(BD!$B:$B,$AM$91),\"\",INDEX(BD!$G$2:$G$138,SMALL(IF(BD!$B$2:$B$138=$AM$91,IF(BD!$B$2:$B$138=$AM$91,ROW(BD!$B$2:$B$138)-ROW(BD!$B$2)+1),FALSE),ROWS(BD!$1:8)))))","v":""},{"$f":"IF($AM$91=\"\",\"\",IF(ROWS(BD!$1:8)>COUNTIFS(BD!$B:$B,$AM$91),\"\",INDEX(BD!$H$2:$H$138,SMALL(IF(BD!$B$2:$B$138=$AM$91,IF(BD!$B$2:$B$138=$AM$91,ROW(BD!$B$2:$B$138)-ROW(BD!$B$2)+1),FALSE),ROWS(BD!$1:8)))))","v":""}]
[null,null,{"$f":"IF($C$91=\"\",\"\",IF(ROWS(BD!$1:9)>COUNTIFS(BD!$B:$B,$C$91),\"\",INDEX(BD!$C$2:$C$138,SMALL(IF(BD!$B$2:$B$138=$C$91,IF(BD!$B$2:$B$138=$C$91,ROW(BD!$B$2:$B$138)-ROW(BD!$B$2)+1),FALSE),ROWS(BD!$1:9)))))","v":""},{"$f":"IF($C$91=\"\",\"\",IF(ROWS(BD!$1:9)>COUNTIFS(BD!$B:$B,$C$91),\"\",INDEX(BD!$E$2:$E$138,SMALL(IF(BD!$B$2:$B$138=$C$91,IF(BD!$B$2:$B$138=$C$91,ROW(BD!$B$2:$B$138)-ROW(BD!$B$2)+1),FALSE),ROWS(BD!$1:9)))))","v":""},{"$f":"IF($C$91=\"\",\"\",IF(ROWS(BD!$1:9)>COUNTIFS(BD!$B:$B,$C$91),\"\",INDEX(BD!$F$2:$F$138,SMALL(IF(BD!$B$2:$B$138=$C$91,IF(BD!$B$2:$B$138=$C$91,ROW(BD!$B$2:$B$138)-ROW(BD!$B$2)+1),FALSE),ROWS(BD!$1:9)))))","v":""},{"$f":"IF($C$91=\"\",\"\",IF(ROWS(BD!$1:9)>COUNTIFS(BD!$B:$B,$C$91),\"\",INDEX(BD!$G$2:$G$138,SMALL(IF(BD!$B$2:$B$138=$C$91,IF(BD!$B$2:$B$138=$C$91,ROW(BD!$B$2:$B$138)-ROW(BD!$B$2)+1),FALSE),ROWS(BD!$1:9)))))","v":""},{"$f":"IF($C$91=\"\",\"\",IF(ROWS(BD!$1:9)>COUNTIFS(BD!$B:$B,$C$91),\"\",INDEX(BD!$H$2:$H$138,SMALL(IF(BD!$B$2:$B$138=$C$91,IF(BD!$B$2:$B$138=$C$91,ROW(BD!$B$2:$B$138)-ROW(BD!$B$2)+1),FALSE),ROWS(BD!$1:9)))))","v":""},null,{"$f":"IF($I$91=\"\",\"\",IF(ROWS(BD!$1:9)>COUNTIFS(BD!$B:$B,$I$91),\"\",INDEX(BD!$C$2:$C$138,SMALL(IF(BD!$B$2:$B$138=$I$91,IF(BD!$B$2:$B$138=$I$91,ROW(BD!$B$2:$B$138)-ROW(BD!$B$2)+1),FALSE),ROWS(BD!$1:9)))))","v":""},{"$f":"IF($I$91=\"\",\"\",IF(ROWS(BD!$1:9)>COUNTIFS(BD!$B:$B,$I$91),\"\",INDEX(BD!$E$2:$E$138,SMALL(IF(BD!$B$2:$B$138=$I$91,IF(BD!$B$2:$B$138=$I$91,ROW(BD!$B$2:$B$138)-ROW(BD!$B$2)+1),FALSE),ROWS(BD!$1:9)))))","v":""},{"$f":"IF($I$91=\"\",\"\",IF(ROWS(BD!$1:9)>COUNTIFS(BD!$B:$B,$I$91),\"\",INDEX(BD!$F$2:$F$138,SMALL(IF(BD!$B$2:$B$138=$I$91,IF(BD!$B$2:$B$138=$I$91,ROW(BD!$B$2:$B$138)-ROW(BD!$B$2)+1),FALSE),ROWS(BD!$1:9)))))","v":""},{"$f":"IF($I$91=\"\",\"\",IF(ROWS(BD!$1:9)>COUNTIFS(BD!$B:$B,$I$91),\"\",INDEX(BD!$G$2:$G$138,SMALL(IF(BD!$B$2:$B$138=$I$91,IF(BD!$B$2:$B$138=$I$91,ROW(BD!$B$2:$B$138)-ROW(BD!$B$2)+1),FALSE),ROWS(BD!$1:9)))))","v":""},{"$f":"IF($I$91=\"\",\"\",IF(ROWS(BD!$1:9)>COUNTIFS(BD!$B:$B,$I$91),\"\",INDEX(BD!$H$2:$H$138,SMALL(IF(BD!$B$2:$B$138=$I$91,IF(BD!$B$2:$B$138=$I$91,ROW(BD!$B$2:$B$138)-ROW(BD!$B$2)+1),FALSE),ROWS(BD!$1:9)))))","v":""},null,{"$f":"IF($O$91=\"\",\"\",IF(ROWS(BD!$1:9)>COUNTIFS(BD!$B:$B,$O$91),\"\",INDEX(BD!$C$2:$C$138,SMALL(IF(BD!$B$2:$B$138=$O$91,IF(BD!$B$2:$B$138=$O$91,ROW(BD!$B$2:$B$138)-ROW(BD!$B$2)+1),FALSE),ROWS(BD!$1:9)))))","v":""},{"$f":"IF($O$91=\"\",\"\",IF(ROWS(BD!$1:9)>COUNTIFS(BD!$B:$B,$O$91),\"\",INDEX(BD!$E$2:$E$138,SMALL(IF(BD!$B$2:$B$138=$O$91,IF(BD!$B$2:$B$138=$O$91,ROW(BD!$B$2:$B$138)-ROW(BD!$B$2)+1),FALSE),ROWS(BD!$1:9)))))","v":""},{"$f":"IF($O$91=\"\",\"\",IF(ROWS(BD!$1:9)>COUNTIFS(BD!$B:$B,$O$91),\"\",INDEX(BD!$F$2:$F$138,SMALL(IF(BD!$B$2:$B$138=$O$91,IF(BD!$B$2:$B$138=$O$91,ROW(BD!$B$2:$B$138)-ROW(BD!$B$2)+1),FALSE),ROWS(BD!$1:9)))))","v":""},{"$f":"IF($O$91=\"\",\"\",IF(ROWS(BD!$1:9)>COUNTIFS(BD!$B:$B,$O$91),\"\",INDEX(BD!$G$2:$G$138,SMALL(IF(BD!$B$2:$B$138=$O$91,IF(BD!$B$2:$B$138=$O$91,ROW(BD!$B$2:$B$138)-ROW(BD!$B$2)+1),FALSE),ROWS(BD!$1:9)))))","v":""},{"$f":"IF($O$91=\"\",\"\",IF(ROWS(BD!$1:9)>COUNTIFS(BD!$B:$B,$O$91),\"\",INDEX(BD!$H$2:$H$138,SMALL(IF(BD!$B$2:$B$138=$O$91,IF(BD!$B$2:$B$138=$O$91,ROW(BD!$B$2:$B$138)-ROW(BD!$B$2)+1),FALSE),ROWS(BD!$1:9)))))","v":""},null,{"$f":"IF($U$91=\"\",\"\",IF(ROWS(BD!$1:9)>COUNTIFS(BD!$B:$B,$U$91),\"\",INDEX(BD!$C$2:$C$138,SMALL(IF(BD!$B$2:$B$138=$U$91,IF(BD!$B$2:$B$138=$U$91,ROW(BD!$B$2:$B$138)-ROW(BD!$B$2)+1),FALSE),ROWS(BD!$1:9)))))","v":""},{"$f":"IF($U$91=\"\",\"\",IF(ROWS(BD!$1:9)>COUNTIFS(BD!$B:$B,$U$91),\"\",INDEX(BD!$E$2:$E$138,SMALL(IF(BD!$B$2:$B$138=$U$91,IF(BD!$B$2:$B$138=$U$91,ROW(BD!$B$2:$B$138)-ROW(BD!$B$2)+1),FALSE),ROWS(BD!$1:9)))))","v":""},{"$f":"IF($U$91=\"\",\"\",IF(ROWS(BD!$1:9)>COUNTIFS(BD!$B:$B,$U$91),\"\",INDEX(BD!$F$2:$F$138,SMALL(IF(BD!$B$2:$B$138=$U$91,IF(BD!$B$2:$B$138=$U$91,ROW(BD!$B$2:$B$138)-ROW(BD!$B$2)+1),FALSE),ROWS(BD!$1:9)))))","v":""},{"$f":"IF($U$91=\"\",\"\",IF(ROWS(BD!$1:9)>COUNTIFS(BD!$B:$B,$U$91),\"\",INDEX(BD!$G$2:$G$138,SMALL(IF(BD!$B$2:$B$138=$U$91,IF(BD!$B$2:$B$138=$U$91,ROW(BD!$B$2:$B$138)-ROW(BD!$B$2)+1),FALSE),ROWS(BD!$1:9)))))","v":""},{"$f":"IF($U$91=\"\",\"\",IF(ROWS(BD!$1:9)>COUNTIFS(BD!$B:$B,$U$91),\"\",INDEX(BD!$H$2:$H$138,SMALL(IF(BD!$B$2:$B$138=$U$91,IF(BD!$B$2:$B$138=$U$91,ROW(BD!$B$2:$B$138)-ROW(BD!$B$2)+1),FALSE),ROWS(BD!$1:9)))))","v":""},null,{"$f":"IF($AA$91=\"\",\"\",IF(ROWS(BD!$1:9)>COUNTIFS(BD!$B:$B,$AA$91),\"\",INDEX(BD!$C$2:$C$138,SMALL(IF(BD!$B$2:$B$138=$AA$91,IF(BD!$B$2:$B$138=$AA$91,ROW(BD!$B$2:$B$138)-ROW(BD!$B$2)+1),FALSE),ROWS(BD!$1:9)))))","v":""},{"$f":"IF($AA$91=\"\",\"\",IF(ROWS(BD!$1:9)>COUNTIFS(BD!$B:$B,$AA$91),\"\",INDEX(BD!$E$2:$E$138,SMALL(IF(BD!$B$2:$B$138=$AA$91,IF(BD!$B$2:$B$138=$AA$91,ROW(BD!$B$2:$B$138)-ROW(BD!$B$2)+1),FALSE),ROWS(BD!$1:9)))))","v":""},{"$f":"IF($AA$91=\"\",\"\",IF(ROWS(BD!$1:9)>COUNTIFS(BD!$B:$B,$AA$91),\"\",INDEX(BD!$F$2:$F$138,SMALL(IF(BD!$B$2:$B$138=$AA$91,IF(BD!$B$2:$B$138=$AA$91,ROW(BD!$B$2:$B$138)-ROW(BD!$B$2)+1),FALSE),ROWS(BD!$1:9)))))","v":""},{"$f":"IF($AA$91=\"\",\"\",IF(ROWS(BD!$1:9)>COUNTIFS(BD!$B:$B,$AA$91),\"\",INDEX(BD!$G$2:$G$138,SMALL(IF(BD!$B$2:$B$138=$AA$91,IF(BD!$B$2:$B$138=$AA$91,ROW(BD!$B$2:$B$138)-ROW(BD!$B$2)+1),FALSE),ROWS(BD!$1:9)))))","v":""},{"$f":"IF($AA$91=\"\",\"\",IF(ROWS(BD!$1:9)>COUNTIFS(BD!$B:$B,$AA$91),\"\",INDEX(BD!$H$2:$H$138,SMALL(IF(BD!$B$2:$B$138=$AA$91,IF(BD!$B$2:$B$138=$AA$91,ROW(BD!$B$2:$B$138)-ROW(BD!$B$2)+1),FALSE),ROWS(BD!$1:9)))))","v":""},null,{"$f":"IF($AG$91=\"\",\"\",IF(ROWS(BD!$1:9)>COUNTIFS(BD!$B:$B,$AG$91),\"\",INDEX(BD!$C$2:$C$138,SMALL(IF(BD!$B$2:$B$138=$AG$91,IF(BD!$B$2:$B$138=$AG$91,ROW(BD!$B$2:$B$138)-ROW(BD!$B$2)+1),FALSE),ROWS(BD!$1:9)))))","v":""},{"$f":"IF($AG$91=\"\",\"\",IF(ROWS(BD!$1:9)>COUNTIFS(BD!$B:$B,$AG$91),\"\",INDEX(BD!$E$2:$E$138,SMALL(IF(BD!$B$2:$B$138=$AG$91,IF(BD!$B$2:$B$138=$AG$91,ROW(BD!$B$2:$B$138)-ROW(BD!$B$2)+1),FALSE),ROWS(BD!$1:9)))))","v":""},{"$f":"IF($AG$91=\"\",\"\",IF(ROWS(BD!$1:9)>COUNTIFS(BD!$B:$B,$AG$91),\"\",INDEX(BD!$F$2:$F$138,SMALL(IF(BD!$B$2:$B$138=$AG$91,IF(BD!$B$2:$B$138=$AG$91,ROW(BD!$B$2:$B$138)-ROW(BD!$B$2)+1),FALSE),ROWS(BD!$1:9)))))","v":""},{"$f":"IF($AG$91=\"\",\"\",IF(ROWS(BD!$1:9)>COUNTIFS(BD!$B:$B,$AG$91),\"\",INDEX(BD!$G$2:$G$138,SMALL(IF(BD!$B$2:$B$138=$AG$91,IF(BD!$B$2:$B$138=$AG$91,ROW(BD!$B$2:$B$138)-ROW(BD!$B$2)+1),FALSE),ROWS(BD!$1:9)))))","v":""},{"$f":"IF($AG$91=\"\",\"\",IF(ROWS(BD!$1:9)>COUNTIFS(BD!$B:$B,$AG$91),\"\",INDEX(BD!$H$2:$H$138,SMALL(IF(BD!$B$2:$B$138=$AG$91,IF(BD!$B$2:$B$138=$AG$91,ROW(BD!$B$2:$B$138)-ROW(BD!$B$2)+1),FALSE),ROWS(BD!$1:9)))))","v":""},null,{"$f":"IF($AM$91=\"\",\"\",IF(ROWS(BD!$1:9)>COUNTIFS(BD!$B:$B,$AM$91),\"\",INDEX(BD!$C$2:$C$138,SMALL(IF(BD!$B$2:$B$138=$AM$91,IF(BD!$B$2:$B$138=$AM$91,ROW(BD!$B$2:$B$138)-ROW(BD!$B$2)+1),FALSE),ROWS(BD!$1:9)))))","v":""},{"$f":"IF($AM$91=\"\",\"\",IF(ROWS(BD!$1:9)>COUNTIFS(BD!$B:$B,$AM$91),\"\",INDEX(BD!$E$2:$E$138,SMALL(IF(BD!$B$2:$B$138=$AM$91,IF(BD!$B$2:$B$138=$AM$91,ROW(BD!$B$2:$B$138)-ROW(BD!$B$2)+1),FALSE),ROWS(BD!$1:9)))))","v":""},{"$f":"IF($AM$91=\"\",\"\",IF(ROWS(BD!$1:9)>COUNTIFS(BD!$B:$B,$AM$91),\"\",INDEX(BD!$F$2:$F$138,SMALL(IF(BD!$B$2:$B$138=$AM$91,IF(BD!$B$2:$B$138=$AM$91,ROW(BD!$B$2:$B$138)-ROW(BD!$B$2)+1),FALSE),ROWS(BD!$1:9)))))","v":""},{"$f":"IF($AM$91=\"\",\"\",IF(ROWS(BD!$1:9)>COUNTIFS(BD!$B:$B,$AM$91),\"\",INDEX(BD!$G$2:$G$138,SMALL(IF(BD!$B$2:$B$138=$AM$91,IF(BD!$B$2:$B$138=$AM$91,ROW(BD!$B$2:$B$138)-ROW(BD!$B$2)+1),FALSE),ROWS(BD!$1:9)))))","v":""},{"$f":"IF($AM$91=\"\",\"\",IF(ROWS(BD!$1:9)>COUNTIFS(BD!$B:$B,$AM$91),\"\",INDEX(BD!$H$2:$H$138,SMALL(IF(BD!$B$2:$B$138=$AM$91,IF(BD!$B$2:$B$138=$AM$91,ROW(BD!$B$2:$B$138)-ROW(BD!$B$2)+1),FALSE),ROWS(BD!$1:9)))))","v":""}]
[null,null,{"$f":"IF($C$91=\"\",\"\",IF(ROWS(BD!$1:10)>COUNTIFS(BD!$B:$B,$C$91),\"\",INDEX(BD!$C$2:$C$138,SMALL(IF(BD!$B$2:$B$138=$C$91,IF(BD!$B$2:$B$138=$C$91,ROW(BD!$B$2:$B$138)-ROW(BD!$B$2)+1),FALSE),ROWS(BD!$1:10)))))","v":""},{"$f":"IF($C$91=\"\",\"\",IF(ROWS(BD!$1:10)>COUNTIFS(BD!$B:$B,$C$91),\"\",INDEX(BD!$E$2:$E$138,SMALL(IF(BD!$B$2:$B$138=$C$91,IF(BD!$B$2:$B$138=$C$91,ROW(BD!$B$2:$B$138)-ROW(BD!$B$2)+1),FALSE),ROWS(BD!$1:10)))))","v":""},{"$f":"IF($C$91=\"\",\"\",IF(ROWS(BD!$1:10)>COUNTIFS(BD!$B:$B,$C$91),\"\",INDEX(BD!$F$2:$F$138,SMALL(IF(BD!$B$2:$B$138=$C$91,IF(BD!$B$2:$B$138=$C$91,ROW(BD!$B$2:$B$138)-ROW(BD!$B$2)+1),FALSE),ROWS(BD!$1:10)))))","v":""},{"$f":"IF($C$91=\"\",\"\",IF(ROWS(BD!$1:10)>COUNTIFS(BD!$B:$B,$C$91),\"\",INDEX(BD!$G$2:$G$138,SMALL(IF(BD!$B$2:$B$138=$C$91,IF(BD!$B$2:$B$138=$C$91,ROW(BD!$B$2:$B$138)-ROW(BD!$B$2)+1),FALSE),ROWS(BD!$1:10)))))","v":""},{"$f":"IF($C$91=\"\",\"\",IF(ROWS(BD!$1:10)>COUNTIFS(BD!$B:$B,$C$91),\"\",INDEX(BD!$H$2:$H$138,SMALL(IF(BD!$B$2:$B$138=$C$91,IF(BD!$B$2:$B$138=$C$91,ROW(BD!$B$2:$B$138)-ROW(BD!$B$2)+1),FALSE),ROWS(BD!$1:10)))))","v":""},null,{"$f":"IF($I$91=\"\",\"\",IF(ROWS(BD!$1:10)>COUNTIFS(BD!$B:$B,$I$91),\"\",INDEX(BD!$C$2:$C$138,SMALL(IF(BD!$B$2:$B$138=$I$91,IF(BD!$B$2:$B$138=$I$91,ROW(BD!$B$2:$B$138)-ROW(BD!$B$2)+1),FALSE),ROWS(BD!$1:10)))))","v":""},{"$f":"IF($I$91=\"\",\"\",IF(ROWS(BD!$1:10)>COUNTIFS(BD!$B:$B,$I$91),\"\",INDEX(BD!$E$2:$E$138,SMALL(IF(BD!$B$2:$B$138=$I$91,IF(BD!$B$2:$B$138=$I$91,ROW(BD!$B$2:$B$138)-ROW(BD!$B$2)+1),FALSE),ROWS(BD!$1:10)))))","v":""},{"$f":"IF($I$91=\"\",\"\",IF(ROWS(BD!$1:10)>COUNTIFS(BD!$B:$B,$I$91),\"\",INDEX(BD!$F$2:$F$138,SMALL(IF(BD!$B$2:$B$138=$I$91,IF(BD!$B$2:$B$138=$I$91,ROW(BD!$B$2:$B$138)-ROW(BD!$B$2)+1),FALSE),ROWS(BD!$1:10)))))","v":""},{"$f":"IF($I$91=\"\",\"\",IF(ROWS(BD!$1:10)>COUNTIFS(BD!$B:$B,$I$91),\"\",INDEX(BD!$G$2:$G$138,SMALL(IF(BD!$B$2:$B$138=$I$91,IF(BD!$B$2:$B$138=$I$91,ROW(BD!$B$2:$B$138)-ROW(BD!$B$2)+1),FALSE),ROWS(BD!$1:10)))))","v":""},{"$f":"IF($I$91=\"\",\"\",IF(ROWS(BD!$1:10)>COUNTIFS(BD!$B:$B,$I$91),\"\",INDEX(BD!$H$2:$H$138,SMALL(IF(BD!$B$2:$B$138=$I$91,IF(BD!$B$2:$B$138=$I$91,ROW(BD!$B$2:$B$138)-ROW(BD!$B$2)+1),FALSE),ROWS(BD!$1:10)))))","v":""},null,{"$f":"IF($O$91=\"\",\"\",IF(ROWS(BD!$1:10)>COUNTIFS(BD!$B:$B,$O$91),\"\",INDEX(BD!$C$2:$C$138,SMALL(IF(BD!$B$2:$B$138=$O$91,IF(BD!$B$2:$B$138=$O$91,ROW(BD!$B$2:$B$138)-ROW(BD!$B$2)+1),FALSE),ROWS(BD!$1:10)))))","v":""},{"$f":"IF($O$91=\"\",\"\",IF(ROWS(BD!$1:10)>COUNTIFS(BD!$B:$B,$O$91),\"\",INDEX(BD!$E$2:$E$138,SMALL(IF(BD!$B$2:$B$138=$O$91,IF(BD!$B$2:$B$138=$O$91,ROW(BD!$B$2:$B$138)-ROW(BD!$B$2)+1),FALSE),ROWS(BD!$1:10)))))","v":""},{"$f":"IF($O$91=\"\",\"\",IF(ROWS(BD!$1:10)>COUNTIFS(BD!$B:$B,$O$91),\"\",INDEX(BD!$F$2:$F$138,SMALL(IF(BD!$B$2:$B$138=$O$91,IF(BD!$B$2:$B$138=$O$91,ROW(BD!$B$2:$B$138)-ROW(BD!$B$2)+1),FALSE),ROWS(BD!$1:10)))))","v":""},{"$f":"IF($O$91=\"\",\"\",IF(ROWS(BD!$1:10)>COUNTIFS(BD!$B:$B,$O$91),\"\",INDEX(BD!$G$2:$G$138,SMALL(IF(BD!$B$2:$B$138=$O$91,IF(BD!$B$2:$B$138=$O$91,ROW(BD!$B$2:$B$138)-ROW(BD!$B$2)+1),FALSE),ROWS(BD!$1:10)))))","v":""},{"$f":"IF($O$91=\"\",\"\",IF(ROWS(BD!$1:10)>COUNTIFS(BD!$B:$B,$O$91),\"\",INDEX(BD!$H$2:$H$138,SMALL(IF(BD!$B$2:$B$138=$O$91,IF(BD!$B$2:$B$138=$O$91,ROW(BD!$B$2:$B$138)-ROW(BD!$B$2)+1),FALSE),ROWS(BD!$1:10)))))","v":""},null,{"$f":"IF($U$91=\"\",\"\",IF(ROWS(BD!$1:10)>COUNTIFS(BD!$B:$B,$U$91),\"\",INDEX(BD!$C$2:$C$138,SMALL(IF(BD!$B$2:$B$138=$U$91,IF(BD!$B$2:$B$138=$U$91,ROW(BD!$B$2:$B$138)-ROW(BD!$B$2)+1),FALSE),ROWS(BD!$1:10)))))","v":""},{"$f":"IF($U$91=\"\",\"\",IF(ROWS(BD!$1:10)>COUNTIFS(BD!$B:$B,$U$91),\"\",INDEX(BD!$E$2:$E$138,SMALL(IF(BD!$B$2:$B$138=$U$91,IF(BD!$B$2:$B$138=$U$91,ROW(BD!$B$2:$B$138)-ROW(BD!$B$2)+1),FALSE),ROWS(BD!$1:10)))))","v":""},{"$f":"IF($U$91=\"\",\"\",IF(ROWS(BD!$1:10)>COUNTIFS(BD!$B:$B,$U$91),\"\",INDEX(BD!$F$2:$F$138,SMALL(IF(BD!$B$2:$B$138=$U$91,IF(BD!$B$2:$B$138=$U$91,ROW(BD!$B$2:$B$138)-ROW(BD!$B$2)+1),FALSE),ROWS(BD!$1:10)))))","v":""},{"$f":"IF($U$91=\"\",\"\",IF(ROWS(BD!$1:10)>COUNTIFS(BD!$B:$B,$U$91),\"\",INDEX(BD!$G$2:$G$138,SMALL(IF(BD!$B$2:$B$138=$U$91,IF(BD!$B$2:$B$138=$U$91,ROW(BD!$B$2:$B$138)-ROW(BD!$B$2)+1),FALSE),ROWS(BD!$1:10)))))","v":""},{"$f":"IF($U$91=\"\",\"\",IF(ROWS(BD!$1:10)>COUNTIFS(BD!$B:$B,$U$91),\"\",INDEX(BD!$H$2:$H$138,SMALL(IF(BD!$B$2:$B$138=$U$91,IF(BD!$B$2:$B$138=$U$91,ROW(BD!$B$2:$B$138)-ROW(BD!$B$2)+1),FALSE),ROWS(BD!$1:10)))))","v":""},null,{"$f":"IF($AA$91=\"\",\"\",IF(ROWS(BD!$1:10)>COUNTIFS(BD!$B:$B,$AA$91),\"\",INDEX(BD!$C$2:$C$138,SMALL(IF(BD!$B$2:$B$138=$AA$91,IF(BD!$B$2:$B$138=$AA$91,ROW(BD!$B$2:$B$138)-ROW(BD!$B$2)+1),FALSE),ROWS(BD!$1:10)))))","v":""},{"$f":"IF($AA$91=\"\",\"\",IF(ROWS(BD!$1:10)>COUNTIFS(BD!$B:$B,$AA$91),\"\",INDEX(BD!$E$2:$E$138,SMALL(IF(BD!$B$2:$B$138=$AA$91,IF(BD!$B$2:$B$138=$AA$91,ROW(BD!$B$2:$B$138)-ROW(BD!$B$2)+1),FALSE),ROWS(BD!$1:10)))))","v":""},{"$f":"IF($AA$91=\"\",\"\",IF(ROWS(BD!$1:10)>COUNTIFS(BD!$B:$B,$AA$91),\"\",INDEX(BD!$F$2:$F$138,SMALL(IF(BD!$B$2:$B$138=$AA$91,IF(BD!$B$2:$B$138=$AA$91,ROW(BD!$B$2:$B$138)-ROW(BD!$B$2)+1),FALSE),ROWS(BD!$1:10)))))","v":""},{"$f":"IF($AA$91=\"\",\"\",IF(ROWS(BD!$1:10)>COUNTIFS(BD!$B:$B,$AA$91),\"\",INDEX(BD!$G$2:$G$138,SMALL(IF(BD!$B$2:$B$138=$AA$91,IF(BD!$B$2:$B$138=$AA$91,ROW(BD!$B$2:$B$138)-ROW(BD!$B$2)+1),FALSE),ROWS(BD!$1:10)))))","v":""},{"$f":"IF($AA$91=\"\",\"\",IF(ROWS(BD!$1:10)>COUNTIFS(BD!$B:$B,$AA$91),\"\",INDEX(BD!$H$2:$H$138,SMALL(IF(BD!$B$2:$B$138=$AA$91,IF(BD!$B$2:$B$138=$AA$91,ROW(BD!$B$2:$B$138)-ROW(BD!$B$2)+1),FALSE),ROWS(BD!$1:10)))))","v":""},null,{"$f":"IF($AG$91=\"\",\"\",IF(ROWS(BD!$1:10)>COUNTIFS(BD!$B:$B,$AG$91),\"\",INDEX(BD!$C$2:$C$138,SMALL(IF(BD!$B$2:$B$138=$AG$91,IF(BD!$B$2:$B$138=$AG$91,ROW(BD!$B$2:$B$138)-ROW(BD!$B$2)+1),FALSE),ROWS(BD!$1:10)))))","v":""},{"$f":"IF($AG$91=\"\",\"\",IF(ROWS(BD!$1:10)>COUNTIFS(BD!$B:$B,$AG$91),\"\",INDEX(BD!$E$2:$E$138,SMALL(IF(BD!$B$2:$B$138=$AG$91,IF(BD!$B$2:$B$138=$AG$91,ROW(BD!$B$2:$B$138)-ROW(BD!$B$2)+1),FALSE),ROWS(BD!$1:10)))))","v":""},{"$f":"IF($AG$91=\"\",\"\",IF(ROWS(BD!$1:10)>COUNTIFS(BD!$B:$B,$AG$91),\"\",INDEX(BD!$F$2:$F$138,SMALL(IF(BD!$B$2:$B$138=$AG$91,IF(BD!$B$2:$B$138=$AG$91,ROW(BD!$B$2:$B$138)-ROW(BD!$B$2)+1),FALSE),ROWS(BD!$1:10)))))","v":""},{"$f":"IF($AG$91=\"\",\"\",IF(ROWS(BD!$1:10)>COUNTIFS(BD!$B:$B,$AG$91),\"\",INDEX(BD!$G$2:$G$138,SMALL(IF(BD!$B$2:$B$138=$AG$91,IF(BD!$B$2:$B$138=$AG$91,ROW(BD!$B$2:$B$138)-ROW(BD!$B$2)+1),FALSE),ROWS(BD!$1:10)))))","v":""},{"$f":"IF($AG$91=\"\",\"\",IF(ROWS(BD!$1:10)>COUNTIFS(BD!$B:$B,$AG$91),\"\",INDEX(BD!$H$2:$H$138,SMALL(IF(BD!$B$2:$B$138=$AG$91,IF(BD!$B$2:$B$138=$AG$91,ROW(BD!$B$2:$B$138)-ROW(BD!$B$2)+1),FALSE),ROWS(BD!$1:10)))))","v":""},null,{"$f":"IF($AM$91=\"\",\"\",IF(ROWS(BD!$1:10)>COUNTIFS(BD!$B:$B,$AM$91),\"\",INDEX(BD!$C$2:$C$138,SMALL(IF(BD!$B$2:$B$138=$AM$91,IF(BD!$B$2:$B$138=$AM$91,ROW(BD!$B$2:$B$138)-ROW(BD!$B$2)+1),FALSE),ROWS(BD!$1:10)))))","v":""},{"$f":"IF($AM$91=\"\",\"\",IF(ROWS(BD!$1:10)>COUNTIFS(BD!$B:$B,$AM$91),\"\",INDEX(BD!$E$2:$E$138,SMALL(IF(BD!$B$2:$B$138=$AM$91,IF(BD!$B$2:$B$138=$AM$91,ROW(BD!$B$2:$B$138)-ROW(BD!$B$2)+1),FALSE),ROWS(BD!$1:10)))))","v":""},{"$f":"IF($AM$91=\"\",\"\",IF(ROWS(BD!$1:10)>COUNTIFS(BD!$B:$B,$AM$91),\"\",INDEX(BD!$F$2:$F$138,SMALL(IF(BD!$B$2:$B$138=$AM$91,IF(BD!$B$2:$B$138=$AM$91,ROW(BD!$B$2:$B$138)-ROW(BD!$B$2)+1),FALSE),ROWS(BD!$1:10)))))","v":""},{"$f":"IF($AM$91=\"\",\"\",IF(ROWS(BD!$1:10)>COUNTIFS(BD!$B:$B,$AM$91),\"\",INDEX(BD!$G$2:$G$138,SMALL(IF(BD!$B$2:$B$138=$AM$91,IF(BD!$B$2:$B$138=$AM$91,ROW(BD!$B$2:$B$138)-ROW(BD!$B$2)+1),FALSE),ROWS(BD!$1:10)))))","v":""},{"$f":"IF($AM$91=\"\",\"\",IF(ROWS(BD!$1:10)>COUNTIFS(BD!$B:$B,$AM$91),\"\",INDEX(BD!$H$2:$H$138,SMALL(IF(BD!$B$2:$B$138=$AM$91,IF(BD!$B$2:$B$138=$AM$91,ROW(BD!$B$2:$B$138)-ROW(BD!$B$2)+1),FALSE),ROWS(BD!$1:10)))))","v":""}]
[null,null,{"$f":"IF($C$91=\"\",\"\",IF(ROWS(BD!$1:11)>COUNTIFS(BD!$B:$B,$C$91),\"\",INDEX(BD!$C$2:$C$138,SMALL(IF(BD!$B$2:$B$138=$C$91,IF(BD!$B$2:$B$138=$C$91,ROW(BD!$B$2:$B$138)-ROW(BD!$B$2)+1),FALSE),ROWS(BD!$1:11)))))","v":""},{"$f":"IF($C$91=\"\",\"\",IF(ROWS(BD!$1:11)>COUNTIFS(BD!$B:$B,$C$91),\"\",INDEX(BD!$E$2:$E$138,SMALL(IF(BD!$B$2:$B$138=$C$91,IF(BD!$B$2:$B$138=$C$91,ROW(BD!$B$2:$B$138)-ROW(BD!$B$2)+1),FALSE),ROWS(BD!$1:11)))))","v":""},{"$f":"IF($C$91=\"\",\"\",IF(ROWS(BD!$1:11)>COUNTIFS(BD!$B:$B,$C$91),\"\",INDEX(BD!$F$2:$F$138,SMALL(IF(BD!$B$2:$B$138=$C$91,IF(BD!$B$2:$B$138=$C$91,ROW(BD!$B$2:$B$138)-ROW(BD!$B$2)+1),FALSE),ROWS(BD!$1:11)))))","v":""},{"$f":"IF($C$91=\"\",\"\",IF(ROWS(BD!$1:11)>COUNTIFS(BD!$B:$B,$C$91),\"\",INDEX(BD!$G$2:$G$138,SMALL(IF(BD!$B$2:$B$138=$C$91,IF(BD!$B$2:$B$138=$C$91,ROW(BD!$B$2:$B$138)-ROW(BD!$B$2)+1),FALSE),ROWS(BD!$1:11)))))","v":""},{"$f":"IF($C$91=\"\",\"\",IF(ROWS(BD!$1:11)>COUNTIFS(BD!$B:$B,$C$91),\"\",INDEX(BD!$H$2:$H$138,SMALL(IF(BD!$B$2:$B$138=$C$91,IF(BD!$B$2:$B$138=$C$91,ROW(BD!$B$2:$B$138)-ROW(BD!$B$2)+1),FALSE),ROWS(BD!$1:11)))))","v":""},null,{"$f":"IF($I$91=\"\",\"\",IF(ROWS(BD!$1:11)>COUNTIFS(BD!$B:$B,$I$91),\"\",INDEX(BD!$C$2:$C$138,SMALL(IF(BD!$B$2:$B$138=$I$91,IF(BD!$B$2:$B$138=$I$91,ROW(BD!$B$2:$B$138)-ROW(BD!$B$2)+1),FALSE),ROWS(BD!$1:11)))))","v":""},{"$f":"IF($I$91=\"\",\"\",IF(ROWS(BD!$1:11)>COUNTIFS(BD!$B:$B,$I$91),\"\",INDEX(BD!$E$2:$E$138,SMALL(IF(BD!$B$2:$B$138=$I$91,IF(BD!$B$2:$B$138=$I$91,ROW(BD!$B$2:$B$138)-ROW(BD!$B$2)+1),FALSE),ROWS(BD!$1:11)))))","v":""},{"$f":"IF($I$91=\"\",\"\",IF(ROWS(BD!$1:11)>COUNTIFS(BD!$B:$B,$I$91),\"\",INDEX(BD!$F$2:$F$138,SMALL(IF(BD!$B$2:$B$138=$I$91,IF(BD!$B$2:$B$138=$I$91,ROW(BD!$B$2:$B$138)-ROW(BD!$B$2)+1),FALSE),ROWS(BD!$1:11)))))","v":""},{"$f":"IF($I$91=\"\",\"\",IF(ROWS(BD!$1:11)>COUNTIFS(BD!$B:$B,$I$91),\"\",INDEX(BD!$G$2:$G$138,SMALL(IF(BD!$B$2:$B$138=$I$91,IF(BD!$B$2:$B$138=$I$91,ROW(BD!$B$2:$B$138)-ROW(BD!$B$2)+1),FALSE),ROWS(BD!$1:11)))))","v":""},{"$f":"IF($I$91=\"\",\"\",IF(ROWS(BD!$1:11)>COUNTIFS(BD!$B:$B,$I$91),\"\",INDEX(BD!$H$2:$H$138,SMALL(IF(BD!$B$2:$B$138=$I$91,IF(BD!$B$2:$B$138=$I$91,ROW(BD!$B$2:$B$138)-ROW(BD!$B$2)+1),FALSE),ROWS(BD!$1:11)))))","v":""},null,{"$f":"IF($O$91=\"\",\"\",IF(ROWS(BD!$1:11)>COUNTIFS(BD!$B:$B,$O$91),\"\",INDEX(BD!$C$2:$C$138,SMALL(IF(BD!$B$2:$B$138=$O$91,IF(BD!$B$2:$B$138=$O$91,ROW(BD!$B$2:$B$138)-ROW(BD!$B$2)+1),FALSE),ROWS(BD!$1:11)))))","v":""},{"$f":"IF($O$91=\"\",\"\",IF(ROWS(BD!$1:11)>COUNTIFS(BD!$B:$B,$O$91),\"\",INDEX(BD!$E$2:$E$138,SMALL(IF(BD!$B$2:$B$138=$O$91,IF(BD!$B$2:$B$138=$O$91,ROW(BD!$B$2:$B$138)-ROW(BD!$B$2)+1),FALSE),ROWS(BD!$1:11)))))","v":""},{"$f":"IF($O$91=\"\",\"\",IF(ROWS(BD!$1:11)>COUNTIFS(BD!$B:$B,$O$91),\"\",INDEX(BD!$F$2:$F$138,SMALL(IF(BD!$B$2:$B$138=$O$91,IF(BD!$B$2:$B$138=$O$91,ROW(BD!$B$2:$B$138)-ROW(BD!$B$2)+1),FALSE),ROWS(BD!$1:11)))))","v":""},{"$f":"IF($O$91=\"\",\"\",IF(ROWS(BD!$1:11)>COUNTIFS(BD!$B:$B,$O$91),\"\",INDEX(BD!$G$2:$G$138,SMALL(IF(BD!$B$2:$B$138=$O$91,IF(BD!$B$2:$B$138=$O$91,ROW(BD!$B$2:$B$138)-ROW(BD!$B$2)+1),FALSE),ROWS(BD!$1:11)))))","v":""},{"$f":"IF($O$91=\"\",\"\",IF(ROWS(BD!$1:11)>COUNTIFS(BD!$B:$B,$O$91),\"\",INDEX(BD!$H$2:$H$138,SMALL(IF(BD!$B$2:$B$138=$O$91,IF(BD!$B$2:$B$138=$O$91,ROW(BD!$B$2:$B$138)-ROW(BD!$B$2)+1),FALSE),ROWS(BD!$1:11)))))","v":""},null,{"$f":"IF($U$91=\"\",\"\",IF(ROWS(BD!$1:11)>COUNTIFS(BD!$B:$B,$U$91),\"\",INDEX(BD!$C$2:$C$138,SMALL(IF(BD!$B$2:$B$138=$U$91,IF(BD!$B$2:$B$138=$U$91,ROW(BD!$B$2:$B$138)-ROW(BD!$B$2)+1),FALSE),ROWS(BD!$1:11)))))","v":""},{"$f":"IF($U$91=\"\",\"\",IF(ROWS(BD!$1:11)>COUNTIFS(BD!$B:$B,$U$91),\"\",INDEX(BD!$E$2:$E$138,SMALL(IF(BD!$B$2:$B$138=$U$91,IF(BD!$B$2:$B$138=$U$91,ROW(BD!$B$2:$B$138)-ROW(BD!$B$2)+1),FALSE),ROWS(BD!$1:11)))))","v":""},{"$f":"IF($U$91=\"\",\"\",IF(ROWS(BD!$1:11)>COUNTIFS(BD!$B:$B,$U$91),\"\",INDEX(BD!$F$2:$F$138,SMALL(IF(BD!$B$2:$B$138=$U$91,IF(BD!$B$2:$B$138=$U$91,ROW(BD!$B$2:$B$138)-ROW(BD!$B$2)+1),FALSE),ROWS(BD!$1:11)))))","v":""},{"$f":"IF($U$91=\"\",\"\",IF(ROWS(BD!$1:11)>COUNTIFS(BD!$B:$B,$U$91),\"\",INDEX(BD!$G$2:$G$138,SMALL(IF(BD!$B$2:$B$138=$U$91,IF(BD!$B$2:$B$138=$U$91,ROW(BD!$B$2:$B$138)-ROW(BD!$B$2)+1),FALSE),ROWS(BD!$1:11)))))","v":""},{"$f":"IF($U$91=\"\",\"\",IF(ROWS(BD!$1:11)>COUNTIFS(BD!$B:$B,$U$91),\"\",INDEX(BD!$H$2:$H$138,SMALL(IF(BD!$B$2:$B$138=$U$91,IF(BD!$B$2:$B$138=$U$91,ROW(BD!$B$2:$B$138)-ROW(BD!$B$2)+1),FALSE),ROWS(BD!$1:11)))))","v":""},null,{"$f":"IF($AA$91=\"\",\"\",IF(ROWS(BD!$1:11)>COUNTIFS(BD!$B:$B,$AA$91),\"\",INDEX(BD!$C$2:$C$138,SMALL(IF(BD!$B$2:$B$138=$AA$91,IF(BD!$B$2:$B$138=$AA$91,ROW(BD!$B$2:$B$138)-ROW(BD!$B$2)+1),FALSE),ROWS(BD!$1:11)))))","v":""},{"$f":"IF($AA$91=\"\",\"\",IF(ROWS(BD!$1:11)>COUNTIFS(BD!$B:$B,$AA$91),\"\",INDEX(BD!$E$2:$E$138,SMALL(IF(BD!$B$2:$B$138=$AA$91,IF(BD!$B$2:$B$138=$AA$91,ROW(BD!$B$2:$B$138)-ROW(BD!$B$2)+1),FALSE),ROWS(BD!$1:11)))))","v":""},{"$f":"IF($AA$91=\"\",\"\",IF(ROWS(BD!$1:11)>COUNTIFS(BD!$B:$B,$AA$91),\"\",INDEX(BD!$F$2:$F$138,SMALL(IF(BD!$B$2:$B$138=$AA$91,IF(BD!$B$2:$B$138=$AA$91,ROW(BD!$B$2:$B$138)-ROW(BD!$B$2)+1),FALSE),ROWS(BD!$1:11)))))","v":""},{"$f":"IF($AA$91=\"\",\"\",IF(ROWS(BD!$1:11)>COUNTIFS(BD!$B:$B,$AA$91),\"\",INDEX(BD!$G$2:$G$138,SMALL(IF(BD!$B$2:$B$138=$AA$91,IF(BD!$B$2:$B$138=$AA$91,ROW(BD!$B$2:$B$138)-ROW(BD!$B$2)+1),FALSE),ROWS(BD!$1:11)))))","v":""},{"$f":"IF($AA$91=\"\",\"\",IF(ROWS(BD!$1:11)>COUNTIFS(BD!$B:$B,$AA$91),\"\",INDEX(BD!$H$2:$H$138,SMALL(IF(BD!$B$2:$B$138=$AA$91,IF(BD!$B$2:$B$138=$AA$91,ROW(BD!$B$2:$B$138)-ROW(BD!$B$2)+1),FALSE),ROWS(BD!$1:11)))))","v":""},null,{"$f":"IF($AG$91=\"\",\"\",IF(ROWS(BD!$1:11)>COUNTIFS(BD!$B:$B,$AG$91),\"\",INDEX(BD!$C$2:$C$138,SMALL(IF(BD!$B$2:$B$138=$AG$91,IF(BD!$B$2:$B$138=$AG$91,ROW(BD!$B$2:$B$138)-ROW(BD!$B$2)+1),FALSE),ROWS(BD!$1:11)))))","v":""},{"$f":"IF($AG$91=\"\",\"\",IF(ROWS(BD!$1:11)>COUNTIFS(BD!$B:$B,$AG$91),\"\",INDEX(BD!$E$2:$E$138,SMALL(IF(BD!$B$2:$B$138=$AG$91,IF(BD!$B$2:$B$138=$AG$91,ROW(BD!$B$2:$B$138)-ROW(BD!$B$2)+1),FALSE),ROWS(BD!$1:11)))))","v":""},{"$f":"IF($AG$91=\"\",\"\",IF(ROWS(BD!$1:11)>COUNTIFS(BD!$B:$B,$AG$91),\"\",INDEX(BD!$F$2:$F$138,SMALL(IF(BD!$B$2:$B$138=$AG$91,IF(BD!$B$2:$B$138=$AG$91,ROW(BD!$B$2:$B$138)-ROW(BD!$B$2)+1),FALSE),ROWS(BD!$1:11)))))","v":""},{"$f":"IF($AG$91=\"\",\"\",IF(ROWS(BD!$1:11)>COUNTIFS(BD!$B:$B,$AG$91),\"\",INDEX(BD!$G$2:$G$138,SMALL(IF(BD!$B$2:$B$138=$AG$91,IF(BD!$B$2:$B$138=$AG$91,ROW(BD!$B$2:$B$138)-ROW(BD!$B$2)+1),FALSE),ROWS(BD!$1:11)))))","v":""},{"$f":"IF($AG$91=\"\",\"\",IF(ROWS(BD!$1:11)>COUNTIFS(BD!$B:$B,$AG$91),\"\",INDEX(BD!$H$2:$H$138,SMALL(IF(BD!$B$2:$B$138=$AG$91,IF(BD!$B$2:$B$138=$AG$91,ROW(BD!$B$2:$B$138)-ROW(BD!$B$2)+1),FALSE),ROWS(BD!$1:11)))))","v":""},null,{"$f":"IF($AM$91=\"\",\"\",IF(ROWS(BD!$1:11)>COUNTIFS(BD!$B:$B,$AM$91),\"\",INDEX(BD!$C$2:$C$138,SMALL(IF(BD!$B$2:$B$138=$AM$91,IF(BD!$B$2:$B$138=$AM$91,ROW(BD!$B$2:$B$138)-ROW(BD!$B$2)+1),FALSE),ROWS(BD!$1:11)))))","v":""},{"$f":"IF($AM$91=\"\",\"\",IF(ROWS(BD!$1:11)>COUNTIFS(BD!$B:$B,$AM$91),\"\",INDEX(BD!$E$2:$E$138,SMALL(IF(BD!$B$2:$B$138=$AM$91,IF(BD!$B$2:$B$138=$AM$91,ROW(BD!$B$2:$B$138)-ROW(BD!$B$2)+1),FALSE),ROWS(BD!$1:11)))))","v":""},{"$f":"IF($AM$91=\"\",\"\",IF(ROWS(BD!$1:11)>COUNTIFS(BD!$B:$B,$AM$91),\"\",INDEX(BD!$F$2:$F$138,SMALL(IF(BD!$B$2:$B$138=$AM$91,IF(BD!$B$2:$B$138=$AM$91,ROW(BD!$B$2:$B$138)-ROW(BD!$B$2)+1),FALSE),ROWS(BD!$1:11)))))","v":""},{"$f":"IF($AM$91=\"\",\"\",IF(ROWS(BD!$1:11)>COUNTIFS(BD!$B:$B,$AM$91),\"\",INDEX(BD!$G$2:$G$138,SMALL(IF(BD!$B$2:$B$138=$AM$91,IF(BD!$B$2:$B$138=$AM$91,ROW(BD!$B$2:$B$138)-ROW(BD!$B$2)+1),FALSE),ROWS(BD!$1:11)))))","v":""},{"$f":"IF($AM$91=\"\",\"\",IF(ROWS(BD!$1:11)>COUNTIFS(BD!$B:$B,$AM$91),\"\",INDEX(BD!$H$2:$H$138,SMALL(IF(BD!$B$2:$B$138=$AM$91,IF(BD!$B$2:$B$138=$AM$91,ROW(BD!$B$2:$B$138)-ROW(BD!$B$2)+1),FALSE),ROWS(BD!$1:11)))))","v":""}]
[null,null,{"$f":"IF($C$91=\"\",\"\",IF(ROWS(BD!$1:12)>COUNTIFS(BD!$B:$B,$C$91),\"\",INDEX(BD!$C$2:$C$138,SMALL(IF(BD!$B$2:$B$138=$C$91,IF(BD!$B$2:$B$138=$C$91,ROW(BD!$B$2:$B$138)-ROW(BD!$B$2)+1),FALSE),ROWS(BD!$1:12)))))","v":""},{"$f":"IF($C$91=\"\",\"\",IF(ROWS(BD!$1:12)>COUNTIFS(BD!$B:$B,$C$91),\"\",INDEX(BD!$E$2:$E$138,SMALL(IF(BD!$B$2:$B$138=$C$91,IF(BD!$B$2:$B$138=$C$91,ROW(BD!$B$2:$B$138)-ROW(BD!$B$2)+1),FALSE),ROWS(BD!$1:12)))))","v":""},{"$f":"IF($C$91=\"\",\"\",IF(ROWS(BD!$1:12)>COUNTIFS(BD!$B:$B,$C$91),\"\",INDEX(BD!$F$2:$F$138,SMALL(IF(BD!$B$2:$B$138=$C$91,IF(BD!$B$2:$B$138=$C$91,ROW(BD!$B$2:$B$138)-ROW(BD!$B$2)+1),FALSE),ROWS(BD!$1:12)))))","v":""},{"$f":"IF($C$91=\"\",\"\",IF(ROWS(BD!$1:12)>COUNTIFS(BD!$B:$B,$C$91),\"\",INDEX(BD!$G$2:$G$138,SMALL(IF(BD!$B$2:$B$138=$C$91,IF(BD!$B$2:$B$138=$C$91,ROW(BD!$B$2:$B$138)-ROW(BD!$B$2)+1),FALSE),ROWS(BD!$1:12)))))","v":""},{"$f":"IF($C$91=\"\",\"\",IF(ROWS(BD!$1:12)>COUNTIFS(BD!$B:$B,$C$91),\"\",INDEX(BD!$H$2:$H$138,SMALL(IF(BD!$B$2:$B$138=$C$91,IF(BD!$B$2:$B$138=$C$91,ROW(BD!$B$2:$B$138)-ROW(BD!$B$2)+1),FALSE),ROWS(BD!$1:12)))))","v":""},null,{"$f":"IF($I$91=\"\",\"\",IF(ROWS(BD!$1:12)>COUNTIFS(BD!$B:$B,$I$91),\"\",INDEX(BD!$C$2:$C$138,SMALL(IF(BD!$B$2:$B$138=$I$91,IF(BD!$B$2:$B$138=$I$91,ROW(BD!$B$2:$B$138)-ROW(BD!$B$2)+1),FALSE),ROWS(BD!$1:12)))))","v":""},{"$f":"IF($I$91=\"\",\"\",IF(ROWS(BD!$1:12)>COUNTIFS(BD!$B:$B,$I$91),\"\",INDEX(BD!$E$2:$E$138,SMALL(IF(BD!$B$2:$B$138=$I$91,IF(BD!$B$2:$B$138=$I$91,ROW(BD!$B$2:$B$138)-ROW(BD!$B$2)+1),FALSE),ROWS(BD!$1:12)))))","v":""},{"$f":"IF($I$91=\"\",\"\",IF(ROWS(BD!$1:12)>COUNTIFS(BD!$B:$B,$I$91),\"\",INDEX(BD!$F$2:$F$138,SMALL(IF(BD!$B$2:$B$138=$I$91,IF(BD!$B$2:$B$138=$I$91,ROW(BD!$B$2:$B$138)-ROW(BD!$B$2)+1),FALSE),ROWS(BD!$1:12)))))","v":""},{"$f":"IF($I$91=\"\",\"\",IF(ROWS(BD!$1:12)>COUNTIFS(BD!$B:$B,$I$91),\"\",INDEX(BD!$G$2:$G$138,SMALL(IF(BD!$B$2:$B$138=$I$91,IF(BD!$B$2:$B$138=$I$91,ROW(BD!$B$2:$B$138)-ROW(BD!$B$2)+1),FALSE),ROWS(BD!$1:12)))))","v":""},{"$f":"IF($I$91=\"\",\"\",IF(ROWS(BD!$1:12)>COUNTIFS(BD!$B:$B,$I$91),\"\",INDEX(BD!$H$2:$H$138,SMALL(IF(BD!$B$2:$B$138=$I$91,IF(BD!$B$2:$B$138=$I$91,ROW(BD!$B$2:$B$138)-ROW(BD!$B$2)+1),FALSE),ROWS(BD!$1:12)))))","v":""},null,{"$f":"IF($O$91=\"\",\"\",IF(ROWS(BD!$1:12)>COUNTIFS(BD!$B:$B,$O$91),\"\",INDEX(BD!$C$2:$C$138,SMALL(IF(BD!$B$2:$B$138=$O$91,IF(BD!$B$2:$B$138=$O$91,ROW(BD!$B$2:$B$138)-ROW(BD!$B$2)+1),FALSE),ROWS(BD!$1:12)))))","v":""},{"$f":"IF($O$91=\"\",\"\",IF(ROWS(BD!$1:12)>COUNTIFS(BD!$B:$B,$O$91),\"\",INDEX(BD!$E$2:$E$138,SMALL(IF(BD!$B$2:$B$138=$O$91,IF(BD!$B$2:$B$138=$O$91,ROW(BD!$B$2:$B$138)-ROW(BD!$B$2)+1),FALSE),ROWS(BD!$1:12)))))","v":""},{"$f":"IF($O$91=\"\",\"\",IF(ROWS(BD!$1:12)>COUNTIFS(BD!$B:$B,$O$91),\"\",INDEX(BD!$F$2:$F$138,SMALL(IF(BD!$B$2:$B$138=$O$91,IF(BD!$B$2:$B$138=$O$91,ROW(BD!$B$2:$B$138)-ROW(BD!$B$2)+1),FALSE),ROWS(BD!$1:12)))))","v":""},{"$f":"IF($O$91=\"\",\"\",IF(ROWS(BD!$1:12)>COUNTIFS(BD!$B:$B,$O$91),\"\",INDEX(BD!$G$2:$G$138,SMALL(IF(BD!$B$2:$B$138=$O$91,IF(BD!$B$2:$B$138=$O$91,ROW(BD!$B$2:$B$138)-ROW(BD!$B$2)+1),FALSE),ROWS(BD!$1:12)))))","v":""},{"$f":"IF($O$91=\"\",\"\",IF(ROWS(BD!$1:12)>COUNTIFS(BD!$B:$B,$O$91),\"\",INDEX(BD!$H$2:$H$138,SMALL(IF(BD!$B$2:$B$138=$O$91,IF(BD!$B$2:$B$138=$O$91,ROW(BD!$B$2:$B$138)-ROW(BD!$B$2)+1),FALSE),ROWS(BD!$1:12)))))","v":""},null,{"$f":"IF($U$91=\"\",\"\",IF(ROWS(BD!$1:12)>COUNTIFS(BD!$B:$B,$U$91),\"\",INDEX(BD!$C$2:$C$138,SMALL(IF(BD!$B$2:$B$138=$U$91,IF(BD!$B$2:$B$138=$U$91,ROW(BD!$B$2:$B$138)-ROW(BD!$B$2)+1),FALSE),ROWS(BD!$1:12)))))","v":""},{"$f":"IF($U$91=\"\",\"\",IF(ROWS(BD!$1:12)>COUNTIFS(BD!$B:$B,$U$91),\"\",INDEX(BD!$E$2:$E$138,SMALL(IF(BD!$B$2:$B$138=$U$91,IF(BD!$B$2:$B$138=$U$91,ROW(BD!$B$2:$B$138)-ROW(BD!$B$2)+1),FALSE),ROWS(BD!$1:12)))))","v":""},{"$f":"IF($U$91=\"\",\"\",IF(ROWS(BD!$1:12)>COUNTIFS(BD!$B:$B,$U$91),\"\",INDEX(BD!$F$2:$F$138,SMALL(IF(BD!$B$2:$B$138=$U$91,IF(BD!$B$2:$B$138=$U$91,ROW(BD!$B$2:$B$138)-ROW(BD!$B$2)+1),FALSE),ROWS(BD!$1:12)))))","v":""},{"$f":"IF($U$91=\"\",\"\",IF(ROWS(BD!$1:12)>COUNTIFS(BD!$B:$B,$U$91),\"\",INDEX(BD!$G$2:$G$138,SMALL(IF(BD!$B$2:$B$138=$U$91,IF(BD!$B$2:$B$138=$U$91,ROW(BD!$B$2:$B$138)-ROW(BD!$B$2)+1),FALSE),ROWS(BD!$1:12)))))","v":""},{"$f":"IF($U$91=\"\",\"\",IF(ROWS(BD!$1:12)>COUNTIFS(BD!$B:$B,$U$91),\"\",INDEX(BD!$H$2:$H$138,SMALL(IF(BD!$B$2:$B$138=$U$91,IF(BD!$B$2:$B$138=$U$91,ROW(BD!$B$2:$B$138)-ROW(BD!$B$2)+1),FALSE),ROWS(BD!$1:12)))))","v":""},null,{"$f":"IF($AA$91=\"\",\"\",IF(ROWS(BD!$1:12)>COUNTIFS(BD!$B:$B,$AA$91),\"\",INDEX(BD!$C$2:$C$138,SMALL(IF(BD!$B$2:$B$138=$AA$91,IF(BD!$B$2:$B$138=$AA$91,ROW(BD!$B$2:$B$138)-ROW(BD!$B$2)+1),FALSE),ROWS(BD!$1:12)))))","v":""},{"$f":"IF($AA$91=\"\",\"\",IF(ROWS(BD!$1:12)>COUNTIFS(BD!$B:$B,$AA$91),\"\",INDEX(BD!$E$2:$E$138,SMALL(IF(BD!$B$2:$B$138=$AA$91,IF(BD!$B$2:$B$138=$AA$91,ROW(BD!$B$2:$B$138)-ROW(BD!$B$2)+1),FALSE),ROWS(BD!$1:12)))))","v":""},{"$f":"IF($AA$91=\"\",\"\",IF(ROWS(BD!$1:12)>COUNTIFS(BD!$B:$B,$AA$91),\"\",INDEX(BD!$F$2:$F$138,SMALL(IF(BD!$B$2:$B$138=$AA$91,IF(BD!$B$2:$B$138=$AA$91,ROW(BD!$B$2:$B$138)-ROW(BD!$B$2)+1),FALSE),ROWS(BD!$1:12)))))","v":""},{"$f":"IF($AA$91=\"\",\"\",IF(ROWS(BD!$1:12)>COUNTIFS(BD!$B:$B,$AA$91),\"\",INDEX(BD!$G$2:$G$138,SMALL(IF(BD!$B$2:$B$138=$AA$91,IF(BD!$B$2:$B$138=$AA$91,ROW(BD!$B$2:$B$138)-ROW(BD!$B$2)+1),FALSE),ROWS(BD!$1:12)))))","v":""},{"$f":"IF($AA$91=\"\",\"\",IF(ROWS(BD!$1:12)>COUNTIFS(BD!$B:$B,$AA$91),\"\",INDEX(BD!$H$2:$H$138,SMALL(IF(BD!$B$2:$B$138=$AA$91,IF(BD!$B$2:$B$138=$AA$91,ROW(BD!$B$2:$B$138)-ROW(BD!$B$2)+1),FALSE),ROWS(BD!$1:12)))))","v":""},null,{"$f":"IF($AG$91=\"\",\"\",IF(ROWS(BD!$1:12)>COUNTIFS(BD!$B:$B,$AG$91),\"\",INDEX(BD!$C$2:$C$138,SMALL(IF(BD!$B$2:$B$138=$AG$91,IF(BD!$B$2:$B$138=$AG$91,ROW(BD!$B$2:$B$138)-ROW(BD!$B$2)+1),FALSE),ROWS(BD!$1:12)))))","v":""},{"$f":"IF($AG$91=\"\",\"\",IF(ROWS(BD!$1:12)>COUNTIFS(BD!$B:$B,$AG$91),\"\",INDEX(BD!$E$2:$E$138,SMALL(IF(BD!$B$2:$B$138=$AG$91,IF(BD!$B$2:$B$138=$AG$91,ROW(BD!$B$2:$B$138)-ROW(BD!$B$2)+1),FALSE),ROWS(BD!$1:12)))))","v":""},{"$f":"IF($AG$91=\"\",\"\",IF(ROWS(BD!$1:12)>COUNTIFS(BD!$B:$B,$AG$91),\"\",INDEX(BD!$F$2:$F$138,SMALL(IF(BD!$B$2:$B$138=$AG$91,IF(BD!$B$2:$B$138=$AG$91,ROW(BD!$B$2:$B$138)-ROW(BD!$B$2)+1),FALSE),ROWS(BD!$1:12)))))","v":""},{"$f":"IF($AG$91=\"\",\"\",IF(ROWS(BD!$1:12)>COUNTIFS(BD!$B:$B,$AG$91),\"\",INDEX(BD!$G$2:$G$138,SMALL(IF(BD!$B$2:$B$138=$AG$91,IF(BD!$B$2:$B$138=$AG$91,ROW(BD!$B$2:$B$138)-ROW(BD!$B$2)+1),FALSE),ROWS(BD!$1:12)))))","v":""},{"$f":"IF($AG$91=\"\",\"\",IF(ROWS(BD!$1:12)>COUNTIFS(BD!$B:$B,$AG$91),\"\",INDEX(BD!$H$2:$H$138,SMALL(IF(BD!$B$2:$B$138=$AG$91,IF(BD!$B$2:$B$138=$AG$91,ROW(BD!$B$2:$B$138)-ROW(BD!$B$2)+1),FALSE),ROWS(BD!$1:12)))))","v":""},null,{"$f":"IF($AM$91=\"\",\"\",IF(ROWS(BD!$1:12)>COUNTIFS(BD!$B:$B,$AM$91),\"\",INDEX(BD!$C$2:$C$138,SMALL(IF(BD!$B$2:$B$138=$AM$91,IF(BD!$B$2:$B$138=$AM$91,ROW(BD!$B$2:$B$138)-ROW(BD!$B$2)+1),FALSE),ROWS(BD!$1:12)))))","v":""},{"$f":"IF($AM$91=\"\",\"\",IF(ROWS(BD!$1:12)>COUNTIFS(BD!$B:$B,$AM$91),\"\",INDEX(BD!$E$2:$E$138,SMALL(IF(BD!$B$2:$B$138=$AM$91,IF(BD!$B$2:$B$138=$AM$91,ROW(BD!$B$2:$B$138)-ROW(BD!$B$2)+1),FALSE),ROWS(BD!$1:12)))))","v":""},{"$f":"IF($AM$91=\"\",\"\",IF(ROWS(BD!$1:12)>COUNTIFS(BD!$B:$B,$AM$91),\"\",INDEX(BD!$F$2:$F$138,SMALL(IF(BD!$B$2:$B$138=$AM$91,IF(BD!$B$2:$B$138=$AM$91,ROW(BD!$B$2:$B$138)-ROW(BD!$B$2)+1),FALSE),ROWS(BD!$1:12)))))","v":""},{"$f":"IF($AM$91=\"\",\"\",IF(ROWS(BD!$1:12)>COUNTIFS(BD!$B:$B,$AM$91),\"\",INDEX(BD!$G$2:$G$138,SMALL(IF(BD!$B$2:$B$138=$AM$91,IF(BD!$B$2:$B$138=$AM$91,ROW(BD!$B$2:$B$138)-ROW(BD!$B$2)+1),FALSE),ROWS(BD!$1:12)))))","v":""},{"$f":"IF($AM$91=\"\",\"\",IF(ROWS(BD!$1:12)>COUNTIFS(BD!$B:$B,$AM$91),\"\",INDEX(BD!$H$2:$H$138,SMALL(IF(BD!$B$2:$B$138=$AM$91,IF(BD!$B$2:$B$138=$AM$91,ROW(BD!$B$2:$B$138)-ROW(BD!$B$2)+1),FALSE),ROWS(BD!$1:12)))))","v":""}]
[null,null,{"$f":"IF($C$91=\"\",\"\",IF(ROWS(BD!$1:13)>COUNTIFS(BD!$B:$B,$C$91),\"\",INDEX(BD!$C$2:$C$138,SMALL(IF(BD!$B$2:$B$138=$C$91,IF(BD!$B$2:$B$138=$C$91,ROW(BD!$B$2:$B$138)-ROW(BD!$B$2)+1),FALSE),ROWS(BD!$1:13)))))","v":""},{"$f":"IF($C$91=\"\",\"\",IF(ROWS(BD!$1:13)>COUNTIFS(BD!$B:$B,$C$91),\"\",INDEX(BD!$E$2:$E$138,SMALL(IF(BD!$B$2:$B$138=$C$91,IF(BD!$B$2:$B$138=$C$91,ROW(BD!$B$2:$B$138)-ROW(BD!$B$2)+1),FALSE),ROWS(BD!$1:13)))))","v":""},{"$f":"IF($C$91=\"\",\"\",IF(ROWS(BD!$1:13)>COUNTIFS(BD!$B:$B,$C$91),\"\",INDEX(BD!$F$2:$F$138,SMALL(IF(BD!$B$2:$B$138=$C$91,IF(BD!$B$2:$B$138=$C$91,ROW(BD!$B$2:$B$138)-ROW(BD!$B$2)+1),FALSE),ROWS(BD!$1:13)))))","v":""},{"$f":"IF($C$91=\"\",\"\",IF(ROWS(BD!$1:13)>COUNTIFS(BD!$B:$B,$C$91),\"\",INDEX(BD!$G$2:$G$138,SMALL(IF(BD!$B$2:$B$138=$C$91,IF(BD!$B$2:$B$138=$C$91,ROW(BD!$B$2:$B$138)-ROW(BD!$B$2)+1),FALSE),ROWS(BD!$1:13)))))","v":""},{"$f":"IF($C$91=\"\",\"\",IF(ROWS(BD!$1:13)>COUNTIFS(BD!$B:$B,$C$91),\"\",INDEX(BD!$H$2:$H$138,SMALL(IF(BD!$B$2:$B$138=$C$91,IF(BD!$B$2:$B$138=$C$91,ROW(BD!$B$2:$B$138)-ROW(BD!$B$2)+1),FALSE),ROWS(BD!$1:13)))))","v":""},null,{"$f":"IF($I$91=\"\",\"\",IF(ROWS(BD!$1:13)>COUNTIFS(BD!$B:$B,$I$91),\"\",INDEX(BD!$C$2:$C$138,SMALL(IF(BD!$B$2:$B$138=$I$91,IF(BD!$B$2:$B$138=$I$91,ROW(BD!$B$2:$B$138)-ROW(BD!$B$2)+1),FALSE),ROWS(BD!$1:13)))))","v":""},{"$f":"IF($I$91=\"\",\"\",IF(ROWS(BD!$1:13)>COUNTIFS(BD!$B:$B,$I$91),\"\",INDEX(BD!$E$2:$E$138,SMALL(IF(BD!$B$2:$B$138=$I$91,IF(BD!$B$2:$B$138=$I$91,ROW(BD!$B$2:$B$138)-ROW(BD!$B$2)+1),FALSE),ROWS(BD!$1:13)))))","v":""},{"$f":"IF($I$91=\"\",\"\",IF(ROWS(BD!$1:13)>COUNTIFS(BD!$B:$B,$I$91),\"\",INDEX(BD!$F$2:$F$138,SMALL(IF(BD!$B$2:$B$138=$I$91,IF(BD!$B$2:$B$138=$I$91,ROW(BD!$B$2:$B$138)-ROW(BD!$B$2)+1),FALSE),ROWS(BD!$1:13)))))","v":""},{"$f":"IF($I$91=\"\",\"\",IF(ROWS(BD!$1:13)>COUNTIFS(BD!$B:$B,$I$91),\"\",INDEX(BD!$G$2:$G$138,SMALL(IF(BD!$B$2:$B$138=$I$91,IF(BD!$B$2:$B$138=$I$91,ROW(BD!$B$2:$B$138)-ROW(BD!$B$2)+1),FALSE),ROWS(BD!$1:13)))))","v":""},{"$f":"IF($I$91=\"\",\"\",IF(ROWS(BD!$1:13)>COUNTIFS(BD!$B:$B,$I$91),\"\",INDEX(BD!$H$2:$H$138,SMALL(IF(BD!$B$2:$B$138=$I$91,IF(BD!$B$2:$B$138=$I$91,ROW(BD!$B$2:$B$138)-ROW(BD!$B$2)+1),FALSE),ROWS(BD!$1:13)))))","v":""},null,{"$f":"IF($O$91=\"\",\"\",IF(ROWS(BD!$1:13)>COUNTIFS(BD!$B:$B,$O$91),\"\",INDEX(BD!$C$2:$C$138,SMALL(IF(BD!$B$2:$B$138=$O$91,IF(BD!$B$2:$B$138=$O$91,ROW(BD!$B$2:$B$138)-ROW(BD!$B$2)+1),FALSE),ROWS(BD!$1:13)))))","v":""},{"$f":"IF($O$91=\"\",\"\",IF(ROWS(BD!$1:13)>COUNTIFS(BD!$B:$B,$O$91),\"\",INDEX(BD!$E$2:$E$138,SMALL(IF(BD!$B$2:$B$138=$O$91,IF(BD!$B$2:$B$138=$O$91,ROW(BD!$B$2:$B$138)-ROW(BD!$B$2)+1),FALSE),ROWS(BD!$1:13)))))","v":""},{"$f":"IF($O$91=\"\",\"\",IF(ROWS(BD!$1:13)>COUNTIFS(BD!$B:$B,$O$91),\"\",INDEX(BD!$F$2:$F$138,SMALL(IF(BD!$B$2:$B$138=$O$91,IF(BD!$B$2:$B$138=$O$91,ROW(BD!$B$2:$B$138)-ROW(BD!$B$2)+1),FALSE),ROWS(BD!$1:13)))))","v":""},{"$f":"IF($O$91=\"\",\"\",IF(ROWS(BD!$1:13)>COUNTIFS(BD!$B:$B,$O$91),\"\",INDEX(BD!$G$2:$G$138,SMALL(IF(BD!$B$2:$B$138=$O$91,IF(BD!$B$2:$B$138=$O$91,ROW(BD!$B$2:$B$138)-ROW(BD!$B$2)+1),FALSE),ROWS(BD!$1:13)))))","v":""},{"$f":"IF($O$91=\"\",\"\",IF(ROWS(BD!$1:13)>COUNTIFS(BD!$B:$B,$O$91),\"\",INDEX(BD!$H$2:$H$138,SMALL(IF(BD!$B$2:$B$138=$O$91,IF(BD!$B$2:$B$138=$O$91,ROW(BD!$B$2:$B$138)-ROW(BD!$B$2)+1),FALSE),ROWS(BD!$1:13)))))","v":""},null,{"$f":"IF($U$91=\"\",\"\",IF(ROWS(BD!$1:13)>COUNTIFS(BD!$B:$B,$U$91),\"\",INDEX(BD!$C$2:$C$138,SMALL(IF(BD!$B$2:$B$138=$U$91,IF(BD!$B$2:$B$138=$U$91,ROW(BD!$B$2:$B$138)-ROW(BD!$B$2)+1),FALSE),ROWS(BD!$1:13)))))","v":""},{"$f":"IF($U$91=\"\",\"\",IF(ROWS(BD!$1:13)>COUNTIFS(BD!$B:$B,$U$91),\"\",INDEX(BD!$E$2:$E$138,SMALL(IF(BD!$B$2:$B$138=$U$91,IF(BD!$B$2:$B$138=$U$91,ROW(BD!$B$2:$B$138)-ROW(BD!$B$2)+1),FALSE),ROWS(BD!$1:13)))))","v":""},{"$f":"IF($U$91=\"\",\"\",IF(ROWS(BD!$1:13)>COUNTIFS(BD!$B:$B,$U$91),\"\",INDEX(BD!$F$2:$F$138,SMALL(IF(BD!$B$2:$B$138=$U$91,IF(BD!$B$2:$B$138=$U$91,ROW(BD!$B$2:$B$138)-ROW(BD!$B$2)+1),FALSE),ROWS(BD!$1:13)))))","v":""},{"$f":"IF($U$91=\"\",\"\",IF(ROWS(BD!$1:13)>COUNTIFS(BD!$B:$B,$U$91),\"\",INDEX(BD!$G$2:$G$138,SMALL(IF(BD!$B$2:$B$138=$U$91,IF(BD!$B$2:$B$138=$U$91,ROW(BD!$B$2:$B$138)-ROW(BD!$B$2)+1),FALSE),ROWS(BD!$1:13)))))","v":""},{"$f":"IF($U$91=\"\",\"\",IF(ROWS(BD!$1:13)>COUNTIFS(BD!$B:$B,$U$91),\"\",INDEX(BD!$H$2:$H$138,SMALL(IF(BD!$B$2:$B$138=$U$91,IF(BD!$B$2:$B$138=$U$91,ROW(BD!$B$2:$B$138)-ROW(BD!$B$2)+1),FALSE),ROWS(BD!$1:13)))))","v":""},null,{"$f":"IF($AA$91=\"\",\"\",IF(ROWS(BD!$1:13)>COUNTIFS(BD!$B:$B,$AA$91),\"\",INDEX(BD!$C$2:$C$138,SMALL(IF(BD!$B$2:$B$138=$AA$91,IF(BD!$B$2:$B$138=$AA$91,ROW(BD!$B$2:$B$138)-ROW(BD!$B$2)+1),FALSE),ROWS(BD!$1:13)))))","v":""},{"$f":"IF($AA$91=\"\",\"\",IF(ROWS(BD!$1:13)>COUNTIFS(BD!$B:$B,$AA$91),\"\",INDEX(BD!$E$2:$E$138,SMALL(IF(BD!$B$2:$B$138=$AA$91,IF(BD!$B$2:$B$138=$AA$91,ROW(BD!$B$2:$B$138)-ROW(BD!$B$2)+1),FALSE),ROWS(BD!$1:13)))))","v":""},{"$f":"IF($AA$91=\"\",\"\",IF(ROWS(BD!$1:13)>COUNTIFS(BD!$B:$B,$AA$91),\"\",INDEX(BD!$F$2:$F$138,SMALL(IF(BD!$B$2:$B$138=$AA$91,IF(BD!$B$2:$B$138=$AA$91,ROW(BD!$B$2:$B$138)-ROW(BD!$B$2)+1),FALSE),ROWS(BD!$1:13)))))","v":""},{"$f":"IF($AA$91=\"\",\"\",IF(ROWS(BD!$1:13)>COUNTIFS(BD!$B:$B,$AA$91),\"\",INDEX(BD!$G$2:$G$138,SMALL(IF(BD!$B$2:$B$138=$AA$91,IF(BD!$B$2:$B$138=$AA$91,ROW(BD!$B$2:$B$138)-ROW(BD!$B$2)+1),FALSE),ROWS(BD!$1:13)))))","v":""},{"$f":"IF($AA$91=\"\",\"\",IF(ROWS(BD!$1:13)>COUNTIFS(BD!$B:$B,$AA$91),\"\",INDEX(BD!$H$2:$H$138,SMALL(IF(BD!$B$2:$B$138=$AA$91,IF(BD!$B$2:$B$138=$AA$91,ROW(BD!$B$2:$B$138)-ROW(BD!$B$2)+1),FALSE),ROWS(BD!$1:13)))))","v":""},null,{"$f":"IF($AG$91=\"\",\"\",IF(ROWS(BD!$1:13)>COUNTIFS(BD!$B:$B,$AG$91),\"\",INDEX(BD!$C$2:$C$138,SMALL(IF(BD!$B$2:$B$138=$AG$91,IF(BD!$B$2:$B$138=$AG$91,ROW(BD!$B$2:$B$138)-ROW(BD!$B$2)+1),FALSE),ROWS(BD!$1:13)))))","v":""},{"$f":"IF($AG$91=\"\",\"\",IF(ROWS(BD!$1:13)>COUNTIFS(BD!$B:$B,$AG$91),\"\",INDEX(BD!$E$2:$E$138,SMALL(IF(BD!$B$2:$B$138=$AG$91,IF(BD!$B$2:$B$138=$AG$91,ROW(BD!$B$2:$B$138)-ROW(BD!$B$2)+1),FALSE),ROWS(BD!$1:13)))))","v":""},{"$f":"IF($AG$91=\"\",\"\",IF(ROWS(BD!$1:13)>COUNTIFS(BD!$B:$B,$AG$91),\"\",INDEX(BD!$F$2:$F$138,SMALL(IF(BD!$B$2:$B$138=$AG$91,IF(BD!$B$2:$B$138=$AG$91,ROW(BD!$B$2:$B$138)-ROW(BD!$B$2)+1),FALSE),ROWS(BD!$1:13)))))","v":""},{"$f":"IF($AG$91=\"\",\"\",IF(ROWS(BD!$1:13)>COUNTIFS(BD!$B:$B,$AG$91),\"\",INDEX(BD!$G$2:$G$138,SMALL(IF(BD!$B$2:$B$138=$AG$91,IF(BD!$B$2:$B$138=$AG$91,ROW(BD!$B$2:$B$138)-ROW(BD!$B$2)+1),FALSE),ROWS(BD!$1:13)))))","v":""},{"$f":"IF($AG$91=\"\",\"\",IF(ROWS(BD!$1:13)>COUNTIFS(BD!$B:$B,$AG$91),\"\",INDEX(BD!$H$2:$H$138,SMALL(IF(BD!$B$2:$B$138=$AG$91,IF(BD!$B$2:$B$138=$AG$91,ROW(BD!$B$2:$B$138)-ROW(BD!$B$2)+1),FALSE),ROWS(BD!$1:13)))))","v":""},null,{"$f":"IF($AM$91=\"\",\"\",IF(ROWS(BD!$1:13)>COUNTIFS(BD!$B:$B,$AM$91),\"\",INDEX(BD!$C$2:$C$138,SMALL(IF(BD!$B$2:$B$138=$AM$91,IF(BD!$B$2:$B$138=$AM$91,ROW(BD!$B$2:$B$138)-ROW(BD!$B$2)+1),FALSE),ROWS(BD!$1:13)))))","v":""},{"$f":"IF($AM$91=\"\",\"\",IF(ROWS(BD!$1:13)>COUNTIFS(BD!$B:$B,$AM$91),\"\",INDEX(BD!$E$2:$E$138,SMALL(IF(BD!$B$2:$B$138=$AM$91,IF(BD!$B$2:$B$138=$AM$91,ROW(BD!$B$2:$B$138)-ROW(BD!$B$2)+1),FALSE),ROWS(BD!$1:13)))))","v":""},{"$f":"IF($AM$91=\"\",\"\",IF(ROWS(BD!$1:13)>COUNTIFS(BD!$B:$B,$AM$91),\"\",INDEX(BD!$F$2:$F$138,SMALL(IF(BD!$B$2:$B$138=$AM$91,IF(BD!$B$2:$B$138=$AM$91,ROW(BD!$B$2:$B$138)-ROW(BD!$B$2)+1),FALSE),ROWS(BD!$1:13)))))","v":""},{"$f":"IF($AM$91=\"\",\"\",IF(ROWS(BD!$1:13)>COUNTIFS(BD!$B:$B,$AM$91),\"\",INDEX(BD!$G$2:$G$138,SMALL(IF(BD!$B$2:$B$138=$AM$91,IF(BD!$B$2:$B$138=$AM$91,ROW(BD!$B$2:$B$138)-ROW(BD!$B$2)+1),FALSE),ROWS(BD!$1:13)))))","v":""},{"$f":"IF($AM$91=\"\",\"\",IF(ROWS(BD!$1:13)>COUNTIFS(BD!$B:$B,$AM$91),\"\",INDEX(BD!$H$2:$H$138,SMALL(IF(BD!$B$2:$B$138=$AM$91,IF(BD!$B$2:$B$138=$AM$91,ROW(BD!$B$2:$B$138)-ROW(BD!$B$2)+1),FALSE),ROWS(BD!$1:13)))))","v":""}]
[null,null,{"$f":"IF($C$91=\"\",\"\",IF(ROWS(BD!$1:14)>COUNTIFS(BD!$B:$B,$C$91),\"\",INDEX(BD!$C$2:$C$138,SMALL(IF(BD!$B$2:$B$138=$C$91,IF(BD!$B$2:$B$138=$C$91,ROW(BD!$B$2:$B$138)-ROW(BD!$B$2)+1),FALSE),ROWS(BD!$1:14)))))","v":""},{"$f":"IF($C$91=\"\",\"\",IF(ROWS(BD!$1:14)>COUNTIFS(BD!$B:$B,$C$91),\"\",INDEX(BD!$E$2:$E$138,SMALL(IF(BD!$B$2:$B$138=$C$91,IF(BD!$B$2:$B$138=$C$91,ROW(BD!$B$2:$B$138)-ROW(BD!$B$2)+1),FALSE),ROWS(BD!$1:14)))))","v":""},{"$f":"IF($C$91=\"\",\"\",IF(ROWS(BD!$1:14)>COUNTIFS(BD!$B:$B,$C$91),\"\",INDEX(BD!$F$2:$F$138,SMALL(IF(BD!$B$2:$B$138=$C$91,IF(BD!$B$2:$B$138=$C$91,ROW(BD!$B$2:$B$138)-ROW(BD!$B$2)+1),FALSE),ROWS(BD!$1:14)))))","v":""},{"$f":"IF($C$91=\"\",\"\",IF(ROWS(BD!$1:14)>COUNTIFS(BD!$B:$B,$C$91),\"\",INDEX(BD!$G$2:$G$138,SMALL(IF(BD!$B$2:$B$138=$C$91,IF(BD!$B$2:$B$138=$C$91,ROW(BD!$B$2:$B$138)-ROW(BD!$B$2)+1),FALSE),ROWS(BD!$1:14)))))","v":""},{"$f":"IF($C$91=\"\",\"\",IF(ROWS(BD!$1:14)>COUNTIFS(BD!$B:$B,$C$91),\"\",INDEX(BD!$H$2:$H$138,SMALL(IF(BD!$B$2:$B$138=$C$91,IF(BD!$B$2:$B$138=$C$91,ROW(BD!$B$2:$B$138)-ROW(BD!$B$2)+1),FALSE),ROWS(BD!$1:14)))))","v":""},null,{"$f":"IF($I$91=\"\",\"\",IF(ROWS(BD!$1:14)>COUNTIFS(BD!$B:$B,$I$91),\"\",INDEX(BD!$C$2:$C$138,SMALL(IF(BD!$B$2:$B$138=$I$91,IF(BD!$B$2:$B$138=$I$91,ROW(BD!$B$2:$B$138)-ROW(BD!$B$2)+1),FALSE),ROWS(BD!$1:14)))))","v":""},{"$f":"IF($I$91=\"\",\"\",IF(ROWS(BD!$1:14)>COUNTIFS(BD!$B:$B,$I$91),\"\",INDEX(BD!$E$2:$E$138,SMALL(IF(BD!$B$2:$B$138=$I$91,IF(BD!$B$2:$B$138=$I$91,ROW(BD!$B$2:$B$138)-ROW(BD!$B$2)+1),FALSE),ROWS(BD!$1:14)))))","v":""},{"$f":"IF($I$91=\"\",\"\",IF(ROWS(BD!$1:14)>COUNTIFS(BD!$B:$B,$I$91),\"\",INDEX(BD!$F$2:$F$138,SMALL(IF(BD!$B$2:$B$138=$I$91,IF(BD!$B$2:$B$138=$I$91,ROW(BD!$B$2:$B$138)-ROW(BD!$B$2)+1),FALSE),ROWS(BD!$1:14)))))","v":""},{"$f":"IF($I$91=\"\",\"\",IF(ROWS(BD!$1:14)>COUNTIFS(BD!$B:$B,$I$91),\"\",INDEX(BD!$G$2:$G$138,SMALL(IF(BD!$B$2:$B$138=$I$91,IF(BD!$B$2:$B$138=$I$91,ROW(BD!$B$2:$B$138)-ROW(BD!$B$2)+1),FALSE),ROWS(BD!$1:14)))))","v":""},{"$f":"IF($I$91=\"\",\"\",IF(ROWS(BD!$1:14)>COUNTIFS(BD!$B:$B,$I$91),\"\",INDEX(BD!$H$2:$H$138,SMALL(IF(BD!$B$2:$B$138=$I$91,IF(BD!$B$2:$B$138=$I$91,ROW(BD!$B$2:$B$138)-ROW(BD!$B$2)+1),FALSE),ROWS(BD!$1:14)))))","v":""},null,{"$f":"IF($O$91=\"\",\"\",IF(ROWS(BD!$1:14)>COUNTIFS(BD!$B:$B,$O$91),\"\",INDEX(BD!$C$2:$C$138,SMALL(IF(BD!$B$2:$B$138=$O$91,IF(BD!$B$2:$B$138=$O$91,ROW(BD!$B$2:$B$138)-ROW(BD!$B$2)+1),FALSE),ROWS(BD!$1:14)))))","v":""},{"$f":"IF($O$91=\"\",\"\",IF(ROWS(BD!$1:14)>COUNTIFS(BD!$B:$B,$O$91),\"\",INDEX(BD!$E$2:$E$138,SMALL(IF(BD!$B$2:$B$138=$O$91,IF(BD!$B$2:$B$138=$O$91,ROW(BD!$B$2:$B$138)-ROW(BD!$B$2)+1),FALSE),ROWS(BD!$1:14)))))","v":""},{"$f":"IF($O$91=\"\",\"\",IF(ROWS(BD!$1:14)>COUNTIFS(BD!$B:$B,$O$91),\"\",INDEX(BD!$F$2:$F$138,SMALL(IF(BD!$B$2:$B$138=$O$91,IF(BD!$B$2:$B$138=$O$91,ROW(BD!$B$2:$B$138)-ROW(BD!$B$2)+1),FALSE),ROWS(BD!$1:14)))))","v":""},{"$f":"IF($O$91=\"\",\"\",IF(ROWS(BD!$1:14)>COUNTIFS(BD!$B:$B,$O$91),\"\",INDEX(BD!$G$2:$G$138,SMALL(IF(BD!$B$2:$B$138=$O$91,IF(BD!$B$2:$B$138=$O$91,ROW(BD!$B$2:$B$138)-ROW(BD!$B$2)+1),FALSE),ROWS(BD!$1:14)))))","v":""},{"$f":"IF($O$91=\"\",\"\",IF(ROWS(BD!$1:14)>COUNTIFS(BD!$B:$B,$O$91),\"\",INDEX(BD!$H$2:$H$138,SMALL(IF(BD!$B$2:$B$138=$O$91,IF(BD!$B$2:$B$138=$O$91,ROW(BD!$B$2:$B$138)-ROW(BD!$B$2)+1),FALSE),ROWS(BD!$1:14)))))","v":""},null,{"$f":"IF($U$91=\"\",\"\",IF(ROWS(BD!$1:14)>COUNTIFS(BD!$B:$B,$U$91),\"\",INDEX(BD!$C$2:$C$138,SMALL(IF(BD!$B$2:$B$138=$U$91,IF(BD!$B$2:$B$138=$U$91,ROW(BD!$B$2:$B$138)-ROW(BD!$B$2)+1),FALSE),ROWS(BD!$1:14)))))","v":""},{"$f":"IF($U$91=\"\",\"\",IF(ROWS(BD!$1:14)>COUNTIFS(BD!$B:$B,$U$91),\"\",INDEX(BD!$E$2:$E$138,SMALL(IF(BD!$B$2:$B$138=$U$91,IF(BD!$B$2:$B$138=$U$91,ROW(BD!$B$2:$B$138)-ROW(BD!$B$2)+1),FALSE),ROWS(BD!$1:14)))))","v":""},{"$f":"IF($U$91=\"\",\"\",IF(ROWS(BD!$1:14)>COUNTIFS(BD!$B:$B,$U$91),\"\",INDEX(BD!$F$2:$F$138,SMALL(IF(BD!$B$2:$B$138=$U$91,IF(BD!$B$2:$B$138=$U$91,ROW(BD!$B$2:$B$138)-ROW(BD!$B$2)+1),FALSE),ROWS(BD!$1:14)))))","v":""},{"$f":"IF($U$91=\"\",\"\",IF(ROWS(BD!$1:14)>COUNTIFS(BD!$B:$B,$U$91),\"\",INDEX(BD!$G$2:$G$138,SMALL(IF(BD!$B$2:$B$138=$U$91,IF(BD!$B$2:$B$138=$U$91,ROW(BD!$B$2:$B$138)-ROW(BD!$B$2)+1),FALSE),ROWS(BD!$1:14)))))","v":""},{"$f":"IF($U$91=\"\",\"\",IF(ROWS(BD!$1:14)>COUNTIFS(BD!$B:$B,$U$91),\"\",INDEX(BD!$H$2:$H$138,SMALL(IF(BD!$B$2:$B$138=$U$91,IF(BD!$B$2:$B$138=$U$91,ROW(BD!$B$2:$B$138)-ROW(BD!$B$2)+1),FALSE),ROWS(BD!$1:14)))))","v":""},null,{"$f":"IF($AA$91=\"\",\"\",IF(ROWS(BD!$1:14)>COUNTIFS(BD!$B:$B,$AA$91),\"\",INDEX(BD!$C$2:$C$138,SMALL(IF(BD!$B$2:$B$138=$AA$91,IF(BD!$B$2:$B$138=$AA$91,ROW(BD!$B$2:$B$138)-ROW(BD!$B$2)+1),FALSE),ROWS(BD!$1:14)))))","v":""},{"$f":"IF($AA$91=\"\",\"\",IF(ROWS(BD!$1:14)>COUNTIFS(BD!$B:$B,$AA$91),\"\",INDEX(BD!$E$2:$E$138,SMALL(IF(BD!$B$2:$B$138=$AA$91,IF(BD!$B$2:$B$138=$AA$91,ROW(BD!$B$2:$B$138)-ROW(BD!$B$2)+1),FALSE),ROWS(BD!$1:14)))))","v":""},{"$f":"IF($AA$91=\"\",\"\",IF(ROWS(BD!$1:14)>COUNTIFS(BD!$B:$B,$AA$91),\"\",INDEX(BD!$F$2:$F$138,SMALL(IF(BD!$B$2:$B$138=$AA$91,IF(BD!$B$2:$B$138=$AA$91,ROW(BD!$B$2:$B$138)-ROW(BD!$B$2)+1),FALSE),ROWS(BD!$1:14)))))","v":""},{"$f":"IF($AA$91=\"\",\"\",IF(ROWS(BD!$1:14)>COUNTIFS(BD!$B:$B,$AA$91),\"\",INDEX(BD!$G$2:$G$138,SMALL(IF(BD!$B$2:$B$138=$AA$91,IF(BD!$B$2:$B$138=$AA$91,ROW(BD!$B$2:$B$138)-ROW(BD!$B$2)+1),FALSE),ROWS(BD!$1:14)))))","v":""},{"$f":"IF($AA$91=\"\",\"\",IF(ROWS(BD!$1:14)>COUNTIFS(BD!$B:$B,$AA$91),\"\",INDEX(BD!$H$2:$H$138,SMALL(IF(BD!$B$2:$B$138=$AA$91,IF(BD!$B$2:$B$138=$AA$91,ROW(BD!$B$2:$B$138)-ROW(BD!$B$2)+1),FALSE),ROWS(BD!$1:14)))))","v":""},null,{"$f":"IF($AG$91=\"\",\"\",IF(ROWS(BD!$1:14)>COUNTIFS(BD!$B:$B,$AG$91),\"\",INDEX(BD!$C$2:$C$138,SMALL(IF(BD!$B$2:$B$138=$AG$91,IF(BD!$B$2:$B$138=$AG$91,ROW(BD!$B$2:$B$138)-ROW(BD!$B$2)+1),FALSE),ROWS(BD!$1:14)))))","v":""},{"$f":"IF($AG$91=\"\",\"\",IF(ROWS(BD!$1:14)>COUNTIFS(BD!$B:$B,$AG$91),\"\",INDEX(BD!$E$2:$E$138,SMALL(IF(BD!$B$2:$B$138=$AG$91,IF(BD!$B$2:$B$138=$AG$91,ROW(BD!$B$2:$B$138)-ROW(BD!$B$2)+1),FALSE),ROWS(BD!$1:14)))))","v":""},{"$f":"IF($AG$91=\"\",\"\",IF(ROWS(BD!$1:14)>COUNTIFS(BD!$B:$B,$AG$91),\"\",INDEX(BD!$F$2:$F$138,SMALL(IF(BD!$B$2:$B$138=$AG$91,IF(BD!$B$2:$B$138=$AG$91,ROW(BD!$B$2:$B$138)-ROW(BD!$B$2)+1),FALSE),ROWS(BD!$1:14)))))","v":""},{"$f":"IF($AG$91=\"\",\"\",IF(ROWS(BD!$1:14)>COUNTIFS(BD!$B:$B,$AG$91),\"\",INDEX(BD!$G$2:$G$138,SMALL(IF(BD!$B$2:$B$138=$AG$91,IF(BD!$B$2:$B$138=$AG$91,ROW(BD!$B$2:$B$138)-ROW(BD!$B$2)+1),FALSE),ROWS(BD!$1:14)))))","v":""},{"$f":"IF($AG$91=\"\",\"\",IF(ROWS(BD!$1:14)>COUNTIFS(BD!$B:$B,$AG$91),\"\",INDEX(BD!$H$2:$H$138,SMALL(IF(BD!$B$2:$B$138=$AG$91,IF(BD!$B$2:$B$138=$AG$91,ROW(BD!$B$2:$B$138)-ROW(BD!$B$2)+1),FALSE),ROWS(BD!$1:14)))))","v":""},null,{"$f":"IF($AM$91=\"\",\"\",IF(ROWS(BD!$1:14)>COUNTIFS(BD!$B:$B,$AM$91),\"\",INDEX(BD!$C$2:$C$138,SMALL(IF(BD!$B$2:$B$138=$AM$91,IF(BD!$B$2:$B$138=$AM$91,ROW(BD!$B$2:$B$138)-ROW(BD!$B$2)+1),FALSE),ROWS(BD!$1:14)))))","v":""},{"$f":"IF($AM$91=\"\",\"\",IF(ROWS(BD!$1:14)>COUNTIFS(BD!$B:$B,$AM$91),\"\",INDEX(BD!$E$2:$E$138,SMALL(IF(BD!$B$2:$B$138=$AM$91,IF(BD!$B$2:$B$138=$AM$91,ROW(BD!$B$2:$B$138)-ROW(BD!$B$2)+1),FALSE),ROWS(BD!$1:14)))))","v":""},{"$f":"IF($AM$91=\"\",\"\",IF(ROWS(BD!$1:14)>COUNTIFS(BD!$B:$B,$AM$91),\"\",INDEX(BD!$F$2:$F$138,SMALL(IF(BD!$B$2:$B$138=$AM$91,IF(BD!$B$2:$B$138=$AM$91,ROW(BD!$B$2:$B$138)-ROW(BD!$B$2)+1),FALSE),ROWS(BD!$1:14)))))","v":""},{"$f":"IF($AM$91=\"\",\"\",IF(ROWS(BD!$1:14)>COUNTIFS(BD!$B:$B,$AM$91),\"\",INDEX(BD!$G$2:$G$138,SMALL(IF(BD!$B$2:$B$138=$AM$91,IF(BD!$B$2:$B$138=$AM$91,ROW(BD!$B$2:$B$138)-ROW(BD!$B$2)+1),FALSE),ROWS(BD!$1:14)))))","v":""},{"$f":"IF($AM$91=\"\",\"\",IF(ROWS(BD!$1:14)>COUNTIFS(BD!$B:$B,$AM$91),\"\",INDEX(BD!$H$2:$H$138,SMALL(IF(BD!$B$2:$B$138=$AM$91,IF(BD!$B$2:$B$138=$AM$91,ROW(BD!$B$2:$B$138)-ROW(BD!$B$2)+1),FALSE),ROWS(BD!$1:14)))))","v":""}]
[null,null,{"$f":"IF($C$91=\"\",\"\",IF(ROWS(BD!$1:15)>COUNTIFS(BD!$B:$B,$C$91),\"\",INDEX(BD!$C$2:$C$138,SMALL(IF(BD!$B$2:$B$138=$C$91,IF(BD!$B$2:$B$138=$C$91,ROW(BD!$B$2:$B$138)-ROW(BD!$B$2)+1),FALSE),ROWS(BD!$1:15)))))","v":""},{"$f":"IF($C$91=\"\",\"\",IF(ROWS(BD!$1:15)>COUNTIFS(BD!$B:$B,$C$91),\"\",INDEX(BD!$E$2:$E$138,SMALL(IF(BD!$B$2:$B$138=$C$91,IF(BD!$B$2:$B$138=$C$91,ROW(BD!$B$2:$B$138)-ROW(BD!$B$2)+1),FALSE),ROWS(BD!$1:15)))))","v":""},{"$f":"IF($C$91=\"\",\"\",IF(ROWS(BD!$1:15)>COUNTIFS(BD!$B:$B,$C$91),\"\",INDEX(BD!$F$2:$F$138,SMALL(IF(BD!$B$2:$B$138=$C$91,IF(BD!$B$2:$B$138=$C$91,ROW(BD!$B$2:$B$138)-ROW(BD!$B$2)+1),FALSE),ROWS(BD!$1:15)))))","v":""},{"$f":"IF($C$91=\"\",\"\",IF(ROWS(BD!$1:15)>COUNTIFS(BD!$B:$B,$C$91),\"\",INDEX(BD!$G$2:$G$138,SMALL(IF(BD!$B$2:$B$138=$C$91,IF(BD!$B$2:$B$138=$C$91,ROW(BD!$B$2:$B$138)-ROW(BD!$B$2)+1),FALSE),ROWS(BD!$1:15)))))","v":""},{"$f":"IF($C$91=\"\",\"\",IF(ROWS(BD!$1:15)>COUNTIFS(BD!$B:$B,$C$91),\"\",INDEX(BD!$H$2:$H$138,SMALL(IF(BD!$B$2:$B$138=$C$91,IF(BD!$B$2:$B$138=$C$91,ROW(BD!$B$2:$B$138)-ROW(BD!$B$2)+1),FALSE),ROWS(BD!$1:15)))))","v":""},null,{"$f":"IF($I$91=\"\",\"\",IF(ROWS(BD!$1:15)>COUNTIFS(BD!$B:$B,$I$91),\"\",INDEX(BD!$C$2:$C$138,SMALL(IF(BD!$B$2:$B$138=$I$91,IF(BD!$B$2:$B$138=$I$91,ROW(BD!$B$2:$B$138)-ROW(BD!$B$2)+1),FALSE),ROWS(BD!$1:15)))))","v":""},{"$f":"IF($I$91=\"\",\"\",IF(ROWS(BD!$1:15)>COUNTIFS(BD!$B:$B,$I$91),\"\",INDEX(BD!$E$2:$E$138,SMALL(IF(BD!$B$2:$B$138=$I$91,IF(BD!$B$2:$B$138=$I$91,ROW(BD!$B$2:$B$138)-ROW(BD!$B$2)+1),FALSE),ROWS(BD!$1:15)))))","v":""},{"$f":"IF($I$91=\"\",\"\",IF(ROWS(BD!$1:15)>COUNTIFS(BD!$B:$B,$I$91),\"\",INDEX(BD!$F$2:$F$138,SMALL(IF(BD!$B$2:$B$138=$I$91,IF(BD!$B$2:$B$138=$I$91,ROW(BD!$B$2:$B$138)-ROW(BD!$B$2)+1),FALSE),ROWS(BD!$1:15)))))","v":""},{"$f":"IF($I$91=\"\",\"\",IF(ROWS(BD!$1:15)>COUNTIFS(BD!$B:$B,$I$91),\"\",INDEX(BD!$G$2:$G$138,SMALL(IF(BD!$B$2:$B$138=$I$91,IF(BD!$B$2:$B$138=$I$91,ROW(BD!$B$2:$B$138)-ROW(BD!$B$2)+1),FALSE),ROWS(BD!$1:15)))))","v":""},{"$f":"IF($I$91=\"\",\"\",IF(ROWS(BD!$1:15)>COUNTIFS(BD!$B:$B,$I$91),\"\",INDEX(BD!$H$2:$H$138,SMALL(IF(BD!$B$2:$B$138=$I$91,IF(BD!$B$2:$B$138=$I$91,ROW(BD!$B$2:$B$138)-ROW(BD!$B$2)+1),FALSE),ROWS(BD!$1:15)))))","v":""},null,{"$f":"IF($O$91=\"\",\"\",IF(ROWS(BD!$1:15)>COUNTIFS(BD!$B:$B,$O$91),\"\",INDEX(BD!$C$2:$C$138,SMALL(IF(BD!$B$2:$B$138=$O$91,IF(BD!$B$2:$B$138=$O$91,ROW(BD!$B$2:$B$138)-ROW(BD!$B$2)+1),FALSE),ROWS(BD!$1:15)))))","v":""},{"$f":"IF($O$91=\"\",\"\",IF(ROWS(BD!$1:15)>COUNTIFS(BD!$B:$B,$O$91),\"\",INDEX(BD!$E$2:$E$138,SMALL(IF(BD!$B$2:$B$138=$O$91,IF(BD!$B$2:$B$138=$O$91,ROW(BD!$B$2:$B$138)-ROW(BD!$B$2)+1),FALSE),ROWS(BD!$1:15)))))","v":""},{"$f":"IF($O$91=\"\",\"\",IF(ROWS(BD!$1:15)>COUNTIFS(BD!$B:$B,$O$91),\"\",INDEX(BD!$F$2:$F$138,SMALL(IF(BD!$B$2:$B$138=$O$91,IF(BD!$B$2:$B$138=$O$91,ROW(BD!$B$2:$B$138)-ROW(BD!$B$2)+1),FALSE),ROWS(BD!$1:15)))))","v":""},{"$f":"IF($O$91=\"\",\"\",IF(ROWS(BD!$1:15)>COUNTIFS(BD!$B:$B,$O$91),\"\",INDEX(BD!$G$2:$G$138,SMALL(IF(BD!$B$2:$B$138=$O$91,IF(BD!$B$2:$B$138=$O$91,ROW(BD!$B$2:$B$138)-ROW(BD!$B$2)+1),FALSE),ROWS(BD!$1:15)))))","v":""},{"$f":"IF($O$91=\"\",\"\",IF(ROWS(BD!$1:15)>COUNTIFS(BD!$B:$B,$O$91),\"\",INDEX(BD!$H$2:$H$138,SMALL(IF(BD!$B$2:$B$138=$O$91,IF(BD!$B$2:$B$138=$O$91,ROW(BD!$B$2:$B$138)-ROW(BD!$B$2)+1),FALSE),ROWS(BD!$1:15)))))","v":""},null,{"$f":"IF($U$91=\"\",\"\",IF(ROWS(BD!$1:15)>COUNTIFS(BD!$B:$B,$U$91),\"\",INDEX(BD!$C$2:$C$138,SMALL(IF(BD!$B$2:$B$138=$U$91,IF(BD!$B$2:$B$138=$U$91,ROW(BD!$B$2:$B$138)-ROW(BD!$B$2)+1),FALSE),ROWS(BD!$1:15)))))","v":""},{"$f":"IF($U$91=\"\",\"\",IF(ROWS(BD!$1:15)>COUNTIFS(BD!$B:$B,$U$91),\"\",INDEX(BD!$E$2:$E$138,SMALL(IF(BD!$B$2:$B$138=$U$91,IF(BD!$B$2:$B$138=$U$91,ROW(BD!$B$2:$B$138)-ROW(BD!$B$2)+1),FALSE),ROWS(BD!$1:15)))))","v":""},{"$f":"IF($U$91=\"\",\"\",IF(ROWS(BD!$1:15)>COUNTIFS(BD!$B:$B,$U$91),\"\",INDEX(BD!$F$2:$F$138,SMALL(IF(BD!$B$2:$B$138=$U$91,IF(BD!$B$2:$B$138=$U$91,ROW(BD!$B$2:$B$138)-ROW(BD!$B$2)+1),FALSE),ROWS(BD!$1:15)))))","v":""},{"$f":"IF($U$91=\"\",\"\",IF(ROWS(BD!$1:15)>COUNTIFS(BD!$B:$B,$U$91),\"\",INDEX(BD!$G$2:$G$138,SMALL(IF(BD!$B$2:$B$138=$U$91,IF(BD!$B$2:$B$138=$U$91,ROW(BD!$B$2:$B$138)-ROW(BD!$B$2)+1),FALSE),ROWS(BD!$1:15)))))","v":""},{"$f":"IF($U$91=\"\",\"\",IF(ROWS(BD!$1:15)>COUNTIFS(BD!$B:$B,$U$91),\"\",INDEX(BD!$H$2:$H$138,SMALL(IF(BD!$B$2:$B$138=$U$91,IF(BD!$B$2:$B$138=$U$91,ROW(BD!$B$2:$B$138)-ROW(BD!$B$2)+1),FALSE),ROWS(BD!$1:15)))))","v":""},null,{"$f":"IF($AA$91=\"\",\"\",IF(ROWS(BD!$1:15)>COUNTIFS(BD!$B:$B,$AA$91),\"\",INDEX(BD!$C$2:$C$138,SMALL(IF(BD!$B$2:$B$138=$AA$91,IF(BD!$B$2:$B$138=$AA$91,ROW(BD!$B$2:$B$138)-ROW(BD!$B$2)+1),FALSE),ROWS(BD!$1:15)))))","v":""},{"$f":"IF($AA$91=\"\",\"\",IF(ROWS(BD!$1:15)>COUNTIFS(BD!$B:$B,$AA$91),\"\",INDEX(BD!$E$2:$E$138,SMALL(IF(BD!$B$2:$B$138=$AA$91,IF(BD!$B$2:$B$138=$AA$91,ROW(BD!$B$2:$B$138)-ROW(BD!$B$2)+1),FALSE),ROWS(BD!$1:15)))))","v":""},{"$f":"IF($AA$91=\"\",\"\",IF(ROWS(BD!$1:15)>COUNTIFS(BD!$B:$B,$AA$91),\"\",INDEX(BD!$F$2:$F$138,SMALL(IF(BD!$B$2:$B$138=$AA$91,IF(BD!$B$2:$B$138=$AA$91,ROW(BD!$B$2:$B$138)-ROW(BD!$B$2)+1),FALSE),ROWS(BD!$1:15)))))","v":""},{"$f":"IF($AA$91=\"\",\"\",IF(ROWS(BD!$1:15)>COUNTIFS(BD!$B:$B,$AA$91),\"\",INDEX(BD!$G$2:$G$138,SMALL(IF(BD!$B$2:$B$138=$AA$91,IF(BD!$B$2:$B$138=$AA$91,ROW(BD!$B$2:$B$138)-ROW(BD!$B$2)+1),FALSE),ROWS(BD!$1:15)))))","v":""},{"$f":"IF($AA$91=\"\",\"\",IF(ROWS(BD!$1:15)>COUNTIFS(BD!$B:$B,$AA$91),\"\",INDEX(BD!$H$2:$H$138,SMALL(IF(BD!$B$2:$B$138=$AA$91,IF(BD!$B$2:$B$138=$AA$91,ROW(BD!$B$2:$B$138)-ROW(BD!$B$2)+1),FALSE),ROWS(BD!$1:15)))))","v":""},null,{"$f":"IF($AG$91=\"\",\"\",IF(ROWS(BD!$1:15)>COUNTIFS(BD!$B:$B,$AG$91),\"\",INDEX(BD!$C$2:$C$138,SMALL(IF(BD!$B$2:$B$138=$AG$91,IF(BD!$B$2:$B$138=$AG$91,ROW(BD!$B$2:$B$138)-ROW(BD!$B$2)+1),FALSE),ROWS(BD!$1:15)))))","v":""},{"$f":"IF($AG$91=\"\",\"\",IF(ROWS(BD!$1:15)>COUNTIFS(BD!$B:$B,$AG$91),\"\",INDEX(BD!$E$2:$E$138,SMALL(IF(BD!$B$2:$B$138=$AG$91,IF(BD!$B$2:$B$138=$AG$91,ROW(BD!$B$2:$B$138)-ROW(BD!$B$2)+1),FALSE),ROWS(BD!$1:15)))))","v":""},{"$f":"IF($AG$91=\"\",\"\",IF(ROWS(BD!$1:15)>COUNTIFS(BD!$B:$B,$AG$91),\"\",INDEX(BD!$F$2:$F$138,SMALL(IF(BD!$B$2:$B$138=$AG$91,IF(BD!$B$2:$B$138=$AG$91,ROW(BD!$B$2:$B$138)-ROW(BD!$B$2)+1),FALSE),ROWS(BD!$1:15)))))","v":""},{"$f":"IF($AG$91=\"\",\"\",IF(ROWS(BD!$1:15)>COUNTIFS(BD!$B:$B,$AG$91),\"\",INDEX(BD!$G$2:$G$138,SMALL(IF(BD!$B$2:$B$138=$AG$91,IF(BD!$B$2:$B$138=$AG$91,ROW(BD!$B$2:$B$138)-ROW(BD!$B$2)+1),FALSE),ROWS(BD!$1:15)))))","v":""},{"$f":"IF($AG$91=\"\",\"\",IF(ROWS(BD!$1:15)>COUNTIFS(BD!$B:$B,$AG$91),\"\",INDEX(BD!$H$2:$H$138,SMALL(IF(BD!$B$2:$B$138=$AG$91,IF(BD!$B$2:$B$138=$AG$91,ROW(BD!$B$2:$B$138)-ROW(BD!$B$2)+1),FALSE),ROWS(BD!$1:15)))))","v":""},null,{"$f":"IF($AM$91=\"\",\"\",IF(ROWS(BD!$1:15)>COUNTIFS(BD!$B:$B,$AM$91),\"\",INDEX(BD!$C$2:$C$138,SMALL(IF(BD!$B$2:$B$138=$AM$91,IF(BD!$B$2:$B$138=$AM$91,ROW(BD!$B$2:$B$138)-ROW(BD!$B$2)+1),FALSE),ROWS(BD!$1:15)))))","v":""},{"$f":"IF($AM$91=\"\",\"\",IF(ROWS(BD!$1:15)>COUNTIFS(BD!$B:$B,$AM$91),\"\",INDEX(BD!$E$2:$E$138,SMALL(IF(BD!$B$2:$B$138=$AM$91,IF(BD!$B$2:$B$138=$AM$91,ROW(BD!$B$2:$B$138)-ROW(BD!$B$2)+1),FALSE),ROWS(BD!$1:15)))))","v":""},{"$f":"IF($AM$91=\"\",\"\",IF(ROWS(BD!$1:15)>COUNTIFS(BD!$B:$B,$AM$91),\"\",INDEX(BD!$F$2:$F$138,SMALL(IF(BD!$B$2:$B$138=$AM$91,IF(BD!$B$2:$B$138=$AM$91,ROW(BD!$B$2:$B$138)-ROW(BD!$B$2)+1),FALSE),ROWS(BD!$1:15)))))","v":""},{"$f":"IF($AM$91=\"\",\"\",IF(ROWS(BD!$1:15)>COUNTIFS(BD!$B:$B,$AM$91),\"\",INDEX(BD!$G$2:$G$138,SMALL(IF(BD!$B$2:$B$138=$AM$91,IF(BD!$B$2:$B$138=$AM$91,ROW(BD!$B$2:$B$138)-ROW(BD!$B$2)+1),FALSE),ROWS(BD!$1:15)))))","v":""},{"$f":"IF($AM$91=\"\",\"\",IF(ROWS(BD!$1:15)>COUNTIFS(BD!$B:$B,$AM$91),\"\",INDEX(BD!$H$2:$H$138,SMALL(IF(BD!$B$2:$B$138=$AM$91,IF(BD!$B$2:$B$138=$AM$91,ROW(BD!$B$2:$B$138)-ROW(BD!$B$2)+1),FALSE),ROWS(BD!$1:15)))))","v":""}]
[null,null,{"$f":"IF($C$91=\"\",\"\",IF(ROWS(BD!$1:16)>COUNTIFS(BD!$B:$B,$C$91),\"\",INDEX(BD!$C$2:$C$138,SMALL(IF(BD!$B$2:$B$138=$C$91,IF(BD!$B$2:$B$138=$C$91,ROW(BD!$B$2:$B$138)-ROW(BD!$B$2)+1),FALSE),ROWS(BD!$1:16)))))","v":""},{"$f":"IF($C$91=\"\",\"\",IF(ROWS(BD!$1:16)>COUNTIFS(BD!$B:$B,$C$91),\"\",INDEX(BD!$E$2:$E$138,SMALL(IF(BD!$B$2:$B$138=$C$91,IF(BD!$B$2:$B$138=$C$91,ROW(BD!$B$2:$B$138)-ROW(BD!$B$2)+1),FALSE),ROWS(BD!$1:16)))))","v":""},{"$f":"IF($C$91=\"\",\"\",IF(ROWS(BD!$1:16)>COUNTIFS(BD!$B:$B,$C$91),\"\",INDEX(BD!$F$2:$F$138,SMALL(IF(BD!$B$2:$B$138=$C$91,IF(BD!$B$2:$B$138=$C$91,ROW(BD!$B$2:$B$138)-ROW(BD!$B$2)+1),FALSE),ROWS(BD!$1:16)))))","v":""},{"$f":"IF($C$91=\"\",\"\",IF(ROWS(BD!$1:16)>COUNTIFS(BD!$B:$B,$C$91),\"\",INDEX(BD!$G$2:$G$138,SMALL(IF(BD!$B$2:$B$138=$C$91,IF(BD!$B$2:$B$138=$C$91,ROW(BD!$B$2:$B$138)-ROW(BD!$B$2)+1),FALSE),ROWS(BD!$1:16)))))","v":""},{"$f":"IF($C$91=\"\",\"\",IF(ROWS(BD!$1:16)>COUNTIFS(BD!$B:$B,$C$91),\"\",INDEX(BD!$H$2:$H$138,SMALL(IF(BD!$B$2:$B$138=$C$91,IF(BD!$B$2:$B$138=$C$91,ROW(BD!$B$2:$B$138)-ROW(BD!$B$2)+1),FALSE),ROWS(BD!$1:16)))))","v":""},null,{"$f":"IF($I$91=\"\",\"\",IF(ROWS(BD!$1:16)>COUNTIFS(BD!$B:$B,$I$91),\"\",INDEX(BD!$C$2:$C$138,SMALL(IF(BD!$B$2:$B$138=$I$91,IF(BD!$B$2:$B$138=$I$91,ROW(BD!$B$2:$B$138)-ROW(BD!$B$2)+1),FALSE),ROWS(BD!$1:16)))))","v":""},{"$f":"IF($I$91=\"\",\"\",IF(ROWS(BD!$1:16)>COUNTIFS(BD!$B:$B,$I$91),\"\",INDEX(BD!$E$2:$E$138,SMALL(IF(BD!$B$2:$B$138=$I$91,IF(BD!$B$2:$B$138=$I$91,ROW(BD!$B$2:$B$138)-ROW(BD!$B$2)+1),FALSE),ROWS(BD!$1:16)))))","v":""},{"$f":"IF($I$91=\"\",\"\",IF(ROWS(BD!$1:16)>COUNTIFS(BD!$B:$B,$I$91),\"\",INDEX(BD!$F$2:$F$138,SMALL(IF(BD!$B$2:$B$138=$I$91,IF(BD!$B$2:$B$138=$I$91,ROW(BD!$B$2:$B$138)-ROW(BD!$B$2)+1),FALSE),ROWS(BD!$1:16)))))","v":""},{"$f":"IF($I$91=\"\",\"\",IF(ROWS(BD!$1:16)>COUNTIFS(BD!$B:$B,$I$91),\"\",INDEX(BD!$G$2:$G$138,SMALL(IF(BD!$B$2:$B$138=$I$91,IF(BD!$B$2:$B$138=$I$91,ROW(BD!$B$2:$B$138)-ROW(BD!$B$2)+1),FALSE),ROWS(BD!$1:16)))))","v":""},{"$f":"IF($I$91=\"\",\"\",IF(ROWS(BD!$1:16)>COUNTIFS(BD!$B:$B,$I$91),\"\",INDEX(BD!$H$2:$H$138,SMALL(IF(BD!$B$2:$B$138=$I$91,IF(BD!$B$2:$B$138=$I$91,ROW(BD!$B$2:$B$138)-ROW(BD!$B$2)+1),FALSE),ROWS(BD!$1:16)))))","v":""},null,{"$f":"IF($O$91=\"\",\"\",IF(ROWS(BD!$1:16)>COUNTIFS(BD!$B:$B,$O$91),\"\",INDEX(BD!$C$2:$C$138,SMALL(IF(BD!$B$2:$B$138=$O$91,IF(BD!$B$2:$B$138=$O$91,ROW(BD!$B$2:$B$138)-ROW(BD!$B$2)+1),FALSE),ROWS(BD!$1:16)))))","v":""},{"$f":"IF($O$91=\"\",\"\",IF(ROWS(BD!$1:16)>COUNTIFS(BD!$B:$B,$O$91),\"\",INDEX(BD!$E$2:$E$138,SMALL(IF(BD!$B$2:$B$138=$O$91,IF(BD!$B$2:$B$138=$O$91,ROW(BD!$B$2:$B$138)-ROW(BD!$B$2)+1),FALSE),ROWS(BD!$1:16)))))","v":""},{"$f":"IF($O$91=\"\",\"\",IF(ROWS(BD!$1:16)>COUNTIFS(BD!$B:$B,$O$91),\"\",INDEX(BD!$F$2:$F$138,SMALL(IF(BD!$B$2:$B$138=$O$91,IF(BD!$B$2:$B$138=$O$91,ROW(BD!$B$2:$B$138)-ROW(BD!$B$2)+1),FALSE),ROWS(BD!$1:16)))))","v":""},{"$f":"IF($O$91=\"\",\"\",IF(ROWS(BD!$1:16)>COUNTIFS(BD!$B:$B,$O$91),\"\",INDEX(BD!$G$2:$G$138,SMALL(IF(BD!$B$2:$B$138=$O$91,IF(BD!$B$2:$B$138=$O$91,ROW(BD!$B$2:$B$138)-ROW(BD!$B$2)+1),FALSE),ROWS(BD!$1:16)))))","v":""},{"$f":"IF($O$91=\"\",\"\",IF(ROWS(BD!$1:16)>COUNTIFS(BD!$B:$B,$O$91),\"\",INDEX(BD!$H$2:$H$138,SMALL(IF(BD!$B$2:$B$138=$O$91,IF(BD!$B$2:$B$138=$O$91,ROW(BD!$B$2:$B$138)-ROW(BD!$B$2)+1),FALSE),ROWS(BD!$1:16)))))","v":""},null,{"$f":"IF($U$91=\"\",\"\",IF(ROWS(BD!$1:16)>COUNTIFS(BD!$B:$B,$U$91),\"\",INDEX(BD!$C$2:$C$138,SMALL(IF(BD!$B$2:$B$138=$U$91,IF(BD!$B$2:$B$138=$U$91,ROW(BD!$B$2:$B$138)-ROW(BD!$B$2)+1),FALSE),ROWS(BD!$1:16)))))","v":""},{"$f":"IF($U$91=\"\",\"\",IF(ROWS(BD!$1:16)>COUNTIFS(BD!$B:$B,$U$91),\"\",INDEX(BD!$E$2:$E$138,SMALL(IF(BD!$B$2:$B$138=$U$91,IF(BD!$B$2:$B$138=$U$91,ROW(BD!$B$2:$B$138)-ROW(BD!$B$2)+1),FALSE),ROWS(BD!$1:16)))))","v":""},{"$f":"IF($U$91=\"\",\"\",IF(ROWS(BD!$1:16)>COUNTIFS(BD!$B:$B,$U$91),\"\",INDEX(BD!$F$2:$F$138,SMALL(IF(BD!$B$2:$B$138=$U$91,IF(BD!$B$2:$B$138=$U$91,ROW(BD!$B$2:$B$138)-ROW(BD!$B$2)+1),FALSE),ROWS(BD!$1:16)))))","v":""},{"$f":"IF($U$91=\"\",\"\",IF(ROWS(BD!$1:16)>COUNTIFS(BD!$B:$B,$U$91),\"\",INDEX(BD!$G$2:$G$138,SMALL(IF(BD!$B$2:$B$138=$U$91,IF(BD!$B$2:$B$138=$U$91,ROW(BD!$B$2:$B$138)-ROW(BD!$B$2)+1),FALSE),ROWS(BD!$1:16)))))","v":""},{"$f":"IF($U$91=\"\",\"\",IF(ROWS(BD!$1:16)>COUNTIFS(BD!$B:$B,$U$91),\"\",INDEX(BD!$H$2:$H$138,SMALL(IF(BD!$B$2:$B$138=$U$91,IF(BD!$B$2:$B$138=$U$91,ROW(BD!$B$2:$B$138)-ROW(BD!$B$2)+1),FALSE),ROWS(BD!$1:16)))))","v":""},null,{"$f":"IF($AA$91=\"\",\"\",IF(ROWS(BD!$1:16)>COUNTIFS(BD!$B:$B,$AA$91),\"\",INDEX(BD!$C$2:$C$138,SMALL(IF(BD!$B$2:$B$138=$AA$91,IF(BD!$B$2:$B$138=$AA$91,ROW(BD!$B$2:$B$138)-ROW(BD!$B$2)+1),FALSE),ROWS(BD!$1:16)))))","v":""},{"$f":"IF($AA$91=\"\",\"\",IF(ROWS(BD!$1:16)>COUNTIFS(BD!$B:$B,$AA$91),\"\",INDEX(BD!$E$2:$E$138,SMALL(IF(BD!$B$2:$B$138=$AA$91,IF(BD!$B$2:$B$138=$AA$91,ROW(BD!$B$2:$B$138)-ROW(BD!$B$2)+1),FALSE),ROWS(BD!$1:16)))))","v":""},{"$f":"IF($AA$91=\"\",\"\",IF(ROWS(BD!$1:16)>COUNTIFS(BD!$B:$B,$AA$91),\"\",INDEX(BD!$F$2:$F$138,SMALL(IF(BD!$B$2:$B$138=$AA$91,IF(BD!$B$2:$B$138=$AA$91,ROW(BD!$B$2:$B$138)-ROW(BD!$B$2)+1),FALSE),ROWS(BD!$1:16)))))","v":""},{"$f":"IF($AA$91=\"\",\"\",IF(ROWS(BD!$1:16)>COUNTIFS(BD!$B:$B,$AA$91),\"\",INDEX(BD!$G$2:$G$138,SMALL(IF(BD!$B$2:$B$138=$AA$91,IF(BD!$B$2:$B$138=$AA$91,ROW(BD!$B$2:$B$138)-ROW(BD!$B$2)+1),FALSE),ROWS(BD!$1:16)))))","v":""},{"$f":"IF($AA$91=\"\",\"\",IF(ROWS(BD!$1:16)>COUNTIFS(BD!$B:$B,$AA$91),\"\",INDEX(BD!$H$2:$H$138,SMALL(IF(BD!$B$2:$B$138=$AA$91,IF(BD!$B$2:$B$138=$AA$91,ROW(BD!$B$2:$B$138)-ROW(BD!$B$2)+1),FALSE),ROWS(BD!$1:16)))))","v":""},null,{"$f":"IF($AG$91=\"\",\"\",IF(ROWS(BD!$1:16)>COUNTIFS(BD!$B:$B,$AG$91),\"\",INDEX(BD!$C$2:$C$138,SMALL(IF(BD!$B$2:$B$138=$AG$91,IF(BD!$B$2:$B$138=$AG$91,ROW(BD!$B$2:$B$138)-ROW(BD!$B$2)+1),FALSE),ROWS(BD!$1:16)))))","v":""},{"$f":"IF($AG$91=\"\",\"\",IF(ROWS(BD!$1:16)>COUNTIFS(BD!$B:$B,$AG$91),\"\",INDEX(BD!$E$2:$E$138,SMALL(IF(BD!$B$2:$B$138=$AG$91,IF(BD!$B$2:$B$138=$AG$91,ROW(BD!$B$2:$B$138)-ROW(BD!$B$2)+1),FALSE),ROWS(BD!$1:16)))))","v":""},{"$f":"IF($AG$91=\"\",\"\",IF(ROWS(BD!$1:16)>COUNTIFS(BD!$B:$B,$AG$91),\"\",INDEX(BD!$F$2:$F$138,SMALL(IF(BD!$B$2:$B$138=$AG$91,IF(BD!$B$2:$B$138=$AG$91,ROW(BD!$B$2:$B$138)-ROW(BD!$B$2)+1),FALSE),ROWS(BD!$1:16)))))","v":""},{"$f":"IF($AG$91=\"\",\"\",IF(ROWS(BD!$1:16)>COUNTIFS(BD!$B:$B,$AG$91),\"\",INDEX(BD!$G$2:$G$138,SMALL(IF(BD!$B$2:$B$138=$AG$91,IF(BD!$B$2:$B$138=$AG$91,ROW(BD!$B$2:$B$138)-ROW(BD!$B$2)+1),FALSE),ROWS(BD!$1:16)))))","v":""},{"$f":"IF($AG$91=\"\",\"\",IF(ROWS(BD!$1:16)>COUNTIFS(BD!$B:$B,$AG$91),\"\",INDEX(BD!$H$2:$H$138,SMALL(IF(BD!$B$2:$B$138=$AG$91,IF(BD!$B$2:$B$138=$AG$91,ROW(BD!$B$2:$B$138)-ROW(BD!$B$2)+1),FALSE),ROWS(BD!$1:16)))))","v":""},null,{"$f":"IF($AM$91=\"\",\"\",IF(ROWS(BD!$1:16)>COUNTIFS(BD!$B:$B,$AM$91),\"\",INDEX(BD!$C$2:$C$138,SMALL(IF(BD!$B$2:$B$138=$AM$91,IF(BD!$B$2:$B$138=$AM$91,ROW(BD!$B$2:$B$138)-ROW(BD!$B$2)+1),FALSE),ROWS(BD!$1:16)))))","v":""},{"$f":"IF($AM$91=\"\",\"\",IF(ROWS(BD!$1:16)>COUNTIFS(BD!$B:$B,$AM$91),\"\",INDEX(BD!$E$2:$E$138,SMALL(IF(BD!$B$2:$B$138=$AM$91,IF(BD!$B$2:$B$138=$AM$91,ROW(BD!$B$2:$B$138)-ROW(BD!$B$2)+1),FALSE),ROWS(BD!$1:16)))))","v":""},{"$f":"IF($AM$91=\"\",\"\",IF(ROWS(BD!$1:16)>COUNTIFS(BD!$B:$B,$AM$91),\"\",INDEX(BD!$F$2:$F$138,SMALL(IF(BD!$B$2:$B$138=$AM$91,IF(BD!$B$2:$B$138=$AM$91,ROW(BD!$B$2:$B$138)-ROW(BD!$B$2)+1),FALSE),ROWS(BD!$1:16)))))","v":""},{"$f":"IF($AM$91=\"\",\"\",IF(ROWS(BD!$1:16)>COUNTIFS(BD!$B:$B,$AM$91),\"\",INDEX(BD!$G$2:$G$138,SMALL(IF(BD!$B$2:$B$138=$AM$91,IF(BD!$B$2:$B$138=$AM$91,ROW(BD!$B$2:$B$138)-ROW(BD!$B$2)+1),FALSE),ROWS(BD!$1:16)))))","v":""},{"$f":"IF($AM$91=\"\",\"\",IF(ROWS(BD!$1:16)>COUNTIFS(BD!$B:$B,$AM$91),\"\",INDEX(BD!$H$2:$H$138,SMALL(IF(BD!$B$2:$B$138=$AM$91,IF(BD!$B$2:$B$138=$AM$91,ROW(BD!$B$2:$B$138)-ROW(BD!$B$2)+1),FALSE),ROWS(BD!$1:16)))))","v":""}]
[null,null,{"$f":"IF($C$91=\"\",\"\",IF(ROWS(BD!$1:17)>COUNTIFS(BD!$B:$B,$C$91),\"\",INDEX(BD!$C$2:$C$138,SMALL(IF(BD!$B$2:$B$138=$C$91,IF(BD!$B$2:$B$138=$C$91,ROW(BD!$B$2:$B$138)-ROW(BD!$B$2)+1),FALSE),ROWS(BD!$1:17)))))","v":""},{"$f":"IF($C$91=\"\",\"\",IF(ROWS(BD!$1:17)>COUNTIFS(BD!$B:$B,$C$91),\"\",INDEX(BD!$E$2:$E$138,SMALL(IF(BD!$B$2:$B$138=$C$91,IF(BD!$B$2:$B$138=$C$91,ROW(BD!$B$2:$B$138)-ROW(BD!$B$2)+1),FALSE),ROWS(BD!$1:17)))))","v":""},{"$f":"IF($C$91=\"\",\"\",IF(ROWS(BD!$1:17)>COUNTIFS(BD!$B:$B,$C$91),\"\",INDEX(BD!$F$2:$F$138,SMALL(IF(BD!$B$2:$B$138=$C$91,IF(BD!$B$2:$B$138=$C$91,ROW(BD!$B$2:$B$138)-ROW(BD!$B$2)+1),FALSE),ROWS(BD!$1:17)))))","v":""},{"$f":"IF($C$91=\"\",\"\",IF(ROWS(BD!$1:17)>COUNTIFS(BD!$B:$B,$C$91),\"\",INDEX(BD!$G$2:$G$138,SMALL(IF(BD!$B$2:$B$138=$C$91,IF(BD!$B$2:$B$138=$C$91,ROW(BD!$B$2:$B$138)-ROW(BD!$B$2)+1),FALSE),ROWS(BD!$1:17)))))","v":""},{"$f":"IF($C$91=\"\",\"\",IF(ROWS(BD!$1:17)>COUNTIFS(BD!$B:$B,$C$91),\"\",INDEX(BD!$H$2:$H$138,SMALL(IF(BD!$B$2:$B$138=$C$91,IF(BD!$B$2:$B$138=$C$91,ROW(BD!$B$2:$B$138)-ROW(BD!$B$2)+1),FALSE),ROWS(BD!$1:17)))))","v":""},null,{"$f":"IF($I$91=\"\",\"\",IF(ROWS(BD!$1:17)>COUNTIFS(BD!$B:$B,$I$91),\"\",INDEX(BD!$C$2:$C$138,SMALL(IF(BD!$B$2:$B$138=$I$91,IF(BD!$B$2:$B$138=$I$91,ROW(BD!$B$2:$B$138)-ROW(BD!$B$2)+1),FALSE),ROWS(BD!$1:17)))))","v":""},{"$f":"IF($I$91=\"\",\"\",IF(ROWS(BD!$1:17)>COUNTIFS(BD!$B:$B,$I$91),\"\",INDEX(BD!$E$2:$E$138,SMALL(IF(BD!$B$2:$B$138=$I$91,IF(BD!$B$2:$B$138=$I$91,ROW(BD!$B$2:$B$138)-ROW(BD!$B$2)+1),FALSE),ROWS(BD!$1:17)))))","v":""},{"$f":"IF($I$91=\"\",\"\",IF(ROWS(BD!$1:17)>COUNTIFS(BD!$B:$B,$I$91),\"\",INDEX(BD!$F$2:$F$138,SMALL(IF(BD!$B$2:$B$138=$I$91,IF(BD!$B$2:$B$138=$I$91,ROW(BD!$B$2:$B$138)-ROW(BD!$B$2)+1),FALSE),ROWS(BD!$1:17)))))","v":""},{"$f":"IF($I$91=\"\",\"\",IF(ROWS(BD!$1:17)>COUNTIFS(BD!$B:$B,$I$91),\"\",INDEX(BD!$G$2:$G$138,SMALL(IF(BD!$B$2:$B$138=$I$91,IF(BD!$B$2:$B$138=$I$91,ROW(BD!$B$2:$B$138)-ROW(BD!$B$2)+1),FALSE),ROWS(BD!$1:17)))))","v":""},{"$f":"IF($I$91=\"\",\"\",IF(ROWS(BD!$1:17)>COUNTIFS(BD!$B:$B,$I$91),\"\",INDEX(BD!$H$2:$H$138,SMALL(IF(BD!$B$2:$B$138=$I$91,IF(BD!$B$2:$B$138=$I$91,ROW(BD!$B$2:$B$138)-ROW(BD!$B$2)+1),FALSE),ROWS(BD!$1:17)))))","v":""},null,{"$f":"IF($O$91=\"\",\"\",IF(ROWS(BD!$1:17)>COUNTIFS(BD!$B:$B,$O$91),\"\",INDEX(BD!$C$2:$C$138,SMALL(IF(BD!$B$2:$B$138=$O$91,IF(BD!$B$2:$B$138=$O$91,ROW(BD!$B$2:$B$138)-ROW(BD!$B$2)+1),FALSE),ROWS(BD!$1:17)))))","v":""},{"$f":"IF($O$91=\"\",\"\",IF(ROWS(BD!$1:17)>COUNTIFS(BD!$B:$B,$O$91),\"\",INDEX(BD!$E$2:$E$138,SMALL(IF(BD!$B$2:$B$138=$O$91,IF(BD!$B$2:$B$138=$O$91,ROW(BD!$B$2:$B$138)-ROW(BD!$B$2)+1),FALSE),ROWS(BD!$1:17)))))","v":""},{"$f":"IF($O$91=\"\",\"\",IF(ROWS(BD!$1:17)>COUNTIFS(BD!$B:$B,$O$91),\"\",INDEX(BD!$F$2:$F$138,SMALL(IF(BD!$B$2:$B$138=$O$91,IF(BD!$B$2:$B$138=$O$91,ROW(BD!$B$2:$B$138)-ROW(BD!$B$2)+1),FALSE),ROWS(BD!$1:17)))))","v":""},{"$f":"IF($O$91=\"\",\"\",IF(ROWS(BD!$1:17)>COUNTIFS(BD!$B:$B,$O$91),\"\",INDEX(BD!$G$2:$G$138,SMALL(IF(BD!$B$2:$B$138=$O$91,IF(BD!$B$2:$B$138=$O$91,ROW(BD!$B$2:$B$138)-ROW(BD!$B$2)+1),FALSE),ROWS(BD!$1:17)))))","v":""},{"$f":"IF($O$91=\"\",\"\",IF(ROWS(BD!$1:17)>COUNTIFS(BD!$B:$B,$O$91),\"\",INDEX(BD!$H$2:$H$138,SMALL(IF(BD!$B$2:$B$138=$O$91,IF(BD!$B$2:$B$138=$O$91,ROW(BD!$B$2:$B$138)-ROW(BD!$B$2)+1),FALSE),ROWS(BD!$1:17)))))","v":""},null,{"$f":"IF($U$91=\"\",\"\",IF(ROWS(BD!$1:17)>COUNTIFS(BD!$B:$B,$U$91),\"\",INDEX(BD!$C$2:$C$138,SMALL(IF(BD!$B$2:$B$138=$U$91,IF(BD!$B$2:$B$138=$U$91,ROW(BD!$B$2:$B$138)-ROW(BD!$B$2)+1),FALSE),ROWS(BD!$1:17)))))","v":""},{"$f":"IF($U$91=\"\",\"\",IF(ROWS(BD!$1:17)>COUNTIFS(BD!$B:$B,$U$91),\"\",INDEX(BD!$E$2:$E$138,SMALL(IF(BD!$B$2:$B$138=$U$91,IF(BD!$B$2:$B$138=$U$91,ROW(BD!$B$2:$B$138)-ROW(BD!$B$2)+1),FALSE),ROWS(BD!$1:17)))))","v":""},{"$f":"IF($U$91=\"\",\"\",IF(ROWS(BD!$1:17)>COUNTIFS(BD!$B:$B,$U$91),\"\",INDEX(BD!$F$2:$F$138,SMALL(IF(BD!$B$2:$B$138=$U$91,IF(BD!$B$2:$B$138=$U$91,ROW(BD!$B$2:$B$138)-ROW(BD!$B$2)+1),FALSE),ROWS(BD!$1:17)))))","v":""},{"$f":"IF($U$91=\"\",\"\",IF(ROWS(BD!$1:17)>COUNTIFS(BD!$B:$B,$U$91),\"\",INDEX(BD!$G$2:$G$138,SMALL(IF(BD!$B$2:$B$138=$U$91,IF(BD!$B$2:$B$138=$U$91,ROW(BD!$B$2:$B$138)-ROW(BD!$B$2)+1),FALSE),ROWS(BD!$1:17)))))","v":""},{"$f":"IF($U$91=\"\",\"\",IF(ROWS(BD!$1:17)>COUNTIFS(BD!$B:$B,$U$91),\"\",INDEX(BD!$H$2:$H$138,SMALL(IF(BD!$B$2:$B$138=$U$91,IF(BD!$B$2:$B$138=$U$91,ROW(BD!$B$2:$B$138)-ROW(BD!$B$2)+1),FALSE),ROWS(BD!$1:17)))))","v":""},null,{"$f":"IF($AA$91=\"\",\"\",IF(ROWS(BD!$1:17)>COUNTIFS(BD!$B:$B,$AA$91),\"\",INDEX(BD!$C$2:$C$138,SMALL(IF(BD!$B$2:$B$138=$AA$91,IF(BD!$B$2:$B$138=$AA$91,ROW(BD!$B$2:$B$138)-ROW(BD!$B$2)+1),FALSE),ROWS(BD!$1:17)))))","v":""},{"$f":"IF($AA$91=\"\",\"\",IF(ROWS(BD!$1:17)>COUNTIFS(BD!$B:$B,$AA$91),\"\",INDEX(BD!$E$2:$E$138,SMALL(IF(BD!$B$2:$B$138=$AA$91,IF(BD!$B$2:$B$138=$AA$91,ROW(BD!$B$2:$B$138)-ROW(BD!$B$2)+1),FALSE),ROWS(BD!$1:17)))))","v":""},{"$f":"IF($AA$91=\"\",\"\",IF(ROWS(BD!$1:17)>COUNTIFS(BD!$B:$B,$AA$91),\"\",INDEX(BD!$F$2:$F$138,SMALL(IF(BD!$B$2:$B$138=$AA$91,IF(BD!$B$2:$B$138=$AA$91,ROW(BD!$B$2:$B$138)-ROW(BD!$B$2)+1),FALSE),ROWS(BD!$1:17)))))","v":""},{"$f":"IF($AA$91=\"\",\"\",IF(ROWS(BD!$1:17)>COUNTIFS(BD!$B:$B,$AA$91),\"\",INDEX(BD!$G$2:$G$138,SMALL(IF(BD!$B$2:$B$138=$AA$91,IF(BD!$B$2:$B$138=$AA$91,ROW(BD!$B$2:$B$138)-ROW(BD!$B$2)+1),FALSE),ROWS(BD!$1:17)))))","v":""},{"$f":"IF($AA$91=\"\",\"\",IF(ROWS(BD!$1:17)>COUNTIFS(BD!$B:$B,$AA$91),\"\",INDEX(BD!$H$2:$H$138,SMALL(IF(BD!$B$2:$B$138=$AA$91,IF(BD!$B$2:$B$138=$AA$91,ROW(BD!$B$2:$B$138)-ROW(BD!$B$2)+1),FALSE),ROWS(BD!$1:17)))))","v":""},null,{"$f":"IF($AG$91=\"\",\"\",IF(ROWS(BD!$1:17)>COUNTIFS(BD!$B:$B,$AG$91),\"\",INDEX(BD!$C$2:$C$138,SMALL(IF(BD!$B$2:$B$138=$AG$91,IF(BD!$B$2:$B$138=$AG$91,ROW(BD!$B$2:$B$138)-ROW(BD!$B$2)+1),FALSE),ROWS(BD!$1:17)))))","v":""},{"$f":"IF($AG$91=\"\",\"\",IF(ROWS(BD!$1:17)>COUNTIFS(BD!$B:$B,$AG$91),\"\",INDEX(BD!$E$2:$E$138,SMALL(IF(BD!$B$2:$B$138=$AG$91,IF(BD!$B$2:$B$138=$AG$91,ROW(BD!$B$2:$B$138)-ROW(BD!$B$2)+1),FALSE),ROWS(BD!$1:17)))))","v":""},{"$f":"IF($AG$91=\"\",\"\",IF(ROWS(BD!$1:17)>COUNTIFS(BD!$B:$B,$AG$91),\"\",INDEX(BD!$F$2:$F$138,SMALL(IF(BD!$B$2:$B$138=$AG$91,IF(BD!$B$2:$B$138=$AG$91,ROW(BD!$B$2:$B$138)-ROW(BD!$B$2)+1),FALSE),ROWS(BD!$1:17)))))","v":""},{"$f":"IF($AG$91=\"\",\"\",IF(ROWS(BD!$1:17)>COUNTIFS(BD!$B:$B,$AG$91),\"\",INDEX(BD!$G$2:$G$138,SMALL(IF(BD!$B$2:$B$138=$AG$91,IF(BD!$B$2:$B$138=$AG$91,ROW(BD!$B$2:$B$138)-ROW(BD!$B$2)+1),FALSE),ROWS(BD!$1:17)))))","v":""},{"$f":"IF($AG$91=\"\",\"\",IF(ROWS(BD!$1:17)>COUNTIFS(BD!$B:$B,$AG$91),\"\",INDEX(BD!$H$2:$H$138,SMALL(IF(BD!$B$2:$B$138=$AG$91,IF(BD!$B$2:$B$138=$AG$91,ROW(BD!$B$2:$B$138)-ROW(BD!$B$2)+1),FALSE),ROWS(BD!$1:17)))))","v":""},null,{"$f":"IF($AM$91=\"\",\"\",IF(ROWS(BD!$1:17)>COUNTIFS(BD!$B:$B,$AM$91),\"\",INDEX(BD!$C$2:$C$138,SMALL(IF(BD!$B$2:$B$138=$AM$91,IF(BD!$B$2:$B$138=$AM$91,ROW(BD!$B$2:$B$138)-ROW(BD!$B$2)+1),FALSE),ROWS(BD!$1:17)))))","v":""},{"$f":"IF($AM$91=\"\",\"\",IF(ROWS(BD!$1:17)>COUNTIFS(BD!$B:$B,$AM$91),\"\",INDEX(BD!$E$2:$E$138,SMALL(IF(BD!$B$2:$B$138=$AM$91,IF(BD!$B$2:$B$138=$AM$91,ROW(BD!$B$2:$B$138)-ROW(BD!$B$2)+1),FALSE),ROWS(BD!$1:17)))))","v":""},{"$f":"IF($AM$91=\"\",\"\",IF(ROWS(BD!$1:17)>COUNTIFS(BD!$B:$B,$AM$91),\"\",INDEX(BD!$F$2:$F$138,SMALL(IF(BD!$B$2:$B$138=$AM$91,IF(BD!$B$2:$B$138=$AM$91,ROW(BD!$B$2:$B$138)-ROW(BD!$B$2)+1),FALSE),ROWS(BD!$1:17)))))","v":""},{"$f":"IF($AM$91=\"\",\"\",IF(ROWS(BD!$1:17)>COUNTIFS(BD!$B:$B,$AM$91),\"\",INDEX(BD!$G$2:$G$138,SMALL(IF(BD!$B$2:$B$138=$AM$91,IF(BD!$B$2:$B$138=$AM$91,ROW(BD!$B$2:$B$138)-ROW(BD!$B$2)+1),FALSE),ROWS(BD!$1:17)))))","v":""},{"$f":"IF($AM$91=\"\",\"\",IF(ROWS(BD!$1:17)>COUNTIFS(BD!$B:$B,$AM$91),\"\",INDEX(BD!$H$2:$H$138,SMALL(IF(BD!$B$2:$B$138=$AM$91,IF(BD!$B$2:$B$138=$AM$91,ROW(BD!$B$2:$B$138)-ROW(BD!$B$2)+1),FALSE),ROWS(BD!$1:17)))))","v":""}]
[null,null,{"$f":"IF($C$91=\"\",\"\",IF(ROWS(BD!$1:18)>COUNTIFS(BD!$B:$B,$C$91),\"\",INDEX(BD!$C$2:$C$138,SMALL(IF(BD!$B$2:$B$138=$C$91,IF(BD!$B$2:$B$138=$C$91,ROW(BD!$B$2:$B$138)-ROW(BD!$B$2)+1),FALSE),ROWS(BD!$1:18)))))","v":""},{"$f":"IF($C$91=\"\",\"\",IF(ROWS(BD!$1:18)>COUNTIFS(BD!$B:$B,$C$91),\"\",INDEX(BD!$E$2:$E$138,SMALL(IF(BD!$B$2:$B$138=$C$91,IF(BD!$B$2:$B$138=$C$91,ROW(BD!$B$2:$B$138)-ROW(BD!$B$2)+1),FALSE),ROWS(BD!$1:18)))))","v":""},{"$f":"IF($C$91=\"\",\"\",IF(ROWS(BD!$1:18)>COUNTIFS(BD!$B:$B,$C$91),\"\",INDEX(BD!$F$2:$F$138,SMALL(IF(BD!$B$2:$B$138=$C$91,IF(BD!$B$2:$B$138=$C$91,ROW(BD!$B$2:$B$138)-ROW(BD!$B$2)+1),FALSE),ROWS(BD!$1:18)))))","v":""},{"$f":"IF($C$91=\"\",\"\",IF(ROWS(BD!$1:18)>COUNTIFS(BD!$B:$B,$C$91),\"\",INDEX(BD!$G$2:$G$138,SMALL(IF(BD!$B$2:$B$138=$C$91,IF(BD!$B$2:$B$138=$C$91,ROW(BD!$B$2:$B$138)-ROW(BD!$B$2)+1),FALSE),ROWS(BD!$1:18)))))","v":""},{"$f":"IF($C$91=\"\",\"\",IF(ROWS(BD!$1:18)>COUNTIFS(BD!$B:$B,$C$91),\"\",INDEX(BD!$H$2:$H$138,SMALL(IF(BD!$B$2:$B$138=$C$91,IF(BD!$B$2:$B$138=$C$91,ROW(BD!$B$2:$B$138)-ROW(BD!$B$2)+1),FALSE),ROWS(BD!$1:18)))))","v":""},null,{"$f":"IF($I$91=\"\",\"\",IF(ROWS(BD!$1:18)>COUNTIFS(BD!$B:$B,$I$91),\"\",INDEX(BD!$C$2:$C$138,SMALL(IF(BD!$B$2:$B$138=$I$91,IF(BD!$B$2:$B$138=$I$91,ROW(BD!$B$2:$B$138)-ROW(BD!$B$2)+1),FALSE),ROWS(BD!$1:18)))))","v":""},{"$f":"IF($I$91=\"\",\"\",IF(ROWS(BD!$1:18)>COUNTIFS(BD!$B:$B,$I$91),\"\",INDEX(BD!$E$2:$E$138,SMALL(IF(BD!$B$2:$B$138=$I$91,IF(BD!$B$2:$B$138=$I$91,ROW(BD!$B$2:$B$138)-ROW(BD!$B$2)+1),FALSE),ROWS(BD!$1:18)))))","v":""},{"$f":"IF($I$91=\"\",\"\",IF(ROWS(BD!$1:18)>COUNTIFS(BD!$B:$B,$I$91),\"\",INDEX(BD!$F$2:$F$138,SMALL(IF(BD!$B$2:$B$138=$I$91,IF(BD!$B$2:$B$138=$I$91,ROW(BD!$B$2:$B$138)-ROW(BD!$B$2)+1),FALSE),ROWS(BD!$1:18)))))","v":""},{"$f":"IF($I$91=\"\",\"\",IF(ROWS(BD!$1:18)>COUNTIFS(BD!$B:$B,$I$91),\"\",INDEX(BD!$G$2:$G$138,SMALL(IF(BD!$B$2:$B$138=$I$91,IF(BD!$B$2:$B$138=$I$91,ROW(BD!$B$2:$B$138)-ROW(BD!$B$2)+1),FALSE),ROWS(BD!$1:18)))))","v":""},{"$f":"IF($I$91=\"\",\"\",IF(ROWS(BD!$1:18)>COUNTIFS(BD!$B:$B,$I$91),\"\",INDEX(BD!$H$2:$H$138,SMALL(IF(BD!$B$2:$B$138=$I$91,IF(BD!$B$2:$B$138=$I$91,ROW(BD!$B$2:$B$138)-ROW(BD!$B$2)+1),FALSE),ROWS(BD!$1:18)))))","v":""},null,{"$f":"IF($O$91=\"\",\"\",IF(ROWS(BD!$1:18)>COUNTIFS(BD!$B:$B,$O$91),\"\",INDEX(BD!$C$2:$C$138,SMALL(IF(BD!$B$2:$B$138=$O$91,IF(BD!$B$2:$B$138=$O$91,ROW(BD!$B$2:$B$138)-ROW(BD!$B$2)+1),FALSE),ROWS(BD!$1:18)))))","v":""},{"$f":"IF($O$91=\"\",\"\",IF(ROWS(BD!$1:18)>COUNTIFS(BD!$B:$B,$O$91),\"\",INDEX(BD!$E$2:$E$138,SMALL(IF(BD!$B$2:$B$138=$O$91,IF(BD!$B$2:$B$138=$O$91,ROW(BD!$B$2:$B$138)-ROW(BD!$B$2)+1),FALSE),ROWS(BD!$1:18)))))","v":""},{"$f":"IF($O$91=\"\",\"\",IF(ROWS(BD!$1:18)>COUNTIFS(BD!$B:$B,$O$91),\"\",INDEX(BD!$F$2:$F$138,SMALL(IF(BD!$B$2:$B$138=$O$91,IF(BD!$B$2:$B$138=$O$91,ROW(BD!$B$2:$B$138)-ROW(BD!$B$2)+1),FALSE),ROWS(BD!$1:18)))))","v":""},{"$f":"IF($O$91=\"\",\"\",IF(ROWS(BD!$1:18)>COUNTIFS(BD!$B:$B,$O$91),\"\",INDEX(BD!$G$2:$G$138,SMALL(IF(BD!$B$2:$B$138=$O$91,IF(BD!$B$2:$B$138=$O$91,ROW(BD!$B$2:$B$138)-ROW(BD!$B$2)+1),FALSE),ROWS(BD!$1:18)))))","v":""},{"$f":"IF($O$91=\"\",\"\",IF(ROWS(BD!$1:18)>COUNTIFS(BD!$B:$B,$O$91),\"\",INDEX(BD!$H$2:$H$138,SMALL(IF(BD!$B$2:$B$138=$O$91,IF(BD!$B$2:$B$138=$O$91,ROW(BD!$B$2:$B$138)-ROW(BD!$B$2)+1),FALSE),ROWS(BD!$1:18)))))","v":""},null,{"$f":"IF($U$91=\"\",\"\",IF(ROWS(BD!$1:18)>COUNTIFS(BD!$B:$B,$U$91),\"\",INDEX(BD!$C$2:$C$138,SMALL(IF(BD!$B$2:$B$138=$U$91,IF(BD!$B$2:$B$138=$U$91,ROW(BD!$B$2:$B$138)-ROW(BD!$B$2)+1),FALSE),ROWS(BD!$1:18)))))","v":""},{"$f":"IF($U$91=\"\",\"\",IF(ROWS(BD!$1:18)>COUNTIFS(BD!$B:$B,$U$91),\"\",INDEX(BD!$E$2:$E$138,SMALL(IF(BD!$B$2:$B$138=$U$91,IF(BD!$B$2:$B$138=$U$91,ROW(BD!$B$2:$B$138)-ROW(BD!$B$2)+1),FALSE),ROWS(BD!$1:18)))))","v":""},{"$f":"IF($U$91=\"\",\"\",IF(ROWS(BD!$1:18)>COUNTIFS(BD!$B:$B,$U$91),\"\",INDEX(BD!$F$2:$F$138,SMALL(IF(BD!$B$2:$B$138=$U$91,IF(BD!$B$2:$B$138=$U$91,ROW(BD!$B$2:$B$138)-ROW(BD!$B$2)+1),FALSE),ROWS(BD!$1:18)))))","v":""},{"$f":"IF($U$91=\"\",\"\",IF(ROWS(BD!$1:18)>COUNTIFS(BD!$B:$B,$U$91),\"\",INDEX(BD!$G$2:$G$138,SMALL(IF(BD!$B$2:$B$138=$U$91,IF(BD!$B$2:$B$138=$U$91,ROW(BD!$B$2:$B$138)-ROW(BD!$B$2)+1),FALSE),ROWS(BD!$1:18)))))","v":""},{"$f":"IF($U$91=\"\",\"\",IF(ROWS(BD!$1:18)>COUNTIFS(BD!$B:$B,$U$91),\"\",INDEX(BD!$H$2:$H$138,SMALL(IF(BD!$B$2:$B$138=$U$91,IF(BD!$B$2:$B$138=$U$91,ROW(BD!$B$2:$B$138)-ROW(BD!$B$2)+1),FALSE),ROWS(BD!$1:18)))))","v":""},null,{"$f":"IF($AA$91=\"\",\"\",IF(ROWS(BD!$1:18)>COUNTIFS(BD!$B:$B,$AA$91),\"\",INDEX(BD!$C$2:$C$138,SMALL(IF(BD!$B$2:$B$138=$AA$91,IF(BD!$B$2:$B$138=$AA$91,ROW(BD!$B$2:$B$138)-ROW(BD!$B$2)+1),FALSE),ROWS(BD!$1:18)))))","v":""},{"$f":"IF($AA$91=\"\",\"\",IF(ROWS(BD!$1:18)>COUNTIFS(BD!$B:$B,$AA$91),\"\",INDEX(BD!$E$2:$E$138,SMALL(IF(BD!$B$2:$B$138=$AA$91,IF(BD!$B$2:$B$138=$AA$91,ROW(BD!$B$2:$B$138)-ROW(BD!$B$2)+1),FALSE),ROWS(BD!$1:18)))))","v":""},{"$f":"IF($AA$91=\"\",\"\",IF(ROWS(BD!$1:18)>COUNTIFS(BD!$B:$B,$AA$91),\"\",INDEX(BD!$F$2:$F$138,SMALL(IF(BD!$B$2:$B$138=$AA$91,IF(BD!$B$2:$B$138=$AA$91,ROW(BD!$B$2:$B$138)-ROW(BD!$B$2)+1),FALSE),ROWS(BD!$1:18)))))","v":""},{"$f":"IF($AA$91=\"\",\"\",IF(ROWS(BD!$1:18)>COUNTIFS(BD!$B:$B,$AA$91),\"\",INDEX(BD!$G$2:$G$138,SMALL(IF(BD!$B$2:$B$138=$AA$91,IF(BD!$B$2:$B$138=$AA$91,ROW(BD!$B$2:$B$138)-ROW(BD!$B$2)+1),FALSE),ROWS(BD!$1:18)))))","v":""},{"$f":"IF($AA$91=\"\",\"\",IF(ROWS(BD!$1:18)>COUNTIFS(BD!$B:$B,$AA$91),\"\",INDEX(BD!$H$2:$H$138,SMALL(IF(BD!$B$2:$B$138=$AA$91,IF(BD!$B$2:$B$138=$AA$91,ROW(BD!$B$2:$B$138)-ROW(BD!$B$2)+1),FALSE),ROWS(BD!$1:18)))))","v":""},null,{"$f":"IF($AG$91=\"\",\"\",IF(ROWS(BD!$1:18)>COUNTIFS(BD!$B:$B,$AG$91),\"\",INDEX(BD!$C$2:$C$138,SMALL(IF(BD!$B$2:$B$138=$AG$91,IF(BD!$B$2:$B$138=$AG$91,ROW(BD!$B$2:$B$138)-ROW(BD!$B$2)+1),FALSE),ROWS(BD!$1:18)))))","v":""},{"$f":"IF($AG$91=\"\",\"\",IF(ROWS(BD!$1:18)>COUNTIFS(BD!$B:$B,$AG$91),\"\",INDEX(BD!$E$2:$E$138,SMALL(IF(BD!$B$2:$B$138=$AG$91,IF(BD!$B$2:$B$138=$AG$91,ROW(BD!$B$2:$B$138)-ROW(BD!$B$2)+1),FALSE),ROWS(BD!$1:18)))))","v":""},{"$f":"IF($AG$91=\"\",\"\",IF(ROWS(BD!$1:18)>COUNTIFS(BD!$B:$B,$AG$91),\"\",INDEX(BD!$F$2:$F$138,SMALL(IF(BD!$B$2:$B$138=$AG$91,IF(BD!$B$2:$B$138=$AG$91,ROW(BD!$B$2:$B$138)-ROW(BD!$B$2)+1),FALSE),ROWS(BD!$1:18)))))","v":""},{"$f":"IF($AG$91=\"\",\"\",IF(ROWS(BD!$1:18)>COUNTIFS(BD!$B:$B,$AG$91),\"\",INDEX(BD!$G$2:$G$138,SMALL(IF(BD!$B$2:$B$138=$AG$91,IF(BD!$B$2:$B$138=$AG$91,ROW(BD!$B$2:$B$138)-ROW(BD!$B$2)+1),FALSE),ROWS(BD!$1:18)))))","v":""},{"$f":"IF($AG$91=\"\",\"\",IF(ROWS(BD!$1:18)>COUNTIFS(BD!$B:$B,$AG$91),\"\",INDEX(BD!$H$2:$H$138,SMALL(IF(BD!$B$2:$B$138=$AG$91,IF(BD!$B$2:$B$138=$AG$91,ROW(BD!$B$2:$B$138)-ROW(BD!$B$2)+1),FALSE),ROWS(BD!$1:18)))))","v":""},null,{"$f":"IF($AM$91=\"\",\"\",IF(ROWS(BD!$1:18)>COUNTIFS(BD!$B:$B,$AM$91),\"\",INDEX(BD!$C$2:$C$138,SMALL(IF(BD!$B$2:$B$138=$AM$91,IF(BD!$B$2:$B$138=$AM$91,ROW(BD!$B$2:$B$138)-ROW(BD!$B$2)+1),FALSE),ROWS(BD!$1:18)))))","v":""},{"$f":"IF($AM$91=\"\",\"\",IF(ROWS(BD!$1:18)>COUNTIFS(BD!$B:$B,$AM$91),\"\",INDEX(BD!$E$2:$E$138,SMALL(IF(BD!$B$2:$B$138=$AM$91,IF(BD!$B$2:$B$138=$AM$91,ROW(BD!$B$2:$B$138)-ROW(BD!$B$2)+1),FALSE),ROWS(BD!$1:18)))))","v":""},{"$f":"IF($AM$91=\"\",\"\",IF(ROWS(BD!$1:18)>COUNTIFS(BD!$B:$B,$AM$91),\"\",INDEX(BD!$F$2:$F$138,SMALL(IF(BD!$B$2:$B$138=$AM$91,IF(BD!$B$2:$B$138=$AM$91,ROW(BD!$B$2:$B$138)-ROW(BD!$B$2)+1),FALSE),ROWS(BD!$1:18)))))","v":""},{"$f":"IF($AM$91=\"\",\"\",IF(ROWS(BD!$1:18)>COUNTIFS(BD!$B:$B,$AM$91),\"\",INDEX(BD!$G$2:$G$138,SMALL(IF(BD!$B$2:$B$138=$AM$91,IF(BD!$B$2:$B$138=$AM$91,ROW(BD!$B$2:$B$138)-ROW(BD!$B$2)+1),FALSE),ROWS(BD!$1:18)))))","v":""},{"$f":"IF($AM$91=\"\",\"\",IF(ROWS(BD!$1:18)>COUNTIFS(BD!$B:$B,$AM$91),\"\",INDEX(BD!$H$2:$H$138,SMALL(IF(BD!$B$2:$B$138=$AM$91,IF(BD!$B$2:$B$138=$AM$91,ROW(BD!$B$2:$B$138)-ROW(BD!$B$2)+1),FALSE),ROWS(BD!$1:18)))))","v":""}]
[null,null,{"$f":"IF($C$91=\"\",\"\",IF(ROWS(BD!$1:19)>COUNTIFS(BD!$B:$B,$C$91),\"\",INDEX(BD!$C$2:$C$138,SMALL(IF(BD!$B$2:$B$138=$C$91,IF(BD!$B$2:$B$138=$C$91,ROW(BD!$B$2:$B$138)-ROW(BD!$B$2)+1),FALSE),ROWS(BD!$1:19)))))","v":""},{"$f":"IF($C$91=\"\",\"\",IF(ROWS(BD!$1:19)>COUNTIFS(BD!$B:$B,$C$91),\"\",INDEX(BD!$E$2:$E$138,SMALL(IF(BD!$B$2:$B$138=$C$91,IF(BD!$B$2:$B$138=$C$91,ROW(BD!$B$2:$B$138)-ROW(BD!$B$2)+1),FALSE),ROWS(BD!$1:19)))))","v":""},{"$f":"IF($C$91=\"\",\"\",IF(ROWS(BD!$1:19)>COUNTIFS(BD!$B:$B,$C$91),\"\",INDEX(BD!$F$2:$F$138,SMALL(IF(BD!$B$2:$B$138=$C$91,IF(BD!$B$2:$B$138=$C$91,ROW(BD!$B$2:$B$138)-ROW(BD!$B$2)+1),FALSE),ROWS(BD!$1:19)))))","v":""},{"$f":"IF($C$91=\"\",\"\",IF(ROWS(BD!$1:19)>COUNTIFS(BD!$B:$B,$C$91),\"\",INDEX(BD!$G$2:$G$138,SMALL(IF(BD!$B$2:$B$138=$C$91,IF(BD!$B$2:$B$138=$C$91,ROW(BD!$B$2:$B$138)-ROW(BD!$B$2)+1),FALSE),ROWS(BD!$1:19)))))","v":""},{"$f":"IF($C$91=\"\",\"\",IF(ROWS(BD!$1:19)>COUNTIFS(BD!$B:$B,$C$91),\"\",INDEX(BD!$H$2:$H$138,SMALL(IF(BD!$B$2:$B$138=$C$91,IF(BD!$B$2:$B$138=$C$91,ROW(BD!$B$2:$B$138)-ROW(BD!$B$2)+1),FALSE),ROWS(BD!$1:19)))))","v":""},null,{"$f":"IF($I$91=\"\",\"\",IF(ROWS(BD!$1:19)>COUNTIFS(BD!$B:$B,$I$91),\"\",INDEX(BD!$C$2:$C$138,SMALL(IF(BD!$B$2:$B$138=$I$91,IF(BD!$B$2:$B$138=$I$91,ROW(BD!$B$2:$B$138)-ROW(BD!$B$2)+1),FALSE),ROWS(BD!$1:19)))))","v":""},{"$f":"IF($I$91=\"\",\"\",IF(ROWS(BD!$1:19)>COUNTIFS(BD!$B:$B,$I$91),\"\",INDEX(BD!$E$2:$E$138,SMALL(IF(BD!$B$2:$B$138=$I$91,IF(BD!$B$2:$B$138=$I$91,ROW(BD!$B$2:$B$138)-ROW(BD!$B$2)+1),FALSE),ROWS(BD!$1:19)))))","v":""},{"$f":"IF($I$91=\"\",\"\",IF(ROWS(BD!$1:19)>COUNTIFS(BD!$B:$B,$I$91),\"\",INDEX(BD!$F$2:$F$138,SMALL(IF(BD!$B$2:$B$138=$I$91,IF(BD!$B$2:$B$138=$I$91,ROW(BD!$B$2:$B$138)-ROW(BD!$B$2)+1),FALSE),ROWS(BD!$1:19)))))","v":""},{"$f":"IF($I$91=\"\",\"\",IF(ROWS(BD!$1:19)>COUNTIFS(BD!$B:$B,$I$91),\"\",INDEX(BD!$G$2:$G$138,SMALL(IF(BD!$B$2:$B$138=$I$91,IF(BD!$B$2:$B$138=$I$91,ROW(BD!$B$2:$B$138)-ROW(BD!$B$2)+1),FALSE),ROWS(BD!$1:19)))))","v":""},{"$f":"IF($I$91=\"\",\"\",IF(ROWS(BD!$1:19)>COUNTIFS(BD!$B:$B,$I$91),\"\",INDEX(BD!$H$2:$H$138,SMALL(IF(BD!$B$2:$B$138=$I$91,IF(BD!$B$2:$B$138=$I$91,ROW(BD!$B$2:$B$138)-ROW(BD!$B$2)+1),FALSE),ROWS(BD!$1:19)))))","v":""},null,{"$f":"IF($O$91=\"\",\"\",IF(ROWS(BD!$1:19)>COUNTIFS(BD!$B:$B,$O$91),\"\",INDEX(BD!$C$2:$C$138,SMALL(IF(BD!$B$2:$B$138=$O$91,IF(BD!$B$2:$B$138=$O$91,ROW(BD!$B$2:$B$138)-ROW(BD!$B$2)+1),FALSE),ROWS(BD!$1:19)))))","v":""},{"$f":"IF($O$91=\"\",\"\",IF(ROWS(BD!$1:19)>COUNTIFS(BD!$B:$B,$O$91),\"\",INDEX(BD!$E$2:$E$138,SMALL(IF(BD!$B$2:$B$138=$O$91,IF(BD!$B$2:$B$138=$O$91,ROW(BD!$B$2:$B$138)-ROW(BD!$B$2)+1),FALSE),ROWS(BD!$1:19)))))","v":""},{"$f":"IF($O$91=\"\",\"\",IF(ROWS(BD!$1:19)>COUNTIFS(BD!$B:$B,$O$91),\"\",INDEX(BD!$F$2:$F$138,SMALL(IF(BD!$B$2:$B$138=$O$91,IF(BD!$B$2:$B$138=$O$91,ROW(BD!$B$2:$B$138)-ROW(BD!$B$2)+1),FALSE),ROWS(BD!$1:19)))))","v":""},{"$f":"IF($O$91=\"\",\"\",IF(ROWS(BD!$1:19)>COUNTIFS(BD!$B:$B,$O$91),\"\",INDEX(BD!$G$2:$G$138,SMALL(IF(BD!$B$2:$B$138=$O$91,IF(BD!$B$2:$B$138=$O$91,ROW(BD!$B$2:$B$138)-ROW(BD!$B$2)+1),FALSE),ROWS(BD!$1:19)))))","v":""},{"$f":"IF($O$91=\"\",\"\",IF(ROWS(BD!$1:19)>COUNTIFS(BD!$B:$B,$O$91),\"\",INDEX(BD!$H$2:$H$138,SMALL(IF(BD!$B$2:$B$138=$O$91,IF(BD!$B$2:$B$138=$O$91,ROW(BD!$B$2:$B$138)-ROW(BD!$B$2)+1),FALSE),ROWS(BD!$1:19)))))","v":""},null,{"$f":"IF($U$91=\"\",\"\",IF(ROWS(BD!$1:19)>COUNTIFS(BD!$B:$B,$U$91),\"\",INDEX(BD!$C$2:$C$138,SMALL(IF(BD!$B$2:$B$138=$U$91,IF(BD!$B$2:$B$138=$U$91,ROW(BD!$B$2:$B$138)-ROW(BD!$B$2)+1),FALSE),ROWS(BD!$1:19)))))","v":""},{"$f":"IF($U$91=\"\",\"\",IF(ROWS(BD!$1:19)>COUNTIFS(BD!$B:$B,$U$91),\"\",INDEX(BD!$E$2:$E$138,SMALL(IF(BD!$B$2:$B$138=$U$91,IF(BD!$B$2:$B$138=$U$91,ROW(BD!$B$2:$B$138)-ROW(BD!$B$2)+1),FALSE),ROWS(BD!$1:19)))))","v":""},{"$f":"IF($U$91=\"\",\"\",IF(ROWS(BD!$1:19)>COUNTIFS(BD!$B:$B,$U$91),\"\",INDEX(BD!$F$2:$F$138,SMALL(IF(BD!$B$2:$B$138=$U$91,IF(BD!$B$2:$B$138=$U$91,ROW(BD!$B$2:$B$138)-ROW(BD!$B$2)+1),FALSE),ROWS(BD!$1:19)))))","v":""},{"$f":"IF($U$91=\"\",\"\",IF(ROWS(BD!$1:19)>COUNTIFS(BD!$B:$B,$U$91),\"\",INDEX(BD!$G$2:$G$138,SMALL(IF(BD!$B$2:$B$138=$U$91,IF(BD!$B$2:$B$138=$U$91,ROW(BD!$B$2:$B$138)-ROW(BD!$B$2)+1),FALSE),ROWS(BD!$1:19)))))","v":""},{"$f":"IF($U$91=\"\",\"\",IF(ROWS(BD!$1:19)>COUNTIFS(BD!$B:$B,$U$91),\"\",INDEX(BD!$H$2:$H$138,SMALL(IF(BD!$B$2:$B$138=$U$91,IF(BD!$B$2:$B$138=$U$91,ROW(BD!$B$2:$B$138)-ROW(BD!$B$2)+1),FALSE),ROWS(BD!$1:19)))))","v":""},null,{"$f":"IF($AA$91=\"\",\"\",IF(ROWS(BD!$1:19)>COUNTIFS(BD!$B:$B,$AA$91),\"\",INDEX(BD!$C$2:$C$138,SMALL(IF(BD!$B$2:$B$138=$AA$91,IF(BD!$B$2:$B$138=$AA$91,ROW(BD!$B$2:$B$138)-ROW(BD!$B$2)+1),FALSE),ROWS(BD!$1:19)))))","v":""},{"$f":"IF($AA$91=\"\",\"\",IF(ROWS(BD!$1:19)>COUNTIFS(BD!$B:$B,$AA$91),\"\",INDEX(BD!$E$2:$E$138,SMALL(IF(BD!$B$2:$B$138=$AA$91,IF(BD!$B$2:$B$138=$AA$91,ROW(BD!$B$2:$B$138)-ROW(BD!$B$2)+1),FALSE),ROWS(BD!$1:19)))))","v":""},{"$f":"IF($AA$91=\"\",\"\",IF(ROWS(BD!$1:19)>COUNTIFS(BD!$B:$B,$AA$91),\"\",INDEX(BD!$F$2:$F$138,SMALL(IF(BD!$B$2:$B$138=$AA$91,IF(BD!$B$2:$B$138=$AA$91,ROW(BD!$B$2:$B$138)-ROW(BD!$B$2)+1),FALSE),ROWS(BD!$1:19)))))","v":""},{"$f":"IF($AA$91=\"\",\"\",IF(ROWS(BD!$1:19)>COUNTIFS(BD!$B:$B,$AA$91),\"\",INDEX(BD!$G$2:$G$138,SMALL(IF(BD!$B$2:$B$138=$AA$91,IF(BD!$B$2:$B$138=$AA$91,ROW(BD!$B$2:$B$138)-ROW(BD!$B$2)+1),FALSE),ROWS(BD!$1:19)))))","v":""},{"$f":"IF($AA$91=\"\",\"\",IF(ROWS(BD!$1:19)>COUNTIFS(BD!$B:$B,$AA$91),\"\",INDEX(BD!$H$2:$H$138,SMALL(IF(BD!$B$2:$B$138=$AA$91,IF(BD!$B$2:$B$138=$AA$91,ROW(BD!$B$2:$B$138)-ROW(BD!$B$2)+1),FALSE),ROWS(BD!$1:19)))))","v":""},null,{"$f":"IF($AG$91=\"\",\"\",IF(ROWS(BD!$1:19)>COUNTIFS(BD!$B:$B,$AG$91),\"\",INDEX(BD!$C$2:$C$138,SMALL(IF(BD!$B$2:$B$138=$AG$91,IF(BD!$B$2:$B$138=$AG$91,ROW(BD!$B$2:$B$138)-ROW(BD!$B$2)+1),FALSE),ROWS(BD!$1:19)))))","v":""},{"$f":"IF($AG$91=\"\",\"\",IF(ROWS(BD!$1:19)>COUNTIFS(BD!$B:$B,$AG$91),\"\",INDEX(BD!$E$2:$E$138,SMALL(IF(BD!$B$2:$B$138=$AG$91,IF(BD!$B$2:$B$138=$AG$91,ROW(BD!$B$2:$B$138)-ROW(BD!$B$2)+1),FALSE),ROWS(BD!$1:19)))))","v":""},{"$f":"IF($AG$91=\"\",\"\",IF(ROWS(BD!$1:19)>COUNTIFS(BD!$B:$B,$AG$91),\"\",INDEX(BD!$F$2:$F$138,SMALL(IF(BD!$B$2:$B$138=$AG$91,IF(BD!$B$2:$B$138=$AG$91,ROW(BD!$B$2:$B$138)-ROW(BD!$B$2)+1),FALSE),ROWS(BD!$1:19)))))","v":""},{"$f":"IF($AG$91=\"\",\"\",IF(ROWS(BD!$1:19)>COUNTIFS(BD!$B:$B,$AG$91),\"\",INDEX(BD!$G$2:$G$138,SMALL(IF(BD!$B$2:$B$138=$AG$91,IF(BD!$B$2:$B$138=$AG$91,ROW(BD!$B$2:$B$138)-ROW(BD!$B$2)+1),FALSE),ROWS(BD!$1:19)))))","v":""},{"$f":"IF($AG$91=\"\",\"\",IF(ROWS(BD!$1:19)>COUNTIFS(BD!$B:$B,$AG$91),\"\",INDEX(BD!$H$2:$H$138,SMALL(IF(BD!$B$2:$B$138=$AG$91,IF(BD!$B$2:$B$138=$AG$91,ROW(BD!$B$2:$B$138)-ROW(BD!$B$2)+1),FALSE),ROWS(BD!$1:19)))))","v":""},null,{"$f":"IF($AM$91=\"\",\"\",IF(ROWS(BD!$1:19)>COUNTIFS(BD!$B:$B,$AM$91),\"\",INDEX(BD!$C$2:$C$138,SMALL(IF(BD!$B$2:$B$138=$AM$91,IF(BD!$B$2:$B$138=$AM$91,ROW(BD!$B$2:$B$138)-ROW(BD!$B$2)+1),FALSE),ROWS(BD!$1:19)))))","v":""},{"$f":"IF($AM$91=\"\",\"\",IF(ROWS(BD!$1:19)>COUNTIFS(BD!$B:$B,$AM$91),\"\",INDEX(BD!$E$2:$E$138,SMALL(IF(BD!$B$2:$B$138=$AM$91,IF(BD!$B$2:$B$138=$AM$91,ROW(BD!$B$2:$B$138)-ROW(BD!$B$2)+1),FALSE),ROWS(BD!$1:19)))))","v":""},{"$f":"IF($AM$91=\"\",\"\",IF(ROWS(BD!$1:19)>COUNTIFS(BD!$B:$B,$AM$91),\"\",INDEX(BD!$F$2:$F$138,SMALL(IF(BD!$B$2:$B$138=$AM$91,IF(BD!$B$2:$B$138=$AM$91,ROW(BD!$B$2:$B$138)-ROW(BD!$B$2)+1),FALSE),ROWS(BD!$1:19)))))","v":""},{"$f":"IF($AM$91=\"\",\"\",IF(ROWS(BD!$1:19)>COUNTIFS(BD!$B:$B,$AM$91),\"\",INDEX(BD!$G$2:$G$138,SMALL(IF(BD!$B$2:$B$138=$AM$91,IF(BD!$B$2:$B$138=$AM$91,ROW(BD!$B$2:$B$138)-ROW(BD!$B$2)+1),FALSE),ROWS(BD!$1:19)))))","v":""},{"$f":"IF($AM$91=\"\",\"\",IF(ROWS(BD!$1:19)>COUNTIFS(BD!$B:$B,$AM$91),\"\",INDEX(BD!$H$2:$H$138,SMALL(IF(BD!$B$2:$B$138=$AM$91,IF(BD!$B$2:$B$138=$AM$91,ROW(BD!$B$2:$B$138)-ROW(BD!$B$2)+1),FALSE),ROWS(BD!$1:19)))))","v":""}]
[null,null,{"$f":"IF($C$91=\"\",\"\",IF(ROWS(BD!$1:20)>COUNTIFS(BD!$B:$B,$C$91),\"\",INDEX(BD!$C$2:$C$138,SMALL(IF(BD!$B$2:$B$138=$C$91,IF(BD!$B$2:$B$138=$C$91,ROW(BD!$B$2:$B$138)-ROW(BD!$B$2)+1),FALSE),ROWS(BD!$1:20)))))","v":""},{"$f":"IF($C$91=\"\",\"\",IF(ROWS(BD!$1:20)>COUNTIFS(BD!$B:$B,$C$91),\"\",INDEX(BD!$E$2:$E$138,SMALL(IF(BD!$B$2:$B$138=$C$91,IF(BD!$B$2:$B$138=$C$91,ROW(BD!$B$2:$B$138)-ROW(BD!$B$2)+1),FALSE),ROWS(BD!$1:20)))))","v":""},{"$f":"IF($C$91=\"\",\"\",IF(ROWS(BD!$1:20)>COUNTIFS(BD!$B:$B,$C$91),\"\",INDEX(BD!$F$2:$F$138,SMALL(IF(BD!$B$2:$B$138=$C$91,IF(BD!$B$2:$B$138=$C$91,ROW(BD!$B$2:$B$138)-ROW(BD!$B$2)+1),FALSE),ROWS(BD!$1:20)))))","v":""},{"$f":"IF($C$91=\"\",\"\",IF(ROWS(BD!$1:20)>COUNTIFS(BD!$B:$B,$C$91),\"\",INDEX(BD!$G$2:$G$138,SMALL(IF(BD!$B$2:$B$138=$C$91,IF(BD!$B$2:$B$138=$C$91,ROW(BD!$B$2:$B$138)-ROW(BD!$B$2)+1),FALSE),ROWS(BD!$1:20)))))","v":""},{"$f":"IF($C$91=\"\",\"\",IF(ROWS(BD!$1:20)>COUNTIFS(BD!$B:$B,$C$91),\"\",INDEX(BD!$H$2:$H$138,SMALL(IF(BD!$B$2:$B$138=$C$91,IF(BD!$B$2:$B$138=$C$91,ROW(BD!$B$2:$B$138)-ROW(BD!$B$2)+1),FALSE),ROWS(BD!$1:20)))))","v":""},null,{"$f":"IF($I$91=\"\",\"\",IF(ROWS(BD!$1:20)>COUNTIFS(BD!$B:$B,$I$91),\"\",INDEX(BD!$C$2:$C$138,SMALL(IF(BD!$B$2:$B$138=$I$91,IF(BD!$B$2:$B$138=$I$91,ROW(BD!$B$2:$B$138)-ROW(BD!$B$2)+1),FALSE),ROWS(BD!$1:20)))))","v":""},{"$f":"IF($I$91=\"\",\"\",IF(ROWS(BD!$1:20)>COUNTIFS(BD!$B:$B,$I$91),\"\",INDEX(BD!$E$2:$E$138,SMALL(IF(BD!$B$2:$B$138=$I$91,IF(BD!$B$2:$B$138=$I$91,ROW(BD!$B$2:$B$138)-ROW(BD!$B$2)+1),FALSE),ROWS(BD!$1:20)))))","v":""},{"$f":"IF($I$91=\"\",\"\",IF(ROWS(BD!$1:20)>COUNTIFS(BD!$B:$B,$I$91),\"\",INDEX(BD!$F$2:$F$138,SMALL(IF(BD!$B$2:$B$138=$I$91,IF(BD!$B$2:$B$138=$I$91,ROW(BD!$B$2:$B$138)-ROW(BD!$B$2)+1),FALSE),ROWS(BD!$1:20)))))","v":""},{"$f":"IF($I$91=\"\",\"\",IF(ROWS(BD!$1:20)>COUNTIFS(BD!$B:$B,$I$91),\"\",INDEX(BD!$G$2:$G$138,SMALL(IF(BD!$B$2:$B$138=$I$91,IF(BD!$B$2:$B$138=$I$91,ROW(BD!$B$2:$B$138)-ROW(BD!$B$2)+1),FALSE),ROWS(BD!$1:20)))))","v":""},{"$f":"IF($I$91=\"\",\"\",IF(ROWS(BD!$1:20)>COUNTIFS(BD!$B:$B,$I$91),\"\",INDEX(BD!$H$2:$H$138,SMALL(IF(BD!$B$2:$B$138=$I$91,IF(BD!$B$2:$B$138=$I$91,ROW(BD!$B$2:$B$138)-ROW(BD!$B$2)+1),FALSE),ROWS(BD!$1:20)))))","v":""},null,{"$f":"IF($O$91=\"\",\"\",IF(ROWS(BD!$1:20)>COUNTIFS(BD!$B:$B,$O$91),\"\",INDEX(BD!$C$2:$C$138,SMALL(IF(BD!$B$2:$B$138=$O$91,IF(BD!$B$2:$B$138=$O$91,ROW(BD!$B$2:$B$138)-ROW(BD!$B$2)+1),FALSE),ROWS(BD!$1:20)))))","v":""},{"$f":"IF($O$91=\"\",\"\",IF(ROWS(BD!$1:20)>COUNTIFS(BD!$B:$B,$O$91),\"\",INDEX(BD!$E$2:$E$138,SMALL(IF(BD!$B$2:$B$138=$O$91,IF(BD!$B$2:$B$138=$O$91,ROW(BD!$B$2:$B$138)-ROW(BD!$B$2)+1),FALSE),ROWS(BD!$1:20)))))","v":""},{"$f":"IF($O$91=\"\",\"\",IF(ROWS(BD!$1:20)>COUNTIFS(BD!$B:$B,$O$91),\"\",INDEX(BD!$F$2:$F$138,SMALL(IF(BD!$B$2:$B$138=$O$91,IF(BD!$B$2:$B$138=$O$91,ROW(BD!$B$2:$B$138)-ROW(BD!$B$2)+1),FALSE),ROWS(BD!$1:20)))))","v":""},{"$f":"IF($O$91=\"\",\"\",IF(ROWS(BD!$1:20)>COUNTIFS(BD!$B:$B,$O$91),\"\",INDEX(BD!$G$2:$G$138,SMALL(IF(BD!$B$2:$B$138=$O$91,IF(BD!$B$2:$B$138=$O$91,ROW(BD!$B$2:$B$138)-ROW(BD!$B$2)+1),FALSE),ROWS(BD!$1:20)))))","v":""},{"$f":"IF($O$91=\"\",\"\",IF(ROWS(BD!$1:20)>COUNTIFS(BD!$B:$B,$O$91),\"\",INDEX(BD!$H$2:$H$138,SMALL(IF(BD!$B$2:$B$138=$O$91,IF(BD!$B$2:$B$138=$O$91,ROW(BD!$B$2:$B$138)-ROW(BD!$B$2)+1),FALSE),ROWS(BD!$1:20)))))","v":""},null,{"$f":"IF($U$91=\"\",\"\",IF(ROWS(BD!$1:20)>COUNTIFS(BD!$B:$B,$U$91),\"\",INDEX(BD!$C$2:$C$138,SMALL(IF(BD!$B$2:$B$138=$U$91,IF(BD!$B$2:$B$138=$U$91,ROW(BD!$B$2:$B$138)-ROW(BD!$B$2)+1),FALSE),ROWS(BD!$1:20)))))","v":""},{"$f":"IF($U$91=\"\",\"\",IF(ROWS(BD!$1:20)>COUNTIFS(BD!$B:$B,$U$91),\"\",INDEX(BD!$E$2:$E$138,SMALL(IF(BD!$B$2:$B$138=$U$91,IF(BD!$B$2:$B$138=$U$91,ROW(BD!$B$2:$B$138)-ROW(BD!$B$2)+1),FALSE),ROWS(BD!$1:20)))))","v":""},{"$f":"IF($U$91=\"\",\"\",IF(ROWS(BD!$1:20)>COUNTIFS(BD!$B:$B,$U$91),\"\",INDEX(BD!$F$2:$F$138,SMALL(IF(BD!$B$2:$B$138=$U$91,IF(BD!$B$2:$B$138=$U$91,ROW(BD!$B$2:$B$138)-ROW(BD!$B$2)+1),FALSE),ROWS(BD!$1:20)))))","v":""},{"$f":"IF($U$91=\"\",\"\",IF(ROWS(BD!$1:20)>COUNTIFS(BD!$B:$B,$U$91),\"\",INDEX(BD!$G$2:$G$138,SMALL(IF(BD!$B$2:$B$138=$U$91,IF(BD!$B$2:$B$138=$U$91,ROW(BD!$B$2:$B$138)-ROW(BD!$B$2)+1),FALSE),ROWS(BD!$1:20)))))","v":""},{"$f":"IF($U$91=\"\",\"\",IF(ROWS(BD!$1:20)>COUNTIFS(BD!$B:$B,$U$91),\"\",INDEX(BD!$H$2:$H$138,SMALL(IF(BD!$B$2:$B$138=$U$91,IF(BD!$B$2:$B$138=$U$91,ROW(BD!$B$2:$B$138)-ROW(BD!$B$2)+1),FALSE),ROWS(BD!$1:20)))))","v":""},null,{"$f":"IF($AA$91=\"\",\"\",IF(ROWS(BD!$1:20)>COUNTIFS(BD!$B:$B,$AA$91),\"\",INDEX(BD!$C$2:$C$138,SMALL(IF(BD!$B$2:$B$138=$AA$91,IF(BD!$B$2:$B$138=$AA$91,ROW(BD!$B$2:$B$138)-ROW(BD!$B$2)+1),FALSE),ROWS(BD!$1:20)))))","v":""},{"$f":"IF($AA$91=\"\",\"\",IF(ROWS(BD!$1:20)>COUNTIFS(BD!$B:$B,$AA$91),\"\",INDEX(BD!$E$2:$E$138,SMALL(IF(BD!$B$2:$B$138=$AA$91,IF(BD!$B$2:$B$138=$AA$91,ROW(BD!$B$2:$B$138)-ROW(BD!$B$2)+1),FALSE),ROWS(BD!$1:20)))))","v":""},{"$f":"IF($AA$91=\"\",\"\",IF(ROWS(BD!$1:20)>COUNTIFS(BD!$B:$B,$AA$91),\"\",INDEX(BD!$F$2:$F$138,SMALL(IF(BD!$B$2:$B$138=$AA$91,IF(BD!$B$2:$B$138=$AA$91,ROW(BD!$B$2:$B$138)-ROW(BD!$B$2)+1),FALSE),ROWS(BD!$1:20)))))","v":""},{"$f":"IF($AA$91=\"\",\"\",IF(ROWS(BD!$1:20)>COUNTIFS(BD!$B:$B,$AA$91),\"\",INDEX(BD!$G$2:$G$138,SMALL(IF(BD!$B$2:$B$138=$AA$91,IF(BD!$B$2:$B$138=$AA$91,ROW(BD!$B$2:$B$138)-ROW(BD!$B$2)+1),FALSE),ROWS(BD!$1:20)))))","v":""},{"$f":"IF($AA$91=\"\",\"\",IF(ROWS(BD!$1:20)>COUNTIFS(BD!$B:$B,$AA$91),\"\",INDEX(BD!$H$2:$H$138,SMALL(IF(BD!$B$2:$B$138=$AA$91,IF(BD!$B$2:$B$138=$AA$91,ROW(BD!$B$2:$B$138)-ROW(BD!$B$2)+1),FALSE),ROWS(BD!$1:20)))))","v":""},null,{"$f":"IF($AG$91=\"\",\"\",IF(ROWS(BD!$1:20)>COUNTIFS(BD!$B:$B,$AG$91),\"\",INDEX(BD!$C$2:$C$138,SMALL(IF(BD!$B$2:$B$138=$AG$91,IF(BD!$B$2:$B$138=$AG$91,ROW(BD!$B$2:$B$138)-ROW(BD!$B$2)+1),FALSE),ROWS(BD!$1:20)))))","v":""},{"$f":"IF($AG$91=\"\",\"\",IF(ROWS(BD!$1:20)>COUNTIFS(BD!$B:$B,$AG$91),\"\",INDEX(BD!$E$2:$E$138,SMALL(IF(BD!$B$2:$B$138=$AG$91,IF(BD!$B$2:$B$138=$AG$91,ROW(BD!$B$2:$B$138)-ROW(BD!$B$2)+1),FALSE),ROWS(BD!$1:20)))))","v":""},{"$f":"IF($AG$91=\"\",\"\",IF(ROWS(BD!$1:20)>COUNTIFS(BD!$B:$B,$AG$91),\"\",INDEX(BD!$F$2:$F$138,SMALL(IF(BD!$B$2:$B$138=$AG$91,IF(BD!$B$2:$B$138=$AG$91,ROW(BD!$B$2:$B$138)-ROW(BD!$B$2)+1),FALSE),ROWS(BD!$1:20)))))","v":""},{"$f":"IF($AG$91=\"\",\"\",IF(ROWS(BD!$1:20)>COUNTIFS(BD!$B:$B,$AG$91),\"\",INDEX(BD!$G$2:$G$138,SMALL(IF(BD!$B$2:$B$138=$AG$91,IF(BD!$B$2:$B$138=$AG$91,ROW(BD!$B$2:$B$138)-ROW(BD!$B$2)+1),FALSE),ROWS(BD!$1:20)))))","v":""},{"$f":"IF($AG$91=\"\",\"\",IF(ROWS(BD!$1:20)>COUNTIFS(BD!$B:$B,$AG$91),\"\",INDEX(BD!$H$2:$H$138,SMALL(IF(BD!$B$2:$B$138=$AG$91,IF(BD!$B$2:$B$138=$AG$91,ROW(BD!$B$2:$B$138)-ROW(BD!$B$2)+1),FALSE),ROWS(BD!$1:20)))))","v":""},null,{"$f":"IF($AM$91=\"\",\"\",IF(ROWS(BD!$1:20)>COUNTIFS(BD!$B:$B,$AM$91),\"\",INDEX(BD!$C$2:$C$138,SMALL(IF(BD!$B$2:$B$138=$AM$91,IF(BD!$B$2:$B$138=$AM$91,ROW(BD!$B$2:$B$138)-ROW(BD!$B$2)+1),FALSE),ROWS(BD!$1:20)))))","v":""},{"$f":"IF($AM$91=\"\",\"\",IF(ROWS(BD!$1:20)>COUNTIFS(BD!$B:$B,$AM$91),\"\",INDEX(BD!$E$2:$E$138,SMALL(IF(BD!$B$2:$B$138=$AM$91,IF(BD!$B$2:$B$138=$AM$91,ROW(BD!$B$2:$B$138)-ROW(BD!$B$2)+1),FALSE),ROWS(BD!$1:20)))))","v":""},{"$f":"IF($AM$91=\"\",\"\",IF(ROWS(BD!$1:20)>COUNTIFS(BD!$B:$B,$AM$91),\"\",INDEX(BD!$F$2:$F$138,SMALL(IF(BD!$B$2:$B$138=$AM$91,IF(BD!$B$2:$B$138=$AM$91,ROW(BD!$B$2:$B$138)-ROW(BD!$B$2)+1),FALSE),ROWS(BD!$1:20)))))","v":""},{"$f":"IF($AM$91=\"\",\"\",IF(ROWS(BD!$1:20)>COUNTIFS(BD!$B:$B,$AM$91),\"\",INDEX(BD!$G$2:$G$138,SMALL(IF(BD!$B$2:$B$138=$AM$91,IF(BD!$B$2:$B$138=$AM$91,ROW(BD!$B$2:$B$138)-ROW(BD!$B$2)+1),FALSE),ROWS(BD!$1:20)))))","v":""},{"$f":"IF($AM$91=\"\",\"\",IF(ROWS(BD!$1:20)>COUNTIFS(BD!$B:$B,$AM$91),\"\",INDEX(BD!$H$2:$H$138,SMALL(IF(BD!$B$2:$B$138=$AM$91,IF(BD!$B$2:$B$138=$AM$91,ROW(BD!$B$2:$B$138)-ROW(BD!$B$2)+1),FALSE),ROWS(BD!$1:20)))))","v":""}]
[null,null,{"$f":"IF($C$91=\"\",\"\",IF(ROWS(BD!$1:21)>COUNTIFS(BD!$B:$B,$C$91),\"\",INDEX(BD!$C$2:$C$138,SMALL(IF(BD!$B$2:$B$138=$C$91,IF(BD!$B$2:$B$138=$C$91,ROW(BD!$B$2:$B$138)-ROW(BD!$B$2)+1),FALSE),ROWS(BD!$1:21)))))","v":""},{"$f":"IF($C$91=\"\",\"\",IF(ROWS(BD!$1:21)>COUNTIFS(BD!$B:$B,$C$91),\"\",INDEX(BD!$E$2:$E$138,SMALL(IF(BD!$B$2:$B$138=$C$91,IF(BD!$B$2:$B$138=$C$91,ROW(BD!$B$2:$B$138)-ROW(BD!$B$2)+1),FALSE),ROWS(BD!$1:21)))))","v":""},{"$f":"IF($C$91=\"\",\"\",IF(ROWS(BD!$1:21)>COUNTIFS(BD!$B:$B,$C$91),\"\",INDEX(BD!$F$2:$F$138,SMALL(IF(BD!$B$2:$B$138=$C$91,IF(BD!$B$2:$B$138=$C$91,ROW(BD!$B$2:$B$138)-ROW(BD!$B$2)+1),FALSE),ROWS(BD!$1:21)))))","v":""},{"$f":"IF($C$91=\"\",\"\",IF(ROWS(BD!$1:21)>COUNTIFS(BD!$B:$B,$C$91),\"\",INDEX(BD!$G$2:$G$138,SMALL(IF(BD!$B$2:$B$138=$C$91,IF(BD!$B$2:$B$138=$C$91,ROW(BD!$B$2:$B$138)-ROW(BD!$B$2)+1),FALSE),ROWS(BD!$1:21)))))","v":""},{"$f":"IF($C$91=\"\",\"\",IF(ROWS(BD!$1:21)>COUNTIFS(BD!$B:$B,$C$91),\"\",INDEX(BD!$H$2:$H$138,SMALL(IF(BD!$B$2:$B$138=$C$91,IF(BD!$B$2:$B$138=$C$91,ROW(BD!$B$2:$B$138)-ROW(BD!$B$2)+1),FALSE),ROWS(BD!$1:21)))))","v":""},null,{"$f":"IF($I$91=\"\",\"\",IF(ROWS(BD!$1:21)>COUNTIFS(BD!$B:$B,$I$91),\"\",INDEX(BD!$C$2:$C$138,SMALL(IF(BD!$B$2:$B$138=$I$91,IF(BD!$B$2:$B$138=$I$91,ROW(BD!$B$2:$B$138)-ROW(BD!$B$2)+1),FALSE),ROWS(BD!$1:21)))))","v":""},{"$f":"IF($I$91=\"\",\"\",IF(ROWS(BD!$1:21)>COUNTIFS(BD!$B:$B,$I$91),\"\",INDEX(BD!$E$2:$E$138,SMALL(IF(BD!$B$2:$B$138=$I$91,IF(BD!$B$2:$B$138=$I$91,ROW(BD!$B$2:$B$138)-ROW(BD!$B$2)+1),FALSE),ROWS(BD!$1:21)))))","v":""},{"$f":"IF($I$91=\"\",\"\",IF(ROWS(BD!$1:21)>COUNTIFS(BD!$B:$B,$I$91),\"\",INDEX(BD!$F$2:$F$138,SMALL(IF(BD!$B$2:$B$138=$I$91,IF(BD!$B$2:$B$138=$I$91,ROW(BD!$B$2:$B$138)-ROW(BD!$B$2)+1),FALSE),ROWS(BD!$1:21)))))","v":""},{"$f":"IF($I$91=\"\",\"\",IF(ROWS(BD!$1:21)>COUNTIFS(BD!$B:$B,$I$91),\"\",INDEX(BD!$G$2:$G$138,SMALL(IF(BD!$B$2:$B$138=$I$91,IF(BD!$B$2:$B$138=$I$91,ROW(BD!$B$2:$B$138)-ROW(BD!$B$2)+1),FALSE),ROWS(BD!$1:21)))))","v":""},{"$f":"IF($I$91=\"\",\"\",IF(ROWS(BD!$1:21)>COUNTIFS(BD!$B:$B,$I$91),\"\",INDEX(BD!$H$2:$H$138,SMALL(IF(BD!$B$2:$B$138=$I$91,IF(BD!$B$2:$B$138=$I$91,ROW(BD!$B$2:$B$138)-ROW(BD!$B$2)+1),FALSE),ROWS(BD!$1:21)))))","v":""},null,{"$f":"IF($O$91=\"\",\"\",IF(ROWS(BD!$1:21)>COUNTIFS(BD!$B:$B,$O$91),\"\",INDEX(BD!$C$2:$C$138,SMALL(IF(BD!$B$2:$B$138=$O$91,IF(BD!$B$2:$B$138=$O$91,ROW(BD!$B$2:$B$138)-ROW(BD!$B$2)+1),FALSE),ROWS(BD!$1:21)))))","v":""},{"$f":"IF($O$91=\"\",\"\",IF(ROWS(BD!$1:21)>COUNTIFS(BD!$B:$B,$O$91),\"\",INDEX(BD!$E$2:$E$138,SMALL(IF(BD!$B$2:$B$138=$O$91,IF(BD!$B$2:$B$138=$O$91,ROW(BD!$B$2:$B$138)-ROW(BD!$B$2)+1),FALSE),ROWS(BD!$1:21)))))","v":""},{"$f":"IF($O$91=\"\",\"\",IF(ROWS(BD!$1:21)>COUNTIFS(BD!$B:$B,$O$91),\"\",INDEX(BD!$F$2:$F$138,SMALL(IF(BD!$B$2:$B$138=$O$91,IF(BD!$B$2:$B$138=$O$91,ROW(BD!$B$2:$B$138)-ROW(BD!$B$2)+1),FALSE),ROWS(BD!$1:21)))))","v":""},{"$f":"IF($O$91=\"\",\"\",IF(ROWS(BD!$1:21)>COUNTIFS(BD!$B:$B,$O$91),\"\",INDEX(BD!$G$2:$G$138,SMALL(IF(BD!$B$2:$B$138=$O$91,IF(BD!$B$2:$B$138=$O$91,ROW(BD!$B$2:$B$138)-ROW(BD!$B$2)+1),FALSE),ROWS(BD!$1:21)))))","v":""},{"$f":"IF($O$91=\"\",\"\",IF(ROWS(BD!$1:21)>COUNTIFS(BD!$B:$B,$O$91),\"\",INDEX(BD!$H$2:$H$138,SMALL(IF(BD!$B$2:$B$138=$O$91,IF(BD!$B$2:$B$138=$O$91,ROW(BD!$B$2:$B$138)-ROW(BD!$B$2)+1),FALSE),ROWS(BD!$1:21)))))","v":""},null,{"$f":"IF($U$91=\"\",\"\",IF(ROWS(BD!$1:21)>COUNTIFS(BD!$B:$B,$U$91),\"\",INDEX(BD!$C$2:$C$138,SMALL(IF(BD!$B$2:$B$138=$U$91,IF(BD!$B$2:$B$138=$U$91,ROW(BD!$B$2:$B$138)-ROW(BD!$B$2)+1),FALSE),ROWS(BD!$1:21)))))","v":""},{"$f":"IF($U$91=\"\",\"\",IF(ROWS(BD!$1:21)>COUNTIFS(BD!$B:$B,$U$91),\"\",INDEX(BD!$E$2:$E$138,SMALL(IF(BD!$B$2:$B$138=$U$91,IF(BD!$B$2:$B$138=$U$91,ROW(BD!$B$2:$B$138)-ROW(BD!$B$2)+1),FALSE),ROWS(BD!$1:21)))))","v":""},{"$f":"IF($U$91=\"\",\"\",IF(ROWS(BD!$1:21)>COUNTIFS(BD!$B:$B,$U$91),\"\",INDEX(BD!$F$2:$F$138,SMALL(IF(BD!$B$2:$B$138=$U$91,IF(BD!$B$2:$B$138=$U$91,ROW(BD!$B$2:$B$138)-ROW(BD!$B$2)+1),FALSE),ROWS(BD!$1:21)))))","v":""},{"$f":"IF($U$91=\"\",\"\",IF(ROWS(BD!$1:21)>COUNTIFS(BD!$B:$B,$U$91),\"\",INDEX(BD!$G$2:$G$138,SMALL(IF(BD!$B$2:$B$138=$U$91,IF(BD!$B$2:$B$138=$U$91,ROW(BD!$B$2:$B$138)-ROW(BD!$B$2)+1),FALSE),ROWS(BD!$1:21)))))","v":""},{"$f":"IF($U$91=\"\",\"\",IF(ROWS(BD!$1:21)>COUNTIFS(BD!$B:$B,$U$91),\"\",INDEX(BD!$H$2:$H$138,SMALL(IF(BD!$B$2:$B$138=$U$91,IF(BD!$B$2:$B$138=$U$91,ROW(BD!$B$2:$B$138)-ROW(BD!$B$2)+1),FALSE),ROWS(BD!$1:21)))))","v":""},null,{"$f":"IF($AA$91=\"\",\"\",IF(ROWS(BD!$1:21)>COUNTIFS(BD!$B:$B,$AA$91),\"\",INDEX(BD!$C$2:$C$138,SMALL(IF(BD!$B$2:$B$138=$AA$91,IF(BD!$B$2:$B$138=$AA$91,ROW(BD!$B$2:$B$138)-ROW(BD!$B$2)+1),FALSE),ROWS(BD!$1:21)))))","v":""},{"$f":"IF($AA$91=\"\",\"\",IF(ROWS(BD!$1:21)>COUNTIFS(BD!$B:$B,$AA$91),\"\",INDEX(BD!$E$2:$E$138,SMALL(IF(BD!$B$2:$B$138=$AA$91,IF(BD!$B$2:$B$138=$AA$91,ROW(BD!$B$2:$B$138)-ROW(BD!$B$2)+1),FALSE),ROWS(BD!$1:21)))))","v":""},{"$f":"IF($AA$91=\"\",\"\",IF(ROWS(BD!$1:21)>COUNTIFS(BD!$B:$B,$AA$91),\"\",INDEX(BD!$F$2:$F$138,SMALL(IF(BD!$B$2:$B$138=$AA$91,IF(BD!$B$2:$B$138=$AA$91,ROW(BD!$B$2:$B$138)-ROW(BD!$B$2)+1),FALSE),ROWS(BD!$1:21)))))","v":""},{"$f":"IF($AA$91=\"\",\"\",IF(ROWS(BD!$1:21)>COUNTIFS(BD!$B:$B,$AA$91),\"\",INDEX(BD!$G$2:$G$138,SMALL(IF(BD!$B$2:$B$138=$AA$91,IF(BD!$B$2:$B$138=$AA$91,ROW(BD!$B$2:$B$138)-ROW(BD!$B$2)+1),FALSE),ROWS(BD!$1:21)))))","v":""},{"$f":"IF($AA$91=\"\",\"\",IF(ROWS(BD!$1:21)>COUNTIFS(BD!$B:$B,$AA$91),\"\",INDEX(BD!$H$2:$H$138,SMALL(IF(BD!$B$2:$B$138=$AA$91,IF(BD!$B$2:$B$138=$AA$91,ROW(BD!$B$2:$B$138)-ROW(BD!$B$2)+1),FALSE),ROWS(BD!$1:21)))))","v":""},null,{"$f":"IF($AG$91=\"\",\"\",IF(ROWS(BD!$1:21)>COUNTIFS(BD!$B:$B,$AG$91),\"\",INDEX(BD!$C$2:$C$138,SMALL(IF(BD!$B$2:$B$138=$AG$91,IF(BD!$B$2:$B$138=$AG$91,ROW(BD!$B$2:$B$138)-ROW(BD!$B$2)+1),FALSE),ROWS(BD!$1:21)))))","v":""},{"$f":"IF($AG$91=\"\",\"\",IF(ROWS(BD!$1:21)>COUNTIFS(BD!$B:$B,$AG$91),\"\",INDEX(BD!$E$2:$E$138,SMALL(IF(BD!$B$2:$B$138=$AG$91,IF(BD!$B$2:$B$138=$AG$91,ROW(BD!$B$2:$B$138)-ROW(BD!$B$2)+1),FALSE),ROWS(BD!$1:21)))))","v":""},{"$f":"IF($AG$91=\"\",\"\",IF(ROWS(BD!$1:21)>COUNTIFS(BD!$B:$B,$AG$91),\"\",INDEX(BD!$F$2:$F$138,SMALL(IF(BD!$B$2:$B$138=$AG$91,IF(BD!$B$2:$B$138=$AG$91,ROW(BD!$B$2:$B$138)-ROW(BD!$B$2)+1),FALSE),ROWS(BD!$1:21)))))","v":""},{"$f":"IF($AG$91=\"\",\"\",IF(ROWS(BD!$1:21)>COUNTIFS(BD!$B:$B,$AG$91),\"\",INDEX(BD!$G$2:$G$138,SMALL(IF(BD!$B$2:$B$138=$AG$91,IF(BD!$B$2:$B$138=$AG$91,ROW(BD!$B$2:$B$138)-ROW(BD!$B$2)+1),FALSE),ROWS(BD!$1:21)))))","v":""},{"$f":"IF($AG$91=\"\",\"\",IF(ROWS(BD!$1:21)>COUNTIFS(BD!$B:$B,$AG$91),\"\",INDEX(BD!$H$2:$H$138,SMALL(IF(BD!$B$2:$B$138=$AG$91,IF(BD!$B$2:$B$138=$AG$91,ROW(BD!$B$2:$B$138)-ROW(BD!$B$2)+1),FALSE),ROWS(BD!$1:21)))))","v":""},null,{"$f":"IF($AM$91=\"\",\"\",IF(ROWS(BD!$1:21)>COUNTIFS(BD!$B:$B,$AM$91),\"\",INDEX(BD!$C$2:$C$138,SMALL(IF(BD!$B$2:$B$138=$AM$91,IF(BD!$B$2:$B$138=$AM$91,ROW(BD!$B$2:$B$138)-ROW(BD!$B$2)+1),FALSE),ROWS(BD!$1:21)))))","v":""},{"$f":"IF($AM$91=\"\",\"\",IF(ROWS(BD!$1:21)>COUNTIFS(BD!$B:$B,$AM$91),\"\",INDEX(BD!$E$2:$E$138,SMALL(IF(BD!$B$2:$B$138=$AM$91,IF(BD!$B$2:$B$138=$AM$91,ROW(BD!$B$2:$B$138)-ROW(BD!$B$2)+1),FALSE),ROWS(BD!$1:21)))))","v":""},{"$f":"IF($AM$91=\"\",\"\",IF(ROWS(BD!$1:21)>COUNTIFS(BD!$B:$B,$AM$91),\"\",INDEX(BD!$F$2:$F$138,SMALL(IF(BD!$B$2:$B$138=$AM$91,IF(BD!$B$2:$B$138=$AM$91,ROW(BD!$B$2:$B$138)-ROW(BD!$B$2)+1),FALSE),ROWS(BD!$1:21)))))","v":""},{"$f":"IF($AM$91=\"\",\"\",IF(ROWS(BD!$1:21)>COUNTIFS(BD!$B:$B,$AM$91),\"\",INDEX(BD!$G$2:$G$138,SMALL(IF(BD!$B$2:$B$138=$AM$91,IF(BD!$B$2:$B$138=$AM$91,ROW(BD!$B$2:$B$138)-ROW(BD!$B$2)+1),FALSE),ROWS(BD!$1:21)))))","v":""},{"$f":"IF($AM$91=\"\",\"\",IF(ROWS(BD!$1:21)>COUNTIFS(BD!$B:$B,$AM$91),\"\",INDEX(BD!$H$2:$H$138,SMALL(IF(BD!$B$2:$B$138=$AM$91,IF(BD!$B$2:$B$138=$AM$91,ROW(BD!$B$2:$B$138)-ROW(BD!$B$2)+1),FALSE),ROWS(BD!$1:21)))))","v":""}]
[null,null,{"$f":"IF($C$91=\"\",\"\",IF(ROWS(BD!$1:22)>COUNTIFS(BD!$B:$B,$C$91),\"\",INDEX(BD!$C$2:$C$138,SMALL(IF(BD!$B$2:$B$138=$C$91,IF(BD!$B$2:$B$138=$C$91,ROW(BD!$B$2:$B$138)-ROW(BD!$B$2)+1),FALSE),ROWS(BD!$1:22)))))","v":""},{"$f":"IF($C$91=\"\",\"\",IF(ROWS(BD!$1:22)>COUNTIFS(BD!$B:$B,$C$91),\"\",INDEX(BD!$E$2:$E$138,SMALL(IF(BD!$B$2:$B$138=$C$91,IF(BD!$B$2:$B$138=$C$91,ROW(BD!$B$2:$B$138)-ROW(BD!$B$2)+1),FALSE),ROWS(BD!$1:22)))))","v":""},{"$f":"IF($C$91=\"\",\"\",IF(ROWS(BD!$1:22)>COUNTIFS(BD!$B:$B,$C$91),\"\",INDEX(BD!$F$2:$F$138,SMALL(IF(BD!$B$2:$B$138=$C$91,IF(BD!$B$2:$B$138=$C$91,ROW(BD!$B$2:$B$138)-ROW(BD!$B$2)+1),FALSE),ROWS(BD!$1:22)))))","v":""},{"$f":"IF($C$91=\"\",\"\",IF(ROWS(BD!$1:22)>COUNTIFS(BD!$B:$B,$C$91),\"\",INDEX(BD!$G$2:$G$138,SMALL(IF(BD!$B$2:$B$138=$C$91,IF(BD!$B$2:$B$138=$C$91,ROW(BD!$B$2:$B$138)-ROW(BD!$B$2)+1),FALSE),ROWS(BD!$1:22)))))","v":""},{"$f":"IF($C$91=\"\",\"\",IF(ROWS(BD!$1:22)>COUNTIFS(BD!$B:$B,$C$91),\"\",INDEX(BD!$H$2:$H$138,SMALL(IF(BD!$B$2:$B$138=$C$91,IF(BD!$B$2:$B$138=$C$91,ROW(BD!$B$2:$B$138)-ROW(BD!$B$2)+1),FALSE),ROWS(BD!$1:22)))))","v":""},null,{"$f":"IF($I$91=\"\",\"\",IF(ROWS(BD!$1:22)>COUNTIFS(BD!$B:$B,$I$91),\"\",INDEX(BD!$C$2:$C$138,SMALL(IF(BD!$B$2:$B$138=$I$91,IF(BD!$B$2:$B$138=$I$91,ROW(BD!$B$2:$B$138)-ROW(BD!$B$2)+1),FALSE),ROWS(BD!$1:22)))))","v":""},{"$f":"IF($I$91=\"\",\"\",IF(ROWS(BD!$1:22)>COUNTIFS(BD!$B:$B,$I$91),\"\",INDEX(BD!$E$2:$E$138,SMALL(IF(BD!$B$2:$B$138=$I$91,IF(BD!$B$2:$B$138=$I$91,ROW(BD!$B$2:$B$138)-ROW(BD!$B$2)+1),FALSE),ROWS(BD!$1:22)))))","v":""},{"$f":"IF($I$91=\"\",\"\",IF(ROWS(BD!$1:22)>COUNTIFS(BD!$B:$B,$I$91),\"\",INDEX(BD!$F$2:$F$138,SMALL(IF(BD!$B$2:$B$138=$I$91,IF(BD!$B$2:$B$138=$I$91,ROW(BD!$B$2:$B$138)-ROW(BD!$B$2)+1),FALSE),ROWS(BD!$1:22)))))","v":""},{"$f":"IF($I$91=\"\",\"\",IF(ROWS(BD!$1:22)>COUNTIFS(BD!$B:$B,$I$91),\"\",INDEX(BD!$G$2:$G$138,SMALL(IF(BD!$B$2:$B$138=$I$91,IF(BD!$B$2:$B$138=$I$91,ROW(BD!$B$2:$B$138)-ROW(BD!$B$2)+1),FALSE),ROWS(BD!$1:22)))))","v":""},{"$f":"IF($I$91=\"\",\"\",IF(ROWS(BD!$1:22)>COUNTIFS(BD!$B:$B,$I$91),\"\",INDEX(BD!$H$2:$H$138,SMALL(IF(BD!$B$2:$B$138=$I$91,IF(BD!$B$2:$B$138=$I$91,ROW(BD!$B$2:$B$138)-ROW(BD!$B$2)+1),FALSE),ROWS(BD!$1:22)))))","v":""},null,{"$f":"IF($O$91=\"\",\"\",IF(ROWS(BD!$1:22)>COUNTIFS(BD!$B:$B,$O$91),\"\",INDEX(BD!$C$2:$C$138,SMALL(IF(BD!$B$2:$B$138=$O$91,IF(BD!$B$2:$B$138=$O$91,ROW(BD!$B$2:$B$138)-ROW(BD!$B$2)+1),FALSE),ROWS(BD!$1:22)))))","v":""},{"$f":"IF($O$91=\"\",\"\",IF(ROWS(BD!$1:22)>COUNTIFS(BD!$B:$B,$O$91),\"\",INDEX(BD!$E$2:$E$138,SMALL(IF(BD!$B$2:$B$138=$O$91,IF(BD!$B$2:$B$138=$O$91,ROW(BD!$B$2:$B$138)-ROW(BD!$B$2)+1),FALSE),ROWS(BD!$1:22)))))","v":""},{"$f":"IF($O$91=\"\",\"\",IF(ROWS(BD!$1:22)>COUNTIFS(BD!$B:$B,$O$91),\"\",INDEX(BD!$F$2:$F$138,SMALL(IF(BD!$B$2:$B$138=$O$91,IF(BD!$B$2:$B$138=$O$91,ROW(BD!$B$2:$B$138)-ROW(BD!$B$2)+1),FALSE),ROWS(BD!$1:22)))))","v":""},{"$f":"IF($O$91=\"\",\"\",IF(ROWS(BD!$1:22)>COUNTIFS(BD!$B:$B,$O$91),\"\",INDEX(BD!$G$2:$G$138,SMALL(IF(BD!$B$2:$B$138=$O$91,IF(BD!$B$2:$B$138=$O$91,ROW(BD!$B$2:$B$138)-ROW(BD!$B$2)+1),FALSE),ROWS(BD!$1:22)))))","v":""},{"$f":"IF($O$91=\"\",\"\",IF(ROWS(BD!$1:22)>COUNTIFS(BD!$B:$B,$O$91),\"\",INDEX(BD!$H$2:$H$138,SMALL(IF(BD!$B$2:$B$138=$O$91,IF(BD!$B$2:$B$138=$O$91,ROW(BD!$B$2:$B$138)-ROW(BD!$B$2)+1),FALSE),ROWS(BD!$1:22)))))","v":""},null,{"$f":"IF($U$91=\"\",\"\",IF(ROWS(BD!$1:22)>COUNTIFS(BD!$B:$B,$U$91),\"\",INDEX(BD!$C$2:$C$138,SMALL(IF(BD!$B$2:$B$138=$U$91,IF(BD!$B$2:$B$138=$U$91,ROW(BD!$B$2:$B$138)-ROW(BD!$B$2)+1),FALSE),ROWS(BD!$1:22)))))","v":""},{"$f":"IF($U$91=\"\",\"\",IF(ROWS(BD!$1:22)>COUNTIFS(BD!$B:$B,$U$91),\"\",INDEX(BD!$E$2:$E$138,SMALL(IF(BD!$B$2:$B$138=$U$91,IF(BD!$B$2:$B$138=$U$91,ROW(BD!$B$2:$B$138)-ROW(BD!$B$2)+1),FALSE),ROWS(BD!$1:22)))))","v":""},{"$f":"IF($U$91=\"\",\"\",IF(ROWS(BD!$1:22)>COUNTIFS(BD!$B:$B,$U$91),\"\",INDEX(BD!$F$2:$F$138,SMALL(IF(BD!$B$2:$B$138=$U$91,IF(BD!$B$2:$B$138=$U$91,ROW(BD!$B$2:$B$138)-ROW(BD!$B$2)+1),FALSE),ROWS(BD!$1:22)))))","v":""},{"$f":"IF($U$91=\"\",\"\",IF(ROWS(BD!$1:22)>COUNTIFS(BD!$B:$B,$U$91),\"\",INDEX(BD!$G$2:$G$138,SMALL(IF(BD!$B$2:$B$138=$U$91,IF(BD!$B$2:$B$138=$U$91,ROW(BD!$B$2:$B$138)-ROW(BD!$B$2)+1),FALSE),ROWS(BD!$1:22)))))","v":""},{"$f":"IF($U$91=\"\",\"\",IF(ROWS(BD!$1:22)>COUNTIFS(BD!$B:$B,$U$91),\"\",INDEX(BD!$H$2:$H$138,SMALL(IF(BD!$B$2:$B$138=$U$91,IF(BD!$B$2:$B$138=$U$91,ROW(BD!$B$2:$B$138)-ROW(BD!$B$2)+1),FALSE),ROWS(BD!$1:22)))))","v":""},null,{"$f":"IF($AA$91=\"\",\"\",IF(ROWS(BD!$1:22)>COUNTIFS(BD!$B:$B,$AA$91),\"\",INDEX(BD!$C$2:$C$138,SMALL(IF(BD!$B$2:$B$138=$AA$91,IF(BD!$B$2:$B$138=$AA$91,ROW(BD!$B$2:$B$138)-ROW(BD!$B$2)+1),FALSE),ROWS(BD!$1:22)))))","v":""},{"$f":"IF($AA$91=\"\",\"\",IF(ROWS(BD!$1:22)>COUNTIFS(BD!$B:$B,$AA$91),\"\",INDEX(BD!$E$2:$E$138,SMALL(IF(BD!$B$2:$B$138=$AA$91,IF(BD!$B$2:$B$138=$AA$91,ROW(BD!$B$2:$B$138)-ROW(BD!$B$2)+1),FALSE),ROWS(BD!$1:22)))))","v":""},{"$f":"IF($AA$91=\"\",\"\",IF(ROWS(BD!$1:22)>COUNTIFS(BD!$B:$B,$AA$91),\"\",INDEX(BD!$F$2:$F$138,SMALL(IF(BD!$B$2:$B$138=$AA$91,IF(BD!$B$2:$B$138=$AA$91,ROW(BD!$B$2:$B$138)-ROW(BD!$B$2)+1),FALSE),ROWS(BD!$1:22)))))","v":""},{"$f":"IF($AA$91=\"\",\"\",IF(ROWS(BD!$1:22)>COUNTIFS(BD!$B:$B,$AA$91),\"\",INDEX(BD!$G$2:$G$138,SMALL(IF(BD!$B$2:$B$138=$AA$91,IF(BD!$B$2:$B$138=$AA$91,ROW(BD!$B$2:$B$138)-ROW(BD!$B$2)+1),FALSE),ROWS(BD!$1:22)))))","v":""},{"$f":"IF($AA$91=\"\",\"\",IF(ROWS(BD!$1:22)>COUNTIFS(BD!$B:$B,$AA$91),\"\",INDEX(BD!$H$2:$H$138,SMALL(IF(BD!$B$2:$B$138=$AA$91,IF(BD!$B$2:$B$138=$AA$91,ROW(BD!$B$2:$B$138)-ROW(BD!$B$2)+1),FALSE),ROWS(BD!$1:22)))))","v":""},null,{"$f":"IF($AG$91=\"\",\"\",IF(ROWS(BD!$1:22)>COUNTIFS(BD!$B:$B,$AG$91),\"\",INDEX(BD!$C$2:$C$138,SMALL(IF(BD!$B$2:$B$138=$AG$91,IF(BD!$B$2:$B$138=$AG$91,ROW(BD!$B$2:$B$138)-ROW(BD!$B$2)+1),FALSE),ROWS(BD!$1:22)))))","v":""},{"$f":"IF($AG$91=\"\",\"\",IF(ROWS(BD!$1:22)>COUNTIFS(BD!$B:$B,$AG$91),\"\",INDEX(BD!$E$2:$E$138,SMALL(IF(BD!$B$2:$B$138=$AG$91,IF(BD!$B$2:$B$138=$AG$91,ROW(BD!$B$2:$B$138)-ROW(BD!$B$2)+1),FALSE),ROWS(BD!$1:22)))))","v":""},{"$f":"IF($AG$91=\"\",\"\",IF(ROWS(BD!$1:22)>COUNTIFS(BD!$B:$B,$AG$91),\"\",INDEX(BD!$F$2:$F$138,SMALL(IF(BD!$B$2:$B$138=$AG$91,IF(BD!$B$2:$B$138=$AG$91,ROW(BD!$B$2:$B$138)-ROW(BD!$B$2)+1),FALSE),ROWS(BD!$1:22)))))","v":""},{"$f":"IF($AG$91=\"\",\"\",IF(ROWS(BD!$1:22)>COUNTIFS(BD!$B:$B,$AG$91),\"\",INDEX(BD!$G$2:$G$138,SMALL(IF(BD!$B$2:$B$138=$AG$91,IF(BD!$B$2:$B$138=$AG$91,ROW(BD!$B$2:$B$138)-ROW(BD!$B$2)+1),FALSE),ROWS(BD!$1:22)))))","v":""},{"$f":"IF($AG$91=\"\",\"\",IF(ROWS(BD!$1:22)>COUNTIFS(BD!$B:$B,$AG$91),\"\",INDEX(BD!$H$2:$H$138,SMALL(IF(BD!$B$2:$B$138=$AG$91,IF(BD!$B$2:$B$138=$AG$91,ROW(BD!$B$2:$B$138)-ROW(BD!$B$2)+1),FALSE),ROWS(BD!$1:22)))))","v":""},null,{"$f":"IF($AM$91=\"\",\"\",IF(ROWS(BD!$1:22)>COUNTIFS(BD!$B:$B,$AM$91),\"\",INDEX(BD!$C$2:$C$138,SMALL(IF(BD!$B$2:$B$138=$AM$91,IF(BD!$B$2:$B$138=$AM$91,ROW(BD!$B$2:$B$138)-ROW(BD!$B$2)+1),FALSE),ROWS(BD!$1:22)))))","v":""},{"$f":"IF($AM$91=\"\",\"\",IF(ROWS(BD!$1:22)>COUNTIFS(BD!$B:$B,$AM$91),\"\",INDEX(BD!$E$2:$E$138,SMALL(IF(BD!$B$2:$B$138=$AM$91,IF(BD!$B$2:$B$138=$AM$91,ROW(BD!$B$2:$B$138)-ROW(BD!$B$2)+1),FALSE),ROWS(BD!$1:22)))))","v":""},{"$f":"IF($AM$91=\"\",\"\",IF(ROWS(BD!$1:22)>COUNTIFS(BD!$B:$B,$AM$91),\"\",INDEX(BD!$F$2:$F$138,SMALL(IF(BD!$B$2:$B$138=$AM$91,IF(BD!$B$2:$B$138=$AM$91,ROW(BD!$B$2:$B$138)-ROW(BD!$B$2)+1),FALSE),ROWS(BD!$1:22)))))","v":""},{"$f":"IF($AM$91=\"\",\"\",IF(ROWS(BD!$1:22)>COUNTIFS(BD!$B:$B,$AM$91),\"\",INDEX(BD!$G$2:$G$138,SMALL(IF(BD!$B$2:$B$138=$AM$91,IF(BD!$B$2:$B$138=$AM$91,ROW(BD!$B$2:$B$138)-ROW(BD!$B$2)+1),FALSE),ROWS(BD!$1:22)))))","v":""},{"$f":"IF($AM$91=\"\",\"\",IF(ROWS(BD!$1:22)>COUNTIFS(BD!$B:$B,$AM$91),\"\",INDEX(BD!$H$2:$H$138,SMALL(IF(BD!$B$2:$B$138=$AM$91,IF(BD!$B$2:$B$138=$AM$91,ROW(BD!$B$2:$B$138)-ROW(BD!$B$2)+1),FALSE),ROWS(BD!$1:22)))))","v":""}]
[null,null,{"$f":"IF($C$91=\"\",\"\",IF(ROWS(BD!$1:23)>COUNTIFS(BD!$B:$B,$C$91),\"\",INDEX(BD!$C$2:$C$138,SMALL(IF(BD!$B$2:$B$138=$C$91,IF(BD!$B$2:$B$138=$C$91,ROW(BD!$B$2:$B$138)-ROW(BD!$B$2)+1),FALSE),ROWS(BD!$1:23)))))","v":""},{"$f":"IF($C$91=\"\",\"\",IF(ROWS(BD!$1:23)>COUNTIFS(BD!$B:$B,$C$91),\"\",INDEX(BD!$E$2:$E$138,SMALL(IF(BD!$B$2:$B$138=$C$91,IF(BD!$B$2:$B$138=$C$91,ROW(BD!$B$2:$B$138)-ROW(BD!$B$2)+1),FALSE),ROWS(BD!$1:23)))))","v":""},{"$f":"IF($C$91=\"\",\"\",IF(ROWS(BD!$1:23)>COUNTIFS(BD!$B:$B,$C$91),\"\",INDEX(BD!$F$2:$F$138,SMALL(IF(BD!$B$2:$B$138=$C$91,IF(BD!$B$2:$B$138=$C$91,ROW(BD!$B$2:$B$138)-ROW(BD!$B$2)+1),FALSE),ROWS(BD!$1:23)))))","v":""},{"$f":"IF($C$91=\"\",\"\",IF(ROWS(BD!$1:23)>COUNTIFS(BD!$B:$B,$C$91),\"\",INDEX(BD!$G$2:$G$138,SMALL(IF(BD!$B$2:$B$138=$C$91,IF(BD!$B$2:$B$138=$C$91,ROW(BD!$B$2:$B$138)-ROW(BD!$B$2)+1),FALSE),ROWS(BD!$1:23)))))","v":""},{"$f":"IF($C$91=\"\",\"\",IF(ROWS(BD!$1:23)>COUNTIFS(BD!$B:$B,$C$91),\"\",INDEX(BD!$H$2:$H$138,SMALL(IF(BD!$B$2:$B$138=$C$91,IF(BD!$B$2:$B$138=$C$91,ROW(BD!$B$2:$B$138)-ROW(BD!$B$2)+1),FALSE),ROWS(BD!$1:23)))))","v":""},null,{"$f":"IF($I$91=\"\",\"\",IF(ROWS(BD!$1:23)>COUNTIFS(BD!$B:$B,$I$91),\"\",INDEX(BD!$C$2:$C$138,SMALL(IF(BD!$B$2:$B$138=$I$91,IF(BD!$B$2:$B$138=$I$91,ROW(BD!$B$2:$B$138)-ROW(BD!$B$2)+1),FALSE),ROWS(BD!$1:23)))))","v":""},{"$f":"IF($I$91=\"\",\"\",IF(ROWS(BD!$1:23)>COUNTIFS(BD!$B:$B,$I$91),\"\",INDEX(BD!$E$2:$E$138,SMALL(IF(BD!$B$2:$B$138=$I$91,IF(BD!$B$2:$B$138=$I$91,ROW(BD!$B$2:$B$138)-ROW(BD!$B$2)+1),FALSE),ROWS(BD!$1:23)))))","v":""},{"$f":"IF($I$91=\"\",\"\",IF(ROWS(BD!$1:23)>COUNTIFS(BD!$B:$B,$I$91),\"\",INDEX(BD!$F$2:$F$138,SMALL(IF(BD!$B$2:$B$138=$I$91,IF(BD!$B$2:$B$138=$I$91,ROW(BD!$B$2:$B$138)-ROW(BD!$B$2)+1),FALSE),ROWS(BD!$1:23)))))","v":""},{"$f":"IF($I$91=\"\",\"\",IF(ROWS(BD!$1:23)>COUNTIFS(BD!$B:$B,$I$91),\"\",INDEX(BD!$G$2:$G$138,SMALL(IF(BD!$B$2:$B$138=$I$91,IF(BD!$B$2:$B$138=$I$91,ROW(BD!$B$2:$B$138)-ROW(BD!$B$2)+1),FALSE),ROWS(BD!$1:23)))))","v":""},{"$f":"IF($I$91=\"\",\"\",IF(ROWS(BD!$1:23)>COUNTIFS(BD!$B:$B,$I$91),\"\",INDEX(BD!$H$2:$H$138,SMALL(IF(BD!$B$2:$B$138=$I$91,IF(BD!$B$2:$B$138=$I$91,ROW(BD!$B$2:$B$138)-ROW(BD!$B$2)+1),FALSE),ROWS(BD!$1:23)))))","v":""},null,{"$f":"IF($O$91=\"\",\"\",IF(ROWS(BD!$1:23)>COUNTIFS(BD!$B:$B,$O$91),\"\",INDEX(BD!$C$2:$C$138,SMALL(IF(BD!$B$2:$B$138=$O$91,IF(BD!$B$2:$B$138=$O$91,ROW(BD!$B$2:$B$138)-ROW(BD!$B$2)+1),FALSE),ROWS(BD!$1:23)))))","v":""},{"$f":"IF($O$91=\"\",\"\",IF(ROWS(BD!$1:23)>COUNTIFS(BD!$B:$B,$O$91),\"\",INDEX(BD!$E$2:$E$138,SMALL(IF(BD!$B$2:$B$138=$O$91,IF(BD!$B$2:$B$138=$O$91,ROW(BD!$B$2:$B$138)-ROW(BD!$B$2)+1),FALSE),ROWS(BD!$1:23)))))","v":""},{"$f":"IF($O$91=\"\",\"\",IF(ROWS(BD!$1:23)>COUNTIFS(BD!$B:$B,$O$91),\"\",INDEX(BD!$F$2:$F$138,SMALL(IF(BD!$B$2:$B$138=$O$91,IF(BD!$B$2:$B$138=$O$91,ROW(BD!$B$2:$B$138)-ROW(BD!$B$2)+1),FALSE),ROWS(BD!$1:23)))))","v":""},{"$f":"IF($O$91=\"\",\"\",IF(ROWS(BD!$1:23)>COUNTIFS(BD!$B:$B,$O$91),\"\",INDEX(BD!$G$2:$G$138,SMALL(IF(BD!$B$2:$B$138=$O$91,IF(BD!$B$2:$B$138=$O$91,ROW(BD!$B$2:$B$138)-ROW(BD!$B$2)+1),FALSE),ROWS(BD!$1:23)))))","v":""},{"$f":"IF($O$91=\"\",\"\",IF(ROWS(BD!$1:23)>COUNTIFS(BD!$B:$B,$O$91),\"\",INDEX(BD!$H$2:$H$138,SMALL(IF(BD!$B$2:$B$138=$O$91,IF(BD!$B$2:$B$138=$O$91,ROW(BD!$B$2:$B$138)-ROW(BD!$B$2)+1),FALSE),ROWS(BD!$1:23)))))","v":""},null,{"$f":"IF($U$91=\"\",\"\",IF(ROWS(BD!$1:23)>COUNTIFS(BD!$B:$B,$U$91),\"\",INDEX(BD!$C$2:$C$138,SMALL(IF(BD!$B$2:$B$138=$U$91,IF(BD!$B$2:$B$138=$U$91,ROW(BD!$B$2:$B$138)-ROW(BD!$B$2)+1),FALSE),ROWS(BD!$1:23)))))","v":""},{"$f":"IF($U$91=\"\",\"\",IF(ROWS(BD!$1:23)>COUNTIFS(BD!$B:$B,$U$91),\"\",INDEX(BD!$E$2:$E$138,SMALL(IF(BD!$B$2:$B$138=$U$91,IF(BD!$B$2:$B$138=$U$91,ROW(BD!$B$2:$B$138)-ROW(BD!$B$2)+1),FALSE),ROWS(BD!$1:23)))))","v":""},{"$f":"IF($U$91=\"\",\"\",IF(ROWS(BD!$1:23)>COUNTIFS(BD!$B:$B,$U$91),\"\",INDEX(BD!$F$2:$F$138,SMALL(IF(BD!$B$2:$B$138=$U$91,IF(BD!$B$2:$B$138=$U$91,ROW(BD!$B$2:$B$138)-ROW(BD!$B$2)+1),FALSE),ROWS(BD!$1:23)))))","v":""},{"$f":"IF($U$91=\"\",\"\",IF(ROWS(BD!$1:23)>COUNTIFS(BD!$B:$B,$U$91),\"\",INDEX(BD!$G$2:$G$138,SMALL(IF(BD!$B$2:$B$138=$U$91,IF(BD!$B$2:$B$138=$U$91,ROW(BD!$B$2:$B$138)-ROW(BD!$B$2)+1),FALSE),ROWS(BD!$1:23)))))","v":""},{"$f":"IF($U$91=\"\",\"\",IF(ROWS(BD!$1:23)>COUNTIFS(BD!$B:$B,$U$91),\"\",INDEX(BD!$H$2:$H$138,SMALL(IF(BD!$B$2:$B$138=$U$91,IF(BD!$B$2:$B$138=$U$91,ROW(BD!$B$2:$B$138)-ROW(BD!$B$2)+1),FALSE),ROWS(BD!$1:23)))))","v":""},null,{"$f":"IF($AA$91=\"\",\"\",IF(ROWS(BD!$1:23)>COUNTIFS(BD!$B:$B,$AA$91),\"\",INDEX(BD!$C$2:$C$138,SMALL(IF(BD!$B$2:$B$138=$AA$91,IF(BD!$B$2:$B$138=$AA$91,ROW(BD!$B$2:$B$138)-ROW(BD!$B$2)+1),FALSE),ROWS(BD!$1:23)))))","v":""},{"$f":"IF($AA$91=\"\",\"\",IF(ROWS(BD!$1:23)>COUNTIFS(BD!$B:$B,$AA$91),\"\",INDEX(BD!$E$2:$E$138,SMALL(IF(BD!$B$2:$B$138=$AA$91,IF(BD!$B$2:$B$138=$AA$91,ROW(BD!$B$2:$B$138)-ROW(BD!$B$2)+1),FALSE),ROWS(BD!$1:23)))))","v":""},{"$f":"IF($AA$91=\"\",\"\",IF(ROWS(BD!$1:23)>COUNTIFS(BD!$B:$B,$AA$91),\"\",INDEX(BD!$F$2:$F$138,SMALL(IF(BD!$B$2:$B$138=$AA$91,IF(BD!$B$2:$B$138=$AA$91,ROW(BD!$B$2:$B$138)-ROW(BD!$B$2)+1),FALSE),ROWS(BD!$1:23)))))","v":""},{"$f":"IF($AA$91=\"\",\"\",IF(ROWS(BD!$1:23)>COUNTIFS(BD!$B:$B,$AA$91),\"\",INDEX(BD!$G$2:$G$138,SMALL(IF(BD!$B$2:$B$138=$AA$91,IF(BD!$B$2:$B$138=$AA$91,ROW(BD!$B$2:$B$138)-ROW(BD!$B$2)+1),FALSE),ROWS(BD!$1:23)))))","v":""},{"$f":"IF($AA$91=\"\",\"\",IF(ROWS(BD!$1:23)>COUNTIFS(BD!$B:$B,$AA$91),\"\",INDEX(BD!$H$2:$H$138,SMALL(IF(BD!$B$2:$B$138=$AA$91,IF(BD!$B$2:$B$138=$AA$91,ROW(BD!$B$2:$B$138)-ROW(BD!$B$2)+1),FALSE),ROWS(BD!$1:23)))))","v":""},null,{"$f":"IF($AG$91=\"\",\"\",IF(ROWS(BD!$1:23)>COUNTIFS(BD!$B:$B,$AG$91),\"\",INDEX(BD!$C$2:$C$138,SMALL(IF(BD!$B$2:$B$138=$AG$91,IF(BD!$B$2:$B$138=$AG$91,ROW(BD!$B$2:$B$138)-ROW(BD!$B$2)+1),FALSE),ROWS(BD!$1:23)))))","v":""},{"$f":"IF($AG$91=\"\",\"\",IF(ROWS(BD!$1:23)>COUNTIFS(BD!$B:$B,$AG$91),\"\",INDEX(BD!$E$2:$E$138,SMALL(IF(BD!$B$2:$B$138=$AG$91,IF(BD!$B$2:$B$138=$AG$91,ROW(BD!$B$2:$B$138)-ROW(BD!$B$2)+1),FALSE),ROWS(BD!$1:23)))))","v":""},{"$f":"IF($AG$91=\"\",\"\",IF(ROWS(BD!$1:23)>COUNTIFS(BD!$B:$B,$AG$91),\"\",INDEX(BD!$F$2:$F$138,SMALL(IF(BD!$B$2:$B$138=$AG$91,IF(BD!$B$2:$B$138=$AG$91,ROW(BD!$B$2:$B$138)-ROW(BD!$B$2)+1),FALSE),ROWS(BD!$1:23)))))","v":""},{"$f":"IF($AG$91=\"\",\"\",IF(ROWS(BD!$1:23)>COUNTIFS(BD!$B:$B,$AG$91),\"\",INDEX(BD!$G$2:$G$138,SMALL(IF(BD!$B$2:$B$138=$AG$91,IF(BD!$B$2:$B$138=$AG$91,ROW(BD!$B$2:$B$138)-ROW(BD!$B$2)+1),FALSE),ROWS(BD!$1:23)))))","v":""},{"$f":"IF($AG$91=\"\",\"\",IF(ROWS(BD!$1:23)>COUNTIFS(BD!$B:$B,$AG$91),\"\",INDEX(BD!$H$2:$H$138,SMALL(IF(BD!$B$2:$B$138=$AG$91,IF(BD!$B$2:$B$138=$AG$91,ROW(BD!$B$2:$B$138)-ROW(BD!$B$2)+1),FALSE),ROWS(BD!$1:23)))))","v":""},null,{"$f":"IF($AM$91=\"\",\"\",IF(ROWS(BD!$1:23)>COUNTIFS(BD!$B:$B,$AM$91),\"\",INDEX(BD!$C$2:$C$138,SMALL(IF(BD!$B$2:$B$138=$AM$91,IF(BD!$B$2:$B$138=$AM$91,ROW(BD!$B$2:$B$138)-ROW(BD!$B$2)+1),FALSE),ROWS(BD!$1:23)))))","v":""},{"$f":"IF($AM$91=\"\",\"\",IF(ROWS(BD!$1:23)>COUNTIFS(BD!$B:$B,$AM$91),\"\",INDEX(BD!$E$2:$E$138,SMALL(IF(BD!$B$2:$B$138=$AM$91,IF(BD!$B$2:$B$138=$AM$91,ROW(BD!$B$2:$B$138)-ROW(BD!$B$2)+1),FALSE),ROWS(BD!$1:23)))))","v":""},{"$f":"IF($AM$91=\"\",\"\",IF(ROWS(BD!$1:23)>COUNTIFS(BD!$B:$B,$AM$91),\"\",INDEX(BD!$F$2:$F$138,SMALL(IF(BD!$B$2:$B$138=$AM$91,IF(BD!$B$2:$B$138=$AM$91,ROW(BD!$B$2:$B$138)-ROW(BD!$B$2)+1),FALSE),ROWS(BD!$1:23)))))","v":""},{"$f":"IF($AM$91=\"\",\"\",IF(ROWS(BD!$1:23)>COUNTIFS(BD!$B:$B,$AM$91),\"\",INDEX(BD!$G$2:$G$138,SMALL(IF(BD!$B$2:$B$138=$AM$91,IF(BD!$B$2:$B$138=$AM$91,ROW(BD!$B$2:$B$138)-ROW(BD!$B$2)+1),FALSE),ROWS(BD!$1:23)))))","v":""},{"$f":"IF($AM$91=\"\",\"\",IF(ROWS(BD!$1:23)>COUNTIFS(BD!$B:$B,$AM$91),\"\",INDEX(BD!$H$2:$H$138,SMALL(IF(BD!$B$2:$B$138=$AM$91,IF(BD!$B$2:$B$138=$AM$91,ROW(BD!$B$2:$B$138)-ROW(BD!$B$2)+1),FALSE),ROWS(BD!$1:23)))))","v":""}]
[null,null,{"$f":"IF($C$91=\"\",\"\",IF(ROWS(BD!$1:24)>COUNTIFS(BD!$B:$B,$C$91),\"\",INDEX(BD!$C$2:$C$138,SMALL(IF(BD!$B$2:$B$138=$C$91,IF(BD!$B$2:$B$138=$C$91,ROW(BD!$B$2:$B$138)-ROW(BD!$B$2)+1),FALSE),ROWS(BD!$1:24)))))","v":""},{"$f":"IF($C$91=\"\",\"\",IF(ROWS(BD!$1:24)>COUNTIFS(BD!$B:$B,$C$91),\"\",INDEX(BD!$E$2:$E$138,SMALL(IF(BD!$B$2:$B$138=$C$91,IF(BD!$B$2:$B$138=$C$91,ROW(BD!$B$2:$B$138)-ROW(BD!$B$2)+1),FALSE),ROWS(BD!$1:24)))))","v":""},{"$f":"IF($C$91=\"\",\"\",IF(ROWS(BD!$1:24)>COUNTIFS(BD!$B:$B,$C$91),\"\",INDEX(BD!$F$2:$F$138,SMALL(IF(BD!$B$2:$B$138=$C$91,IF(BD!$B$2:$B$138=$C$91,ROW(BD!$B$2:$B$138)-ROW(BD!$B$2)+1),FALSE),ROWS(BD!$1:24)))))","v":""},{"$f":"IF($C$91=\"\",\"\",IF(ROWS(BD!$1:24)>COUNTIFS(BD!$B:$B,$C$91),\"\",INDEX(BD!$G$2:$G$138,SMALL(IF(BD!$B$2:$B$138=$C$91,IF(BD!$B$2:$B$138=$C$91,ROW(BD!$B$2:$B$138)-ROW(BD!$B$2)+1),FALSE),ROWS(BD!$1:24)))))","v":""},{"$f":"IF($C$91=\"\",\"\",IF(ROWS(BD!$1:24)>COUNTIFS(BD!$B:$B,$C$91),\"\",INDEX(BD!$H$2:$H$138,SMALL(IF(BD!$B$2:$B$138=$C$91,IF(BD!$B$2:$B$138=$C$91,ROW(BD!$B$2:$B$138)-ROW(BD!$B$2)+1),FALSE),ROWS(BD!$1:24)))))","v":""},null,{"$f":"IF($I$91=\"\",\"\",IF(ROWS(BD!$1:24)>COUNTIFS(BD!$B:$B,$I$91),\"\",INDEX(BD!$C$2:$C$138,SMALL(IF(BD!$B$2:$B$138=$I$91,IF(BD!$B$2:$B$138=$I$91,ROW(BD!$B$2:$B$138)-ROW(BD!$B$2)+1),FALSE),ROWS(BD!$1:24)))))","v":""},{"$f":"IF($I$91=\"\",\"\",IF(ROWS(BD!$1:24)>COUNTIFS(BD!$B:$B,$I$91),\"\",INDEX(BD!$E$2:$E$138,SMALL(IF(BD!$B$2:$B$138=$I$91,IF(BD!$B$2:$B$138=$I$91,ROW(BD!$B$2:$B$138)-ROW(BD!$B$2)+1),FALSE),ROWS(BD!$1:24)))))","v":""},{"$f":"IF($I$91=\"\",\"\",IF(ROWS(BD!$1:24)>COUNTIFS(BD!$B:$B,$I$91),\"\",INDEX(BD!$F$2:$F$138,SMALL(IF(BD!$B$2:$B$138=$I$91,IF(BD!$B$2:$B$138=$I$91,ROW(BD!$B$2:$B$138)-ROW(BD!$B$2)+1),FALSE),ROWS(BD!$1:24)))))","v":""},{"$f":"IF($I$91=\"\",\"\",IF(ROWS(BD!$1:24)>COUNTIFS(BD!$B:$B,$I$91),\"\",INDEX(BD!$G$2:$G$138,SMALL(IF(BD!$B$2:$B$138=$I$91,IF(BD!$B$2:$B$138=$I$91,ROW(BD!$B$2:$B$138)-ROW(BD!$B$2)+1),FALSE),ROWS(BD!$1:24)))))","v":""},{"$f":"IF($I$91=\"\",\"\",IF(ROWS(BD!$1:24)>COUNTIFS(BD!$B:$B,$I$91),\"\",INDEX(BD!$H$2:$H$138,SMALL(IF(BD!$B$2:$B$138=$I$91,IF(BD!$B$2:$B$138=$I$91,ROW(BD!$B$2:$B$138)-ROW(BD!$B$2)+1),FALSE),ROWS(BD!$1:24)))))","v":""},null,{"$f":"IF($O$91=\"\",\"\",IF(ROWS(BD!$1:24)>COUNTIFS(BD!$B:$B,$O$91),\"\",INDEX(BD!$C$2:$C$138,SMALL(IF(BD!$B$2:$B$138=$O$91,IF(BD!$B$2:$B$138=$O$91,ROW(BD!$B$2:$B$138)-ROW(BD!$B$2)+1),FALSE),ROWS(BD!$1:24)))))","v":""},{"$f":"IF($O$91=\"\",\"\",IF(ROWS(BD!$1:24)>COUNTIFS(BD!$B:$B,$O$91),\"\",INDEX(BD!$E$2:$E$138,SMALL(IF(BD!$B$2:$B$138=$O$91,IF(BD!$B$2:$B$138=$O$91,ROW(BD!$B$2:$B$138)-ROW(BD!$B$2)+1),FALSE),ROWS(BD!$1:24)))))","v":""},{"$f":"IF($O$91=\"\",\"\",IF(ROWS(BD!$1:24)>COUNTIFS(BD!$B:$B,$O$91),\"\",INDEX(BD!$F$2:$F$138,SMALL(IF(BD!$B$2:$B$138=$O$91,IF(BD!$B$2:$B$138=$O$91,ROW(BD!$B$2:$B$138)-ROW(BD!$B$2)+1),FALSE),ROWS(BD!$1:24)))))","v":""},{"$f":"IF($O$91=\"\",\"\",IF(ROWS(BD!$1:24)>COUNTIFS(BD!$B:$B,$O$91),\"\",INDEX(BD!$G$2:$G$138,SMALL(IF(BD!$B$2:$B$138=$O$91,IF(BD!$B$2:$B$138=$O$91,ROW(BD!$B$2:$B$138)-ROW(BD!$B$2)+1),FALSE),ROWS(BD!$1:24)))))","v":""},{"$f":"IF($O$91=\"\",\"\",IF(ROWS(BD!$1:24)>COUNTIFS(BD!$B:$B,$O$91),\"\",INDEX(BD!$H$2:$H$138,SMALL(IF(BD!$B$2:$B$138=$O$91,IF(BD!$B$2:$B$138=$O$91,ROW(BD!$B$2:$B$138)-ROW(BD!$B$2)+1),FALSE),ROWS(BD!$1:24)))))","v":""},null,{"$f":"IF($U$91=\"\",\"\",IF(ROWS(BD!$1:24)>COUNTIFS(BD!$B:$B,$U$91),\"\",INDEX(BD!$C$2:$C$138,SMALL(IF(BD!$B$2:$B$138=$U$91,IF(BD!$B$2:$B$138=$U$91,ROW(BD!$B$2:$B$138)-ROW(BD!$B$2)+1),FALSE),ROWS(BD!$1:24)))))","v":""},{"$f":"IF($U$91=\"\",\"\",IF(ROWS(BD!$1:24)>COUNTIFS(BD!$B:$B,$U$91),\"\",INDEX(BD!$E$2:$E$138,SMALL(IF(BD!$B$2:$B$138=$U$91,IF(BD!$B$2:$B$138=$U$91,ROW(BD!$B$2:$B$138)-ROW(BD!$B$2)+1),FALSE),ROWS(BD!$1:24)))))","v":""},{"$f":"IF($U$91=\"\",\"\",IF(ROWS(BD!$1:24)>COUNTIFS(BD!$B:$B,$U$91),\"\",INDEX(BD!$F$2:$F$138,SMALL(IF(BD!$B$2:$B$138=$U$91,IF(BD!$B$2:$B$138=$U$91,ROW(BD!$B$2:$B$138)-ROW(BD!$B$2)+1),FALSE),ROWS(BD!$1:24)))))","v":""},{"$f":"IF($U$91=\"\",\"\",IF(ROWS(BD!$1:24)>COUNTIFS(BD!$B:$B,$U$91),\"\",INDEX(BD!$G$2:$G$138,SMALL(IF(BD!$B$2:$B$138=$U$91,IF(BD!$B$2:$B$138=$U$91,ROW(BD!$B$2:$B$138)-ROW(BD!$B$2)+1),FALSE),ROWS(BD!$1:24)))))","v":""},{"$f":"IF($U$91=\"\",\"\",IF(ROWS(BD!$1:24)>COUNTIFS(BD!$B:$B,$U$91),\"\",INDEX(BD!$H$2:$H$138,SMALL(IF(BD!$B$2:$B$138=$U$91,IF(BD!$B$2:$B$138=$U$91,ROW(BD!$B$2:$B$138)-ROW(BD!$B$2)+1),FALSE),ROWS(BD!$1:24)))))","v":""},null,{"$f":"IF($AA$91=\"\",\"\",IF(ROWS(BD!$1:24)>COUNTIFS(BD!$B:$B,$AA$91),\"\",INDEX(BD!$C$2:$C$138,SMALL(IF(BD!$B$2:$B$138=$AA$91,IF(BD!$B$2:$B$138=$AA$91,ROW(BD!$B$2:$B$138)-ROW(BD!$B$2)+1),FALSE),ROWS(BD!$1:24)))))","v":""},{"$f":"IF($AA$91=\"\",\"\",IF(ROWS(BD!$1:24)>COUNTIFS(BD!$B:$B,$AA$91),\"\",INDEX(BD!$E$2:$E$138,SMALL(IF(BD!$B$2:$B$138=$AA$91,IF(BD!$B$2:$B$138=$AA$91,ROW(BD!$B$2:$B$138)-ROW(BD!$B$2)+1),FALSE),ROWS(BD!$1:24)))))","v":""},{"$f":"IF($AA$91=\"\",\"\",IF(ROWS(BD!$1:24)>COUNTIFS(BD!$B:$B,$AA$91),\"\",INDEX(BD!$F$2:$F$138,SMALL(IF(BD!$B$2:$B$138=$AA$91,IF(BD!$B$2:$B$138=$AA$91,ROW(BD!$B$2:$B$138)-ROW(BD!$B$2)+1),FALSE),ROWS(BD!$1:24)))))","v":""},{"$f":"IF($AA$91=\"\",\"\",IF(ROWS(BD!$1:24)>COUNTIFS(BD!$B:$B,$AA$91),\"\",INDEX(BD!$G$2:$G$138,SMALL(IF(BD!$B$2:$B$138=$AA$91,IF(BD!$B$2:$B$138=$AA$91,ROW(BD!$B$2:$B$138)-ROW(BD!$B$2)+1),FALSE),ROWS(BD!$1:24)))))","v":""},{"$f":"IF($AA$91=\"\",\"\",IF(ROWS(BD!$1:24)>COUNTIFS(BD!$B:$B,$AA$91),\"\",INDEX(BD!$H$2:$H$138,SMALL(IF(BD!$B$2:$B$138=$AA$91,IF(BD!$B$2:$B$138=$AA$91,ROW(BD!$B$2:$B$138)-ROW(BD!$B$2)+1),FALSE),ROWS(BD!$1:24)))))","v":""},null,{"$f":"IF($AG$91=\"\",\"\",IF(ROWS(BD!$1:24)>COUNTIFS(BD!$B:$B,$AG$91),\"\",INDEX(BD!$C$2:$C$138,SMALL(IF(BD!$B$2:$B$138=$AG$91,IF(BD!$B$2:$B$138=$AG$91,ROW(BD!$B$2:$B$138)-ROW(BD!$B$2)+1),FALSE),ROWS(BD!$1:24)))))","v":""},{"$f":"IF($AG$91=\"\",\"\",IF(ROWS(BD!$1:24)>COUNTIFS(BD!$B:$B,$AG$91),\"\",INDEX(BD!$E$2:$E$138,SMALL(IF(BD!$B$2:$B$138=$AG$91,IF(BD!$B$2:$B$138=$AG$91,ROW(BD!$B$2:$B$138)-ROW(BD!$B$2)+1),FALSE),ROWS(BD!$1:24)))))","v":""},{"$f":"IF($AG$91=\"\",\"\",IF(ROWS(BD!$1:24)>COUNTIFS(BD!$B:$B,$AG$91),\"\",INDEX(BD!$F$2:$F$138,SMALL(IF(BD!$B$2:$B$138=$AG$91,IF(BD!$B$2:$B$138=$AG$91,ROW(BD!$B$2:$B$138)-ROW(BD!$B$2)+1),FALSE),ROWS(BD!$1:24)))))","v":""},{"$f":"IF($AG$91=\"\",\"\",IF(ROWS(BD!$1:24)>COUNTIFS(BD!$B:$B,$AG$91),\"\",INDEX(BD!$G$2:$G$138,SMALL(IF(BD!$B$2:$B$138=$AG$91,IF(BD!$B$2:$B$138=$AG$91,ROW(BD!$B$2:$B$138)-ROW(BD!$B$2)+1),FALSE),ROWS(BD!$1:24)))))","v":""},{"$f":"IF($AG$91=\"\",\"\",IF(ROWS(BD!$1:24)>COUNTIFS(BD!$B:$B,$AG$91),\"\",INDEX(BD!$H$2:$H$138,SMALL(IF(BD!$B$2:$B$138=$AG$91,IF(BD!$B$2:$B$138=$AG$91,ROW(BD!$B$2:$B$138)-ROW(BD!$B$2)+1),FALSE),ROWS(BD!$1:24)))))","v":""},null,{"$f":"IF($AM$91=\"\",\"\",IF(ROWS(BD!$1:24)>COUNTIFS(BD!$B:$B,$AM$91),\"\",INDEX(BD!$C$2:$C$138,SMALL(IF(BD!$B$2:$B$138=$AM$91,IF(BD!$B$2:$B$138=$AM$91,ROW(BD!$B$2:$B$138)-ROW(BD!$B$2)+1),FALSE),ROWS(BD!$1:24)))))","v":""},{"$f":"IF($AM$91=\"\",\"\",IF(ROWS(BD!$1:24)>COUNTIFS(BD!$B:$B,$AM$91),\"\",INDEX(BD!$E$2:$E$138,SMALL(IF(BD!$B$2:$B$138=$AM$91,IF(BD!$B$2:$B$138=$AM$91,ROW(BD!$B$2:$B$138)-ROW(BD!$B$2)+1),FALSE),ROWS(BD!$1:24)))))","v":""},{"$f":"IF($AM$91=\"\",\"\",IF(ROWS(BD!$1:24)>COUNTIFS(BD!$B:$B,$AM$91),\"\",INDEX(BD!$F$2:$F$138,SMALL(IF(BD!$B$2:$B$138=$AM$91,IF(BD!$B$2:$B$138=$AM$91,ROW(BD!$B$2:$B$138)-ROW(BD!$B$2)+1),FALSE),ROWS(BD!$1:24)))))","v":""},{"$f":"IF($AM$91=\"\",\"\",IF(ROWS(BD!$1:24)>COUNTIFS(BD!$B:$B,$AM$91),\"\",INDEX(BD!$G$2:$G$138,SMALL(IF(BD!$B$2:$B$138=$AM$91,IF(BD!$B$2:$B$138=$AM$91,ROW(BD!$B$2:$B$138)-ROW(BD!$B$2)+1),FALSE),ROWS(BD!$1:24)))))","v":""},{"$f":"IF($AM$91=\"\",\"\",IF(ROWS(BD!$1:24)>COUNTIFS(BD!$B:$B,$AM$91),\"\",INDEX(BD!$H$2:$H$138,SMALL(IF(BD!$B$2:$B$138=$AM$91,IF(BD!$B$2:$B$138=$AM$91,ROW(BD!$B$2:$B$138)-ROW(BD!$B$2)+1),FALSE),ROWS(BD!$1:24)))))","v":""}]
[null,null,{"$f":"IF($C$91=\"\",\"\",IF(ROWS(BD!$1:25)>COUNTIFS(BD!$B:$B,$C$91),\"\",INDEX(BD!$C$2:$C$138,SMALL(IF(BD!$B$2:$B$138=$C$91,IF(BD!$B$2:$B$138=$C$91,ROW(BD!$B$2:$B$138)-ROW(BD!$B$2)+1),FALSE),ROWS(BD!$1:25)))))","v":""},{"$f":"IF($C$91=\"\",\"\",IF(ROWS(BD!$1:25)>COUNTIFS(BD!$B:$B,$C$91),\"\",INDEX(BD!$E$2:$E$138,SMALL(IF(BD!$B$2:$B$138=$C$91,IF(BD!$B$2:$B$138=$C$91,ROW(BD!$B$2:$B$138)-ROW(BD!$B$2)+1),FALSE),ROWS(BD!$1:25)))))","v":""},{"$f":"IF($C$91=\"\",\"\",IF(ROWS(BD!$1:25)>COUNTIFS(BD!$B:$B,$C$91),\"\",INDEX(BD!$F$2:$F$138,SMALL(IF(BD!$B$2:$B$138=$C$91,IF(BD!$B$2:$B$138=$C$91,ROW(BD!$B$2:$B$138)-ROW(BD!$B$2)+1),FALSE),ROWS(BD!$1:25)))))","v":""},{"$f":"IF($C$91=\"\",\"\",IF(ROWS(BD!$1:25)>COUNTIFS(BD!$B:$B,$C$91),\"\",INDEX(BD!$G$2:$G$138,SMALL(IF(BD!$B$2:$B$138=$C$91,IF(BD!$B$2:$B$138=$C$91,ROW(BD!$B$2:$B$138)-ROW(BD!$B$2)+1),FALSE),ROWS(BD!$1:25)))))","v":""},{"$f":"IF($C$91=\"\",\"\",IF(ROWS(BD!$1:25)>COUNTIFS(BD!$B:$B,$C$91),\"\",INDEX(BD!$H$2:$H$138,SMALL(IF(BD!$B$2:$B$138=$C$91,IF(BD!$B$2:$B$138=$C$91,ROW(BD!$B$2:$B$138)-ROW(BD!$B$2)+1),FALSE),ROWS(BD!$1:25)))))","v":""},null,{"$f":"IF($I$91=\"\",\"\",IF(ROWS(BD!$1:25)>COUNTIFS(BD!$B:$B,$I$91),\"\",INDEX(BD!$C$2:$C$138,SMALL(IF(BD!$B$2:$B$138=$I$91,IF(BD!$B$2:$B$138=$I$91,ROW(BD!$B$2:$B$138)-ROW(BD!$B$2)+1),FALSE),ROWS(BD!$1:25)))))","v":""},{"$f":"IF($I$91=\"\",\"\",IF(ROWS(BD!$1:25)>COUNTIFS(BD!$B:$B,$I$91),\"\",INDEX(BD!$E$2:$E$138,SMALL(IF(BD!$B$2:$B$138=$I$91,IF(BD!$B$2:$B$138=$I$91,ROW(BD!$B$2:$B$138)-ROW(BD!$B$2)+1),FALSE),ROWS(BD!$1:25)))))","v":""},{"$f":"IF($I$91=\"\",\"\",IF(ROWS(BD!$1:25)>COUNTIFS(BD!$B:$B,$I$91),\"\",INDEX(BD!$F$2:$F$138,SMALL(IF(BD!$B$2:$B$138=$I$91,IF(BD!$B$2:$B$138=$I$91,ROW(BD!$B$2:$B$138)-ROW(BD!$B$2)+1),FALSE),ROWS(BD!$1:25)))))","v":""},{"$f":"IF($I$91=\"\",\"\",IF(ROWS(BD!$1:25)>COUNTIFS(BD!$B:$B,$I$91),\"\",INDEX(BD!$G$2:$G$138,SMALL(IF(BD!$B$2:$B$138=$I$91,IF(BD!$B$2:$B$138=$I$91,ROW(BD!$B$2:$B$138)-ROW(BD!$B$2)+1),FALSE),ROWS(BD!$1:25)))))","v":""},{"$f":"IF($I$91=\"\",\"\",IF(ROWS(BD!$1:25)>COUNTIFS(BD!$B:$B,$I$91),\"\",INDEX(BD!$H$2:$H$138,SMALL(IF(BD!$B$2:$B$138=$I$91,IF(BD!$B$2:$B$138=$I$91,ROW(BD!$B$2:$B$138)-ROW(BD!$B$2)+1),FALSE),ROWS(BD!$1:25)))))","v":""},null,{"$f":"IF($O$91=\"\",\"\",IF(ROWS(BD!$1:25)>COUNTIFS(BD!$B:$B,$O$91),\"\",INDEX(BD!$C$2:$C$138,SMALL(IF(BD!$B$2:$B$138=$O$91,IF(BD!$B$2:$B$138=$O$91,ROW(BD!$B$2:$B$138)-ROW(BD!$B$2)+1),FALSE),ROWS(BD!$1:25)))))","v":""},{"$f":"IF($O$91=\"\",\"\",IF(ROWS(BD!$1:25)>COUNTIFS(BD!$B:$B,$O$91),\"\",INDEX(BD!$E$2:$E$138,SMALL(IF(BD!$B$2:$B$138=$O$91,IF(BD!$B$2:$B$138=$O$91,ROW(BD!$B$2:$B$138)-ROW(BD!$B$2)+1),FALSE),ROWS(BD!$1:25)))))","v":""},{"$f":"IF($O$91=\"\",\"\",IF(ROWS(BD!$1:25)>COUNTIFS(BD!$B:$B,$O$91),\"\",INDEX(BD!$F$2:$F$138,SMALL(IF(BD!$B$2:$B$138=$O$91,IF(BD!$B$2:$B$138=$O$91,ROW(BD!$B$2:$B$138)-ROW(BD!$B$2)+1),FALSE),ROWS(BD!$1:25)))))","v":""},{"$f":"IF($O$91=\"\",\"\",IF(ROWS(BD!$1:25)>COUNTIFS(BD!$B:$B,$O$91),\"\",INDEX(BD!$G$2:$G$138,SMALL(IF(BD!$B$2:$B$138=$O$91,IF(BD!$B$2:$B$138=$O$91,ROW(BD!$B$2:$B$138)-ROW(BD!$B$2)+1),FALSE),ROWS(BD!$1:25)))))","v":""},{"$f":"IF($O$91=\"\",\"\",IF(ROWS(BD!$1:25)>COUNTIFS(BD!$B:$B,$O$91),\"\",INDEX(BD!$H$2:$H$138,SMALL(IF(BD!$B$2:$B$138=$O$91,IF(BD!$B$2:$B$138=$O$91,ROW(BD!$B$2:$B$138)-ROW(BD!$B$2)+1),FALSE),ROWS(BD!$1:25)))))","v":""},null,{"$f":"IF($U$91=\"\",\"\",IF(ROWS(BD!$1:25)>COUNTIFS(BD!$B:$B,$U$91),\"\",INDEX(BD!$C$2:$C$138,SMALL(IF(BD!$B$2:$B$138=$U$91,IF(BD!$B$2:$B$138=$U$91,ROW(BD!$B$2:$B$138)-ROW(BD!$B$2)+1),FALSE),ROWS(BD!$1:25)))))","v":""},{"$f":"IF($U$91=\"\",\"\",IF(ROWS(BD!$1:25)>COUNTIFS(BD!$B:$B,$U$91),\"\",INDEX(BD!$E$2:$E$138,SMALL(IF(BD!$B$2:$B$138=$U$91,IF(BD!$B$2:$B$138=$U$91,ROW(BD!$B$2:$B$138)-ROW(BD!$B$2)+1),FALSE),ROWS(BD!$1:25)))))","v":""},{"$f":"IF($U$91=\"\",\"\",IF(ROWS(BD!$1:25)>COUNTIFS(BD!$B:$B,$U$91),\"\",INDEX(BD!$F$2:$F$138,SMALL(IF(BD!$B$2:$B$138=$U$91,IF(BD!$B$2:$B$138=$U$91,ROW(BD!$B$2:$B$138)-ROW(BD!$B$2)+1),FALSE),ROWS(BD!$1:25)))))","v":""},{"$f":"IF($U$91=\"\",\"\",IF(ROWS(BD!$1:25)>COUNTIFS(BD!$B:$B,$U$91),\"\",INDEX(BD!$G$2:$G$138,SMALL(IF(BD!$B$2:$B$138=$U$91,IF(BD!$B$2:$B$138=$U$91,ROW(BD!$B$2:$B$138)-ROW(BD!$B$2)+1),FALSE),ROWS(BD!$1:25)))))","v":""},{"$f":"IF($U$91=\"\",\"\",IF(ROWS(BD!$1:25)>COUNTIFS(BD!$B:$B,$U$91),\"\",INDEX(BD!$H$2:$H$138,SMALL(IF(BD!$B$2:$B$138=$U$91,IF(BD!$B$2:$B$138=$U$91,ROW(BD!$B$2:$B$138)-ROW(BD!$B$2)+1),FALSE),ROWS(BD!$1:25)))))","v":""},null,{"$f":"IF($AA$91=\"\",\"\",IF(ROWS(BD!$1:25)>COUNTIFS(BD!$B:$B,$AA$91),\"\",INDEX(BD!$C$2:$C$138,SMALL(IF(BD!$B$2:$B$138=$AA$91,IF(BD!$B$2:$B$138=$AA$91,ROW(BD!$B$2:$B$138)-ROW(BD!$B$2)+1),FALSE),ROWS(BD!$1:25)))))","v":""},{"$f":"IF($AA$91=\"\",\"\",IF(ROWS(BD!$1:25)>COUNTIFS(BD!$B:$B,$AA$91),\"\",INDEX(BD!$E$2:$E$138,SMALL(IF(BD!$B$2:$B$138=$AA$91,IF(BD!$B$2:$B$138=$AA$91,ROW(BD!$B$2:$B$138)-ROW(BD!$B$2)+1),FALSE),ROWS(BD!$1:25)))))","v":""},{"$f":"IF($AA$91=\"\",\"\",IF(ROWS(BD!$1:25)>COUNTIFS(BD!$B:$B,$AA$91),\"\",INDEX(BD!$F$2:$F$138,SMALL(IF(BD!$B$2:$B$138=$AA$91,IF(BD!$B$2:$B$138=$AA$91,ROW(BD!$B$2:$B$138)-ROW(BD!$B$2)+1),FALSE),ROWS(BD!$1:25)))))","v":""},{"$f":"IF($AA$91=\"\",\"\",IF(ROWS(BD!$1:25)>COUNTIFS(BD!$B:$B,$AA$91),\"\",INDEX(BD!$G$2:$G$138,SMALL(IF(BD!$B$2:$B$138=$AA$91,IF(BD!$B$2:$B$138=$AA$91,ROW(BD!$B$2:$B$138)-ROW(BD!$B$2)+1),FALSE),ROWS(BD!$1:25)))))","v":""},{"$f":"IF($AA$91=\"\",\"\",IF(ROWS(BD!$1:25)>COUNTIFS(BD!$B:$B,$AA$91),\"\",INDEX(BD!$H$2:$H$138,SMALL(IF(BD!$B$2:$B$138=$AA$91,IF(BD!$B$2:$B$138=$AA$91,ROW(BD!$B$2:$B$138)-ROW(BD!$B$2)+1),FALSE),ROWS(BD!$1:25)))))","v":""},null,{"$f":"IF($AG$91=\"\",\"\",IF(ROWS(BD!$1:25)>COUNTIFS(BD!$B:$B,$AG$91),\"\",INDEX(BD!$C$2:$C$138,SMALL(IF(BD!$B$2:$B$138=$AG$91,IF(BD!$B$2:$B$138=$AG$91,ROW(BD!$B$2:$B$138)-ROW(BD!$B$2)+1),FALSE),ROWS(BD!$1:25)))))","v":""},{"$f":"IF($AG$91=\"\",\"\",IF(ROWS(BD!$1:25)>COUNTIFS(BD!$B:$B,$AG$91),\"\",INDEX(BD!$E$2:$E$138,SMALL(IF(BD!$B$2:$B$138=$AG$91,IF(BD!$B$2:$B$138=$AG$91,ROW(BD!$B$2:$B$138)-ROW(BD!$B$2)+1),FALSE),ROWS(BD!$1:25)))))","v":""},{"$f":"IF($AG$91=\"\",\"\",IF(ROWS(BD!$1:25)>COUNTIFS(BD!$B:$B,$AG$91),\"\",INDEX(BD!$F$2:$F$138,SMALL(IF(BD!$B$2:$B$138=$AG$91,IF(BD!$B$2:$B$138=$AG$91,ROW(BD!$B$2:$B$138)-ROW(BD!$B$2)+1),FALSE),ROWS(BD!$1:25)))))","v":""},{"$f":"IF($AG$91=\"\",\"\",IF(ROWS(BD!$1:25)>COUNTIFS(BD!$B:$B,$AG$91),\"\",INDEX(BD!$G$2:$G$138,SMALL(IF(BD!$B$2:$B$138=$AG$91,IF(BD!$B$2:$B$138=$AG$91,ROW(BD!$B$2:$B$138)-ROW(BD!$B$2)+1),FALSE),ROWS(BD!$1:25)))))","v":""},{"$f":"IF($AG$91=\"\",\"\",IF(ROWS(BD!$1:25)>COUNTIFS(BD!$B:$B,$AG$91),\"\",INDEX(BD!$H$2:$H$138,SMALL(IF(BD!$B$2:$B$138=$AG$91,IF(BD!$B$2:$B$138=$AG$91,ROW(BD!$B$2:$B$138)-ROW(BD!$B$2)+1),FALSE),ROWS(BD!$1:25)))))","v":""},null,{"$f":"IF($AM$91=\"\",\"\",IF(ROWS(BD!$1:25)>COUNTIFS(BD!$B:$B,$AM$91),\"\",INDEX(BD!$C$2:$C$138,SMALL(IF(BD!$B$2:$B$138=$AM$91,IF(BD!$B$2:$B$138=$AM$91,ROW(BD!$B$2:$B$138)-ROW(BD!$B$2)+1),FALSE),ROWS(BD!$1:25)))))","v":""},{"$f":"IF($AM$91=\"\",\"\",IF(ROWS(BD!$1:25)>COUNTIFS(BD!$B:$B,$AM$91),\"\",INDEX(BD!$E$2:$E$138,SMALL(IF(BD!$B$2:$B$138=$AM$91,IF(BD!$B$2:$B$138=$AM$91,ROW(BD!$B$2:$B$138)-ROW(BD!$B$2)+1),FALSE),ROWS(BD!$1:25)))))","v":""},{"$f":"IF($AM$91=\"\",\"\",IF(ROWS(BD!$1:25)>COUNTIFS(BD!$B:$B,$AM$91),\"\",INDEX(BD!$F$2:$F$138,SMALL(IF(BD!$B$2:$B$138=$AM$91,IF(BD!$B$2:$B$138=$AM$91,ROW(BD!$B$2:$B$138)-ROW(BD!$B$2)+1),FALSE),ROWS(BD!$1:25)))))","v":""},{"$f":"IF($AM$91=\"\",\"\",IF(ROWS(BD!$1:25)>COUNTIFS(BD!$B:$B,$AM$91),\"\",INDEX(BD!$G$2:$G$138,SMALL(IF(BD!$B$2:$B$138=$AM$91,IF(BD!$B$2:$B$138=$AM$91,ROW(BD!$B$2:$B$138)-ROW(BD!$B$2)+1),FALSE),ROWS(BD!$1:25)))))","v":""},{"$f":"IF($AM$91=\"\",\"\",IF(ROWS(BD!$1:25)>COUNTIFS(BD!$B:$B,$AM$91),\"\",INDEX(BD!$H$2:$H$138,SMALL(IF(BD!$B$2:$B$138=$AM$91,IF(BD!$B$2:$B$138=$AM$91,ROW(BD!$B$2:$B$138)-ROW(BD!$B$2)+1),FALSE),ROWS(BD!$1:25)))))","v":""}]
[]
[null,null,{"$f":"IF(AM91<>\"\",IF(AM91+1<=fim,AM91+1,\"\"),\"\")","v":"2023-12-24"},null,null,null,null,null,{"$f":"IF(C118<>\"\",IF(C118+1<=fim,C118+1,\"\"),\"\")","v":"2023-12-25"},null,null,null,null,null,{"$f":"IF(I118<>\"\",IF(I118+1<=fim,I118+1,\"\"),\"\")","v":"2023-12-26"},null,null,null,null,null,{"$f":"IF(O118<>\"\",IF(O118+1<=fim,O118+1,\"\"),\"\")","v":"2023-12-27"},null,null,null,null,null,{"$f":"IF(U118<>\"\",IF(U118+1<=fim,U118+1,\"\"),\"\")","v":"2023-12-28"},null,null,null,null,null,{"$f":"IF(AA118<>\"\",IF(AA118+1<=fim,AA118+1,\"\"),\"\")","v":"2023-12-29"},null,null,null,null,null,{"$f":"IF(AG118<>\"\",IF(AG118+1<=fim,AG118+1,\"\"),\"\")","v":"2023-12-30"}]
[null,null,{"$f":"IF($C$118=\"\",\"\",IF(ROWS(BD!$1:1)>COUNTIFS(BD!$B:$B,$C$118),\"\",INDEX(BD!$C$2:$C$138,SMALL(IF(BD!$B$2:$B$138=$C$118,IF(BD!$B$2:$B$138=$C$118,ROW(BD!$B$2:$B$138)-ROW(BD!$B$2)+1),FALSE),ROWS(BD!$1:1)))))","v":""},{"$f":"IF($C$118=\"\",\"\",IF(ROWS(BD!$1:1)>COUNTIFS(BD!$B:$B,$C$118),\"\",INDEX(BD!$E$2:$E$138,SMALL(IF(BD!$B$2:$B$138=$C$118,IF(BD!$B$2:$B$138=$C$118,ROW(BD!$B$2:$B$138)-ROW(BD!$B$2)+1),FALSE),ROWS(BD!$1:1)))))","v":""},{"$f":"IF($C$118=\"\",\"\",IF(ROWS(BD!$1:1)>COUNTIFS(BD!$B:$B,$C$118),\"\",INDEX(BD!$F$2:$F$138,SMALL(IF(BD!$B$2:$B$138=$C$118,IF(BD!$B$2:$B$138=$C$118,ROW(BD!$B$2:$B$138)-ROW(BD!$B$2)+1),FALSE),ROWS(BD!$1:1)))))","v":""},{"$f":"IF($C$118=\"\",\"\",IF(ROWS(BD!$1:1)>COUNTIFS(BD!$B:$B,$C$118),\"\",INDEX(BD!$G$2:$G$138,SMALL(IF(BD!$B$2:$B$138=$C$118,IF(BD!$B$2:$B$138=$C$118,ROW(BD!$B$2:$B$138)-ROW(BD!$B$2)+1),FALSE),ROWS(BD!$1:1)))))","v":""},{"$f":"IF($C$118=\"\",\"\",IF(ROWS(BD!$1:1)>COUNTIFS(BD!$B:$B,$C$118),\"\",INDEX(BD!$H$2:$H$138,SMALL(IF(BD!$B$2:$B$138=$C$118,IF(BD!$B$2:$B$138=$C$118,ROW(BD!$B$2:$B$138)-ROW(BD!$B$2)+1),FALSE),ROWS(BD!$1:1)))))","v":""},null,{"$f":"IF($I$118=\"\",\"\",IF(ROWS(BD!$1:1)>COUNTIFS(BD!$B:$B,$I$118),\"\",INDEX(BD!$C$2:$C$138,SMALL(IF(BD!$B$2:$B$138=$I$118,IF(BD!$B$2:$B$138=$I$118,ROW(BD!$B$2:$B$138)-ROW(BD!$B$2)+1),FALSE),ROWS(BD!$1:1)))))","v":""},{"$f":"IF($I$118=\"\",\"\",IF(ROWS(BD!$1:1)>COUNTIFS(BD!$B:$B,$I$118),\"\",INDEX(BD!$E$2:$E$138,SMALL(IF(BD!$B$2:$B$138=$I$118,IF(BD!$B$2:$B$138=$I$118,ROW(BD!$B$2:$B$138)-ROW(BD!$B$2)+1),FALSE),ROWS(BD!$1:1)))))","v":""},{"$f":"IF($I$118=\"\",\"\",IF(ROWS(BD!$1:1)>COUNTIFS(BD!$B:$B,$I$118),\"\",INDEX(BD!$F$2:$F$138,SMALL(IF(BD!$B$2:$B$138=$I$118,IF(BD!$B$2:$B$138=$I$118,ROW(BD!$B$2:$B$138)-ROW(BD!$B$2)+1),FALSE),ROWS(BD!$1:1)))))","v":""},{"$f":"IF($I$118=\"\",\"\",IF(ROWS(BD!$1:1)>COUNTIFS(BD!$B:$B,$I$118),\"\",INDEX(BD!$G$2:$G$138,SMALL(IF(BD!$B$2:$B$138=$I$118,IF(BD!$B$2:$B$138=$I$118,ROW(BD!$B$2:$B$138)-ROW(BD!$B$2)+1),FALSE),ROWS(BD!$1:1)))))","v":""},{"$f":"IF($I$118=\"\",\"\",IF(ROWS(BD!$1:1)>COUNTIFS(BD!$B:$B,$I$118),\"\",INDEX(BD!$H$2:$H$138,SMALL(IF(BD!$B$2:$B$138=$I$118,IF(BD!$B$2:$B$138=$I$118,ROW(BD!$B$2:$B$138)-ROW(BD!$B$2)+1),FALSE),ROWS(BD!$1:1)))))","v":""},null,{"$f":"IF($O$118=\"\",\"\",IF(ROWS(BD!$1:1)>COUNTIFS(BD!$B:$B,$O$118),\"\",INDEX(BD!$C$2:$C$138,SMALL(IF(BD!$B$2:$B$138=$O$118,IF(BD!$B$2:$B$138=$O$118,ROW(BD!$B$2:$B$138)-ROW(BD!$B$2)+1),FALSE),ROWS(BD!$1:1)))))","v":""},{"$f":"IF($O$118=\"\",\"\",IF(ROWS(BD!$1:1)>COUNTIFS(BD!$B:$B,$O$118),\"\",INDEX(BD!$E$2:$E$138,SMALL(IF(BD!$B$2:$B$138=$O$118,IF(BD!$B$2:$B$138=$O$118,ROW(BD!$B$2:$B$138)-ROW(BD!$B$2)+1),FALSE),ROWS(BD!$1:1)))))","v":""},{"$f":"IF($O$118=\"\",\"\",IF(ROWS(BD!$1:1)>COUNTIFS(BD!$B:$B,$O$118),\"\",INDEX(BD!$F$2:$F$138,SMALL(IF(BD!$B$2:$B$138=$O$118,IF(BD!$B$2:$B$138=$O$118,ROW(BD!$B$2:$B$138)-ROW(BD!$B$2)+1),FALSE),ROWS(BD!$1:1)))))","v":""},{"$f":"IF($O$118=\"\",\"\",IF(ROWS(BD!$1:1)>COUNTIFS(BD!$B:$B,$O$118),\"\",INDEX(BD!$G$2:$G$138,SMALL(IF(BD!$B$2:$B$138=$O$118,IF(BD!$B$2:$B$138=$O$118,ROW(BD!$B$2:$B$138)-ROW(BD!$B$2)+1),FALSE),ROWS(BD!$1:1)))))","v":""},{"$f":"IF($O$118=\"\",\"\",IF(ROWS(BD!$1:1)>COUNTIFS(BD!$B:$B,$O$118),\"\",INDEX(BD!$H$2:$H$138,SMALL(IF(BD!$B$2:$B$138=$O$118,IF(BD!$B$2:$B$138=$O$118,ROW(BD!$B$2:$B$138)-ROW(BD!$B$2)+1),FALSE),ROWS(BD!$1:1)))))","v":""},null,{"$f":"IF($U$118=\"\",\"\",IF(ROWS(BD!$1:1)>COUNTIFS(BD!$B:$B,$U$118),\"\",INDEX(BD!$C$2:$C$138,SMALL(IF(BD!$B$2:$B$138=$U$118,IF(BD!$B$2:$B$138=$U$118,ROW(BD!$B$2:$B$138)-ROW(BD!$B$2)+1),FALSE),ROWS(BD!$1:1)))))","v":""},{"$f":"IF($U$118=\"\",\"\",IF(ROWS(BD!$1:1)>COUNTIFS(BD!$B:$B,$U$118),\"\",INDEX(BD!$E$2:$E$138,SMALL(IF(BD!$B$2:$B$138=$U$118,IF(BD!$B$2:$B$138=$U$118,ROW(BD!$B$2:$B$138)-ROW(BD!$B$2)+1),FALSE),ROWS(BD!$1:1)))))","v":""},{"$f":"IF($U$118=\"\",\"\",IF(ROWS(BD!$1:1)>COUNTIFS(BD!$B:$B,$U$118),\"\",INDEX(BD!$F$2:$F$138,SMALL(IF(BD!$B$2:$B$138=$U$118,IF(BD!$B$2:$B$138=$U$118,ROW(BD!$B$2:$B$138)-ROW(BD!$B$2)+1),FALSE),ROWS(BD!$1:1)))))","v":""},{"$f":"IF($U$118=\"\",\"\",IF(ROWS(BD!$1:1)>COUNTIFS(BD!$B:$B,$U$118),\"\",INDEX(BD!$G$2:$G$138,SMALL(IF(BD!$B$2:$B$138=$U$118,IF(BD!$B$2:$B$138=$U$118,ROW(BD!$B$2:$B$138)-ROW(BD!$B$2)+1),FALSE),ROWS(BD!$1:1)))))","v":""},{"$f":"IF($U$118=\"\",\"\",IF(ROWS(BD!$1:1)>COUNTIFS(BD!$B:$B,$U$118),\"\",INDEX(BD!$H$2:$H$138,SMALL(IF(BD!$B$2:$B$138=$U$118,IF(BD!$B$2:$B$138=$U$118,ROW(BD!$B$2:$B$138)-ROW(BD!$B$2)+1),FALSE),ROWS(BD!$1:1)))))","v":""},null,{"$f":"IF($AA$118=\"\",\"\",IF(ROWS(BD!$1:1)>COUNTIFS(BD!$B:$B,$AA$118),\"\",INDEX(BD!$C$2:$C$138,SMALL(IF(BD!$B$2:$B$138=$AA$118,IF(BD!$B$2:$B$138=$AA$118,ROW(BD!$B$2:$B$138)-ROW(BD!$B$2)+1),FALSE),ROWS(BD!$1:1)))))","v":""},{"$f":"IF($AA$118=\"\",\"\",IF(ROWS(BD!$1:1)>COUNTIFS(BD!$B:$B,$AA$118),\"\",INDEX(BD!$E$2:$E$138,SMALL(IF(BD!$B$2:$B$138=$AA$118,IF(BD!$B$2:$B$138=$AA$118,ROW(BD!$B$2:$B$138)-ROW(BD!$B$2)+1),FALSE),ROWS(BD!$1:1)))))","v":""},{"$f":"IF($AA$118=\"\",\"\",IF(ROWS(BD!$1:1)>COUNTIFS(BD!$B:$B,$AA$118),\"\",INDEX(BD!$F$2:$F$138,SMALL(IF(BD!$B$2:$B$138=$AA$118,IF(BD!$B$2:$B$138=$AA$118,ROW(BD!$B$2:$B$138)-ROW(BD!$B$2)+1),FALSE),ROWS(BD!$1:1)))))","v":""},{"$f":"IF($AA$118=\"\",\"\",IF(ROWS(BD!$1:1)>COUNTIFS(BD!$B:$B,$AA$118),\"\",INDEX(BD!$G$2:$G$138,SMALL(IF(BD!$B$2:$B$138=$AA$118,IF(BD!$B$2:$B$138=$AA$118,ROW(BD!$B$2:$B$138)-ROW(BD!$B$2)+1),FALSE),ROWS(BD!$1:1)))))","v":""},{"$f":"IF($AA$118=\"\",\"\",IF(ROWS(BD!$1:1)>COUNTIFS(BD!$B:$B,$AA$118),\"\",INDEX(BD!$H$2:$H$138,SMALL(IF(BD!$B$2:$B$138=$AA$118,IF(BD!$B$2:$B$138=$AA$118,ROW(BD!$B$2:$B$138)-ROW(BD!$B$2)+1),FALSE),ROWS(BD!$1:1)))))","v":""},null,{"$f":"IF($AG$118=\"\",\"\",IF(ROWS(BD!$1:1)>COUNTIFS(BD!$B:$B,$AG$118),\"\",INDEX(BD!$C$2:$C$138,SMALL(IF(BD!$B$2:$B$138=$AG$118,IF(BD!$B$2:$B$138=$AG$118,ROW(BD!$B$2:$B$138)-ROW(BD!$B$2)+1),FALSE),ROWS(BD!$1:1)))))","v":""},{"$f":"IF($AG$118=\"\",\"\",IF(ROWS(BD!$1:1)>COUNTIFS(BD!$B:$B,$AG$118),\"\",INDEX(BD!$E$2:$E$138,SMALL(IF(BD!$B$2:$B$138=$AG$118,IF(BD!$B$2:$B$138=$AG$118,ROW(BD!$B$2:$B$138)-ROW(BD!$B$2)+1),FALSE),ROWS(BD!$1:1)))))","v":""},{"$f":"IF($AG$118=\"\",\"\",IF(ROWS(BD!$1:1)>COUNTIFS(BD!$B:$B,$AG$118),\"\",INDEX(BD!$F$2:$F$138,SMALL(IF(BD!$B$2:$B$138=$AG$118,IF(BD!$B$2:$B$138=$AG$118,ROW(BD!$B$2:$B$138)-ROW(BD!$B$2)+1),FALSE),ROWS(BD!$1:1)))))","v":""},{"$f":"IF($AG$118=\"\",\"\",IF(ROWS(BD!$1:1)>COUNTIFS(BD!$B:$B,$AG$118),\"\",INDEX(BD!$G$2:$G$138,SMALL(IF(BD!$B$2:$B$138=$AG$118,IF(BD!$B$2:$B$138=$AG$118,ROW(BD!$B$2:$B$138)-ROW(BD!$B$2)+1),FALSE),ROWS(BD!$1:1)))))","v":""},{"$f":"IF($AG$118=\"\",\"\",IF(ROWS(BD!$1:1)>COUNTIFS(BD!$B:$B,$AG$118),\"\",INDEX(BD!$H$2:$H$138,SMALL(IF(BD!$B$2:$B$138=$AG$118,IF(BD!$B$2:$B$138=$AG$118,ROW(BD!$B$2:$B$138)-ROW(BD!$B$2)+1),FALSE),ROWS(BD!$1:1)))))","v":""},null,{"$f":"IF($AM$118=\"\",\"\",IF(ROWS(BD!$1:1)>COUNTIFS(BD!$B:$B,$AM$118),\"\",INDEX(BD!$C$2:$C$138,SMALL(IF(BD!$B$2:$B$138=$AM$118,IF(BD!$B$2:$B$138=$AM$118,ROW(BD!$B$2:$B$138)-ROW(BD!$B$2)+1),FALSE),ROWS(BD!$1:1)))))","v":""},{"$f":"IF($AM$118=\"\",\"\",IF(ROWS(BD!$1:1)>COUNTIFS(BD!$B:$B,$AM$118),\"\",INDEX(BD!$E$2:$E$138,SMALL(IF(BD!$B$2:$B$138=$AM$118,IF(BD!$B$2:$B$138=$AM$118,ROW(BD!$B$2:$B$138)-ROW(BD!$B$2)+1),FALSE),ROWS(BD!$1:1)))))","v":""},{"$f":"IF($AM$118=\"\",\"\",IF(ROWS(BD!$1:1)>COUNTIFS(BD!$B:$B,$AM$118),\"\",INDEX(BD!$F$2:$F$138,SMALL(IF(BD!$B$2:$B$138=$AM$118,IF(BD!$B$2:$B$138=$AM$118,ROW(BD!$B$2:$B$138)-ROW(BD!$B$2)+1),FALSE),ROWS(BD!$1:1)))))","v":""},{"$f":"IF($AM$118=\"\",\"\",IF(ROWS(BD!$1:1)>COUNTIFS(BD!$B:$B,$AM$118),\"\",INDEX(BD!$G$2:$G$138,SMALL(IF(BD!$B$2:$B$138=$AM$118,IF(BD!$B$2:$B$138=$AM$118,ROW(BD!$B$2:$B$138)-ROW(BD!$B$2)+1),FALSE),ROWS(BD!$1:1)))))","v":""},{"$f":"IF($AM$118=\"\",\"\",IF(ROWS(BD!$1:1)>COUNTIFS(BD!$B:$B,$AM$118),\"\",INDEX(BD!$H$2:$H$138,SMALL(IF(BD!$B$2:$B$138=$AM$118,IF(BD!$B$2:$B$138=$AM$118,ROW(BD!$B$2:$B$138)-ROW(BD!$B$2)+1),FALSE),ROWS(BD!$1:1)))))","v":""}]
[null,null,{"$f":"IF($C$118=\"\",\"\",IF(ROWS(BD!$1:2)>COUNTIFS(BD!$B:$B,$C$118),\"\",INDEX(BD!$C$2:$C$138,SMALL(IF(BD!$B$2:$B$138=$C$118,IF(BD!$B$2:$B$138=$C$118,ROW(BD!$B$2:$B$138)-ROW(BD!$B$2)+1),FALSE),ROWS(BD!$1:2)))))","v":""},{"$f":"IF($C$118=\"\",\"\",IF(ROWS(BD!$1:2)>COUNTIFS(BD!$B:$B,$C$118),\"\",INDEX(BD!$E$2:$E$138,SMALL(IF(BD!$B$2:$B$138=$C$118,IF(BD!$B$2:$B$138=$C$118,ROW(BD!$B$2:$B$138)-ROW(BD!$B$2)+1),FALSE),ROWS(BD!$1:2)))))","v":""},{"$f":"IF($C$118=\"\",\"\",IF(ROWS(BD!$1:2)>COUNTIFS(BD!$B:$B,$C$118),\"\",INDEX(BD!$F$2:$F$138,SMALL(IF(BD!$B$2:$B$138=$C$118,IF(BD!$B$2:$B$138=$C$118,ROW(BD!$B$2:$B$138)-ROW(BD!$B$2)+1),FALSE),ROWS(BD!$1:2)))))","v":""},{"$f":"IF($C$118=\"\",\"\",IF(ROWS(BD!$1:2)>COUNTIFS(BD!$B:$B,$C$118),\"\",INDEX(BD!$G$2:$G$138,SMALL(IF(BD!$B$2:$B$138=$C$118,IF(BD!$B$2:$B$138=$C$118,ROW(BD!$B$2:$B$138)-ROW(BD!$B$2)+1),FALSE),ROWS(BD!$1:2)))))","v":""},{"$f":"IF($C$118=\"\",\"\",IF(ROWS(BD!$1:2)>COUNTIFS(BD!$B:$B,$C$118),\"\",INDEX(BD!$H$2:$H$138,SMALL(IF(BD!$B$2:$B$138=$C$118,IF(BD!$B$2:$B$138=$C$118,ROW(BD!$B$2:$B$138)-ROW(BD!$B$2)+1),FALSE),ROWS(BD!$1:2)))))","v":""},null,{"$f":"IF($I$118=\"\",\"\",IF(ROWS(BD!$1:2)>COUNTIFS(BD!$B:$B,$I$118),\"\",INDEX(BD!$C$2:$C$138,SMALL(IF(BD!$B$2:$B$138=$I$118,IF(BD!$B$2:$B$138=$I$118,ROW(BD!$B$2:$B$138)-ROW(BD!$B$2)+1),FALSE),ROWS(BD!$1:2)))))","v":""},{"$f":"IF($I$118=\"\",\"\",IF(ROWS(BD!$1:2)>COUNTIFS(BD!$B:$B,$I$118),\"\",INDEX(BD!$E$2:$E$138,SMALL(IF(BD!$B$2:$B$138=$I$118,IF(BD!$B$2:$B$138=$I$118,ROW(BD!$B$2:$B$138)-ROW(BD!$B$2)+1),FALSE),ROWS(BD!$1:2)))))","v":""},{"$f":"IF($I$118=\"\",\"\",IF(ROWS(BD!$1:2)>COUNTIFS(BD!$B:$B,$I$118),\"\",INDEX(BD!$F$2:$F$138,SMALL(IF(BD!$B$2:$B$138=$I$118,IF(BD!$B$2:$B$138=$I$118,ROW(BD!$B$2:$B$138)-ROW(BD!$B$2)+1),FALSE),ROWS(BD!$1:2)))))","v":""},{"$f":"IF($I$118=\"\",\"\",IF(ROWS(BD!$1:2)>COUNTIFS(BD!$B:$B,$I$118),\"\",INDEX(BD!$G$2:$G$138,SMALL(IF(BD!$B$2:$B$138=$I$118,IF(BD!$B$2:$B$138=$I$118,ROW(BD!$B$2:$B$138)-ROW(BD!$B$2)+1),FALSE),ROWS(BD!$1:2)))))","v":""},{"$f":"IF($I$118=\"\",\"\",IF(ROWS(BD!$1:2)>COUNTIFS(BD!$B:$B,$I$118),\"\",INDEX(BD!$H$2:$H$138,SMALL(IF(BD!$B$2:$B$138=$I$118,IF(BD!$B$2:$B$138=$I$118,ROW(BD!$B$2:$B$138)-ROW(BD!$B$2)+1),FALSE),ROWS(BD!$1:2)))))","v":""},null,{"$f":"IF($O$118=\"\",\"\",IF(ROWS(BD!$1:2)>COUNTIFS(BD!$B:$B,$O$118),\"\",INDEX(BD!$C$2:$C$138,SMALL(IF(BD!$B$2:$B$138=$O$118,IF(BD!$B$2:$B$138=$O$118,ROW(BD!$B$2:$B$138)-ROW(BD!$B$2)+1),FALSE),ROWS(BD!$1:2)))))","v":""},{"$f":"IF($O$118=\"\",\"\",IF(ROWS(BD!$1:2)>COUNTIFS(BD!$B:$B,$O$118),\"\",INDEX(BD!$E$2:$E$138,SMALL(IF(BD!$B$2:$B$138=$O$118,IF(BD!$B$2:$B$138=$O$118,ROW(BD!$B$2:$B$138)-ROW(BD!$B$2)+1),FALSE),ROWS(BD!$1:2)))))","v":""},{"$f":"IF($O$118=\"\",\"\",IF(ROWS(BD!$1:2)>COUNTIFS(BD!$B:$B,$O$118),\"\",INDEX(BD!$F$2:$F$138,SMALL(IF(BD!$B$2:$B$138=$O$118,IF(BD!$B$2:$B$138=$O$118,ROW(BD!$B$2:$B$138)-ROW(BD!$B$2)+1),FALSE),ROWS(BD!$1:2)))))","v":""},{"$f":"IF($O$118=\"\",\"\",IF(ROWS(BD!$1:2)>COUNTIFS(BD!$B:$B,$O$118),\"\",INDEX(BD!$G$2:$G$138,SMALL(IF(BD!$B$2:$B$138=$O$118,IF(BD!$B$2:$B$138=$O$118,ROW(BD!$B$2:$B$138)-ROW(BD!$B$2)+1),FALSE),ROWS(BD!$1:2)))))","v":""},{"$f":"IF($O$118=\"\",\"\",IF(ROWS(BD!$1:2)>COUNTIFS(BD!$B:$B,$O$118),\"\",INDEX(BD!$H$2:$H$138,SMALL(IF(BD!$B$2:$B$138=$O$118,IF(BD!$B$2:$B$138=$O$118,ROW(BD!$B$2:$B$138)-ROW(BD!$B$2)+1),FALSE),ROWS(BD!$1:2)))))","v":""},null,{"$f":"IF($U$118=\"\",\"\",IF(ROWS(BD!$1:2)>COUNTIFS(BD!$B:$B,$U$118),\"\",INDEX(BD!$C$2:$C$138,SMALL(IF(BD!$B$2:$B$138=$U$118,IF(BD!$B$2:$B$138=$U$118,ROW(BD!$B$2:$B$138)-ROW(BD!$B$2)+1),FALSE),ROWS(BD!$1:2)))))","v":""},{"$f":"IF($U$118=\"\",\"\",IF(ROWS(BD!$1:2)>COUNTIFS(BD!$B:$B,$U$118),\"\",INDEX(BD!$E$2:$E$138,SMALL(IF(BD!$B$2:$B$138=$U$118,IF(BD!$B$2:$B$138=$U$118,ROW(BD!$B$2:$B$138)-ROW(BD!$B$2)+1),FALSE),ROWS(BD!$1:2)))))","v":""},{"$f":"IF($U$118=\"\",\"\",IF(ROWS(BD!$1:2)>COUNTIFS(BD!$B:$B,$U$118),\"\",INDEX(BD!$F$2:$F$138,SMALL(IF(BD!$B$2:$B$138=$U$118,IF(BD!$B$2:$B$138=$U$118,ROW(BD!$B$2:$B$138)-ROW(BD!$B$2)+1),FALSE),ROWS(BD!$1:2)))))","v":""},{"$f":"IF($U$118=\"\",\"\",IF(ROWS(BD!$1:2)>COUNTIFS(BD!$B:$B,$U$118),\"\",INDEX(BD!$G$2:$G$138,SMALL(IF(BD!$B$2:$B$138=$U$118,IF(BD!$B$2:$B$138=$U$118,ROW(BD!$B$2:$B$138)-ROW(BD!$B$2)+1),FALSE),ROWS(BD!$1:2)))))","v":""},{"$f":"IF($U$118=\"\",\"\",IF(ROWS(BD!$1:2)>COUNTIFS(BD!$B:$B,$U$118),\"\",INDEX(BD!$H$2:$H$138,SMALL(IF(BD!$B$2:$B$138=$U$118,IF(BD!$B$2:$B$138=$U$118,ROW(BD!$B$2:$B$138)-ROW(BD!$B$2)+1),FALSE),ROWS(BD!$1:2)))))","v":""},null,{"$f":"IF($AA$118=\"\",\"\",IF(ROWS(BD!$1:2)>COUNTIFS(BD!$B:$B,$AA$118),\"\",INDEX(BD!$C$2:$C$138,SMALL(IF(BD!$B$2:$B$138=$AA$118,IF(BD!$B$2:$B$138=$AA$118,ROW(BD!$B$2:$B$138)-ROW(BD!$B$2)+1),FALSE),ROWS(BD!$1:2)))))","v":""},{"$f":"IF($AA$118=\"\",\"\",IF(ROWS(BD!$1:2)>COUNTIFS(BD!$B:$B,$AA$118),\"\",INDEX(BD!$E$2:$E$138,SMALL(IF(BD!$B$2:$B$138=$AA$118,IF(BD!$B$2:$B$138=$AA$118,ROW(BD!$B$2:$B$138)-ROW(BD!$B$2)+1),FALSE),ROWS(BD!$1:2)))))","v":""},{"$f":"IF($AA$118=\"\",\"\",IF(ROWS(BD!$1:2)>COUNTIFS(BD!$B:$B,$AA$118),\"\",INDEX(BD!$F$2:$F$138,SMALL(IF(BD!$B$2:$B$138=$AA$118,IF(BD!$B$2:$B$138=$AA$118,ROW(BD!$B$2:$B$138)-ROW(BD!$B$2)+1),FALSE),ROWS(BD!$1:2)))))","v":""},{"$f":"IF($AA$118=\"\",\"\",IF(ROWS(BD!$1:2)>COUNTIFS(BD!$B:$B,$AA$118),\"\",INDEX(BD!$G$2:$G$138,SMALL(IF(BD!$B$2:$B$138=$AA$118,IF(BD!$B$2:$B$138=$AA$118,ROW(BD!$B$2:$B$138)-ROW(BD!$B$2)+1),FALSE),ROWS(BD!$1:2)))))","v":""},{"$f":"IF($AA$118=\"\",\"\",IF(ROWS(BD!$1:2)>COUNTIFS(BD!$B:$B,$AA$118),\"\",INDEX(BD!$H$2:$H$138,SMALL(IF(BD!$B$2:$B$138=$AA$118,IF(BD!$B$2:$B$138=$AA$118,ROW(BD!$B$2:$B$138)-ROW(BD!$B$2)+1),FALSE),ROWS(BD!$1:2)))))","v":""},null,{"$f":"IF($AG$118=\"\",\"\",IF(ROWS(BD!$1:2)>COUNTIFS(BD!$B:$B,$AG$118),\"\",INDEX(BD!$C$2:$C$138,SMALL(IF(BD!$B$2:$B$138=$AG$118,IF(BD!$B$2:$B$138=$AG$118,ROW(BD!$B$2:$B$138)-ROW(BD!$B$2)+1),FALSE),ROWS(BD!$1:2)))))","v":""},{"$f":"IF($AG$118=\"\",\"\",IF(ROWS(BD!$1:2)>COUNTIFS(BD!$B:$B,$AG$118),\"\",INDEX(BD!$E$2:$E$138,SMALL(IF(BD!$B$2:$B$138=$AG$118,IF(BD!$B$2:$B$138=$AG$118,ROW(BD!$B$2:$B$138)-ROW(BD!$B$2)+1),FALSE),ROWS(BD!$1:2)))))","v":""},{"$f":"IF($AG$118=\"\",\"\",IF(ROWS(BD!$1:2)>COUNTIFS(BD!$B:$B,$AG$118),\"\",INDEX(BD!$F$2:$F$138,SMALL(IF(BD!$B$2:$B$138=$AG$118,IF(BD!$B$2:$B$138=$AG$118,ROW(BD!$B$2:$B$138)-ROW(BD!$B$2)+1),FALSE),ROWS(BD!$1:2)))))","v":""},{"$f":"IF($AG$118=\"\",\"\",IF(ROWS(BD!$1:2)>COUNTIFS(BD!$B:$B,$AG$118),\"\",INDEX(BD!$G$2:$G$138,SMALL(IF(BD!$B$2:$B$138=$AG$118,IF(BD!$B$2:$B$138=$AG$118,ROW(BD!$B$2:$B$138)-ROW(BD!$B$2)+1),FALSE),ROWS(BD!$1:2)))))","v":""},{"$f":"IF($AG$118=\"\",\"\",IF(ROWS(BD!$1:2)>COUNTIFS(BD!$B:$B,$AG$118),\"\",INDEX(BD!$H$2:$H$138,SMALL(IF(BD!$B$2:$B$138=$AG$118,IF(BD!$B$2:$B$138=$AG$118,ROW(BD!$B$2:$B$138)-ROW(BD!$B$2)+1),FALSE),ROWS(BD!$1:2)))))","v":""},null,{"$f":"IF($AM$118=\"\",\"\",IF(ROWS(BD!$1:2)>COUNTIFS(BD!$B:$B,$AM$118),\"\",INDEX(BD!$C$2:$C$138,SMALL(IF(BD!$B$2:$B$138=$AM$118,IF(BD!$B$2:$B$138=$AM$118,ROW(BD!$B$2:$B$138)-ROW(BD!$B$2)+1),FALSE),ROWS(BD!$1:2)))))","v":""},{"$f":"IF($AM$118=\"\",\"\",IF(ROWS(BD!$1:2)>COUNTIFS(BD!$B:$B,$AM$118),\"\",INDEX(BD!$E$2:$E$138,SMALL(IF(BD!$B$2:$B$138=$AM$118,IF(BD!$B$2:$B$138=$AM$118,ROW(BD!$B$2:$B$138)-ROW(BD!$B$2)+1),FALSE),ROWS(BD!$1:2)))))","v":""},{"$f":"IF($AM$118=\"\",\"\",IF(ROWS(BD!$1:2)>COUNTIFS(BD!$B:$B,$AM$118),\"\",INDEX(BD!$F$2:$F$138,SMALL(IF(BD!$B$2:$B$138=$AM$118,IF(BD!$B$2:$B$138=$AM$118,ROW(BD!$B$2:$B$138)-ROW(BD!$B$2)+1),FALSE),ROWS(BD!$1:2)))))","v":""},{"$f":"IF($AM$118=\"\",\"\",IF(ROWS(BD!$1:2)>COUNTIFS(BD!$B:$B,$AM$118),\"\",INDEX(BD!$G$2:$G$138,SMALL(IF(BD!$B$2:$B$138=$AM$118,IF(BD!$B$2:$B$138=$AM$118,ROW(BD!$B$2:$B$138)-ROW(BD!$B$2)+1),FALSE),ROWS(BD!$1:2)))))","v":""},{"$f":"IF($AM$118=\"\",\"\",IF(ROWS(BD!$1:2)>COUNTIFS(BD!$B:$B,$AM$118),\"\",INDEX(BD!$H$2:$H$138,SMALL(IF(BD!$B$2:$B$138=$AM$118,IF(BD!$B$2:$B$138=$AM$118,ROW(BD!$B$2:$B$138)-ROW(BD!$B$2)+1),FALSE),ROWS(BD!$1:2)))))","v":""}]
[null,null,{"$f":"IF($C$118=\"\",\"\",IF(ROWS(BD!$1:3)>COUNTIFS(BD!$B:$B,$C$118),\"\",INDEX(BD!$C$2:$C$138,SMALL(IF(BD!$B$2:$B$138=$C$118,IF(BD!$B$2:$B$138=$C$118,ROW(BD!$B$2:$B$138)-ROW(BD!$B$2)+1),FALSE),ROWS(BD!$1:3)))))","v":""},{"$f":"IF($C$118=\"\",\"\",IF(ROWS(BD!$1:3)>COUNTIFS(BD!$B:$B,$C$118),\"\",INDEX(BD!$E$2:$E$138,SMALL(IF(BD!$B$2:$B$138=$C$118,IF(BD!$B$2:$B$138=$C$118,ROW(BD!$B$2:$B$138)-ROW(BD!$B$2)+1),FALSE),ROWS(BD!$1:3)))))","v":""},{"$f":"IF($C$118=\"\",\"\",IF(ROWS(BD!$1:3)>COUNTIFS(BD!$B:$B,$C$118),\"\",INDEX(BD!$F$2:$F$138,SMALL(IF(BD!$B$2:$B$138=$C$118,IF(BD!$B$2:$B$138=$C$118,ROW(BD!$B$2:$B$138)-ROW(BD!$B$2)+1),FALSE),ROWS(BD!$1:3)))))","v":""},{"$f":"IF($C$118=\"\",\"\",IF(ROWS(BD!$1:3)>COUNTIFS(BD!$B:$B,$C$118),\"\",INDEX(BD!$G$2:$G$138,SMALL(IF(BD!$B$2:$B$138=$C$118,IF(BD!$B$2:$B$138=$C$118,ROW(BD!$B$2:$B$138)-ROW(BD!$B$2)+1),FALSE),ROWS(BD!$1:3)))))","v":""},{"$f":"IF($C$118=\"\",\"\",IF(ROWS(BD!$1:3)>COUNTIFS(BD!$B:$B,$C$118),\"\",INDEX(BD!$H$2:$H$138,SMALL(IF(BD!$B$2:$B$138=$C$118,IF(BD!$B$2:$B$138=$C$118,ROW(BD!$B$2:$B$138)-ROW(BD!$B$2)+1),FALSE),ROWS(BD!$1:3)))))","v":""},null,{"$f":"IF($I$118=\"\",\"\",IF(ROWS(BD!$1:3)>COUNTIFS(BD!$B:$B,$I$118),\"\",INDEX(BD!$C$2:$C$138,SMALL(IF(BD!$B$2:$B$138=$I$118,IF(BD!$B$2:$B$138=$I$118,ROW(BD!$B$2:$B$138)-ROW(BD!$B$2)+1),FALSE),ROWS(BD!$1:3)))))","v":""},{"$f":"IF($I$118=\"\",\"\",IF(ROWS(BD!$1:3)>COUNTIFS(BD!$B:$B,$I$118),\"\",INDEX(BD!$E$2:$E$138,SMALL(IF(BD!$B$2:$B$138=$I$118,IF(BD!$B$2:$B$138=$I$118,ROW(BD!$B$2:$B$138)-ROW(BD!$B$2)+1),FALSE),ROWS(BD!$1:3)))))","v":""},{"$f":"IF($I$118=\"\",\"\",IF(ROWS(BD!$1:3)>COUNTIFS(BD!$B:$B,$I$118),\"\",INDEX(BD!$F$2:$F$138,SMALL(IF(BD!$B$2:$B$138=$I$118,IF(BD!$B$2:$B$138=$I$118,ROW(BD!$B$2:$B$138)-ROW(BD!$B$2)+1),FALSE),ROWS(BD!$1:3)))))","v":""},{"$f":"IF($I$118=\"\",\"\",IF(ROWS(BD!$1:3)>COUNTIFS(BD!$B:$B,$I$118),\"\",INDEX(BD!$G$2:$G$138,SMALL(IF(BD!$B$2:$B$138=$I$118,IF(BD!$B$2:$B$138=$I$118,ROW(BD!$B$2:$B$138)-ROW(BD!$B$2)+1),FALSE),ROWS(BD!$1:3)))))","v":""},{"$f":"IF($I$118=\"\",\"\",IF(ROWS(BD!$1:3)>COUNTIFS(BD!$B:$B,$I$118),\"\",INDEX(BD!$H$2:$H$138,SMALL(IF(BD!$B$2:$B$138=$I$118,IF(BD!$B$2:$B$138=$I$118,ROW(BD!$B$2:$B$138)-ROW(BD!$B$2)+1),FALSE),ROWS(BD!$1:3)))))","v":""},null,{"$f":"IF($O$118=\"\",\"\",IF(ROWS(BD!$1:3)>COUNTIFS(BD!$B:$B,$O$118),\"\",INDEX(BD!$C$2:$C$138,SMALL(IF(BD!$B$2:$B$138=$O$118,IF(BD!$B$2:$B$138=$O$118,ROW(BD!$B$2:$B$138)-ROW(BD!$B$2)+1),FALSE),ROWS(BD!$1:3)))))","v":""},{"$f":"IF($O$118=\"\",\"\",IF(ROWS(BD!$1:3)>COUNTIFS(BD!$B:$B,$O$118),\"\",INDEX(BD!$E$2:$E$138,SMALL(IF(BD!$B$2:$B$138=$O$118,IF(BD!$B$2:$B$138=$O$118,ROW(BD!$B$2:$B$138)-ROW(BD!$B$2)+1),FALSE),ROWS(BD!$1:3)))))","v":""},{"$f":"IF($O$118=\"\",\"\",IF(ROWS(BD!$1:3)>COUNTIFS(BD!$B:$B,$O$118),\"\",INDEX(BD!$F$2:$F$138,SMALL(IF(BD!$B$2:$B$138=$O$118,IF(BD!$B$2:$B$138=$O$118,ROW(BD!$B$2:$B$138)-ROW(BD!$B$2)+1),FALSE),ROWS(BD!$1:3)))))","v":""},{"$f":"IF($O$118=\"\",\"\",IF(ROWS(BD!$1:3)>COUNTIFS(BD!$B:$B,$O$118),\"\",INDEX(BD!$G$2:$G$138,SMALL(IF(BD!$B$2:$B$138=$O$118,IF(BD!$B$2:$B$138=$O$118,ROW(BD!$B$2:$B$138)-ROW(BD!$B$2)+1),FALSE),ROWS(BD!$1:3)))))","v":""},{"$f":"IF($O$118=\"\",\"\",IF(ROWS(BD!$1:3)>COUNTIFS(BD!$B:$B,$O$118),\"\",INDEX(BD!$H$2:$H$138,SMALL(IF(BD!$B$2:$B$138=$O$118,IF(BD!$B$2:$B$138=$O$118,ROW(BD!$B$2:$B$138)-ROW(BD!$B$2)+1),FALSE),ROWS(BD!$1:3)))))","v":""},null,{"$f":"IF($U$118=\"\",\"\",IF(ROWS(BD!$1:3)>COUNTIFS(BD!$B:$B,$U$118),\"\",INDEX(BD!$C$2:$C$138,SMALL(IF(BD!$B$2:$B$138=$U$118,IF(BD!$B$2:$B$138=$U$118,ROW(BD!$B$2:$B$138)-ROW(BD!$B$2)+1),FALSE),ROWS(BD!$1:3)))))","v":""},{"$f":"IF($U$118=\"\",\"\",IF(ROWS(BD!$1:3)>COUNTIFS(BD!$B:$B,$U$118),\"\",INDEX(BD!$E$2:$E$138,SMALL(IF(BD!$B$2:$B$138=$U$118,IF(BD!$B$2:$B$138=$U$118,ROW(BD!$B$2:$B$138)-ROW(BD!$B$2)+1),FALSE),ROWS(BD!$1:3)))))","v":""},{"$f":"IF($U$118=\"\",\"\",IF(ROWS(BD!$1:3)>COUNTIFS(BD!$B:$B,$U$118),\"\",INDEX(BD!$F$2:$F$138,SMALL(IF(BD!$B$2:$B$138=$U$118,IF(BD!$B$2:$B$138=$U$118,ROW(BD!$B$2:$B$138)-ROW(BD!$B$2)+1),FALSE),ROWS(BD!$1:3)))))","v":""},{"$f":"IF($U$118=\"\",\"\",IF(ROWS(BD!$1:3)>COUNTIFS(BD!$B:$B,$U$118),\"\",INDEX(BD!$G$2:$G$138,SMALL(IF(BD!$B$2:$B$138=$U$118,IF(BD!$B$2:$B$138=$U$118,ROW(BD!$B$2:$B$138)-ROW(BD!$B$2)+1),FALSE),ROWS(BD!$1:3)))))","v":""},{"$f":"IF($U$118=\"\",\"\",IF(ROWS(BD!$1:3)>COUNTIFS(BD!$B:$B,$U$118),\"\",INDEX(BD!$H$2:$H$138,SMALL(IF(BD!$B$2:$B$138=$U$118,IF(BD!$B$2:$B$138=$U$118,ROW(BD!$B$2:$B$138)-ROW(BD!$B$2)+1),FALSE),ROWS(BD!$1:3)))))","v":""},null,{"$f":"IF($AA$118=\"\",\"\",IF(ROWS(BD!$1:3)>COUNTIFS(BD!$B:$B,$AA$118),\"\",INDEX(BD!$C$2:$C$138,SMALL(IF(BD!$B$2:$B$138=$AA$118,IF(BD!$B$2:$B$138=$AA$118,ROW(BD!$B$2:$B$138)-ROW(BD!$B$2)+1),FALSE),ROWS(BD!$1:3)))))","v":""},{"$f":"IF($AA$118=\"\",\"\",IF(ROWS(BD!$1:3)>COUNTIFS(BD!$B:$B,$AA$118),\"\",INDEX(BD!$E$2:$E$138,SMALL(IF(BD!$B$2:$B$138=$AA$118,IF(BD!$B$2:$B$138=$AA$118,ROW(BD!$B$2:$B$138)-ROW(BD!$B$2)+1),FALSE),ROWS(BD!$1:3)))))","v":""},{"$f":"IF($AA$118=\"\",\"\",IF(ROWS(BD!$1:3)>COUNTIFS(BD!$B:$B,$AA$118),\"\",INDEX(BD!$F$2:$F$138,SMALL(IF(BD!$B$2:$B$138=$AA$118,IF(BD!$B$2:$B$138=$AA$118,ROW(BD!$B$2:$B$138)-ROW(BD!$B$2)+1),FALSE),ROWS(BD!$1:3)))))","v":""},{"$f":"IF($AA$118=\"\",\"\",IF(ROWS(BD!$1:3)>COUNTIFS(BD!$B:$B,$AA$118),\"\",INDEX(BD!$G$2:$G$138,SMALL(IF(BD!$B$2:$B$138=$AA$118,IF(BD!$B$2:$B$138=$AA$118,ROW(BD!$B$2:$B$138)-ROW(BD!$B$2)+1),FALSE),ROWS(BD!$1:3)))))","v":""},{"$f":"IF($AA$118=\"\",\"\",IF(ROWS(BD!$1:3)>COUNTIFS(BD!$B:$B,$AA$118),\"\",INDEX(BD!$H$2:$H$138,SMALL(IF(BD!$B$2:$B$138=$AA$118,IF(BD!$B$2:$B$138=$AA$118,ROW(BD!$B$2:$B$138)-ROW(BD!$B$2)+1),FALSE),ROWS(BD!$1:3)))))","v":""},null,{"$f":"IF($AG$118=\"\",\"\",IF(ROWS(BD!$1:3)>COUNTIFS(BD!$B:$B,$AG$118),\"\",INDEX(BD!$C$2:$C$138,SMALL(IF(BD!$B$2:$B$138=$AG$118,IF(BD!$B$2:$B$138=$AG$118,ROW(BD!$B$2:$B$138)-ROW(BD!$B$2)+1),FALSE),ROWS(BD!$1:3)))))","v":""},{"$f":"IF($AG$118=\"\",\"\",IF(ROWS(BD!$1:3)>COUNTIFS(BD!$B:$B,$AG$118),\"\",INDEX(BD!$E$2:$E$138,SMALL(IF(BD!$B$2:$B$138=$AG$118,IF(BD!$B$2:$B$138=$AG$118,ROW(BD!$B$2:$B$138)-ROW(BD!$B$2)+1),FALSE),ROWS(BD!$1:3)))))","v":""},{"$f":"IF($AG$118=\"\",\"\",IF(ROWS(BD!$1:3)>COUNTIFS(BD!$B:$B,$AG$118),\"\",INDEX(BD!$F$2:$F$138,SMALL(IF(BD!$B$2:$B$138=$AG$118,IF(BD!$B$2:$B$138=$AG$118,ROW(BD!$B$2:$B$138)-ROW(BD!$B$2)+1),FALSE),ROWS(BD!$1:3)))))","v":""},{"$f":"IF($AG$118=\"\",\"\",IF(ROWS(BD!$1:3)>COUNTIFS(BD!$B:$B,$AG$118),\"\",INDEX(BD!$G$2:$G$138,SMALL(IF(BD!$B$2:$B$138=$AG$118,IF(BD!$B$2:$B$138=$AG$118,ROW(BD!$B$2:$B$138)-ROW(BD!$B$2)+1),FALSE),ROWS(BD!$1:3)))))","v":""},{"$f":"IF($AG$118=\"\",\"\",IF(ROWS(BD!$1:3)>COUNTIFS(BD!$B:$B,$AG$118),\"\",INDEX(BD!$H$2:$H$138,SMALL(IF(BD!$B$2:$B$138=$AG$118,IF(BD!$B$2:$B$138=$AG$118,ROW(BD!$B$2:$B$138)-ROW(BD!$B$2)+1),FALSE),ROWS(BD!$1:3)))))","v":""},null,{"$f":"IF($AM$118=\"\",\"\",IF(ROWS(BD!$1:3)>COUNTIFS(BD!$B:$B,$AM$118),\"\",INDEX(BD!$C$2:$C$138,SMALL(IF(BD!$B$2:$B$138=$AM$118,IF(BD!$B$2:$B$138=$AM$118,ROW(BD!$B$2:$B$138)-ROW(BD!$B$2)+1),FALSE),ROWS(BD!$1:3)))))","v":""},{"$f":"IF($AM$118=\"\",\"\",IF(ROWS(BD!$1:3)>COUNTIFS(BD!$B:$B,$AM$118),\"\",INDEX(BD!$E$2:$E$138,SMALL(IF(BD!$B$2:$B$138=$AM$118,IF(BD!$B$2:$B$138=$AM$118,ROW(BD!$B$2:$B$138)-ROW(BD!$B$2)+1),FALSE),ROWS(BD!$1:3)))))","v":""},{"$f":"IF($AM$118=\"\",\"\",IF(ROWS(BD!$1:3)>COUNTIFS(BD!$B:$B,$AM$118),\"\",INDEX(BD!$F$2:$F$138,SMALL(IF(BD!$B$2:$B$138=$AM$118,IF(BD!$B$2:$B$138=$AM$118,ROW(BD!$B$2:$B$138)-ROW(BD!$B$2)+1),FALSE),ROWS(BD!$1:3)))))","v":""},{"$f":"IF($AM$118=\"\",\"\",IF(ROWS(BD!$1:3)>COUNTIFS(BD!$B:$B,$AM$118),\"\",INDEX(BD!$G$2:$G$138,SMALL(IF(BD!$B$2:$B$138=$AM$118,IF(BD!$B$2:$B$138=$AM$118,ROW(BD!$B$2:$B$138)-ROW(BD!$B$2)+1),FALSE),ROWS(BD!$1:3)))))","v":""},{"$f":"IF($AM$118=\"\",\"\",IF(ROWS(BD!$1:3)>COUNTIFS(BD!$B:$B,$AM$118),\"\",INDEX(BD!$H$2:$H$138,SMALL(IF(BD!$B$2:$B$138=$AM$118,IF(BD!$B$2:$B$138=$AM$118,ROW(BD!$B$2:$B$138)-ROW(BD!$B$2)+1),FALSE),ROWS(BD!$1:3)))))","v":""}]
[null,null,{"$f":"IF($C$118=\"\",\"\",IF(ROWS(BD!$1:4)>COUNTIFS(BD!$B:$B,$C$118),\"\",INDEX(BD!$C$2:$C$138,SMALL(IF(BD!$B$2:$B$138=$C$118,IF(BD!$B$2:$B$138=$C$118,ROW(BD!$B$2:$B$138)-ROW(BD!$B$2)+1),FALSE),ROWS(BD!$1:4)))))","v":""},{"$f":"IF($C$118=\"\",\"\",IF(ROWS(BD!$1:4)>COUNTIFS(BD!$B:$B,$C$118),\"\",INDEX(BD!$E$2:$E$138,SMALL(IF(BD!$B$2:$B$138=$C$118,IF(BD!$B$2:$B$138=$C$118,ROW(BD!$B$2:$B$138)-ROW(BD!$B$2)+1),FALSE),ROWS(BD!$1:4)))))","v":""},{"$f":"IF($C$118=\"\",\"\",IF(ROWS(BD!$1:4)>COUNTIFS(BD!$B:$B,$C$118),\"\",INDEX(BD!$F$2:$F$138,SMALL(IF(BD!$B$2:$B$138=$C$118,IF(BD!$B$2:$B$138=$C$118,ROW(BD!$B$2:$B$138)-ROW(BD!$B$2)+1),FALSE),ROWS(BD!$1:4)))))","v":""},{"$f":"IF($C$118=\"\",\"\",IF(ROWS(BD!$1:4)>COUNTIFS(BD!$B:$B,$C$118),\"\",INDEX(BD!$G$2:$G$138,SMALL(IF(BD!$B$2:$B$138=$C$118,IF(BD!$B$2:$B$138=$C$118,ROW(BD!$B$2:$B$138)-ROW(BD!$B$2)+1),FALSE),ROWS(BD!$1:4)))))","v":""},{"$f":"IF($C$118=\"\",\"\",IF(ROWS(BD!$1:4)>COUNTIFS(BD!$B:$B,$C$118),\"\",INDEX(BD!$H$2:$H$138,SMALL(IF(BD!$B$2:$B$138=$C$118,IF(BD!$B$2:$B$138=$C$118,ROW(BD!$B$2:$B$138)-ROW(BD!$B$2)+1),FALSE),ROWS(BD!$1:4)))))","v":""},null,{"$f":"IF($I$118=\"\",\"\",IF(ROWS(BD!$1:4)>COUNTIFS(BD!$B:$B,$I$118),\"\",INDEX(BD!$C$2:$C$138,SMALL(IF(BD!$B$2:$B$138=$I$118,IF(BD!$B$2:$B$138=$I$118,ROW(BD!$B$2:$B$138)-ROW(BD!$B$2)+1),FALSE),ROWS(BD!$1:4)))))","v":""},{"$f":"IF($I$118=\"\",\"\",IF(ROWS(BD!$1:4)>COUNTIFS(BD!$B:$B,$I$118),\"\",INDEX(BD!$E$2:$E$138,SMALL(IF(BD!$B$2:$B$138=$I$118,IF(BD!$B$2:$B$138=$I$118,ROW(BD!$B$2:$B$138)-ROW(BD!$B$2)+1),FALSE),ROWS(BD!$1:4)))))","v":""},{"$f":"IF($I$118=\"\",\"\",IF(ROWS(BD!$1:4)>COUNTIFS(BD!$B:$B,$I$118),\"\",INDEX(BD!$F$2:$F$138,SMALL(IF(BD!$B$2:$B$138=$I$118,IF(BD!$B$2:$B$138=$I$118,ROW(BD!$B$2:$B$138)-ROW(BD!$B$2)+1),FALSE),ROWS(BD!$1:4)))))","v":""},{"$f":"IF($I$118=\"\",\"\",IF(ROWS(BD!$1:4)>COUNTIFS(BD!$B:$B,$I$118),\"\",INDEX(BD!$G$2:$G$138,SMALL(IF(BD!$B$2:$B$138=$I$118,IF(BD!$B$2:$B$138=$I$118,ROW(BD!$B$2:$B$138)-ROW(BD!$B$2)+1),FALSE),ROWS(BD!$1:4)))))","v":""},{"$f":"IF($I$118=\"\",\"\",IF(ROWS(BD!$1:4)>COUNTIFS(BD!$B:$B,$I$118),\"\",INDEX(BD!$H$2:$H$138,SMALL(IF(BD!$B$2:$B$138=$I$118,IF(BD!$B$2:$B$138=$I$118,ROW(BD!$B$2:$B$138)-ROW(BD!$B$2)+1),FALSE),ROWS(BD!$1:4)))))","v":""},null,{"$f":"IF($O$118=\"\",\"\",IF(ROWS(BD!$1:4)>COUNTIFS(BD!$B:$B,$O$118),\"\",INDEX(BD!$C$2:$C$138,SMALL(IF(BD!$B$2:$B$138=$O$118,IF(BD!$B$2:$B$138=$O$118,ROW(BD!$B$2:$B$138)-ROW(BD!$B$2)+1),FALSE),ROWS(BD!$1:4)))))","v":""},{"$f":"IF($O$118=\"\",\"\",IF(ROWS(BD!$1:4)>COUNTIFS(BD!$B:$B,$O$118),\"\",INDEX(BD!$E$2:$E$138,SMALL(IF(BD!$B$2:$B$138=$O$118,IF(BD!$B$2:$B$138=$O$118,ROW(BD!$B$2:$B$138)-ROW(BD!$B$2)+1),FALSE),ROWS(BD!$1:4)))))","v":""},{"$f":"IF($O$118=\"\",\"\",IF(ROWS(BD!$1:4)>COUNTIFS(BD!$B:$B,$O$118),\"\",INDEX(BD!$F$2:$F$138,SMALL(IF(BD!$B$2:$B$138=$O$118,IF(BD!$B$2:$B$138=$O$118,ROW(BD!$B$2:$B$138)-ROW(BD!$B$2)+1),FALSE),ROWS(BD!$1:4)))))","v":""},{"$f":"IF($O$118=\"\",\"\",IF(ROWS(BD!$1:4)>COUNTIFS(BD!$B:$B,$O$118),\"\",INDEX(BD!$G$2:$G$138,SMALL(IF(BD!$B$2:$B$138=$O$118,IF(BD!$B$2:$B$138=$O$118,ROW(BD!$B$2:$B$138)-ROW(BD!$B$2)+1),FALSE),ROWS(BD!$1:4)))))","v":""},{"$f":"IF($O$118=\"\",\"\",IF(ROWS(BD!$1:4)>COUNTIFS(BD!$B:$B,$O$118),\"\",INDEX(BD!$H$2:$H$138,SMALL(IF(BD!$B$2:$B$138=$O$118,IF(BD!$B$2:$B$138=$O$118,ROW(BD!$B$2:$B$138)-ROW(BD!$B$2)+1),FALSE),ROWS(BD!$1:4)))))","v":""},null,{"$f":"IF($U$118=\"\",\"\",IF(ROWS(BD!$1:4)>COUNTIFS(BD!$B:$B,$U$118),\"\",INDEX(BD!$C$2:$C$138,SMALL(IF(BD!$B$2:$B$138=$U$118,IF(BD!$B$2:$B$138=$U$118,ROW(BD!$B$2:$B$138)-ROW(BD!$B$2)+1),FALSE),ROWS(BD!$1:4)))))","v":""},{"$f":"IF($U$118=\"\",\"\",IF(ROWS(BD!$1:4)>COUNTIFS(BD!$B:$B,$U$118),\"\",INDEX(BD!$E$2:$E$138,SMALL(IF(BD!$B$2:$B$138=$U$118,IF(BD!$B$2:$B$138=$U$118,ROW(BD!$B$2:$B$138)-ROW(BD!$B$2)+1),FALSE),ROWS(BD!$1:4)))))","v":""},{"$f":"IF($U$118=\"\",\"\",IF(ROWS(BD!$1:4)>COUNTIFS(BD!$B:$B,$U$118),\"\",INDEX(BD!$F$2:$F$138,SMALL(IF(BD!$B$2:$B$138=$U$118,IF(BD!$B$2:$B$138=$U$118,ROW(BD!$B$2:$B$138)-ROW(BD!$B$2)+1),FALSE),ROWS(BD!$1:4)))))","v":""},{"$f":"IF($U$118=\"\",\"\",IF(ROWS(BD!$1:4)>COUNTIFS(BD!$B:$B,$U$118),\"\",INDEX(BD!$G$2:$G$138,SMALL(IF(BD!$B$2:$B$138=$U$118,IF(BD!$B$2:$B$138=$U$118,ROW(BD!$B$2:$B$138)-ROW(BD!$B$2)+1),FALSE),ROWS(BD!$1:4)))))","v":""},{"$f":"IF($U$118=\"\",\"\",IF(ROWS(BD!$1:4)>COUNTIFS(BD!$B:$B,$U$118),\"\",INDEX(BD!$H$2:$H$138,SMALL(IF(BD!$B$2:$B$138=$U$118,IF(BD!$B$2:$B$138=$U$118,ROW(BD!$B$2:$B$138)-ROW(BD!$B$2)+1),FALSE),ROWS(BD!$1:4)))))","v":""},null,{"$f":"IF($AA$118=\"\",\"\",IF(ROWS(BD!$1:4)>COUNTIFS(BD!$B:$B,$AA$118),\"\",INDEX(BD!$C$2:$C$138,SMALL(IF(BD!$B$2:$B$138=$AA$118,IF(BD!$B$2:$B$138=$AA$118,ROW(BD!$B$2:$B$138)-ROW(BD!$B$2)+1),FALSE),ROWS(BD!$1:4)))))","v":""},{"$f":"IF($AA$118=\"\",\"\",IF(ROWS(BD!$1:4)>COUNTIFS(BD!$B:$B,$AA$118),\"\",INDEX(BD!$E$2:$E$138,SMALL(IF(BD!$B$2:$B$138=$AA$118,IF(BD!$B$2:$B$138=$AA$118,ROW(BD!$B$2:$B$138)-ROW(BD!$B$2)+1),FALSE),ROWS(BD!$1:4)))))","v":""},{"$f":"IF($AA$118=\"\",\"\",IF(ROWS(BD!$1:4)>COUNTIFS(BD!$B:$B,$AA$118),\"\",INDEX(BD!$F$2:$F$138,SMALL(IF(BD!$B$2:$B$138=$AA$118,IF(BD!$B$2:$B$138=$AA$118,ROW(BD!$B$2:$B$138)-ROW(BD!$B$2)+1),FALSE),ROWS(BD!$1:4)))))","v":""},{"$f":"IF($AA$118=\"\",\"\",IF(ROWS(BD!$1:4)>COUNTIFS(BD!$B:$B,$AA$118),\"\",INDEX(BD!$G$2:$G$138,SMALL(IF(BD!$B$2:$B$138=$AA$118,IF(BD!$B$2:$B$138=$AA$118,ROW(BD!$B$2:$B$138)-ROW(BD!$B$2)+1),FALSE),ROWS(BD!$1:4)))))","v":""},{"$f":"IF($AA$118=\"\",\"\",IF(ROWS(BD!$1:4)>COUNTIFS(BD!$B:$B,$AA$118),\"\",INDEX(BD!$H$2:$H$138,SMALL(IF(BD!$B$2:$B$138=$AA$118,IF(BD!$B$2:$B$138=$AA$118,ROW(BD!$B$2:$B$138)-ROW(BD!$B$2)+1),FALSE),ROWS(BD!$1:4)))))","v":""},null,{"$f":"IF($AG$118=\"\",\"\",IF(ROWS(BD!$1:4)>COUNTIFS(BD!$B:$B,$AG$118),\"\",INDEX(BD!$C$2:$C$138,SMALL(IF(BD!$B$2:$B$138=$AG$118,IF(BD!$B$2:$B$138=$AG$118,ROW(BD!$B$2:$B$138)-ROW(BD!$B$2)+1),FALSE),ROWS(BD!$1:4)))))","v":""},{"$f":"IF($AG$118=\"\",\"\",IF(ROWS(BD!$1:4)>COUNTIFS(BD!$B:$B,$AG$118),\"\",INDEX(BD!$E$2:$E$138,SMALL(IF(BD!$B$2:$B$138=$AG$118,IF(BD!$B$2:$B$138=$AG$118,ROW(BD!$B$2:$B$138)-ROW(BD!$B$2)+1),FALSE),ROWS(BD!$1:4)))))","v":""},{"$f":"IF($AG$118=\"\",\"\",IF(ROWS(BD!$1:4)>COUNTIFS(BD!$B:$B,$AG$118),\"\",INDEX(BD!$F$2:$F$138,SMALL(IF(BD!$B$2:$B$138=$AG$118,IF(BD!$B$2:$B$138=$AG$118,ROW(BD!$B$2:$B$138)-ROW(BD!$B$2)+1),FALSE),ROWS(BD!$1:4)))))","v":""},{"$f":"IF($AG$118=\"\",\"\",IF(ROWS(BD!$1:4)>COUNTIFS(BD!$B:$B,$AG$118),\"\",INDEX(BD!$G$2:$G$138,SMALL(IF(BD!$B$2:$B$138=$AG$118,IF(BD!$B$2:$B$138=$AG$118,ROW(BD!$B$2:$B$138)-ROW(BD!$B$2)+1),FALSE),ROWS(BD!$1:4)))))","v":""},{"$f":"IF($AG$118=\"\",\"\",IF(ROWS(BD!$1:4)>COUNTIFS(BD!$B:$B,$AG$118),\"\",INDEX(BD!$H$2:$H$138,SMALL(IF(BD!$B$2:$B$138=$AG$118,IF(BD!$B$2:$B$138=$AG$118,ROW(BD!$B$2:$B$138)-ROW(BD!$B$2)+1),FALSE),ROWS(BD!$1:4)))))","v":""},null,{"$f":"IF($AM$118=\"\",\"\",IF(ROWS(BD!$1:4)>COUNTIFS(BD!$B:$B,$AM$118),\"\",INDEX(BD!$C$2:$C$138,SMALL(IF(BD!$B$2:$B$138=$AM$118,IF(BD!$B$2:$B$138=$AM$118,ROW(BD!$B$2:$B$138)-ROW(BD!$B$2)+1),FALSE),ROWS(BD!$1:4)))))","v":""},{"$f":"IF($AM$118=\"\",\"\",IF(ROWS(BD!$1:4)>COUNTIFS(BD!$B:$B,$AM$118),\"\",INDEX(BD!$E$2:$E$138,SMALL(IF(BD!$B$2:$B$138=$AM$118,IF(BD!$B$2:$B$138=$AM$118,ROW(BD!$B$2:$B$138)-ROW(BD!$B$2)+1),FALSE),ROWS(BD!$1:4)))))","v":""},{"$f":"IF($AM$118=\"\",\"\",IF(ROWS(BD!$1:4)>COUNTIFS(BD!$B:$B,$AM$118),\"\",INDEX(BD!$F$2:$F$138,SMALL(IF(BD!$B$2:$B$138=$AM$118,IF(BD!$B$2:$B$138=$AM$118,ROW(BD!$B$2:$B$138)-ROW(BD!$B$2)+1),FALSE),ROWS(BD!$1:4)))))","v":""},{"$f":"IF($AM$118=\"\",\"\",IF(ROWS(BD!$1:4)>COUNTIFS(BD!$B:$B,$AM$118),\"\",INDEX(BD!$G$2:$G$138,SMALL(IF(BD!$B$2:$B$138=$AM$118,IF(BD!$B$2:$B$138=$AM$118,ROW(BD!$B$2:$B$138)-ROW(BD!$B$2)+1),FALSE),ROWS(BD!$1:4)))))","v":""},{"$f":"IF($AM$118=\"\",\"\",IF(ROWS(BD!$1:4)>COUNTIFS(BD!$B:$B,$AM$118),\"\",INDEX(BD!$H$2:$H$138,SMALL(IF(BD!$B$2:$B$138=$AM$118,IF(BD!$B$2:$B$138=$AM$118,ROW(BD!$B$2:$B$138)-ROW(BD!$B$2)+1),FALSE),ROWS(BD!$1:4)))))","v":""}]
[null,null,{"$f":"IF($C$118=\"\",\"\",IF(ROWS(BD!$1:5)>COUNTIFS(BD!$B:$B,$C$118),\"\",INDEX(BD!$C$2:$C$138,SMALL(IF(BD!$B$2:$B$138=$C$118,IF(BD!$B$2:$B$138=$C$118,ROW(BD!$B$2:$B$138)-ROW(BD!$B$2)+1),FALSE),ROWS(BD!$1:5)))))","v":""},{"$f":"IF($C$118=\"\",\"\",IF(ROWS(BD!$1:5)>COUNTIFS(BD!$B:$B,$C$118),\"\",INDEX(BD!$E$2:$E$138,SMALL(IF(BD!$B$2:$B$138=$C$118,IF(BD!$B$2:$B$138=$C$118,ROW(BD!$B$2:$B$138)-ROW(BD!$B$2)+1),FALSE),ROWS(BD!$1:5)))))","v":""},{"$f":"IF($C$118=\"\",\"\",IF(ROWS(BD!$1:5)>COUNTIFS(BD!$B:$B,$C$118),\"\",INDEX(BD!$F$2:$F$138,SMALL(IF(BD!$B$2:$B$138=$C$118,IF(BD!$B$2:$B$138=$C$118,ROW(BD!$B$2:$B$138)-ROW(BD!$B$2)+1),FALSE),ROWS(BD!$1:5)))))","v":""},{"$f":"IF($C$118=\"\",\"\",IF(ROWS(BD!$1:5)>COUNTIFS(BD!$B:$B,$C$118),\"\",INDEX(BD!$G$2:$G$138,SMALL(IF(BD!$B$2:$B$138=$C$118,IF(BD!$B$2:$B$138=$C$118,ROW(BD!$B$2:$B$138)-ROW(BD!$B$2)+1),FALSE),ROWS(BD!$1:5)))))","v":""},{"$f":"IF($C$118=\"\",\"\",IF(ROWS(BD!$1:5)>COUNTIFS(BD!$B:$B,$C$118),\"\",INDEX(BD!$H$2:$H$138,SMALL(IF(BD!$B$2:$B$138=$C$118,IF(BD!$B$2:$B$138=$C$118,ROW(BD!$B$2:$B$138)-ROW(BD!$B$2)+1),FALSE),ROWS(BD!$1:5)))))","v":""},null,{"$f":"IF($I$118=\"\",\"\",IF(ROWS(BD!$1:5)>COUNTIFS(BD!$B:$B,$I$118),\"\",INDEX(BD!$C$2:$C$138,SMALL(IF(BD!$B$2:$B$138=$I$118,IF(BD!$B$2:$B$138=$I$118,ROW(BD!$B$2:$B$138)-ROW(BD!$B$2)+1),FALSE),ROWS(BD!$1:5)))))","v":""},{"$f":"IF($I$118=\"\",\"\",IF(ROWS(BD!$1:5)>COUNTIFS(BD!$B:$B,$I$118),\"\",INDEX(BD!$E$2:$E$138,SMALL(IF(BD!$B$2:$B$138=$I$118,IF(BD!$B$2:$B$138=$I$118,ROW(BD!$B$2:$B$138)-ROW(BD!$B$2)+1),FALSE),ROWS(BD!$1:5)))))","v":""},{"$f":"IF($I$118=\"\",\"\",IF(ROWS(BD!$1:5)>COUNTIFS(BD!$B:$B,$I$118),\"\",INDEX(BD!$F$2:$F$138,SMALL(IF(BD!$B$2:$B$138=$I$118,IF(BD!$B$2:$B$138=$I$118,ROW(BD!$B$2:$B$138)-ROW(BD!$B$2)+1),FALSE),ROWS(BD!$1:5)))))","v":""},{"$f":"IF($I$118=\"\",\"\",IF(ROWS(BD!$1:5)>COUNTIFS(BD!$B:$B,$I$118),\"\",INDEX(BD!$G$2:$G$138,SMALL(IF(BD!$B$2:$B$138=$I$118,IF(BD!$B$2:$B$138=$I$118,ROW(BD!$B$2:$B$138)-ROW(BD!$B$2)+1),FALSE),ROWS(BD!$1:5)))))","v":""},{"$f":"IF($I$118=\"\",\"\",IF(ROWS(BD!$1:5)>COUNTIFS(BD!$B:$B,$I$118),\"\",INDEX(BD!$H$2:$H$138,SMALL(IF(BD!$B$2:$B$138=$I$118,IF(BD!$B$2:$B$138=$I$118,ROW(BD!$B$2:$B$138)-ROW(BD!$B$2)+1),FALSE),ROWS(BD!$1:5)))))","v":""},null,{"$f":"IF($O$118=\"\",\"\",IF(ROWS(BD!$1:5)>COUNTIFS(BD!$B:$B,$O$118),\"\",INDEX(BD!$C$2:$C$138,SMALL(IF(BD!$B$2:$B$138=$O$118,IF(BD!$B$2:$B$138=$O$118,ROW(BD!$B$2:$B$138)-ROW(BD!$B$2)+1),FALSE),ROWS(BD!$1:5)))))","v":""},{"$f":"IF($O$118=\"\",\"\",IF(ROWS(BD!$1:5)>COUNTIFS(BD!$B:$B,$O$118),\"\",INDEX(BD!$E$2:$E$138,SMALL(IF(BD!$B$2:$B$138=$O$118,IF(BD!$B$2:$B$138=$O$118,ROW(BD!$B$2:$B$138)-ROW(BD!$B$2)+1),FALSE),ROWS(BD!$1:5)))))","v":""},{"$f":"IF($O$118=\"\",\"\",IF(ROWS(BD!$1:5)>COUNTIFS(BD!$B:$B,$O$118),\"\",INDEX(BD!$F$2:$F$138,SMALL(IF(BD!$B$2:$B$138=$O$118,IF(BD!$B$2:$B$138=$O$118,ROW(BD!$B$2:$B$138)-ROW(BD!$B$2)+1),FALSE),ROWS(BD!$1:5)))))","v":""},{"$f":"IF($O$118=\"\",\"\",IF(ROWS(BD!$1:5)>COUNTIFS(BD!$B:$B,$O$118),\"\",INDEX(BD!$G$2:$G$138,SMALL(IF(BD!$B$2:$B$138=$O$118,IF(BD!$B$2:$B$138=$O$118,ROW(BD!$B$2:$B$138)-ROW(BD!$B$2)+1),FALSE),ROWS(BD!$1:5)))))","v":""},{"$f":"IF($O$118=\"\",\"\",IF(ROWS(BD!$1:5)>COUNTIFS(BD!$B:$B,$O$118),\"\",INDEX(BD!$H$2:$H$138,SMALL(IF(BD!$B$2:$B$138=$O$118,IF(BD!$B$2:$B$138=$O$118,ROW(BD!$B$2:$B$138)-ROW(BD!$B$2)+1),FALSE),ROWS(BD!$1:5)))))","v":""},null,{"$f":"IF($U$118=\"\",\"\",IF(ROWS(BD!$1:5)>COUNTIFS(BD!$B:$B,$U$118),\"\",INDEX(BD!$C$2:$C$138,SMALL(IF(BD!$B$2:$B$138=$U$118,IF(BD!$B$2:$B$138=$U$118,ROW(BD!$B$2:$B$138)-ROW(BD!$B$2)+1),FALSE),ROWS(BD!$1:5)))))","v":""},{"$f":"IF($U$118=\"\",\"\",IF(ROWS(BD!$1:5)>COUNTIFS(BD!$B:$B,$U$118),\"\",INDEX(BD!$E$2:$E$138,SMALL(IF(BD!$B$2:$B$138=$U$118,IF(BD!$B$2:$B$138=$U$118,ROW(BD!$B$2:$B$138)-ROW(BD!$B$2)+1),FALSE),ROWS(BD!$1:5)))))","v":""},{"$f":"IF($U$118=\"\",\"\",IF(ROWS(BD!$1:5)>COUNTIFS(BD!$B:$B,$U$118),\"\",INDEX(BD!$F$2:$F$138,SMALL(IF(BD!$B$2:$B$138=$U$118,IF(BD!$B$2:$B$138=$U$118,ROW(BD!$B$2:$B$138)-ROW(BD!$B$2)+1),FALSE),ROWS(BD!$1:5)))))","v":""},{"$f":"IF($U$118=\"\",\"\",IF(ROWS(BD!$1:5)>COUNTIFS(BD!$B:$B,$U$118),\"\",INDEX(BD!$G$2:$G$138,SMALL(IF(BD!$B$2:$B$138=$U$118,IF(BD!$B$2:$B$138=$U$118,ROW(BD!$B$2:$B$138)-ROW(BD!$B$2)+1),FALSE),ROWS(BD!$1:5)))))","v":""},{"$f":"IF($U$118=\"\",\"\",IF(ROWS(BD!$1:5)>COUNTIFS(BD!$B:$B,$U$118),\"\",INDEX(BD!$H$2:$H$138,SMALL(IF(BD!$B$2:$B$138=$U$118,IF(BD!$B$2:$B$138=$U$118,ROW(BD!$B$2:$B$138)-ROW(BD!$B$2)+1),FALSE),ROWS(BD!$1:5)))))","v":""},null,{"$f":"IF($AA$118=\"\",\"\",IF(ROWS(BD!$1:5)>COUNTIFS(BD!$B:$B,$AA$118),\"\",INDEX(BD!$C$2:$C$138,SMALL(IF(BD!$B$2:$B$138=$AA$118,IF(BD!$B$2:$B$138=$AA$118,ROW(BD!$B$2:$B$138)-ROW(BD!$B$2)+1),FALSE),ROWS(BD!$1:5)))))","v":""},{"$f":"IF($AA$118=\"\",\"\",IF(ROWS(BD!$1:5)>COUNTIFS(BD!$B:$B,$AA$118),\"\",INDEX(BD!$E$2:$E$138,SMALL(IF(BD!$B$2:$B$138=$AA$118,IF(BD!$B$2:$B$138=$AA$118,ROW(BD!$B$2:$B$138)-ROW(BD!$B$2)+1),FALSE),ROWS(BD!$1:5)))))","v":""},{"$f":"IF($AA$118=\"\",\"\",IF(ROWS(BD!$1:5)>COUNTIFS(BD!$B:$B,$AA$118),\"\",INDEX(BD!$F$2:$F$138,SMALL(IF(BD!$B$2:$B$138=$AA$118,IF(BD!$B$2:$B$138=$AA$118,ROW(BD!$B$2:$B$138)-ROW(BD!$B$2)+1),FALSE),ROWS(BD!$1:5)))))","v":""},{"$f":"IF($AA$118=\"\",\"\",IF(ROWS(BD!$1:5)>COUNTIFS(BD!$B:$B,$AA$118),\"\",INDEX(BD!$G$2:$G$138,SMALL(IF(BD!$B$2:$B$138=$AA$118,IF(BD!$B$2:$B$138=$AA$118,ROW(BD!$B$2:$B$138)-ROW(BD!$B$2)+1),FALSE),ROWS(BD!$1:5)))))","v":""},{"$f":"IF($AA$118=\"\",\"\",IF(ROWS(BD!$1:5)>COUNTIFS(BD!$B:$B,$AA$118),\"\",INDEX(BD!$H$2:$H$138,SMALL(IF(BD!$B$2:$B$138=$AA$118,IF(BD!$B$2:$B$138=$AA$118,ROW(BD!$B$2:$B$138)-ROW(BD!$B$2)+1),FALSE),ROWS(BD!$1:5)))))","v":""},null,{"$f":"IF($AG$118=\"\",\"\",IF(ROWS(BD!$1:5)>COUNTIFS(BD!$B:$B,$AG$118),\"\",INDEX(BD!$C$2:$C$138,SMALL(IF(BD!$B$2:$B$138=$AG$118,IF(BD!$B$2:$B$138=$AG$118,ROW(BD!$B$2:$B$138)-ROW(BD!$B$2)+1),FALSE),ROWS(BD!$1:5)))))","v":""},{"$f":"IF($AG$118=\"\",\"\",IF(ROWS(BD!$1:5)>COUNTIFS(BD!$B:$B,$AG$118),\"\",INDEX(BD!$E$2:$E$138,SMALL(IF(BD!$B$2:$B$138=$AG$118,IF(BD!$B$2:$B$138=$AG$118,ROW(BD!$B$2:$B$138)-ROW(BD!$B$2)+1),FALSE),ROWS(BD!$1:5)))))","v":""},{"$f":"IF($AG$118=\"\",\"\",IF(ROWS(BD!$1:5)>COUNTIFS(BD!$B:$B,$AG$118),\"\",INDEX(BD!$F$2:$F$138,SMALL(IF(BD!$B$2:$B$138=$AG$118,IF(BD!$B$2:$B$138=$AG$118,ROW(BD!$B$2:$B$138)-ROW(BD!$B$2)+1),FALSE),ROWS(BD!$1:5)))))","v":""},{"$f":"IF($AG$118=\"\",\"\",IF(ROWS(BD!$1:5)>COUNTIFS(BD!$B:$B,$AG$118),\"\",INDEX(BD!$G$2:$G$138,SMALL(IF(BD!$B$2:$B$138=$AG$118,IF(BD!$B$2:$B$138=$AG$118,ROW(BD!$B$2:$B$138)-ROW(BD!$B$2)+1),FALSE),ROWS(BD!$1:5)))))","v":""},{"$f":"IF($AG$118=\"\",\"\",IF(ROWS(BD!$1:5)>COUNTIFS(BD!$B:$B,$AG$118),\"\",INDEX(BD!$H$2:$H$138,SMALL(IF(BD!$B$2:$B$138=$AG$118,IF(BD!$B$2:$B$138=$AG$118,ROW(BD!$B$2:$B$138)-ROW(BD!$B$2)+1),FALSE),ROWS(BD!$1:5)))))","v":""},null,{"$f":"IF($AM$118=\"\",\"\",IF(ROWS(BD!$1:5)>COUNTIFS(BD!$B:$B,$AM$118),\"\",INDEX(BD!$C$2:$C$138,SMALL(IF(BD!$B$2:$B$138=$AM$118,IF(BD!$B$2:$B$138=$AM$118,ROW(BD!$B$2:$B$138)-ROW(BD!$B$2)+1),FALSE),ROWS(BD!$1:5)))))","v":""},{"$f":"IF($AM$118=\"\",\"\",IF(ROWS(BD!$1:5)>COUNTIFS(BD!$B:$B,$AM$118),\"\",INDEX(BD!$E$2:$E$138,SMALL(IF(BD!$B$2:$B$138=$AM$118,IF(BD!$B$2:$B$138=$AM$118,ROW(BD!$B$2:$B$138)-ROW(BD!$B$2)+1),FALSE),ROWS(BD!$1:5)))))","v":""},{"$f":"IF($AM$118=\"\",\"\",IF(ROWS(BD!$1:5)>COUNTIFS(BD!$B:$B,$AM$118),\"\",INDEX(BD!$F$2:$F$138,SMALL(IF(BD!$B$2:$B$138=$AM$118,IF(BD!$B$2:$B$138=$AM$118,ROW(BD!$B$2:$B$138)-ROW(BD!$B$2)+1),FALSE),ROWS(BD!$1:5)))))","v":""},{"$f":"IF($AM$118=\"\",\"\",IF(ROWS(BD!$1:5)>COUNTIFS(BD!$B:$B,$AM$118),\"\",INDEX(BD!$G$2:$G$138,SMALL(IF(BD!$B$2:$B$138=$AM$118,IF(BD!$B$2:$B$138=$AM$118,ROW(BD!$B$2:$B$138)-ROW(BD!$B$2)+1),FALSE),ROWS(BD!$1:5)))))","v":""},{"$f":"IF($AM$118=\"\",\"\",IF(ROWS(BD!$1:5)>COUNTIFS(BD!$B:$B,$AM$118),\"\",INDEX(BD!$H$2:$H$138,SMALL(IF(BD!$B$2:$B$138=$AM$118,IF(BD!$B$2:$B$138=$AM$118,ROW(BD!$B$2:$B$138)-ROW(BD!$B$2)+1),FALSE),ROWS(BD!$1:5)))))","v":""}]
[null,null,{"$f":"IF($C$118=\"\",\"\",IF(ROWS(BD!$1:6)>COUNTIFS(BD!$B:$B,$C$118),\"\",INDEX(BD!$C$2:$C$138,SMALL(IF(BD!$B$2:$B$138=$C$118,IF(BD!$B$2:$B$138=$C$118,ROW(BD!$B$2:$B$138)-ROW(BD!$B$2)+1),FALSE),ROWS(BD!$1:6)))))","v":""},{"$f":"IF($C$118=\"\",\"\",IF(ROWS(BD!$1:6)>COUNTIFS(BD!$B:$B,$C$118),\"\",INDEX(BD!$E$2:$E$138,SMALL(IF(BD!$B$2:$B$138=$C$118,IF(BD!$B$2:$B$138=$C$118,ROW(BD!$B$2:$B$138)-ROW(BD!$B$2)+1),FALSE),ROWS(BD!$1:6)))))","v":""},{"$f":"IF($C$118=\"\",\"\",IF(ROWS(BD!$1:6)>COUNTIFS(BD!$B:$B,$C$118),\"\",INDEX(BD!$F$2:$F$138,SMALL(IF(BD!$B$2:$B$138=$C$118,IF(BD!$B$2:$B$138=$C$118,ROW(BD!$B$2:$B$138)-ROW(BD!$B$2)+1),FALSE),ROWS(BD!$1:6)))))","v":""},{"$f":"IF($C$118=\"\",\"\",IF(ROWS(BD!$1:6)>COUNTIFS(BD!$B:$B,$C$118),\"\",INDEX(BD!$G$2:$G$138,SMALL(IF(BD!$B$2:$B$138=$C$118,IF(BD!$B$2:$B$138=$C$118,ROW(BD!$B$2:$B$138)-ROW(BD!$B$2)+1),FALSE),ROWS(BD!$1:6)))))","v":""},{"$f":"IF($C$118=\"\",\"\",IF(ROWS(BD!$1:6)>COUNTIFS(BD!$B:$B,$C$118),\"\",INDEX(BD!$H$2:$H$138,SMALL(IF(BD!$B$2:$B$138=$C$118,IF(BD!$B$2:$B$138=$C$118,ROW(BD!$B$2:$B$138)-ROW(BD!$B$2)+1),FALSE),ROWS(BD!$1:6)))))","v":""},null,{"$f":"IF($I$118=\"\",\"\",IF(ROWS(BD!$1:6)>COUNTIFS(BD!$B:$B,$I$118),\"\",INDEX(BD!$C$2:$C$138,SMALL(IF(BD!$B$2:$B$138=$I$118,IF(BD!$B$2:$B$138=$I$118,ROW(BD!$B$2:$B$138)-ROW(BD!$B$2)+1),FALSE),ROWS(BD!$1:6)))))","v":""},{"$f":"IF($I$118=\"\",\"\",IF(ROWS(BD!$1:6)>COUNTIFS(BD!$B:$B,$I$118),\"\",INDEX(BD!$E$2:$E$138,SMALL(IF(BD!$B$2:$B$138=$I$118,IF(BD!$B$2:$B$138=$I$118,ROW(BD!$B$2:$B$138)-ROW(BD!$B$2)+1),FALSE),ROWS(BD!$1:6)))))","v":""},{"$f":"IF($I$118=\"\",\"\",IF(ROWS(BD!$1:6)>COUNTIFS(BD!$B:$B,$I$118),\"\",INDEX(BD!$F$2:$F$138,SMALL(IF(BD!$B$2:$B$138=$I$118,IF(BD!$B$2:$B$138=$I$118,ROW(BD!$B$2:$B$138)-ROW(BD!$B$2)+1),FALSE),ROWS(BD!$1:6)))))","v":""},{"$f":"IF($I$118=\"\",\"\",IF(ROWS(BD!$1:6)>COUNTIFS(BD!$B:$B,$I$118),\"\",INDEX(BD!$G$2:$G$138,SMALL(IF(BD!$B$2:$B$138=$I$118,IF(BD!$B$2:$B$138=$I$118,ROW(BD!$B$2:$B$138)-ROW(BD!$B$2)+1),FALSE),ROWS(BD!$1:6)))))","v":""},{"$f":"IF($I$118=\"\",\"\",IF(ROWS(BD!$1:6)>COUNTIFS(BD!$B:$B,$I$118),\"\",INDEX(BD!$H$2:$H$138,SMALL(IF(BD!$B$2:$B$138=$I$118,IF(BD!$B$2:$B$138=$I$118,ROW(BD!$B$2:$B$138)-ROW(BD!$B$2)+1),FALSE),ROWS(BD!$1:6)))))","v":""},null,{"$f":"IF($O$118=\"\",\"\",IF(ROWS(BD!$1:6)>COUNTIFS(BD!$B:$B,$O$118),\"\",INDEX(BD!$C$2:$C$138,SMALL(IF(BD!$B$2:$B$138=$O$118,IF(BD!$B$2:$B$138=$O$118,ROW(BD!$B$2:$B$138)-ROW(BD!$B$2)+1),FALSE),ROWS(BD!$1:6)))))","v":""},{"$f":"IF($O$118=\"\",\"\",IF(ROWS(BD!$1:6)>COUNTIFS(BD!$B:$B,$O$118),\"\",INDEX(BD!$E$2:$E$138,SMALL(IF(BD!$B$2:$B$138=$O$118,IF(BD!$B$2:$B$138=$O$118,ROW(BD!$B$2:$B$138)-ROW(BD!$B$2)+1),FALSE),ROWS(BD!$1:6)))))","v":""},{"$f":"IF($O$118=\"\",\"\",IF(ROWS(BD!$1:6)>COUNTIFS(BD!$B:$B,$O$118),\"\",INDEX(BD!$F$2:$F$138,SMALL(IF(BD!$B$2:$B$138=$O$118,IF(BD!$B$2:$B$138=$O$118,ROW(BD!$B$2:$B$138)-ROW(BD!$B$2)+1),FALSE),ROWS(BD!$1:6)))))","v":""},{"$f":"IF($O$118=\"\",\"\",IF(ROWS(BD!$1:6)>COUNTIFS(BD!$B:$B,$O$118),\"\",INDEX(BD!$G$2:$G$138,SMALL(IF(BD!$B$2:$B$138=$O$118,IF(BD!$B$2:$B$138=$O$118,ROW(BD!$B$2:$B$138)-ROW(BD!$B$2)+1),FALSE),ROWS(BD!$1:6)))))","v":""},{"$f":"IF($O$118=\"\",\"\",IF(ROWS(BD!$1:6)>COUNTIFS(BD!$B:$B,$O$118),\"\",INDEX(BD!$H$2:$H$138,SMALL(IF(BD!$B$2:$B$138=$O$118,IF(BD!$B$2:$B$138=$O$118,ROW(BD!$B$2:$B$138)-ROW(BD!$B$2)+1),FALSE),ROWS(BD!$1:6)))))","v":""},null,{"$f":"IF($U$118=\"\",\"\",IF(ROWS(BD!$1:6)>COUNTIFS(BD!$B:$B,$U$118),\"\",INDEX(BD!$C$2:$C$138,SMALL(IF(BD!$B$2:$B$138=$U$118,IF(BD!$B$2:$B$138=$U$118,ROW(BD!$B$2:$B$138)-ROW(BD!$B$2)+1),FALSE),ROWS(BD!$1:6)))))","v":""},{"$f":"IF($U$118=\"\",\"\",IF(ROWS(BD!$1:6)>COUNTIFS(BD!$B:$B,$U$118),\"\",INDEX(BD!$E$2:$E$138,SMALL(IF(BD!$B$2:$B$138=$U$118,IF(BD!$B$2:$B$138=$U$118,ROW(BD!$B$2:$B$138)-ROW(BD!$B$2)+1),FALSE),ROWS(BD!$1:6)))))","v":""},{"$f":"IF($U$118=\"\",\"\",IF(ROWS(BD!$1:6)>COUNTIFS(BD!$B:$B,$U$118),\"\",INDEX(BD!$F$2:$F$138,SMALL(IF(BD!$B$2:$B$138=$U$118,IF(BD!$B$2:$B$138=$U$118,ROW(BD!$B$2:$B$138)-ROW(BD!$B$2)+1),FALSE),ROWS(BD!$1:6)))))","v":""},{"$f":"IF($U$118=\"\",\"\",IF(ROWS(BD!$1:6)>COUNTIFS(BD!$B:$B,$U$118),\"\",INDEX(BD!$G$2:$G$138,SMALL(IF(BD!$B$2:$B$138=$U$118,IF(BD!$B$2:$B$138=$U$118,ROW(BD!$B$2:$B$138)-ROW(BD!$B$2)+1),FALSE),ROWS(BD!$1:6)))))","v":""},{"$f":"IF($U$118=\"\",\"\",IF(ROWS(BD!$1:6)>COUNTIFS(BD!$B:$B,$U$118),\"\",INDEX(BD!$H$2:$H$138,SMALL(IF(BD!$B$2:$B$138=$U$118,IF(BD!$B$2:$B$138=$U$118,ROW(BD!$B$2:$B$138)-ROW(BD!$B$2)+1),FALSE),ROWS(BD!$1:6)))))","v":""},null,{"$f":"IF($AA$118=\"\",\"\",IF(ROWS(BD!$1:6)>COUNTIFS(BD!$B:$B,$AA$118),\"\",INDEX(BD!$C$2:$C$138,SMALL(IF(BD!$B$2:$B$138=$AA$118,IF(BD!$B$2:$B$138=$AA$118,ROW(BD!$B$2:$B$138)-ROW(BD!$B$2)+1),FALSE),ROWS(BD!$1:6)))))","v":""},{"$f":"IF($AA$118=\"\",\"\",IF(ROWS(BD!$1:6)>COUNTIFS(BD!$B:$B,$AA$118),\"\",INDEX(BD!$E$2:$E$138,SMALL(IF(BD!$B$2:$B$138=$AA$118,IF(BD!$B$2:$B$138=$AA$118,ROW(BD!$B$2:$B$138)-ROW(BD!$B$2)+1),FALSE),ROWS(BD!$1:6)))))","v":""},{"$f":"IF($AA$118=\"\",\"\",IF(ROWS(BD!$1:6)>COUNTIFS(BD!$B:$B,$AA$118),\"\",INDEX(BD!$F$2:$F$138,SMALL(IF(BD!$B$2:$B$138=$AA$118,IF(BD!$B$2:$B$138=$AA$118,ROW(BD!$B$2:$B$138)-ROW(BD!$B$2)+1),FALSE),ROWS(BD!$1:6)))))","v":""},{"$f":"IF($AA$118=\"\",\"\",IF(ROWS(BD!$1:6)>COUNTIFS(BD!$B:$B,$AA$118),\"\",INDEX(BD!$G$2:$G$138,SMALL(IF(BD!$B$2:$B$138=$AA$118,IF(BD!$B$2:$B$138=$AA$118,ROW(BD!$B$2:$B$138)-ROW(BD!$B$2)+1),FALSE),ROWS(BD!$1:6)))))","v":""},{"$f":"IF($AA$118=\"\",\"\",IF(ROWS(BD!$1:6)>COUNTIFS(BD!$B:$B,$AA$118),\"\",INDEX(BD!$H$2:$H$138,SMALL(IF(BD!$B$2:$B$138=$AA$118,IF(BD!$B$2:$B$138=$AA$118,ROW(BD!$B$2:$B$138)-ROW(BD!$B$2)+1),FALSE),ROWS(BD!$1:6)))))","v":""},null,{"$f":"IF($AG$118=\"\",\"\",IF(ROWS(BD!$1:6)>COUNTIFS(BD!$B:$B,$AG$118),\"\",INDEX(BD!$C$2:$C$138,SMALL(IF(BD!$B$2:$B$138=$AG$118,IF(BD!$B$2:$B$138=$AG$118,ROW(BD!$B$2:$B$138)-ROW(BD!$B$2)+1),FALSE),ROWS(BD!$1:6)))))","v":""},{"$f":"IF($AG$118=\"\",\"\",IF(ROWS(BD!$1:6)>COUNTIFS(BD!$B:$B,$AG$118),\"\",INDEX(BD!$E$2:$E$138,SMALL(IF(BD!$B$2:$B$138=$AG$118,IF(BD!$B$2:$B$138=$AG$118,ROW(BD!$B$2:$B$138)-ROW(BD!$B$2)+1),FALSE),ROWS(BD!$1:6)))))","v":""},{"$f":"IF($AG$118=\"\",\"\",IF(ROWS(BD!$1:6)>COUNTIFS(BD!$B:$B,$AG$118),\"\",INDEX(BD!$F$2:$F$138,SMALL(IF(BD!$B$2:$B$138=$AG$118,IF(BD!$B$2:$B$138=$AG$118,ROW(BD!$B$2:$B$138)-ROW(BD!$B$2)+1),FALSE),ROWS(BD!$1:6)))))","v":""},{"$f":"IF($AG$118=\"\",\"\",IF(ROWS(BD!$1:6)>COUNTIFS(BD!$B:$B,$AG$118),\"\",INDEX(BD!$G$2:$G$138,SMALL(IF(BD!$B$2:$B$138=$AG$118,IF(BD!$B$2:$B$138=$AG$118,ROW(BD!$B$2:$B$138)-ROW(BD!$B$2)+1),FALSE),ROWS(BD!$1:6)))))","v":""},{"$f":"IF($AG$118=\"\",\"\",IF(ROWS(BD!$1:6)>COUNTIFS(BD!$B:$B,$AG$118),\"\",INDEX(BD!$H$2:$H$138,SMALL(IF(BD!$B$2:$B$138=$AG$118,IF(BD!$B$2:$B$138=$AG$118,ROW(BD!$B$2:$B$138)-ROW(BD!$B$2)+1),FALSE),ROWS(BD!$1:6)))))","v":""},null,{"$f":"IF($AM$118=\"\",\"\",IF(ROWS(BD!$1:6)>COUNTIFS(BD!$B:$B,$AM$118),\"\",INDEX(BD!$C$2:$C$138,SMALL(IF(BD!$B$2:$B$138=$AM$118,IF(BD!$B$2:$B$138=$AM$118,ROW(BD!$B$2:$B$138)-ROW(BD!$B$2)+1),FALSE),ROWS(BD!$1:6)))))","v":""},{"$f":"IF($AM$118=\"\",\"\",IF(ROWS(BD!$1:6)>COUNTIFS(BD!$B:$B,$AM$118),\"\",INDEX(BD!$E$2:$E$138,SMALL(IF(BD!$B$2:$B$138=$AM$118,IF(BD!$B$2:$B$138=$AM$118,ROW(BD!$B$2:$B$138)-ROW(BD!$B$2)+1),FALSE),ROWS(BD!$1:6)))))","v":""},{"$f":"IF($AM$118=\"\",\"\",IF(ROWS(BD!$1:6)>COUNTIFS(BD!$B:$B,$AM$118),\"\",INDEX(BD!$F$2:$F$138,SMALL(IF(BD!$B$2:$B$138=$AM$118,IF(BD!$B$2:$B$138=$AM$118,ROW(BD!$B$2:$B$138)-ROW(BD!$B$2)+1),FALSE),ROWS(BD!$1:6)))))","v":""},{"$f":"IF($AM$118=\"\",\"\",IF(ROWS(BD!$1:6)>COUNTIFS(BD!$B:$B,$AM$118),\"\",INDEX(BD!$G$2:$G$138,SMALL(IF(BD!$B$2:$B$138=$AM$118,IF(BD!$B$2:$B$138=$AM$118,ROW(BD!$B$2:$B$138)-ROW(BD!$B$2)+1),FALSE),ROWS(BD!$1:6)))))","v":""},{"$f":"IF($AM$118=\"\",\"\",IF(ROWS(BD!$1:6)>COUNTIFS(BD!$B:$B,$AM$118),\"\",INDEX(BD!$H$2:$H$138,SMALL(IF(BD!$B$2:$B$138=$AM$118,IF(BD!$B$2:$B$138=$AM$118,ROW(BD!$B$2:$B$138)-ROW(BD!$B$2)+1),FALSE),ROWS(BD!$1:6)))))","v":""}]
[null,null,{"$f":"IF($C$118=\"\",\"\",IF(ROWS(BD!$1:7)>COUNTIFS(BD!$B:$B,$C$118),\"\",INDEX(BD!$C$2:$C$138,SMALL(IF(BD!$B$2:$B$138=$C$118,IF(BD!$B$2:$B$138=$C$118,ROW(BD!$B$2:$B$138)-ROW(BD!$B$2)+1),FALSE),ROWS(BD!$1:7)))))","v":""},{"$f":"IF($C$118=\"\",\"\",IF(ROWS(BD!$1:7)>COUNTIFS(BD!$B:$B,$C$118),\"\",INDEX(BD!$E$2:$E$138,SMALL(IF(BD!$B$2:$B$138=$C$118,IF(BD!$B$2:$B$138=$C$118,ROW(BD!$B$2:$B$138)-ROW(BD!$B$2)+1),FALSE),ROWS(BD!$1:7)))))","v":""},{"$f":"IF($C$118=\"\",\"\",IF(ROWS(BD!$1:7)>COUNTIFS(BD!$B:$B,$C$118),\"\",INDEX(BD!$F$2:$F$138,SMALL(IF(BD!$B$2:$B$138=$C$118,IF(BD!$B$2:$B$138=$C$118,ROW(BD!$B$2:$B$138)-ROW(BD!$B$2)+1),FALSE),ROWS(BD!$1:7)))))","v":""},{"$f":"IF($C$118=\"\",\"\",IF(ROWS(BD!$1:7)>COUNTIFS(BD!$B:$B,$C$118),\"\",INDEX(BD!$G$2:$G$138,SMALL(IF(BD!$B$2:$B$138=$C$118,IF(BD!$B$2:$B$138=$C$118,ROW(BD!$B$2:$B$138)-ROW(BD!$B$2)+1),FALSE),ROWS(BD!$1:7)))))","v":""},{"$f":"IF($C$118=\"\",\"\",IF(ROWS(BD!$1:7)>COUNTIFS(BD!$B:$B,$C$118),\"\",INDEX(BD!$H$2:$H$138,SMALL(IF(BD!$B$2:$B$138=$C$118,IF(BD!$B$2:$B$138=$C$118,ROW(BD!$B$2:$B$138)-ROW(BD!$B$2)+1),FALSE),ROWS(BD!$1:7)))))","v":""},null,{"$f":"IF($I$118=\"\",\"\",IF(ROWS(BD!$1:7)>COUNTIFS(BD!$B:$B,$I$118),\"\",INDEX(BD!$C$2:$C$138,SMALL(IF(BD!$B$2:$B$138=$I$118,IF(BD!$B$2:$B$138=$I$118,ROW(BD!$B$2:$B$138)-ROW(BD!$B$2)+1),FALSE),ROWS(BD!$1:7)))))","v":""},{"$f":"IF($I$118=\"\",\"\",IF(ROWS(BD!$1:7)>COUNTIFS(BD!$B:$B,$I$118),\"\",INDEX(BD!$E$2:$E$138,SMALL(IF(BD!$B$2:$B$138=$I$118,IF(BD!$B$2:$B$138=$I$118,ROW(BD!$B$2:$B$138)-ROW(BD!$B$2)+1),FALSE),ROWS(BD!$1:7)))))","v":""},{"$f":"IF($I$118=\"\",\"\",IF(ROWS(BD!$1:7)>COUNTIFS(BD!$B:$B,$I$118),\"\",INDEX(BD!$F$2:$F$138,SMALL(IF(BD!$B$2:$B$138=$I$118,IF(BD!$B$2:$B$138=$I$118,ROW(BD!$B$2:$B$138)-ROW(BD!$B$2)+1),FALSE),ROWS(BD!$1:7)))))","v":""},{"$f":"IF($I$118=\"\",\"\",IF(ROWS(BD!$1:7)>COUNTIFS(BD!$B:$B,$I$118),\"\",INDEX(BD!$G$2:$G$138,SMALL(IF(BD!$B$2:$B$138=$I$118,IF(BD!$B$2:$B$138=$I$118,ROW(BD!$B$2:$B$138)-ROW(BD!$B$2)+1),FALSE),ROWS(BD!$1:7)))))","v":""},{"$f":"IF($I$118=\"\",\"\",IF(ROWS(BD!$1:7)>COUNTIFS(BD!$B:$B,$I$118),\"\",INDEX(BD!$H$2:$H$138,SMALL(IF(BD!$B$2:$B$138=$I$118,IF(BD!$B$2:$B$138=$I$118,ROW(BD!$B$2:$B$138)-ROW(BD!$B$2)+1),FALSE),ROWS(BD!$1:7)))))","v":""},null,{"$f":"IF($O$118=\"\",\"\",IF(ROWS(BD!$1:7)>COUNTIFS(BD!$B:$B,$O$118),\"\",INDEX(BD!$C$2:$C$138,SMALL(IF(BD!$B$2:$B$138=$O$118,IF(BD!$B$2:$B$138=$O$118,ROW(BD!$B$2:$B$138)-ROW(BD!$B$2)+1),FALSE),ROWS(BD!$1:7)))))","v":""},{"$f":"IF($O$118=\"\",\"\",IF(ROWS(BD!$1:7)>COUNTIFS(BD!$B:$B,$O$118),\"\",INDEX(BD!$E$2:$E$138,SMALL(IF(BD!$B$2:$B$138=$O$118,IF(BD!$B$2:$B$138=$O$118,ROW(BD!$B$2:$B$138)-ROW(BD!$B$2)+1),FALSE),ROWS(BD!$1:7)))))","v":""},{"$f":"IF($O$118=\"\",\"\",IF(ROWS(BD!$1:7)>COUNTIFS(BD!$B:$B,$O$118),\"\",INDEX(BD!$F$2:$F$138,SMALL(IF(BD!$B$2:$B$138=$O$118,IF(BD!$B$2:$B$138=$O$118,ROW(BD!$B$2:$B$138)-ROW(BD!$B$2)+1),FALSE),ROWS(BD!$1:7)))))","v":""},{"$f":"IF($O$118=\"\",\"\",IF(ROWS(BD!$1:7)>COUNTIFS(BD!$B:$B,$O$118),\"\",INDEX(BD!$G$2:$G$138,SMALL(IF(BD!$B$2:$B$138=$O$118,IF(BD!$B$2:$B$138=$O$118,ROW(BD!$B$2:$B$138)-ROW(BD!$B$2)+1),FALSE),ROWS(BD!$1:7)))))","v":""},{"$f":"IF($O$118=\"\",\"\",IF(ROWS(BD!$1:7)>COUNTIFS(BD!$B:$B,$O$118),\"\",INDEX(BD!$H$2:$H$138,SMALL(IF(BD!$B$2:$B$138=$O$118,IF(BD!$B$2:$B$138=$O$118,ROW(BD!$B$2:$B$138)-ROW(BD!$B$2)+1),FALSE),ROWS(BD!$1:7)))))","v":""},null,{"$f":"IF($U$118=\"\",\"\",IF(ROWS(BD!$1:7)>COUNTIFS(BD!$B:$B,$U$118),\"\",INDEX(BD!$C$2:$C$138,SMALL(IF(BD!$B$2:$B$138=$U$118,IF(BD!$B$2:$B$138=$U$118,ROW(BD!$B$2:$B$138)-ROW(BD!$B$2)+1),FALSE),ROWS(BD!$1:7)))))","v":""},{"$f":"IF($U$118=\"\",\"\",IF(ROWS(BD!$1:7)>COUNTIFS(BD!$B:$B,$U$118),\"\",INDEX(BD!$E$2:$E$138,SMALL(IF(BD!$B$2:$B$138=$U$118,IF(BD!$B$2:$B$138=$U$118,ROW(BD!$B$2:$B$138)-ROW(BD!$B$2)+1),FALSE),ROWS(BD!$1:7)))))","v":""},{"$f":"IF($U$118=\"\",\"\",IF(ROWS(BD!$1:7)>COUNTIFS(BD!$B:$B,$U$118),\"\",INDEX(BD!$F$2:$F$138,SMALL(IF(BD!$B$2:$B$138=$U$118,IF(BD!$B$2:$B$138=$U$118,ROW(BD!$B$2:$B$138)-ROW(BD!$B$2)+1),FALSE),ROWS(BD!$1:7)))))","v":""},{"$f":"IF($U$118=\"\",\"\",IF(ROWS(BD!$1:7)>COUNTIFS(BD!$B:$B,$U$118),\"\",INDEX(BD!$G$2:$G$138,SMALL(IF(BD!$B$2:$B$138=$U$118,IF(BD!$B$2:$B$138=$U$118,ROW(BD!$B$2:$B$138)-ROW(BD!$B$2)+1),FALSE),ROWS(BD!$1:7)))))","v":""},{"$f":"IF($U$118=\"\",\"\",IF(ROWS(BD!$1:7)>COUNTIFS(BD!$B:$B,$U$118),\"\",INDEX(BD!$H$2:$H$138,SMALL(IF(BD!$B$2:$B$138=$U$118,IF(BD!$B$2:$B$138=$U$118,ROW(BD!$B$2:$B$138)-ROW(BD!$B$2)+1),FALSE),ROWS(BD!$1:7)))))","v":""},null,{"$f":"IF($AA$118=\"\",\"\",IF(ROWS(BD!$1:7)>COUNTIFS(BD!$B:$B,$AA$118),\"\",INDEX(BD!$C$2:$C$138,SMALL(IF(BD!$B$2:$B$138=$AA$118,IF(BD!$B$2:$B$138=$AA$118,ROW(BD!$B$2:$B$138)-ROW(BD!$B$2)+1),FALSE),ROWS(BD!$1:7)))))","v":""},{"$f":"IF($AA$118=\"\",\"\",IF(ROWS(BD!$1:7)>COUNTIFS(BD!$B:$B,$AA$118),\"\",INDEX(BD!$E$2:$E$138,SMALL(IF(BD!$B$2:$B$138=$AA$118,IF(BD!$B$2:$B$138=$AA$118,ROW(BD!$B$2:$B$138)-ROW(BD!$B$2)+1),FALSE),ROWS(BD!$1:7)))))","v":""},{"$f":"IF($AA$118=\"\",\"\",IF(ROWS(BD!$1:7)>COUNTIFS(BD!$B:$B,$AA$118),\"\",INDEX(BD!$F$2:$F$138,SMALL(IF(BD!$B$2:$B$138=$AA$118,IF(BD!$B$2:$B$138=$AA$118,ROW(BD!$B$2:$B$138)-ROW(BD!$B$2)+1),FALSE),ROWS(BD!$1:7)))))","v":""},{"$f":"IF($AA$118=\"\",\"\",IF(ROWS(BD!$1:7)>COUNTIFS(BD!$B:$B,$AA$118),\"\",INDEX(BD!$G$2:$G$138,SMALL(IF(BD!$B$2:$B$138=$AA$118,IF(BD!$B$2:$B$138=$AA$118,ROW(BD!$B$2:$B$138)-ROW(BD!$B$2)+1),FALSE),ROWS(BD!$1:7)))))","v":""},{"$f":"IF($AA$118=\"\",\"\",IF(ROWS(BD!$1:7)>COUNTIFS(BD!$B:$B,$AA$118),\"\",INDEX(BD!$H$2:$H$138,SMALL(IF(BD!$B$2:$B$138=$AA$118,IF(BD!$B$2:$B$138=$AA$118,ROW(BD!$B$2:$B$138)-ROW(BD!$B$2)+1),FALSE),ROWS(BD!$1:7)))))","v":""},null,{"$f":"IF($AG$118=\"\",\"\",IF(ROWS(BD!$1:7)>COUNTIFS(BD!$B:$B,$AG$118),\"\",INDEX(BD!$C$2:$C$138,SMALL(IF(BD!$B$2:$B$138=$AG$118,IF(BD!$B$2:$B$138=$AG$118,ROW(BD!$B$2:$B$138)-ROW(BD!$B$2)+1),FALSE),ROWS(BD!$1:7)))))","v":""},{"$f":"IF($AG$118=\"\",\"\",IF(ROWS(BD!$1:7)>COUNTIFS(BD!$B:$B,$AG$118),\"\",INDEX(BD!$E$2:$E$138,SMALL(IF(BD!$B$2:$B$138=$AG$118,IF(BD!$B$2:$B$138=$AG$118,ROW(BD!$B$2:$B$138)-ROW(BD!$B$2)+1),FALSE),ROWS(BD!$1:7)))))","v":""},{"$f":"IF($AG$118=\"\",\"\",IF(ROWS(BD!$1:7)>COUNTIFS(BD!$B:$B,$AG$118),\"\",INDEX(BD!$F$2:$F$138,SMALL(IF(BD!$B$2:$B$138=$AG$118,IF(BD!$B$2:$B$138=$AG$118,ROW(BD!$B$2:$B$138)-ROW(BD!$B$2)+1),FALSE),ROWS(BD!$1:7)))))","v":""},{"$f":"IF($AG$118=\"\",\"\",IF(ROWS(BD!$1:7)>COUNTIFS(BD!$B:$B,$AG$118),\"\",INDEX(BD!$G$2:$G$138,SMALL(IF(BD!$B$2:$B$138=$AG$118,IF(BD!$B$2:$B$138=$AG$118,ROW(BD!$B$2:$B$138)-ROW(BD!$B$2)+1),FALSE),ROWS(BD!$1:7)))))","v":""},{"$f":"IF($AG$118=\"\",\"\",IF(ROWS(BD!$1:7)>COUNTIFS(BD!$B:$B,$AG$118),\"\",INDEX(BD!$H$2:$H$138,SMALL(IF(BD!$B$2:$B$138=$AG$118,IF(BD!$B$2:$B$138=$AG$118,ROW(BD!$B$2:$B$138)-ROW(BD!$B$2)+1),FALSE),ROWS(BD!$1:7)))))","v":""},null,{"$f":"IF($AM$118=\"\",\"\",IF(ROWS(BD!$1:7)>COUNTIFS(BD!$B:$B,$AM$118),\"\",INDEX(BD!$C$2:$C$138,SMALL(IF(BD!$B$2:$B$138=$AM$118,IF(BD!$B$2:$B$138=$AM$118,ROW(BD!$B$2:$B$138)-ROW(BD!$B$2)+1),FALSE),ROWS(BD!$1:7)))))","v":""},{"$f":"IF($AM$118=\"\",\"\",IF(ROWS(BD!$1:7)>COUNTIFS(BD!$B:$B,$AM$118),\"\",INDEX(BD!$E$2:$E$138,SMALL(IF(BD!$B$2:$B$138=$AM$118,IF(BD!$B$2:$B$138=$AM$118,ROW(BD!$B$2:$B$138)-ROW(BD!$B$2)+1),FALSE),ROWS(BD!$1:7)))))","v":""},{"$f":"IF($AM$118=\"\",\"\",IF(ROWS(BD!$1:7)>COUNTIFS(BD!$B:$B,$AM$118),\"\",INDEX(BD!$F$2:$F$138,SMALL(IF(BD!$B$2:$B$138=$AM$118,IF(BD!$B$2:$B$138=$AM$118,ROW(BD!$B$2:$B$138)-ROW(BD!$B$2)+1),FALSE),ROWS(BD!$1:7)))))","v":""},{"$f":"IF($AM$118=\"\",\"\",IF(ROWS(BD!$1:7)>COUNTIFS(BD!$B:$B,$AM$118),\"\",INDEX(BD!$G$2:$G$138,SMALL(IF(BD!$B$2:$B$138=$AM$118,IF(BD!$B$2:$B$138=$AM$118,ROW(BD!$B$2:$B$138)-ROW(BD!$B$2)+1),FALSE),ROWS(BD!$1:7)))))","v":""},{"$f":"IF($AM$118=\"\",\"\",IF(ROWS(BD!$1:7)>COUNTIFS(BD!$B:$B,$AM$118),\"\",INDEX(BD!$H$2:$H$138,SMALL(IF(BD!$B$2:$B$138=$AM$118,IF(BD!$B$2:$B$138=$AM$118,ROW(BD!$B$2:$B$138)-ROW(BD!$B$2)+1),FALSE),ROWS(BD!$1:7)))))","v":""}]
[null,null,{"$f":"IF($C$118=\"\",\"\",IF(ROWS(BD!$1:8)>COUNTIFS(BD!$B:$B,$C$118),\"\",INDEX(BD!$C$2:$C$138,SMALL(IF(BD!$B$2:$B$138=$C$118,IF(BD!$B$2:$B$138=$C$118,ROW(BD!$B$2:$B$138)-ROW(BD!$B$2)+1),FALSE),ROWS(BD!$1:8)))))","v":""},{"$f":"IF($C$118=\"\",\"\",IF(ROWS(BD!$1:8)>COUNTIFS(BD!$B:$B,$C$118),\"\",INDEX(BD!$E$2:$E$138,SMALL(IF(BD!$B$2:$B$138=$C$118,IF(BD!$B$2:$B$138=$C$118,ROW(BD!$B$2:$B$138)-ROW(BD!$B$2)+1),FALSE),ROWS(BD!$1:8)))))","v":""},{"$f":"IF($C$118=\"\",\"\",IF(ROWS(BD!$1:8)>COUNTIFS(BD!$B:$B,$C$118),\"\",INDEX(BD!$F$2:$F$138,SMALL(IF(BD!$B$2:$B$138=$C$118,IF(BD!$B$2:$B$138=$C$118,ROW(BD!$B$2:$B$138)-ROW(BD!$B$2)+1),FALSE),ROWS(BD!$1:8)))))","v":""},{"$f":"IF($C$118=\"\",\"\",IF(ROWS(BD!$1:8)>COUNTIFS(BD!$B:$B,$C$118),\"\",INDEX(BD!$G$2:$G$138,SMALL(IF(BD!$B$2:$B$138=$C$118,IF(BD!$B$2:$B$138=$C$118,ROW(BD!$B$2:$B$138)-ROW(BD!$B$2)+1),FALSE),ROWS(BD!$1:8)))))","v":""},{"$f":"IF($C$118=\"\",\"\",IF(ROWS(BD!$1:8)>COUNTIFS(BD!$B:$B,$C$118),\"\",INDEX(BD!$H$2:$H$138,SMALL(IF(BD!$B$2:$B$138=$C$118,IF(BD!$B$2:$B$138=$C$118,ROW(BD!$B$2:$B$138)-ROW(BD!$B$2)+1),FALSE),ROWS(BD!$1:8)))))","v":""},null,{"$f":"IF($I$118=\"\",\"\",IF(ROWS(BD!$1:8)>COUNTIFS(BD!$B:$B,$I$118),\"\",INDEX(BD!$C$2:$C$138,SMALL(IF(BD!$B$2:$B$138=$I$118,IF(BD!$B$2:$B$138=$I$118,ROW(BD!$B$2:$B$138)-ROW(BD!$B$2)+1),FALSE),ROWS(BD!$1:8)))))","v":""},{"$f":"IF($I$118=\"\",\"\",IF(ROWS(BD!$1:8)>COUNTIFS(BD!$B:$B,$I$118),\"\",INDEX(BD!$E$2:$E$138,SMALL(IF(BD!$B$2:$B$138=$I$118,IF(BD!$B$2:$B$138=$I$118,ROW(BD!$B$2:$B$138)-ROW(BD!$B$2)+1),FALSE),ROWS(BD!$1:8)))))","v":""},{"$f":"IF($I$118=\"\",\"\",IF(ROWS(BD!$1:8)>COUNTIFS(BD!$B:$B,$I$118),\"\",INDEX(BD!$F$2:$F$138,SMALL(IF(BD!$B$2:$B$138=$I$118,IF(BD!$B$2:$B$138=$I$118,ROW(BD!$B$2:$B$138)-ROW(BD!$B$2)+1),FALSE),ROWS(BD!$1:8)))))","v":""},{"$f":"IF($I$118=\"\",\"\",IF(ROWS(BD!$1:8)>COUNTIFS(BD!$B:$B,$I$118),\"\",INDEX(BD!$G$2:$G$138,SMALL(IF(BD!$B$2:$B$138=$I$118,IF(BD!$B$2:$B$138=$I$118,ROW(BD!$B$2:$B$138)-ROW(BD!$B$2)+1),FALSE),ROWS(BD!$1:8)))))","v":""},{"$f":"IF($I$118=\"\",\"\",IF(ROWS(BD!$1:8)>COUNTIFS(BD!$B:$B,$I$118),\"\",INDEX(BD!$H$2:$H$138,SMALL(IF(BD!$B$2:$B$138=$I$118,IF(BD!$B$2:$B$138=$I$118,ROW(BD!$B$2:$B$138)-ROW(BD!$B$2)+1),FALSE),ROWS(BD!$1:8)))))","v":""},null,{"$f":"IF($O$118=\"\",\"\",IF(ROWS(BD!$1:8)>COUNTIFS(BD!$B:$B,$O$118),\"\",INDEX(BD!$C$2:$C$138,SMALL(IF(BD!$B$2:$B$138=$O$118,IF(BD!$B$2:$B$138=$O$118,ROW(BD!$B$2:$B$138)-ROW(BD!$B$2)+1),FALSE),ROWS(BD!$1:8)))))","v":""},{"$f":"IF($O$118=\"\",\"\",IF(ROWS(BD!$1:8)>COUNTIFS(BD!$B:$B,$O$118),\"\",INDEX(BD!$E$2:$E$138,SMALL(IF(BD!$B$2:$B$138=$O$118,IF(BD!$B$2:$B$138=$O$118,ROW(BD!$B$2:$B$138)-ROW(BD!$B$2)+1),FALSE),ROWS(BD!$1:8)))))","v":""},{"$f":"IF($O$118=\"\",\"\",IF(ROWS(BD!$1:8)>COUNTIFS(BD!$B:$B,$O$118),\"\",INDEX(BD!$F$2:$F$138,SMALL(IF(BD!$B$2:$B$138=$O$118,IF(BD!$B$2:$B$138=$O$118,ROW(BD!$B$2:$B$138)-ROW(BD!$B$2)+1),FALSE),ROWS(BD!$1:8)))))","v":""},{"$f":"IF($O$118=\"\",\"\",IF(ROWS(BD!$1:8)>COUNTIFS(BD!$B:$B,$O$118),\"\",INDEX(BD!$G$2:$G$138,SMALL(IF(BD!$B$2:$B$138=$O$118,IF(BD!$B$2:$B$138=$O$118,ROW(BD!$B$2:$B$138)-ROW(BD!$B$2)+1),FALSE),ROWS(BD!$1:8)))))","v":""},{"$f":"IF($O$118=\"\",\"\",IF(ROWS(BD!$1:8)>COUNTIFS(BD!$B:$B,$O$118),\"\",INDEX(BD!$H$2:$H$138,SMALL(IF(BD!$B$2:$B$138=$O$118,IF(BD!$B$2:$B$138=$O$118,ROW(BD!$B$2:$B$138)-ROW(BD!$B$2)+1),FALSE),ROWS(BD!$1:8)))))","v":""},null,{"$f":"IF($U$118=\"\",\"\",IF(ROWS(BD!$1:8)>COUNTIFS(BD!$B:$B,$U$118),\"\",INDEX(BD!$C$2:$C$138,SMALL(IF(BD!$B$2:$B$138=$U$118,IF(BD!$B$2:$B$138=$U$118,ROW(BD!$B$2:$B$138)-ROW(BD!$B$2)+1),FALSE),ROWS(BD!$1:8)))))","v":""},{"$f":"IF($U$118=\"\",\"\",IF(ROWS(BD!$1:8)>COUNTIFS(BD!$B:$B,$U$118),\"\",INDEX(BD!$E$2:$E$138,SMALL(IF(BD!$B$2:$B$138=$U$118,IF(BD!$B$2:$B$138=$U$118,ROW(BD!$B$2:$B$138)-ROW(BD!$B$2)+1),FALSE),ROWS(BD!$1:8)))))","v":""},{"$f":"IF($U$118=\"\",\"\",IF(ROWS(BD!$1:8)>COUNTIFS(BD!$B:$B,$U$118),\"\",INDEX(BD!$F$2:$F$138,SMALL(IF(BD!$B$2:$B$138=$U$118,IF(BD!$B$2:$B$138=$U$118,ROW(BD!$B$2:$B$138)-ROW(BD!$B$2)+1),FALSE),ROWS(BD!$1:8)))))","v":""},{"$f":"IF($U$118=\"\",\"\",IF(ROWS(BD!$1:8)>COUNTIFS(BD!$B:$B,$U$118),\"\",INDEX(BD!$G$2:$G$138,SMALL(IF(BD!$B$2:$B$138=$U$118,IF(BD!$B$2:$B$138=$U$118,ROW(BD!$B$2:$B$138)-ROW(BD!$B$2)+1),FALSE),ROWS(BD!$1:8)))))","v":""},{"$f":"IF($U$118=\"\",\"\",IF(ROWS(BD!$1:8)>COUNTIFS(BD!$B:$B,$U$118),\"\",INDEX(BD!$H$2:$H$138,SMALL(IF(BD!$B$2:$B$138=$U$118,IF(BD!$B$2:$B$138=$U$118,ROW(BD!$B$2:$B$138)-ROW(BD!$B$2)+1),FALSE),ROWS(BD!$1:8)))))","v":""},null,{"$f":"IF($AA$118=\"\",\"\",IF(ROWS(BD!$1:8)>COUNTIFS(BD!$B:$B,$AA$118),\"\",INDEX(BD!$C$2:$C$138,SMALL(IF(BD!$B$2:$B$138=$AA$118,IF(BD!$B$2:$B$138=$AA$118,ROW(BD!$B$2:$B$138)-ROW(BD!$B$2)+1),FALSE),ROWS(BD!$1:8)))))","v":""},{"$f":"IF($AA$118=\"\",\"\",IF(ROWS(BD!$1:8)>COUNTIFS(BD!$B:$B,$AA$118),\"\",INDEX(BD!$E$2:$E$138,SMALL(IF(BD!$B$2:$B$138=$AA$118,IF(BD!$B$2:$B$138=$AA$118,ROW(BD!$B$2:$B$138)-ROW(BD!$B$2)+1),FALSE),ROWS(BD!$1:8)))))","v":""},{"$f":"IF($AA$118=\"\",\"\",IF(ROWS(BD!$1:8)>COUNTIFS(BD!$B:$B,$AA$118),\"\",INDEX(BD!$F$2:$F$138,SMALL(IF(BD!$B$2:$B$138=$AA$118,IF(BD!$B$2:$B$138=$AA$118,ROW(BD!$B$2:$B$138)-ROW(BD!$B$2)+1),FALSE),ROWS(BD!$1:8)))))","v":""},{"$f":"IF($AA$118=\"\",\"\",IF(ROWS(BD!$1:8)>COUNTIFS(BD!$B:$B,$AA$118),\"\",INDEX(BD!$G$2:$G$138,SMALL(IF(BD!$B$2:$B$138=$AA$118,IF(BD!$B$2:$B$138=$AA$118,ROW(BD!$B$2:$B$138)-ROW(BD!$B$2)+1),FALSE),ROWS(BD!$1:8)))))","v":""},{"$f":"IF($AA$118=\"\",\"\",IF(ROWS(BD!$1:8)>COUNTIFS(BD!$B:$B,$AA$118),\"\",INDEX(BD!$H$2:$H$138,SMALL(IF(BD!$B$2:$B$138=$AA$118,IF(BD!$B$2:$B$138=$AA$118,ROW(BD!$B$2:$B$138)-ROW(BD!$B$2)+1),FALSE),ROWS(BD!$1:8)))))","v":""},null,{"$f":"IF($AG$118=\"\",\"\",IF(ROWS(BD!$1:8)>COUNTIFS(BD!$B:$B,$AG$118),\"\",INDEX(BD!$C$2:$C$138,SMALL(IF(BD!$B$2:$B$138=$AG$118,IF(BD!$B$2:$B$138=$AG$118,ROW(BD!$B$2:$B$138)-ROW(BD!$B$2)+1),FALSE),ROWS(BD!$1:8)))))","v":""},{"$f":"IF($AG$118=\"\",\"\",IF(ROWS(BD!$1:8)>COUNTIFS(BD!$B:$B,$AG$118),\"\",INDEX(BD!$E$2:$E$138,SMALL(IF(BD!$B$2:$B$138=$AG$118,IF(BD!$B$2:$B$138=$AG$118,ROW(BD!$B$2:$B$138)-ROW(BD!$B$2)+1),FALSE),ROWS(BD!$1:8)))))","v":""},{"$f":"IF($AG$118=\"\",\"\",IF(ROWS(BD!$1:8)>COUNTIFS(BD!$B:$B,$AG$118),\"\",INDEX(BD!$F$2:$F$138,SMALL(IF(BD!$B$2:$B$138=$AG$118,IF(BD!$B$2:$B$138=$AG$118,ROW(BD!$B$2:$B$138)-ROW(BD!$B$2)+1),FALSE),ROWS(BD!$1:8)))))","v":""},{"$f":"IF($AG$118=\"\",\"\",IF(ROWS(BD!$1:8)>COUNTIFS(BD!$B:$B,$AG$118),\"\",INDEX(BD!$G$2:$G$138,SMALL(IF(BD!$B$2:$B$138=$AG$118,IF(BD!$B$2:$B$138=$AG$118,ROW(BD!$B$2:$B$138)-ROW(BD!$B$2)+1),FALSE),ROWS(BD!$1:8)))))","v":""},{"$f":"IF($AG$118=\"\",\"\",IF(ROWS(BD!$1:8)>COUNTIFS(BD!$B:$B,$AG$118),\"\",INDEX(BD!$H$2:$H$138,SMALL(IF(BD!$B$2:$B$138=$AG$118,IF(BD!$B$2:$B$138=$AG$118,ROW(BD!$B$2:$B$138)-ROW(BD!$B$2)+1),FALSE),ROWS(BD!$1:8)))))","v":""},null,{"$f":"IF($AM$118=\"\",\"\",IF(ROWS(BD!$1:8)>COUNTIFS(BD!$B:$B,$AM$118),\"\",INDEX(BD!$C$2:$C$138,SMALL(IF(BD!$B$2:$B$138=$AM$118,IF(BD!$B$2:$B$138=$AM$118,ROW(BD!$B$2:$B$138)-ROW(BD!$B$2)+1),FALSE),ROWS(BD!$1:8)))))","v":""},{"$f":"IF($AM$118=\"\",\"\",IF(ROWS(BD!$1:8)>COUNTIFS(BD!$B:$B,$AM$118),\"\",INDEX(BD!$E$2:$E$138,SMALL(IF(BD!$B$2:$B$138=$AM$118,IF(BD!$B$2:$B$138=$AM$118,ROW(BD!$B$2:$B$138)-ROW(BD!$B$2)+1),FALSE),ROWS(BD!$1:8)))))","v":""},{"$f":"IF($AM$118=\"\",\"\",IF(ROWS(BD!$1:8)>COUNTIFS(BD!$B:$B,$AM$118),\"\",INDEX(BD!$F$2:$F$138,SMALL(IF(BD!$B$2:$B$138=$AM$118,IF(BD!$B$2:$B$138=$AM$118,ROW(BD!$B$2:$B$138)-ROW(BD!$B$2)+1),FALSE),ROWS(BD!$1:8)))))","v":""},{"$f":"IF($AM$118=\"\",\"\",IF(ROWS(BD!$1:8)>COUNTIFS(BD!$B:$B,$AM$118),\"\",INDEX(BD!$G$2:$G$138,SMALL(IF(BD!$B$2:$B$138=$AM$118,IF(BD!$B$2:$B$138=$AM$118,ROW(BD!$B$2:$B$138)-ROW(BD!$B$2)+1),FALSE),ROWS(BD!$1:8)))))","v":""},{"$f":"IF($AM$118=\"\",\"\",IF(ROWS(BD!$1:8)>COUNTIFS(BD!$B:$B,$AM$118),\"\",INDEX(BD!$H$2:$H$138,SMALL(IF(BD!$B$2:$B$138=$AM$118,IF(BD!$B$2:$B$138=$AM$118,ROW(BD!$B$2:$B$138)-ROW(BD!$B$2)+1),FALSE),ROWS(BD!$1:8)))))","v":""}]
[null,null,{"$f":"IF($C$118=\"\",\"\",IF(ROWS(BD!$1:9)>COUNTIFS(BD!$B:$B,$C$118),\"\",INDEX(BD!$C$2:$C$138,SMALL(IF(BD!$B$2:$B$138=$C$118,IF(BD!$B$2:$B$138=$C$118,ROW(BD!$B$2:$B$138)-ROW(BD!$B$2)+1),FALSE),ROWS(BD!$1:9)))))","v":""},{"$f":"IF($C$118=\"\",\"\",IF(ROWS(BD!$1:9)>COUNTIFS(BD!$B:$B,$C$118),\"\",INDEX(BD!$E$2:$E$138,SMALL(IF(BD!$B$2:$B$138=$C$118,IF(BD!$B$2:$B$138=$C$118,ROW(BD!$B$2:$B$138)-ROW(BD!$B$2)+1),FALSE),ROWS(BD!$1:9)))))","v":""},{"$f":"IF($C$118=\"\",\"\",IF(ROWS(BD!$1:9)>COUNTIFS(BD!$B:$B,$C$118),\"\",INDEX(BD!$F$2:$F$138,SMALL(IF(BD!$B$2:$B$138=$C$118,IF(BD!$B$2:$B$138=$C$118,ROW(BD!$B$2:$B$138)-ROW(BD!$B$2)+1),FALSE),ROWS(BD!$1:9)))))","v":""},{"$f":"IF($C$118=\"\",\"\",IF(ROWS(BD!$1:9)>COUNTIFS(BD!$B:$B,$C$118),\"\",INDEX(BD!$G$2:$G$138,SMALL(IF(BD!$B$2:$B$138=$C$118,IF(BD!$B$2:$B$138=$C$118,ROW(BD!$B$2:$B$138)-ROW(BD!$B$2)+1),FALSE),ROWS(BD!$1:9)))))","v":""},{"$f":"IF($C$118=\"\",\"\",IF(ROWS(BD!$1:9)>COUNTIFS(BD!$B:$B,$C$118),\"\",INDEX(BD!$H$2:$H$138,SMALL(IF(BD!$B$2:$B$138=$C$118,IF(BD!$B$2:$B$138=$C$118,ROW(BD!$B$2:$B$138)-ROW(BD!$B$2)+1),FALSE),ROWS(BD!$1:9)))))","v":""},null,{"$f":"IF($I$118=\"\",\"\",IF(ROWS(BD!$1:9)>COUNTIFS(BD!$B:$B,$I$118),\"\",INDEX(BD!$C$2:$C$138,SMALL(IF(BD!$B$2:$B$138=$I$118,IF(BD!$B$2:$B$138=$I$118,ROW(BD!$B$2:$B$138)-ROW(BD!$B$2)+1),FALSE),ROWS(BD!$1:9)))))","v":""},{"$f":"IF($I$118=\"\",\"\",IF(ROWS(BD!$1:9)>COUNTIFS(BD!$B:$B,$I$118),\"\",INDEX(BD!$E$2:$E$138,SMALL(IF(BD!$B$2:$B$138=$I$118,IF(BD!$B$2:$B$138=$I$118,ROW(BD!$B$2:$B$138)-ROW(BD!$B$2)+1),FALSE),ROWS(BD!$1:9)))))","v":""},{"$f":"IF($I$118=\"\",\"\",IF(ROWS(BD!$1:9)>COUNTIFS(BD!$B:$B,$I$118),\"\",INDEX(BD!$F$2:$F$138,SMALL(IF(BD!$B$2:$B$138=$I$118,IF(BD!$B$2:$B$138=$I$118,ROW(BD!$B$2:$B$138)-ROW(BD!$B$2)+1),FALSE),ROWS(BD!$1:9)))))","v":""},{"$f":"IF($I$118=\"\",\"\",IF(ROWS(BD!$1:9)>COUNTIFS(BD!$B:$B,$I$118),\"\",INDEX(BD!$G$2:$G$138,SMALL(IF(BD!$B$2:$B$138=$I$118,IF(BD!$B$2:$B$138=$I$118,ROW(BD!$B$2:$B$138)-ROW(BD!$B$2)+1),FALSE),ROWS(BD!$1:9)))))","v":""},{"$f":"IF($I$118=\"\",\"\",IF(ROWS(BD!$1:9)>COUNTIFS(BD!$B:$B,$I$118),\"\",INDEX(BD!$H$2:$H$138,SMALL(IF(BD!$B$2:$B$138=$I$118,IF(BD!$B$2:$B$138=$I$118,ROW(BD!$B$2:$B$138)-ROW(BD!$B$2)+1),FALSE),ROWS(BD!$1:9)))))","v":""},null,{"$f":"IF($O$118=\"\",\"\",IF(ROWS(BD!$1:9)>COUNTIFS(BD!$B:$B,$O$118),\"\",INDEX(BD!$C$2:$C$138,SMALL(IF(BD!$B$2:$B$138=$O$118,IF(BD!$B$2:$B$138=$O$118,ROW(BD!$B$2:$B$138)-ROW(BD!$B$2)+1),FALSE),ROWS(BD!$1:9)))))","v":""},{"$f":"IF($O$118=\"\",\"\",IF(ROWS(BD!$1:9)>COUNTIFS(BD!$B:$B,$O$118),\"\",INDEX(BD!$E$2:$E$138,SMALL(IF(BD!$B$2:$B$138=$O$118,IF(BD!$B$2:$B$138=$O$118,ROW(BD!$B$2:$B$138)-ROW(BD!$B$2)+1),FALSE),ROWS(BD!$1:9)))))","v":""},{"$f":"IF($O$118=\"\",\"\",IF(ROWS(BD!$1:9)>COUNTIFS(BD!$B:$B,$O$118),\"\",INDEX(BD!$F$2:$F$138,SMALL(IF(BD!$B$2:$B$138=$O$118,IF(BD!$B$2:$B$138=$O$118,ROW(BD!$B$2:$B$138)-ROW(BD!$B$2)+1),FALSE),ROWS(BD!$1:9)))))","v":""},{"$f":"IF($O$118=\"\",\"\",IF(ROWS(BD!$1:9)>COUNTIFS(BD!$B:$B,$O$118),\"\",INDEX(BD!$G$2:$G$138,SMALL(IF(BD!$B$2:$B$138=$O$118,IF(BD!$B$2:$B$138=$O$118,ROW(BD!$B$2:$B$138)-ROW(BD!$B$2)+1),FALSE),ROWS(BD!$1:9)))))","v":""},{"$f":"IF($O$118=\"\",\"\",IF(ROWS(BD!$1:9)>COUNTIFS(BD!$B:$B,$O$118),\"\",INDEX(BD!$H$2:$H$138,SMALL(IF(BD!$B$2:$B$138=$O$118,IF(BD!$B$2:$B$138=$O$118,ROW(BD!$B$2:$B$138)-ROW(BD!$B$2)+1),FALSE),ROWS(BD!$1:9)))))","v":""},null,{"$f":"IF($U$118=\"\",\"\",IF(ROWS(BD!$1:9)>COUNTIFS(BD!$B:$B,$U$118),\"\",INDEX(BD!$C$2:$C$138,SMALL(IF(BD!$B$2:$B$138=$U$118,IF(BD!$B$2:$B$138=$U$118,ROW(BD!$B$2:$B$138)-ROW(BD!$B$2)+1),FALSE),ROWS(BD!$1:9)))))","v":""},{"$f":"IF($U$118=\"\",\"\",IF(ROWS(BD!$1:9)>COUNTIFS(BD!$B:$B,$U$118),\"\",INDEX(BD!$E$2:$E$138,SMALL(IF(BD!$B$2:$B$138=$U$118,IF(BD!$B$2:$B$138=$U$118,ROW(BD!$B$2:$B$138)-ROW(BD!$B$2)+1),FALSE),ROWS(BD!$1:9)))))","v":""},{"$f":"IF($U$118=\"\",\"\",IF(ROWS(BD!$1:9)>COUNTIFS(BD!$B:$B,$U$118),\"\",INDEX(BD!$F$2:$F$138,SMALL(IF(BD!$B$2:$B$138=$U$118,IF(BD!$B$2:$B$138=$U$118,ROW(BD!$B$2:$B$138)-ROW(BD!$B$2)+1),FALSE),ROWS(BD!$1:9)))))","v":""},{"$f":"IF($U$118=\"\",\"\",IF(ROWS(BD!$1:9)>COUNTIFS(BD!$B:$B,$U$118),\"\",INDEX(BD!$G$2:$G$138,SMALL(IF(BD!$B$2:$B$138=$U$118,IF(BD!$B$2:$B$138=$U$118,ROW(BD!$B$2:$B$138)-ROW(BD!$B$2)+1),FALSE),ROWS(BD!$1:9)))))","v":""},{"$f":"IF($U$118=\"\",\"\",IF(ROWS(BD!$1:9)>COUNTIFS(BD!$B:$B,$U$118),\"\",INDEX(BD!$H$2:$H$138,SMALL(IF(BD!$B$2:$B$138=$U$118,IF(BD!$B$2:$B$138=$U$118,ROW(BD!$B$2:$B$138)-ROW(BD!$B$2)+1),FALSE),ROWS(BD!$1:9)))))","v":""},null,{"$f":"IF($AA$118=\"\",\"\",IF(ROWS(BD!$1:9)>COUNTIFS(BD!$B:$B,$AA$118),\"\",INDEX(BD!$C$2:$C$138,SMALL(IF(BD!$B$2:$B$138=$AA$118,IF(BD!$B$2:$B$138=$AA$118,ROW(BD!$B$2:$B$138)-ROW(BD!$B$2)+1),FALSE),ROWS(BD!$1:9)))))","v":""},{"$f":"IF($AA$118=\"\",\"\",IF(ROWS(BD!$1:9)>COUNTIFS(BD!$B:$B,$AA$118),\"\",INDEX(BD!$E$2:$E$138,SMALL(IF(BD!$B$2:$B$138=$AA$118,IF(BD!$B$2:$B$138=$AA$118,ROW(BD!$B$2:$B$138)-ROW(BD!$B$2)+1),FALSE),ROWS(BD!$1:9)))))","v":""},{"$f":"IF($AA$118=\"\",\"\",IF(ROWS(BD!$1:9)>COUNTIFS(BD!$B:$B,$AA$118),\"\",INDEX(BD!$F$2:$F$138,SMALL(IF(BD!$B$2:$B$138=$AA$118,IF(BD!$B$2:$B$138=$AA$118,ROW(BD!$B$2:$B$138)-ROW(BD!$B$2)+1),FALSE),ROWS(BD!$1:9)))))","v":""},{"$f":"IF($AA$118=\"\",\"\",IF(ROWS(BD!$1:9)>COUNTIFS(BD!$B:$B,$AA$118),\"\",INDEX(BD!$G$2:$G$138,SMALL(IF(BD!$B$2:$B$138=$AA$118,IF(BD!$B$2:$B$138=$AA$118,ROW(BD!$B$2:$B$138)-ROW(BD!$B$2)+1),FALSE),ROWS(BD!$1:9)))))","v":""},{"$f":"IF($AA$118=\"\",\"\",IF(ROWS(BD!$1:9)>COUNTIFS(BD!$B:$B,$AA$118),\"\",INDEX(BD!$H$2:$H$138,SMALL(IF(BD!$B$2:$B$138=$AA$118,IF(BD!$B$2:$B$138=$AA$118,ROW(BD!$B$2:$B$138)-ROW(BD!$B$2)+1),FALSE),ROWS(BD!$1:9)))))","v":""},null,{"$f":"IF($AG$118=\"\",\"\",IF(ROWS(BD!$1:9)>COUNTIFS(BD!$B:$B,$AG$118),\"\",INDEX(BD!$C$2:$C$138,SMALL(IF(BD!$B$2:$B$138=$AG$118,IF(BD!$B$2:$B$138=$AG$118,ROW(BD!$B$2:$B$138)-ROW(BD!$B$2)+1),FALSE),ROWS(BD!$1:9)))))","v":""},{"$f":"IF($AG$118=\"\",\"\",IF(ROWS(BD!$1:9)>COUNTIFS(BD!$B:$B,$AG$118),\"\",INDEX(BD!$E$2:$E$138,SMALL(IF(BD!$B$2:$B$138=$AG$118,IF(BD!$B$2:$B$138=$AG$118,ROW(BD!$B$2:$B$138)-ROW(BD!$B$2)+1),FALSE),ROWS(BD!$1:9)))))","v":""},{"$f":"IF($AG$118=\"\",\"\",IF(ROWS(BD!$1:9)>COUNTIFS(BD!$B:$B,$AG$118),\"\",INDEX(BD!$F$2:$F$138,SMALL(IF(BD!$B$2:$B$138=$AG$118,IF(BD!$B$2:$B$138=$AG$118,ROW(BD!$B$2:$B$138)-ROW(BD!$B$2)+1),FALSE),ROWS(BD!$1:9)))))","v":""},{"$f":"IF($AG$118=\"\",\"\",IF(ROWS(BD!$1:9)>COUNTIFS(BD!$B:$B,$AG$118),\"\",INDEX(BD!$G$2:$G$138,SMALL(IF(BD!$B$2:$B$138=$AG$118,IF(BD!$B$2:$B$138=$AG$118,ROW(BD!$B$2:$B$138)-ROW(BD!$B$2)+1),FALSE),ROWS(BD!$1:9)))))","v":""},{"$f":"IF($AG$118=\"\",\"\",IF(ROWS(BD!$1:9)>COUNTIFS(BD!$B:$B,$AG$118),\"\",INDEX(BD!$H$2:$H$138,SMALL(IF(BD!$B$2:$B$138=$AG$118,IF(BD!$B$2:$B$138=$AG$118,ROW(BD!$B$2:$B$138)-ROW(BD!$B$2)+1),FALSE),ROWS(BD!$1:9)))))","v":""},null,{"$f":"IF($AM$118=\"\",\"\",IF(ROWS(BD!$1:9)>COUNTIFS(BD!$B:$B,$AM$118),\"\",INDEX(BD!$C$2:$C$138,SMALL(IF(BD!$B$2:$B$138=$AM$118,IF(BD!$B$2:$B$138=$AM$118,ROW(BD!$B$2:$B$138)-ROW(BD!$B$2)+1),FALSE),ROWS(BD!$1:9)))))","v":""},{"$f":"IF($AM$118=\"\",\"\",IF(ROWS(BD!$1:9)>COUNTIFS(BD!$B:$B,$AM$118),\"\",INDEX(BD!$E$2:$E$138,SMALL(IF(BD!$B$2:$B$138=$AM$118,IF(BD!$B$2:$B$138=$AM$118,ROW(BD!$B$2:$B$138)-ROW(BD!$B$2)+1),FALSE),ROWS(BD!$1:9)))))","v":""},{"$f":"IF($AM$118=\"\",\"\",IF(ROWS(BD!$1:9)>COUNTIFS(BD!$B:$B,$AM$118),\"\",INDEX(BD!$F$2:$F$138,SMALL(IF(BD!$B$2:$B$138=$AM$118,IF(BD!$B$2:$B$138=$AM$118,ROW(BD!$B$2:$B$138)-ROW(BD!$B$2)+1),FALSE),ROWS(BD!$1:9)))))","v":""},{"$f":"IF($AM$118=\"\",\"\",IF(ROWS(BD!$1:9)>COUNTIFS(BD!$B:$B,$AM$118),\"\",INDEX(BD!$G$2:$G$138,SMALL(IF(BD!$B$2:$B$138=$AM$118,IF(BD!$B$2:$B$138=$AM$118,ROW(BD!$B$2:$B$138)-ROW(BD!$B$2)+1),FALSE),ROWS(BD!$1:9)))))","v":""},{"$f":"IF($AM$118=\"\",\"\",IF(ROWS(BD!$1:9)>COUNTIFS(BD!$B:$B,$AM$118),\"\",INDEX(BD!$H$2:$H$138,SMALL(IF(BD!$B$2:$B$138=$AM$118,IF(BD!$B$2:$B$138=$AM$118,ROW(BD!$B$2:$B$138)-ROW(BD!$B$2)+1),FALSE),ROWS(BD!$1:9)))))","v":""}]
[null,null,{"$f":"IF($C$118=\"\",\"\",IF(ROWS(BD!$1:10)>COUNTIFS(BD!$B:$B,$C$118),\"\",INDEX(BD!$C$2:$C$138,SMALL(IF(BD!$B$2:$B$138=$C$118,IF(BD!$B$2:$B$138=$C$118,ROW(BD!$B$2:$B$138)-ROW(BD!$B$2)+1),FALSE),ROWS(BD!$1:10)))))","v":""},{"$f":"IF($C$118=\"\",\"\",IF(ROWS(BD!$1:10)>COUNTIFS(BD!$B:$B,$C$118),\"\",INDEX(BD!$E$2:$E$138,SMALL(IF(BD!$B$2:$B$138=$C$118,IF(BD!$B$2:$B$138=$C$118,ROW(BD!$B$2:$B$138)-ROW(BD!$B$2)+1),FALSE),ROWS(BD!$1:10)))))","v":""},{"$f":"IF($C$118=\"\",\"\",IF(ROWS(BD!$1:10)>COUNTIFS(BD!$B:$B,$C$118),\"\",INDEX(BD!$F$2:$F$138,SMALL(IF(BD!$B$2:$B$138=$C$118,IF(BD!$B$2:$B$138=$C$118,ROW(BD!$B$2:$B$138)-ROW(BD!$B$2)+1),FALSE),ROWS(BD!$1:10)))))","v":""},{"$f":"IF($C$118=\"\",\"\",IF(ROWS(BD!$1:10)>COUNTIFS(BD!$B:$B,$C$118),\"\",INDEX(BD!$G$2:$G$138,SMALL(IF(BD!$B$2:$B$138=$C$118,IF(BD!$B$2:$B$138=$C$118,ROW(BD!$B$2:$B$138)-ROW(BD!$B$2)+1),FALSE),ROWS(BD!$1:10)))))","v":""},{"$f":"IF($C$118=\"\",\"\",IF(ROWS(BD!$1:10)>COUNTIFS(BD!$B:$B,$C$118),\"\",INDEX(BD!$H$2:$H$138,SMALL(IF(BD!$B$2:$B$138=$C$118,IF(BD!$B$2:$B$138=$C$118,ROW(BD!$B$2:$B$138)-ROW(BD!$B$2)+1),FALSE),ROWS(BD!$1:10)))))","v":""},null,{"$f":"IF($I$118=\"\",\"\",IF(ROWS(BD!$1:10)>COUNTIFS(BD!$B:$B,$I$118),\"\",INDEX(BD!$C$2:$C$138,SMALL(IF(BD!$B$2:$B$138=$I$118,IF(BD!$B$2:$B$138=$I$118,ROW(BD!$B$2:$B$138)-ROW(BD!$B$2)+1),FALSE),ROWS(BD!$1:10)))))","v":""},{"$f":"IF($I$118=\"\",\"\",IF(ROWS(BD!$1:10)>COUNTIFS(BD!$B:$B,$I$118),\"\",INDEX(BD!$E$2:$E$138,SMALL(IF(BD!$B$2:$B$138=$I$118,IF(BD!$B$2:$B$138=$I$118,ROW(BD!$B$2:$B$138)-ROW(BD!$B$2)+1),FALSE),ROWS(BD!$1:10)))))","v":""},{"$f":"IF($I$118=\"\",\"\",IF(ROWS(BD!$1:10)>COUNTIFS(BD!$B:$B,$I$118),\"\",INDEX(BD!$F$2:$F$138,SMALL(IF(BD!$B$2:$B$138=$I$118,IF(BD!$B$2:$B$138=$I$118,ROW(BD!$B$2:$B$138)-ROW(BD!$B$2)+1),FALSE),ROWS(BD!$1:10)))))","v":""},{"$f":"IF($I$118=\"\",\"\",IF(ROWS(BD!$1:10)>COUNTIFS(BD!$B:$B,$I$118),\"\",INDEX(BD!$G$2:$G$138,SMALL(IF(BD!$B$2:$B$138=$I$118,IF(BD!$B$2:$B$138=$I$118,ROW(BD!$B$2:$B$138)-ROW(BD!$B$2)+1),FALSE),ROWS(BD!$1:10)))))","v":""},{"$f":"IF($I$118=\"\",\"\",IF(ROWS(BD!$1:10)>COUNTIFS(BD!$B:$B,$I$118),\"\",INDEX(BD!$H$2:$H$138,SMALL(IF(BD!$B$2:$B$138=$I$118,IF(BD!$B$2:$B$138=$I$118,ROW(BD!$B$2:$B$138)-ROW(BD!$B$2)+1),FALSE),ROWS(BD!$1:10)))))","v":""},null,{"$f":"IF($O$118=\"\",\"\",IF(ROWS(BD!$1:10)>COUNTIFS(BD!$B:$B,$O$118),\"\",INDEX(BD!$C$2:$C$138,SMALL(IF(BD!$B$2:$B$138=$O$118,IF(BD!$B$2:$B$138=$O$118,ROW(BD!$B$2:$B$138)-ROW(BD!$B$2)+1),FALSE),ROWS(BD!$1:10)))))","v":""},{"$f":"IF($O$118=\"\",\"\",IF(ROWS(BD!$1:10)>COUNTIFS(BD!$B:$B,$O$118),\"\",INDEX(BD!$E$2:$E$138,SMALL(IF(BD!$B$2:$B$138=$O$118,IF(BD!$B$2:$B$138=$O$118,ROW(BD!$B$2:$B$138)-ROW(BD!$B$2)+1),FALSE),ROWS(BD!$1:10)))))","v":""},{"$f":"IF($O$118=\"\",\"\",IF(ROWS(BD!$1:10)>COUNTIFS(BD!$B:$B,$O$118),\"\",INDEX(BD!$F$2:$F$138,SMALL(IF(BD!$B$2:$B$138=$O$118,IF(BD!$B$2:$B$138=$O$118,ROW(BD!$B$2:$B$138)-ROW(BD!$B$2)+1),FALSE),ROWS(BD!$1:10)))))","v":""},{"$f":"IF($O$118=\"\",\"\",IF(ROWS(BD!$1:10)>COUNTIFS(BD!$B:$B,$O$118),\"\",INDEX(BD!$G$2:$G$138,SMALL(IF(BD!$B$2:$B$138=$O$118,IF(BD!$B$2:$B$138=$O$118,ROW(BD!$B$2:$B$138)-ROW(BD!$B$2)+1),FALSE),ROWS(BD!$1:10)))))","v":""},{"$f":"IF($O$118=\"\",\"\",IF(ROWS(BD!$1:10)>COUNTIFS(BD!$B:$B,$O$118),\"\",INDEX(BD!$H$2:$H$138,SMALL(IF(BD!$B$2:$B$138=$O$118,IF(BD!$B$2:$B$138=$O$118,ROW(BD!$B$2:$B$138)-ROW(BD!$B$2)+1),FALSE),ROWS(BD!$1:10)))))","v":""},null,{"$f":"IF($U$118=\"\",\"\",IF(ROWS(BD!$1:10)>COUNTIFS(BD!$B:$B,$U$118),\"\",INDEX(BD!$C$2:$C$138,SMALL(IF(BD!$B$2:$B$138=$U$118,IF(BD!$B$2:$B$138=$U$118,ROW(BD!$B$2:$B$138)-ROW(BD!$B$2)+1),FALSE),ROWS(BD!$1:10)))))","v":""},{"$f":"IF($U$118=\"\",\"\",IF(ROWS(BD!$1:10)>COUNTIFS(BD!$B:$B,$U$118),\"\",INDEX(BD!$E$2:$E$138,SMALL(IF(BD!$B$2:$B$138=$U$118,IF(BD!$B$2:$B$138=$U$118,ROW(BD!$B$2:$B$138)-ROW(BD!$B$2)+1),FALSE),ROWS(BD!$1:10)))))","v":""},{"$f":"IF($U$118=\"\",\"\",IF(ROWS(BD!$1:10)>COUNTIFS(BD!$B:$B,$U$118),\"\",INDEX(BD!$F$2:$F$138,SMALL(IF(BD!$B$2:$B$138=$U$118,IF(BD!$B$2:$B$138=$U$118,ROW(BD!$B$2:$B$138)-ROW(BD!$B$2)+1),FALSE),ROWS(BD!$1:10)))))","v":""},{"$f":"IF($U$118=\"\",\"\",IF(ROWS(BD!$1:10)>COUNTIFS(BD!$B:$B,$U$118),\"\",INDEX(BD!$G$2:$G$138,SMALL(IF(BD!$B$2:$B$138=$U$118,IF(BD!$B$2:$B$138=$U$118,ROW(BD!$B$2:$B$138)-ROW(BD!$B$2)+1),FALSE),ROWS(BD!$1:10)))))","v":""},{"$f":"IF($U$118=\"\",\"\",IF(ROWS(BD!$1:10)>COUNTIFS(BD!$B:$B,$U$118),\"\",INDEX(BD!$H$2:$H$138,SMALL(IF(BD!$B$2:$B$138=$U$118,IF(BD!$B$2:$B$138=$U$118,ROW(BD!$B$2:$B$138)-ROW(BD!$B$2)+1),FALSE),ROWS(BD!$1:10)))))","v":""},null,{"$f":"IF($AA$118=\"\",\"\",IF(ROWS(BD!$1:10)>COUNTIFS(BD!$B:$B,$AA$118),\"\",INDEX(BD!$C$2:$C$138,SMALL(IF(BD!$B$2:$B$138=$AA$118,IF(BD!$B$2:$B$138=$AA$118,ROW(BD!$B$2:$B$138)-ROW(BD!$B$2)+1),FALSE),ROWS(BD!$1:10)))))","v":""},{"$f":"IF($AA$118=\"\",\"\",IF(ROWS(BD!$1:10)>COUNTIFS(BD!$B:$B,$AA$118),\"\",INDEX(BD!$E$2:$E$138,SMALL(IF(BD!$B$2:$B$138=$AA$118,IF(BD!$B$2:$B$138=$AA$118,ROW(BD!$B$2:$B$138)-ROW(BD!$B$2)+1),FALSE),ROWS(BD!$1:10)))))","v":""},{"$f":"IF($AA$118=\"\",\"\",IF(ROWS(BD!$1:10)>COUNTIFS(BD!$B:$B,$AA$118),\"\",INDEX(BD!$F$2:$F$138,SMALL(IF(BD!$B$2:$B$138=$AA$118,IF(BD!$B$2:$B$138=$AA$118,ROW(BD!$B$2:$B$138)-ROW(BD!$B$2)+1),FALSE),ROWS(BD!$1:10)))))","v":""},{"$f":"IF($AA$118=\"\",\"\",IF(ROWS(BD!$1:10)>COUNTIFS(BD!$B:$B,$AA$118),\"\",INDEX(BD!$G$2:$G$138,SMALL(IF(BD!$B$2:$B$138=$AA$118,IF(BD!$B$2:$B$138=$AA$118,ROW(BD!$B$2:$B$138)-ROW(BD!$B$2)+1),FALSE),ROWS(BD!$1:10)))))","v":""},{"$f":"IF($AA$118=\"\",\"\",IF(ROWS(BD!$1:10)>COUNTIFS(BD!$B:$B,$AA$118),\"\",INDEX(BD!$H$2:$H$138,SMALL(IF(BD!$B$2:$B$138=$AA$118,IF(BD!$B$2:$B$138=$AA$118,ROW(BD!$B$2:$B$138)-ROW(BD!$B$2)+1),FALSE),ROWS(BD!$1:10)))))","v":""},null,{"$f":"IF($AG$118=\"\",\"\",IF(ROWS(BD!$1:10)>COUNTIFS(BD!$B:$B,$AG$118),\"\",INDEX(BD!$C$2:$C$138,SMALL(IF(BD!$B$2:$B$138=$AG$118,IF(BD!$B$2:$B$138=$AG$118,ROW(BD!$B$2:$B$138)-ROW(BD!$B$2)+1),FALSE),ROWS(BD!$1:10)))))","v":""},{"$f":"IF($AG$118=\"\",\"\",IF(ROWS(BD!$1:10)>COUNTIFS(BD!$B:$B,$AG$118),\"\",INDEX(BD!$E$2:$E$138,SMALL(IF(BD!$B$2:$B$138=$AG$118,IF(BD!$B$2:$B$138=$AG$118,ROW(BD!$B$2:$B$138)-ROW(BD!$B$2)+1),FALSE),ROWS(BD!$1:10)))))","v":""},{"$f":"IF($AG$118=\"\",\"\",IF(ROWS(BD!$1:10)>COUNTIFS(BD!$B:$B,$AG$118),\"\",INDEX(BD!$F$2:$F$138,SMALL(IF(BD!$B$2:$B$138=$AG$118,IF(BD!$B$2:$B$138=$AG$118,ROW(BD!$B$2:$B$138)-ROW(BD!$B$2)+1),FALSE),ROWS(BD!$1:10)))))","v":""},{"$f":"IF($AG$118=\"\",\"\",IF(ROWS(BD!$1:10)>COUNTIFS(BD!$B:$B,$AG$118),\"\",INDEX(BD!$G$2:$G$138,SMALL(IF(BD!$B$2:$B$138=$AG$118,IF(BD!$B$2:$B$138=$AG$118,ROW(BD!$B$2:$B$138)-ROW(BD!$B$2)+1),FALSE),ROWS(BD!$1:10)))))","v":""},{"$f":"IF($AG$118=\"\",\"\",IF(ROWS(BD!$1:10)>COUNTIFS(BD!$B:$B,$AG$118),\"\",INDEX(BD!$H$2:$H$138,SMALL(IF(BD!$B$2:$B$138=$AG$118,IF(BD!$B$2:$B$138=$AG$118,ROW(BD!$B$2:$B$138)-ROW(BD!$B$2)+1),FALSE),ROWS(BD!$1:10)))))","v":""},null,{"$f":"IF($AM$118=\"\",\"\",IF(ROWS(BD!$1:10)>COUNTIFS(BD!$B:$B,$AM$118),\"\",INDEX(BD!$C$2:$C$138,SMALL(IF(BD!$B$2:$B$138=$AM$118,IF(BD!$B$2:$B$138=$AM$118,ROW(BD!$B$2:$B$138)-ROW(BD!$B$2)+1),FALSE),ROWS(BD!$1:10)))))","v":""},{"$f":"IF($AM$118=\"\",\"\",IF(ROWS(BD!$1:10)>COUNTIFS(BD!$B:$B,$AM$118),\"\",INDEX(BD!$E$2:$E$138,SMALL(IF(BD!$B$2:$B$138=$AM$118,IF(BD!$B$2:$B$138=$AM$118,ROW(BD!$B$2:$B$138)-ROW(BD!$B$2)+1),FALSE),ROWS(BD!$1:10)))))","v":""},{"$f":"IF($AM$118=\"\",\"\",IF(ROWS(BD!$1:10)>COUNTIFS(BD!$B:$B,$AM$118),\"\",INDEX(BD!$F$2:$F$138,SMALL(IF(BD!$B$2:$B$138=$AM$118,IF(BD!$B$2:$B$138=$AM$118,ROW(BD!$B$2:$B$138)-ROW(BD!$B$2)+1),FALSE),ROWS(BD!$1:10)))))","v":""},{"$f":"IF($AM$118=\"\",\"\",IF(ROWS(BD!$1:10)>COUNTIFS(BD!$B:$B,$AM$118),\"\",INDEX(BD!$G$2:$G$138,SMALL(IF(BD!$B$2:$B$138=$AM$118,IF(BD!$B$2:$B$138=$AM$118,ROW(BD!$B$2:$B$138)-ROW(BD!$B$2)+1),FALSE),ROWS(BD!$1:10)))))","v":""},{"$f":"IF($AM$118=\"\",\"\",IF(ROWS(BD!$1:10)>COUNTIFS(BD!$B:$B,$AM$118),\"\",INDEX(BD!$H$2:$H$138,SMALL(IF(BD!$B$2:$B$138=$AM$118,IF(BD!$B$2:$B$138=$AM$118,ROW(BD!$B$2:$B$138)-ROW(BD!$B$2)+1),FALSE),ROWS(BD!$1:10)))))","v":""}]
[null,null,{"$f":"IF($C$118=\"\",\"\",IF(ROWS(BD!$1:11)>COUNTIFS(BD!$B:$B,$C$118),\"\",INDEX(BD!$C$2:$C$138,SMALL(IF(BD!$B$2:$B$138=$C$118,IF(BD!$B$2:$B$138=$C$118,ROW(BD!$B$2:$B$138)-ROW(BD!$B$2)+1),FALSE),ROWS(BD!$1:11)))))","v":""},{"$f":"IF($C$118=\"\",\"\",IF(ROWS(BD!$1:11)>COUNTIFS(BD!$B:$B,$C$118),\"\",INDEX(BD!$E$2:$E$138,SMALL(IF(BD!$B$2:$B$138=$C$118,IF(BD!$B$2:$B$138=$C$118,ROW(BD!$B$2:$B$138)-ROW(BD!$B$2)+1),FALSE),ROWS(BD!$1:11)))))","v":""},{"$f":"IF($C$118=\"\",\"\",IF(ROWS(BD!$1:11)>COUNTIFS(BD!$B:$B,$C$118),\"\",INDEX(BD!$F$2:$F$138,SMALL(IF(BD!$B$2:$B$138=$C$118,IF(BD!$B$2:$B$138=$C$118,ROW(BD!$B$2:$B$138)-ROW(BD!$B$2)+1),FALSE),ROWS(BD!$1:11)))))","v":""},{"$f":"IF($C$118=\"\",\"\",IF(ROWS(BD!$1:11)>COUNTIFS(BD!$B:$B,$C$118),\"\",INDEX(BD!$G$2:$G$138,SMALL(IF(BD!$B$2:$B$138=$C$118,IF(BD!$B$2:$B$138=$C$118,ROW(BD!$B$2:$B$138)-ROW(BD!$B$2)+1),FALSE),ROWS(BD!$1:11)))))","v":""},{"$f":"IF($C$118=\"\",\"\",IF(ROWS(BD!$1:11)>COUNTIFS(BD!$B:$B,$C$118),\"\",INDEX(BD!$H$2:$H$138,SMALL(IF(BD!$B$2:$B$138=$C$118,IF(BD!$B$2:$B$138=$C$118,ROW(BD!$B$2:$B$138)-ROW(BD!$B$2)+1),FALSE),ROWS(BD!$1:11)))))","v":""},null,{"$f":"IF($I$118=\"\",\"\",IF(ROWS(BD!$1:11)>COUNTIFS(BD!$B:$B,$I$118),\"\",INDEX(BD!$C$2:$C$138,SMALL(IF(BD!$B$2:$B$138=$I$118,IF(BD!$B$2:$B$138=$I$118,ROW(BD!$B$2:$B$138)-ROW(BD!$B$2)+1),FALSE),ROWS(BD!$1:11)))))","v":""},{"$f":"IF($I$118=\"\",\"\",IF(ROWS(BD!$1:11)>COUNTIFS(BD!$B:$B,$I$118),\"\",INDEX(BD!$E$2:$E$138,SMALL(IF(BD!$B$2:$B$138=$I$118,IF(BD!$B$2:$B$138=$I$118,ROW(BD!$B$2:$B$138)-ROW(BD!$B$2)+1),FALSE),ROWS(BD!$1:11)))))","v":""},{"$f":"IF($I$118=\"\",\"\",IF(ROWS(BD!$1:11)>COUNTIFS(BD!$B:$B,$I$118),\"\",INDEX(BD!$F$2:$F$138,SMALL(IF(BD!$B$2:$B$138=$I$118,IF(BD!$B$2:$B$138=$I$118,ROW(BD!$B$2:$B$138)-ROW(BD!$B$2)+1),FALSE),ROWS(BD!$1:11)))))","v":""},{"$f":"IF($I$118=\"\",\"\",IF(ROWS(BD!$1:11)>COUNTIFS(BD!$B:$B,$I$118),\"\",INDEX(BD!$G$2:$G$138,SMALL(IF(BD!$B$2:$B$138=$I$118,IF(BD!$B$2:$B$138=$I$118,ROW(BD!$B$2:$B$138)-ROW(BD!$B$2)+1),FALSE),ROWS(BD!$1:11)))))","v":""},{"$f":"IF($I$118=\"\",\"\",IF(ROWS(BD!$1:11)>COUNTIFS(BD!$B:$B,$I$118),\"\",INDEX(BD!$H$2:$H$138,SMALL(IF(BD!$B$2:$B$138=$I$118,IF(BD!$B$2:$B$138=$I$118,ROW(BD!$B$2:$B$138)-ROW(BD!$B$2)+1),FALSE),ROWS(BD!$1:11)))))","v":""},null,{"$f":"IF($O$118=\"\",\"\",IF(ROWS(BD!$1:11)>COUNTIFS(BD!$B:$B,$O$118),\"\",INDEX(BD!$C$2:$C$138,SMALL(IF(BD!$B$2:$B$138=$O$118,IF(BD!$B$2:$B$138=$O$118,ROW(BD!$B$2:$B$138)-ROW(BD!$B$2)+1),FALSE),ROWS(BD!$1:11)))))","v":""},{"$f":"IF($O$118=\"\",\"\",IF(ROWS(BD!$1:11)>COUNTIFS(BD!$B:$B,$O$118),\"\",INDEX(BD!$E$2:$E$138,SMALL(IF(BD!$B$2:$B$138=$O$118,IF(BD!$B$2:$B$138=$O$118,ROW(BD!$B$2:$B$138)-ROW(BD!$B$2)+1),FALSE),ROWS(BD!$1:11)))))","v":""},{"$f":"IF($O$118=\"\",\"\",IF(ROWS(BD!$1:11)>COUNTIFS(BD!$B:$B,$O$118),\"\",INDEX(BD!$F$2:$F$138,SMALL(IF(BD!$B$2:$B$138=$O$118,IF(BD!$B$2:$B$138=$O$118,ROW(BD!$B$2:$B$138)-ROW(BD!$B$2)+1),FALSE),ROWS(BD!$1:11)))))","v":""},{"$f":"IF($O$118=\"\",\"\",IF(ROWS(BD!$1:11)>COUNTIFS(BD!$B:$B,$O$118),\"\",INDEX(BD!$G$2:$G$138,SMALL(IF(BD!$B$2:$B$138=$O$118,IF(BD!$B$2:$B$138=$O$118,ROW(BD!$B$2:$B$138)-ROW(BD!$B$2)+1),FALSE),ROWS(BD!$1:11)))))","v":""},{"$f":"IF($O$118=\"\",\"\",IF(ROWS(BD!$1:11)>COUNTIFS(BD!$B:$B,$O$118),\"\",INDEX(BD!$H$2:$H$138,SMALL(IF(BD!$B$2:$B$138=$O$118,IF(BD!$B$2:$B$138=$O$118,ROW(BD!$B$2:$B$138)-ROW(BD!$B$2)+1),FALSE),ROWS(BD!$1:11)))))","v":""},null,{"$f":"IF($U$118=\"\",\"\",IF(ROWS(BD!$1:11)>COUNTIFS(BD!$B:$B,$U$118),\"\",INDEX(BD!$C$2:$C$138,SMALL(IF(BD!$B$2:$B$138=$U$118,IF(BD!$B$2:$B$138=$U$118,ROW(BD!$B$2:$B$138)-ROW(BD!$B$2)+1),FALSE),ROWS(BD!$1:11)))))","v":""},{"$f":"IF($U$118=\"\",\"\",IF(ROWS(BD!$1:11)>COUNTIFS(BD!$B:$B,$U$118),\"\",INDEX(BD!$E$2:$E$138,SMALL(IF(BD!$B$2:$B$138=$U$118,IF(BD!$B$2:$B$138=$U$118,ROW(BD!$B$2:$B$138)-ROW(BD!$B$2)+1),FALSE),ROWS(BD!$1:11)))))","v":""},{"$f":"IF($U$118=\"\",\"\",IF(ROWS(BD!$1:11)>COUNTIFS(BD!$B:$B,$U$118),\"\",INDEX(BD!$F$2:$F$138,SMALL(IF(BD!$B$2:$B$138=$U$118,IF(BD!$B$2:$B$138=$U$118,ROW(BD!$B$2:$B$138)-ROW(BD!$B$2)+1),FALSE),ROWS(BD!$1:11)))))","v":""},{"$f":"IF($U$118=\"\",\"\",IF(ROWS(BD!$1:11)>COUNTIFS(BD!$B:$B,$U$118),\"\",INDEX(BD!$G$2:$G$138,SMALL(IF(BD!$B$2:$B$138=$U$118,IF(BD!$B$2:$B$138=$U$118,ROW(BD!$B$2:$B$138)-ROW(BD!$B$2)+1),FALSE),ROWS(BD!$1:11)))))","v":""},{"$f":"IF($U$118=\"\",\"\",IF(ROWS(BD!$1:11)>COUNTIFS(BD!$B:$B,$U$118),\"\",INDEX(BD!$H$2:$H$138,SMALL(IF(BD!$B$2:$B$138=$U$118,IF(BD!$B$2:$B$138=$U$118,ROW(BD!$B$2:$B$138)-ROW(BD!$B$2)+1),FALSE),ROWS(BD!$1:11)))))","v":""},null,{"$f":"IF($AA$118=\"\",\"\",IF(ROWS(BD!$1:11)>COUNTIFS(BD!$B:$B,$AA$118),\"\",INDEX(BD!$C$2:$C$138,SMALL(IF(BD!$B$2:$B$138=$AA$118,IF(BD!$B$2:$B$138=$AA$118,ROW(BD!$B$2:$B$138)-ROW(BD!$B$2)+1),FALSE),ROWS(BD!$1:11)))))","v":""},{"$f":"IF($AA$118=\"\",\"\",IF(ROWS(BD!$1:11)>COUNTIFS(BD!$B:$B,$AA$118),\"\",INDEX(BD!$E$2:$E$138,SMALL(IF(BD!$B$2:$B$138=$AA$118,IF(BD!$B$2:$B$138=$AA$118,ROW(BD!$B$2:$B$138)-ROW(BD!$B$2)+1),FALSE),ROWS(BD!$1:11)))))","v":""},{"$f":"IF($AA$118=\"\",\"\",IF(ROWS(BD!$1:11)>COUNTIFS(BD!$B:$B,$AA$118),\"\",INDEX(BD!$F$2:$F$138,SMALL(IF(BD!$B$2:$B$138=$AA$118,IF(BD!$B$2:$B$138=$AA$118,ROW(BD!$B$2:$B$138)-ROW(BD!$B$2)+1),FALSE),ROWS(BD!$1:11)))))","v":""},{"$f":"IF($AA$118=\"\",\"\",IF(ROWS(BD!$1:11)>COUNTIFS(BD!$B:$B,$AA$118),\"\",INDEX(BD!$G$2:$G$138,SMALL(IF(BD!$B$2:$B$138=$AA$118,IF(BD!$B$2:$B$138=$AA$118,ROW(BD!$B$2:$B$138)-ROW(BD!$B$2)+1),FALSE),ROWS(BD!$1:11)))))","v":""},{"$f":"IF($AA$118=\"\",\"\",IF(ROWS(BD!$1:11)>COUNTIFS(BD!$B:$B,$AA$118),\"\",INDEX(BD!$H$2:$H$138,SMALL(IF(BD!$B$2:$B$138=$AA$118,IF(BD!$B$2:$B$138=$AA$118,ROW(BD!$B$2:$B$138)-ROW(BD!$B$2)+1),FALSE),ROWS(BD!$1:11)))))","v":""},null,{"$f":"IF($AG$118=\"\",\"\",IF(ROWS(BD!$1:11)>COUNTIFS(BD!$B:$B,$AG$118),\"\",INDEX(BD!$C$2:$C$138,SMALL(IF(BD!$B$2:$B$138=$AG$118,IF(BD!$B$2:$B$138=$AG$118,ROW(BD!$B$2:$B$138)-ROW(BD!$B$2)+1),FALSE),ROWS(BD!$1:11)))))","v":""},{"$f":"IF($AG$118=\"\",\"\",IF(ROWS(BD!$1:11)>COUNTIFS(BD!$B:$B,$AG$118),\"\",INDEX(BD!$E$2:$E$138,SMALL(IF(BD!$B$2:$B$138=$AG$118,IF(BD!$B$2:$B$138=$AG$118,ROW(BD!$B$2:$B$138)-ROW(BD!$B$2)+1),FALSE),ROWS(BD!$1:11)))))","v":""},{"$f":"IF($AG$118=\"\",\"\",IF(ROWS(BD!$1:11)>COUNTIFS(BD!$B:$B,$AG$118),\"\",INDEX(BD!$F$2:$F$138,SMALL(IF(BD!$B$2:$B$138=$AG$118,IF(BD!$B$2:$B$138=$AG$118,ROW(BD!$B$2:$B$138)-ROW(BD!$B$2)+1),FALSE),ROWS(BD!$1:11)))))","v":""},{"$f":"IF($AG$118=\"\",\"\",IF(ROWS(BD!$1:11)>COUNTIFS(BD!$B:$B,$AG$118),\"\",INDEX(BD!$G$2:$G$138,SMALL(IF(BD!$B$2:$B$138=$AG$118,IF(BD!$B$2:$B$138=$AG$118,ROW(BD!$B$2:$B$138)-ROW(BD!$B$2)+1),FALSE),ROWS(BD!$1:11)))))","v":""},{"$f":"IF($AG$118=\"\",\"\",IF(ROWS(BD!$1:11)>COUNTIFS(BD!$B:$B,$AG$118),\"\",INDEX(BD!$H$2:$H$138,SMALL(IF(BD!$B$2:$B$138=$AG$118,IF(BD!$B$2:$B$138=$AG$118,ROW(BD!$B$2:$B$138)-ROW(BD!$B$2)+1),FALSE),ROWS(BD!$1:11)))))","v":""},null,{"$f":"IF($AM$118=\"\",\"\",IF(ROWS(BD!$1:11)>COUNTIFS(BD!$B:$B,$AM$118),\"\",INDEX(BD!$C$2:$C$138,SMALL(IF(BD!$B$2:$B$138=$AM$118,IF(BD!$B$2:$B$138=$AM$118,ROW(BD!$B$2:$B$138)-ROW(BD!$B$2)+1),FALSE),ROWS(BD!$1:11)))))","v":""},{"$f":"IF($AM$118=\"\",\"\",IF(ROWS(BD!$1:11)>COUNTIFS(BD!$B:$B,$AM$118),\"\",INDEX(BD!$E$2:$E$138,SMALL(IF(BD!$B$2:$B$138=$AM$118,IF(BD!$B$2:$B$138=$AM$118,ROW(BD!$B$2:$B$138)-ROW(BD!$B$2)+1),FALSE),ROWS(BD!$1:11)))))","v":""},{"$f":"IF($AM$118=\"\",\"\",IF(ROWS(BD!$1:11)>COUNTIFS(BD!$B:$B,$AM$118),\"\",INDEX(BD!$F$2:$F$138,SMALL(IF(BD!$B$2:$B$138=$AM$118,IF(BD!$B$2:$B$138=$AM$118,ROW(BD!$B$2:$B$138)-ROW(BD!$B$2)+1),FALSE),ROWS(BD!$1:11)))))","v":""},{"$f":"IF($AM$118=\"\",\"\",IF(ROWS(BD!$1:11)>COUNTIFS(BD!$B:$B,$AM$118),\"\",INDEX(BD!$G$2:$G$138,SMALL(IF(BD!$B$2:$B$138=$AM$118,IF(BD!$B$2:$B$138=$AM$118,ROW(BD!$B$2:$B$138)-ROW(BD!$B$2)+1),FALSE),ROWS(BD!$1:11)))))","v":""},{"$f":"IF($AM$118=\"\",\"\",IF(ROWS(BD!$1:11)>COUNTIFS(BD!$B:$B,$AM$118),\"\",INDEX(BD!$H$2:$H$138,SMALL(IF(BD!$B$2:$B$138=$AM$118,IF(BD!$B$2:$B$138=$AM$118,ROW(BD!$B$2:$B$138)-ROW(BD!$B$2)+1),FALSE),ROWS(BD!$1:11)))))","v":""}]
[null,null,{"$f":"IF($C$118=\"\",\"\",IF(ROWS(BD!$1:12)>COUNTIFS(BD!$B:$B,$C$118),\"\",INDEX(BD!$C$2:$C$138,SMALL(IF(BD!$B$2:$B$138=$C$118,IF(BD!$B$2:$B$138=$C$118,ROW(BD!$B$2:$B$138)-ROW(BD!$B$2)+1),FALSE),ROWS(BD!$1:12)))))","v":""},{"$f":"IF($C$118=\"\",\"\",IF(ROWS(BD!$1:12)>COUNTIFS(BD!$B:$B,$C$118),\"\",INDEX(BD!$E$2:$E$138,SMALL(IF(BD!$B$2:$B$138=$C$118,IF(BD!$B$2:$B$138=$C$118,ROW(BD!$B$2:$B$138)-ROW(BD!$B$2)+1),FALSE),ROWS(BD!$1:12)))))","v":""},{"$f":"IF($C$118=\"\",\"\",IF(ROWS(BD!$1:12)>COUNTIFS(BD!$B:$B,$C$118),\"\",INDEX(BD!$F$2:$F$138,SMALL(IF(BD!$B$2:$B$138=$C$118,IF(BD!$B$2:$B$138=$C$118,ROW(BD!$B$2:$B$138)-ROW(BD!$B$2)+1),FALSE),ROWS(BD!$1:12)))))","v":""},{"$f":"IF($C$118=\"\",\"\",IF(ROWS(BD!$1:12)>COUNTIFS(BD!$B:$B,$C$118),\"\",INDEX(BD!$G$2:$G$138,SMALL(IF(BD!$B$2:$B$138=$C$118,IF(BD!$B$2:$B$138=$C$118,ROW(BD!$B$2:$B$138)-ROW(BD!$B$2)+1),FALSE),ROWS(BD!$1:12)))))","v":""},{"$f":"IF($C$118=\"\",\"\",IF(ROWS(BD!$1:12)>COUNTIFS(BD!$B:$B,$C$118),\"\",INDEX(BD!$H$2:$H$138,SMALL(IF(BD!$B$2:$B$138=$C$118,IF(BD!$B$2:$B$138=$C$118,ROW(BD!$B$2:$B$138)-ROW(BD!$B$2)+1),FALSE),ROWS(BD!$1:12)))))","v":""},null,{"$f":"IF($I$118=\"\",\"\",IF(ROWS(BD!$1:12)>COUNTIFS(BD!$B:$B,$I$118),\"\",INDEX(BD!$C$2:$C$138,SMALL(IF(BD!$B$2:$B$138=$I$118,IF(BD!$B$2:$B$138=$I$118,ROW(BD!$B$2:$B$138)-ROW(BD!$B$2)+1),FALSE),ROWS(BD!$1:12)))))","v":""},{"$f":"IF($I$118=\"\",\"\",IF(ROWS(BD!$1:12)>COUNTIFS(BD!$B:$B,$I$118),\"\",INDEX(BD!$E$2:$E$138,SMALL(IF(BD!$B$2:$B$138=$I$118,IF(BD!$B$2:$B$138=$I$118,ROW(BD!$B$2:$B$138)-ROW(BD!$B$2)+1),FALSE),ROWS(BD!$1:12)))))","v":""},{"$f":"IF($I$118=\"\",\"\",IF(ROWS(BD!$1:12)>COUNTIFS(BD!$B:$B,$I$118),\"\",INDEX(BD!$F$2:$F$138,SMALL(IF(BD!$B$2:$B$138=$I$118,IF(BD!$B$2:$B$138=$I$118,ROW(BD!$B$2:$B$138)-ROW(BD!$B$2)+1),FALSE),ROWS(BD!$1:12)))))","v":""},{"$f":"IF($I$118=\"\",\"\",IF(ROWS(BD!$1:12)>COUNTIFS(BD!$B:$B,$I$118),\"\",INDEX(BD!$G$2:$G$138,SMALL(IF(BD!$B$2:$B$138=$I$118,IF(BD!$B$2:$B$138=$I$118,ROW(BD!$B$2:$B$138)-ROW(BD!$B$2)+1),FALSE),ROWS(BD!$1:12)))))","v":""},{"$f":"IF($I$118=\"\",\"\",IF(ROWS(BD!$1:12)>COUNTIFS(BD!$B:$B,$I$118),\"\",INDEX(BD!$H$2:$H$138,SMALL(IF(BD!$B$2:$B$138=$I$118,IF(BD!$B$2:$B$138=$I$118,ROW(BD!$B$2:$B$138)-ROW(BD!$B$2)+1),FALSE),ROWS(BD!$1:12)))))","v":""},null,{"$f":"IF($O$118=\"\",\"\",IF(ROWS(BD!$1:12)>COUNTIFS(BD!$B:$B,$O$118),\"\",INDEX(BD!$C$2:$C$138,SMALL(IF(BD!$B$2:$B$138=$O$118,IF(BD!$B$2:$B$138=$O$118,ROW(BD!$B$2:$B$138)-ROW(BD!$B$2)+1),FALSE),ROWS(BD!$1:12)))))","v":""},{"$f":"IF($O$118=\"\",\"\",IF(ROWS(BD!$1:12)>COUNTIFS(BD!$B:$B,$O$118),\"\",INDEX(BD!$E$2:$E$138,SMALL(IF(BD!$B$2:$B$138=$O$118,IF(BD!$B$2:$B$138=$O$118,ROW(BD!$B$2:$B$138)-ROW(BD!$B$2)+1),FALSE),ROWS(BD!$1:12)))))","v":""},{"$f":"IF($O$118=\"\",\"\",IF(ROWS(BD!$1:12)>COUNTIFS(BD!$B:$B,$O$118),\"\",INDEX(BD!$F$2:$F$138,SMALL(IF(BD!$B$2:$B$138=$O$118,IF(BD!$B$2:$B$138=$O$118,ROW(BD!$B$2:$B$138)-ROW(BD!$B$2)+1),FALSE),ROWS(BD!$1:12)))))","v":""},{"$f":"IF($O$118=\"\",\"\",IF(ROWS(BD!$1:12)>COUNTIFS(BD!$B:$B,$O$118),\"\",INDEX(BD!$G$2:$G$138,SMALL(IF(BD!$B$2:$B$138=$O$118,IF(BD!$B$2:$B$138=$O$118,ROW(BD!$B$2:$B$138)-ROW(BD!$B$2)+1),FALSE),ROWS(BD!$1:12)))))","v":""},{"$f":"IF($O$118=\"\",\"\",IF(ROWS(BD!$1:12)>COUNTIFS(BD!$B:$B,$O$118),\"\",INDEX(BD!$H$2:$H$138,SMALL(IF(BD!$B$2:$B$138=$O$118,IF(BD!$B$2:$B$138=$O$118,ROW(BD!$B$2:$B$138)-ROW(BD!$B$2)+1),FALSE),ROWS(BD!$1:12)))))","v":""},null,{"$f":"IF($U$118=\"\",\"\",IF(ROWS(BD!$1:12)>COUNTIFS(BD!$B:$B,$U$118),\"\",INDEX(BD!$C$2:$C$138,SMALL(IF(BD!$B$2:$B$138=$U$118,IF(BD!$B$2:$B$138=$U$118,ROW(BD!$B$2:$B$138)-ROW(BD!$B$2)+1),FALSE),ROWS(BD!$1:12)))))","v":""},{"$f":"IF($U$118=\"\",\"\",IF(ROWS(BD!$1:12)>COUNTIFS(BD!$B:$B,$U$118),\"\",INDEX(BD!$E$2:$E$138,SMALL(IF(BD!$B$2:$B$138=$U$118,IF(BD!$B$2:$B$138=$U$118,ROW(BD!$B$2:$B$138)-ROW(BD!$B$2)+1),FALSE),ROWS(BD!$1:12)))))","v":""},{"$f":"IF($U$118=\"\",\"\",IF(ROWS(BD!$1:12)>COUNTIFS(BD!$B:$B,$U$118),\"\",INDEX(BD!$F$2:$F$138,SMALL(IF(BD!$B$2:$B$138=$U$118,IF(BD!$B$2:$B$138=$U$118,ROW(BD!$B$2:$B$138)-ROW(BD!$B$2)+1),FALSE),ROWS(BD!$1:12)))))","v":""},{"$f":"IF($U$118=\"\",\"\",IF(ROWS(BD!$1:12)>COUNTIFS(BD!$B:$B,$U$118),\"\",INDEX(BD!$G$2:$G$138,SMALL(IF(BD!$B$2:$B$138=$U$118,IF(BD!$B$2:$B$138=$U$118,ROW(BD!$B$2:$B$138)-ROW(BD!$B$2)+1),FALSE),ROWS(BD!$1:12)))))","v":""},{"$f":"IF($U$118=\"\",\"\",IF(ROWS(BD!$1:12)>COUNTIFS(BD!$B:$B,$U$118),\"\",INDEX(BD!$H$2:$H$138,SMALL(IF(BD!$B$2:$B$138=$U$118,IF(BD!$B$2:$B$138=$U$118,ROW(BD!$B$2:$B$138)-ROW(BD!$B$2)+1),FALSE),ROWS(BD!$1:12)))))","v":""},null,{"$f":"IF($AA$118=\"\",\"\",IF(ROWS(BD!$1:12)>COUNTIFS(BD!$B:$B,$AA$118),\"\",INDEX(BD!$C$2:$C$138,SMALL(IF(BD!$B$2:$B$138=$AA$118,IF(BD!$B$2:$B$138=$AA$118,ROW(BD!$B$2:$B$138)-ROW(BD!$B$2)+1),FALSE),ROWS(BD!$1:12)))))","v":""},{"$f":"IF($AA$118=\"\",\"\",IF(ROWS(BD!$1:12)>COUNTIFS(BD!$B:$B,$AA$118),\"\",INDEX(BD!$E$2:$E$138,SMALL(IF(BD!$B$2:$B$138=$AA$118,IF(BD!$B$2:$B$138=$AA$118,ROW(BD!$B$2:$B$138)-ROW(BD!$B$2)+1),FALSE),ROWS(BD!$1:12)))))","v":""},{"$f":"IF($AA$118=\"\",\"\",IF(ROWS(BD!$1:12)>COUNTIFS(BD!$B:$B,$AA$118),\"\",INDEX(BD!$F$2:$F$138,SMALL(IF(BD!$B$2:$B$138=$AA$118,IF(BD!$B$2:$B$138=$AA$118,ROW(BD!$B$2:$B$138)-ROW(BD!$B$2)+1),FALSE),ROWS(BD!$1:12)))))","v":""},{"$f":"IF($AA$118=\"\",\"\",IF(ROWS(BD!$1:12)>COUNTIFS(BD!$B:$B,$AA$118),\"\",INDEX(BD!$G$2:$G$138,SMALL(IF(BD!$B$2:$B$138=$AA$118,IF(BD!$B$2:$B$138=$AA$118,ROW(BD!$B$2:$B$138)-ROW(BD!$B$2)+1),FALSE),ROWS(BD!$1:12)))))","v":""},{"$f":"IF($AA$118=\"\",\"\",IF(ROWS(BD!$1:12)>COUNTIFS(BD!$B:$B,$AA$118),\"\",INDEX(BD!$H$2:$H$138,SMALL(IF(BD!$B$2:$B$138=$AA$118,IF(BD!$B$2:$B$138=$AA$118,ROW(BD!$B$2:$B$138)-ROW(BD!$B$2)+1),FALSE),ROWS(BD!$1:12)))))","v":""},null,{"$f":"IF($AG$118=\"\",\"\",IF(ROWS(BD!$1:12)>COUNTIFS(BD!$B:$B,$AG$118),\"\",INDEX(BD!$C$2:$C$138,SMALL(IF(BD!$B$2:$B$138=$AG$118,IF(BD!$B$2:$B$138=$AG$118,ROW(BD!$B$2:$B$138)-ROW(BD!$B$2)+1),FALSE),ROWS(BD!$1:12)))))","v":""},{"$f":"IF($AG$118=\"\",\"\",IF(ROWS(BD!$1:12)>COUNTIFS(BD!$B:$B,$AG$118),\"\",INDEX(BD!$E$2:$E$138,SMALL(IF(BD!$B$2:$B$138=$AG$118,IF(BD!$B$2:$B$138=$AG$118,ROW(BD!$B$2:$B$138)-ROW(BD!$B$2)+1),FALSE),ROWS(BD!$1:12)))))","v":""},{"$f":"IF($AG$118=\"\",\"\",IF(ROWS(BD!$1:12)>COUNTIFS(BD!$B:$B,$AG$118),\"\",INDEX(BD!$F$2:$F$138,SMALL(IF(BD!$B$2:$B$138=$AG$118,IF(BD!$B$2:$B$138=$AG$118,ROW(BD!$B$2:$B$138)-ROW(BD!$B$2)+1),FALSE),ROWS(BD!$1:12)))))","v":""},{"$f":"IF($AG$118=\"\",\"\",IF(ROWS(BD!$1:12)>COUNTIFS(BD!$B:$B,$AG$118),\"\",INDEX(BD!$G$2:$G$138,SMALL(IF(BD!$B$2:$B$138=$AG$118,IF(BD!$B$2:$B$138=$AG$118,ROW(BD!$B$2:$B$138)-ROW(BD!$B$2)+1),FALSE),ROWS(BD!$1:12)))))","v":""},{"$f":"IF($AG$118=\"\",\"\",IF(ROWS(BD!$1:12)>COUNTIFS(BD!$B:$B,$AG$118),\"\",INDEX(BD!$H$2:$H$138,SMALL(IF(BD!$B$2:$B$138=$AG$118,IF(BD!$B$2:$B$138=$AG$118,ROW(BD!$B$2:$B$138)-ROW(BD!$B$2)+1),FALSE),ROWS(BD!$1:12)))))","v":""},null,{"$f":"IF($AM$118=\"\",\"\",IF(ROWS(BD!$1:12)>COUNTIFS(BD!$B:$B,$AM$118),\"\",INDEX(BD!$C$2:$C$138,SMALL(IF(BD!$B$2:$B$138=$AM$118,IF(BD!$B$2:$B$138=$AM$118,ROW(BD!$B$2:$B$138)-ROW(BD!$B$2)+1),FALSE),ROWS(BD!$1:12)))))","v":""},{"$f":"IF($AM$118=\"\",\"\",IF(ROWS(BD!$1:12)>COUNTIFS(BD!$B:$B,$AM$118),\"\",INDEX(BD!$E$2:$E$138,SMALL(IF(BD!$B$2:$B$138=$AM$118,IF(BD!$B$2:$B$138=$AM$118,ROW(BD!$B$2:$B$138)-ROW(BD!$B$2)+1),FALSE),ROWS(BD!$1:12)))))","v":""},{"$f":"IF($AM$118=\"\",\"\",IF(ROWS(BD!$1:12)>COUNTIFS(BD!$B:$B,$AM$118),\"\",INDEX(BD!$F$2:$F$138,SMALL(IF(BD!$B$2:$B$138=$AM$118,IF(BD!$B$2:$B$138=$AM$118,ROW(BD!$B$2:$B$138)-ROW(BD!$B$2)+1),FALSE),ROWS(BD!$1:12)))))","v":""},{"$f":"IF($AM$118=\"\",\"\",IF(ROWS(BD!$1:12)>COUNTIFS(BD!$B:$B,$AM$118),\"\",INDEX(BD!$G$2:$G$138,SMALL(IF(BD!$B$2:$B$138=$AM$118,IF(BD!$B$2:$B$138=$AM$118,ROW(BD!$B$2:$B$138)-ROW(BD!$B$2)+1),FALSE),ROWS(BD!$1:12)))))","v":""},{"$f":"IF($AM$118=\"\",\"\",IF(ROWS(BD!$1:12)>COUNTIFS(BD!$B:$B,$AM$118),\"\",INDEX(BD!$H$2:$H$138,SMALL(IF(BD!$B$2:$B$138=$AM$118,IF(BD!$B$2:$B$138=$AM$118,ROW(BD!$B$2:$B$138)-ROW(BD!$B$2)+1),FALSE),ROWS(BD!$1:12)))))","v":""}]
[null,null,{"$f":"IF($C$118=\"\",\"\",IF(ROWS(BD!$1:13)>COUNTIFS(BD!$B:$B,$C$118),\"\",INDEX(BD!$C$2:$C$138,SMALL(IF(BD!$B$2:$B$138=$C$118,IF(BD!$B$2:$B$138=$C$118,ROW(BD!$B$2:$B$138)-ROW(BD!$B$2)+1),FALSE),ROWS(BD!$1:13)))))","v":""},{"$f":"IF($C$118=\"\",\"\",IF(ROWS(BD!$1:13)>COUNTIFS(BD!$B:$B,$C$118),\"\",INDEX(BD!$E$2:$E$138,SMALL(IF(BD!$B$2:$B$138=$C$118,IF(BD!$B$2:$B$138=$C$118,ROW(BD!$B$2:$B$138)-ROW(BD!$B$2)+1),FALSE),ROWS(BD!$1:13)))))","v":""},{"$f":"IF($C$118=\"\",\"\",IF(ROWS(BD!$1:13)>COUNTIFS(BD!$B:$B,$C$118),\"\",INDEX(BD!$F$2:$F$138,SMALL(IF(BD!$B$2:$B$138=$C$118,IF(BD!$B$2:$B$138=$C$118,ROW(BD!$B$2:$B$138)-ROW(BD!$B$2)+1),FALSE),ROWS(BD!$1:13)))))","v":""},{"$f":"IF($C$118=\"\",\"\",IF(ROWS(BD!$1:13)>COUNTIFS(BD!$B:$B,$C$118),\"\",INDEX(BD!$G$2:$G$138,SMALL(IF(BD!$B$2:$B$138=$C$118,IF(BD!$B$2:$B$138=$C$118,ROW(BD!$B$2:$B$138)-ROW(BD!$B$2)+1),FALSE),ROWS(BD!$1:13)))))","v":""},{"$f":"IF($C$118=\"\",\"\",IF(ROWS(BD!$1:13)>COUNTIFS(BD!$B:$B,$C$118),\"\",INDEX(BD!$H$2:$H$138,SMALL(IF(BD!$B$2:$B$138=$C$118,IF(BD!$B$2:$B$138=$C$118,ROW(BD!$B$2:$B$138)-ROW(BD!$B$2)+1),FALSE),ROWS(BD!$1:13)))))","v":""},null,{"$f":"IF($I$118=\"\",\"\",IF(ROWS(BD!$1:13)>COUNTIFS(BD!$B:$B,$I$118),\"\",INDEX(BD!$C$2:$C$138,SMALL(IF(BD!$B$2:$B$138=$I$118,IF(BD!$B$2:$B$138=$I$118,ROW(BD!$B$2:$B$138)-ROW(BD!$B$2)+1),FALSE),ROWS(BD!$1:13)))))","v":""},{"$f":"IF($I$118=\"\",\"\",IF(ROWS(BD!$1:13)>COUNTIFS(BD!$B:$B,$I$118),\"\",INDEX(BD!$E$2:$E$138,SMALL(IF(BD!$B$2:$B$138=$I$118,IF(BD!$B$2:$B$138=$I$118,ROW(BD!$B$2:$B$138)-ROW(BD!$B$2)+1),FALSE),ROWS(BD!$1:13)))))","v":""},{"$f":"IF($I$118=\"\",\"\",IF(ROWS(BD!$1:13)>COUNTIFS(BD!$B:$B,$I$118),\"\",INDEX(BD!$F$2:$F$138,SMALL(IF(BD!$B$2:$B$138=$I$118,IF(BD!$B$2:$B$138=$I$118,ROW(BD!$B$2:$B$138)-ROW(BD!$B$2)+1),FALSE),ROWS(BD!$1:13)))))","v":""},{"$f":"IF($I$118=\"\",\"\",IF(ROWS(BD!$1:13)>COUNTIFS(BD!$B:$B,$I$118),\"\",INDEX(BD!$G$2:$G$138,SMALL(IF(BD!$B$2:$B$138=$I$118,IF(BD!$B$2:$B$138=$I$118,ROW(BD!$B$2:$B$138)-ROW(BD!$B$2)+1),FALSE),ROWS(BD!$1:13)))))","v":""},{"$f":"IF($I$118=\"\",\"\",IF(ROWS(BD!$1:13)>COUNTIFS(BD!$B:$B,$I$118),\"\",INDEX(BD!$H$2:$H$138,SMALL(IF(BD!$B$2:$B$138=$I$118,IF(BD!$B$2:$B$138=$I$118,ROW(BD!$B$2:$B$138)-ROW(BD!$B$2)+1),FALSE),ROWS(BD!$1:13)))))","v":""},null,{"$f":"IF($O$118=\"\",\"\",IF(ROWS(BD!$1:13)>COUNTIFS(BD!$B:$B,$O$118),\"\",INDEX(BD!$C$2:$C$138,SMALL(IF(BD!$B$2:$B$138=$O$118,IF(BD!$B$2:$B$138=$O$118,ROW(BD!$B$2:$B$138)-ROW(BD!$B$2)+1),FALSE),ROWS(BD!$1:13)))))","v":""},{"$f":"IF($O$118=\"\",\"\",IF(ROWS(BD!$1:13)>COUNTIFS(BD!$B:$B,$O$118),\"\",INDEX(BD!$E$2:$E$138,SMALL(IF(BD!$B$2:$B$138=$O$118,IF(BD!$B$2:$B$138=$O$118,ROW(BD!$B$2:$B$138)-ROW(BD!$B$2)+1),FALSE),ROWS(BD!$1:13)))))","v":""},{"$f":"IF($O$118=\"\",\"\",IF(ROWS(BD!$1:13)>COUNTIFS(BD!$B:$B,$O$118),\"\",INDEX(BD!$F$2:$F$138,SMALL(IF(BD!$B$2:$B$138=$O$118,IF(BD!$B$2:$B$138=$O$118,ROW(BD!$B$2:$B$138)-ROW(BD!$B$2)+1),FALSE),ROWS(BD!$1:13)))))","v":""},{"$f":"IF($O$118=\"\",\"\",IF(ROWS(BD!$1:13)>COUNTIFS(BD!$B:$B,$O$118),\"\",INDEX(BD!$G$2:$G$138,SMALL(IF(BD!$B$2:$B$138=$O$118,IF(BD!$B$2:$B$138=$O$118,ROW(BD!$B$2:$B$138)-ROW(BD!$B$2)+1),FALSE),ROWS(BD!$1:13)))))","v":""},{"$f":"IF($O$118=\"\",\"\",IF(ROWS(BD!$1:13)>COUNTIFS(BD!$B:$B,$O$118),\"\",INDEX(BD!$H$2:$H$138,SMALL(IF(BD!$B$2:$B$138=$O$118,IF(BD!$B$2:$B$138=$O$118,ROW(BD!$B$2:$B$138)-ROW(BD!$B$2)+1),FALSE),ROWS(BD!$1:13)))))","v":""},null,{"$f":"IF($U$118=\"\",\"\",IF(ROWS(BD!$1:13)>COUNTIFS(BD!$B:$B,$U$118),\"\",INDEX(BD!$C$2:$C$138,SMALL(IF(BD!$B$2:$B$138=$U$118,IF(BD!$B$2:$B$138=$U$118,ROW(BD!$B$2:$B$138)-ROW(BD!$B$2)+1),FALSE),ROWS(BD!$1:13)))))","v":""},{"$f":"IF($U$118=\"\",\"\",IF(ROWS(BD!$1:13)>COUNTIFS(BD!$B:$B,$U$118),\"\",INDEX(BD!$E$2:$E$138,SMALL(IF(BD!$B$2:$B$138=$U$118,IF(BD!$B$2:$B$138=$U$118,ROW(BD!$B$2:$B$138)-ROW(BD!$B$2)+1),FALSE),ROWS(BD!$1:13)))))","v":""},{"$f":"IF($U$118=\"\",\"\",IF(ROWS(BD!$1:13)>COUNTIFS(BD!$B:$B,$U$118),\"\",INDEX(BD!$F$2:$F$138,SMALL(IF(BD!$B$2:$B$138=$U$118,IF(BD!$B$2:$B$138=$U$118,ROW(BD!$B$2:$B$138)-ROW(BD!$B$2)+1),FALSE),ROWS(BD!$1:13)))))","v":""},{"$f":"IF($U$118=\"\",\"\",IF(ROWS(BD!$1:13)>COUNTIFS(BD!$B:$B,$U$118),\"\",INDEX(BD!$G$2:$G$138,SMALL(IF(BD!$B$2:$B$138=$U$118,IF(BD!$B$2:$B$138=$U$118,ROW(BD!$B$2:$B$138)-ROW(BD!$B$2)+1),FALSE),ROWS(BD!$1:13)))))","v":""},{"$f":"IF($U$118=\"\",\"\",IF(ROWS(BD!$1:13)>COUNTIFS(BD!$B:$B,$U$118),\"\",INDEX(BD!$H$2:$H$138,SMALL(IF(BD!$B$2:$B$138=$U$118,IF(BD!$B$2:$B$138=$U$118,ROW(BD!$B$2:$B$138)-ROW(BD!$B$2)+1),FALSE),ROWS(BD!$1:13)))))","v":""},null,{"$f":"IF($AA$118=\"\",\"\",IF(ROWS(BD!$1:13)>COUNTIFS(BD!$B:$B,$AA$118),\"\",INDEX(BD!$C$2:$C$138,SMALL(IF(BD!$B$2:$B$138=$AA$118,IF(BD!$B$2:$B$138=$AA$118,ROW(BD!$B$2:$B$138)-ROW(BD!$B$2)+1),FALSE),ROWS(BD!$1:13)))))","v":""},{"$f":"IF($AA$118=\"\",\"\",IF(ROWS(BD!$1:13)>COUNTIFS(BD!$B:$B,$AA$118),\"\",INDEX(BD!$E$2:$E$138,SMALL(IF(BD!$B$2:$B$138=$AA$118,IF(BD!$B$2:$B$138=$AA$118,ROW(BD!$B$2:$B$138)-ROW(BD!$B$2)+1),FALSE),ROWS(BD!$1:13)))))","v":""},{"$f":"IF($AA$118=\"\",\"\",IF(ROWS(BD!$1:13)>COUNTIFS(BD!$B:$B,$AA$118),\"\",INDEX(BD!$F$2:$F$138,SMALL(IF(BD!$B$2:$B$138=$AA$118,IF(BD!$B$2:$B$138=$AA$118,ROW(BD!$B$2:$B$138)-ROW(BD!$B$2)+1),FALSE),ROWS(BD!$1:13)))))","v":""},{"$f":"IF($AA$118=\"\",\"\",IF(ROWS(BD!$1:13)>COUNTIFS(BD!$B:$B,$AA$118),\"\",INDEX(BD!$G$2:$G$138,SMALL(IF(BD!$B$2:$B$138=$AA$118,IF(BD!$B$2:$B$138=$AA$118,ROW(BD!$B$2:$B$138)-ROW(BD!$B$2)+1),FALSE),ROWS(BD!$1:13)))))","v":""},{"$f":"IF($AA$118=\"\",\"\",IF(ROWS(BD!$1:13)>COUNTIFS(BD!$B:$B,$AA$118),\"\",INDEX(BD!$H$2:$H$138,SMALL(IF(BD!$B$2:$B$138=$AA$118,IF(BD!$B$2:$B$138=$AA$118,ROW(BD!$B$2:$B$138)-ROW(BD!$B$2)+1),FALSE),ROWS(BD!$1:13)))))","v":""},null,{"$f":"IF($AG$118=\"\",\"\",IF(ROWS(BD!$1:13)>COUNTIFS(BD!$B:$B,$AG$118),\"\",INDEX(BD!$C$2:$C$138,SMALL(IF(BD!$B$2:$B$138=$AG$118,IF(BD!$B$2:$B$138=$AG$118,ROW(BD!$B$2:$B$138)-ROW(BD!$B$2)+1),FALSE),ROWS(BD!$1:13)))))","v":""},{"$f":"IF($AG$118=\"\",\"\",IF(ROWS(BD!$1:13)>COUNTIFS(BD!$B:$B,$AG$118),\"\",INDEX(BD!$E$2:$E$138,SMALL(IF(BD!$B$2:$B$138=$AG$118,IF(BD!$B$2:$B$138=$AG$118,ROW(BD!$B$2:$B$138)-ROW(BD!$B$2)+1),FALSE),ROWS(BD!$1:13)))))","v":""},{"$f":"IF($AG$118=\"\",\"\",IF(ROWS(BD!$1:13)>COUNTIFS(BD!$B:$B,$AG$118),\"\",INDEX(BD!$F$2:$F$138,SMALL(IF(BD!$B$2:$B$138=$AG$118,IF(BD!$B$2:$B$138=$AG$118,ROW(BD!$B$2:$B$138)-ROW(BD!$B$2)+1),FALSE),ROWS(BD!$1:13)))))","v":""},{"$f":"IF($AG$118=\"\",\"\",IF(ROWS(BD!$1:13)>COUNTIFS(BD!$B:$B,$AG$118),\"\",INDEX(BD!$G$2:$G$138,SMALL(IF(BD!$B$2:$B$138=$AG$118,IF(BD!$B$2:$B$138=$AG$118,ROW(BD!$B$2:$B$138)-ROW(BD!$B$2)+1),FALSE),ROWS(BD!$1:13)))))","v":""},{"$f":"IF($AG$118=\"\",\"\",IF(ROWS(BD!$1:13)>COUNTIFS(BD!$B:$B,$AG$118),\"\",INDEX(BD!$H$2:$H$138,SMALL(IF(BD!$B$2:$B$138=$AG$118,IF(BD!$B$2:$B$138=$AG$118,ROW(BD!$B$2:$B$138)-ROW(BD!$B$2)+1),FALSE),ROWS(BD!$1:13)))))","v":""},null,{"$f":"IF($AM$118=\"\",\"\",IF(ROWS(BD!$1:13)>COUNTIFS(BD!$B:$B,$AM$118),\"\",INDEX(BD!$C$2:$C$138,SMALL(IF(BD!$B$2:$B$138=$AM$118,IF(BD!$B$2:$B$138=$AM$118,ROW(BD!$B$2:$B$138)-ROW(BD!$B$2)+1),FALSE),ROWS(BD!$1:13)))))","v":""},{"$f":"IF($AM$118=\"\",\"\",IF(ROWS(BD!$1:13)>COUNTIFS(BD!$B:$B,$AM$118),\"\",INDEX(BD!$E$2:$E$138,SMALL(IF(BD!$B$2:$B$138=$AM$118,IF(BD!$B$2:$B$138=$AM$118,ROW(BD!$B$2:$B$138)-ROW(BD!$B$2)+1),FALSE),ROWS(BD!$1:13)))))","v":""},{"$f":"IF($AM$118=\"\",\"\",IF(ROWS(BD!$1:13)>COUNTIFS(BD!$B:$B,$AM$118),\"\",INDEX(BD!$F$2:$F$138,SMALL(IF(BD!$B$2:$B$138=$AM$118,IF(BD!$B$2:$B$138=$AM$118,ROW(BD!$B$2:$B$138)-ROW(BD!$B$2)+1),FALSE),ROWS(BD!$1:13)))))","v":""},{"$f":"IF($AM$118=\"\",\"\",IF(ROWS(BD!$1:13)>COUNTIFS(BD!$B:$B,$AM$118),\"\",INDEX(BD!$G$2:$G$138,SMALL(IF(BD!$B$2:$B$138=$AM$118,IF(BD!$B$2:$B$138=$AM$118,ROW(BD!$B$2:$B$138)-ROW(BD!$B$2)+1),FALSE),ROWS(BD!$1:13)))))","v":""},{"$f":"IF($AM$118=\"\",\"\",IF(ROWS(BD!$1:13)>COUNTIFS(BD!$B:$B,$AM$118),\"\",INDEX(BD!$H$2:$H$138,SMALL(IF(BD!$B$2:$B$138=$AM$118,IF(BD!$B$2:$B$138=$AM$118,ROW(BD!$B$2:$B$138)-ROW(BD!$B$2)+1),FALSE),ROWS(BD!$1:13)))))","v":""}]
[null,null,{"$f":"IF($C$118=\"\",\"\",IF(ROWS(BD!$1:14)>COUNTIFS(BD!$B:$B,$C$118),\"\",INDEX(BD!$C$2:$C$138,SMALL(IF(BD!$B$2:$B$138=$C$118,IF(BD!$B$2:$B$138=$C$118,ROW(BD!$B$2:$B$138)-ROW(BD!$B$2)+1),FALSE),ROWS(BD!$1:14)))))","v":""},{"$f":"IF($C$118=\"\",\"\",IF(ROWS(BD!$1:14)>COUNTIFS(BD!$B:$B,$C$118),\"\",INDEX(BD!$E$2:$E$138,SMALL(IF(BD!$B$2:$B$138=$C$118,IF(BD!$B$2:$B$138=$C$118,ROW(BD!$B$2:$B$138)-ROW(BD!$B$2)+1),FALSE),ROWS(BD!$1:14)))))","v":""},{"$f":"IF($C$118=\"\",\"\",IF(ROWS(BD!$1:14)>COUNTIFS(BD!$B:$B,$C$118),\"\",INDEX(BD!$F$2:$F$138,SMALL(IF(BD!$B$2:$B$138=$C$118,IF(BD!$B$2:$B$138=$C$118,ROW(BD!$B$2:$B$138)-ROW(BD!$B$2)+1),FALSE),ROWS(BD!$1:14)))))","v":""},{"$f":"IF($C$118=\"\",\"\",IF(ROWS(BD!$1:14)>COUNTIFS(BD!$B:$B,$C$118),\"\",INDEX(BD!$G$2:$G$138,SMALL(IF(BD!$B$2:$B$138=$C$118,IF(BD!$B$2:$B$138=$C$118,ROW(BD!$B$2:$B$138)-ROW(BD!$B$2)+1),FALSE),ROWS(BD!$1:14)))))","v":""},{"$f":"IF($C$118=\"\",\"\",IF(ROWS(BD!$1:14)>COUNTIFS(BD!$B:$B,$C$118),\"\",INDEX(BD!$H$2:$H$138,SMALL(IF(BD!$B$2:$B$138=$C$118,IF(BD!$B$2:$B$138=$C$118,ROW(BD!$B$2:$B$138)-ROW(BD!$B$2)+1),FALSE),ROWS(BD!$1:14)))))","v":""},null,{"$f":"IF($I$118=\"\",\"\",IF(ROWS(BD!$1:14)>COUNTIFS(BD!$B:$B,$I$118),\"\",INDEX(BD!$C$2:$C$138,SMALL(IF(BD!$B$2:$B$138=$I$118,IF(BD!$B$2:$B$138=$I$118,ROW(BD!$B$2:$B$138)-ROW(BD!$B$2)+1),FALSE),ROWS(BD!$1:14)))))","v":""},{"$f":"IF($I$118=\"\",\"\",IF(ROWS(BD!$1:14)>COUNTIFS(BD!$B:$B,$I$118),\"\",INDEX(BD!$E$2:$E$138,SMALL(IF(BD!$B$2:$B$138=$I$118,IF(BD!$B$2:$B$138=$I$118,ROW(BD!$B$2:$B$138)-ROW(BD!$B$2)+1),FALSE),ROWS(BD!$1:14)))))","v":""},{"$f":"IF($I$118=\"\",\"\",IF(ROWS(BD!$1:14)>COUNTIFS(BD!$B:$B,$I$118),\"\",INDEX(BD!$F$2:$F$138,SMALL(IF(BD!$B$2:$B$138=$I$118,IF(BD!$B$2:$B$138=$I$118,ROW(BD!$B$2:$B$138)-ROW(BD!$B$2)+1),FALSE),ROWS(BD!$1:14)))))","v":""},{"$f":"IF($I$118=\"\",\"\",IF(ROWS(BD!$1:14)>COUNTIFS(BD!$B:$B,$I$118),\"\",INDEX(BD!$G$2:$G$138,SMALL(IF(BD!$B$2:$B$138=$I$118,IF(BD!$B$2:$B$138=$I$118,ROW(BD!$B$2:$B$138)-ROW(BD!$B$2)+1),FALSE),ROWS(BD!$1:14)))))","v":""},{"$f":"IF($I$118=\"\",\"\",IF(ROWS(BD!$1:14)>COUNTIFS(BD!$B:$B,$I$118),\"\",INDEX(BD!$H$2:$H$138,SMALL(IF(BD!$B$2:$B$138=$I$118,IF(BD!$B$2:$B$138=$I$118,ROW(BD!$B$2:$B$138)-ROW(BD!$B$2)+1),FALSE),ROWS(BD!$1:14)))))","v":""},null,{"$f":"IF($O$118=\"\",\"\",IF(ROWS(BD!$1:14)>COUNTIFS(BD!$B:$B,$O$118),\"\",INDEX(BD!$C$2:$C$138,SMALL(IF(BD!$B$2:$B$138=$O$118,IF(BD!$B$2:$B$138=$O$118,ROW(BD!$B$2:$B$138)-ROW(BD!$B$2)+1),FALSE),ROWS(BD!$1:14)))))","v":""},{"$f":"IF($O$118=\"\",\"\",IF(ROWS(BD!$1:14)>COUNTIFS(BD!$B:$B,$O$118),\"\",INDEX(BD!$E$2:$E$138,SMALL(IF(BD!$B$2:$B$138=$O$118,IF(BD!$B$2:$B$138=$O$118,ROW(BD!$B$2:$B$138)-ROW(BD!$B$2)+1),FALSE),ROWS(BD!$1:14)))))","v":""},{"$f":"IF($O$118=\"\",\"\",IF(ROWS(BD!$1:14)>COUNTIFS(BD!$B:$B,$O$118),\"\",INDEX(BD!$F$2:$F$138,SMALL(IF(BD!$B$2:$B$138=$O$118,IF(BD!$B$2:$B$138=$O$118,ROW(BD!$B$2:$B$138)-ROW(BD!$B$2)+1),FALSE),ROWS(BD!$1:14)))))","v":""},{"$f":"IF($O$118=\"\",\"\",IF(ROWS(BD!$1:14)>COUNTIFS(BD!$B:$B,$O$118),\"\",INDEX(BD!$G$2:$G$138,SMALL(IF(BD!$B$2:$B$138=$O$118,IF(BD!$B$2:$B$138=$O$118,ROW(BD!$B$2:$B$138)-ROW(BD!$B$2)+1),FALSE),ROWS(BD!$1:14)))))","v":""},{"$f":"IF($O$118=\"\",\"\",IF(ROWS(BD!$1:14)>COUNTIFS(BD!$B:$B,$O$118),\"\",INDEX(BD!$H$2:$H$138,SMALL(IF(BD!$B$2:$B$138=$O$118,IF(BD!$B$2:$B$138=$O$118,ROW(BD!$B$2:$B$138)-ROW(BD!$B$2)+1),FALSE),ROWS(BD!$1:14)))))","v":""},null,{"$f":"IF($U$118=\"\",\"\",IF(ROWS(BD!$1:14)>COUNTIFS(BD!$B:$B,$U$118),\"\",INDEX(BD!$C$2:$C$138,SMALL(IF(BD!$B$2:$B$138=$U$118,IF(BD!$B$2:$B$138=$U$118,ROW(BD!$B$2:$B$138)-ROW(BD!$B$2)+1),FALSE),ROWS(BD!$1:14)))))","v":""},{"$f":"IF($U$118=\"\",\"\",IF(ROWS(BD!$1:14)>COUNTIFS(BD!$B:$B,$U$118),\"\",INDEX(BD!$E$2:$E$138,SMALL(IF(BD!$B$2:$B$138=$U$118,IF(BD!$B$2:$B$138=$U$118,ROW(BD!$B$2:$B$138)-ROW(BD!$B$2)+1),FALSE),ROWS(BD!$1:14)))))","v":""},{"$f":"IF($U$118=\"\",\"\",IF(ROWS(BD!$1:14)>COUNTIFS(BD!$B:$B,$U$118),\"\",INDEX(BD!$F$2:$F$138,SMALL(IF(BD!$B$2:$B$138=$U$118,IF(BD!$B$2:$B$138=$U$118,ROW(BD!$B$2:$B$138)-ROW(BD!$B$2)+1),FALSE),ROWS(BD!$1:14)))))","v":""},{"$f":"IF($U$118=\"\",\"\",IF(ROWS(BD!$1:14)>COUNTIFS(BD!$B:$B,$U$118),\"\",INDEX(BD!$G$2:$G$138,SMALL(IF(BD!$B$2:$B$138=$U$118,IF(BD!$B$2:$B$138=$U$118,ROW(BD!$B$2:$B$138)-ROW(BD!$B$2)+1),FALSE),ROWS(BD!$1:14)))))","v":""},{"$f":"IF($U$118=\"\",\"\",IF(ROWS(BD!$1:14)>COUNTIFS(BD!$B:$B,$U$118),\"\",INDEX(BD!$H$2:$H$138,SMALL(IF(BD!$B$2:$B$138=$U$118,IF(BD!$B$2:$B$138=$U$118,ROW(BD!$B$2:$B$138)-ROW(BD!$B$2)+1),FALSE),ROWS(BD!$1:14)))))","v":""},null,{"$f":"IF($AA$118=\"\",\"\",IF(ROWS(BD!$1:14)>COUNTIFS(BD!$B:$B,$AA$118),\"\",INDEX(BD!$C$2:$C$138,SMALL(IF(BD!$B$2:$B$138=$AA$118,IF(BD!$B$2:$B$138=$AA$118,ROW(BD!$B$2:$B$138)-ROW(BD!$B$2)+1),FALSE),ROWS(BD!$1:14)))))","v":""},{"$f":"IF($AA$118=\"\",\"\",IF(ROWS(BD!$1:14)>COUNTIFS(BD!$B:$B,$AA$118),\"\",INDEX(BD!$E$2:$E$138,SMALL(IF(BD!$B$2:$B$138=$AA$118,IF(BD!$B$2:$B$138=$AA$118,ROW(BD!$B$2:$B$138)-ROW(BD!$B$2)+1),FALSE),ROWS(BD!$1:14)))))","v":""},{"$f":"IF($AA$118=\"\",\"\",IF(ROWS(BD!$1:14)>COUNTIFS(BD!$B:$B,$AA$118),\"\",INDEX(BD!$F$2:$F$138,SMALL(IF(BD!$B$2:$B$138=$AA$118,IF(BD!$B$2:$B$138=$AA$118,ROW(BD!$B$2:$B$138)-ROW(BD!$B$2)+1),FALSE),ROWS(BD!$1:14)))))","v":""},{"$f":"IF($AA$118=\"\",\"\",IF(ROWS(BD!$1:14)>COUNTIFS(BD!$B:$B,$AA$118),\"\",INDEX(BD!$G$2:$G$138,SMALL(IF(BD!$B$2:$B$138=$AA$118,IF(BD!$B$2:$B$138=$AA$118,ROW(BD!$B$2:$B$138)-ROW(BD!$B$2)+1),FALSE),ROWS(BD!$1:14)))))","v":""},{"$f":"IF($AA$118=\"\",\"\",IF(ROWS(BD!$1:14)>COUNTIFS(BD!$B:$B,$AA$118),\"\",INDEX(BD!$H$2:$H$138,SMALL(IF(BD!$B$2:$B$138=$AA$118,IF(BD!$B$2:$B$138=$AA$118,ROW(BD!$B$2:$B$138)-ROW(BD!$B$2)+1),FALSE),ROWS(BD!$1:14)))))","v":""},null,{"$f":"IF($AG$118=\"\",\"\",IF(ROWS(BD!$1:14)>COUNTIFS(BD!$B:$B,$AG$118),\"\",INDEX(BD!$C$2:$C$138,SMALL(IF(BD!$B$2:$B$138=$AG$118,IF(BD!$B$2:$B$138=$AG$118,ROW(BD!$B$2:$B$138)-ROW(BD!$B$2)+1),FALSE),ROWS(BD!$1:14)))))","v":""},{"$f":"IF($AG$118=\"\",\"\",IF(ROWS(BD!$1:14)>COUNTIFS(BD!$B:$B,$AG$118),\"\",INDEX(BD!$E$2:$E$138,SMALL(IF(BD!$B$2:$B$138=$AG$118,IF(BD!$B$2:$B$138=$AG$118,ROW(BD!$B$2:$B$138)-ROW(BD!$B$2)+1),FALSE),ROWS(BD!$1:14)))))","v":""},{"$f":"IF($AG$118=\"\",\"\",IF(ROWS(BD!$1:14)>COUNTIFS(BD!$B:$B,$AG$118),\"\",INDEX(BD!$F$2:$F$138,SMALL(IF(BD!$B$2:$B$138=$AG$118,IF(BD!$B$2:$B$138=$AG$118,ROW(BD!$B$2:$B$138)-ROW(BD!$B$2)+1),FALSE),ROWS(BD!$1:14)))))","v":""},{"$f":"IF($AG$118=\"\",\"\",IF(ROWS(BD!$1:14)>COUNTIFS(BD!$B:$B,$AG$118),\"\",INDEX(BD!$G$2:$G$138,SMALL(IF(BD!$B$2:$B$138=$AG$118,IF(BD!$B$2:$B$138=$AG$118,ROW(BD!$B$2:$B$138)-ROW(BD!$B$2)+1),FALSE),ROWS(BD!$1:14)))))","v":""},{"$f":"IF($AG$118=\"\",\"\",IF(ROWS(BD!$1:14)>COUNTIFS(BD!$B:$B,$AG$118),\"\",INDEX(BD!$H$2:$H$138,SMALL(IF(BD!$B$2:$B$138=$AG$118,IF(BD!$B$2:$B$138=$AG$118,ROW(BD!$B$2:$B$138)-ROW(BD!$B$2)+1),FALSE),ROWS(BD!$1:14)))))","v":""},null,{"$f":"IF($AM$118=\"\",\"\",IF(ROWS(BD!$1:14)>COUNTIFS(BD!$B:$B,$AM$118),\"\",INDEX(BD!$C$2:$C$138,SMALL(IF(BD!$B$2:$B$138=$AM$118,IF(BD!$B$2:$B$138=$AM$118,ROW(BD!$B$2:$B$138)-ROW(BD!$B$2)+1),FALSE),ROWS(BD!$1:14)))))","v":""},{"$f":"IF($AM$118=\"\",\"\",IF(ROWS(BD!$1:14)>COUNTIFS(BD!$B:$B,$AM$118),\"\",INDEX(BD!$E$2:$E$138,SMALL(IF(BD!$B$2:$B$138=$AM$118,IF(BD!$B$2:$B$138=$AM$118,ROW(BD!$B$2:$B$138)-ROW(BD!$B$2)+1),FALSE),ROWS(BD!$1:14)))))","v":""},{"$f":"IF($AM$118=\"\",\"\",IF(ROWS(BD!$1:14)>COUNTIFS(BD!$B:$B,$AM$118),\"\",INDEX(BD!$F$2:$F$138,SMALL(IF(BD!$B$2:$B$138=$AM$118,IF(BD!$B$2:$B$138=$AM$118,ROW(BD!$B$2:$B$138)-ROW(BD!$B$2)+1),FALSE),ROWS(BD!$1:14)))))","v":""},{"$f":"IF($AM$118=\"\",\"\",IF(ROWS(BD!$1:14)>COUNTIFS(BD!$B:$B,$AM$118),\"\",INDEX(BD!$G$2:$G$138,SMALL(IF(BD!$B$2:$B$138=$AM$118,IF(BD!$B$2:$B$138=$AM$118,ROW(BD!$B$2:$B$138)-ROW(BD!$B$2)+1),FALSE),ROWS(BD!$1:14)))))","v":""},{"$f":"IF($AM$118=\"\",\"\",IF(ROWS(BD!$1:14)>COUNTIFS(BD!$B:$B,$AM$118),\"\",INDEX(BD!$H$2:$H$138,SMALL(IF(BD!$B$2:$B$138=$AM$118,IF(BD!$B$2:$B$138=$AM$118,ROW(BD!$B$2:$B$138)-ROW(BD!$B$2)+1),FALSE),ROWS(BD!$1:14)))))","v":""}]
[null,null,{"$f":"IF($C$118=\"\",\"\",IF(ROWS(BD!$1:15)>COUNTIFS(BD!$B:$B,$C$118),\"\",INDEX(BD!$C$2:$C$138,SMALL(IF(BD!$B$2:$B$138=$C$118,IF(BD!$B$2:$B$138=$C$118,ROW(BD!$B$2:$B$138)-ROW(BD!$B$2)+1),FALSE),ROWS(BD!$1:15)))))","v":""},{"$f":"IF($C$118=\"\",\"\",IF(ROWS(BD!$1:15)>COUNTIFS(BD!$B:$B,$C$118),\"\",INDEX(BD!$E$2:$E$138,SMALL(IF(BD!$B$2:$B$138=$C$118,IF(BD!$B$2:$B$138=$C$118,ROW(BD!$B$2:$B$138)-ROW(BD!$B$2)+1),FALSE),ROWS(BD!$1:15)))))","v":""},{"$f":"IF($C$118=\"\",\"\",IF(ROWS(BD!$1:15)>COUNTIFS(BD!$B:$B,$C$118),\"\",INDEX(BD!$F$2:$F$138,SMALL(IF(BD!$B$2:$B$138=$C$118,IF(BD!$B$2:$B$138=$C$118,ROW(BD!$B$2:$B$138)-ROW(BD!$B$2)+1),FALSE),ROWS(BD!$1:15)))))","v":""},{"$f":"IF($C$118=\"\",\"\",IF(ROWS(BD!$1:15)>COUNTIFS(BD!$B:$B,$C$118),\"\",INDEX(BD!$G$2:$G$138,SMALL(IF(BD!$B$2:$B$138=$C$118,IF(BD!$B$2:$B$138=$C$118,ROW(BD!$B$2:$B$138)-ROW(BD!$B$2)+1),FALSE),ROWS(BD!$1:15)))))","v":""},{"$f":"IF($C$118=\"\",\"\",IF(ROWS(BD!$1:15)>COUNTIFS(BD!$B:$B,$C$118),\"\",INDEX(BD!$H$2:$H$138,SMALL(IF(BD!$B$2:$B$138=$C$118,IF(BD!$B$2:$B$138=$C$118,ROW(BD!$B$2:$B$138)-ROW(BD!$B$2)+1),FALSE),ROWS(BD!$1:15)))))","v":""},null,{"$f":"IF($I$118=\"\",\"\",IF(ROWS(BD!$1:15)>COUNTIFS(BD!$B:$B,$I$118),\"\",INDEX(BD!$C$2:$C$138,SMALL(IF(BD!$B$2:$B$138=$I$118,IF(BD!$B$2:$B$138=$I$118,ROW(BD!$B$2:$B$138)-ROW(BD!$B$2)+1),FALSE),ROWS(BD!$1:15)))))","v":""},{"$f":"IF($I$118=\"\",\"\",IF(ROWS(BD!$1:15)>COUNTIFS(BD!$B:$B,$I$118),\"\",INDEX(BD!$E$2:$E$138,SMALL(IF(BD!$B$2:$B$138=$I$118,IF(BD!$B$2:$B$138=$I$118,ROW(BD!$B$2:$B$138)-ROW(BD!$B$2)+1),FALSE),ROWS(BD!$1:15)))))","v":""},{"$f":"IF($I$118=\"\",\"\",IF(ROWS(BD!$1:15)>COUNTIFS(BD!$B:$B,$I$118),\"\",INDEX(BD!$F$2:$F$138,SMALL(IF(BD!$B$2:$B$138=$I$118,IF(BD!$B$2:$B$138=$I$118,ROW(BD!$B$2:$B$138)-ROW(BD!$B$2)+1),FALSE),ROWS(BD!$1:15)))))","v":""},{"$f":"IF($I$118=\"\",\"\",IF(ROWS(BD!$1:15)>COUNTIFS(BD!$B:$B,$I$118),\"\",INDEX(BD!$G$2:$G$138,SMALL(IF(BD!$B$2:$B$138=$I$118,IF(BD!$B$2:$B$138=$I$118,ROW(BD!$B$2:$B$138)-ROW(BD!$B$2)+1),FALSE),ROWS(BD!$1:15)))))","v":""},{"$f":"IF($I$118=\"\",\"\",IF(ROWS(BD!$1:15)>COUNTIFS(BD!$B:$B,$I$118),\"\",INDEX(BD!$H$2:$H$138,SMALL(IF(BD!$B$2:$B$138=$I$118,IF(BD!$B$2:$B$138=$I$118,ROW(BD!$B$2:$B$138)-ROW(BD!$B$2)+1),FALSE),ROWS(BD!$1:15)))))","v":""},null,{"$f":"IF($O$118=\"\",\"\",IF(ROWS(BD!$1:15)>COUNTIFS(BD!$B:$B,$O$118),\"\",INDEX(BD!$C$2:$C$138,SMALL(IF(BD!$B$2:$B$138=$O$118,IF(BD!$B$2:$B$138=$O$118,ROW(BD!$B$2:$B$138)-ROW(BD!$B$2)+1),FALSE),ROWS(BD!$1:15)))))","v":""},{"$f":"IF($O$118=\"\",\"\",IF(ROWS(BD!$1:15)>COUNTIFS(BD!$B:$B,$O$118),\"\",INDEX(BD!$E$2:$E$138,SMALL(IF(BD!$B$2:$B$138=$O$118,IF(BD!$B$2:$B$138=$O$118,ROW(BD!$B$2:$B$138)-ROW(BD!$B$2)+1),FALSE),ROWS(BD!$1:15)))))","v":""},{"$f":"IF($O$118=\"\",\"\",IF(ROWS(BD!$1:15)>COUNTIFS(BD!$B:$B,$O$118),\"\",INDEX(BD!$F$2:$F$138,SMALL(IF(BD!$B$2:$B$138=$O$118,IF(BD!$B$2:$B$138=$O$118,ROW(BD!$B$2:$B$138)-ROW(BD!$B$2)+1),FALSE),ROWS(BD!$1:15)))))","v":""},{"$f":"IF($O$118=\"\",\"\",IF(ROWS(BD!$1:15)>COUNTIFS(BD!$B:$B,$O$118),\"\",INDEX(BD!$G$2:$G$138,SMALL(IF(BD!$B$2:$B$138=$O$118,IF(BD!$B$2:$B$138=$O$118,ROW(BD!$B$2:$B$138)-ROW(BD!$B$2)+1),FALSE),ROWS(BD!$1:15)))))","v":""},{"$f":"IF($O$118=\"\",\"\",IF(ROWS(BD!$1:15)>COUNTIFS(BD!$B:$B,$O$118),\"\",INDEX(BD!$H$2:$H$138,SMALL(IF(BD!$B$2:$B$138=$O$118,IF(BD!$B$2:$B$138=$O$118,ROW(BD!$B$2:$B$138)-ROW(BD!$B$2)+1),FALSE),ROWS(BD!$1:15)))))","v":""},null,{"$f":"IF($U$118=\"\",\"\",IF(ROWS(BD!$1:15)>COUNTIFS(BD!$B:$B,$U$118),\"\",INDEX(BD!$C$2:$C$138,SMALL(IF(BD!$B$2:$B$138=$U$118,IF(BD!$B$2:$B$138=$U$118,ROW(BD!$B$2:$B$138)-ROW(BD!$B$2)+1),FALSE),ROWS(BD!$1:15)))))","v":""},{"$f":"IF($U$118=\"\",\"\",IF(ROWS(BD!$1:15)>COUNTIFS(BD!$B:$B,$U$118),\"\",INDEX(BD!$E$2:$E$138,SMALL(IF(BD!$B$2:$B$138=$U$118,IF(BD!$B$2:$B$138=$U$118,ROW(BD!$B$2:$B$138)-ROW(BD!$B$2)+1),FALSE),ROWS(BD!$1:15)))))","v":""},{"$f":"IF($U$118=\"\",\"\",IF(ROWS(BD!$1:15)>COUNTIFS(BD!$B:$B,$U$118),\"\",INDEX(BD!$F$2:$F$138,SMALL(IF(BD!$B$2:$B$138=$U$118,IF(BD!$B$2:$B$138=$U$118,ROW(BD!$B$2:$B$138)-ROW(BD!$B$2)+1),FALSE),ROWS(BD!$1:15)))))","v":""},{"$f":"IF($U$118=\"\",\"\",IF(ROWS(BD!$1:15)>COUNTIFS(BD!$B:$B,$U$118),\"\",INDEX(BD!$G$2:$G$138,SMALL(IF(BD!$B$2:$B$138=$U$118,IF(BD!$B$2:$B$138=$U$118,ROW(BD!$B$2:$B$138)-ROW(BD!$B$2)+1),FALSE),ROWS(BD!$1:15)))))","v":""},{"$f":"IF($U$118=\"\",\"\",IF(ROWS(BD!$1:15)>COUNTIFS(BD!$B:$B,$U$118),\"\",INDEX(BD!$H$2:$H$138,SMALL(IF(BD!$B$2:$B$138=$U$118,IF(BD!$B$2:$B$138=$U$118,ROW(BD!$B$2:$B$138)-ROW(BD!$B$2)+1),FALSE),ROWS(BD!$1:15)))))","v":""},null,{"$f":"IF($AA$118=\"\",\"\",IF(ROWS(BD!$1:15)>COUNTIFS(BD!$B:$B,$AA$118),\"\",INDEX(BD!$C$2:$C$138,SMALL(IF(BD!$B$2:$B$138=$AA$118,IF(BD!$B$2:$B$138=$AA$118,ROW(BD!$B$2:$B$138)-ROW(BD!$B$2)+1),FALSE),ROWS(BD!$1:15)))))","v":""},{"$f":"IF($AA$118=\"\",\"\",IF(ROWS(BD!$1:15)>COUNTIFS(BD!$B:$B,$AA$118),\"\",INDEX(BD!$E$2:$E$138,SMALL(IF(BD!$B$2:$B$138=$AA$118,IF(BD!$B$2:$B$138=$AA$118,ROW(BD!$B$2:$B$138)-ROW(BD!$B$2)+1),FALSE),ROWS(BD!$1:15)))))","v":""},{"$f":"IF($AA$118=\"\",\"\",IF(ROWS(BD!$1:15)>COUNTIFS(BD!$B:$B,$AA$118),\"\",INDEX(BD!$F$2:$F$138,SMALL(IF(BD!$B$2:$B$138=$AA$118,IF(BD!$B$2:$B$138=$AA$118,ROW(BD!$B$2:$B$138)-ROW(BD!$B$2)+1),FALSE),ROWS(BD!$1:15)))))","v":""},{"$f":"IF($AA$118=\"\",\"\",IF(ROWS(BD!$1:15)>COUNTIFS(BD!$B:$B,$AA$118),\"\",INDEX(BD!$G$2:$G$138,SMALL(IF(BD!$B$2:$B$138=$AA$118,IF(BD!$B$2:$B$138=$AA$118,ROW(BD!$B$2:$B$138)-ROW(BD!$B$2)+1),FALSE),ROWS(BD!$1:15)))))","v":""},{"$f":"IF($AA$118=\"\",\"\",IF(ROWS(BD!$1:15)>COUNTIFS(BD!$B:$B,$AA$118),\"\",INDEX(BD!$H$2:$H$138,SMALL(IF(BD!$B$2:$B$138=$AA$118,IF(BD!$B$2:$B$138=$AA$118,ROW(BD!$B$2:$B$138)-ROW(BD!$B$2)+1),FALSE),ROWS(BD!$1:15)))))","v":""},null,{"$f":"IF($AG$118=\"\",\"\",IF(ROWS(BD!$1:15)>COUNTIFS(BD!$B:$B,$AG$118),\"\",INDEX(BD!$C$2:$C$138,SMALL(IF(BD!$B$2:$B$138=$AG$118,IF(BD!$B$2:$B$138=$AG$118,ROW(BD!$B$2:$B$138)-ROW(BD!$B$2)+1),FALSE),ROWS(BD!$1:15)))))","v":""},{"$f":"IF($AG$118=\"\",\"\",IF(ROWS(BD!$1:15)>COUNTIFS(BD!$B:$B,$AG$118),\"\",INDEX(BD!$E$2:$E$138,SMALL(IF(BD!$B$2:$B$138=$AG$118,IF(BD!$B$2:$B$138=$AG$118,ROW(BD!$B$2:$B$138)-ROW(BD!$B$2)+1),FALSE),ROWS(BD!$1:15)))))","v":""},{"$f":"IF($AG$118=\"\",\"\",IF(ROWS(BD!$1:15)>COUNTIFS(BD!$B:$B,$AG$118),\"\",INDEX(BD!$F$2:$F$138,SMALL(IF(BD!$B$2:$B$138=$AG$118,IF(BD!$B$2:$B$138=$AG$118,ROW(BD!$B$2:$B$138)-ROW(BD!$B$2)+1),FALSE),ROWS(BD!$1:15)))))","v":""},{"$f":"IF($AG$118=\"\",\"\",IF(ROWS(BD!$1:15)>COUNTIFS(BD!$B:$B,$AG$118),\"\",INDEX(BD!$G$2:$G$138,SMALL(IF(BD!$B$2:$B$138=$AG$118,IF(BD!$B$2:$B$138=$AG$118,ROW(BD!$B$2:$B$138)-ROW(BD!$B$2)+1),FALSE),ROWS(BD!$1:15)))))","v":""},{"$f":"IF($AG$118=\"\",\"\",IF(ROWS(BD!$1:15)>COUNTIFS(BD!$B:$B,$AG$118),\"\",INDEX(BD!$H$2:$H$138,SMALL(IF(BD!$B$2:$B$138=$AG$118,IF(BD!$B$2:$B$138=$AG$118,ROW(BD!$B$2:$B$138)-ROW(BD!$B$2)+1),FALSE),ROWS(BD!$1:15)))))","v":""},null,{"$f":"IF($AM$118=\"\",\"\",IF(ROWS(BD!$1:15)>COUNTIFS(BD!$B:$B,$AM$118),\"\",INDEX(BD!$C$2:$C$138,SMALL(IF(BD!$B$2:$B$138=$AM$118,IF(BD!$B$2:$B$138=$AM$118,ROW(BD!$B$2:$B$138)-ROW(BD!$B$2)+1),FALSE),ROWS(BD!$1:15)))))","v":""},{"$f":"IF($AM$118=\"\",\"\",IF(ROWS(BD!$1:15)>COUNTIFS(BD!$B:$B,$AM$118),\"\",INDEX(BD!$E$2:$E$138,SMALL(IF(BD!$B$2:$B$138=$AM$118,IF(BD!$B$2:$B$138=$AM$118,ROW(BD!$B$2:$B$138)-ROW(BD!$B$2)+1),FALSE),ROWS(BD!$1:15)))))","v":""},{"$f":"IF($AM$118=\"\",\"\",IF(ROWS(BD!$1:15)>COUNTIFS(BD!$B:$B,$AM$118),\"\",INDEX(BD!$F$2:$F$138,SMALL(IF(BD!$B$2:$B$138=$AM$118,IF(BD!$B$2:$B$138=$AM$118,ROW(BD!$B$2:$B$138)-ROW(BD!$B$2)+1),FALSE),ROWS(BD!$1:15)))))","v":""},{"$f":"IF($AM$118=\"\",\"\",IF(ROWS(BD!$1:15)>COUNTIFS(BD!$B:$B,$AM$118),\"\",INDEX(BD!$G$2:$G$138,SMALL(IF(BD!$B$2:$B$138=$AM$118,IF(BD!$B$2:$B$138=$AM$118,ROW(BD!$B$2:$B$138)-ROW(BD!$B$2)+1),FALSE),ROWS(BD!$1:15)))))","v":""},{"$f":"IF($AM$118=\"\",\"\",IF(ROWS(BD!$1:15)>COUNTIFS(BD!$B:$B,$AM$118),\"\",INDEX(BD!$H$2:$H$138,SMALL(IF(BD!$B$2:$B$138=$AM$118,IF(BD!$B$2:$B$138=$AM$118,ROW(BD!$B$2:$B$138)-ROW(BD!$B$2)+1),FALSE),ROWS(BD!$1:15)))))","v":""}]
[null,null,{"$f":"IF($C$118=\"\",\"\",IF(ROWS(BD!$1:16)>COUNTIFS(BD!$B:$B,$C$118),\"\",INDEX(BD!$C$2:$C$138,SMALL(IF(BD!$B$2:$B$138=$C$118,IF(BD!$B$2:$B$138=$C$118,ROW(BD!$B$2:$B$138)-ROW(BD!$B$2)+1),FALSE),ROWS(BD!$1:16)))))","v":""},{"$f":"IF($C$118=\"\",\"\",IF(ROWS(BD!$1:16)>COUNTIFS(BD!$B:$B,$C$118),\"\",INDEX(BD!$E$2:$E$138,SMALL(IF(BD!$B$2:$B$138=$C$118,IF(BD!$B$2:$B$138=$C$118,ROW(BD!$B$2:$B$138)-ROW(BD!$B$2)+1),FALSE),ROWS(BD!$1:16)))))","v":""},{"$f":"IF($C$118=\"\",\"\",IF(ROWS(BD!$1:16)>COUNTIFS(BD!$B:$B,$C$118),\"\",INDEX(BD!$F$2:$F$138,SMALL(IF(BD!$B$2:$B$138=$C$118,IF(BD!$B$2:$B$138=$C$118,ROW(BD!$B$2:$B$138)-ROW(BD!$B$2)+1),FALSE),ROWS(BD!$1:16)))))","v":""},{"$f":"IF($C$118=\"\",\"\",IF(ROWS(BD!$1:16)>COUNTIFS(BD!$B:$B,$C$118),\"\",INDEX(BD!$G$2:$G$138,SMALL(IF(BD!$B$2:$B$138=$C$118,IF(BD!$B$2:$B$138=$C$118,ROW(BD!$B$2:$B$138)-ROW(BD!$B$2)+1),FALSE),ROWS(BD!$1:16)))))","v":""},{"$f":"IF($C$118=\"\",\"\",IF(ROWS(BD!$1:16)>COUNTIFS(BD!$B:$B,$C$118),\"\",INDEX(BD!$H$2:$H$138,SMALL(IF(BD!$B$2:$B$138=$C$118,IF(BD!$B$2:$B$138=$C$118,ROW(BD!$B$2:$B$138)-ROW(BD!$B$2)+1),FALSE),ROWS(BD!$1:16)))))","v":""},null,{"$f":"IF($I$118=\"\",\"\",IF(ROWS(BD!$1:16)>COUNTIFS(BD!$B:$B,$I$118),\"\",INDEX(BD!$C$2:$C$138,SMALL(IF(BD!$B$2:$B$138=$I$118,IF(BD!$B$2:$B$138=$I$118,ROW(BD!$B$2:$B$138)-ROW(BD!$B$2)+1),FALSE),ROWS(BD!$1:16)))))","v":""},{"$f":"IF($I$118=\"\",\"\",IF(ROWS(BD!$1:16)>COUNTIFS(BD!$B:$B,$I$118),\"\",INDEX(BD!$E$2:$E$138,SMALL(IF(BD!$B$2:$B$138=$I$118,IF(BD!$B$2:$B$138=$I$118,ROW(BD!$B$2:$B$138)-ROW(BD!$B$2)+1),FALSE),ROWS(BD!$1:16)))))","v":""},{"$f":"IF($I$118=\"\",\"\",IF(ROWS(BD!$1:16)>COUNTIFS(BD!$B:$B,$I$118),\"\",INDEX(BD!$F$2:$F$138,SMALL(IF(BD!$B$2:$B$138=$I$118,IF(BD!$B$2:$B$138=$I$118,ROW(BD!$B$2:$B$138)-ROW(BD!$B$2)+1),FALSE),ROWS(BD!$1:16)))))","v":""},{"$f":"IF($I$118=\"\",\"\",IF(ROWS(BD!$1:16)>COUNTIFS(BD!$B:$B,$I$118),\"\",INDEX(BD!$G$2:$G$138,SMALL(IF(BD!$B$2:$B$138=$I$118,IF(BD!$B$2:$B$138=$I$118,ROW(BD!$B$2:$B$138)-ROW(BD!$B$2)+1),FALSE),ROWS(BD!$1:16)))))","v":""},{"$f":"IF($I$118=\"\",\"\",IF(ROWS(BD!$1:16)>COUNTIFS(BD!$B:$B,$I$118),\"\",INDEX(BD!$H$2:$H$138,SMALL(IF(BD!$B$2:$B$138=$I$118,IF(BD!$B$2:$B$138=$I$118,ROW(BD!$B$2:$B$138)-ROW(BD!$B$2)+1),FALSE),ROWS(BD!$1:16)))))","v":""},null,{"$f":"IF($O$118=\"\",\"\",IF(ROWS(BD!$1:16)>COUNTIFS(BD!$B:$B,$O$118),\"\",INDEX(BD!$C$2:$C$138,SMALL(IF(BD!$B$2:$B$138=$O$118,IF(BD!$B$2:$B$138=$O$118,ROW(BD!$B$2:$B$138)-ROW(BD!$B$2)+1),FALSE),ROWS(BD!$1:16)))))","v":""},{"$f":"IF($O$118=\"\",\"\",IF(ROWS(BD!$1:16)>COUNTIFS(BD!$B:$B,$O$118),\"\",INDEX(BD!$E$2:$E$138,SMALL(IF(BD!$B$2:$B$138=$O$118,IF(BD!$B$2:$B$138=$O$118,ROW(BD!$B$2:$B$138)-ROW(BD!$B$2)+1),FALSE),ROWS(BD!$1:16)))))","v":""},{"$f":"IF($O$118=\"\",\"\",IF(ROWS(BD!$1:16)>COUNTIFS(BD!$B:$B,$O$118),\"\",INDEX(BD!$F$2:$F$138,SMALL(IF(BD!$B$2:$B$138=$O$118,IF(BD!$B$2:$B$138=$O$118,ROW(BD!$B$2:$B$138)-ROW(BD!$B$2)+1),FALSE),ROWS(BD!$1:16)))))","v":""},{"$f":"IF($O$118=\"\",\"\",IF(ROWS(BD!$1:16)>COUNTIFS(BD!$B:$B,$O$118),\"\",INDEX(BD!$G$2:$G$138,SMALL(IF(BD!$B$2:$B$138=$O$118,IF(BD!$B$2:$B$138=$O$118,ROW(BD!$B$2:$B$138)-ROW(BD!$B$2)+1),FALSE),ROWS(BD!$1:16)))))","v":""},{"$f":"IF($O$118=\"\",\"\",IF(ROWS(BD!$1:16)>COUNTIFS(BD!$B:$B,$O$118),\"\",INDEX(BD!$H$2:$H$138,SMALL(IF(BD!$B$2:$B$138=$O$118,IF(BD!$B$2:$B$138=$O$118,ROW(BD!$B$2:$B$138)-ROW(BD!$B$2)+1),FALSE),ROWS(BD!$1:16)))))","v":""},null,{"$f":"IF($U$118=\"\",\"\",IF(ROWS(BD!$1:16)>COUNTIFS(BD!$B:$B,$U$118),\"\",INDEX(BD!$C$2:$C$138,SMALL(IF(BD!$B$2:$B$138=$U$118,IF(BD!$B$2:$B$138=$U$118,ROW(BD!$B$2:$B$138)-ROW(BD!$B$2)+1),FALSE),ROWS(BD!$1:16)))))","v":""},{"$f":"IF($U$118=\"\",\"\",IF(ROWS(BD!$1:16)>COUNTIFS(BD!$B:$B,$U$118),\"\",INDEX(BD!$E$2:$E$138,SMALL(IF(BD!$B$2:$B$138=$U$118,IF(BD!$B$2:$B$138=$U$118,ROW(BD!$B$2:$B$138)-ROW(BD!$B$2)+1),FALSE),ROWS(BD!$1:16)))))","v":""},{"$f":"IF($U$118=\"\",\"\",IF(ROWS(BD!$1:16)>COUNTIFS(BD!$B:$B,$U$118),\"\",INDEX(BD!$F$2:$F$138,SMALL(IF(BD!$B$2:$B$138=$U$118,IF(BD!$B$2:$B$138=$U$118,ROW(BD!$B$2:$B$138)-ROW(BD!$B$2)+1),FALSE),ROWS(BD!$1:16)))))","v":""},{"$f":"IF($U$118=\"\",\"\",IF(ROWS(BD!$1:16)>COUNTIFS(BD!$B:$B,$U$118),\"\",INDEX(BD!$G$2:$G$138,SMALL(IF(BD!$B$2:$B$138=$U$118,IF(BD!$B$2:$B$138=$U$118,ROW(BD!$B$2:$B$138)-ROW(BD!$B$2)+1),FALSE),ROWS(BD!$1:16)))))","v":""},{"$f":"IF($U$118=\"\",\"\",IF(ROWS(BD!$1:16)>COUNTIFS(BD!$B:$B,$U$118),\"\",INDEX(BD!$H$2:$H$138,SMALL(IF(BD!$B$2:$B$138=$U$118,IF(BD!$B$2:$B$138=$U$118,ROW(BD!$B$2:$B$138)-ROW(BD!$B$2)+1),FALSE),ROWS(BD!$1:16)))))","v":""},null,{"$f":"IF($AA$118=\"\",\"\",IF(ROWS(BD!$1:16)>COUNTIFS(BD!$B:$B,$AA$118),\"\",INDEX(BD!$C$2:$C$138,SMALL(IF(BD!$B$2:$B$138=$AA$118,IF(BD!$B$2:$B$138=$AA$118,ROW(BD!$B$2:$B$138)-ROW(BD!$B$2)+1),FALSE),ROWS(BD!$1:16)))))","v":""},{"$f":"IF($AA$118=\"\",\"\",IF(ROWS(BD!$1:16)>COUNTIFS(BD!$B:$B,$AA$118),\"\",INDEX(BD!$E$2:$E$138,SMALL(IF(BD!$B$2:$B$138=$AA$118,IF(BD!$B$2:$B$138=$AA$118,ROW(BD!$B$2:$B$138)-ROW(BD!$B$2)+1),FALSE),ROWS(BD!$1:16)))))","v":""},{"$f":"IF($AA$118=\"\",\"\",IF(ROWS(BD!$1:16)>COUNTIFS(BD!$B:$B,$AA$118),\"\",INDEX(BD!$F$2:$F$138,SMALL(IF(BD!$B$2:$B$138=$AA$118,IF(BD!$B$2:$B$138=$AA$118,ROW(BD!$B$2:$B$138)-ROW(BD!$B$2)+1),FALSE),ROWS(BD!$1:16)))))","v":""},{"$f":"IF($AA$118=\"\",\"\",IF(ROWS(BD!$1:16)>COUNTIFS(BD!$B:$B,$AA$118),\"\",INDEX(BD!$G$2:$G$138,SMALL(IF(BD!$B$2:$B$138=$AA$118,IF(BD!$B$2:$B$138=$AA$118,ROW(BD!$B$2:$B$138)-ROW(BD!$B$2)+1),FALSE),ROWS(BD!$1:16)))))","v":""},{"$f":"IF($AA$118=\"\",\"\",IF(ROWS(BD!$1:16)>COUNTIFS(BD!$B:$B,$AA$118),\"\",INDEX(BD!$H$2:$H$138,SMALL(IF(BD!$B$2:$B$138=$AA$118,IF(BD!$B$2:$B$138=$AA$118,ROW(BD!$B$2:$B$138)-ROW(BD!$B$2)+1),FALSE),ROWS(BD!$1:16)))))","v":""},null,{"$f":"IF($AG$118=\"\",\"\",IF(ROWS(BD!$1:16)>COUNTIFS(BD!$B:$B,$AG$118),\"\",INDEX(BD!$C$2:$C$138,SMALL(IF(BD!$B$2:$B$138=$AG$118,IF(BD!$B$2:$B$138=$AG$118,ROW(BD!$B$2:$B$138)-ROW(BD!$B$2)+1),FALSE),ROWS(BD!$1:16)))))","v":""},{"$f":"IF($AG$118=\"\",\"\",IF(ROWS(BD!$1:16)>COUNTIFS(BD!$B:$B,$AG$118),\"\",INDEX(BD!$E$2:$E$138,SMALL(IF(BD!$B$2:$B$138=$AG$118,IF(BD!$B$2:$B$138=$AG$118,ROW(BD!$B$2:$B$138)-ROW(BD!$B$2)+1),FALSE),ROWS(BD!$1:16)))))","v":""},{"$f":"IF($AG$118=\"\",\"\",IF(ROWS(BD!$1:16)>COUNTIFS(BD!$B:$B,$AG$118),\"\",INDEX(BD!$F$2:$F$138,SMALL(IF(BD!$B$2:$B$138=$AG$118,IF(BD!$B$2:$B$138=$AG$118,ROW(BD!$B$2:$B$138)-ROW(BD!$B$2)+1),FALSE),ROWS(BD!$1:16)))))","v":""},{"$f":"IF($AG$118=\"\",\"\",IF(ROWS(BD!$1:16)>COUNTIFS(BD!$B:$B,$AG$118),\"\",INDEX(BD!$G$2:$G$138,SMALL(IF(BD!$B$2:$B$138=$AG$118,IF(BD!$B$2:$B$138=$AG$118,ROW(BD!$B$2:$B$138)-ROW(BD!$B$2)+1),FALSE),ROWS(BD!$1:16)))))","v":""},{"$f":"IF($AG$118=\"\",\"\",IF(ROWS(BD!$1:16)>COUNTIFS(BD!$B:$B,$AG$118),\"\",INDEX(BD!$H$2:$H$138,SMALL(IF(BD!$B$2:$B$138=$AG$118,IF(BD!$B$2:$B$138=$AG$118,ROW(BD!$B$2:$B$138)-ROW(BD!$B$2)+1),FALSE),ROWS(BD!$1:16)))))","v":""},null,{"$f":"IF($AM$118=\"\",\"\",IF(ROWS(BD!$1:16)>COUNTIFS(BD!$B:$B,$AM$118),\"\",INDEX(BD!$C$2:$C$138,SMALL(IF(BD!$B$2:$B$138=$AM$118,IF(BD!$B$2:$B$138=$AM$118,ROW(BD!$B$2:$B$138)-ROW(BD!$B$2)+1),FALSE),ROWS(BD!$1:16)))))","v":""},{"$f":"IF($AM$118=\"\",\"\",IF(ROWS(BD!$1:16)>COUNTIFS(BD!$B:$B,$AM$118),\"\",INDEX(BD!$E$2:$E$138,SMALL(IF(BD!$B$2:$B$138=$AM$118,IF(BD!$B$2:$B$138=$AM$118,ROW(BD!$B$2:$B$138)-ROW(BD!$B$2)+1),FALSE),ROWS(BD!$1:16)))))","v":""},{"$f":"IF($AM$118=\"\",\"\",IF(ROWS(BD!$1:16)>COUNTIFS(BD!$B:$B,$AM$118),\"\",INDEX(BD!$F$2:$F$138,SMALL(IF(BD!$B$2:$B$138=$AM$118,IF(BD!$B$2:$B$138=$AM$118,ROW(BD!$B$2:$B$138)-ROW(BD!$B$2)+1),FALSE),ROWS(BD!$1:16)))))","v":""},{"$f":"IF($AM$118=\"\",\"\",IF(ROWS(BD!$1:16)>COUNTIFS(BD!$B:$B,$AM$118),\"\",INDEX(BD!$G$2:$G$138,SMALL(IF(BD!$B$2:$B$138=$AM$118,IF(BD!$B$2:$B$138=$AM$118,ROW(BD!$B$2:$B$138)-ROW(BD!$B$2)+1),FALSE),ROWS(BD!$1:16)))))","v":""},{"$f":"IF($AM$118=\"\",\"\",IF(ROWS(BD!$1:16)>COUNTIFS(BD!$B:$B,$AM$118),\"\",INDEX(BD!$H$2:$H$138,SMALL(IF(BD!$B$2:$B$138=$AM$118,IF(BD!$B$2:$B$138=$AM$118,ROW(BD!$B$2:$B$138)-ROW(BD!$B$2)+1),FALSE),ROWS(BD!$1:16)))))","v":""}]
[null,null,{"$f":"IF($C$118=\"\",\"\",IF(ROWS(BD!$1:17)>COUNTIFS(BD!$B:$B,$C$118),\"\",INDEX(BD!$C$2:$C$138,SMALL(IF(BD!$B$2:$B$138=$C$118,IF(BD!$B$2:$B$138=$C$118,ROW(BD!$B$2:$B$138)-ROW(BD!$B$2)+1),FALSE),ROWS(BD!$1:17)))))","v":""},{"$f":"IF($C$118=\"\",\"\",IF(ROWS(BD!$1:17)>COUNTIFS(BD!$B:$B,$C$118),\"\",INDEX(BD!$E$2:$E$138,SMALL(IF(BD!$B$2:$B$138=$C$118,IF(BD!$B$2:$B$138=$C$118,ROW(BD!$B$2:$B$138)-ROW(BD!$B$2)+1),FALSE),ROWS(BD!$1:17)))))","v":""},{"$f":"IF($C$118=\"\",\"\",IF(ROWS(BD!$1:17)>COUNTIFS(BD!$B:$B,$C$118),\"\",INDEX(BD!$F$2:$F$138,SMALL(IF(BD!$B$2:$B$138=$C$118,IF(BD!$B$2:$B$138=$C$118,ROW(BD!$B$2:$B$138)-ROW(BD!$B$2)+1),FALSE),ROWS(BD!$1:17)))))","v":""},{"$f":"IF($C$118=\"\",\"\",IF(ROWS(BD!$1:17)>COUNTIFS(BD!$B:$B,$C$118),\"\",INDEX(BD!$G$2:$G$138,SMALL(IF(BD!$B$2:$B$138=$C$118,IF(BD!$B$2:$B$138=$C$118,ROW(BD!$B$2:$B$138)-ROW(BD!$B$2)+1),FALSE),ROWS(BD!$1:17)))))","v":""},{"$f":"IF($C$118=\"\",\"\",IF(ROWS(BD!$1:17)>COUNTIFS(BD!$B:$B,$C$118),\"\",INDEX(BD!$H$2:$H$138,SMALL(IF(BD!$B$2:$B$138=$C$118,IF(BD!$B$2:$B$138=$C$118,ROW(BD!$B$2:$B$138)-ROW(BD!$B$2)+1),FALSE),ROWS(BD!$1:17)))))","v":""},null,{"$f":"IF($I$118=\"\",\"\",IF(ROWS(BD!$1:17)>COUNTIFS(BD!$B:$B,$I$118),\"\",INDEX(BD!$C$2:$C$138,SMALL(IF(BD!$B$2:$B$138=$I$118,IF(BD!$B$2:$B$138=$I$118,ROW(BD!$B$2:$B$138)-ROW(BD!$B$2)+1),FALSE),ROWS(BD!$1:17)))))","v":""},{"$f":"IF($I$118=\"\",\"\",IF(ROWS(BD!$1:17)>COUNTIFS(BD!$B:$B,$I$118),\"\",INDEX(BD!$E$2:$E$138,SMALL(IF(BD!$B$2:$B$138=$I$118,IF(BD!$B$2:$B$138=$I$118,ROW(BD!$B$2:$B$138)-ROW(BD!$B$2)+1),FALSE),ROWS(BD!$1:17)))))","v":""},{"$f":"IF($I$118=\"\",\"\",IF(ROWS(BD!$1:17)>COUNTIFS(BD!$B:$B,$I$118),\"\",INDEX(BD!$F$2:$F$138,SMALL(IF(BD!$B$2:$B$138=$I$118,IF(BD!$B$2:$B$138=$I$118,ROW(BD!$B$2:$B$138)-ROW(BD!$B$2)+1),FALSE),ROWS(BD!$1:17)))))","v":""},{"$f":"IF($I$118=\"\",\"\",IF(ROWS(BD!$1:17)>COUNTIFS(BD!$B:$B,$I$118),\"\",INDEX(BD!$G$2:$G$138,SMALL(IF(BD!$B$2:$B$138=$I$118,IF(BD!$B$2:$B$138=$I$118,ROW(BD!$B$2:$B$138)-ROW(BD!$B$2)+1),FALSE),ROWS(BD!$1:17)))))","v":""},{"$f":"IF($I$118=\"\",\"\",IF(ROWS(BD!$1:17)>COUNTIFS(BD!$B:$B,$I$118),\"\",INDEX(BD!$H$2:$H$138,SMALL(IF(BD!$B$2:$B$138=$I$118,IF(BD!$B$2:$B$138=$I$118,ROW(BD!$B$2:$B$138)-ROW(BD!$B$2)+1),FALSE),ROWS(BD!$1:17)))))","v":""},null,{"$f":"IF($O$118=\"\",\"\",IF(ROWS(BD!$1:17)>COUNTIFS(BD!$B:$B,$O$118),\"\",INDEX(BD!$C$2:$C$138,SMALL(IF(BD!$B$2:$B$138=$O$118,IF(BD!$B$2:$B$138=$O$118,ROW(BD!$B$2:$B$138)-ROW(BD!$B$2)+1),FALSE),ROWS(BD!$1:17)))))","v":""},{"$f":"IF($O$118=\"\",\"\",IF(ROWS(BD!$1:17)>COUNTIFS(BD!$B:$B,$O$118),\"\",INDEX(BD!$E$2:$E$138,SMALL(IF(BD!$B$2:$B$138=$O$118,IF(BD!$B$2:$B$138=$O$118,ROW(BD!$B$2:$B$138)-ROW(BD!$B$2)+1),FALSE),ROWS(BD!$1:17)))))","v":""},{"$f":"IF($O$118=\"\",\"\",IF(ROWS(BD!$1:17)>COUNTIFS(BD!$B:$B,$O$118),\"\",INDEX(BD!$F$2:$F$138,SMALL(IF(BD!$B$2:$B$138=$O$118,IF(BD!$B$2:$B$138=$O$118,ROW(BD!$B$2:$B$138)-ROW(BD!$B$2)+1),FALSE),ROWS(BD!$1:17)))))","v":""},{"$f":"IF($O$118=\"\",\"\",IF(ROWS(BD!$1:17)>COUNTIFS(BD!$B:$B,$O$118),\"\",INDEX(BD!$G$2:$G$138,SMALL(IF(BD!$B$2:$B$138=$O$118,IF(BD!$B$2:$B$138=$O$118,ROW(BD!$B$2:$B$138)-ROW(BD!$B$2)+1),FALSE),ROWS(BD!$1:17)))))","v":""},{"$f":"IF($O$118=\"\",\"\",IF(ROWS(BD!$1:17)>COUNTIFS(BD!$B:$B,$O$118),\"\",INDEX(BD!$H$2:$H$138,SMALL(IF(BD!$B$2:$B$138=$O$118,IF(BD!$B$2:$B$138=$O$118,ROW(BD!$B$2:$B$138)-ROW(BD!$B$2)+1),FALSE),ROWS(BD!$1:17)))))","v":""},null,{"$f":"IF($U$118=\"\",\"\",IF(ROWS(BD!$1:17)>COUNTIFS(BD!$B:$B,$U$118),\"\",INDEX(BD!$C$2:$C$138,SMALL(IF(BD!$B$2:$B$138=$U$118,IF(BD!$B$2:$B$138=$U$118,ROW(BD!$B$2:$B$138)-ROW(BD!$B$2)+1),FALSE),ROWS(BD!$1:17)))))","v":""},{"$f":"IF($U$118=\"\",\"\",IF(ROWS(BD!$1:17)>COUNTIFS(BD!$B:$B,$U$118),\"\",INDEX(BD!$E$2:$E$138,SMALL(IF(BD!$B$2:$B$138=$U$118,IF(BD!$B$2:$B$138=$U$118,ROW(BD!$B$2:$B$138)-ROW(BD!$B$2)+1),FALSE),ROWS(BD!$1:17)))))","v":""},{"$f":"IF($U$118=\"\",\"\",IF(ROWS(BD!$1:17)>COUNTIFS(BD!$B:$B,$U$118),\"\",INDEX(BD!$F$2:$F$138,SMALL(IF(BD!$B$2:$B$138=$U$118,IF(BD!$B$2:$B$138=$U$118,ROW(BD!$B$2:$B$138)-ROW(BD!$B$2)+1),FALSE),ROWS(BD!$1:17)))))","v":""},{"$f":"IF($U$118=\"\",\"\",IF(ROWS(BD!$1:17)>COUNTIFS(BD!$B:$B,$U$118),\"\",INDEX(BD!$G$2:$G$138,SMALL(IF(BD!$B$2:$B$138=$U$118,IF(BD!$B$2:$B$138=$U$118,ROW(BD!$B$2:$B$138)-ROW(BD!$B$2)+1),FALSE),ROWS(BD!$1:17)))))","v":""},{"$f":"IF($U$118=\"\",\"\",IF(ROWS(BD!$1:17)>COUNTIFS(BD!$B:$B,$U$118),\"\",INDEX(BD!$H$2:$H$138,SMALL(IF(BD!$B$2:$B$138=$U$118,IF(BD!$B$2:$B$138=$U$118,ROW(BD!$B$2:$B$138)-ROW(BD!$B$2)+1),FALSE),ROWS(BD!$1:17)))))","v":""},null,{"$f":"IF($AA$118=\"\",\"\",IF(ROWS(BD!$1:17)>COUNTIFS(BD!$B:$B,$AA$118),\"\",INDEX(BD!$C$2:$C$138,SMALL(IF(BD!$B$2:$B$138=$AA$118,IF(BD!$B$2:$B$138=$AA$118,ROW(BD!$B$2:$B$138)-ROW(BD!$B$2)+1),FALSE),ROWS(BD!$1:17)))))","v":""},{"$f":"IF($AA$118=\"\",\"\",IF(ROWS(BD!$1:17)>COUNTIFS(BD!$B:$B,$AA$118),\"\",INDEX(BD!$E$2:$E$138,SMALL(IF(BD!$B$2:$B$138=$AA$118,IF(BD!$B$2:$B$138=$AA$118,ROW(BD!$B$2:$B$138)-ROW(BD!$B$2)+1),FALSE),ROWS(BD!$1:17)))))","v":""},{"$f":"IF($AA$118=\"\",\"\",IF(ROWS(BD!$1:17)>COUNTIFS(BD!$B:$B,$AA$118),\"\",INDEX(BD!$F$2:$F$138,SMALL(IF(BD!$B$2:$B$138=$AA$118,IF(BD!$B$2:$B$138=$AA$118,ROW(BD!$B$2:$B$138)-ROW(BD!$B$2)+1),FALSE),ROWS(BD!$1:17)))))","v":""},{"$f":"IF($AA$118=\"\",\"\",IF(ROWS(BD!$1:17)>COUNTIFS(BD!$B:$B,$AA$118),\"\",INDEX(BD!$G$2:$G$138,SMALL(IF(BD!$B$2:$B$138=$AA$118,IF(BD!$B$2:$B$138=$AA$118,ROW(BD!$B$2:$B$138)-ROW(BD!$B$2)+1),FALSE),ROWS(BD!$1:17)))))","v":""},{"$f":"IF($AA$118=\"\",\"\",IF(ROWS(BD!$1:17)>COUNTIFS(BD!$B:$B,$AA$118),\"\",INDEX(BD!$H$2:$H$138,SMALL(IF(BD!$B$2:$B$138=$AA$118,IF(BD!$B$2:$B$138=$AA$118,ROW(BD!$B$2:$B$138)-ROW(BD!$B$2)+1),FALSE),ROWS(BD!$1:17)))))","v":""},null,{"$f":"IF($AG$118=\"\",\"\",IF(ROWS(BD!$1:17)>COUNTIFS(BD!$B:$B,$AG$118),\"\",INDEX(BD!$C$2:$C$138,SMALL(IF(BD!$B$2:$B$138=$AG$118,IF(BD!$B$2:$B$138=$AG$118,ROW(BD!$B$2:$B$138)-ROW(BD!$B$2)+1),FALSE),ROWS(BD!$1:17)))))","v":""},{"$f":"IF($AG$118=\"\",\"\",IF(ROWS(BD!$1:17)>COUNTIFS(BD!$B:$B,$AG$118),\"\",INDEX(BD!$E$2:$E$138,SMALL(IF(BD!$B$2:$B$138=$AG$118,IF(BD!$B$2:$B$138=$AG$118,ROW(BD!$B$2:$B$138)-ROW(BD!$B$2)+1),FALSE),ROWS(BD!$1:17)))))","v":""},{"$f":"IF($AG$118=\"\",\"\",IF(ROWS(BD!$1:17)>COUNTIFS(BD!$B:$B,$AG$118),\"\",INDEX(BD!$F$2:$F$138,SMALL(IF(BD!$B$2:$B$138=$AG$118,IF(BD!$B$2:$B$138=$AG$118,ROW(BD!$B$2:$B$138)-ROW(BD!$B$2)+1),FALSE),ROWS(BD!$1:17)))))","v":""},{"$f":"IF($AG$118=\"\",\"\",IF(ROWS(BD!$1:17)>COUNTIFS(BD!$B:$B,$AG$118),\"\",INDEX(BD!$G$2:$G$138,SMALL(IF(BD!$B$2:$B$138=$AG$118,IF(BD!$B$2:$B$138=$AG$118,ROW(BD!$B$2:$B$138)-ROW(BD!$B$2)+1),FALSE),ROWS(BD!$1:17)))))","v":""},{"$f":"IF($AG$118=\"\",\"\",IF(ROWS(BD!$1:17)>COUNTIFS(BD!$B:$B,$AG$118),\"\",INDEX(BD!$H$2:$H$138,SMALL(IF(BD!$B$2:$B$138=$AG$118,IF(BD!$B$2:$B$138=$AG$118,ROW(BD!$B$2:$B$138)-ROW(BD!$B$2)+1),FALSE),ROWS(BD!$1:17)))))","v":""},null,{"$f":"IF($AM$118=\"\",\"\",IF(ROWS(BD!$1:17)>COUNTIFS(BD!$B:$B,$AM$118),\"\",INDEX(BD!$C$2:$C$138,SMALL(IF(BD!$B$2:$B$138=$AM$118,IF(BD!$B$2:$B$138=$AM$118,ROW(BD!$B$2:$B$138)-ROW(BD!$B$2)+1),FALSE),ROWS(BD!$1:17)))))","v":""},{"$f":"IF($AM$118=\"\",\"\",IF(ROWS(BD!$1:17)>COUNTIFS(BD!$B:$B,$AM$118),\"\",INDEX(BD!$E$2:$E$138,SMALL(IF(BD!$B$2:$B$138=$AM$118,IF(BD!$B$2:$B$138=$AM$118,ROW(BD!$B$2:$B$138)-ROW(BD!$B$2)+1),FALSE),ROWS(BD!$1:17)))))","v":""},{"$f":"IF($AM$118=\"\",\"\",IF(ROWS(BD!$1:17)>COUNTIFS(BD!$B:$B,$AM$118),\"\",INDEX(BD!$F$2:$F$138,SMALL(IF(BD!$B$2:$B$138=$AM$118,IF(BD!$B$2:$B$138=$AM$118,ROW(BD!$B$2:$B$138)-ROW(BD!$B$2)+1),FALSE),ROWS(BD!$1:17)))))","v":""},{"$f":"IF($AM$118=\"\",\"\",IF(ROWS(BD!$1:17)>COUNTIFS(BD!$B:$B,$AM$118),\"\",INDEX(BD!$G$2:$G$138,SMALL(IF(BD!$B$2:$B$138=$AM$118,IF(BD!$B$2:$B$138=$AM$118,ROW(BD!$B$2:$B$138)-ROW(BD!$B$2)+1),FALSE),ROWS(BD!$1:17)))))","v":""},{"$f":"IF($AM$118=\"\",\"\",IF(ROWS(BD!$1:17)>COUNTIFS(BD!$B:$B,$AM$118),\"\",INDEX(BD!$H$2:$H$138,SMALL(IF(BD!$B$2:$B$138=$AM$118,IF(BD!$B$2:$B$138=$AM$118,ROW(BD!$B$2:$B$138)-ROW(BD!$B$2)+1),FALSE),ROWS(BD!$1:17)))))","v":""}]
[null,null,{"$f":"IF($C$118=\"\",\"\",IF(ROWS(BD!$1:18)>COUNTIFS(BD!$B:$B,$C$118),\"\",INDEX(BD!$C$2:$C$138,SMALL(IF(BD!$B$2:$B$138=$C$118,IF(BD!$B$2:$B$138=$C$118,ROW(BD!$B$2:$B$138)-ROW(BD!$B$2)+1),FALSE),ROWS(BD!$1:18)))))","v":""},{"$f":"IF($C$118=\"\",\"\",IF(ROWS(BD!$1:18)>COUNTIFS(BD!$B:$B,$C$118),\"\",INDEX(BD!$E$2:$E$138,SMALL(IF(BD!$B$2:$B$138=$C$118,IF(BD!$B$2:$B$138=$C$118,ROW(BD!$B$2:$B$138)-ROW(BD!$B$2)+1),FALSE),ROWS(BD!$1:18)))))","v":""},{"$f":"IF($C$118=\"\",\"\",IF(ROWS(BD!$1:18)>COUNTIFS(BD!$B:$B,$C$118),\"\",INDEX(BD!$F$2:$F$138,SMALL(IF(BD!$B$2:$B$138=$C$118,IF(BD!$B$2:$B$138=$C$118,ROW(BD!$B$2:$B$138)-ROW(BD!$B$2)+1),FALSE),ROWS(BD!$1:18)))))","v":""},{"$f":"IF($C$118=\"\",\"\",IF(ROWS(BD!$1:18)>COUNTIFS(BD!$B:$B,$C$118),\"\",INDEX(BD!$G$2:$G$138,SMALL(IF(BD!$B$2:$B$138=$C$118,IF(BD!$B$2:$B$138=$C$118,ROW(BD!$B$2:$B$138)-ROW(BD!$B$2)+1),FALSE),ROWS(BD!$1:18)))))","v":""},{"$f":"IF($C$118=\"\",\"\",IF(ROWS(BD!$1:18)>COUNTIFS(BD!$B:$B,$C$118),\"\",INDEX(BD!$H$2:$H$138,SMALL(IF(BD!$B$2:$B$138=$C$118,IF(BD!$B$2:$B$138=$C$118,ROW(BD!$B$2:$B$138)-ROW(BD!$B$2)+1),FALSE),ROWS(BD!$1:18)))))","v":""},null,{"$f":"IF($I$118=\"\",\"\",IF(ROWS(BD!$1:18)>COUNTIFS(BD!$B:$B,$I$118),\"\",INDEX(BD!$C$2:$C$138,SMALL(IF(BD!$B$2:$B$138=$I$118,IF(BD!$B$2:$B$138=$I$118,ROW(BD!$B$2:$B$138)-ROW(BD!$B$2)+1),FALSE),ROWS(BD!$1:18)))))","v":""},{"$f":"IF($I$118=\"\",\"\",IF(ROWS(BD!$1:18)>COUNTIFS(BD!$B:$B,$I$118),\"\",INDEX(BD!$E$2:$E$138,SMALL(IF(BD!$B$2:$B$138=$I$118,IF(BD!$B$2:$B$138=$I$118,ROW(BD!$B$2:$B$138)-ROW(BD!$B$2)+1),FALSE),ROWS(BD!$1:18)))))","v":""},{"$f":"IF($I$118=\"\",\"\",IF(ROWS(BD!$1:18)>COUNTIFS(BD!$B:$B,$I$118),\"\",INDEX(BD!$F$2:$F$138,SMALL(IF(BD!$B$2:$B$138=$I$118,IF(BD!$B$2:$B$138=$I$118,ROW(BD!$B$2:$B$138)-ROW(BD!$B$2)+1),FALSE),ROWS(BD!$1:18)))))","v":""},{"$f":"IF($I$118=\"\",\"\",IF(ROWS(BD!$1:18)>COUNTIFS(BD!$B:$B,$I$118),\"\",INDEX(BD!$G$2:$G$138,SMALL(IF(BD!$B$2:$B$138=$I$118,IF(BD!$B$2:$B$138=$I$118,ROW(BD!$B$2:$B$138)-ROW(BD!$B$2)+1),FALSE),ROWS(BD!$1:18)))))","v":""},{"$f":"IF($I$118=\"\",\"\",IF(ROWS(BD!$1:18)>COUNTIFS(BD!$B:$B,$I$118),\"\",INDEX(BD!$H$2:$H$138,SMALL(IF(BD!$B$2:$B$138=$I$118,IF(BD!$B$2:$B$138=$I$118,ROW(BD!$B$2:$B$138)-ROW(BD!$B$2)+1),FALSE),ROWS(BD!$1:18)))))","v":""},null,{"$f":"IF($O$118=\"\",\"\",IF(ROWS(BD!$1:18)>COUNTIFS(BD!$B:$B,$O$118),\"\",INDEX(BD!$C$2:$C$138,SMALL(IF(BD!$B$2:$B$138=$O$118,IF(BD!$B$2:$B$138=$O$118,ROW(BD!$B$2:$B$138)-ROW(BD!$B$2)+1),FALSE),ROWS(BD!$1:18)))))","v":""},{"$f":"IF($O$118=\"\",\"\",IF(ROWS(BD!$1:18)>COUNTIFS(BD!$B:$B,$O$118),\"\",INDEX(BD!$E$2:$E$138,SMALL(IF(BD!$B$2:$B$138=$O$118,IF(BD!$B$2:$B$138=$O$118,ROW(BD!$B$2:$B$138)-ROW(BD!$B$2)+1),FALSE),ROWS(BD!$1:18)))))","v":""},{"$f":"IF($O$118=\"\",\"\",IF(ROWS(BD!$1:18)>COUNTIFS(BD!$B:$B,$O$118),\"\",INDEX(BD!$F$2:$F$138,SMALL(IF(BD!$B$2:$B$138=$O$118,IF(BD!$B$2:$B$138=$O$118,ROW(BD!$B$2:$B$138)-ROW(BD!$B$2)+1),FALSE),ROWS(BD!$1:18)))))","v":""},{"$f":"IF($O$118=\"\",\"\",IF(ROWS(BD!$1:18)>COUNTIFS(BD!$B:$B,$O$118),\"\",INDEX(BD!$G$2:$G$138,SMALL(IF(BD!$B$2:$B$138=$O$118,IF(BD!$B$2:$B$138=$O$118,ROW(BD!$B$2:$B$138)-ROW(BD!$B$2)+1),FALSE),ROWS(BD!$1:18)))))","v":""},{"$f":"IF($O$118=\"\",\"\",IF(ROWS(BD!$1:18)>COUNTIFS(BD!$B:$B,$O$118),\"\",INDEX(BD!$H$2:$H$138,SMALL(IF(BD!$B$2:$B$138=$O$118,IF(BD!$B$2:$B$138=$O$118,ROW(BD!$B$2:$B$138)-ROW(BD!$B$2)+1),FALSE),ROWS(BD!$1:18)))))","v":""},null,{"$f":"IF($U$118=\"\",\"\",IF(ROWS(BD!$1:18)>COUNTIFS(BD!$B:$B,$U$118),\"\",INDEX(BD!$C$2:$C$138,SMALL(IF(BD!$B$2:$B$138=$U$118,IF(BD!$B$2:$B$138=$U$118,ROW(BD!$B$2:$B$138)-ROW(BD!$B$2)+1),FALSE),ROWS(BD!$1:18)))))","v":""},{"$f":"IF($U$118=\"\",\"\",IF(ROWS(BD!$1:18)>COUNTIFS(BD!$B:$B,$U$118),\"\",INDEX(BD!$E$2:$E$138,SMALL(IF(BD!$B$2:$B$138=$U$118,IF(BD!$B$2:$B$138=$U$118,ROW(BD!$B$2:$B$138)-ROW(BD!$B$2)+1),FALSE),ROWS(BD!$1:18)))))","v":""},{"$f":"IF($U$118=\"\",\"\",IF(ROWS(BD!$1:18)>COUNTIFS(BD!$B:$B,$U$118),\"\",INDEX(BD!$F$2:$F$138,SMALL(IF(BD!$B$2:$B$138=$U$118,IF(BD!$B$2:$B$138=$U$118,ROW(BD!$B$2:$B$138)-ROW(BD!$B$2)+1),FALSE),ROWS(BD!$1:18)))))","v":""},{"$f":"IF($U$118=\"\",\"\",IF(ROWS(BD!$1:18)>COUNTIFS(BD!$B:$B,$U$118),\"\",INDEX(BD!$G$2:$G$138,SMALL(IF(BD!$B$2:$B$138=$U$118,IF(BD!$B$2:$B$138=$U$118,ROW(BD!$B$2:$B$138)-ROW(BD!$B$2)+1),FALSE),ROWS(BD!$1:18)))))","v":""},{"$f":"IF($U$118=\"\",\"\",IF(ROWS(BD!$1:18)>COUNTIFS(BD!$B:$B,$U$118),\"\",INDEX(BD!$H$2:$H$138,SMALL(IF(BD!$B$2:$B$138=$U$118,IF(BD!$B$2:$B$138=$U$118,ROW(BD!$B$2:$B$138)-ROW(BD!$B$2)+1),FALSE),ROWS(BD!$1:18)))))","v":""},null,{"$f":"IF($AA$118=\"\",\"\",IF(ROWS(BD!$1:18)>COUNTIFS(BD!$B:$B,$AA$118),\"\",INDEX(BD!$C$2:$C$138,SMALL(IF(BD!$B$2:$B$138=$AA$118,IF(BD!$B$2:$B$138=$AA$118,ROW(BD!$B$2:$B$138)-ROW(BD!$B$2)+1),FALSE),ROWS(BD!$1:18)))))","v":""},{"$f":"IF($AA$118=\"\",\"\",IF(ROWS(BD!$1:18)>COUNTIFS(BD!$B:$B,$AA$118),\"\",INDEX(BD!$E$2:$E$138,SMALL(IF(BD!$B$2:$B$138=$AA$118,IF(BD!$B$2:$B$138=$AA$118,ROW(BD!$B$2:$B$138)-ROW(BD!$B$2)+1),FALSE),ROWS(BD!$1:18)))))","v":""},{"$f":"IF($AA$118=\"\",\"\",IF(ROWS(BD!$1:18)>COUNTIFS(BD!$B:$B,$AA$118),\"\",INDEX(BD!$F$2:$F$138,SMALL(IF(BD!$B$2:$B$138=$AA$118,IF(BD!$B$2:$B$138=$AA$118,ROW(BD!$B$2:$B$138)-ROW(BD!$B$2)+1),FALSE),ROWS(BD!$1:18)))))","v":""},{"$f":"IF($AA$118=\"\",\"\",IF(ROWS(BD!$1:18)>COUNTIFS(BD!$B:$B,$AA$118),\"\",INDEX(BD!$G$2:$G$138,SMALL(IF(BD!$B$2:$B$138=$AA$118,IF(BD!$B$2:$B$138=$AA$118,ROW(BD!$B$2:$B$138)-ROW(BD!$B$2)+1),FALSE),ROWS(BD!$1:18)))))","v":""},{"$f":"IF($AA$118=\"\",\"\",IF(ROWS(BD!$1:18)>COUNTIFS(BD!$B:$B,$AA$118),\"\",INDEX(BD!$H$2:$H$138,SMALL(IF(BD!$B$2:$B$138=$AA$118,IF(BD!$B$2:$B$138=$AA$118,ROW(BD!$B$2:$B$138)-ROW(BD!$B$2)+1),FALSE),ROWS(BD!$1:18)))))","v":""},null,{"$f":"IF($AG$118=\"\",\"\",IF(ROWS(BD!$1:18)>COUNTIFS(BD!$B:$B,$AG$118),\"\",INDEX(BD!$C$2:$C$138,SMALL(IF(BD!$B$2:$B$138=$AG$118,IF(BD!$B$2:$B$138=$AG$118,ROW(BD!$B$2:$B$138)-ROW(BD!$B$2)+1),FALSE),ROWS(BD!$1:18)))))","v":""},{"$f":"IF($AG$118=\"\",\"\",IF(ROWS(BD!$1:18)>COUNTIFS(BD!$B:$B,$AG$118),\"\",INDEX(BD!$E$2:$E$138,SMALL(IF(BD!$B$2:$B$138=$AG$118,IF(BD!$B$2:$B$138=$AG$118,ROW(BD!$B$2:$B$138)-ROW(BD!$B$2)+1),FALSE),ROWS(BD!$1:18)))))","v":""},{"$f":"IF($AG$118=\"\",\"\",IF(ROWS(BD!$1:18)>COUNTIFS(BD!$B:$B,$AG$118),\"\",INDEX(BD!$F$2:$F$138,SMALL(IF(BD!$B$2:$B$138=$AG$118,IF(BD!$B$2:$B$138=$AG$118,ROW(BD!$B$2:$B$138)-ROW(BD!$B$2)+1),FALSE),ROWS(BD!$1:18)))))","v":""},{"$f":"IF($AG$118=\"\",\"\",IF(ROWS(BD!$1:18)>COUNTIFS(BD!$B:$B,$AG$118),\"\",INDEX(BD!$G$2:$G$138,SMALL(IF(BD!$B$2:$B$138=$AG$118,IF(BD!$B$2:$B$138=$AG$118,ROW(BD!$B$2:$B$138)-ROW(BD!$B$2)+1),FALSE),ROWS(BD!$1:18)))))","v":""},{"$f":"IF($AG$118=\"\",\"\",IF(ROWS(BD!$1:18)>COUNTIFS(BD!$B:$B,$AG$118),\"\",INDEX(BD!$H$2:$H$138,SMALL(IF(BD!$B$2:$B$138=$AG$118,IF(BD!$B$2:$B$138=$AG$118,ROW(BD!$B$2:$B$138)-ROW(BD!$B$2)+1),FALSE),ROWS(BD!$1:18)))))","v":""},null,{"$f":"IF($AM$118=\"\",\"\",IF(ROWS(BD!$1:18)>COUNTIFS(BD!$B:$B,$AM$118),\"\",INDEX(BD!$C$2:$C$138,SMALL(IF(BD!$B$2:$B$138=$AM$118,IF(BD!$B$2:$B$138=$AM$118,ROW(BD!$B$2:$B$138)-ROW(BD!$B$2)+1),FALSE),ROWS(BD!$1:18)))))","v":""},{"$f":"IF($AM$118=\"\",\"\",IF(ROWS(BD!$1:18)>COUNTIFS(BD!$B:$B,$AM$118),\"\",INDEX(BD!$E$2:$E$138,SMALL(IF(BD!$B$2:$B$138=$AM$118,IF(BD!$B$2:$B$138=$AM$118,ROW(BD!$B$2:$B$138)-ROW(BD!$B$2)+1),FALSE),ROWS(BD!$1:18)))))","v":""},{"$f":"IF($AM$118=\"\",\"\",IF(ROWS(BD!$1:18)>COUNTIFS(BD!$B:$B,$AM$118),\"\",INDEX(BD!$F$2:$F$138,SMALL(IF(BD!$B$2:$B$138=$AM$118,IF(BD!$B$2:$B$138=$AM$118,ROW(BD!$B$2:$B$138)-ROW(BD!$B$2)+1),FALSE),ROWS(BD!$1:18)))))","v":""},{"$f":"IF($AM$118=\"\",\"\",IF(ROWS(BD!$1:18)>COUNTIFS(BD!$B:$B,$AM$118),\"\",INDEX(BD!$G$2:$G$138,SMALL(IF(BD!$B$2:$B$138=$AM$118,IF(BD!$B$2:$B$138=$AM$118,ROW(BD!$B$2:$B$138)-ROW(BD!$B$2)+1),FALSE),ROWS(BD!$1:18)))))","v":""},{"$f":"IF($AM$118=\"\",\"\",IF(ROWS(BD!$1:18)>COUNTIFS(BD!$B:$B,$AM$118),\"\",INDEX(BD!$H$2:$H$138,SMALL(IF(BD!$B$2:$B$138=$AM$118,IF(BD!$B$2:$B$138=$AM$118,ROW(BD!$B$2:$B$138)-ROW(BD!$B$2)+1),FALSE),ROWS(BD!$1:18)))))","v":""}]
[null,null,{"$f":"IF($C$118=\"\",\"\",IF(ROWS(BD!$1:19)>COUNTIFS(BD!$B:$B,$C$118),\"\",INDEX(BD!$C$2:$C$138,SMALL(IF(BD!$B$2:$B$138=$C$118,IF(BD!$B$2:$B$138=$C$118,ROW(BD!$B$2:$B$138)-ROW(BD!$B$2)+1),FALSE),ROWS(BD!$1:19)))))","v":""},{"$f":"IF($C$118=\"\",\"\",IF(ROWS(BD!$1:19)>COUNTIFS(BD!$B:$B,$C$118),\"\",INDEX(BD!$E$2:$E$138,SMALL(IF(BD!$B$2:$B$138=$C$118,IF(BD!$B$2:$B$138=$C$118,ROW(BD!$B$2:$B$138)-ROW(BD!$B$2)+1),FALSE),ROWS(BD!$1:19)))))","v":""},{"$f":"IF($C$118=\"\",\"\",IF(ROWS(BD!$1:19)>COUNTIFS(BD!$B:$B,$C$118),\"\",INDEX(BD!$F$2:$F$138,SMALL(IF(BD!$B$2:$B$138=$C$118,IF(BD!$B$2:$B$138=$C$118,ROW(BD!$B$2:$B$138)-ROW(BD!$B$2)+1),FALSE),ROWS(BD!$1:19)))))","v":""},{"$f":"IF($C$118=\"\",\"\",IF(ROWS(BD!$1:19)>COUNTIFS(BD!$B:$B,$C$118),\"\",INDEX(BD!$G$2:$G$138,SMALL(IF(BD!$B$2:$B$138=$C$118,IF(BD!$B$2:$B$138=$C$118,ROW(BD!$B$2:$B$138)-ROW(BD!$B$2)+1),FALSE),ROWS(BD!$1:19)))))","v":""},{"$f":"IF($C$118=\"\",\"\",IF(ROWS(BD!$1:19)>COUNTIFS(BD!$B:$B,$C$118),\"\",INDEX(BD!$H$2:$H$138,SMALL(IF(BD!$B$2:$B$138=$C$118,IF(BD!$B$2:$B$138=$C$118,ROW(BD!$B$2:$B$138)-ROW(BD!$B$2)+1),FALSE),ROWS(BD!$1:19)))))","v":""},null,{"$f":"IF($I$118=\"\",\"\",IF(ROWS(BD!$1:19)>COUNTIFS(BD!$B:$B,$I$118),\"\",INDEX(BD!$C$2:$C$138,SMALL(IF(BD!$B$2:$B$138=$I$118,IF(BD!$B$2:$B$138=$I$118,ROW(BD!$B$2:$B$138)-ROW(BD!$B$2)+1),FALSE),ROWS(BD!$1:19)))))","v":""},{"$f":"IF($I$118=\"\",\"\",IF(ROWS(BD!$1:19)>COUNTIFS(BD!$B:$B,$I$118),\"\",INDEX(BD!$E$2:$E$138,SMALL(IF(BD!$B$2:$B$138=$I$118,IF(BD!$B$2:$B$138=$I$118,ROW(BD!$B$2:$B$138)-ROW(BD!$B$2)+1),FALSE),ROWS(BD!$1:19)))))","v":""},{"$f":"IF($I$118=\"\",\"\",IF(ROWS(BD!$1:19)>COUNTIFS(BD!$B:$B,$I$118),\"\",INDEX(BD!$F$2:$F$138,SMALL(IF(BD!$B$2:$B$138=$I$118,IF(BD!$B$2:$B$138=$I$118,ROW(BD!$B$2:$B$138)-ROW(BD!$B$2)+1),FALSE),ROWS(BD!$1:19)))))","v":""},{"$f":"IF($I$118=\"\",\"\",IF(ROWS(BD!$1:19)>COUNTIFS(BD!$B:$B,$I$118),\"\",INDEX(BD!$G$2:$G$138,SMALL(IF(BD!$B$2:$B$138=$I$118,IF(BD!$B$2:$B$138=$I$118,ROW(BD!$B$2:$B$138)-ROW(BD!$B$2)+1),FALSE),ROWS(BD!$1:19)))))","v":""},{"$f":"IF($I$118=\"\",\"\",IF(ROWS(BD!$1:19)>COUNTIFS(BD!$B:$B,$I$118),\"\",INDEX(BD!$H$2:$H$138,SMALL(IF(BD!$B$2:$B$138=$I$118,IF(BD!$B$2:$B$138=$I$118,ROW(BD!$B$2:$B$138)-ROW(BD!$B$2)+1),FALSE),ROWS(BD!$1:19)))))","v":""},null,{"$f":"IF($O$118=\"\",\"\",IF(ROWS(BD!$1:19)>COUNTIFS(BD!$B:$B,$O$118),\"\",INDEX(BD!$C$2:$C$138,SMALL(IF(BD!$B$2:$B$138=$O$118,IF(BD!$B$2:$B$138=$O$118,ROW(BD!$B$2:$B$138)-ROW(BD!$B$2)+1),FALSE),ROWS(BD!$1:19)))))","v":""},{"$f":"IF($O$118=\"\",\"\",IF(ROWS(BD!$1:19)>COUNTIFS(BD!$B:$B,$O$118),\"\",INDEX(BD!$E$2:$E$138,SMALL(IF(BD!$B$2:$B$138=$O$118,IF(BD!$B$2:$B$138=$O$118,ROW(BD!$B$2:$B$138)-ROW(BD!$B$2)+1),FALSE),ROWS(BD!$1:19)))))","v":""},{"$f":"IF($O$118=\"\",\"\",IF(ROWS(BD!$1:19)>COUNTIFS(BD!$B:$B,$O$118),\"\",INDEX(BD!$F$2:$F$138,SMALL(IF(BD!$B$2:$B$138=$O$118,IF(BD!$B$2:$B$138=$O$118,ROW(BD!$B$2:$B$138)-ROW(BD!$B$2)+1),FALSE),ROWS(BD!$1:19)))))","v":""},{"$f":"IF($O$118=\"\",\"\",IF(ROWS(BD!$1:19)>COUNTIFS(BD!$B:$B,$O$118),\"\",INDEX(BD!$G$2:$G$138,SMALL(IF(BD!$B$2:$B$138=$O$118,IF(BD!$B$2:$B$138=$O$118,ROW(BD!$B$2:$B$138)-ROW(BD!$B$2)+1),FALSE),ROWS(BD!$1:19)))))","v":""},{"$f":"IF($O$118=\"\",\"\",IF(ROWS(BD!$1:19)>COUNTIFS(BD!$B:$B,$O$118),\"\",INDEX(BD!$H$2:$H$138,SMALL(IF(BD!$B$2:$B$138=$O$118,IF(BD!$B$2:$B$138=$O$118,ROW(BD!$B$2:$B$138)-ROW(BD!$B$2)+1),FALSE),ROWS(BD!$1:19)))))","v":""},null,{"$f":"IF($U$118=\"\",\"\",IF(ROWS(BD!$1:19)>COUNTIFS(BD!$B:$B,$U$118),\"\",INDEX(BD!$C$2:$C$138,SMALL(IF(BD!$B$2:$B$138=$U$118,IF(BD!$B$2:$B$138=$U$118,ROW(BD!$B$2:$B$138)-ROW(BD!$B$2)+1),FALSE),ROWS(BD!$1:19)))))","v":""},{"$f":"IF($U$118=\"\",\"\",IF(ROWS(BD!$1:19)>COUNTIFS(BD!$B:$B,$U$118),\"\",INDEX(BD!$E$2:$E$138,SMALL(IF(BD!$B$2:$B$138=$U$118,IF(BD!$B$2:$B$138=$U$118,ROW(BD!$B$2:$B$138)-ROW(BD!$B$2)+1),FALSE),ROWS(BD!$1:19)))))","v":""},{"$f":"IF($U$118=\"\",\"\",IF(ROWS(BD!$1:19)>COUNTIFS(BD!$B:$B,$U$118),\"\",INDEX(BD!$F$2:$F$138,SMALL(IF(BD!$B$2:$B$138=$U$118,IF(BD!$B$2:$B$138=$U$118,ROW(BD!$B$2:$B$138)-ROW(BD!$B$2)+1),FALSE),ROWS(BD!$1:19)))))","v":""},{"$f":"IF($U$118=\"\",\"\",IF(ROWS(BD!$1:19)>COUNTIFS(BD!$B:$B,$U$118),\"\",INDEX(BD!$G$2:$G$138,SMALL(IF(BD!$B$2:$B$138=$U$118,IF(BD!$B$2:$B$138=$U$118,ROW(BD!$B$2:$B$138)-ROW(BD!$B$2)+1),FALSE),ROWS(BD!$1:19)))))","v":""},{"$f":"IF($U$118=\"\",\"\",IF(ROWS(BD!$1:19)>COUNTIFS(BD!$B:$B,$U$118),\"\",INDEX(BD!$H$2:$H$138,SMALL(IF(BD!$B$2:$B$138=$U$118,IF(BD!$B$2:$B$138=$U$118,ROW(BD!$B$2:$B$138)-ROW(BD!$B$2)+1),FALSE),ROWS(BD!$1:19)))))","v":""},null,{"$f":"IF($AA$118=\"\",\"\",IF(ROWS(BD!$1:19)>COUNTIFS(BD!$B:$B,$AA$118),\"\",INDEX(BD!$C$2:$C$138,SMALL(IF(BD!$B$2:$B$138=$AA$118,IF(BD!$B$2:$B$138=$AA$118,ROW(BD!$B$2:$B$138)-ROW(BD!$B$2)+1),FALSE),ROWS(BD!$1:19)))))","v":""},{"$f":"IF($AA$118=\"\",\"\",IF(ROWS(BD!$1:19)>COUNTIFS(BD!$B:$B,$AA$118),\"\",INDEX(BD!$E$2:$E$138,SMALL(IF(BD!$B$2:$B$138=$AA$118,IF(BD!$B$2:$B$138=$AA$118,ROW(BD!$B$2:$B$138)-ROW(BD!$B$2)+1),FALSE),ROWS(BD!$1:19)))))","v":""},{"$f":"IF($AA$118=\"\",\"\",IF(ROWS(BD!$1:19)>COUNTIFS(BD!$B:$B,$AA$118),\"\",INDEX(BD!$F$2:$F$138,SMALL(IF(BD!$B$2:$B$138=$AA$118,IF(BD!$B$2:$B$138=$AA$118,ROW(BD!$B$2:$B$138)-ROW(BD!$B$2)+1),FALSE),ROWS(BD!$1:19)))))","v":""},{"$f":"IF($AA$118=\"\",\"\",IF(ROWS(BD!$1:19)>COUNTIFS(BD!$B:$B,$AA$118),\"\",INDEX(BD!$G$2:$G$138,SMALL(IF(BD!$B$2:$B$138=$AA$118,IF(BD!$B$2:$B$138=$AA$118,ROW(BD!$B$2:$B$138)-ROW(BD!$B$2)+1),FALSE),ROWS(BD!$1:19)))))","v":""},{"$f":"IF($AA$118=\"\",\"\",IF(ROWS(BD!$1:19)>COUNTIFS(BD!$B:$B,$AA$118),\"\",INDEX(BD!$H$2:$H$138,SMALL(IF(BD!$B$2:$B$138=$AA$118,IF(BD!$B$2:$B$138=$AA$118,ROW(BD!$B$2:$B$138)-ROW(BD!$B$2)+1),FALSE),ROWS(BD!$1:19)))))","v":""},null,{"$f":"IF($AG$118=\"\",\"\",IF(ROWS(BD!$1:19)>COUNTIFS(BD!$B:$B,$AG$118),\"\",INDEX(BD!$C$2:$C$138,SMALL(IF(BD!$B$2:$B$138=$AG$118,IF(BD!$B$2:$B$138=$AG$118,ROW(BD!$B$2:$B$138)-ROW(BD!$B$2)+1),FALSE),ROWS(BD!$1:19)))))","v":""},{"$f":"IF($AG$118=\"\",\"\",IF(ROWS(BD!$1:19)>COUNTIFS(BD!$B:$B,$AG$118),\"\",INDEX(BD!$E$2:$E$138,SMALL(IF(BD!$B$2:$B$138=$AG$118,IF(BD!$B$2:$B$138=$AG$118,ROW(BD!$B$2:$B$138)-ROW(BD!$B$2)+1),FALSE),ROWS(BD!$1:19)))))","v":""},{"$f":"IF($AG$118=\"\",\"\",IF(ROWS(BD!$1:19)>COUNTIFS(BD!$B:$B,$AG$118),\"\",INDEX(BD!$F$2:$F$138,SMALL(IF(BD!$B$2:$B$138=$AG$118,IF(BD!$B$2:$B$138=$AG$118,ROW(BD!$B$2:$B$138)-ROW(BD!$B$2)+1),FALSE),ROWS(BD!$1:19)))))","v":""},{"$f":"IF($AG$118=\"\",\"\",IF(ROWS(BD!$1:19)>COUNTIFS(BD!$B:$B,$AG$118),\"\",INDEX(BD!$G$2:$G$138,SMALL(IF(BD!$B$2:$B$138=$AG$118,IF(BD!$B$2:$B$138=$AG$118,ROW(BD!$B$2:$B$138)-ROW(BD!$B$2)+1),FALSE),ROWS(BD!$1:19)))))","v":""},{"$f":"IF($AG$118=\"\",\"\",IF(ROWS(BD!$1:19)>COUNTIFS(BD!$B:$B,$AG$118),\"\",INDEX(BD!$H$2:$H$138,SMALL(IF(BD!$B$2:$B$138=$AG$118,IF(BD!$B$2:$B$138=$AG$118,ROW(BD!$B$2:$B$138)-ROW(BD!$B$2)+1),FALSE),ROWS(BD!$1:19)))))","v":""},null,{"$f":"IF($AM$118=\"\",\"\",IF(ROWS(BD!$1:19)>COUNTIFS(BD!$B:$B,$AM$118),\"\",INDEX(BD!$C$2:$C$138,SMALL(IF(BD!$B$2:$B$138=$AM$118,IF(BD!$B$2:$B$138=$AM$118,ROW(BD!$B$2:$B$138)-ROW(BD!$B$2)+1),FALSE),ROWS(BD!$1:19)))))","v":""},{"$f":"IF($AM$118=\"\",\"\",IF(ROWS(BD!$1:19)>COUNTIFS(BD!$B:$B,$AM$118),\"\",INDEX(BD!$E$2:$E$138,SMALL(IF(BD!$B$2:$B$138=$AM$118,IF(BD!$B$2:$B$138=$AM$118,ROW(BD!$B$2:$B$138)-ROW(BD!$B$2)+1),FALSE),ROWS(BD!$1:19)))))","v":""},{"$f":"IF($AM$118=\"\",\"\",IF(ROWS(BD!$1:19)>COUNTIFS(BD!$B:$B,$AM$118),\"\",INDEX(BD!$F$2:$F$138,SMALL(IF(BD!$B$2:$B$138=$AM$118,IF(BD!$B$2:$B$138=$AM$118,ROW(BD!$B$2:$B$138)-ROW(BD!$B$2)+1),FALSE),ROWS(BD!$1:19)))))","v":""},{"$f":"IF($AM$118=\"\",\"\",IF(ROWS(BD!$1:19)>COUNTIFS(BD!$B:$B,$AM$118),\"\",INDEX(BD!$G$2:$G$138,SMALL(IF(BD!$B$2:$B$138=$AM$118,IF(BD!$B$2:$B$138=$AM$118,ROW(BD!$B$2:$B$138)-ROW(BD!$B$2)+1),FALSE),ROWS(BD!$1:19)))))","v":""},{"$f":"IF($AM$118=\"\",\"\",IF(ROWS(BD!$1:19)>COUNTIFS(BD!$B:$B,$AM$118),\"\",INDEX(BD!$H$2:$H$138,SMALL(IF(BD!$B$2:$B$138=$AM$118,IF(BD!$B$2:$B$138=$AM$118,ROW(BD!$B$2:$B$138)-ROW(BD!$B$2)+1),FALSE),ROWS(BD!$1:19)))))","v":""}]
[null,null,{"$f":"IF($C$118=\"\",\"\",IF(ROWS(BD!$1:20)>COUNTIFS(BD!$B:$B,$C$118),\"\",INDEX(BD!$C$2:$C$138,SMALL(IF(BD!$B$2:$B$138=$C$118,IF(BD!$B$2:$B$138=$C$118,ROW(BD!$B$2:$B$138)-ROW(BD!$B$2)+1),FALSE),ROWS(BD!$1:20)))))","v":""},{"$f":"IF($C$118=\"\",\"\",IF(ROWS(BD!$1:20)>COUNTIFS(BD!$B:$B,$C$118),\"\",INDEX(BD!$E$2:$E$138,SMALL(IF(BD!$B$2:$B$138=$C$118,IF(BD!$B$2:$B$138=$C$118,ROW(BD!$B$2:$B$138)-ROW(BD!$B$2)+1),FALSE),ROWS(BD!$1:20)))))","v":""},{"$f":"IF($C$118=\"\",\"\",IF(ROWS(BD!$1:20)>COUNTIFS(BD!$B:$B,$C$118),\"\",INDEX(BD!$F$2:$F$138,SMALL(IF(BD!$B$2:$B$138=$C$118,IF(BD!$B$2:$B$138=$C$118,ROW(BD!$B$2:$B$138)-ROW(BD!$B$2)+1),FALSE),ROWS(BD!$1:20)))))","v":""},{"$f":"IF($C$118=\"\",\"\",IF(ROWS(BD!$1:20)>COUNTIFS(BD!$B:$B,$C$118),\"\",INDEX(BD!$G$2:$G$138,SMALL(IF(BD!$B$2:$B$138=$C$118,IF(BD!$B$2:$B$138=$C$118,ROW(BD!$B$2:$B$138)-ROW(BD!$B$2)+1),FALSE),ROWS(BD!$1:20)))))","v":""},{"$f":"IF($C$118=\"\",\"\",IF(ROWS(BD!$1:20)>COUNTIFS(BD!$B:$B,$C$118),\"\",INDEX(BD!$H$2:$H$138,SMALL(IF(BD!$B$2:$B$138=$C$118,IF(BD!$B$2:$B$138=$C$118,ROW(BD!$B$2:$B$138)-ROW(BD!$B$2)+1),FALSE),ROWS(BD!$1:20)))))","v":""},null,{"$f":"IF($I$118=\"\",\"\",IF(ROWS(BD!$1:20)>COUNTIFS(BD!$B:$B,$I$118),\"\",INDEX(BD!$C$2:$C$138,SMALL(IF(BD!$B$2:$B$138=$I$118,IF(BD!$B$2:$B$138=$I$118,ROW(BD!$B$2:$B$138)-ROW(BD!$B$2)+1),FALSE),ROWS(BD!$1:20)))))","v":""},{"$f":"IF($I$118=\"\",\"\",IF(ROWS(BD!$1:20)>COUNTIFS(BD!$B:$B,$I$118),\"\",INDEX(BD!$E$2:$E$138,SMALL(IF(BD!$B$2:$B$138=$I$118,IF(BD!$B$2:$B$138=$I$118,ROW(BD!$B$2:$B$138)-ROW(BD!$B$2)+1),FALSE),ROWS(BD!$1:20)))))","v":""},{"$f":"IF($I$118=\"\",\"\",IF(ROWS(BD!$1:20)>COUNTIFS(BD!$B:$B,$I$118),\"\",INDEX(BD!$F$2:$F$138,SMALL(IF(BD!$B$2:$B$138=$I$118,IF(BD!$B$2:$B$138=$I$118,ROW(BD!$B$2:$B$138)-ROW(BD!$B$2)+1),FALSE),ROWS(BD!$1:20)))))","v":""},{"$f":"IF($I$118=\"\",\"\",IF(ROWS(BD!$1:20)>COUNTIFS(BD!$B:$B,$I$118),\"\",INDEX(BD!$G$2:$G$138,SMALL(IF(BD!$B$2:$B$138=$I$118,IF(BD!$B$2:$B$138=$I$118,ROW(BD!$B$2:$B$138)-ROW(BD!$B$2)+1),FALSE),ROWS(BD!$1:20)))))","v":""},{"$f":"IF($I$118=\"\",\"\",IF(ROWS(BD!$1:20)>COUNTIFS(BD!$B:$B,$I$118),\"\",INDEX(BD!$H$2:$H$138,SMALL(IF(BD!$B$2:$B$138=$I$118,IF(BD!$B$2:$B$138=$I$118,ROW(BD!$B$2:$B$138)-ROW(BD!$B$2)+1),FALSE),ROWS(BD!$1:20)))))","v":""},null,{"$f":"IF($O$118=\"\",\"\",IF(ROWS(BD!$1:20)>COUNTIFS(BD!$B:$B,$O$118),\"\",INDEX(BD!$C$2:$C$138,SMALL(IF(BD!$B$2:$B$138=$O$118,IF(BD!$B$2:$B$138=$O$118,ROW(BD!$B$2:$B$138)-ROW(BD!$B$2)+1),FALSE),ROWS(BD!$1:20)))))","v":""},{"$f":"IF($O$118=\"\",\"\",IF(ROWS(BD!$1:20)>COUNTIFS(BD!$B:$B,$O$118),\"\",INDEX(BD!$E$2:$E$138,SMALL(IF(BD!$B$2:$B$138=$O$118,IF(BD!$B$2:$B$138=$O$118,ROW(BD!$B$2:$B$138)-ROW(BD!$B$2)+1),FALSE),ROWS(BD!$1:20)))))","v":""},{"$f":"IF($O$118=\"\",\"\",IF(ROWS(BD!$1:20)>COUNTIFS(BD!$B:$B,$O$118),\"\",INDEX(BD!$F$2:$F$138,SMALL(IF(BD!$B$2:$B$138=$O$118,IF(BD!$B$2:$B$138=$O$118,ROW(BD!$B$2:$B$138)-ROW(BD!$B$2)+1),FALSE),ROWS(BD!$1:20)))))","v":""},{"$f":"IF($O$118=\"\",\"\",IF(ROWS(BD!$1:20)>COUNTIFS(BD!$B:$B,$O$118),\"\",INDEX(BD!$G$2:$G$138,SMALL(IF(BD!$B$2:$B$138=$O$118,IF(BD!$B$2:$B$138=$O$118,ROW(BD!$B$2:$B$138)-ROW(BD!$B$2)+1),FALSE),ROWS(BD!$1:20)))))","v":""},{"$f":"IF($O$118=\"\",\"\",IF(ROWS(BD!$1:20)>COUNTIFS(BD!$B:$B,$O$118),\"\",INDEX(BD!$H$2:$H$138,SMALL(IF(BD!$B$2:$B$138=$O$118,IF(BD!$B$2:$B$138=$O$118,ROW(BD!$B$2:$B$138)-ROW(BD!$B$2)+1),FALSE),ROWS(BD!$1:20)))))","v":""},null,{"$f":"IF($U$118=\"\",\"\",IF(ROWS(BD!$1:20)>COUNTIFS(BD!$B:$B,$U$118),\"\",INDEX(BD!$C$2:$C$138,SMALL(IF(BD!$B$2:$B$138=$U$118,IF(BD!$B$2:$B$138=$U$118,ROW(BD!$B$2:$B$138)-ROW(BD!$B$2)+1),FALSE),ROWS(BD!$1:20)))))","v":""},{"$f":"IF($U$118=\"\",\"\",IF(ROWS(BD!$1:20)>COUNTIFS(BD!$B:$B,$U$118),\"\",INDEX(BD!$E$2:$E$138,SMALL(IF(BD!$B$2:$B$138=$U$118,IF(BD!$B$2:$B$138=$U$118,ROW(BD!$B$2:$B$138)-ROW(BD!$B$2)+1),FALSE),ROWS(BD!$1:20)))))","v":""},{"$f":"IF($U$118=\"\",\"\",IF(ROWS(BD!$1:20)>COUNTIFS(BD!$B:$B,$U$118),\"\",INDEX(BD!$F$2:$F$138,SMALL(IF(BD!$B$2:$B$138=$U$118,IF(BD!$B$2:$B$138=$U$118,ROW(BD!$B$2:$B$138)-ROW(BD!$B$2)+1),FALSE),ROWS(BD!$1:20)))))","v":""},{"$f":"IF($U$118=\"\",\"\",IF(ROWS(BD!$1:20)>COUNTIFS(BD!$B:$B,$U$118),\"\",INDEX(BD!$G$2:$G$138,SMALL(IF(BD!$B$2:$B$138=$U$118,IF(BD!$B$2:$B$138=$U$118,ROW(BD!$B$2:$B$138)-ROW(BD!$B$2)+1),FALSE),ROWS(BD!$1:20)))))","v":""},{"$f":"IF($U$118=\"\",\"\",IF(ROWS(BD!$1:20)>COUNTIFS(BD!$B:$B,$U$118),\"\",INDEX(BD!$H$2:$H$138,SMALL(IF(BD!$B$2:$B$138=$U$118,IF(BD!$B$2:$B$138=$U$118,ROW(BD!$B$2:$B$138)-ROW(BD!$B$2)+1),FALSE),ROWS(BD!$1:20)))))","v":""},null,{"$f":"IF($AA$118=\"\",\"\",IF(ROWS(BD!$1:20)>COUNTIFS(BD!$B:$B,$AA$118),\"\",INDEX(BD!$C$2:$C$138,SMALL(IF(BD!$B$2:$B$138=$AA$118,IF(BD!$B$2:$B$138=$AA$118,ROW(BD!$B$2:$B$138)-ROW(BD!$B$2)+1),FALSE),ROWS(BD!$1:20)))))","v":""},{"$f":"IF($AA$118=\"\",\"\",IF(ROWS(BD!$1:20)>COUNTIFS(BD!$B:$B,$AA$118),\"\",INDEX(BD!$E$2:$E$138,SMALL(IF(BD!$B$2:$B$138=$AA$118,IF(BD!$B$2:$B$138=$AA$118,ROW(BD!$B$2:$B$138)-ROW(BD!$B$2)+1),FALSE),ROWS(BD!$1:20)))))","v":""},{"$f":"IF($AA$118=\"\",\"\",IF(ROWS(BD!$1:20)>COUNTIFS(BD!$B:$B,$AA$118),\"\",INDEX(BD!$F$2:$F$138,SMALL(IF(BD!$B$2:$B$138=$AA$118,IF(BD!$B$2:$B$138=$AA$118,ROW(BD!$B$2:$B$138)-ROW(BD!$B$2)+1),FALSE),ROWS(BD!$1:20)))))","v":""},{"$f":"IF($AA$118=\"\",\"\",IF(ROWS(BD!$1:20)>COUNTIFS(BD!$B:$B,$AA$118),\"\",INDEX(BD!$G$2:$G$138,SMALL(IF(BD!$B$2:$B$138=$AA$118,IF(BD!$B$2:$B$138=$AA$118,ROW(BD!$B$2:$B$138)-ROW(BD!$B$2)+1),FALSE),ROWS(BD!$1:20)))))","v":""},{"$f":"IF($AA$118=\"\",\"\",IF(ROWS(BD!$1:20)>COUNTIFS(BD!$B:$B,$AA$118),\"\",INDEX(BD!$H$2:$H$138,SMALL(IF(BD!$B$2:$B$138=$AA$118,IF(BD!$B$2:$B$138=$AA$118,ROW(BD!$B$2:$B$138)-ROW(BD!$B$2)+1),FALSE),ROWS(BD!$1:20)))))","v":""},null,{"$f":"IF($AG$118=\"\",\"\",IF(ROWS(BD!$1:20)>COUNTIFS(BD!$B:$B,$AG$118),\"\",INDEX(BD!$C$2:$C$138,SMALL(IF(BD!$B$2:$B$138=$AG$118,IF(BD!$B$2:$B$138=$AG$118,ROW(BD!$B$2:$B$138)-ROW(BD!$B$2)+1),FALSE),ROWS(BD!$1:20)))))","v":""},{"$f":"IF($AG$118=\"\",\"\",IF(ROWS(BD!$1:20)>COUNTIFS(BD!$B:$B,$AG$118),\"\",INDEX(BD!$E$2:$E$138,SMALL(IF(BD!$B$2:$B$138=$AG$118,IF(BD!$B$2:$B$138=$AG$118,ROW(BD!$B$2:$B$138)-ROW(BD!$B$2)+1),FALSE),ROWS(BD!$1:20)))))","v":""},{"$f":"IF($AG$118=\"\",\"\",IF(ROWS(BD!$1:20)>COUNTIFS(BD!$B:$B,$AG$118),\"\",INDEX(BD!$F$2:$F$138,SMALL(IF(BD!$B$2:$B$138=$AG$118,IF(BD!$B$2:$B$138=$AG$118,ROW(BD!$B$2:$B$138)-ROW(BD!$B$2)+1),FALSE),ROWS(BD!$1:20)))))","v":""},{"$f":"IF($AG$118=\"\",\"\",IF(ROWS(BD!$1:20)>COUNTIFS(BD!$B:$B,$AG$118),\"\",INDEX(BD!$G$2:$G$138,SMALL(IF(BD!$B$2:$B$138=$AG$118,IF(BD!$B$2:$B$138=$AG$118,ROW(BD!$B$2:$B$138)-ROW(BD!$B$2)+1),FALSE),ROWS(BD!$1:20)))))","v":""},{"$f":"IF($AG$118=\"\",\"\",IF(ROWS(BD!$1:20)>COUNTIFS(BD!$B:$B,$AG$118),\"\",INDEX(BD!$H$2:$H$138,SMALL(IF(BD!$B$2:$B$138=$AG$118,IF(BD!$B$2:$B$138=$AG$118,ROW(BD!$B$2:$B$138)-ROW(BD!$B$2)+1),FALSE),ROWS(BD!$1:20)))))","v":""},null,{"$f":"IF($AM$118=\"\",\"\",IF(ROWS(BD!$1:20)>COUNTIFS(BD!$B:$B,$AM$118),\"\",INDEX(BD!$C$2:$C$138,SMALL(IF(BD!$B$2:$B$138=$AM$118,IF(BD!$B$2:$B$138=$AM$118,ROW(BD!$B$2:$B$138)-ROW(BD!$B$2)+1),FALSE),ROWS(BD!$1:20)))))","v":""},{"$f":"IF($AM$118=\"\",\"\",IF(ROWS(BD!$1:20)>COUNTIFS(BD!$B:$B,$AM$118),\"\",INDEX(BD!$E$2:$E$138,SMALL(IF(BD!$B$2:$B$138=$AM$118,IF(BD!$B$2:$B$138=$AM$118,ROW(BD!$B$2:$B$138)-ROW(BD!$B$2)+1),FALSE),ROWS(BD!$1:20)))))","v":""},{"$f":"IF($AM$118=\"\",\"\",IF(ROWS(BD!$1:20)>COUNTIFS(BD!$B:$B,$AM$118),\"\",INDEX(BD!$F$2:$F$138,SMALL(IF(BD!$B$2:$B$138=$AM$118,IF(BD!$B$2:$B$138=$AM$118,ROW(BD!$B$2:$B$138)-ROW(BD!$B$2)+1),FALSE),ROWS(BD!$1:20)))))","v":""},{"$f":"IF($AM$118=\"\",\"\",IF(ROWS(BD!$1:20)>COUNTIFS(BD!$B:$B,$AM$118),\"\",INDEX(BD!$G$2:$G$138,SMALL(IF(BD!$B$2:$B$138=$AM$118,IF(BD!$B$2:$B$138=$AM$118,ROW(BD!$B$2:$B$138)-ROW(BD!$B$2)+1),FALSE),ROWS(BD!$1:20)))))","v":""},{"$f":"IF($AM$118=\"\",\"\",IF(ROWS(BD!$1:20)>COUNTIFS(BD!$B:$B,$AM$118),\"\",INDEX(BD!$H$2:$H$138,SMALL(IF(BD!$B$2:$B$138=$AM$118,IF(BD!$B$2:$B$138=$AM$118,ROW(BD!$B$2:$B$138)-ROW(BD!$B$2)+1),FALSE),ROWS(BD!$1:20)))))","v":""}]
[null,null,{"$f":"IF($C$118=\"\",\"\",IF(ROWS(BD!$1:21)>COUNTIFS(BD!$B:$B,$C$118),\"\",INDEX(BD!$C$2:$C$138,SMALL(IF(BD!$B$2:$B$138=$C$118,IF(BD!$B$2:$B$138=$C$118,ROW(BD!$B$2:$B$138)-ROW(BD!$B$2)+1),FALSE),ROWS(BD!$1:21)))))","v":""},{"$f":"IF($C$118=\"\",\"\",IF(ROWS(BD!$1:21)>COUNTIFS(BD!$B:$B,$C$118),\"\",INDEX(BD!$E$2:$E$138,SMALL(IF(BD!$B$2:$B$138=$C$118,IF(BD!$B$2:$B$138=$C$118,ROW(BD!$B$2:$B$138)-ROW(BD!$B$2)+1),FALSE),ROWS(BD!$1:21)))))","v":""},{"$f":"IF($C$118=\"\",\"\",IF(ROWS(BD!$1:21)>COUNTIFS(BD!$B:$B,$C$118),\"\",INDEX(BD!$F$2:$F$138,SMALL(IF(BD!$B$2:$B$138=$C$118,IF(BD!$B$2:$B$138=$C$118,ROW(BD!$B$2:$B$138)-ROW(BD!$B$2)+1),FALSE),ROWS(BD!$1:21)))))","v":""},{"$f":"IF($C$118=\"\",\"\",IF(ROWS(BD!$1:21)>COUNTIFS(BD!$B:$B,$C$118),\"\",INDEX(BD!$G$2:$G$138,SMALL(IF(BD!$B$2:$B$138=$C$118,IF(BD!$B$2:$B$138=$C$118,ROW(BD!$B$2:$B$138)-ROW(BD!$B$2)+1),FALSE),ROWS(BD!$1:21)))))","v":""},{"$f":"IF($C$118=\"\",\"\",IF(ROWS(BD!$1:21)>COUNTIFS(BD!$B:$B,$C$118),\"\",INDEX(BD!$H$2:$H$138,SMALL(IF(BD!$B$2:$B$138=$C$118,IF(BD!$B$2:$B$138=$C$118,ROW(BD!$B$2:$B$138)-ROW(BD!$B$2)+1),FALSE),ROWS(BD!$1:21)))))","v":""},null,{"$f":"IF($I$118=\"\",\"\",IF(ROWS(BD!$1:21)>COUNTIFS(BD!$B:$B,$I$118),\"\",INDEX(BD!$C$2:$C$138,SMALL(IF(BD!$B$2:$B$138=$I$118,IF(BD!$B$2:$B$138=$I$118,ROW(BD!$B$2:$B$138)-ROW(BD!$B$2)+1),FALSE),ROWS(BD!$1:21)))))","v":""},{"$f":"IF($I$118=\"\",\"\",IF(ROWS(BD!$1:21)>COUNTIFS(BD!$B:$B,$I$118),\"\",INDEX(BD!$E$2:$E$138,SMALL(IF(BD!$B$2:$B$138=$I$118,IF(BD!$B$2:$B$138=$I$118,ROW(BD!$B$2:$B$138)-ROW(BD!$B$2)+1),FALSE),ROWS(BD!$1:21)))))","v":""},{"$f":"IF($I$118=\"\",\"\",IF(ROWS(BD!$1:21)>COUNTIFS(BD!$B:$B,$I$118),\"\",INDEX(BD!$F$2:$F$138,SMALL(IF(BD!$B$2:$B$138=$I$118,IF(BD!$B$2:$B$138=$I$118,ROW(BD!$B$2:$B$138)-ROW(BD!$B$2)+1),FALSE),ROWS(BD!$1:21)))))","v":""},{"$f":"IF($I$118=\"\",\"\",IF(ROWS(BD!$1:21)>COUNTIFS(BD!$B:$B,$I$118),\"\",INDEX(BD!$G$2:$G$138,SMALL(IF(BD!$B$2:$B$138=$I$118,IF(BD!$B$2:$B$138=$I$118,ROW(BD!$B$2:$B$138)-ROW(BD!$B$2)+1),FALSE),ROWS(BD!$1:21)))))","v":""},{"$f":"IF($I$118=\"\",\"\",IF(ROWS(BD!$1:21)>COUNTIFS(BD!$B:$B,$I$118),\"\",INDEX(BD!$H$2:$H$138,SMALL(IF(BD!$B$2:$B$138=$I$118,IF(BD!$B$2:$B$138=$I$118,ROW(BD!$B$2:$B$138)-ROW(BD!$B$2)+1),FALSE),ROWS(BD!$1:21)))))","v":""},null,{"$f":"IF($O$118=\"\",\"\",IF(ROWS(BD!$1:21)>COUNTIFS(BD!$B:$B,$O$118),\"\",INDEX(BD!$C$2:$C$138,SMALL(IF(BD!$B$2:$B$138=$O$118,IF(BD!$B$2:$B$138=$O$118,ROW(BD!$B$2:$B$138)-ROW(BD!$B$2)+1),FALSE),ROWS(BD!$1:21)))))","v":""},{"$f":"IF($O$118=\"\",\"\",IF(ROWS(BD!$1:21)>COUNTIFS(BD!$B:$B,$O$118),\"\",INDEX(BD!$E$2:$E$138,SMALL(IF(BD!$B$2:$B$138=$O$118,IF(BD!$B$2:$B$138=$O$118,ROW(BD!$B$2:$B$138)-ROW(BD!$B$2)+1),FALSE),ROWS(BD!$1:21)))))","v":""},{"$f":"IF($O$118=\"\",\"\",IF(ROWS(BD!$1:21)>COUNTIFS(BD!$B:$B,$O$118),\"\",INDEX(BD!$F$2:$F$138,SMALL(IF(BD!$B$2:$B$138=$O$118,IF(BD!$B$2:$B$138=$O$118,ROW(BD!$B$2:$B$138)-ROW(BD!$B$2)+1),FALSE),ROWS(BD!$1:21)))))","v":""},{"$f":"IF($O$118=\"\",\"\",IF(ROWS(BD!$1:21)>COUNTIFS(BD!$B:$B,$O$118),\"\",INDEX(BD!$G$2:$G$138,SMALL(IF(BD!$B$2:$B$138=$O$118,IF(BD!$B$2:$B$138=$O$118,ROW(BD!$B$2:$B$138)-ROW(BD!$B$2)+1),FALSE),ROWS(BD!$1:21)))))","v":""},{"$f":"IF($O$118=\"\",\"\",IF(ROWS(BD!$1:21)>COUNTIFS(BD!$B:$B,$O$118),\"\",INDEX(BD!$H$2:$H$138,SMALL(IF(BD!$B$2:$B$138=$O$118,IF(BD!$B$2:$B$138=$O$118,ROW(BD!$B$2:$B$138)-ROW(BD!$B$2)+1),FALSE),ROWS(BD!$1:21)))))","v":""},null,{"$f":"IF($U$118=\"\",\"\",IF(ROWS(BD!$1:21)>COUNTIFS(BD!$B:$B,$U$118),\"\",INDEX(BD!$C$2:$C$138,SMALL(IF(BD!$B$2:$B$138=$U$118,IF(BD!$B$2:$B$138=$U$118,ROW(BD!$B$2:$B$138)-ROW(BD!$B$2)+1),FALSE),ROWS(BD!$1:21)))))","v":""},{"$f":"IF($U$118=\"\",\"\",IF(ROWS(BD!$1:21)>COUNTIFS(BD!$B:$B,$U$118),\"\",INDEX(BD!$E$2:$E$138,SMALL(IF(BD!$B$2:$B$138=$U$118,IF(BD!$B$2:$B$138=$U$118,ROW(BD!$B$2:$B$138)-ROW(BD!$B$2)+1),FALSE),ROWS(BD!$1:21)))))","v":""},{"$f":"IF($U$118=\"\",\"\",IF(ROWS(BD!$1:21)>COUNTIFS(BD!$B:$B,$U$118),\"\",INDEX(BD!$F$2:$F$138,SMALL(IF(BD!$B$2:$B$138=$U$118,IF(BD!$B$2:$B$138=$U$118,ROW(BD!$B$2:$B$138)-ROW(BD!$B$2)+1),FALSE),ROWS(BD!$1:21)))))","v":""},{"$f":"IF($U$118=\"\",\"\",IF(ROWS(BD!$1:21)>COUNTIFS(BD!$B:$B,$U$118),\"\",INDEX(BD!$G$2:$G$138,SMALL(IF(BD!$B$2:$B$138=$U$118,IF(BD!$B$2:$B$138=$U$118,ROW(BD!$B$2:$B$138)-ROW(BD!$B$2)+1),FALSE),ROWS(BD!$1:21)))))","v":""},{"$f":"IF($U$118=\"\",\"\",IF(ROWS(BD!$1:21)>COUNTIFS(BD!$B:$B,$U$118),\"\",INDEX(BD!$H$2:$H$138,SMALL(IF(BD!$B$2:$B$138=$U$118,IF(BD!$B$2:$B$138=$U$118,ROW(BD!$B$2:$B$138)-ROW(BD!$B$2)+1),FALSE),ROWS(BD!$1:21)))))","v":""},null,{"$f":"IF($AA$118=\"\",\"\",IF(ROWS(BD!$1:21)>COUNTIFS(BD!$B:$B,$AA$118),\"\",INDEX(BD!$C$2:$C$138,SMALL(IF(BD!$B$2:$B$138=$AA$118,IF(BD!$B$2:$B$138=$AA$118,ROW(BD!$B$2:$B$138)-ROW(BD!$B$2)+1),FALSE),ROWS(BD!$1:21)))))","v":""},{"$f":"IF($AA$118=\"\",\"\",IF(ROWS(BD!$1:21)>COUNTIFS(BD!$B:$B,$AA$118),\"\",INDEX(BD!$E$2:$E$138,SMALL(IF(BD!$B$2:$B$138=$AA$118,IF(BD!$B$2:$B$138=$AA$118,ROW(BD!$B$2:$B$138)-ROW(BD!$B$2)+1),FALSE),ROWS(BD!$1:21)))))","v":""},{"$f":"IF($AA$118=\"\",\"\",IF(ROWS(BD!$1:21)>COUNTIFS(BD!$B:$B,$AA$118),\"\",INDEX(BD!$F$2:$F$138,SMALL(IF(BD!$B$2:$B$138=$AA$118,IF(BD!$B$2:$B$138=$AA$118,ROW(BD!$B$2:$B$138)-ROW(BD!$B$2)+1),FALSE),ROWS(BD!$1:21)))))","v":""},{"$f":"IF($AA$118=\"\",\"\",IF(ROWS(BD!$1:21)>COUNTIFS(BD!$B:$B,$AA$118),\"\",INDEX(BD!$G$2:$G$138,SMALL(IF(BD!$B$2:$B$138=$AA$118,IF(BD!$B$2:$B$138=$AA$118,ROW(BD!$B$2:$B$138)-ROW(BD!$B$2)+1),FALSE),ROWS(BD!$1:21)))))","v":""},{"$f":"IF($AA$118=\"\",\"\",IF(ROWS(BD!$1:21)>COUNTIFS(BD!$B:$B,$AA$118),\"\",INDEX(BD!$H$2:$H$138,SMALL(IF(BD!$B$2:$B$138=$AA$118,IF(BD!$B$2:$B$138=$AA$118,ROW(BD!$B$2:$B$138)-ROW(BD!$B$2)+1),FALSE),ROWS(BD!$1:21)))))","v":""},null,{"$f":"IF($AG$118=\"\",\"\",IF(ROWS(BD!$1:21)>COUNTIFS(BD!$B:$B,$AG$118),\"\",INDEX(BD!$C$2:$C$138,SMALL(IF(BD!$B$2:$B$138=$AG$118,IF(BD!$B$2:$B$138=$AG$118,ROW(BD!$B$2:$B$138)-ROW(BD!$B$2)+1),FALSE),ROWS(BD!$1:21)))))","v":""},{"$f":"IF($AG$118=\"\",\"\",IF(ROWS(BD!$1:21)>COUNTIFS(BD!$B:$B,$AG$118),\"\",INDEX(BD!$E$2:$E$138,SMALL(IF(BD!$B$2:$B$138=$AG$118,IF(BD!$B$2:$B$138=$AG$118,ROW(BD!$B$2:$B$138)-ROW(BD!$B$2)+1),FALSE),ROWS(BD!$1:21)))))","v":""},{"$f":"IF($AG$118=\"\",\"\",IF(ROWS(BD!$1:21)>COUNTIFS(BD!$B:$B,$AG$118),\"\",INDEX(BD!$F$2:$F$138,SMALL(IF(BD!$B$2:$B$138=$AG$118,IF(BD!$B$2:$B$138=$AG$118,ROW(BD!$B$2:$B$138)-ROW(BD!$B$2)+1),FALSE),ROWS(BD!$1:21)))))","v":""},{"$f":"IF($AG$118=\"\",\"\",IF(ROWS(BD!$1:21)>COUNTIFS(BD!$B:$B,$AG$118),\"\",INDEX(BD!$G$2:$G$138,SMALL(IF(BD!$B$2:$B$138=$AG$118,IF(BD!$B$2:$B$138=$AG$118,ROW(BD!$B$2:$B$138)-ROW(BD!$B$2)+1),FALSE),ROWS(BD!$1:21)))))","v":""},{"$f":"IF($AG$118=\"\",\"\",IF(ROWS(BD!$1:21)>COUNTIFS(BD!$B:$B,$AG$118),\"\",INDEX(BD!$H$2:$H$138,SMALL(IF(BD!$B$2:$B$138=$AG$118,IF(BD!$B$2:$B$138=$AG$118,ROW(BD!$B$2:$B$138)-ROW(BD!$B$2)+1),FALSE),ROWS(BD!$1:21)))))","v":""},null,{"$f":"IF($AM$118=\"\",\"\",IF(ROWS(BD!$1:21)>COUNTIFS(BD!$B:$B,$AM$118),\"\",INDEX(BD!$C$2:$C$138,SMALL(IF(BD!$B$2:$B$138=$AM$118,IF(BD!$B$2:$B$138=$AM$118,ROW(BD!$B$2:$B$138)-ROW(BD!$B$2)+1),FALSE),ROWS(BD!$1:21)))))","v":""},{"$f":"IF($AM$118=\"\",\"\",IF(ROWS(BD!$1:21)>COUNTIFS(BD!$B:$B,$AM$118),\"\",INDEX(BD!$E$2:$E$138,SMALL(IF(BD!$B$2:$B$138=$AM$118,IF(BD!$B$2:$B$138=$AM$118,ROW(BD!$B$2:$B$138)-ROW(BD!$B$2)+1),FALSE),ROWS(BD!$1:21)))))","v":""},{"$f":"IF($AM$118=\"\",\"\",IF(ROWS(BD!$1:21)>COUNTIFS(BD!$B:$B,$AM$118),\"\",INDEX(BD!$F$2:$F$138,SMALL(IF(BD!$B$2:$B$138=$AM$118,IF(BD!$B$2:$B$138=$AM$118,ROW(BD!$B$2:$B$138)-ROW(BD!$B$2)+1),FALSE),ROWS(BD!$1:21)))))","v":""},{"$f":"IF($AM$118=\"\",\"\",IF(ROWS(BD!$1:21)>COUNTIFS(BD!$B:$B,$AM$118),\"\",INDEX(BD!$G$2:$G$138,SMALL(IF(BD!$B$2:$B$138=$AM$118,IF(BD!$B$2:$B$138=$AM$118,ROW(BD!$B$2:$B$138)-ROW(BD!$B$2)+1),FALSE),ROWS(BD!$1:21)))))","v":""},{"$f":"IF($AM$118=\"\",\"\",IF(ROWS(BD!$1:21)>COUNTIFS(BD!$B:$B,$AM$118),\"\",INDEX(BD!$H$2:$H$138,SMALL(IF(BD!$B$2:$B$138=$AM$118,IF(BD!$B$2:$B$138=$AM$118,ROW(BD!$B$2:$B$138)-ROW(BD!$B$2)+1),FALSE),ROWS(BD!$1:21)))))","v":""}]
[null,null,{"$f":"IF($C$118=\"\",\"\",IF(ROWS(BD!$1:22)>COUNTIFS(BD!$B:$B,$C$118),\"\",INDEX(BD!$C$2:$C$138,SMALL(IF(BD!$B$2:$B$138=$C$118,IF(BD!$B$2:$B$138=$C$118,ROW(BD!$B$2:$B$138)-ROW(BD!$B$2)+1),FALSE),ROWS(BD!$1:22)))))","v":""},{"$f":"IF($C$118=\"\",\"\",IF(ROWS(BD!$1:22)>COUNTIFS(BD!$B:$B,$C$118),\"\",INDEX(BD!$E$2:$E$138,SMALL(IF(BD!$B$2:$B$138=$C$118,IF(BD!$B$2:$B$138=$C$118,ROW(BD!$B$2:$B$138)-ROW(BD!$B$2)+1),FALSE),ROWS(BD!$1:22)))))","v":""},{"$f":"IF($C$118=\"\",\"\",IF(ROWS(BD!$1:22)>COUNTIFS(BD!$B:$B,$C$118),\"\",INDEX(BD!$F$2:$F$138,SMALL(IF(BD!$B$2:$B$138=$C$118,IF(BD!$B$2:$B$138=$C$118,ROW(BD!$B$2:$B$138)-ROW(BD!$B$2)+1),FALSE),ROWS(BD!$1:22)))))","v":""},{"$f":"IF($C$118=\"\",\"\",IF(ROWS(BD!$1:22)>COUNTIFS(BD!$B:$B,$C$118),\"\",INDEX(BD!$G$2:$G$138,SMALL(IF(BD!$B$2:$B$138=$C$118,IF(BD!$B$2:$B$138=$C$118,ROW(BD!$B$2:$B$138)-ROW(BD!$B$2)+1),FALSE),ROWS(BD!$1:22)))))","v":""},{"$f":"IF($C$118=\"\",\"\",IF(ROWS(BD!$1:22)>COUNTIFS(BD!$B:$B,$C$118),\"\",INDEX(BD!$H$2:$H$138,SMALL(IF(BD!$B$2:$B$138=$C$118,IF(BD!$B$2:$B$138=$C$118,ROW(BD!$B$2:$B$138)-ROW(BD!$B$2)+1),FALSE),ROWS(BD!$1:22)))))","v":""},null,{"$f":"IF($I$118=\"\",\"\",IF(ROWS(BD!$1:22)>COUNTIFS(BD!$B:$B,$I$118),\"\",INDEX(BD!$C$2:$C$138,SMALL(IF(BD!$B$2:$B$138=$I$118,IF(BD!$B$2:$B$138=$I$118,ROW(BD!$B$2:$B$138)-ROW(BD!$B$2)+1),FALSE),ROWS(BD!$1:22)))))","v":""},{"$f":"IF($I$118=\"\",\"\",IF(ROWS(BD!$1:22)>COUNTIFS(BD!$B:$B,$I$118),\"\",INDEX(BD!$E$2:$E$138,SMALL(IF(BD!$B$2:$B$138=$I$118,IF(BD!$B$2:$B$138=$I$118,ROW(BD!$B$2:$B$138)-ROW(BD!$B$2)+1),FALSE),ROWS(BD!$1:22)))))","v":""},{"$f":"IF($I$118=\"\",\"\",IF(ROWS(BD!$1:22)>COUNTIFS(BD!$B:$B,$I$118),\"\",INDEX(BD!$F$2:$F$138,SMALL(IF(BD!$B$2:$B$138=$I$118,IF(BD!$B$2:$B$138=$I$118,ROW(BD!$B$2:$B$138)-ROW(BD!$B$2)+1),FALSE),ROWS(BD!$1:22)))))","v":""},{"$f":"IF($I$118=\"\",\"\",IF(ROWS(BD!$1:22)>COUNTIFS(BD!$B:$B,$I$118),\"\",INDEX(BD!$G$2:$G$138,SMALL(IF(BD!$B$2:$B$138=$I$118,IF(BD!$B$2:$B$138=$I$118,ROW(BD!$B$2:$B$138)-ROW(BD!$B$2)+1),FALSE),ROWS(BD!$1:22)))))","v":""},{"$f":"IF($I$118=\"\",\"\",IF(ROWS(BD!$1:22)>COUNTIFS(BD!$B:$B,$I$118),\"\",INDEX(BD!$H$2:$H$138,SMALL(IF(BD!$B$2:$B$138=$I$118,IF(BD!$B$2:$B$138=$I$118,ROW(BD!$B$2:$B$138)-ROW(BD!$B$2)+1),FALSE),ROWS(BD!$1:22)))))","v":""},null,{"$f":"IF($O$118=\"\",\"\",IF(ROWS(BD!$1:22)>COUNTIFS(BD!$B:$B,$O$118),\"\",INDEX(BD!$C$2:$C$138,SMALL(IF(BD!$B$2:$B$138=$O$118,IF(BD!$B$2:$B$138=$O$118,ROW(BD!$B$2:$B$138)-ROW(BD!$B$2)+1),FALSE),ROWS(BD!$1:22)))))","v":""},{"$f":"IF($O$118=\"\",\"\",IF(ROWS(BD!$1:22)>COUNTIFS(BD!$B:$B,$O$118),\"\",INDEX(BD!$E$2:$E$138,SMALL(IF(BD!$B$2:$B$138=$O$118,IF(BD!$B$2:$B$138=$O$118,ROW(BD!$B$2:$B$138)-ROW(BD!$B$2)+1),FALSE),ROWS(BD!$1:22)))))","v":""},{"$f":"IF($O$118=\"\",\"\",IF(ROWS(BD!$1:22)>COUNTIFS(BD!$B:$B,$O$118),\"\",INDEX(BD!$F$2:$F$138,SMALL(IF(BD!$B$2:$B$138=$O$118,IF(BD!$B$2:$B$138=$O$118,ROW(BD!$B$2:$B$138)-ROW(BD!$B$2)+1),FALSE),ROWS(BD!$1:22)))))","v":""},{"$f":"IF($O$118=\"\",\"\",IF(ROWS(BD!$1:22)>COUNTIFS(BD!$B:$B,$O$118),\"\",INDEX(BD!$G$2:$G$138,SMALL(IF(BD!$B$2:$B$138=$O$118,IF(BD!$B$2:$B$138=$O$118,ROW(BD!$B$2:$B$138)-ROW(BD!$B$2)+1),FALSE),ROWS(BD!$1:22)))))","v":""},{"$f":"IF($O$118=\"\",\"\",IF(ROWS(BD!$1:22)>COUNTIFS(BD!$B:$B,$O$118),\"\",INDEX(BD!$H$2:$H$138,SMALL(IF(BD!$B$2:$B$138=$O$118,IF(BD!$B$2:$B$138=$O$118,ROW(BD!$B$2:$B$138)-ROW(BD!$B$2)+1),FALSE),ROWS(BD!$1:22)))))","v":""},null,{"$f":"IF($U$118=\"\",\"\",IF(ROWS(BD!$1:22)>COUNTIFS(BD!$B:$B,$U$118),\"\",INDEX(BD!$C$2:$C$138,SMALL(IF(BD!$B$2:$B$138=$U$118,IF(BD!$B$2:$B$138=$U$118,ROW(BD!$B$2:$B$138)-ROW(BD!$B$2)+1),FALSE),ROWS(BD!$1:22)))))","v":""},{"$f":"IF($U$118=\"\",\"\",IF(ROWS(BD!$1:22)>COUNTIFS(BD!$B:$B,$U$118),\"\",INDEX(BD!$E$2:$E$138,SMALL(IF(BD!$B$2:$B$138=$U$118,IF(BD!$B$2:$B$138=$U$118,ROW(BD!$B$2:$B$138)-ROW(BD!$B$2)+1),FALSE),ROWS(BD!$1:22)))))","v":""},{"$f":"IF($U$118=\"\",\"\",IF(ROWS(BD!$1:22)>COUNTIFS(BD!$B:$B,$U$118),\"\",INDEX(BD!$F$2:$F$138,SMALL(IF(BD!$B$2:$B$138=$U$118,IF(BD!$B$2:$B$138=$U$118,ROW(BD!$B$2:$B$138)-ROW(BD!$B$2)+1),FALSE),ROWS(BD!$1:22)))))","v":""},{"$f":"IF($U$118=\"\",\"\",IF(ROWS(BD!$1:22)>COUNTIFS(BD!$B:$B,$U$118),\"\",INDEX(BD!$G$2:$G$138,SMALL(IF(BD!$B$2:$B$138=$U$118,IF(BD!$B$2:$B$138=$U$118,ROW(BD!$B$2:$B$138)-ROW(BD!$B$2)+1),FALSE),ROWS(BD!$1:22)))))","v":""},{"$f":"IF($U$118=\"\",\"\",IF(ROWS(BD!$1:22)>COUNTIFS(BD!$B:$B,$U$118),\"\",INDEX(BD!$H$2:$H$138,SMALL(IF(BD!$B$2:$B$138=$U$118,IF(BD!$B$2:$B$138=$U$118,ROW(BD!$B$2:$B$138)-ROW(BD!$B$2)+1),FALSE),ROWS(BD!$1:22)))))","v":""},null,{"$f":"IF($AA$118=\"\",\"\",IF(ROWS(BD!$1:22)>COUNTIFS(BD!$B:$B,$AA$118),\"\",INDEX(BD!$C$2:$C$138,SMALL(IF(BD!$B$2:$B$138=$AA$118,IF(BD!$B$2:$B$138=$AA$118,ROW(BD!$B$2:$B$138)-ROW(BD!$B$2)+1),FALSE),ROWS(BD!$1:22)))))","v":""},{"$f":"IF($AA$118=\"\",\"\",IF(ROWS(BD!$1:22)>COUNTIFS(BD!$B:$B,$AA$118),\"\",INDEX(BD!$E$2:$E$138,SMALL(IF(BD!$B$2:$B$138=$AA$118,IF(BD!$B$2:$B$138=$AA$118,ROW(BD!$B$2:$B$138)-ROW(BD!$B$2)+1),FALSE),ROWS(BD!$1:22)))))","v":""},{"$f":"IF($AA$118=\"\",\"\",IF(ROWS(BD!$1:22)>COUNTIFS(BD!$B:$B,$AA$118),\"\",INDEX(BD!$F$2:$F$138,SMALL(IF(BD!$B$2:$B$138=$AA$118,IF(BD!$B$2:$B$138=$AA$118,ROW(BD!$B$2:$B$138)-ROW(BD!$B$2)+1),FALSE),ROWS(BD!$1:22)))))","v":""},{"$f":"IF($AA$118=\"\",\"\",IF(ROWS(BD!$1:22)>COUNTIFS(BD!$B:$B,$AA$118),\"\",INDEX(BD!$G$2:$G$138,SMALL(IF(BD!$B$2:$B$138=$AA$118,IF(BD!$B$2:$B$138=$AA$118,ROW(BD!$B$2:$B$138)-ROW(BD!$B$2)+1),FALSE),ROWS(BD!$1:22)))))","v":""},{"$f":"IF($AA$118=\"\",\"\",IF(ROWS(BD!$1:22)>COUNTIFS(BD!$B:$B,$AA$118),\"\",INDEX(BD!$H$2:$H$138,SMALL(IF(BD!$B$2:$B$138=$AA$118,IF(BD!$B$2:$B$138=$AA$118,ROW(BD!$B$2:$B$138)-ROW(BD!$B$2)+1),FALSE),ROWS(BD!$1:22)))))","v":""},null,{"$f":"IF($AG$118=\"\",\"\",IF(ROWS(BD!$1:22)>COUNTIFS(BD!$B:$B,$AG$118),\"\",INDEX(BD!$C$2:$C$138,SMALL(IF(BD!$B$2:$B$138=$AG$118,IF(BD!$B$2:$B$138=$AG$118,ROW(BD!$B$2:$B$138)-ROW(BD!$B$2)+1),FALSE),ROWS(BD!$1:22)))))","v":""},{"$f":"IF($AG$118=\"\",\"\",IF(ROWS(BD!$1:22)>COUNTIFS(BD!$B:$B,$AG$118),\"\",INDEX(BD!$E$2:$E$138,SMALL(IF(BD!$B$2:$B$138=$AG$118,IF(BD!$B$2:$B$138=$AG$118,ROW(BD!$B$2:$B$138)-ROW(BD!$B$2)+1),FALSE),ROWS(BD!$1:22)))))","v":""},{"$f":"IF($AG$118=\"\",\"\",IF(ROWS(BD!$1:22)>COUNTIFS(BD!$B:$B,$AG$118),\"\",INDEX(BD!$F$2:$F$138,SMALL(IF(BD!$B$2:$B$138=$AG$118,IF(BD!$B$2:$B$138=$AG$118,ROW(BD!$B$2:$B$138)-ROW(BD!$B$2)+1),FALSE),ROWS(BD!$1:22)))))","v":""},{"$f":"IF($AG$118=\"\",\"\",IF(ROWS(BD!$1:22)>COUNTIFS(BD!$B:$B,$AG$118),\"\",INDEX(BD!$G$2:$G$138,SMALL(IF(BD!$B$2:$B$138=$AG$118,IF(BD!$B$2:$B$138=$AG$118,ROW(BD!$B$2:$B$138)-ROW(BD!$B$2)+1),FALSE),ROWS(BD!$1:22)))))","v":""},{"$f":"IF($AG$118=\"\",\"\",IF(ROWS(BD!$1:22)>COUNTIFS(BD!$B:$B,$AG$118),\"\",INDEX(BD!$H$2:$H$138,SMALL(IF(BD!$B$2:$B$138=$AG$118,IF(BD!$B$2:$B$138=$AG$118,ROW(BD!$B$2:$B$138)-ROW(BD!$B$2)+1),FALSE),ROWS(BD!$1:22)))))","v":""},null,{"$f":"IF($AM$118=\"\",\"\",IF(ROWS(BD!$1:22)>COUNTIFS(BD!$B:$B,$AM$118),\"\",INDEX(BD!$C$2:$C$138,SMALL(IF(BD!$B$2:$B$138=$AM$118,IF(BD!$B$2:$B$138=$AM$118,ROW(BD!$B$2:$B$138)-ROW(BD!$B$2)+1),FALSE),ROWS(BD!$1:22)))))","v":""},{"$f":"IF($AM$118=\"\",\"\",IF(ROWS(BD!$1:22)>COUNTIFS(BD!$B:$B,$AM$118),\"\",INDEX(BD!$E$2:$E$138,SMALL(IF(BD!$B$2:$B$138=$AM$118,IF(BD!$B$2:$B$138=$AM$118,ROW(BD!$B$2:$B$138)-ROW(BD!$B$2)+1),FALSE),ROWS(BD!$1:22)))))","v":""},{"$f":"IF($AM$118=\"\",\"\",IF(ROWS(BD!$1:22)>COUNTIFS(BD!$B:$B,$AM$118),\"\",INDEX(BD!$F$2:$F$138,SMALL(IF(BD!$B$2:$B$138=$AM$118,IF(BD!$B$2:$B$138=$AM$118,ROW(BD!$B$2:$B$138)-ROW(BD!$B$2)+1),FALSE),ROWS(BD!$1:22)))))","v":""},{"$f":"IF($AM$118=\"\",\"\",IF(ROWS(BD!$1:22)>COUNTIFS(BD!$B:$B,$AM$118),\"\",INDEX(BD!$G$2:$G$138,SMALL(IF(BD!$B$2:$B$138=$AM$118,IF(BD!$B$2:$B$138=$AM$118,ROW(BD!$B$2:$B$138)-ROW(BD!$B$2)+1),FALSE),ROWS(BD!$1:22)))))","v":""},{"$f":"IF($AM$118=\"\",\"\",IF(ROWS(BD!$1:22)>COUNTIFS(BD!$B:$B,$AM$118),\"\",INDEX(BD!$H$2:$H$138,SMALL(IF(BD!$B$2:$B$138=$AM$118,IF(BD!$B$2:$B$138=$AM$118,ROW(BD!$B$2:$B$138)-ROW(BD!$B$2)+1),FALSE),ROWS(BD!$1:22)))))","v":""}]
[null,null,{"$f":"IF($C$118=\"\",\"\",IF(ROWS(BD!$1:23)>COUNTIFS(BD!$B:$B,$C$118),\"\",INDEX(BD!$C$2:$C$138,SMALL(IF(BD!$B$2:$B$138=$C$118,IF(BD!$B$2:$B$138=$C$118,ROW(BD!$B$2:$B$138)-ROW(BD!$B$2)+1),FALSE),ROWS(BD!$1:23)))))","v":""},{"$f":"IF($C$118=\"\",\"\",IF(ROWS(BD!$1:23)>COUNTIFS(BD!$B:$B,$C$118),\"\",INDEX(BD!$E$2:$E$138,SMALL(IF(BD!$B$2:$B$138=$C$118,IF(BD!$B$2:$B$138=$C$118,ROW(BD!$B$2:$B$138)-ROW(BD!$B$2)+1),FALSE),ROWS(BD!$1:23)))))","v":""},{"$f":"IF($C$118=\"\",\"\",IF(ROWS(BD!$1:23)>COUNTIFS(BD!$B:$B,$C$118),\"\",INDEX(BD!$F$2:$F$138,SMALL(IF(BD!$B$2:$B$138=$C$118,IF(BD!$B$2:$B$138=$C$118,ROW(BD!$B$2:$B$138)-ROW(BD!$B$2)+1),FALSE),ROWS(BD!$1:23)))))","v":""},{"$f":"IF($C$118=\"\",\"\",IF(ROWS(BD!$1:23)>COUNTIFS(BD!$B:$B,$C$118),\"\",INDEX(BD!$G$2:$G$138,SMALL(IF(BD!$B$2:$B$138=$C$118,IF(BD!$B$2:$B$138=$C$118,ROW(BD!$B$2:$B$138)-ROW(BD!$B$2)+1),FALSE),ROWS(BD!$1:23)))))","v":""},{"$f":"IF($C$118=\"\",\"\",IF(ROWS(BD!$1:23)>COUNTIFS(BD!$B:$B,$C$118),\"\",INDEX(BD!$H$2:$H$138,SMALL(IF(BD!$B$2:$B$138=$C$118,IF(BD!$B$2:$B$138=$C$118,ROW(BD!$B$2:$B$138)-ROW(BD!$B$2)+1),FALSE),ROWS(BD!$1:23)))))","v":""},null,{"$f":"IF($I$118=\"\",\"\",IF(ROWS(BD!$1:23)>COUNTIFS(BD!$B:$B,$I$118),\"\",INDEX(BD!$C$2:$C$138,SMALL(IF(BD!$B$2:$B$138=$I$118,IF(BD!$B$2:$B$138=$I$118,ROW(BD!$B$2:$B$138)-ROW(BD!$B$2)+1),FALSE),ROWS(BD!$1:23)))))","v":""},{"$f":"IF($I$118=\"\",\"\",IF(ROWS(BD!$1:23)>COUNTIFS(BD!$B:$B,$I$118),\"\",INDEX(BD!$E$2:$E$138,SMALL(IF(BD!$B$2:$B$138=$I$118,IF(BD!$B$2:$B$138=$I$118,ROW(BD!$B$2:$B$138)-ROW(BD!$B$2)+1),FALSE),ROWS(BD!$1:23)))))","v":""},{"$f":"IF($I$118=\"\",\"\",IF(ROWS(BD!$1:23)>COUNTIFS(BD!$B:$B,$I$118),\"\",INDEX(BD!$F$2:$F$138,SMALL(IF(BD!$B$2:$B$138=$I$118,IF(BD!$B$2:$B$138=$I$118,ROW(BD!$B$2:$B$138)-ROW(BD!$B$2)+1),FALSE),ROWS(BD!$1:23)))))","v":""},{"$f":"IF($I$118=\"\",\"\",IF(ROWS(BD!$1:23)>COUNTIFS(BD!$B:$B,$I$118),\"\",INDEX(BD!$G$2:$G$138,SMALL(IF(BD!$B$2:$B$138=$I$118,IF(BD!$B$2:$B$138=$I$118,ROW(BD!$B$2:$B$138)-ROW(BD!$B$2)+1),FALSE),ROWS(BD!$1:23)))))","v":""},{"$f":"IF($I$118=\"\",\"\",IF(ROWS(BD!$1:23)>COUNTIFS(BD!$B:$B,$I$118),\"\",INDEX(BD!$H$2:$H$138,SMALL(IF(BD!$B$2:$B$138=$I$118,IF(BD!$B$2:$B$138=$I$118,ROW(BD!$B$2:$B$138)-ROW(BD!$B$2)+1),FALSE),ROWS(BD!$1:23)))))","v":""},null,{"$f":"IF($O$118=\"\",\"\",IF(ROWS(BD!$1:23)>COUNTIFS(BD!$B:$B,$O$118),\"\",INDEX(BD!$C$2:$C$138,SMALL(IF(BD!$B$2:$B$138=$O$118,IF(BD!$B$2:$B$138=$O$118,ROW(BD!$B$2:$B$138)-ROW(BD!$B$2)+1),FALSE),ROWS(BD!$1:23)))))","v":""},{"$f":"IF($O$118=\"\",\"\",IF(ROWS(BD!$1:23)>COUNTIFS(BD!$B:$B,$O$118),\"\",INDEX(BD!$E$2:$E$138,SMALL(IF(BD!$B$2:$B$138=$O$118,IF(BD!$B$2:$B$138=$O$118,ROW(BD!$B$2:$B$138)-ROW(BD!$B$2)+1),FALSE),ROWS(BD!$1:23)))))","v":""},{"$f":"IF($O$118=\"\",\"\",IF(ROWS(BD!$1:23)>COUNTIFS(BD!$B:$B,$O$118),\"\",INDEX(BD!$F$2:$F$138,SMALL(IF(BD!$B$2:$B$138=$O$118,IF(BD!$B$2:$B$138=$O$118,ROW(BD!$B$2:$B$138)-ROW(BD!$B$2)+1),FALSE),ROWS(BD!$1:23)))))","v":""},{"$f":"IF($O$118=\"\",\"\",IF(ROWS(BD!$1:23)>COUNTIFS(BD!$B:$B,$O$118),\"\",INDEX(BD!$G$2:$G$138,SMALL(IF(BD!$B$2:$B$138=$O$118,IF(BD!$B$2:$B$138=$O$118,ROW(BD!$B$2:$B$138)-ROW(BD!$B$2)+1),FALSE),ROWS(BD!$1:23)))))","v":""},{"$f":"IF($O$118=\"\",\"\",IF(ROWS(BD!$1:23)>COUNTIFS(BD!$B:$B,$O$118),\"\",INDEX(BD!$H$2:$H$138,SMALL(IF(BD!$B$2:$B$138=$O$118,IF(BD!$B$2:$B$138=$O$118,ROW(BD!$B$2:$B$138)-ROW(BD!$B$2)+1),FALSE),ROWS(BD!$1:23)))))","v":""},null,{"$f":"IF($U$118=\"\",\"\",IF(ROWS(BD!$1:23)>COUNTIFS(BD!$B:$B,$U$118),\"\",INDEX(BD!$C$2:$C$138,SMALL(IF(BD!$B$2:$B$138=$U$118,IF(BD!$B$2:$B$138=$U$118,ROW(BD!$B$2:$B$138)-ROW(BD!$B$2)+1),FALSE),ROWS(BD!$1:23)))))","v":""},{"$f":"IF($U$118=\"\",\"\",IF(ROWS(BD!$1:23)>COUNTIFS(BD!$B:$B,$U$118),\"\",INDEX(BD!$E$2:$E$138,SMALL(IF(BD!$B$2:$B$138=$U$118,IF(BD!$B$2:$B$138=$U$118,ROW(BD!$B$2:$B$138)-ROW(BD!$B$2)+1),FALSE),ROWS(BD!$1:23)))))","v":""},{"$f":"IF($U$118=\"\",\"\",IF(ROWS(BD!$1:23)>COUNTIFS(BD!$B:$B,$U$118),\"\",INDEX(BD!$F$2:$F$138,SMALL(IF(BD!$B$2:$B$138=$U$118,IF(BD!$B$2:$B$138=$U$118,ROW(BD!$B$2:$B$138)-ROW(BD!$B$2)+1),FALSE),ROWS(BD!$1:23)))))","v":""},{"$f":"IF($U$118=\"\",\"\",IF(ROWS(BD!$1:23)>COUNTIFS(BD!$B:$B,$U$118),\"\",INDEX(BD!$G$2:$G$138,SMALL(IF(BD!$B$2:$B$138=$U$118,IF(BD!$B$2:$B$138=$U$118,ROW(BD!$B$2:$B$138)-ROW(BD!$B$2)+1),FALSE),ROWS(BD!$1:23)))))","v":""},{"$f":"IF($U$118=\"\",\"\",IF(ROWS(BD!$1:23)>COUNTIFS(BD!$B:$B,$U$118),\"\",INDEX(BD!$H$2:$H$138,SMALL(IF(BD!$B$2:$B$138=$U$118,IF(BD!$B$2:$B$138=$U$118,ROW(BD!$B$2:$B$138)-ROW(BD!$B$2)+1),FALSE),ROWS(BD!$1:23)))))","v":""},null,{"$f":"IF($AA$118=\"\",\"\",IF(ROWS(BD!$1:23)>COUNTIFS(BD!$B:$B,$AA$118),\"\",INDEX(BD!$C$2:$C$138,SMALL(IF(BD!$B$2:$B$138=$AA$118,IF(BD!$B$2:$B$138=$AA$118,ROW(BD!$B$2:$B$138)-ROW(BD!$B$2)+1),FALSE),ROWS(BD!$1:23)))))","v":""},{"$f":"IF($AA$118=\"\",\"\",IF(ROWS(BD!$1:23)>COUNTIFS(BD!$B:$B,$AA$118),\"\",INDEX(BD!$E$2:$E$138,SMALL(IF(BD!$B$2:$B$138=$AA$118,IF(BD!$B$2:$B$138=$AA$118,ROW(BD!$B$2:$B$138)-ROW(BD!$B$2)+1),FALSE),ROWS(BD!$1:23)))))","v":""},{"$f":"IF($AA$118=\"\",\"\",IF(ROWS(BD!$1:23)>COUNTIFS(BD!$B:$B,$AA$118),\"\",INDEX(BD!$F$2:$F$138,SMALL(IF(BD!$B$2:$B$138=$AA$118,IF(BD!$B$2:$B$138=$AA$118,ROW(BD!$B$2:$B$138)-ROW(BD!$B$2)+1),FALSE),ROWS(BD!$1:23)))))","v":""},{"$f":"IF($AA$118=\"\",\"\",IF(ROWS(BD!$1:23)>COUNTIFS(BD!$B:$B,$AA$118),\"\",INDEX(BD!$G$2:$G$138,SMALL(IF(BD!$B$2:$B$138=$AA$118,IF(BD!$B$2:$B$138=$AA$118,ROW(BD!$B$2:$B$138)-ROW(BD!$B$2)+1),FALSE),ROWS(BD!$1:23)))))","v":""},{"$f":"IF($AA$118=\"\",\"\",IF(ROWS(BD!$1:23)>COUNTIFS(BD!$B:$B,$AA$118),\"\",INDEX(BD!$H$2:$H$138,SMALL(IF(BD!$B$2:$B$138=$AA$118,IF(BD!$B$2:$B$138=$AA$118,ROW(BD!$B$2:$B$138)-ROW(BD!$B$2)+1),FALSE),ROWS(BD!$1:23)))))","v":""},null,{"$f":"IF($AG$118=\"\",\"\",IF(ROWS(BD!$1:23)>COUNTIFS(BD!$B:$B,$AG$118),\"\",INDEX(BD!$C$2:$C$138,SMALL(IF(BD!$B$2:$B$138=$AG$118,IF(BD!$B$2:$B$138=$AG$118,ROW(BD!$B$2:$B$138)-ROW(BD!$B$2)+1),FALSE),ROWS(BD!$1:23)))))","v":""},{"$f":"IF($AG$118=\"\",\"\",IF(ROWS(BD!$1:23)>COUNTIFS(BD!$B:$B,$AG$118),\"\",INDEX(BD!$E$2:$E$138,SMALL(IF(BD!$B$2:$B$138=$AG$118,IF(BD!$B$2:$B$138=$AG$118,ROW(BD!$B$2:$B$138)-ROW(BD!$B$2)+1),FALSE),ROWS(BD!$1:23)))))","v":""},{"$f":"IF($AG$118=\"\",\"\",IF(ROWS(BD!$1:23)>COUNTIFS(BD!$B:$B,$AG$118),\"\",INDEX(BD!$F$2:$F$138,SMALL(IF(BD!$B$2:$B$138=$AG$118,IF(BD!$B$2:$B$138=$AG$118,ROW(BD!$B$2:$B$138)-ROW(BD!$B$2)+1),FALSE),ROWS(BD!$1:23)))))","v":""},{"$f":"IF($AG$118=\"\",\"\",IF(ROWS(BD!$1:23)>COUNTIFS(BD!$B:$B,$AG$118),\"\",INDEX(BD!$G$2:$G$138,SMALL(IF(BD!$B$2:$B$138=$AG$118,IF(BD!$B$2:$B$138=$AG$118,ROW(BD!$B$2:$B$138)-ROW(BD!$B$2)+1),FALSE),ROWS(BD!$1:23)))))","v":""},{"$f":"IF($AG$118=\"\",\"\",IF(ROWS(BD!$1:23)>COUNTIFS(BD!$B:$B,$AG$118),\"\",INDEX(BD!$H$2:$H$138,SMALL(IF(BD!$B$2:$B$138=$AG$118,IF(BD!$B$2:$B$138=$AG$118,ROW(BD!$B$2:$B$138)-ROW(BD!$B$2)+1),FALSE),ROWS(BD!$1:23)))))","v":""},null,{"$f":"IF($AM$118=\"\",\"\",IF(ROWS(BD!$1:23)>COUNTIFS(BD!$B:$B,$AM$118),\"\",INDEX(BD!$C$2:$C$138,SMALL(IF(BD!$B$2:$B$138=$AM$118,IF(BD!$B$2:$B$138=$AM$118,ROW(BD!$B$2:$B$138)-ROW(BD!$B$2)+1),FALSE),ROWS(BD!$1:23)))))","v":""},{"$f":"IF($AM$118=\"\",\"\",IF(ROWS(BD!$1:23)>COUNTIFS(BD!$B:$B,$AM$118),\"\",INDEX(BD!$E$2:$E$138,SMALL(IF(BD!$B$2:$B$138=$AM$118,IF(BD!$B$2:$B$138=$AM$118,ROW(BD!$B$2:$B$138)-ROW(BD!$B$2)+1),FALSE),ROWS(BD!$1:23)))))","v":""},{"$f":"IF($AM$118=\"\",\"\",IF(ROWS(BD!$1:23)>COUNTIFS(BD!$B:$B,$AM$118),\"\",INDEX(BD!$F$2:$F$138,SMALL(IF(BD!$B$2:$B$138=$AM$118,IF(BD!$B$2:$B$138=$AM$118,ROW(BD!$B$2:$B$138)-ROW(BD!$B$2)+1),FALSE),ROWS(BD!$1:23)))))","v":""},{"$f":"IF($AM$118=\"\",\"\",IF(ROWS(BD!$1:23)>COUNTIFS(BD!$B:$B,$AM$118),\"\",INDEX(BD!$G$2:$G$138,SMALL(IF(BD!$B$2:$B$138=$AM$118,IF(BD!$B$2:$B$138=$AM$118,ROW(BD!$B$2:$B$138)-ROW(BD!$B$2)+1),FALSE),ROWS(BD!$1:23)))))","v":""},{"$f":"IF($AM$118=\"\",\"\",IF(ROWS(BD!$1:23)>COUNTIFS(BD!$B:$B,$AM$118),\"\",INDEX(BD!$H$2:$H$138,SMALL(IF(BD!$B$2:$B$138=$AM$118,IF(BD!$B$2:$B$138=$AM$118,ROW(BD!$B$2:$B$138)-ROW(BD!$B$2)+1),FALSE),ROWS(BD!$1:23)))))","v":""}]
[null,null,{"$f":"IF($C$118=\"\",\"\",IF(ROWS(BD!$1:24)>COUNTIFS(BD!$B:$B,$C$118),\"\",INDEX(BD!$C$2:$C$138,SMALL(IF(BD!$B$2:$B$138=$C$118,IF(BD!$B$2:$B$138=$C$118,ROW(BD!$B$2:$B$138)-ROW(BD!$B$2)+1),FALSE),ROWS(BD!$1:24)))))","v":""},{"$f":"IF($C$118=\"\",\"\",IF(ROWS(BD!$1:24)>COUNTIFS(BD!$B:$B,$C$118),\"\",INDEX(BD!$E$2:$E$138,SMALL(IF(BD!$B$2:$B$138=$C$118,IF(BD!$B$2:$B$138=$C$118,ROW(BD!$B$2:$B$138)-ROW(BD!$B$2)+1),FALSE),ROWS(BD!$1:24)))))","v":""},{"$f":"IF($C$118=\"\",\"\",IF(ROWS(BD!$1:24)>COUNTIFS(BD!$B:$B,$C$118),\"\",INDEX(BD!$F$2:$F$138,SMALL(IF(BD!$B$2:$B$138=$C$118,IF(BD!$B$2:$B$138=$C$118,ROW(BD!$B$2:$B$138)-ROW(BD!$B$2)+1),FALSE),ROWS(BD!$1:24)))))","v":""},{"$f":"IF($C$118=\"\",\"\",IF(ROWS(BD!$1:24)>COUNTIFS(BD!$B:$B,$C$118),\"\",INDEX(BD!$G$2:$G$138,SMALL(IF(BD!$B$2:$B$138=$C$118,IF(BD!$B$2:$B$138=$C$118,ROW(BD!$B$2:$B$138)-ROW(BD!$B$2)+1),FALSE),ROWS(BD!$1:24)))))","v":""},{"$f":"IF($C$118=\"\",\"\",IF(ROWS(BD!$1:24)>COUNTIFS(BD!$B:$B,$C$118),\"\",INDEX(BD!$H$2:$H$138,SMALL(IF(BD!$B$2:$B$138=$C$118,IF(BD!$B$2:$B$138=$C$118,ROW(BD!$B$2:$B$138)-ROW(BD!$B$2)+1),FALSE),ROWS(BD!$1:24)))))","v":""},null,{"$f":"IF($I$118=\"\",\"\",IF(ROWS(BD!$1:24)>COUNTIFS(BD!$B:$B,$I$118),\"\",INDEX(BD!$C$2:$C$138,SMALL(IF(BD!$B$2:$B$138=$I$118,IF(BD!$B$2:$B$138=$I$118,ROW(BD!$B$2:$B$138)-ROW(BD!$B$2)+1),FALSE),ROWS(BD!$1:24)))))","v":""},{"$f":"IF($I$118=\"\",\"\",IF(ROWS(BD!$1:24)>COUNTIFS(BD!$B:$B,$I$118),\"\",INDEX(BD!$E$2:$E$138,SMALL(IF(BD!$B$2:$B$138=$I$118,IF(BD!$B$2:$B$138=$I$118,ROW(BD!$B$2:$B$138)-ROW(BD!$B$2)+1),FALSE),ROWS(BD!$1:24)))))","v":""},{"$f":"IF($I$118=\"\",\"\",IF(ROWS(BD!$1:24)>COUNTIFS(BD!$B:$B,$I$118),\"\",INDEX(BD!$F$2:$F$138,SMALL(IF(BD!$B$2:$B$138=$I$118,IF(BD!$B$2:$B$138=$I$118,ROW(BD!$B$2:$B$138)-ROW(BD!$B$2)+1),FALSE),ROWS(BD!$1:24)))))","v":""},{"$f":"IF($I$118=\"\",\"\",IF(ROWS(BD!$1:24)>COUNTIFS(BD!$B:$B,$I$118),\"\",INDEX(BD!$G$2:$G$138,SMALL(IF(BD!$B$2:$B$138=$I$118,IF(BD!$B$2:$B$138=$I$118,ROW(BD!$B$2:$B$138)-ROW(BD!$B$2)+1),FALSE),ROWS(BD!$1:24)))))","v":""},{"$f":"IF($I$118=\"\",\"\",IF(ROWS(BD!$1:24)>COUNTIFS(BD!$B:$B,$I$118),\"\",INDEX(BD!$H$2:$H$138,SMALL(IF(BD!$B$2:$B$138=$I$118,IF(BD!$B$2:$B$138=$I$118,ROW(BD!$B$2:$B$138)-ROW(BD!$B$2)+1),FALSE),ROWS(BD!$1:24)))))","v":""},null,{"$f":"IF($O$118=\"\",\"\",IF(ROWS(BD!$1:24)>COUNTIFS(BD!$B:$B,$O$118),\"\",INDEX(BD!$C$2:$C$138,SMALL(IF(BD!$B$2:$B$138=$O$118,IF(BD!$B$2:$B$138=$O$118,ROW(BD!$B$2:$B$138)-ROW(BD!$B$2)+1),FALSE),ROWS(BD!$1:24)))))","v":""},{"$f":"IF($O$118=\"\",\"\",IF(ROWS(BD!$1:24)>COUNTIFS(BD!$B:$B,$O$118),\"\",INDEX(BD!$E$2:$E$138,SMALL(IF(BD!$B$2:$B$138=$O$118,IF(BD!$B$2:$B$138=$O$118,ROW(BD!$B$2:$B$138)-ROW(BD!$B$2)+1),FALSE),ROWS(BD!$1:24)))))","v":""},{"$f":"IF($O$118=\"\",\"\",IF(ROWS(BD!$1:24)>COUNTIFS(BD!$B:$B,$O$118),\"\",INDEX(BD!$F$2:$F$138,SMALL(IF(BD!$B$2:$B$138=$O$118,IF(BD!$B$2:$B$138=$O$118,ROW(BD!$B$2:$B$138)-ROW(BD!$B$2)+1),FALSE),ROWS(BD!$1:24)))))","v":""},{"$f":"IF($O$118=\"\",\"\",IF(ROWS(BD!$1:24)>COUNTIFS(BD!$B:$B,$O$118),\"\",INDEX(BD!$G$2:$G$138,SMALL(IF(BD!$B$2:$B$138=$O$118,IF(BD!$B$2:$B$138=$O$118,ROW(BD!$B$2:$B$138)-ROW(BD!$B$2)+1),FALSE),ROWS(BD!$1:24)))))","v":""},{"$f":"IF($O$118=\"\",\"\",IF(ROWS(BD!$1:24)>COUNTIFS(BD!$B:$B,$O$118),\"\",INDEX(BD!$H$2:$H$138,SMALL(IF(BD!$B$2:$B$138=$O$118,IF(BD!$B$2:$B$138=$O$118,ROW(BD!$B$2:$B$138)-ROW(BD!$B$2)+1),FALSE),ROWS(BD!$1:24)))))","v":""},null,{"$f":"IF($U$118=\"\",\"\",IF(ROWS(BD!$1:24)>COUNTIFS(BD!$B:$B,$U$118),\"\",INDEX(BD!$C$2:$C$138,SMALL(IF(BD!$B$2:$B$138=$U$118,IF(BD!$B$2:$B$138=$U$118,ROW(BD!$B$2:$B$138)-ROW(BD!$B$2)+1),FALSE),ROWS(BD!$1:24)))))","v":""},{"$f":"IF($U$118=\"\",\"\",IF(ROWS(BD!$1:24)>COUNTIFS(BD!$B:$B,$U$118),\"\",INDEX(BD!$E$2:$E$138,SMALL(IF(BD!$B$2:$B$138=$U$118,IF(BD!$B$2:$B$138=$U$118,ROW(BD!$B$2:$B$138)-ROW(BD!$B$2)+1),FALSE),ROWS(BD!$1:24)))))","v":""},{"$f":"IF($U$118=\"\",\"\",IF(ROWS(BD!$1:24)>COUNTIFS(BD!$B:$B,$U$118),\"\",INDEX(BD!$F$2:$F$138,SMALL(IF(BD!$B$2:$B$138=$U$118,IF(BD!$B$2:$B$138=$U$118,ROW(BD!$B$2:$B$138)-ROW(BD!$B$2)+1),FALSE),ROWS(BD!$1:24)))))","v":""},{"$f":"IF($U$118=\"\",\"\",IF(ROWS(BD!$1:24)>COUNTIFS(BD!$B:$B,$U$118),\"\",INDEX(BD!$G$2:$G$138,SMALL(IF(BD!$B$2:$B$138=$U$118,IF(BD!$B$2:$B$138=$U$118,ROW(BD!$B$2:$B$138)-ROW(BD!$B$2)+1),FALSE),ROWS(BD!$1:24)))))","v":""},{"$f":"IF($U$118=\"\",\"\",IF(ROWS(BD!$1:24)>COUNTIFS(BD!$B:$B,$U$118),\"\",INDEX(BD!$H$2:$H$138,SMALL(IF(BD!$B$2:$B$138=$U$118,IF(BD!$B$2:$B$138=$U$118,ROW(BD!$B$2:$B$138)-ROW(BD!$B$2)+1),FALSE),ROWS(BD!$1:24)))))","v":""},null,{"$f":"IF($AA$118=\"\",\"\",IF(ROWS(BD!$1:24)>COUNTIFS(BD!$B:$B,$AA$118),\"\",INDEX(BD!$C$2:$C$138,SMALL(IF(BD!$B$2:$B$138=$AA$118,IF(BD!$B$2:$B$138=$AA$118,ROW(BD!$B$2:$B$138)-ROW(BD!$B$2)+1),FALSE),ROWS(BD!$1:24)))))","v":""},{"$f":"IF($AA$118=\"\",\"\",IF(ROWS(BD!$1:24)>COUNTIFS(BD!$B:$B,$AA$118),\"\",INDEX(BD!$E$2:$E$138,SMALL(IF(BD!$B$2:$B$138=$AA$118,IF(BD!$B$2:$B$138=$AA$118,ROW(BD!$B$2:$B$138)-ROW(BD!$B$2)+1),FALSE),ROWS(BD!$1:24)))))","v":""},{"$f":"IF($AA$118=\"\",\"\",IF(ROWS(BD!$1:24)>COUNTIFS(BD!$B:$B,$AA$118),\"\",INDEX(BD!$F$2:$F$138,SMALL(IF(BD!$B$2:$B$138=$AA$118,IF(BD!$B$2:$B$138=$AA$118,ROW(BD!$B$2:$B$138)-ROW(BD!$B$2)+1),FALSE),ROWS(BD!$1:24)))))","v":""},{"$f":"IF($AA$118=\"\",\"\",IF(ROWS(BD!$1:24)>COUNTIFS(BD!$B:$B,$AA$118),\"\",INDEX(BD!$G$2:$G$138,SMALL(IF(BD!$B$2:$B$138=$AA$118,IF(BD!$B$2:$B$138=$AA$118,ROW(BD!$B$2:$B$138)-ROW(BD!$B$2)+1),FALSE),ROWS(BD!$1:24)))))","v":""},{"$f":"IF($AA$118=\"\",\"\",IF(ROWS(BD!$1:24)>COUNTIFS(BD!$B:$B,$AA$118),\"\",INDEX(BD!$H$2:$H$138,SMALL(IF(BD!$B$2:$B$138=$AA$118,IF(BD!$B$2:$B$138=$AA$118,ROW(BD!$B$2:$B$138)-ROW(BD!$B$2)+1),FALSE),ROWS(BD!$1:24)))))","v":""},null,{"$f":"IF($AG$118=\"\",\"\",IF(ROWS(BD!$1:24)>COUNTIFS(BD!$B:$B,$AG$118),\"\",INDEX(BD!$C$2:$C$138,SMALL(IF(BD!$B$2:$B$138=$AG$118,IF(BD!$B$2:$B$138=$AG$118,ROW(BD!$B$2:$B$138)-ROW(BD!$B$2)+1),FALSE),ROWS(BD!$1:24)))))","v":""},{"$f":"IF($AG$118=\"\",\"\",IF(ROWS(BD!$1:24)>COUNTIFS(BD!$B:$B,$AG$118),\"\",INDEX(BD!$E$2:$E$138,SMALL(IF(BD!$B$2:$B$138=$AG$118,IF(BD!$B$2:$B$138=$AG$118,ROW(BD!$B$2:$B$138)-ROW(BD!$B$2)+1),FALSE),ROWS(BD!$1:24)))))","v":""},{"$f":"IF($AG$118=\"\",\"\",IF(ROWS(BD!$1:24)>COUNTIFS(BD!$B:$B,$AG$118),\"\",INDEX(BD!$F$2:$F$138,SMALL(IF(BD!$B$2:$B$138=$AG$118,IF(BD!$B$2:$B$138=$AG$118,ROW(BD!$B$2:$B$138)-ROW(BD!$B$2)+1),FALSE),ROWS(BD!$1:24)))))","v":""},{"$f":"IF($AG$118=\"\",\"\",IF(ROWS(BD!$1:24)>COUNTIFS(BD!$B:$B,$AG$118),\"\",INDEX(BD!$G$2:$G$138,SMALL(IF(BD!$B$2:$B$138=$AG$118,IF(BD!$B$2:$B$138=$AG$118,ROW(BD!$B$2:$B$138)-ROW(BD!$B$2)+1),FALSE),ROWS(BD!$1:24)))))","v":""},{"$f":"IF($AG$118=\"\",\"\",IF(ROWS(BD!$1:24)>COUNTIFS(BD!$B:$B,$AG$118),\"\",INDEX(BD!$H$2:$H$138,SMALL(IF(BD!$B$2:$B$138=$AG$118,IF(BD!$B$2:$B$138=$AG$118,ROW(BD!$B$2:$B$138)-ROW(BD!$B$2)+1),FALSE),ROWS(BD!$1:24)))))","v":""},null,{"$f":"IF($AM$118=\"\",\"\",IF(ROWS(BD!$1:24)>COUNTIFS(BD!$B:$B,$AM$118),\"\",INDEX(BD!$C$2:$C$138,SMALL(IF(BD!$B$2:$B$138=$AM$118,IF(BD!$B$2:$B$138=$AM$118,ROW(BD!$B$2:$B$138)-ROW(BD!$B$2)+1),FALSE),ROWS(BD!$1:24)))))","v":""},{"$f":"IF($AM$118=\"\",\"\",IF(ROWS(BD!$1:24)>COUNTIFS(BD!$B:$B,$AM$118),\"\",INDEX(BD!$E$2:$E$138,SMALL(IF(BD!$B$2:$B$138=$AM$118,IF(BD!$B$2:$B$138=$AM$118,ROW(BD!$B$2:$B$138)-ROW(BD!$B$2)+1),FALSE),ROWS(BD!$1:24)))))","v":""},{"$f":"IF($AM$118=\"\",\"\",IF(ROWS(BD!$1:24)>COUNTIFS(BD!$B:$B,$AM$118),\"\",INDEX(BD!$F$2:$F$138,SMALL(IF(BD!$B$2:$B$138=$AM$118,IF(BD!$B$2:$B$138=$AM$118,ROW(BD!$B$2:$B$138)-ROW(BD!$B$2)+1),FALSE),ROWS(BD!$1:24)))))","v":""},{"$f":"IF($AM$118=\"\",\"\",IF(ROWS(BD!$1:24)>COUNTIFS(BD!$B:$B,$AM$118),\"\",INDEX(BD!$G$2:$G$138,SMALL(IF(BD!$B$2:$B$138=$AM$118,IF(BD!$B$2:$B$138=$AM$118,ROW(BD!$B$2:$B$138)-ROW(BD!$B$2)+1),FALSE),ROWS(BD!$1:24)))))","v":""},{"$f":"IF($AM$118=\"\",\"\",IF(ROWS(BD!$1:24)>COUNTIFS(BD!$B:$B,$AM$118),\"\",INDEX(BD!$H$2:$H$138,SMALL(IF(BD!$B$2:$B$138=$AM$118,IF(BD!$B$2:$B$138=$AM$118,ROW(BD!$B$2:$B$138)-ROW(BD!$B$2)+1),FALSE),ROWS(BD!$1:24)))))","v":""}]
[null,null,{"$f":"IF($C$118=\"\",\"\",IF(ROWS(BD!$1:25)>COUNTIFS(BD!$B:$B,$C$118),\"\",INDEX(BD!$C$2:$C$138,SMALL(IF(BD!$B$2:$B$138=$C$118,IF(BD!$B$2:$B$138=$C$118,ROW(BD!$B$2:$B$138)-ROW(BD!$B$2)+1),FALSE),ROWS(BD!$1:25)))))","v":""},{"$f":"IF($C$118=\"\",\"\",IF(ROWS(BD!$1:25)>COUNTIFS(BD!$B:$B,$C$118),\"\",INDEX(BD!$E$2:$E$138,SMALL(IF(BD!$B$2:$B$138=$C$118,IF(BD!$B$2:$B$138=$C$118,ROW(BD!$B$2:$B$138)-ROW(BD!$B$2)+1),FALSE),ROWS(BD!$1:25)))))","v":""},{"$f":"IF($C$118=\"\",\"\",IF(ROWS(BD!$1:25)>COUNTIFS(BD!$B:$B,$C$118),\"\",INDEX(BD!$F$2:$F$138,SMALL(IF(BD!$B$2:$B$138=$C$118,IF(BD!$B$2:$B$138=$C$118,ROW(BD!$B$2:$B$138)-ROW(BD!$B$2)+1),FALSE),ROWS(BD!$1:25)))))","v":""},{"$f":"IF($C$118=\"\",\"\",IF(ROWS(BD!$1:25)>COUNTIFS(BD!$B:$B,$C$118),\"\",INDEX(BD!$G$2:$G$138,SMALL(IF(BD!$B$2:$B$138=$C$118,IF(BD!$B$2:$B$138=$C$118,ROW(BD!$B$2:$B$138)-ROW(BD!$B$2)+1),FALSE),ROWS(BD!$1:25)))))","v":""},{"$f":"IF($C$118=\"\",\"\",IF(ROWS(BD!$1:25)>COUNTIFS(BD!$B:$B,$C$118),\"\",INDEX(BD!$H$2:$H$138,SMALL(IF(BD!$B$2:$B$138=$C$118,IF(BD!$B$2:$B$138=$C$118,ROW(BD!$B$2:$B$138)-ROW(BD!$B$2)+1),FALSE),ROWS(BD!$1:25)))))","v":""},null,{"$f":"IF($I$118=\"\",\"\",IF(ROWS(BD!$1:25)>COUNTIFS(BD!$B:$B,$I$118),\"\",INDEX(BD!$C$2:$C$138,SMALL(IF(BD!$B$2:$B$138=$I$118,IF(BD!$B$2:$B$138=$I$118,ROW(BD!$B$2:$B$138)-ROW(BD!$B$2)+1),FALSE),ROWS(BD!$1:25)))))","v":""},{"$f":"IF($I$118=\"\",\"\",IF(ROWS(BD!$1:25)>COUNTIFS(BD!$B:$B,$I$118),\"\",INDEX(BD!$E$2:$E$138,SMALL(IF(BD!$B$2:$B$138=$I$118,IF(BD!$B$2:$B$138=$I$118,ROW(BD!$B$2:$B$138)-ROW(BD!$B$2)+1),FALSE),ROWS(BD!$1:25)))))","v":""},{"$f":"IF($I$118=\"\",\"\",IF(ROWS(BD!$1:25)>COUNTIFS(BD!$B:$B,$I$118),\"\",INDEX(BD!$F$2:$F$138,SMALL(IF(BD!$B$2:$B$138=$I$118,IF(BD!$B$2:$B$138=$I$118,ROW(BD!$B$2:$B$138)-ROW(BD!$B$2)+1),FALSE),ROWS(BD!$1:25)))))","v":""},{"$f":"IF($I$118=\"\",\"\",IF(ROWS(BD!$1:25)>COUNTIFS(BD!$B:$B,$I$118),\"\",INDEX(BD!$G$2:$G$138,SMALL(IF(BD!$B$2:$B$138=$I$118,IF(BD!$B$2:$B$138=$I$118,ROW(BD!$B$2:$B$138)-ROW(BD!$B$2)+1),FALSE),ROWS(BD!$1:25)))))","v":""},{"$f":"IF($I$118=\"\",\"\",IF(ROWS(BD!$1:25)>COUNTIFS(BD!$B:$B,$I$118),\"\",INDEX(BD!$H$2:$H$138,SMALL(IF(BD!$B$2:$B$138=$I$118,IF(BD!$B$2:$B$138=$I$118,ROW(BD!$B$2:$B$138)-ROW(BD!$B$2)+1),FALSE),ROWS(BD!$1:25)))))","v":""},null,{"$f":"IF($O$118=\"\",\"\",IF(ROWS(BD!$1:25)>COUNTIFS(BD!$B:$B,$O$118),\"\",INDEX(BD!$C$2:$C$138,SMALL(IF(BD!$B$2:$B$138=$O$118,IF(BD!$B$2:$B$138=$O$118,ROW(BD!$B$2:$B$138)-ROW(BD!$B$2)+1),FALSE),ROWS(BD!$1:25)))))","v":""},{"$f":"IF($O$118=\"\",\"\",IF(ROWS(BD!$1:25)>COUNTIFS(BD!$B:$B,$O$118),\"\",INDEX(BD!$E$2:$E$138,SMALL(IF(BD!$B$2:$B$138=$O$118,IF(BD!$B$2:$B$138=$O$118,ROW(BD!$B$2:$B$138)-ROW(BD!$B$2)+1),FALSE),ROWS(BD!$1:25)))))","v":""},{"$f":"IF($O$118=\"\",\"\",IF(ROWS(BD!$1:25)>COUNTIFS(BD!$B:$B,$O$118),\"\",INDEX(BD!$F$2:$F$138,SMALL(IF(BD!$B$2:$B$138=$O$118,IF(BD!$B$2:$B$138=$O$118,ROW(BD!$B$2:$B$138)-ROW(BD!$B$2)+1),FALSE),ROWS(BD!$1:25)))))","v":""},{"$f":"IF($O$118=\"\",\"\",IF(ROWS(BD!$1:25)>COUNTIFS(BD!$B:$B,$O$118),\"\",INDEX(BD!$G$2:$G$138,SMALL(IF(BD!$B$2:$B$138=$O$118,IF(BD!$B$2:$B$138=$O$118,ROW(BD!$B$2:$B$138)-ROW(BD!$B$2)+1),FALSE),ROWS(BD!$1:25)))))","v":""},{"$f":"IF($O$118=\"\",\"\",IF(ROWS(BD!$1:25)>COUNTIFS(BD!$B:$B,$O$118),\"\",INDEX(BD!$H$2:$H$138,SMALL(IF(BD!$B$2:$B$138=$O$118,IF(BD!$B$2:$B$138=$O$118,ROW(BD!$B$2:$B$138)-ROW(BD!$B$2)+1),FALSE),ROWS(BD!$1:25)))))","v":""},null,{"$f":"IF($U$118=\"\",\"\",IF(ROWS(BD!$1:25)>COUNTIFS(BD!$B:$B,$U$118),\"\",INDEX(BD!$C$2:$C$138,SMALL(IF(BD!$B$2:$B$138=$U$118,IF(BD!$B$2:$B$138=$U$118,ROW(BD!$B$2:$B$138)-ROW(BD!$B$2)+1),FALSE),ROWS(BD!$1:25)))))","v":""},{"$f":"IF($U$118=\"\",\"\",IF(ROWS(BD!$1:25)>COUNTIFS(BD!$B:$B,$U$118),\"\",INDEX(BD!$E$2:$E$138,SMALL(IF(BD!$B$2:$B$138=$U$118,IF(BD!$B$2:$B$138=$U$118,ROW(BD!$B$2:$B$138)-ROW(BD!$B$2)+1),FALSE),ROWS(BD!$1:25)))))","v":""},{"$f":"IF($U$118=\"\",\"\",IF(ROWS(BD!$1:25)>COUNTIFS(BD!$B:$B,$U$118),\"\",INDEX(BD!$F$2:$F$138,SMALL(IF(BD!$B$2:$B$138=$U$118,IF(BD!$B$2:$B$138=$U$118,ROW(BD!$B$2:$B$138)-ROW(BD!$B$2)+1),FALSE),ROWS(BD!$1:25)))))","v":""},{"$f":"IF($U$118=\"\",\"\",IF(ROWS(BD!$1:25)>COUNTIFS(BD!$B:$B,$U$118),\"\",INDEX(BD!$G$2:$G$138,SMALL(IF(BD!$B$2:$B$138=$U$118,IF(BD!$B$2:$B$138=$U$118,ROW(BD!$B$2:$B$138)-ROW(BD!$B$2)+1),FALSE),ROWS(BD!$1:25)))))","v":""},{"$f":"IF($U$118=\"\",\"\",IF(ROWS(BD!$1:25)>COUNTIFS(BD!$B:$B,$U$118),\"\",INDEX(BD!$H$2:$H$138,SMALL(IF(BD!$B$2:$B$138=$U$118,IF(BD!$B$2:$B$138=$U$118,ROW(BD!$B$2:$B$138)-ROW(BD!$B$2)+1),FALSE),ROWS(BD!$1:25)))))","v":""},null,{"$f":"IF($AA$118=\"\",\"\",IF(ROWS(BD!$1:25)>COUNTIFS(BD!$B:$B,$AA$118),\"\",INDEX(BD!$C$2:$C$138,SMALL(IF(BD!$B$2:$B$138=$AA$118,IF(BD!$B$2:$B$138=$AA$118,ROW(BD!$B$2:$B$138)-ROW(BD!$B$2)+1),FALSE),ROWS(BD!$1:25)))))","v":""},{"$f":"IF($AA$118=\"\",\"\",IF(ROWS(BD!$1:25)>COUNTIFS(BD!$B:$B,$AA$118),\"\",INDEX(BD!$E$2:$E$138,SMALL(IF(BD!$B$2:$B$138=$AA$118,IF(BD!$B$2:$B$138=$AA$118,ROW(BD!$B$2:$B$138)-ROW(BD!$B$2)+1),FALSE),ROWS(BD!$1:25)))))","v":""},{"$f":"IF($AA$118=\"\",\"\",IF(ROWS(BD!$1:25)>COUNTIFS(BD!$B:$B,$AA$118),\"\",INDEX(BD!$F$2:$F$138,SMALL(IF(BD!$B$2:$B$138=$AA$118,IF(BD!$B$2:$B$138=$AA$118,ROW(BD!$B$2:$B$138)-ROW(BD!$B$2)+1),FALSE),ROWS(BD!$1:25)))))","v":""},{"$f":"IF($AA$118=\"\",\"\",IF(ROWS(BD!$1:25)>COUNTIFS(BD!$B:$B,$AA$118),\"\",INDEX(BD!$G$2:$G$138,SMALL(IF(BD!$B$2:$B$138=$AA$118,IF(BD!$B$2:$B$138=$AA$118,ROW(BD!$B$2:$B$138)-ROW(BD!$B$2)+1),FALSE),ROWS(BD!$1:25)))))","v":""},{"$f":"IF($AA$118=\"\",\"\",IF(ROWS(BD!$1:25)>COUNTIFS(BD!$B:$B,$AA$118),\"\",INDEX(BD!$H$2:$H$138,SMALL(IF(BD!$B$2:$B$138=$AA$118,IF(BD!$B$2:$B$138=$AA$118,ROW(BD!$B$2:$B$138)-ROW(BD!$B$2)+1),FALSE),ROWS(BD!$1:25)))))","v":""},null,{"$f":"IF($AG$118=\"\",\"\",IF(ROWS(BD!$1:25)>COUNTIFS(BD!$B:$B,$AG$118),\"\",INDEX(BD!$C$2:$C$138,SMALL(IF(BD!$B$2:$B$138=$AG$118,IF(BD!$B$2:$B$138=$AG$118,ROW(BD!$B$2:$B$138)-ROW(BD!$B$2)+1),FALSE),ROWS(BD!$1:25)))))","v":""},{"$f":"IF($AG$118=\"\",\"\",IF(ROWS(BD!$1:25)>COUNTIFS(BD!$B:$B,$AG$118),\"\",INDEX(BD!$E$2:$E$138,SMALL(IF(BD!$B$2:$B$138=$AG$118,IF(BD!$B$2:$B$138=$AG$118,ROW(BD!$B$2:$B$138)-ROW(BD!$B$2)+1),FALSE),ROWS(BD!$1:25)))))","v":""},{"$f":"IF($AG$118=\"\",\"\",IF(ROWS(BD!$1:25)>COUNTIFS(BD!$B:$B,$AG$118),\"\",INDEX(BD!$F$2:$F$138,SMALL(IF(BD!$B$2:$B$138=$AG$118,IF(BD!$B$2:$B$138=$AG$118,ROW(BD!$B$2:$B$138)-ROW(BD!$B$2)+1),FALSE),ROWS(BD!$1:25)))))","v":""},{"$f":"IF($AG$118=\"\",\"\",IF(ROWS(BD!$1:25)>COUNTIFS(BD!$B:$B,$AG$118),\"\",INDEX(BD!$G$2:$G$138,SMALL(IF(BD!$B$2:$B$138=$AG$118,IF(BD!$B$2:$B$138=$AG$118,ROW(BD!$B$2:$B$138)-ROW(BD!$B$2)+1),FALSE),ROWS(BD!$1:25)))))","v":""},{"$f":"IF($AG$118=\"\",\"\",IF(ROWS(BD!$1:25)>COUNTIFS(BD!$B:$B,$AG$118),\"\",INDEX(BD!$H$2:$H$138,SMALL(IF(BD!$B$2:$B$138=$AG$118,IF(BD!$B$2:$B$138=$AG$118,ROW(BD!$B$2:$B$138)-ROW(BD!$B$2)+1),FALSE),ROWS(BD!$1:25)))))","v":""},null,{"$f":"IF($AM$118=\"\",\"\",IF(ROWS(BD!$1:25)>COUNTIFS(BD!$B:$B,$AM$118),\"\",INDEX(BD!$C$2:$C$138,SMALL(IF(BD!$B$2:$B$138=$AM$118,IF(BD!$B$2:$B$138=$AM$118,ROW(BD!$B$2:$B$138)-ROW(BD!$B$2)+1),FALSE),ROWS(BD!$1:25)))))","v":""},{"$f":"IF($AM$118=\"\",\"\",IF(ROWS(BD!$1:25)>COUNTIFS(BD!$B:$B,$AM$118),\"\",INDEX(BD!$E$2:$E$138,SMALL(IF(BD!$B$2:$B$138=$AM$118,IF(BD!$B$2:$B$138=$AM$118,ROW(BD!$B$2:$B$138)-ROW(BD!$B$2)+1),FALSE),ROWS(BD!$1:25)))))","v":""},{"$f":"IF($AM$118=\"\",\"\",IF(ROWS(BD!$1:25)>COUNTIFS(BD!$B:$B,$AM$118),\"\",INDEX(BD!$F$2:$F$138,SMALL(IF(BD!$B$2:$B$138=$AM$118,IF(BD!$B$2:$B$138=$AM$118,ROW(BD!$B$2:$B$138)-ROW(BD!$B$2)+1),FALSE),ROWS(BD!$1:25)))))","v":""},{"$f":"IF($AM$118=\"\",\"\",IF(ROWS(BD!$1:25)>COUNTIFS(BD!$B:$B,$AM$118),\"\",INDEX(BD!$G$2:$G$138,SMALL(IF(BD!$B$2:$B$138=$AM$118,IF(BD!$B$2:$B$138=$AM$118,ROW(BD!$B$2:$B$138)-ROW(BD!$B$2)+1),FALSE),ROWS(BD!$1:25)))))","v":""},{"$f":"IF($AM$118=\"\",\"\",IF(ROWS(BD!$1:25)>COUNTIFS(BD!$B:$B,$AM$118),\"\",INDEX(BD!$H$2:$H$138,SMALL(IF(BD!$B$2:$B$138=$AM$118,IF(BD!$B$2:$B$138=$AM$118,ROW(BD!$B$2:$B$138)-ROW(BD!$B$2)+1),FALSE),ROWS(BD!$1:25)))))","v":""}]
[]
[null,null,{"$f":"IF(AM118<>\"\",IF(AM118+1<=fim,AM118+1,\"\"),\"\")","v":"2023-12-31"},null,null,null,null,null,{"$f":"IF(C145<>\"\",IF(C145+1<=fim,C145+1,\"\"),\"\")","v":""},null,null,null,null,null,{"$f":"IF(I145<>\"\",IF(I145+1<=fim,I145+1,\"\"),\"\")","v":""},null,null,null,null,null,{"$f":"IF(O145<>\"\",IF(O145+1<=fim,O145+1,\"\"),\"\")","v":""},null,null,null,null,null,{"$f":"IF(U145<>\"\",IF(U145+1<=fim,U145+1,\"\"),\"\")","v":""},null,null,null,null,null,{"$f":"IF(AA145<>\"\",IF(AA145+1<=fim,AA145+1,\"\"),\"\")","v":""},null,null,null,null,null,{"$f":"IF(AG145<>\"\",IF(AG145+1<=fim,AG145+1,\"\"),\"\")","v":""}]
[null,null,{"$f":"IF($C$145=\"\",\"\",IF(ROWS(BD!$1:1)>COUNTIFS(BD!$B:$B,$C$145),\"\",INDEX(BD!$C$2:$C$138,SMALL(IF(BD!$B$2:$B$138=$C$145,IF(BD!$B$2:$B$138=$C$145,ROW(BD!$B$2:$B$138)-ROW(BD!$B$2)+1),FALSE),ROWS(BD!$1:1)))))","v":""},{"$f":"IF($C$145=\"\",\"\",IF(ROWS(BD!$1:1)>COUNTIFS(BD!$B:$B,$C$145),\"\",INDEX(BD!$E$2:$E$138,SMALL(IF(BD!$B$2:$B$138=$C$145,IF(BD!$B$2:$B$138=$C$145,ROW(BD!$B$2:$B$138)-ROW(BD!$B$2)+1),FALSE),ROWS(BD!$1:1)))))","v":""},{"$f":"IF($C$145=\"\",\"\",IF(ROWS(BD!$1:1)>COUNTIFS(BD!$B:$B,$C$145),\"\",INDEX(BD!$F$2:$F$138,SMALL(IF(BD!$B$2:$B$138=$C$145,IF(BD!$B$2:$B$138=$C$145,ROW(BD!$B$2:$B$138)-ROW(BD!$B$2)+1),FALSE),ROWS(BD!$1:1)))))","v":""},{"$f":"IF($C$145=\"\",\"\",IF(ROWS(BD!$1:1)>COUNTIFS(BD!$B:$B,$C$145),\"\",INDEX(BD!$G$2:$G$138,SMALL(IF(BD!$B$2:$B$138=$C$145,IF(BD!$B$2:$B$138=$C$145,ROW(BD!$B$2:$B$138)-ROW(BD!$B$2)+1),FALSE),ROWS(BD!$1:1)))))","v":""},{"$f":"IF($C$145=\"\",\"\",IF(ROWS(BD!$1:1)>COUNTIFS(BD!$B:$B,$C$145),\"\",INDEX(BD!$H$2:$H$138,SMALL(IF(BD!$B$2:$B$138=$C$145,IF(BD!$B$2:$B$138=$C$145,ROW(BD!$B$2:$B$138)-ROW(BD!$B$2)+1),FALSE),ROWS(BD!$1:1)))))","v":""},null,{"$f":"IF($I$145=\"\",\"\",IF(ROWS(BD!$1:1)>COUNTIFS(BD!$B:$B,$I$145),\"\",INDEX(BD!$C$2:$C$138,SMALL(IF(BD!$B$2:$B$138=$I$145,IF(BD!$B$2:$B$138=$I$145,ROW(BD!$B$2:$B$138)-ROW(BD!$B$2)+1),FALSE),ROWS(BD!$1:1)))))","v":""},{"$f":"IF($I$145=\"\",\"\",IF(ROWS(BD!$1:1)>COUNTIFS(BD!$B:$B,$I$145),\"\",INDEX(BD!$E$2:$E$138,SMALL(IF(BD!$B$2:$B$138=$I$145,IF(BD!$B$2:$B$138=$I$145,ROW(BD!$B$2:$B$138)-ROW(BD!$B$2)+1),FALSE),ROWS(BD!$1:1)))))","v":""},{"$f":"IF($I$145=\"\",\"\",IF(ROWS(BD!$1:1)>COUNTIFS(BD!$B:$B,$I$145),\"\",INDEX(BD!$F$2:$F$138,SMALL(IF(BD!$B$2:$B$138=$I$145,IF(BD!$B$2:$B$138=$I$145,ROW(BD!$B$2:$B$138)-ROW(BD!$B$2)+1),FALSE),ROWS(BD!$1:1)))))","v":""},{"$f":"IF($I$145=\"\",\"\",IF(ROWS(BD!$1:1)>COUNTIFS(BD!$B:$B,$I$145),\"\",INDEX(BD!$G$2:$G$138,SMALL(IF(BD!$B$2:$B$138=$I$145,IF(BD!$B$2:$B$138=$I$145,ROW(BD!$B$2:$B$138)-ROW(BD!$B$2)+1),FALSE),ROWS(BD!$1:1)))))","v":""},{"$f":"IF($I$145=\"\",\"\",IF(ROWS(BD!$1:1)>COUNTIFS(BD!$B:$B,$I$145),\"\",INDEX(BD!$H$2:$H$138,SMALL(IF(BD!$B$2:$B$138=$I$145,IF(BD!$B$2:$B$138=$I$145,ROW(BD!$B$2:$B$138)-ROW(BD!$B$2)+1),FALSE),ROWS(BD!$1:1)))))","v":""},null,{"$f":"IF($O$145=\"\",\"\",IF(ROWS(BD!$1:1)>COUNTIFS(BD!$B:$B,$O$145),\"\",INDEX(BD!$C$2:$C$138,SMALL(IF(BD!$B$2:$B$138=$O$145,IF(BD!$B$2:$B$138=$O$145,ROW(BD!$B$2:$B$138)-ROW(BD!$B$2)+1),FALSE),ROWS(BD!$1:1)))))","v":""},{"$f":"IF($O$145=\"\",\"\",IF(ROWS(BD!$1:1)>COUNTIFS(BD!$B:$B,$O$145),\"\",INDEX(BD!$E$2:$E$138,SMALL(IF(BD!$B$2:$B$138=$O$145,IF(BD!$B$2:$B$138=$O$145,ROW(BD!$B$2:$B$138)-ROW(BD!$B$2)+1),FALSE),ROWS(BD!$1:1)))))","v":""},{"$f":"IF($O$145=\"\",\"\",IF(ROWS(BD!$1:1)>COUNTIFS(BD!$B:$B,$O$145),\"\",INDEX(BD!$F$2:$F$138,SMALL(IF(BD!$B$2:$B$138=$O$145,IF(BD!$B$2:$B$138=$O$145,ROW(BD!$B$2:$B$138)-ROW(BD!$B$2)+1),FALSE),ROWS(BD!$1:1)))))","v":""},{"$f":"IF($O$145=\"\",\"\",IF(ROWS(BD!$1:1)>COUNTIFS(BD!$B:$B,$O$145),\"\",INDEX(BD!$G$2:$G$138,SMALL(IF(BD!$B$2:$B$138=$O$145,IF(BD!$B$2:$B$138=$O$145,ROW(BD!$B$2:$B$138)-ROW(BD!$B$2)+1),FALSE),ROWS(BD!$1:1)))))","v":""},{"$f":"IF($O$145=\"\",\"\",IF(ROWS(BD!$1:1)>COUNTIFS(BD!$B:$B,$O$145),\"\",INDEX(BD!$H$2:$H$138,SMALL(IF(BD!$B$2:$B$138=$O$145,IF(BD!$B$2:$B$138=$O$145,ROW(BD!$B$2:$B$138)-ROW(BD!$B$2)+1),FALSE),ROWS(BD!$1:1)))))","v":""},null,{"$f":"IF($U$145=\"\",\"\",IF(ROWS(BD!$1:1)>COUNTIFS(BD!$B:$B,$U$145),\"\",INDEX(BD!$C$2:$C$138,SMALL(IF(BD!$B$2:$B$138=$U$145,IF(BD!$B$2:$B$138=$U$145,ROW(BD!$B$2:$B$138)-ROW(BD!$B$2)+1),FALSE),ROWS(BD!$1:1)))))","v":""},{"$f":"IF($U$145=\"\",\"\",IF(ROWS(BD!$1:1)>COUNTIFS(BD!$B:$B,$U$145),\"\",INDEX(BD!$E$2:$E$138,SMALL(IF(BD!$B$2:$B$138=$U$145,IF(BD!$B$2:$B$138=$U$145,ROW(BD!$B$2:$B$138)-ROW(BD!$B$2)+1),FALSE),ROWS(BD!$1:1)))))","v":""},{"$f":"IF($U$145=\"\",\"\",IF(ROWS(BD!$1:1)>COUNTIFS(BD!$B:$B,$U$145),\"\",INDEX(BD!$F$2:$F$138,SMALL(IF(BD!$B$2:$B$138=$U$145,IF(BD!$B$2:$B$138=$U$145,ROW(BD!$B$2:$B$138)-ROW(BD!$B$2)+1),FALSE),ROWS(BD!$1:1)))))","v":""},{"$f":"IF($U$145=\"\",\"\",IF(ROWS(BD!$1:1)>COUNTIFS(BD!$B:$B,$U$145),\"\",INDEX(BD!$G$2:$G$138,SMALL(IF(BD!$B$2:$B$138=$U$145,IF(BD!$B$2:$B$138=$U$145,ROW(BD!$B$2:$B$138)-ROW(BD!$B$2)+1),FALSE),ROWS(BD!$1:1)))))","v":""},{"$f":"IF($U$145=\"\",\"\",IF(ROWS(BD!$1:1)>COUNTIFS(BD!$B:$B,$U$145),\"\",INDEX(BD!$H$2:$H$138,SMALL(IF(BD!$B$2:$B$138=$U$145,IF(BD!$B$2:$B$138=$U$145,ROW(BD!$B$2:$B$138)-ROW(BD!$B$2)+1),FALSE),ROWS(BD!$1:1)))))","v":""},null,{"$f":"IF($AA$145=\"\",\"\",IF(ROWS(BD!$1:1)>COUNTIFS(BD!$B:$B,$AA$145),\"\",INDEX(BD!$C$2:$C$138,SMALL(IF(BD!$B$2:$B$138=$AA$145,IF(BD!$B$2:$B$138=$AA$145,ROW(BD!$B$2:$B$138)-ROW(BD!$B$2)+1),FALSE),ROWS(BD!$1:1)))))","v":""},{"$f":"IF($AA$145=\"\",\"\",IF(ROWS(BD!$1:1)>COUNTIFS(BD!$B:$B,$AA$145),\"\",INDEX(BD!$E$2:$E$138,SMALL(IF(BD!$B$2:$B$138=$AA$145,IF(BD!$B$2:$B$138=$AA$145,ROW(BD!$B$2:$B$138)-ROW(BD!$B$2)+1),FALSE),ROWS(BD!$1:1)))))","v":""},{"$f":"IF($AA$145=\"\",\"\",IF(ROWS(BD!$1:1)>COUNTIFS(BD!$B:$B,$AA$145),\"\",INDEX(BD!$F$2:$F$138,SMALL(IF(BD!$B$2:$B$138=$AA$145,IF(BD!$B$2:$B$138=$AA$145,ROW(BD!$B$2:$B$138)-ROW(BD!$B$2)+1),FALSE),ROWS(BD!$1:1)))))","v":""},{"$f":"IF($AA$145=\"\",\"\",IF(ROWS(BD!$1:1)>COUNTIFS(BD!$B:$B,$AA$145),\"\",INDEX(BD!$G$2:$G$138,SMALL(IF(BD!$B$2:$B$138=$AA$145,IF(BD!$B$2:$B$138=$AA$145,ROW(BD!$B$2:$B$138)-ROW(BD!$B$2)+1),FALSE),ROWS(BD!$1:1)))))","v":""},{"$f":"IF($AA$145=\"\",\"\",IF(ROWS(BD!$1:1)>COUNTIFS(BD!$B:$B,$AA$145),\"\",INDEX(BD!$H$2:$H$138,SMALL(IF(BD!$B$2:$B$138=$AA$145,IF(BD!$B$2:$B$138=$AA$145,ROW(BD!$B$2:$B$138)-ROW(BD!$B$2)+1),FALSE),ROWS(BD!$1:1)))))","v":""},null,{"$f":"IF($AG$145=\"\",\"\",IF(ROWS(BD!$1:1)>COUNTIFS(BD!$B:$B,$AG$145),\"\",INDEX(BD!$C$2:$C$138,SMALL(IF(BD!$B$2:$B$138=$AG$145,IF(BD!$B$2:$B$138=$AG$145,ROW(BD!$B$2:$B$138)-ROW(BD!$B$2)+1),FALSE),ROWS(BD!$1:1)))))","v":""},{"$f":"IF($AG$145=\"\",\"\",IF(ROWS(BD!$1:1)>COUNTIFS(BD!$B:$B,$AG$145),\"\",INDEX(BD!$E$2:$E$138,SMALL(IF(BD!$B$2:$B$138=$AG$145,IF(BD!$B$2:$B$138=$AG$145,ROW(BD!$B$2:$B$138)-ROW(BD!$B$2)+1),FALSE),ROWS(BD!$1:1)))))","v":""},{"$f":"IF($AG$145=\"\",\"\",IF(ROWS(BD!$1:1)>COUNTIFS(BD!$B:$B,$AG$145),\"\",INDEX(BD!$F$2:$F$138,SMALL(IF(BD!$B$2:$B$138=$AG$145,IF(BD!$B$2:$B$138=$AG$145,ROW(BD!$B$2:$B$138)-ROW(BD!$B$2)+1),FALSE),ROWS(BD!$1:1)))))","v":""},{"$f":"IF($AG$145=\"\",\"\",IF(ROWS(BD!$1:1)>COUNTIFS(BD!$B:$B,$AG$145),\"\",INDEX(BD!$G$2:$G$138,SMALL(IF(BD!$B$2:$B$138=$AG$145,IF(BD!$B$2:$B$138=$AG$145,ROW(BD!$B$2:$B$138)-ROW(BD!$B$2)+1),FALSE),ROWS(BD!$1:1)))))","v":""},{"$f":"IF($AG$145=\"\",\"\",IF(ROWS(BD!$1:1)>COUNTIFS(BD!$B:$B,$AG$145),\"\",INDEX(BD!$H$2:$H$138,SMALL(IF(BD!$B$2:$B$138=$AG$145,IF(BD!$B$2:$B$138=$AG$145,ROW(BD!$B$2:$B$138)-ROW(BD!$B$2)+1),FALSE),ROWS(BD!$1:1)))))","v":""},null,{"$f":"IF($AM$145=\"\",\"\",IF(ROWS(BD!$1:1)>COUNTIFS(BD!$B:$B,$AM$145),\"\",INDEX(BD!$C$2:$C$138,SMALL(IF(BD!$B$2:$B$138=$AM$145,IF(BD!$B$2:$B$138=$AM$145,ROW(BD!$B$2:$B$138)-ROW(BD!$B$2)+1),FALSE),ROWS(BD!$1:1)))))","v":""},{"$f":"IF($AM$145=\"\",\"\",IF(ROWS(BD!$1:1)>COUNTIFS(BD!$B:$B,$AM$145),\"\",INDEX(BD!$E$2:$E$138,SMALL(IF(BD!$B$2:$B$138=$AM$145,IF(BD!$B$2:$B$138=$AM$145,ROW(BD!$B$2:$B$138)-ROW(BD!$B$2)+1),FALSE),ROWS(BD!$1:1)))))","v":""},{"$f":"IF($AM$145=\"\",\"\",IF(ROWS(BD!$1:1)>COUNTIFS(BD!$B:$B,$AM$145),\"\",INDEX(BD!$F$2:$F$138,SMALL(IF(BD!$B$2:$B$138=$AM$145,IF(BD!$B$2:$B$138=$AM$145,ROW(BD!$B$2:$B$138)-ROW(BD!$B$2)+1),FALSE),ROWS(BD!$1:1)))))","v":""},{"$f":"IF($AM$145=\"\",\"\",IF(ROWS(BD!$1:1)>COUNTIFS(BD!$B:$B,$AM$145),\"\",INDEX(BD!$G$2:$G$138,SMALL(IF(BD!$B$2:$B$138=$AM$145,IF(BD!$B$2:$B$138=$AM$145,ROW(BD!$B$2:$B$138)-ROW(BD!$B$2)+1),FALSE),ROWS(BD!$1:1)))))","v":""},{"$f":"IF($AM$145=\"\",\"\",IF(ROWS(BD!$1:1)>COUNTIFS(BD!$B:$B,$AM$145),\"\",INDEX(BD!$H$2:$H$138,SMALL(IF(BD!$B$2:$B$138=$AM$145,IF(BD!$B$2:$B$138=$AM$145,ROW(BD!$B$2:$B$138)-ROW(BD!$B$2)+1),FALSE),ROWS(BD!$1:1)))))","v":""}]
[null,null,{"$f":"IF($C$145=\"\",\"\",IF(ROWS(BD!$1:2)>COUNTIFS(BD!$B:$B,$C$145),\"\",INDEX(BD!$C$2:$C$138,SMALL(IF(BD!$B$2:$B$138=$C$145,IF(BD!$B$2:$B$138=$C$145,ROW(BD!$B$2:$B$138)-ROW(BD!$B$2)+1),FALSE),ROWS(BD!$1:2)))))","v":""},{"$f":"IF($C$145=\"\",\"\",IF(ROWS(BD!$1:2)>COUNTIFS(BD!$B:$B,$C$145),\"\",INDEX(BD!$E$2:$E$138,SMALL(IF(BD!$B$2:$B$138=$C$145,IF(BD!$B$2:$B$138=$C$145,ROW(BD!$B$2:$B$138)-ROW(BD!$B$2)+1),FALSE),ROWS(BD!$1:2)))))","v":""},{"$f":"IF($C$145=\"\",\"\",IF(ROWS(BD!$1:2)>COUNTIFS(BD!$B:$B,$C$145),\"\",INDEX(BD!$F$2:$F$138,SMALL(IF(BD!$B$2:$B$138=$C$145,IF(BD!$B$2:$B$138=$C$145,ROW(BD!$B$2:$B$138)-ROW(BD!$B$2)+1),FALSE),ROWS(BD!$1:2)))))","v":""},{"$f":"IF($C$145=\"\",\"\",IF(ROWS(BD!$1:2)>COUNTIFS(BD!$B:$B,$C$145),\"\",INDEX(BD!$G$2:$G$138,SMALL(IF(BD!$B$2:$B$138=$C$145,IF(BD!$B$2:$B$138=$C$145,ROW(BD!$B$2:$B$138)-ROW(BD!$B$2)+1),FALSE),ROWS(BD!$1:2)))))","v":""},{"$f":"IF($C$145=\"\",\"\",IF(ROWS(BD!$1:2)>COUNTIFS(BD!$B:$B,$C$145),\"\",INDEX(BD!$H$2:$H$138,SMALL(IF(BD!$B$2:$B$138=$C$145,IF(BD!$B$2:$B$138=$C$145,ROW(BD!$B$2:$B$138)-ROW(BD!$B$2)+1),FALSE),ROWS(BD!$1:2)))))","v":""},null,{"$f":"IF($I$145=\"\",\"\",IF(ROWS(BD!$1:2)>COUNTIFS(BD!$B:$B,$I$145),\"\",INDEX(BD!$C$2:$C$138,SMALL(IF(BD!$B$2:$B$138=$I$145,IF(BD!$B$2:$B$138=$I$145,ROW(BD!$B$2:$B$138)-ROW(BD!$B$2)+1),FALSE),ROWS(BD!$1:2)))))","v":""},{"$f":"IF($I$145=\"\",\"\",IF(ROWS(BD!$1:2)>COUNTIFS(BD!$B:$B,$I$145),\"\",INDEX(BD!$E$2:$E$138,SMALL(IF(BD!$B$2:$B$138=$I$145,IF(BD!$B$2:$B$138=$I$145,ROW(BD!$B$2:$B$138)-ROW(BD!$B$2)+1),FALSE),ROWS(BD!$1:2)))))","v":""},{"$f":"IF($I$145=\"\",\"\",IF(ROWS(BD!$1:2)>COUNTIFS(BD!$B:$B,$I$145),\"\",INDEX(BD!$F$2:$F$138,SMALL(IF(BD!$B$2:$B$138=$I$145,IF(BD!$B$2:$B$138=$I$145,ROW(BD!$B$2:$B$138)-ROW(BD!$B$2)+1),FALSE),ROWS(BD!$1:2)))))","v":""},{"$f":"IF($I$145=\"\",\"\",IF(ROWS(BD!$1:2)>COUNTIFS(BD!$B:$B,$I$145),\"\",INDEX(BD!$G$2:$G$138,SMALL(IF(BD!$B$2:$B$138=$I$145,IF(BD!$B$2:$B$138=$I$145,ROW(BD!$B$2:$B$138)-ROW(BD!$B$2)+1),FALSE),ROWS(BD!$1:2)))))","v":""},{"$f":"IF($I$145=\"\",\"\",IF(ROWS(BD!$1:2)>COUNTIFS(BD!$B:$B,$I$145),\"\",INDEX(BD!$H$2:$H$138,SMALL(IF(BD!$B$2:$B$138=$I$145,IF(BD!$B$2:$B$138=$I$145,ROW(BD!$B$2:$B$138)-ROW(BD!$B$2)+1),FALSE),ROWS(BD!$1:2)))))","v":""},null,{"$f":"IF($O$145=\"\",\"\",IF(ROWS(BD!$1:2)>COUNTIFS(BD!$B:$B,$O$145),\"\",INDEX(BD!$C$2:$C$138,SMALL(IF(BD!$B$2:$B$138=$O$145,IF(BD!$B$2:$B$138=$O$145,ROW(BD!$B$2:$B$138)-ROW(BD!$B$2)+1),FALSE),ROWS(BD!$1:2)))))","v":""},{"$f":"IF($O$145=\"\",\"\",IF(ROWS(BD!$1:2)>COUNTIFS(BD!$B:$B,$O$145),\"\",INDEX(BD!$E$2:$E$138,SMALL(IF(BD!$B$2:$B$138=$O$145,IF(BD!$B$2:$B$138=$O$145,ROW(BD!$B$2:$B$138)-ROW(BD!$B$2)+1),FALSE),ROWS(BD!$1:2)))))","v":""},{"$f":"IF($O$145=\"\",\"\",IF(ROWS(BD!$1:2)>COUNTIFS(BD!$B:$B,$O$145),\"\",INDEX(BD!$F$2:$F$138,SMALL(IF(BD!$B$2:$B$138=$O$145,IF(BD!$B$2:$B$138=$O$145,ROW(BD!$B$2:$B$138)-ROW(BD!$B$2)+1),FALSE),ROWS(BD!$1:2)))))","v":""},{"$f":"IF($O$145=\"\",\"\",IF(ROWS(BD!$1:2)>COUNTIFS(BD!$B:$B,$O$145),\"\",INDEX(BD!$G$2:$G$138,SMALL(IF(BD!$B$2:$B$138=$O$145,IF(BD!$B$2:$B$138=$O$145,ROW(BD!$B$2:$B$138)-ROW(BD!$B$2)+1),FALSE),ROWS(BD!$1:2)))))","v":""},{"$f":"IF($O$145=\"\",\"\",IF(ROWS(BD!$1:2)>COUNTIFS(BD!$B:$B,$O$145),\"\",INDEX(BD!$H$2:$H$138,SMALL(IF(BD!$B$2:$B$138=$O$145,IF(BD!$B$2:$B$138=$O$145,ROW(BD!$B$2:$B$138)-ROW(BD!$B$2)+1),FALSE),ROWS(BD!$1:2)))))","v":""},null,{"$f":"IF($U$145=\"\",\"\",IF(ROWS(BD!$1:2)>COUNTIFS(BD!$B:$B,$U$145),\"\",INDEX(BD!$C$2:$C$138,SMALL(IF(BD!$B$2:$B$138=$U$145,IF(BD!$B$2:$B$138=$U$145,ROW(BD!$B$2:$B$138)-ROW(BD!$B$2)+1),FALSE),ROWS(BD!$1:2)))))","v":""},{"$f":"IF($U$145=\"\",\"\",IF(ROWS(BD!$1:2)>COUNTIFS(BD!$B:$B,$U$145),\"\",INDEX(BD!$E$2:$E$138,SMALL(IF(BD!$B$2:$B$138=$U$145,IF(BD!$B$2:$B$138=$U$145,ROW(BD!$B$2:$B$138)-ROW(BD!$B$2)+1),FALSE),ROWS(BD!$1:2)))))","v":""},{"$f":"IF($U$145=\"\",\"\",IF(ROWS(BD!$1:2)>COUNTIFS(BD!$B:$B,$U$145),\"\",INDEX(BD!$F$2:$F$138,SMALL(IF(BD!$B$2:$B$138=$U$145,IF(BD!$B$2:$B$138=$U$145,ROW(BD!$B$2:$B$138)-ROW(BD!$B$2)+1),FALSE),ROWS(BD!$1:2)))))","v":""},{"$f":"IF($U$145=\"\",\"\",IF(ROWS(BD!$1:2)>COUNTIFS(BD!$B:$B,$U$145),\"\",INDEX(BD!$G$2:$G$138,SMALL(IF(BD!$B$2:$B$138=$U$145,IF(BD!$B$2:$B$138=$U$145,ROW(BD!$B$2:$B$138)-ROW(BD!$B$2)+1),FALSE),ROWS(BD!$1:2)))))","v":""},{"$f":"IF($U$145=\"\",\"\",IF(ROWS(BD!$1:2)>COUNTIFS(BD!$B:$B,$U$145),\"\",INDEX(BD!$H$2:$H$138,SMALL(IF(BD!$B$2:$B$138=$U$145,IF(BD!$B$2:$B$138=$U$145,ROW(BD!$B$2:$B$138)-ROW(BD!$B$2)+1),FALSE),ROWS(BD!$1:2)))))","v":""},null,{"$f":"IF($AA$145=\"\",\"\",IF(ROWS(BD!$1:2)>COUNTIFS(BD!$B:$B,$AA$145),\"\",INDEX(BD!$C$2:$C$138,SMALL(IF(BD!$B$2:$B$138=$AA$145,IF(BD!$B$2:$B$138=$AA$145,ROW(BD!$B$2:$B$138)-ROW(BD!$B$2)+1),FALSE),ROWS(BD!$1:2)))))","v":""},{"$f":"IF($AA$145=\"\",\"\",IF(ROWS(BD!$1:2)>COUNTIFS(BD!$B:$B,$AA$145),\"\",INDEX(BD!$E$2:$E$138,SMALL(IF(BD!$B$2:$B$138=$AA$145,IF(BD!$B$2:$B$138=$AA$145,ROW(BD!$B$2:$B$138)-ROW(BD!$B$2)+1),FALSE),ROWS(BD!$1:2)))))","v":""},{"$f":"IF($AA$145=\"\",\"\",IF(ROWS(BD!$1:2)>COUNTIFS(BD!$B:$B,$AA$145),\"\",INDEX(BD!$F$2:$F$138,SMALL(IF(BD!$B$2:$B$138=$AA$145,IF(BD!$B$2:$B$138=$AA$145,ROW(BD!$B$2:$B$138)-ROW(BD!$B$2)+1),FALSE),ROWS(BD!$1:2)))))","v":""},{"$f":"IF($AA$145=\"\",\"\",IF(ROWS(BD!$1:2)>COUNTIFS(BD!$B:$B,$AA$145),\"\",INDEX(BD!$G$2:$G$138,SMALL(IF(BD!$B$2:$B$138=$AA$145,IF(BD!$B$2:$B$138=$AA$145,ROW(BD!$B$2:$B$138)-ROW(BD!$B$2)+1),FALSE),ROWS(BD!$1:2)))))","v":""},{"$f":"IF($AA$145=\"\",\"\",IF(ROWS(BD!$1:2)>COUNTIFS(BD!$B:$B,$AA$145),\"\",INDEX(BD!$H$2:$H$138,SMALL(IF(BD!$B$2:$B$138=$AA$145,IF(BD!$B$2:$B$138=$AA$145,ROW(BD!$B$2:$B$138)-ROW(BD!$B$2)+1),FALSE),ROWS(BD!$1:2)))))","v":""},null,{"$f":"IF($AG$145=\"\",\"\",IF(ROWS(BD!$1:2)>COUNTIFS(BD!$B:$B,$AG$145),\"\",INDEX(BD!$C$2:$C$138,SMALL(IF(BD!$B$2:$B$138=$AG$145,IF(BD!$B$2:$B$138=$AG$145,ROW(BD!$B$2:$B$138)-ROW(BD!$B$2)+1),FALSE),ROWS(BD!$1:2)))))","v":""},{"$f":"IF($AG$145=\"\",\"\",IF(ROWS(BD!$1:2)>COUNTIFS(BD!$B:$B,$AG$145),\"\",INDEX(BD!$E$2:$E$138,SMALL(IF(BD!$B$2:$B$138=$AG$145,IF(BD!$B$2:$B$138=$AG$145,ROW(BD!$B$2:$B$138)-ROW(BD!$B$2)+1),FALSE),ROWS(BD!$1:2)))))","v":""},{"$f":"IF($AG$145=\"\",\"\",IF(ROWS(BD!$1:2)>COUNTIFS(BD!$B:$B,$AG$145),\"\",INDEX(BD!$F$2:$F$138,SMALL(IF(BD!$B$2:$B$138=$AG$145,IF(BD!$B$2:$B$138=$AG$145,ROW(BD!$B$2:$B$138)-ROW(BD!$B$2)+1),FALSE),ROWS(BD!$1:2)))))","v":""},{"$f":"IF($AG$145=\"\",\"\",IF(ROWS(BD!$1:2)>COUNTIFS(BD!$B:$B,$AG$145),\"\",INDEX(BD!$G$2:$G$138,SMALL(IF(BD!$B$2:$B$138=$AG$145,IF(BD!$B$2:$B$138=$AG$145,ROW(BD!$B$2:$B$138)-ROW(BD!$B$2)+1),FALSE),ROWS(BD!$1:2)))))","v":""},{"$f":"IF($AG$145=\"\",\"\",IF(ROWS(BD!$1:2)>COUNTIFS(BD!$B:$B,$AG$145),\"\",INDEX(BD!$H$2:$H$138,SMALL(IF(BD!$B$2:$B$138=$AG$145,IF(BD!$B$2:$B$138=$AG$145,ROW(BD!$B$2:$B$138)-ROW(BD!$B$2)+1),FALSE),ROWS(BD!$1:2)))))","v":""},null,{"$f":"IF($AM$145=\"\",\"\",IF(ROWS(BD!$1:2)>COUNTIFS(BD!$B:$B,$AM$145),\"\",INDEX(BD!$C$2:$C$138,SMALL(IF(BD!$B$2:$B$138=$AM$145,IF(BD!$B$2:$B$138=$AM$145,ROW(BD!$B$2:$B$138)-ROW(BD!$B$2)+1),FALSE),ROWS(BD!$1:2)))))","v":""},{"$f":"IF($AM$145=\"\",\"\",IF(ROWS(BD!$1:2)>COUNTIFS(BD!$B:$B,$AM$145),\"\",INDEX(BD!$E$2:$E$138,SMALL(IF(BD!$B$2:$B$138=$AM$145,IF(BD!$B$2:$B$138=$AM$145,ROW(BD!$B$2:$B$138)-ROW(BD!$B$2)+1),FALSE),ROWS(BD!$1:2)))))","v":""},{"$f":"IF($AM$145=\"\",\"\",IF(ROWS(BD!$1:2)>COUNTIFS(BD!$B:$B,$AM$145),\"\",INDEX(BD!$F$2:$F$138,SMALL(IF(BD!$B$2:$B$138=$AM$145,IF(BD!$B$2:$B$138=$AM$145,ROW(BD!$B$2:$B$138)-ROW(BD!$B$2)+1),FALSE),ROWS(BD!$1:2)))))","v":""},{"$f":"IF($AM$145=\"\",\"\",IF(ROWS(BD!$1:2)>COUNTIFS(BD!$B:$B,$AM$145),\"\",INDEX(BD!$G$2:$G$138,SMALL(IF(BD!$B$2:$B$138=$AM$145,IF(BD!$B$2:$B$138=$AM$145,ROW(BD!$B$2:$B$138)-ROW(BD!$B$2)+1),FALSE),ROWS(BD!$1:2)))))","v":""},{"$f":"IF($AM$145=\"\",\"\",IF(ROWS(BD!$1:2)>COUNTIFS(BD!$B:$B,$AM$145),\"\",INDEX(BD!$H$2:$H$138,SMALL(IF(BD!$B$2:$B$138=$AM$145,IF(BD!$B$2:$B$138=$AM$145,ROW(BD!$B$2:$B$138)-ROW(BD!$B$2)+1),FALSE),ROWS(BD!$1:2)))))","v":""}]
[null,null,{"$f":"IF($C$145=\"\",\"\",IF(ROWS(BD!$1:3)>COUNTIFS(BD!$B:$B,$C$145),\"\",INDEX(BD!$C$2:$C$138,SMALL(IF(BD!$B$2:$B$138=$C$145,IF(BD!$B$2:$B$138=$C$145,ROW(BD!$B$2:$B$138)-ROW(BD!$B$2)+1),FALSE),ROWS(BD!$1:3)))))","v":""},{"$f":"IF($C$145=\"\",\"\",IF(ROWS(BD!$1:3)>COUNTIFS(BD!$B:$B,$C$145),\"\",INDEX(BD!$E$2:$E$138,SMALL(IF(BD!$B$2:$B$138=$C$145,IF(BD!$B$2:$B$138=$C$145,ROW(BD!$B$2:$B$138)-ROW(BD!$B$2)+1),FALSE),ROWS(BD!$1:3)))))","v":""},{"$f":"IF($C$145=\"\",\"\",IF(ROWS(BD!$1:3)>COUNTIFS(BD!$B:$B,$C$145),\"\",INDEX(BD!$F$2:$F$138,SMALL(IF(BD!$B$2:$B$138=$C$145,IF(BD!$B$2:$B$138=$C$145,ROW(BD!$B$2:$B$138)-ROW(BD!$B$2)+1),FALSE),ROWS(BD!$1:3)))))","v":""},{"$f":"IF($C$145=\"\",\"\",IF(ROWS(BD!$1:3)>COUNTIFS(BD!$B:$B,$C$145),\"\",INDEX(BD!$G$2:$G$138,SMALL(IF(BD!$B$2:$B$138=$C$145,IF(BD!$B$2:$B$138=$C$145,ROW(BD!$B$2:$B$138)-ROW(BD!$B$2)+1),FALSE),ROWS(BD!$1:3)))))","v":""},{"$f":"IF($C$145=\"\",\"\",IF(ROWS(BD!$1:3)>COUNTIFS(BD!$B:$B,$C$145),\"\",INDEX(BD!$H$2:$H$138,SMALL(IF(BD!$B$2:$B$138=$C$145,IF(BD!$B$2:$B$138=$C$145,ROW(BD!$B$2:$B$138)-ROW(BD!$B$2)+1),FALSE),ROWS(BD!$1:3)))))","v":""},null,{"$f":"IF($I$145=\"\",\"\",IF(ROWS(BD!$1:3)>COUNTIFS(BD!$B:$B,$I$145),\"\",INDEX(BD!$C$2:$C$138,SMALL(IF(BD!$B$2:$B$138=$I$145,IF(BD!$B$2:$B$138=$I$145,ROW(BD!$B$2:$B$138)-ROW(BD!$B$2)+1),FALSE),ROWS(BD!$1:3)))))","v":""},{"$f":"IF($I$145=\"\",\"\",IF(ROWS(BD!$1:3)>COUNTIFS(BD!$B:$B,$I$145),\"\",INDEX(BD!$E$2:$E$138,SMALL(IF(BD!$B$2:$B$138=$I$145,IF(BD!$B$2:$B$138=$I$145,ROW(BD!$B$2:$B$138)-ROW(BD!$B$2)+1),FALSE),ROWS(BD!$1:3)))))","v":""},{"$f":"IF($I$145=\"\",\"\",IF(ROWS(BD!$1:3)>COUNTIFS(BD!$B:$B,$I$145),\"\",INDEX(BD!$F$2:$F$138,SMALL(IF(BD!$B$2:$B$138=$I$145,IF(BD!$B$2:$B$138=$I$145,ROW(BD!$B$2:$B$138)-ROW(BD!$B$2)+1),FALSE),ROWS(BD!$1:3)))))","v":""},{"$f":"IF($I$145=\"\",\"\",IF(ROWS(BD!$1:3)>COUNTIFS(BD!$B:$B,$I$145),\"\",INDEX(BD!$G$2:$G$138,SMALL(IF(BD!$B$2:$B$138=$I$145,IF(BD!$B$2:$B$138=$I$145,ROW(BD!$B$2:$B$138)-ROW(BD!$B$2)+1),FALSE),ROWS(BD!$1:3)))))","v":""},{"$f":"IF($I$145=\"\",\"\",IF(ROWS(BD!$1:3)>COUNTIFS(BD!$B:$B,$I$145),\"\",INDEX(BD!$H$2:$H$138,SMALL(IF(BD!$B$2:$B$138=$I$145,IF(BD!$B$2:$B$138=$I$145,ROW(BD!$B$2:$B$138)-ROW(BD!$B$2)+1),FALSE),ROWS(BD!$1:3)))))","v":""},null,{"$f":"IF($O$145=\"\",\"\",IF(ROWS(BD!$1:3)>COUNTIFS(BD!$B:$B,$O$145),\"\",INDEX(BD!$C$2:$C$138,SMALL(IF(BD!$B$2:$B$138=$O$145,IF(BD!$B$2:$B$138=$O$145,ROW(BD!$B$2:$B$138)-ROW(BD!$B$2)+1),FALSE),ROWS(BD!$1:3)))))","v":""},{"$f":"IF($O$145=\"\",\"\",IF(ROWS(BD!$1:3)>COUNTIFS(BD!$B:$B,$O$145),\"\",INDEX(BD!$E$2:$E$138,SMALL(IF(BD!$B$2:$B$138=$O$145,IF(BD!$B$2:$B$138=$O$145,ROW(BD!$B$2:$B$138)-ROW(BD!$B$2)+1),FALSE),ROWS(BD!$1:3)))))","v":""},{"$f":"IF($O$145=\"\",\"\",IF(ROWS(BD!$1:3)>COUNTIFS(BD!$B:$B,$O$145),\"\",INDEX(BD!$F$2:$F$138,SMALL(IF(BD!$B$2:$B$138=$O$145,IF(BD!$B$2:$B$138=$O$145,ROW(BD!$B$2:$B$138)-ROW(BD!$B$2)+1),FALSE),ROWS(BD!$1:3)))))","v":""},{"$f":"IF($O$145=\"\",\"\",IF(ROWS(BD!$1:3)>COUNTIFS(BD!$B:$B,$O$145),\"\",INDEX(BD!$G$2:$G$138,SMALL(IF(BD!$B$2:$B$138=$O$145,IF(BD!$B$2:$B$138=$O$145,ROW(BD!$B$2:$B$138)-ROW(BD!$B$2)+1),FALSE),ROWS(BD!$1:3)))))","v":""},{"$f":"IF($O$145=\"\",\"\",IF(ROWS(BD!$1:3)>COUNTIFS(BD!$B:$B,$O$145),\"\",INDEX(BD!$H$2:$H$138,SMALL(IF(BD!$B$2:$B$138=$O$145,IF(BD!$B$2:$B$138=$O$145,ROW(BD!$B$2:$B$138)-ROW(BD!$B$2)+1),FALSE),ROWS(BD!$1:3)))))","v":""},null,{"$f":"IF($U$145=\"\",\"\",IF(ROWS(BD!$1:3)>COUNTIFS(BD!$B:$B,$U$145),\"\",INDEX(BD!$C$2:$C$138,SMALL(IF(BD!$B$2:$B$138=$U$145,IF(BD!$B$2:$B$138=$U$145,ROW(BD!$B$2:$B$138)-ROW(BD!$B$2)+1),FALSE),ROWS(BD!$1:3)))))","v":""},{"$f":"IF($U$145=\"\",\"\",IF(ROWS(BD!$1:3)>COUNTIFS(BD!$B:$B,$U$145),\"\",INDEX(BD!$E$2:$E$138,SMALL(IF(BD!$B$2:$B$138=$U$145,IF(BD!$B$2:$B$138=$U$145,ROW(BD!$B$2:$B$138)-ROW(BD!$B$2)+1),FALSE),ROWS(BD!$1:3)))))","v":""},{"$f":"IF($U$145=\"\",\"\",IF(ROWS(BD!$1:3)>COUNTIFS(BD!$B:$B,$U$145),\"\",INDEX(BD!$F$2:$F$138,SMALL(IF(BD!$B$2:$B$138=$U$145,IF(BD!$B$2:$B$138=$U$145,ROW(BD!$B$2:$B$138)-ROW(BD!$B$2)+1),FALSE),ROWS(BD!$1:3)))))","v":""},{"$f":"IF($U$145=\"\",\"\",IF(ROWS(BD!$1:3)>COUNTIFS(BD!$B:$B,$U$145),\"\",INDEX(BD!$G$2:$G$138,SMALL(IF(BD!$B$2:$B$138=$U$145,IF(BD!$B$2:$B$138=$U$145,ROW(BD!$B$2:$B$138)-ROW(BD!$B$2)+1),FALSE),ROWS(BD!$1:3)))))","v":""},{"$f":"IF($U$145=\"\",\"\",IF(ROWS(BD!$1:3)>COUNTIFS(BD!$B:$B,$U$145),\"\",INDEX(BD!$H$2:$H$138,SMALL(IF(BD!$B$2:$B$138=$U$145,IF(BD!$B$2:$B$138=$U$145,ROW(BD!$B$2:$B$138)-ROW(BD!$B$2)+1),FALSE),ROWS(BD!$1:3)))))","v":""},null,{"$f":"IF($AA$145=\"\",\"\",IF(ROWS(BD!$1:3)>COUNTIFS(BD!$B:$B,$AA$145),\"\",INDEX(BD!$C$2:$C$138,SMALL(IF(BD!$B$2:$B$138=$AA$145,IF(BD!$B$2:$B$138=$AA$145,ROW(BD!$B$2:$B$138)-ROW(BD!$B$2)+1),FALSE),ROWS(BD!$1:3)))))","v":""},{"$f":"IF($AA$145=\"\",\"\",IF(ROWS(BD!$1:3)>COUNTIFS(BD!$B:$B,$AA$145),\"\",INDEX(BD!$E$2:$E$138,SMALL(IF(BD!$B$2:$B$138=$AA$145,IF(BD!$B$2:$B$138=$AA$145,ROW(BD!$B$2:$B$138)-ROW(BD!$B$2)+1),FALSE),ROWS(BD!$1:3)))))","v":""},{"$f":"IF($AA$145=\"\",\"\",IF(ROWS(BD!$1:3)>COUNTIFS(BD!$B:$B,$AA$145),\"\",INDEX(BD!$F$2:$F$138,SMALL(IF(BD!$B$2:$B$138=$AA$145,IF(BD!$B$2:$B$138=$AA$145,ROW(BD!$B$2:$B$138)-ROW(BD!$B$2)+1),FALSE),ROWS(BD!$1:3)))))","v":""},{"$f":"IF($AA$145=\"\",\"\",IF(ROWS(BD!$1:3)>COUNTIFS(BD!$B:$B,$AA$145),\"\",INDEX(BD!$G$2:$G$138,SMALL(IF(BD!$B$2:$B$138=$AA$145,IF(BD!$B$2:$B$138=$AA$145,ROW(BD!$B$2:$B$138)-ROW(BD!$B$2)+1),FALSE),ROWS(BD!$1:3)))))","v":""},{"$f":"IF($AA$145=\"\",\"\",IF(ROWS(BD!$1:3)>COUNTIFS(BD!$B:$B,$AA$145),\"\",INDEX(BD!$H$2:$H$138,SMALL(IF(BD!$B$2:$B$138=$AA$145,IF(BD!$B$2:$B$138=$AA$145,ROW(BD!$B$2:$B$138)-ROW(BD!$B$2)+1),FALSE),ROWS(BD!$1:3)))))","v":""},null,{"$f":"IF($AG$145=\"\",\"\",IF(ROWS(BD!$1:3)>COUNTIFS(BD!$B:$B,$AG$145),\"\",INDEX(BD!$C$2:$C$138,SMALL(IF(BD!$B$2:$B$138=$AG$145,IF(BD!$B$2:$B$138=$AG$145,ROW(BD!$B$2:$B$138)-ROW(BD!$B$2)+1),FALSE),ROWS(BD!$1:3)))))","v":""},{"$f":"IF($AG$145=\"\",\"\",IF(ROWS(BD!$1:3)>COUNTIFS(BD!$B:$B,$AG$145),\"\",INDEX(BD!$E$2:$E$138,SMALL(IF(BD!$B$2:$B$138=$AG$145,IF(BD!$B$2:$B$138=$AG$145,ROW(BD!$B$2:$B$138)-ROW(BD!$B$2)+1),FALSE),ROWS(BD!$1:3)))))","v":""},{"$f":"IF($AG$145=\"\",\"\",IF(ROWS(BD!$1:3)>COUNTIFS(BD!$B:$B,$AG$145),\"\",INDEX(BD!$F$2:$F$138,SMALL(IF(BD!$B$2:$B$138=$AG$145,IF(BD!$B$2:$B$138=$AG$145,ROW(BD!$B$2:$B$138)-ROW(BD!$B$2)+1),FALSE),ROWS(BD!$1:3)))))","v":""},{"$f":"IF($AG$145=\"\",\"\",IF(ROWS(BD!$1:3)>COUNTIFS(BD!$B:$B,$AG$145),\"\",INDEX(BD!$G$2:$G$138,SMALL(IF(BD!$B$2:$B$138=$AG$145,IF(BD!$B$2:$B$138=$AG$145,ROW(BD!$B$2:$B$138)-ROW(BD!$B$2)+1),FALSE),ROWS(BD!$1:3)))))","v":""},{"$f":"IF($AG$145=\"\",\"\",IF(ROWS(BD!$1:3)>COUNTIFS(BD!$B:$B,$AG$145),\"\",INDEX(BD!$H$2:$H$138,SMALL(IF(BD!$B$2:$B$138=$AG$145,IF(BD!$B$2:$B$138=$AG$145,ROW(BD!$B$2:$B$138)-ROW(BD!$B$2)+1),FALSE),ROWS(BD!$1:3)))))","v":""},null,{"$f":"IF($AM$145=\"\",\"\",IF(ROWS(BD!$1:3)>COUNTIFS(BD!$B:$B,$AM$145),\"\",INDEX(BD!$C$2:$C$138,SMALL(IF(BD!$B$2:$B$138=$AM$145,IF(BD!$B$2:$B$138=$AM$145,ROW(BD!$B$2:$B$138)-ROW(BD!$B$2)+1),FALSE),ROWS(BD!$1:3)))))","v":""},{"$f":"IF($AM$145=\"\",\"\",IF(ROWS(BD!$1:3)>COUNTIFS(BD!$B:$B,$AM$145),\"\",INDEX(BD!$E$2:$E$138,SMALL(IF(BD!$B$2:$B$138=$AM$145,IF(BD!$B$2:$B$138=$AM$145,ROW(BD!$B$2:$B$138)-ROW(BD!$B$2)+1),FALSE),ROWS(BD!$1:3)))))","v":""},{"$f":"IF($AM$145=\"\",\"\",IF(ROWS(BD!$1:3)>COUNTIFS(BD!$B:$B,$AM$145),\"\",INDEX(BD!$F$2:$F$138,SMALL(IF(BD!$B$2:$B$138=$AM$145,IF(BD!$B$2:$B$138=$AM$145,ROW(BD!$B$2:$B$138)-ROW(BD!$B$2)+1),FALSE),ROWS(BD!$1:3)))))","v":""},{"$f":"IF($AM$145=\"\",\"\",IF(ROWS(BD!$1:3)>COUNTIFS(BD!$B:$B,$AM$145),\"\",INDEX(BD!$G$2:$G$138,SMALL(IF(BD!$B$2:$B$138=$AM$145,IF(BD!$B$2:$B$138=$AM$145,ROW(BD!$B$2:$B$138)-ROW(BD!$B$2)+1),FALSE),ROWS(BD!$1:3)))))","v":""},{"$f":"IF($AM$145=\"\",\"\",IF(ROWS(BD!$1:3)>COUNTIFS(BD!$B:$B,$AM$145),\"\",INDEX(BD!$H$2:$H$138,SMALL(IF(BD!$B$2:$B$138=$AM$145,IF(BD!$B$2:$B$138=$AM$145,ROW(BD!$B$2:$B$138)-ROW(BD!$B$2)+1),FALSE),ROWS(BD!$1:3)))))","v":""}]
[null,null,{"$f":"IF($C$145=\"\",\"\",IF(ROWS(BD!$1:4)>COUNTIFS(BD!$B:$B,$C$145),\"\",INDEX(BD!$C$2:$C$138,SMALL(IF(BD!$B$2:$B$138=$C$145,IF(BD!$B$2:$B$138=$C$145,ROW(BD!$B$2:$B$138)-ROW(BD!$B$2)+1),FALSE),ROWS(BD!$1:4)))))","v":""},{"$f":"IF($C$145=\"\",\"\",IF(ROWS(BD!$1:4)>COUNTIFS(BD!$B:$B,$C$145),\"\",INDEX(BD!$E$2:$E$138,SMALL(IF(BD!$B$2:$B$138=$C$145,IF(BD!$B$2:$B$138=$C$145,ROW(BD!$B$2:$B$138)-ROW(BD!$B$2)+1),FALSE),ROWS(BD!$1:4)))))","v":""},{"$f":"IF($C$145=\"\",\"\",IF(ROWS(BD!$1:4)>COUNTIFS(BD!$B:$B,$C$145),\"\",INDEX(BD!$F$2:$F$138,SMALL(IF(BD!$B$2:$B$138=$C$145,IF(BD!$B$2:$B$138=$C$145,ROW(BD!$B$2:$B$138)-ROW(BD!$B$2)+1),FALSE),ROWS(BD!$1:4)))))","v":""},{"$f":"IF($C$145=\"\",\"\",IF(ROWS(BD!$1:4)>COUNTIFS(BD!$B:$B,$C$145),\"\",INDEX(BD!$G$2:$G$138,SMALL(IF(BD!$B$2:$B$138=$C$145,IF(BD!$B$2:$B$138=$C$145,ROW(BD!$B$2:$B$138)-ROW(BD!$B$2)+1),FALSE),ROWS(BD!$1:4)))))","v":""},{"$f":"IF($C$145=\"\",\"\",IF(ROWS(BD!$1:4)>COUNTIFS(BD!$B:$B,$C$145),\"\",INDEX(BD!$H$2:$H$138,SMALL(IF(BD!$B$2:$B$138=$C$145,IF(BD!$B$2:$B$138=$C$145,ROW(BD!$B$2:$B$138)-ROW(BD!$B$2)+1),FALSE),ROWS(BD!$1:4)))))","v":""},null,{"$f":"IF($I$145=\"\",\"\",IF(ROWS(BD!$1:4)>COUNTIFS(BD!$B:$B,$I$145),\"\",INDEX(BD!$C$2:$C$138,SMALL(IF(BD!$B$2:$B$138=$I$145,IF(BD!$B$2:$B$138=$I$145,ROW(BD!$B$2:$B$138)-ROW(BD!$B$2)+1),FALSE),ROWS(BD!$1:4)))))","v":""},{"$f":"IF($I$145=\"\",\"\",IF(ROWS(BD!$1:4)>COUNTIFS(BD!$B:$B,$I$145),\"\",INDEX(BD!$E$2:$E$138,SMALL(IF(BD!$B$2:$B$138=$I$145,IF(BD!$B$2:$B$138=$I$145,ROW(BD!$B$2:$B$138)-ROW(BD!$B$2)+1),FALSE),ROWS(BD!$1:4)))))","v":""},{"$f":"IF($I$145=\"\",\"\",IF(ROWS(BD!$1:4)>COUNTIFS(BD!$B:$B,$I$145),\"\",INDEX(BD!$F$2:$F$138,SMALL(IF(BD!$B$2:$B$138=$I$145,IF(BD!$B$2:$B$138=$I$145,ROW(BD!$B$2:$B$138)-ROW(BD!$B$2)+1),FALSE),ROWS(BD!$1:4)))))","v":""},{"$f":"IF($I$145=\"\",\"\",IF(ROWS(BD!$1:4)>COUNTIFS(BD!$B:$B,$I$145),\"\",INDEX(BD!$G$2:$G$138,SMALL(IF(BD!$B$2:$B$138=$I$145,IF(BD!$B$2:$B$138=$I$145,ROW(BD!$B$2:$B$138)-ROW(BD!$B$2)+1),FALSE),ROWS(BD!$1:4)))))","v":""},{"$f":"IF($I$145=\"\",\"\",IF(ROWS(BD!$1:4)>COUNTIFS(BD!$B:$B,$I$145),\"\",INDEX(BD!$H$2:$H$138,SMALL(IF(BD!$B$2:$B$138=$I$145,IF(BD!$B$2:$B$138=$I$145,ROW(BD!$B$2:$B$138)-ROW(BD!$B$2)+1),FALSE),ROWS(BD!$1:4)))))","v":""},null,{"$f":"IF($O$145=\"\",\"\",IF(ROWS(BD!$1:4)>COUNTIFS(BD!$B:$B,$O$145),\"\",INDEX(BD!$C$2:$C$138,SMALL(IF(BD!$B$2:$B$138=$O$145,IF(BD!$B$2:$B$138=$O$145,ROW(BD!$B$2:$B$138)-ROW(BD!$B$2)+1),FALSE),ROWS(BD!$1:4)))))","v":""},{"$f":"IF($O$145=\"\",\"\",IF(ROWS(BD!$1:4)>COUNTIFS(BD!$B:$B,$O$145),\"\",INDEX(BD!$E$2:$E$138,SMALL(IF(BD!$B$2:$B$138=$O$145,IF(BD!$B$2:$B$138=$O$145,ROW(BD!$B$2:$B$138)-ROW(BD!$B$2)+1),FALSE),ROWS(BD!$1:4)))))","v":""},{"$f":"IF($O$145=\"\",\"\",IF(ROWS(BD!$1:4)>COUNTIFS(BD!$B:$B,$O$145),\"\",INDEX(BD!$F$2:$F$138,SMALL(IF(BD!$B$2:$B$138=$O$145,IF(BD!$B$2:$B$138=$O$145,ROW(BD!$B$2:$B$138)-ROW(BD!$B$2)+1),FALSE),ROWS(BD!$1:4)))))","v":""},{"$f":"IF($O$145=\"\",\"\",IF(ROWS(BD!$1:4)>COUNTIFS(BD!$B:$B,$O$145),\"\",INDEX(BD!$G$2:$G$138,SMALL(IF(BD!$B$2:$B$138=$O$145,IF(BD!$B$2:$B$138=$O$145,ROW(BD!$B$2:$B$138)-ROW(BD!$B$2)+1),FALSE),ROWS(BD!$1:4)))))","v":""},{"$f":"IF($O$145=\"\",\"\",IF(ROWS(BD!$1:4)>COUNTIFS(BD!$B:$B,$O$145),\"\",INDEX(BD!$H$2:$H$138,SMALL(IF(BD!$B$2:$B$138=$O$145,IF(BD!$B$2:$B$138=$O$145,ROW(BD!$B$2:$B$138)-ROW(BD!$B$2)+1),FALSE),ROWS(BD!$1:4)))))","v":""},null,{"$f":"IF($U$145=\"\",\"\",IF(ROWS(BD!$1:4)>COUNTIFS(BD!$B:$B,$U$145),\"\",INDEX(BD!$C$2:$C$138,SMALL(IF(BD!$B$2:$B$138=$U$145,IF(BD!$B$2:$B$138=$U$145,ROW(BD!$B$2:$B$138)-ROW(BD!$B$2)+1),FALSE),ROWS(BD!$1:4)))))","v":""},{"$f":"IF($U$145=\"\",\"\",IF(ROWS(BD!$1:4)>COUNTIFS(BD!$B:$B,$U$145),\"\",INDEX(BD!$E$2:$E$138,SMALL(IF(BD!$B$2:$B$138=$U$145,IF(BD!$B$2:$B$138=$U$145,ROW(BD!$B$2:$B$138)-ROW(BD!$B$2)+1),FALSE),ROWS(BD!$1:4)))))","v":""},{"$f":"IF($U$145=\"\",\"\",IF(ROWS(BD!$1:4)>COUNTIFS(BD!$B:$B,$U$145),\"\",INDEX(BD!$F$2:$F$138,SMALL(IF(BD!$B$2:$B$138=$U$145,IF(BD!$B$2:$B$138=$U$145,ROW(BD!$B$2:$B$138)-ROW(BD!$B$2)+1),FALSE),ROWS(BD!$1:4)))))","v":""},{"$f":"IF($U$145=\"\",\"\",IF(ROWS(BD!$1:4)>COUNTIFS(BD!$B:$B,$U$145),\"\",INDEX(BD!$G$2:$G$138,SMALL(IF(BD!$B$2:$B$138=$U$145,IF(BD!$B$2:$B$138=$U$145,ROW(BD!$B$2:$B$138)-ROW(BD!$B$2)+1),FALSE),ROWS(BD!$1:4)))))","v":""},{"$f":"IF($U$145=\"\",\"\",IF(ROWS(BD!$1:4)>COUNTIFS(BD!$B:$B,$U$145),\"\",INDEX(BD!$H$2:$H$138,SMALL(IF(BD!$B$2:$B$138=$U$145,IF(BD!$B$2:$B$138=$U$145,ROW(BD!$B$2:$B$138)-ROW(BD!$B$2)+1),FALSE),ROWS(BD!$1:4)))))","v":""},null,{"$f":"IF($AA$145=\"\",\"\",IF(ROWS(BD!$1:4)>COUNTIFS(BD!$B:$B,$AA$145),\"\",INDEX(BD!$C$2:$C$138,SMALL(IF(BD!$B$2:$B$138=$AA$145,IF(BD!$B$2:$B$138=$AA$145,ROW(BD!$B$2:$B$138)-ROW(BD!$B$2)+1),FALSE),ROWS(BD!$1:4)))))","v":""},{"$f":"IF($AA$145=\"\",\"\",IF(ROWS(BD!$1:4)>COUNTIFS(BD!$B:$B,$AA$145),\"\",INDEX(BD!$E$2:$E$138,SMALL(IF(BD!$B$2:$B$138=$AA$145,IF(BD!$B$2:$B$138=$AA$145,ROW(BD!$B$2:$B$138)-ROW(BD!$B$2)+1),FALSE),ROWS(BD!$1:4)))))","v":""},{"$f":"IF($AA$145=\"\",\"\",IF(ROWS(BD!$1:4)>COUNTIFS(BD!$B:$B,$AA$145),\"\",INDEX(BD!$F$2:$F$138,SMALL(IF(BD!$B$2:$B$138=$AA$145,IF(BD!$B$2:$B$138=$AA$145,ROW(BD!$B$2:$B$138)-ROW(BD!$B$2)+1),FALSE),ROWS(BD!$1:4)))))","v":""},{"$f":"IF($AA$145=\"\",\"\",IF(ROWS(BD!$1:4)>COUNTIFS(BD!$B:$B,$AA$145),\"\",INDEX(BD!$G$2:$G$138,SMALL(IF(BD!$B$2:$B$138=$AA$145,IF(BD!$B$2:$B$138=$AA$145,ROW(BD!$B$2:$B$138)-ROW(BD!$B$2)+1),FALSE),ROWS(BD!$1:4)))))","v":""},{"$f":"IF($AA$145=\"\",\"\",IF(ROWS(BD!$1:4)>COUNTIFS(BD!$B:$B,$AA$145),\"\",INDEX(BD!$H$2:$H$138,SMALL(IF(BD!$B$2:$B$138=$AA$145,IF(BD!$B$2:$B$138=$AA$145,ROW(BD!$B$2:$B$138)-ROW(BD!$B$2)+1),FALSE),ROWS(BD!$1:4)))))","v":""},null,{"$f":"IF($AG$145=\"\",\"\",IF(ROWS(BD!$1:4)>COUNTIFS(BD!$B:$B,$AG$145),\"\",INDEX(BD!$C$2:$C$138,SMALL(IF(BD!$B$2:$B$138=$AG$145,IF(BD!$B$2:$B$138=$AG$145,ROW(BD!$B$2:$B$138)-ROW(BD!$B$2)+1),FALSE),ROWS(BD!$1:4)))))","v":""},{"$f":"IF($AG$145=\"\",\"\",IF(ROWS(BD!$1:4)>COUNTIFS(BD!$B:$B,$AG$145),\"\",INDEX(BD!$E$2:$E$138,SMALL(IF(BD!$B$2:$B$138=$AG$145,IF(BD!$B$2:$B$138=$AG$145,ROW(BD!$B$2:$B$138)-ROW(BD!$B$2)+1),FALSE),ROWS(BD!$1:4)))))","v":""},{"$f":"IF($AG$145=\"\",\"\",IF(ROWS(BD!$1:4)>COUNTIFS(BD!$B:$B,$AG$145),\"\",INDEX(BD!$F$2:$F$138,SMALL(IF(BD!$B$2:$B$138=$AG$145,IF(BD!$B$2:$B$138=$AG$145,ROW(BD!$B$2:$B$138)-ROW(BD!$B$2)+1),FALSE),ROWS(BD!$1:4)))))","v":""},{"$f":"IF($AG$145=\"\",\"\",IF(ROWS(BD!$1:4)>COUNTIFS(BD!$B:$B,$AG$145),\"\",INDEX(BD!$G$2:$G$138,SMALL(IF(BD!$B$2:$B$138=$AG$145,IF(BD!$B$2:$B$138=$AG$145,ROW(BD!$B$2:$B$138)-ROW(BD!$B$2)+1),FALSE),ROWS(BD!$1:4)))))","v":""},{"$f":"IF($AG$145=\"\",\"\",IF(ROWS(BD!$1:4)>COUNTIFS(BD!$B:$B,$AG$145),\"\",INDEX(BD!$H$2:$H$138,SMALL(IF(BD!$B$2:$B$138=$AG$145,IF(BD!$B$2:$B$138=$AG$145,ROW(BD!$B$2:$B$138)-ROW(BD!$B$2)+1),FALSE),ROWS(BD!$1:4)))))","v":""},null,{"$f":"IF($AM$145=\"\",\"\",IF(ROWS(BD!$1:4)>COUNTIFS(BD!$B:$B,$AM$145),\"\",INDEX(BD!$C$2:$C$138,SMALL(IF(BD!$B$2:$B$138=$AM$145,IF(BD!$B$2:$B$138=$AM$145,ROW(BD!$B$2:$B$138)-ROW(BD!$B$2)+1),FALSE),ROWS(BD!$1:4)))))","v":""},{"$f":"IF($AM$145=\"\",\"\",IF(ROWS(BD!$1:4)>COUNTIFS(BD!$B:$B,$AM$145),\"\",INDEX(BD!$E$2:$E$138,SMALL(IF(BD!$B$2:$B$138=$AM$145,IF(BD!$B$2:$B$138=$AM$145,ROW(BD!$B$2:$B$138)-ROW(BD!$B$2)+1),FALSE),ROWS(BD!$1:4)))))","v":""},{"$f":"IF($AM$145=\"\",\"\",IF(ROWS(BD!$1:4)>COUNTIFS(BD!$B:$B,$AM$145),\"\",INDEX(BD!$F$2:$F$138,SMALL(IF(BD!$B$2:$B$138=$AM$145,IF(BD!$B$2:$B$138=$AM$145,ROW(BD!$B$2:$B$138)-ROW(BD!$B$2)+1),FALSE),ROWS(BD!$1:4)))))","v":""},{"$f":"IF($AM$145=\"\",\"\",IF(ROWS(BD!$1:4)>COUNTIFS(BD!$B:$B,$AM$145),\"\",INDEX(BD!$G$2:$G$138,SMALL(IF(BD!$B$2:$B$138=$AM$145,IF(BD!$B$2:$B$138=$AM$145,ROW(BD!$B$2:$B$138)-ROW(BD!$B$2)+1),FALSE),ROWS(BD!$1:4)))))","v":""},{"$f":"IF($AM$145=\"\",\"\",IF(ROWS(BD!$1:4)>COUNTIFS(BD!$B:$B,$AM$145),\"\",INDEX(BD!$H$2:$H$138,SMALL(IF(BD!$B$2:$B$138=$AM$145,IF(BD!$B$2:$B$138=$AM$145,ROW(BD!$B$2:$B$138)-ROW(BD!$B$2)+1),FALSE),ROWS(BD!$1:4)))))","v":""}]
[null,null,{"$f":"IF($C$145=\"\",\"\",IF(ROWS(BD!$1:5)>COUNTIFS(BD!$B:$B,$C$145),\"\",INDEX(BD!$C$2:$C$138,SMALL(IF(BD!$B$2:$B$138=$C$145,IF(BD!$B$2:$B$138=$C$145,ROW(BD!$B$2:$B$138)-ROW(BD!$B$2)+1),FALSE),ROWS(BD!$1:5)))))","v":""},{"$f":"IF($C$145=\"\",\"\",IF(ROWS(BD!$1:5)>COUNTIFS(BD!$B:$B,$C$145),\"\",INDEX(BD!$E$2:$E$138,SMALL(IF(BD!$B$2:$B$138=$C$145,IF(BD!$B$2:$B$138=$C$145,ROW(BD!$B$2:$B$138)-ROW(BD!$B$2)+1),FALSE),ROWS(BD!$1:5)))))","v":""},{"$f":"IF($C$145=\"\",\"\",IF(ROWS(BD!$1:5)>COUNTIFS(BD!$B:$B,$C$145),\"\",INDEX(BD!$F$2:$F$138,SMALL(IF(BD!$B$2:$B$138=$C$145,IF(BD!$B$2:$B$138=$C$145,ROW(BD!$B$2:$B$138)-ROW(BD!$B$2)+1),FALSE),ROWS(BD!$1:5)))))","v":""},{"$f":"IF($C$145=\"\",\"\",IF(ROWS(BD!$1:5)>COUNTIFS(BD!$B:$B,$C$145),\"\",INDEX(BD!$G$2:$G$138,SMALL(IF(BD!$B$2:$B$138=$C$145,IF(BD!$B$2:$B$138=$C$145,ROW(BD!$B$2:$B$138)-ROW(BD!$B$2)+1),FALSE),ROWS(BD!$1:5)))))","v":""},{"$f":"IF($C$145=\"\",\"\",IF(ROWS(BD!$1:5)>COUNTIFS(BD!$B:$B,$C$145),\"\",INDEX(BD!$H$2:$H$138,SMALL(IF(BD!$B$2:$B$138=$C$145,IF(BD!$B$2:$B$138=$C$145,ROW(BD!$B$2:$B$138)-ROW(BD!$B$2)+1),FALSE),ROWS(BD!$1:5)))))","v":""},null,{"$f":"IF($I$145=\"\",\"\",IF(ROWS(BD!$1:5)>COUNTIFS(BD!$B:$B,$I$145),\"\",INDEX(BD!$C$2:$C$138,SMALL(IF(BD!$B$2:$B$138=$I$145,IF(BD!$B$2:$B$138=$I$145,ROW(BD!$B$2:$B$138)-ROW(BD!$B$2)+1),FALSE),ROWS(BD!$1:5)))))","v":""},{"$f":"IF($I$145=\"\",\"\",IF(ROWS(BD!$1:5)>COUNTIFS(BD!$B:$B,$I$145),\"\",INDEX(BD!$E$2:$E$138,SMALL(IF(BD!$B$2:$B$138=$I$145,IF(BD!$B$2:$B$138=$I$145,ROW(BD!$B$2:$B$138)-ROW(BD!$B$2)+1),FALSE),ROWS(BD!$1:5)))))","v":""},{"$f":"IF($I$145=\"\",\"\",IF(ROWS(BD!$1:5)>COUNTIFS(BD!$B:$B,$I$145),\"\",INDEX(BD!$F$2:$F$138,SMALL(IF(BD!$B$2:$B$138=$I$145,IF(BD!$B$2:$B$138=$I$145,ROW(BD!$B$2:$B$138)-ROW(BD!$B$2)+1),FALSE),ROWS(BD!$1:5)))))","v":""},{"$f":"IF($I$145=\"\",\"\",IF(ROWS(BD!$1:5)>COUNTIFS(BD!$B:$B,$I$145),\"\",INDEX(BD!$G$2:$G$138,SMALL(IF(BD!$B$2:$B$138=$I$145,IF(BD!$B$2:$B$138=$I$145,ROW(BD!$B$2:$B$138)-ROW(BD!$B$2)+1),FALSE),ROWS(BD!$1:5)))))","v":""},{"$f":"IF($I$145=\"\",\"\",IF(ROWS(BD!$1:5)>COUNTIFS(BD!$B:$B,$I$145),\"\",INDEX(BD!$H$2:$H$138,SMALL(IF(BD!$B$2:$B$138=$I$145,IF(BD!$B$2:$B$138=$I$145,ROW(BD!$B$2:$B$138)-ROW(BD!$B$2)+1),FALSE),ROWS(BD!$1:5)))))","v":""},null,{"$f":"IF($O$145=\"\",\"\",IF(ROWS(BD!$1:5)>COUNTIFS(BD!$B:$B,$O$145),\"\",INDEX(BD!$C$2:$C$138,SMALL(IF(BD!$B$2:$B$138=$O$145,IF(BD!$B$2:$B$138=$O$145,ROW(BD!$B$2:$B$138)-ROW(BD!$B$2)+1),FALSE),ROWS(BD!$1:5)))))","v":""},{"$f":"IF($O$145=\"\",\"\",IF(ROWS(BD!$1:5)>COUNTIFS(BD!$B:$B,$O$145),\"\",INDEX(BD!$E$2:$E$138,SMALL(IF(BD!$B$2:$B$138=$O$145,IF(BD!$B$2:$B$138=$O$145,ROW(BD!$B$2:$B$138)-ROW(BD!$B$2)+1),FALSE),ROWS(BD!$1:5)))))","v":""},{"$f":"IF($O$145=\"\",\"\",IF(ROWS(BD!$1:5)>COUNTIFS(BD!$B:$B,$O$145),\"\",INDEX(BD!$F$2:$F$138,SMALL(IF(BD!$B$2:$B$138=$O$145,IF(BD!$B$2:$B$138=$O$145,ROW(BD!$B$2:$B$138)-ROW(BD!$B$2)+1),FALSE),ROWS(BD!$1:5)))))","v":""},{"$f":"IF($O$145=\"\",\"\",IF(ROWS(BD!$1:5)>COUNTIFS(BD!$B:$B,$O$145),\"\",INDEX(BD!$G$2:$G$138,SMALL(IF(BD!$B$2:$B$138=$O$145,IF(BD!$B$2:$B$138=$O$145,ROW(BD!$B$2:$B$138)-ROW(BD!$B$2)+1),FALSE),ROWS(BD!$1:5)))))","v":""},{"$f":"IF($O$145=\"\",\"\",IF(ROWS(BD!$1:5)>COUNTIFS(BD!$B:$B,$O$145),\"\",INDEX(BD!$H$2:$H$138,SMALL(IF(BD!$B$2:$B$138=$O$145,IF(BD!$B$2:$B$138=$O$145,ROW(BD!$B$2:$B$138)-ROW(BD!$B$2)+1),FALSE),ROWS(BD!$1:5)))))","v":""},null,{"$f":"IF($U$145=\"\",\"\",IF(ROWS(BD!$1:5)>COUNTIFS(BD!$B:$B,$U$145),\"\",INDEX(BD!$C$2:$C$138,SMALL(IF(BD!$B$2:$B$138=$U$145,IF(BD!$B$2:$B$138=$U$145,ROW(BD!$B$2:$B$138)-ROW(BD!$B$2)+1),FALSE),ROWS(BD!$1:5)))))","v":""},{"$f":"IF($U$145=\"\",\"\",IF(ROWS(BD!$1:5)>COUNTIFS(BD!$B:$B,$U$145),\"\",INDEX(BD!$E$2:$E$138,SMALL(IF(BD!$B$2:$B$138=$U$145,IF(BD!$B$2:$B$138=$U$145,ROW(BD!$B$2:$B$138)-ROW(BD!$B$2)+1),FALSE),ROWS(BD!$1:5)))))","v":""},{"$f":"IF($U$145=\"\",\"\",IF(ROWS(BD!$1:5)>COUNTIFS(BD!$B:$B,$U$145),\"\",INDEX(BD!$F$2:$F$138,SMALL(IF(BD!$B$2:$B$138=$U$145,IF(BD!$B$2:$B$138=$U$145,ROW(BD!$B$2:$B$138)-ROW(BD!$B$2)+1),FALSE),ROWS(BD!$1:5)))))","v":""},{"$f":"IF($U$145=\"\",\"\",IF(ROWS(BD!$1:5)>COUNTIFS(BD!$B:$B,$U$145),\"\",INDEX(BD!$G$2:$G$138,SMALL(IF(BD!$B$2:$B$138=$U$145,IF(BD!$B$2:$B$138=$U$145,ROW(BD!$B$2:$B$138)-ROW(BD!$B$2)+1),FALSE),ROWS(BD!$1:5)))))","v":""},{"$f":"IF($U$145=\"\",\"\",IF(ROWS(BD!$1:5)>COUNTIFS(BD!$B:$B,$U$145),\"\",INDEX(BD!$H$2:$H$138,SMALL(IF(BD!$B$2:$B$138=$U$145,IF(BD!$B$2:$B$138=$U$145,ROW(BD!$B$2:$B$138)-ROW(BD!$B$2)+1),FALSE),ROWS(BD!$1:5)))))","v":""},null,{"$f":"IF($AA$145=\"\",\"\",IF(ROWS(BD!$1:5)>COUNTIFS(BD!$B:$B,$AA$145),\"\",INDEX(BD!$C$2:$C$138,SMALL(IF(BD!$B$2:$B$138=$AA$145,IF(BD!$B$2:$B$138=$AA$145,ROW(BD!$B$2:$B$138)-ROW(BD!$B$2)+1),FALSE),ROWS(BD!$1:5)))))","v":""},{"$f":"IF($AA$145=\"\",\"\",IF(ROWS(BD!$1:5)>COUNTIFS(BD!$B:$B,$AA$145),\"\",INDEX(BD!$E$2:$E$138,SMALL(IF(BD!$B$2:$B$138=$AA$145,IF(BD!$B$2:$B$138=$AA$145,ROW(BD!$B$2:$B$138)-ROW(BD!$B$2)+1),FALSE),ROWS(BD!$1:5)))))","v":""},{"$f":"IF($AA$145=\"\",\"\",IF(ROWS(BD!$1:5)>COUNTIFS(BD!$B:$B,$AA$145),\"\",INDEX(BD!$F$2:$F$138,SMALL(IF(BD!$B$2:$B$138=$AA$145,IF(BD!$B$2:$B$138=$AA$145,ROW(BD!$B$2:$B$138)-ROW(BD!$B$2)+1),FALSE),ROWS(BD!$1:5)))))","v":""},{"$f":"IF($AA$145=\"\",\"\",IF(ROWS(BD!$1:5)>COUNTIFS(BD!$B:$B,$AA$145),\"\",INDEX(BD!$G$2:$G$138,SMALL(IF(BD!$B$2:$B$138=$AA$145,IF(BD!$B$2:$B$138=$AA$145,ROW(BD!$B$2:$B$138)-ROW(BD!$B$2)+1),FALSE),ROWS(BD!$1:5)))))","v":""},{"$f":"IF($AA$145=\"\",\"\",IF(ROWS(BD!$1:5)>COUNTIFS(BD!$B:$B,$AA$145),\"\",INDEX(BD!$H$2:$H$138,SMALL(IF(BD!$B$2:$B$138=$AA$145,IF(BD!$B$2:$B$138=$AA$145,ROW(BD!$B$2:$B$138)-ROW(BD!$B$2)+1),FALSE),ROWS(BD!$1:5)))))","v":""},null,{"$f":"IF($AG$145=\"\",\"\",IF(ROWS(BD!$1:5)>COUNTIFS(BD!$B:$B,$AG$145),\"\",INDEX(BD!$C$2:$C$138,SMALL(IF(BD!$B$2:$B$138=$AG$145,IF(BD!$B$2:$B$138=$AG$145,ROW(BD!$B$2:$B$138)-ROW(BD!$B$2)+1),FALSE),ROWS(BD!$1:5)))))","v":""},{"$f":"IF($AG$145=\"\",\"\",IF(ROWS(BD!$1:5)>COUNTIFS(BD!$B:$B,$AG$145),\"\",INDEX(BD!$E$2:$E$138,SMALL(IF(BD!$B$2:$B$138=$AG$145,IF(BD!$B$2:$B$138=$AG$145,ROW(BD!$B$2:$B$138)-ROW(BD!$B$2)+1),FALSE),ROWS(BD!$1:5)))))","v":""},{"$f":"IF($AG$145=\"\",\"\",IF(ROWS(BD!$1:5)>COUNTIFS(BD!$B:$B,$AG$145),\"\",INDEX(BD!$F$2:$F$138,SMALL(IF(BD!$B$2:$B$138=$AG$145,IF(BD!$B$2:$B$138=$AG$145,ROW(BD!$B$2:$B$138)-ROW(BD!$B$2)+1),FALSE),ROWS(BD!$1:5)))))","v":""},{"$f":"IF($AG$145=\"\",\"\",IF(ROWS(BD!$1:5)>COUNTIFS(BD!$B:$B,$AG$145),\"\",INDEX(BD!$G$2:$G$138,SMALL(IF(BD!$B$2:$B$138=$AG$145,IF(BD!$B$2:$B$138=$AG$145,ROW(BD!$B$2:$B$138)-ROW(BD!$B$2)+1),FALSE),ROWS(BD!$1:5)))))","v":""},{"$f":"IF($AG$145=\"\",\"\",IF(ROWS(BD!$1:5)>COUNTIFS(BD!$B:$B,$AG$145),\"\",INDEX(BD!$H$2:$H$138,SMALL(IF(BD!$B$2:$B$138=$AG$145,IF(BD!$B$2:$B$138=$AG$145,ROW(BD!$B$2:$B$138)-ROW(BD!$B$2)+1),FALSE),ROWS(BD!$1:5)))))","v":""},null,{"$f":"IF($AM$145=\"\",\"\",IF(ROWS(BD!$1:5)>COUNTIFS(BD!$B:$B,$AM$145),\"\",INDEX(BD!$C$2:$C$138,SMALL(IF(BD!$B$2:$B$138=$AM$145,IF(BD!$B$2:$B$138=$AM$145,ROW(BD!$B$2:$B$138)-ROW(BD!$B$2)+1),FALSE),ROWS(BD!$1:5)))))","v":""},{"$f":"IF($AM$145=\"\",\"\",IF(ROWS(BD!$1:5)>COUNTIFS(BD!$B:$B,$AM$145),\"\",INDEX(BD!$E$2:$E$138,SMALL(IF(BD!$B$2:$B$138=$AM$145,IF(BD!$B$2:$B$138=$AM$145,ROW(BD!$B$2:$B$138)-ROW(BD!$B$2)+1),FALSE),ROWS(BD!$1:5)))))","v":""},{"$f":"IF($AM$145=\"\",\"\",IF(ROWS(BD!$1:5)>COUNTIFS(BD!$B:$B,$AM$145),\"\",INDEX(BD!$F$2:$F$138,SMALL(IF(BD!$B$2:$B$138=$AM$145,IF(BD!$B$2:$B$138=$AM$145,ROW(BD!$B$2:$B$138)-ROW(BD!$B$2)+1),FALSE),ROWS(BD!$1:5)))))","v":""},{"$f":"IF($AM$145=\"\",\"\",IF(ROWS(BD!$1:5)>COUNTIFS(BD!$B:$B,$AM$145),\"\",INDEX(BD!$G$2:$G$138,SMALL(IF(BD!$B$2:$B$138=$AM$145,IF(BD!$B$2:$B$138=$AM$145,ROW(BD!$B$2:$B$138)-ROW(BD!$B$2)+1),FALSE),ROWS(BD!$1:5)))))","v":""},{"$f":"IF($AM$145=\"\",\"\",IF(ROWS(BD!$1:5)>COUNTIFS(BD!$B:$B,$AM$145),\"\",INDEX(BD!$H$2:$H$138,SMALL(IF(BD!$B$2:$B$138=$AM$145,IF(BD!$B$2:$B$138=$AM$145,ROW(BD!$B$2:$B$138)-ROW(BD!$B$2)+1),FALSE),ROWS(BD!$1:5)))))","v":""}]
[null,null,{"$f":"IF($C$145=\"\",\"\",IF(ROWS(BD!$1:6)>COUNTIFS(BD!$B:$B,$C$145),\"\",INDEX(BD!$C$2:$C$138,SMALL(IF(BD!$B$2:$B$138=$C$145,IF(BD!$B$2:$B$138=$C$145,ROW(BD!$B$2:$B$138)-ROW(BD!$B$2)+1),FALSE),ROWS(BD!$1:6)))))","v":""},{"$f":"IF($C$145=\"\",\"\",IF(ROWS(BD!$1:6)>COUNTIFS(BD!$B:$B,$C$145),\"\",INDEX(BD!$E$2:$E$138,SMALL(IF(BD!$B$2:$B$138=$C$145,IF(BD!$B$2:$B$138=$C$145,ROW(BD!$B$2:$B$138)-ROW(BD!$B$2)+1),FALSE),ROWS(BD!$1:6)))))","v":""},{"$f":"IF($C$145=\"\",\"\",IF(ROWS(BD!$1:6)>COUNTIFS(BD!$B:$B,$C$145),\"\",INDEX(BD!$F$2:$F$138,SMALL(IF(BD!$B$2:$B$138=$C$145,IF(BD!$B$2:$B$138=$C$145,ROW(BD!$B$2:$B$138)-ROW(BD!$B$2)+1),FALSE),ROWS(BD!$1:6)))))","v":""},{"$f":"IF($C$145=\"\",\"\",IF(ROWS(BD!$1:6)>COUNTIFS(BD!$B:$B,$C$145),\"\",INDEX(BD!$G$2:$G$138,SMALL(IF(BD!$B$2:$B$138=$C$145,IF(BD!$B$2:$B$138=$C$145,ROW(BD!$B$2:$B$138)-ROW(BD!$B$2)+1),FALSE),ROWS(BD!$1:6)))))","v":""},{"$f":"IF($C$145=\"\",\"\",IF(ROWS(BD!$1:6)>COUNTIFS(BD!$B:$B,$C$145),\"\",INDEX(BD!$H$2:$H$138,SMALL(IF(BD!$B$2:$B$138=$C$145,IF(BD!$B$2:$B$138=$C$145,ROW(BD!$B$2:$B$138)-ROW(BD!$B$2)+1),FALSE),ROWS(BD!$1:6)))))","v":""},null,{"$f":"IF($I$145=\"\",\"\",IF(ROWS(BD!$1:6)>COUNTIFS(BD!$B:$B,$I$145),\"\",INDEX(BD!$C$2:$C$138,SMALL(IF(BD!$B$2:$B$138=$I$145,IF(BD!$B$2:$B$138=$I$145,ROW(BD!$B$2:$B$138)-ROW(BD!$B$2)+1),FALSE),ROWS(BD!$1:6)))))","v":""},{"$f":"IF($I$145=\"\",\"\",IF(ROWS(BD!$1:6)>COUNTIFS(BD!$B:$B,$I$145),\"\",INDEX(BD!$E$2:$E$138,SMALL(IF(BD!$B$2:$B$138=$I$145,IF(BD!$B$2:$B$138=$I$145,ROW(BD!$B$2:$B$138)-ROW(BD!$B$2)+1),FALSE),ROWS(BD!$1:6)))))","v":""},{"$f":"IF($I$145=\"\",\"\",IF(ROWS(BD!$1:6)>COUNTIFS(BD!$B:$B,$I$145),\"\",INDEX(BD!$F$2:$F$138,SMALL(IF(BD!$B$2:$B$138=$I$145,IF(BD!$B$2:$B$138=$I$145,ROW(BD!$B$2:$B$138)-ROW(BD!$B$2)+1),FALSE),ROWS(BD!$1:6)))))","v":""},{"$f":"IF($I$145=\"\",\"\",IF(ROWS(BD!$1:6)>COUNTIFS(BD!$B:$B,$I$145),\"\",INDEX(BD!$G$2:$G$138,SMALL(IF(BD!$B$2:$B$138=$I$145,IF(BD!$B$2:$B$138=$I$145,ROW(BD!$B$2:$B$138)-ROW(BD!$B$2)+1),FALSE),ROWS(BD!$1:6)))))","v":""},{"$f":"IF($I$145=\"\",\"\",IF(ROWS(BD!$1:6)>COUNTIFS(BD!$B:$B,$I$145),\"\",INDEX(BD!$H$2:$H$138,SMALL(IF(BD!$B$2:$B$138=$I$145,IF(BD!$B$2:$B$138=$I$145,ROW(BD!$B$2:$B$138)-ROW(BD!$B$2)+1),FALSE),ROWS(BD!$1:6)))))","v":""},null,{"$f":"IF($O$145=\"\",\"\",IF(ROWS(BD!$1:6)>COUNTIFS(BD!$B:$B,$O$145),\"\",INDEX(BD!$C$2:$C$138,SMALL(IF(BD!$B$2:$B$138=$O$145,IF(BD!$B$2:$B$138=$O$145,ROW(BD!$B$2:$B$138)-ROW(BD!$B$2)+1),FALSE),ROWS(BD!$1:6)))))","v":""},{"$f":"IF($O$145=\"\",\"\",IF(ROWS(BD!$1:6)>COUNTIFS(BD!$B:$B,$O$145),\"\",INDEX(BD!$E$2:$E$138,SMALL(IF(BD!$B$2:$B$138=$O$145,IF(BD!$B$2:$B$138=$O$145,ROW(BD!$B$2:$B$138)-ROW(BD!$B$2)+1),FALSE),ROWS(BD!$1:6)))))","v":""},{"$f":"IF($O$145=\"\",\"\",IF(ROWS(BD!$1:6)>COUNTIFS(BD!$B:$B,$O$145),\"\",INDEX(BD!$F$2:$F$138,SMALL(IF(BD!$B$2:$B$138=$O$145,IF(BD!$B$2:$B$138=$O$145,ROW(BD!$B$2:$B$138)-ROW(BD!$B$2)+1),FALSE),ROWS(BD!$1:6)))))","v":""},{"$f":"IF($O$145=\"\",\"\",IF(ROWS(BD!$1:6)>COUNTIFS(BD!$B:$B,$O$145),\"\",INDEX(BD!$G$2:$G$138,SMALL(IF(BD!$B$2:$B$138=$O$145,IF(BD!$B$2:$B$138=$O$145,ROW(BD!$B$2:$B$138)-ROW(BD!$B$2)+1),FALSE),ROWS(BD!$1:6)))))","v":""},{"$f":"IF($O$145=\"\",\"\",IF(ROWS(BD!$1:6)>COUNTIFS(BD!$B:$B,$O$145),\"\",INDEX(BD!$H$2:$H$138,SMALL(IF(BD!$B$2:$B$138=$O$145,IF(BD!$B$2:$B$138=$O$145,ROW(BD!$B$2:$B$138)-ROW(BD!$B$2)+1),FALSE),ROWS(BD!$1:6)))))","v":""},null,{"$f":"IF($U$145=\"\",\"\",IF(ROWS(BD!$1:6)>COUNTIFS(BD!$B:$B,$U$145),\"\",INDEX(BD!$C$2:$C$138,SMALL(IF(BD!$B$2:$B$138=$U$145,IF(BD!$B$2:$B$138=$U$145,ROW(BD!$B$2:$B$138)-ROW(BD!$B$2)+1),FALSE),ROWS(BD!$1:6)))))","v":""},{"$f":"IF($U$145=\"\",\"\",IF(ROWS(BD!$1:6)>COUNTIFS(BD!$B:$B,$U$145),\"\",INDEX(BD!$E$2:$E$138,SMALL(IF(BD!$B$2:$B$138=$U$145,IF(BD!$B$2:$B$138=$U$145,ROW(BD!$B$2:$B$138)-ROW(BD!$B$2)+1),FALSE),ROWS(BD!$1:6)))))","v":""},{"$f":"IF($U$145=\"\",\"\",IF(ROWS(BD!$1:6)>COUNTIFS(BD!$B:$B,$U$145),\"\",INDEX(BD!$F$2:$F$138,SMALL(IF(BD!$B$2:$B$138=$U$145,IF(BD!$B$2:$B$138=$U$145,ROW(BD!$B$2:$B$138)-ROW(BD!$B$2)+1),FALSE),ROWS(BD!$1:6)))))","v":""},{"$f":"IF($U$145=\"\",\"\",IF(ROWS(BD!$1:6)>COUNTIFS(BD!$B:$B,$U$145),\"\",INDEX(BD!$G$2:$G$138,SMALL(IF(BD!$B$2:$B$138=$U$145,IF(BD!$B$2:$B$138=$U$145,ROW(BD!$B$2:$B$138)-ROW(BD!$B$2)+1),FALSE),ROWS(BD!$1:6)))))","v":""},{"$f":"IF($U$145=\"\",\"\",IF(ROWS(BD!$1:6)>COUNTIFS(BD!$B:$B,$U$145),\"\",INDEX(BD!$H$2:$H$138,SMALL(IF(BD!$B$2:$B$138=$U$145,IF(BD!$B$2:$B$138=$U$145,ROW(BD!$B$2:$B$138)-ROW(BD!$B$2)+1),FALSE),ROWS(BD!$1:6)))))","v":""},null,{"$f":"IF($AA$145=\"\",\"\",IF(ROWS(BD!$1:6)>COUNTIFS(BD!$B:$B,$AA$145),\"\",INDEX(BD!$C$2:$C$138,SMALL(IF(BD!$B$2:$B$138=$AA$145,IF(BD!$B$2:$B$138=$AA$145,ROW(BD!$B$2:$B$138)-ROW(BD!$B$2)+1),FALSE),ROWS(BD!$1:6)))))","v":""},{"$f":"IF($AA$145=\"\",\"\",IF(ROWS(BD!$1:6)>COUNTIFS(BD!$B:$B,$AA$145),\"\",INDEX(BD!$E$2:$E$138,SMALL(IF(BD!$B$2:$B$138=$AA$145,IF(BD!$B$2:$B$138=$AA$145,ROW(BD!$B$2:$B$138)-ROW(BD!$B$2)+1),FALSE),ROWS(BD!$1:6)))))","v":""},{"$f":"IF($AA$145=\"\",\"\",IF(ROWS(BD!$1:6)>COUNTIFS(BD!$B:$B,$AA$145),\"\",INDEX(BD!$F$2:$F$138,SMALL(IF(BD!$B$2:$B$138=$AA$145,IF(BD!$B$2:$B$138=$AA$145,ROW(BD!$B$2:$B$138)-ROW(BD!$B$2)+1),FALSE),ROWS(BD!$1:6)))))","v":""},{"$f":"IF($AA$145=\"\",\"\",IF(ROWS(BD!$1:6)>COUNTIFS(BD!$B:$B,$AA$145),\"\",INDEX(BD!$G$2:$G$138,SMALL(IF(BD!$B$2:$B$138=$AA$145,IF(BD!$B$2:$B$138=$AA$145,ROW(BD!$B$2:$B$138)-ROW(BD!$B$2)+1),FALSE),ROWS(BD!$1:6)))))","v":""},{"$f":"IF($AA$145=\"\",\"\",IF(ROWS(BD!$1:6)>COUNTIFS(BD!$B:$B,$AA$145),\"\",INDEX(BD!$H$2:$H$138,SMALL(IF(BD!$B$2:$B$138=$AA$145,IF(BD!$B$2:$B$138=$AA$145,ROW(BD!$B$2:$B$138)-ROW(BD!$B$2)+1),FALSE),ROWS(BD!$1:6)))))","v":""},null,{"$f":"IF($AG$145=\"\",\"\",IF(ROWS(BD!$1:6)>COUNTIFS(BD!$B:$B,$AG$145),\"\",INDEX(BD!$C$2:$C$138,SMALL(IF(BD!$B$2:$B$138=$AG$145,IF(BD!$B$2:$B$138=$AG$145,ROW(BD!$B$2:$B$138)-ROW(BD!$B$2)+1),FALSE),ROWS(BD!$1:6)))))","v":""},{"$f":"IF($AG$145=\"\",\"\",IF(ROWS(BD!$1:6)>COUNTIFS(BD!$B:$B,$AG$145),\"\",INDEX(BD!$E$2:$E$138,SMALL(IF(BD!$B$2:$B$138=$AG$145,IF(BD!$B$2:$B$138=$AG$145,ROW(BD!$B$2:$B$138)-ROW(BD!$B$2)+1),FALSE),ROWS(BD!$1:6)))))","v":""},{"$f":"IF($AG$145=\"\",\"\",IF(ROWS(BD!$1:6)>COUNTIFS(BD!$B:$B,$AG$145),\"\",INDEX(BD!$F$2:$F$138,SMALL(IF(BD!$B$2:$B$138=$AG$145,IF(BD!$B$2:$B$138=$AG$145,ROW(BD!$B$2:$B$138)-ROW(BD!$B$2)+1),FALSE),ROWS(BD!$1:6)))))","v":""},{"$f":"IF($AG$145=\"\",\"\",IF(ROWS(BD!$1:6)>COUNTIFS(BD!$B:$B,$AG$145),\"\",INDEX(BD!$G$2:$G$138,SMALL(IF(BD!$B$2:$B$138=$AG$145,IF(BD!$B$2:$B$138=$AG$145,ROW(BD!$B$2:$B$138)-ROW(BD!$B$2)+1),FALSE),ROWS(BD!$1:6)))))","v":""},{"$f":"IF($AG$145=\"\",\"\",IF(ROWS(BD!$1:6)>COUNTIFS(BD!$B:$B,$AG$145),\"\",INDEX(BD!$H$2:$H$138,SMALL(IF(BD!$B$2:$B$138=$AG$145,IF(BD!$B$2:$B$138=$AG$145,ROW(BD!$B$2:$B$138)-ROW(BD!$B$2)+1),FALSE),ROWS(BD!$1:6)))))","v":""},null,{"$f":"IF($AM$145=\"\",\"\",IF(ROWS(BD!$1:6)>COUNTIFS(BD!$B:$B,$AM$145),\"\",INDEX(BD!$C$2:$C$138,SMALL(IF(BD!$B$2:$B$138=$AM$145,IF(BD!$B$2:$B$138=$AM$145,ROW(BD!$B$2:$B$138)-ROW(BD!$B$2)+1),FALSE),ROWS(BD!$1:6)))))","v":""},{"$f":"IF($AM$145=\"\",\"\",IF(ROWS(BD!$1:6)>COUNTIFS(BD!$B:$B,$AM$145),\"\",INDEX(BD!$E$2:$E$138,SMALL(IF(BD!$B$2:$B$138=$AM$145,IF(BD!$B$2:$B$138=$AM$145,ROW(BD!$B$2:$B$138)-ROW(BD!$B$2)+1),FALSE),ROWS(BD!$1:6)))))","v":""},{"$f":"IF($AM$145=\"\",\"\",IF(ROWS(BD!$1:6)>COUNTIFS(BD!$B:$B,$AM$145),\"\",INDEX(BD!$F$2:$F$138,SMALL(IF(BD!$B$2:$B$138=$AM$145,IF(BD!$B$2:$B$138=$AM$145,ROW(BD!$B$2:$B$138)-ROW(BD!$B$2)+1),FALSE),ROWS(BD!$1:6)))))","v":""},{"$f":"IF($AM$145=\"\",\"\",IF(ROWS(BD!$1:6)>COUNTIFS(BD!$B:$B,$AM$145),\"\",INDEX(BD!$G$2:$G$138,SMALL(IF(BD!$B$2:$B$138=$AM$145,IF(BD!$B$2:$B$138=$AM$145,ROW(BD!$B$2:$B$138)-ROW(BD!$B$2)+1),FALSE),ROWS(BD!$1:6)))))","v":""},{"$f":"IF($AM$145=\"\",\"\",IF(ROWS(BD!$1:6)>COUNTIFS(BD!$B:$B,$AM$145),\"\",INDEX(BD!$H$2:$H$138,SMALL(IF(BD!$B$2:$B$138=$AM$145,IF(BD!$B$2:$B$138=$AM$145,ROW(BD!$B$2:$B$138)-ROW(BD!$B$2)+1),FALSE),ROWS(BD!$1:6)))))","v":""}]
[null,null,{"$f":"IF($C$145=\"\",\"\",IF(ROWS(BD!$1:7)>COUNTIFS(BD!$B:$B,$C$145),\"\",INDEX(BD!$C$2:$C$138,SMALL(IF(BD!$B$2:$B$138=$C$145,IF(BD!$B$2:$B$138=$C$145,ROW(BD!$B$2:$B$138)-ROW(BD!$B$2)+1),FALSE),ROWS(BD!$1:7)))))","v":""},{"$f":"IF($C$145=\"\",\"\",IF(ROWS(BD!$1:7)>COUNTIFS(BD!$B:$B,$C$145),\"\",INDEX(BD!$E$2:$E$138,SMALL(IF(BD!$B$2:$B$138=$C$145,IF(BD!$B$2:$B$138=$C$145,ROW(BD!$B$2:$B$138)-ROW(BD!$B$2)+1),FALSE),ROWS(BD!$1:7)))))","v":""},{"$f":"IF($C$145=\"\",\"\",IF(ROWS(BD!$1:7)>COUNTIFS(BD!$B:$B,$C$145),\"\",INDEX(BD!$F$2:$F$138,SMALL(IF(BD!$B$2:$B$138=$C$145,IF(BD!$B$2:$B$138=$C$145,ROW(BD!$B$2:$B$138)-ROW(BD!$B$2)+1),FALSE),ROWS(BD!$1:7)))))","v":""},{"$f":"IF($C$145=\"\",\"\",IF(ROWS(BD!$1:7)>COUNTIFS(BD!$B:$B,$C$145),\"\",INDEX(BD!$G$2:$G$138,SMALL(IF(BD!$B$2:$B$138=$C$145,IF(BD!$B$2:$B$138=$C$145,ROW(BD!$B$2:$B$138)-ROW(BD!$B$2)+1),FALSE),ROWS(BD!$1:7)))))","v":""},{"$f":"IF($C$145=\"\",\"\",IF(ROWS(BD!$1:7)>COUNTIFS(BD!$B:$B,$C$145),\"\",INDEX(BD!$H$2:$H$138,SMALL(IF(BD!$B$2:$B$138=$C$145,IF(BD!$B$2:$B$138=$C$145,ROW(BD!$B$2:$B$138)-ROW(BD!$B$2)+1),FALSE),ROWS(BD!$1:7)))))","v":""},null,{"$f":"IF($I$145=\"\",\"\",IF(ROWS(BD!$1:7)>COUNTIFS(BD!$B:$B,$I$145),\"\",INDEX(BD!$C$2:$C$138,SMALL(IF(BD!$B$2:$B$138=$I$145,IF(BD!$B$2:$B$138=$I$145,ROW(BD!$B$2:$B$138)-ROW(BD!$B$2)+1),FALSE),ROWS(BD!$1:7)))))","v":""},{"$f":"IF($I$145=\"\",\"\",IF(ROWS(BD!$1:7)>COUNTIFS(BD!$B:$B,$I$145),\"\",INDEX(BD!$E$2:$E$138,SMALL(IF(BD!$B$2:$B$138=$I$145,IF(BD!$B$2:$B$138=$I$145,ROW(BD!$B$2:$B$138)-ROW(BD!$B$2)+1),FALSE),ROWS(BD!$1:7)))))","v":""},{"$f":"IF($I$145=\"\",\"\",IF(ROWS(BD!$1:7)>COUNTIFS(BD!$B:$B,$I$145),\"\",INDEX(BD!$F$2:$F$138,SMALL(IF(BD!$B$2:$B$138=$I$145,IF(BD!$B$2:$B$138=$I$145,ROW(BD!$B$2:$B$138)-ROW(BD!$B$2)+1),FALSE),ROWS(BD!$1:7)))))","v":""},{"$f":"IF($I$145=\"\",\"\",IF(ROWS(BD!$1:7)>COUNTIFS(BD!$B:$B,$I$145),\"\",INDEX(BD!$G$2:$G$138,SMALL(IF(BD!$B$2:$B$138=$I$145,IF(BD!$B$2:$B$138=$I$145,ROW(BD!$B$2:$B$138)-ROW(BD!$B$2)+1),FALSE),ROWS(BD!$1:7)))))","v":""},{"$f":"IF($I$145=\"\",\"\",IF(ROWS(BD!$1:7)>COUNTIFS(BD!$B:$B,$I$145),\"\",INDEX(BD!$H$2:$H$138,SMALL(IF(BD!$B$2:$B$138=$I$145,IF(BD!$B$2:$B$138=$I$145,ROW(BD!$B$2:$B$138)-ROW(BD!$B$2)+1),FALSE),ROWS(BD!$1:7)))))","v":""},null,{"$f":"IF($O$145=\"\",\"\",IF(ROWS(BD!$1:7)>COUNTIFS(BD!$B:$B,$O$145),\"\",INDEX(BD!$C$2:$C$138,SMALL(IF(BD!$B$2:$B$138=$O$145,IF(BD!$B$2:$B$138=$O$145,ROW(BD!$B$2:$B$138)-ROW(BD!$B$2)+1),FALSE),ROWS(BD!$1:7)))))","v":""},{"$f":"IF($O$145=\"\",\"\",IF(ROWS(BD!$1:7)>COUNTIFS(BD!$B:$B,$O$145),\"\",INDEX(BD!$E$2:$E$138,SMALL(IF(BD!$B$2:$B$138=$O$145,IF(BD!$B$2:$B$138=$O$145,ROW(BD!$B$2:$B$138)-ROW(BD!$B$2)+1),FALSE),ROWS(BD!$1:7)))))","v":""},{"$f":"IF($O$145=\"\",\"\",IF(ROWS(BD!$1:7)>COUNTIFS(BD!$B:$B,$O$145),\"\",INDEX(BD!$F$2:$F$138,SMALL(IF(BD!$B$2:$B$138=$O$145,IF(BD!$B$2:$B$138=$O$145,ROW(BD!$B$2:$B$138)-ROW(BD!$B$2)+1),FALSE),ROWS(BD!$1:7)))))","v":""},{"$f":"IF($O$145=\"\",\"\",IF(ROWS(BD!$1:7)>COUNTIFS(BD!$B:$B,$O$145),\"\",INDEX(BD!$G$2:$G$138,SMALL(IF(BD!$B$2:$B$138=$O$145,IF(BD!$B$2:$B$138=$O$145,ROW(BD!$B$2:$B$138)-ROW(BD!$B$2)+1),FALSE),ROWS(BD!$1:7)))))","v":""},{"$f":"IF($O$145=\"\",\"\",IF(ROWS(BD!$1:7)>COUNTIFS(BD!$B:$B,$O$145),\"\",INDEX(BD!$H$2:$H$138,SMALL(IF(BD!$B$2:$B$138=$O$145,IF(BD!$B$2:$B$138=$O$145,ROW(BD!$B$2:$B$138)-ROW(BD!$B$2)+1),FALSE),ROWS(BD!$1:7)))))","v":""},null,{"$f":"IF($U$145=\"\",\"\",IF(ROWS(BD!$1:7)>COUNTIFS(BD!$B:$B,$U$145),\"\",INDEX(BD!$C$2:$C$138,SMALL(IF(BD!$B$2:$B$138=$U$145,IF(BD!$B$2:$B$138=$U$145,ROW(BD!$B$2:$B$138)-ROW(BD!$B$2)+1),FALSE),ROWS(BD!$1:7)))))","v":""},{"$f":"IF($U$145=\"\",\"\",IF(ROWS(BD!$1:7)>COUNTIFS(BD!$B:$B,$U$145),\"\",INDEX(BD!$E$2:$E$138,SMALL(IF(BD!$B$2:$B$138=$U$145,IF(BD!$B$2:$B$138=$U$145,ROW(BD!$B$2:$B$138)-ROW(BD!$B$2)+1),FALSE),ROWS(BD!$1:7)))))","v":""},{"$f":"IF($U$145=\"\",\"\",IF(ROWS(BD!$1:7)>COUNTIFS(BD!$B:$B,$U$145),\"\",INDEX(BD!$F$2:$F$138,SMALL(IF(BD!$B$2:$B$138=$U$145,IF(BD!$B$2:$B$138=$U$145,ROW(BD!$B$2:$B$138)-ROW(BD!$B$2)+1),FALSE),ROWS(BD!$1:7)))))","v":""},{"$f":"IF($U$145=\"\",\"\",IF(ROWS(BD!$1:7)>COUNTIFS(BD!$B:$B,$U$145),\"\",INDEX(BD!$G$2:$G$138,SMALL(IF(BD!$B$2:$B$138=$U$145,IF(BD!$B$2:$B$138=$U$145,ROW(BD!$B$2:$B$138)-ROW(BD!$B$2)+1),FALSE),ROWS(BD!$1:7)))))","v":""},{"$f":"IF($U$145=\"\",\"\",IF(ROWS(BD!$1:7)>COUNTIFS(BD!$B:$B,$U$145),\"\",INDEX(BD!$H$2:$H$138,SMALL(IF(BD!$B$2:$B$138=$U$145,IF(BD!$B$2:$B$138=$U$145,ROW(BD!$B$2:$B$138)-ROW(BD!$B$2)+1),FALSE),ROWS(BD!$1:7)))))","v":""},null,{"$f":"IF($AA$145=\"\",\"\",IF(ROWS(BD!$1:7)>COUNTIFS(BD!$B:$B,$AA$145),\"\",INDEX(BD!$C$2:$C$138,SMALL(IF(BD!$B$2:$B$138=$AA$145,IF(BD!$B$2:$B$138=$AA$145,ROW(BD!$B$2:$B$138)-ROW(BD!$B$2)+1),FALSE),ROWS(BD!$1:7)))))","v":""},{"$f":"IF($AA$145=\"\",\"\",IF(ROWS(BD!$1:7)>COUNTIFS(BD!$B:$B,$AA$145),\"\",INDEX(BD!$E$2:$E$138,SMALL(IF(BD!$B$2:$B$138=$AA$145,IF(BD!$B$2:$B$138=$AA$145,ROW(BD!$B$2:$B$138)-ROW(BD!$B$2)+1),FALSE),ROWS(BD!$1:7)))))","v":""},{"$f":"IF($AA$145=\"\",\"\",IF(ROWS(BD!$1:7)>COUNTIFS(BD!$B:$B,$AA$145),\"\",INDEX(BD!$F$2:$F$138,SMALL(IF(BD!$B$2:$B$138=$AA$145,IF(BD!$B$2:$B$138=$AA$145,ROW(BD!$B$2:$B$138)-ROW(BD!$B$2)+1),FALSE),ROWS(BD!$1:7)))))","v":""},{"$f":"IF($AA$145=\"\",\"\",IF(ROWS(BD!$1:7)>COUNTIFS(BD!$B:$B,$AA$145),\"\",INDEX(BD!$G$2:$G$138,SMALL(IF(BD!$B$2:$B$138=$AA$145,IF(BD!$B$2:$B$138=$AA$145,ROW(BD!$B$2:$B$138)-ROW(BD!$B$2)+1),FALSE),ROWS(BD!$1:7)))))","v":""},{"$f":"IF($AA$145=\"\",\"\",IF(ROWS(BD!$1:7)>COUNTIFS(BD!$B:$B,$AA$145),\"\",INDEX(BD!$H$2:$H$138,SMALL(IF(BD!$B$2:$B$138=$AA$145,IF(BD!$B$2:$B$138=$AA$145,ROW(BD!$B$2:$B$138)-ROW(BD!$B$2)+1),FALSE),ROWS(BD!$1:7)))))","v":""},null,{"$f":"IF($AG$145=\"\",\"\",IF(ROWS(BD!$1:7)>COUNTIFS(BD!$B:$B,$AG$145),\"\",INDEX(BD!$C$2:$C$138,SMALL(IF(BD!$B$2:$B$138=$AG$145,IF(BD!$B$2:$B$138=$AG$145,ROW(BD!$B$2:$B$138)-ROW(BD!$B$2)+1),FALSE),ROWS(BD!$1:7)))))","v":""},{"$f":"IF($AG$145=\"\",\"\",IF(ROWS(BD!$1:7)>COUNTIFS(BD!$B:$B,$AG$145),\"\",INDEX(BD!$E$2:$E$138,SMALL(IF(BD!$B$2:$B$138=$AG$145,IF(BD!$B$2:$B$138=$AG$145,ROW(BD!$B$2:$B$138)-ROW(BD!$B$2)+1),FALSE),ROWS(BD!$1:7)))))","v":""},{"$f":"IF($AG$145=\"\",\"\",IF(ROWS(BD!$1:7)>COUNTIFS(BD!$B:$B,$AG$145),\"\",INDEX(BD!$F$2:$F$138,SMALL(IF(BD!$B$2:$B$138=$AG$145,IF(BD!$B$2:$B$138=$AG$145,ROW(BD!$B$2:$B$138)-ROW(BD!$B$2)+1),FALSE),ROWS(BD!$1:7)))))","v":""},{"$f":"IF($AG$145=\"\",\"\",IF(ROWS(BD!$1:7)>COUNTIFS(BD!$B:$B,$AG$145),\"\",INDEX(BD!$G$2:$G$138,SMALL(IF(BD!$B$2:$B$138=$AG$145,IF(BD!$B$2:$B$138=$AG$145,ROW(BD!$B$2:$B$138)-ROW(BD!$B$2)+1),FALSE),ROWS(BD!$1:7)))))","v":""},{"$f":"IF($AG$145=\"\",\"\",IF(ROWS(BD!$1:7)>COUNTIFS(BD!$B:$B,$AG$145),\"\",INDEX(BD!$H$2:$H$138,SMALL(IF(BD!$B$2:$B$138=$AG$145,IF(BD!$B$2:$B$138=$AG$145,ROW(BD!$B$2:$B$138)-ROW(BD!$B$2)+1),FALSE),ROWS(BD!$1:7)))))","v":""},null,{"$f":"IF($AM$145=\"\",\"\",IF(ROWS(BD!$1:7)>COUNTIFS(BD!$B:$B,$AM$145),\"\",INDEX(BD!$C$2:$C$138,SMALL(IF(BD!$B$2:$B$138=$AM$145,IF(BD!$B$2:$B$138=$AM$145,ROW(BD!$B$2:$B$138)-ROW(BD!$B$2)+1),FALSE),ROWS(BD!$1:7)))))","v":""},{"$f":"IF($AM$145=\"\",\"\",IF(ROWS(BD!$1:7)>COUNTIFS(BD!$B:$B,$AM$145),\"\",INDEX(BD!$E$2:$E$138,SMALL(IF(BD!$B$2:$B$138=$AM$145,IF(BD!$B$2:$B$138=$AM$145,ROW(BD!$B$2:$B$138)-ROW(BD!$B$2)+1),FALSE),ROWS(BD!$1:7)))))","v":""},{"$f":"IF($AM$145=\"\",\"\",IF(ROWS(BD!$1:7)>COUNTIFS(BD!$B:$B,$AM$145),\"\",INDEX(BD!$F$2:$F$138,SMALL(IF(BD!$B$2:$B$138=$AM$145,IF(BD!$B$2:$B$138=$AM$145,ROW(BD!$B$2:$B$138)-ROW(BD!$B$2)+1),FALSE),ROWS(BD!$1:7)))))","v":""},{"$f":"IF($AM$145=\"\",\"\",IF(ROWS(BD!$1:7)>COUNTIFS(BD!$B:$B,$AM$145),\"\",INDEX(BD!$G$2:$G$138,SMALL(IF(BD!$B$2:$B$138=$AM$145,IF(BD!$B$2:$B$138=$AM$145,ROW(BD!$B$2:$B$138)-ROW(BD!$B$2)+1),FALSE),ROWS(BD!$1:7)))))","v":""},{"$f":"IF($AM$145=\"\",\"\",IF(ROWS(BD!$1:7)>COUNTIFS(BD!$B:$B,$AM$145),\"\",INDEX(BD!$H$2:$H$138,SMALL(IF(BD!$B$2:$B$138=$AM$145,IF(BD!$B$2:$B$138=$AM$145,ROW(BD!$B$2:$B$138)-ROW(BD!$B$2)+1),FALSE),ROWS(BD!$1:7)))))","v":""}]
[null,null,{"$f":"IF($C$145=\"\",\"\",IF(ROWS(BD!$1:8)>COUNTIFS(BD!$B:$B,$C$145),\"\",INDEX(BD!$C$2:$C$138,SMALL(IF(BD!$B$2:$B$138=$C$145,IF(BD!$B$2:$B$138=$C$145,ROW(BD!$B$2:$B$138)-ROW(BD!$B$2)+1),FALSE),ROWS(BD!$1:8)))))","v":""},{"$f":"IF($C$145=\"\",\"\",IF(ROWS(BD!$1:8)>COUNTIFS(BD!$B:$B,$C$145),\"\",INDEX(BD!$E$2:$E$138,SMALL(IF(BD!$B$2:$B$138=$C$145,IF(BD!$B$2:$B$138=$C$145,ROW(BD!$B$2:$B$138)-ROW(BD!$B$2)+1),FALSE),ROWS(BD!$1:8)))))","v":""},{"$f":"IF($C$145=\"\",\"\",IF(ROWS(BD!$1:8)>COUNTIFS(BD!$B:$B,$C$145),\"\",INDEX(BD!$F$2:$F$138,SMALL(IF(BD!$B$2:$B$138=$C$145,IF(BD!$B$2:$B$138=$C$145,ROW(BD!$B$2:$B$138)-ROW(BD!$B$2)+1),FALSE),ROWS(BD!$1:8)))))","v":""},{"$f":"IF($C$145=\"\",\"\",IF(ROWS(BD!$1:8)>COUNTIFS(BD!$B:$B,$C$145),\"\",INDEX(BD!$G$2:$G$138,SMALL(IF(BD!$B$2:$B$138=$C$145,IF(BD!$B$2:$B$138=$C$145,ROW(BD!$B$2:$B$138)-ROW(BD!$B$2)+1),FALSE),ROWS(BD!$1:8)))))","v":""},{"$f":"IF($C$145=\"\",\"\",IF(ROWS(BD!$1:8)>COUNTIFS(BD!$B:$B,$C$145),\"\",INDEX(BD!$H$2:$H$138,SMALL(IF(BD!$B$2:$B$138=$C$145,IF(BD!$B$2:$B$138=$C$145,ROW(BD!$B$2:$B$138)-ROW(BD!$B$2)+1),FALSE),ROWS(BD!$1:8)))))","v":""},null,{"$f":"IF($I$145=\"\",\"\",IF(ROWS(BD!$1:8)>COUNTIFS(BD!$B:$B,$I$145),\"\",INDEX(BD!$C$2:$C$138,SMALL(IF(BD!$B$2:$B$138=$I$145,IF(BD!$B$2:$B$138=$I$145,ROW(BD!$B$2:$B$138)-ROW(BD!$B$2)+1),FALSE),ROWS(BD!$1:8)))))","v":""},{"$f":"IF($I$145=\"\",\"\",IF(ROWS(BD!$1:8)>COUNTIFS(BD!$B:$B,$I$145),\"\",INDEX(BD!$E$2:$E$138,SMALL(IF(BD!$B$2:$B$138=$I$145,IF(BD!$B$2:$B$138=$I$145,ROW(BD!$B$2:$B$138)-ROW(BD!$B$2)+1),FALSE),ROWS(BD!$1:8)))))","v":""},{"$f":"IF($I$145=\"\",\"\",IF(ROWS(BD!$1:8)>COUNTIFS(BD!$B:$B,$I$145),\"\",INDEX(BD!$F$2:$F$138,SMALL(IF(BD!$B$2:$B$138=$I$145,IF(BD!$B$2:$B$138=$I$145,ROW(BD!$B$2:$B$138)-ROW(BD!$B$2)+1),FALSE),ROWS(BD!$1:8)))))","v":""},{"$f":"IF($I$145=\"\",\"\",IF(ROWS(BD!$1:8)>COUNTIFS(BD!$B:$B,$I$145),\"\",INDEX(BD!$G$2:$G$138,SMALL(IF(BD!$B$2:$B$138=$I$145,IF(BD!$B$2:$B$138=$I$145,ROW(BD!$B$2:$B$138)-ROW(BD!$B$2)+1),FALSE),ROWS(BD!$1:8)))))","v":""},{"$f":"IF($I$145=\"\",\"\",IF(ROWS(BD!$1:8)>COUNTIFS(BD!$B:$B,$I$145),\"\",INDEX(BD!$H$2:$H$138,SMALL(IF(BD!$B$2:$B$138=$I$145,IF(BD!$B$2:$B$138=$I$145,ROW(BD!$B$2:$B$138)-ROW(BD!$B$2)+1),FALSE),ROWS(BD!$1:8)))))","v":""},null,{"$f":"IF($O$145=\"\",\"\",IF(ROWS(BD!$1:8)>COUNTIFS(BD!$B:$B,$O$145),\"\",INDEX(BD!$C$2:$C$138,SMALL(IF(BD!$B$2:$B$138=$O$145,IF(BD!$B$2:$B$138=$O$145,ROW(BD!$B$2:$B$138)-ROW(BD!$B$2)+1),FALSE),ROWS(BD!$1:8)))))","v":""},{"$f":"IF($O$145=\"\",\"\",IF(ROWS(BD!$1:8)>COUNTIFS(BD!$B:$B,$O$145),\"\",INDEX(BD!$E$2:$E$138,SMALL(IF(BD!$B$2:$B$138=$O$145,IF(BD!$B$2:$B$138=$O$145,ROW(BD!$B$2:$B$138)-ROW(BD!$B$2)+1),FALSE),ROWS(BD!$1:8)))))","v":""},{"$f":"IF($O$145=\"\",\"\",IF(ROWS(BD!$1:8)>COUNTIFS(BD!$B:$B,$O$145),\"\",INDEX(BD!$F$2:$F$138,SMALL(IF(BD!$B$2:$B$138=$O$145,IF(BD!$B$2:$B$138=$O$145,ROW(BD!$B$2:$B$138)-ROW(BD!$B$2)+1),FALSE),ROWS(BD!$1:8)))))","v":""},{"$f":"IF($O$145=\"\",\"\",IF(ROWS(BD!$1:8)>COUNTIFS(BD!$B:$B,$O$145),\"\",INDEX(BD!$G$2:$G$138,SMALL(IF(BD!$B$2:$B$138=$O$145,IF(BD!$B$2:$B$138=$O$145,ROW(BD!$B$2:$B$138)-ROW(BD!$B$2)+1),FALSE),ROWS(BD!$1:8)))))","v":""},{"$f":"IF($O$145=\"\",\"\",IF(ROWS(BD!$1:8)>COUNTIFS(BD!$B:$B,$O$145),\"\",INDEX(BD!$H$2:$H$138,SMALL(IF(BD!$B$2:$B$138=$O$145,IF(BD!$B$2:$B$138=$O$145,ROW(BD!$B$2:$B$138)-ROW(BD!$B$2)+1),FALSE),ROWS(BD!$1:8)))))","v":""},null,{"$f":"IF($U$145=\"\",\"\",IF(ROWS(BD!$1:8)>COUNTIFS(BD!$B:$B,$U$145),\"\",INDEX(BD!$C$2:$C$138,SMALL(IF(BD!$B$2:$B$138=$U$145,IF(BD!$B$2:$B$138=$U$145,ROW(BD!$B$2:$B$138)-ROW(BD!$B$2)+1),FALSE),ROWS(BD!$1:8)))))","v":""},{"$f":"IF($U$145=\"\",\"\",IF(ROWS(BD!$1:8)>COUNTIFS(BD!$B:$B,$U$145),\"\",INDEX(BD!$E$2:$E$138,SMALL(IF(BD!$B$2:$B$138=$U$145,IF(BD!$B$2:$B$138=$U$145,ROW(BD!$B$2:$B$138)-ROW(BD!$B$2)+1),FALSE),ROWS(BD!$1:8)))))","v":""},{"$f":"IF($U$145=\"\",\"\",IF(ROWS(BD!$1:8)>COUNTIFS(BD!$B:$B,$U$145),\"\",INDEX(BD!$F$2:$F$138,SMALL(IF(BD!$B$2:$B$138=$U$145,IF(BD!$B$2:$B$138=$U$145,ROW(BD!$B$2:$B$138)-ROW(BD!$B$2)+1),FALSE),ROWS(BD!$1:8)))))","v":""},{"$f":"IF($U$145=\"\",\"\",IF(ROWS(BD!$1:8)>COUNTIFS(BD!$B:$B,$U$145),\"\",INDEX(BD!$G$2:$G$138,SMALL(IF(BD!$B$2:$B$138=$U$145,IF(BD!$B$2:$B$138=$U$145,ROW(BD!$B$2:$B$138)-ROW(BD!$B$2)+1),FALSE),ROWS(BD!$1:8)))))","v":""},{"$f":"IF($U$145=\"\",\"\",IF(ROWS(BD!$1:8)>COUNTIFS(BD!$B:$B,$U$145),\"\",INDEX(BD!$H$2:$H$138,SMALL(IF(BD!$B$2:$B$138=$U$145,IF(BD!$B$2:$B$138=$U$145,ROW(BD!$B$2:$B$138)-ROW(BD!$B$2)+1),FALSE),ROWS(BD!$1:8)))))","v":""},null,{"$f":"IF($AA$145=\"\",\"\",IF(ROWS(BD!$1:8)>COUNTIFS(BD!$B:$B,$AA$145),\"\",INDEX(BD!$C$2:$C$138,SMALL(IF(BD!$B$2:$B$138=$AA$145,IF(BD!$B$2:$B$138=$AA$145,ROW(BD!$B$2:$B$138)-ROW(BD!$B$2)+1),FALSE),ROWS(BD!$1:8)))))","v":""},{"$f":"IF($AA$145=\"\",\"\",IF(ROWS(BD!$1:8)>COUNTIFS(BD!$B:$B,$AA$145),\"\",INDEX(BD!$E$2:$E$138,SMALL(IF(BD!$B$2:$B$138=$AA$145,IF(BD!$B$2:$B$138=$AA$145,ROW(BD!$B$2:$B$138)-ROW(BD!$B$2)+1),FALSE),ROWS(BD!$1:8)))))","v":""},{"$f":"IF($AA$145=\"\",\"\",IF(ROWS(BD!$1:8)>COUNTIFS(BD!$B:$B,$AA$145),\"\",INDEX(BD!$F$2:$F$138,SMALL(IF(BD!$B$2:$B$138=$AA$145,IF(BD!$B$2:$B$138=$AA$145,ROW(BD!$B$2:$B$138)-ROW(BD!$B$2)+1),FALSE),ROWS(BD!$1:8)))))","v":""},{"$f":"IF($AA$145=\"\",\"\",IF(ROWS(BD!$1:8)>COUNTIFS(BD!$B:$B,$AA$145),\"\",INDEX(BD!$G$2:$G$138,SMALL(IF(BD!$B$2:$B$138=$AA$145,IF(BD!$B$2:$B$138=$AA$145,ROW(BD!$B$2:$B$138)-ROW(BD!$B$2)+1),FALSE),ROWS(BD!$1:8)))))","v":""},{"$f":"IF($AA$145=\"\",\"\",IF(ROWS(BD!$1:8)>COUNTIFS(BD!$B:$B,$AA$145),\"\",INDEX(BD!$H$2:$H$138,SMALL(IF(BD!$B$2:$B$138=$AA$145,IF(BD!$B$2:$B$138=$AA$145,ROW(BD!$B$2:$B$138)-ROW(BD!$B$2)+1),FALSE),ROWS(BD!$1:8)))))","v":""},null,{"$f":"IF($AG$145=\"\",\"\",IF(ROWS(BD!$1:8)>COUNTIFS(BD!$B:$B,$AG$145),\"\",INDEX(BD!$C$2:$C$138,SMALL(IF(BD!$B$2:$B$138=$AG$145,IF(BD!$B$2:$B$138=$AG$145,ROW(BD!$B$2:$B$138)-ROW(BD!$B$2)+1),FALSE),ROWS(BD!$1:8)))))","v":""},{"$f":"IF($AG$145=\"\",\"\",IF(ROWS(BD!$1:8)>COUNTIFS(BD!$B:$B,$AG$145),\"\",INDEX(BD!$E$2:$E$138,SMALL(IF(BD!$B$2:$B$138=$AG$145,IF(BD!$B$2:$B$138=$AG$145,ROW(BD!$B$2:$B$138)-ROW(BD!$B$2)+1),FALSE),ROWS(BD!$1:8)))))","v":""},{"$f":"IF($AG$145=\"\",\"\",IF(ROWS(BD!$1:8)>COUNTIFS(BD!$B:$B,$AG$145),\"\",INDEX(BD!$F$2:$F$138,SMALL(IF(BD!$B$2:$B$138=$AG$145,IF(BD!$B$2:$B$138=$AG$145,ROW(BD!$B$2:$B$138)-ROW(BD!$B$2)+1),FALSE),ROWS(BD!$1:8)))))","v":""},{"$f":"IF($AG$145=\"\",\"\",IF(ROWS(BD!$1:8)>COUNTIFS(BD!$B:$B,$AG$145),\"\",INDEX(BD!$G$2:$G$138,SMALL(IF(BD!$B$2:$B$138=$AG$145,IF(BD!$B$2:$B$138=$AG$145,ROW(BD!$B$2:$B$138)-ROW(BD!$B$2)+1),FALSE),ROWS(BD!$1:8)))))","v":""},{"$f":"IF($AG$145=\"\",\"\",IF(ROWS(BD!$1:8)>COUNTIFS(BD!$B:$B,$AG$145),\"\",INDEX(BD!$H$2:$H$138,SMALL(IF(BD!$B$2:$B$138=$AG$145,IF(BD!$B$2:$B$138=$AG$145,ROW(BD!$B$2:$B$138)-ROW(BD!$B$2)+1),FALSE),ROWS(BD!$1:8)))))","v":""},null,{"$f":"IF($AM$145=\"\",\"\",IF(ROWS(BD!$1:8)>COUNTIFS(BD!$B:$B,$AM$145),\"\",INDEX(BD!$C$2:$C$138,SMALL(IF(BD!$B$2:$B$138=$AM$145,IF(BD!$B$2:$B$138=$AM$145,ROW(BD!$B$2:$B$138)-ROW(BD!$B$2)+1),FALSE),ROWS(BD!$1:8)))))","v":""},{"$f":"IF($AM$145=\"\",\"\",IF(ROWS(BD!$1:8)>COUNTIFS(BD!$B:$B,$AM$145),\"\",INDEX(BD!$E$2:$E$138,SMALL(IF(BD!$B$2:$B$138=$AM$145,IF(BD!$B$2:$B$138=$AM$145,ROW(BD!$B$2:$B$138)-ROW(BD!$B$2)+1),FALSE),ROWS(BD!$1:8)))))","v":""},{"$f":"IF($AM$145=\"\",\"\",IF(ROWS(BD!$1:8)>COUNTIFS(BD!$B:$B,$AM$145),\"\",INDEX(BD!$F$2:$F$138,SMALL(IF(BD!$B$2:$B$138=$AM$145,IF(BD!$B$2:$B$138=$AM$145,ROW(BD!$B$2:$B$138)-ROW(BD!$B$2)+1),FALSE),ROWS(BD!$1:8)))))","v":""},{"$f":"IF($AM$145=\"\",\"\",IF(ROWS(BD!$1:8)>COUNTIFS(BD!$B:$B,$AM$145),\"\",INDEX(BD!$G$2:$G$138,SMALL(IF(BD!$B$2:$B$138=$AM$145,IF(BD!$B$2:$B$138=$AM$145,ROW(BD!$B$2:$B$138)-ROW(BD!$B$2)+1),FALSE),ROWS(BD!$1:8)))))","v":""},{"$f":"IF($AM$145=\"\",\"\",IF(ROWS(BD!$1:8)>COUNTIFS(BD!$B:$B,$AM$145),\"\",INDEX(BD!$H$2:$H$138,SMALL(IF(BD!$B$2:$B$138=$AM$145,IF(BD!$B$2:$B$138=$AM$145,ROW(BD!$B$2:$B$138)-ROW(BD!$B$2)+1),FALSE),ROWS(BD!$1:8)))))","v":""}]
[null,null,{"$f":"IF($C$145=\"\",\"\",IF(ROWS(BD!$1:9)>COUNTIFS(BD!$B:$B,$C$145),\"\",INDEX(BD!$C$2:$C$138,SMALL(IF(BD!$B$2:$B$138=$C$145,IF(BD!$B$2:$B$138=$C$145,ROW(BD!$B$2:$B$138)-ROW(BD!$B$2)+1),FALSE),ROWS(BD!$1:9)))))","v":""},{"$f":"IF($C$145=\"\",\"\",IF(ROWS(BD!$1:9)>COUNTIFS(BD!$B:$B,$C$145),\"\",INDEX(BD!$E$2:$E$138,SMALL(IF(BD!$B$2:$B$138=$C$145,IF(BD!$B$2:$B$138=$C$145,ROW(BD!$B$2:$B$138)-ROW(BD!$B$2)+1),FALSE),ROWS(BD!$1:9)))))","v":""},{"$f":"IF($C$145=\"\",\"\",IF(ROWS(BD!$1:9)>COUNTIFS(BD!$B:$B,$C$145),\"\",INDEX(BD!$F$2:$F$138,SMALL(IF(BD!$B$2:$B$138=$C$145,IF(BD!$B$2:$B$138=$C$145,ROW(BD!$B$2:$B$138)-ROW(BD!$B$2)+1),FALSE),ROWS(BD!$1:9)))))","v":""},{"$f":"IF($C$145=\"\",\"\",IF(ROWS(BD!$1:9)>COUNTIFS(BD!$B:$B,$C$145),\"\",INDEX(BD!$G$2:$G$138,SMALL(IF(BD!$B$2:$B$138=$C$145,IF(BD!$B$2:$B$138=$C$145,ROW(BD!$B$2:$B$138)-ROW(BD!$B$2)+1),FALSE),ROWS(BD!$1:9)))))","v":""},{"$f":"IF($C$145=\"\",\"\",IF(ROWS(BD!$1:9)>COUNTIFS(BD!$B:$B,$C$145),\"\",INDEX(BD!$H$2:$H$138,SMALL(IF(BD!$B$2:$B$138=$C$145,IF(BD!$B$2:$B$138=$C$145,ROW(BD!$B$2:$B$138)-ROW(BD!$B$2)+1),FALSE),ROWS(BD!$1:9)))))","v":""},null,{"$f":"IF($I$145=\"\",\"\",IF(ROWS(BD!$1:9)>COUNTIFS(BD!$B:$B,$I$145),\"\",INDEX(BD!$C$2:$C$138,SMALL(IF(BD!$B$2:$B$138=$I$145,IF(BD!$B$2:$B$138=$I$145,ROW(BD!$B$2:$B$138)-ROW(BD!$B$2)+1),FALSE),ROWS(BD!$1:9)))))","v":""},{"$f":"IF($I$145=\"\",\"\",IF(ROWS(BD!$1:9)>COUNTIFS(BD!$B:$B,$I$145),\"\",INDEX(BD!$E$2:$E$138,SMALL(IF(BD!$B$2:$B$138=$I$145,IF(BD!$B$2:$B$138=$I$145,ROW(BD!$B$2:$B$138)-ROW(BD!$B$2)+1),FALSE),ROWS(BD!$1:9)))))","v":""},{"$f":"IF($I$145=\"\",\"\",IF(ROWS(BD!$1:9)>COUNTIFS(BD!$B:$B,$I$145),\"\",INDEX(BD!$F$2:$F$138,SMALL(IF(BD!$B$2:$B$138=$I$145,IF(BD!$B$2:$B$138=$I$145,ROW(BD!$B$2:$B$138)-ROW(BD!$B$2)+1),FALSE),ROWS(BD!$1:9)))))","v":""},{"$f":"IF($I$145=\"\",\"\",IF(ROWS(BD!$1:9)>COUNTIFS(BD!$B:$B,$I$145),\"\",INDEX(BD!$G$2:$G$138,SMALL(IF(BD!$B$2:$B$138=$I$145,IF(BD!$B$2:$B$138=$I$145,ROW(BD!$B$2:$B$138)-ROW(BD!$B$2)+1),FALSE),ROWS(BD!$1:9)))))","v":""},{"$f":"IF($I$145=\"\",\"\",IF(ROWS(BD!$1:9)>COUNTIFS(BD!$B:$B,$I$145),\"\",INDEX(BD!$H$2:$H$138,SMALL(IF(BD!$B$2:$B$138=$I$145,IF(BD!$B$2:$B$138=$I$145,ROW(BD!$B$2:$B$138)-ROW(BD!$B$2)+1),FALSE),ROWS(BD!$1:9)))))","v":""},null,{"$f":"IF($O$145=\"\",\"\",IF(ROWS(BD!$1:9)>COUNTIFS(BD!$B:$B,$O$145),\"\",INDEX(BD!$C$2:$C$138,SMALL(IF(BD!$B$2:$B$138=$O$145,IF(BD!$B$2:$B$138=$O$145,ROW(BD!$B$2:$B$138)-ROW(BD!$B$2)+1),FALSE),ROWS(BD!$1:9)))))","v":""},{"$f":"IF($O$145=\"\",\"\",IF(ROWS(BD!$1:9)>COUNTIFS(BD!$B:$B,$O$145),\"\",INDEX(BD!$E$2:$E$138,SMALL(IF(BD!$B$2:$B$138=$O$145,IF(BD!$B$2:$B$138=$O$145,ROW(BD!$B$2:$B$138)-ROW(BD!$B$2)+1),FALSE),ROWS(BD!$1:9)))))","v":""},{"$f":"IF($O$145=\"\",\"\",IF(ROWS(BD!$1:9)>COUNTIFS(BD!$B:$B,$O$145),\"\",INDEX(BD!$F$2:$F$138,SMALL(IF(BD!$B$2:$B$138=$O$145,IF(BD!$B$2:$B$138=$O$145,ROW(BD!$B$2:$B$138)-ROW(BD!$B$2)+1),FALSE),ROWS(BD!$1:9)))))","v":""},{"$f":"IF($O$145=\"\",\"\",IF(ROWS(BD!$1:9)>COUNTIFS(BD!$B:$B,$O$145),\"\",INDEX(BD!$G$2:$G$138,SMALL(IF(BD!$B$2:$B$138=$O$145,IF(BD!$B$2:$B$138=$O$145,ROW(BD!$B$2:$B$138)-ROW(BD!$B$2)+1),FALSE),ROWS(BD!$1:9)))))","v":""},{"$f":"IF($O$145=\"\",\"\",IF(ROWS(BD!$1:9)>COUNTIFS(BD!$B:$B,$O$145),\"\",INDEX(BD!$H$2:$H$138,SMALL(IF(BD!$B$2:$B$138=$O$145,IF(BD!$B$2:$B$138=$O$145,ROW(BD!$B$2:$B$138)-ROW(BD!$B$2)+1),FALSE),ROWS(BD!$1:9)))))","v":""},null,{"$f":"IF($U$145=\"\",\"\",IF(ROWS(BD!$1:9)>COUNTIFS(BD!$B:$B,$U$145),\"\",INDEX(BD!$C$2:$C$138,SMALL(IF(BD!$B$2:$B$138=$U$145,IF(BD!$B$2:$B$138=$U$145,ROW(BD!$B$2:$B$138)-ROW(BD!$B$2)+1),FALSE),ROWS(BD!$1:9)))))","v":""},{"$f":"IF($U$145=\"\",\"\",IF(ROWS(BD!$1:9)>COUNTIFS(BD!$B:$B,$U$145),\"\",INDEX(BD!$E$2:$E$138,SMALL(IF(BD!$B$2:$B$138=$U$145,IF(BD!$B$2:$B$138=$U$145,ROW(BD!$B$2:$B$138)-ROW(BD!$B$2)+1),FALSE),ROWS(BD!$1:9)))))","v":""},{"$f":"IF($U$145=\"\",\"\",IF(ROWS(BD!$1:9)>COUNTIFS(BD!$B:$B,$U$145),\"\",INDEX(BD!$F$2:$F$138,SMALL(IF(BD!$B$2:$B$138=$U$145,IF(BD!$B$2:$B$138=$U$145,ROW(BD!$B$2:$B$138)-ROW(BD!$B$2)+1),FALSE),ROWS(BD!$1:9)))))","v":""},{"$f":"IF($U$145=\"\",\"\",IF(ROWS(BD!$1:9)>COUNTIFS(BD!$B:$B,$U$145),\"\",INDEX(BD!$G$2:$G$138,SMALL(IF(BD!$B$2:$B$138=$U$145,IF(BD!$B$2:$B$138=$U$145,ROW(BD!$B$2:$B$138)-ROW(BD!$B$2)+1),FALSE),ROWS(BD!$1:9)))))","v":""},{"$f":"IF($U$145=\"\",\"\",IF(ROWS(BD!$1:9)>COUNTIFS(BD!$B:$B,$U$145),\"\",INDEX(BD!$H$2:$H$138,SMALL(IF(BD!$B$2:$B$138=$U$145,IF(BD!$B$2:$B$138=$U$145,ROW(BD!$B$2:$B$138)-ROW(BD!$B$2)+1),FALSE),ROWS(BD!$1:9)))))","v":""},null,{"$f":"IF($AA$145=\"\",\"\",IF(ROWS(BD!$1:9)>COUNTIFS(BD!$B:$B,$AA$145),\"\",INDEX(BD!$C$2:$C$138,SMALL(IF(BD!$B$2:$B$138=$AA$145,IF(BD!$B$2:$B$138=$AA$145,ROW(BD!$B$2:$B$138)-ROW(BD!$B$2)+1),FALSE),ROWS(BD!$1:9)))))","v":""},{"$f":"IF($AA$145=\"\",\"\",IF(ROWS(BD!$1:9)>COUNTIFS(BD!$B:$B,$AA$145),\"\",INDEX(BD!$E$2:$E$138,SMALL(IF(BD!$B$2:$B$138=$AA$145,IF(BD!$B$2:$B$138=$AA$145,ROW(BD!$B$2:$B$138)-ROW(BD!$B$2)+1),FALSE),ROWS(BD!$1:9)))))","v":""},{"$f":"IF($AA$145=\"\",\"\",IF(ROWS(BD!$1:9)>COUNTIFS(BD!$B:$B,$AA$145),\"\",INDEX(BD!$F$2:$F$138,SMALL(IF(BD!$B$2:$B$138=$AA$145,IF(BD!$B$2:$B$138=$AA$145,ROW(BD!$B$2:$B$138)-ROW(BD!$B$2)+1),FALSE),ROWS(BD!$1:9)))))","v":""},{"$f":"IF($AA$145=\"\",\"\",IF(ROWS(BD!$1:9)>COUNTIFS(BD!$B:$B,$AA$145),\"\",INDEX(BD!$G$2:$G$138,SMALL(IF(BD!$B$2:$B$138=$AA$145,IF(BD!$B$2:$B$138=$AA$145,ROW(BD!$B$2:$B$138)-ROW(BD!$B$2)+1),FALSE),ROWS(BD!$1:9)))))","v":""},{"$f":"IF($AA$145=\"\",\"\",IF(ROWS(BD!$1:9)>COUNTIFS(BD!$B:$B,$AA$145),\"\",INDEX(BD!$H$2:$H$138,SMALL(IF(BD!$B$2:$B$138=$AA$145,IF(BD!$B$2:$B$138=$AA$145,ROW(BD!$B$2:$B$138)-ROW(BD!$B$2)+1),FALSE),ROWS(BD!$1:9)))))","v":""},null,{"$f":"IF($AG$145=\"\",\"\",IF(ROWS(BD!$1:9)>COUNTIFS(BD!$B:$B,$AG$145),\"\",INDEX(BD!$C$2:$C$138,SMALL(IF(BD!$B$2:$B$138=$AG$145,IF(BD!$B$2:$B$138=$AG$145,ROW(BD!$B$2:$B$138)-ROW(BD!$B$2)+1),FALSE),ROWS(BD!$1:9)))))","v":""},{"$f":"IF($AG$145=\"\",\"\",IF(ROWS(BD!$1:9)>COUNTIFS(BD!$B:$B,$AG$145),\"\",INDEX(BD!$E$2:$E$138,SMALL(IF(BD!$B$2:$B$138=$AG$145,IF(BD!$B$2:$B$138=$AG$145,ROW(BD!$B$2:$B$138)-ROW(BD!$B$2)+1),FALSE),ROWS(BD!$1:9)))))","v":""},{"$f":"IF($AG$145=\"\",\"\",IF(ROWS(BD!$1:9)>COUNTIFS(BD!$B:$B,$AG$145),\"\",INDEX(BD!$F$2:$F$138,SMALL(IF(BD!$B$2:$B$138=$AG$145,IF(BD!$B$2:$B$138=$AG$145,ROW(BD!$B$2:$B$138)-ROW(BD!$B$2)+1),FALSE),ROWS(BD!$1:9)))))","v":""},{"$f":"IF($AG$145=\"\",\"\",IF(ROWS(BD!$1:9)>COUNTIFS(BD!$B:$B,$AG$145),\"\",INDEX(BD!$G$2:$G$138,SMALL(IF(BD!$B$2:$B$138=$AG$145,IF(BD!$B$2:$B$138=$AG$145,ROW(BD!$B$2:$B$138)-ROW(BD!$B$2)+1),FALSE),ROWS(BD!$1:9)))))","v":""},{"$f":"IF($AG$145=\"\",\"\",IF(ROWS(BD!$1:9)>COUNTIFS(BD!$B:$B,$AG$145),\"\",INDEX(BD!$H$2:$H$138,SMALL(IF(BD!$B$2:$B$138=$AG$145,IF(BD!$B$2:$B$138=$AG$145,ROW(BD!$B$2:$B$138)-ROW(BD!$B$2)+1),FALSE),ROWS(BD!$1:9)))))","v":""},null,{"$f":"IF($AM$145=\"\",\"\",IF(ROWS(BD!$1:9)>COUNTIFS(BD!$B:$B,$AM$145),\"\",INDEX(BD!$C$2:$C$138,SMALL(IF(BD!$B$2:$B$138=$AM$145,IF(BD!$B$2:$B$138=$AM$145,ROW(BD!$B$2:$B$138)-ROW(BD!$B$2)+1),FALSE),ROWS(BD!$1:9)))))","v":""},{"$f":"IF($AM$145=\"\",\"\",IF(ROWS(BD!$1:9)>COUNTIFS(BD!$B:$B,$AM$145),\"\",INDEX(BD!$E$2:$E$138,SMALL(IF(BD!$B$2:$B$138=$AM$145,IF(BD!$B$2:$B$138=$AM$145,ROW(BD!$B$2:$B$138)-ROW(BD!$B$2)+1),FALSE),ROWS(BD!$1:9)))))","v":""},{"$f":"IF($AM$145=\"\",\"\",IF(ROWS(BD!$1:9)>COUNTIFS(BD!$B:$B,$AM$145),\"\",INDEX(BD!$F$2:$F$138,SMALL(IF(BD!$B$2:$B$138=$AM$145,IF(BD!$B$2:$B$138=$AM$145,ROW(BD!$B$2:$B$138)-ROW(BD!$B$2)+1),FALSE),ROWS(BD!$1:9)))))","v":""},{"$f":"IF($AM$145=\"\",\"\",IF(ROWS(BD!$1:9)>COUNTIFS(BD!$B:$B,$AM$145),\"\",INDEX(BD!$G$2:$G$138,SMALL(IF(BD!$B$2:$B$138=$AM$145,IF(BD!$B$2:$B$138=$AM$145,ROW(BD!$B$2:$B$138)-ROW(BD!$B$2)+1),FALSE),ROWS(BD!$1:9)))))","v":""},{"$f":"IF($AM$145=\"\",\"\",IF(ROWS(BD!$1:9)>COUNTIFS(BD!$B:$B,$AM$145),\"\",INDEX(BD!$H$2:$H$138,SMALL(IF(BD!$B$2:$B$138=$AM$145,IF(BD!$B$2:$B$138=$AM$145,ROW(BD!$B$2:$B$138)-ROW(BD!$B$2)+1),FALSE),ROWS(BD!$1:9)))))","v":""}]
[null,null,{"$f":"IF($C$145=\"\",\"\",IF(ROWS(BD!$1:10)>COUNTIFS(BD!$B:$B,$C$145),\"\",INDEX(BD!$C$2:$C$138,SMALL(IF(BD!$B$2:$B$138=$C$145,IF(BD!$B$2:$B$138=$C$145,ROW(BD!$B$2:$B$138)-ROW(BD!$B$2)+1),FALSE),ROWS(BD!$1:10)))))","v":""},{"$f":"IF($C$145=\"\",\"\",IF(ROWS(BD!$1:10)>COUNTIFS(BD!$B:$B,$C$145),\"\",INDEX(BD!$E$2:$E$138,SMALL(IF(BD!$B$2:$B$138=$C$145,IF(BD!$B$2:$B$138=$C$145,ROW(BD!$B$2:$B$138)-ROW(BD!$B$2)+1),FALSE),ROWS(BD!$1:10)))))","v":""},{"$f":"IF($C$145=\"\",\"\",IF(ROWS(BD!$1:10)>COUNTIFS(BD!$B:$B,$C$145),\"\",INDEX(BD!$F$2:$F$138,SMALL(IF(BD!$B$2:$B$138=$C$145,IF(BD!$B$2:$B$138=$C$145,ROW(BD!$B$2:$B$138)-ROW(BD!$B$2)+1),FALSE),ROWS(BD!$1:10)))))","v":""},{"$f":"IF($C$145=\"\",\"\",IF(ROWS(BD!$1:10)>COUNTIFS(BD!$B:$B,$C$145),\"\",INDEX(BD!$G$2:$G$138,SMALL(IF(BD!$B$2:$B$138=$C$145,IF(BD!$B$2:$B$138=$C$145,ROW(BD!$B$2:$B$138)-ROW(BD!$B$2)+1),FALSE),ROWS(BD!$1:10)))))","v":""},{"$f":"IF($C$145=\"\",\"\",IF(ROWS(BD!$1:10)>COUNTIFS(BD!$B:$B,$C$145),\"\",INDEX(BD!$H$2:$H$138,SMALL(IF(BD!$B$2:$B$138=$C$145,IF(BD!$B$2:$B$138=$C$145,ROW(BD!$B$2:$B$138)-ROW(BD!$B$2)+1),FALSE),ROWS(BD!$1:10)))))","v":""},null,{"$f":"IF($I$145=\"\",\"\",IF(ROWS(BD!$1:10)>COUNTIFS(BD!$B:$B,$I$145),\"\",INDEX(BD!$C$2:$C$138,SMALL(IF(BD!$B$2:$B$138=$I$145,IF(BD!$B$2:$B$138=$I$145,ROW(BD!$B$2:$B$138)-ROW(BD!$B$2)+1),FALSE),ROWS(BD!$1:10)))))","v":""},{"$f":"IF($I$145=\"\",\"\",IF(ROWS(BD!$1:10)>COUNTIFS(BD!$B:$B,$I$145),\"\",INDEX(BD!$E$2:$E$138,SMALL(IF(BD!$B$2:$B$138=$I$145,IF(BD!$B$2:$B$138=$I$145,ROW(BD!$B$2:$B$138)-ROW(BD!$B$2)+1),FALSE),ROWS(BD!$1:10)))))","v":""},{"$f":"IF($I$145=\"\",\"\",IF(ROWS(BD!$1:10)>COUNTIFS(BD!$B:$B,$I$145),\"\",INDEX(BD!$F$2:$F$138,SMALL(IF(BD!$B$2:$B$138=$I$145,IF(BD!$B$2:$B$138=$I$145,ROW(BD!$B$2:$B$138)-ROW(BD!$B$2)+1),FALSE),ROWS(BD!$1:10)))))","v":""},{"$f":"IF($I$145=\"\",\"\",IF(ROWS(BD!$1:10)>COUNTIFS(BD!$B:$B,$I$145),\"\",INDEX(BD!$G$2:$G$138,SMALL(IF(BD!$B$2:$B$138=$I$145,IF(BD!$B$2:$B$138=$I$145,ROW(BD!$B$2:$B$138)-ROW(BD!$B$2)+1),FALSE),ROWS(BD!$1:10)))))","v":""},{"$f":"IF($I$145=\"\",\"\",IF(ROWS(BD!$1:10)>COUNTIFS(BD!$B:$B,$I$145),\"\",INDEX(BD!$H$2:$H$138,SMALL(IF(BD!$B$2:$B$138=$I$145,IF(BD!$B$2:$B$138=$I$145,ROW(BD!$B$2:$B$138)-ROW(BD!$B$2)+1),FALSE),ROWS(BD!$1:10)))))","v":""},null,{"$f":"IF($O$145=\"\",\"\",IF(ROWS(BD!$1:10)>COUNTIFS(BD!$B:$B,$O$145),\"\",INDEX(BD!$C$2:$C$138,SMALL(IF(BD!$B$2:$B$138=$O$145,IF(BD!$B$2:$B$138=$O$145,ROW(BD!$B$2:$B$138)-ROW(BD!$B$2)+1),FALSE),ROWS(BD!$1:10)))))","v":""},{"$f":"IF($O$145=\"\",\"\",IF(ROWS(BD!$1:10)>COUNTIFS(BD!$B:$B,$O$145),\"\",INDEX(BD!$E$2:$E$138,SMALL(IF(BD!$B$2:$B$138=$O$145,IF(BD!$B$2:$B$138=$O$145,ROW(BD!$B$2:$B$138)-ROW(BD!$B$2)+1),FALSE),ROWS(BD!$1:10)))))","v":""},{"$f":"IF($O$145=\"\",\"\",IF(ROWS(BD!$1:10)>COUNTIFS(BD!$B:$B,$O$145),\"\",INDEX(BD!$F$2:$F$138,SMALL(IF(BD!$B$2:$B$138=$O$145,IF(BD!$B$2:$B$138=$O$145,ROW(BD!$B$2:$B$138)-ROW(BD!$B$2)+1),FALSE),ROWS(BD!$1:10)))))","v":""},{"$f":"IF($O$145=\"\",\"\",IF(ROWS(BD!$1:10)>COUNTIFS(BD!$B:$B,$O$145),\"\",INDEX(BD!$G$2:$G$138,SMALL(IF(BD!$B$2:$B$138=$O$145,IF(BD!$B$2:$B$138=$O$145,ROW(BD!$B$2:$B$138)-ROW(BD!$B$2)+1),FALSE),ROWS(BD!$1:10)))))","v":""},{"$f":"IF($O$145=\"\",\"\",IF(ROWS(BD!$1:10)>COUNTIFS(BD!$B:$B,$O$145),\"\",INDEX(BD!$H$2:$H$138,SMALL(IF(BD!$B$2:$B$138=$O$145,IF(BD!$B$2:$B$138=$O$145,ROW(BD!$B$2:$B$138)-ROW(BD!$B$2)+1),FALSE),ROWS(BD!$1:10)))))","v":""},null,{"$f":"IF($U$145=\"\",\"\",IF(ROWS(BD!$1:10)>COUNTIFS(BD!$B:$B,$U$145),\"\",INDEX(BD!$C$2:$C$138,SMALL(IF(BD!$B$2:$B$138=$U$145,IF(BD!$B$2:$B$138=$U$145,ROW(BD!$B$2:$B$138)-ROW(BD!$B$2)+1),FALSE),ROWS(BD!$1:10)))))","v":""},{"$f":"IF($U$145=\"\",\"\",IF(ROWS(BD!$1:10)>COUNTIFS(BD!$B:$B,$U$145),\"\",INDEX(BD!$E$2:$E$138,SMALL(IF(BD!$B$2:$B$138=$U$145,IF(BD!$B$2:$B$138=$U$145,ROW(BD!$B$2:$B$138)-ROW(BD!$B$2)+1),FALSE),ROWS(BD!$1:10)))))","v":""},{"$f":"IF($U$145=\"\",\"\",IF(ROWS(BD!$1:10)>COUNTIFS(BD!$B:$B,$U$145),\"\",INDEX(BD!$F$2:$F$138,SMALL(IF(BD!$B$2:$B$138=$U$145,IF(BD!$B$2:$B$138=$U$145,ROW(BD!$B$2:$B$138)-ROW(BD!$B$2)+1),FALSE),ROWS(BD!$1:10)))))","v":""},{"$f":"IF($U$145=\"\",\"\",IF(ROWS(BD!$1:10)>COUNTIFS(BD!$B:$B,$U$145),\"\",INDEX(BD!$G$2:$G$138,SMALL(IF(BD!$B$2:$B$138=$U$145,IF(BD!$B$2:$B$138=$U$145,ROW(BD!$B$2:$B$138)-ROW(BD!$B$2)+1),FALSE),ROWS(BD!$1:10)))))","v":""},{"$f":"IF($U$145=\"\",\"\",IF(ROWS(BD!$1:10)>COUNTIFS(BD!$B:$B,$U$145),\"\",INDEX(BD!$H$2:$H$138,SMALL(IF(BD!$B$2:$B$138=$U$145,IF(BD!$B$2:$B$138=$U$145,ROW(BD!$B$2:$B$138)-ROW(BD!$B$2)+1),FALSE),ROWS(BD!$1:10)))))","v":""},null,{"$f":"IF($AA$145=\"\",\"\",IF(ROWS(BD!$1:10)>COUNTIFS(BD!$B:$B,$AA$145),\"\",INDEX(BD!$C$2:$C$138,SMALL(IF(BD!$B$2:$B$138=$AA$145,IF(BD!$B$2:$B$138=$AA$145,ROW(BD!$B$2:$B$138)-ROW(BD!$B$2)+1),FALSE),ROWS(BD!$1:10)))))","v":""},{"$f":"IF($AA$145=\"\",\"\",IF(ROWS(BD!$1:10)>COUNTIFS(BD!$B:$B,$AA$145),\"\",INDEX(BD!$E$2:$E$138,SMALL(IF(BD!$B$2:$B$138=$AA$145,IF(BD!$B$2:$B$138=$AA$145,ROW(BD!$B$2:$B$138)-ROW(BD!$B$2)+1),FALSE),ROWS(BD!$1:10)))))","v":""},{"$f":"IF($AA$145=\"\",\"\",IF(ROWS(BD!$1:10)>COUNTIFS(BD!$B:$B,$AA$145),\"\",INDEX(BD!$F$2:$F$138,SMALL(IF(BD!$B$2:$B$138=$AA$145,IF(BD!$B$2:$B$138=$AA$145,ROW(BD!$B$2:$B$138)-ROW(BD!$B$2)+1),FALSE),ROWS(BD!$1:10)))))","v":""},{"$f":"IF($AA$145=\"\",\"\",IF(ROWS(BD!$1:10)>COUNTIFS(BD!$B:$B,$AA$145),\"\",INDEX(BD!$G$2:$G$138,SMALL(IF(BD!$B$2:$B$138=$AA$145,IF(BD!$B$2:$B$138=$AA$145,ROW(BD!$B$2:$B$138)-ROW(BD!$B$2)+1),FALSE),ROWS(BD!$1:10)))))","v":""},{"$f":"IF($AA$145=\"\",\"\",IF(ROWS(BD!$1:10)>COUNTIFS(BD!$B:$B,$AA$145),\"\",INDEX(BD!$H$2:$H$138,SMALL(IF(BD!$B$2:$B$138=$AA$145,IF(BD!$B$2:$B$138=$AA$145,ROW(BD!$B$2:$B$138)-ROW(BD!$B$2)+1),FALSE),ROWS(BD!$1:10)))))","v":""},null,{"$f":"IF($AG$145=\"\",\"\",IF(ROWS(BD!$1:10)>COUNTIFS(BD!$B:$B,$AG$145),\"\",INDEX(BD!$C$2:$C$138,SMALL(IF(BD!$B$2:$B$138=$AG$145,IF(BD!$B$2:$B$138=$AG$145,ROW(BD!$B$2:$B$138)-ROW(BD!$B$2)+1),FALSE),ROWS(BD!$1:10)))))","v":""},{"$f":"IF($AG$145=\"\",\"\",IF(ROWS(BD!$1:10)>COUNTIFS(BD!$B:$B,$AG$145),\"\",INDEX(BD!$E$2:$E$138,SMALL(IF(BD!$B$2:$B$138=$AG$145,IF(BD!$B$2:$B$138=$AG$145,ROW(BD!$B$2:$B$138)-ROW(BD!$B$2)+1),FALSE),ROWS(BD!$1:10)))))","v":""},{"$f":"IF($AG$145=\"\",\"\",IF(ROWS(BD!$1:10)>COUNTIFS(BD!$B:$B,$AG$145),\"\",INDEX(BD!$F$2:$F$138,SMALL(IF(BD!$B$2:$B$138=$AG$145,IF(BD!$B$2:$B$138=$AG$145,ROW(BD!$B$2:$B$138)-ROW(BD!$B$2)+1),FALSE),ROWS(BD!$1:10)))))","v":""},{"$f":"IF($AG$145=\"\",\"\",IF(ROWS(BD!$1:10)>COUNTIFS(BD!$B:$B,$AG$145),\"\",INDEX(BD!$G$2:$G$138,SMALL(IF(BD!$B$2:$B$138=$AG$145,IF(BD!$B$2:$B$138=$AG$145,ROW(BD!$B$2:$B$138)-ROW(BD!$B$2)+1),FALSE),ROWS(BD!$1:10)))))","v":""},{"$f":"IF($AG$145=\"\",\"\",IF(ROWS(BD!$1:10)>COUNTIFS(BD!$B:$B,$AG$145),\"\",INDEX(BD!$H$2:$H$138,SMALL(IF(BD!$B$2:$B$138=$AG$145,IF(BD!$B$2:$B$138=$AG$145,ROW(BD!$B$2:$B$138)-ROW(BD!$B$2)+1),FALSE),ROWS(BD!$1:10)))))","v":""},null,{"$f":"IF($AM$145=\"\",\"\",IF(ROWS(BD!$1:10)>COUNTIFS(BD!$B:$B,$AM$145),\"\",INDEX(BD!$C$2:$C$138,SMALL(IF(BD!$B$2:$B$138=$AM$145,IF(BD!$B$2:$B$138=$AM$145,ROW(BD!$B$2:$B$138)-ROW(BD!$B$2)+1),FALSE),ROWS(BD!$1:10)))))","v":""},{"$f":"IF($AM$145=\"\",\"\",IF(ROWS(BD!$1:10)>COUNTIFS(BD!$B:$B,$AM$145),\"\",INDEX(BD!$E$2:$E$138,SMALL(IF(BD!$B$2:$B$138=$AM$145,IF(BD!$B$2:$B$138=$AM$145,ROW(BD!$B$2:$B$138)-ROW(BD!$B$2)+1),FALSE),ROWS(BD!$1:10)))))","v":""},{"$f":"IF($AM$145=\"\",\"\",IF(ROWS(BD!$1:10)>COUNTIFS(BD!$B:$B,$AM$145),\"\",INDEX(BD!$F$2:$F$138,SMALL(IF(BD!$B$2:$B$138=$AM$145,IF(BD!$B$2:$B$138=$AM$145,ROW(BD!$B$2:$B$138)-ROW(BD!$B$2)+1),FALSE),ROWS(BD!$1:10)))))","v":""},{"$f":"IF($AM$145=\"\",\"\",IF(ROWS(BD!$1:10)>COUNTIFS(BD!$B:$B,$AM$145),\"\",INDEX(BD!$G$2:$G$138,SMALL(IF(BD!$B$2:$B$138=$AM$145,IF(BD!$B$2:$B$138=$AM$145,ROW(BD!$B$2:$B$138)-ROW(BD!$B$2)+1),FALSE),ROWS(BD!$1:10)))))","v":""},{"$f":"IF($AM$145=\"\",\"\",IF(ROWS(BD!$1:10)>COUNTIFS(BD!$B:$B,$AM$145),\"\",INDEX(BD!$H$2:$H$138,SMALL(IF(BD!$B$2:$B$138=$AM$145,IF(BD!$B$2:$B$138=$AM$145,ROW(BD!$B$2:$B$138)-ROW(BD!$B$2)+1),FALSE),ROWS(BD!$1:10)))))","v":""}]
[null,null,{"$f":"IF($C$145=\"\",\"\",IF(ROWS(BD!$1:11)>COUNTIFS(BD!$B:$B,$C$145),\"\",INDEX(BD!$C$2:$C$138,SMALL(IF(BD!$B$2:$B$138=$C$145,IF(BD!$B$2:$B$138=$C$145,ROW(BD!$B$2:$B$138)-ROW(BD!$B$2)+1),FALSE),ROWS(BD!$1:11)))))","v":""},{"$f":"IF($C$145=\"\",\"\",IF(ROWS(BD!$1:11)>COUNTIFS(BD!$B:$B,$C$145),\"\",INDEX(BD!$E$2:$E$138,SMALL(IF(BD!$B$2:$B$138=$C$145,IF(BD!$B$2:$B$138=$C$145,ROW(BD!$B$2:$B$138)-ROW(BD!$B$2)+1),FALSE),ROWS(BD!$1:11)))))","v":""},{"$f":"IF($C$145=\"\",\"\",IF(ROWS(BD!$1:11)>COUNTIFS(BD!$B:$B,$C$145),\"\",INDEX(BD!$F$2:$F$138,SMALL(IF(BD!$B$2:$B$138=$C$145,IF(BD!$B$2:$B$138=$C$145,ROW(BD!$B$2:$B$138)-ROW(BD!$B$2)+1),FALSE),ROWS(BD!$1:11)))))","v":""},{"$f":"IF($C$145=\"\",\"\",IF(ROWS(BD!$1:11)>COUNTIFS(BD!$B:$B,$C$145),\"\",INDEX(BD!$G$2:$G$138,SMALL(IF(BD!$B$2:$B$138=$C$145,IF(BD!$B$2:$B$138=$C$145,ROW(BD!$B$2:$B$138)-ROW(BD!$B$2)+1),FALSE),ROWS(BD!$1:11)))))","v":""},{"$f":"IF($C$145=\"\",\"\",IF(ROWS(BD!$1:11)>COUNTIFS(BD!$B:$B,$C$145),\"\",INDEX(BD!$H$2:$H$138,SMALL(IF(BD!$B$2:$B$138=$C$145,IF(BD!$B$2:$B$138=$C$145,ROW(BD!$B$2:$B$138)-ROW(BD!$B$2)+1),FALSE),ROWS(BD!$1:11)))))","v":""},null,{"$f":"IF($I$145=\"\",\"\",IF(ROWS(BD!$1:11)>COUNTIFS(BD!$B:$B,$I$145),\"\",INDEX(BD!$C$2:$C$138,SMALL(IF(BD!$B$2:$B$138=$I$145,IF(BD!$B$2:$B$138=$I$145,ROW(BD!$B$2:$B$138)-ROW(BD!$B$2)+1),FALSE),ROWS(BD!$1:11)))))","v":""},{"$f":"IF($I$145=\"\",\"\",IF(ROWS(BD!$1:11)>COUNTIFS(BD!$B:$B,$I$145),\"\",INDEX(BD!$E$2:$E$138,SMALL(IF(BD!$B$2:$B$138=$I$145,IF(BD!$B$2:$B$138=$I$145,ROW(BD!$B$2:$B$138)-ROW(BD!$B$2)+1),FALSE),ROWS(BD!$1:11)))))","v":""},{"$f":"IF($I$145=\"\",\"\",IF(ROWS(BD!$1:11)>COUNTIFS(BD!$B:$B,$I$145),\"\",INDEX(BD!$F$2:$F$138,SMALL(IF(BD!$B$2:$B$138=$I$145,IF(BD!$B$2:$B$138=$I$145,ROW(BD!$B$2:$B$138)-ROW(BD!$B$2)+1),FALSE),ROWS(BD!$1:11)))))","v":""},{"$f":"IF($I$145=\"\",\"\",IF(ROWS(BD!$1:11)>COUNTIFS(BD!$B:$B,$I$145),\"\",INDEX(BD!$G$2:$G$138,SMALL(IF(BD!$B$2:$B$138=$I$145,IF(BD!$B$2:$B$138=$I$145,ROW(BD!$B$2:$B$138)-ROW(BD!$B$2)+1),FALSE),ROWS(BD!$1:11)))))","v":""},{"$f":"IF($I$145=\"\",\"\",IF(ROWS(BD!$1:11)>COUNTIFS(BD!$B:$B,$I$145),\"\",INDEX(BD!$H$2:$H$138,SMALL(IF(BD!$B$2:$B$138=$I$145,IF(BD!$B$2:$B$138=$I$145,ROW(BD!$B$2:$B$138)-ROW(BD!$B$2)+1),FALSE),ROWS(BD!$1:11)))))","v":""},null,{"$f":"IF($O$145=\"\",\"\",IF(ROWS(BD!$1:11)>COUNTIFS(BD!$B:$B,$O$145),\"\",INDEX(BD!$C$2:$C$138,SMALL(IF(BD!$B$2:$B$138=$O$145,IF(BD!$B$2:$B$138=$O$145,ROW(BD!$B$2:$B$138)-ROW(BD!$B$2)+1),FALSE),ROWS(BD!$1:11)))))","v":""},{"$f":"IF($O$145=\"\",\"\",IF(ROWS(BD!$1:11)>COUNTIFS(BD!$B:$B,$O$145),\"\",INDEX(BD!$E$2:$E$138,SMALL(IF(BD!$B$2:$B$138=$O$145,IF(BD!$B$2:$B$138=$O$145,ROW(BD!$B$2:$B$138)-ROW(BD!$B$2)+1),FALSE),ROWS(BD!$1:11)))))","v":""},{"$f":"IF($O$145=\"\",\"\",IF(ROWS(BD!$1:11)>COUNTIFS(BD!$B:$B,$O$145),\"\",INDEX(BD!$F$2:$F$138,SMALL(IF(BD!$B$2:$B$138=$O$145,IF(BD!$B$2:$B$138=$O$145,ROW(BD!$B$2:$B$138)-ROW(BD!$B$2)+1),FALSE),ROWS(BD!$1:11)))))","v":""},{"$f":"IF($O$145=\"\",\"\",IF(ROWS(BD!$1:11)>COUNTIFS(BD!$B:$B,$O$145),\"\",INDEX(BD!$G$2:$G$138,SMALL(IF(BD!$B$2:$B$138=$O$145,IF(BD!$B$2:$B$138=$O$145,ROW(BD!$B$2:$B$138)-ROW(BD!$B$2)+1),FALSE),ROWS(BD!$1:11)))))","v":""},{"$f":"IF($O$145=\"\",\"\",IF(ROWS(BD!$1:11)>COUNTIFS(BD!$B:$B,$O$145),\"\",INDEX(BD!$H$2:$H$138,SMALL(IF(BD!$B$2:$B$138=$O$145,IF(BD!$B$2:$B$138=$O$145,ROW(BD!$B$2:$B$138)-ROW(BD!$B$2)+1),FALSE),ROWS(BD!$1:11)))))","v":""},null,{"$f":"IF($U$145=\"\",\"\",IF(ROWS(BD!$1:11)>COUNTIFS(BD!$B:$B,$U$145),\"\",INDEX(BD!$C$2:$C$138,SMALL(IF(BD!$B$2:$B$138=$U$145,IF(BD!$B$2:$B$138=$U$145,ROW(BD!$B$2:$B$138)-ROW(BD!$B$2)+1),FALSE),ROWS(BD!$1:11)))))","v":""},{"$f":"IF($U$145=\"\",\"\",IF(ROWS(BD!$1:11)>COUNTIFS(BD!$B:$B,$U$145),\"\",INDEX(BD!$E$2:$E$138,SMALL(IF(BD!$B$2:$B$138=$U$145,IF(BD!$B$2:$B$138=$U$145,ROW(BD!$B$2:$B$138)-ROW(BD!$B$2)+1),FALSE),ROWS(BD!$1:11)))))","v":""},{"$f":"IF($U$145=\"\",\"\",IF(ROWS(BD!$1:11)>COUNTIFS(BD!$B:$B,$U$145),\"\",INDEX(BD!$F$2:$F$138,SMALL(IF(BD!$B$2:$B$138=$U$145,IF(BD!$B$2:$B$138=$U$145,ROW(BD!$B$2:$B$138)-ROW(BD!$B$2)+1),FALSE),ROWS(BD!$1:11)))))","v":""},{"$f":"IF($U$145=\"\",\"\",IF(ROWS(BD!$1:11)>COUNTIFS(BD!$B:$B,$U$145),\"\",INDEX(BD!$G$2:$G$138,SMALL(IF(BD!$B$2:$B$138=$U$145,IF(BD!$B$2:$B$138=$U$145,ROW(BD!$B$2:$B$138)-ROW(BD!$B$2)+1),FALSE),ROWS(BD!$1:11)))))","v":""},{"$f":"IF($U$145=\"\",\"\",IF(ROWS(BD!$1:11)>COUNTIFS(BD!$B:$B,$U$145),\"\",INDEX(BD!$H$2:$H$138,SMALL(IF(BD!$B$2:$B$138=$U$145,IF(BD!$B$2:$B$138=$U$145,ROW(BD!$B$2:$B$138)-ROW(BD!$B$2)+1),FALSE),ROWS(BD!$1:11)))))","v":""},null,{"$f":"IF($AA$145=\"\",\"\",IF(ROWS(BD!$1:11)>COUNTIFS(BD!$B:$B,$AA$145),\"\",INDEX(BD!$C$2:$C$138,SMALL(IF(BD!$B$2:$B$138=$AA$145,IF(BD!$B$2:$B$138=$AA$145,ROW(BD!$B$2:$B$138)-ROW(BD!$B$2)+1),FALSE),ROWS(BD!$1:11)))))","v":""},{"$f":"IF($AA$145=\"\",\"\",IF(ROWS(BD!$1:11)>COUNTIFS(BD!$B:$B,$AA$145),\"\",INDEX(BD!$E$2:$E$138,SMALL(IF(BD!$B$2:$B$138=$AA$145,IF(BD!$B$2:$B$138=$AA$145,ROW(BD!$B$2:$B$138)-ROW(BD!$B$2)+1),FALSE),ROWS(BD!$1:11)))))","v":""},{"$f":"IF($AA$145=\"\",\"\",IF(ROWS(BD!$1:11)>COUNTIFS(BD!$B:$B,$AA$145),\"\",INDEX(BD!$F$2:$F$138,SMALL(IF(BD!$B$2:$B$138=$AA$145,IF(BD!$B$2:$B$138=$AA$145,ROW(BD!$B$2:$B$138)-ROW(BD!$B$2)+1),FALSE),ROWS(BD!$1:11)))))","v":""},{"$f":"IF($AA$145=\"\",\"\",IF(ROWS(BD!$1:11)>COUNTIFS(BD!$B:$B,$AA$145),\"\",INDEX(BD!$G$2:$G$138,SMALL(IF(BD!$B$2:$B$138=$AA$145,IF(BD!$B$2:$B$138=$AA$145,ROW(BD!$B$2:$B$138)-ROW(BD!$B$2)+1),FALSE),ROWS(BD!$1:11)))))","v":""},{"$f":"IF($AA$145=\"\",\"\",IF(ROWS(BD!$1:11)>COUNTIFS(BD!$B:$B,$AA$145),\"\",INDEX(BD!$H$2:$H$138,SMALL(IF(BD!$B$2:$B$138=$AA$145,IF(BD!$B$2:$B$138=$AA$145,ROW(BD!$B$2:$B$138)-ROW(BD!$B$2)+1),FALSE),ROWS(BD!$1:11)))))","v":""},null,{"$f":"IF($AG$145=\"\",\"\",IF(ROWS(BD!$1:11)>COUNTIFS(BD!$B:$B,$AG$145),\"\",INDEX(BD!$C$2:$C$138,SMALL(IF(BD!$B$2:$B$138=$AG$145,IF(BD!$B$2:$B$138=$AG$145,ROW(BD!$B$2:$B$138)-ROW(BD!$B$2)+1),FALSE),ROWS(BD!$1:11)))))","v":""},{"$f":"IF($AG$145=\"\",\"\",IF(ROWS(BD!$1:11)>COUNTIFS(BD!$B:$B,$AG$145),\"\",INDEX(BD!$E$2:$E$138,SMALL(IF(BD!$B$2:$B$138=$AG$145,IF(BD!$B$2:$B$138=$AG$145,ROW(BD!$B$2:$B$138)-ROW(BD!$B$2)+1),FALSE),ROWS(BD!$1:11)))))","v":""},{"$f":"IF($AG$145=\"\",\"\",IF(ROWS(BD!$1:11)>COUNTIFS(BD!$B:$B,$AG$145),\"\",INDEX(BD!$F$2:$F$138,SMALL(IF(BD!$B$2:$B$138=$AG$145,IF(BD!$B$2:$B$138=$AG$145,ROW(BD!$B$2:$B$138)-ROW(BD!$B$2)+1),FALSE),ROWS(BD!$1:11)))))","v":""},{"$f":"IF($AG$145=\"\",\"\",IF(ROWS(BD!$1:11)>COUNTIFS(BD!$B:$B,$AG$145),\"\",INDEX(BD!$G$2:$G$138,SMALL(IF(BD!$B$2:$B$138=$AG$145,IF(BD!$B$2:$B$138=$AG$145,ROW(BD!$B$2:$B$138)-ROW(BD!$B$2)+1),FALSE),ROWS(BD!$1:11)))))","v":""},{"$f":"IF($AG$145=\"\",\"\",IF(ROWS(BD!$1:11)>COUNTIFS(BD!$B:$B,$AG$145),\"\",INDEX(BD!$H$2:$H$138,SMALL(IF(BD!$B$2:$B$138=$AG$145,IF(BD!$B$2:$B$138=$AG$145,ROW(BD!$B$2:$B$138)-ROW(BD!$B$2)+1),FALSE),ROWS(BD!$1:11)))))","v":""},null,{"$f":"IF($AM$145=\"\",\"\",IF(ROWS(BD!$1:11)>COUNTIFS(BD!$B:$B,$AM$145),\"\",INDEX(BD!$C$2:$C$138,SMALL(IF(BD!$B$2:$B$138=$AM$145,IF(BD!$B$2:$B$138=$AM$145,ROW(BD!$B$2:$B$138)-ROW(BD!$B$2)+1),FALSE),ROWS(BD!$1:11)))))","v":""},{"$f":"IF($AM$145=\"\",\"\",IF(ROWS(BD!$1:11)>COUNTIFS(BD!$B:$B,$AM$145),\"\",INDEX(BD!$E$2:$E$138,SMALL(IF(BD!$B$2:$B$138=$AM$145,IF(BD!$B$2:$B$138=$AM$145,ROW(BD!$B$2:$B$138)-ROW(BD!$B$2)+1),FALSE),ROWS(BD!$1:11)))))","v":""},{"$f":"IF($AM$145=\"\",\"\",IF(ROWS(BD!$1:11)>COUNTIFS(BD!$B:$B,$AM$145),\"\",INDEX(BD!$F$2:$F$138,SMALL(IF(BD!$B$2:$B$138=$AM$145,IF(BD!$B$2:$B$138=$AM$145,ROW(BD!$B$2:$B$138)-ROW(BD!$B$2)+1),FALSE),ROWS(BD!$1:11)))))","v":""},{"$f":"IF($AM$145=\"\",\"\",IF(ROWS(BD!$1:11)>COUNTIFS(BD!$B:$B,$AM$145),\"\",INDEX(BD!$G$2:$G$138,SMALL(IF(BD!$B$2:$B$138=$AM$145,IF(BD!$B$2:$B$138=$AM$145,ROW(BD!$B$2:$B$138)-ROW(BD!$B$2)+1),FALSE),ROWS(BD!$1:11)))))","v":""},{"$f":"IF($AM$145=\"\",\"\",IF(ROWS(BD!$1:11)>COUNTIFS(BD!$B:$B,$AM$145),\"\",INDEX(BD!$H$2:$H$138,SMALL(IF(BD!$B$2:$B$138=$AM$145,IF(BD!$B$2:$B$138=$AM$145,ROW(BD!$B$2:$B$138)-ROW(BD!$B$2)+1),FALSE),ROWS(BD!$1:11)))))","v":""}]
[null,null,{"$f":"IF($C$145=\"\",\"\",IF(ROWS(BD!$1:12)>COUNTIFS(BD!$B:$B,$C$145),\"\",INDEX(BD!$C$2:$C$138,SMALL(IF(BD!$B$2:$B$138=$C$145,IF(BD!$B$2:$B$138=$C$145,ROW(BD!$B$2:$B$138)-ROW(BD!$B$2)+1),FALSE),ROWS(BD!$1:12)))))","v":""},{"$f":"IF($C$145=\"\",\"\",IF(ROWS(BD!$1:12)>COUNTIFS(BD!$B:$B,$C$145),\"\",INDEX(BD!$E$2:$E$138,SMALL(IF(BD!$B$2:$B$138=$C$145,IF(BD!$B$2:$B$138=$C$145,ROW(BD!$B$2:$B$138)-ROW(BD!$B$2)+1),FALSE),ROWS(BD!$1:12)))))","v":""},{"$f":"IF($C$145=\"\",\"\",IF(ROWS(BD!$1:12)>COUNTIFS(BD!$B:$B,$C$145),\"\",INDEX(BD!$F$2:$F$138,SMALL(IF(BD!$B$2:$B$138=$C$145,IF(BD!$B$2:$B$138=$C$145,ROW(BD!$B$2:$B$138)-ROW(BD!$B$2)+1),FALSE),ROWS(BD!$1:12)))))","v":""},{"$f":"IF($C$145=\"\",\"\",IF(ROWS(BD!$1:12)>COUNTIFS(BD!$B:$B,$C$145),\"\",INDEX(BD!$G$2:$G$138,SMALL(IF(BD!$B$2:$B$138=$C$145,IF(BD!$B$2:$B$138=$C$145,ROW(BD!$B$2:$B$138)-ROW(BD!$B$2)+1),FALSE),ROWS(BD!$1:12)))))","v":""},{"$f":"IF($C$145=\"\",\"\",IF(ROWS(BD!$1:12)>COUNTIFS(BD!$B:$B,$C$145),\"\",INDEX(BD!$H$2:$H$138,SMALL(IF(BD!$B$2:$B$138=$C$145,IF(BD!$B$2:$B$138=$C$145,ROW(BD!$B$2:$B$138)-ROW(BD!$B$2)+1),FALSE),ROWS(BD!$1:12)))))","v":""},null,{"$f":"IF($I$145=\"\",\"\",IF(ROWS(BD!$1:12)>COUNTIFS(BD!$B:$B,$I$145),\"\",INDEX(BD!$C$2:$C$138,SMALL(IF(BD!$B$2:$B$138=$I$145,IF(BD!$B$2:$B$138=$I$145,ROW(BD!$B$2:$B$138)-ROW(BD!$B$2)+1),FALSE),ROWS(BD!$1:12)))))","v":""},{"$f":"IF($I$145=\"\",\"\",IF(ROWS(BD!$1:12)>COUNTIFS(BD!$B:$B,$I$145),\"\",INDEX(BD!$E$2:$E$138,SMALL(IF(BD!$B$2:$B$138=$I$145,IF(BD!$B$2:$B$138=$I$145,ROW(BD!$B$2:$B$138)-ROW(BD!$B$2)+1),FALSE),ROWS(BD!$1:12)))))","v":""},{"$f":"IF($I$145=\"\",\"\",IF(ROWS(BD!$1:12)>COUNTIFS(BD!$B:$B,$I$145),\"\",INDEX(BD!$F$2:$F$138,SMALL(IF(BD!$B$2:$B$138=$I$145,IF(BD!$B$2:$B$138=$I$145,ROW(BD!$B$2:$B$138)-ROW(BD!$B$2)+1),FALSE),ROWS(BD!$1:12)))))","v":""},{"$f":"IF($I$145=\"\",\"\",IF(ROWS(BD!$1:12)>COUNTIFS(BD!$B:$B,$I$145),\"\",INDEX(BD!$G$2:$G$138,SMALL(IF(BD!$B$2:$B$138=$I$145,IF(BD!$B$2:$B$138=$I$145,ROW(BD!$B$2:$B$138)-ROW(BD!$B$2)+1),FALSE),ROWS(BD!$1:12)))))","v":""},{"$f":"IF($I$145=\"\",\"\",IF(ROWS(BD!$1:12)>COUNTIFS(BD!$B:$B,$I$145),\"\",INDEX(BD!$H$2:$H$138,SMALL(IF(BD!$B$2:$B$138=$I$145,IF(BD!$B$2:$B$138=$I$145,ROW(BD!$B$2:$B$138)-ROW(BD!$B$2)+1),FALSE),ROWS(BD!$1:12)))))","v":""},null,{"$f":"IF($O$145=\"\",\"\",IF(ROWS(BD!$1:12)>COUNTIFS(BD!$B:$B,$O$145),\"\",INDEX(BD!$C$2:$C$138,SMALL(IF(BD!$B$2:$B$138=$O$145,IF(BD!$B$2:$B$138=$O$145,ROW(BD!$B$2:$B$138)-ROW(BD!$B$2)+1),FALSE),ROWS(BD!$1:12)))))","v":""},{"$f":"IF($O$145=\"\",\"\",IF(ROWS(BD!$1:12)>COUNTIFS(BD!$B:$B,$O$145),\"\",INDEX(BD!$E$2:$E$138,SMALL(IF(BD!$B$2:$B$138=$O$145,IF(BD!$B$2:$B$138=$O$145,ROW(BD!$B$2:$B$138)-ROW(BD!$B$2)+1),FALSE),ROWS(BD!$1:12)))))","v":""},{"$f":"IF($O$145=\"\",\"\",IF(ROWS(BD!$1:12)>COUNTIFS(BD!$B:$B,$O$145),\"\",INDEX(BD!$F$2:$F$138,SMALL(IF(BD!$B$2:$B$138=$O$145,IF(BD!$B$2:$B$138=$O$145,ROW(BD!$B$2:$B$138)-ROW(BD!$B$2)+1),FALSE),ROWS(BD!$1:12)))))","v":""},{"$f":"IF($O$145=\"\",\"\",IF(ROWS(BD!$1:12)>COUNTIFS(BD!$B:$B,$O$145),\"\",INDEX(BD!$G$2:$G$138,SMALL(IF(BD!$B$2:$B$138=$O$145,IF(BD!$B$2:$B$138=$O$145,ROW(BD!$B$2:$B$138)-ROW(BD!$B$2)+1),FALSE),ROWS(BD!$1:12)))))","v":""},{"$f":"IF($O$145=\"\",\"\",IF(ROWS(BD!$1:12)>COUNTIFS(BD!$B:$B,$O$145),\"\",INDEX(BD!$H$2:$H$138,SMALL(IF(BD!$B$2:$B$138=$O$145,IF(BD!$B$2:$B$138=$O$145,ROW(BD!$B$2:$B$138)-ROW(BD!$B$2)+1),FALSE),ROWS(BD!$1:12)))))","v":""},null,{"$f":"IF($U$145=\"\",\"\",IF(ROWS(BD!$1:12)>COUNTIFS(BD!$B:$B,$U$145),\"\",INDEX(BD!$C$2:$C$138,SMALL(IF(BD!$B$2:$B$138=$U$145,IF(BD!$B$2:$B$138=$U$145,ROW(BD!$B$2:$B$138)-ROW(BD!$B$2)+1),FALSE),ROWS(BD!$1:12)))))","v":""},{"$f":"IF($U$145=\"\",\"\",IF(ROWS(BD!$1:12)>COUNTIFS(BD!$B:$B,$U$145),\"\",INDEX(BD!$E$2:$E$138,SMALL(IF(BD!$B$2:$B$138=$U$145,IF(BD!$B$2:$B$138=$U$145,ROW(BD!$B$2:$B$138)-ROW(BD!$B$2)+1),FALSE),ROWS(BD!$1:12)))))","v":""},{"$f":"IF($U$145=\"\",\"\",IF(ROWS(BD!$1:12)>COUNTIFS(BD!$B:$B,$U$145),\"\",INDEX(BD!$F$2:$F$138,SMALL(IF(BD!$B$2:$B$138=$U$145,IF(BD!$B$2:$B$138=$U$145,ROW(BD!$B$2:$B$138)-ROW(BD!$B$2)+1),FALSE),ROWS(BD!$1:12)))))","v":""},{"$f":"IF($U$145=\"\",\"\",IF(ROWS(BD!$1:12)>COUNTIFS(BD!$B:$B,$U$145),\"\",INDEX(BD!$G$2:$G$138,SMALL(IF(BD!$B$2:$B$138=$U$145,IF(BD!$B$2:$B$138=$U$145,ROW(BD!$B$2:$B$138)-ROW(BD!$B$2)+1),FALSE),ROWS(BD!$1:12)))))","v":""},{"$f":"IF($U$145=\"\",\"\",IF(ROWS(BD!$1:12)>COUNTIFS(BD!$B:$B,$U$145),\"\",INDEX(BD!$H$2:$H$138,SMALL(IF(BD!$B$2:$B$138=$U$145,IF(BD!$B$2:$B$138=$U$145,ROW(BD!$B$2:$B$138)-ROW(BD!$B$2)+1),FALSE),ROWS(BD!$1:12)))))","v":""},null,{"$f":"IF($AA$145=\"\",\"\",IF(ROWS(BD!$1:12)>COUNTIFS(BD!$B:$B,$AA$145),\"\",INDEX(BD!$C$2:$C$138,SMALL(IF(BD!$B$2:$B$138=$AA$145,IF(BD!$B$2:$B$138=$AA$145,ROW(BD!$B$2:$B$138)-ROW(BD!$B$2)+1),FALSE),ROWS(BD!$1:12)))))","v":""},{"$f":"IF($AA$145=\"\",\"\",IF(ROWS(BD!$1:12)>COUNTIFS(BD!$B:$B,$AA$145),\"\",INDEX(BD!$E$2:$E$138,SMALL(IF(BD!$B$2:$B$138=$AA$145,IF(BD!$B$2:$B$138=$AA$145,ROW(BD!$B$2:$B$138)-ROW(BD!$B$2)+1),FALSE),ROWS(BD!$1:12)))))","v":""},{"$f":"IF($AA$145=\"\",\"\",IF(ROWS(BD!$1:12)>COUNTIFS(BD!$B:$B,$AA$145),\"\",INDEX(BD!$F$2:$F$138,SMALL(IF(BD!$B$2:$B$138=$AA$145,IF(BD!$B$2:$B$138=$AA$145,ROW(BD!$B$2:$B$138)-ROW(BD!$B$2)+1),FALSE),ROWS(BD!$1:12)))))","v":""},{"$f":"IF($AA$145=\"\",\"\",IF(ROWS(BD!$1:12)>COUNTIFS(BD!$B:$B,$AA$145),\"\",INDEX(BD!$G$2:$G$138,SMALL(IF(BD!$B$2:$B$138=$AA$145,IF(BD!$B$2:$B$138=$AA$145,ROW(BD!$B$2:$B$138)-ROW(BD!$B$2)+1),FALSE),ROWS(BD!$1:12)))))","v":""},{"$f":"IF($AA$145=\"\",\"\",IF(ROWS(BD!$1:12)>COUNTIFS(BD!$B:$B,$AA$145),\"\",INDEX(BD!$H$2:$H$138,SMALL(IF(BD!$B$2:$B$138=$AA$145,IF(BD!$B$2:$B$138=$AA$145,ROW(BD!$B$2:$B$138)-ROW(BD!$B$2)+1),FALSE),ROWS(BD!$1:12)))))","v":""},null,{"$f":"IF($AG$145=\"\",\"\",IF(ROWS(BD!$1:12)>COUNTIFS(BD!$B:$B,$AG$145),\"\",INDEX(BD!$C$2:$C$138,SMALL(IF(BD!$B$2:$B$138=$AG$145,IF(BD!$B$2:$B$138=$AG$145,ROW(BD!$B$2:$B$138)-ROW(BD!$B$2)+1),FALSE),ROWS(BD!$1:12)))))","v":""},{"$f":"IF($AG$145=\"\",\"\",IF(ROWS(BD!$1:12)>COUNTIFS(BD!$B:$B,$AG$145),\"\",INDEX(BD!$E$2:$E$138,SMALL(IF(BD!$B$2:$B$138=$AG$145,IF(BD!$B$2:$B$138=$AG$145,ROW(BD!$B$2:$B$138)-ROW(BD!$B$2)+1),FALSE),ROWS(BD!$1:12)))))","v":""},{"$f":"IF($AG$145=\"\",\"\",IF(ROWS(BD!$1:12)>COUNTIFS(BD!$B:$B,$AG$145),\"\",INDEX(BD!$F$2:$F$138,SMALL(IF(BD!$B$2:$B$138=$AG$145,IF(BD!$B$2:$B$138=$AG$145,ROW(BD!$B$2:$B$138)-ROW(BD!$B$2)+1),FALSE),ROWS(BD!$1:12)))))","v":""},{"$f":"IF($AG$145=\"\",\"\",IF(ROWS(BD!$1:12)>COUNTIFS(BD!$B:$B,$AG$145),\"\",INDEX(BD!$G$2:$G$138,SMALL(IF(BD!$B$2:$B$138=$AG$145,IF(BD!$B$2:$B$138=$AG$145,ROW(BD!$B$2:$B$138)-ROW(BD!$B$2)+1),FALSE),ROWS(BD!$1:12)))))","v":""},{"$f":"IF($AG$145=\"\",\"\",IF(ROWS(BD!$1:12)>COUNTIFS(BD!$B:$B,$AG$145),\"\",INDEX(BD!$H$2:$H$138,SMALL(IF(BD!$B$2:$B$138=$AG$145,IF(BD!$B$2:$B$138=$AG$145,ROW(BD!$B$2:$B$138)-ROW(BD!$B$2)+1),FALSE),ROWS(BD!$1:12)))))","v":""},null,{"$f":"IF($AM$145=\"\",\"\",IF(ROWS(BD!$1:12)>COUNTIFS(BD!$B:$B,$AM$145),\"\",INDEX(BD!$C$2:$C$138,SMALL(IF(BD!$B$2:$B$138=$AM$145,IF(BD!$B$2:$B$138=$AM$145,ROW(BD!$B$2:$B$138)-ROW(BD!$B$2)+1),FALSE),ROWS(BD!$1:12)))))","v":""},{"$f":"IF($AM$145=\"\",\"\",IF(ROWS(BD!$1:12)>COUNTIFS(BD!$B:$B,$AM$145),\"\",INDEX(BD!$E$2:$E$138,SMALL(IF(BD!$B$2:$B$138=$AM$145,IF(BD!$B$2:$B$138=$AM$145,ROW(BD!$B$2:$B$138)-ROW(BD!$B$2)+1),FALSE),ROWS(BD!$1:12)))))","v":""},{"$f":"IF($AM$145=\"\",\"\",IF(ROWS(BD!$1:12)>COUNTIFS(BD!$B:$B,$AM$145),\"\",INDEX(BD!$F$2:$F$138,SMALL(IF(BD!$B$2:$B$138=$AM$145,IF(BD!$B$2:$B$138=$AM$145,ROW(BD!$B$2:$B$138)-ROW(BD!$B$2)+1),FALSE),ROWS(BD!$1:12)))))","v":""},{"$f":"IF($AM$145=\"\",\"\",IF(ROWS(BD!$1:12)>COUNTIFS(BD!$B:$B,$AM$145),\"\",INDEX(BD!$G$2:$G$138,SMALL(IF(BD!$B$2:$B$138=$AM$145,IF(BD!$B$2:$B$138=$AM$145,ROW(BD!$B$2:$B$138)-ROW(BD!$B$2)+1),FALSE),ROWS(BD!$1:12)))))","v":""},{"$f":"IF($AM$145=\"\",\"\",IF(ROWS(BD!$1:12)>COUNTIFS(BD!$B:$B,$AM$145),\"\",INDEX(BD!$H$2:$H$138,SMALL(IF(BD!$B$2:$B$138=$AM$145,IF(BD!$B$2:$B$138=$AM$145,ROW(BD!$B$2:$B$138)-ROW(BD!$B$2)+1),FALSE),ROWS(BD!$1:12)))))","v":""}]
[null,null,{"$f":"IF($C$145=\"\",\"\",IF(ROWS(BD!$1:13)>COUNTIFS(BD!$B:$B,$C$145),\"\",INDEX(BD!$C$2:$C$138,SMALL(IF(BD!$B$2:$B$138=$C$145,IF(BD!$B$2:$B$138=$C$145,ROW(BD!$B$2:$B$138)-ROW(BD!$B$2)+1),FALSE),ROWS(BD!$1:13)))))","v":""},{"$f":"IF($C$145=\"\",\"\",IF(ROWS(BD!$1:13)>COUNTIFS(BD!$B:$B,$C$145),\"\",INDEX(BD!$E$2:$E$138,SMALL(IF(BD!$B$2:$B$138=$C$145,IF(BD!$B$2:$B$138=$C$145,ROW(BD!$B$2:$B$138)-ROW(BD!$B$2)+1),FALSE),ROWS(BD!$1:13)))))","v":""},{"$f":"IF($C$145=\"\",\"\",IF(ROWS(BD!$1:13)>COUNTIFS(BD!$B:$B,$C$145),\"\",INDEX(BD!$F$2:$F$138,SMALL(IF(BD!$B$2:$B$138=$C$145,IF(BD!$B$2:$B$138=$C$145,ROW(BD!$B$2:$B$138)-ROW(BD!$B$2)+1),FALSE),ROWS(BD!$1:13)))))","v":""},{"$f":"IF($C$145=\"\",\"\",IF(ROWS(BD!$1:13)>COUNTIFS(BD!$B:$B,$C$145),\"\",INDEX(BD!$G$2:$G$138,SMALL(IF(BD!$B$2:$B$138=$C$145,IF(BD!$B$2:$B$138=$C$145,ROW(BD!$B$2:$B$138)-ROW(BD!$B$2)+1),FALSE),ROWS(BD!$1:13)))))","v":""},{"$f":"IF($C$145=\"\",\"\",IF(ROWS(BD!$1:13)>COUNTIFS(BD!$B:$B,$C$145),\"\",INDEX(BD!$H$2:$H$138,SMALL(IF(BD!$B$2:$B$138=$C$145,IF(BD!$B$2:$B$138=$C$145,ROW(BD!$B$2:$B$138)-ROW(BD!$B$2)+1),FALSE),ROWS(BD!$1:13)))))","v":""},null,{"$f":"IF($I$145=\"\",\"\",IF(ROWS(BD!$1:13)>COUNTIFS(BD!$B:$B,$I$145),\"\",INDEX(BD!$C$2:$C$138,SMALL(IF(BD!$B$2:$B$138=$I$145,IF(BD!$B$2:$B$138=$I$145,ROW(BD!$B$2:$B$138)-ROW(BD!$B$2)+1),FALSE),ROWS(BD!$1:13)))))","v":""},{"$f":"IF($I$145=\"\",\"\",IF(ROWS(BD!$1:13)>COUNTIFS(BD!$B:$B,$I$145),\"\",INDEX(BD!$E$2:$E$138,SMALL(IF(BD!$B$2:$B$138=$I$145,IF(BD!$B$2:$B$138=$I$145,ROW(BD!$B$2:$B$138)-ROW(BD!$B$2)+1),FALSE),ROWS(BD!$1:13)))))","v":""},{"$f":"IF($I$145=\"\",\"\",IF(ROWS(BD!$1:13)>COUNTIFS(BD!$B:$B,$I$145),\"\",INDEX(BD!$F$2:$F$138,SMALL(IF(BD!$B$2:$B$138=$I$145,IF(BD!$B$2:$B$138=$I$145,ROW(BD!$B$2:$B$138)-ROW(BD!$B$2)+1),FALSE),ROWS(BD!$1:13)))))","v":""},{"$f":"IF($I$145=\"\",\"\",IF(ROWS(BD!$1:13)>COUNTIFS(BD!$B:$B,$I$145),\"\",INDEX(BD!$G$2:$G$138,SMALL(IF(BD!$B$2:$B$138=$I$145,IF(BD!$B$2:$B$138=$I$145,ROW(BD!$B$2:$B$138)-ROW(BD!$B$2)+1),FALSE),ROWS(BD!$1:13)))))","v":""},{"$f":"IF($I$145=\"\",\"\",IF(ROWS(BD!$1:13)>COUNTIFS(BD!$B:$B,$I$145),\"\",INDEX(BD!$H$2:$H$138,SMALL(IF(BD!$B$2:$B$138=$I$145,IF(BD!$B$2:$B$138=$I$145,ROW(BD!$B$2:$B$138)-ROW(BD!$B$2)+1),FALSE),ROWS(BD!$1:13)))))","v":""},null,{"$f":"IF($O$145=\"\",\"\",IF(ROWS(BD!$1:13)>COUNTIFS(BD!$B:$B,$O$145),\"\",INDEX(BD!$C$2:$C$138,SMALL(IF(BD!$B$2:$B$138=$O$145,IF(BD!$B$2:$B$138=$O$145,ROW(BD!$B$2:$B$138)-ROW(BD!$B$2)+1),FALSE),ROWS(BD!$1:13)))))","v":""},{"$f":"IF($O$145=\"\",\"\",IF(ROWS(BD!$1:13)>COUNTIFS(BD!$B:$B,$O$145),\"\",INDEX(BD!$E$2:$E$138,SMALL(IF(BD!$B$2:$B$138=$O$145,IF(BD!$B$2:$B$138=$O$145,ROW(BD!$B$2:$B$138)-ROW(BD!$B$2)+1),FALSE),ROWS(BD!$1:13)))))","v":""},{"$f":"IF($O$145=\"\",\"\",IF(ROWS(BD!$1:13)>COUNTIFS(BD!$B:$B,$O$145),\"\",INDEX(BD!$F$2:$F$138,SMALL(IF(BD!$B$2:$B$138=$O$145,IF(BD!$B$2:$B$138=$O$145,ROW(BD!$B$2:$B$138)-ROW(BD!$B$2)+1),FALSE),ROWS(BD!$1:13)))))","v":""},{"$f":"IF($O$145=\"\",\"\",IF(ROWS(BD!$1:13)>COUNTIFS(BD!$B:$B,$O$145),\"\",INDEX(BD!$G$2:$G$138,SMALL(IF(BD!$B$2:$B$138=$O$145,IF(BD!$B$2:$B$138=$O$145,ROW(BD!$B$2:$B$138)-ROW(BD!$B$2)+1),FALSE),ROWS(BD!$1:13)))))","v":""},{"$f":"IF($O$145=\"\",\"\",IF(ROWS(BD!$1:13)>COUNTIFS(BD!$B:$B,$O$145),\"\",INDEX(BD!$H$2:$H$138,SMALL(IF(BD!$B$2:$B$138=$O$145,IF(BD!$B$2:$B$138=$O$145,ROW(BD!$B$2:$B$138)-ROW(BD!$B$2)+1),FALSE),ROWS(BD!$1:13)))))","v":""},null,{"$f":"IF($U$145=\"\",\"\",IF(ROWS(BD!$1:13)>COUNTIFS(BD!$B:$B,$U$145),\"\",INDEX(BD!$C$2:$C$138,SMALL(IF(BD!$B$2:$B$138=$U$145,IF(BD!$B$2:$B$138=$U$145,ROW(BD!$B$2:$B$138)-ROW(BD!$B$2)+1),FALSE),ROWS(BD!$1:13)))))","v":""},{"$f":"IF($U$145=\"\",\"\",IF(ROWS(BD!$1:13)>COUNTIFS(BD!$B:$B,$U$145),\"\",INDEX(BD!$E$2:$E$138,SMALL(IF(BD!$B$2:$B$138=$U$145,IF(BD!$B$2:$B$138=$U$145,ROW(BD!$B$2:$B$138)-ROW(BD!$B$2)+1),FALSE),ROWS(BD!$1:13)))))","v":""},{"$f":"IF($U$145=\"\",\"\",IF(ROWS(BD!$1:13)>COUNTIFS(BD!$B:$B,$U$145),\"\",INDEX(BD!$F$2:$F$138,SMALL(IF(BD!$B$2:$B$138=$U$145,IF(BD!$B$2:$B$138=$U$145,ROW(BD!$B$2:$B$138)-ROW(BD!$B$2)+1),FALSE),ROWS(BD!$1:13)))))","v":""},{"$f":"IF($U$145=\"\",\"\",IF(ROWS(BD!$1:13)>COUNTIFS(BD!$B:$B,$U$145),\"\",INDEX(BD!$G$2:$G$138,SMALL(IF(BD!$B$2:$B$138=$U$145,IF(BD!$B$2:$B$138=$U$145,ROW(BD!$B$2:$B$138)-ROW(BD!$B$2)+1),FALSE),ROWS(BD!$1:13)))))","v":""},{"$f":"IF($U$145=\"\",\"\",IF(ROWS(BD!$1:13)>COUNTIFS(BD!$B:$B,$U$145),\"\",INDEX(BD!$H$2:$H$138,SMALL(IF(BD!$B$2:$B$138=$U$145,IF(BD!$B$2:$B$138=$U$145,ROW(BD!$B$2:$B$138)-ROW(BD!$B$2)+1),FALSE),ROWS(BD!$1:13)))))","v":""},null,{"$f":"IF($AA$145=\"\",\"\",IF(ROWS(BD!$1:13)>COUNTIFS(BD!$B:$B,$AA$145),\"\",INDEX(BD!$C$2:$C$138,SMALL(IF(BD!$B$2:$B$138=$AA$145,IF(BD!$B$2:$B$138=$AA$145,ROW(BD!$B$2:$B$138)-ROW(BD!$B$2)+1),FALSE),ROWS(BD!$1:13)))))","v":""},{"$f":"IF($AA$145=\"\",\"\",IF(ROWS(BD!$1:13)>COUNTIFS(BD!$B:$B,$AA$145),\"\",INDEX(BD!$E$2:$E$138,SMALL(IF(BD!$B$2:$B$138=$AA$145,IF(BD!$B$2:$B$138=$AA$145,ROW(BD!$B$2:$B$138)-ROW(BD!$B$2)+1),FALSE),ROWS(BD!$1:13)))))","v":""},{"$f":"IF($AA$145=\"\",\"\",IF(ROWS(BD!$1:13)>COUNTIFS(BD!$B:$B,$AA$145),\"\",INDEX(BD!$F$2:$F$138,SMALL(IF(BD!$B$2:$B$138=$AA$145,IF(BD!$B$2:$B$138=$AA$145,ROW(BD!$B$2:$B$138)-ROW(BD!$B$2)+1),FALSE),ROWS(BD!$1:13)))))","v":""},{"$f":"IF($AA$145=\"\",\"\",IF(ROWS(BD!$1:13)>COUNTIFS(BD!$B:$B,$AA$145),\"\",INDEX(BD!$G$2:$G$138,SMALL(IF(BD!$B$2:$B$138=$AA$145,IF(BD!$B$2:$B$138=$AA$145,ROW(BD!$B$2:$B$138)-ROW(BD!$B$2)+1),FALSE),ROWS(BD!$1:13)))))","v":""},{"$f":"IF($AA$145=\"\",\"\",IF(ROWS(BD!$1:13)>COUNTIFS(BD!$B:$B,$AA$145),\"\",INDEX(BD!$H$2:$H$138,SMALL(IF(BD!$B$2:$B$138=$AA$145,IF(BD!$B$2:$B$138=$AA$145,ROW(BD!$B$2:$B$138)-ROW(BD!$B$2)+1),FALSE),ROWS(BD!$1:13)))))","v":""},null,{"$f":"IF($AG$145=\"\",\"\",IF(ROWS(BD!$1:13)>COUNTIFS(BD!$B:$B,$AG$145),\"\",INDEX(BD!$C$2:$C$138,SMALL(IF(BD!$B$2:$B$138=$AG$145,IF(BD!$B$2:$B$138=$AG$145,ROW(BD!$B$2:$B$138)-ROW(BD!$B$2)+1),FALSE),ROWS(BD!$1:13)))))","v":""},{"$f":"IF($AG$145=\"\",\"\",IF(ROWS(BD!$1:13)>COUNTIFS(BD!$B:$B,$AG$145),\"\",INDEX(BD!$E$2:$E$138,SMALL(IF(BD!$B$2:$B$138=$AG$145,IF(BD!$B$2:$B$138=$AG$145,ROW(BD!$B$2:$B$138)-ROW(BD!$B$2)+1),FALSE),ROWS(BD!$1:13)))))","v":""},{"$f":"IF($AG$145=\"\",\"\",IF(ROWS(BD!$1:13)>COUNTIFS(BD!$B:$B,$AG$145),\"\",INDEX(BD!$F$2:$F$138,SMALL(IF(BD!$B$2:$B$138=$AG$145,IF(BD!$B$2:$B$138=$AG$145,ROW(BD!$B$2:$B$138)-ROW(BD!$B$2)+1),FALSE),ROWS(BD!$1:13)))))","v":""},{"$f":"IF($AG$145=\"\",\"\",IF(ROWS(BD!$1:13)>COUNTIFS(BD!$B:$B,$AG$145),\"\",INDEX(BD!$G$2:$G$138,SMALL(IF(BD!$B$2:$B$138=$AG$145,IF(BD!$B$2:$B$138=$AG$145,ROW(BD!$B$2:$B$138)-ROW(BD!$B$2)+1),FALSE),ROWS(BD!$1:13)))))","v":""},{"$f":"IF($AG$145=\"\",\"\",IF(ROWS(BD!$1:13)>COUNTIFS(BD!$B:$B,$AG$145),\"\",INDEX(BD!$H$2:$H$138,SMALL(IF(BD!$B$2:$B$138=$AG$145,IF(BD!$B$2:$B$138=$AG$145,ROW(BD!$B$2:$B$138)-ROW(BD!$B$2)+1),FALSE),ROWS(BD!$1:13)))))","v":""},null,{"$f":"IF($AM$145=\"\",\"\",IF(ROWS(BD!$1:13)>COUNTIFS(BD!$B:$B,$AM$145),\"\",INDEX(BD!$C$2:$C$138,SMALL(IF(BD!$B$2:$B$138=$AM$145,IF(BD!$B$2:$B$138=$AM$145,ROW(BD!$B$2:$B$138)-ROW(BD!$B$2)+1),FALSE),ROWS(BD!$1:13)))))","v":""},{"$f":"IF($AM$145=\"\",\"\",IF(ROWS(BD!$1:13)>COUNTIFS(BD!$B:$B,$AM$145),\"\",INDEX(BD!$E$2:$E$138,SMALL(IF(BD!$B$2:$B$138=$AM$145,IF(BD!$B$2:$B$138=$AM$145,ROW(BD!$B$2:$B$138)-ROW(BD!$B$2)+1),FALSE),ROWS(BD!$1:13)))))","v":""},{"$f":"IF($AM$145=\"\",\"\",IF(ROWS(BD!$1:13)>COUNTIFS(BD!$B:$B,$AM$145),\"\",INDEX(BD!$F$2:$F$138,SMALL(IF(BD!$B$2:$B$138=$AM$145,IF(BD!$B$2:$B$138=$AM$145,ROW(BD!$B$2:$B$138)-ROW(BD!$B$2)+1),FALSE),ROWS(BD!$1:13)))))","v":""},{"$f":"IF($AM$145=\"\",\"\",IF(ROWS(BD!$1:13)>COUNTIFS(BD!$B:$B,$AM$145),\"\",INDEX(BD!$G$2:$G$138,SMALL(IF(BD!$B$2:$B$138=$AM$145,IF(BD!$B$2:$B$138=$AM$145,ROW(BD!$B$2:$B$138)-ROW(BD!$B$2)+1),FALSE),ROWS(BD!$1:13)))))","v":""},{"$f":"IF($AM$145=\"\",\"\",IF(ROWS(BD!$1:13)>COUNTIFS(BD!$B:$B,$AM$145),\"\",INDEX(BD!$H$2:$H$138,SMALL(IF(BD!$B$2:$B$138=$AM$145,IF(BD!$B$2:$B$138=$AM$145,ROW(BD!$B$2:$B$138)-ROW(BD!$B$2)+1),FALSE),ROWS(BD!$1:13)))))","v":""}]
[null,null,{"$f":"IF($C$145=\"\",\"\",IF(ROWS(BD!$1:14)>COUNTIFS(BD!$B:$B,$C$145),\"\",INDEX(BD!$C$2:$C$138,SMALL(IF(BD!$B$2:$B$138=$C$145,IF(BD!$B$2:$B$138=$C$145,ROW(BD!$B$2:$B$138)-ROW(BD!$B$2)+1),FALSE),ROWS(BD!$1:14)))))","v":""},{"$f":"IF($C$145=\"\",\"\",IF(ROWS(BD!$1:14)>COUNTIFS(BD!$B:$B,$C$145),\"\",INDEX(BD!$E$2:$E$138,SMALL(IF(BD!$B$2:$B$138=$C$145,IF(BD!$B$2:$B$138=$C$145,ROW(BD!$B$2:$B$138)-ROW(BD!$B$2)+1),FALSE),ROWS(BD!$1:14)))))","v":""},{"$f":"IF($C$145=\"\",\"\",IF(ROWS(BD!$1:14)>COUNTIFS(BD!$B:$B,$C$145),\"\",INDEX(BD!$F$2:$F$138,SMALL(IF(BD!$B$2:$B$138=$C$145,IF(BD!$B$2:$B$138=$C$145,ROW(BD!$B$2:$B$138)-ROW(BD!$B$2)+1),FALSE),ROWS(BD!$1:14)))))","v":""},{"$f":"IF($C$145=\"\",\"\",IF(ROWS(BD!$1:14)>COUNTIFS(BD!$B:$B,$C$145),\"\",INDEX(BD!$G$2:$G$138,SMALL(IF(BD!$B$2:$B$138=$C$145,IF(BD!$B$2:$B$138=$C$145,ROW(BD!$B$2:$B$138)-ROW(BD!$B$2)+1),FALSE),ROWS(BD!$1:14)))))","v":""},{"$f":"IF($C$145=\"\",\"\",IF(ROWS(BD!$1:14)>COUNTIFS(BD!$B:$B,$C$145),\"\",INDEX(BD!$H$2:$H$138,SMALL(IF(BD!$B$2:$B$138=$C$145,IF(BD!$B$2:$B$138=$C$145,ROW(BD!$B$2:$B$138)-ROW(BD!$B$2)+1),FALSE),ROWS(BD!$1:14)))))","v":""},null,{"$f":"IF($I$145=\"\",\"\",IF(ROWS(BD!$1:14)>COUNTIFS(BD!$B:$B,$I$145),\"\",INDEX(BD!$C$2:$C$138,SMALL(IF(BD!$B$2:$B$138=$I$145,IF(BD!$B$2:$B$138=$I$145,ROW(BD!$B$2:$B$138)-ROW(BD!$B$2)+1),FALSE),ROWS(BD!$1:14)))))","v":""},{"$f":"IF($I$145=\"\",\"\",IF(ROWS(BD!$1:14)>COUNTIFS(BD!$B:$B,$I$145),\"\",INDEX(BD!$E$2:$E$138,SMALL(IF(BD!$B$2:$B$138=$I$145,IF(BD!$B$2:$B$138=$I$145,ROW(BD!$B$2:$B$138)-ROW(BD!$B$2)+1),FALSE),ROWS(BD!$1:14)))))","v":""},{"$f":"IF($I$145=\"\",\"\",IF(ROWS(BD!$1:14)>COUNTIFS(BD!$B:$B,$I$145),\"\",INDEX(BD!$F$2:$F$138,SMALL(IF(BD!$B$2:$B$138=$I$145,IF(BD!$B$2:$B$138=$I$145,ROW(BD!$B$2:$B$138)-ROW(BD!$B$2)+1),FALSE),ROWS(BD!$1:14)))))","v":""},{"$f":"IF($I$145=\"\",\"\",IF(ROWS(BD!$1:14)>COUNTIFS(BD!$B:$B,$I$145),\"\",INDEX(BD!$G$2:$G$138,SMALL(IF(BD!$B$2:$B$138=$I$145,IF(BD!$B$2:$B$138=$I$145,ROW(BD!$B$2:$B$138)-ROW(BD!$B$2)+1),FALSE),ROWS(BD!$1:14)))))","v":""},{"$f":"IF($I$145=\"\",\"\",IF(ROWS(BD!$1:14)>COUNTIFS(BD!$B:$B,$I$145),\"\",INDEX(BD!$H$2:$H$138,SMALL(IF(BD!$B$2:$B$138=$I$145,IF(BD!$B$2:$B$138=$I$145,ROW(BD!$B$2:$B$138)-ROW(BD!$B$2)+1),FALSE),ROWS(BD!$1:14)))))","v":""},null,{"$f":"IF($O$145=\"\",\"\",IF(ROWS(BD!$1:14)>COUNTIFS(BD!$B:$B,$O$145),\"\",INDEX(BD!$C$2:$C$138,SMALL(IF(BD!$B$2:$B$138=$O$145,IF(BD!$B$2:$B$138=$O$145,ROW(BD!$B$2:$B$138)-ROW(BD!$B$2)+1),FALSE),ROWS(BD!$1:14)))))","v":""},{"$f":"IF($O$145=\"\",\"\",IF(ROWS(BD!$1:14)>COUNTIFS(BD!$B:$B,$O$145),\"\",INDEX(BD!$E$2:$E$138,SMALL(IF(BD!$B$2:$B$138=$O$145,IF(BD!$B$2:$B$138=$O$145,ROW(BD!$B$2:$B$138)-ROW(BD!$B$2)+1),FALSE),ROWS(BD!$1:14)))))","v":""},{"$f":"IF($O$145=\"\",\"\",IF(ROWS(BD!$1:14)>COUNTIFS(BD!$B:$B,$O$145),\"\",INDEX(BD!$F$2:$F$138,SMALL(IF(BD!$B$2:$B$138=$O$145,IF(BD!$B$2:$B$138=$O$145,ROW(BD!$B$2:$B$138)-ROW(BD!$B$2)+1),FALSE),ROWS(BD!$1:14)))))","v":""},{"$f":"IF($O$145=\"\",\"\",IF(ROWS(BD!$1:14)>COUNTIFS(BD!$B:$B,$O$145),\"\",INDEX(BD!$G$2:$G$138,SMALL(IF(BD!$B$2:$B$138=$O$145,IF(BD!$B$2:$B$138=$O$145,ROW(BD!$B$2:$B$138)-ROW(BD!$B$2)+1),FALSE),ROWS(BD!$1:14)))))","v":""},{"$f":"IF($O$145=\"\",\"\",IF(ROWS(BD!$1:14)>COUNTIFS(BD!$B:$B,$O$145),\"\",INDEX(BD!$H$2:$H$138,SMALL(IF(BD!$B$2:$B$138=$O$145,IF(BD!$B$2:$B$138=$O$145,ROW(BD!$B$2:$B$138)-ROW(BD!$B$2)+1),FALSE),ROWS(BD!$1:14)))))","v":""},null,{"$f":"IF($U$145=\"\",\"\",IF(ROWS(BD!$1:14)>COUNTIFS(BD!$B:$B,$U$145),\"\",INDEX(BD!$C$2:$C$138,SMALL(IF(BD!$B$2:$B$138=$U$145,IF(BD!$B$2:$B$138=$U$145,ROW(BD!$B$2:$B$138)-ROW(BD!$B$2)+1),FALSE),ROWS(BD!$1:14)))))","v":""},{"$f":"IF($U$145=\"\",\"\",IF(ROWS(BD!$1:14)>COUNTIFS(BD!$B:$B,$U$145),\"\",INDEX(BD!$E$2:$E$138,SMALL(IF(BD!$B$2:$B$138=$U$145,IF(BD!$B$2:$B$138=$U$145,ROW(BD!$B$2:$B$138)-ROW(BD!$B$2)+1),FALSE),ROWS(BD!$1:14)))))","v":""},{"$f":"IF($U$145=\"\",\"\",IF(ROWS(BD!$1:14)>COUNTIFS(BD!$B:$B,$U$145),\"\",INDEX(BD!$F$2:$F$138,SMALL(IF(BD!$B$2:$B$138=$U$145,IF(BD!$B$2:$B$138=$U$145,ROW(BD!$B$2:$B$138)-ROW(BD!$B$2)+1),FALSE),ROWS(BD!$1:14)))))","v":""},{"$f":"IF($U$145=\"\",\"\",IF(ROWS(BD!$1:14)>COUNTIFS(BD!$B:$B,$U$145),\"\",INDEX(BD!$G$2:$G$138,SMALL(IF(BD!$B$2:$B$138=$U$145,IF(BD!$B$2:$B$138=$U$145,ROW(BD!$B$2:$B$138)-ROW(BD!$B$2)+1),FALSE),ROWS(BD!$1:14)))))","v":""},{"$f":"IF($U$145=\"\",\"\",IF(ROWS(BD!$1:14)>COUNTIFS(BD!$B:$B,$U$145),\"\",INDEX(BD!$H$2:$H$138,SMALL(IF(BD!$B$2:$B$138=$U$145,IF(BD!$B$2:$B$138=$U$145,ROW(BD!$B$2:$B$138)-ROW(BD!$B$2)+1),FALSE),ROWS(BD!$1:14)))))","v":""},null,{"$f":"IF($AA$145=\"\",\"\",IF(ROWS(BD!$1:14)>COUNTIFS(BD!$B:$B,$AA$145),\"\",INDEX(BD!$C$2:$C$138,SMALL(IF(BD!$B$2:$B$138=$AA$145,IF(BD!$B$2:$B$138=$AA$145,ROW(BD!$B$2:$B$138)-ROW(BD!$B$2)+1),FALSE),ROWS(BD!$1:14)))))","v":""},{"$f":"IF($AA$145=\"\",\"\",IF(ROWS(BD!$1:14)>COUNTIFS(BD!$B:$B,$AA$145),\"\",INDEX(BD!$E$2:$E$138,SMALL(IF(BD!$B$2:$B$138=$AA$145,IF(BD!$B$2:$B$138=$AA$145,ROW(BD!$B$2:$B$138)-ROW(BD!$B$2)+1),FALSE),ROWS(BD!$1:14)))))","v":""},{"$f":"IF($AA$145=\"\",\"\",IF(ROWS(BD!$1:14)>COUNTIFS(BD!$B:$B,$AA$145),\"\",INDEX(BD!$F$2:$F$138,SMALL(IF(BD!$B$2:$B$138=$AA$145,IF(BD!$B$2:$B$138=$AA$145,ROW(BD!$B$2:$B$138)-ROW(BD!$B$2)+1),FALSE),ROWS(BD!$1:14)))))","v":""},{"$f":"IF($AA$145=\"\",\"\",IF(ROWS(BD!$1:14)>COUNTIFS(BD!$B:$B,$AA$145),\"\",INDEX(BD!$G$2:$G$138,SMALL(IF(BD!$B$2:$B$138=$AA$145,IF(BD!$B$2:$B$138=$AA$145,ROW(BD!$B$2:$B$138)-ROW(BD!$B$2)+1),FALSE),ROWS(BD!$1:14)))))","v":""},{"$f":"IF($AA$145=\"\",\"\",IF(ROWS(BD!$1:14)>COUNTIFS(BD!$B:$B,$AA$145),\"\",INDEX(BD!$H$2:$H$138,SMALL(IF(BD!$B$2:$B$138=$AA$145,IF(BD!$B$2:$B$138=$AA$145,ROW(BD!$B$2:$B$138)-ROW(BD!$B$2)+1),FALSE),ROWS(BD!$1:14)))))","v":""},null,{"$f":"IF($AG$145=\"\",\"\",IF(ROWS(BD!$1:14)>COUNTIFS(BD!$B:$B,$AG$145),\"\",INDEX(BD!$C$2:$C$138,SMALL(IF(BD!$B$2:$B$138=$AG$145,IF(BD!$B$2:$B$138=$AG$145,ROW(BD!$B$2:$B$138)-ROW(BD!$B$2)+1),FALSE),ROWS(BD!$1:14)))))","v":""},{"$f":"IF($AG$145=\"\",\"\",IF(ROWS(BD!$1:14)>COUNTIFS(BD!$B:$B,$AG$145),\"\",INDEX(BD!$E$2:$E$138,SMALL(IF(BD!$B$2:$B$138=$AG$145,IF(BD!$B$2:$B$138=$AG$145,ROW(BD!$B$2:$B$138)-ROW(BD!$B$2)+1),FALSE),ROWS(BD!$1:14)))))","v":""},{"$f":"IF($AG$145=\"\",\"\",IF(ROWS(BD!$1:14)>COUNTIFS(BD!$B:$B,$AG$145),\"\",INDEX(BD!$F$2:$F$138,SMALL(IF(BD!$B$2:$B$138=$AG$145,IF(BD!$B$2:$B$138=$AG$145,ROW(BD!$B$2:$B$138)-ROW(BD!$B$2)+1),FALSE),ROWS(BD!$1:14)))))","v":""},{"$f":"IF($AG$145=\"\",\"\",IF(ROWS(BD!$1:14)>COUNTIFS(BD!$B:$B,$AG$145),\"\",INDEX(BD!$G$2:$G$138,SMALL(IF(BD!$B$2:$B$138=$AG$145,IF(BD!$B$2:$B$138=$AG$145,ROW(BD!$B$2:$B$138)-ROW(BD!$B$2)+1),FALSE),ROWS(BD!$1:14)))))","v":""},{"$f":"IF($AG$145=\"\",\"\",IF(ROWS(BD!$1:14)>COUNTIFS(BD!$B:$B,$AG$145),\"\",INDEX(BD!$H$2:$H$138,SMALL(IF(BD!$B$2:$B$138=$AG$145,IF(BD!$B$2:$B$138=$AG$145,ROW(BD!$B$2:$B$138)-ROW(BD!$B$2)+1),FALSE),ROWS(BD!$1:14)))))","v":""},null,{"$f":"IF($AM$145=\"\",\"\",IF(ROWS(BD!$1:14)>COUNTIFS(BD!$B:$B,$AM$145),\"\",INDEX(BD!$C$2:$C$138,SMALL(IF(BD!$B$2:$B$138=$AM$145,IF(BD!$B$2:$B$138=$AM$145,ROW(BD!$B$2:$B$138)-ROW(BD!$B$2)+1),FALSE),ROWS(BD!$1:14)))))","v":""},{"$f":"IF($AM$145=\"\",\"\",IF(ROWS(BD!$1:14)>COUNTIFS(BD!$B:$B,$AM$145),\"\",INDEX(BD!$E$2:$E$138,SMALL(IF(BD!$B$2:$B$138=$AM$145,IF(BD!$B$2:$B$138=$AM$145,ROW(BD!$B$2:$B$138)-ROW(BD!$B$2)+1),FALSE),ROWS(BD!$1:14)))))","v":""},{"$f":"IF($AM$145=\"\",\"\",IF(ROWS(BD!$1:14)>COUNTIFS(BD!$B:$B,$AM$145),\"\",INDEX(BD!$F$2:$F$138,SMALL(IF(BD!$B$2:$B$138=$AM$145,IF(BD!$B$2:$B$138=$AM$145,ROW(BD!$B$2:$B$138)-ROW(BD!$B$2)+1),FALSE),ROWS(BD!$1:14)))))","v":""},{"$f":"IF($AM$145=\"\",\"\",IF(ROWS(BD!$1:14)>COUNTIFS(BD!$B:$B,$AM$145),\"\",INDEX(BD!$G$2:$G$138,SMALL(IF(BD!$B$2:$B$138=$AM$145,IF(BD!$B$2:$B$138=$AM$145,ROW(BD!$B$2:$B$138)-ROW(BD!$B$2)+1),FALSE),ROWS(BD!$1:14)))))","v":""},{"$f":"IF($AM$145=\"\",\"\",IF(ROWS(BD!$1:14)>COUNTIFS(BD!$B:$B,$AM$145),\"\",INDEX(BD!$H$2:$H$138,SMALL(IF(BD!$B$2:$B$138=$AM$145,IF(BD!$B$2:$B$138=$AM$145,ROW(BD!$B$2:$B$138)-ROW(BD!$B$2)+1),FALSE),ROWS(BD!$1:14)))))","v":""}]
[null,null,{"$f":"IF($C$145=\"\",\"\",IF(ROWS(BD!$1:15)>COUNTIFS(BD!$B:$B,$C$145),\"\",INDEX(BD!$C$2:$C$138,SMALL(IF(BD!$B$2:$B$138=$C$145,IF(BD!$B$2:$B$138=$C$145,ROW(BD!$B$2:$B$138)-ROW(BD!$B$2)+1),FALSE),ROWS(BD!$1:15)))))","v":""},{"$f":"IF($C$145=\"\",\"\",IF(ROWS(BD!$1:15)>COUNTIFS(BD!$B:$B,$C$145),\"\",INDEX(BD!$E$2:$E$138,SMALL(IF(BD!$B$2:$B$138=$C$145,IF(BD!$B$2:$B$138=$C$145,ROW(BD!$B$2:$B$138)-ROW(BD!$B$2)+1),FALSE),ROWS(BD!$1:15)))))","v":""},{"$f":"IF($C$145=\"\",\"\",IF(ROWS(BD!$1:15)>COUNTIFS(BD!$B:$B,$C$145),\"\",INDEX(BD!$F$2:$F$138,SMALL(IF(BD!$B$2:$B$138=$C$145,IF(BD!$B$2:$B$138=$C$145,ROW(BD!$B$2:$B$138)-ROW(BD!$B$2)+1),FALSE),ROWS(BD!$1:15)))))","v":""},{"$f":"IF($C$145=\"\",\"\",IF(ROWS(BD!$1:15)>COUNTIFS(BD!$B:$B,$C$145),\"\",INDEX(BD!$G$2:$G$138,SMALL(IF(BD!$B$2:$B$138=$C$145,IF(BD!$B$2:$B$138=$C$145,ROW(BD!$B$2:$B$138)-ROW(BD!$B$2)+1),FALSE),ROWS(BD!$1:15)))))","v":""},{"$f":"IF($C$145=\"\",\"\",IF(ROWS(BD!$1:15)>COUNTIFS(BD!$B:$B,$C$145),\"\",INDEX(BD!$H$2:$H$138,SMALL(IF(BD!$B$2:$B$138=$C$145,IF(BD!$B$2:$B$138=$C$145,ROW(BD!$B$2:$B$138)-ROW(BD!$B$2)+1),FALSE),ROWS(BD!$1:15)))))","v":""},null,{"$f":"IF($I$145=\"\",\"\",IF(ROWS(BD!$1:15)>COUNTIFS(BD!$B:$B,$I$145),\"\",INDEX(BD!$C$2:$C$138,SMALL(IF(BD!$B$2:$B$138=$I$145,IF(BD!$B$2:$B$138=$I$145,ROW(BD!$B$2:$B$138)-ROW(BD!$B$2)+1),FALSE),ROWS(BD!$1:15)))))","v":""},{"$f":"IF($I$145=\"\",\"\",IF(ROWS(BD!$1:15)>COUNTIFS(BD!$B:$B,$I$145),\"\",INDEX(BD!$E$2:$E$138,SMALL(IF(BD!$B$2:$B$138=$I$145,IF(BD!$B$2:$B$138=$I$145,ROW(BD!$B$2:$B$138)-ROW(BD!$B$2)+1),FALSE),ROWS(BD!$1:15)))))","v":""},{"$f":"IF($I$145=\"\",\"\",IF(ROWS(BD!$1:15)>COUNTIFS(BD!$B:$B,$I$145),\"\",INDEX(BD!$F$2:$F$138,SMALL(IF(BD!$B$2:$B$138=$I$145,IF(BD!$B$2:$B$138=$I$145,ROW(BD!$B$2:$B$138)-ROW(BD!$B$2)+1),FALSE),ROWS(BD!$1:15)))))","v":""},{"$f":"IF($I$145=\"\",\"\",IF(ROWS(BD!$1:15)>COUNTIFS(BD!$B:$B,$I$145),\"\",INDEX(BD!$G$2:$G$138,SMALL(IF(BD!$B$2:$B$138=$I$145,IF(BD!$B$2:$B$138=$I$145,ROW(BD!$B$2:$B$138)-ROW(BD!$B$2)+1),FALSE),ROWS(BD!$1:15)))))","v":""},{"$f":"IF($I$145=\"\",\"\",IF(ROWS(BD!$1:15)>COUNTIFS(BD!$B:$B,$I$145),\"\",INDEX(BD!$H$2:$H$138,SMALL(IF(BD!$B$2:$B$138=$I$145,IF(BD!$B$2:$B$138=$I$145,ROW(BD!$B$2:$B$138)-ROW(BD!$B$2)+1),FALSE),ROWS(BD!$1:15)))))","v":""},null,{"$f":"IF($O$145=\"\",\"\",IF(ROWS(BD!$1:15)>COUNTIFS(BD!$B:$B,$O$145),\"\",INDEX(BD!$C$2:$C$138,SMALL(IF(BD!$B$2:$B$138=$O$145,IF(BD!$B$2:$B$138=$O$145,ROW(BD!$B$2:$B$138)-ROW(BD!$B$2)+1),FALSE),ROWS(BD!$1:15)))))","v":""},{"$f":"IF($O$145=\"\",\"\",IF(ROWS(BD!$1:15)>COUNTIFS(BD!$B:$B,$O$145),\"\",INDEX(BD!$E$2:$E$138,SMALL(IF(BD!$B$2:$B$138=$O$145,IF(BD!$B$2:$B$138=$O$145,ROW(BD!$B$2:$B$138)-ROW(BD!$B$2)+1),FALSE),ROWS(BD!$1:15)))))","v":""},{"$f":"IF($O$145=\"\",\"\",IF(ROWS(BD!$1:15)>COUNTIFS(BD!$B:$B,$O$145),\"\",INDEX(BD!$F$2:$F$138,SMALL(IF(BD!$B$2:$B$138=$O$145,IF(BD!$B$2:$B$138=$O$145,ROW(BD!$B$2:$B$138)-ROW(BD!$B$2)+1),FALSE),ROWS(BD!$1:15)))))","v":""},{"$f":"IF($O$145=\"\",\"\",IF(ROWS(BD!$1:15)>COUNTIFS(BD!$B:$B,$O$145),\"\",INDEX(BD!$G$2:$G$138,SMALL(IF(BD!$B$2:$B$138=$O$145,IF(BD!$B$2:$B$138=$O$145,ROW(BD!$B$2:$B$138)-ROW(BD!$B$2)+1),FALSE),ROWS(BD!$1:15)))))","v":""},{"$f":"IF($O$145=\"\",\"\",IF(ROWS(BD!$1:15)>COUNTIFS(BD!$B:$B,$O$145),\"\",INDEX(BD!$H$2:$H$138,SMALL(IF(BD!$B$2:$B$138=$O$145,IF(BD!$B$2:$B$138=$O$145,ROW(BD!$B$2:$B$138)-ROW(BD!$B$2)+1),FALSE),ROWS(BD!$1:15)))))","v":""},null,{"$f":"IF($U$145=\"\",\"\",IF(ROWS(BD!$1:15)>COUNTIFS(BD!$B:$B,$U$145),\"\",INDEX(BD!$C$2:$C$138,SMALL(IF(BD!$B$2:$B$138=$U$145,IF(BD!$B$2:$B$138=$U$145,ROW(BD!$B$2:$B$138)-ROW(BD!$B$2)+1),FALSE),ROWS(BD!$1:15)))))","v":""},{"$f":"IF($U$145=\"\",\"\",IF(ROWS(BD!$1:15)>COUNTIFS(BD!$B:$B,$U$145),\"\",INDEX(BD!$E$2:$E$138,SMALL(IF(BD!$B$2:$B$138=$U$145,IF(BD!$B$2:$B$138=$U$145,ROW(BD!$B$2:$B$138)-ROW(BD!$B$2)+1),FALSE),ROWS(BD!$1:15)))))","v":""},{"$f":"IF($U$145=\"\",\"\",IF(ROWS(BD!$1:15)>COUNTIFS(BD!$B:$B,$U$145),\"\",INDEX(BD!$F$2:$F$138,SMALL(IF(BD!$B$2:$B$138=$U$145,IF(BD!$B$2:$B$138=$U$145,ROW(BD!$B$2:$B$138)-ROW(BD!$B$2)+1),FALSE),ROWS(BD!$1:15)))))","v":""},{"$f":"IF($U$145=\"\",\"\",IF(ROWS(BD!$1:15)>COUNTIFS(BD!$B:$B,$U$145),\"\",INDEX(BD!$G$2:$G$138,SMALL(IF(BD!$B$2:$B$138=$U$145,IF(BD!$B$2:$B$138=$U$145,ROW(BD!$B$2:$B$138)-ROW(BD!$B$2)+1),FALSE),ROWS(BD!$1:15)))))","v":""},{"$f":"IF($U$145=\"\",\"\",IF(ROWS(BD!$1:15)>COUNTIFS(BD!$B:$B,$U$145),\"\",INDEX(BD!$H$2:$H$138,SMALL(IF(BD!$B$2:$B$138=$U$145,IF(BD!$B$2:$B$138=$U$145,ROW(BD!$B$2:$B$138)-ROW(BD!$B$2)+1),FALSE),ROWS(BD!$1:15)))))","v":""},null,{"$f":"IF($AA$145=\"\",\"\",IF(ROWS(BD!$1:15)>COUNTIFS(BD!$B:$B,$AA$145),\"\",INDEX(BD!$C$2:$C$138,SMALL(IF(BD!$B$2:$B$138=$AA$145,IF(BD!$B$2:$B$138=$AA$145,ROW(BD!$B$2:$B$138)-ROW(BD!$B$2)+1),FALSE),ROWS(BD!$1:15)))))","v":""},{"$f":"IF($AA$145=\"\",\"\",IF(ROWS(BD!$1:15)>COUNTIFS(BD!$B:$B,$AA$145),\"\",INDEX(BD!$E$2:$E$138,SMALL(IF(BD!$B$2:$B$138=$AA$145,IF(BD!$B$2:$B$138=$AA$145,ROW(BD!$B$2:$B$138)-ROW(BD!$B$2)+1),FALSE),ROWS(BD!$1:15)))))","v":""},{"$f":"IF($AA$145=\"\",\"\",IF(ROWS(BD!$1:15)>COUNTIFS(BD!$B:$B,$AA$145),\"\",INDEX(BD!$F$2:$F$138,SMALL(IF(BD!$B$2:$B$138=$AA$145,IF(BD!$B$2:$B$138=$AA$145,ROW(BD!$B$2:$B$138)-ROW(BD!$B$2)+1),FALSE),ROWS(BD!$1:15)))))","v":""},{"$f":"IF($AA$145=\"\",\"\",IF(ROWS(BD!$1:15)>COUNTIFS(BD!$B:$B,$AA$145),\"\",INDEX(BD!$G$2:$G$138,SMALL(IF(BD!$B$2:$B$138=$AA$145,IF(BD!$B$2:$B$138=$AA$145,ROW(BD!$B$2:$B$138)-ROW(BD!$B$2)+1),FALSE),ROWS(BD!$1:15)))))","v":""},{"$f":"IF($AA$145=\"\",\"\",IF(ROWS(BD!$1:15)>COUNTIFS(BD!$B:$B,$AA$145),\"\",INDEX(BD!$H$2:$H$138,SMALL(IF(BD!$B$2:$B$138=$AA$145,IF(BD!$B$2:$B$138=$AA$145,ROW(BD!$B$2:$B$138)-ROW(BD!$B$2)+1),FALSE),ROWS(BD!$1:15)))))","v":""},null,{"$f":"IF($AG$145=\"\",\"\",IF(ROWS(BD!$1:15)>COUNTIFS(BD!$B:$B,$AG$145),\"\",INDEX(BD!$C$2:$C$138,SMALL(IF(BD!$B$2:$B$138=$AG$145,IF(BD!$B$2:$B$138=$AG$145,ROW(BD!$B$2:$B$138)-ROW(BD!$B$2)+1),FALSE),ROWS(BD!$1:15)))))","v":""},{"$f":"IF($AG$145=\"\",\"\",IF(ROWS(BD!$1:15)>COUNTIFS(BD!$B:$B,$AG$145),\"\",INDEX(BD!$E$2:$E$138,SMALL(IF(BD!$B$2:$B$138=$AG$145,IF(BD!$B$2:$B$138=$AG$145,ROW(BD!$B$2:$B$138)-ROW(BD!$B$2)+1),FALSE),ROWS(BD!$1:15)))))","v":""},{"$f":"IF($AG$145=\"\",\"\",IF(ROWS(BD!$1:15)>COUNTIFS(BD!$B:$B,$AG$145),\"\",INDEX(BD!$F$2:$F$138,SMALL(IF(BD!$B$2:$B$138=$AG$145,IF(BD!$B$2:$B$138=$AG$145,ROW(BD!$B$2:$B$138)-ROW(BD!$B$2)+1),FALSE),ROWS(BD!$1:15)))))","v":""},{"$f":"IF($AG$145=\"\",\"\",IF(ROWS(BD!$1:15)>COUNTIFS(BD!$B:$B,$AG$145),\"\",INDEX(BD!$G$2:$G$138,SMALL(IF(BD!$B$2:$B$138=$AG$145,IF(BD!$B$2:$B$138=$AG$145,ROW(BD!$B$2:$B$138)-ROW(BD!$B$2)+1),FALSE),ROWS(BD!$1:15)))))","v":""},{"$f":"IF($AG$145=\"\",\"\",IF(ROWS(BD!$1:15)>COUNTIFS(BD!$B:$B,$AG$145),\"\",INDEX(BD!$H$2:$H$138,SMALL(IF(BD!$B$2:$B$138=$AG$145,IF(BD!$B$2:$B$138=$AG$145,ROW(BD!$B$2:$B$138)-ROW(BD!$B$2)+1),FALSE),ROWS(BD!$1:15)))))","v":""},null,{"$f":"IF($AM$145=\"\",\"\",IF(ROWS(BD!$1:15)>COUNTIFS(BD!$B:$B,$AM$145),\"\",INDEX(BD!$C$2:$C$138,SMALL(IF(BD!$B$2:$B$138=$AM$145,IF(BD!$B$2:$B$138=$AM$145,ROW(BD!$B$2:$B$138)-ROW(BD!$B$2)+1),FALSE),ROWS(BD!$1:15)))))","v":""},{"$f":"IF($AM$145=\"\",\"\",IF(ROWS(BD!$1:15)>COUNTIFS(BD!$B:$B,$AM$145),\"\",INDEX(BD!$E$2:$E$138,SMALL(IF(BD!$B$2:$B$138=$AM$145,IF(BD!$B$2:$B$138=$AM$145,ROW(BD!$B$2:$B$138)-ROW(BD!$B$2)+1),FALSE),ROWS(BD!$1:15)))))","v":""},{"$f":"IF($AM$145=\"\",\"\",IF(ROWS(BD!$1:15)>COUNTIFS(BD!$B:$B,$AM$145),\"\",INDEX(BD!$F$2:$F$138,SMALL(IF(BD!$B$2:$B$138=$AM$145,IF(BD!$B$2:$B$138=$AM$145,ROW(BD!$B$2:$B$138)-ROW(BD!$B$2)+1),FALSE),ROWS(BD!$1:15)))))","v":""},{"$f":"IF($AM$145=\"\",\"\",IF(ROWS(BD!$1:15)>COUNTIFS(BD!$B:$B,$AM$145),\"\",INDEX(BD!$G$2:$G$138,SMALL(IF(BD!$B$2:$B$138=$AM$145,IF(BD!$B$2:$B$138=$AM$145,ROW(BD!$B$2:$B$138)-ROW(BD!$B$2)+1),FALSE),ROWS(BD!$1:15)))))","v":""},{"$f":"IF($AM$145=\"\",\"\",IF(ROWS(BD!$1:15)>COUNTIFS(BD!$B:$B,$AM$145),\"\",INDEX(BD!$H$2:$H$138,SMALL(IF(BD!$B$2:$B$138=$AM$145,IF(BD!$B$2:$B$138=$AM$145,ROW(BD!$B$2:$B$138)-ROW(BD!$B$2)+1),FALSE),ROWS(BD!$1:15)))))","v":""}]
[null,null,{"$f":"IF($C$145=\"\",\"\",IF(ROWS(BD!$1:16)>COUNTIFS(BD!$B:$B,$C$145),\"\",INDEX(BD!$C$2:$C$138,SMALL(IF(BD!$B$2:$B$138=$C$145,IF(BD!$B$2:$B$138=$C$145,ROW(BD!$B$2:$B$138)-ROW(BD!$B$2)+1),FALSE),ROWS(BD!$1:16)))))","v":""},{"$f":"IF($C$145=\"\",\"\",IF(ROWS(BD!$1:16)>COUNTIFS(BD!$B:$B,$C$145),\"\",INDEX(BD!$E$2:$E$138,SMALL(IF(BD!$B$2:$B$138=$C$145,IF(BD!$B$2:$B$138=$C$145,ROW(BD!$B$2:$B$138)-ROW(BD!$B$2)+1),FALSE),ROWS(BD!$1:16)))))","v":""},{"$f":"IF($C$145=\"\",\"\",IF(ROWS(BD!$1:16)>COUNTIFS(BD!$B:$B,$C$145),\"\",INDEX(BD!$F$2:$F$138,SMALL(IF(BD!$B$2:$B$138=$C$145,IF(BD!$B$2:$B$138=$C$145,ROW(BD!$B$2:$B$138)-ROW(BD!$B$2)+1),FALSE),ROWS(BD!$1:16)))))","v":""},{"$f":"IF($C$145=\"\",\"\",IF(ROWS(BD!$1:16)>COUNTIFS(BD!$B:$B,$C$145),\"\",INDEX(BD!$G$2:$G$138,SMALL(IF(BD!$B$2:$B$138=$C$145,IF(BD!$B$2:$B$138=$C$145,ROW(BD!$B$2:$B$138)-ROW(BD!$B$2)+1),FALSE),ROWS(BD!$1:16)))))","v":""},{"$f":"IF($C$145=\"\",\"\",IF(ROWS(BD!$1:16)>COUNTIFS(BD!$B:$B,$C$145),\"\",INDEX(BD!$H$2:$H$138,SMALL(IF(BD!$B$2:$B$138=$C$145,IF(BD!$B$2:$B$138=$C$145,ROW(BD!$B$2:$B$138)-ROW(BD!$B$2)+1),FALSE),ROWS(BD!$1:16)))))","v":""},null,{"$f":"IF($I$145=\"\",\"\",IF(ROWS(BD!$1:16)>COUNTIFS(BD!$B:$B,$I$145),\"\",INDEX(BD!$C$2:$C$138,SMALL(IF(BD!$B$2:$B$138=$I$145,IF(BD!$B$2:$B$138=$I$145,ROW(BD!$B$2:$B$138)-ROW(BD!$B$2)+1),FALSE),ROWS(BD!$1:16)))))","v":""},{"$f":"IF($I$145=\"\",\"\",IF(ROWS(BD!$1:16)>COUNTIFS(BD!$B:$B,$I$145),\"\",INDEX(BD!$E$2:$E$138,SMALL(IF(BD!$B$2:$B$138=$I$145,IF(BD!$B$2:$B$138=$I$145,ROW(BD!$B$2:$B$138)-ROW(BD!$B$2)+1),FALSE),ROWS(BD!$1:16)))))","v":""},{"$f":"IF($I$145=\"\",\"\",IF(ROWS(BD!$1:16)>COUNTIFS(BD!$B:$B,$I$145),\"\",INDEX(BD!$F$2:$F$138,SMALL(IF(BD!$B$2:$B$138=$I$145,IF(BD!$B$2:$B$138=$I$145,ROW(BD!$B$2:$B$138)-ROW(BD!$B$2)+1),FALSE),ROWS(BD!$1:16)))))","v":""},{"$f":"IF($I$145=\"\",\"\",IF(ROWS(BD!$1:16)>COUNTIFS(BD!$B:$B,$I$145),\"\",INDEX(BD!$G$2:$G$138,SMALL(IF(BD!$B$2:$B$138=$I$145,IF(BD!$B$2:$B$138=$I$145,ROW(BD!$B$2:$B$138)-ROW(BD!$B$2)+1),FALSE),ROWS(BD!$1:16)))))","v":""},{"$f":"IF($I$145=\"\",\"\",IF(ROWS(BD!$1:16)>COUNTIFS(BD!$B:$B,$I$145),\"\",INDEX(BD!$H$2:$H$138,SMALL(IF(BD!$B$2:$B$138=$I$145,IF(BD!$B$2:$B$138=$I$145,ROW(BD!$B$2:$B$138)-ROW(BD!$B$2)+1),FALSE),ROWS(BD!$1:16)))))","v":""},null,{"$f":"IF($O$145=\"\",\"\",IF(ROWS(BD!$1:16)>COUNTIFS(BD!$B:$B,$O$145),\"\",INDEX(BD!$C$2:$C$138,SMALL(IF(BD!$B$2:$B$138=$O$145,IF(BD!$B$2:$B$138=$O$145,ROW(BD!$B$2:$B$138)-ROW(BD!$B$2)+1),FALSE),ROWS(BD!$1:16)))))","v":""},{"$f":"IF($O$145=\"\",\"\",IF(ROWS(BD!$1:16)>COUNTIFS(BD!$B:$B,$O$145),\"\",INDEX(BD!$E$2:$E$138,SMALL(IF(BD!$B$2:$B$138=$O$145,IF(BD!$B$2:$B$138=$O$145,ROW(BD!$B$2:$B$138)-ROW(BD!$B$2)+1),FALSE),ROWS(BD!$1:16)))))","v":""},{"$f":"IF($O$145=\"\",\"\",IF(ROWS(BD!$1:16)>COUNTIFS(BD!$B:$B,$O$145),\"\",INDEX(BD!$F$2:$F$138,SMALL(IF(BD!$B$2:$B$138=$O$145,IF(BD!$B$2:$B$138=$O$145,ROW(BD!$B$2:$B$138)-ROW(BD!$B$2)+1),FALSE),ROWS(BD!$1:16)))))","v":""},{"$f":"IF($O$145=\"\",\"\",IF(ROWS(BD!$1:16)>COUNTIFS(BD!$B:$B,$O$145),\"\",INDEX(BD!$G$2:$G$138,SMALL(IF(BD!$B$2:$B$138=$O$145,IF(BD!$B$2:$B$138=$O$145,ROW(BD!$B$2:$B$138)-ROW(BD!$B$2)+1),FALSE),ROWS(BD!$1:16)))))","v":""},{"$f":"IF($O$145=\"\",\"\",IF(ROWS(BD!$1:16)>COUNTIFS(BD!$B:$B,$O$145),\"\",INDEX(BD!$H$2:$H$138,SMALL(IF(BD!$B$2:$B$138=$O$145,IF(BD!$B$2:$B$138=$O$145,ROW(BD!$B$2:$B$138)-ROW(BD!$B$2)+1),FALSE),ROWS(BD!$1:16)))))","v":""},null,{"$f":"IF($U$145=\"\",\"\",IF(ROWS(BD!$1:16)>COUNTIFS(BD!$B:$B,$U$145),\"\",INDEX(BD!$C$2:$C$138,SMALL(IF(BD!$B$2:$B$138=$U$145,IF(BD!$B$2:$B$138=$U$145,ROW(BD!$B$2:$B$138)-ROW(BD!$B$2)+1),FALSE),ROWS(BD!$1:16)))))","v":""},{"$f":"IF($U$145=\"\",\"\",IF(ROWS(BD!$1:16)>COUNTIFS(BD!$B:$B,$U$145),\"\",INDEX(BD!$E$2:$E$138,SMALL(IF(BD!$B$2:$B$138=$U$145,IF(BD!$B$2:$B$138=$U$145,ROW(BD!$B$2:$B$138)-ROW(BD!$B$2)+1),FALSE),ROWS(BD!$1:16)))))","v":""},{"$f":"IF($U$145=\"\",\"\",IF(ROWS(BD!$1:16)>COUNTIFS(BD!$B:$B,$U$145),\"\",INDEX(BD!$F$2:$F$138,SMALL(IF(BD!$B$2:$B$138=$U$145,IF(BD!$B$2:$B$138=$U$145,ROW(BD!$B$2:$B$138)-ROW(BD!$B$2)+1),FALSE),ROWS(BD!$1:16)))))","v":""},{"$f":"IF($U$145=\"\",\"\",IF(ROWS(BD!$1:16)>COUNTIFS(BD!$B:$B,$U$145),\"\",INDEX(BD!$G$2:$G$138,SMALL(IF(BD!$B$2:$B$138=$U$145,IF(BD!$B$2:$B$138=$U$145,ROW(BD!$B$2:$B$138)-ROW(BD!$B$2)+1),FALSE),ROWS(BD!$1:16)))))","v":""},{"$f":"IF($U$145=\"\",\"\",IF(ROWS(BD!$1:16)>COUNTIFS(BD!$B:$B,$U$145),\"\",INDEX(BD!$H$2:$H$138,SMALL(IF(BD!$B$2:$B$138=$U$145,IF(BD!$B$2:$B$138=$U$145,ROW(BD!$B$2:$B$138)-ROW(BD!$B$2)+1),FALSE),ROWS(BD!$1:16)))))","v":""},null,{"$f":"IF($AA$145=\"\",\"\",IF(ROWS(BD!$1:16)>COUNTIFS(BD!$B:$B,$AA$145),\"\",INDEX(BD!$C$2:$C$138,SMALL(IF(BD!$B$2:$B$138=$AA$145,IF(BD!$B$2:$B$138=$AA$145,ROW(BD!$B$2:$B$138)-ROW(BD!$B$2)+1),FALSE),ROWS(BD!$1:16)))))","v":""},{"$f":"IF($AA$145=\"\",\"\",IF(ROWS(BD!$1:16)>COUNTIFS(BD!$B:$B,$AA$145),\"\",INDEX(BD!$E$2:$E$138,SMALL(IF(BD!$B$2:$B$138=$AA$145,IF(BD!$B$2:$B$138=$AA$145,ROW(BD!$B$2:$B$138)-ROW(BD!$B$2)+1),FALSE),ROWS(BD!$1:16)))))","v":""},{"$f":"IF($AA$145=\"\",\"\",IF(ROWS(BD!$1:16)>COUNTIFS(BD!$B:$B,$AA$145),\"\",INDEX(BD!$F$2:$F$138,SMALL(IF(BD!$B$2:$B$138=$AA$145,IF(BD!$B$2:$B$138=$AA$145,ROW(BD!$B$2:$B$138)-ROW(BD!$B$2)+1),FALSE),ROWS(BD!$1:16)))))","v":""},{"$f":"IF($AA$145=\"\",\"\",IF(ROWS(BD!$1:16)>COUNTIFS(BD!$B:$B,$AA$145),\"\",INDEX(BD!$G$2:$G$138,SMALL(IF(BD!$B$2:$B$138=$AA$145,IF(BD!$B$2:$B$138=$AA$145,ROW(BD!$B$2:$B$138)-ROW(BD!$B$2)+1),FALSE),ROWS(BD!$1:16)))))","v":""},{"$f":"IF($AA$145=\"\",\"\",IF(ROWS(BD!$1:16)>COUNTIFS(BD!$B:$B,$AA$145),\"\",INDEX(BD!$H$2:$H$138,SMALL(IF(BD!$B$2:$B$138=$AA$145,IF(BD!$B$2:$B$138=$AA$145,ROW(BD!$B$2:$B$138)-ROW(BD!$B$2)+1),FALSE),ROWS(BD!$1:16)))))","v":""},null,{"$f":"IF($AG$145=\"\",\"\",IF(ROWS(BD!$1:16)>COUNTIFS(BD!$B:$B,$AG$145),\"\",INDEX(BD!$C$2:$C$138,SMALL(IF(BD!$B$2:$B$138=$AG$145,IF(BD!$B$2:$B$138=$AG$145,ROW(BD!$B$2:$B$138)-ROW(BD!$B$2)+1),FALSE),ROWS(BD!$1:16)))))","v":""},{"$f":"IF($AG$145=\"\",\"\",IF(ROWS(BD!$1:16)>COUNTIFS(BD!$B:$B,$AG$145),\"\",INDEX(BD!$E$2:$E$138,SMALL(IF(BD!$B$2:$B$138=$AG$145,IF(BD!$B$2:$B$138=$AG$145,ROW(BD!$B$2:$B$138)-ROW(BD!$B$2)+1),FALSE),ROWS(BD!$1:16)))))","v":""},{"$f":"IF($AG$145=\"\",\"\",IF(ROWS(BD!$1:16)>COUNTIFS(BD!$B:$B,$AG$145),\"\",INDEX(BD!$F$2:$F$138,SMALL(IF(BD!$B$2:$B$138=$AG$145,IF(BD!$B$2:$B$138=$AG$145,ROW(BD!$B$2:$B$138)-ROW(BD!$B$2)+1),FALSE),ROWS(BD!$1:16)))))","v":""},{"$f":"IF($AG$145=\"\",\"\",IF(ROWS(BD!$1:16)>COUNTIFS(BD!$B:$B,$AG$145),\"\",INDEX(BD!$G$2:$G$138,SMALL(IF(BD!$B$2:$B$138=$AG$145,IF(BD!$B$2:$B$138=$AG$145,ROW(BD!$B$2:$B$138)-ROW(BD!$B$2)+1),FALSE),ROWS(BD!$1:16)))))","v":""},{"$f":"IF($AG$145=\"\",\"\",IF(ROWS(BD!$1:16)>COUNTIFS(BD!$B:$B,$AG$145),\"\",INDEX(BD!$H$2:$H$138,SMALL(IF(BD!$B$2:$B$138=$AG$145,IF(BD!$B$2:$B$138=$AG$145,ROW(BD!$B$2:$B$138)-ROW(BD!$B$2)+1),FALSE),ROWS(BD!$1:16)))))","v":""},null,{"$f":"IF($AM$145=\"\",\"\",IF(ROWS(BD!$1:16)>COUNTIFS(BD!$B:$B,$AM$145),\"\",INDEX(BD!$C$2:$C$138,SMALL(IF(BD!$B$2:$B$138=$AM$145,IF(BD!$B$2:$B$138=$AM$145,ROW(BD!$B$2:$B$138)-ROW(BD!$B$2)+1),FALSE),ROWS(BD!$1:16)))))","v":""},{"$f":"IF($AM$145=\"\",\"\",IF(ROWS(BD!$1:16)>COUNTIFS(BD!$B:$B,$AM$145),\"\",INDEX(BD!$E$2:$E$138,SMALL(IF(BD!$B$2:$B$138=$AM$145,IF(BD!$B$2:$B$138=$AM$145,ROW(BD!$B$2:$B$138)-ROW(BD!$B$2)+1),FALSE),ROWS(BD!$1:16)))))","v":""},{"$f":"IF($AM$145=\"\",\"\",IF(ROWS(BD!$1:16)>COUNTIFS(BD!$B:$B,$AM$145),\"\",INDEX(BD!$F$2:$F$138,SMALL(IF(BD!$B$2:$B$138=$AM$145,IF(BD!$B$2:$B$138=$AM$145,ROW(BD!$B$2:$B$138)-ROW(BD!$B$2)+1),FALSE),ROWS(BD!$1:16)))))","v":""},{"$f":"IF($AM$145=\"\",\"\",IF(ROWS(BD!$1:16)>COUNTIFS(BD!$B:$B,$AM$145),\"\",INDEX(BD!$G$2:$G$138,SMALL(IF(BD!$B$2:$B$138=$AM$145,IF(BD!$B$2:$B$138=$AM$145,ROW(BD!$B$2:$B$138)-ROW(BD!$B$2)+1),FALSE),ROWS(BD!$1:16)))))","v":""},{"$f":"IF($AM$145=\"\",\"\",IF(ROWS(BD!$1:16)>COUNTIFS(BD!$B:$B,$AM$145),\"\",INDEX(BD!$H$2:$H$138,SMALL(IF(BD!$B$2:$B$138=$AM$145,IF(BD!$B$2:$B$138=$AM$145,ROW(BD!$B$2:$B$138)-ROW(BD!$B$2)+1),FALSE),ROWS(BD!$1:16)))))","v":""}]
[null,null,{"$f":"IF($C$145=\"\",\"\",IF(ROWS(BD!$1:17)>COUNTIFS(BD!$B:$B,$C$145),\"\",INDEX(BD!$C$2:$C$138,SMALL(IF(BD!$B$2:$B$138=$C$145,IF(BD!$B$2:$B$138=$C$145,ROW(BD!$B$2:$B$138)-ROW(BD!$B$2)+1),FALSE),ROWS(BD!$1:17)))))","v":""},{"$f":"IF($C$145=\"\",\"\",IF(ROWS(BD!$1:17)>COUNTIFS(BD!$B:$B,$C$145),\"\",INDEX(BD!$E$2:$E$138,SMALL(IF(BD!$B$2:$B$138=$C$145,IF(BD!$B$2:$B$138=$C$145,ROW(BD!$B$2:$B$138)-ROW(BD!$B$2)+1),FALSE),ROWS(BD!$1:17)))))","v":""},{"$f":"IF($C$145=\"\",\"\",IF(ROWS(BD!$1:17)>COUNTIFS(BD!$B:$B,$C$145),\"\",INDEX(BD!$F$2:$F$138,SMALL(IF(BD!$B$2:$B$138=$C$145,IF(BD!$B$2:$B$138=$C$145,ROW(BD!$B$2:$B$138)-ROW(BD!$B$2)+1),FALSE),ROWS(BD!$1:17)))))","v":""},{"$f":"IF($C$145=\"\",\"\",IF(ROWS(BD!$1:17)>COUNTIFS(BD!$B:$B,$C$145),\"\",INDEX(BD!$G$2:$G$138,SMALL(IF(BD!$B$2:$B$138=$C$145,IF(BD!$B$2:$B$138=$C$145,ROW(BD!$B$2:$B$138)-ROW(BD!$B$2)+1),FALSE),ROWS(BD!$1:17)))))","v":""},{"$f":"IF($C$145=\"\",\"\",IF(ROWS(BD!$1:17)>COUNTIFS(BD!$B:$B,$C$145),\"\",INDEX(BD!$H$2:$H$138,SMALL(IF(BD!$B$2:$B$138=$C$145,IF(BD!$B$2:$B$138=$C$145,ROW(BD!$B$2:$B$138)-ROW(BD!$B$2)+1),FALSE),ROWS(BD!$1:17)))))","v":""},null,{"$f":"IF($I$145=\"\",\"\",IF(ROWS(BD!$1:17)>COUNTIFS(BD!$B:$B,$I$145),\"\",INDEX(BD!$C$2:$C$138,SMALL(IF(BD!$B$2:$B$138=$I$145,IF(BD!$B$2:$B$138=$I$145,ROW(BD!$B$2:$B$138)-ROW(BD!$B$2)+1),FALSE),ROWS(BD!$1:17)))))","v":""},{"$f":"IF($I$145=\"\",\"\",IF(ROWS(BD!$1:17)>COUNTIFS(BD!$B:$B,$I$145),\"\",INDEX(BD!$E$2:$E$138,SMALL(IF(BD!$B$2:$B$138=$I$145,IF(BD!$B$2:$B$138=$I$145,ROW(BD!$B$2:$B$138)-ROW(BD!$B$2)+1),FALSE),ROWS(BD!$1:17)))))","v":""},{"$f":"IF($I$145=\"\",\"\",IF(ROWS(BD!$1:17)>COUNTIFS(BD!$B:$B,$I$145),\"\",INDEX(BD!$F$2:$F$138,SMALL(IF(BD!$B$2:$B$138=$I$145,IF(BD!$B$2:$B$138=$I$145,ROW(BD!$B$2:$B$138)-ROW(BD!$B$2)+1),FALSE),ROWS(BD!$1:17)))))","v":""},{"$f":"IF($I$145=\"\",\"\",IF(ROWS(BD!$1:17)>COUNTIFS(BD!$B:$B,$I$145),\"\",INDEX(BD!$G$2:$G$138,SMALL(IF(BD!$B$2:$B$138=$I$145,IF(BD!$B$2:$B$138=$I$145,ROW(BD!$B$2:$B$138)-ROW(BD!$B$2)+1),FALSE),ROWS(BD!$1:17)))))","v":""},{"$f":"IF($I$145=\"\",\"\",IF(ROWS(BD!$1:17)>COUNTIFS(BD!$B:$B,$I$145),\"\",INDEX(BD!$H$2:$H$138,SMALL(IF(BD!$B$2:$B$138=$I$145,IF(BD!$B$2:$B$138=$I$145,ROW(BD!$B$2:$B$138)-ROW(BD!$B$2)+1),FALSE),ROWS(BD!$1:17)))))","v":""},null,{"$f":"IF($O$145=\"\",\"\",IF(ROWS(BD!$1:17)>COUNTIFS(BD!$B:$B,$O$145),\"\",INDEX(BD!$C$2:$C$138,SMALL(IF(BD!$B$2:$B$138=$O$145,IF(BD!$B$2:$B$138=$O$145,ROW(BD!$B$2:$B$138)-ROW(BD!$B$2)+1),FALSE),ROWS(BD!$1:17)))))","v":""},{"$f":"IF($O$145=\"\",\"\",IF(ROWS(BD!$1:17)>COUNTIFS(BD!$B:$B,$O$145),\"\",INDEX(BD!$E$2:$E$138,SMALL(IF(BD!$B$2:$B$138=$O$145,IF(BD!$B$2:$B$138=$O$145,ROW(BD!$B$2:$B$138)-ROW(BD!$B$2)+1),FALSE),ROWS(BD!$1:17)))))","v":""},{"$f":"IF($O$145=\"\",\"\",IF(ROWS(BD!$1:17)>COUNTIFS(BD!$B:$B,$O$145),\"\",INDEX(BD!$F$2:$F$138,SMALL(IF(BD!$B$2:$B$138=$O$145,IF(BD!$B$2:$B$138=$O$145,ROW(BD!$B$2:$B$138)-ROW(BD!$B$2)+1),FALSE),ROWS(BD!$1:17)))))","v":""},{"$f":"IF($O$145=\"\",\"\",IF(ROWS(BD!$1:17)>COUNTIFS(BD!$B:$B,$O$145),\"\",INDEX(BD!$G$2:$G$138,SMALL(IF(BD!$B$2:$B$138=$O$145,IF(BD!$B$2:$B$138=$O$145,ROW(BD!$B$2:$B$138)-ROW(BD!$B$2)+1),FALSE),ROWS(BD!$1:17)))))","v":""},{"$f":"IF($O$145=\"\",\"\",IF(ROWS(BD!$1:17)>COUNTIFS(BD!$B:$B,$O$145),\"\",INDEX(BD!$H$2:$H$138,SMALL(IF(BD!$B$2:$B$138=$O$145,IF(BD!$B$2:$B$138=$O$145,ROW(BD!$B$2:$B$138)-ROW(BD!$B$2)+1),FALSE),ROWS(BD!$1:17)))))","v":""},null,{"$f":"IF($U$145=\"\",\"\",IF(ROWS(BD!$1:17)>COUNTIFS(BD!$B:$B,$U$145),\"\",INDEX(BD!$C$2:$C$138,SMALL(IF(BD!$B$2:$B$138=$U$145,IF(BD!$B$2:$B$138=$U$145,ROW(BD!$B$2:$B$138)-ROW(BD!$B$2)+1),FALSE),ROWS(BD!$1:17)))))","v":""},{"$f":"IF($U$145=\"\",\"\",IF(ROWS(BD!$1:17)>COUNTIFS(BD!$B:$B,$U$145),\"\",INDEX(BD!$E$2:$E$138,SMALL(IF(BD!$B$2:$B$138=$U$145,IF(BD!$B$2:$B$138=$U$145,ROW(BD!$B$2:$B$138)-ROW(BD!$B$2)+1),FALSE),ROWS(BD!$1:17)))))","v":""},{"$f":"IF($U$145=\"\",\"\",IF(ROWS(BD!$1:17)>COUNTIFS(BD!$B:$B,$U$145),\"\",INDEX(BD!$F$2:$F$138,SMALL(IF(BD!$B$2:$B$138=$U$145,IF(BD!$B$2:$B$138=$U$145,ROW(BD!$B$2:$B$138)-ROW(BD!$B$2)+1),FALSE),ROWS(BD!$1:17)))))","v":""},{"$f":"IF($U$145=\"\",\"\",IF(ROWS(BD!$1:17)>COUNTIFS(BD!$B:$B,$U$145),\"\",INDEX(BD!$G$2:$G$138,SMALL(IF(BD!$B$2:$B$138=$U$145,IF(BD!$B$2:$B$138=$U$145,ROW(BD!$B$2:$B$138)-ROW(BD!$B$2)+1),FALSE),ROWS(BD!$1:17)))))","v":""},{"$f":"IF($U$145=\"\",\"\",IF(ROWS(BD!$1:17)>COUNTIFS(BD!$B:$B,$U$145),\"\",INDEX(BD!$H$2:$H$138,SMALL(IF(BD!$B$2:$B$138=$U$145,IF(BD!$B$2:$B$138=$U$145,ROW(BD!$B$2:$B$138)-ROW(BD!$B$2)+1),FALSE),ROWS(BD!$1:17)))))","v":""},null,{"$f":"IF($AA$145=\"\",\"\",IF(ROWS(BD!$1:17)>COUNTIFS(BD!$B:$B,$AA$145),\"\",INDEX(BD!$C$2:$C$138,SMALL(IF(BD!$B$2:$B$138=$AA$145,IF(BD!$B$2:$B$138=$AA$145,ROW(BD!$B$2:$B$138)-ROW(BD!$B$2)+1),FALSE),ROWS(BD!$1:17)))))","v":""},{"$f":"IF($AA$145=\"\",\"\",IF(ROWS(BD!$1:17)>COUNTIFS(BD!$B:$B,$AA$145),\"\",INDEX(BD!$E$2:$E$138,SMALL(IF(BD!$B$2:$B$138=$AA$145,IF(BD!$B$2:$B$138=$AA$145,ROW(BD!$B$2:$B$138)-ROW(BD!$B$2)+1),FALSE),ROWS(BD!$1:17)))))","v":""},{"$f":"IF($AA$145=\"\",\"\",IF(ROWS(BD!$1:17)>COUNTIFS(BD!$B:$B,$AA$145),\"\",INDEX(BD!$F$2:$F$138,SMALL(IF(BD!$B$2:$B$138=$AA$145,IF(BD!$B$2:$B$138=$AA$145,ROW(BD!$B$2:$B$138)-ROW(BD!$B$2)+1),FALSE),ROWS(BD!$1:17)))))","v":""},{"$f":"IF($AA$145=\"\",\"\",IF(ROWS(BD!$1:17)>COUNTIFS(BD!$B:$B,$AA$145),\"\",INDEX(BD!$G$2:$G$138,SMALL(IF(BD!$B$2:$B$138=$AA$145,IF(BD!$B$2:$B$138=$AA$145,ROW(BD!$B$2:$B$138)-ROW(BD!$B$2)+1),FALSE),ROWS(BD!$1:17)))))","v":""},{"$f":"IF($AA$145=\"\",\"\",IF(ROWS(BD!$1:17)>COUNTIFS(BD!$B:$B,$AA$145),\"\",INDEX(BD!$H$2:$H$138,SMALL(IF(BD!$B$2:$B$138=$AA$145,IF(BD!$B$2:$B$138=$AA$145,ROW(BD!$B$2:$B$138)-ROW(BD!$B$2)+1),FALSE),ROWS(BD!$1:17)))))","v":""},null,{"$f":"IF($AG$145=\"\",\"\",IF(ROWS(BD!$1:17)>COUNTIFS(BD!$B:$B,$AG$145),\"\",INDEX(BD!$C$2:$C$138,SMALL(IF(BD!$B$2:$B$138=$AG$145,IF(BD!$B$2:$B$138=$AG$145,ROW(BD!$B$2:$B$138)-ROW(BD!$B$2)+1),FALSE),ROWS(BD!$1:17)))))","v":""},{"$f":"IF($AG$145=\"\",\"\",IF(ROWS(BD!$1:17)>COUNTIFS(BD!$B:$B,$AG$145),\"\",INDEX(BD!$E$2:$E$138,SMALL(IF(BD!$B$2:$B$138=$AG$145,IF(BD!$B$2:$B$138=$AG$145,ROW(BD!$B$2:$B$138)-ROW(BD!$B$2)+1),FALSE),ROWS(BD!$1:17)))))","v":""},{"$f":"IF($AG$145=\"\",\"\",IF(ROWS(BD!$1:17)>COUNTIFS(BD!$B:$B,$AG$145),\"\",INDEX(BD!$F$2:$F$138,SMALL(IF(BD!$B$2:$B$138=$AG$145,IF(BD!$B$2:$B$138=$AG$145,ROW(BD!$B$2:$B$138)-ROW(BD!$B$2)+1),FALSE),ROWS(BD!$1:17)))))","v":""},{"$f":"IF($AG$145=\"\",\"\",IF(ROWS(BD!$1:17)>COUNTIFS(BD!$B:$B,$AG$145),\"\",INDEX(BD!$G$2:$G$138,SMALL(IF(BD!$B$2:$B$138=$AG$145,IF(BD!$B$2:$B$138=$AG$145,ROW(BD!$B$2:$B$138)-ROW(BD!$B$2)+1),FALSE),ROWS(BD!$1:17)))))","v":""},{"$f":"IF($AG$145=\"\",\"\",IF(ROWS(BD!$1:17)>COUNTIFS(BD!$B:$B,$AG$145),\"\",INDEX(BD!$H$2:$H$138,SMALL(IF(BD!$B$2:$B$138=$AG$145,IF(BD!$B$2:$B$138=$AG$145,ROW(BD!$B$2:$B$138)-ROW(BD!$B$2)+1),FALSE),ROWS(BD!$1:17)))))","v":""},null,{"$f":"IF($AM$145=\"\",\"\",IF(ROWS(BD!$1:17)>COUNTIFS(BD!$B:$B,$AM$145),\"\",INDEX(BD!$C$2:$C$138,SMALL(IF(BD!$B$2:$B$138=$AM$145,IF(BD!$B$2:$B$138=$AM$145,ROW(BD!$B$2:$B$138)-ROW(BD!$B$2)+1),FALSE),ROWS(BD!$1:17)))))","v":""},{"$f":"IF($AM$145=\"\",\"\",IF(ROWS(BD!$1:17)>COUNTIFS(BD!$B:$B,$AM$145),\"\",INDEX(BD!$E$2:$E$138,SMALL(IF(BD!$B$2:$B$138=$AM$145,IF(BD!$B$2:$B$138=$AM$145,ROW(BD!$B$2:$B$138)-ROW(BD!$B$2)+1),FALSE),ROWS(BD!$1:17)))))","v":""},{"$f":"IF($AM$145=\"\",\"\",IF(ROWS(BD!$1:17)>COUNTIFS(BD!$B:$B,$AM$145),\"\",INDEX(BD!$F$2:$F$138,SMALL(IF(BD!$B$2:$B$138=$AM$145,IF(BD!$B$2:$B$138=$AM$145,ROW(BD!$B$2:$B$138)-ROW(BD!$B$2)+1),FALSE),ROWS(BD!$1:17)))))","v":""},{"$f":"IF($AM$145=\"\",\"\",IF(ROWS(BD!$1:17)>COUNTIFS(BD!$B:$B,$AM$145),\"\",INDEX(BD!$G$2:$G$138,SMALL(IF(BD!$B$2:$B$138=$AM$145,IF(BD!$B$2:$B$138=$AM$145,ROW(BD!$B$2:$B$138)-ROW(BD!$B$2)+1),FALSE),ROWS(BD!$1:17)))))","v":""},{"$f":"IF($AM$145=\"\",\"\",IF(ROWS(BD!$1:17)>COUNTIFS(BD!$B:$B,$AM$145),\"\",INDEX(BD!$H$2:$H$138,SMALL(IF(BD!$B$2:$B$138=$AM$145,IF(BD!$B$2:$B$138=$AM$145,ROW(BD!$B$2:$B$138)-ROW(BD!$B$2)+1),FALSE),ROWS(BD!$1:17)))))","v":""}]
[null,null,{"$f":"IF($C$145=\"\",\"\",IF(ROWS(BD!$1:18)>COUNTIFS(BD!$B:$B,$C$145),\"\",INDEX(BD!$C$2:$C$138,SMALL(IF(BD!$B$2:$B$138=$C$145,IF(BD!$B$2:$B$138=$C$145,ROW(BD!$B$2:$B$138)-ROW(BD!$B$2)+1),FALSE),ROWS(BD!$1:18)))))","v":""},{"$f":"IF($C$145=\"\",\"\",IF(ROWS(BD!$1:18)>COUNTIFS(BD!$B:$B,$C$145),\"\",INDEX(BD!$E$2:$E$138,SMALL(IF(BD!$B$2:$B$138=$C$145,IF(BD!$B$2:$B$138=$C$145,ROW(BD!$B$2:$B$138)-ROW(BD!$B$2)+1),FALSE),ROWS(BD!$1:18)))))","v":""},{"$f":"IF($C$145=\"\",\"\",IF(ROWS(BD!$1:18)>COUNTIFS(BD!$B:$B,$C$145),\"\",INDEX(BD!$F$2:$F$138,SMALL(IF(BD!$B$2:$B$138=$C$145,IF(BD!$B$2:$B$138=$C$145,ROW(BD!$B$2:$B$138)-ROW(BD!$B$2)+1),FALSE),ROWS(BD!$1:18)))))","v":""},{"$f":"IF($C$145=\"\",\"\",IF(ROWS(BD!$1:18)>COUNTIFS(BD!$B:$B,$C$145),\"\",INDEX(BD!$G$2:$G$138,SMALL(IF(BD!$B$2:$B$138=$C$145,IF(BD!$B$2:$B$138=$C$145,ROW(BD!$B$2:$B$138)-ROW(BD!$B$2)+1),FALSE),ROWS(BD!$1:18)))))","v":""},{"$f":"IF($C$145=\"\",\"\",IF(ROWS(BD!$1:18)>COUNTIFS(BD!$B:$B,$C$145),\"\",INDEX(BD!$H$2:$H$138,SMALL(IF(BD!$B$2:$B$138=$C$145,IF(BD!$B$2:$B$138=$C$145,ROW(BD!$B$2:$B$138)-ROW(BD!$B$2)+1),FALSE),ROWS(BD!$1:18)))))","v":""},null,{"$f":"IF($I$145=\"\",\"\",IF(ROWS(BD!$1:18)>COUNTIFS(BD!$B:$B,$I$145),\"\",INDEX(BD!$C$2:$C$138,SMALL(IF(BD!$B$2:$B$138=$I$145,IF(BD!$B$2:$B$138=$I$145,ROW(BD!$B$2:$B$138)-ROW(BD!$B$2)+1),FALSE),ROWS(BD!$1:18)))))","v":""},{"$f":"IF($I$145=\"\",\"\",IF(ROWS(BD!$1:18)>COUNTIFS(BD!$B:$B,$I$145),\"\",INDEX(BD!$E$2:$E$138,SMALL(IF(BD!$B$2:$B$138=$I$145,IF(BD!$B$2:$B$138=$I$145,ROW(BD!$B$2:$B$138)-ROW(BD!$B$2)+1),FALSE),ROWS(BD!$1:18)))))","v":""},{"$f":"IF($I$145=\"\",\"\",IF(ROWS(BD!$1:18)>COUNTIFS(BD!$B:$B,$I$145),\"\",INDEX(BD!$F$2:$F$138,SMALL(IF(BD!$B$2:$B$138=$I$145,IF(BD!$B$2:$B$138=$I$145,ROW(BD!$B$2:$B$138)-ROW(BD!$B$2)+1),FALSE),ROWS(BD!$1:18)))))","v":""},{"$f":"IF($I$145=\"\",\"\",IF(ROWS(BD!$1:18)>COUNTIFS(BD!$B:$B,$I$145),\"\",INDEX(BD!$G$2:$G$138,SMALL(IF(BD!$B$2:$B$138=$I$145,IF(BD!$B$2:$B$138=$I$145,ROW(BD!$B$2:$B$138)-ROW(BD!$B$2)+1),FALSE),ROWS(BD!$1:18)))))","v":""},{"$f":"IF($I$145=\"\",\"\",IF(ROWS(BD!$1:18)>COUNTIFS(BD!$B:$B,$I$145),\"\",INDEX(BD!$H$2:$H$138,SMALL(IF(BD!$B$2:$B$138=$I$145,IF(BD!$B$2:$B$138=$I$145,ROW(BD!$B$2:$B$138)-ROW(BD!$B$2)+1),FALSE),ROWS(BD!$1:18)))))","v":""},null,{"$f":"IF($O$145=\"\",\"\",IF(ROWS(BD!$1:18)>COUNTIFS(BD!$B:$B,$O$145),\"\",INDEX(BD!$C$2:$C$138,SMALL(IF(BD!$B$2:$B$138=$O$145,IF(BD!$B$2:$B$138=$O$145,ROW(BD!$B$2:$B$138)-ROW(BD!$B$2)+1),FALSE),ROWS(BD!$1:18)))))","v":""},{"$f":"IF($O$145=\"\",\"\",IF(ROWS(BD!$1:18)>COUNTIFS(BD!$B:$B,$O$145),\"\",INDEX(BD!$E$2:$E$138,SMALL(IF(BD!$B$2:$B$138=$O$145,IF(BD!$B$2:$B$138=$O$145,ROW(BD!$B$2:$B$138)-ROW(BD!$B$2)+1),FALSE),ROWS(BD!$1:18)))))","v":""},{"$f":"IF($O$145=\"\",\"\",IF(ROWS(BD!$1:18)>COUNTIFS(BD!$B:$B,$O$145),\"\",INDEX(BD!$F$2:$F$138,SMALL(IF(BD!$B$2:$B$138=$O$145,IF(BD!$B$2:$B$138=$O$145,ROW(BD!$B$2:$B$138)-ROW(BD!$B$2)+1),FALSE),ROWS(BD!$1:18)))))","v":""},{"$f":"IF($O$145=\"\",\"\",IF(ROWS(BD!$1:18)>COUNTIFS(BD!$B:$B,$O$145),\"\",INDEX(BD!$G$2:$G$138,SMALL(IF(BD!$B$2:$B$138=$O$145,IF(BD!$B$2:$B$138=$O$145,ROW(BD!$B$2:$B$138)-ROW(BD!$B$2)+1),FALSE),ROWS(BD!$1:18)))))","v":""},{"$f":"IF($O$145=\"\",\"\",IF(ROWS(BD!$1:18)>COUNTIFS(BD!$B:$B,$O$145),\"\",INDEX(BD!$H$2:$H$138,SMALL(IF(BD!$B$2:$B$138=$O$145,IF(BD!$B$2:$B$138=$O$145,ROW(BD!$B$2:$B$138)-ROW(BD!$B$2)+1),FALSE),ROWS(BD!$1:18)))))","v":""},null,{"$f":"IF($U$145=\"\",\"\",IF(ROWS(BD!$1:18)>COUNTIFS(BD!$B:$B,$U$145),\"\",INDEX(BD!$C$2:$C$138,SMALL(IF(BD!$B$2:$B$138=$U$145,IF(BD!$B$2:$B$138=$U$145,ROW(BD!$B$2:$B$138)-ROW(BD!$B$2)+1),FALSE),ROWS(BD!$1:18)))))","v":""},{"$f":"IF($U$145=\"\",\"\",IF(ROWS(BD!$1:18)>COUNTIFS(BD!$B:$B,$U$145),\"\",INDEX(BD!$E$2:$E$138,SMALL(IF(BD!$B$2:$B$138=$U$145,IF(BD!$B$2:$B$138=$U$145,ROW(BD!$B$2:$B$138)-ROW(BD!$B$2)+1),FALSE),ROWS(BD!$1:18)))))","v":""},{"$f":"IF($U$145=\"\",\"\",IF(ROWS(BD!$1:18)>COUNTIFS(BD!$B:$B,$U$145),\"\",INDEX(BD!$F$2:$F$138,SMALL(IF(BD!$B$2:$B$138=$U$145,IF(BD!$B$2:$B$138=$U$145,ROW(BD!$B$2:$B$138)-ROW(BD!$B$2)+1),FALSE),ROWS(BD!$1:18)))))","v":""},{"$f":"IF($U$145=\"\",\"\",IF(ROWS(BD!$1:18)>COUNTIFS(BD!$B:$B,$U$145),\"\",INDEX(BD!$G$2:$G$138,SMALL(IF(BD!$B$2:$B$138=$U$145,IF(BD!$B$2:$B$138=$U$145,ROW(BD!$B$2:$B$138)-ROW(BD!$B$2)+1),FALSE),ROWS(BD!$1:18)))))","v":""},{"$f":"IF($U$145=\"\",\"\",IF(ROWS(BD!$1:18)>COUNTIFS(BD!$B:$B,$U$145),\"\",INDEX(BD!$H$2:$H$138,SMALL(IF(BD!$B$2:$B$138=$U$145,IF(BD!$B$2:$B$138=$U$145,ROW(BD!$B$2:$B$138)-ROW(BD!$B$2)+1),FALSE),ROWS(BD!$1:18)))))","v":""},null,{"$f":"IF($AA$145=\"\",\"\",IF(ROWS(BD!$1:18)>COUNTIFS(BD!$B:$B,$AA$145),\"\",INDEX(BD!$C$2:$C$138,SMALL(IF(BD!$B$2:$B$138=$AA$145,IF(BD!$B$2:$B$138=$AA$145,ROW(BD!$B$2:$B$138)-ROW(BD!$B$2)+1),FALSE),ROWS(BD!$1:18)))))","v":""},{"$f":"IF($AA$145=\"\",\"\",IF(ROWS(BD!$1:18)>COUNTIFS(BD!$B:$B,$AA$145),\"\",INDEX(BD!$E$2:$E$138,SMALL(IF(BD!$B$2:$B$138=$AA$145,IF(BD!$B$2:$B$138=$AA$145,ROW(BD!$B$2:$B$138)-ROW(BD!$B$2)+1),FALSE),ROWS(BD!$1:18)))))","v":""},{"$f":"IF($AA$145=\"\",\"\",IF(ROWS(BD!$1:18)>COUNTIFS(BD!$B:$B,$AA$145),\"\",INDEX(BD!$F$2:$F$138,SMALL(IF(BD!$B$2:$B$138=$AA$145,IF(BD!$B$2:$B$138=$AA$145,ROW(BD!$B$2:$B$138)-ROW(BD!$B$2)+1),FALSE),ROWS(BD!$1:18)))))","v":""},{"$f":"IF($AA$145=\"\",\"\",IF(ROWS(BD!$1:18)>COUNTIFS(BD!$B:$B,$AA$145),\"\",INDEX(BD!$G$2:$G$138,SMALL(IF(BD!$B$2:$B$138=$AA$145,IF(BD!$B$2:$B$138=$AA$145,ROW(BD!$B$2:$B$138)-ROW(BD!$B$2)+1),FALSE),ROWS(BD!$1:18)))))","v":""},{"$f":"IF($AA$145=\"\",\"\",IF(ROWS(BD!$1:18)>COUNTIFS(BD!$B:$B,$AA$145),\"\",INDEX(BD!$H$2:$H$138,SMALL(IF(BD!$B$2:$B$138=$AA$145,IF(BD!$B$2:$B$138=$AA$145,ROW(BD!$B$2:$B$138)-ROW(BD!$B$2)+1),FALSE),ROWS(BD!$1:18)))))","v":""},null,{"$f":"IF($AG$145=\"\",\"\",IF(ROWS(BD!$1:18)>COUNTIFS(BD!$B:$B,$AG$145),\"\",INDEX(BD!$C$2:$C$138,SMALL(IF(BD!$B$2:$B$138=$AG$145,IF(BD!$B$2:$B$138=$AG$145,ROW(BD!$B$2:$B$138)-ROW(BD!$B$2)+1),FALSE),ROWS(BD!$1:18)))))","v":""},{"$f":"IF($AG$145=\"\",\"\",IF(ROWS(BD!$1:18)>COUNTIFS(BD!$B:$B,$AG$145),\"\",INDEX(BD!$E$2:$E$138,SMALL(IF(BD!$B$2:$B$138=$AG$145,IF(BD!$B$2:$B$138=$AG$145,ROW(BD!$B$2:$B$138)-ROW(BD!$B$2)+1),FALSE),ROWS(BD!$1:18)))))","v":""},{"$f":"IF($AG$145=\"\",\"\",IF(ROWS(BD!$1:18)>COUNTIFS(BD!$B:$B,$AG$145),\"\",INDEX(BD!$F$2:$F$138,SMALL(IF(BD!$B$2:$B$138=$AG$145,IF(BD!$B$2:$B$138=$AG$145,ROW(BD!$B$2:$B$138)-ROW(BD!$B$2)+1),FALSE),ROWS(BD!$1:18)))))","v":""},{"$f":"IF($AG$145=\"\",\"\",IF(ROWS(BD!$1:18)>COUNTIFS(BD!$B:$B,$AG$145),\"\",INDEX(BD!$G$2:$G$138,SMALL(IF(BD!$B$2:$B$138=$AG$145,IF(BD!$B$2:$B$138=$AG$145,ROW(BD!$B$2:$B$138)-ROW(BD!$B$2)+1),FALSE),ROWS(BD!$1:18)))))","v":""},{"$f":"IF($AG$145=\"\",\"\",IF(ROWS(BD!$1:18)>COUNTIFS(BD!$B:$B,$AG$145),\"\",INDEX(BD!$H$2:$H$138,SMALL(IF(BD!$B$2:$B$138=$AG$145,IF(BD!$B$2:$B$138=$AG$145,ROW(BD!$B$2:$B$138)-ROW(BD!$B$2)+1),FALSE),ROWS(BD!$1:18)))))","v":""},null,{"$f":"IF($AM$145=\"\",\"\",IF(ROWS(BD!$1:18)>COUNTIFS(BD!$B:$B,$AM$145),\"\",INDEX(BD!$C$2:$C$138,SMALL(IF(BD!$B$2:$B$138=$AM$145,IF(BD!$B$2:$B$138=$AM$145,ROW(BD!$B$2:$B$138)-ROW(BD!$B$2)+1),FALSE),ROWS(BD!$1:18)))))","v":""},{"$f":"IF($AM$145=\"\",\"\",IF(ROWS(BD!$1:18)>COUNTIFS(BD!$B:$B,$AM$145),\"\",INDEX(BD!$E$2:$E$138,SMALL(IF(BD!$B$2:$B$138=$AM$145,IF(BD!$B$2:$B$138=$AM$145,ROW(BD!$B$2:$B$138)-ROW(BD!$B$2)+1),FALSE),ROWS(BD!$1:18)))))","v":""},{"$f":"IF($AM$145=\"\",\"\",IF(ROWS(BD!$1:18)>COUNTIFS(BD!$B:$B,$AM$145),\"\",INDEX(BD!$F$2:$F$138,SMALL(IF(BD!$B$2:$B$138=$AM$145,IF(BD!$B$2:$B$138=$AM$145,ROW(BD!$B$2:$B$138)-ROW(BD!$B$2)+1),FALSE),ROWS(BD!$1:18)))))","v":""},{"$f":"IF($AM$145=\"\",\"\",IF(ROWS(BD!$1:18)>COUNTIFS(BD!$B:$B,$AM$145),\"\",INDEX(BD!$G$2:$G$138,SMALL(IF(BD!$B$2:$B$138=$AM$145,IF(BD!$B$2:$B$138=$AM$145,ROW(BD!$B$2:$B$138)-ROW(BD!$B$2)+1),FALSE),ROWS(BD!$1:18)))))","v":""},{"$f":"IF($AM$145=\"\",\"\",IF(ROWS(BD!$1:18)>COUNTIFS(BD!$B:$B,$AM$145),\"\",INDEX(BD!$H$2:$H$138,SMALL(IF(BD!$B$2:$B$138=$AM$145,IF(BD!$B$2:$B$138=$AM$145,ROW(BD!$B$2:$B$138)-ROW(BD!$B$2)+1),FALSE),ROWS(BD!$1:18)))))","v":""}]
[null,null,{"$f":"IF($C$145=\"\",\"\",IF(ROWS(BD!$1:19)>COUNTIFS(BD!$B:$B,$C$145),\"\",INDEX(BD!$C$2:$C$138,SMALL(IF(BD!$B$2:$B$138=$C$145,IF(BD!$B$2:$B$138=$C$145,ROW(BD!$B$2:$B$138)-ROW(BD!$B$2)+1),FALSE),ROWS(BD!$1:19)))))","v":""},{"$f":"IF($C$145=\"\",\"\",IF(ROWS(BD!$1:19)>COUNTIFS(BD!$B:$B,$C$145),\"\",INDEX(BD!$E$2:$E$138,SMALL(IF(BD!$B$2:$B$138=$C$145,IF(BD!$B$2:$B$138=$C$145,ROW(BD!$B$2:$B$138)-ROW(BD!$B$2)+1),FALSE),ROWS(BD!$1:19)))))","v":""},{"$f":"IF($C$145=\"\",\"\",IF(ROWS(BD!$1:19)>COUNTIFS(BD!$B:$B,$C$145),\"\",INDEX(BD!$F$2:$F$138,SMALL(IF(BD!$B$2:$B$138=$C$145,IF(BD!$B$2:$B$138=$C$145,ROW(BD!$B$2:$B$138)-ROW(BD!$B$2)+1),FALSE),ROWS(BD!$1:19)))))","v":""},{"$f":"IF($C$145=\"\",\"\",IF(ROWS(BD!$1:19)>COUNTIFS(BD!$B:$B,$C$145),\"\",INDEX(BD!$G$2:$G$138,SMALL(IF(BD!$B$2:$B$138=$C$145,IF(BD!$B$2:$B$138=$C$145,ROW(BD!$B$2:$B$138)-ROW(BD!$B$2)+1),FALSE),ROWS(BD!$1:19)))))","v":""},{"$f":"IF($C$145=\"\",\"\",IF(ROWS(BD!$1:19)>COUNTIFS(BD!$B:$B,$C$145),\"\",INDEX(BD!$H$2:$H$138,SMALL(IF(BD!$B$2:$B$138=$C$145,IF(BD!$B$2:$B$138=$C$145,ROW(BD!$B$2:$B$138)-ROW(BD!$B$2)+1),FALSE),ROWS(BD!$1:19)))))","v":""},null,{"$f":"IF($I$145=\"\",\"\",IF(ROWS(BD!$1:19)>COUNTIFS(BD!$B:$B,$I$145),\"\",INDEX(BD!$C$2:$C$138,SMALL(IF(BD!$B$2:$B$138=$I$145,IF(BD!$B$2:$B$138=$I$145,ROW(BD!$B$2:$B$138)-ROW(BD!$B$2)+1),FALSE),ROWS(BD!$1:19)))))","v":""},{"$f":"IF($I$145=\"\",\"\",IF(ROWS(BD!$1:19)>COUNTIFS(BD!$B:$B,$I$145),\"\",INDEX(BD!$E$2:$E$138,SMALL(IF(BD!$B$2:$B$138=$I$145,IF(BD!$B$2:$B$138=$I$145,ROW(BD!$B$2:$B$138)-ROW(BD!$B$2)+1),FALSE),ROWS(BD!$1:19)))))","v":""},{"$f":"IF($I$145=\"\",\"\",IF(ROWS(BD!$1:19)>COUNTIFS(BD!$B:$B,$I$145),\"\",INDEX(BD!$F$2:$F$138,SMALL(IF(BD!$B$2:$B$138=$I$145,IF(BD!$B$2:$B$138=$I$145,ROW(BD!$B$2:$B$138)-ROW(BD!$B$2)+1),FALSE),ROWS(BD!$1:19)))))","v":""},{"$f":"IF($I$145=\"\",\"\",IF(ROWS(BD!$1:19)>COUNTIFS(BD!$B:$B,$I$145),\"\",INDEX(BD!$G$2:$G$138,SMALL(IF(BD!$B$2:$B$138=$I$145,IF(BD!$B$2:$B$138=$I$145,ROW(BD!$B$2:$B$138)-ROW(BD!$B$2)+1),FALSE),ROWS(BD!$1:19)))))","v":""},{"$f":"IF($I$145=\"\",\"\",IF(ROWS(BD!$1:19)>COUNTIFS(BD!$B:$B,$I$145),\"\",INDEX(BD!$H$2:$H$138,SMALL(IF(BD!$B$2:$B$138=$I$145,IF(BD!$B$2:$B$138=$I$145,ROW(BD!$B$2:$B$138)-ROW(BD!$B$2)+1),FALSE),ROWS(BD!$1:19)))))","v":""},null,{"$f":"IF($O$145=\"\",\"\",IF(ROWS(BD!$1:19)>COUNTIFS(BD!$B:$B,$O$145),\"\",INDEX(BD!$C$2:$C$138,SMALL(IF(BD!$B$2:$B$138=$O$145,IF(BD!$B$2:$B$138=$O$145,ROW(BD!$B$2:$B$138)-ROW(BD!$B$2)+1),FALSE),ROWS(BD!$1:19)))))","v":""},{"$f":"IF($O$145=\"\",\"\",IF(ROWS(BD!$1:19)>COUNTIFS(BD!$B:$B,$O$145),\"\",INDEX(BD!$E$2:$E$138,SMALL(IF(BD!$B$2:$B$138=$O$145,IF(BD!$B$2:$B$138=$O$145,ROW(BD!$B$2:$B$138)-ROW(BD!$B$2)+1),FALSE),ROWS(BD!$1:19)))))","v":""},{"$f":"IF($O$145=\"\",\"\",IF(ROWS(BD!$1:19)>COUNTIFS(BD!$B:$B,$O$145),\"\",INDEX(BD!$F$2:$F$138,SMALL(IF(BD!$B$2:$B$138=$O$145,IF(BD!$B$2:$B$138=$O$145,ROW(BD!$B$2:$B$138)-ROW(BD!$B$2)+1),FALSE),ROWS(BD!$1:19)))))","v":""},{"$f":"IF($O$145=\"\",\"\",IF(ROWS(BD!$1:19)>COUNTIFS(BD!$B:$B,$O$145),\"\",INDEX(BD!$G$2:$G$138,SMALL(IF(BD!$B$2:$B$138=$O$145,IF(BD!$B$2:$B$138=$O$145,ROW(BD!$B$2:$B$138)-ROW(BD!$B$2)+1),FALSE),ROWS(BD!$1:19)))))","v":""},{"$f":"IF($O$145=\"\",\"\",IF(ROWS(BD!$1:19)>COUNTIFS(BD!$B:$B,$O$145),\"\",INDEX(BD!$H$2:$H$138,SMALL(IF(BD!$B$2:$B$138=$O$145,IF(BD!$B$2:$B$138=$O$145,ROW(BD!$B$2:$B$138)-ROW(BD!$B$2)+1),FALSE),ROWS(BD!$1:19)))))","v":""},null,{"$f":"IF($U$145=\"\",\"\",IF(ROWS(BD!$1:19)>COUNTIFS(BD!$B:$B,$U$145),\"\",INDEX(BD!$C$2:$C$138,SMALL(IF(BD!$B$2:$B$138=$U$145,IF(BD!$B$2:$B$138=$U$145,ROW(BD!$B$2:$B$138)-ROW(BD!$B$2)+1),FALSE),ROWS(BD!$1:19)))))","v":""},{"$f":"IF($U$145=\"\",\"\",IF(ROWS(BD!$1:19)>COUNTIFS(BD!$B:$B,$U$145),\"\",INDEX(BD!$E$2:$E$138,SMALL(IF(BD!$B$2:$B$138=$U$145,IF(BD!$B$2:$B$138=$U$145,ROW(BD!$B$2:$B$138)-ROW(BD!$B$2)+1),FALSE),ROWS(BD!$1:19)))))","v":""},{"$f":"IF($U$145=\"\",\"\",IF(ROWS(BD!$1:19)>COUNTIFS(BD!$B:$B,$U$145),\"\",INDEX(BD!$F$2:$F$138,SMALL(IF(BD!$B$2:$B$138=$U$145,IF(BD!$B$2:$B$138=$U$145,ROW(BD!$B$2:$B$138)-ROW(BD!$B$2)+1),FALSE),ROWS(BD!$1:19)))))","v":""},{"$f":"IF($U$145=\"\",\"\",IF(ROWS(BD!$1:19)>COUNTIFS(BD!$B:$B,$U$145),\"\",INDEX(BD!$G$2:$G$138,SMALL(IF(BD!$B$2:$B$138=$U$145,IF(BD!$B$2:$B$138=$U$145,ROW(BD!$B$2:$B$138)-ROW(BD!$B$2)+1),FALSE),ROWS(BD!$1:19)))))","v":""},{"$f":"IF($U$145=\"\",\"\",IF(ROWS(BD!$1:19)>COUNTIFS(BD!$B:$B,$U$145),\"\",INDEX(BD!$H$2:$H$138,SMALL(IF(BD!$B$2:$B$138=$U$145,IF(BD!$B$2:$B$138=$U$145,ROW(BD!$B$2:$B$138)-ROW(BD!$B$2)+1),FALSE),ROWS(BD!$1:19)))))","v":""},null,{"$f":"IF($AA$145=\"\",\"\",IF(ROWS(BD!$1:19)>COUNTIFS(BD!$B:$B,$AA$145),\"\",INDEX(BD!$C$2:$C$138,SMALL(IF(BD!$B$2:$B$138=$AA$145,IF(BD!$B$2:$B$138=$AA$145,ROW(BD!$B$2:$B$138)-ROW(BD!$B$2)+1),FALSE),ROWS(BD!$1:19)))))","v":""},{"$f":"IF($AA$145=\"\",\"\",IF(ROWS(BD!$1:19)>COUNTIFS(BD!$B:$B,$AA$145),\"\",INDEX(BD!$E$2:$E$138,SMALL(IF(BD!$B$2:$B$138=$AA$145,IF(BD!$B$2:$B$138=$AA$145,ROW(BD!$B$2:$B$138)-ROW(BD!$B$2)+1),FALSE),ROWS(BD!$1:19)))))","v":""},{"$f":"IF($AA$145=\"\",\"\",IF(ROWS(BD!$1:19)>COUNTIFS(BD!$B:$B,$AA$145),\"\",INDEX(BD!$F$2:$F$138,SMALL(IF(BD!$B$2:$B$138=$AA$145,IF(BD!$B$2:$B$138=$AA$145,ROW(BD!$B$2:$B$138)-ROW(BD!$B$2)+1),FALSE),ROWS(BD!$1:19)))))","v":""},{"$f":"IF($AA$145=\"\",\"\",IF(ROWS(BD!$1:19)>COUNTIFS(BD!$B:$B,$AA$145),\"\",INDEX(BD!$G$2:$G$138,SMALL(IF(BD!$B$2:$B$138=$AA$145,IF(BD!$B$2:$B$138=$AA$145,ROW(BD!$B$2:$B$138)-ROW(BD!$B$2)+1),FALSE),ROWS(BD!$1:19)))))","v":""},{"$f":"IF($AA$145=\"\",\"\",IF(ROWS(BD!$1:19)>COUNTIFS(BD!$B:$B,$AA$145),\"\",INDEX(BD!$H$2:$H$138,SMALL(IF(BD!$B$2:$B$138=$AA$145,IF(BD!$B$2:$B$138=$AA$145,ROW(BD!$B$2:$B$138)-ROW(BD!$B$2)+1),FALSE),ROWS(BD!$1:19)))))","v":""},null,{"$f":"IF($AG$145=\"\",\"\",IF(ROWS(BD!$1:19)>COUNTIFS(BD!$B:$B,$AG$145),\"\",INDEX(BD!$C$2:$C$138,SMALL(IF(BD!$B$2:$B$138=$AG$145,IF(BD!$B$2:$B$138=$AG$145,ROW(BD!$B$2:$B$138)-ROW(BD!$B$2)+1),FALSE),ROWS(BD!$1:19)))))","v":""},{"$f":"IF($AG$145=\"\",\"\",IF(ROWS(BD!$1:19)>COUNTIFS(BD!$B:$B,$AG$145),\"\",INDEX(BD!$E$2:$E$138,SMALL(IF(BD!$B$2:$B$138=$AG$145,IF(BD!$B$2:$B$138=$AG$145,ROW(BD!$B$2:$B$138)-ROW(BD!$B$2)+1),FALSE),ROWS(BD!$1:19)))))","v":""},{"$f":"IF($AG$145=\"\",\"\",IF(ROWS(BD!$1:19)>COUNTIFS(BD!$B:$B,$AG$145),\"\",INDEX(BD!$F$2:$F$138,SMALL(IF(BD!$B$2:$B$138=$AG$145,IF(BD!$B$2:$B$138=$AG$145,ROW(BD!$B$2:$B$138)-ROW(BD!$B$2)+1),FALSE),ROWS(BD!$1:19)))))","v":""},{"$f":"IF($AG$145=\"\",\"\",IF(ROWS(BD!$1:19)>COUNTIFS(BD!$B:$B,$AG$145),\"\",INDEX(BD!$G$2:$G$138,SMALL(IF(BD!$B$2:$B$138=$AG$145,IF(BD!$B$2:$B$138=$AG$145,ROW(BD!$B$2:$B$138)-ROW(BD!$B$2)+1),FALSE),ROWS(BD!$1:19)))))","v":""},{"$f":"IF($AG$145=\"\",\"\",IF(ROWS(BD!$1:19)>COUNTIFS(BD!$B:$B,$AG$145),\"\",INDEX(BD!$H$2:$H$138,SMALL(IF(BD!$B$2:$B$138=$AG$145,IF(BD!$B$2:$B$138=$AG$145,ROW(BD!$B$2:$B$138)-ROW(BD!$B$2)+1),FALSE),ROWS(BD!$1:19)))))","v":""},null,{"$f":"IF($AM$145=\"\",\"\",IF(ROWS(BD!$1:19)>COUNTIFS(BD!$B:$B,$AM$145),\"\",INDEX(BD!$C$2:$C$138,SMALL(IF(BD!$B$2:$B$138=$AM$145,IF(BD!$B$2:$B$138=$AM$145,ROW(BD!$B$2:$B$138)-ROW(BD!$B$2)+1),FALSE),ROWS(BD!$1:19)))))","v":""},{"$f":"IF($AM$145=\"\",\"\",IF(ROWS(BD!$1:19)>COUNTIFS(BD!$B:$B,$AM$145),\"\",INDEX(BD!$E$2:$E$138,SMALL(IF(BD!$B$2:$B$138=$AM$145,IF(BD!$B$2:$B$138=$AM$145,ROW(BD!$B$2:$B$138)-ROW(BD!$B$2)+1),FALSE),ROWS(BD!$1:19)))))","v":""},{"$f":"IF($AM$145=\"\",\"\",IF(ROWS(BD!$1:19)>COUNTIFS(BD!$B:$B,$AM$145),\"\",INDEX(BD!$F$2:$F$138,SMALL(IF(BD!$B$2:$B$138=$AM$145,IF(BD!$B$2:$B$138=$AM$145,ROW(BD!$B$2:$B$138)-ROW(BD!$B$2)+1),FALSE),ROWS(BD!$1:19)))))","v":""},{"$f":"IF($AM$145=\"\",\"\",IF(ROWS(BD!$1:19)>COUNTIFS(BD!$B:$B,$AM$145),\"\",INDEX(BD!$G$2:$G$138,SMALL(IF(BD!$B$2:$B$138=$AM$145,IF(BD!$B$2:$B$138=$AM$145,ROW(BD!$B$2:$B$138)-ROW(BD!$B$2)+1),FALSE),ROWS(BD!$1:19)))))","v":""},{"$f":"IF($AM$145=\"\",\"\",IF(ROWS(BD!$1:19)>COUNTIFS(BD!$B:$B,$AM$145),\"\",INDEX(BD!$H$2:$H$138,SMALL(IF(BD!$B$2:$B$138=$AM$145,IF(BD!$B$2:$B$138=$AM$145,ROW(BD!$B$2:$B$138)-ROW(BD!$B$2)+1),FALSE),ROWS(BD!$1:19)))))","v":""}]
[null,null,{"$f":"IF($C$145=\"\",\"\",IF(ROWS(BD!$1:20)>COUNTIFS(BD!$B:$B,$C$145),\"\",INDEX(BD!$C$2:$C$138,SMALL(IF(BD!$B$2:$B$138=$C$145,IF(BD!$B$2:$B$138=$C$145,ROW(BD!$B$2:$B$138)-ROW(BD!$B$2)+1),FALSE),ROWS(BD!$1:20)))))","v":""},{"$f":"IF($C$145=\"\",\"\",IF(ROWS(BD!$1:20)>COUNTIFS(BD!$B:$B,$C$145),\"\",INDEX(BD!$E$2:$E$138,SMALL(IF(BD!$B$2:$B$138=$C$145,IF(BD!$B$2:$B$138=$C$145,ROW(BD!$B$2:$B$138)-ROW(BD!$B$2)+1),FALSE),ROWS(BD!$1:20)))))","v":""},{"$f":"IF($C$145=\"\",\"\",IF(ROWS(BD!$1:20)>COUNTIFS(BD!$B:$B,$C$145),\"\",INDEX(BD!$F$2:$F$138,SMALL(IF(BD!$B$2:$B$138=$C$145,IF(BD!$B$2:$B$138=$C$145,ROW(BD!$B$2:$B$138)-ROW(BD!$B$2)+1),FALSE),ROWS(BD!$1:20)))))","v":""},{"$f":"IF($C$145=\"\",\"\",IF(ROWS(BD!$1:20)>COUNTIFS(BD!$B:$B,$C$145),\"\",INDEX(BD!$G$2:$G$138,SMALL(IF(BD!$B$2:$B$138=$C$145,IF(BD!$B$2:$B$138=$C$145,ROW(BD!$B$2:$B$138)-ROW(BD!$B$2)+1),FALSE),ROWS(BD!$1:20)))))","v":""},{"$f":"IF($C$145=\"\",\"\",IF(ROWS(BD!$1:20)>COUNTIFS(BD!$B:$B,$C$145),\"\",INDEX(BD!$H$2:$H$138,SMALL(IF(BD!$B$2:$B$138=$C$145,IF(BD!$B$2:$B$138=$C$145,ROW(BD!$B$2:$B$138)-ROW(BD!$B$2)+1),FALSE),ROWS(BD!$1:20)))))","v":""},null,{"$f":"IF($I$145=\"\",\"\",IF(ROWS(BD!$1:20)>COUNTIFS(BD!$B:$B,$I$145),\"\",INDEX(BD!$C$2:$C$138,SMALL(IF(BD!$B$2:$B$138=$I$145,IF(BD!$B$2:$B$138=$I$145,ROW(BD!$B$2:$B$138)-ROW(BD!$B$2)+1),FALSE),ROWS(BD!$1:20)))))","v":""},{"$f":"IF($I$145=\"\",\"\",IF(ROWS(BD!$1:20)>COUNTIFS(BD!$B:$B,$I$145),\"\",INDEX(BD!$E$2:$E$138,SMALL(IF(BD!$B$2:$B$138=$I$145,IF(BD!$B$2:$B$138=$I$145,ROW(BD!$B$2:$B$138)-ROW(BD!$B$2)+1),FALSE),ROWS(BD!$1:20)))))","v":""},{"$f":"IF($I$145=\"\",\"\",IF(ROWS(BD!$1:20)>COUNTIFS(BD!$B:$B,$I$145),\"\",INDEX(BD!$F$2:$F$138,SMALL(IF(BD!$B$2:$B$138=$I$145,IF(BD!$B$2:$B$138=$I$145,ROW(BD!$B$2:$B$138)-ROW(BD!$B$2)+1),FALSE),ROWS(BD!$1:20)))))","v":""},{"$f":"IF($I$145=\"\",\"\",IF(ROWS(BD!$1:20)>COUNTIFS(BD!$B:$B,$I$145),\"\",INDEX(BD!$G$2:$G$138,SMALL(IF(BD!$B$2:$B$138=$I$145,IF(BD!$B$2:$B$138=$I$145,ROW(BD!$B$2:$B$138)-ROW(BD!$B$2)+1),FALSE),ROWS(BD!$1:20)))))","v":""},{"$f":"IF($I$145=\"\",\"\",IF(ROWS(BD!$1:20)>COUNTIFS(BD!$B:$B,$I$145),\"\",INDEX(BD!$H$2:$H$138,SMALL(IF(BD!$B$2:$B$138=$I$145,IF(BD!$B$2:$B$138=$I$145,ROW(BD!$B$2:$B$138)-ROW(BD!$B$2)+1),FALSE),ROWS(BD!$1:20)))))","v":""},null,{"$f":"IF($O$145=\"\",\"\",IF(ROWS(BD!$1:20)>COUNTIFS(BD!$B:$B,$O$145),\"\",INDEX(BD!$C$2:$C$138,SMALL(IF(BD!$B$2:$B$138=$O$145,IF(BD!$B$2:$B$138=$O$145,ROW(BD!$B$2:$B$138)-ROW(BD!$B$2)+1),FALSE),ROWS(BD!$1:20)))))","v":""},{"$f":"IF($O$145=\"\",\"\",IF(ROWS(BD!$1:20)>COUNTIFS(BD!$B:$B,$O$145),\"\",INDEX(BD!$E$2:$E$138,SMALL(IF(BD!$B$2:$B$138=$O$145,IF(BD!$B$2:$B$138=$O$145,ROW(BD!$B$2:$B$138)-ROW(BD!$B$2)+1),FALSE),ROWS(BD!$1:20)))))","v":""},{"$f":"IF($O$145=\"\",\"\",IF(ROWS(BD!$1:20)>COUNTIFS(BD!$B:$B,$O$145),\"\",INDEX(BD!$F$2:$F$138,SMALL(IF(BD!$B$2:$B$138=$O$145,IF(BD!$B$2:$B$138=$O$145,ROW(BD!$B$2:$B$138)-ROW(BD!$B$2)+1),FALSE),ROWS(BD!$1:20)))))","v":""},{"$f":"IF($O$145=\"\",\"\",IF(ROWS(BD!$1:20)>COUNTIFS(BD!$B:$B,$O$145),\"\",INDEX(BD!$G$2:$G$138,SMALL(IF(BD!$B$2:$B$138=$O$145,IF(BD!$B$2:$B$138=$O$145,ROW(BD!$B$2:$B$138)-ROW(BD!$B$2)+1),FALSE),ROWS(BD!$1:20)))))","v":""},{"$f":"IF($O$145=\"\",\"\",IF(ROWS(BD!$1:20)>COUNTIFS(BD!$B:$B,$O$145),\"\",INDEX(BD!$H$2:$H$138,SMALL(IF(BD!$B$2:$B$138=$O$145,IF(BD!$B$2:$B$138=$O$145,ROW(BD!$B$2:$B$138)-ROW(BD!$B$2)+1),FALSE),ROWS(BD!$1:20)))))","v":""},null,{"$f":"IF($U$145=\"\",\"\",IF(ROWS(BD!$1:20)>COUNTIFS(BD!$B:$B,$U$145),\"\",INDEX(BD!$C$2:$C$138,SMALL(IF(BD!$B$2:$B$138=$U$145,IF(BD!$B$2:$B$138=$U$145,ROW(BD!$B$2:$B$138)-ROW(BD!$B$2)+1),FALSE),ROWS(BD!$1:20)))))","v":""},{"$f":"IF($U$145=\"\",\"\",IF(ROWS(BD!$1:20)>COUNTIFS(BD!$B:$B,$U$145),\"\",INDEX(BD!$E$2:$E$138,SMALL(IF(BD!$B$2:$B$138=$U$145,IF(BD!$B$2:$B$138=$U$145,ROW(BD!$B$2:$B$138)-ROW(BD!$B$2)+1),FALSE),ROWS(BD!$1:20)))))","v":""},{"$f":"IF($U$145=\"\",\"\",IF(ROWS(BD!$1:20)>COUNTIFS(BD!$B:$B,$U$145),\"\",INDEX(BD!$F$2:$F$138,SMALL(IF(BD!$B$2:$B$138=$U$145,IF(BD!$B$2:$B$138=$U$145,ROW(BD!$B$2:$B$138)-ROW(BD!$B$2)+1),FALSE),ROWS(BD!$1:20)))))","v":""},{"$f":"IF($U$145=\"\",\"\",IF(ROWS(BD!$1:20)>COUNTIFS(BD!$B:$B,$U$145),\"\",INDEX(BD!$G$2:$G$138,SMALL(IF(BD!$B$2:$B$138=$U$145,IF(BD!$B$2:$B$138=$U$145,ROW(BD!$B$2:$B$138)-ROW(BD!$B$2)+1),FALSE),ROWS(BD!$1:20)))))","v":""},{"$f":"IF($U$145=\"\",\"\",IF(ROWS(BD!$1:20)>COUNTIFS(BD!$B:$B,$U$145),\"\",INDEX(BD!$H$2:$H$138,SMALL(IF(BD!$B$2:$B$138=$U$145,IF(BD!$B$2:$B$138=$U$145,ROW(BD!$B$2:$B$138)-ROW(BD!$B$2)+1),FALSE),ROWS(BD!$1:20)))))","v":""},null,{"$f":"IF($AA$145=\"\",\"\",IF(ROWS(BD!$1:20)>COUNTIFS(BD!$B:$B,$AA$145),\"\",INDEX(BD!$C$2:$C$138,SMALL(IF(BD!$B$2:$B$138=$AA$145,IF(BD!$B$2:$B$138=$AA$145,ROW(BD!$B$2:$B$138)-ROW(BD!$B$2)+1),FALSE),ROWS(BD!$1:20)))))","v":""},{"$f":"IF($AA$145=\"\",\"\",IF(ROWS(BD!$1:20)>COUNTIFS(BD!$B:$B,$AA$145),\"\",INDEX(BD!$E$2:$E$138,SMALL(IF(BD!$B$2:$B$138=$AA$145,IF(BD!$B$2:$B$138=$AA$145,ROW(BD!$B$2:$B$138)-ROW(BD!$B$2)+1),FALSE),ROWS(BD!$1:20)))))","v":""},{"$f":"IF($AA$145=\"\",\"\",IF(ROWS(BD!$1:20)>COUNTIFS(BD!$B:$B,$AA$145),\"\",INDEX(BD!$F$2:$F$138,SMALL(IF(BD!$B$2:$B$138=$AA$145,IF(BD!$B$2:$B$138=$AA$145,ROW(BD!$B$2:$B$138)-ROW(BD!$B$2)+1),FALSE),ROWS(BD!$1:20)))))","v":""},{"$f":"IF($AA$145=\"\",\"\",IF(ROWS(BD!$1:20)>COUNTIFS(BD!$B:$B,$AA$145),\"\",INDEX(BD!$G$2:$G$138,SMALL(IF(BD!$B$2:$B$138=$AA$145,IF(BD!$B$2:$B$138=$AA$145,ROW(BD!$B$2:$B$138)-ROW(BD!$B$2)+1),FALSE),ROWS(BD!$1:20)))))","v":""},{"$f":"IF($AA$145=\"\",\"\",IF(ROWS(BD!$1:20)>COUNTIFS(BD!$B:$B,$AA$145),\"\",INDEX(BD!$H$2:$H$138,SMALL(IF(BD!$B$2:$B$138=$AA$145,IF(BD!$B$2:$B$138=$AA$145,ROW(BD!$B$2:$B$138)-ROW(BD!$B$2)+1),FALSE),ROWS(BD!$1:20)))))","v":""},null,{"$f":"IF($AG$145=\"\",\"\",IF(ROWS(BD!$1:20)>COUNTIFS(BD!$B:$B,$AG$145),\"\",INDEX(BD!$C$2:$C$138,SMALL(IF(BD!$B$2:$B$138=$AG$145,IF(BD!$B$2:$B$138=$AG$145,ROW(BD!$B$2:$B$138)-ROW(BD!$B$2)+1),FALSE),ROWS(BD!$1:20)))))","v":""},{"$f":"IF($AG$145=\"\",\"\",IF(ROWS(BD!$1:20)>COUNTIFS(BD!$B:$B,$AG$145),\"\",INDEX(BD!$E$2:$E$138,SMALL(IF(BD!$B$2:$B$138=$AG$145,IF(BD!$B$2:$B$138=$AG$145,ROW(BD!$B$2:$B$138)-ROW(BD!$B$2)+1),FALSE),ROWS(BD!$1:20)))))","v":""},{"$f":"IF($AG$145=\"\",\"\",IF(ROWS(BD!$1:20)>COUNTIFS(BD!$B:$B,$AG$145),\"\",INDEX(BD!$F$2:$F$138,SMALL(IF(BD!$B$2:$B$138=$AG$145,IF(BD!$B$2:$B$138=$AG$145,ROW(BD!$B$2:$B$138)-ROW(BD!$B$2)+1),FALSE),ROWS(BD!$1:20)))))","v":""},{"$f":"IF($AG$145=\"\",\"\",IF(ROWS(BD!$1:20)>COUNTIFS(BD!$B:$B,$AG$145),\"\",INDEX(BD!$G$2:$G$138,SMALL(IF(BD!$B$2:$B$138=$AG$145,IF(BD!$B$2:$B$138=$AG$145,ROW(BD!$B$2:$B$138)-ROW(BD!$B$2)+1),FALSE),ROWS(BD!$1:20)))))","v":""},{"$f":"IF($AG$145=\"\",\"\",IF(ROWS(BD!$1:20)>COUNTIFS(BD!$B:$B,$AG$145),\"\",INDEX(BD!$H$2:$H$138,SMALL(IF(BD!$B$2:$B$138=$AG$145,IF(BD!$B$2:$B$138=$AG$145,ROW(BD!$B$2:$B$138)-ROW(BD!$B$2)+1),FALSE),ROWS(BD!$1:20)))))","v":""},null,{"$f":"IF($AM$145=\"\",\"\",IF(ROWS(BD!$1:20)>COUNTIFS(BD!$B:$B,$AM$145),\"\",INDEX(BD!$C$2:$C$138,SMALL(IF(BD!$B$2:$B$138=$AM$145,IF(BD!$B$2:$B$138=$AM$145,ROW(BD!$B$2:$B$138)-ROW(BD!$B$2)+1),FALSE),ROWS(BD!$1:20)))))","v":""},{"$f":"IF($AM$145=\"\",\"\",IF(ROWS(BD!$1:20)>COUNTIFS(BD!$B:$B,$AM$145),\"\",INDEX(BD!$E$2:$E$138,SMALL(IF(BD!$B$2:$B$138=$AM$145,IF(BD!$B$2:$B$138=$AM$145,ROW(BD!$B$2:$B$138)-ROW(BD!$B$2)+1),FALSE),ROWS(BD!$1:20)))))","v":""},{"$f":"IF($AM$145=\"\",\"\",IF(ROWS(BD!$1:20)>COUNTIFS(BD!$B:$B,$AM$145),\"\",INDEX(BD!$F$2:$F$138,SMALL(IF(BD!$B$2:$B$138=$AM$145,IF(BD!$B$2:$B$138=$AM$145,ROW(BD!$B$2:$B$138)-ROW(BD!$B$2)+1),FALSE),ROWS(BD!$1:20)))))","v":""},{"$f":"IF($AM$145=\"\",\"\",IF(ROWS(BD!$1:20)>COUNTIFS(BD!$B:$B,$AM$145),\"\",INDEX(BD!$G$2:$G$138,SMALL(IF(BD!$B$2:$B$138=$AM$145,IF(BD!$B$2:$B$138=$AM$145,ROW(BD!$B$2:$B$138)-ROW(BD!$B$2)+1),FALSE),ROWS(BD!$1:20)))))","v":""},{"$f":"IF($AM$145=\"\",\"\",IF(ROWS(BD!$1:20)>COUNTIFS(BD!$B:$B,$AM$145),\"\",INDEX(BD!$H$2:$H$138,SMALL(IF(BD!$B$2:$B$138=$AM$145,IF(BD!$B$2:$B$138=$AM$145,ROW(BD!$B$2:$B$138)-ROW(BD!$B$2)+1),FALSE),ROWS(BD!$1:20)))))","v":""}]
[null,null,{"$f":"IF($C$145=\"\",\"\",IF(ROWS(BD!$1:21)>COUNTIFS(BD!$B:$B,$C$145),\"\",INDEX(BD!$C$2:$C$138,SMALL(IF(BD!$B$2:$B$138=$C$145,IF(BD!$B$2:$B$138=$C$145,ROW(BD!$B$2:$B$138)-ROW(BD!$B$2)+1),FALSE),ROWS(BD!$1:21)))))","v":""},{"$f":"IF($C$145=\"\",\"\",IF(ROWS(BD!$1:21)>COUNTIFS(BD!$B:$B,$C$145),\"\",INDEX(BD!$E$2:$E$138,SMALL(IF(BD!$B$2:$B$138=$C$145,IF(BD!$B$2:$B$138=$C$145,ROW(BD!$B$2:$B$138)-ROW(BD!$B$2)+1),FALSE),ROWS(BD!$1:21)))))","v":""},{"$f":"IF($C$145=\"\",\"\",IF(ROWS(BD!$1:21)>COUNTIFS(BD!$B:$B,$C$145),\"\",INDEX(BD!$F$2:$F$138,SMALL(IF(BD!$B$2:$B$138=$C$145,IF(BD!$B$2:$B$138=$C$145,ROW(BD!$B$2:$B$138)-ROW(BD!$B$2)+1),FALSE),ROWS(BD!$1:21)))))","v":""},{"$f":"IF($C$145=\"\",\"\",IF(ROWS(BD!$1:21)>COUNTIFS(BD!$B:$B,$C$145),\"\",INDEX(BD!$G$2:$G$138,SMALL(IF(BD!$B$2:$B$138=$C$145,IF(BD!$B$2:$B$138=$C$145,ROW(BD!$B$2:$B$138)-ROW(BD!$B$2)+1),FALSE),ROWS(BD!$1:21)))))","v":""},{"$f":"IF($C$145=\"\",\"\",IF(ROWS(BD!$1:21)>COUNTIFS(BD!$B:$B,$C$145),\"\",INDEX(BD!$H$2:$H$138,SMALL(IF(BD!$B$2:$B$138=$C$145,IF(BD!$B$2:$B$138=$C$145,ROW(BD!$B$2:$B$138)-ROW(BD!$B$2)+1),FALSE),ROWS(BD!$1:21)))))","v":""},null,{"$f":"IF($I$145=\"\",\"\",IF(ROWS(BD!$1:21)>COUNTIFS(BD!$B:$B,$I$145),\"\",INDEX(BD!$C$2:$C$138,SMALL(IF(BD!$B$2:$B$138=$I$145,IF(BD!$B$2:$B$138=$I$145,ROW(BD!$B$2:$B$138)-ROW(BD!$B$2)+1),FALSE),ROWS(BD!$1:21)))))","v":""},{"$f":"IF($I$145=\"\",\"\",IF(ROWS(BD!$1:21)>COUNTIFS(BD!$B:$B,$I$145),\"\",INDEX(BD!$E$2:$E$138,SMALL(IF(BD!$B$2:$B$138=$I$145,IF(BD!$B$2:$B$138=$I$145,ROW(BD!$B$2:$B$138)-ROW(BD!$B$2)+1),FALSE),ROWS(BD!$1:21)))))","v":""},{"$f":"IF($I$145=\"\",\"\",IF(ROWS(BD!$1:21)>COUNTIFS(BD!$B:$B,$I$145),\"\",INDEX(BD!$F$2:$F$138,SMALL(IF(BD!$B$2:$B$138=$I$145,IF(BD!$B$2:$B$138=$I$145,ROW(BD!$B$2:$B$138)-ROW(BD!$B$2)+1),FALSE),ROWS(BD!$1:21)))))","v":""},{"$f":"IF($I$145=\"\",\"\",IF(ROWS(BD!$1:21)>COUNTIFS(BD!$B:$B,$I$145),\"\",INDEX(BD!$G$2:$G$138,SMALL(IF(BD!$B$2:$B$138=$I$145,IF(BD!$B$2:$B$138=$I$145,ROW(BD!$B$2:$B$138)-ROW(BD!$B$2)+1),FALSE),ROWS(BD!$1:21)))))","v":""},{"$f":"IF($I$145=\"\",\"\",IF(ROWS(BD!$1:21)>COUNTIFS(BD!$B:$B,$I$145),\"\",INDEX(BD!$H$2:$H$138,SMALL(IF(BD!$B$2:$B$138=$I$145,IF(BD!$B$2:$B$138=$I$145,ROW(BD!$B$2:$B$138)-ROW(BD!$B$2)+1),FALSE),ROWS(BD!$1:21)))))","v":""},null,{"$f":"IF($O$145=\"\",\"\",IF(ROWS(BD!$1:21)>COUNTIFS(BD!$B:$B,$O$145),\"\",INDEX(BD!$C$2:$C$138,SMALL(IF(BD!$B$2:$B$138=$O$145,IF(BD!$B$2:$B$138=$O$145,ROW(BD!$B$2:$B$138)-ROW(BD!$B$2)+1),FALSE),ROWS(BD!$1:21)))))","v":""},{"$f":"IF($O$145=\"\",\"\",IF(ROWS(BD!$1:21)>COUNTIFS(BD!$B:$B,$O$145),\"\",INDEX(BD!$E$2:$E$138,SMALL(IF(BD!$B$2:$B$138=$O$145,IF(BD!$B$2:$B$138=$O$145,ROW(BD!$B$2:$B$138)-ROW(BD!$B$2)+1),FALSE),ROWS(BD!$1:21)))))","v":""},{"$f":"IF($O$145=\"\",\"\",IF(ROWS(BD!$1:21)>COUNTIFS(BD!$B:$B,$O$145),\"\",INDEX(BD!$F$2:$F$138,SMALL(IF(BD!$B$2:$B$138=$O$145,IF(BD!$B$2:$B$138=$O$145,ROW(BD!$B$2:$B$138)-ROW(BD!$B$2)+1),FALSE),ROWS(BD!$1:21)))))","v":""},{"$f":"IF($O$145=\"\",\"\",IF(ROWS(BD!$1:21)>COUNTIFS(BD!$B:$B,$O$145),\"\",INDEX(BD!$G$2:$G$138,SMALL(IF(BD!$B$2:$B$138=$O$145,IF(BD!$B$2:$B$138=$O$145,ROW(BD!$B$2:$B$138)-ROW(BD!$B$2)+1),FALSE),ROWS(BD!$1:21)))))","v":""},{"$f":"IF($O$145=\"\",\"\",IF(ROWS(BD!$1:21)>COUNTIFS(BD!$B:$B,$O$145),\"\",INDEX(BD!$H$2:$H$138,SMALL(IF(BD!$B$2:$B$138=$O$145,IF(BD!$B$2:$B$138=$O$145,ROW(BD!$B$2:$B$138)-ROW(BD!$B$2)+1),FALSE),ROWS(BD!$1:21)))))","v":""},null,{"$f":"IF($U$145=\"\",\"\",IF(ROWS(BD!$1:21)>COUNTIFS(BD!$B:$B,$U$145),\"\",INDEX(BD!$C$2:$C$138,SMALL(IF(BD!$B$2:$B$138=$U$145,IF(BD!$B$2:$B$138=$U$145,ROW(BD!$B$2:$B$138)-ROW(BD!$B$2)+1),FALSE),ROWS(BD!$1:21)))))","v":""},{"$f":"IF($U$145=\"\",\"\",IF(ROWS(BD!$1:21)>COUNTIFS(BD!$B:$B,$U$145),\"\",INDEX(BD!$E$2:$E$138,SMALL(IF(BD!$B$2:$B$138=$U$145,IF(BD!$B$2:$B$138=$U$145,ROW(BD!$B$2:$B$138)-ROW(BD!$B$2)+1),FALSE),ROWS(BD!$1:21)))))","v":""},{"$f":"IF($U$145=\"\",\"\",IF(ROWS(BD!$1:21)>COUNTIFS(BD!$B:$B,$U$145),\"\",INDEX(BD!$F$2:$F$138,SMALL(IF(BD!$B$2:$B$138=$U$145,IF(BD!$B$2:$B$138=$U$145,ROW(BD!$B$2:$B$138)-ROW(BD!$B$2)+1),FALSE),ROWS(BD!$1:21)))))","v":""},{"$f":"IF($U$145=\"\",\"\",IF(ROWS(BD!$1:21)>COUNTIFS(BD!$B:$B,$U$145),\"\",INDEX(BD!$G$2:$G$138,SMALL(IF(BD!$B$2:$B$138=$U$145,IF(BD!$B$2:$B$138=$U$145,ROW(BD!$B$2:$B$138)-ROW(BD!$B$2)+1),FALSE),ROWS(BD!$1:21)))))","v":""},{"$f":"IF($U$145=\"\",\"\",IF(ROWS(BD!$1:21)>COUNTIFS(BD!$B:$B,$U$145),\"\",INDEX(BD!$H$2:$H$138,SMALL(IF(BD!$B$2:$B$138=$U$145,IF(BD!$B$2:$B$138=$U$145,ROW(BD!$B$2:$B$138)-ROW(BD!$B$2)+1),FALSE),ROWS(BD!$1:21)))))","v":""},null,{"$f":"IF($AA$145=\"\",\"\",IF(ROWS(BD!$1:21)>COUNTIFS(BD!$B:$B,$AA$145),\"\",INDEX(BD!$C$2:$C$138,SMALL(IF(BD!$B$2:$B$138=$AA$145,IF(BD!$B$2:$B$138=$AA$145,ROW(BD!$B$2:$B$138)-ROW(BD!$B$2)+1),FALSE),ROWS(BD!$1:21)))))","v":""},{"$f":"IF($AA$145=\"\",\"\",IF(ROWS(BD!$1:21)>COUNTIFS(BD!$B:$B,$AA$145),\"\",INDEX(BD!$E$2:$E$138,SMALL(IF(BD!$B$2:$B$138=$AA$145,IF(BD!$B$2:$B$138=$AA$145,ROW(BD!$B$2:$B$138)-ROW(BD!$B$2)+1),FALSE),ROWS(BD!$1:21)))))","v":""},{"$f":"IF($AA$145=\"\",\"\",IF(ROWS(BD!$1:21)>COUNTIFS(BD!$B:$B,$AA$145),\"\",INDEX(BD!$F$2:$F$138,SMALL(IF(BD!$B$2:$B$138=$AA$145,IF(BD!$B$2:$B$138=$AA$145,ROW(BD!$B$2:$B$138)-ROW(BD!$B$2)+1),FALSE),ROWS(BD!$1:21)))))","v":""},{"$f":"IF($AA$145=\"\",\"\",IF(ROWS(BD!$1:21)>COUNTIFS(BD!$B:$B,$AA$145),\"\",INDEX(BD!$G$2:$G$138,SMALL(IF(BD!$B$2:$B$138=$AA$145,IF(BD!$B$2:$B$138=$AA$145,ROW(BD!$B$2:$B$138)-ROW(BD!$B$2)+1),FALSE),ROWS(BD!$1:21)))))","v":""},{"$f":"IF($AA$145=\"\",\"\",IF(ROWS(BD!$1:21)>COUNTIFS(BD!$B:$B,$AA$145),\"\",INDEX(BD!$H$2:$H$138,SMALL(IF(BD!$B$2:$B$138=$AA$145,IF(BD!$B$2:$B$138=$AA$145,ROW(BD!$B$2:$B$138)-ROW(BD!$B$2)+1),FALSE),ROWS(BD!$1:21)))))","v":""},null,{"$f":"IF($AG$145=\"\",\"\",IF(ROWS(BD!$1:21)>COUNTIFS(BD!$B:$B,$AG$145),\"\",INDEX(BD!$C$2:$C$138,SMALL(IF(BD!$B$2:$B$138=$AG$145,IF(BD!$B$2:$B$138=$AG$145,ROW(BD!$B$2:$B$138)-ROW(BD!$B$2)+1),FALSE),ROWS(BD!$1:21)))))","v":""},{"$f":"IF($AG$145=\"\",\"\",IF(ROWS(BD!$1:21)>COUNTIFS(BD!$B:$B,$AG$145),\"\",INDEX(BD!$E$2:$E$138,SMALL(IF(BD!$B$2:$B$138=$AG$145,IF(BD!$B$2:$B$138=$AG$145,ROW(BD!$B$2:$B$138)-ROW(BD!$B$2)+1),FALSE),ROWS(BD!$1:21)))))","v":""},{"$f":"IF($AG$145=\"\",\"\",IF(ROWS(BD!$1:21)>COUNTIFS(BD!$B:$B,$AG$145),\"\",INDEX(BD!$F$2:$F$138,SMALL(IF(BD!$B$2:$B$138=$AG$145,IF(BD!$B$2:$B$138=$AG$145,ROW(BD!$B$2:$B$138)-ROW(BD!$B$2)+1),FALSE),ROWS(BD!$1:21)))))","v":""},{"$f":"IF($AG$145=\"\",\"\",IF(ROWS(BD!$1:21)>COUNTIFS(BD!$B:$B,$AG$145),\"\",INDEX(BD!$G$2:$G$138,SMALL(IF(BD!$B$2:$B$138=$AG$145,IF(BD!$B$2:$B$138=$AG$145,ROW(BD!$B$2:$B$138)-ROW(BD!$B$2)+1),FALSE),ROWS(BD!$1:21)))))","v":""},{"$f":"IF($AG$145=\"\",\"\",IF(ROWS(BD!$1:21)>COUNTIFS(BD!$B:$B,$AG$145),\"\",INDEX(BD!$H$2:$H$138,SMALL(IF(BD!$B$2:$B$138=$AG$145,IF(BD!$B$2:$B$138=$AG$145,ROW(BD!$B$2:$B$138)-ROW(BD!$B$2)+1),FALSE),ROWS(BD!$1:21)))))","v":""},null,{"$f":"IF($AM$145=\"\",\"\",IF(ROWS(BD!$1:21)>COUNTIFS(BD!$B:$B,$AM$145),\"\",INDEX(BD!$C$2:$C$138,SMALL(IF(BD!$B$2:$B$138=$AM$145,IF(BD!$B$2:$B$138=$AM$145,ROW(BD!$B$2:$B$138)-ROW(BD!$B$2)+1),FALSE),ROWS(BD!$1:21)))))","v":""},{"$f":"IF($AM$145=\"\",\"\",IF(ROWS(BD!$1:21)>COUNTIFS(BD!$B:$B,$AM$145),\"\",INDEX(BD!$E$2:$E$138,SMALL(IF(BD!$B$2:$B$138=$AM$145,IF(BD!$B$2:$B$138=$AM$145,ROW(BD!$B$2:$B$138)-ROW(BD!$B$2)+1),FALSE),ROWS(BD!$1:21)))))","v":""},{"$f":"IF($AM$145=\"\",\"\",IF(ROWS(BD!$1:21)>COUNTIFS(BD!$B:$B,$AM$145),\"\",INDEX(BD!$F$2:$F$138,SMALL(IF(BD!$B$2:$B$138=$AM$145,IF(BD!$B$2:$B$138=$AM$145,ROW(BD!$B$2:$B$138)-ROW(BD!$B$2)+1),FALSE),ROWS(BD!$1:21)))))","v":""},{"$f":"IF($AM$145=\"\",\"\",IF(ROWS(BD!$1:21)>COUNTIFS(BD!$B:$B,$AM$145),\"\",INDEX(BD!$G$2:$G$138,SMALL(IF(BD!$B$2:$B$138=$AM$145,IF(BD!$B$2:$B$138=$AM$145,ROW(BD!$B$2:$B$138)-ROW(BD!$B$2)+1),FALSE),ROWS(BD!$1:21)))))","v":""},{"$f":"IF($AM$145=\"\",\"\",IF(ROWS(BD!$1:21)>COUNTIFS(BD!$B:$B,$AM$145),\"\",INDEX(BD!$H$2:$H$138,SMALL(IF(BD!$B$2:$B$138=$AM$145,IF(BD!$B$2:$B$138=$AM$145,ROW(BD!$B$2:$B$138)-ROW(BD!$B$2)+1),FALSE),ROWS(BD!$1:21)))))","v":""}]
[null,null,{"$f":"IF($C$145=\"\",\"\",IF(ROWS(BD!$1:22)>COUNTIFS(BD!$B:$B,$C$145),\"\",INDEX(BD!$C$2:$C$138,SMALL(IF(BD!$B$2:$B$138=$C$145,IF(BD!$B$2:$B$138=$C$145,ROW(BD!$B$2:$B$138)-ROW(BD!$B$2)+1),FALSE),ROWS(BD!$1:22)))))","v":""},{"$f":"IF($C$145=\"\",\"\",IF(ROWS(BD!$1:22)>COUNTIFS(BD!$B:$B,$C$145),\"\",INDEX(BD!$E$2:$E$138,SMALL(IF(BD!$B$2:$B$138=$C$145,IF(BD!$B$2:$B$138=$C$145,ROW(BD!$B$2:$B$138)-ROW(BD!$B$2)+1),FALSE),ROWS(BD!$1:22)))))","v":""},{"$f":"IF($C$145=\"\",\"\",IF(ROWS(BD!$1:22)>COUNTIFS(BD!$B:$B,$C$145),\"\",INDEX(BD!$F$2:$F$138,SMALL(IF(BD!$B$2:$B$138=$C$145,IF(BD!$B$2:$B$138=$C$145,ROW(BD!$B$2:$B$138)-ROW(BD!$B$2)+1),FALSE),ROWS(BD!$1:22)))))","v":""},{"$f":"IF($C$145=\"\",\"\",IF(ROWS(BD!$1:22)>COUNTIFS(BD!$B:$B,$C$145),\"\",INDEX(BD!$G$2:$G$138,SMALL(IF(BD!$B$2:$B$138=$C$145,IF(BD!$B$2:$B$138=$C$145,ROW(BD!$B$2:$B$138)-ROW(BD!$B$2)+1),FALSE),ROWS(BD!$1:22)))))","v":""},{"$f":"IF($C$145=\"\",\"\",IF(ROWS(BD!$1:22)>COUNTIFS(BD!$B:$B,$C$145),\"\",INDEX(BD!$H$2:$H$138,SMALL(IF(BD!$B$2:$B$138=$C$145,IF(BD!$B$2:$B$138=$C$145,ROW(BD!$B$2:$B$138)-ROW(BD!$B$2)+1),FALSE),ROWS(BD!$1:22)))))","v":""},null,{"$f":"IF($I$145=\"\",\"\",IF(ROWS(BD!$1:22)>COUNTIFS(BD!$B:$B,$I$145),\"\",INDEX(BD!$C$2:$C$138,SMALL(IF(BD!$B$2:$B$138=$I$145,IF(BD!$B$2:$B$138=$I$145,ROW(BD!$B$2:$B$138)-ROW(BD!$B$2)+1),FALSE),ROWS(BD!$1:22)))))","v":""},{"$f":"IF($I$145=\"\",\"\",IF(ROWS(BD!$1:22)>COUNTIFS(BD!$B:$B,$I$145),\"\",INDEX(BD!$E$2:$E$138,SMALL(IF(BD!$B$2:$B$138=$I$145,IF(BD!$B$2:$B$138=$I$145,ROW(BD!$B$2:$B$138)-ROW(BD!$B$2)+1),FALSE),ROWS(BD!$1:22)))))","v":""},{"$f":"IF($I$145=\"\",\"\",IF(ROWS(BD!$1:22)>COUNTIFS(BD!$B:$B,$I$145),\"\",INDEX(BD!$F$2:$F$138,SMALL(IF(BD!$B$2:$B$138=$I$145,IF(BD!$B$2:$B$138=$I$145,ROW(BD!$B$2:$B$138)-ROW(BD!$B$2)+1),FALSE),ROWS(BD!$1:22)))))","v":""},{"$f":"IF($I$145=\"\",\"\",IF(ROWS(BD!$1:22)>COUNTIFS(BD!$B:$B,$I$145),\"\",INDEX(BD!$G$2:$G$138,SMALL(IF(BD!$B$2:$B$138=$I$145,IF(BD!$B$2:$B$138=$I$145,ROW(BD!$B$2:$B$138)-ROW(BD!$B$2)+1),FALSE),ROWS(BD!$1:22)))))","v":""},{"$f":"IF($I$145=\"\",\"\",IF(ROWS(BD!$1:22)>COUNTIFS(BD!$B:$B,$I$145),\"\",INDEX(BD!$H$2:$H$138,SMALL(IF(BD!$B$2:$B$138=$I$145,IF(BD!$B$2:$B$138=$I$145,ROW(BD!$B$2:$B$138)-ROW(BD!$B$2)+1),FALSE),ROWS(BD!$1:22)))))","v":""},null,{"$f":"IF($O$145=\"\",\"\",IF(ROWS(BD!$1:22)>COUNTIFS(BD!$B:$B,$O$145),\"\",INDEX(BD!$C$2:$C$138,SMALL(IF(BD!$B$2:$B$138=$O$145,IF(BD!$B$2:$B$138=$O$145,ROW(BD!$B$2:$B$138)-ROW(BD!$B$2)+1),FALSE),ROWS(BD!$1:22)))))","v":""},{"$f":"IF($O$145=\"\",\"\",IF(ROWS(BD!$1:22)>COUNTIFS(BD!$B:$B,$O$145),\"\",INDEX(BD!$E$2:$E$138,SMALL(IF(BD!$B$2:$B$138=$O$145,IF(BD!$B$2:$B$138=$O$145,ROW(BD!$B$2:$B$138)-ROW(BD!$B$2)+1),FALSE),ROWS(BD!$1:22)))))","v":""},{"$f":"IF($O$145=\"\",\"\",IF(ROWS(BD!$1:22)>COUNTIFS(BD!$B:$B,$O$145),\"\",INDEX(BD!$F$2:$F$138,SMALL(IF(BD!$B$2:$B$138=$O$145,IF(BD!$B$2:$B$138=$O$145,ROW(BD!$B$2:$B$138)-ROW(BD!$B$2)+1),FALSE),ROWS(BD!$1:22)))))","v":""},{"$f":"IF($O$145=\"\",\"\",IF(ROWS(BD!$1:22)>COUNTIFS(BD!$B:$B,$O$145),\"\",INDEX(BD!$G$2:$G$138,SMALL(IF(BD!$B$2:$B$138=$O$145,IF(BD!$B$2:$B$138=$O$145,ROW(BD!$B$2:$B$138)-ROW(BD!$B$2)+1),FALSE),ROWS(BD!$1:22)))))","v":""},{"$f":"IF($O$145=\"\",\"\",IF(ROWS(BD!$1:22)>COUNTIFS(BD!$B:$B,$O$145),\"\",INDEX(BD!$H$2:$H$138,SMALL(IF(BD!$B$2:$B$138=$O$145,IF(BD!$B$2:$B$138=$O$145,ROW(BD!$B$2:$B$138)-ROW(BD!$B$2)+1),FALSE),ROWS(BD!$1:22)))))","v":""},null,{"$f":"IF($U$145=\"\",\"\",IF(ROWS(BD!$1:22)>COUNTIFS(BD!$B:$B,$U$145),\"\",INDEX(BD!$C$2:$C$138,SMALL(IF(BD!$B$2:$B$138=$U$145,IF(BD!$B$2:$B$138=$U$145,ROW(BD!$B$2:$B$138)-ROW(BD!$B$2)+1),FALSE),ROWS(BD!$1:22)))))","v":""},{"$f":"IF($U$145=\"\",\"\",IF(ROWS(BD!$1:22)>COUNTIFS(BD!$B:$B,$U$145),\"\",INDEX(BD!$E$2:$E$138,SMALL(IF(BD!$B$2:$B$138=$U$145,IF(BD!$B$2:$B$138=$U$145,ROW(BD!$B$2:$B$138)-ROW(BD!$B$2)+1),FALSE),ROWS(BD!$1:22)))))","v":""},{"$f":"IF($U$145=\"\",\"\",IF(ROWS(BD!$1:22)>COUNTIFS(BD!$B:$B,$U$145),\"\",INDEX(BD!$F$2:$F$138,SMALL(IF(BD!$B$2:$B$138=$U$145,IF(BD!$B$2:$B$138=$U$145,ROW(BD!$B$2:$B$138)-ROW(BD!$B$2)+1),FALSE),ROWS(BD!$1:22)))))","v":""},{"$f":"IF($U$145=\"\",\"\",IF(ROWS(BD!$1:22)>COUNTIFS(BD!$B:$B,$U$145),\"\",INDEX(BD!$G$2:$G$138,SMALL(IF(BD!$B$2:$B$138=$U$145,IF(BD!$B$2:$B$138=$U$145,ROW(BD!$B$2:$B$138)-ROW(BD!$B$2)+1),FALSE),ROWS(BD!$1:22)))))","v":""},{"$f":"IF($U$145=\"\",\"\",IF(ROWS(BD!$1:22)>COUNTIFS(BD!$B:$B,$U$145),\"\",INDEX(BD!$H$2:$H$138,SMALL(IF(BD!$B$2:$B$138=$U$145,IF(BD!$B$2:$B$138=$U$145,ROW(BD!$B$2:$B$138)-ROW(BD!$B$2)+1),FALSE),ROWS(BD!$1:22)))))","v":""},null,{"$f":"IF($AA$145=\"\",\"\",IF(ROWS(BD!$1:22)>COUNTIFS(BD!$B:$B,$AA$145),\"\",INDEX(BD!$C$2:$C$138,SMALL(IF(BD!$B$2:$B$138=$AA$145,IF(BD!$B$2:$B$138=$AA$145,ROW(BD!$B$2:$B$138)-ROW(BD!$B$2)+1),FALSE),ROWS(BD!$1:22)))))","v":""},{"$f":"IF($AA$145=\"\",\"\",IF(ROWS(BD!$1:22)>COUNTIFS(BD!$B:$B,$AA$145),\"\",INDEX(BD!$E$2:$E$138,SMALL(IF(BD!$B$2:$B$138=$AA$145,IF(BD!$B$2:$B$138=$AA$145,ROW(BD!$B$2:$B$138)-ROW(BD!$B$2)+1),FALSE),ROWS(BD!$1:22)))))","v":""},{"$f":"IF($AA$145=\"\",\"\",IF(ROWS(BD!$1:22)>COUNTIFS(BD!$B:$B,$AA$145),\"\",INDEX(BD!$F$2:$F$138,SMALL(IF(BD!$B$2:$B$138=$AA$145,IF(BD!$B$2:$B$138=$AA$145,ROW(BD!$B$2:$B$138)-ROW(BD!$B$2)+1),FALSE),ROWS(BD!$1:22)))))","v":""},{"$f":"IF($AA$145=\"\",\"\",IF(ROWS(BD!$1:22)>COUNTIFS(BD!$B:$B,$AA$145),\"\",INDEX(BD!$G$2:$G$138,SMALL(IF(BD!$B$2:$B$138=$AA$145,IF(BD!$B$2:$B$138=$AA$145,ROW(BD!$B$2:$B$138)-ROW(BD!$B$2)+1),FALSE),ROWS(BD!$1:22)))))","v":""},{"$f":"IF($AA$145=\"\",\"\",IF(ROWS(BD!$1:22)>COUNTIFS(BD!$B:$B,$AA$145),\"\",INDEX(BD!$H$2:$H$138,SMALL(IF(BD!$B$2:$B$138=$AA$145,IF(BD!$B$2:$B$138=$AA$145,ROW(BD!$B$2:$B$138)-ROW(BD!$B$2)+1),FALSE),ROWS(BD!$1:22)))))","v":""},null,{"$f":"IF($AG$145=\"\",\"\",IF(ROWS(BD!$1:22)>COUNTIFS(BD!$B:$B,$AG$145),\"\",INDEX(BD!$C$2:$C$138,SMALL(IF(BD!$B$2:$B$138=$AG$145,IF(BD!$B$2:$B$138=$AG$145,ROW(BD!$B$2:$B$138)-ROW(BD!$B$2)+1),FALSE),ROWS(BD!$1:22)))))","v":""},{"$f":"IF($AG$145=\"\",\"\",IF(ROWS(BD!$1:22)>COUNTIFS(BD!$B:$B,$AG$145),\"\",INDEX(BD!$E$2:$E$138,SMALL(IF(BD!$B$2:$B$138=$AG$145,IF(BD!$B$2:$B$138=$AG$145,ROW(BD!$B$2:$B$138)-ROW(BD!$B$2)+1),FALSE),ROWS(BD!$1:22)))))","v":""},{"$f":"IF($AG$145=\"\",\"\",IF(ROWS(BD!$1:22)>COUNTIFS(BD!$B:$B,$AG$145),\"\",INDEX(BD!$F$2:$F$138,SMALL(IF(BD!$B$2:$B$138=$AG$145,IF(BD!$B$2:$B$138=$AG$145,ROW(BD!$B$2:$B$138)-ROW(BD!$B$2)+1),FALSE),ROWS(BD!$1:22)))))","v":""},{"$f":"IF($AG$145=\"\",\"\",IF(ROWS(BD!$1:22)>COUNTIFS(BD!$B:$B,$AG$145),\"\",INDEX(BD!$G$2:$G$138,SMALL(IF(BD!$B$2:$B$138=$AG$145,IF(BD!$B$2:$B$138=$AG$145,ROW(BD!$B$2:$B$138)-ROW(BD!$B$2)+1),FALSE),ROWS(BD!$1:22)))))","v":""},{"$f":"IF($AG$145=\"\",\"\",IF(ROWS(BD!$1:22)>COUNTIFS(BD!$B:$B,$AG$145),\"\",INDEX(BD!$H$2:$H$138,SMALL(IF(BD!$B$2:$B$138=$AG$145,IF(BD!$B$2:$B$138=$AG$145,ROW(BD!$B$2:$B$138)-ROW(BD!$B$2)+1),FALSE),ROWS(BD!$1:22)))))","v":""},null,{"$f":"IF($AM$145=\"\",\"\",IF(ROWS(BD!$1:22)>COUNTIFS(BD!$B:$B,$AM$145),\"\",INDEX(BD!$C$2:$C$138,SMALL(IF(BD!$B$2:$B$138=$AM$145,IF(BD!$B$2:$B$138=$AM$145,ROW(BD!$B$2:$B$138)-ROW(BD!$B$2)+1),FALSE),ROWS(BD!$1:22)))))","v":""},{"$f":"IF($AM$145=\"\",\"\",IF(ROWS(BD!$1:22)>COUNTIFS(BD!$B:$B,$AM$145),\"\",INDEX(BD!$E$2:$E$138,SMALL(IF(BD!$B$2:$B$138=$AM$145,IF(BD!$B$2:$B$138=$AM$145,ROW(BD!$B$2:$B$138)-ROW(BD!$B$2)+1),FALSE),ROWS(BD!$1:22)))))","v":""},{"$f":"IF($AM$145=\"\",\"\",IF(ROWS(BD!$1:22)>COUNTIFS(BD!$B:$B,$AM$145),\"\",INDEX(BD!$F$2:$F$138,SMALL(IF(BD!$B$2:$B$138=$AM$145,IF(BD!$B$2:$B$138=$AM$145,ROW(BD!$B$2:$B$138)-ROW(BD!$B$2)+1),FALSE),ROWS(BD!$1:22)))))","v":""},{"$f":"IF($AM$145=\"\",\"\",IF(ROWS(BD!$1:22)>COUNTIFS(BD!$B:$B,$AM$145),\"\",INDEX(BD!$G$2:$G$138,SMALL(IF(BD!$B$2:$B$138=$AM$145,IF(BD!$B$2:$B$138=$AM$145,ROW(BD!$B$2:$B$138)-ROW(BD!$B$2)+1),FALSE),ROWS(BD!$1:22)))))","v":""},{"$f":"IF($AM$145=\"\",\"\",IF(ROWS(BD!$1:22)>COUNTIFS(BD!$B:$B,$AM$145),\"\",INDEX(BD!$H$2:$H$138,SMALL(IF(BD!$B$2:$B$138=$AM$145,IF(BD!$B$2:$B$138=$AM$145,ROW(BD!$B$2:$B$138)-ROW(BD!$B$2)+1),FALSE),ROWS(BD!$1:22)))))","v":""}]
[null,null,{"$f":"IF($C$145=\"\",\"\",IF(ROWS(BD!$1:23)>COUNTIFS(BD!$B:$B,$C$145),\"\",INDEX(BD!$C$2:$C$138,SMALL(IF(BD!$B$2:$B$138=$C$145,IF(BD!$B$2:$B$138=$C$145,ROW(BD!$B$2:$B$138)-ROW(BD!$B$2)+1),FALSE),ROWS(BD!$1:23)))))","v":""},{"$f":"IF($C$145=\"\",\"\",IF(ROWS(BD!$1:23)>COUNTIFS(BD!$B:$B,$C$145),\"\",INDEX(BD!$E$2:$E$138,SMALL(IF(BD!$B$2:$B$138=$C$145,IF(BD!$B$2:$B$138=$C$145,ROW(BD!$B$2:$B$138)-ROW(BD!$B$2)+1),FALSE),ROWS(BD!$1:23)))))","v":""},{"$f":"IF($C$145=\"\",\"\",IF(ROWS(BD!$1:23)>COUNTIFS(BD!$B:$B,$C$145),\"\",INDEX(BD!$F$2:$F$138,SMALL(IF(BD!$B$2:$B$138=$C$145,IF(BD!$B$2:$B$138=$C$145,ROW(BD!$B$2:$B$138)-ROW(BD!$B$2)+1),FALSE),ROWS(BD!$1:23)))))","v":""},{"$f":"IF($C$145=\"\",\"\",IF(ROWS(BD!$1:23)>COUNTIFS(BD!$B:$B,$C$145),\"\",INDEX(BD!$G$2:$G$138,SMALL(IF(BD!$B$2:$B$138=$C$145,IF(BD!$B$2:$B$138=$C$145,ROW(BD!$B$2:$B$138)-ROW(BD!$B$2)+1),FALSE),ROWS(BD!$1:23)))))","v":""},{"$f":"IF($C$145=\"\",\"\",IF(ROWS(BD!$1:23)>COUNTIFS(BD!$B:$B,$C$145),\"\",INDEX(BD!$H$2:$H$138,SMALL(IF(BD!$B$2:$B$138=$C$145,IF(BD!$B$2:$B$138=$C$145,ROW(BD!$B$2:$B$138)-ROW(BD!$B$2)+1),FALSE),ROWS(BD!$1:23)))))","v":""},null,{"$f":"IF($I$145=\"\",\"\",IF(ROWS(BD!$1:23)>COUNTIFS(BD!$B:$B,$I$145),\"\",INDEX(BD!$C$2:$C$138,SMALL(IF(BD!$B$2:$B$138=$I$145,IF(BD!$B$2:$B$138=$I$145,ROW(BD!$B$2:$B$138)-ROW(BD!$B$2)+1),FALSE),ROWS(BD!$1:23)))))","v":""},{"$f":"IF($I$145=\"\",\"\",IF(ROWS(BD!$1:23)>COUNTIFS(BD!$B:$B,$I$145),\"\",INDEX(BD!$E$2:$E$138,SMALL(IF(BD!$B$2:$B$138=$I$145,IF(BD!$B$2:$B$138=$I$145,ROW(BD!$B$2:$B$138)-ROW(BD!$B$2)+1),FALSE),ROWS(BD!$1:23)))))","v":""},{"$f":"IF($I$145=\"\",\"\",IF(ROWS(BD!$1:23)>COUNTIFS(BD!$B:$B,$I$145),\"\",INDEX(BD!$F$2:$F$138,SMALL(IF(BD!$B$2:$B$138=$I$145,IF(BD!$B$2:$B$138=$I$145,ROW(BD!$B$2:$B$138)-ROW(BD!$B$2)+1),FALSE),ROWS(BD!$1:23)))))","v":""},{"$f":"IF($I$145=\"\",\"\",IF(ROWS(BD!$1:23)>COUNTIFS(BD!$B:$B,$I$145),\"\",INDEX(BD!$G$2:$G$138,SMALL(IF(BD!$B$2:$B$138=$I$145,IF(BD!$B$2:$B$138=$I$145,ROW(BD!$B$2:$B$138)-ROW(BD!$B$2)+1),FALSE),ROWS(BD!$1:23)))))","v":""},{"$f":"IF($I$145=\"\",\"\",IF(ROWS(BD!$1:23)>COUNTIFS(BD!$B:$B,$I$145),\"\",INDEX(BD!$H$2:$H$138,SMALL(IF(BD!$B$2:$B$138=$I$145,IF(BD!$B$2:$B$138=$I$145,ROW(BD!$B$2:$B$138)-ROW(BD!$B$2)+1),FALSE),ROWS(BD!$1:23)))))","v":""},null,{"$f":"IF($O$145=\"\",\"\",IF(ROWS(BD!$1:23)>COUNTIFS(BD!$B:$B,$O$145),\"\",INDEX(BD!$C$2:$C$138,SMALL(IF(BD!$B$2:$B$138=$O$145,IF(BD!$B$2:$B$138=$O$145,ROW(BD!$B$2:$B$138)-ROW(BD!$B$2)+1),FALSE),ROWS(BD!$1:23)))))","v":""},{"$f":"IF($O$145=\"\",\"\",IF(ROWS(BD!$1:23)>COUNTIFS(BD!$B:$B,$O$145),\"\",INDEX(BD!$E$2:$E$138,SMALL(IF(BD!$B$2:$B$138=$O$145,IF(BD!$B$2:$B$138=$O$145,ROW(BD!$B$2:$B$138)-ROW(BD!$B$2)+1),FALSE),ROWS(BD!$1:23)))))","v":""},{"$f":"IF($O$145=\"\",\"\",IF(ROWS(BD!$1:23)>COUNTIFS(BD!$B:$B,$O$145),\"\",INDEX(BD!$F$2:$F$138,SMALL(IF(BD!$B$2:$B$138=$O$145,IF(BD!$B$2:$B$138=$O$145,ROW(BD!$B$2:$B$138)-ROW(BD!$B$2)+1),FALSE),ROWS(BD!$1:23)))))","v":""},{"$f":"IF($O$145=\"\",\"\",IF(ROWS(BD!$1:23)>COUNTIFS(BD!$B:$B,$O$145),\"\",INDEX(BD!$G$2:$G$138,SMALL(IF(BD!$B$2:$B$138=$O$145,IF(BD!$B$2:$B$138=$O$145,ROW(BD!$B$2:$B$138)-ROW(BD!$B$2)+1),FALSE),ROWS(BD!$1:23)))))","v":""},{"$f":"IF($O$145=\"\",\"\",IF(ROWS(BD!$1:23)>COUNTIFS(BD!$B:$B,$O$145),\"\",INDEX(BD!$H$2:$H$138,SMALL(IF(BD!$B$2:$B$138=$O$145,IF(BD!$B$2:$B$138=$O$145,ROW(BD!$B$2:$B$138)-ROW(BD!$B$2)+1),FALSE),ROWS(BD!$1:23)))))","v":""},null,{"$f":"IF($U$145=\"\",\"\",IF(ROWS(BD!$1:23)>COUNTIFS(BD!$B:$B,$U$145),\"\",INDEX(BD!$C$2:$C$138,SMALL(IF(BD!$B$2:$B$138=$U$145,IF(BD!$B$2:$B$138=$U$145,ROW(BD!$B$2:$B$138)-ROW(BD!$B$2)+1),FALSE),ROWS(BD!$1:23)))))","v":""},{"$f":"IF($U$145=\"\",\"\",IF(ROWS(BD!$1:23)>COUNTIFS(BD!$B:$B,$U$145),\"\",INDEX(BD!$E$2:$E$138,SMALL(IF(BD!$B$2:$B$138=$U$145,IF(BD!$B$2:$B$138=$U$145,ROW(BD!$B$2:$B$138)-ROW(BD!$B$2)+1),FALSE),ROWS(BD!$1:23)))))","v":""},{"$f":"IF($U$145=\"\",\"\",IF(ROWS(BD!$1:23)>COUNTIFS(BD!$B:$B,$U$145),\"\",INDEX(BD!$F$2:$F$138,SMALL(IF(BD!$B$2:$B$138=$U$145,IF(BD!$B$2:$B$138=$U$145,ROW(BD!$B$2:$B$138)-ROW(BD!$B$2)+1),FALSE),ROWS(BD!$1:23)))))","v":""},{"$f":"IF($U$145=\"\",\"\",IF(ROWS(BD!$1:23)>COUNTIFS(BD!$B:$B,$U$145),\"\",INDEX(BD!$G$2:$G$138,SMALL(IF(BD!$B$2:$B$138=$U$145,IF(BD!$B$2:$B$138=$U$145,ROW(BD!$B$2:$B$138)-ROW(BD!$B$2)+1),FALSE),ROWS(BD!$1:23)))))","v":""},{"$f":"IF($U$145=\"\",\"\",IF(ROWS(BD!$1:23)>COUNTIFS(BD!$B:$B,$U$145),\"\",INDEX(BD!$H$2:$H$138,SMALL(IF(BD!$B$2:$B$138=$U$145,IF(BD!$B$2:$B$138=$U$145,ROW(BD!$B$2:$B$138)-ROW(BD!$B$2)+1),FALSE),ROWS(BD!$1:23)))))","v":""},null,{"$f":"IF($AA$145=\"\",\"\",IF(ROWS(BD!$1:23)>COUNTIFS(BD!$B:$B,$AA$145),\"\",INDEX(BD!$C$2:$C$138,SMALL(IF(BD!$B$2:$B$138=$AA$145,IF(BD!$B$2:$B$138=$AA$145,ROW(BD!$B$2:$B$138)-ROW(BD!$B$2)+1),FALSE),ROWS(BD!$1:23)))))","v":""},{"$f":"IF($AA$145=\"\",\"\",IF(ROWS(BD!$1:23)>COUNTIFS(BD!$B:$B,$AA$145),\"\",INDEX(BD!$E$2:$E$138,SMALL(IF(BD!$B$2:$B$138=$AA$145,IF(BD!$B$2:$B$138=$AA$145,ROW(BD!$B$2:$B$138)-ROW(BD!$B$2)+1),FALSE),ROWS(BD!$1:23)))))","v":""},{"$f":"IF($AA$145=\"\",\"\",IF(ROWS(BD!$1:23)>COUNTIFS(BD!$B:$B,$AA$145),\"\",INDEX(BD!$F$2:$F$138,SMALL(IF(BD!$B$2:$B$138=$AA$145,IF(BD!$B$2:$B$138=$AA$145,ROW(BD!$B$2:$B$138)-ROW(BD!$B$2)+1),FALSE),ROWS(BD!$1:23)))))","v":""},{"$f":"IF($AA$145=\"\",\"\",IF(ROWS(BD!$1:23)>COUNTIFS(BD!$B:$B,$AA$145),\"\",INDEX(BD!$G$2:$G$138,SMALL(IF(BD!$B$2:$B$138=$AA$145,IF(BD!$B$2:$B$138=$AA$145,ROW(BD!$B$2:$B$138)-ROW(BD!$B$2)+1),FALSE),ROWS(BD!$1:23)))))","v":""},{"$f":"IF($AA$145=\"\",\"\",IF(ROWS(BD!$1:23)>COUNTIFS(BD!$B:$B,$AA$145),\"\",INDEX(BD!$H$2:$H$138,SMALL(IF(BD!$B$2:$B$138=$AA$145,IF(BD!$B$2:$B$138=$AA$145,ROW(BD!$B$2:$B$138)-ROW(BD!$B$2)+1),FALSE),ROWS(BD!$1:23)))))","v":""},null,{"$f":"IF($AG$145=\"\",\"\",IF(ROWS(BD!$1:23)>COUNTIFS(BD!$B:$B,$AG$145),\"\",INDEX(BD!$C$2:$C$138,SMALL(IF(BD!$B$2:$B$138=$AG$145,IF(BD!$B$2:$B$138=$AG$145,ROW(BD!$B$2:$B$138)-ROW(BD!$B$2)+1),FALSE),ROWS(BD!$1:23)))))","v":""},{"$f":"IF($AG$145=\"\",\"\",IF(ROWS(BD!$1:23)>COUNTIFS(BD!$B:$B,$AG$145),\"\",INDEX(BD!$E$2:$E$138,SMALL(IF(BD!$B$2:$B$138=$AG$145,IF(BD!$B$2:$B$138=$AG$145,ROW(BD!$B$2:$B$138)-ROW(BD!$B$2)+1),FALSE),ROWS(BD!$1:23)))))","v":""},{"$f":"IF($AG$145=\"\",\"\",IF(ROWS(BD!$1:23)>COUNTIFS(BD!$B:$B,$AG$145),\"\",INDEX(BD!$F$2:$F$138,SMALL(IF(BD!$B$2:$B$138=$AG$145,IF(BD!$B$2:$B$138=$AG$145,ROW(BD!$B$2:$B$138)-ROW(BD!$B$2)+1),FALSE),ROWS(BD!$1:23)))))","v":""},{"$f":"IF($AG$145=\"\",\"\",IF(ROWS(BD!$1:23)>COUNTIFS(BD!$B:$B,$AG$145),\"\",INDEX(BD!$G$2:$G$138,SMALL(IF(BD!$B$2:$B$138=$AG$145,IF(BD!$B$2:$B$138=$AG$145,ROW(BD!$B$2:$B$138)-ROW(BD!$B$2)+1),FALSE),ROWS(BD!$1:23)))))","v":""},{"$f":"IF($AG$145=\"\",\"\",IF(ROWS(BD!$1:23)>COUNTIFS(BD!$B:$B,$AG$145),\"\",INDEX(BD!$H$2:$H$138,SMALL(IF(BD!$B$2:$B$138=$AG$145,IF(BD!$B$2:$B$138=$AG$145,ROW(BD!$B$2:$B$138)-ROW(BD!$B$2)+1),FALSE),ROWS(BD!$1:23)))))","v":""},null,{"$f":"IF($AM$145=\"\",\"\",IF(ROWS(BD!$1:23)>COUNTIFS(BD!$B:$B,$AM$145),\"\",INDEX(BD!$C$2:$C$138,SMALL(IF(BD!$B$2:$B$138=$AM$145,IF(BD!$B$2:$B$138=$AM$145,ROW(BD!$B$2:$B$138)-ROW(BD!$B$2)+1),FALSE),ROWS(BD!$1:23)))))","v":""},{"$f":"IF($AM$145=\"\",\"\",IF(ROWS(BD!$1:23)>COUNTIFS(BD!$B:$B,$AM$145),\"\",INDEX(BD!$E$2:$E$138,SMALL(IF(BD!$B$2:$B$138=$AM$145,IF(BD!$B$2:$B$138=$AM$145,ROW(BD!$B$2:$B$138)-ROW(BD!$B$2)+1),FALSE),ROWS(BD!$1:23)))))","v":""},{"$f":"IF($AM$145=\"\",\"\",IF(ROWS(BD!$1:23)>COUNTIFS(BD!$B:$B,$AM$145),\"\",INDEX(BD!$F$2:$F$138,SMALL(IF(BD!$B$2:$B$138=$AM$145,IF(BD!$B$2:$B$138=$AM$145,ROW(BD!$B$2:$B$138)-ROW(BD!$B$2)+1),FALSE),ROWS(BD!$1:23)))))","v":""},{"$f":"IF($AM$145=\"\",\"\",IF(ROWS(BD!$1:23)>COUNTIFS(BD!$B:$B,$AM$145),\"\",INDEX(BD!$G$2:$G$138,SMALL(IF(BD!$B$2:$B$138=$AM$145,IF(BD!$B$2:$B$138=$AM$145,ROW(BD!$B$2:$B$138)-ROW(BD!$B$2)+1),FALSE),ROWS(BD!$1:23)))))","v":""},{"$f":"IF($AM$145=\"\",\"\",IF(ROWS(BD!$1:23)>COUNTIFS(BD!$B:$B,$AM$145),\"\",INDEX(BD!$H$2:$H$138,SMALL(IF(BD!$B$2:$B$138=$AM$145,IF(BD!$B$2:$B$138=$AM$145,ROW(BD!$B$2:$B$138)-ROW(BD!$B$2)+1),FALSE),ROWS(BD!$1:23)))))","v":""}]
[null,null,{"$f":"IF($C$145=\"\",\"\",IF(ROWS(BD!$1:24)>COUNTIFS(BD!$B:$B,$C$145),\"\",INDEX(BD!$C$2:$C$138,SMALL(IF(BD!$B$2:$B$138=$C$145,IF(BD!$B$2:$B$138=$C$145,ROW(BD!$B$2:$B$138)-ROW(BD!$B$2)+1),FALSE),ROWS(BD!$1:24)))))","v":""},{"$f":"IF($C$145=\"\",\"\",IF(ROWS(BD!$1:24)>COUNTIFS(BD!$B:$B,$C$145),\"\",INDEX(BD!$E$2:$E$138,SMALL(IF(BD!$B$2:$B$138=$C$145,IF(BD!$B$2:$B$138=$C$145,ROW(BD!$B$2:$B$138)-ROW(BD!$B$2)+1),FALSE),ROWS(BD!$1:24)))))","v":""},{"$f":"IF($C$145=\"\",\"\",IF(ROWS(BD!$1:24)>COUNTIFS(BD!$B:$B,$C$145),\"\",INDEX(BD!$F$2:$F$138,SMALL(IF(BD!$B$2:$B$138=$C$145,IF(BD!$B$2:$B$138=$C$145,ROW(BD!$B$2:$B$138)-ROW(BD!$B$2)+1),FALSE),ROWS(BD!$1:24)))))","v":""},{"$f":"IF($C$145=\"\",\"\",IF(ROWS(BD!$1:24)>COUNTIFS(BD!$B:$B,$C$145),\"\",INDEX(BD!$G$2:$G$138,SMALL(IF(BD!$B$2:$B$138=$C$145,IF(BD!$B$2:$B$138=$C$145,ROW(BD!$B$2:$B$138)-ROW(BD!$B$2)+1),FALSE),ROWS(BD!$1:24)))))","v":""},{"$f":"IF($C$145=\"\",\"\",IF(ROWS(BD!$1:24)>COUNTIFS(BD!$B:$B,$C$145),\"\",INDEX(BD!$H$2:$H$138,SMALL(IF(BD!$B$2:$B$138=$C$145,IF(BD!$B$2:$B$138=$C$145,ROW(BD!$B$2:$B$138)-ROW(BD!$B$2)+1),FALSE),ROWS(BD!$1:24)))))","v":""},null,{"$f":"IF($I$145=\"\",\"\",IF(ROWS(BD!$1:24)>COUNTIFS(BD!$B:$B,$I$145),\"\",INDEX(BD!$C$2:$C$138,SMALL(IF(BD!$B$2:$B$138=$I$145,IF(BD!$B$2:$B$138=$I$145,ROW(BD!$B$2:$B$138)-ROW(BD!$B$2)+1),FALSE),ROWS(BD!$1:24)))))","v":""},{"$f":"IF($I$145=\"\",\"\",IF(ROWS(BD!$1:24)>COUNTIFS(BD!$B:$B,$I$145),\"\",INDEX(BD!$E$2:$E$138,SMALL(IF(BD!$B$2:$B$138=$I$145,IF(BD!$B$2:$B$138=$I$145,ROW(BD!$B$2:$B$138)-ROW(BD!$B$2)+1),FALSE),ROWS(BD!$1:24)))))","v":""},{"$f":"IF($I$145=\"\",\"\",IF(ROWS(BD!$1:24)>COUNTIFS(BD!$B:$B,$I$145),\"\",INDEX(BD!$F$2:$F$138,SMALL(IF(BD!$B$2:$B$138=$I$145,IF(BD!$B$2:$B$138=$I$145,ROW(BD!$B$2:$B$138)-ROW(BD!$B$2)+1),FALSE),ROWS(BD!$1:24)))))","v":""},{"$f":"IF($I$145=\"\",\"\",IF(ROWS(BD!$1:24)>COUNTIFS(BD!$B:$B,$I$145),\"\",INDEX(BD!$G$2:$G$138,SMALL(IF(BD!$B$2:$B$138=$I$145,IF(BD!$B$2:$B$138=$I$145,ROW(BD!$B$2:$B$138)-ROW(BD!$B$2)+1),FALSE),ROWS(BD!$1:24)))))","v":""},{"$f":"IF($I$145=\"\",\"\",IF(ROWS(BD!$1:24)>COUNTIFS(BD!$B:$B,$I$145),\"\",INDEX(BD!$H$2:$H$138,SMALL(IF(BD!$B$2:$B$138=$I$145,IF(BD!$B$2:$B$138=$I$145,ROW(BD!$B$2:$B$138)-ROW(BD!$B$2)+1),FALSE),ROWS(BD!$1:24)))))","v":""},null,{"$f":"IF($O$145=\"\",\"\",IF(ROWS(BD!$1:24)>COUNTIFS(BD!$B:$B,$O$145),\"\",INDEX(BD!$C$2:$C$138,SMALL(IF(BD!$B$2:$B$138=$O$145,IF(BD!$B$2:$B$138=$O$145,ROW(BD!$B$2:$B$138)-ROW(BD!$B$2)+1),FALSE),ROWS(BD!$1:24)))))","v":""},{"$f":"IF($O$145=\"\",\"\",IF(ROWS(BD!$1:24)>COUNTIFS(BD!$B:$B,$O$145),\"\",INDEX(BD!$E$2:$E$138,SMALL(IF(BD!$B$2:$B$138=$O$145,IF(BD!$B$2:$B$138=$O$145,ROW(BD!$B$2:$B$138)-ROW(BD!$B$2)+1),FALSE),ROWS(BD!$1:24)))))","v":""},{"$f":"IF($O$145=\"\",\"\",IF(ROWS(BD!$1:24)>COUNTIFS(BD!$B:$B,$O$145),\"\",INDEX(BD!$F$2:$F$138,SMALL(IF(BD!$B$2:$B$138=$O$145,IF(BD!$B$2:$B$138=$O$145,ROW(BD!$B$2:$B$138)-ROW(BD!$B$2)+1),FALSE),ROWS(BD!$1:24)))))","v":""},{"$f":"IF($O$145=\"\",\"\",IF(ROWS(BD!$1:24)>COUNTIFS(BD!$B:$B,$O$145),\"\",INDEX(BD!$G$2:$G$138,SMALL(IF(BD!$B$2:$B$138=$O$145,IF(BD!$B$2:$B$138=$O$145,ROW(BD!$B$2:$B$138)-ROW(BD!$B$2)+1),FALSE),ROWS(BD!$1:24)))))","v":""},{"$f":"IF($O$145=\"\",\"\",IF(ROWS(BD!$1:24)>COUNTIFS(BD!$B:$B,$O$145),\"\",INDEX(BD!$H$2:$H$138,SMALL(IF(BD!$B$2:$B$138=$O$145,IF(BD!$B$2:$B$138=$O$145,ROW(BD!$B$2:$B$138)-ROW(BD!$B$2)+1),FALSE),ROWS(BD!$1:24)))))","v":""},null,{"$f":"IF($U$145=\"\",\"\",IF(ROWS(BD!$1:24)>COUNTIFS(BD!$B:$B,$U$145),\"\",INDEX(BD!$C$2:$C$138,SMALL(IF(BD!$B$2:$B$138=$U$145,IF(BD!$B$2:$B$138=$U$145,ROW(BD!$B$2:$B$138)-ROW(BD!$B$2)+1),FALSE),ROWS(BD!$1:24)))))","v":""},{"$f":"IF($U$145=\"\",\"\",IF(ROWS(BD!$1:24)>COUNTIFS(BD!$B:$B,$U$145),\"\",INDEX(BD!$E$2:$E$138,SMALL(IF(BD!$B$2:$B$138=$U$145,IF(BD!$B$2:$B$138=$U$145,ROW(BD!$B$2:$B$138)-ROW(BD!$B$2)+1),FALSE),ROWS(BD!$1:24)))))","v":""},{"$f":"IF($U$145=\"\",\"\",IF(ROWS(BD!$1:24)>COUNTIFS(BD!$B:$B,$U$145),\"\",INDEX(BD!$F$2:$F$138,SMALL(IF(BD!$B$2:$B$138=$U$145,IF(BD!$B$2:$B$138=$U$145,ROW(BD!$B$2:$B$138)-ROW(BD!$B$2)+1),FALSE),ROWS(BD!$1:24)))))","v":""},{"$f":"IF($U$145=\"\",\"\",IF(ROWS(BD!$1:24)>COUNTIFS(BD!$B:$B,$U$145),\"\",INDEX(BD!$G$2:$G$138,SMALL(IF(BD!$B$2:$B$138=$U$145,IF(BD!$B$2:$B$138=$U$145,ROW(BD!$B$2:$B$138)-ROW(BD!$B$2)+1),FALSE),ROWS(BD!$1:24)))))","v":""},{"$f":"IF($U$145=\"\",\"\",IF(ROWS(BD!$1:24)>COUNTIFS(BD!$B:$B,$U$145),\"\",INDEX(BD!$H$2:$H$138,SMALL(IF(BD!$B$2:$B$138=$U$145,IF(BD!$B$2:$B$138=$U$145,ROW(BD!$B$2:$B$138)-ROW(BD!$B$2)+1),FALSE),ROWS(BD!$1:24)))))","v":""},null,{"$f":"IF($AA$145=\"\",\"\",IF(ROWS(BD!$1:24)>COUNTIFS(BD!$B:$B,$AA$145),\"\",INDEX(BD!$C$2:$C$138,SMALL(IF(BD!$B$2:$B$138=$AA$145,IF(BD!$B$2:$B$138=$AA$145,ROW(BD!$B$2:$B$138)-ROW(BD!$B$2)+1),FALSE),ROWS(BD!$1:24)))))","v":""},{"$f":"IF($AA$145=\"\",\"\",IF(ROWS(BD!$1:24)>COUNTIFS(BD!$B:$B,$AA$145),\"\",INDEX(BD!$E$2:$E$138,SMALL(IF(BD!$B$2:$B$138=$AA$145,IF(BD!$B$2:$B$138=$AA$145,ROW(BD!$B$2:$B$138)-ROW(BD!$B$2)+1),FALSE),ROWS(BD!$1:24)))))","v":""},{"$f":"IF($AA$145=\"\",\"\",IF(ROWS(BD!$1:24)>COUNTIFS(BD!$B:$B,$AA$145),\"\",INDEX(BD!$F$2:$F$138,SMALL(IF(BD!$B$2:$B$138=$AA$145,IF(BD!$B$2:$B$138=$AA$145,ROW(BD!$B$2:$B$138)-ROW(BD!$B$2)+1),FALSE),ROWS(BD!$1:24)))))","v":""},{"$f":"IF($AA$145=\"\",\"\",IF(ROWS(BD!$1:24)>COUNTIFS(BD!$B:$B,$AA$145),\"\",INDEX(BD!$G$2:$G$138,SMALL(IF(BD!$B$2:$B$138=$AA$145,IF(BD!$B$2:$B$138=$AA$145,ROW(BD!$B$2:$B$138)-ROW(BD!$B$2)+1),FALSE),ROWS(BD!$1:24)))))","v":""},{"$f":"IF($AA$145=\"\",\"\",IF(ROWS(BD!$1:24)>COUNTIFS(BD!$B:$B,$AA$145),\"\",INDEX(BD!$H$2:$H$138,SMALL(IF(BD!$B$2:$B$138=$AA$145,IF(BD!$B$2:$B$138=$AA$145,ROW(BD!$B$2:$B$138)-ROW(BD!$B$2)+1),FALSE),ROWS(BD!$1:24)))))","v":""},null,{"$f":"IF($AG$145=\"\",\"\",IF(ROWS(BD!$1:24)>COUNTIFS(BD!$B:$B,$AG$145),\"\",INDEX(BD!$C$2:$C$138,SMALL(IF(BD!$B$2:$B$138=$AG$145,IF(BD!$B$2:$B$138=$AG$145,ROW(BD!$B$2:$B$138)-ROW(BD!$B$2)+1),FALSE),ROWS(BD!$1:24)))))","v":""},{"$f":"IF($AG$145=\"\",\"\",IF(ROWS(BD!$1:24)>COUNTIFS(BD!$B:$B,$AG$145),\"\",INDEX(BD!$E$2:$E$138,SMALL(IF(BD!$B$2:$B$138=$AG$145,IF(BD!$B$2:$B$138=$AG$145,ROW(BD!$B$2:$B$138)-ROW(BD!$B$2)+1),FALSE),ROWS(BD!$1:24)))))","v":""},{"$f":"IF($AG$145=\"\",\"\",IF(ROWS(BD!$1:24)>COUNTIFS(BD!$B:$B,$AG$145),\"\",INDEX(BD!$F$2:$F$138,SMALL(IF(BD!$B$2:$B$138=$AG$145,IF(BD!$B$2:$B$138=$AG$145,ROW(BD!$B$2:$B$138)-ROW(BD!$B$2)+1),FALSE),ROWS(BD!$1:24)))))","v":""},{"$f":"IF($AG$145=\"\",\"\",IF(ROWS(BD!$1:24)>COUNTIFS(BD!$B:$B,$AG$145),\"\",INDEX(BD!$G$2:$G$138,SMALL(IF(BD!$B$2:$B$138=$AG$145,IF(BD!$B$2:$B$138=$AG$145,ROW(BD!$B$2:$B$138)-ROW(BD!$B$2)+1),FALSE),ROWS(BD!$1:24)))))","v":""},{"$f":"IF($AG$145=\"\",\"\",IF(ROWS(BD!$1:24)>COUNTIFS(BD!$B:$B,$AG$145),\"\",INDEX(BD!$H$2:$H$138,SMALL(IF(BD!$B$2:$B$138=$AG$145,IF(BD!$B$2:$B$138=$AG$145,ROW(BD!$B$2:$B$138)-ROW(BD!$B$2)+1),FALSE),ROWS(BD!$1:24)))))","v":""},null,{"$f":"IF($AM$145=\"\",\"\",IF(ROWS(BD!$1:24)>COUNTIFS(BD!$B:$B,$AM$145),\"\",INDEX(BD!$C$2:$C$138,SMALL(IF(BD!$B$2:$B$138=$AM$145,IF(BD!$B$2:$B$138=$AM$145,ROW(BD!$B$2:$B$138)-ROW(BD!$B$2)+1),FALSE),ROWS(BD!$1:24)))))","v":""},{"$f":"IF($AM$145=\"\",\"\",IF(ROWS(BD!$1:24)>COUNTIFS(BD!$B:$B,$AM$145),\"\",INDEX(BD!$E$2:$E$138,SMALL(IF(BD!$B$2:$B$138=$AM$145,IF(BD!$B$2:$B$138=$AM$145,ROW(BD!$B$2:$B$138)-ROW(BD!$B$2)+1),FALSE),ROWS(BD!$1:24)))))","v":""},{"$f":"IF($AM$145=\"\",\"\",IF(ROWS(BD!$1:24)>COUNTIFS(BD!$B:$B,$AM$145),\"\",INDEX(BD!$F$2:$F$138,SMALL(IF(BD!$B$2:$B$138=$AM$145,IF(BD!$B$2:$B$138=$AM$145,ROW(BD!$B$2:$B$138)-ROW(BD!$B$2)+1),FALSE),ROWS(BD!$1:24)))))","v":""},{"$f":"IF($AM$145=\"\",\"\",IF(ROWS(BD!$1:24)>COUNTIFS(BD!$B:$B,$AM$145),\"\",INDEX(BD!$G$2:$G$138,SMALL(IF(BD!$B$2:$B$138=$AM$145,IF(BD!$B$2:$B$138=$AM$145,ROW(BD!$B$2:$B$138)-ROW(BD!$B$2)+1),FALSE),ROWS(BD!$1:24)))))","v":""},{"$f":"IF($AM$145=\"\",\"\",IF(ROWS(BD!$1:24)>COUNTIFS(BD!$B:$B,$AM$145),\"\",INDEX(BD!$H$2:$H$138,SMALL(IF(BD!$B$2:$B$138=$AM$145,IF(BD!$B$2:$B$138=$AM$145,ROW(BD!$B$2:$B$138)-ROW(BD!$B$2)+1),FALSE),ROWS(BD!$1:24)))))","v":""}]
[null,null,{"$f":"IF($C$145=\"\",\"\",IF(ROWS(BD!$1:25)>COUNTIFS(BD!$B:$B,$C$145),\"\",INDEX(BD!$C$2:$C$138,SMALL(IF(BD!$B$2:$B$138=$C$145,IF(BD!$B$2:$B$138=$C$145,ROW(BD!$B$2:$B$138)-ROW(BD!$B$2)+1),FALSE),ROWS(BD!$1:25)))))","v":""},{"$f":"IF($C$145=\"\",\"\",IF(ROWS(BD!$1:25)>COUNTIFS(BD!$B:$B,$C$145),\"\",INDEX(BD!$E$2:$E$138,SMALL(IF(BD!$B$2:$B$138=$C$145,IF(BD!$B$2:$B$138=$C$145,ROW(BD!$B$2:$B$138)-ROW(BD!$B$2)+1),FALSE),ROWS(BD!$1:25)))))","v":""},{"$f":"IF($C$145=\"\",\"\",IF(ROWS(BD!$1:25)>COUNTIFS(BD!$B:$B,$C$145),\"\",INDEX(BD!$F$2:$F$138,SMALL(IF(BD!$B$2:$B$138=$C$145,IF(BD!$B$2:$B$138=$C$145,ROW(BD!$B$2:$B$138)-ROW(BD!$B$2)+1),FALSE),ROWS(BD!$1:25)))))","v":""},{"$f":"IF($C$145=\"\",\"\",IF(ROWS(BD!$1:25)>COUNTIFS(BD!$B:$B,$C$145),\"\",INDEX(BD!$G$2:$G$138,SMALL(IF(BD!$B$2:$B$138=$C$145,IF(BD!$B$2:$B$138=$C$145,ROW(BD!$B$2:$B$138)-ROW(BD!$B$2)+1),FALSE),ROWS(BD!$1:25)))))","v":""},{"$f":"IF($C$145=\"\",\"\",IF(ROWS(BD!$1:25)>COUNTIFS(BD!$B:$B,$C$145),\"\",INDEX(BD!$H$2:$H$138,SMALL(IF(BD!$B$2:$B$138=$C$145,IF(BD!$B$2:$B$138=$C$145,ROW(BD!$B$2:$B$138)-ROW(BD!$B$2)+1),FALSE),ROWS(BD!$1:25)))))","v":""},null,{"$f":"IF($I$145=\"\",\"\",IF(ROWS(BD!$1:25)>COUNTIFS(BD!$B:$B,$I$145),\"\",INDEX(BD!$C$2:$C$138,SMALL(IF(BD!$B$2:$B$138=$I$145,IF(BD!$B$2:$B$138=$I$145,ROW(BD!$B$2:$B$138)-ROW(BD!$B$2)+1),FALSE),ROWS(BD!$1:25)))))","v":""},{"$f":"IF($I$145=\"\",\"\",IF(ROWS(BD!$1:25)>COUNTIFS(BD!$B:$B,$I$145),\"\",INDEX(BD!$E$2:$E$138,SMALL(IF(BD!$B$2:$B$138=$I$145,IF(BD!$B$2:$B$138=$I$145,ROW(BD!$B$2:$B$138)-ROW(BD!$B$2)+1),FALSE),ROWS(BD!$1:25)))))","v":""},{"$f":"IF($I$145=\"\",\"\",IF(ROWS(BD!$1:25)>COUNTIFS(BD!$B:$B,$I$145),\"\",INDEX(BD!$F$2:$F$138,SMALL(IF(BD!$B$2:$B$138=$I$145,IF(BD!$B$2:$B$138=$I$145,ROW(BD!$B$2:$B$138)-ROW(BD!$B$2)+1),FALSE),ROWS(BD!$1:25)))))","v":""},{"$f":"IF($I$145=\"\",\"\",IF(ROWS(BD!$1:25)>COUNTIFS(BD!$B:$B,$I$145),\"\",INDEX(BD!$G$2:$G$138,SMALL(IF(BD!$B$2:$B$138=$I$145,IF(BD!$B$2:$B$138=$I$145,ROW(BD!$B$2:$B$138)-ROW(BD!$B$2)+1),FALSE),ROWS(BD!$1:25)))))","v":""},{"$f":"IF($I$145=\"\",\"\",IF(ROWS(BD!$1:25)>COUNTIFS(BD!$B:$B,$I$145),\"\",INDEX(BD!$H$2:$H$138,SMALL(IF(BD!$B$2:$B$138=$I$145,IF(BD!$B$2:$B$138=$I$145,ROW(BD!$B$2:$B$138)-ROW(BD!$B$2)+1),FALSE),ROWS(BD!$1:25)))))","v":""},null,{"$f":"IF($O$145=\"\",\"\",IF(ROWS(BD!$1:25)>COUNTIFS(BD!$B:$B,$O$145),\"\",INDEX(BD!$C$2:$C$138,SMALL(IF(BD!$B$2:$B$138=$O$145,IF(BD!$B$2:$B$138=$O$145,ROW(BD!$B$2:$B$138)-ROW(BD!$B$2)+1),FALSE),ROWS(BD!$1:25)))))","v":""},{"$f":"IF($O$145=\"\",\"\",IF(ROWS(BD!$1:25)>COUNTIFS(BD!$B:$B,$O$145),\"\",INDEX(BD!$E$2:$E$138,SMALL(IF(BD!$B$2:$B$138=$O$145,IF(BD!$B$2:$B$138=$O$145,ROW(BD!$B$2:$B$138)-ROW(BD!$B$2)+1),FALSE),ROWS(BD!$1:25)))))","v":""},{"$f":"IF($O$145=\"\",\"\",IF(ROWS(BD!$1:25)>COUNTIFS(BD!$B:$B,$O$145),\"\",INDEX(BD!$F$2:$F$138,SMALL(IF(BD!$B$2:$B$138=$O$145,IF(BD!$B$2:$B$138=$O$145,ROW(BD!$B$2:$B$138)-ROW(BD!$B$2)+1),FALSE),ROWS(BD!$1:25)))))","v":""},{"$f":"IF($O$145=\"\",\"\",IF(ROWS(BD!$1:25)>COUNTIFS(BD!$B:$B,$O$145),\"\",INDEX(BD!$G$2:$G$138,SMALL(IF(BD!$B$2:$B$138=$O$145,IF(BD!$B$2:$B$138=$O$145,ROW(BD!$B$2:$B$138)-ROW(BD!$B$2)+1),FALSE),ROWS(BD!$1:25)))))","v":""},{"$f":"IF($O$145=\"\",\"\",IF(ROWS(BD!$1:25)>COUNTIFS(BD!$B:$B,$O$145),\"\",INDEX(BD!$H$2:$H$138,SMALL(IF(BD!$B$2:$B$138=$O$145,IF(BD!$B$2:$B$138=$O$145,ROW(BD!$B$2:$B$138)-ROW(BD!$B$2)+1),FALSE),ROWS(BD!$1:25)))))","v":""},null,{"$f":"IF($U$145=\"\",\"\",IF(ROWS(BD!$1:25)>COUNTIFS(BD!$B:$B,$U$145),\"\",INDEX(BD!$C$2:$C$138,SMALL(IF(BD!$B$2:$B$138=$U$145,IF(BD!$B$2:$B$138=$U$145,ROW(BD!$B$2:$B$138)-ROW(BD!$B$2)+1),FALSE),ROWS(BD!$1:25)))))","v":""},{"$f":"IF($U$145=\"\",\"\",IF(ROWS(BD!$1:25)>COUNTIFS(BD!$B:$B,$U$145),\"\",INDEX(BD!$E$2:$E$138,SMALL(IF(BD!$B$2:$B$138=$U$145,IF(BD!$B$2:$B$138=$U$145,ROW(BD!$B$2:$B$138)-ROW(BD!$B$2)+1),FALSE),ROWS(BD!$1:25)))))","v":""},{"$f":"IF($U$145=\"\",\"\",IF(ROWS(BD!$1:25)>COUNTIFS(BD!$B:$B,$U$145),\"\",INDEX(BD!$F$2:$F$138,SMALL(IF(BD!$B$2:$B$138=$U$145,IF(BD!$B$2:$B$138=$U$145,ROW(BD!$B$2:$B$138)-ROW(BD!$B$2)+1),FALSE),ROWS(BD!$1:25)))))","v":""},{"$f":"IF($U$145=\"\",\"\",IF(ROWS(BD!$1:25)>COUNTIFS(BD!$B:$B,$U$145),\"\",INDEX(BD!$G$2:$G$138,SMALL(IF(BD!$B$2:$B$138=$U$145,IF(BD!$B$2:$B$138=$U$145,ROW(BD!$B$2:$B$138)-ROW(BD!$B$2)+1),FALSE),ROWS(BD!$1:25)))))","v":""},{"$f":"IF($U$145=\"\",\"\",IF(ROWS(BD!$1:25)>COUNTIFS(BD!$B:$B,$U$145),\"\",INDEX(BD!$H$2:$H$138,SMALL(IF(BD!$B$2:$B$138=$U$145,IF(BD!$B$2:$B$138=$U$145,ROW(BD!$B$2:$B$138)-ROW(BD!$B$2)+1),FALSE),ROWS(BD!$1:25)))))","v":""},null,{"$f":"IF($AA$145=\"\",\"\",IF(ROWS(BD!$1:25)>COUNTIFS(BD!$B:$B,$AA$145),\"\",INDEX(BD!$C$2:$C$138,SMALL(IF(BD!$B$2:$B$138=$AA$145,IF(BD!$B$2:$B$138=$AA$145,ROW(BD!$B$2:$B$138)-ROW(BD!$B$2)+1),FALSE),ROWS(BD!$1:25)))))","v":""},{"$f":"IF($AA$145=\"\",\"\",IF(ROWS(BD!$1:25)>COUNTIFS(BD!$B:$B,$AA$145),\"\",INDEX(BD!$E$2:$E$138,SMALL(IF(BD!$B$2:$B$138=$AA$145,IF(BD!$B$2:$B$138=$AA$145,ROW(BD!$B$2:$B$138)-ROW(BD!$B$2)+1),FALSE),ROWS(BD!$1:25)))))","v":""},{"$f":"IF($AA$145=\"\",\"\",IF(ROWS(BD!$1:25)>COUNTIFS(BD!$B:$B,$AA$145),\"\",INDEX(BD!$F$2:$F$138,SMALL(IF(BD!$B$2:$B$138=$AA$145,IF(BD!$B$2:$B$138=$AA$145,ROW(BD!$B$2:$B$138)-ROW(BD!$B$2)+1),FALSE),ROWS(BD!$1:25)))))","v":""},{"$f":"IF($AA$145=\"\",\"\",IF(ROWS(BD!$1:25)>COUNTIFS(BD!$B:$B,$AA$145),\"\",INDEX(BD!$G$2:$G$138,SMALL(IF(BD!$B$2:$B$138=$AA$145,IF(BD!$B$2:$B$138=$AA$145,ROW(BD!$B$2:$B$138)-ROW(BD!$B$2)+1),FALSE),ROWS(BD!$1:25)))))","v":""},{"$f":"IF($AA$145=\"\",\"\",IF(ROWS(BD!$1:25)>COUNTIFS(BD!$B:$B,$AA$145),\"\",INDEX(BD!$H$2:$H$138,SMALL(IF(BD!$B$2:$B$138=$AA$145,IF(BD!$B$2:$B$138=$AA$145,ROW(BD!$B$2:$B$138)-ROW(BD!$B$2)+1),FALSE),ROWS(BD!$1:25)))))","v":""},null,{"$f":"IF($AG$145=\"\",\"\",IF(ROWS(BD!$1:25)>COUNTIFS(BD!$B:$B,$AG$145),\"\",INDEX(BD!$C$2:$C$138,SMALL(IF(BD!$B$2:$B$138=$AG$145,IF(BD!$B$2:$B$138=$AG$145,ROW(BD!$B$2:$B$138)-ROW(BD!$B$2)+1),FALSE),ROWS(BD!$1:25)))))","v":""},{"$f":"IF($AG$145=\"\",\"\",IF(ROWS(BD!$1:25)>COUNTIFS(BD!$B:$B,$AG$145),\"\",INDEX(BD!$E$2:$E$138,SMALL(IF(BD!$B$2:$B$138=$AG$145,IF(BD!$B$2:$B$138=$AG$145,ROW(BD!$B$2:$B$138)-ROW(BD!$B$2)+1),FALSE),ROWS(BD!$1:25)))))","v":""},{"$f":"IF($AG$145=\"\",\"\",IF(ROWS(BD!$1:25)>COUNTIFS(BD!$B:$B,$AG$145),\"\",INDEX(BD!$F$2:$F$138,SMALL(IF(BD!$B$2:$B$138=$AG$145,IF(BD!$B$2:$B$138=$AG$145,ROW(BD!$B$2:$B$138)-ROW(BD!$B$2)+1),FALSE),ROWS(BD!$1:25)))))","v":""},{"$f":"IF($AG$145=\"\",\"\",IF(ROWS(BD!$1:25)>COUNTIFS(BD!$B:$B,$AG$145),\"\",INDEX(BD!$G$2:$G$138,SMALL(IF(BD!$B$2:$B$138=$AG$145,IF(BD!$B$2:$B$138=$AG$145,ROW(BD!$B$2:$B$138)-ROW(BD!$B$2)+1),FALSE),ROWS(BD!$1:25)))))","v":""},{"$f":"IF($AG$145=\"\",\"\",IF(ROWS(BD!$1:25)>COUNTIFS(BD!$B:$B,$AG$145),\"\",INDEX(BD!$H$2:$H$138,SMALL(IF(BD!$B$2:$B$138=$AG$145,IF(BD!$B$2:$B$138=$AG$145,ROW(BD!$B$2:$B$138)-ROW(BD!$B$2)+1),FALSE),ROWS(BD!$1:25)))))","v":""},null,{"$f":"IF($AM$145=\"\",\"\",IF(ROWS(BD!$1:25)>COUNTIFS(BD!$B:$B,$AM$145),\"\",INDEX(BD!$C$2:$C$138,SMALL(IF(BD!$B$2:$B$138=$AM$145,IF(BD!$B$2:$B$138=$AM$145,ROW(BD!$B$2:$B$138)-ROW(BD!$B$2)+1),FALSE),ROWS(BD!$1:25)))))","v":""},{"$f":"IF($AM$145=\"\",\"\",IF(ROWS(BD!$1:25)>COUNTIFS(BD!$B:$B,$AM$145),\"\",INDEX(BD!$E$2:$E$138,SMALL(IF(BD!$B$2:$B$138=$AM$145,IF(BD!$B$2:$B$138=$AM$145,ROW(BD!$B$2:$B$138)-ROW(BD!$B$2)+1),FALSE),ROWS(BD!$1:25)))))","v":""},{"$f":"IF($AM$145=\"\",\"\",IF(ROWS(BD!$1:25)>COUNTIFS(BD!$B:$B,$AM$145),\"\",INDEX(BD!$F$2:$F$138,SMALL(IF(BD!$B$2:$B$138=$AM$145,IF(BD!$B$2:$B$138=$AM$145,ROW(BD!$B$2:$B$138)-ROW(BD!$B$2)+1),FALSE),ROWS(BD!$1:25)))))","v":""},{"$f":"IF($AM$145=\"\",\"\",IF(ROWS(BD!$1:25)>COUNTIFS(BD!$B:$B,$AM$145),\"\",INDEX(BD!$G$2:$G$138,SMALL(IF(BD!$B$2:$B$138=$AM$145,IF(BD!$B$2:$B$138=$AM$145,ROW(BD!$B$2:$B$138)-ROW(BD!$B$2)+1),FALSE),ROWS(BD!$1:25)))))","v":""},{"$f":"IF($AM$145=\"\",\"\",IF(ROWS(BD!$1:25)>COUNTIFS(BD!$B:$B,$AM$145),\"\",INDEX(BD!$H$2:$H$138,SMALL(IF(BD!$B$2:$B$138=$AM$145,IF(BD!$B$2:$B$138=$AM$145,ROW(BD!$B$2:$B$138)-ROW(BD!$B$2)+1),FALSE),ROWS(BD!$1:25)))))","v":""}]