{"text_format":"1","workbook":"xlsx","n_sheets":4,"sheets":["Menu","Cadastro","Detalhado ","Lote"],"not_rendered":{"charts":0,"images":1,"macros":1,"external_links":0,"defined_names":3,"comments":0,"pivot_tables":0},"unopened":[],"bounds":{"document_bytes":16777216,"sheet_cells":100000,"rows_first":2000,"rows_last":500,"rows_between":2000,"halvings":0,"cell_chars":16384,"cell_head_chars":4096},"cells_cut":0,"cells_raw":0,"read":"whole","date_system":"1900"}

{"sheet":"Menu","index":0,"n_rows":0,"n_cols":0,"rows_kept":0,"cut":false,"hidden":false,"merged":[[1,0,1,10]]}

{"sheet":"Cadastro","index":1,"n_rows":259,"n_cols":9,"rows_kept":259,"cut":false,"hidden":false,"merged":[]}
["CodigoInterno","CodigoProduto","NomeProduto","LinhaProduto","EstoqueMinimo","Estoquemaximo"]
[120,"PRD00022","AGUA OX NC 20VOL 1L","TINTURAS",2,50,null,"",""]
[124,"PRD00026","AGUA OX NC 30V MATIZAD 1L","TINTURAS",2,15,null,"",""]
[121,"PRD00023","AGUA OX NC 30VOL 1L","TINTURAS",2,15,null,"",""]
[125,"PRD00027","AGUA OX NC 40V MATIZAD 1L","TINTURAS",2,15,null,null,""]
[122,"PRD00024","AGUA OX NC 40VOL 1L","TINTURAS",2,15,null,"",""]
[301,"PRD00204","BALM CONTROLTOX PR 1L","SHOCK3",2,15,null,"",""]
[305,"PRD00248","BALS COND DAY BY DAY PROF SER 2,5L","DAYBYDAY",2,15,null,"",""]
[113,"PRD00014","BLINDAGEM NANO REDUT PR 1L","SHOCK3",2,15,null,"",""]
[252,"PRD00154","BRUMA STYLING SP LUM 240ML","LUMMEM",2,15,null,"",""]
[300,"PRD00203","COMP DISC CONTROLTOX PR 1KG","SHOCK3",2,15,null,"",""]
[289,"PRD00191","COMP FINAL SHOCK3 60G","SHOCK3",2,15,null,"",""]
[224,"PRD00126","COMP HID KAIKEN UNI 500ML","KAIKEN",2,15,null,"",""]
[226,"PRD00128","COMP HID KAIKEN UNIQUE 2KG","KAIKEN",2,15,null,"",""]
[313,"PRD00256","COMP REC MANTEIG KARITE ET 1KG","ELEMENTOS DA TERRA",2,15,null,"",""]
[314,"PRD00257","COMP REC OLEO DE ARGAN ET 1KG","ELEMENTOS DA TERRA",2,15,null,"",""]
[315,"PRD00258","COMP REC OLEO DE OLIVA ET 1KG","ELEMENTOS DA TERRA",2,15,null,"",""]
[316,"PRD00259","COMP REC OLEO DE TUTANO ET 1KG","ELEMENTOS DA TERRA",2,15,null,"",""]
[317,"PRD00260","COMP REC OLEO MACADAMIA ET 1KG","ELEMENTOS DA TERRA",2,15,null,"",""]
[318,"PRD00261","COMP REC QUERATINA ET 1KG","ELEMENTOS DA TERRA",2,15,null,"",""]
[270,"PRD00172","COMPOSTO OL OJON M PLU 1L","MAISON",2,15,null,"",""]
[259,"PRD00161","COND ALECRIM E MENTA M 5L","MAISON",2,15,null,"",""]
[260,"PRD00162","COND BRILHO PEROLA E MAIS 5L","MAISON",2,15,null,"",""]
[322,"PRD00265","COND DAM LARANJ ET 250ML","ELEMENTOS DA TERRA",2,15,null,"",""]
[261,"PRD00163","COND ERVA DOCE MAISON 5L","MAISON",2,15,null,"",""]
[334,"PRD00277","COND EXT MANDIOC ET 250ML","ELEMENTOS DA TERRA",2,15,null,"",""]
[339,"PRD00282","COND MACADÂMIA SOS 1LT ET","ELEMENTOS DA TERRA",2,15,null,"",""]
[262,"PRD00164","COND MANT KARITE MAISON 5L","MAISON",2,15,null,"",""]
[263,"PRD00165","COND MARACUJA MEL MAISO 5L","MAISON",2,15,null,"",""]
[328,"PRD00271","COND OLEO DE ARGAN ET 250ML","ELEMENTOS DA TERRA",2,15,null,"",""]
[331,"PRD00274","COND OLEO DE COCO ET 250ML","ELEMENTOS DA TERRA",2,15,null,"",""]
[325,"PRD00268","COND PHYS BAUN ET 250ML","ELEMENTOS DA TERRA",2,15,null,"",""]
[338,"PRD00281","COND QUERATINA SOS 1LT ET","ELEMENTOS DA TERRA",2,15,null,"",""]
[126,"PRD00028","CORRETOR AMARELO NC 60G","TINTURAS",2,15,null,"",""]
[127,"PRD00029","CORRETOR AZUL NC 60G","TINTURAS",2,15,null,"",""]
[128,"PRD00030","CORRETOR CINZA","TINTURAS",2,15,null,"",""]
[129,"PRD00031","CORRETOR VERMELHO NC 60G","TINTURAS",2,15,null,"",""]
[355,"PRD00298","CR ALISANTE SODIO OSMIUM 1KG","OSMIIUM",2,15,null,"",""]
[235,"PRD00137","CR ALISANTE SODIO OSMIUM 2KG","OSMIIUM",2,15,null,"",""]
[236,"PRD00138","CR BASE CALCIO OSMIUM 1KG","OSMIIUM",2,15,null,"",""]
[237,"PRD00139","CR BASE CALCIO OSMIUM 2KG","OSMIIUM",2,15,null,"",""]
[238,"PRD00140","CR HID E NEUT OSM FLEX 1KG","OSMIIUM",2,15,null,"",""]
[239,"PRD00141","CR PROTETOR OSM FLEX 100G","OSMIIUM",2,15,null,"",""]
[130,"PRD00032","DESC NC AZUL 500G","TINTURAS",2,15,null,"",""]
[131,"PRD00033","DESC NC BRANCO 500G","TINTURAS",2,15,null,"",""]
[123,"PRD00025","EMULSAO NC 8VOL 1L","TINTURAS",2,15,null,"",""]
[271,"PRD00173","FINAL OL OJON M PLU 500ML","MAISON",2,15,null,"",""]
[281,"PRD00183","FLUIDO FINA MONOI PR 500ML","MONOI",2,15,null,"",""]
[244,"PRD00146","FLUIDO FIX CACHO OSM 300ML","OSMIIUM",2,15,null,"",""]
[248,"PRD00150","FLUIDO FIX CACHO OSM 500ML","OSMIIUM",2,15,null,"",""]
[253,"PRD00155","FLUIDO REPAR LUMMEM 60ML","LUMMEM",2,15,null,"",""]
[245,"PRD00147","GLOSS MOD CACHOS OSM 300ML","OSMIIUM",2,15,null,"",""]
[249,"PRD00151","GLOSS MOD CACHOS OSM 500ML","OSMIIUM",2,15,null,"",""]
[111,"PRD00012","GOLDEN MASK NUTRAHAI 200GR","GOLDEN MASK",2,15,null,"",""]
[254,"PRD00156","HAIR SPRAY LUMMEN 400ML","LUMMEM",2,15,null,"",""]
[356,"PRD00299","HENNA CASTANHO CLARO CORALY","CORALY",2,15,null,"",""]
[343,"PRD00286","HENNA CASTANHO ESCURO CORALY","CORALY",2,15,null,"",""]
[354,"PRD00297","HENNA CASTANHO MÉDIO CORALY","CORALY",2,15,null,"",""]
[352,"PRD00295","HENNA LOURO CLARO CORALY","CORALY",2,15,null,"",""]
[351,"PRD00294","HENNA MARROM CHOCOLATE CORALY","CORALY",2,15,null,"",""]
[353,"PRD00296","HENNA MARROM CLARO CORALY","CORALY",2,15,null,"",""]
[342,"PRD00285","HENNA PRETO CORALY","CORALY",2,15,null,"",""]
[101,"PRD00001","KERATIN BALM CROMAT 500ML","CROMATIC",2,15,null,"",""]
[102,"PRD00002","KERATIN SEALING CROMATIC 500ML","CROMATIC",2,15,null,"",""]
[103,"PRD00003","KERATIN SH CROMATIC 500ML","CROMATIC",2,15,null,"",""]
[112,"PRD00013","KIT FIBER VIT NH","FIBER VIT",2,15,null,"",""]
[290,"PRD00192","KIT SHOCK3 PR 120ML","SHOCK3",2,15,null,"",""]
[320,"PRD00263","KIT SMART CALCIO OSMIUM","OSMIIUM",2,15,null,"",""]
[132,"PRD00034","KIT ULTRAPLEX NUTRA COLOR","ULTRAPLEX",2,15,null,"",""]
[319,"PRD00262","LEAVE IN DEFRIZ LUMMEM 500ML","LUMMEM",2,15,null,"",""]
[240,"PRD00142","LIQUIDO ATIVADOR OSMIUM 1L","OSMIIUM",2,15,null,"",""]
[358,"PRD00302","LIQUIDO ATIVADOR OSMIUM 500","OSMIUM",2,15,null,"",""]
[273,"PRD00175","MASC COND CAB COL EFFE 1L","EFFECTUS",2,15,null,"",""]
[246,"PRD00148","MASC COND CACHOS OSM 300ML","OSMIIUM",2,15,null,"",""]
[250,"PRD00152","MASC COND CACHOS OSM 500ML","OSMIIUM",2,15,null,"",""]
[109,"PRD00009","MASC COND DAYBYDAY ABAC 500G","DAYBYDAY",2,15,null,"",""]
[274,"PRD00176","MASC COND EFFECTUS 150ML","EFFECTUS",2,15,null,"",""]
[275,"PRD00177","MASC COND EFFECTUS 500ML","EFFECTUS",2,15,null,"",""]
[311,"PRD00254","MASC COND MANUT CROM 300ML","CROMATIC",2,15,null,"",""]
[335,"PRD00278","MASC EXT MANDIOC ET 500G","ELEMENTOS DA TERRA",2,15,null,"",""]
[337,"PRD00280","MASC GREEN THERAPY OJON 500 ML","OJON",2,15,null,"",""]
[329,"PRD00272","MASC HID OLEO ARGAN ET 500G","ELEMENTOS DA TERRA",2,15,null,"",""]
[307,"PRD00250","MASC KAIKEN ONIX ARGILA VERDE 1LT","KAIKEN",2,15,null,"",""]
[309,"PRD00252","MASC KAIKEN ONIX ÓLEO DE AVELÃ 1LT","KAIKEN",2,15,null,"",""]
[308,"PRD00251","MASC KAIKEN ONIX TUTANO E CENOURA 1LT","KAIKEN",2,15,null,"",""]
[332,"PRD00275","MASC OLEO DE COCO ET 500G","ELEMENTOS DA TERRA",2,15,null,"",""]
[105,"PRD00005","MASC REG DAYBYDAY CAMOM 500G","DAYBYDAY",2,15,null,"",""]
[326,"PRD00269","MASC REST PHYS BAUN ET 500G","ELEMENTOS DA TERRA",2,15,null,"",""]
[323,"PRD00266","MASC REVIT DAM LANRANJ ET 500G","ELEMENTOS DA TERRA",2,15,null,"",""]
[107,"PRD00007","MASC REVIT DAYBYDAY CEN 500G","DAYBYDAY",2,15,null,"",""]
[357,"PRD00301","MASCARA MATIZADORA NC 300ML","MATIZADORES",2,15,null,"",""]
[115,"PRD00016","MASCARA TONALIZANTE ABSOLUT BLACK 260G","TONALIZANTE",2,15,null,"",""]
[116,"PRD00017","MASCARA TONALIZANTE GRAND MARSALA 260G","TONALIZANTE",2,15,null,"",""]
[117,"PRD00018","MASCARA TONALIZANTE LUX BROWN 260G","TONALIZANTE",2,15,null,"",""]
[118,"PRD00019","MASCARA TONALIZANTE ROYAL RED 260G","TONALIZANTE",2,15,null,"",""]
[286,"PRD00188","MONOI TAHITI PR 60ML","MONOI",2,15,null,"",""]
[255,"PRD00157","NUTRA BRILHO SP LUMM 240ML","LUMMEM",2,15,null,"",""]
[279,"PRD00181","OLEO ARGAN PRO REP 60ML","PRO REPAIR",2,15,null,"",""]
[280,"PRD00182","PH CONTROL PROREPAIR 500ML","PRO REPAIR",2,15,null,"",""]
[256,"PRD00158","POMADA MODELAD LUMMEM 100G","LUMMEM",2,15,null,"",""]
[258,"PRD00160","PRIMER CAPILAR LUMM 120ML","LUMMEM",2,15,null,"",""]
[257,"PRD00159","PRIMER CAPILAR LUMM 250ML","LUMMEM",2,15,null,"",""]
[312,"PRD00255","RECOND FINAL CROMAT 300ML","CROMATIC",2,15,null,"",""]
[303,"PRD00246","REDUTOR DE VOLUME MONOI PR 300ML","MONOI",2,15,null,"",""]
[282,"PRD00184","REDUTOR VOLUME MONOI PR 1L","MONOI",2,15,null,"",""]
[283,"PRD00185","REDUTOR VOLUME MONOI PR 500ML","MONOI",2,15,null,"",""]
[341,"PRD00284","REGEN INT 4X1 ET 15ML","ELEMENTOS DA TERRA",2,15,null,"",""]
[291,"PRD00193","REGEN NUT SHOCK3 OMEG 500G","SHOCK3",2,15,null,"",""]
[292,"PRD00194","REGEN SHOCK3 OL COCO 300ML","SHOCK3",2,15,null,"",""]
[293,"PRD00195","REGENER SHOCK3 P REP 1L","SHOCK3",2,15,null,"",""]
[294,"PRD00196","REGENER SHOCK3 P REP 300ML","SHOCK3",2,15,null,"",""]
[295,"PRD00197","REGENER SHOCK3 P REP 500ML","SHOCK3",2,15,null,"",""]
[241,"PRD00143","REGULADOR DE FORCA OSMIUM 1KG","OSMIIUM",2,15,null,"",""]
[287,"PRD00189","REHIDRATANTE MONOI PR 500ML","MONOI",2,15,null,"",""]
[264,"PRD00166","SH ALECRIM E MENTA MAIS 5L","MAISON",2,15,null,"",""]
[288,"PRD00190","SH ALTA HID MONOI PR 500ML","MONOI",2,15,null,"",""]
[304,"PRD00247","SH BRILHO PEROLA MAIS 2,5L","MAISON",2,15,null,"",""]
[265,"PRD00167","SH BRILHO PEROLA MAIS 5L","MAISON",2,15,null,"",""]
[276,"PRD00178","SH CAB TIN EFFECTUS 150ML","EFFECTUS",2,15,null,"",""]
[277,"PRD00179","SH CAB TIN EFFECTUS 1L","EFFECTUS",2,15,null,"",""]
[278,"PRD00180","SH CAB TIN EFFECTUS 500ML","EFFECTUS",2,15,null,"",""]
[247,"PRD00149","SH CACHOS OSMIUM 300ML","OSMIIUM",2,15,null,"",""]
[251,"PRD00153","SH CACHOS OSMIUM 500ML","OSMIIUM",2,15,null,"",""]
[321,"PRD00264","SH DAM LARANJ ET 250ML","ELEMENTOS DA TERRA",2,15,null,"",""]
[108,"PRD00008","SH DAYBYDAY ABAC 500ML","DAYBYDAY",2,15,null,"",""]
[104,"PRD00004","SH DAYBYDAY CAMOMILA 500ML","DAYBYDAY",2,15,null,"",""]
[106,"PRD00006","SH DAYBYDAY CEN 500ML","DAYBYDAY",2,15,null,"",""]
[302,"PRD00208","SH DAYBYDAY CEN 500ML","DAYBYDAY",2,15,null,"",""]
[110,"PRD00010","SH DAYBYDAY PROF SERV 2,5L","DAYBYDAY",2,15,null,"",""]
[284,"PRD00186","SH DEEP COLD MONOI PR 1L","MONOI",2,15,null,"",""]
[285,"PRD00187","SH DEEP COLD MONOI PR 500ML","MONOI",2,15,null,"",""]
[266,"PRD00168","SH ERVA DOCE M SEM SAL 5L","MAISON",2,15,null,"",""]
[267,"PRD00169","SH ERVA DOCE MAISON 5L","MAISON",2,15,null,"",""]
[333,"PRD00276","SH EXT MANDIOC ET 250ML","ELEMENTOS DA TERRA",2,15,null,"",""]
[336,"PRD00279","SH GREEN THERAPY OJON 500 ML","OJON",2,15,null,"",""]
[242,"PRD00144","SH INDICADOR OSMIUM FL 1L","OSMIIUM",2,15,null,"",""]
[306,"PRD00249","SH KAIKEN ONIX 1LT","KAIKEN",2,15,null,"",""]
[227,"PRD00129","SH KAIKEN UNIQUE 1L","KAIKEN",2,15,null,"",""]
[225,"PRD00127","SH KAIKEN UNIQUE 500ML","KAIKEN",2,15,null,"",""]
[268,"PRD00170","SH MANT KARITE MAISON 5L","MAISON",2,15,null,"",""]
[310,"PRD00253","SH MARACUJA E MEL MAISON 2,5L","MAISON",2,15,null,"",""]
[269,"PRD00171","SH MARACUJA E MEL MAISON 5L","MAISON",2,15,null,"",""]
[119,"PRD00020","SH MATIZADOR NC 300ML","MATIZADORES",2,15,null,"",""]
[327,"PRD00270","SH OLEO DE ARGAN ET 250ML","ELEMENTOS DA TERRA",2,15,null,"",""]
[330,"PRD00273","SH OLEO DE COCO ET 250ML","ELEMENTOS DA TERRA",2,15,null,"",""]
[324,"PRD00267","SH PHYS BAUN ET 250ML","ELEMENTOS DA TERRA",2,15,null,"",""]
[272,"PRD00174","SH REPARA OL OJON M PLU 1L","MAISON",2,15,null,"",""]
[340,"PRD00283","SH REVITALIZANTE GREEN THERAPY 1LT","OUTROS",2,15,null,"",""]
[296,"PRD00198","SH SHOCK3 OL COCO PR 300ML","SHOCK3",2,15,null,"",""]
[297,"PRD00199","SH SHOCK3 PRO REPAIR 1L","SHOCK3",2,15,null,"",""]
[298,"PRD00200","SH SHOCK3 PRO REPAIR 300ML","SHOCK3",2,15,null,"",""]
[299,"PRD00201","SH SHOCK3 PRO REPAIR 500ML","SHOCK3",2,15,null,"",""]
[114,"PRD00015","SH ULTRA GLOSS PR 1L","SHOCK3",2,15,null,"",""]
[243,"PRD00145","SOS ADVANCED OS FLEX 300ML","OSMIIUM",2,15,null,"",""]
[228,"PRD00130","SOS BRILHO SUPREMO NH 1KG","SOS",2,15,null,"",""]
[229,"PRD00131","SOS EQUILIBRIO ABS NH 1KG","SOS",2,15,null,"",""]
[230,"PRD00132","SOS NUTRICAO INTEN NH 1KG","SOS",2,15,null,"",""]
[231,"PRD00133","SOS PLAST CAPILAR 15ML 2 PARES","SOS",2,15,null,"",""]
[233,"PRD00135","SOS PLAST CAPILAR 15ML 24UN","SOS",2,15,null,"",""]
[232,"PRD00134","SOS PLAST CAPILAR 250ML 2UN","SOS",2,15,null,"",""]
[234,"PRD00136","SOS ULTR VITAMINADO NH 2KG","SOS",2,15,null,"",""]
[350,"PRD00293","SPORTELLI - MÁSCARA ÓLEO DE OJON E QUERATINA 1L","N.APLICA",2,15,null,"",""]
[349,"PRD00292","SPORTELLI - MÁSCARA ÓLEO DE OJON E QUERATINA 300ML","N.APLICA",2,15,null,"",""]
[344,"PRD00287","SPORTELLI - SHAMPOO ÓLEO DE OJON E QUERATINA 1L","N.APLICA",2,15,null,"",""]
[348,"PRD00291","SPORTELLI - SHAMPOO ÓLEO DE OJON E QUERATINA 300ML","N.APLICA",2,15,null,"",""]
[345,"PRD00288","SPORTELLI FINALIZADOR LEAVE-IN MULTIFUNCIONAL 150ML","N.APLICA",2,15,null,"",""]
[347,"PRD00290","SPORTELLI LEAVE-IN - ÓLEO DE OJON E QUERATINA 300ML","N.APLICA",2,15,null,"",""]
[346,"PRD00289","SPORTELLI LEAVE-IN - ÓLEO DE OJON E QUERATINA 500ML","N.APLICA",2,15,null,"",""]
[133,"PRD00035","T NC 0.00 INTENS CLAREAMEN 60G","TINTURAS",2,15,null,"",""]
[134,"PRD00036","T NC 1.0 PRETO ESSENCE 60G","TINTURAS",2,15,null,"",""]
[135,"PRD00037","T NC 10.0 L CLARIS 60G","TINTURAS",2,15,null,"",""]
[136,"PRD00038","T NC 10.1 L CLARIS ACZ 60G","TINTURAS",2,15,null,"",""]
[137,"PRD00039","T NC 10.89 L CLARIS PEROLA 60G","TINTURAS",2,15,null,"",""]
[138,"PRD00040","T NC 11.11 L CLARIS PL INT 60G","TINTURAS",2,15,null,"",""]
[139,"PRD00041","T NC 12.0 L ULTRA CL 60G","TINTURAS",2,15,null,"",""]
[140,"PRD00042","T NC 12.1 L ULTRA CL CINZ 60G","TINTURAS",2,15,null,"",""]
[141,"PRD00043","T NC 12.12 L ULTRA CL IRIS 60G","TINTURAS",2,15,null,"",""]
[142,"PRD00044","T NC 12.2 L ULTRA CL VIOL 60G","TINTURAS",2,15,null,"",""]
[143,"PRD00045","T NC 12.22 L ULT CL VIO INT 60G","TINTURAS",2,15,null,"",""]
[144,"PRD00046","T NC 12.89 L ULT CL PEROLA 60G","TINTURAS",2,15,null,"",""]
[145,"PRD00047","T NC 3.0 CAST ESC ESSENCE 60G","TINTURAS",2,15,null,"",""]
[146,"PRD00048","T NC 4.0 CAST MD ESSENCE 60G","TINTURAS",2,15,null,"",""]
[147,"PRD00049","T NC 4.4 CAST MD ACOB 60G","TINTURAS",2,15,null,"",""]
[148,"PRD00050","T NC 4.5 CAST MD ACAJU 60G","TINTURAS",2,15,null,"",""]
[149,"PRD00051","T NC 4.64 CAST MD VER ACOB 60G","TINTURAS",2,15,null,"",""]
[150,"PRD00052","T NC 4.66 CAST MD VER INT 60G","TINTURAS",2,15,null,"",""]
[151,"PRD00053","T NC 5.0 CAST CL ESSENCE 60G","TINTURAS",2,15,null,"",""]
[152,"PRD00054","T NC 5.1 CAST CL ACZ ESSEN 60G","TINTURAS",2,15,null,"",""]
[153,"PRD00055","T NC 5.20 CAST CL VIO INT 60G","TINTURAS",2,15,null,"",""]
[154,"PRD00056","T NC 5.3 CAST CL DOUR 60G","TINTURAS",2,15,null,"",""]
[155,"PRD00057","T NC 5.34 CAST DOUR ACOB 60G","TINTURAS",2,15,null,"",""]
[156,"PRD00058","T NC 5.4 CAST CL ACOBR 60G","TINTURAS",2,15,null,"",""]
[157,"PRD00059","T NC 5.5 CAST CL ACAJU 60G","TINTURAS",2,15,null,"",""]
[158,"PRD00060","T NC 5.56 CAST CL ACAJU AV 60G","TINTURAS",2,15,null,"",""]
[159,"PRD00061","T NC 5.62 CAST CL VER VIOL 60G","TINTURAS",2,15,null,"",""]
[160,"PRD00062","T NC 5.66 CAST CL VER INT 60G","TINTURAS",2,15,null,"",""]
[161,"PRD00063","T NC 5.7 CAST CL MA 60G","TINTURAS",2,15,null,"",""]
[162,"PRD00064","T NC 55.62 AMEIXA 60G","TINTURAS",2,15,null,"",""]
[163,"PRD00065","T NC 6.0 L ESC ESSENCE 60G","TINTURAS",2,15,null,"",""]
[164,"PRD00066","T NC 6.1 L ESC ACZ ESSENCE 60G","TINTURAS",2,15,null,"",""]
[165,"PRD00067","T NC 6.3 L ESC DOUR 60G","TINTURAS",2,15,null,"",""]
[166,"PRD00068","T NC 6.4 L ESC ACOB 60G","TINTURAS",2,15,null,"",""]
[167,"PRD00069","T NC 6.41 MA 60G","TINTURAS",2,15,null,"",""]
[168,"PRD00070","T NC 6.43 L ESC COBR DOUR 60G","TINTURAS",2,15,null,"",""]
[169,"PRD00071","T NC 6.46 L ESC COBR AVERM 60G","TINTURAS",2,15,null,"",""]
[170,"PRD00072","T NC 6.6 L ESC AVER 60G","TINTURAS",2,15,null,"",""]
[171,"PRD00073","T NC 6.64 L ESC VER ACOB 60G","TINTURAS",2,15,null,"",""]
[172,"PRD00074","T NC 6.66 L ESC VERM INT 60G","TINTURAS",2,15,null,"",""]
[173,"PRD00075","T NC 6.7 CHOCOLATE ESSENCE 60G","TINTURAS",2,15,null,"",""]
[174,"PRD00076","T NC 6.71 L ESC MA ACZ 60G","TINTURAS",2,15,null,"",""]
[175,"PRD00077","T NC 66.46 CEREJA 60G","TINTURAS",2,15,null,"",""]
[176,"PRD00078","T NC 7.0 L MD ESSENCE 60G","TINTURAS",2,15,null,"",""]
[177,"PRD00079","T NC 7.1 L MD ACZ ESSENCE 60G","TINTURAS",2,15,null,"",""]
[178,"PRD00080","T NC 7.13 L MD BEGE ACZ 60G","TINTURAS",2,15,null,"",""]
[179,"PRD00081","T NC 7.3 L MD DOUR 60G","TINTURAS",2,15,null,"",""]
[180,"PRD00082","T NC 7.31 L BEGE DOUR 60G","TINTURAS",2,15,null,"",""]
[181,"PRD00083","T NC 7.4 L MD ACOB 60G","TINTURAS",2,15,null,"",""]
[182,"PRD00084","T NC 7.40 L MD COBRE INT 60G","TINTURAS",2,15,null,"",""]
[183,"PRD00085","T NC 7.43 L MD COBRE DOUR 60G","TINTURAS",2,15,null,"",""]
[184,"PRD00086","T NC 7.5 L MD ACAJU 60G","TINTURAS",2,15,null,"",""]
[185,"PRD00087","T NC 7.62 L MD IRISADO 60G","TINTURAS",2,15,null,"",""]
[186,"PRD00088","T NC 7.66 L MD VERM INT 60G","TINTURAS",2,15,null,"",""]
[187,"PRD00089","T NC 7.7 CHOCOLATE CL 60G","TINTURAS",2,15,null,"",""]
[188,"PRD00090","T NC 7.71 L MD MA ACZ 60G","TINTURAS",2,15,null,"",""]
[189,"PRD00091","T NC 7.75 L MD MA ACAJU 60G","TINTURAS",2,15,null,"",""]
[190,"PRD00092","T NC 7.89 L MD PEROLA 60G","TINTURAS",2,15,null,"",""]
[191,"PRD00093","T NC 77.44 RUBI 60G","TINTURAS",2,15,null,"",""]
[192,"PRD00094","T NC 8.0 L CL ESSENCE 60G","TINTURAS",2,15,null,"",""]
[193,"PRD00095","T NC 8.1 L CL ACZ 60G","TINTURAS",2,15,null,"",""]
[194,"PRD00096","T NC 8.26 MARSALA 60G","TINTURAS",2,15,null,"",""]
[195,"PRD00097","T NC 8.3 L CL DOUR 60G","TINTURAS",2,15,null,"",""]
[196,"PRD00098","T NC 8.31 L CL BEGE DOUR 60G","TINTURAS",2,15,null,"",""]
[197,"PRD00099","T NC 8.4 L CL ACOBREADO 60G","TINTURAS",2,15,null,"",""]
[198,"PRD00100","T NC 8.89 L CL PEROLA 60G","TINTURAS",2,15,null,"",""]
[199,"PRD00101","T NC 9.0 L MT CL 60G","TINTURAS",2,15,null,"",""]
[200,"PRD00102","T NC 9.00 L CLARIS NATURAL 60G","TINTURAS",2,15,null,"",""]
[201,"PRD00103","T NC 9.01 L CLARIS ACZ 60G","TINTURAS",2,15,null,"",""]
[202,"PRD00104","T NC 9.02 L CLARIS IRIZADO 60G","TINTURAS",2,15,null,"",""]
[203,"PRD00105","T NC 9.03 L CLARIS DOUR 60G","TINTURAS",2,15,null,"",""]
[204,"PRD00106","T NC 9.1 L MT CL ACZ 60G","TINTURAS",2,15,null,"",""]
[205,"PRD00107","T NC 9.13 L CLARIS CIN DOU 60G","TINTURAS",2,15,null,"",""]
[206,"PRD00108","T NC 9.3 L MT CL DOUR 60G","TINTURAS",2,15,null,"",""]
[207,"PRD00109","T NC 9.31 L MT CL BEGE ACZ 60G","TINTURAS",2,15,null,"",""]
[208,"PRD00110","T NC 90.01 PRATA 60G","TINTURAS",2,15,null,"",""]
[209,"PRD00111","TONAL NC 1.0 PRETO 60G","TINTURAS",2,15,null,"",""]
[210,"PRD00112","TONAL NC 3.0 CAST ESC 60G","TINTURAS",2,15,null,"",""]
[211,"PRD00113","TONAL NC 4.0 CAST MD 60G","TINTURAS",2,15,null,"",""]
[212,"PRD00114","TONAL NC 5.0 CAST CL 60G","TINTURAS",2,15,null,"",""]
[213,"PRD00115","TONAL NC 5.34 CAST DO ACOB 60G","TINTURAS",2,15,null,"",""]
[214,"PRD00116","TONAL NC 6.0 L ESC 60G","TINTURAS",2,15,null,"",""]
[215,"PRD00117","TONAL NC 6.1 L ESC ACZ 60G","TINTURAS",2,15,null,"",""]
[216,"PRD00118","TONAL NC 6.41 MARROM 60G","TINTURAS",2,15,null,"",""]
[217,"PRD00119","TONAL NC 6.7 CHOCOLATE 60G","TINTURAS",2,15,null,"",""]
[218,"PRD00120","TONAL NC 66.46 CEREJA 60G","TINTURAS",2,15,null,"",""]
[219,"PRD00121","TONAL NC 7.0 L MD 60G","TINTURAS",2,15,null,"",""]
[220,"PRD00122","TONAL NC 7.3 L MD DOUR 60G","TINTURAS",2,15,null,"",""]
[221,"PRD00123","TONAL NC 7.66 L MD VER INT 60G","TINTURAS",2,15,null,"",""]
[222,"PRD00124","TONAL NC 7.7 CHOCOLATE CL 60G","TINTURAS",2,15,null,"",""]
[223,"PRD00125","TONAL NC 7.89 L MD PEROLA 60G","TINTURAS",2,15,null,"",""]

{"sheet":"Detalhado ","index":2,"n_rows":259,"n_cols":10,"rows_kept":259,"cut":false,"hidden":false,"merged":[]}
["CodigoInterno","CodigoProduto","NomeProduto","LinhaProduto","Estoque","Saldo Disponivel","Venda","Venda","Quarentena","Retrabalho"]
[101,"PRD00001","KERATIN BALM CROMAT 500ML","CROMATIC",{"$f":"VLOOKUP(B2,Cadastro!#REF!,6,FALSE)","v":{"$error":"#REF!"}},{"$f":"SUM(G2:J2)","v":60},null,{"$f":"SUMIF(Lote!$A:$M,$H$1&\"-\"&$B2,Lote!$M:$M)","v":60},{"$f":"SUMIF(Lote!$A:$M,$I$1&\"-\"&$B2,Lote!$M:$M)","v":0},{"$f":"SUMIF(Lote!$A:$M,$J$1&\"-\"&$B2,Lote!$M:$M)","v":0}]
[102,"PRD00002","KERATIN SEALING CROMATIC 500ML","CROMATIC",{"$f":"VLOOKUP(B3,Cadastro!#REF!,6,FALSE)","v":{"$error":"#REF!"}},{"$f":"SUM(G3:J3)","v":75},null,{"$f":"SUMIF(Lote!$A:$M,$H$1&\"-\"&$B3,Lote!$M:$M)","v":75},{"$f":"SUMIF(Lote!$A:$M,$I$1&\"-\"&$B3,Lote!$M:$M)","v":0},{"$f":"SUMIF(Lote!$A:$M,$J$1&\"-\"&$B3,Lote!$M:$M)","v":0}]
[103,"PRD00003","KERATIN SH CROMATIC 500ML","CROMATIC",{"$f":"VLOOKUP(B4,Cadastro!#REF!,6,FALSE)","v":{"$error":"#REF!"}},20,null,{"$f":"SUMIF(Lote!$A:$M,$H$1&\"-\"&$B4,Lote!$M:$M)","v":20},{"$f":"SUMIF(Lote!$A:$M,$I$1&\"-\"&$B4,Lote!$M:$M)","v":0},{"$f":"SUMIF(Lote!$A:$M,$J$1&\"-\"&$B4,Lote!$M:$M)","v":0}]
[104,"PRD00004","SH DAYBYDAY CAMOMILA 500ML","DAYBYDAY",{"$f":"VLOOKUP(B5,Cadastro!#REF!,6,FALSE)","v":{"$error":"#REF!"}},121,null,{"$f":"SUMIF(Lote!$A:$M,$H$1&\"-\"&$B5,Lote!$M:$M)","v":121},{"$f":"SUMIF(Lote!$A:$M,$I$1&\"-\"&$B5,Lote!$M:$M)","v":0},{"$f":"SUMIF(Lote!$A:$M,$J$1&\"-\"&$B5,Lote!$M:$M)","v":0}]
[105,"PRD00005","MASC REG DAYBYDAY CAMOM 500G","DAYBYDAY",{"$f":"VLOOKUP(B6,Cadastro!#REF!,6,FALSE)","v":{"$error":"#REF!"}},76,null,{"$f":"SUMIF(Lote!$A:$M,$H$1&\"-\"&$B6,Lote!$M:$M)","v":76},{"$f":"SUMIF(Lote!$A:$M,$I$1&\"-\"&$B6,Lote!$M:$M)","v":0},{"$f":"SUMIF(Lote!$A:$M,$J$1&\"-\"&$B6,Lote!$M:$M)","v":0}]
[106,"PRD00006","SH DAYBYDAY CEN 500ML","DAYBYDAY",{"$f":"VLOOKUP(B7,Cadastro!#REF!,6,FALSE)","v":{"$error":"#REF!"}},12,null,{"$f":"SUMIF(Lote!$A:$M,$H$1&\"-\"&$B7,Lote!$M:$M)","v":12},{"$f":"SUMIF(Lote!$A:$M,$I$1&\"-\"&$B7,Lote!$M:$M)","v":0},{"$f":"SUMIF(Lote!$A:$M,$J$1&\"-\"&$B7,Lote!$M:$M)","v":0}]
[107,"PRD00007","MASC REVIT DAYBYDAY CEN 500G","DAYBYDAY",{"$f":"VLOOKUP(B8,Cadastro!#REF!,6,FALSE)","v":{"$error":"#REF!"}},462,null,{"$f":"SUMIF(Lote!$A:$M,$H$1&\"-\"&$B8,Lote!$M:$M)","v":462},{"$f":"SUMIF(Lote!$A:$M,$I$1&\"-\"&$B8,Lote!$M:$M)","v":0},{"$f":"SUMIF(Lote!$A:$M,$J$1&\"-\"&$B8,Lote!$M:$M)","v":0}]
[108,"PRD00008","SH DAYBYDAY ABAC 500ML","DAYBYDAY",{"$f":"VLOOKUP(B9,Cadastro!#REF!,6,FALSE)","v":{"$error":"#REF!"}},204,null,{"$f":"SUMIF(Lote!$A:$M,$H$1&\"-\"&$B9,Lote!$M:$M)","v":2},{"$f":"SUMIF(Lote!$A:$M,$I$1&\"-\"&$B9,Lote!$M:$M)","v":202},{"$f":"SUMIF(Lote!$A:$M,$J$1&\"-\"&$B9,Lote!$M:$M)","v":0}]
[109,"PRD00009","MASC COND DAYBYDAY ABAC 500G","DAYBYDAY",{"$f":"VLOOKUP(B10,Cadastro!#REF!,6,FALSE)","v":{"$error":"#REF!"}},146,null,{"$f":"SUMIF(Lote!$A:$M,$H$1&\"-\"&$B10,Lote!$M:$M)","v":146},{"$f":"SUMIF(Lote!$A:$M,$I$1&\"-\"&$B10,Lote!$M:$M)","v":0},{"$f":"SUMIF(Lote!$A:$M,$J$1&\"-\"&$B10,Lote!$M:$M)","v":0}]
[110,"PRD00010","SH DAYBYDAY PROF SERV 2,5L","DAYBYDAY",{"$f":"VLOOKUP(B11,Cadastro!#REF!,6,FALSE)","v":{"$error":"#REF!"}},27,null,{"$f":"SUMIF(Lote!$A:$M,$H$1&\"-\"&$B11,Lote!$M:$M)","v":27},{"$f":"SUMIF(Lote!$A:$M,$I$1&\"-\"&$B11,Lote!$M:$M)","v":0},{"$f":"SUMIF(Lote!$A:$M,$J$1&\"-\"&$B11,Lote!$M:$M)","v":0}]
[111,"PRD00012","GOLDEN MASK NUTRAHAI 200GR","GOLDEN MASK",{"$f":"VLOOKUP(B12,Cadastro!#REF!,6,FALSE)","v":{"$error":"#REF!"}},0,null,{"$f":"SUMIF(Lote!$A:$M,$H$1&\"-\"&$B12,Lote!$M:$M)","v":0},{"$f":"SUMIF(Lote!$A:$M,$I$1&\"-\"&$B12,Lote!$M:$M)","v":0},{"$f":"SUMIF(Lote!$A:$M,$J$1&\"-\"&$B12,Lote!$M:$M)","v":0}]
[112,"PRD00013","KIT FIBER VIT NH","FIBER VIT",{"$f":"VLOOKUP(B13,Cadastro!#REF!,6,FALSE)","v":{"$error":"#REF!"}},54,null,{"$f":"SUMIF(Lote!$A:$M,$H$1&\"-\"&$B13,Lote!$M:$M)","v":54},{"$f":"SUMIF(Lote!$A:$M,$I$1&\"-\"&$B13,Lote!$M:$M)","v":0},{"$f":"SUMIF(Lote!$A:$M,$J$1&\"-\"&$B13,Lote!$M:$M)","v":0}]
[113,"PRD00014","BLINDAGEM NANO REDUT PR 1L","SHOCK3",{"$f":"VLOOKUP(B14,Cadastro!#REF!,6,FALSE)","v":{"$error":"#REF!"}},82,null,{"$f":"SUMIF(Lote!$A:$M,$H$1&\"-\"&$B14,Lote!$M:$M)","v":82},{"$f":"SUMIF(Lote!$A:$M,$I$1&\"-\"&$B14,Lote!$M:$M)","v":0},{"$f":"SUMIF(Lote!$A:$M,$J$1&\"-\"&$B14,Lote!$M:$M)","v":0}]
[114,"PRD00015","SH ULTRA GLOSS PR 1L","SHOCK3",{"$f":"VLOOKUP(B15,Cadastro!#REF!,6,FALSE)","v":{"$error":"#REF!"}},22,null,{"$f":"SUMIF(Lote!$A:$M,$H$1&\"-\"&$B15,Lote!$M:$M)","v":22},{"$f":"SUMIF(Lote!$A:$M,$I$1&\"-\"&$B15,Lote!$M:$M)","v":0},{"$f":"SUMIF(Lote!$A:$M,$J$1&\"-\"&$B15,Lote!$M:$M)","v":0}]
[115,"PRD00016","MASCARA TONALIZANTE ABSOLUT BLACK 260G","TONALIZANTE",{"$f":"VLOOKUP(B16,Cadastro!#REF!,6,FALSE)","v":{"$error":"#REF!"}},0,null,{"$f":"SUMIF(Lote!$A:$M,$H$1&\"-\"&$B16,Lote!$M:$M)","v":0},{"$f":"SUMIF(Lote!$A:$M,$I$1&\"-\"&$B16,Lote!$M:$M)","v":0},{"$f":"SUMIF(Lote!$A:$M,$J$1&\"-\"&$B16,Lote!$M:$M)","v":0}]
[116,"PRD00017","MASCARA TONALIZANTE GRAND MARSALA 260G","TONALIZANTE",{"$f":"VLOOKUP(B17,Cadastro!#REF!,6,FALSE)","v":{"$error":"#REF!"}},0,null,{"$f":"SUMIF(Lote!$A:$M,$H$1&\"-\"&$B17,Lote!$M:$M)","v":0},{"$f":"SUMIF(Lote!$A:$M,$I$1&\"-\"&$B17,Lote!$M:$M)","v":0},{"$f":"SUMIF(Lote!$A:$M,$J$1&\"-\"&$B17,Lote!$M:$M)","v":0}]
[117,"PRD00018","MASCARA TONALIZANTE LUX BROWN 260G","TONALIZANTE",{"$f":"VLOOKUP(B18,Cadastro!#REF!,6,FALSE)","v":{"$error":"#REF!"}},0,null,{"$f":"SUMIF(Lote!$A:$M,$H$1&\"-\"&$B18,Lote!$M:$M)","v":0},{"$f":"SUMIF(Lote!$A:$M,$I$1&\"-\"&$B18,Lote!$M:$M)","v":0},{"$f":"SUMIF(Lote!$A:$M,$J$1&\"-\"&$B18,Lote!$M:$M)","v":0}]
[118,"PRD00019","MASCARA TONALIZANTE ROYAL RED 260G","TONALIZANTE",{"$f":"VLOOKUP(B19,Cadastro!#REF!,6,FALSE)","v":{"$error":"#REF!"}},0,null,{"$f":"SUMIF(Lote!$A:$M,$H$1&\"-\"&$B19,Lote!$M:$M)","v":0},{"$f":"SUMIF(Lote!$A:$M,$I$1&\"-\"&$B19,Lote!$M:$M)","v":0},{"$f":"SUMIF(Lote!$A:$M,$J$1&\"-\"&$B19,Lote!$M:$M)","v":0}]
[119,"PRD00020","SH MATIZADOR NC 300ML","MATIZADORES",{"$f":"VLOOKUP(B20,Cadastro!#REF!,6,FALSE)","v":{"$error":"#REF!"}},267,null,{"$f":"SUMIF(Lote!$A:$M,$H$1&\"-\"&$B20,Lote!$M:$M)","v":267},{"$f":"SUMIF(Lote!$A:$M,$I$1&\"-\"&$B20,Lote!$M:$M)","v":0},{"$f":"SUMIF(Lote!$A:$M,$J$1&\"-\"&$B20,Lote!$M:$M)","v":0}]
[120,"PRD00022","AGUA OX NC 20VOL 1L","TINTURAS",{"$f":"VLOOKUP(B21,Cadastro!#REF!,6,FALSE)","v":{"$error":"#REF!"}},0,null,{"$f":"SUMIF(Lote!$A:$M,$H$1&\"-\"&$B21,Lote!$M:$M)","v":0},{"$f":"SUMIF(Lote!$A:$M,$I$1&\"-\"&$B21,Lote!$M:$M)","v":0},{"$f":"SUMIF(Lote!$A:$M,$J$1&\"-\"&$B21,Lote!$M:$M)","v":0}]
[121,"PRD00023","AGUA OX NC 30VOL 1L","TINTURAS",{"$f":"VLOOKUP(B22,Cadastro!#REF!,6,FALSE)","v":{"$error":"#REF!"}},0,null,{"$f":"SUMIF(Lote!$A:$M,$H$1&\"-\"&$B22,Lote!$M:$M)","v":0},{"$f":"SUMIF(Lote!$A:$M,$I$1&\"-\"&$B22,Lote!$M:$M)","v":0},{"$f":"SUMIF(Lote!$A:$M,$J$1&\"-\"&$B22,Lote!$M:$M)","v":0}]
[122,"PRD00024","AGUA OX NC 40VOL 1L","TINTURAS",{"$f":"VLOOKUP(B23,Cadastro!#REF!,6,FALSE)","v":{"$error":"#REF!"}},0,null,{"$f":"SUMIF(Lote!$A:$M,$H$1&\"-\"&$B23,Lote!$M:$M)","v":0},{"$f":"SUMIF(Lote!$A:$M,$I$1&\"-\"&$B23,Lote!$M:$M)","v":0},{"$f":"SUMIF(Lote!$A:$M,$J$1&\"-\"&$B23,Lote!$M:$M)","v":0}]
[123,"PRD00025","EMULSAO NC 8VOL 1L","TINTURAS",{"$f":"VLOOKUP(B24,Cadastro!#REF!,6,FALSE)","v":{"$error":"#REF!"}},0,null,{"$f":"SUMIF(Lote!$A:$M,$H$1&\"-\"&$B24,Lote!$M:$M)","v":0},{"$f":"SUMIF(Lote!$A:$M,$I$1&\"-\"&$B24,Lote!$M:$M)","v":0},{"$f":"SUMIF(Lote!$A:$M,$J$1&\"-\"&$B24,Lote!$M:$M)","v":0}]
[124,"PRD00026","AGUA OX NC 30V MATIZAD 1L","TINTURAS",{"$f":"VLOOKUP(B25,Cadastro!#REF!,6,FALSE)","v":{"$error":"#REF!"}},0,null,{"$f":"SUMIF(Lote!$A:$M,$H$1&\"-\"&$B25,Lote!$M:$M)","v":0},{"$f":"SUMIF(Lote!$A:$M,$I$1&\"-\"&$B25,Lote!$M:$M)","v":0},{"$f":"SUMIF(Lote!$A:$M,$J$1&\"-\"&$B25,Lote!$M:$M)","v":0}]
[125,"PRD00027","AGUA OX NC 40V MATIZAD 1L","TINTURAS",{"$f":"VLOOKUP(B26,Cadastro!#REF!,6,FALSE)","v":{"$error":"#REF!"}},0,null,{"$f":"SUMIF(Lote!$A:$M,$H$1&\"-\"&$B26,Lote!$M:$M)","v":0},{"$f":"SUMIF(Lote!$A:$M,$I$1&\"-\"&$B26,Lote!$M:$M)","v":0},{"$f":"SUMIF(Lote!$A:$M,$J$1&\"-\"&$B26,Lote!$M:$M)","v":0}]
[126,"PRD00028","CORRETOR AMARELO NC 60G","TINTURAS",{"$f":"VLOOKUP(B27,Cadastro!#REF!,6,FALSE)","v":{"$error":"#REF!"}},0,null,{"$f":"SUMIF(Lote!$A:$M,$H$1&\"-\"&$B27,Lote!$M:$M)","v":0},{"$f":"SUMIF(Lote!$A:$M,$I$1&\"-\"&$B27,Lote!$M:$M)","v":0},{"$f":"SUMIF(Lote!$A:$M,$J$1&\"-\"&$B27,Lote!$M:$M)","v":0}]
[127,"PRD00029","CORRETOR AZUL NC 60G","TINTURAS",{"$f":"VLOOKUP(B28,Cadastro!#REF!,6,FALSE)","v":{"$error":"#REF!"}},0,null,{"$f":"SUMIF(Lote!$A:$M,$H$1&\"-\"&$B28,Lote!$M:$M)","v":0},{"$f":"SUMIF(Lote!$A:$M,$I$1&\"-\"&$B28,Lote!$M:$M)","v":0},{"$f":"SUMIF(Lote!$A:$M,$J$1&\"-\"&$B28,Lote!$M:$M)","v":0}]
[128,"PRD00030","CORRETOR CINZA","TINTURAS",{"$f":"VLOOKUP(B29,Cadastro!#REF!,6,FALSE)","v":{"$error":"#REF!"}},0,null,{"$f":"SUMIF(Lote!$A:$M,$H$1&\"-\"&$B29,Lote!$M:$M)","v":0},{"$f":"SUMIF(Lote!$A:$M,$I$1&\"-\"&$B29,Lote!$M:$M)","v":0},{"$f":"SUMIF(Lote!$A:$M,$J$1&\"-\"&$B29,Lote!$M:$M)","v":0}]
[129,"PRD00031","CORRETOR VERMELHO NC 60G","TINTURAS",{"$f":"VLOOKUP(B30,Cadastro!#REF!,6,FALSE)","v":{"$error":"#REF!"}},0,null,{"$f":"SUMIF(Lote!$A:$M,$H$1&\"-\"&$B30,Lote!$M:$M)","v":0},{"$f":"SUMIF(Lote!$A:$M,$I$1&\"-\"&$B30,Lote!$M:$M)","v":0},{"$f":"SUMIF(Lote!$A:$M,$J$1&\"-\"&$B30,Lote!$M:$M)","v":0}]
[130,"PRD00032","DESC NC AZUL 500G","TINTURAS",{"$f":"VLOOKUP(B31,Cadastro!#REF!,6,FALSE)","v":{"$error":"#REF!"}},0,null,{"$f":"SUMIF(Lote!$A:$M,$H$1&\"-\"&$B31,Lote!$M:$M)","v":0},{"$f":"SUMIF(Lote!$A:$M,$I$1&\"-\"&$B31,Lote!$M:$M)","v":0},{"$f":"SUMIF(Lote!$A:$M,$J$1&\"-\"&$B31,Lote!$M:$M)","v":0}]
[131,"PRD00033","DESC NC BRANCO 500G","TINTURAS",{"$f":"VLOOKUP(B32,Cadastro!#REF!,6,FALSE)","v":{"$error":"#REF!"}},0,null,{"$f":"SUMIF(Lote!$A:$M,$H$1&\"-\"&$B32,Lote!$M:$M)","v":0},{"$f":"SUMIF(Lote!$A:$M,$I$1&\"-\"&$B32,Lote!$M:$M)","v":0},{"$f":"SUMIF(Lote!$A:$M,$J$1&\"-\"&$B32,Lote!$M:$M)","v":0}]
[132,"PRD00034","KIT ULTRAPLEX NUTRA COLOR","ULTRAPLEX",{"$f":"VLOOKUP(B33,Cadastro!#REF!,6,FALSE)","v":{"$error":"#REF!"}},220,null,{"$f":"SUMIF(Lote!$A:$M,$H$1&\"-\"&$B33,Lote!$M:$M)","v":220},{"$f":"SUMIF(Lote!$A:$M,$I$1&\"-\"&$B33,Lote!$M:$M)","v":0},{"$f":"SUMIF(Lote!$A:$M,$J$1&\"-\"&$B33,Lote!$M:$M)","v":0}]
[133,"PRD00035","T NC 0.00 INTENS CLAREAMEN 60G","TINTURAS",{"$f":"VLOOKUP(B34,Cadastro!#REF!,6,FALSE)","v":{"$error":"#REF!"}},0,null,{"$f":"SUMIF(Lote!$A:$M,$H$1&\"-\"&$B34,Lote!$M:$M)","v":0},{"$f":"SUMIF(Lote!$A:$M,$I$1&\"-\"&$B34,Lote!$M:$M)","v":0},{"$f":"SUMIF(Lote!$A:$M,$J$1&\"-\"&$B34,Lote!$M:$M)","v":0}]
[134,"PRD00036","T NC 1.0 PRETO ESSENCE 60G","TINTURAS",{"$f":"VLOOKUP(B35,Cadastro!#REF!,6,FALSE)","v":{"$error":"#REF!"}},0,null,{"$f":"SUMIF(Lote!$A:$M,$H$1&\"-\"&$B35,Lote!$M:$M)","v":0},{"$f":"SUMIF(Lote!$A:$M,$I$1&\"-\"&$B35,Lote!$M:$M)","v":0},{"$f":"SUMIF(Lote!$A:$M,$J$1&\"-\"&$B35,Lote!$M:$M)","v":0}]
[135,"PRD00037","T NC 10.0 L CLARIS 60G","TINTURAS",{"$f":"VLOOKUP(B36,Cadastro!#REF!,6,FALSE)","v":{"$error":"#REF!"}},0,null,{"$f":"SUMIF(Lote!$A:$M,$H$1&\"-\"&$B36,Lote!$M:$M)","v":0},{"$f":"SUMIF(Lote!$A:$M,$I$1&\"-\"&$B36,Lote!$M:$M)","v":0},{"$f":"SUMIF(Lote!$A:$M,$J$1&\"-\"&$B36,Lote!$M:$M)","v":0}]
[136,"PRD00038","T NC 10.1 L CLARIS ACZ 60G","TINTURAS",{"$f":"VLOOKUP(B37,Cadastro!#REF!,6,FALSE)","v":{"$error":"#REF!"}},0,null,{"$f":"SUMIF(Lote!$A:$M,$H$1&\"-\"&$B37,Lote!$M:$M)","v":0},{"$f":"SUMIF(Lote!$A:$M,$I$1&\"-\"&$B37,Lote!$M:$M)","v":0},{"$f":"SUMIF(Lote!$A:$M,$J$1&\"-\"&$B37,Lote!$M:$M)","v":0}]
[137,"PRD00039","T NC 10.89 L CLARIS PEROLA 60G","TINTURAS",{"$f":"VLOOKUP(B38,Cadastro!#REF!,6,FALSE)","v":{"$error":"#REF!"}},0,null,{"$f":"SUMIF(Lote!$A:$M,$H$1&\"-\"&$B38,Lote!$M:$M)","v":0},{"$f":"SUMIF(Lote!$A:$M,$I$1&\"-\"&$B38,Lote!$M:$M)","v":0},{"$f":"SUMIF(Lote!$A:$M,$J$1&\"-\"&$B38,Lote!$M:$M)","v":0}]
[138,"PRD00040","T NC 11.11 L CLARIS PL INT 60G","TINTURAS",{"$f":"VLOOKUP(B39,Cadastro!#REF!,6,FALSE)","v":{"$error":"#REF!"}},179,null,{"$f":"SUMIF(Lote!$A:$M,$H$1&\"-\"&$B39,Lote!$M:$M)","v":0},{"$f":"SUMIF(Lote!$A:$M,$I$1&\"-\"&$B39,Lote!$M:$M)","v":0},{"$f":"SUMIF(Lote!$A:$M,$J$1&\"-\"&$B39,Lote!$M:$M)","v":179}]
[139,"PRD00041","T NC 12.0 L ULTRA CL 60G","TINTURAS",{"$f":"VLOOKUP(B40,Cadastro!#REF!,6,FALSE)","v":{"$error":"#REF!"}},0,null,{"$f":"SUMIF(Lote!$A:$M,$H$1&\"-\"&$B40,Lote!$M:$M)","v":0},{"$f":"SUMIF(Lote!$A:$M,$I$1&\"-\"&$B40,Lote!$M:$M)","v":0},{"$f":"SUMIF(Lote!$A:$M,$J$1&\"-\"&$B40,Lote!$M:$M)","v":0}]
[140,"PRD00042","T NC 12.1 L ULTRA CL CINZ 60G","TINTURAS",{"$f":"VLOOKUP(B41,Cadastro!#REF!,6,FALSE)","v":{"$error":"#REF!"}},0,null,{"$f":"SUMIF(Lote!$A:$M,$H$1&\"-\"&$B41,Lote!$M:$M)","v":0},{"$f":"SUMIF(Lote!$A:$M,$I$1&\"-\"&$B41,Lote!$M:$M)","v":0},{"$f":"SUMIF(Lote!$A:$M,$J$1&\"-\"&$B41,Lote!$M:$M)","v":0}]
[141,"PRD00043","T NC 12.12 L ULTRA CL IRIS 60G","TINTURAS",{"$f":"VLOOKUP(B42,Cadastro!#REF!,6,FALSE)","v":{"$error":"#REF!"}},0,null,{"$f":"SUMIF(Lote!$A:$M,$H$1&\"-\"&$B42,Lote!$M:$M)","v":0},{"$f":"SUMIF(Lote!$A:$M,$I$1&\"-\"&$B42,Lote!$M:$M)","v":0},{"$f":"SUMIF(Lote!$A:$M,$J$1&\"-\"&$B42,Lote!$M:$M)","v":0}]
[142,"PRD00044","T NC 12.2 L ULTRA CL VIOL 60G","TINTURAS",{"$f":"VLOOKUP(B43,Cadastro!#REF!,6,FALSE)","v":{"$error":"#REF!"}},0,null,{"$f":"SUMIF(Lote!$A:$M,$H$1&\"-\"&$B43,Lote!$M:$M)","v":0},{"$f":"SUMIF(Lote!$A:$M,$I$1&\"-\"&$B43,Lote!$M:$M)","v":0},{"$f":"SUMIF(Lote!$A:$M,$J$1&\"-\"&$B43,Lote!$M:$M)","v":0}]
[143,"PRD00045","T NC 12.22 L ULT CL VIO INT 60G","TINTURAS",{"$f":"VLOOKUP(B44,Cadastro!#REF!,6,FALSE)","v":{"$error":"#REF!"}},0,null,{"$f":"SUMIF(Lote!$A:$M,$H$1&\"-\"&$B44,Lote!$M:$M)","v":0},{"$f":"SUMIF(Lote!$A:$M,$I$1&\"-\"&$B44,Lote!$M:$M)","v":0},{"$f":"SUMIF(Lote!$A:$M,$J$1&\"-\"&$B44,Lote!$M:$M)","v":0}]
[144,"PRD00046","T NC 12.89 L ULT CL PEROLA 60G","TINTURAS",{"$f":"VLOOKUP(B45,Cadastro!#REF!,6,FALSE)","v":{"$error":"#REF!"}},0,null,{"$f":"SUMIF(Lote!$A:$M,$H$1&\"-\"&$B45,Lote!$M:$M)","v":0},{"$f":"SUMIF(Lote!$A:$M,$I$1&\"-\"&$B45,Lote!$M:$M)","v":0},{"$f":"SUMIF(Lote!$A:$M,$J$1&\"-\"&$B45,Lote!$M:$M)","v":0}]
[145,"PRD00047","T NC 3.0 CAST ESC ESSENCE 60G","TINTURAS",{"$f":"VLOOKUP(B46,Cadastro!#REF!,6,FALSE)","v":{"$error":"#REF!"}},0,null,{"$f":"SUMIF(Lote!$A:$M,$H$1&\"-\"&$B46,Lote!$M:$M)","v":0},{"$f":"SUMIF(Lote!$A:$M,$I$1&\"-\"&$B46,Lote!$M:$M)","v":0},{"$f":"SUMIF(Lote!$A:$M,$J$1&\"-\"&$B46,Lote!$M:$M)","v":0}]
[146,"PRD00048","T NC 4.0 CAST MD ESSENCE 60G","TINTURAS",{"$f":"VLOOKUP(B47,Cadastro!#REF!,6,FALSE)","v":{"$error":"#REF!"}},0,null,{"$f":"SUMIF(Lote!$A:$M,$H$1&\"-\"&$B47,Lote!$M:$M)","v":0},{"$f":"SUMIF(Lote!$A:$M,$I$1&\"-\"&$B47,Lote!$M:$M)","v":0},{"$f":"SUMIF(Lote!$A:$M,$J$1&\"-\"&$B47,Lote!$M:$M)","v":0}]
[147,"PRD00049","T NC 4.4 CAST MD ACOB 60G","TINTURAS",{"$f":"VLOOKUP(B48,Cadastro!#REF!,6,FALSE)","v":{"$error":"#REF!"}},0,null,{"$f":"SUMIF(Lote!$A:$M,$H$1&\"-\"&$B48,Lote!$M:$M)","v":0},{"$f":"SUMIF(Lote!$A:$M,$I$1&\"-\"&$B48,Lote!$M:$M)","v":0},{"$f":"SUMIF(Lote!$A:$M,$J$1&\"-\"&$B48,Lote!$M:$M)","v":0}]
[148,"PRD00050","T NC 4.5 CAST MD ACAJU 60G","TINTURAS",{"$f":"VLOOKUP(B49,Cadastro!#REF!,6,FALSE)","v":{"$error":"#REF!"}},1493,null,{"$f":"SUMIF(Lote!$A:$M,$H$1&\"-\"&$B49,Lote!$M:$M)","v":0},{"$f":"SUMIF(Lote!$A:$M,$I$1&\"-\"&$B49,Lote!$M:$M)","v":0},{"$f":"SUMIF(Lote!$A:$M,$J$1&\"-\"&$B49,Lote!$M:$M)","v":1493}]
[149,"PRD00051","T NC 4.64 CAST MD VER ACOB 60G","TINTURAS",{"$f":"VLOOKUP(B50,Cadastro!#REF!,6,FALSE)","v":{"$error":"#REF!"}},0,null,{"$f":"SUMIF(Lote!$A:$M,$H$1&\"-\"&$B50,Lote!$M:$M)","v":0},{"$f":"SUMIF(Lote!$A:$M,$I$1&\"-\"&$B50,Lote!$M:$M)","v":0},{"$f":"SUMIF(Lote!$A:$M,$J$1&\"-\"&$B50,Lote!$M:$M)","v":0}]
[150,"PRD00052","T NC 4.66 CAST MD VER INT 60G","TINTURAS",{"$f":"VLOOKUP(B51,Cadastro!#REF!,6,FALSE)","v":{"$error":"#REF!"}},0,null,{"$f":"SUMIF(Lote!$A:$M,$H$1&\"-\"&$B51,Lote!$M:$M)","v":0},{"$f":"SUMIF(Lote!$A:$M,$I$1&\"-\"&$B51,Lote!$M:$M)","v":0},{"$f":"SUMIF(Lote!$A:$M,$J$1&\"-\"&$B51,Lote!$M:$M)","v":0}]
[151,"PRD00053","T NC 5.0 CAST CL ESSENCE 60G","TINTURAS",{"$f":"VLOOKUP(B52,Cadastro!#REF!,6,FALSE)","v":{"$error":"#REF!"}},0,null,{"$f":"SUMIF(Lote!$A:$M,$H$1&\"-\"&$B52,Lote!$M:$M)","v":0},{"$f":"SUMIF(Lote!$A:$M,$I$1&\"-\"&$B52,Lote!$M:$M)","v":0},{"$f":"SUMIF(Lote!$A:$M,$J$1&\"-\"&$B52,Lote!$M:$M)","v":0}]
[152,"PRD00054","T NC 5.1 CAST CL ACZ ESSEN 60G","TINTURAS",{"$f":"VLOOKUP(B53,Cadastro!#REF!,6,FALSE)","v":{"$error":"#REF!"}},133,null,{"$f":"SUMIF(Lote!$A:$M,$H$1&\"-\"&$B53,Lote!$M:$M)","v":0},{"$f":"SUMIF(Lote!$A:$M,$I$1&\"-\"&$B53,Lote!$M:$M)","v":0},{"$f":"SUMIF(Lote!$A:$M,$J$1&\"-\"&$B53,Lote!$M:$M)","v":133}]
[153,"PRD00055","T NC 5.20 CAST CL VIO INT 60G","TINTURAS",{"$f":"VLOOKUP(B54,Cadastro!#REF!,6,FALSE)","v":{"$error":"#REF!"}},0,null,{"$f":"SUMIF(Lote!$A:$M,$H$1&\"-\"&$B54,Lote!$M:$M)","v":0},{"$f":"SUMIF(Lote!$A:$M,$I$1&\"-\"&$B54,Lote!$M:$M)","v":0},{"$f":"SUMIF(Lote!$A:$M,$J$1&\"-\"&$B54,Lote!$M:$M)","v":0}]
[154,"PRD00056","T NC 5.3 CAST CL DOUR 60G","TINTURAS",{"$f":"VLOOKUP(B55,Cadastro!#REF!,6,FALSE)","v":{"$error":"#REF!"}},0,null,{"$f":"SUMIF(Lote!$A:$M,$H$1&\"-\"&$B55,Lote!$M:$M)","v":0},{"$f":"SUMIF(Lote!$A:$M,$I$1&\"-\"&$B55,Lote!$M:$M)","v":0},{"$f":"SUMIF(Lote!$A:$M,$J$1&\"-\"&$B55,Lote!$M:$M)","v":0}]
[155,"PRD00057","T NC 5.34 CAST DOUR ACOB 60G","TINTURAS",{"$f":"VLOOKUP(B56,Cadastro!#REF!,6,FALSE)","v":{"$error":"#REF!"}},0,null,{"$f":"SUMIF(Lote!$A:$M,$H$1&\"-\"&$B56,Lote!$M:$M)","v":0},{"$f":"SUMIF(Lote!$A:$M,$I$1&\"-\"&$B56,Lote!$M:$M)","v":0},{"$f":"SUMIF(Lote!$A:$M,$J$1&\"-\"&$B56,Lote!$M:$M)","v":0}]
[156,"PRD00058","T NC 5.4 CAST CL ACOBR 60G","TINTURAS",{"$f":"VLOOKUP(B57,Cadastro!#REF!,6,FALSE)","v":{"$error":"#REF!"}},0,null,{"$f":"SUMIF(Lote!$A:$M,$H$1&\"-\"&$B57,Lote!$M:$M)","v":0},{"$f":"SUMIF(Lote!$A:$M,$I$1&\"-\"&$B57,Lote!$M:$M)","v":0},{"$f":"SUMIF(Lote!$A:$M,$J$1&\"-\"&$B57,Lote!$M:$M)","v":0}]
[157,"PRD00059","T NC 5.5 CAST CL ACAJU 60G","TINTURAS",{"$f":"VLOOKUP(B58,Cadastro!#REF!,6,FALSE)","v":{"$error":"#REF!"}},0,null,{"$f":"SUMIF(Lote!$A:$M,$H$1&\"-\"&$B58,Lote!$M:$M)","v":0},{"$f":"SUMIF(Lote!$A:$M,$I$1&\"-\"&$B58,Lote!$M:$M)","v":0},{"$f":"SUMIF(Lote!$A:$M,$J$1&\"-\"&$B58,Lote!$M:$M)","v":0}]
[158,"PRD00060","T NC 5.56 CAST CL ACAJU AV 60G","TINTURAS",{"$f":"VLOOKUP(B59,Cadastro!#REF!,6,FALSE)","v":{"$error":"#REF!"}},0,null,{"$f":"SUMIF(Lote!$A:$M,$H$1&\"-\"&$B59,Lote!$M:$M)","v":0},{"$f":"SUMIF(Lote!$A:$M,$I$1&\"-\"&$B59,Lote!$M:$M)","v":0},{"$f":"SUMIF(Lote!$A:$M,$J$1&\"-\"&$B59,Lote!$M:$M)","v":0}]
[159,"PRD00061","T NC 5.62 CAST CL VER VIOL 60G","TINTURAS",{"$f":"VLOOKUP(B60,Cadastro!#REF!,6,FALSE)","v":{"$error":"#REF!"}},0,null,{"$f":"SUMIF(Lote!$A:$M,$H$1&\"-\"&$B60,Lote!$M:$M)","v":0},{"$f":"SUMIF(Lote!$A:$M,$I$1&\"-\"&$B60,Lote!$M:$M)","v":0},{"$f":"SUMIF(Lote!$A:$M,$J$1&\"-\"&$B60,Lote!$M:$M)","v":0}]
[160,"PRD00062","T NC 5.66 CAST CL VER INT 60G","TINTURAS",{"$f":"VLOOKUP(B61,Cadastro!#REF!,6,FALSE)","v":{"$error":"#REF!"}},0,null,{"$f":"SUMIF(Lote!$A:$M,$H$1&\"-\"&$B61,Lote!$M:$M)","v":0},{"$f":"SUMIF(Lote!$A:$M,$I$1&\"-\"&$B61,Lote!$M:$M)","v":0},{"$f":"SUMIF(Lote!$A:$M,$J$1&\"-\"&$B61,Lote!$M:$M)","v":0}]
[161,"PRD00063","T NC 5.7 CAST CL MA 60G","TINTURAS",{"$f":"VLOOKUP(B62,Cadastro!#REF!,6,FALSE)","v":{"$error":"#REF!"}},0,null,{"$f":"SUMIF(Lote!$A:$M,$H$1&\"-\"&$B62,Lote!$M:$M)","v":0},{"$f":"SUMIF(Lote!$A:$M,$I$1&\"-\"&$B62,Lote!$M:$M)","v":0},{"$f":"SUMIF(Lote!$A:$M,$J$1&\"-\"&$B62,Lote!$M:$M)","v":0}]
[162,"PRD00064","T NC 55.62 AMEIXA 60G","TINTURAS",{"$f":"VLOOKUP(B63,Cadastro!#REF!,6,FALSE)","v":{"$error":"#REF!"}},0,null,{"$f":"SUMIF(Lote!$A:$M,$H$1&\"-\"&$B63,Lote!$M:$M)","v":0},{"$f":"SUMIF(Lote!$A:$M,$I$1&\"-\"&$B63,Lote!$M:$M)","v":0},{"$f":"SUMIF(Lote!$A:$M,$J$1&\"-\"&$B63,Lote!$M:$M)","v":0}]
[163,"PRD00065","T NC 6.0 L ESC ESSENCE 60G","TINTURAS",{"$f":"VLOOKUP(B64,Cadastro!#REF!,6,FALSE)","v":{"$error":"#REF!"}},0,null,{"$f":"SUMIF(Lote!$A:$M,$H$1&\"-\"&$B64,Lote!$M:$M)","v":0},{"$f":"SUMIF(Lote!$A:$M,$I$1&\"-\"&$B64,Lote!$M:$M)","v":0},{"$f":"SUMIF(Lote!$A:$M,$J$1&\"-\"&$B64,Lote!$M:$M)","v":0}]
[164,"PRD00066","T NC 6.1 L ESC ACZ ESSENCE 60G","TINTURAS",{"$f":"VLOOKUP(B65,Cadastro!#REF!,6,FALSE)","v":{"$error":"#REF!"}},0,null,{"$f":"SUMIF(Lote!$A:$M,$H$1&\"-\"&$B65,Lote!$M:$M)","v":0},{"$f":"SUMIF(Lote!$A:$M,$I$1&\"-\"&$B65,Lote!$M:$M)","v":0},{"$f":"SUMIF(Lote!$A:$M,$J$1&\"-\"&$B65,Lote!$M:$M)","v":0}]
[165,"PRD00067","T NC 6.3 L ESC DOUR 60G","TINTURAS",{"$f":"VLOOKUP(B66,Cadastro!#REF!,6,FALSE)","v":{"$error":"#REF!"}},0,null,{"$f":"SUMIF(Lote!$A:$M,$H$1&\"-\"&$B66,Lote!$M:$M)","v":0},{"$f":"SUMIF(Lote!$A:$M,$I$1&\"-\"&$B66,Lote!$M:$M)","v":0},{"$f":"SUMIF(Lote!$A:$M,$J$1&\"-\"&$B66,Lote!$M:$M)","v":0}]
[166,"PRD00068","T NC 6.4 L ESC ACOB 60G","TINTURAS",{"$f":"VLOOKUP(B67,Cadastro!#REF!,6,FALSE)","v":{"$error":"#REF!"}},{"$f":"SUM(G67:J67)","v":0},null,{"$f":"SUMIF(Lote!$A:$M,$H$1&\"-\"&$B67,Lote!$M:$M)","v":0},{"$f":"SUMIF(Lote!$A:$M,$I$1&\"-\"&$B67,Lote!$M:$M)","v":0},{"$f":"SUMIF(Lote!$A:$M,$J$1&\"-\"&$B67,Lote!$M:$M)","v":0}]
[167,"PRD00069","T NC 6.41 MA 60G","TINTURAS",{"$f":"VLOOKUP(B68,Cadastro!#REF!,6,FALSE)","v":{"$error":"#REF!"}},0,null,{"$f":"SUMIF(Lote!$A:$M,$H$1&\"-\"&$B68,Lote!$M:$M)","v":0},{"$f":"SUMIF(Lote!$A:$M,$I$1&\"-\"&$B68,Lote!$M:$M)","v":0},{"$f":"SUMIF(Lote!$A:$M,$J$1&\"-\"&$B68,Lote!$M:$M)","v":0}]
[168,"PRD00070","T NC 6.43 L ESC COBR DOUR 60G","TINTURAS",{"$f":"VLOOKUP(B69,Cadastro!#REF!,6,FALSE)","v":{"$error":"#REF!"}},0,null,{"$f":"SUMIF(Lote!$A:$M,$H$1&\"-\"&$B69,Lote!$M:$M)","v":0},{"$f":"SUMIF(Lote!$A:$M,$I$1&\"-\"&$B69,Lote!$M:$M)","v":0},{"$f":"SUMIF(Lote!$A:$M,$J$1&\"-\"&$B69,Lote!$M:$M)","v":0}]
[169,"PRD00071","T NC 6.46 L ESC COBR AVERM 60G","TINTURAS",{"$f":"VLOOKUP(B70,Cadastro!#REF!,6,FALSE)","v":{"$error":"#REF!"}},0,null,{"$f":"SUMIF(Lote!$A:$M,$H$1&\"-\"&$B70,Lote!$M:$M)","v":0},{"$f":"SUMIF(Lote!$A:$M,$I$1&\"-\"&$B70,Lote!$M:$M)","v":0},{"$f":"SUMIF(Lote!$A:$M,$J$1&\"-\"&$B70,Lote!$M:$M)","v":0}]
[170,"PRD00072","T NC 6.6 L ESC AVER 60G","TINTURAS",{"$f":"VLOOKUP(B71,Cadastro!#REF!,6,FALSE)","v":{"$error":"#REF!"}},0,null,{"$f":"SUMIF(Lote!$A:$M,$H$1&\"-\"&$B71,Lote!$M:$M)","v":0},{"$f":"SUMIF(Lote!$A:$M,$I$1&\"-\"&$B71,Lote!$M:$M)","v":0},{"$f":"SUMIF(Lote!$A:$M,$J$1&\"-\"&$B71,Lote!$M:$M)","v":0}]
[171,"PRD00073","T NC 6.64 L ESC VER ACOB 60G","TINTURAS",{"$f":"VLOOKUP(B72,Cadastro!#REF!,6,FALSE)","v":{"$error":"#REF!"}},0,null,{"$f":"SUMIF(Lote!$A:$M,$H$1&\"-\"&$B72,Lote!$M:$M)","v":0},{"$f":"SUMIF(Lote!$A:$M,$I$1&\"-\"&$B72,Lote!$M:$M)","v":0},{"$f":"SUMIF(Lote!$A:$M,$J$1&\"-\"&$B72,Lote!$M:$M)","v":0}]
[172,"PRD00074","T NC 6.66 L ESC VERM INT 60G","TINTURAS",{"$f":"VLOOKUP(B73,Cadastro!#REF!,6,FALSE)","v":{"$error":"#REF!"}},593,null,{"$f":"SUMIF(Lote!$A:$M,$H$1&\"-\"&$B73,Lote!$M:$M)","v":0},{"$f":"SUMIF(Lote!$A:$M,$I$1&\"-\"&$B73,Lote!$M:$M)","v":0},{"$f":"SUMIF(Lote!$A:$M,$J$1&\"-\"&$B73,Lote!$M:$M)","v":593}]
[173,"PRD00075","T NC 6.7 CHOCOLATE ESSENCE 60G","TINTURAS",{"$f":"VLOOKUP(B74,Cadastro!#REF!,6,FALSE)","v":{"$error":"#REF!"}},206,null,{"$f":"SUMIF(Lote!$A:$M,$H$1&\"-\"&$B74,Lote!$M:$M)","v":0},{"$f":"SUMIF(Lote!$A:$M,$I$1&\"-\"&$B74,Lote!$M:$M)","v":0},{"$f":"SUMIF(Lote!$A:$M,$J$1&\"-\"&$B74,Lote!$M:$M)","v":206}]
[174,"PRD00076","T NC 6.71 L ESC MA ACZ 60G","TINTURAS",{"$f":"VLOOKUP(B75,Cadastro!#REF!,6,FALSE)","v":{"$error":"#REF!"}},0,null,{"$f":"SUMIF(Lote!$A:$M,$H$1&\"-\"&$B75,Lote!$M:$M)","v":0},{"$f":"SUMIF(Lote!$A:$M,$I$1&\"-\"&$B75,Lote!$M:$M)","v":0},{"$f":"SUMIF(Lote!$A:$M,$J$1&\"-\"&$B75,Lote!$M:$M)","v":0}]
[175,"PRD00077","T NC 66.46 CEREJA 60G","TINTURAS",{"$f":"VLOOKUP(B76,Cadastro!#REF!,6,FALSE)","v":{"$error":"#REF!"}},0,null,{"$f":"SUMIF(Lote!$A:$M,$H$1&\"-\"&$B76,Lote!$M:$M)","v":0},{"$f":"SUMIF(Lote!$A:$M,$I$1&\"-\"&$B76,Lote!$M:$M)","v":0},{"$f":"SUMIF(Lote!$A:$M,$J$1&\"-\"&$B76,Lote!$M:$M)","v":0}]
[176,"PRD00078","T NC 7.0 L MD ESSENCE 60G","TINTURAS",{"$f":"VLOOKUP(B77,Cadastro!#REF!,6,FALSE)","v":{"$error":"#REF!"}},0,null,{"$f":"SUMIF(Lote!$A:$M,$H$1&\"-\"&$B77,Lote!$M:$M)","v":0},{"$f":"SUMIF(Lote!$A:$M,$I$1&\"-\"&$B77,Lote!$M:$M)","v":0},{"$f":"SUMIF(Lote!$A:$M,$J$1&\"-\"&$B77,Lote!$M:$M)","v":0}]
[177,"PRD00079","T NC 7.1 L MD ACZ ESSENCE 60G","TINTURAS",{"$f":"VLOOKUP(B78,Cadastro!#REF!,6,FALSE)","v":{"$error":"#REF!"}},0,null,{"$f":"SUMIF(Lote!$A:$M,$H$1&\"-\"&$B78,Lote!$M:$M)","v":0},{"$f":"SUMIF(Lote!$A:$M,$I$1&\"-\"&$B78,Lote!$M:$M)","v":0},{"$f":"SUMIF(Lote!$A:$M,$J$1&\"-\"&$B78,Lote!$M:$M)","v":0}]
[178,"PRD00080","T NC 7.13 L MD BEGE ACZ 60G","TINTURAS",{"$f":"VLOOKUP(B79,Cadastro!#REF!,6,FALSE)","v":{"$error":"#REF!"}},0,null,{"$f":"SUMIF(Lote!$A:$M,$H$1&\"-\"&$B79,Lote!$M:$M)","v":0},{"$f":"SUMIF(Lote!$A:$M,$I$1&\"-\"&$B79,Lote!$M:$M)","v":0},{"$f":"SUMIF(Lote!$A:$M,$J$1&\"-\"&$B79,Lote!$M:$M)","v":0}]
[179,"PRD00081","T NC 7.3 L MD DOUR 60G","TINTURAS",{"$f":"VLOOKUP(B80,Cadastro!#REF!,6,FALSE)","v":{"$error":"#REF!"}},279,null,{"$f":"SUMIF(Lote!$A:$M,$H$1&\"-\"&$B80,Lote!$M:$M)","v":0},{"$f":"SUMIF(Lote!$A:$M,$I$1&\"-\"&$B80,Lote!$M:$M)","v":0},{"$f":"SUMIF(Lote!$A:$M,$J$1&\"-\"&$B80,Lote!$M:$M)","v":279}]
[180,"PRD00082","T NC 7.31 L BEGE DOUR 60G","TINTURAS",{"$f":"VLOOKUP(B81,Cadastro!#REF!,6,FALSE)","v":{"$error":"#REF!"}},0,null,{"$f":"SUMIF(Lote!$A:$M,$H$1&\"-\"&$B81,Lote!$M:$M)","v":0},{"$f":"SUMIF(Lote!$A:$M,$I$1&\"-\"&$B81,Lote!$M:$M)","v":0},{"$f":"SUMIF(Lote!$A:$M,$J$1&\"-\"&$B81,Lote!$M:$M)","v":0}]
[181,"PRD00083","T NC 7.4 L MD ACOB 60G","TINTURAS",{"$f":"VLOOKUP(B82,Cadastro!#REF!,6,FALSE)","v":{"$error":"#REF!"}},0,null,{"$f":"SUMIF(Lote!$A:$M,$H$1&\"-\"&$B82,Lote!$M:$M)","v":0},{"$f":"SUMIF(Lote!$A:$M,$I$1&\"-\"&$B82,Lote!$M:$M)","v":0},{"$f":"SUMIF(Lote!$A:$M,$J$1&\"-\"&$B82,Lote!$M:$M)","v":0}]
[182,"PRD00084","T NC 7.40 L MD COBRE INT 60G","TINTURAS",{"$f":"VLOOKUP(B83,Cadastro!#REF!,6,FALSE)","v":{"$error":"#REF!"}},0,null,{"$f":"SUMIF(Lote!$A:$M,$H$1&\"-\"&$B83,Lote!$M:$M)","v":0},{"$f":"SUMIF(Lote!$A:$M,$I$1&\"-\"&$B83,Lote!$M:$M)","v":0},{"$f":"SUMIF(Lote!$A:$M,$J$1&\"-\"&$B83,Lote!$M:$M)","v":0}]
[183,"PRD00085","T NC 7.43 L MD COBRE DOUR 60G","TINTURAS",{"$f":"VLOOKUP(B84,Cadastro!#REF!,6,FALSE)","v":{"$error":"#REF!"}},0,null,{"$f":"SUMIF(Lote!$A:$M,$H$1&\"-\"&$B84,Lote!$M:$M)","v":0},{"$f":"SUMIF(Lote!$A:$M,$I$1&\"-\"&$B84,Lote!$M:$M)","v":0},{"$f":"SUMIF(Lote!$A:$M,$J$1&\"-\"&$B84,Lote!$M:$M)","v":0}]
[184,"PRD00086","T NC 7.5 L MD ACAJU 60G","TINTURAS",{"$f":"VLOOKUP(B85,Cadastro!#REF!,6,FALSE)","v":{"$error":"#REF!"}},0,null,{"$f":"SUMIF(Lote!$A:$M,$H$1&\"-\"&$B85,Lote!$M:$M)","v":0},{"$f":"SUMIF(Lote!$A:$M,$I$1&\"-\"&$B85,Lote!$M:$M)","v":0},{"$f":"SUMIF(Lote!$A:$M,$J$1&\"-\"&$B85,Lote!$M:$M)","v":0}]
[185,"PRD00087","T NC 7.62 L MD IRISADO 60G","TINTURAS",{"$f":"VLOOKUP(B86,Cadastro!#REF!,6,FALSE)","v":{"$error":"#REF!"}},0,null,{"$f":"SUMIF(Lote!$A:$M,$H$1&\"-\"&$B86,Lote!$M:$M)","v":0},{"$f":"SUMIF(Lote!$A:$M,$I$1&\"-\"&$B86,Lote!$M:$M)","v":0},{"$f":"SUMIF(Lote!$A:$M,$J$1&\"-\"&$B86,Lote!$M:$M)","v":0}]
[186,"PRD00088","T NC 7.66 L MD VERM INT 60G","TINTURAS",{"$f":"VLOOKUP(B87,Cadastro!#REF!,6,FALSE)","v":{"$error":"#REF!"}},0,null,{"$f":"SUMIF(Lote!$A:$M,$H$1&\"-\"&$B87,Lote!$M:$M)","v":0},{"$f":"SUMIF(Lote!$A:$M,$I$1&\"-\"&$B87,Lote!$M:$M)","v":0},{"$f":"SUMIF(Lote!$A:$M,$J$1&\"-\"&$B87,Lote!$M:$M)","v":0}]
[187,"PRD00089","T NC 7.7 CHOCOLATE CL 60G","TINTURAS",{"$f":"VLOOKUP(B88,Cadastro!#REF!,6,FALSE)","v":{"$error":"#REF!"}},112,null,{"$f":"SUMIF(Lote!$A:$M,$H$1&\"-\"&$B88,Lote!$M:$M)","v":0},{"$f":"SUMIF(Lote!$A:$M,$I$1&\"-\"&$B88,Lote!$M:$M)","v":0},{"$f":"SUMIF(Lote!$A:$M,$J$1&\"-\"&$B88,Lote!$M:$M)","v":112}]
[188,"PRD00090","T NC 7.71 L MD MA ACZ 60G","TINTURAS",{"$f":"VLOOKUP(B89,Cadastro!#REF!,6,FALSE)","v":{"$error":"#REF!"}},0,null,{"$f":"SUMIF(Lote!$A:$M,$H$1&\"-\"&$B89,Lote!$M:$M)","v":0},{"$f":"SUMIF(Lote!$A:$M,$I$1&\"-\"&$B89,Lote!$M:$M)","v":0},{"$f":"SUMIF(Lote!$A:$M,$J$1&\"-\"&$B89,Lote!$M:$M)","v":0}]
[189,"PRD00091","T NC 7.75 L MD MA ACAJU 60G","TINTURAS",{"$f":"VLOOKUP(B90,Cadastro!#REF!,6,FALSE)","v":{"$error":"#REF!"}},0,null,{"$f":"SUMIF(Lote!$A:$M,$H$1&\"-\"&$B90,Lote!$M:$M)","v":0},{"$f":"SUMIF(Lote!$A:$M,$I$1&\"-\"&$B90,Lote!$M:$M)","v":0},{"$f":"SUMIF(Lote!$A:$M,$J$1&\"-\"&$B90,Lote!$M:$M)","v":0}]
[190,"PRD00092","T NC 7.89 L MD PEROLA 60G","TINTURAS",{"$f":"VLOOKUP(B91,Cadastro!#REF!,6,FALSE)","v":{"$error":"#REF!"}},0,null,{"$f":"SUMIF(Lote!$A:$M,$H$1&\"-\"&$B91,Lote!$M:$M)","v":0},{"$f":"SUMIF(Lote!$A:$M,$I$1&\"-\"&$B91,Lote!$M:$M)","v":0},{"$f":"SUMIF(Lote!$A:$M,$J$1&\"-\"&$B91,Lote!$M:$M)","v":0}]
[191,"PRD00093","T NC 77.44 RUBI 60G","TINTURAS",{"$f":"VLOOKUP(B92,Cadastro!#REF!,6,FALSE)","v":{"$error":"#REF!"}},0,null,{"$f":"SUMIF(Lote!$A:$M,$H$1&\"-\"&$B92,Lote!$M:$M)","v":0},{"$f":"SUMIF(Lote!$A:$M,$I$1&\"-\"&$B92,Lote!$M:$M)","v":0},{"$f":"SUMIF(Lote!$A:$M,$J$1&\"-\"&$B92,Lote!$M:$M)","v":0}]
[192,"PRD00094","T NC 8.0 L CL ESSENCE 60G","TINTURAS",{"$f":"VLOOKUP(B93,Cadastro!#REF!,6,FALSE)","v":{"$error":"#REF!"}},0,null,{"$f":"SUMIF(Lote!$A:$M,$H$1&\"-\"&$B93,Lote!$M:$M)","v":0},{"$f":"SUMIF(Lote!$A:$M,$I$1&\"-\"&$B93,Lote!$M:$M)","v":0},{"$f":"SUMIF(Lote!$A:$M,$J$1&\"-\"&$B93,Lote!$M:$M)","v":0}]
[193,"PRD00095","T NC 8.1 L CL ACZ 60G","TINTURAS",{"$f":"VLOOKUP(B94,Cadastro!#REF!,6,FALSE)","v":{"$error":"#REF!"}},439,null,{"$f":"SUMIF(Lote!$A:$M,$H$1&\"-\"&$B94,Lote!$M:$M)","v":0},{"$f":"SUMIF(Lote!$A:$M,$I$1&\"-\"&$B94,Lote!$M:$M)","v":0},{"$f":"SUMIF(Lote!$A:$M,$J$1&\"-\"&$B94,Lote!$M:$M)","v":439}]
[194,"PRD00096","T NC 8.26 MARSALA 60G","TINTURAS",{"$f":"VLOOKUP(B95,Cadastro!#REF!,6,FALSE)","v":{"$error":"#REF!"}},38,null,{"$f":"SUMIF(Lote!$A:$M,$H$1&\"-\"&$B95,Lote!$M:$M)","v":0},{"$f":"SUMIF(Lote!$A:$M,$I$1&\"-\"&$B95,Lote!$M:$M)","v":0},{"$f":"SUMIF(Lote!$A:$M,$J$1&\"-\"&$B95,Lote!$M:$M)","v":38}]
[195,"PRD00097","T NC 8.3 L CL DOUR 60G","TINTURAS",{"$f":"VLOOKUP(B96,Cadastro!#REF!,6,FALSE)","v":{"$error":"#REF!"}},0,null,{"$f":"SUMIF(Lote!$A:$M,$H$1&\"-\"&$B96,Lote!$M:$M)","v":0},{"$f":"SUMIF(Lote!$A:$M,$I$1&\"-\"&$B96,Lote!$M:$M)","v":0},{"$f":"SUMIF(Lote!$A:$M,$J$1&\"-\"&$B96,Lote!$M:$M)","v":0}]
[196,"PRD00098","T NC 8.31 L CL BEGE DOUR 60G","TINTURAS",{"$f":"VLOOKUP(B97,Cadastro!#REF!,6,FALSE)","v":{"$error":"#REF!"}},0,null,{"$f":"SUMIF(Lote!$A:$M,$H$1&\"-\"&$B97,Lote!$M:$M)","v":0},{"$f":"SUMIF(Lote!$A:$M,$I$1&\"-\"&$B97,Lote!$M:$M)","v":0},{"$f":"SUMIF(Lote!$A:$M,$J$1&\"-\"&$B97,Lote!$M:$M)","v":0}]
[197,"PRD00099","T NC 8.4 L CL ACOBREADO 60G","TINTURAS",{"$f":"VLOOKUP(B98,Cadastro!#REF!,6,FALSE)","v":{"$error":"#REF!"}},0,null,{"$f":"SUMIF(Lote!$A:$M,$H$1&\"-\"&$B98,Lote!$M:$M)","v":0},{"$f":"SUMIF(Lote!$A:$M,$I$1&\"-\"&$B98,Lote!$M:$M)","v":0},{"$f":"SUMIF(Lote!$A:$M,$J$1&\"-\"&$B98,Lote!$M:$M)","v":0}]
[198,"PRD00100","T NC 8.89 L CL PEROLA 60G","TINTURAS",{"$f":"VLOOKUP(B99,Cadastro!#REF!,6,FALSE)","v":{"$error":"#REF!"}},0,null,{"$f":"SUMIF(Lote!$A:$M,$H$1&\"-\"&$B99,Lote!$M:$M)","v":0},{"$f":"SUMIF(Lote!$A:$M,$I$1&\"-\"&$B99,Lote!$M:$M)","v":0},{"$f":"SUMIF(Lote!$A:$M,$J$1&\"-\"&$B99,Lote!$M:$M)","v":0}]
[199,"PRD00101","T NC 9.0 L MT CL 60G","TINTURAS",{"$f":"VLOOKUP(B100,Cadastro!#REF!,6,FALSE)","v":{"$error":"#REF!"}},0,null,{"$f":"SUMIF(Lote!$A:$M,$H$1&\"-\"&$B100,Lote!$M:$M)","v":0},{"$f":"SUMIF(Lote!$A:$M,$I$1&\"-\"&$B100,Lote!$M:$M)","v":0},{"$f":"SUMIF(Lote!$A:$M,$J$1&\"-\"&$B100,Lote!$M:$M)","v":0}]
[200,"PRD00102","T NC 9.00 L CLARIS NATURAL 60G","TINTURAS",{"$f":"VLOOKUP(B101,Cadastro!#REF!,6,FALSE)","v":{"$error":"#REF!"}},76,null,{"$f":"SUMIF(Lote!$A:$M,$H$1&\"-\"&$B101,Lote!$M:$M)","v":0},{"$f":"SUMIF(Lote!$A:$M,$I$1&\"-\"&$B101,Lote!$M:$M)","v":0},{"$f":"SUMIF(Lote!$A:$M,$J$1&\"-\"&$B101,Lote!$M:$M)","v":76}]
[201,"PRD00103","T NC 9.01 L CLARIS ACZ 60G","TINTURAS",{"$f":"VLOOKUP(B102,Cadastro!#REF!,6,FALSE)","v":{"$error":"#REF!"}},237,null,{"$f":"SUMIF(Lote!$A:$M,$H$1&\"-\"&$B102,Lote!$M:$M)","v":0},{"$f":"SUMIF(Lote!$A:$M,$I$1&\"-\"&$B102,Lote!$M:$M)","v":0},{"$f":"SUMIF(Lote!$A:$M,$J$1&\"-\"&$B102,Lote!$M:$M)","v":237}]
[202,"PRD00104","T NC 9.02 L CLARIS IRIZADO 60G","TINTURAS",{"$f":"VLOOKUP(B103,Cadastro!#REF!,6,FALSE)","v":{"$error":"#REF!"}},0,null,{"$f":"SUMIF(Lote!$A:$M,$H$1&\"-\"&$B103,Lote!$M:$M)","v":0},{"$f":"SUMIF(Lote!$A:$M,$I$1&\"-\"&$B103,Lote!$M:$M)","v":0},{"$f":"SUMIF(Lote!$A:$M,$J$1&\"-\"&$B103,Lote!$M:$M)","v":0}]
[203,"PRD00105","T NC 9.03 L CLARIS DOUR 60G","TINTURAS",{"$f":"VLOOKUP(B104,Cadastro!#REF!,6,FALSE)","v":{"$error":"#REF!"}},0,null,{"$f":"SUMIF(Lote!$A:$M,$H$1&\"-\"&$B104,Lote!$M:$M)","v":0},{"$f":"SUMIF(Lote!$A:$M,$I$1&\"-\"&$B104,Lote!$M:$M)","v":0},{"$f":"SUMIF(Lote!$A:$M,$J$1&\"-\"&$B104,Lote!$M:$M)","v":0}]
[204,"PRD00106","T NC 9.1 L MT CL ACZ 60G","TINTURAS",{"$f":"VLOOKUP(B105,Cadastro!#REF!,6,FALSE)","v":{"$error":"#REF!"}},397,null,{"$f":"SUMIF(Lote!$A:$M,$H$1&\"-\"&$B105,Lote!$M:$M)","v":0},{"$f":"SUMIF(Lote!$A:$M,$I$1&\"-\"&$B105,Lote!$M:$M)","v":0},{"$f":"SUMIF(Lote!$A:$M,$J$1&\"-\"&$B105,Lote!$M:$M)","v":397}]
[205,"PRD00107","T NC 9.13 L CLARIS CIN DOU 60G","TINTURAS",{"$f":"VLOOKUP(B106,Cadastro!#REF!,6,FALSE)","v":{"$error":"#REF!"}},0,null,{"$f":"SUMIF(Lote!$A:$M,$H$1&\"-\"&$B106,Lote!$M:$M)","v":0},{"$f":"SUMIF(Lote!$A:$M,$I$1&\"-\"&$B106,Lote!$M:$M)","v":0},{"$f":"SUMIF(Lote!$A:$M,$J$1&\"-\"&$B106,Lote!$M:$M)","v":0}]
[206,"PRD00108","T NC 9.3 L MT CL DOUR 60G","TINTURAS",{"$f":"VLOOKUP(B107,Cadastro!#REF!,6,FALSE)","v":{"$error":"#REF!"}},0,null,{"$f":"SUMIF(Lote!$A:$M,$H$1&\"-\"&$B107,Lote!$M:$M)","v":0},{"$f":"SUMIF(Lote!$A:$M,$I$1&\"-\"&$B107,Lote!$M:$M)","v":0},{"$f":"SUMIF(Lote!$A:$M,$J$1&\"-\"&$B107,Lote!$M:$M)","v":0}]
[207,"PRD00109","T NC 9.31 L MT CL BEGE ACZ 60G","TINTURAS",{"$f":"VLOOKUP(B108,Cadastro!#REF!,6,FALSE)","v":{"$error":"#REF!"}},0,null,{"$f":"SUMIF(Lote!$A:$M,$H$1&\"-\"&$B108,Lote!$M:$M)","v":0},{"$f":"SUMIF(Lote!$A:$M,$I$1&\"-\"&$B108,Lote!$M:$M)","v":0},{"$f":"SUMIF(Lote!$A:$M,$J$1&\"-\"&$B108,Lote!$M:$M)","v":0}]
[208,"PRD00110","T NC 90.01 PRATA 60G","TINTURAS",{"$f":"VLOOKUP(B109,Cadastro!#REF!,6,FALSE)","v":{"$error":"#REF!"}},48,null,{"$f":"SUMIF(Lote!$A:$M,$H$1&\"-\"&$B109,Lote!$M:$M)","v":0},{"$f":"SUMIF(Lote!$A:$M,$I$1&\"-\"&$B109,Lote!$M:$M)","v":0},{"$f":"SUMIF(Lote!$A:$M,$J$1&\"-\"&$B109,Lote!$M:$M)","v":48}]
[209,"PRD00111","TONAL NC 1.0 PRETO 60G","TINTURAS",{"$f":"VLOOKUP(B110,Cadastro!#REF!,6,FALSE)","v":{"$error":"#REF!"}},0,null,{"$f":"SUMIF(Lote!$A:$M,$H$1&\"-\"&$B110,Lote!$M:$M)","v":0},{"$f":"SUMIF(Lote!$A:$M,$I$1&\"-\"&$B110,Lote!$M:$M)","v":0},{"$f":"SUMIF(Lote!$A:$M,$J$1&\"-\"&$B110,Lote!$M:$M)","v":0}]
[210,"PRD00112","TONAL NC 3.0 CAST ESC 60G","TINTURAS",{"$f":"VLOOKUP(B111,Cadastro!#REF!,6,FALSE)","v":{"$error":"#REF!"}},0,null,{"$f":"SUMIF(Lote!$A:$M,$H$1&\"-\"&$B111,Lote!$M:$M)","v":0},{"$f":"SUMIF(Lote!$A:$M,$I$1&\"-\"&$B111,Lote!$M:$M)","v":0},{"$f":"SUMIF(Lote!$A:$M,$J$1&\"-\"&$B111,Lote!$M:$M)","v":0}]
[211,"PRD00113","TONAL NC 4.0 CAST MD 60G","TINTURAS",{"$f":"VLOOKUP(B112,Cadastro!#REF!,6,FALSE)","v":{"$error":"#REF!"}},0,null,{"$f":"SUMIF(Lote!$A:$M,$H$1&\"-\"&$B112,Lote!$M:$M)","v":0},{"$f":"SUMIF(Lote!$A:$M,$I$1&\"-\"&$B112,Lote!$M:$M)","v":0},{"$f":"SUMIF(Lote!$A:$M,$J$1&\"-\"&$B112,Lote!$M:$M)","v":0}]
[212,"PRD00114","TONAL NC 5.0 CAST CL 60G","TINTURAS",{"$f":"VLOOKUP(B113,Cadastro!#REF!,6,FALSE)","v":{"$error":"#REF!"}},0,null,{"$f":"SUMIF(Lote!$A:$M,$H$1&\"-\"&$B113,Lote!$M:$M)","v":0},{"$f":"SUMIF(Lote!$A:$M,$I$1&\"-\"&$B113,Lote!$M:$M)","v":0},{"$f":"SUMIF(Lote!$A:$M,$J$1&\"-\"&$B113,Lote!$M:$M)","v":0}]
[213,"PRD00115","TONAL NC 5.34 CAST DO ACOB 60G","TINTURAS",{"$f":"VLOOKUP(B114,Cadastro!#REF!,6,FALSE)","v":{"$error":"#REF!"}},0,null,{"$f":"SUMIF(Lote!$A:$M,$H$1&\"-\"&$B114,Lote!$M:$M)","v":0},{"$f":"SUMIF(Lote!$A:$M,$I$1&\"-\"&$B114,Lote!$M:$M)","v":0},{"$f":"SUMIF(Lote!$A:$M,$J$1&\"-\"&$B114,Lote!$M:$M)","v":0}]
[214,"PRD00116","TONAL NC 6.0 L ESC 60G","TINTURAS",{"$f":"VLOOKUP(B115,Cadastro!#REF!,6,FALSE)","v":{"$error":"#REF!"}},0,null,{"$f":"SUMIF(Lote!$A:$M,$H$1&\"-\"&$B115,Lote!$M:$M)","v":0},{"$f":"SUMIF(Lote!$A:$M,$I$1&\"-\"&$B115,Lote!$M:$M)","v":0},{"$f":"SUMIF(Lote!$A:$M,$J$1&\"-\"&$B115,Lote!$M:$M)","v":0}]
[215,"PRD00117","TONAL NC 6.1 L ESC ACZ 60G","TINTURAS",{"$f":"VLOOKUP(B116,Cadastro!#REF!,6,FALSE)","v":{"$error":"#REF!"}},0,null,{"$f":"SUMIF(Lote!$A:$M,$H$1&\"-\"&$B116,Lote!$M:$M)","v":0},{"$f":"SUMIF(Lote!$A:$M,$I$1&\"-\"&$B116,Lote!$M:$M)","v":0},{"$f":"SUMIF(Lote!$A:$M,$J$1&\"-\"&$B116,Lote!$M:$M)","v":0}]
[216,"PRD00118","TONAL NC 6.41 MARROM 60G","TINTURAS",{"$f":"VLOOKUP(B117,Cadastro!#REF!,6,FALSE)","v":{"$error":"#REF!"}},0,null,{"$f":"SUMIF(Lote!$A:$M,$H$1&\"-\"&$B117,Lote!$M:$M)","v":0},{"$f":"SUMIF(Lote!$A:$M,$I$1&\"-\"&$B117,Lote!$M:$M)","v":0},{"$f":"SUMIF(Lote!$A:$M,$J$1&\"-\"&$B117,Lote!$M:$M)","v":0}]
[217,"PRD00119","TONAL NC 6.7 CHOCOLATE 60G","TINTURAS",{"$f":"VLOOKUP(B118,Cadastro!#REF!,6,FALSE)","v":{"$error":"#REF!"}},0,null,{"$f":"SUMIF(Lote!$A:$M,$H$1&\"-\"&$B118,Lote!$M:$M)","v":0},{"$f":"SUMIF(Lote!$A:$M,$I$1&\"-\"&$B118,Lote!$M:$M)","v":0},{"$f":"SUMIF(Lote!$A:$M,$J$1&\"-\"&$B118,Lote!$M:$M)","v":0}]
[218,"PRD00120","TONAL NC 66.46 CEREJA 60G","TINTURAS",{"$f":"VLOOKUP(B119,Cadastro!#REF!,6,FALSE)","v":{"$error":"#REF!"}},0,null,{"$f":"SUMIF(Lote!$A:$M,$H$1&\"-\"&$B119,Lote!$M:$M)","v":0},{"$f":"SUMIF(Lote!$A:$M,$I$1&\"-\"&$B119,Lote!$M:$M)","v":0},{"$f":"SUMIF(Lote!$A:$M,$J$1&\"-\"&$B119,Lote!$M:$M)","v":0}]
[219,"PRD00121","TONAL NC 7.0 L MD 60G","TINTURAS",{"$f":"VLOOKUP(B120,Cadastro!#REF!,6,FALSE)","v":{"$error":"#REF!"}},0,null,{"$f":"SUMIF(Lote!$A:$M,$H$1&\"-\"&$B120,Lote!$M:$M)","v":0},{"$f":"SUMIF(Lote!$A:$M,$I$1&\"-\"&$B120,Lote!$M:$M)","v":0},{"$f":"SUMIF(Lote!$A:$M,$J$1&\"-\"&$B120,Lote!$M:$M)","v":0}]
[220,"PRD00122","TONAL NC 7.3 L MD DOUR 60G","TINTURAS",{"$f":"VLOOKUP(B121,Cadastro!#REF!,6,FALSE)","v":{"$error":"#REF!"}},0,null,{"$f":"SUMIF(Lote!$A:$M,$H$1&\"-\"&$B121,Lote!$M:$M)","v":0},{"$f":"SUMIF(Lote!$A:$M,$I$1&\"-\"&$B121,Lote!$M:$M)","v":0},{"$f":"SUMIF(Lote!$A:$M,$J$1&\"-\"&$B121,Lote!$M:$M)","v":0}]
[221,"PRD00123","TONAL NC 7.66 L MD VER INT 60G","TINTURAS",{"$f":"VLOOKUP(B122,Cadastro!#REF!,6,FALSE)","v":{"$error":"#REF!"}},0,null,{"$f":"SUMIF(Lote!$A:$M,$H$1&\"-\"&$B122,Lote!$M:$M)","v":0},{"$f":"SUMIF(Lote!$A:$M,$I$1&\"-\"&$B122,Lote!$M:$M)","v":0},{"$f":"SUMIF(Lote!$A:$M,$J$1&\"-\"&$B122,Lote!$M:$M)","v":0}]
[222,"PRD00124","TONAL NC 7.7 CHOCOLATE CL 60G","TINTURAS",{"$f":"VLOOKUP(B123,Cadastro!#REF!,6,FALSE)","v":{"$error":"#REF!"}},0,null,{"$f":"SUMIF(Lote!$A:$M,$H$1&\"-\"&$B123,Lote!$M:$M)","v":0},{"$f":"SUMIF(Lote!$A:$M,$I$1&\"-\"&$B123,Lote!$M:$M)","v":0},{"$f":"SUMIF(Lote!$A:$M,$J$1&\"-\"&$B123,Lote!$M:$M)","v":0}]
[223,"PRD00125","TONAL NC 7.89 L MD PEROLA 60G","TINTURAS",{"$f":"VLOOKUP(B124,Cadastro!#REF!,6,FALSE)","v":{"$error":"#REF!"}},0,null,{"$f":"SUMIF(Lote!$A:$M,$H$1&\"-\"&$B124,Lote!$M:$M)","v":0},{"$f":"SUMIF(Lote!$A:$M,$I$1&\"-\"&$B124,Lote!$M:$M)","v":0},{"$f":"SUMIF(Lote!$A:$M,$J$1&\"-\"&$B124,Lote!$M:$M)","v":0}]
[224,"PRD00126","COMP HID KAIKEN UNI 500ML","KAIKEN",{"$f":"VLOOKUP(B125,Cadastro!#REF!,6,FALSE)","v":{"$error":"#REF!"}},47,null,{"$f":"SUMIF(Lote!$A:$M,$H$1&\"-\"&$B125,Lote!$M:$M)","v":47},{"$f":"SUMIF(Lote!$A:$M,$I$1&\"-\"&$B125,Lote!$M:$M)","v":0},{"$f":"SUMIF(Lote!$A:$M,$J$1&\"-\"&$B125,Lote!$M:$M)","v":0}]
[225,"PRD00127","SH KAIKEN UNIQUE 500ML","KAIKEN",{"$f":"VLOOKUP(B126,Cadastro!#REF!,6,FALSE)","v":{"$error":"#REF!"}},7,null,{"$f":"SUMIF(Lote!$A:$M,$H$1&\"-\"&$B126,Lote!$M:$M)","v":7},{"$f":"SUMIF(Lote!$A:$M,$I$1&\"-\"&$B126,Lote!$M:$M)","v":0},{"$f":"SUMIF(Lote!$A:$M,$J$1&\"-\"&$B126,Lote!$M:$M)","v":0}]
[226,"PRD00128","COMP HID KAIKEN UNIQUE 2KG","KAIKEN",{"$f":"VLOOKUP(B127,Cadastro!#REF!,6,FALSE)","v":{"$error":"#REF!"}},0,null,{"$f":"SUMIF(Lote!$A:$M,$H$1&\"-\"&$B127,Lote!$M:$M)","v":0},{"$f":"SUMIF(Lote!$A:$M,$I$1&\"-\"&$B127,Lote!$M:$M)","v":0},{"$f":"SUMIF(Lote!$A:$M,$J$1&\"-\"&$B127,Lote!$M:$M)","v":0}]
[227,"PRD00129","SH KAIKEN UNIQUE 1L","KAIKEN",{"$f":"VLOOKUP(B128,Cadastro!#REF!,6,FALSE)","v":{"$error":"#REF!"}},0,null,{"$f":"SUMIF(Lote!$A:$M,$H$1&\"-\"&$B128,Lote!$M:$M)","v":0},{"$f":"SUMIF(Lote!$A:$M,$I$1&\"-\"&$B128,Lote!$M:$M)","v":0},{"$f":"SUMIF(Lote!$A:$M,$J$1&\"-\"&$B128,Lote!$M:$M)","v":0}]
[228,"PRD00130","SOS BRILHO SUPREMO NH 1KG","SOS",{"$f":"VLOOKUP(B129,Cadastro!#REF!,6,FALSE)","v":{"$error":"#REF!"}},85,null,{"$f":"SUMIF(Lote!$A:$M,$H$1&\"-\"&$B129,Lote!$M:$M)","v":85},{"$f":"SUMIF(Lote!$A:$M,$I$1&\"-\"&$B129,Lote!$M:$M)","v":0},{"$f":"SUMIF(Lote!$A:$M,$J$1&\"-\"&$B129,Lote!$M:$M)","v":0}]
[229,"PRD00131","SOS EQUILIBRIO ABS NH 1KG","SOS",{"$f":"VLOOKUP(B130,Cadastro!#REF!,6,FALSE)","v":{"$error":"#REF!"}},16,null,{"$f":"SUMIF(Lote!$A:$M,$H$1&\"-\"&$B130,Lote!$M:$M)","v":16},{"$f":"SUMIF(Lote!$A:$M,$I$1&\"-\"&$B130,Lote!$M:$M)","v":0},{"$f":"SUMIF(Lote!$A:$M,$J$1&\"-\"&$B130,Lote!$M:$M)","v":0}]
[230,"PRD00132","SOS NUTRICAO INTEN NH 1KG","SOS",{"$f":"VLOOKUP(B131,Cadastro!#REF!,6,FALSE)","v":{"$error":"#REF!"}},{"$f":"SUM(G131:J131)","v":50},null,{"$f":"SUMIF(Lote!$A:$M,$H$1&\"-\"&$B131,Lote!$M:$M)","v":50},{"$f":"SUMIF(Lote!$A:$M,$I$1&\"-\"&$B131,Lote!$M:$M)","v":0},{"$f":"SUMIF(Lote!$A:$M,$J$1&\"-\"&$B131,Lote!$M:$M)","v":0}]
[231,"PRD00133","SOS PLAST CAPILAR 15ML 2 PARES","SOS",{"$f":"VLOOKUP(B132,Cadastro!#REF!,6,FALSE)","v":{"$error":"#REF!"}},0,null,{"$f":"SUMIF(Lote!$A:$M,$H$1&\"-\"&$B132,Lote!$M:$M)","v":0},{"$f":"SUMIF(Lote!$A:$M,$I$1&\"-\"&$B132,Lote!$M:$M)","v":0},{"$f":"SUMIF(Lote!$A:$M,$J$1&\"-\"&$B132,Lote!$M:$M)","v":0}]
[232,"PRD00134","SOS PLAST CAPILAR 250ML 2UN","SOS",{"$f":"VLOOKUP(B133,Cadastro!#REF!,6,FALSE)","v":{"$error":"#REF!"}},68,null,{"$f":"SUMIF(Lote!$A:$M,$H$1&\"-\"&$B133,Lote!$M:$M)","v":68},{"$f":"SUMIF(Lote!$A:$M,$I$1&\"-\"&$B133,Lote!$M:$M)","v":0},{"$f":"SUMIF(Lote!$A:$M,$J$1&\"-\"&$B133,Lote!$M:$M)","v":0}]
[233,"PRD00135","SOS PLAST CAPILAR 15ML 24UN","SOS",{"$f":"VLOOKUP(B134,Cadastro!#REF!,6,FALSE)","v":{"$error":"#REF!"}},0,null,{"$f":"SUMIF(Lote!$A:$M,$H$1&\"-\"&$B134,Lote!$M:$M)","v":0},{"$f":"SUMIF(Lote!$A:$M,$I$1&\"-\"&$B134,Lote!$M:$M)","v":0},{"$f":"SUMIF(Lote!$A:$M,$J$1&\"-\"&$B134,Lote!$M:$M)","v":0}]
[234,"PRD00136","SOS ULTR VITAMINADO NH 2KG","SOS",{"$f":"VLOOKUP(B135,Cadastro!#REF!,6,FALSE)","v":{"$error":"#REF!"}},18,null,{"$f":"SUMIF(Lote!$A:$M,$H$1&\"-\"&$B135,Lote!$M:$M)","v":0},{"$f":"SUMIF(Lote!$A:$M,$I$1&\"-\"&$B135,Lote!$M:$M)","v":18},{"$f":"SUMIF(Lote!$A:$M,$J$1&\"-\"&$B135,Lote!$M:$M)","v":0}]
[235,"PRD00137","CR ALISANTE SODIO OSMIUM 2KG","OSMIIUM",{"$f":"VLOOKUP(B136,Cadastro!#REF!,6,FALSE)","v":{"$error":"#REF!"}},0,null,{"$f":"SUMIF(Lote!$A:$M,$H$1&\"-\"&$B136,Lote!$M:$M)","v":0},{"$f":"SUMIF(Lote!$A:$M,$I$1&\"-\"&$B136,Lote!$M:$M)","v":0},{"$f":"SUMIF(Lote!$A:$M,$J$1&\"-\"&$B136,Lote!$M:$M)","v":0}]
[236,"PRD00138","CR BASE CALCIO OSMIUM 1KG","OSMIIUM",{"$f":"VLOOKUP(B137,Cadastro!#REF!,6,FALSE)","v":{"$error":"#REF!"}},49,null,{"$f":"SUMIF(Lote!$A:$M,$H$1&\"-\"&$B137,Lote!$M:$M)","v":0},{"$f":"SUMIF(Lote!$A:$M,$I$1&\"-\"&$B137,Lote!$M:$M)","v":49},{"$f":"SUMIF(Lote!$A:$M,$J$1&\"-\"&$B137,Lote!$M:$M)","v":0}]
[237,"PRD00139","CR BASE CALCIO OSMIUM 2KG","OSMIIUM",{"$f":"VLOOKUP(B138,Cadastro!#REF!,6,FALSE)","v":{"$error":"#REF!"}},31,null,{"$f":"SUMIF(Lote!$A:$M,$H$1&\"-\"&$B138,Lote!$M:$M)","v":31},{"$f":"SUMIF(Lote!$A:$M,$I$1&\"-\"&$B138,Lote!$M:$M)","v":0},{"$f":"SUMIF(Lote!$A:$M,$J$1&\"-\"&$B138,Lote!$M:$M)","v":0}]
[238,"PRD00140","CR HID E NEUT OSM FLEX 1KG","OSMIIUM",{"$f":"VLOOKUP(B139,Cadastro!#REF!,6,FALSE)","v":{"$error":"#REF!"}},33,null,{"$f":"SUMIF(Lote!$A:$M,$H$1&\"-\"&$B139,Lote!$M:$M)","v":33},{"$f":"SUMIF(Lote!$A:$M,$I$1&\"-\"&$B139,Lote!$M:$M)","v":0},{"$f":"SUMIF(Lote!$A:$M,$J$1&\"-\"&$B139,Lote!$M:$M)","v":0}]
[239,"PRD00141","CR PROTETOR OSM FLEX 100G","OSMIIUM",{"$f":"VLOOKUP(B140,Cadastro!#REF!,6,FALSE)","v":{"$error":"#REF!"}},3,null,{"$f":"SUMIF(Lote!$A:$M,$H$1&\"-\"&$B140,Lote!$M:$M)","v":3},{"$f":"SUMIF(Lote!$A:$M,$I$1&\"-\"&$B140,Lote!$M:$M)","v":0},{"$f":"SUMIF(Lote!$A:$M,$J$1&\"-\"&$B140,Lote!$M:$M)","v":0}]
[240,"PRD00142","LIQUIDO ATIVADOR OSMIUM 1L","OSMIIUM",{"$f":"VLOOKUP(B141,Cadastro!#REF!,6,FALSE)","v":{"$error":"#REF!"}},27,null,{"$f":"SUMIF(Lote!$A:$M,$H$1&\"-\"&$B141,Lote!$M:$M)","v":27},{"$f":"SUMIF(Lote!$A:$M,$I$1&\"-\"&$B141,Lote!$M:$M)","v":0},{"$f":"SUMIF(Lote!$A:$M,$J$1&\"-\"&$B141,Lote!$M:$M)","v":0}]
[241,"PRD00143","REGULADOR DE FORCA OSMIUM 1KG","OSMIIUM",{"$f":"VLOOKUP(B142,Cadastro!#REF!,6,FALSE)","v":{"$error":"#REF!"}},0,null,{"$f":"SUMIF(Lote!$A:$M,$H$1&\"-\"&$B142,Lote!$M:$M)","v":0},{"$f":"SUMIF(Lote!$A:$M,$I$1&\"-\"&$B142,Lote!$M:$M)","v":0},{"$f":"SUMIF(Lote!$A:$M,$J$1&\"-\"&$B142,Lote!$M:$M)","v":0}]
[242,"PRD00144","SH INDICADOR OSMIUM FL 1L","OSMIIUM",{"$f":"VLOOKUP(B143,Cadastro!#REF!,6,FALSE)","v":{"$error":"#REF!"}},115,null,{"$f":"SUMIF(Lote!$A:$M,$H$1&\"-\"&$B143,Lote!$M:$M)","v":115},{"$f":"SUMIF(Lote!$A:$M,$I$1&\"-\"&$B143,Lote!$M:$M)","v":0},{"$f":"SUMIF(Lote!$A:$M,$J$1&\"-\"&$B143,Lote!$M:$M)","v":0}]
[243,"PRD00145","SOS ADVANCED OS FLEX 300ML","OSMIIUM",{"$f":"VLOOKUP(B144,Cadastro!#REF!,6,FALSE)","v":{"$error":"#REF!"}},55,null,{"$f":"SUMIF(Lote!$A:$M,$H$1&\"-\"&$B144,Lote!$M:$M)","v":55},{"$f":"SUMIF(Lote!$A:$M,$I$1&\"-\"&$B144,Lote!$M:$M)","v":0},{"$f":"SUMIF(Lote!$A:$M,$J$1&\"-\"&$B144,Lote!$M:$M)","v":0}]
[244,"PRD00146","FLUIDO FIX CACHO OSM 300ML","OSMIIUM",{"$f":"VLOOKUP(B145,Cadastro!#REF!,6,FALSE)","v":{"$error":"#REF!"}},87,null,{"$f":"SUMIF(Lote!$A:$M,$H$1&\"-\"&$B145,Lote!$M:$M)","v":87},{"$f":"SUMIF(Lote!$A:$M,$I$1&\"-\"&$B145,Lote!$M:$M)","v":0},{"$f":"SUMIF(Lote!$A:$M,$J$1&\"-\"&$B145,Lote!$M:$M)","v":0}]
[245,"PRD00147","GLOSS MOD CACHOS OSM 300ML","OSMIIUM",{"$f":"VLOOKUP(B146,Cadastro!#REF!,6,FALSE)","v":{"$error":"#REF!"}},19,null,{"$f":"SUMIF(Lote!$A:$M,$H$1&\"-\"&$B146,Lote!$M:$M)","v":19},{"$f":"SUMIF(Lote!$A:$M,$I$1&\"-\"&$B146,Lote!$M:$M)","v":0},{"$f":"SUMIF(Lote!$A:$M,$J$1&\"-\"&$B146,Lote!$M:$M)","v":0}]
[246,"PRD00148","MASC COND CACHOS OSM 300ML","OSMIIUM",{"$f":"VLOOKUP(B147,Cadastro!#REF!,6,FALSE)","v":{"$error":"#REF!"}},102,null,{"$f":"SUMIF(Lote!$A:$M,$H$1&\"-\"&$B147,Lote!$M:$M)","v":102},{"$f":"SUMIF(Lote!$A:$M,$I$1&\"-\"&$B147,Lote!$M:$M)","v":0},{"$f":"SUMIF(Lote!$A:$M,$J$1&\"-\"&$B147,Lote!$M:$M)","v":0}]
[247,"PRD00149","SH CACHOS OSMIUM 300ML","OSMIIUM",{"$f":"VLOOKUP(B148,Cadastro!#REF!,6,FALSE)","v":{"$error":"#REF!"}},21,null,{"$f":"SUMIF(Lote!$A:$M,$H$1&\"-\"&$B148,Lote!$M:$M)","v":21},{"$f":"SUMIF(Lote!$A:$M,$I$1&\"-\"&$B148,Lote!$M:$M)","v":0},{"$f":"SUMIF(Lote!$A:$M,$J$1&\"-\"&$B148,Lote!$M:$M)","v":0}]
[248,"PRD00150","FLUIDO FIX CACHO OSM 500ML","OSMIIUM",{"$f":"VLOOKUP(B149,Cadastro!#REF!,6,FALSE)","v":{"$error":"#REF!"}},305,null,{"$f":"SUMIF(Lote!$A:$M,$H$1&\"-\"&$B149,Lote!$M:$M)","v":152},{"$f":"SUMIF(Lote!$A:$M,$I$1&\"-\"&$B149,Lote!$M:$M)","v":153},{"$f":"SUMIF(Lote!$A:$M,$J$1&\"-\"&$B149,Lote!$M:$M)","v":0}]
[249,"PRD00151","GLOSS MOD CACHOS OSM 500ML","OSMIIUM",{"$f":"VLOOKUP(B150,Cadastro!#REF!,6,FALSE)","v":{"$error":"#REF!"}},420,null,{"$f":"SUMIF(Lote!$A:$M,$H$1&\"-\"&$B150,Lote!$M:$M)","v":189},{"$f":"SUMIF(Lote!$A:$M,$I$1&\"-\"&$B150,Lote!$M:$M)","v":231},{"$f":"SUMIF(Lote!$A:$M,$J$1&\"-\"&$B150,Lote!$M:$M)","v":0}]
[250,"PRD00152","MASC COND CACHOS OSM 500ML","OSMIIUM",{"$f":"VLOOKUP(B151,Cadastro!#REF!,6,FALSE)","v":{"$error":"#REF!"}},121,null,{"$f":"SUMIF(Lote!$A:$M,$H$1&\"-\"&$B151,Lote!$M:$M)","v":121},{"$f":"SUMIF(Lote!$A:$M,$I$1&\"-\"&$B151,Lote!$M:$M)","v":0},{"$f":"SUMIF(Lote!$A:$M,$J$1&\"-\"&$B151,Lote!$M:$M)","v":0}]
[251,"PRD00153","SH CACHOS OSMIUM 500ML","OSMIIUM",{"$f":"VLOOKUP(B152,Cadastro!#REF!,6,FALSE)","v":{"$error":"#REF!"}},317,null,{"$f":"SUMIF(Lote!$A:$M,$H$1&\"-\"&$B152,Lote!$M:$M)","v":121},{"$f":"SUMIF(Lote!$A:$M,$I$1&\"-\"&$B152,Lote!$M:$M)","v":196},{"$f":"SUMIF(Lote!$A:$M,$J$1&\"-\"&$B152,Lote!$M:$M)","v":0}]
[252,"PRD00154","BRUMA STYLING SP LUM 240ML","LUMMEM",{"$f":"VLOOKUP(B153,Cadastro!#REF!,6,FALSE)","v":{"$error":"#REF!"}},0,null,{"$f":"SUMIF(Lote!$A:$M,$H$1&\"-\"&$B153,Lote!$M:$M)","v":0},{"$f":"SUMIF(Lote!$A:$M,$I$1&\"-\"&$B153,Lote!$M:$M)","v":0},{"$f":"SUMIF(Lote!$A:$M,$J$1&\"-\"&$B153,Lote!$M:$M)","v":0}]
[253,"PRD00155","FLUIDO REPAR LUMMEM 60ML","LUMMEM",{"$f":"VLOOKUP(B154,Cadastro!#REF!,6,FALSE)","v":{"$error":"#REF!"}},15,null,{"$f":"SUMIF(Lote!$A:$M,$H$1&\"-\"&$B154,Lote!$M:$M)","v":0},{"$f":"SUMIF(Lote!$A:$M,$I$1&\"-\"&$B154,Lote!$M:$M)","v":15},{"$f":"SUMIF(Lote!$A:$M,$J$1&\"-\"&$B154,Lote!$M:$M)","v":0}]
[254,"PRD00156","HAIR SPRAY LUMMEN 400ML","LUMMEM",{"$f":"VLOOKUP(B155,Cadastro!#REF!,6,FALSE)","v":{"$error":"#REF!"}},0,null,{"$f":"SUMIF(Lote!$A:$M,$H$1&\"-\"&$B155,Lote!$M:$M)","v":0},{"$f":"SUMIF(Lote!$A:$M,$I$1&\"-\"&$B155,Lote!$M:$M)","v":0},{"$f":"SUMIF(Lote!$A:$M,$J$1&\"-\"&$B155,Lote!$M:$M)","v":0}]
[255,"PRD00157","NUTRA BRILHO SP LUMM 240ML","LUMMEM",{"$f":"VLOOKUP(B156,Cadastro!#REF!,6,FALSE)","v":{"$error":"#REF!"}},0,null,{"$f":"SUMIF(Lote!$A:$M,$H$1&\"-\"&$B156,Lote!$M:$M)","v":0},{"$f":"SUMIF(Lote!$A:$M,$I$1&\"-\"&$B156,Lote!$M:$M)","v":0},{"$f":"SUMIF(Lote!$A:$M,$J$1&\"-\"&$B156,Lote!$M:$M)","v":0}]
[256,"PRD00158","POMADA MODELAD LUMMEM 100G","LUMMEM",{"$f":"VLOOKUP(B157,Cadastro!#REF!,6,FALSE)","v":{"$error":"#REF!"}},0,null,{"$f":"SUMIF(Lote!$A:$M,$H$1&\"-\"&$B157,Lote!$M:$M)","v":0},{"$f":"SUMIF(Lote!$A:$M,$I$1&\"-\"&$B157,Lote!$M:$M)","v":0},{"$f":"SUMIF(Lote!$A:$M,$J$1&\"-\"&$B157,Lote!$M:$M)","v":0}]
[257,"PRD00159","PRIMER CAPILAR LUMM 250ML","LUMMEM",{"$f":"VLOOKUP(B158,Cadastro!#REF!,6,FALSE)","v":{"$error":"#REF!"}},0,null,{"$f":"SUMIF(Lote!$A:$M,$H$1&\"-\"&$B158,Lote!$M:$M)","v":0},{"$f":"SUMIF(Lote!$A:$M,$I$1&\"-\"&$B158,Lote!$M:$M)","v":0},{"$f":"SUMIF(Lote!$A:$M,$J$1&\"-\"&$B158,Lote!$M:$M)","v":0}]
[258,"PRD00160","PRIMER CAPILAR LUMM 120ML","LUMMEM",{"$f":"VLOOKUP(B159,Cadastro!#REF!,6,FALSE)","v":{"$error":"#REF!"}},109,null,{"$f":"SUMIF(Lote!$A:$M,$H$1&\"-\"&$B159,Lote!$M:$M)","v":109},{"$f":"SUMIF(Lote!$A:$M,$I$1&\"-\"&$B159,Lote!$M:$M)","v":0},{"$f":"SUMIF(Lote!$A:$M,$J$1&\"-\"&$B159,Lote!$M:$M)","v":0}]
[259,"PRD00161","COND ALECRIM E MENTA M 5L","MAISON",{"$f":"VLOOKUP(B160,Cadastro!#REF!,6,FALSE)","v":{"$error":"#REF!"}},17,null,{"$f":"SUMIF(Lote!$A:$M,$H$1&\"-\"&$B160,Lote!$M:$M)","v":17},{"$f":"SUMIF(Lote!$A:$M,$I$1&\"-\"&$B160,Lote!$M:$M)","v":0},{"$f":"SUMIF(Lote!$A:$M,$J$1&\"-\"&$B160,Lote!$M:$M)","v":0}]
[260,"PRD00162","COND BRILHO PEROLA E MAIS 5L","MAISON",{"$f":"VLOOKUP(B161,Cadastro!#REF!,6,FALSE)","v":{"$error":"#REF!"}},51,null,{"$f":"SUMIF(Lote!$A:$M,$H$1&\"-\"&$B161,Lote!$M:$M)","v":7},{"$f":"SUMIF(Lote!$A:$M,$I$1&\"-\"&$B161,Lote!$M:$M)","v":44},{"$f":"SUMIF(Lote!$A:$M,$J$1&\"-\"&$B161,Lote!$M:$M)","v":0}]
[261,"PRD00163","COND ERVA DOCE MAISON 5L","MAISON",{"$f":"VLOOKUP(B162,Cadastro!#REF!,6,FALSE)","v":{"$error":"#REF!"}},8,null,{"$f":"SUMIF(Lote!$A:$M,$H$1&\"-\"&$B162,Lote!$M:$M)","v":8},{"$f":"SUMIF(Lote!$A:$M,$I$1&\"-\"&$B162,Lote!$M:$M)","v":0},{"$f":"SUMIF(Lote!$A:$M,$J$1&\"-\"&$B162,Lote!$M:$M)","v":0}]
[262,"PRD00164","COND MANT KARITE MAISON 5L","MAISON",{"$f":"VLOOKUP(B163,Cadastro!#REF!,6,FALSE)","v":{"$error":"#REF!"}},12,null,{"$f":"SUMIF(Lote!$A:$M,$H$1&\"-\"&$B163,Lote!$M:$M)","v":12},{"$f":"SUMIF(Lote!$A:$M,$I$1&\"-\"&$B163,Lote!$M:$M)","v":0},{"$f":"SUMIF(Lote!$A:$M,$J$1&\"-\"&$B163,Lote!$M:$M)","v":0}]
[263,"PRD00165","COND MARACUJA MEL MAISO 5L","MAISON",{"$f":"VLOOKUP(B164,Cadastro!#REF!,6,FALSE)","v":{"$error":"#REF!"}},17,null,{"$f":"SUMIF(Lote!$A:$M,$H$1&\"-\"&$B164,Lote!$M:$M)","v":17},{"$f":"SUMIF(Lote!$A:$M,$I$1&\"-\"&$B164,Lote!$M:$M)","v":0},{"$f":"SUMIF(Lote!$A:$M,$J$1&\"-\"&$B164,Lote!$M:$M)","v":0}]
[264,"PRD00166","SH ALECRIM E MENTA MAIS 5L","MAISON",{"$f":"VLOOKUP(B165,Cadastro!#REF!,6,FALSE)","v":{"$error":"#REF!"}},26,null,{"$f":"SUMIF(Lote!$A:$M,$H$1&\"-\"&$B165,Lote!$M:$M)","v":5},{"$f":"SUMIF(Lote!$A:$M,$I$1&\"-\"&$B165,Lote!$M:$M)","v":21},{"$f":"SUMIF(Lote!$A:$M,$J$1&\"-\"&$B165,Lote!$M:$M)","v":0}]
[265,"PRD00167","SH BRILHO PEROLA MAIS 5L","MAISON",{"$f":"VLOOKUP(B166,Cadastro!#REF!,6,FALSE)","v":{"$error":"#REF!"}},55,null,{"$f":"SUMIF(Lote!$A:$M,$H$1&\"-\"&$B166,Lote!$M:$M)","v":8},{"$f":"SUMIF(Lote!$A:$M,$I$1&\"-\"&$B166,Lote!$M:$M)","v":47},{"$f":"SUMIF(Lote!$A:$M,$J$1&\"-\"&$B166,Lote!$M:$M)","v":0}]
[266,"PRD00168","SH ERVA DOCE M SEM SAL 5L","MAISON",{"$f":"VLOOKUP(B167,Cadastro!#REF!,6,FALSE)","v":{"$error":"#REF!"}},0,null,{"$f":"SUMIF(Lote!$A:$M,$H$1&\"-\"&$B167,Lote!$M:$M)","v":0},{"$f":"SUMIF(Lote!$A:$M,$I$1&\"-\"&$B167,Lote!$M:$M)","v":0},{"$f":"SUMIF(Lote!$A:$M,$J$1&\"-\"&$B167,Lote!$M:$M)","v":0}]
[267,"PRD00169","SH ERVA DOCE MAISON 5L","MAISON",{"$f":"VLOOKUP(B168,Cadastro!#REF!,6,FALSE)","v":{"$error":"#REF!"}},8,null,{"$f":"SUMIF(Lote!$A:$M,$H$1&\"-\"&$B168,Lote!$M:$M)","v":8},{"$f":"SUMIF(Lote!$A:$M,$I$1&\"-\"&$B168,Lote!$M:$M)","v":0},{"$f":"SUMIF(Lote!$A:$M,$J$1&\"-\"&$B168,Lote!$M:$M)","v":0}]
[268,"PRD00170","SH MANT KARITE MAISON 5L","MAISON",{"$f":"VLOOKUP(B169,Cadastro!#REF!,6,FALSE)","v":{"$error":"#REF!"}},6,null,{"$f":"SUMIF(Lote!$A:$M,$H$1&\"-\"&$B169,Lote!$M:$M)","v":6},{"$f":"SUMIF(Lote!$A:$M,$I$1&\"-\"&$B169,Lote!$M:$M)","v":0},{"$f":"SUMIF(Lote!$A:$M,$J$1&\"-\"&$B169,Lote!$M:$M)","v":0}]
[269,"PRD00171","SH MARACUJA E MEL MAISON 5L","MAISON",{"$f":"VLOOKUP(B170,Cadastro!#REF!,6,FALSE)","v":{"$error":"#REF!"}},21,null,{"$f":"SUMIF(Lote!$A:$M,$H$1&\"-\"&$B170,Lote!$M:$M)","v":21},{"$f":"SUMIF(Lote!$A:$M,$I$1&\"-\"&$B170,Lote!$M:$M)","v":0},{"$f":"SUMIF(Lote!$A:$M,$J$1&\"-\"&$B170,Lote!$M:$M)","v":0}]
[270,"PRD00172","COMPOSTO OL OJON M PLU 1L","MAISON",{"$f":"VLOOKUP(B171,Cadastro!#REF!,6,FALSE)","v":{"$error":"#REF!"}},4,null,{"$f":"SUMIF(Lote!$A:$M,$H$1&\"-\"&$B171,Lote!$M:$M)","v":4},{"$f":"SUMIF(Lote!$A:$M,$I$1&\"-\"&$B171,Lote!$M:$M)","v":0},{"$f":"SUMIF(Lote!$A:$M,$J$1&\"-\"&$B171,Lote!$M:$M)","v":0}]
[271,"PRD00173","FINAL OL OJON M PLU 500ML","MAISON",{"$f":"VLOOKUP(B172,Cadastro!#REF!,6,FALSE)","v":{"$error":"#REF!"}},10,null,{"$f":"SUMIF(Lote!$A:$M,$H$1&\"-\"&$B172,Lote!$M:$M)","v":10},{"$f":"SUMIF(Lote!$A:$M,$I$1&\"-\"&$B172,Lote!$M:$M)","v":0},{"$f":"SUMIF(Lote!$A:$M,$J$1&\"-\"&$B172,Lote!$M:$M)","v":0}]
[272,"PRD00174","SH REPARA OL OJON M PLU 1L","MAISON",{"$f":"VLOOKUP(B173,Cadastro!#REF!,6,FALSE)","v":{"$error":"#REF!"}},57,null,{"$f":"SUMIF(Lote!$A:$M,$H$1&\"-\"&$B173,Lote!$M:$M)","v":7},{"$f":"SUMIF(Lote!$A:$M,$I$1&\"-\"&$B173,Lote!$M:$M)","v":50},{"$f":"SUMIF(Lote!$A:$M,$J$1&\"-\"&$B173,Lote!$M:$M)","v":0}]
[273,"PRD00175","MASC COND CAB COL EFFE 1L","EFFECTUS",{"$f":"VLOOKUP(B174,Cadastro!#REF!,6,FALSE)","v":{"$error":"#REF!"}},4,null,{"$f":"SUMIF(Lote!$A:$M,$H$1&\"-\"&$B174,Lote!$M:$M)","v":4},{"$f":"SUMIF(Lote!$A:$M,$I$1&\"-\"&$B174,Lote!$M:$M)","v":0},{"$f":"SUMIF(Lote!$A:$M,$J$1&\"-\"&$B174,Lote!$M:$M)","v":0}]
[274,"PRD00176","MASC COND EFFECTUS 150ML","EFFECTUS",{"$f":"VLOOKUP(B175,Cadastro!#REF!,6,FALSE)","v":{"$error":"#REF!"}},945,null,{"$f":"SUMIF(Lote!$A:$M,$H$1&\"-\"&$B175,Lote!$M:$M)","v":945},{"$f":"SUMIF(Lote!$A:$M,$I$1&\"-\"&$B175,Lote!$M:$M)","v":0},{"$f":"SUMIF(Lote!$A:$M,$J$1&\"-\"&$B175,Lote!$M:$M)","v":0}]
[275,"PRD00177","MASC COND EFFECTUS 500ML","EFFECTUS",{"$f":"VLOOKUP(B176,Cadastro!#REF!,6,FALSE)","v":{"$error":"#REF!"}},53,null,{"$f":"SUMIF(Lote!$A:$M,$H$1&\"-\"&$B176,Lote!$M:$M)","v":53},{"$f":"SUMIF(Lote!$A:$M,$I$1&\"-\"&$B176,Lote!$M:$M)","v":0},{"$f":"SUMIF(Lote!$A:$M,$J$1&\"-\"&$B176,Lote!$M:$M)","v":0}]
[276,"PRD00178","SH CAB TIN EFFECTUS 150ML","EFFECTUS",{"$f":"VLOOKUP(B177,Cadastro!#REF!,6,FALSE)","v":{"$error":"#REF!"}},1224,null,{"$f":"SUMIF(Lote!$A:$M,$H$1&\"-\"&$B177,Lote!$M:$M)","v":1224},{"$f":"SUMIF(Lote!$A:$M,$I$1&\"-\"&$B177,Lote!$M:$M)","v":0},{"$f":"SUMIF(Lote!$A:$M,$J$1&\"-\"&$B177,Lote!$M:$M)","v":0}]
[277,"PRD00179","SH CAB TIN EFFECTUS 1L","EFFECTUS",{"$f":"VLOOKUP(B178,Cadastro!#REF!,6,FALSE)","v":{"$error":"#REF!"}},92,null,{"$f":"SUMIF(Lote!$A:$M,$H$1&\"-\"&$B178,Lote!$M:$M)","v":39},{"$f":"SUMIF(Lote!$A:$M,$I$1&\"-\"&$B178,Lote!$M:$M)","v":53},{"$f":"SUMIF(Lote!$A:$M,$J$1&\"-\"&$B178,Lote!$M:$M)","v":0}]
[278,"PRD00180","SH CAB TIN EFFECTUS 500ML","EFFECTUS",{"$f":"VLOOKUP(B179,Cadastro!#REF!,6,FALSE)","v":{"$error":"#REF!"}},42,null,{"$f":"SUMIF(Lote!$A:$M,$H$1&\"-\"&$B179,Lote!$M:$M)","v":42},{"$f":"SUMIF(Lote!$A:$M,$I$1&\"-\"&$B179,Lote!$M:$M)","v":0},{"$f":"SUMIF(Lote!$A:$M,$J$1&\"-\"&$B179,Lote!$M:$M)","v":0}]
[279,"PRD00181","OLEO ARGAN PRO REP 60ML","PRO REPAIR",{"$f":"VLOOKUP(B180,Cadastro!#REF!,6,FALSE)","v":{"$error":"#REF!"}},0,null,{"$f":"SUMIF(Lote!$A:$M,$H$1&\"-\"&$B180,Lote!$M:$M)","v":0},{"$f":"SUMIF(Lote!$A:$M,$I$1&\"-\"&$B180,Lote!$M:$M)","v":0},{"$f":"SUMIF(Lote!$A:$M,$J$1&\"-\"&$B180,Lote!$M:$M)","v":0}]
[280,"PRD00182","PH CONTROL PROREPAIR 500ML","PRO REPAIR",{"$f":"VLOOKUP(B181,Cadastro!#REF!,6,FALSE)","v":{"$error":"#REF!"}},127,null,{"$f":"SUMIF(Lote!$A:$M,$H$1&\"-\"&$B181,Lote!$M:$M)","v":127},{"$f":"SUMIF(Lote!$A:$M,$I$1&\"-\"&$B181,Lote!$M:$M)","v":0},{"$f":"SUMIF(Lote!$A:$M,$J$1&\"-\"&$B181,Lote!$M:$M)","v":0}]
[281,"PRD00183","FLUIDO FINA MONOI PR 500ML","MONOI",{"$f":"VLOOKUP(B182,Cadastro!#REF!,6,FALSE)","v":{"$error":"#REF!"}},97,null,{"$f":"SUMIF(Lote!$A:$M,$H$1&\"-\"&$B182,Lote!$M:$M)","v":97},{"$f":"SUMIF(Lote!$A:$M,$I$1&\"-\"&$B182,Lote!$M:$M)","v":0},{"$f":"SUMIF(Lote!$A:$M,$J$1&\"-\"&$B182,Lote!$M:$M)","v":0}]
[282,"PRD00184","REDUTOR VOLUME MONOI PR 1L","MONOI",{"$f":"VLOOKUP(B183,Cadastro!#REF!,6,FALSE)","v":{"$error":"#REF!"}},176,null,{"$f":"SUMIF(Lote!$A:$M,$H$1&\"-\"&$B183,Lote!$M:$M)","v":4},{"$f":"SUMIF(Lote!$A:$M,$I$1&\"-\"&$B183,Lote!$M:$M)","v":172},{"$f":"SUMIF(Lote!$A:$M,$J$1&\"-\"&$B183,Lote!$M:$M)","v":0}]
[283,"PRD00185","REDUTOR VOLUME MONOI PR 500ML","MONOI",{"$f":"VLOOKUP(B184,Cadastro!#REF!,6,FALSE)","v":{"$error":"#REF!"}},188,null,{"$f":"SUMIF(Lote!$A:$M,$H$1&\"-\"&$B184,Lote!$M:$M)","v":188},{"$f":"SUMIF(Lote!$A:$M,$I$1&\"-\"&$B184,Lote!$M:$M)","v":0},{"$f":"SUMIF(Lote!$A:$M,$J$1&\"-\"&$B184,Lote!$M:$M)","v":0}]
[284,"PRD00186","SH DEEP COLD MONOI PR 1L","MONOI",{"$f":"VLOOKUP(B185,Cadastro!#REF!,6,FALSE)","v":{"$error":"#REF!"}},24,null,{"$f":"SUMIF(Lote!$A:$M,$H$1&\"-\"&$B185,Lote!$M:$M)","v":24},{"$f":"SUMIF(Lote!$A:$M,$I$1&\"-\"&$B185,Lote!$M:$M)","v":0},{"$f":"SUMIF(Lote!$A:$M,$J$1&\"-\"&$B185,Lote!$M:$M)","v":0}]
[285,"PRD00187","SH DEEP COLD MONOI PR 500ML","MONOI",{"$f":"VLOOKUP(B186,Cadastro!#REF!,6,FALSE)","v":{"$error":"#REF!"}},43,null,{"$f":"SUMIF(Lote!$A:$M,$H$1&\"-\"&$B186,Lote!$M:$M)","v":43},{"$f":"SUMIF(Lote!$A:$M,$I$1&\"-\"&$B186,Lote!$M:$M)","v":0},{"$f":"SUMIF(Lote!$A:$M,$J$1&\"-\"&$B186,Lote!$M:$M)","v":0}]
[286,"PRD00188","MONOI TAHITI PR 60ML","MONOI",{"$f":"VLOOKUP(B187,Cadastro!#REF!,6,FALSE)","v":{"$error":"#REF!"}},0,null,{"$f":"SUMIF(Lote!$A:$M,$H$1&\"-\"&$B187,Lote!$M:$M)","v":0},{"$f":"SUMIF(Lote!$A:$M,$I$1&\"-\"&$B187,Lote!$M:$M)","v":0},{"$f":"SUMIF(Lote!$A:$M,$J$1&\"-\"&$B187,Lote!$M:$M)","v":0}]
[287,"PRD00189","REHIDRATANTE MONOI PR 500ML","MONOI",{"$f":"VLOOKUP(B188,Cadastro!#REF!,6,FALSE)","v":{"$error":"#REF!"}},105,null,{"$f":"SUMIF(Lote!$A:$M,$H$1&\"-\"&$B188,Lote!$M:$M)","v":105},{"$f":"SUMIF(Lote!$A:$M,$I$1&\"-\"&$B188,Lote!$M:$M)","v":0},{"$f":"SUMIF(Lote!$A:$M,$J$1&\"-\"&$B188,Lote!$M:$M)","v":0}]
[288,"PRD00190","SH ALTA HID MONOI PR 500ML","MONOI",{"$f":"VLOOKUP(B189,Cadastro!#REF!,6,FALSE)","v":{"$error":"#REF!"}},73,null,{"$f":"SUMIF(Lote!$A:$M,$H$1&\"-\"&$B189,Lote!$M:$M)","v":73},{"$f":"SUMIF(Lote!$A:$M,$I$1&\"-\"&$B189,Lote!$M:$M)","v":0},{"$f":"SUMIF(Lote!$A:$M,$J$1&\"-\"&$B189,Lote!$M:$M)","v":0}]
[289,"PRD00191","COMP FINAL SHOCK3 60G","SHOCK3",{"$f":"VLOOKUP(B190,Cadastro!#REF!,6,FALSE)","v":{"$error":"#REF!"}},93,null,{"$f":"SUMIF(Lote!$A:$M,$H$1&\"-\"&$B190,Lote!$M:$M)","v":93},{"$f":"SUMIF(Lote!$A:$M,$I$1&\"-\"&$B190,Lote!$M:$M)","v":0},{"$f":"SUMIF(Lote!$A:$M,$J$1&\"-\"&$B190,Lote!$M:$M)","v":0}]
[290,"PRD00192","KIT SHOCK3 PR 120ML","SHOCK3",{"$f":"VLOOKUP(B191,Cadastro!#REF!,6,FALSE)","v":{"$error":"#REF!"}},70,null,{"$f":"SUMIF(Lote!$A:$M,$H$1&\"-\"&$B191,Lote!$M:$M)","v":70},{"$f":"SUMIF(Lote!$A:$M,$I$1&\"-\"&$B191,Lote!$M:$M)","v":0},{"$f":"SUMIF(Lote!$A:$M,$J$1&\"-\"&$B191,Lote!$M:$M)","v":0}]
[291,"PRD00193","REGEN NUT SHOCK3 OMEG 500G","SHOCK3",{"$f":"VLOOKUP(B192,Cadastro!#REF!,6,FALSE)","v":{"$error":"#REF!"}},590,null,{"$f":"SUMIF(Lote!$A:$M,$H$1&\"-\"&$B192,Lote!$M:$M)","v":218},{"$f":"SUMIF(Lote!$A:$M,$I$1&\"-\"&$B192,Lote!$M:$M)","v":372},{"$f":"SUMIF(Lote!$A:$M,$J$1&\"-\"&$B192,Lote!$M:$M)","v":0}]
[292,"PRD00194","REGEN SHOCK3 OL COCO 300ML","SHOCK3",{"$f":"VLOOKUP(B193,Cadastro!#REF!,6,FALSE)","v":{"$error":"#REF!"}},48,null,{"$f":"SUMIF(Lote!$A:$M,$H$1&\"-\"&$B193,Lote!$M:$M)","v":48},{"$f":"SUMIF(Lote!$A:$M,$I$1&\"-\"&$B193,Lote!$M:$M)","v":0},{"$f":"SUMIF(Lote!$A:$M,$J$1&\"-\"&$B193,Lote!$M:$M)","v":0}]
[293,"PRD00195","REGENER SHOCK3 P REP 1L","SHOCK3",{"$f":"VLOOKUP(B194,Cadastro!#REF!,6,FALSE)","v":{"$error":"#REF!"}},3,null,{"$f":"SUMIF(Lote!$A:$M,$H$1&\"-\"&$B194,Lote!$M:$M)","v":3},{"$f":"SUMIF(Lote!$A:$M,$I$1&\"-\"&$B194,Lote!$M:$M)","v":0},{"$f":"SUMIF(Lote!$A:$M,$J$1&\"-\"&$B194,Lote!$M:$M)","v":0}]
[294,"PRD00196","REGENER SHOCK3 P REP 300ML","SHOCK3",{"$f":"VLOOKUP(B195,Cadastro!#REF!,6,FALSE)","v":{"$error":"#REF!"}},{"$f":"SUM(G195:J195)","v":268},null,{"$f":"SUMIF(Lote!$A:$M,$H$1&\"-\"&$B195,Lote!$M:$M)","v":2},{"$f":"SUMIF(Lote!$A:$M,$I$1&\"-\"&$B195,Lote!$M:$M)","v":266},{"$f":"SUMIF(Lote!$A:$M,$J$1&\"-\"&$B195,Lote!$M:$M)","v":0}]
[295,"PRD00197","REGENER SHOCK3 P REP 500ML","SHOCK3",{"$f":"VLOOKUP(B196,Cadastro!#REF!,6,FALSE)","v":{"$error":"#REF!"}},531,null,{"$f":"SUMIF(Lote!$A:$M,$H$1&\"-\"&$B196,Lote!$M:$M)","v":149},{"$f":"SUMIF(Lote!$A:$M,$I$1&\"-\"&$B196,Lote!$M:$M)","v":382},{"$f":"SUMIF(Lote!$A:$M,$J$1&\"-\"&$B196,Lote!$M:$M)","v":0}]
[296,"PRD00198","SH SHOCK3 OL COCO PR 300ML","SHOCK3",{"$f":"VLOOKUP(B197,Cadastro!#REF!,6,FALSE)","v":{"$error":"#REF!"}},365,null,{"$f":"SUMIF(Lote!$A:$M,$H$1&\"-\"&$B197,Lote!$M:$M)","v":156},{"$f":"SUMIF(Lote!$A:$M,$I$1&\"-\"&$B197,Lote!$M:$M)","v":209},{"$f":"SUMIF(Lote!$A:$M,$J$1&\"-\"&$B197,Lote!$M:$M)","v":0}]
[297,"PRD00199","SH SHOCK3 PRO REPAIR 1L","SHOCK3",{"$f":"VLOOKUP(B198,Cadastro!#REF!,6,FALSE)","v":{"$error":"#REF!"}},2,null,{"$f":"SUMIF(Lote!$A:$M,$H$1&\"-\"&$B198,Lote!$M:$M)","v":2},{"$f":"SUMIF(Lote!$A:$M,$I$1&\"-\"&$B198,Lote!$M:$M)","v":0},{"$f":"SUMIF(Lote!$A:$M,$J$1&\"-\"&$B198,Lote!$M:$M)","v":0}]
[298,"PRD00200","SH SHOCK3 PRO REPAIR 300ML","SHOCK3",{"$f":"VLOOKUP(B199,Cadastro!#REF!,6,FALSE)","v":{"$error":"#REF!"}},298,null,{"$f":"SUMIF(Lote!$A:$M,$H$1&\"-\"&$B199,Lote!$M:$M)","v":31},{"$f":"SUMIF(Lote!$A:$M,$I$1&\"-\"&$B199,Lote!$M:$M)","v":267},{"$f":"SUMIF(Lote!$A:$M,$J$1&\"-\"&$B199,Lote!$M:$M)","v":0}]
[299,"PRD00201","SH SHOCK3 PRO REPAIR 500ML","SHOCK3",{"$f":"VLOOKUP(B200,Cadastro!#REF!,6,FALSE)","v":{"$error":"#REF!"}},484,null,{"$f":"SUMIF(Lote!$A:$M,$H$1&\"-\"&$B200,Lote!$M:$M)","v":323},{"$f":"SUMIF(Lote!$A:$M,$I$1&\"-\"&$B200,Lote!$M:$M)","v":161},{"$f":"SUMIF(Lote!$A:$M,$J$1&\"-\"&$B200,Lote!$M:$M)","v":0}]
[300,"PRD00203","COMP DISC CONTROLTOX PR 1KG","SHOCK3",{"$f":"VLOOKUP(B201,Cadastro!#REF!,6,FALSE)","v":{"$error":"#REF!"}},216,null,{"$f":"SUMIF(Lote!$A:$M,$H$1&\"-\"&$B201,Lote!$M:$M)","v":45},{"$f":"SUMIF(Lote!$A:$M,$I$1&\"-\"&$B201,Lote!$M:$M)","v":171},{"$f":"SUMIF(Lote!$A:$M,$J$1&\"-\"&$B201,Lote!$M:$M)","v":0}]
[301,"PRD00204","BALM CONTROLTOX PR 1L","SHOCK3",{"$f":"VLOOKUP(B202,Cadastro!#REF!,6,FALSE)","v":{"$error":"#REF!"}},48,null,{"$f":"SUMIF(Lote!$A:$M,$H$1&\"-\"&$B202,Lote!$M:$M)","v":48},{"$f":"SUMIF(Lote!$A:$M,$I$1&\"-\"&$B202,Lote!$M:$M)","v":0},{"$f":"SUMIF(Lote!$A:$M,$J$1&\"-\"&$B202,Lote!$M:$M)","v":0}]
[302,"PRD00208","SH DAYBYDAY CEN 500ML","DAYBYDAY",{"$f":"VLOOKUP(B203,Cadastro!#REF!,6,FALSE)","v":{"$error":"#REF!"}},0,null,{"$f":"SUMIF(Lote!$A:$M,$H$1&\"-\"&$B203,Lote!$M:$M)","v":0},{"$f":"SUMIF(Lote!$A:$M,$I$1&\"-\"&$B203,Lote!$M:$M)","v":0},{"$f":"SUMIF(Lote!$A:$M,$J$1&\"-\"&$B203,Lote!$M:$M)","v":0}]
[303,"PRD00246","REDUTOR DE VOLUME MONOI PR 300ML","MONOI",{"$f":"VLOOKUP(B204,Cadastro!#REF!,6,FALSE)","v":{"$error":"#REF!"}},74,null,{"$f":"SUMIF(Lote!$A:$M,$H$1&\"-\"&$B204,Lote!$M:$M)","v":0},{"$f":"SUMIF(Lote!$A:$M,$I$1&\"-\"&$B204,Lote!$M:$M)","v":74},{"$f":"SUMIF(Lote!$A:$M,$J$1&\"-\"&$B204,Lote!$M:$M)","v":0}]
[304,"PRD00247","SH BRILHO PEROLA MAIS 2,5L","MAISON",{"$f":"VLOOKUP(B205,Cadastro!#REF!,6,FALSE)","v":{"$error":"#REF!"}},21,null,{"$f":"SUMIF(Lote!$A:$M,$H$1&\"-\"&$B205,Lote!$M:$M)","v":21},{"$f":"SUMIF(Lote!$A:$M,$I$1&\"-\"&$B205,Lote!$M:$M)","v":0},{"$f":"SUMIF(Lote!$A:$M,$J$1&\"-\"&$B205,Lote!$M:$M)","v":0}]
[305,"PRD00248","BALS COND DAY BY DAY PROF SER 2,5L","DAYBYDAY",{"$f":"VLOOKUP(B206,Cadastro!#REF!,6,FALSE)","v":{"$error":"#REF!"}},80,null,{"$f":"SUMIF(Lote!$A:$M,$H$1&\"-\"&$B206,Lote!$M:$M)","v":34},{"$f":"SUMIF(Lote!$A:$M,$I$1&\"-\"&$B206,Lote!$M:$M)","v":46},{"$f":"SUMIF(Lote!$A:$M,$J$1&\"-\"&$B206,Lote!$M:$M)","v":0}]
[306,"PRD00249","SH KAIKEN ONIX 1LT","KAIKEN",{"$f":"VLOOKUP(B207,Cadastro!#REF!,6,FALSE)","v":{"$error":"#REF!"}},12,null,{"$f":"SUMIF(Lote!$A:$M,$H$1&\"-\"&$B207,Lote!$M:$M)","v":12},{"$f":"SUMIF(Lote!$A:$M,$I$1&\"-\"&$B207,Lote!$M:$M)","v":0},{"$f":"SUMIF(Lote!$A:$M,$J$1&\"-\"&$B207,Lote!$M:$M)","v":0}]
[307,"PRD00250","MASC KAIKEN ONIX ARGILA VERDE 1LT","KAIKEN",{"$f":"VLOOKUP(B208,Cadastro!#REF!,6,FALSE)","v":{"$error":"#REF!"}},58,null,{"$f":"SUMIF(Lote!$A:$M,$H$1&\"-\"&$B208,Lote!$M:$M)","v":58},{"$f":"SUMIF(Lote!$A:$M,$I$1&\"-\"&$B208,Lote!$M:$M)","v":0},{"$f":"SUMIF(Lote!$A:$M,$J$1&\"-\"&$B208,Lote!$M:$M)","v":0}]
[308,"PRD00251","MASC KAIKEN ONIX TUTANO E CENOURA 1LT","KAIKEN",{"$f":"VLOOKUP(B209,Cadastro!#REF!,6,FALSE)","v":{"$error":"#REF!"}},58,null,{"$f":"SUMIF(Lote!$A:$M,$H$1&\"-\"&$B209,Lote!$M:$M)","v":58},{"$f":"SUMIF(Lote!$A:$M,$I$1&\"-\"&$B209,Lote!$M:$M)","v":0},{"$f":"SUMIF(Lote!$A:$M,$J$1&\"-\"&$B209,Lote!$M:$M)","v":0}]
[309,"PRD00252","MASC KAIKEN ONIX ÓLEO DE AVELÃ 1LT","KAIKEN",{"$f":"VLOOKUP(B210,Cadastro!#REF!,6,FALSE)","v":{"$error":"#REF!"}},31,null,{"$f":"SUMIF(Lote!$A:$M,$H$1&\"-\"&$B210,Lote!$M:$M)","v":31},{"$f":"SUMIF(Lote!$A:$M,$I$1&\"-\"&$B210,Lote!$M:$M)","v":0},{"$f":"SUMIF(Lote!$A:$M,$J$1&\"-\"&$B210,Lote!$M:$M)","v":0}]
[310,"PRD00253","SH MARACUJA E MEL MAISON 2,5L","MAISON",{"$f":"VLOOKUP(B211,Cadastro!#REF!,6,FALSE)","v":{"$error":"#REF!"}},21,null,{"$f":"SUMIF(Lote!$A:$M,$H$1&\"-\"&$B211,Lote!$M:$M)","v":21},{"$f":"SUMIF(Lote!$A:$M,$I$1&\"-\"&$B211,Lote!$M:$M)","v":0},{"$f":"SUMIF(Lote!$A:$M,$J$1&\"-\"&$B211,Lote!$M:$M)","v":0}]
[311,"PRD00254","MASC COND MANUT CROM 300ML","CROMATIC",{"$f":"VLOOKUP(B212,Cadastro!#REF!,6,FALSE)","v":{"$error":"#REF!"}},1,null,{"$f":"SUMIF(Lote!$A:$M,$H$1&\"-\"&$B212,Lote!$M:$M)","v":1},{"$f":"SUMIF(Lote!$A:$M,$I$1&\"-\"&$B212,Lote!$M:$M)","v":0},{"$f":"SUMIF(Lote!$A:$M,$J$1&\"-\"&$B212,Lote!$M:$M)","v":0}]
[312,"PRD00255","RECOND FINAL CROMAT 300ML","CROMATIC",{"$f":"VLOOKUP(B213,Cadastro!#REF!,6,FALSE)","v":{"$error":"#REF!"}},0,null,{"$f":"SUMIF(Lote!$A:$M,$H$1&\"-\"&$B213,Lote!$M:$M)","v":0},{"$f":"SUMIF(Lote!$A:$M,$I$1&\"-\"&$B213,Lote!$M:$M)","v":0},{"$f":"SUMIF(Lote!$A:$M,$J$1&\"-\"&$B213,Lote!$M:$M)","v":0}]
[313,"PRD00256","COMP REC MANTEIG KARITE ET 1KG","ELEMENTOS DA TERRA",{"$f":"VLOOKUP(B214,Cadastro!#REF!,6,FALSE)","v":{"$error":"#REF!"}},118,null,{"$f":"SUMIF(Lote!$A:$M,$H$1&\"-\"&$B214,Lote!$M:$M)","v":118},{"$f":"SUMIF(Lote!$A:$M,$I$1&\"-\"&$B214,Lote!$M:$M)","v":0},{"$f":"SUMIF(Lote!$A:$M,$J$1&\"-\"&$B214,Lote!$M:$M)","v":0}]
[314,"PRD00257","COMP REC OLEO DE ARGAN ET 1KG","ELEMENTOS DA TERRA",{"$f":"VLOOKUP(B215,Cadastro!#REF!,6,FALSE)","v":{"$error":"#REF!"}},135,null,{"$f":"SUMIF(Lote!$A:$M,$H$1&\"-\"&$B215,Lote!$M:$M)","v":15},{"$f":"SUMIF(Lote!$A:$M,$I$1&\"-\"&$B215,Lote!$M:$M)","v":120},{"$f":"SUMIF(Lote!$A:$M,$J$1&\"-\"&$B215,Lote!$M:$M)","v":0}]
[315,"PRD00258","COMP REC OLEO DE OLIVA ET 1KG","ELEMENTOS DA TERRA",{"$f":"VLOOKUP(B216,Cadastro!#REF!,6,FALSE)","v":{"$error":"#REF!"}},119,null,{"$f":"SUMIF(Lote!$A:$M,$H$1&\"-\"&$B216,Lote!$M:$M)","v":119},{"$f":"SUMIF(Lote!$A:$M,$I$1&\"-\"&$B216,Lote!$M:$M)","v":0},{"$f":"SUMIF(Lote!$A:$M,$J$1&\"-\"&$B216,Lote!$M:$M)","v":0}]
[316,"PRD00259","COMP REC OLEO DE TUTANO ET 1KG","ELEMENTOS DA TERRA",{"$f":"VLOOKUP(B217,Cadastro!#REF!,6,FALSE)","v":{"$error":"#REF!"}},168,null,{"$f":"SUMIF(Lote!$A:$M,$H$1&\"-\"&$B217,Lote!$M:$M)","v":50},{"$f":"SUMIF(Lote!$A:$M,$I$1&\"-\"&$B217,Lote!$M:$M)","v":118},{"$f":"SUMIF(Lote!$A:$M,$J$1&\"-\"&$B217,Lote!$M:$M)","v":0}]
[317,"PRD00260","COMP REC OLEO MACADAMIA ET 1KG","ELEMENTOS DA TERRA",{"$f":"VLOOKUP(B218,Cadastro!#REF!,6,FALSE)","v":{"$error":"#REF!"}},119,null,{"$f":"SUMIF(Lote!$A:$M,$H$1&\"-\"&$B218,Lote!$M:$M)","v":119},{"$f":"SUMIF(Lote!$A:$M,$I$1&\"-\"&$B218,Lote!$M:$M)","v":0},{"$f":"SUMIF(Lote!$A:$M,$J$1&\"-\"&$B218,Lote!$M:$M)","v":0}]
[318,"PRD00261","COMP REC QUERATINA ET 1KG","ELEMENTOS DA TERRA",{"$f":"VLOOKUP(B219,Cadastro!#REF!,6,FALSE)","v":{"$error":"#REF!"}},93,null,{"$f":"SUMIF(Lote!$A:$M,$H$1&\"-\"&$B219,Lote!$M:$M)","v":93},{"$f":"SUMIF(Lote!$A:$M,$I$1&\"-\"&$B219,Lote!$M:$M)","v":0},{"$f":"SUMIF(Lote!$A:$M,$J$1&\"-\"&$B219,Lote!$M:$M)","v":0}]
[319,"PRD00262","LEAVE IN DEFRIZ LUMMEM 500ML","LUMMEM",{"$f":"VLOOKUP(B220,Cadastro!#REF!,6,FALSE)","v":{"$error":"#REF!"}},150,null,{"$f":"SUMIF(Lote!$A:$M,$H$1&\"-\"&$B220,Lote!$M:$M)","v":150},{"$f":"SUMIF(Lote!$A:$M,$I$1&\"-\"&$B220,Lote!$M:$M)","v":0},{"$f":"SUMIF(Lote!$A:$M,$J$1&\"-\"&$B220,Lote!$M:$M)","v":0}]
[320,"PRD00263","KIT SMART CALCIO OSMIUM","OSMIIUM",{"$f":"VLOOKUP(B221,Cadastro!#REF!,6,FALSE)","v":{"$error":"#REF!"}},14,null,{"$f":"SUMIF(Lote!$A:$M,$H$1&\"-\"&$B221,Lote!$M:$M)","v":0},{"$f":"SUMIF(Lote!$A:$M,$I$1&\"-\"&$B221,Lote!$M:$M)","v":14},{"$f":"SUMIF(Lote!$A:$M,$J$1&\"-\"&$B221,Lote!$M:$M)","v":0}]
[321,"PRD00264","SH DAM LARANJ ET 250ML","ELEMENTOS DA TERRA",{"$f":"VLOOKUP(B222,Cadastro!#REF!,6,FALSE)","v":{"$error":"#REF!"}},136,null,{"$f":"SUMIF(Lote!$A:$M,$H$1&\"-\"&$B222,Lote!$M:$M)","v":136},{"$f":"SUMIF(Lote!$A:$M,$I$1&\"-\"&$B222,Lote!$M:$M)","v":0},{"$f":"SUMIF(Lote!$A:$M,$J$1&\"-\"&$B222,Lote!$M:$M)","v":0}]
[322,"PRD00265","COND DAM LARANJ ET 250ML","ELEMENTOS DA TERRA",{"$f":"VLOOKUP(B223,Cadastro!#REF!,6,FALSE)","v":{"$error":"#REF!"}},258,null,{"$f":"SUMIF(Lote!$A:$M,$H$1&\"-\"&$B223,Lote!$M:$M)","v":258},{"$f":"SUMIF(Lote!$A:$M,$I$1&\"-\"&$B223,Lote!$M:$M)","v":0},{"$f":"SUMIF(Lote!$A:$M,$J$1&\"-\"&$B223,Lote!$M:$M)","v":0}]
[323,"PRD00266","MASC REVIT DAM LANRANJ ET 500G","ELEMENTOS DA TERRA",{"$f":"VLOOKUP(B224,Cadastro!#REF!,6,FALSE)","v":{"$error":"#REF!"}},140,null,{"$f":"SUMIF(Lote!$A:$M,$H$1&\"-\"&$B224,Lote!$M:$M)","v":140},{"$f":"SUMIF(Lote!$A:$M,$I$1&\"-\"&$B224,Lote!$M:$M)","v":0},{"$f":"SUMIF(Lote!$A:$M,$J$1&\"-\"&$B224,Lote!$M:$M)","v":0}]
[324,"PRD00267","SH PHYS BAUN ET 250ML","ELEMENTOS DA TERRA",{"$f":"VLOOKUP(B225,Cadastro!#REF!,6,FALSE)","v":{"$error":"#REF!"}},263,null,{"$f":"SUMIF(Lote!$A:$M,$H$1&\"-\"&$B225,Lote!$M:$M)","v":263},{"$f":"SUMIF(Lote!$A:$M,$I$1&\"-\"&$B225,Lote!$M:$M)","v":0},{"$f":"SUMIF(Lote!$A:$M,$J$1&\"-\"&$B225,Lote!$M:$M)","v":0}]
[325,"PRD00268","COND PHYS BAUN ET 250ML","ELEMENTOS DA TERRA",{"$f":"VLOOKUP(B226,Cadastro!#REF!,6,FALSE)","v":{"$error":"#REF!"}},202,null,{"$f":"SUMIF(Lote!$A:$M,$H$1&\"-\"&$B226,Lote!$M:$M)","v":202},{"$f":"SUMIF(Lote!$A:$M,$I$1&\"-\"&$B226,Lote!$M:$M)","v":0},{"$f":"SUMIF(Lote!$A:$M,$J$1&\"-\"&$B226,Lote!$M:$M)","v":0}]
[326,"PRD00269","MASC REST PHYS BAUN ET 500G","ELEMENTOS DA TERRA",{"$f":"VLOOKUP(B227,Cadastro!#REF!,6,FALSE)","v":{"$error":"#REF!"}},212,null,{"$f":"SUMIF(Lote!$A:$M,$H$1&\"-\"&$B227,Lote!$M:$M)","v":212},{"$f":"SUMIF(Lote!$A:$M,$I$1&\"-\"&$B227,Lote!$M:$M)","v":0},{"$f":"SUMIF(Lote!$A:$M,$J$1&\"-\"&$B227,Lote!$M:$M)","v":0}]
[327,"PRD00270","SH OLEO DE ARGAN ET 250ML","ELEMENTOS DA TERRA",{"$f":"VLOOKUP(B228,Cadastro!#REF!,6,FALSE)","v":{"$error":"#REF!"}},442,null,{"$f":"SUMIF(Lote!$A:$M,$H$1&\"-\"&$B228,Lote!$M:$M)","v":232},{"$f":"SUMIF(Lote!$A:$M,$I$1&\"-\"&$B228,Lote!$M:$M)","v":210},{"$f":"SUMIF(Lote!$A:$M,$J$1&\"-\"&$B228,Lote!$M:$M)","v":0}]
[328,"PRD00271","COND OLEO DE ARGAN ET 250ML","ELEMENTOS DA TERRA",{"$f":"VLOOKUP(B229,Cadastro!#REF!,6,FALSE)","v":{"$error":"#REF!"}},548,null,{"$f":"SUMIF(Lote!$A:$M,$H$1&\"-\"&$B229,Lote!$M:$M)","v":322},{"$f":"SUMIF(Lote!$A:$M,$I$1&\"-\"&$B229,Lote!$M:$M)","v":226},{"$f":"SUMIF(Lote!$A:$M,$J$1&\"-\"&$B229,Lote!$M:$M)","v":0}]
[329,"PRD00272","MASC HID OLEO ARGAN ET 500G","ELEMENTOS DA TERRA",{"$f":"VLOOKUP(B230,Cadastro!#REF!,6,FALSE)","v":{"$error":"#REF!"}},108,null,{"$f":"SUMIF(Lote!$A:$M,$H$1&\"-\"&$B230,Lote!$M:$M)","v":108},{"$f":"SUMIF(Lote!$A:$M,$I$1&\"-\"&$B230,Lote!$M:$M)","v":0},{"$f":"SUMIF(Lote!$A:$M,$J$1&\"-\"&$B230,Lote!$M:$M)","v":0}]
[330,"PRD00273","SH OLEO DE COCO ET 250ML","ELEMENTOS DA TERRA",{"$f":"VLOOKUP(B231,Cadastro!#REF!,6,FALSE)","v":{"$error":"#REF!"}},272,null,{"$f":"SUMIF(Lote!$A:$M,$H$1&\"-\"&$B231,Lote!$M:$M)","v":272},{"$f":"SUMIF(Lote!$A:$M,$I$1&\"-\"&$B231,Lote!$M:$M)","v":0},{"$f":"SUMIF(Lote!$A:$M,$J$1&\"-\"&$B231,Lote!$M:$M)","v":0}]
[331,"PRD00274","COND OLEO DE COCO ET 250ML","ELEMENTOS DA TERRA",{"$f":"VLOOKUP(B232,Cadastro!#REF!,6,FALSE)","v":{"$error":"#REF!"}},596,null,{"$f":"SUMIF(Lote!$A:$M,$H$1&\"-\"&$B232,Lote!$M:$M)","v":371},{"$f":"SUMIF(Lote!$A:$M,$I$1&\"-\"&$B232,Lote!$M:$M)","v":225},{"$f":"SUMIF(Lote!$A:$M,$J$1&\"-\"&$B232,Lote!$M:$M)","v":0}]
[332,"PRD00275","MASC OLEO DE COCO ET 500G","ELEMENTOS DA TERRA",{"$f":"VLOOKUP(B233,Cadastro!#REF!,6,FALSE)","v":{"$error":"#REF!"}},173,null,{"$f":"SUMIF(Lote!$A:$M,$H$1&\"-\"&$B233,Lote!$M:$M)","v":173},{"$f":"SUMIF(Lote!$A:$M,$I$1&\"-\"&$B233,Lote!$M:$M)","v":0},{"$f":"SUMIF(Lote!$A:$M,$J$1&\"-\"&$B233,Lote!$M:$M)","v":0}]
[333,"PRD00276","SH EXT MANDIOC ET 250ML","ELEMENTOS DA TERRA",{"$f":"VLOOKUP(B234,Cadastro!#REF!,6,FALSE)","v":{"$error":"#REF!"}},232,null,{"$f":"SUMIF(Lote!$A:$M,$H$1&\"-\"&$B234,Lote!$M:$M)","v":232},{"$f":"SUMIF(Lote!$A:$M,$I$1&\"-\"&$B234,Lote!$M:$M)","v":0},{"$f":"SUMIF(Lote!$A:$M,$J$1&\"-\"&$B234,Lote!$M:$M)","v":0}]
[334,"PRD00277","COND EXT MANDIOC ET 250ML","ELEMENTOS DA TERRA",{"$f":"VLOOKUP(B235,Cadastro!#REF!,6,FALSE)","v":{"$error":"#REF!"}},298,null,{"$f":"SUMIF(Lote!$A:$M,$H$1&\"-\"&$B235,Lote!$M:$M)","v":298},{"$f":"SUMIF(Lote!$A:$M,$I$1&\"-\"&$B235,Lote!$M:$M)","v":0},{"$f":"SUMIF(Lote!$A:$M,$J$1&\"-\"&$B235,Lote!$M:$M)","v":0}]
[335,"PRD00278","MASC EXT MANDIOC ET 500G","ELEMENTOS DA TERRA",{"$f":"VLOOKUP(B236,Cadastro!#REF!,6,FALSE)","v":{"$error":"#REF!"}},259,null,{"$f":"SUMIF(Lote!$A:$M,$H$1&\"-\"&$B236,Lote!$M:$M)","v":49},{"$f":"SUMIF(Lote!$A:$M,$I$1&\"-\"&$B236,Lote!$M:$M)","v":210},{"$f":"SUMIF(Lote!$A:$M,$J$1&\"-\"&$B236,Lote!$M:$M)","v":0}]
[336,"PRD00279","SH GREEN THERAPY OJON 500 ML","OJON",{"$f":"VLOOKUP(B237,Cadastro!#REF!,6,FALSE)","v":{"$error":"#REF!"}},54,null,{"$f":"SUMIF(Lote!$A:$M,$H$1&\"-\"&$B237,Lote!$M:$M)","v":54},{"$f":"SUMIF(Lote!$A:$M,$I$1&\"-\"&$B237,Lote!$M:$M)","v":0},{"$f":"SUMIF(Lote!$A:$M,$J$1&\"-\"&$B237,Lote!$M:$M)","v":0}]
[337,"PRD00280","MASC GREEN THERAPY OJON 500 ML","OJON",{"$f":"VLOOKUP(B238,Cadastro!#REF!,6,FALSE)","v":{"$error":"#REF!"}},29,null,{"$f":"SUMIF(Lote!$A:$M,$H$1&\"-\"&$B238,Lote!$M:$M)","v":29},{"$f":"SUMIF(Lote!$A:$M,$I$1&\"-\"&$B238,Lote!$M:$M)","v":0},{"$f":"SUMIF(Lote!$A:$M,$J$1&\"-\"&$B238,Lote!$M:$M)","v":0}]
[338,"PRD00281","COND QUERATINA SOS 1LT ET","ELEMENTOS DA TERRA",{"$f":"VLOOKUP(B239,Cadastro!#REF!,6,FALSE)","v":{"$error":"#REF!"}},0,null,{"$f":"SUMIF(Lote!$A:$M,$H$1&\"-\"&$B239,Lote!$M:$M)","v":0},{"$f":"SUMIF(Lote!$A:$M,$I$1&\"-\"&$B239,Lote!$M:$M)","v":0},{"$f":"SUMIF(Lote!$A:$M,$J$1&\"-\"&$B239,Lote!$M:$M)","v":0}]
[339,"PRD00282","COND MACADÂMIA SOS 1LT ET","ELEMENTOS DA TERRA",{"$f":"VLOOKUP(B240,Cadastro!#REF!,6,FALSE)","v":{"$error":"#REF!"}},0,null,{"$f":"SUMIF(Lote!$A:$M,$H$1&\"-\"&$B240,Lote!$M:$M)","v":0},{"$f":"SUMIF(Lote!$A:$M,$I$1&\"-\"&$B240,Lote!$M:$M)","v":0},{"$f":"SUMIF(Lote!$A:$M,$J$1&\"-\"&$B240,Lote!$M:$M)","v":0}]
[340,"PRD00283","SH REVITALIZANTE GREEN THERAPY 1LT","OUTROS",{"$f":"VLOOKUP(B241,Cadastro!#REF!,6,FALSE)","v":{"$error":"#REF!"}},0,null,{"$f":"SUMIF(Lote!$A:$M,$H$1&\"-\"&$B241,Lote!$M:$M)","v":0},{"$f":"SUMIF(Lote!$A:$M,$I$1&\"-\"&$B241,Lote!$M:$M)","v":0},{"$f":"SUMIF(Lote!$A:$M,$J$1&\"-\"&$B241,Lote!$M:$M)","v":0}]
[341,"PRD00284","REGEN INT 4X1 ET 15ML","ELEMENTOS DA TERRA",{"$f":"VLOOKUP(B242,Cadastro!#REF!,6,FALSE)","v":{"$error":"#REF!"}},38,null,{"$f":"SUMIF(Lote!$A:$M,$H$1&\"-\"&$B242,Lote!$M:$M)","v":38},{"$f":"SUMIF(Lote!$A:$M,$I$1&\"-\"&$B242,Lote!$M:$M)","v":0},{"$f":"SUMIF(Lote!$A:$M,$J$1&\"-\"&$B242,Lote!$M:$M)","v":0}]
[342,"PRD00285","HENNA PRETO CORALY","CORALY",{"$f":"VLOOKUP(B243,Cadastro!#REF!,6,FALSE)","v":{"$error":"#REF!"}},0,null,{"$f":"SUMIF(Lote!$A:$M,$H$1&\"-\"&$B243,Lote!$M:$M)","v":0},{"$f":"SUMIF(Lote!$A:$M,$I$1&\"-\"&$B243,Lote!$M:$M)","v":0},{"$f":"SUMIF(Lote!$A:$M,$J$1&\"-\"&$B243,Lote!$M:$M)","v":0}]
[343,"PRD00286","HENNA CASTANHO ESCURO CORALY","CORALY",{"$f":"VLOOKUP(B244,Cadastro!#REF!,6,FALSE)","v":{"$error":"#REF!"}},0,null,{"$f":"SUMIF(Lote!$A:$M,$H$1&\"-\"&$B244,Lote!$M:$M)","v":0},{"$f":"SUMIF(Lote!$A:$M,$I$1&\"-\"&$B244,Lote!$M:$M)","v":0},{"$f":"SUMIF(Lote!$A:$M,$J$1&\"-\"&$B244,Lote!$M:$M)","v":0}]
[344,"PRD00287","SPORTELLI - SHAMPOO ÓLEO DE OJON E QUERATINA 1L","N.APLICA",{"$f":"VLOOKUP(B245,Cadastro!#REF!,6,FALSE)","v":{"$error":"#REF!"}},0,null,{"$f":"SUMIF(Lote!$A:$M,$H$1&\"-\"&$B245,Lote!$M:$M)","v":0},{"$f":"SUMIF(Lote!$A:$M,$I$1&\"-\"&$B245,Lote!$M:$M)","v":0},{"$f":"SUMIF(Lote!$A:$M,$J$1&\"-\"&$B245,Lote!$M:$M)","v":0}]
[345,"PRD00288","SPORTELLI FINALIZADOR LEAVE-IN MULTIFUNCIONAL 150ML","N.APLICA",{"$f":"VLOOKUP(B246,Cadastro!#REF!,6,FALSE)","v":{"$error":"#REF!"}},0,null,{"$f":"SUMIF(Lote!$A:$M,$H$1&\"-\"&$B246,Lote!$M:$M)","v":0},{"$f":"SUMIF(Lote!$A:$M,$I$1&\"-\"&$B246,Lote!$M:$M)","v":0},{"$f":"SUMIF(Lote!$A:$M,$J$1&\"-\"&$B246,Lote!$M:$M)","v":0}]
[346,"PRD00289","SPORTELLI LEAVE-IN - ÓLEO DE OJON E QUERATINA 500ML","N.APLICA",{"$f":"VLOOKUP(B247,Cadastro!#REF!,6,FALSE)","v":{"$error":"#REF!"}},0,null,{"$f":"SUMIF(Lote!$A:$M,$H$1&\"-\"&$B247,Lote!$M:$M)","v":0},{"$f":"SUMIF(Lote!$A:$M,$I$1&\"-\"&$B247,Lote!$M:$M)","v":0},{"$f":"SUMIF(Lote!$A:$M,$J$1&\"-\"&$B247,Lote!$M:$M)","v":0}]
[347,"PRD00290","SPORTELLI LEAVE-IN - ÓLEO DE OJON E QUERATINA 300ML","N.APLICA",{"$f":"VLOOKUP(B248,Cadastro!#REF!,6,FALSE)","v":{"$error":"#REF!"}},0,null,{"$f":"SUMIF(Lote!$A:$M,$H$1&\"-\"&$B248,Lote!$M:$M)","v":0},{"$f":"SUMIF(Lote!$A:$M,$I$1&\"-\"&$B248,Lote!$M:$M)","v":0},{"$f":"SUMIF(Lote!$A:$M,$J$1&\"-\"&$B248,Lote!$M:$M)","v":0}]
[348,"PRD00291","SPORTELLI - SHAMPOO ÓLEO DE OJON E QUERATINA 300ML","N.APLICA",{"$f":"VLOOKUP(B249,Cadastro!#REF!,6,FALSE)","v":{"$error":"#REF!"}},0,null,{"$f":"SUMIF(Lote!$A:$M,$H$1&\"-\"&$B249,Lote!$M:$M)","v":0},{"$f":"SUMIF(Lote!$A:$M,$I$1&\"-\"&$B249,Lote!$M:$M)","v":0},{"$f":"SUMIF(Lote!$A:$M,$J$1&\"-\"&$B249,Lote!$M:$M)","v":0}]
[349,"PRD00292","SPORTELLI - MÁSCARA ÓLEO DE OJON E QUERATINA 300ML","N.APLICA",{"$f":"VLOOKUP(B250,Cadastro!#REF!,6,FALSE)","v":{"$error":"#REF!"}},0,null,{"$f":"SUMIF(Lote!$A:$M,$H$1&\"-\"&$B250,Lote!$M:$M)","v":0},{"$f":"SUMIF(Lote!$A:$M,$I$1&\"-\"&$B250,Lote!$M:$M)","v":0},{"$f":"SUMIF(Lote!$A:$M,$J$1&\"-\"&$B250,Lote!$M:$M)","v":0}]
[350,"PRD00293","SPORTELLI - MÁSCARA ÓLEO DE OJON E QUERATINA 1L","N.APLICA",{"$f":"VLOOKUP(B251,Cadastro!#REF!,6,FALSE)","v":{"$error":"#REF!"}},0,null,{"$f":"SUMIF(Lote!$A:$M,$H$1&\"-\"&$B251,Lote!$M:$M)","v":0},{"$f":"SUMIF(Lote!$A:$M,$I$1&\"-\"&$B251,Lote!$M:$M)","v":0},{"$f":"SUMIF(Lote!$A:$M,$J$1&\"-\"&$B251,Lote!$M:$M)","v":0}]
[351,"PRD00294","HENNA MARROM CHOCOLATE CORALY","CORALY",{"$f":"VLOOKUP(B252,Cadastro!#REF!,6,FALSE)","v":{"$error":"#REF!"}},0,null,{"$f":"SUMIF(Lote!$A:$M,$H$1&\"-\"&$B252,Lote!$M:$M)","v":0},{"$f":"SUMIF(Lote!$A:$M,$I$1&\"-\"&$B252,Lote!$M:$M)","v":0},{"$f":"SUMIF(Lote!$A:$M,$J$1&\"-\"&$B252,Lote!$M:$M)","v":0}]
[352,"PRD00295","HENNA LOURO CLARO CORALY","CORALY",{"$f":"VLOOKUP(B253,Cadastro!#REF!,6,FALSE)","v":{"$error":"#REF!"}},0,null,{"$f":"SUMIF(Lote!$A:$M,$H$1&\"-\"&$B253,Lote!$M:$M)","v":0},{"$f":"SUMIF(Lote!$A:$M,$I$1&\"-\"&$B253,Lote!$M:$M)","v":0},{"$f":"SUMIF(Lote!$A:$M,$J$1&\"-\"&$B253,Lote!$M:$M)","v":0}]
[353,"PRD00296","HENNA MARROM CLARO CORALY","CORALY",{"$f":"VLOOKUP(B254,Cadastro!#REF!,6,FALSE)","v":{"$error":"#REF!"}},0,null,{"$f":"SUMIF(Lote!$A:$M,$H$1&\"-\"&$B254,Lote!$M:$M)","v":0},{"$f":"SUMIF(Lote!$A:$M,$I$1&\"-\"&$B254,Lote!$M:$M)","v":0},{"$f":"SUMIF(Lote!$A:$M,$J$1&\"-\"&$B254,Lote!$M:$M)","v":0}]
[354,"PRD00297","HENNA CASTANHO MÉDIO CORALY","CORALY",{"$f":"VLOOKUP(B255,Cadastro!#REF!,6,FALSE)","v":{"$error":"#REF!"}},0,null,{"$f":"SUMIF(Lote!$A:$M,$H$1&\"-\"&$B255,Lote!$M:$M)","v":0},{"$f":"SUMIF(Lote!$A:$M,$I$1&\"-\"&$B255,Lote!$M:$M)","v":0},{"$f":"SUMIF(Lote!$A:$M,$J$1&\"-\"&$B255,Lote!$M:$M)","v":0}]
[355,"PRD00298","CR ALISANTE SODIO OSMIUM 1KG","OSMIIUM",{"$f":"VLOOKUP(B256,Cadastro!#REF!,6,FALSE)","v":{"$error":"#REF!"}},7,null,{"$f":"SUMIF(Lote!$A:$M,$H$1&\"-\"&$B256,Lote!$M:$M)","v":7},{"$f":"SUMIF(Lote!$A:$M,$I$1&\"-\"&$B256,Lote!$M:$M)","v":0},{"$f":"SUMIF(Lote!$A:$M,$J$1&\"-\"&$B256,Lote!$M:$M)","v":0}]
[356,"PRD00299","HENNA CASTANHO CLARO CORALY","CORALY",{"$f":"VLOOKUP(B257,Cadastro!#REF!,6,FALSE)","v":{"$error":"#REF!"}},0,null,{"$f":"SUMIF(Lote!$A:$M,$H$1&\"-\"&$B257,Lote!$M:$M)","v":0},{"$f":"SUMIF(Lote!$A:$M,$I$1&\"-\"&$B257,Lote!$M:$M)","v":0},{"$f":"SUMIF(Lote!$A:$M,$J$1&\"-\"&$B257,Lote!$M:$M)","v":0}]
[357,"PRD00301","MASCARA MATIZADORA NC 300ML","MATIZADORES",{"$f":"VLOOKUP(B258,Cadastro!#REF!,6,FALSE)","v":{"$error":"#REF!"}},186,null,{"$f":"SUMIF(Lote!$A:$M,$H$1&\"-\"&$B258,Lote!$M:$M)","v":186},{"$f":"SUMIF(Lote!$A:$M,$I$1&\"-\"&$B258,Lote!$M:$M)","v":0},{"$f":"SUMIF(Lote!$A:$M,$J$1&\"-\"&$B258,Lote!$M:$M)","v":0}]
[358,"PRD00302","LIQUIDO ATIVADOR OSMIUM 500","OSMIUM",{"$f":"VLOOKUP(B259,Cadastro!#REF!,6,FALSE)","v":{"$error":"#REF!"}},{"$f":"SUM(G259:J259)","v":71},null,{"$f":"SUMIF(Lote!$A:$M,$H$1&\"-\"&$B259,Lote!$M:$M)","v":0},{"$f":"SUMIF(Lote!$A:$M,$I$1&\"-\"&$B259,Lote!$M:$M)","v":71},{"$f":"SUMIF(Lote!$A:$M,$J$1&\"-\"&$B259,Lote!$M:$M)","v":0}]

{"sheet":"Lote","index":3,"n_rows":278,"n_cols":14,"rows_kept":278,"cut":false,"hidden":false,"merged":[]}
["unificar","CodSeq","Data","LocalEstoque","CodigoInterno","CodigoProduto","NomeProduto","LinhaProduto","CodigoLote","LoteProduto","DataValidade","ValidadeMesAno","EstoqueProduto","StatusValidade"]
["Venda-PRD00201",375,"21/04/2025","Venda",299,"PRD00201","SH SHOCK3 PRO REPAIR 500ML","SHOCK3",277,"0901250002","31/01/2028","01/28",214,""]
["Venda-PRD00193",374,"21/04/2025","Venda",291,"PRD00193","REGEN NUT SHOCK3 OMEG 500G","SHOCK3",276,"0210240002","31/10/2027","10/27",218,""]
["Retrabalho-PRD00102",304,"17/04/2025","Retrabalho",200,"PRD00102","T NC 9.00 L CLARIS NATURAL 60G","TINTURAS",275,"A141818","31/01/2025","01/25",76,""]
["Retrabalho-PRD00110",303,"17/04/2025","Retrabalho",208,"PRD00110","T NC 90.01 PRATA 60G","TINTURAS",274,"13032014","31/03/2023","03/23",48,""]
["Retrabalho-PRD00040",302,"17/04/2025","Retrabalho",138,"PRD00040","T NC 11.11 L CLARIS PL INT 60G","TINTURAS",273,"081120220013","08/11/2024","11/24",179,""]
["Reposição-PRD00053",301,"17/04/2025","Reposição",151,"PRD00053","T NC 5.0 CAST CL ESSENCE 60G","TINTURAS",272,"2006240014","30/06/2027","06/27",216,""]
["Reposição-PRD00047",300,"17/04/2025","Reposição",145,"PRD00047","T NC 3.0 CAST ESC ESSENCE 60G","TINTURAS",271,"0406240005","30/06/2026","06/26",245,""]
["Reposição-PRD00036",299,"17/04/2025","Reposição",134,"PRD00036","T NC 1.0 PRETO ESSENCE 60G","TINTURAS",270,"19122023159","19/12/2026","12/26",100,""]
["Retrabalho-PRD00106",298,"17/04/2025","Retrabalho",204,"PRD00106","T NC 9.1 L MT CL ACZ 60G","TINTURAS",269,"03112022008","03/11/2024","11/24",397,""]
["Retrabalho-PRD00103",297,"17/04/2025","Retrabalho",201,"PRD00103","T NC 9.01 L CLARIS ACZ 60G","TINTURAS",268,"2701210026","31/01/2024","01/24",237,""]
["Retrabalho-PRD00096",296,"17/04/2025","Retrabalho",194,"PRD00096","T NC 8.26 MARSALA 60G","TINTURAS",267,"0911202200116","09/11/2024","11/24",38,""]
["Reposição-PRD00096",295,"17/04/2025","Reposição",194,"PRD00096","T NC 8.26 MARSALA 60G","TINTURAS",266,"23062023052","31/12/2026","12/26",949,""]
["Retrabalho-PRD00095",294,"17/04/2025","Retrabalho",193,"PRD00095","T NC 8.1 L CL ACZ 60G","TINTURAS",265,"071120220011","07/11/2024","11/24",439,""]
["Retrabalho-PRD00089",293,"17/04/2025","Retrabalho",187,"PRD00089","T NC 7.7 CHOCOLATE CL 60G","TINTURAS",264,"081120220014","08/11/2024","11/24",112,""]
["Retrabalho-PRD00081",292,"17/04/2025","Retrabalho",179,"PRD00081","T NC 7.3 L MD DOUR 60G","TINTURAS",263,"01112022006","01/11/2024","11/24",279,""]
["Retrabalho-PRD00075",291,"17/04/2025","Retrabalho",173,"PRD00075","T NC 6.7 CHOCOLATE ESSENCE 60G","TINTURAS",262,"31102023005","31/10/2024","10/24",206,""]
["Retrabalho-PRD00074",290,"17/04/2025","Retrabalho",172,"PRD00074","T NC 6.66 L ESC VERM INT 60G","TINTURAS",261,"111120220020","11/11/2024","11/24",593,""]
["Reposição-PRD00073",289,"17/04/2025","Reposição",171,"PRD00073","T NC 6.64 L ESC VER ACOB 60G","TINTURAS",260,"K141518","31/01/2027","01/27",45,""]
["Retrabalho-PRD00054",288,"17/04/2025","Retrabalho",152,"PRD00054","T NC 5.1 CAST CL ACZ ESSEN 60G","TINTURAS",259,"0911202200115","09/11/2024","11/24",133,""]
["Retrabalho-PRD00050",287,"17/04/2025","Retrabalho",148,"PRD00050","T NC 4.5 CAST MD ACAJU 60G","TINTURAS",258,"3009210047","30/09/2024","09/24",1493,""]
["Venda-PRD00252",286,"17/04/2025","Venda",309,"PRD00252","MASC KAIKEN ONIX ÓLEO DE AVELÃ 1LT","KAIKEN",257,"10072023059","10/07/2026","07/26",31,""]
["Venda-PRD00250",285,"17/04/2025","Venda",307,"PRD00250","MASC KAIKEN ONIX ARGILA VERDE 1LT","KAIKEN",256,"10072023058","10/07/2026","07/26",58,""]
["Venda-PRD00249",284,"17/04/2025","Venda",306,"PRD00249","SH KAIKEN ONIX 1LT","KAIKEN",255,"1204240017","30/04/2027","04/27",12,""]
["Venda-PRD00251",283,"17/04/2025","Venda",308,"PRD00251","MASC KAIKEN ONIX TUTANO E CENOURA 1LT","KAIKEN",254,"10072023060","10/07/2026","07/26",58,""]
["Venda-PRD00034",282,"17/04/2025","Venda",132,"PRD00034","KIT ULTRAPLEX NUTRA COLOR","ULTRAPLEX",253,"15012024177","31/01/2027","01/27",220,""]
["Venda-PRD00194",281,"17/04/2025","Venda",292,"PRD00194","REGEN SHOCK3 OL COCO 300ML","SHOCK3",252,"0305240005","31/05/2027","05/27",48,""]
["Venda-PRD00198",280,"17/04/2025","Venda",296,"PRD00198","SH SHOCK3 OL COCO PR 300ML","SHOCK3",251,"0612240006","31/12/2027","12/27",155,""]
["Venda-PRD00198",279,"17/04/2025","Venda",296,"PRD00198","SH SHOCK3 OL COCO PR 300ML","SHOCK3",250,"0305240006","31/05/2028","05/28",1,""]
["Venda-PRD00203",278,"17/04/2025","Venda",300,"PRD00203","COMP DISC CONTROLTOX PR 1KG","SHOCK3",249,"0402250002","29/02/2028","02/28",45,""]
["Venda-PRD00204",277,"17/04/2025","Venda",301,"PRD00204","BALM CONTROLTOX PR 1L","SHOCK3",248,"05102023116","05/10/2027","10/27",48,""]
["Venda-PRD00144",276,"17/04/2025","Venda",242,"PRD00144","SH INDICADOR OSMIUM FL 1L","OSMIIUM",247,"03052023016","03/05/2026","05/26",115,""]
["Venda-PRD00140",275,"17/04/2025","Venda",238,"PRD00140","CR HID E NEUT OSM FLEX 1KG","OSMIIUM",246,"1111240006","30/11/2027","11/27",33,""]
["Venda-PRD00141",274,"17/04/2025","Venda",239,"PRD00141","CR PROTETOR OSM FLEX 100G","OSMIIUM",245,"0901180028","31/03/2027","03/27",3,""]
["Venda-PRD00145",273,"17/04/2025","Venda",243,"PRD00145","SOS ADVANCED OS FLEX 300ML","OSMIIUM",244,"27042023015","27/04/2026","04/26",55,""]
["Venda-PRD00142",272,"17/04/2025","Venda",240,"PRD00142","LIQUIDO ATIVADOR OSMIUM 1L","OSMIIUM",243,"2003250021","31/03/2028","03/28",27,""]
["Venda-PRD00139",271,"17/04/2025","Venda",237,"PRD00139","CR BASE CALCIO OSMIUM 2KG","OSMIIUM",242,"0602250003","29/02/2028","02/28",31,""]
["Venda-PRD00298",270,"17/04/2025","Venda",355,"PRD00298","CR ALISANTE SODIO OSMIUM 1KG","OSMIIUM",241,"0405240078","31/05/2026","05/26",7,""]
["Venda-PRD00152",269,"17/04/2025","Venda",250,"PRD00152","MASC COND CACHOS OSM 500ML","OSMIIUM",240,"1204240012","30/04/2027","04/27",121,""]
["Venda-PRD00148",268,"17/04/2025","Venda",246,"PRD00148","MASC COND CACHOS OSM 300ML","OSMIIUM",239,"21122023165","26/12/2026","12/26",2,""]
["Venda-PRD00148",267,"17/04/2025","Venda",246,"PRD00148","MASC COND CACHOS OSM 300ML","OSMIIUM",238,"1705240021","31/05/2027","05/27",100,""]
["Venda-PRD00001",266,"17/04/2025","Venda",101,"PRD00001","KERATIN BALM CROMAT 500ML","CROMATIC",237,"2105240023","31/05/2027","05/27",60,""]
["Venda-PRD00003",265,"17/04/2025","Venda",103,"PRD00003","KERATIN SH CROMATIC 500ML","CROMATIC",236,"13122023154","13/12/2026","12/26",20,""]
["Venda-PRD00254",264,"17/04/2025","Venda",311,"PRD00254","MASC COND MANUT CROM 300ML","CROMATIC",235,"1207160027","31/07/2026","07/26",1,""]
["Venda-PRD00002",263,"17/04/2025","Venda",102,"PRD00002","KERATIN SEALING CROMATIC 500ML","CROMATIC",234,"29082023094","29/08/2027","08/27",75,""]
["Quarentena-PRD00167",262,"16/04/2025","Quarentena",265,"PRD00167","SH BRILHO PEROLA MAIS 5L","MAISON",233,"2803250003","31/03/2028","03/28",22,""]
["Venda-PRD00006",261,"16/04/2025","Venda",106,"PRD00006","SH DAYBYDAY CEN 500ML","DAYBYDAY",232,"1509210022","30/09/2026","09/26",2,""]
["Venda-PRD00006",260,"16/04/2025","Venda",106,"PRD00006","SH DAYBYDAY CEN 500ML","DAYBYDAY",231,"2205240028","31/05/2028","05/28",9,""]
["Venda-PRD00007",259,"16/04/2025","Venda",107,"PRD00007","MASC REVIT DAYBYDAY CEN 500G","DAYBYDAY",230,"2608240024","31/08/2027","08/27",462,""]
["Venda-PRD00173",258,"16/04/2025","Venda",271,"PRD00173","FINAL OL OJON M PLU 500ML","MAISON",229,"2003240031","31/03/2027","03/27",10,""]
["Venda-PRD00199",233,"15/04/2025","Venda",297,"PRD00199","SH SHOCK3 PRO REPAIR 1L","SHOCK3",228,"2602240017","28/02/2027","02/27",2,""]
["Venda-PRD00195",232,"15/04/2025","Venda",293,"PRD00195","REGENER SHOCK3 P REP 1L","SHOCK3",227,"2102240011","28/02/2027","02/27",2,""]
["Venda-PRD00195",231,"15/04/2025","Venda",293,"PRD00195","REGENER SHOCK3 P REP 1L","SHOCK3",226,"2204240023","30/04/2027","04/27",1,""]
["Venda-PRD00192",230,"15/04/2025","Venda",290,"PRD00192","KIT SHOCK3 PR 120ML","SHOCK3",225,"1909240024","30/09/2027","09/27",70,""]
["Venda-PRD00196",229,"15/04/2025","Venda",294,"PRD00196","REGENER SHOCK3 P REP 300ML","SHOCK3",224,"2204240023","30/04/2027","04/27",2,""]
["Venda-PRD00201",228,"15/04/2025","Venda",299,"PRD00201","SH SHOCK3 PRO REPAIR 500ML","SHOCK3",223,"1812240015","31/12/2027","12/27",3,""]
["Venda-PRD00200",227,"15/04/2025","Venda",298,"PRD00200","SH SHOCK3 PRO REPAIR 300ML","SHOCK3",222,"2703240036","31/03/2027","03/27",25,""]
["Venda-PRD00200",226,"15/04/2025","Venda",298,"PRD00200","SH SHOCK3 PRO REPAIR 300ML","SHOCK3",221,"0305240002","31/05/2027","05/27",5,""]
["Venda-PRD00200",225,"15/04/2025","Venda",298,"PRD00200","SH SHOCK3 PRO REPAIR 300ML","SHOCK3",220,"2602240017","28/02/2027","02/27",1,""]
["Venda-PRD00191",224,"15/04/2025","Venda",289,"PRD00191","COMP FINAL SHOCK3 60G","SHOCK3",219,"1007240009","31/07/2027","07/27",93,""]
["Venda-PRD00014",223,"15/04/2025","Venda",113,"PRD00014","BLINDAGEM NANO REDUT PR 1L","SHOCK3",218,"0703250003","31/03/2028","03/28",81,""]
["Venda-PRD00014",222,"15/04/2025","Venda",113,"PRD00014","BLINDAGEM NANO REDUT PR 1L","SHOCK3",217,"2904240030","30/04/2027","04/27",1,""]
["Venda-PRD00190",221,"15/04/2025","Venda",288,"PRD00190","SH ALTA HID MONOI PR 500ML","MONOI",216,"1308240012","31/08/2027","08/27",73,""]
["Venda-PRD00184",220,"15/04/2025","Venda",282,"PRD00184","REDUTOR VOLUME MONOI PR 1L","MONOI",215,"08052023020","08/05/2026","05/26",4,""]
["Venda-PRD00186",219,"15/04/2025","Venda",284,"PRD00186","SH DEEP COLD MONOI PR 1L","MONOI",214,"1801240003","31/01/2027","01/27",24,""]
["Venda-PRD00185",218,"15/04/2025","Venda",283,"PRD00185","REDUTOR VOLUME MONOI PR 500ML","MONOI",213,"2911240015","30/11/2027","11/27",188,""]
["Venda-PRD00183",217,"15/04/2025","Venda",281,"PRD00183","FLUIDO FINA MONOI PR 500ML","MONOI",212,"2701250012","31/01/2028","01/28",97,""]
["Venda-PRD00187",216,"15/04/2025","Venda",285,"PRD00187","SH DEEP COLD MONOI PR 500ML","MONOI",211,"0304240002","30/04/2027","04/27",43,""]
["Venda-PRD00189",215,"15/04/2025","Venda",287,"PRD00189","REHIDRATANTE MONOI PR 500ML","MONOI",210,"1308240013","31/08/2027","08/27",105,""]
["Venda-PRD00005",214,"15/04/2025","Venda",105,"PRD00005","MASC REG DAYBYDAY CAMOM 500G","DAYBYDAY",209,"0209240002","30/09/2027","09/27",76,""]
["Venda-PRD00004",213,"15/04/2025","Venda",104,"PRD00004","SH DAYBYDAY CAMOMILA 500ML","DAYBYDAY",208,"0409240008","30/09/2027","09/27",121,""]
["Venda-PRD00004",212,"15/04/2025","Venda",104,"PRD00004","SH DAYBYDAY CAMOMILA 500ML","DAYBYDAY",207,"07062023040","30/09/2026","09/26",0,""]
["Venda-PRD00009",211,"15/04/2025","Venda",109,"PRD00009","MASC COND DAYBYDAY ABAC 500G","DAYBYDAY",206,"1610240011","31/10/2027","10/27",144,""]
["Venda-PRD00009",210,"15/04/2025","Venda",109,"PRD00009","MASC COND DAYBYDAY ABAC 500G","DAYBYDAY",205,"0410240003","31/10/2027","10/27",2,""]
["Venda-PRD00020",209,"15/04/2025","Venda",119,"PRD00020","SH MATIZADOR NC 300ML","MATIZADORES",204,"121220220010","31/12/2026","12/26",267,""]
["Venda-PRD00301",208,"15/04/2025","Venda",357,"PRD00301","MASCARA MATIZADORA NC 300ML","MATIZADORES",203,"2403250024","31/03/2028","03/28",186,""]
["Venda-PRD00151",207,"15/04/2025","Venda",249,"PRD00151","GLOSS MOD CACHOS OSM 500ML","OSMIIUM",202,"0208240008","31/08/2027","08/27",189,""]
["Venda-PRD00147",206,"15/04/2025","Venda",245,"PRD00147","GLOSS MOD CACHOS OSM 300ML","OSMIIUM",201,"0305240003","31/05/2027","05/27",10,""]
["Venda-PRD00147",205,"15/04/2025","Venda",245,"PRD00147","GLOSS MOD CACHOS OSM 300ML","OSMIIUM",200,"02012024166","31/01/2027","01/27",4,""]
["Venda-PRD00147",204,"15/04/2025","Venda",245,"PRD00147","GLOSS MOD CACHOS OSM 300ML","OSMIIUM",199,"08052023019","31/05/2026","05/26",5,""]
["Venda-PRD00150",203,"15/04/2025","Venda",248,"PRD00150","FLUIDO FIX CACHO OSM 500ML","OSMIIUM",198,"1212240011","31/12/2027","12/27",152,""]
["Venda-PRD00146",202,"15/04/2025","Venda",244,"PRD00146","FLUIDO FIX CACHO OSM 300ML","OSMIIUM",197,"09112023137","30/11/2027","11/27",6,""]
["Venda-PRD00146",201,"15/04/2025","Venda",244,"PRD00146","FLUIDO FIX CACHO OSM 300ML","OSMIIUM",196,"01092023099","30/09/2027","09/27",81,""]
["Venda-PRD00153",200,"15/04/2025","Venda",251,"PRD00153","SH CACHOS OSMIUM 500ML","OSMIIUM",195,"1204240012","30/04/2027","04/27",121,""]
["Venda-PRD00149",199,"15/04/2025","Venda",247,"PRD00149","SH CACHOS OSMIUM 300ML","OSMIIUM",194,"251021005","31/03/2026","03/26",1,""]
["Venda-PRD00149",198,"15/04/2025","Venda",247,"PRD00149","SH CACHOS OSMIUM 300ML","OSMIIUM",193,"2911240071","30/11/2026","11/26",6,""]
["Venda-PRD00149",197,"15/04/2025","Venda",247,"PRD00149","SH CACHOS OSMIUM 300ML","OSMIIUM",192,"1204240012","30/04/2027","04/27",14,""]
["Venda-PRD00175",196,"15/04/2025","Venda",273,"PRD00175","MASC COND CAB COL EFFE 1L","EFFECTUS",191,"15012024179","31/01/2027","01/27",4,""]
["Venda-PRD00177",195,"15/04/2025","Venda",275,"PRD00177","MASC COND EFFECTUS 500ML","EFFECTUS",190,"15012024179","31/01/2027","01/27",53,""]
["Venda-PRD00179",194,"15/04/2025","Venda",277,"PRD00179","SH CAB TIN EFFECTUS 1L","EFFECTUS",189,"071024004","31/10/2027","10/27",24,""]
["Venda-PRD00179",193,"15/04/2025","Venda",277,"PRD00179","SH CAB TIN EFFECTUS 1L","EFFECTUS",188,"12012024176","31/01/2027","01/27",15,""]
["Venda-PRD00180",192,"15/04/2025","Venda",278,"PRD00180","SH CAB TIN EFFECTUS 500ML","EFFECTUS",187,"0108240003","31/08/2027","08/27",42,""]
["Venda-PRD00182",191,"15/04/2025","Venda",280,"PRD00182","PH CONTROL PROREPAIR 500ML","PRO REPAIR",186,"0107240001","31/07/2027","07/27",126,""]
["Venda-PRD00182",190,"15/04/2025","Venda",280,"PRD00182","PH CONTROL PROREPAIR 500ML","PRO REPAIR",185,"2608210016","31/08/2026","08/26",1,""]
["Venda-PRD00178",189,"15/04/2025","Venda",276,"PRD00178","SH CAB TIN EFFECTUS 150ML","EFFECTUS",184,"24032023014","31/03/2026","03/26",1224,""]
["Venda-PRD00176",188,"15/04/2025","Venda",274,"PRD00176","MASC COND EFFECTUS 150ML","EFFECTUS",183,"24032023015","31/03/2026","03/26",945,""]
["Venda-PRD00015",187,"15/04/2025","Venda",114,"PRD00015","SH ULTRA GLOSS PR 1L","SHOCK3",182,"2904240032","30/04/2027","04/27",22,""]
["Venda-PRD00193",186,"15/04/2025","Venda",291,"PRD00193","REGEN NUT SHOCK3 OMEG 500G","SHOCK3",181,"0208240009","31/08/2027","08/27",0,""]
["Venda-PRD00197",185,"15/04/2025","Venda",295,"PRD00197","REGENER SHOCK3 P REP 500ML","SHOCK3",180,"0612240005","31/12/2027","12/27",145,""]
["Venda-PRD00008",184,"15/04/2025","Venda",108,"PRD00008","SH DAYBYDAY ABAC 500ML","DAYBYDAY",179,"0209240001","30/09/2027","09/27",2,""]
["Venda-PRD00006",183,"15/04/2025","Venda",106,"PRD00006","SH DAYBYDAY CEN 500ML","DAYBYDAY",178,"0309240005","30/09/2027","09/27",1,""]
["Venda-PRD00126",178,"14/04/2025","Venda",224,"PRD00126","COMP HID KAIKEN UNI 500ML","KAIKEN",177,"1811210006","30/11/2026","11/26",47,""]
["Venda-PRD00127",177,"14/04/2025","Venda",225,"PRD00127","SH KAIKEN UNIQUE 500ML","KAIKEN",176,"17022023002","28/02/2026","02/26",7,""]
["Venda-PRD00013",176,"14/04/2025","Venda",112,"PRD00013","KIT FIBER VIT NH","FIBER VIT",175,"260624019","30/06/2026","06/26",54,""]
["Venda-PRD00134",175,"14/04/2025","Venda",232,"PRD00134","SOS PLAST CAPILAR 250ML 2UN","SOS",174,"0507240006","31/07/2027","07/27",68,""]
["Venda-PRD00280",174,"14/04/2025","Venda",337,"PRD00280","MASC GREEN THERAPY OJON 500 ML","OJON",173,"2807170074","31/07/2026","07/26",29,""]
["Venda-PRD00279",173,"14/04/2025","Venda",336,"PRD00279","SH GREEN THERAPY OJON 500 ML","OJON",172,"2601240016","31/01/2027","01/27",54,""]
["Venda-PRD00172",172,"14/04/2025","Venda",270,"PRD00172","COMPOSTO OL OJON M PLU 1L","MAISON",171,"06022023001","28/02/2026","02/26",4,""]
["Venda-PRD00174",171,"14/04/2025","Venda",272,"PRD00174","SH REPARA OL OJON M PLU 1L","MAISON",170,"2601240015","31/01/2027","01/27",7,""]
["Venda-PRD00262",170,"14/04/2025","Venda",319,"PRD00262","LEAVE IN DEFRIZ LUMMEM 500ML","LUMMEM",169,"0609240009","30/09/2027","09/27",150,""]
["Venda-PRD00160",169,"14/04/2025","Venda",258,"PRD00160","PRIMER CAPILAR LUMM 120ML","LUMMEM",168,"21112023147","30/11/2026","11/26",109,""]
["Venda-PRD00132",168,"14/04/2025","Venda",230,"PRD00132","SOS NUTRICAO INTEN NH 1KG","SOS",167,"2204240021","30/04/2027","04/27",50,""]
["Venda-PRD00130",167,"14/04/2025","Venda",228,"PRD00130","SOS BRILHO SUPREMO NH 1KG","SOS",166,"11012024174","31/01/2027","01/27",85,""]
["Venda-PRD00131",166,"14/04/2025","Venda",229,"PRD00131","SOS EQUILIBRIO ABS NH 1KG","SOS",165,"1904240020","30/04/2027","04/27",16,""]
["Venda-PRD00272",165,"14/04/2025","Venda",329,"PRD00272","MASC HID OLEO ARGAN ET 500G","ELEMENTOS DA TERRA",164,"0905240012","31/05/2027","05/27",108,""]
["Venda-PRD00271",164,"14/04/2025","Venda",328,"PRD00271","COND OLEO DE ARGAN ET 250ML","ELEMENTOS DA TERRA",163,"0805240009","31/05/2027","05/27",322,""]
["Venda-PRD00270",163,"14/04/2025","Venda",327,"PRD00270","SH OLEO DE ARGAN ET 250ML","ELEMENTOS DA TERRA",162,"1405240017","31/05/2027","05/27",232,""]
["Venda-PRD00284",162,"14/04/2025","Venda",341,"PRD00284","REGEN INT 4X1 ET 15ML","ELEMENTOS DA TERRA",161,"2405240034","31/05/2027","05/27",38,""]
["Venda-PRD00278",161,"14/04/2025","Venda",335,"PRD00278","MASC EXT MANDIOC ET 500G","ELEMENTOS DA TERRA",160,"1605240019","31/05/2027","05/27",49,""]
["Venda-PRD00277",160,"14/04/2025","Venda",334,"PRD00277","COND EXT MANDIOC ET 250ML","ELEMENTOS DA TERRA",159,"0905240011","31/05/2027","05/27",292,""]
["Venda-PRD00277",159,"14/04/2025","Venda",334,"PRD00277","COND EXT MANDIOC ET 250ML","ELEMENTOS DA TERRA",158,"0902240009","28/02/2027","02/27",6,""]
["Venda-PRD00276",158,"14/04/2025","Venda",333,"PRD00276","SH EXT MANDIOC ET 250ML","ELEMENTOS DA TERRA",157,"1605240018","31/05/2027","05/27",232,""]
["Venda-PRD00275",157,"14/04/2025","Venda",332,"PRD00275","MASC OLEO DE COCO ET 500G","ELEMENTOS DA TERRA",156,"070524008","31/05/2027","05/27",173,""]
["Venda-PRD00274",156,"14/04/2025","Venda",331,"PRD00274","COND OLEO DE COCO ET 250ML","ELEMENTOS DA TERRA",155,"0705240007","31/05/2027","05/27",371,""]
["Venda-PRD00273",155,"14/04/2025","Venda",330,"PRD00273","SH OLEO DE COCO ET 250ML","ELEMENTOS DA TERRA",154,"1005240013","31/05/2027","05/27",272,""]
["Venda-PRD00269",154,"14/04/2025","Venda",326,"PRD00269","MASC REST PHYS BAUN ET 500G","ELEMENTOS DA TERRA",153,"1303250009","31/03/2028","03/28",212,""]
["Venda-PRD00267",153,"14/04/2025","Venda",324,"PRD00267","SH PHYS BAUN ET 250ML","ELEMENTOS DA TERRA",152,"121220220015","31/12/2026","12/26",45,""]
["Venda-PRD00267",152,"14/04/2025","Venda",324,"PRD00267","SH PHYS BAUN ET 250ML","ELEMENTOS DA TERRA",151,"1303250010","31/03/2028","03/28",218,""]
["Venda-PRD00268",151,"14/04/2025","Venda",325,"PRD00268","COND PHYS BAUN ET 250ML","ELEMENTOS DA TERRA",150,"1403250012","31/03/2028","03/28",202,""]
["Venda-PRD00266",150,"14/04/2025","Venda",323,"PRD00266","MASC REVIT DAM LANRANJ ET 500G","ELEMENTOS DA TERRA",149,"1203250007","31/03/2028","03/28",140,""]
["Venda-PRD00265",149,"14/04/2025","Venda",322,"PRD00265","COND DAM LARANJ ET 250ML","ELEMENTOS DA TERRA",148,"121220220014","31/12/2026","12/26",37,""]
["Venda-PRD00265",148,"14/04/2025","Venda",322,"PRD00265","COND DAM LARANJ ET 250ML","ELEMENTOS DA TERRA",147,"1403250011","31/03/2028","03/28",221,""]
["Venda-PRD00264",147,"14/04/2025","Venda",321,"PRD00264","SH DAM LARANJ ET 250ML","ELEMENTOS DA TERRA",146,"1203250008","31/03/2028","03/28",136,""]
["Venda-PRD00260",146,"14/04/2025","Venda",317,"PRD00260","COMP REC OLEO MACADAMIA ET 1KG","ELEMENTOS DA TERRA",145,"2503250025","31/03/2028","03/28",119,""]
["Venda-PRD00259",145,"14/04/2025","Venda",316,"PRD00259","COMP REC OLEO DE TUTANO ET 1KG","ELEMENTOS DA TERRA",144,"2009240025","30/09/2027","09/27",50,""]
["Venda-PRD00261",144,"14/04/2025","Venda",318,"PRD00261","COMP REC QUERATINA ET 1KG","ELEMENTOS DA TERRA",143,"3009240030","30/09/2027","09/27",93,""]
["Venda-PRD00257",143,"14/04/2025","Venda",314,"PRD00257","COMP REC OLEO DE ARGAN ET 1KG","ELEMENTOS DA TERRA",142,"00406240004","30/06/2027","06/27",15,""]
["Venda-PRD00201",142,"14/04/2025","Venda",299,"PRD00201","SH SHOCK3 PRO REPAIR 500ML","SHOCK3",141,"2602240017","28/02/2027","02/27",5,""]
["Venda-PRD00201",141,"14/04/2025","Venda",299,"PRD00201","SH SHOCK3 PRO REPAIR 500ML","SHOCK3",140,"27072023079","31/07/2027","07/27",101,""]
["Venda-PRD00197",140,"14/04/2025","Venda",295,"PRD00197","REGENER SHOCK3 P REP 500ML","SHOCK3",139,"220224001","28/02/2026","02/26",4,""]
["Reposição-PRD00172",138,"14/04/2025","Reposição",270,"PRD00172","COMPOSTO OL OJON M PLU 1L","MAISON",138,"0909240011","30/09/2027","09/27",88,""]
["Reposição-PRD00177",137,"14/04/2025","Reposição",275,"PRD00177","MASC COND EFFECTUS 500ML","EFFECTUS",137,"0710240005","31/10/2027","10/27",93,""]
["Reposição-PRD00013",136,"14/04/2025","Reposição",112,"PRD00013","KIT FIBER VIT NH","FIBER VIT",136,"0909240013","30/09/2026","09/26",91,""]
["Reposição-PRD00023",135,"14/04/2025","Reposição",121,"PRD00023","AGUA OX NC 30VOL 1L","TINTURAS",135,"1611210005","30/11/2026","11/26",67,""]
["Reposição-PRD00023",134,"14/04/2025","Reposição",121,"PRD00023","AGUA OX NC 30VOL 1L","TINTURAS",134,"1811210009","30/11/2026","11/26",78,""]
["Reposição-PRD00159",133,"14/04/2025","Reposição",257,"PRD00159","PRIMER CAPILAR LUMM 250ML","LUMMEM",133,"0810240006","31/10/2027","10/27",256,""]
["Reposição-PRD00160",132,"14/04/2025","Reposição",258,"PRD00160","PRIMER CAPILAR LUMM 120ML","LUMMEM",132,"0810240006","31/10/2027","10/27",229,""]
["Quarentena-PRD00302",131,"12/04/2025","Quarentena",358,"PRD00302","LIQUIDO ATIVADOR OSMIUM 500","OSMIUM",131,"2003250021","31/03/2028","03/28",71,""]
["Venda-PRD00162",130,"12/04/2025","Venda",260,"PRD00162","COND BRILHO PEROLA E MAIS 5L","MAISON",130,"2611240011","30/11/2027","11/27",7,""]
["Venda-PRD00167",129,"12/04/2025","Venda",265,"PRD00167","SH BRILHO PEROLA MAIS 5L","MAISON",129,"0602250004","29/02/2028","02/28",5,""]
["Venda-PRD00167",128,"12/04/2025","Venda",265,"PRD00167","SH BRILHO PEROLA MAIS 5L","MAISON",128,"2702250022","29/02/2028","02/28",3,""]
["Venda-PRD00170",127,"12/04/2025","Venda",268,"PRD00170","SH MANT KARITE MAISON 5L","MAISON",127,"2502250017","29/02/2028","02/28",6,""]
["Venda-PRD00169",126,"12/04/2025","Venda",267,"PRD00169","SH ERVA DOCE MAISON 5L","MAISON",126,"3010240018","31/10/2027","10/27",8,""]
["Venda-PRD00161",125,"12/04/2025","Venda",259,"PRD00161","COND ALECRIM E MENTA M 5L","MAISON",125,"10112023139","30/11/2026","11/26",17,""]
["Venda-PRD00248",124,"12/04/2025","Venda",305,"PRD00248","BALS COND DAY BY DAY PROF SER 2,5L","DAYBYDAY",124,"2401250011","31/01/2028","01/28",34,""]
["Venda-PRD00163",123,"12/04/2025","Venda",261,"PRD00163","COND ERVA DOCE MAISON 5L","MAISON",123,"0409240007","30/09/2027","09/27",8,""]
["Venda-PRD00166",122,"12/04/2025","Venda",264,"PRD00166","SH ALECRIM E MENTA MAIS 5L","MAISON",122,"2901250015","31/01/2028","01/28",1,""]
["Venda-PRD00166",121,"12/04/2025","Venda",264,"PRD00166","SH ALECRIM E MENTA MAIS 5L","MAISON",121,"0304250008","30/04/2028","04/28",4,""]
["Venda-PRD00010",120,"12/04/2025","Venda",110,"PRD00010","SH DAYBYDAY PROF SERV 2,5L","DAYBYDAY",120,"0302250001","29/02/2028","02/28",27,""]
["Venda-PRD00247",119,"12/04/2025","Venda",304,"PRD00247","SH BRILHO PEROLA MAIS 2,5L","MAISON",119,"1003250005","31/03/2028","03/28",21,""]
["Reposição-PRD00171",118,"12/04/2025","Reposição",269,"PRD00171","SH MARACUJA E MEL MAISON 5L","MAISON",118,"2803250031","31/03/2028","03/28",3,""]
["Venda-PRD00171",117,"12/04/2025","Venda",269,"PRD00171","SH MARACUJA E MEL MAISON 5L","MAISON",117,"0304250004","30/04/2028","04/28",21,""]
["Venda-PRD00165",116,"12/04/2025","Venda",263,"PRD00165","COND MARACUJA MEL MAISO 5L","MAISON",116,"0204250005","30/04/2028","04/28",4,""]
["Venda-PRD00165",115,"12/04/2025","Venda",263,"PRD00165","COND MARACUJA MEL MAISO 5L","MAISON",115,"0804240011","30/04/2027","04/27",13,""]
["Venda-PRD00164",114,"12/04/2025","Venda",262,"PRD00164","COND MANT KARITE MAISON 5L","MAISON",114,"0104250003","30/04/2028","04/28",6,""]
["Venda-PRD00164",113,"12/04/2025","Venda",262,"PRD00164","COND MANT KARITE MAISON 5L","MAISON",113,"1405240016","31/05/2027","05/27",6,""]
["Venda-PRD00253",112,"12/04/2025","Venda",310,"PRD00253","SH MARACUJA E MEL MAISON 2,5L","MAISON",112,"2310240016","31/10/2027","10/27",21,""]
["Venda-PRD00256",111,"12/04/2025","Venda",313,"PRD00256","COMP REC MANTEIG KARITE ET 1KG","ELEMENTOS DA TERRA",111,"0904250014","30/04/2028","04/28",118,""]
["Venda-PRD00258",110,"12/04/2025","Venda",315,"PRD00258","COMP REC OLEO DE OLIVA ET 1KG","ELEMENTOS DA TERRA",110,"0904250016","30/04/2028","04/28",119,""]
["Reposição-PRD00175",109,"12/04/2025","Reposição",273,"PRD00175","MASC COND CAB COL EFFE 1L","EFFECTUS",109,"0710240005","31/10/2027","10/27",49,""]
["Reposição-PRD00135",108,"12/04/2025","Reposição",233,"PRD00135","SOS PLAST CAPILAR 15ML 24UN","SOS",108,"1601250004","31/01/2028","01/28",134,""]
["Reposição-PRD00134",107,"12/04/2025","Reposição",232,"PRD00134","SOS PLAST CAPILAR 250ML 2UN","SOS",107,"110225008","29/02/2028","02/28",83,""]
["Reposição-PRD00255",106,"12/04/2025","Reposição",312,"PRD00255","RECOND FINAL CROMAT 300ML","CROMATIC",106,"0311160003","31/07/2026","07/26",197,""]
["Reposição-PRD00284",105,"12/04/2025","Reposição",341,"PRD00284","REGEN INT 4X1 ET 15ML","ELEMENTOS DA TERRA",105,"0306240002","30/06/2027","06/27",44,""]
["Reposição-PRD00254",104,"12/04/2025","Reposição",311,"PRD00254","MASC COND MANUT CROM 300ML","CROMATIC",104,"1207160027","31/07/2026","07/26",225,""]
["Reposição-PRD00193",103,"12/04/2025","Reposição",291,"PRD00193","REGEN NUT SHOCK3 OMEG 500G","SHOCK3",103,"0811240009","30/11/2027","11/27",234,""]
["Reposição-PRD00201",102,"12/04/2025","Reposição",299,"PRD00201","SH SHOCK3 PRO REPAIR 500ML","SHOCK3",102,"1402250010","29/02/2028","02/28",207,""]
["Reposição-PRD00193",101,"12/04/2025","Reposição",291,"PRD00193","REGEN NUT SHOCK3 OMEG 500G","SHOCK3",101,"1102250007","29/02/2028","02/28",200,""]
["Reposição-PRD00193",100,"12/04/2025","Reposição",291,"PRD00193","REGEN NUT SHOCK3 OMEG 500G","SHOCK3",100,"0210240002","31/10/2027","10/27",0,""]
["Reposição-PRD00201",99,"12/04/2025","Reposição",299,"PRD00201","SH SHOCK3 PRO REPAIR 500ML","SHOCK3",99,"0901250002","31/01/2028","01/28",0,""]
["Reposição-PRD00128",98,"12/04/2025","Reposição",226,"PRD00128","COMP HID KAIKEN UNIQUE 2KG","KAIKEN",98,"0912240007","31/12/2027","12/27",51,""]
["Reposição-PRD00204",97,"12/04/2025","Reposição",301,"PRD00204","BALM CONTROLTOX PR 1L","SHOCK3",97,"B2101210021","31/12/2026","12/26",4,""]
["Reposição-PRD00204",96,"12/04/2025","Reposição",301,"PRD00204","BALM CONTROLTOX PR 1L","SHOCK3",96,"05102023116","31/10/2027","10/27",16,""]
["Reposição-PRD00129",95,"12/04/2025","Reposição",227,"PRD00129","SH KAIKEN UNIQUE 1L","KAIKEN",95,"111224010","31/12/2027","12/27",51,""]
["Reposição-PRD00127",94,"12/04/2025","Reposição",225,"PRD00127","SH KAIKEN UNIQUE 500ML","KAIKEN",94,"1204240017","30/04/2027","04/27",38,""]
["Reposição-PRD00129",93,"12/04/2025","Reposição",227,"PRD00129","SH KAIKEN UNIQUE 1L","KAIKEN",93,"120420240017","30/04/2027","04/27",6,""]
["Reposição-PRD00298",92,"12/04/2025","Reposição",355,"PRD00298","CR ALISANTE SODIO OSMIUM 1KG","OSMIIUM",92,"0411240001","30/11/2027","11/27",100,""]
["Reposição-PRD00009",91,"12/04/2025","Reposição",109,"PRD00009","MASC COND DAYBYDAY ABAC 500G","DAYBYDAY",91,"2410240014","31/10/2027","10/27",285,""]
["Reposição-PRD00284",90,"12/04/2025","Reposição",341,"PRD00284","REGEN INT 4X1 ET 15ML","ELEMENTOS DA TERRA",90,"2606240020","31/07/2027","07/27",42,""]
["Reposição-PRD00009",89,"12/04/2025","Reposição",109,"PRD00009","MASC COND DAYBYDAY ABAC 500G","DAYBYDAY",89,"2511240009","30/11/2027","11/27",261,""]
["Reposição-PRD00186",88,"12/04/2025","Reposição",284,"PRD00186","SH DEEP COLD MONOI PR 1L","MONOI",88,"0404240007","30/04/2027","04/27",6,""]
["Reposição-PRD00184",87,"12/04/2025","Reposição",282,"PRD00184","REDUTOR VOLUME MONOI PR 1L","MONOI",87,"3001250018","31/01/2028","01/28",60,""]
["Reposição-PRD00188",86,"12/04/2025","Reposição",286,"PRD00188","MONOI TAHITI PR 60ML","MONOI",86,"005/22","31/01/2027","01/27",371,""]
["Reposição-PRD00161",85,"12/04/2025","Reposição",259,"PRD00161","COND ALECRIM E MENTA M 5L","MAISON",85,"1604240018","30/04/2027","04/27",25,""]
["Reposição-PRD00187",84,"12/04/2025","Reposição",285,"PRD00187","SH DEEP COLD MONOI PR 500ML","MONOI",84,"0108240001","31/08/2027","08/27",129,""]
["Reposição-PRD00186",83,"12/04/2025","Reposição",284,"PRD00186","SH DEEP COLD MONOI PR 1L","MONOI",83,"0108240004","31/08/2027","08/27",40,""]
["Reposição-PRD00185",82,"12/04/2025","Reposição",283,"PRD00185","REDUTOR VOLUME MONOI PR 500ML","MONOI",82,"2911240015","30/11/2027","11/27",431,""]
["Reposição-PRD00195",81,"12/04/2025","Reposição",293,"PRD00195","REGENER SHOCK3 P REP 1L","SHOCK3",81,"0612240005","31/12/2027","12/27",51,""]
["Reposição-PRD00199",80,"12/04/2025","Reposição",297,"PRD00199","SH SHOCK3 PRO REPAIR 1L","SHOCK3",80,"0403240003","31/03/2027","03/27",7,""]
["Reposição-PRD00199",79,"12/04/2025","Reposição",297,"PRD00199","SH SHOCK3 PRO REPAIR 1L","SHOCK3",79,"1012240008","31/12/2027","12/27",50,""]
["Reposição-PRD00199",78,"12/04/2025","Reposição",297,"PRD00199","SH SHOCK3 PRO REPAIR 1L","SHOCK3",78,"1204240013","30/04/2027","04/27",6,""]
["Reposição-PRD00173",77,"12/04/2025","Reposição",271,"PRD00173","FINAL OL OJON M PLU 500ML","MAISON",77,"2003240039","31/03/2027","03/27",12,""]
["Reposição-PRD00180",76,"12/04/2025","Reposição",278,"PRD00180","SH CAB TIN EFFECTUS 500ML","EFFECTUS",76,"0710240004","31/10/2027","10/27",98,""]
["Reposição-PRD00008",75,"12/04/2025","Reposição",108,"PRD00008","SH DAYBYDAY ABAC 500ML","DAYBYDAY",75,"2702250021","29/02/2028","02/28",203,""]
["Reposição-PRD00009",74,"12/04/2025","Reposição",109,"PRD00009","MASC COND DAYBYDAY ABAC 500G","DAYBYDAY",74,"2802250023","29/02/2028","02/28",240,""]
["Reposição-PRD00009",73,"12/04/2025","Reposição",109,"PRD00009","MASC COND DAYBYDAY ABAC 500G","DAYBYDAY",73,"0611240003","30/11/2027","11/27",276,""]
["Reposição-PRD00009",72,"12/04/2025","Reposição",109,"PRD00009","MASC COND DAYBYDAY ABAC 500G","DAYBYDAY",72,"0811240024","30/11/2027","11/27",277,""]
["Reposição-PRD00008",71,"12/04/2025","Reposição",108,"PRD00008","SH DAYBYDAY ABAC 500ML","DAYBYDAY",71,"190827240019","31/08/2027","08/27",120,""]
["Reposição-PRD00008",70,"12/04/2025","Reposição",108,"PRD00008","SH DAYBYDAY ABAC 500ML","DAYBYDAY",70,"1610240012","31/10/2027","10/27",207,""]
["Reposição-PRD00135",69,"12/04/2025","Reposição",233,"PRD00135","SOS PLAST CAPILAR 15ML 24UN","SOS",69,"3007240014","31/07/2027","07/27",69,""]
["Reposição-PRD00134",68,"12/04/2025","Reposição",232,"PRD00134","SOS PLAST CAPILAR 250ML 2UN","SOS",68,"1902250013","29/02/2028","02/28",23,""]
["Reposição-PRD00154",67,"12/04/2025","Reposição",252,"PRD00154","BRUMA STYLING SP LUM 240ML","LUMMEM",67,"2301250001","31/01/2028","01/28",96,""]
["Reposição-PRD00154",66,"12/04/2025","Reposição",252,"PRD00154","BRUMA STYLING SP LUM 240ML","LUMMEM",66,"2601240014","31/01/2027","01/27",15,""]
["Reposição-PRD00127",65,"12/04/2025","Reposição",225,"PRD00127","SH KAIKEN UNIQUE 500ML","KAIKEN",65,"10012024172","31/01/2027","01/27",61,""]
["Reposição-PRD00181",64,"12/04/2025","Reposição",279,"PRD00181","OLEO ARGAN PRO REP 60ML","PRO REPAIR",64,"1312240014","31/12/2027","12/27",173,""]
["Reposição-PRD00155",63,"12/04/2025","Reposição",253,"PRD00155","FLUIDO REPAR LUMMEM 60ML","LUMMEM",63,"1402250011","29/02/2028","02/28",17,""]
["Reposição-PRD00008",62,"12/04/2025","Reposição",108,"PRD00008","SH DAYBYDAY ABAC 500ML","DAYBYDAY",62,"2102250016","29/02/2028","02/28",205,""]
["Reposição-PRD00008",61,"12/04/2025","Reposição",108,"PRD00008","SH DAYBYDAY ABAC 500ML","DAYBYDAY",61,"2002250015","29/02/2028","02/28",212,""]
["Reposição-PRD00008",60,"12/04/2025","Reposição",108,"PRD00008","SH DAYBYDAY ABAC 500ML","DAYBYDAY",60,"1912240016","31/12/2027","12/27",184,""]
["Reposição-PRD00201",59,"12/04/2025","Reposição",299,"PRD00201","SH SHOCK3 PRO REPAIR 500ML","SHOCK3",59,"2301250010","31/01/2028","01/28",203,""]
["Reposição-PRD00201",58,"12/04/2025","Reposição",299,"PRD00201","SH SHOCK3 PRO REPAIR 500ML","SHOCK3",58,"2602250020","29/02/2028","02/28",197,""]
["Reposição-PRD00006",57,"12/04/2025","Reposição",106,"PRD00006","SH DAYBYDAY CEN 500ML","DAYBYDAY",57,"3101250019","31/01/2028","01/28",207,""]
["Reposição-PRD00006",56,"12/04/2025","Reposição",106,"PRD00006","SH DAYBYDAY CEN 500ML","DAYBYDAY",56,"0612240004","31/12/2027","12/27",199,""]
["Reposição-PRD00006",55,"12/04/2025","Reposição",106,"PRD00006","SH DAYBYDAY CEN 500ML","DAYBYDAY",55,"0309240005","30/09/2027","09/27",205,""]
["Reposição-PRD00007",54,"12/04/2025","Reposição",107,"PRD00007","MASC REVIT DAYBYDAY CEN 500G","DAYBYDAY",54,"1212240012","31/12/2027","12/27",228,""]
["Reposição-PRD00007",53,"12/04/2025","Reposição",107,"PRD00007","MASC REVIT DAYBYDAY CEN 500G","DAYBYDAY",53,"0703250002","31/03/2028","03/28",226,""]
["Reposição-PRD00006",52,"12/04/2025","Reposição",106,"PRD00006","SH DAYBYDAY CEN 500ML","DAYBYDAY",52,"1103250004","31/03/2028","03/28",204,""]
["Reposição-PRD00191",51,"12/04/2025","Reposição",289,"PRD00191","COMP FINAL SHOCK3 60G","SHOCK3",51,"1007240009","31/07/2027","07/27",1008,""]
["Reposição-PRD00191",50,"12/04/2025","Reposição",289,"PRD00191","COMP FINAL SHOCK3 60G","SHOCK3",50,"2510210005","31/10/2027","10/27",693,""]
["Reposição-PRD00003",49,"12/04/2025","Reposição",103,"PRD00003","KERATIN SH CROMATIC 500ML","CROMATIC",49,"1009240014","30/09/2027","09/27",102,""]
["Reposição-PRD00153",48,"12/04/2025","Reposição",251,"PRD00153","SH CACHOS OSMIUM 500ML","OSMIIUM",48,"2002250009","29/02/2028","02/28",198,""]
["Reposição-PRD00152",47,"12/04/2025","Reposição",250,"PRD00152","MASC COND CACHOS OSM 500ML","OSMIIUM",47,"1012240009","31/12/2027","12/27",235,""]
["Reposição-PRD00173",46,"12/04/2025","Reposição",271,"PRD00173","FINAL OL OJON M PLU 500ML","MAISON",46,"1311240007","30/11/2027","11/27",116,""]
["Reposição-PRD00153",45,"12/04/2025","Reposição",251,"PRD00153","SH CACHOS OSMIUM 500ML","OSMIIUM",45,"0208240006","31/08/2027","08/27",212,""]
["Reposição-PRD00151",44,"12/04/2025","Reposição",249,"PRD00151","GLOSS MOD CACHOS OSM 500ML","OSMIIUM",44,"2111240008","30/11/2027","11/27",205,""]
["Reposição-PRD00147",43,"12/04/2025","Reposição",245,"PRD00147","GLOSS MOD CACHOS OSM 300ML","OSMIIUM",43,"1606240012","30/06/2027","06/27",60,""]
["Reposição-PRD00146",42,"12/04/2025","Reposição",244,"PRD00146","FLUIDO FIX CACHO OSM 300ML","OSMIIUM",42,"2106240017","30/06/2026","06/26",60,""]
["Reposição-PRD00150",41,"12/04/2025","Reposição",248,"PRD00150","FLUIDO FIX CACHO OSM 500ML","OSMIIUM",41,"2801250013","31/08/2027","08/27",217,""]
["Reposição-PRD00152",40,"12/04/2025","Reposição",250,"PRD00152","MASC COND CACHOS OSM 500ML","OSMIIUM",40,"0208240007","31/08/2027","08/27",205,""]
["Reposição-PRD00022",39,"12/04/2025","Reposição",120,"PRD00022","AGUA OX NC 20VOL 1L","TINTURAS",39,"2001250006","31/01/2028","01/28",110,""]
["Reposição-PRD00190",38,"12/04/2025","Reposição",288,"PRD00190","SH ALTA HID MONOI PR 500ML","MONOI",38,"1312240013","31/12/2027","12/27",195,""]
["Reposição-PRD00013",37,"12/04/2025","Reposição",112,"PRD00013","KIT FIBER VIT NH","FIBER VIT",37,"2606240019","30/06/2026","06/26",11,""]
["Reposição-PRD00134",36,"12/04/2025","Reposição",257,"PRD00134","SOS PLAST CAPILAR 250ML 2UN","SOS",36,"1410240010","31/10/2027","10/27",14,""]
["Reposição-PRD00012",35,"12/04/2025","Reposição",111,"PRD00012","GOLDEN MASK NUTRAHAI 200GR","GOLDEN MASK",35,"2204240059","31/12/2027","12/27",292,""]
["Quarentena-PRD00008",34,"12/04/2025","Quarentena",108,"PRD00008","SH DAYBYDAY ABAC 500ML","DAYBYDAY",34,"1104250020","30/04/2028","04/28",202,""]
["Quarentena-PRD00259",33,"12/04/2025","Quarentena",316,"PRD00259","COMP REC OLEO DE TUTANO ET 1KG","ELEMENTOS DA TERRA",33,"1104250019","30/04/2028","04/28",118,""]
["Quarentena-PRD00197",32,"12/04/2025","Quarentena",295,"PRD00197","REGENER SHOCK3 P REP 500ML","SHOCK3",32,"1004250018","30/04/2028","04/28",159,""]
["Quarentena-PRD00200",31,"12/04/2025","Quarentena",298,"PRD00200","SH SHOCK3 PRO REPAIR 300ML","SHOCK3",31,"0904250015","30/04/2028","04/28",64,""]
["Quarentena-PRD00201",30,"12/04/2025","Quarentena",299,"PRD00201","SH SHOCK3 PRO REPAIR 500ML","SHOCK3",30,"0904250015","30/04/2028","04/28",161,""]
["Quarentena-PRD00271",29,"12/04/2025","Quarentena",328,"PRD00271","COND OLEO DE ARGAN ET 250ML","ELEMENTOS DA TERRA",29,"0704250011","30/04/2028","04/28",226,""]
["Quarentena-PRD00274",28,"12/04/2025","Quarentena",331,"PRD00274","COND OLEO DE COCO ET 250ML","ELEMENTOS DA TERRA",28,"0704250010","30/04/2028","04/28",225,""]
["Quarentena-PRD00193",27,"12/04/2025","Quarentena",291,"PRD00193","REGEN NUT SHOCK3 OMEG 500G","SHOCK3",27,"1004250017","30/04/2028","04/28",133,""]
["Quarentena-PRD00184",26,"12/04/2025","Quarentena",282,"PRD00184","REDUTOR VOLUME MONOI PR 1L","MONOI",26,"0704250012","30/04/2028","04/28",30,""]
["Quarentena-PRD00136",25,"12/04/2025","Quarentena",234,"PRD00136","SOS ULTR VITAMINADO NH 2KG","SOS",25,"1803250017","31/03/2028","03/28",18,""]
["Quarentena-PRD00153",24,"11/04/2025","Quarentena",251,"PRD00153","SH CACHOS OSMIUM 500ML","OSMIIUM",24,"1803250016","31/03/2028","03/28",196,""]
["Quarentena-PRD00200",23,"11/04/2025","Quarentena",298,"PRD00200","SH SHOCK3 PRO REPAIR 300ML","SHOCK3",23,"2703250028","31/03/2028","03/28",203,""]
["Quarentena-PRD00270",22,"11/04/2025","Quarentena",327,"PRD00270","SH OLEO DE ARGAN ET 250ML","ELEMENTOS DA TERRA",22,"0104250001","30/04/2028","04/28",210,""]
["Quarentena-PRD00184",21,"11/04/2025","Quarentena",282,"PRD00184","REDUTOR VOLUME MONOI PR 1L","MONOI",21,"2703250030","31/03/2028","03/28",142,""]
["Quarentena-PRD00263",20,"11/04/2025","Quarentena",320,"PRD00263","KIT SMART CALCIO OSMIUM","OSMIIUM",20,"03052023016","31/05/2026","05/26",14,""]
["Quarentena-PRD00196",19,"11/04/2025","Quarentena",294,"PRD00196","REGENER SHOCK3 P REP 300ML","SHOCK3",19,"2603250027","31/03/2028","03/28",266,""]
["Quarentena-PRD00203",18,"11/04/2025","Quarentena",300,"PRD00203","COMP DISC CONTROLTOX PR 1KG","SHOCK3",18,"2603250028","31/03/2028","03/28",171,""]
["Quarentena-PRD00155",17,"11/04/2025","Quarentena",253,"PRD00155","FLUIDO REPAR LUMMEM 60ML","LUMMEM",17,"0104250002","30/04/2028","04/28",15,""]
["Quarentena-PRD00198",16,"11/04/2025","Quarentena",296,"PRD00198","SH SHOCK3 OL COCO PR 300ML","SHOCK3",16,"0104250003","30/04/2028","04/28",209,""]
["Quarentena-PRD00138",15,"11/04/2025","Quarentena",236,"PRD00138","CR BASE CALCIO OSMIUM 1KG","OSMIIUM",15,"2103250024","31/03/2028","03/28",49,""]
["Quarentena-PRD00197",14,"11/04/2025","Quarentena",295,"PRD00197","REGENER SHOCK3 P REP 500ML","SHOCK3",14,"2003250023","31/03/2028","03/28",223,""]
["Quarentena-PRD00150",13,"11/04/2025","Quarentena",248,"PRD00150","FLUIDO FIX CACHO OSM 500ML","OSMIIUM",13,"1703250014","31/03/2028","03/28",153,""]
["Quarentena-PRD00193",12,"11/04/2025","Quarentena",291,"PRD00193","REGEN NUT SHOCK3 OMEG 500G","SHOCK3",12,"0603250001","31/03/2028","03/28",239,""]
["Quarentena-PRD00257",11,"11/04/2025","Quarentena",314,"PRD00257","COMP REC OLEO DE ARGAN ET 1KG","ELEMENTOS DA TERRA",11,"2503250026","31/03/2028","03/28",120,""]
["Quarentena-PRD00278",10,"11/04/2025","Quarentena",335,"PRD00278","MASC EXT MANDIOC ET 500G","ELEMENTOS DA TERRA",10,"1703250015","31/03/2028","03/28",210,""]
["Quarentena-PRD00151",9,"11/04/2025","Quarentena",249,"PRD00151","GLOSS MOD CACHOS OSM 500ML","OSMIIUM",9,"2003250022","31/03/2028","03/28",231,""]
["Quarentena-PRD00174",8,"11/04/2025","Quarentena",272,"PRD00174","SH REPARA OL OJON M PLU 1L","MAISON",8,"1103250006","31/03/2028","03/28",50,""]
["Quarentena-PRD00179",7,"11/04/2025","Quarentena",277,"PRD00179","SH CAB TIN EFFECTUS 1L","EFFECTUS",7,"2802250018","29/02/2028","02/28",53,""]
["Quarentena-PRD00248",6,"11/04/2025","Quarentena",305,"PRD00248","BALS COND DAY BY DAY PROF SER 2,5L","DAYBYDAY",6,"2802250024","29/02/2028","02/28",46,""]
["Quarentena-PRD00162",5,"11/04/2025","Quarentena",260,"PRD00162","COND BRILHO PEROLA E MAIS 5L","MAISON",5,"1403250013","31/03/2028","03/28",16,""]
["Quarentena-PRD00246",4,"11/04/2025","Quarentena",303,"PRD00246","REDUTOR DE VOLUME MONOI PR 300ML","MONOI",4,"0704250012","30/04/2028","04/28",74,""]
["Quarentena-PRD00167",3,"11/04/2025","Quarentena",265,"PRD00167","SH BRILHO PEROLA MAIS 5L","MAISON",3,"0304250006","30/04/2028","04/28",25,""]
["Quarentena-PRD00162",2,"11/04/2025","Quarentena",260,"PRD00162","COND BRILHO PEROLA E MAIS 5L","MAISON",2,"0404250009","30/04/2028","04/28",28,""]
["Quarentena-PRD00166",1,"11/04/2025","Quarentena",264,"PRD00166","SH ALECRIM E MENTA MAIS 5L","MAISON",1,"0804250013","30/04/2028","04/28",21,""]