{"text_format":"1","workbook":"xlsx","n_sheets":6,"sheets":["Configurações","Impostos","Bruno Cauê Lang Souza","Juliano Gallo Silva","Sandra Aparecida M. Tavares","Vinícius Braga de Oliveira"],"not_rendered":{"charts":0,"images":0,"macros":1,"external_links":0,"defined_names":5,"comments":0,"pivot_tables":0},"unopened":[],"bounds":{"document_bytes":16777216,"sheet_cells":100000,"rows_first":2000,"rows_last":500,"rows_between":2000,"halvings":0,"cell_chars":16384,"cell_head_chars":4096},"cells_cut":0,"cells_raw":0,"read":"whole","date_system":"1900"}

{"sheet":"Configurações","index":0,"n_rows":56,"n_cols":40,"rows_kept":56,"cut":false,"hidden":false,"merged":[[10,19,10,20],[42,0,46,0],[12,0,16,0],[17,0,21,0],[22,0,26,0],[27,0,31,0],[32,0,36,0],[37,0,41,0],[0,20,0,21],[0,10,0,11],[0,12,0,13],[0,14,0,15],[0,16,0,17],[0,18,0,19]]}
[null,null,"Modalidades","Aula 1","Aula 2","Aula 3","Aula 4","Aula 5","Aula 6",{"$f":"C1","v":"Modalidades"},"Aula 1",null,"Aula 2",null,"Aula 3",null,"Aula 4",null,"Aula 5",null,"Aula 6"]
[null,null,"Natação Adulta",0,"1 a 3","4 a 5","6 a 8",null,null,{"$f":"C2","v":"Natação Adulta"},{"$f":"LEFT(D2,2)","v":"0"},{"$f":"RIGHT(D2,2)","v":"0"},{"$f":"LEFT(E2,2)","v":"1 "},{"$f":"RIGHT(E2,2)","v":" 3"},{"$f":"LEFT(F2,2)","v":"4 "},{"$f":"RIGHT(F2,2)","v":" 5"},{"$f":"LEFT(G2,2)","v":"6 "},{"$f":"RIGHT(G2,2)","v":" 8"},{"$f":"LEFT(H2,2)","v":""},{"$f":"RIGHT(H2,2)","v":""},{"$f":"LEFT(I2,2)","v":""},{"$f":"RIGHT(I2,2)","v":""}]
[null,null,"Natação Bebê",0,"1 a 4","5 a 8","9 a 12","13 a 15",null,{"$f":"C3","v":"Natação Bebê"},{"$f":"LEFT(D3,2)","v":"0"},{"$f":"RIGHT(D3,2)","v":"0"},{"$f":"LEFT(E3,2)","v":"1 "},{"$f":"RIGHT(E3,2)","v":" 4"},{"$f":"LEFT(F3,2)","v":"5 "},{"$f":"RIGHT(F3,2)","v":" 8"},{"$f":"LEFT(G3,2)","v":"9 "},{"$f":"RIGHT(G3,2)","v":"12"},{"$f":"LEFT(H3,2)","v":"13"},{"$f":"RIGHT(H3,2)","v":"15"},{"$f":"LEFT(I3,2)","v":""},{"$f":"RIGHT(I3,2)","v":""}]
[null,null,"Aprendizagem A",0,"1 a 2","3 a 4","5 a 6","7 a 8",null,"Aprendizagem A","0","0","1 "," 2","3 "," 4","5 "," 6","7 "," 8","",""]
[null,null,"Aprendizagem B",0,"1 a 4","5 a 8","9 a 12","13 a 16",null,"Aprendizagem B",{"$f":"LEFT(D5,2)","v":"0"},{"$f":"RIGHT(D5,2)","v":"0"},{"$f":"LEFT(E5,2)","v":"1 "},{"$f":"RIGHT(E5,2)","v":" 4"},{"$f":"LEFT(F5,2)","v":"5 "},{"$f":"RIGHT(F5,2)","v":" 8"},{"$f":"LEFT(G5,2)","v":"9 "},{"$f":"RIGHT(G5,2)","v":"12"},{"$f":"LEFT(H5,2)","v":"13"},{"$f":"RIGHT(H5,2)","v":"16"},{"$f":"LEFT(I5,2)","v":""},{"$f":"RIGHT(I5,2)","v":""}]
[null,null,"Adaptação",0,"1 a 2","3 a 4","5 a 6","7 a 8",null,"Adaptação","0","0","1 "," 2","3 "," 4","5 "," 6","7 "," 8","",""]
[null,null,"Iniciação",0,"1 a 3","4 a 6","7 a 8","9 a 10",null,"Iniciação","0","0","1 "," 3","4 "," 6","7 "," 8",{"$f":"LEFT(H7,2)","v":"9 "},{"$f":"RIGHT(H7,2)","v":"10"},{"$f":"LEFT(I7,2)","v":""},{"$f":"RIGHT(I7,2)","v":""},null,null,null,null,null,null,"Valor de Registro",17.66]
[null,null,"Hidroginástica",0,"1 a 7","8 a 15","16 a 22","23 a 30",null,"Hidroginástica","0","0","1 "," 7","8 ","15","16","22","23","30","",""]
[null,null,"Sem Uso",null,null,null,null,null,null,"Sem Uso","","","","","","","","","","",{"$f":"LEFT(I9,2)","v":""},{"$f":"RIGHT(I9,2)","v":""}]
[]
["Modalidade","Nível","Concatenado","Aula 1","Aula 2","Aula 3","Aula 4","Aula 5","Aula 6"]
[null,null,null,null,null,null,null,null,null,null,null,null,null,null,null,null,null,null,null,null,null,null,null,null,null,null,"Adic_Nat.Ad_01","Aula 1",17.66,{"$f":"AC12-$AD$7","v":0},null,"Adic_Nat.Inf_01","Aula 1",17.655000000000001,{"$f":"AH12-$AD$7","v":-4.9999999999990052E-3},null,"Adic_Hidr_01","Aula 1",17.655000000000001,{"$f":"AM12-$AD$7","v":-4.9999999999990052E-3}]
[{"$f":"C2","v":"Natação Adulta"},{"$f":"C50","v":"Prof. Especial"},{"$f":"$A$13&B13","v":"Natação AdultaProf. Especial"},17.655000000000001,27.188700000000001,32.626439999999995,38.064180000000007,0,null,null,null,null,null,null,null,null,null,null,null,null,null,null,null,null,null,null,"Adic_Nat.Ad_02","Aula 2",19.760000000000002,{"$f":"AC13-$AD$7","v":2.1000000000000014},null,"Adic_Nat.Inf_02","Aula 2",19.760000000000002,{"$f":"AH13-$AD$7","v":2.1000000000000014},null,"Adic_Hidr_02","Aula 2",23.68,{"$f":"AM13-$AD$7","v":6.02}]
[null,{"$f":"C51","v":"Prof. Nível A"},{"$f":"$A$13&B14","v":"Natação AdultaProf. Nível A"},17.655000000000001,25.270189999999996,30.319520000000004,35.38062,0,null,null,null,null,null,null,null,null,null,null,null,null,null,null,null,null,null,null,"Adic_Nat.Ad_03","Aula 3",21.97,4.3099999999999987,null,"Adic_Nat.Inf_03","Aula 3",20.79,3.129999999999999,null,"Adic_Hidr_03","Aula 3",26.08,8.4199999999999982]
[null,"Prof. Nível B",{"$f":"$A$13&B15","v":"Natação AdultaProf. Nível B"},17.66,21.97,26.08,29.92,0,null,null,null,null,null,null,null,null,null,null,null,null,null,null,null,null,null,null,"Adic_Nat.Ad_04","Aula 4",23.68,6.02,null,"Adic_Nat.Inf_04","Aula 4",21.97,4.3099999999999987,null,"Adic_Hidr_04","Aula 4",27.65,9.9899999999999984]
[null,"Prof. Nível C",{"$f":"$A$13&B16","v":"Natação AdultaProf. Nível C"},17.66,19.760000000000002,23.68,27.65,0,null,null,null,null,null,null,null,null,null,null,null,null,null,null,null,null,null,null,"Adic_Nat.Ad_05","Aula 5",25.27,7.6099999999999994,null,"Adic_Nat.Inf_05","Aula 5",23.33,5.6699999999999982,null,"Adic_Hidr_05","Aula 5",30.2,12.54]
[null,"Estagiário",{"$f":"$A$13&B17","v":"Natação AdultaEstagiário"},17.655000000000001,17.655000000000001,17.655000000000001,17.655000000000001,0,null,null,null,null,null,null,null,null,null,null,null,null,null,null,null,null,null,null,"Adic_Nat.Ad_06","Aula 6",26.08,8.4199999999999982,null,"Adic_Nat.Inf_06","Aula 6",23.55,5.8900000000000006,null,"Adic_Hidr_06","Aula 6",30.319520000000004,12.659520000000004]
[{"$f":"C3","v":"Natação Bebê"},{"$f":"C50","v":"Prof. Especial"},{"$f":"$A$18&B18","v":"Natação BebêProf. Especial"},17.655000000000001,32.626439999999995,38.064180000000007,43.501919999999998,48.939660000000003,null,null,null,null,null,null,null,null,null,null,null,null,null,null,null,null,null,null,"Adic_Nat.Ad_07","Aula 7",27.19,9.5300000000000011,null,"Adic_Nat.Inf_07","Aula 7",23.68,6.02,null,"Adic_Hidr_07","Aula 7",32.626439999999995,14.966439999999995]
[null,{"$f":"C51","v":"Prof. Nível A"},{"$f":"$A$18&B19","v":"Natação BebêProf. Nível A"},17.655000000000001,30.319520000000004,35.345309999999998,40.783049999999996,46.220790000000001,null,null,null,null,null,null,null,null,null,null,null,null,null,null,null,null,null,null,"Adic_Nat.Ad_08","Aula 8",27.65,9.9899999999999984,null,"Adic_Nat.Inf_08","Aula 8",24.09,6.43,null,"Adic_Hidr_08","Aula 8",33.42,15.760000000000002]
[null,"Prof. Nível B","Natação BebêProf. Nível B",17.66,26.08,28.83,31.57,34.31,null,null,null,null,null,null,null,null,null,null,null,null,null,null,null,null,null,null,"Adic_Nat.Ad_09","Aula 9",29.92,12.260000000000002,null,"Adic_Nat.Inf_09","Aula 9",24.94,7.2800000000000011,null,"Adic_Hidr_09","Aula 9",35.345309999999998,17.685309999999998]
[null,"Prof. Nível C","Natação BebêProf. Nível C",17.66,23.55,26.32,29.09,31.86,null,null,null,null,null,null,null,null,null,null,null,null,null,null,null,null,null,null,"Adic_Nat.Ad_10","Aula 10",30.32,12.66,null,"Adic_Nat.Inf_10","Aula 10",25.270189999999996,7.6101899999999958,null,"Adic_Hidr_10","Aula 10",35.68,18.02]
[null,"Estagiário","Natação BebêEstagiário",17.655000000000001,17.655000000000001,17.655000000000001,17.655000000000001,17.655000000000001,null,null,null,null,null,null,null,null,null,null,null,null,null,null,null,null,null,null,"Adic_Nat.Ad_11","Aula 11",32.630000000000003,14.970000000000002,null,"Adic_Nat.Inf_11","Aula 11",26.08,8.4199999999999982,null,"Adic_Hidr_11","Aula 11",38.064180000000007,20.404180000000007]
[{"$f":"C4","v":"Aprendizagem A"},{"$f":"C50","v":"Prof. Especial"},{"$f":"$A$23&B23","v":"Aprendizagem AProf. Especial"},17.655000000000001,27.188700000000001,32.626439999999995,38.064180000000007,41.2699,null,null,null,null,null,null,null,null,null,null,null,null,null,null,null,null,null,null,"Adic_Nat.Ad_12","Aula 12",35.380000000000003,17.720000000000002,null,"Adic_Nat.Inf_12","Aula 12",26.32,8.66,null,"Adic_Hidr_12","Aula 12",38.81,21.150000000000002]
[null,{"$f":"C51","v":"Prof. Nível A"},{"$f":"$A$23&B24","v":"Aprendizagem AProf. Nível A"},17.655000000000001,25.270189999999996,30.319520000000004,35.38062,39.590000000000003,null,null,null,null,null,null,null,null,null,null,null,null,null,null,null,null,null,null,"Adic_Nat.Ad_13","Aula 13",38.06,20.400000000000002,null,"Adic_Nat.Inf_13","Aula 13",26.506039999999999,8.8460399999999986,null,"Adic_Hidr_13","Aula 13",40.783049999999996,23.123049999999996]
[null,"Prof. Nível B","Aprendizagem AProf. Nível B",17.66,21.97,26.08,29.92,32.64,null,null,null,null,null,null,null,null,null,null,null,null,null,null,null,null,null,null,null,null,null,null,null,"Adic_Nat.Inf_14","Aula 14",27.188700000000001,9.5287000000000006,null,"Adic_Hidr_14","Aula 14",41.17,23.51]
[null,"Prof. Nível C","Aprendizagem AProf. Nível C",17.66,19.760000000000002,23.68,27.65,30.86,null,null,null,null,null,null,null,null,null,null,null,null,null,null,null,null,null,null,null,null,null,null,null,"Adic_Nat.Inf_15","Aula 15",27.45,9.7899999999999991,null,"Adic_Hidr_15","Aula 15",43.501919999999998,25.841919999999998]
[null,"Estagiário","Aprendizagem AEstagiário",17.655000000000001,17.655000000000001,17.655000000000001,17.655000000000001,17.655000000000001,null,null,null,null,null,null,null,null,null,null,null,null,null,null,null,null,null,null,null,null,null,null,null,"Adic_Nat.Inf_16","Aula 16",27.65,9.9899999999999984,null,"Adic_Hidr_16","Aula 16",46.220790000000001,28.560790000000001]
[{"$f":"C5","v":"Aprendizagem B"},{"$f":"C50","v":"Prof. Especial"},{"$f":"$A$28&B28","v":"Aprendizagem BProf. Especial"},17.655000000000001,27.188700000000001,32.626439999999995,38.064180000000007,41.2699,null,null,null,null,null,null,null,null,null,null,null,null,null,null,null,null,null,null,null,null,null,null,null,"Adic_Nat.Inf_17","Aula 17",28.554020000000001,10.894020000000001,null,"Adic_Hidr_17","Aula 17",48.939660000000003,31.279660000000003]
[null,{"$f":"C51","v":"Prof. Nível A"},{"$f":"$A$28&B29","v":"Aprendizagem BProf. Nível A"},17.655000000000001,25.270189999999996,30.319520000000004,35.38062,39.590000000000003,null,null,null,null,null,null,null,null,null,null,null,null,null,null,null,null,null,null,null,null,null,null,null,"Adic_Nat.Inf_18","Aula 18",28.83,11.169999999999998]
[null,"Prof. Nível B","Aprendizagem BProf. Nível B",17.66,21.97,26.08,29.92,32.64,null,null,null,null,null,null,null,null,null,null,null,null,null,null,null,null,null,null,null,null,null,null,null,"Adic_Nat.Inf_19","Aula 19",29.09,11.43]
[null,"Prof. Nível C","Aprendizagem BProf. Nível C",17.66,19.760000000000002,23.68,27.65,30.86,null,null,null,null,null,null,null,null,null,null,null,null,null,null,null,null,null,null,null,null,null,null,null,"Adic_Nat.Inf_20","Aula 20",29.92,12.260000000000002]
[null,"Estagiário","Aprendizagem BEstagiário",17.655000000000001,17.655000000000001,17.655000000000001,17.655000000000001,17.655000000000001,null,null,null,null,null,null,null,null,null,null,null,null,null,null,null,null,null,null,null,null,null,null,null,"Adic_Nat.Inf_21","Aula 21",30.319520000000004,12.659520000000004]
[{"$f":"C6","v":"Adaptação"},{"$f":"C50","v":"Prof. Especial"},{"$f":"$A$33&B33","v":"AdaptaçãoProf. Especial"},17.655000000000001,28.554020000000001,33.991759999999999,39.429500000000004,42.628800000000005,null,null,null,null,null,null,null,null,null,null,null,null,null,null,null,null,null,null,null,null,null,null,null,"Adic_Nat.Inf_22","Aula 22",30.86,13.2]
[null,{"$f":"C51","v":"Prof. Nível A"},{"$f":"$A$33&B34","v":"AdaptaçãoProf. Nível A"},17.655000000000001,26.506039999999999,31.27289,36.710630000000002,40.980999999999995,null,null,null,null,null,null,null,null,null,null,null,null,null,null,null,null,null,null,null,null,null,null,null,"Adic_Nat.Inf_23","Aula 23",30.88,13.219999999999999]
[null,"Prof. Nível B","AdaptaçãoProf. Nível B",17.66,23.33,27.45,30.88,34.090000000000003,null,null,null,null,null,null,null,null,null,null,null,null,null,null,null,null,null,null,null,null,null,null,null,"Adic_Nat.Inf_24","Aula 24",31.27289,13.61289]
[null,"Prof. Nível C","AdaptaçãoProf. Nível C",17.66,20.79,24.94,24.09,32.299999999999997,null,null,null,null,null,null,null,null,null,null,null,null,null,null,null,null,null,null,null,null,null,null,null,"Adic_Nat.Inf_25","Aula 25",31.57,13.91]
[null,"Estagiário","AdaptaçãoEstagiário",17.655000000000001,17.655000000000001,17.655000000000001,17.655000000000001,17.655000000000001,null,null,null,null,null,null,null,null,null,null,null,null,null,null,null,null,null,null,null,null,null,null,null,"Adic_Nat.Inf_26","Aula 26",31.86,14.2]
[{"$f":"C7","v":"Iniciação"},{"$f":"C50","v":"Prof. Especial"},{"$f":"$A$38&B38","v":"IniciaçãoProf. Especial"},17.655000000000001,28.554020000000001,33.991759999999999,39.429500000000004,42.628800000000005,null,null,null,null,null,null,null,null,null,null,null,null,null,null,null,null,null,null,null,null,null,null,null,"Adic_Nat.Inf_27","Aula 27",32.299999999999997,14.639999999999997]
[null,{"$f":"C51","v":"Prof. Nível A"},{"$f":"$A$38&B39","v":"IniciaçãoProf. Nível A"},17.655000000000001,26.506039999999999,31.27289,36.710630000000002,40.980999999999995,null,null,null,null,null,null,null,null,null,null,null,null,null,null,null,null,null,null,null,null,null,null,null,"Adic_Nat.Inf_28","Aula 28",32.626439999999995,14.966439999999995]
[null,"Prof. Nível B","IniciaçãoProf. Nível B",17.66,23.33,27.45,30.88,34.090000000000003,null,null,null,null,null,null,null,null,null,null,null,null,null,null,null,null,null,null,null,null,null,null,null,"Adic_Nat.Inf_29","Aula 29",32.64,14.98]
[null,"Prof. Nível C","IniciaçãoProf. Nível C",17.66,20.79,24.94,29.09,32.299999999999997,null,null,null,null,null,null,null,null,null,null,null,null,null,null,null,null,null,null,null,null,null,null,null,"Adic_Nat.Inf_30","Aula 30",33.991759999999999,16.331759999999999]
[null,"Estagiário","IniciaçãoEstagiário",17.655000000000001,17.655000000000001,17.655000000000001,17.655000000000001,17.655000000000001,null,null,null,null,null,null,null,null,null,null,null,null,null,null,null,null,null,null,null,null,null,null,null,"Adic_Nat.Inf_31","Aula 31",34.090000000000003,16.430000000000003]
[{"$f":"C8","v":"Hidroginástica"},{"$f":"C50","v":"Prof. Especial"},{"$f":"$A$43&B43","v":"HidroginásticaProf. Especial"},17.655000000000001,32.626439999999995,38.064180000000007,43.501919999999998,48.939660000000003,null,null,null,null,null,null,null,null,null,null,null,null,null,null,null,null,null,null,null,null,null,null,null,"Adic_Nat.Inf_32","Aula 32",34.31,16.650000000000002]
[null,{"$f":"C51","v":"Prof. Nível A"},{"$f":"$A$43&B44","v":"HidroginásticaProf. Nível A"},17.655000000000001,30.319520000000004,35.345309999999998,40.783049999999996,46.220790000000001,null,null,null,null,null,null,null,null,null,null,null,null,null,null,null,null,null,null,null,null,null,null,null,"Adic_Nat.Inf_33","Aula 33",35.345309999999998,17.685309999999998]
[null,"Prof. Nível B","HidroginásticaProf. Nível B",17.66,26.08,30.2,35.68,41.17,null,null,null,null,null,null,null,null,null,null,null,null,null,null,null,null,null,null,null,null,null,null,null,"Adic_Nat.Inf_34","Aula 34",35.38062,17.72062]
[null,"Prof. Nível C","HidroginásticaProf. Nível C",17.66,23.68,27.65,33.42,38.81,null,null,null,null,null,null,null,null,null,null,null,null,null,null,null,null,null,null,null,null,null,null,null,"Adic_Nat.Inf_35","Aula 35",36.710630000000002,19.050630000000002]
[null,"Estagiário","HidroginásticaEstagiário",17.655000000000001,17.655000000000001,17.655000000000001,17.655000000000001,17.655000000000001,null,null,null,null,null,null,null,null,null,null,null,null,null,null,null,null,null,null,null,null,null,null,null,"Adic_Nat.Inf_36","Aula 36",38.064180000000007,20.404180000000007]
[null,null,null,null,null,null,null,null,null,null,null,null,null,null,null,null,null,null,null,null,null,null,null,null,null,null,null,null,null,null,null,"Adic_Nat.Inf_37","Aula 37",39.429500000000004,21.769500000000004]
[null,null,"Níveis",null,null,null,null,null,null,null,null,null,null,null,null,null,null,null,null,null,null,null,null,null,null,null,null,null,null,null,null,"Adic_Nat.Inf_38","Aula 38",39.590000000000003,21.930000000000003]
[null,null,"Prof. Especial",null,null,null,null,null,null,null,null,null,null,null,null,null,null,null,null,null,null,null,null,null,null,null,null,null,null,null,null,"Adic_Nat.Inf_39","Aula 39",40.783049999999996,23.123049999999996]
[null,null,"Prof. Nível A"," Sandra",null,null,null,null,null,null,null,null,null,null,null,null,null,null,null,null,null,null,null,null,null,null,null,null,null,null,null,"Adic_Nat.Inf_40","Aula 40",40.980999999999995,23.320999999999994]
[null,null,"Prof. Nível B","Bruno",null,null,null,null,null,null,null,null,null,null,null,null,null,null,null,null,null,null,null,null,null,null,null,null,null,null,null,"Adic_Nat.Inf_41","Aula 41",41.2699,23.6099]
[null,null,"Prof. Nível C",null,null,null,null,null,null,null,null,null,null,null,null,null,null,null,null,null,null,null,null,null,null,null,null,null,null,null,null,"Adic_Nat.Inf_42","Aula 42",42.628800000000005,24.968800000000005]
[null,null,"Estagiário",null,null,null,null,null,null,null,null,null,null,null,null,null,null,null,null,null,null,null,null,null,null,null,null,null,null,null,null,"Adic_Nat.Inf_43","Aula 43",43.501919999999998,25.841919999999998]
[null,null,null,null,null,null,null,null,null,null,null,null,null,null,null,null,null,null,null,null,null,null,null,null,null,null,null,null,null,null,null,"Adic_Nat.Inf_44","Aula 44",46.220790000000001,28.560790000000001]
[null,null,null,null,null,null,null,null,null,null,null,null,null,null,null,null,null,null,null,null,null,null,null,null,null,null,null,null,null,null,null,"Adic_Nat.Inf_45","Aula 45",48.939660000000003,31.279660000000003]

{"sheet":"Impostos","index":1,"n_rows":10,"n_cols":11,"rows_kept":10,"cut":false,"hidden":true,"merged":[[2,2,2,3],[1,1,1,5],[2,8,2,9],[9,7,9,8],[1,7,1,10]]}
[]
[null,"INSS",null,null,null,null,null,"IRRF"]
[null,"ALÍQUOTA ","FAIXA SALARIAL",null,null,"PARC DEDUZIR",null,"ALÍQUOTA ","FAIXA SALARIAL",null,"PARC DEDUZIR"]
[null,7.4999999999999997E-2,0,1212,{"$f":"D4*B4","v":90.899999999999991},0,null,0,0,1903.98,0]
[null,0.09,{"$f":"D4+0.01","v":1212.01},2427.35,{"$f":"(D5-D4)*B5","v":109.38149999999999},18.18,null,7.4999999999999997E-2,{"$f":"J4+0.01","v":1903.99},2826.65,142.80000000000001]
[null,0.12,{"$f":"D5+0.01","v":2427.36},3641.03,{"$f":"(D6-D5)*B6","v":145.64160000000004},91,null,0.15,{"$f":"J5+0.01","v":2826.6600000000003},3751.05,354.8]
[null,0.14000000000000001,{"$f":"D6+0.01","v":3641.0400000000004},7087.22,828.39,163.82,null,0.22500000000000001,{"$f":"J6+0.01","v":3751.0600000000004},4664.68,636.13]
[null,null,null,null,null,null,null,0.27500000000000002,{"$f":"J7+0.01","v":4664.6900000000005},999999.99,869.36]
[]
[null,null,null,null,null,null,null,"DEDUÇÃO POR DEPENDENTE",null,189.59]

{"sheet":"Bruno Cauê Lang Souza","index":2,"n_rows":102,"n_cols":59,"rows_kept":102,"cut":false,"hidden":true,"merged":[[1,9,1,11],[1,12,1,15],[1,17,1,18],[1,19,1,20],[1,23,1,24],[0,45,0,48],[0,50,0,53],[0,55,0,58],[1,25,1,26],[3,19,3,21],[4,9,4,12],[4,15,4,16],[4,19,4,21],[7,12,7,17],[12,45,12,46],[4,24,4,25],[5,19,5,21],[12,47,12,48],[12,50,12,51],[12,52,12,53],[16,10,16,18],[16,20,16,27],[15,10,15,12],[15,13,15,15],[15,17,15,18],[21,30,21,36],[26,10,26,12],[26,13,26,15],[26,17,26,18],[27,10,27,18],[27,20,27,27],[32,30,32,36],[37,10,37,12],[37,13,37,15],[37,17,37,18],[38,10,38,18],[38,20,38,27],[43,30,43,36],[48,10,48,12],[48,13,48,15],[48,17,48,18],[49,10,49,18],[49,20,49,27],[54,30,54,36],[59,10,59,12],[59,13,59,15],[59,17,59,18],[60,10,60,18],[60,20,60,27],[65,30,65,36],[70,10,70,12],[70,13,70,15],[70,17,70,18],[82,10,82,18],[82,20,82,27],[87,30,87,36],[71,10,71,18],[71,20,71,27],[76,30,76,36],[81,10,81,12],[81,13,81,15],[81,17,81,18]]}
[null,null,null,null,null,null,null,null,null,null,null,null,null,null,null,null,null,null,null,null,null,null,null,null,null,null,null,null,null,null,null,null,null,null,null,null,null,null,null,null,null,null,null,null,null,"Valores",null,null,null,null,"Aulas",null,null,null,null,"Alunos"]
[null,"Nat. Adulta","Nat. Bebê","Aprend. A","Aprend. B","Adaptação","Iniciação","Hidrogin.",null,"Professor(a)",null,null,{"$f":"AE5","v":"Bruno Cauê Lang Souza"},null,null,null,null,null,null,null,null,null,null,"Referência",null,"2025-07-01",null,null,null,null,"Natação Adulta","Natação Bebê","Aprendizagem A","Aprendizagem B","Adaptação","Iniciação","Hidroginástica",null,null,null,null,null,{"$f":"TRANSPOSE(AE2:AK3)","v":"Natação Adulta"},184,null,"TOT NA","TOT BB","TOT IN","TOT HI",null,"TOT NA","TOT BB","TOT IN","TOT HI",null,"TOT NA","TOT BB","TOT IN","TOT HI"]
[null,null,null,null,null,null,null,null,null,null,null,null,null,null,null,null,null,null,null,null,null,null,null,null,null,null,null,null,null,null,{"$f":"B102","v":184},0,53,65,0,0,80,null,null,null,null,null,"Natação Bebê",0]
[null,2,null,4,8,null,null,6,null,null,null,null,null,null,null,null,null,null,null,"Salário Bruto",null,null,{"$f":"R12+V11+Y11","v":2448.92},null,null,null,null,null,null,null,{"$f":"CELL(\"nome.arquivo\",AE5)","v":"C:\\Users\\SAMSUNG\\Downloads\\[Aulas de Julho - NOVA.xlsm]Bruno Cauê Lang Souza"},null,null,null,null,null,null,null,null,null,null,null,"Aprendizagem A",53,null,{"$f":"IF($N$16=\"Natação Adulta\",$Q$24,0)","v":1469.6799999999998},{"$f":"IF($N$16=\"Natação Bebê\",$Q$24,0)","v":0},{"$f":"IF(AND($N$16<>\"Natação Adulta\",$N$16<>\"Natação Bebê\",$N$16<>\"Hidroginástica\"),$Q$24,0)","v":0},{"$f":"IF($N$16=\"Hidroginástica\",$Q$24,0)","v":0},null,{"$f":"IF($N$16=\"Natação Adulta\",$Q$23,0)","v":63},{"$f":"IF($N$16=\"Natação Bebê\",$Q$23,0)","v":0},{"$f":"IF(AND($N$16<>\"Natação Adulta\",$N$16<>\"Natação Bebê\",$N$16<>\"Hidroginástica\"),$Q$23,0)","v":0},{"$f":"IF($N$16=\"Hidroginástica\",$Q$23,0)","v":0},null,{"$f":"IF($N$16=\"Natação Adulta\",$Q$22,0)","v":184},{"$f":"IF($N$16=\"Natação Bebê\",$Q$22,0)","v":0},{"$f":"IF(AND($N$16<>\"Natação Adulta\",$N$16<>\"Natação Bebê\",$N$16<>\"Hidroginástica\"),$Q$22,0)","v":0},{"$f":"IF($N$16=\"Hidroginástica\",$Q$22,0)","v":0}]
[null,3,null,6,7,null,null,8,null,"Total de Alunos",null,null,null,{"$f":"R10+V9+Y9","v":382},null,"Total de Aulas",null,{"$f":"R11+V10+Y10","v":100},null,"INSS Total",null,null,{"$f":"BE14","v":202.8699},null,"Contabilidade",null,{"$f":"SUM(W21:AB21)+SUM(W32:AB32)+SUM(W43:AB43)+SUM(W54:AB54)+SUM(W65:AB65)+SUM(W76:AB76)+SUM(W87:AB87)","v":2448.92},null,null,null,{"$f":"MID(AE4,SEARCH(\"]\",AE4)+1,LEN(AE4)-SEARCH(\"]\",AE4)+1)","v":"Bruno Cauê Lang Souza"},null,null,{"$f":"MID(AE4,AF5+1,AG5-AF5)","v":""},null,null,null,null,null,null,null,null,"Aprendizagem B",65,null,{"$f":"IF($N$27=\"Natação Adulta\",$Q$35,0)","v":0},{"$f":"IF($N$27=\"Natação Bebê\",$Q$35,0)","v":0},{"$f":"IF(AND($N$27<>\"Natação Adulta\",$N$27<>\"Natação Bebê\",$N$27<>\"Hidroginástica\"),$Q$35,0)","v":0},{"$f":"IF($N$27=\"Hidroginástica\",$Q$35,0)","v":0},null,{"$f":"IF($N$27=\"Natação Adulta\",$Q$34,0)","v":0},{"$f":"IF($N$27=\"Natação Bebê\",$Q$34,0)","v":0},{"$f":"IF(AND($N$27<>\"Natação Adulta\",$N$27<>\"Natação Bebê\",$N$27<>\"Hidroginástica\"),$Q$34,0)","v":0},{"$f":"IF($N$27=\"Hidroginástica\",$Q$34,0)","v":0},null,{"$f":"IF($N$27=\"Natação Adulta\",$Q$33,0)","v":0},{"$f":"IF($N$27=\"Natação Bebê\",$Q$33,0)","v":0},{"$f":"IF(AND($N$27<>\"Natação Adulta\",$N$27<>\"Natação Bebê\",$N$27<>\"Hidroginástica\"),$Q$33,0)","v":0},{"$f":"IF($N$27=\"Hidroginástica\",$Q$33,0)","v":0}]
[null,4,null,3,7,null,null,9,null,null,null,null,null,null,null,null,null,null,null,"Salário Líquido",null,null,{"$f":"BE20","v":2246.0500999999999},null,null,null,null,null,null,null,null,null,null,null,null,null,null,null,null,null,null,null,"Adaptação",0,null,{"$f":"IF($N$38=\"Natação Adulta\",$Q$46,0)","v":0},{"$f":"IF($N$38=\"Natação Bebê\",$Q$46,0)","v":0},{"$f":"IF(AND($N$38<>\"Natação Adulta\",$N$38<>\"Natação Bebê\",$N$38<>\"Hidroginástica\"),$Q$46,0)","v":411.42},{"$f":"IF($N$38=\"Hidroginástica\",$Q$46,0)","v":0},null,{"$f":"IF($N$38=\"Natação Adulta\",$Q$45,0)","v":0},{"$f":"IF($N$38=\"Natação Bebê\",$Q$45,0)","v":0},{"$f":"IF(AND($N$38<>\"Natação Adulta\",$N$38<>\"Natação Bebê\",$N$38<>\"Hidroginástica\"),$Q$45,0)","v":16},{"$f":"IF($N$38=\"Hidroginástica\",$Q$45,0)","v":0},null,{"$f":"IF($N$38=\"Natação Adulta\",$Q$44,0)","v":0},{"$f":"IF($N$38=\"Natação Bebê\",$Q$44,0)","v":0},{"$f":"IF(AND($N$38<>\"Natação Adulta\",$N$38<>\"Natação Bebê\",$N$38<>\"Hidroginástica\"),$Q$44,0)","v":53},{"$f":"IF($N$38=\"Hidroginástica\",$Q$44,0)","v":0}]
[null,4,null,3,7,null,null,7,null,null,null,null,null,null,null,null,null,null,null,null,null,null,null,null,null,null,null,null,null,null,null,null,null,null,null,null,null,null,null,null,null,null,"Iniciação",0,null,{"$f":"IF($N$49=\"Natação Adulta\",$Q$57,0)","v":0},{"$f":"IF($N$49=\"Natação Bebê\",$Q$57,0)","v":0},{"$f":"IF(AND($N$49<>\"Natação Adulta\",$N$49<>\"Natação Bebê\",$N$49<>\"Hidroginástica\"),$Q$57,0)","v":238.56},{"$f":"IF($N$49=\"Hidroginástica\",$Q$57,0)","v":0},null,{"$f":"IF($N$49=\"Natação Adulta\",$Q$56,0)","v":0},{"$f":"IF($N$49=\"Natação Bebê\",$Q$56,0)","v":0},{"$f":"IF(AND($N$49<>\"Natação Adulta\",$N$49<>\"Natação Bebê\",$N$49<>\"Hidroginástica\"),$Q$56,0)","v":9},{"$f":"IF($N$49=\"Hidroginástica\",$Q$56,0)","v":0},null,{"$f":"IF($N$49=\"Natação Adulta\",$Q$55,0)","v":0},{"$f":"IF($N$49=\"Natação Bebê\",$Q$55,0)","v":0},{"$f":"IF(AND($N$49<>\"Natação Adulta\",$N$49<>\"Natação Bebê\",$N$49<>\"Hidroginástica\"),$Q$55,0)","v":65},{"$f":"IF($N$49=\"Hidroginástica\",$Q$55,0)","v":0}]
[null,1,null,5,8,null,null,8,null,null,null,null,"Natação Infantil",null,null,null,null,null,null,null,"Natação Adulta",null,null,"Hidroginástica",null,null,null,null,null,null,null,null,null,null,null,null,null,null,null,null,null,null,"Hidroginástica",80,null,{"$f":"IF($N$60=\"Natação Adulta\",$Q$68,0)","v":0},{"$f":"IF($N$60=\"Natação Bebê\",$Q$68,0)","v":0},{"$f":"IF(AND($N$60<>\"Natação Adulta\",$N$60<>\"Natação Bebê\",$N$60<>\"Hidroginástica\"),$Q$68,0)","v":0},{"$f":"IF($N$60=\"Hidroginástica\",$Q$68,0)","v":0},null,{"$f":"IF($N$60=\"Natação Adulta\",$Q$67,0)","v":0},{"$f":"IF($N$60=\"Natação Bebê\",$Q$67,0)","v":0},{"$f":"IF(AND($N$60<>\"Natação Adulta\",$N$60<>\"Natação Bebê\",$N$60<>\"Hidroginástica\"),$Q$67,0)","v":0},{"$f":"IF($N$60=\"Hidroginástica\",$Q$67,0)","v":0},null,{"$f":"IF($N$60=\"Natação Adulta\",$Q$66,0)","v":0},{"$f":"IF($N$60=\"Natação Bebê\",$Q$66,0)","v":0},{"$f":"IF(AND($N$60<>\"Natação Adulta\",$N$60<>\"Natação Bebê\",$N$60<>\"Hidroginástica\"),$Q$66,0)","v":0},{"$f":"IF($N$60=\"Hidroginástica\",$Q$66,0)","v":0}]
[null,2,null,4,7,null,null,8,null,null,null,null,"Natação Bebê",null,"Demais",null,"Total Infantil",null,null,null,"Alunos",{"$f":"BD11","v":184},null,"Alunos",{"$f":"BG11","v":80},null,null,null,null,null,null,null,null,null,null,null,null,null,null,null,null,null,null,null,null,{"$f":"IF($N$71=\"Natação Adulta\",$Q$79,0)","v":0},{"$f":"IF($N$71=\"Natação Bebê\",$Q$79,0)","v":0},{"$f":"IF(AND($N$71<>\"Natação Adulta\",$N$71<>\"Natação Bebê\",$N$71<>\"Hidroginástica\"),$Q$79,0)","v":0},{"$f":"IF($N$71=\"Hidroginástica\",$Q$79,0)","v":329.26},null,{"$f":"IF($N$71=\"Natação Adulta\",$Q$78,0)","v":0},{"$f":"IF($N$71=\"Natação Bebê\",$Q$78,0)","v":0},{"$f":"IF(AND($N$71<>\"Natação Adulta\",$N$71<>\"Natação Bebê\",$N$71<>\"Hidroginástica\"),$Q$78,0)","v":0},{"$f":"IF($N$71=\"Hidroginástica\",$Q$78,0)","v":12},null,{"$f":"IF($N$71=\"Natação Adulta\",$Q$77,0)","v":0},{"$f":"IF($N$71=\"Natação Bebê\",$Q$77,0)","v":0},{"$f":"IF(AND($N$71<>\"Natação Adulta\",$N$71<>\"Natação Bebê\",$N$71<>\"Hidroginástica\"),$Q$77,0)","v":0},{"$f":"IF($N$71=\"Hidroginástica\",$Q$77,0)","v":80}]
[null,3,null,4,9,null,null,10,null,null,"Contábil",null,"Alunos",{"$f":"BE11","v":0},"Alunos",{"$f":"BF11","v":118},"Alunos",{"$f":"N10+P10","v":118},null,null,"Aulas",{"$f":"AY11","v":63},null,"Aulas",{"$f":"BB11","v":12},null,null,null,null,null,null,null,null,null,null,null,null,null,null,null,null,null,null,null,null,{"$f":"IF($N$82=\"Natação Adulta\",$Q$90,0)","v":0},{"$f":"IF($N$82=\"Natação Bebê\",$Q$90,0)","v":0},{"$f":"IF(AND($N$82<>\"Natação Adulta\",$N$82<>\"Natação Bebê\",$N$82<>\"Hidroginástica\"),$Q$90,0)","v":""},{"$f":"IF($N$82=\"Hidroginástica\",$Q$90,0)","v":0},null,{"$f":"IF($N$82=\"Natação Adulta\",$Q$89,0)","v":0},{"$f":"IF($N$82=\"Natação Bebê\",$Q$89,0)","v":0},{"$f":"IF(AND($N$82<>\"Natação Adulta\",$N$82<>\"Natação Bebê\",$N$82<>\"Hidroginástica\"),$Q$89,0)","v":""},{"$f":"IF($N$82=\"Hidroginástica\",$Q$89,0)","v":0},null,{"$f":"IF($N$82=\"Natação Adulta\",$Q$88,0)","v":0},{"$f":"IF($N$82=\"Natação Bebê\",$Q$88,0)","v":0},{"$f":"IF(AND($N$82<>\"Natação Adulta\",$N$82<>\"Natação Bebê\",$N$82<>\"Hidroginástica\"),$Q$88,0)","v":""},{"$f":"IF($N$82=\"Hidroginástica\",$Q$88,0)","v":0}]
[null,3,null,4,5,null,null,5,null,null,"Sistema",null,"Aulas",{"$f":"AZ11","v":0},"Aulas",{"$f":"BA11","v":25},"Aulas",25,null,null,"Bruto",{"$f":"AT11","v":1469.6799999999998},null,"Bruto",{"$f":"AW11","v":329.26},null,null,null,null,null,null,null,null,null,null,null,null,null,null,null,null,null,null,null,null,{"$f":"SUM(AT4:AT10)","v":1469.6799999999998},{"$f":"SUM(AU4:AU10)","v":0},649.98,329.26,null,{"$f":"SUM(AY4:AY10)","v":63},{"$f":"SUM(AZ4:AZ10)","v":0},25,12,null,{"$f":"SUM(BD4:BD10)","v":184},{"$f":"SUM(BE4:BE10)","v":0},118,80]
[null,3,null,5,7,null,null,0,null,null,"Sistema",null,"Bruto",{"$f":"AU11","v":0},"Bruto",{"$f":"AV11","v":649.98},"Bruto",649.98,null,null,"INSS",{"$f":"AZ15","v":114.09119999999997},null,"INSS",{"$f":"BB15","v":24.694499999999998}]
[null,4,null,5,null,null,null,8,null,null,null,null,"INSS",{"$f":"AU15","v":0},"INSS",{"$f":"AW15","v":48.7485},"INSS",48.7485,null,null,"Líquido",{"$f":"V11-V12","v":1355.5887999999998},null,"Líquido",{"$f":"Y11-Y12","v":304.56549999999999},null,null,null,null,null,null,null,null,null,null,null,null,null,null,null,null,null,null,null,null,"Natação Bebê",null,"Demais",null,null,"Natação Adulta",null,"Hidroginástica",null,null,"Bruto Informado",{"$f":"AU14+AW14+AZ14+BB14","v":2448.92}]
[null,2,null,3,null,null,null,5,null,null,null,null,"Líquido",{"$f":"N12-N13","v":0},"Líquido",{"$f":"P12-P13","v":601.23149999999998},"Líquido",{"$f":"N14+P14","v":601.23149999999998},null,null,null,null,null,null,null,null,null,null,null,null,null,null,null,null,null,null,null,null,null,null,null,null,null,null,null,"Salário",{"$f":"AU11","v":0},"Salário",{"$f":"AV11","v":649.98},null,"Salário",{"$f":"AT11","v":1469.6799999999998},"Salário",{"$f":"AW11","v":329.26},null,"INSS ",{"$f":"IF(BE13<=Impostos!$D$4,BE13*Impostos!$B$4,IF(BE13<=Impostos!$D$5,(BE13-Impostos!$D$4)*Impostos!$B$5+Impostos!$E$4,IF(BE13<=Impostos!$D$6,(BE13-(Impostos!$D$5-Impostos!$D$4)-Impostos!$D$4)*Impostos!$B$6+Impostos!$E$5+Impostos!$E$4,IF(BE13<=Impostos!$D$7,(BE13-(Impostos!$D$6-Impostos!$D$5)-(Impostos!$D$5-Impostos!$D$4)-Impostos!$D$4)*Impostos!$B$7+Impostos!$E$6+Impostos!$E$5+Impostos!$E$4,IF(BE13>=Impostos!$E$7,Impostos!$E$7)))))","v":202.8699}]
[null,2,null,5,null,null,null,6,null,null,null,null,null,null,null,null,null,null,null,null,null,null,null,null,null,null,null,null,null,null,null,null,null,null,null,null,null,null,null,null,null,null,null,null,null,"INSS",{"$f":"IF(AU14<=Impostos!$D$4,AU14*Impostos!$B$4,IF(AU14<=Impostos!$D$5,(AU14-Impostos!$D$4)*Impostos!$B$5+Impostos!$E$4,IF(AU14<=Impostos!$D$6,(AU14-(Impostos!$D$5-Impostos!$D$4)-Impostos!$D$4)*Impostos!$B$6+Impostos!$E$5+Impostos!$E$4,IF(AU14<=Impostos!$D$7,(AU14-(Impostos!$D$6-Impostos!$D$5)-(Impostos!$D$5-Impostos!$D$4)-Impostos!$D$4)*Impostos!$B$7+Impostos!$E$6+Impostos!$E$5+Impostos!$E$4,IF(AU14>=Impostos!$E$7,Impostos!$E$7)))))","v":0},"INSS",{"$f":"IF(AW14<=Impostos!$D$4,AW14*Impostos!$B$4,IF(AW14<=Impostos!$D$5,(AW14-Impostos!$D$4)*Impostos!$B$5+Impostos!$E$4,IF(AW14<=Impostos!$D$6,(AW14-(Impostos!$D$5-Impostos!$D$4)-Impostos!$D$4)*Impostos!$B$6+Impostos!$E$5+Impostos!$E$4,IF(AW14<=Impostos!$D$7,(AW14-(Impostos!$D$6-Impostos!$D$5)-(Impostos!$D$5-Impostos!$D$4)-Impostos!$D$4)*Impostos!$B$7+Impostos!$E$6+Impostos!$E$5+Impostos!$E$4,IF(AW14>=Impostos!$E$7,Impostos!$E$7)))))","v":48.7485},null,"INSS",{"$f":"IF(AZ14<=Impostos!$D$4,AZ14*Impostos!$B$4,IF(AZ14<=Impostos!$D$5,(AZ14-Impostos!$D$4)*Impostos!$B$5+Impostos!$E$4,IF(AZ14<=Impostos!$D$6,(AZ14-(Impostos!$D$5-Impostos!$D$4)-Impostos!$D$4)*Impostos!$B$6+Impostos!$E$5+Impostos!$E$4,IF(AZ14<=Impostos!$D$7,(AZ14-(Impostos!$D$6-Impostos!$D$5)-(Impostos!$D$5-Impostos!$D$4)-Impostos!$D$4)*Impostos!$B$7+Impostos!$E$6+Impostos!$E$5+Impostos!$E$4,IF(AZ14>=Impostos!$E$7,Impostos!$E$7)))))","v":114.09119999999997},"INSS",{"$f":"IF(BB14<=Impostos!$D$4,BB14*Impostos!$B$4,IF(BB14<=Impostos!$D$5,(BB14-Impostos!$D$4)*Impostos!$B$5+Impostos!$E$4,IF(BB14<=Impostos!$D$6,(BB14-(Impostos!$D$5-Impostos!$D$4)-Impostos!$D$4)*Impostos!$B$6+Impostos!$E$5+Impostos!$E$4,IF(BB14<=Impostos!$D$7,(BB14-(Impostos!$D$6-Impostos!$D$5)-(Impostos!$D$5-Impostos!$D$4)-Impostos!$D$4)*Impostos!$B$7+Impostos!$E$6+Impostos!$E$5+Impostos!$E$4,IF(BB14>=Impostos!$E$7,Impostos!$E$7)))))","v":24.694499999999998},null,"Líquido ",{"$f":"BE13-BE14","v":2246.0500999999999}]
[null,3,null,0,null,null,null,null,null,null,"Modalidade",null,null,"Natação Adulta",null,null,"Nível","Prof. Nível B",null,null,null,null,null,null,null,null,null,null,null,null,{"$f":"VLOOKUP(N16,Configurações!$J$1:$V$9,2,0)","v":"0"},{"$f":"VLOOKUP(N16,Configurações!$J$1:$V$9,3,0)","v":"0"},{"$f":"VLOOKUP(N16,Configurações!$J$1:$V$9,4,0)","v":"1 "},{"$f":"VLOOKUP(N16,Configurações!$J$1:$V$9,5,0)","v":" 3"},{"$f":"VLOOKUP(N16,Configurações!$J$1:$V$9,6,0)","v":"4 "},{"$f":"VLOOKUP(N16,Configurações!$J$1:$V$9,7,0)","v":" 5"},{"$f":"VLOOKUP(N16,Configurações!$J$1:$V$9,8,0)","v":"6 "},{"$f":"VLOOKUP(N16,Configurações!$J$1:$V$9,9,0)","v":" 8"},{"$f":"VLOOKUP(N16,Configurações!$J$1:$V$9,10,0)","v":""},{"$f":"VLOOKUP(N16,Configurações!$J$1:$V$9,11,0)","v":""},{"$f":"VLOOKUP(N16,Configurações!$J$1:$V$9,12,0)","v":""},{"$f":"VLOOKUP(N16,Configurações!$J$1:$V$9,13,0)","v":""}]
[null,3,null,1,null,null,null,null,null,null,"Academia",null,null,null,null,null,null,null,null,null,"Contabilidade",null,null,null,null,null,null,null,null,null,{"$f":"IFERROR(VLOOKUP(N16,_xlfn.ANCHORARRAY($AQ$2),2,0),0)","v":184},null,null,null,null,null,null,null,null,null,null,null,null,null,null,null,null,null,null,null,null,null,null,null,null,"Líquido Calcl",{"$f":"R14+V13+Y13","v":2261.3858}]
[null,1,null,0,null,null,null,null,null,null,"Nr. de Alunos",null,null,{"$f":"IF(AF23<>\"\",AF23,\"\")","v":0},{"$f":"IF(AG23<>\"\",AG23,\"\")","v":"1 a 3"},{"$f":"IF(AH23<>\"\",AH23,\"\")","v":"4 a 5"},{"$f":"IF(AI23<>\"\",AI23,\"\")","v":"6 a 8"},{"$f":"IF(AJ23<>\"\",AJ23,\"\")","v":""},{"$f":"IF(AK23<>0,AK23,\"\")","v":""},null,"Nr. de Alunos",null,{"$f":"N18","v":0},{"$f":"O18","v":"1 a 3"},"4 a 5","6 a 8","","",null,null,null,{"$f":"IF($N$16=$AE$2,COUNTIF($B$4:$B$100,\">=\"&AE16)-COUNTIF($B$4:$B$100,\">\"&AF16),\nIF($N$16=$AF$2,COUNTIF($C$4:$C$100,\">=\"&AE16)-COUNTIF($C$4:$C$100,\">\"&AF16),\nIF($N$16=$AG$2,COUNTIF($D$4:$D$100,\">=\"&AE16)-COUNTIF($D$4:$D$100,\">\"&AF16),\nIF($N$16=$AH$2,COUNTIF($E$4:$E$100,\">=\"&AE16)-COUNTIF($E$4:$E$100,\">\"&AF16),\nIF($N$16=$AI$2,COUNTIF($F$4:$F$100,\">=\"&AE16)-COUNTIF($F$4:$F$100,\">\"&AF16),\nIF($N$16=$AJ$2,COUNTIF($G$4:$G$100,\">=\"&AE16)-COUNTIF($G$4:$G$100,\">\"&AF16),\nIF($N$16=$AK$2,COUNTIF($H$4:$H$100,\">=\"&AE16)-COUNTIF($H$4:$H$100,\">\"&AF16),\nIF($N$16=\"Sem Uso\",\"\"))))))))","v":1},{"$f":"IF($N$16=$AE$2,COUNTIF($B$4:$B$100,\">=\"&AG16)-COUNTIF($B$4:$B$100,\">\"&AH16),\nIF($N$16=$AF$2,COUNTIF($C$4:$C$100,\">=\"&AG16)-COUNTIF($C$4:$C$100,\">\"&AH16),\nIF($N$16=$AG$2,COUNTIF($D$4:$D$100,\">=\"&AG16)-COUNTIF($D$4:$D$100,\">\"&AH16),\nIF($N$16=$AH$2,COUNTIF($E$4:$E$100,\">=\"&AG16)-COUNTIF($E$4:$E$100,\">\"&AH16),\nIF($N$16=$AI$2,COUNTIF($F$4:$F$100,\">=\"&AG16)-COUNTIF($F$4:$F$100,\">\"&AH16),\nIF($N$16=$AJ$2,COUNTIF($G$4:$G$100,\">=\"&AG16)-COUNTIF($G$4:$G$100,\">\"&AH16),\nIF($N$16=$AK$2,COUNTIF($H$4:$H$100,\">=\"&AG16)-COUNTIF($H$4:$H$100,\">\"&AH16),\nIF($N$16=\"Sem Uso\",\"\"))))))))","v":42},{"$f":"IF($N$16=$AE$2,COUNTIF($B$4:$B$100,\">=\"&AI16)-COUNTIF($B$4:$B$100,\">\"&AJ16),\nIF($N$16=$AF$2,COUNTIF($C$4:$C$100,\">=\"&AI16)-COUNTIF($C$4:$C$100,\">\"&AJ16),\nIF($N$16=$AG$2,COUNTIF($D$4:$D$100,\">=\"&AI16)-COUNTIF($D$4:$D$100,\">\"&AJ16),\nIF($N$16=$AH$2,COUNTIF($E$4:$E$100,\">=\"&AI16)-COUNTIF($E$4:$E$100,\">\"&AJ16),\nIF($N$16=$AI$2,COUNTIF($F$4:$F$100,\">=\"&AI16)-COUNTIF($F$4:$F$100,\">\"&AJ16),\nIF($N$16=$AJ$2,COUNTIF($G$4:$G$100,\">=\"&AI16)-COUNTIF($G$4:$G$100,\">\"&AJ16),\nIF($N$16=$AK$2,COUNTIF($H$4:$H$100,\">=\"&AI16)-COUNTIF($H$4:$H$100,\">\"&AJ16),\nIF($N$16=\"Sem Uso\",\"\"))))))))","v":18},{"$f":"IF($N$16=$AE$2,COUNTIF($B$4:$B$100,\">=\"&AK16)-COUNTIF($B$4:$B$100,\">\"&AL16),\nIF($N$16=$AF$2,COUNTIF($C$4:$C$100,\">=\"&AK16)-COUNTIF($C$4:$C$100,\">\"&AL16),\nIF($N$16=$AG$2,COUNTIF($D$4:$D$100,\">=\"&AK16)-COUNTIF($D$4:$D$100,\">\"&AL16),\nIF($N$16=$AH$2,COUNTIF($E$4:$E$100,\">=\"&AK16)-COUNTIF($E$4:$E$100,\">\"&AL16),\nIF($N$16=$AI$2,COUNTIF($F$4:$F$100,\">=\"&AK16)-COUNTIF($F$4:$F$100,\">\"&AL16),\nIF($N$16=$AJ$2,COUNTIF($G$4:$G$100,\">=\"&AK16)-COUNTIF($G$4:$G$100,\">\"&AL16),\nIF($N$16=$AK$2,COUNTIF($H$4:$H$100,\">=\"&AK16)-COUNTIF($H$4:$H$100,\">\"&AL16),\nIF($N$16=\"Sem Uso\",\"\"))))))))","v":2},{"$f":"IF($N$16=$AE$2,COUNTIF($B$4:$B$100,\">=\"&AM16)-COUNTIF($B$4:$B$100,\">\"&AN16),\nIF($N$16=$AF$2,COUNTIF($C$4:$C$100,\">=\"&AM16)-COUNTIF($C$4:$C$100,\">\"&AN16),\nIF($N$16=$AG$2,COUNTIF($D$4:$D$100,\">=\"&AM16)-COUNTIF($D$4:$D$100,\">\"&AN16),\nIF($N$16=$AH$2,COUNTIF($E$4:$E$100,\">=\"&AM16)-COUNTIF($E$4:$E$100,\">\"&AN16),\nIF($N$16=$AI$2,COUNTIF($F$4:$F$100,\">=\"&AM16)-COUNTIF($F$4:$F$100,\">\"&AN16),\nIF($N$16=$AJ$2,COUNTIF($G$4:$G$100,\">=\"&AM16)-COUNTIF($G$4:$G$100,\">\"&AN16),\nIF($N$16=$AK$2,COUNTIF($H$4:$H$100,\">=\"&AM16)-COUNTIF($H$4:$H$100,\">\"&AN16),\nIF($N$16=\"Sem Uso\",\"\"))))))))","v":0},{"$f":"IF($N$16=$AE$2,COUNTIF($B$4:$B$100,\">=\"&AO16)-COUNTIF($B$4:$B$100,\">\"&AP16),\nIF($N$16=$AF$2,COUNTIF($C$4:$C$100,\">=\"&AO16)-COUNTIF($C$4:$C$100,\">\"&AP16),\nIF($N$16=$AG$2,COUNTIF($D$4:$D$100,\">=\"&AO16)-COUNTIF($D$4:$D$100,\">\"&AP16),\nIF($N$16=$AH$2,COUNTIF($E$4:$E$100,\">=\"&AO16)-COUNTIF($E$4:$E$100,\">\"&AP16),\nIF($N$16=$AI$2,COUNTIF($F$4:$F$100,\">=\"&AO16)-COUNTIF($F$4:$F$100,\">\"&AP16),\nIF($N$16=$AJ$2,COUNTIF($G$4:$G$100,\">=\"&AO16)-COUNTIF($G$4:$G$100,\">\"&AP16),\nIF($N$16=$AK$2,COUNTIF($H$4:$H$100,\">=\"&AO16)-COUNTIF($H$4:$H$100,\">\"&AP16),\nIF($N$16=\"Sem Uso\",\"\"))))))))","v":0},null,null,null,null,null,null,null,null,null,null,null,null,null,null,null,null,null,null,"Diferença",{"$f":"BE15-BE17","v":-15.335700000000088}]
[null,3,null,1,null,null,null,null,null,null,"Valor da Aula",null,null,{"$f":"IF(AF25<>0,AF25,\"\")","v":17.66},21.97,26.08,29.92,"","",null,"Valor da Aula",null,{"$f":"IFERROR(IF(N19<=$S$23,0,N19-$S$23),\"\")","v":17.66},21.97,26.08,29.92,0,0]
[null,6,null,null,null,null,null,null,null,null,"Nr. de Aulas",null,null,{"$f":"IF(AF23<>\"\",AF24,\"\")","v":1},42,18,2,"","",null,"Nr. de Aulas",null,{"$f":"N20","v":1},42,18,2,"","",null,null,{"$f":"IF(N20<>\"\",N20,\"\")","v":1},42,18,2,"","",null,null,null,null,null,null,null,null,null,null,null,null,null,null,null,null,null,null,null,"Líquido Real",{"$f":"BE17+BE18","v":2246.0500999999999}]
[null,3,null,null,null,null,null,null,null,null,"Valor",null,null,{"$f":"IFERROR(N19*N20,\"\")","v":17.66},922.74,469.43999999999994,59.84,"","",null,"Valor",null,{"$f":"IFERROR(W19*W20,\"\")","v":17.66},922.74,469.43999999999994,59.84,"","",null,null,null,{"$f":"IF($N16<>\"Sem Uso\",VLOOKUP(N16,Configurações!$C$1:$I$8,2,0),\"\")","v":0},{"$f":"IF(N16<>\"Sem Uso\",VLOOKUP(N16,Configurações!$C$1:$I$8,3,0),\"\")","v":"1 a 3"},{"$f":"IF(N16<>\"Sem Uso\",VLOOKUP(N16,Configurações!$C$1:$I$8,4,0),\"\")","v":"4 a 5"},{"$f":"IF(N16<>\"Sem Uso\",VLOOKUP(N16,Configurações!$C$1:$I$8,5,0),\"\")","v":"6 a 8"},{"$f":"IF(N16<>\"Sem Uso\",VLOOKUP(N16,Configurações!$C$1:$I$8,6,0),\"\")","v":0},{"$f":"IF(N16<>\"Sem Uso\",VLOOKUP(N16,Configurações!$C$1:$I$8,7,0),\"\")","v":0}]
[null,2,null,null,null,null,null,null,null,null,null,null,"Total de Alunos",null,null,null,{"$f":"_xlfn.IFS(N16=$AE$2,$B$102,N16=$AF$2,$C$102,N16=$AG$2,$D$102,N16=$AH$2,$E$102,N16=$AI$2,$F$102,N16=$AJ$2,$G$102,N16=$AK$2,$H$102,N16=\"Sem Uso\",\"\")","v":184},null,null,null,null,"Total de Alunos",null,null,null,{"$f":"Q22","v":184},null,null,null,null,"TABELA DE EQUIVALÊNCIA"]
[null,2,null,null,null,null,null,null,null,null,null,null,"Total de Aulas",null,null,null,{"$f":"IF(Q22<>\"\",SUM(AE20:AJ20),\"\")","v":63},"Registro",null,null,null,"Total de Aulas",null,null,null,{"$f":"Q23","v":63},null,null,null,null,"Nr. Alunos",{"$f":"AF21","v":0},{"$f":"IF(AG21<>0,AG21,\"\")","v":"1 a 3"},{"$f":"IF(AH21<>0,AH21,\"\")","v":"4 a 5"},{"$f":"IF(AI21<>0,AI21,\"\")","v":"6 a 8"},{"$f":"IF(AJ21<>0,AJ21,\"\")","v":""},{"$f":"IF(AK21<>0,AK21,\"\")","v":""}]
[null,3,null,null,null,null,null,null,null,null,null,null,"Total a Receber",null,null,null,{"$f":"IF(Q22<>\"\",SUM(N21:S21),\"\")","v":1469.6799999999998},null,null,null,null,"Total a Receber",null,null,null,{"$f":"IF(Z22<>\"\",SUM(W21:AB21),\"\")","v":1469.6799999999998},null,null,null,null,"Aulas",{"$f":"IF(AF23<>\"\",AF18,\"\")","v":1},42,18,2,"",""]
[null,4,null,null,null,null,null,null,null,null,null,null,null,null,null,null,null,null,null,null,null,null,null,null,null,null,null,null,null,null,null,{"$f":"IFERROR(VLOOKUP(N16&R16,Configurações!$C$13:$I$47,2,0),\"\")","v":17.66},{"$f":"IFERROR(IF(AG23<>0,VLOOKUP(N16&R16,Configurações!$C$13:$I$47,3,0),\"\"),\"\")","v":21.97},{"$f":"IFERROR(IF(AH23<>0,VLOOKUP(N16&R16,Configurações!$C$13:$I$47,4,0),\"\"),\"\")","v":26.08},{"$f":"IFERROR(IF(AI23<>0,VLOOKUP(N16&R16,Configurações!$C$13:$I$47,5,0),\"\"),\"\")","v":29.92},{"$f":"IFERROR(IF(AJ23<>0,VLOOKUP(N16&R16,Configurações!$C$13:$I$47,6,0),\"\"),\"\")","v":0},{"$f":"IFERROR(IF(AK23<>0,VLOOKUP(N16&R16,Configurações!$C$13:$I$47,7,0),\"\"),\"\")","v":0}]
[null,5]
[null,3,null,null,null,null,null,null,null,null,"Modalidade",null,null,"Natação Bebê",null,null,"Nível","Prof. Nível B",null,null,null,null,null,null,null,null,null,null,null,null,{"$f":"VLOOKUP(N27,Configurações!$J$1:$V$9,2,0)","v":"0"},{"$f":"VLOOKUP(N27,Configurações!$J$1:$V$9,3,0)","v":"0"},{"$f":"VLOOKUP(N27,Configurações!$J$1:$V$9,4,0)","v":"1 "},{"$f":"VLOOKUP(N27,Configurações!$J$1:$V$9,5,0)","v":" 4"},{"$f":"VLOOKUP(N27,Configurações!$J$1:$V$9,6,0)","v":"5 "},{"$f":"VLOOKUP(N27,Configurações!$J$1:$V$9,7,0)","v":" 8"},{"$f":"VLOOKUP(N27,Configurações!$J$1:$V$9,8,0)","v":"9 "},{"$f":"VLOOKUP(N27,Configurações!$J$1:$V$9,9,0)","v":"12"},{"$f":"VLOOKUP(N27,Configurações!$J$1:$V$9,10,0)","v":"13"},{"$f":"VLOOKUP(N27,Configurações!$J$1:$V$9,11,0)","v":"15"},{"$f":"VLOOKUP(N27,Configurações!$J$1:$V$9,12,0)","v":""},{"$f":"VLOOKUP(N27,Configurações!$J$1:$V$9,13,0)","v":""}]
[null,1,null,null,null,null,null,null,null,null,"Academia",null,null,null,null,null,null,null,null,null,"Contabilidade",null,null,null,null,null,null,null,null,null,{"$f":"IFERROR(VLOOKUP(N27,_xlfn.ANCHORARRAY($AQ$2),2,0),0)","v":0}]
[null,4,null,null,null,null,null,null,null,null,"Nr. de Alunos",null,null,{"$f":"IF(AF34<>\"\",AF34,\"\")","v":0},{"$f":"IF(AG34<>\"\",AG34,\"\")","v":"1 a 4"},{"$f":"IF(AH34<>\"\",AH34,\"\")","v":"5 a 8"},{"$f":"IF(AI34<>\"\",AI34,\"\")","v":"9 a 12"},{"$f":"IF(AJ34<>\"\",AJ34,\"\")","v":"13 a 15"},{"$f":"IF(AK34<>0,AK34,\"\")","v":""},null,"Nr. de Alunos",null,{"$f":"N29","v":0},{"$f":"O29","v":"1 a 4"},"5 a 8","9 a 12","13 a 15","",null,null,null,{"$f":"IF($N$27=$AE$2,COUNTIF($B$4:$B$100,\">=\"&AE27)-COUNTIF($B$4:$B$100,\">\"&AF27),\nIF($N$27=$AF$2,COUNTIF($C$4:$C$100,\">=\"&AE27)-COUNTIF($C$4:$C$100,\">\"&AF27),\nIF($N$27=$AG$2,COUNTIF($D$4:$D$100,\">=\"&AE27)-COUNTIF($D$4:$D$100,\">\"&AF27),\nIF($N$27=$AH$2,COUNTIF($E$4:$E$100,\">=\"&AE27)-COUNTIF($E$4:$E$100,\">\"&AF27),\nIF($N$27=$AI$2,COUNTIF($F$4:$F$100,\">=\"&AE27)-COUNTIF($F$4:$F$100,\">\"&AF27),\nIF($N$27=$AJ$2,COUNTIF($G$4:$G$100,\">=\"&AE27)-COUNTIF($G$4:$G$100,\">\"&AF27),\nIF($N$27=$AK$2,COUNTIF($H$4:$H$100,\">=\"&AE27)-COUNTIF($H$4:$H$100,\">\"&AF27),\nIF($N$27=\"Sem Uso\",\"\"))))))))","v":0},{"$f":"IF($N$27=$AE$2,COUNTIF($B$4:$B$100,\">=\"&AG27)-COUNTIF($B$4:$B$100,\">\"&AH27),\nIF($N$27=$AF$2,COUNTIF($C$4:$C$100,\">=\"&AG27)-COUNTIF($C$4:$C$100,\">\"&AH27),\nIF($N$27=$AG$2,COUNTIF($D$4:$D$100,\">=\"&AG27)-COUNTIF($D$4:$D$100,\">\"&AH27),\nIF($N$27=$AH$2,COUNTIF($E$4:$E$100,\">=\"&AG27)-COUNTIF($E$4:$E$100,\">\"&AH27),\nIF($N$27=$AI$2,COUNTIF($F$4:$F$100,\">=\"&AG27)-COUNTIF($F$4:$F$100,\">\"&AH27),\nIF($N$27=$AJ$2,COUNTIF($G$4:$G$100,\">=\"&AG27)-COUNTIF($G$4:$G$100,\">\"&AH27),\nIF($N$27=$AK$2,COUNTIF($H$4:$H$100,\">=\"&AG27)-COUNTIF($H$4:$H$100,\">\"&AH27),\nIF($N$27=\"Sem Uso\",\"\"))))))))","v":0},{"$f":"IF($N$27=$AE$2,COUNTIF($B$4:$B$100,\">=\"&AI27)-COUNTIF($B$4:$B$100,\">\"&AJ27),\nIF($N$27=$AF$2,COUNTIF($C$4:$C$100,\">=\"&AI27)-COUNTIF($C$4:$C$100,\">\"&AJ27),\nIF($N$27=$AG$2,COUNTIF($D$4:$D$100,\">=\"&AI27)-COUNTIF($D$4:$D$100,\">\"&AJ27),\nIF($N$27=$AH$2,COUNTIF($E$4:$E$100,\">=\"&AI27)-COUNTIF($E$4:$E$100,\">\"&AJ27),\nIF($N$27=$AI$2,COUNTIF($F$4:$F$100,\">=\"&AI27)-COUNTIF($F$4:$F$100,\">\"&AJ27),\nIF($N$27=$AJ$2,COUNTIF($G$4:$G$100,\">=\"&AI27)-COUNTIF($G$4:$G$100,\">\"&AJ27),\nIF($N$27=$AK$2,COUNTIF($H$4:$H$100,\">=\"&AI27)-COUNTIF($H$4:$H$100,\">\"&AJ27),\nIF($N$27=\"Sem Uso\",\"\"))))))))","v":0},{"$f":"IF($N$27=$AE$2,COUNTIF($B$4:$B$100,\">=\"&AK27)-COUNTIF($B$4:$B$100,\">\"&AL27),\nIF($N$27=$AF$2,COUNTIF($C$4:$C$100,\">=\"&AK27)-COUNTIF($C$4:$C$100,\">\"&AL27),\nIF($N$27=$AG$2,COUNTIF($D$4:$D$100,\">=\"&AK27)-COUNTIF($D$4:$D$100,\">\"&AL27),\nIF($N$27=$AH$2,COUNTIF($E$4:$E$100,\">=\"&AK27)-COUNTIF($E$4:$E$100,\">\"&AL27),\nIF($N$27=$AI$2,COUNTIF($F$4:$F$100,\">=\"&AK27)-COUNTIF($F$4:$F$100,\">\"&AL27),\nIF($N$27=$AJ$2,COUNTIF($G$4:$G$100,\">=\"&AK27)-COUNTIF($G$4:$G$100,\">\"&AL27),\nIF($N$27=$AK$2,COUNTIF($H$4:$H$100,\">=\"&AK27)-COUNTIF($H$4:$H$100,\">\"&AL27),\nIF($N$27=\"Sem Uso\",\"\"))))))))","v":0},{"$f":"IF($N$27=$AE$2,COUNTIF($B$4:$B$100,\">=\"&AM27)-COUNTIF($B$4:$B$100,\">\"&AN27),\nIF($N$27=$AF$2,COUNTIF($C$4:$C$100,\">=\"&AM27)-COUNTIF($C$4:$C$100,\">\"&AN27),\nIF($N$27=$AG$2,COUNTIF($D$4:$D$100,\">=\"&AM27)-COUNTIF($D$4:$D$100,\">\"&AN27),\nIF($N$27=$AH$2,COUNTIF($E$4:$E$100,\">=\"&AM27)-COUNTIF($E$4:$E$100,\">\"&AN27),\nIF($N$27=$AI$2,COUNTIF($F$4:$F$100,\">=\"&AM27)-COUNTIF($F$4:$F$100,\">\"&AN27),\nIF($N$27=$AJ$2,COUNTIF($G$4:$G$100,\">=\"&AM27)-COUNTIF($G$4:$G$100,\">\"&AN27),\nIF($N$27=$AK$2,COUNTIF($H$4:$H$100,\">=\"&AM27)-COUNTIF($H$4:$H$100,\">\"&AN27),\nIF($N$27=\"Sem Uso\",\"\"))))))))","v":0},{"$f":"IF($N$27=$AE$2,COUNTIF($B$4:$B$100,\">=\"&AO27)-COUNTIF($B$4:$B$100,\">\"&AP27),\nIF($N$27=$AF$2,COUNTIF($C$4:$C$100,\">=\"&AO27)-COUNTIF($C$4:$C$100,\">\"&AP27),\nIF($N$27=$AG$2,COUNTIF($D$4:$D$100,\">=\"&AO27)-COUNTIF($D$4:$D$100,\">\"&AP27),\nIF($N$27=$AH$2,COUNTIF($E$4:$E$100,\">=\"&AO27)-COUNTIF($E$4:$E$100,\">\"&AP27),\nIF($N$27=$AI$2,COUNTIF($F$4:$F$100,\">=\"&AO27)-COUNTIF($F$4:$F$100,\">\"&AP27),\nIF($N$27=$AJ$2,COUNTIF($G$4:$G$100,\">=\"&AO27)-COUNTIF($G$4:$G$100,\">\"&AP27),\nIF($N$27=$AK$2,COUNTIF($H$4:$H$100,\">=\"&AO27)-COUNTIF($H$4:$H$100,\">\"&AP27),\nIF($N$27=\"Sem Uso\",\"\"))))))))","v":0}]
[null,5,null,null,null,null,null,null,null,null,"Valor da Aula",null,null,{"$f":"IF(AF36<>0,AF36,\"\")","v":17.66},26.08,28.83,31.57,34.31,"",null,"Valor da Aula",null,{"$f":"IFERROR(IF(N30<=$S$34,0,N30-$S$34),\"\")","v":17.66},26.08,28.83,31.57,34.31,0]
[null,3,null,null,null,null,null,null,null,null,"Nr. de Aulas",null,null,{"$f":"IF(AF34<>\"\",AF35,\"\")","v":0},0,0,0,0,"",null,"Nr. de Aulas",null,{"$f":"N31","v":0},0,0,0,0,"",null,null,{"$f":"IF(N31<>\"\",N31,\"\")","v":0},0,0,0,0,""]
[null,4,null,null,null,null,null,null,null,null,"Valor",null,null,{"$f":"IFERROR(N30*N31,\"\")","v":0},0,0,0,0,"",null,"Valor",null,{"$f":"IFERROR(W30*W31,\"\")","v":0},0,0,0,0,"",null,null,null,{"$f":"IF($N27<>\"Sem Uso\",VLOOKUP(N27,Configurações!$C$1:$I$8,2,0),\"\")","v":0},{"$f":"IF(N27<>\"Sem Uso\",VLOOKUP(N27,Configurações!$C$1:$I$8,3,0),\"\")","v":"1 a 4"},{"$f":"IF(N27<>\"Sem Uso\",VLOOKUP(N27,Configurações!$C$1:$I$8,4,0),\"\")","v":"5 a 8"},{"$f":"IF(N27<>\"Sem Uso\",VLOOKUP(N27,Configurações!$C$1:$I$8,5,0),\"\")","v":"9 a 12"},{"$f":"IF(N27<>\"Sem Uso\",VLOOKUP(N27,Configurações!$C$1:$I$8,6,0),\"\")","v":"13 a 15"},{"$f":"IF(N27<>\"Sem Uso\",VLOOKUP(N27,Configurações!$C$1:$I$8,7,0),\"\")","v":0}]
[null,3,null,null,null,null,null,null,null,null,null,null,"Total de Alunos",null,null,null,{"$f":"_xlfn.IFS(N27=$AE$2,$B$102,N27=$AF$2,$C$102,N27=$AG$2,$D$102,N27=$AH$2,$E$102,N27=$AI$2,$F$102,N27=$AJ$2,$G$102,N27=$AK$2,$H$102,N27=\"Sem Uso\",\"\")","v":0},null,null,null,null,"Total de Alunos",null,null,null,{"$f":"Q33","v":0},null,null,null,null,"TABELA DE EQUIVALÊNCIA"]
[null,3,null,null,null,null,null,null,null,null,null,null,"Total de Aulas",null,null,null,{"$f":"IF(Q33<>\"\",SUM(AE31:AJ31),\"\")","v":0},"Registro",null,null,null,"Total de Aulas",null,null,null,{"$f":"Q34","v":0},null,null,null,null,"Nr. Alunos",{"$f":"AF32","v":0},{"$f":"IF(AG32<>0,AG32,\"\")","v":"1 a 4"},{"$f":"IF(AH32<>0,AH32,\"\")","v":"5 a 8"},{"$f":"IF(AI32<>0,AI32,\"\")","v":"9 a 12"},{"$f":"IF(AJ32<>0,AJ32,\"\")","v":"13 a 15"},{"$f":"IF(AK32<>0,AK32,\"\")","v":""}]
[null,4,null,null,null,null,null,null,null,null,null,null,"Total a Receber",null,null,null,{"$f":"IF(Q33<>\"\",SUM(N32:S32),\"\")","v":0},null,null,null,null,"Total a Receber",null,null,null,{"$f":"IF(Z33<>\"\",SUM(W32:AB32),\"\")","v":0},null,null,null,null,"Aulas",{"$f":"IF(AF34<>\"\",AF29,\"\")","v":0},0,0,0,0,""]
[null,5,null,null,null,null,null,null,null,null,null,null,null,null,null,null,null,null,null,null,null,null,null,null,null,null,null,null,null,null,null,{"$f":"IFERROR(VLOOKUP(N27&R27,Configurações!$C$13:$I$47,2,0),\"\")","v":17.66},{"$f":"IFERROR(IF(AG34<>0,VLOOKUP(N27&R27,Configurações!$C$13:$I$47,3,0),\"\"),\"\")","v":26.08},{"$f":"IFERROR(IF(AH34<>0,VLOOKUP(N27&R27,Configurações!$C$13:$I$47,4,0),\"\"),\"\")","v":28.83},{"$f":"IFERROR(IF(AI34<>0,VLOOKUP(N27&R27,Configurações!$C$13:$I$47,5,0),\"\"),\"\")","v":31.57},{"$f":"IFERROR(IF(AJ34<>0,VLOOKUP(N27&R27,Configurações!$C$13:$I$47,6,0),\"\"),\"\")","v":34.31},{"$f":"IFERROR(IF(AK34<>0,VLOOKUP(N27&R27,Configurações!$C$13:$I$47,7,0),\"\"),\"\")","v":0}]
[null,2]
[null,2,null,null,null,null,null,null,null,null,"Modalidade",null,null,"Aprendizagem A",null,null,"Nível","Prof. Nível B",null,null,null,null,null,null,null,null,null,null,null,null,{"$f":"VLOOKUP(N38,Configurações!$J$1:$V$9,2,0)","v":"0"},{"$f":"VLOOKUP(N38,Configurações!$J$1:$V$9,3,0)","v":"0"},{"$f":"VLOOKUP(N38,Configurações!$J$1:$V$9,4,0)","v":"1 "},{"$f":"VLOOKUP(N38,Configurações!$J$1:$V$9,5,0)","v":" 2"},{"$f":"VLOOKUP(N38,Configurações!$J$1:$V$9,6,0)","v":"3 "},{"$f":"VLOOKUP(N38,Configurações!$J$1:$V$9,7,0)","v":" 4"},{"$f":"VLOOKUP(N38,Configurações!$J$1:$V$9,8,0)","v":"5 "},{"$f":"VLOOKUP(N38,Configurações!$J$1:$V$9,9,0)","v":" 6"},{"$f":"VLOOKUP(N38,Configurações!$J$1:$V$9,10,0)","v":"7 "},{"$f":"VLOOKUP(N38,Configurações!$J$1:$V$9,11,0)","v":" 8"},{"$f":"VLOOKUP(N38,Configurações!$J$1:$V$9,12,0)","v":""},{"$f":"VLOOKUP(N38,Configurações!$J$1:$V$9,13,0)","v":""}]
[null,3,null,null,null,null,null,null,null,null,"Academia",null,null,null,null,null,null,null,null,null,"Contabilidade",null,null,null,null,null,null,null,null,null,{"$f":"IFERROR(VLOOKUP(N38,_xlfn.ANCHORARRAY($AQ$2),2,0),0)","v":53}]
[null,1,null,null,null,null,null,null,null,null,"Nr. de Alunos",null,null,{"$f":"IF(AF45<>\"\",AF45,\"\")","v":0},{"$f":"IF(AG45<>\"\",AG45,\"\")","v":"1 a 2"},{"$f":"IF(AH45<>\"\",AH45,\"\")","v":"3 a 4"},{"$f":"IF(AI45<>\"\",AI45,\"\")","v":"5 a 6"},{"$f":"IF(AJ45<>\"\",AJ45,\"\")","v":"7 a 8"},{"$f":"IF(AK45<>0,AK45,\"\")","v":""},null,"Nr. de Alunos",null,{"$f":"N40","v":0},{"$f":"O40","v":"1 a 2"},"3 a 4","5 a 6","7 a 8","",null,null,null,{"$f":"IF($N$38=$AE$2,COUNTIF($B$4:$B$100,\">=\"&AE38)-COUNTIF($B$4:$B$100,\">\"&AF38),\nIF($N$38=$AF$2,COUNTIF($C$4:$C$100,\">=\"&AE38)-COUNTIF($C$4:$C$100,\">\"&AF38),\nIF($N$38=$AG$2,COUNTIF($D$4:$D$100,\">=\"&AE38)-COUNTIF($D$4:$D$100,\">\"&AF38),\nIF($N$38=$AH$2,COUNTIF($E$4:$E$100,\">=\"&AE38)-COUNTIF($E$4:$E$100,\">\"&AF38),\nIF($N$38=$AI$2,COUNTIF($F$4:$F$100,\">=\"&AE38)-COUNTIF($F$4:$F$100,\">\"&AF38),\nIF($N$38=$AJ$2,COUNTIF($G$4:$G$100,\">=\"&AE38)-COUNTIF($G$4:$G$100,\">\"&AF38),\nIF($N$38=$AK$2,COUNTIF($H$4:$H$100,\">=\"&AE38)-COUNTIF($H$4:$H$100,\">\"&AF38),\nIF($N$38=\"Sem Uso\",\"\"))))))))","v":2},{"$f":"IF($N$38=$AE$2,COUNTIF($B$4:$B$100,\">=\"&AG38)-COUNTIF($B$4:$B$100,\">\"&AH38),\nIF($N$38=$AF$2,COUNTIF($C$4:$C$100,\">=\"&AG38)-COUNTIF($C$4:$C$100,\">\"&AH38),\nIF($N$38=$AG$2,COUNTIF($D$4:$D$100,\">=\"&AG38)-COUNTIF($D$4:$D$100,\">\"&AH38),\nIF($N$38=$AH$2,COUNTIF($E$4:$E$100,\">=\"&AG38)-COUNTIF($E$4:$E$100,\">\"&AH38),\nIF($N$38=$AI$2,COUNTIF($F$4:$F$100,\">=\"&AG38)-COUNTIF($F$4:$F$100,\">\"&AH38),\nIF($N$38=$AJ$2,COUNTIF($G$4:$G$100,\">=\"&AG38)-COUNTIF($G$4:$G$100,\">\"&AH38),\nIF($N$38=$AK$2,COUNTIF($H$4:$H$100,\">=\"&AG38)-COUNTIF($H$4:$H$100,\">\"&AH38),\nIF($N$38=\"Sem Uso\",\"\"))))))))","v":2},{"$f":"IF($N$38=$AE$2,COUNTIF($B$4:$B$100,\">=\"&AI38)-COUNTIF($B$4:$B$100,\">\"&AJ38),\nIF($N$38=$AF$2,COUNTIF($C$4:$C$100,\">=\"&AI38)-COUNTIF($C$4:$C$100,\">\"&AJ38),\nIF($N$38=$AG$2,COUNTIF($D$4:$D$100,\">=\"&AI38)-COUNTIF($D$4:$D$100,\">\"&AJ38),\nIF($N$38=$AH$2,COUNTIF($E$4:$E$100,\">=\"&AI38)-COUNTIF($E$4:$E$100,\">\"&AJ38),\nIF($N$38=$AI$2,COUNTIF($F$4:$F$100,\">=\"&AI38)-COUNTIF($F$4:$F$100,\">\"&AJ38),\nIF($N$38=$AJ$2,COUNTIF($G$4:$G$100,\">=\"&AI38)-COUNTIF($G$4:$G$100,\">\"&AJ38),\nIF($N$38=$AK$2,COUNTIF($H$4:$H$100,\">=\"&AI38)-COUNTIF($H$4:$H$100,\">\"&AJ38),\nIF($N$38=\"Sem Uso\",\"\"))))))))","v":7},{"$f":"IF($N$38=$AE$2,COUNTIF($B$4:$B$100,\">=\"&AK38)-COUNTIF($B$4:$B$100,\">\"&AL38),\nIF($N$38=$AF$2,COUNTIF($C$4:$C$100,\">=\"&AK38)-COUNTIF($C$4:$C$100,\">\"&AL38),\nIF($N$38=$AG$2,COUNTIF($D$4:$D$100,\">=\"&AK38)-COUNTIF($D$4:$D$100,\">\"&AL38),\nIF($N$38=$AH$2,COUNTIF($E$4:$E$100,\">=\"&AK38)-COUNTIF($E$4:$E$100,\">\"&AL38),\nIF($N$38=$AI$2,COUNTIF($F$4:$F$100,\">=\"&AK38)-COUNTIF($F$4:$F$100,\">\"&AL38),\nIF($N$38=$AJ$2,COUNTIF($G$4:$G$100,\">=\"&AK38)-COUNTIF($G$4:$G$100,\">\"&AL38),\nIF($N$38=$AK$2,COUNTIF($H$4:$H$100,\">=\"&AK38)-COUNTIF($H$4:$H$100,\">\"&AL38),\nIF($N$38=\"Sem Uso\",\"\"))))))))","v":5},{"$f":"IF($N$38=$AE$2,COUNTIF($B$4:$B$100,\">=\"&AM38)-COUNTIF($B$4:$B$100,\">\"&AN38),\nIF($N$38=$AF$2,COUNTIF($C$4:$C$100,\">=\"&AM38)-COUNTIF($C$4:$C$100,\">\"&AN38),\nIF($N$38=$AG$2,COUNTIF($D$4:$D$100,\">=\"&AM38)-COUNTIF($D$4:$D$100,\">\"&AN38),\nIF($N$38=$AH$2,COUNTIF($E$4:$E$100,\">=\"&AM38)-COUNTIF($E$4:$E$100,\">\"&AN38),\nIF($N$38=$AI$2,COUNTIF($F$4:$F$100,\">=\"&AM38)-COUNTIF($F$4:$F$100,\">\"&AN38),\nIF($N$38=$AJ$2,COUNTIF($G$4:$G$100,\">=\"&AM38)-COUNTIF($G$4:$G$100,\">\"&AN38),\nIF($N$38=$AK$2,COUNTIF($H$4:$H$100,\">=\"&AM38)-COUNTIF($H$4:$H$100,\">\"&AN38),\nIF($N$38=\"Sem Uso\",\"\"))))))))","v":0},{"$f":"IF($N$38=$AE$2,COUNTIF($B$4:$B$100,\">=\"&AO38)-COUNTIF($B$4:$B$100,\">\"&AP38),\nIF($N$38=$AF$2,COUNTIF($C$4:$C$100,\">=\"&AO38)-COUNTIF($C$4:$C$100,\">\"&AP38),\nIF($N$38=$AG$2,COUNTIF($D$4:$D$100,\">=\"&AO38)-COUNTIF($D$4:$D$100,\">\"&AP38),\nIF($N$38=$AH$2,COUNTIF($E$4:$E$100,\">=\"&AO38)-COUNTIF($E$4:$E$100,\">\"&AP38),\nIF($N$38=$AI$2,COUNTIF($F$4:$F$100,\">=\"&AO38)-COUNTIF($F$4:$F$100,\">\"&AP38),\nIF($N$38=$AJ$2,COUNTIF($G$4:$G$100,\">=\"&AO38)-COUNTIF($G$4:$G$100,\">\"&AP38),\nIF($N$38=$AK$2,COUNTIF($H$4:$H$100,\">=\"&AO38)-COUNTIF($H$4:$H$100,\">\"&AP38),\nIF($N$38=\"Sem Uso\",\"\"))))))))","v":0}]
[null,5,null,null,null,null,null,null,null,null,"Valor da Aula",null,null,{"$f":"IF(AF47<>0,AF47,\"\")","v":17.66},21.97,26.08,29.92,32.64,"",null,"Valor da Aula",null,{"$f":"IFERROR(IF(N41<=$S$45,0,N41-$S$45),\"\")","v":17.66},21.97,26.08,29.92,32.64,0]
[null,4,null,null,null,null,null,null,null,null,"Nr. de Aulas",null,null,{"$f":"IF(AF45<>\"\",AF46,\"\")","v":2},2,7,5,0,"",null,"Nr. de Aulas",null,{"$f":"N42","v":2},2,7,5,0,"",null,null,{"$f":"IF(N42<>\"\",N42,\"\")","v":2},2,7,5,0,""]
[null,3,null,null,null,null,null,null,null,null,"Valor",null,null,{"$f":"IFERROR(N41*N42,\"\")","v":35.32},43.94,182.56,149.60000000000002,0,"",null,"Valor",null,{"$f":"IFERROR(W41*W42,\"\")","v":35.32},43.94,182.56,149.60000000000002,0,"",null,null,null,{"$f":"IF($N38<>\"Sem Uso\",VLOOKUP(N38,Configurações!$C$1:$I$8,2,0),\"\")","v":0},{"$f":"IF(N38<>\"Sem Uso\",VLOOKUP(N38,Configurações!$C$1:$I$8,3,0),\"\")","v":"1 a 2"},{"$f":"IF(N38<>\"Sem Uso\",VLOOKUP(N38,Configurações!$C$1:$I$8,4,0),\"\")","v":"3 a 4"},{"$f":"IF(N38<>\"Sem Uso\",VLOOKUP(N38,Configurações!$C$1:$I$8,5,0),\"\")","v":"5 a 6"},{"$f":"IF(N38<>\"Sem Uso\",VLOOKUP(N38,Configurações!$C$1:$I$8,6,0),\"\")","v":"7 a 8"},{"$f":"IF(N38<>\"Sem Uso\",VLOOKUP(N38,Configurações!$C$1:$I$8,7,0),\"\")","v":0}]
[null,1,null,null,null,null,null,null,null,null,null,null,"Total de Alunos",null,null,null,{"$f":"_xlfn.IFS(N38=$AE$2,$B$102,N38=$AF$2,$C$102,N38=$AG$2,$D$102,N38=$AH$2,$E$102,N38=$AI$2,$F$102,N38=$AJ$2,$G$102,N38=$AK$2,$H$102,N38=\"Sem Uso\",\"\")","v":53},null,null,null,null,"Total de Alunos",null,null,null,{"$f":"Q44","v":53},null,null,null,null,"TABELA DE EQUIVALÊNCIA"]
[null,4,null,null,null,null,null,null,null,null,null,null,"Total de Aulas",null,null,null,{"$f":"IF(Q44<>\"\",SUM(AE42:AJ42),\"\")","v":16},"Registro",null,null,null,"Total de Aulas",null,null,null,{"$f":"Q45","v":16},null,null,null,null,"Nr. Alunos",{"$f":"AF43","v":0},{"$f":"IF(AG43<>0,AG43,\"\")","v":"1 a 2"},{"$f":"IF(AH43<>0,AH43,\"\")","v":"3 a 4"},{"$f":"IF(AI43<>0,AI43,\"\")","v":"5 a 6"},{"$f":"IF(AJ43<>0,AJ43,\"\")","v":"7 a 8"},{"$f":"IF(AK43<>0,AK43,\"\")","v":""}]
[null,6,null,null,null,null,null,null,null,null,null,null,"Total a Receber",null,null,null,{"$f":"IF(Q44<>\"\",SUM(N43:S43),\"\")","v":411.42},null,null,null,null,"Total a Receber",null,null,null,{"$f":"IF(Z44<>\"\",SUM(W43:AB43),\"\")","v":411.42},null,null,null,null,"Aulas",{"$f":"IF(AF45<>\"\",AF40,\"\")","v":2},2,7,5,0,""]
[null,2,null,null,null,null,null,null,null,null,null,null,null,null,null,null,null,null,null,null,null,null,null,null,null,null,null,null,null,null,null,{"$f":"IFERROR(VLOOKUP(N38&R38,Configurações!$C$13:$I$47,2,0),\"\")","v":17.66},{"$f":"IFERROR(IF(AG45<>0,VLOOKUP(N38&R38,Configurações!$C$13:$I$47,3,0),\"\"),\"\")","v":21.97},{"$f":"IFERROR(IF(AH45<>0,VLOOKUP(N38&R38,Configurações!$C$13:$I$47,4,0),\"\"),\"\")","v":26.08},{"$f":"IFERROR(IF(AI45<>0,VLOOKUP(N38&R38,Configurações!$C$13:$I$47,5,0),\"\"),\"\")","v":29.92},{"$f":"IFERROR(IF(AJ45<>0,VLOOKUP(N38&R38,Configurações!$C$13:$I$47,6,0),\"\"),\"\")","v":32.64},{"$f":"IFERROR(IF(AK45<>0,VLOOKUP(N38&R38,Configurações!$C$13:$I$47,7,0),\"\"),\"\")","v":0}]
[null,2]
[null,4,null,null,null,null,null,null,null,null,"Modalidade",null,null,"Aprendizagem B",null,null,"Nível","Prof. Nível B",null,null,null,null,null,null,null,null,null,null,null,null,{"$f":"VLOOKUP(N49,Configurações!$J$1:$V$9,2,0)","v":"0"},{"$f":"VLOOKUP(N49,Configurações!$J$1:$V$9,3,0)","v":"0"},{"$f":"VLOOKUP(N49,Configurações!$J$1:$V$9,4,0)","v":"1 "},{"$f":"VLOOKUP(N49,Configurações!$J$1:$V$9,5,0)","v":" 4"},{"$f":"VLOOKUP(N49,Configurações!$J$1:$V$9,6,0)","v":"5 "},{"$f":"VLOOKUP(N49,Configurações!$J$1:$V$9,7,0)","v":" 8"},{"$f":"VLOOKUP(N49,Configurações!$J$1:$V$9,8,0)","v":"9 "},{"$f":"VLOOKUP(N49,Configurações!$J$1:$V$9,9,0)","v":"12"},{"$f":"VLOOKUP(N49,Configurações!$J$1:$V$9,10,0)","v":"13"},{"$f":"VLOOKUP(N49,Configurações!$J$1:$V$9,11,0)","v":"16"},{"$f":"VLOOKUP(N49,Configurações!$J$1:$V$9,12,0)","v":""},{"$f":"VLOOKUP(N49,Configurações!$J$1:$V$9,13,0)","v":""}]
[null,4,null,null,null,null,null,null,null,null,"Academia",null,null,null,null,null,null,null,null,null,"Contabilidade",null,null,null,null,null,null,null,null,null,{"$f":"IFERROR(VLOOKUP(N49,_xlfn.ANCHORARRAY($AQ$2),2,0),0)","v":65}]
[null,3,null,null,null,null,null,null,null,null,"Nr. de Alunos",null,null,{"$f":"IF(AF56<>\"\",AF56,\"\")","v":0},{"$f":"IF(AG56<>\"\",AG56,\"\")","v":"1 a 4"},{"$f":"IF(AH56<>\"\",AH56,\"\")","v":"5 a 8"},{"$f":"IF(AI56<>\"\",AI56,\"\")","v":"9 a 12"},{"$f":"IF(AJ56<>\"\",AJ56,\"\")","v":"13 a 16"},{"$f":"IF(AK56<>0,AK56,\"\")","v":""},null,"Nr. de Alunos",null,{"$f":"N51","v":0},{"$f":"O51","v":"1 a 4"},"5 a 8","9 a 12","13 a 16","",null,null,null,{"$f":"IF($N$49=$AE$2,COUNTIF($B$4:$B$100,\">=\"&AE49)-COUNTIF($B$4:$B$100,\">\"&AF49),\nIF($N$49=$AF$2,COUNTIF($C$4:$C$100,\">=\"&AE49)-COUNTIF($C$4:$C$100,\">\"&AF49),\nIF($N$49=$AG$2,COUNTIF($D$4:$D$100,\">=\"&AE49)-COUNTIF($D$4:$D$100,\">\"&AF49),\nIF($N$49=$AH$2,COUNTIF($E$4:$E$100,\">=\"&AE49)-COUNTIF($E$4:$E$100,\">\"&AF49),\nIF($N$49=$AI$2,COUNTIF($F$4:$F$100,\">=\"&AE49)-COUNTIF($F$4:$F$100,\">\"&AF49),\nIF($N$49=$AJ$2,COUNTIF($G$4:$G$100,\">=\"&AE49)-COUNTIF($G$4:$G$100,\">\"&AF49),\nIF($N$49=$AK$2,COUNTIF($H$4:$H$100,\">=\"&AE49)-COUNTIF($H$4:$H$100,\">\"&AF49),\nIF($N$49=\"Sem Uso\",\"\"))))))))","v":0},{"$f":"IF($N$49=$AE$2,COUNTIF($B$4:$B$100,\">=\"&AG49)-COUNTIF($B$4:$B$100,\">\"&AH49),\nIF($N$49=$AF$2,COUNTIF($C$4:$C$100,\">=\"&AG49)-COUNTIF($C$4:$C$100,\">\"&AH49),\nIF($N$49=$AG$2,COUNTIF($D$4:$D$100,\">=\"&AG49)-COUNTIF($D$4:$D$100,\">\"&AH49),\nIF($N$49=$AH$2,COUNTIF($E$4:$E$100,\">=\"&AG49)-COUNTIF($E$4:$E$100,\">\"&AH49),\nIF($N$49=$AI$2,COUNTIF($F$4:$F$100,\">=\"&AG49)-COUNTIF($F$4:$F$100,\">\"&AH49),\nIF($N$49=$AJ$2,COUNTIF($G$4:$G$100,\">=\"&AG49)-COUNTIF($G$4:$G$100,\">\"&AH49),\nIF($N$49=$AK$2,COUNTIF($H$4:$H$100,\">=\"&AG49)-COUNTIF($H$4:$H$100,\">\"&AH49),\nIF($N$49=\"Sem Uso\",\"\"))))))))","v":0},{"$f":"IF($N$49=$AE$2,COUNTIF($B$4:$B$100,\">=\"&AI49)-COUNTIF($B$4:$B$100,\">\"&AJ49),\nIF($N$49=$AF$2,COUNTIF($C$4:$C$100,\">=\"&AI49)-COUNTIF($C$4:$C$100,\">\"&AJ49),\nIF($N$49=$AG$2,COUNTIF($D$4:$D$100,\">=\"&AI49)-COUNTIF($D$4:$D$100,\">\"&AJ49),\nIF($N$49=$AH$2,COUNTIF($E$4:$E$100,\">=\"&AI49)-COUNTIF($E$4:$E$100,\">\"&AJ49),\nIF($N$49=$AI$2,COUNTIF($F$4:$F$100,\">=\"&AI49)-COUNTIF($F$4:$F$100,\">\"&AJ49),\nIF($N$49=$AJ$2,COUNTIF($G$4:$G$100,\">=\"&AI49)-COUNTIF($G$4:$G$100,\">\"&AJ49),\nIF($N$49=$AK$2,COUNTIF($H$4:$H$100,\">=\"&AI49)-COUNTIF($H$4:$H$100,\">\"&AJ49),\nIF($N$49=\"Sem Uso\",\"\"))))))))","v":8},{"$f":"IF($N$49=$AE$2,COUNTIF($B$4:$B$100,\">=\"&AK49)-COUNTIF($B$4:$B$100,\">\"&AL49),\nIF($N$49=$AF$2,COUNTIF($C$4:$C$100,\">=\"&AK49)-COUNTIF($C$4:$C$100,\">\"&AL49),\nIF($N$49=$AG$2,COUNTIF($D$4:$D$100,\">=\"&AK49)-COUNTIF($D$4:$D$100,\">\"&AL49),\nIF($N$49=$AH$2,COUNTIF($E$4:$E$100,\">=\"&AK49)-COUNTIF($E$4:$E$100,\">\"&AL49),\nIF($N$49=$AI$2,COUNTIF($F$4:$F$100,\">=\"&AK49)-COUNTIF($F$4:$F$100,\">\"&AL49),\nIF($N$49=$AJ$2,COUNTIF($G$4:$G$100,\">=\"&AK49)-COUNTIF($G$4:$G$100,\">\"&AL49),\nIF($N$49=$AK$2,COUNTIF($H$4:$H$100,\">=\"&AK49)-COUNTIF($H$4:$H$100,\">\"&AL49),\nIF($N$49=\"Sem Uso\",\"\"))))))))","v":1},{"$f":"IF($N$49=$AE$2,COUNTIF($B$4:$B$100,\">=\"&AM49)-COUNTIF($B$4:$B$100,\">\"&AN49),\nIF($N$49=$AF$2,COUNTIF($C$4:$C$100,\">=\"&AM49)-COUNTIF($C$4:$C$100,\">\"&AN49),\nIF($N$49=$AG$2,COUNTIF($D$4:$D$100,\">=\"&AM49)-COUNTIF($D$4:$D$100,\">\"&AN49),\nIF($N$49=$AH$2,COUNTIF($E$4:$E$100,\">=\"&AM49)-COUNTIF($E$4:$E$100,\">\"&AN49),\nIF($N$49=$AI$2,COUNTIF($F$4:$F$100,\">=\"&AM49)-COUNTIF($F$4:$F$100,\">\"&AN49),\nIF($N$49=$AJ$2,COUNTIF($G$4:$G$100,\">=\"&AM49)-COUNTIF($G$4:$G$100,\">\"&AN49),\nIF($N$49=$AK$2,COUNTIF($H$4:$H$100,\">=\"&AM49)-COUNTIF($H$4:$H$100,\">\"&AN49),\nIF($N$49=\"Sem Uso\",\"\"))))))))","v":0},{"$f":"IF($N$49=$AE$2,COUNTIF($B$4:$B$100,\">=\"&AO49)-COUNTIF($B$4:$B$100,\">\"&AP49),\nIF($N$49=$AF$2,COUNTIF($C$4:$C$100,\">=\"&AO49)-COUNTIF($C$4:$C$100,\">\"&AP49),\nIF($N$49=$AG$2,COUNTIF($D$4:$D$100,\">=\"&AO49)-COUNTIF($D$4:$D$100,\">\"&AP49),\nIF($N$49=$AH$2,COUNTIF($E$4:$E$100,\">=\"&AO49)-COUNTIF($E$4:$E$100,\">\"&AP49),\nIF($N$49=$AI$2,COUNTIF($F$4:$F$100,\">=\"&AO49)-COUNTIF($F$4:$F$100,\">\"&AP49),\nIF($N$49=$AJ$2,COUNTIF($G$4:$G$100,\">=\"&AO49)-COUNTIF($G$4:$G$100,\">\"&AP49),\nIF($N$49=$AK$2,COUNTIF($H$4:$H$100,\">=\"&AO49)-COUNTIF($H$4:$H$100,\">\"&AP49),\nIF($N$49=\"Sem Uso\",\"\"))))))))","v":0}]
[null,3,null,null,null,null,null,null,null,null,"Valor da Aula",null,null,{"$f":"IF(AF58<>0,AF58,\"\")","v":17.66},21.97,26.08,29.92,32.64,"",null,"Valor da Aula",null,{"$f":"IFERROR(IF(N52<=$S$56,0,N52-$S$56),\"\")","v":17.66},21.97,26.08,29.92,32.64,0]
[null,1,null,null,null,null,null,null,null,null,"Nr. de Aulas",null,null,{"$f":"IF(AF56<>\"\",AF57,\"\")","v":0},0,8,1,0,"",null,"Nr. de Aulas",null,{"$f":"N53","v":0},0,8,1,0,"",null,null,{"$f":"IF(N53<>\"\",N53,\"\")","v":0},0,8,1,0,""]
[null,1,null,null,null,null,null,null,null,null,"Valor",null,null,{"$f":"IFERROR(N52*N53,\"\")","v":0},0,208.64,29.92,0,"",null,"Valor",null,{"$f":"IFERROR(W52*W53,\"\")","v":0},0,208.64,29.92,0,"",null,null,null,{"$f":"IF($N49<>\"Sem Uso\",VLOOKUP(N49,Configurações!$C$1:$I$8,2,0),\"\")","v":0},{"$f":"IF(N49<>\"Sem Uso\",VLOOKUP(N49,Configurações!$C$1:$I$8,3,0),\"\")","v":"1 a 4"},{"$f":"IF(N49<>\"Sem Uso\",VLOOKUP(N49,Configurações!$C$1:$I$8,4,0),\"\")","v":"5 a 8"},{"$f":"IF(N49<>\"Sem Uso\",VLOOKUP(N49,Configurações!$C$1:$I$8,5,0),\"\")","v":"9 a 12"},{"$f":"IF(N49<>\"Sem Uso\",VLOOKUP(N49,Configurações!$C$1:$I$8,6,0),\"\")","v":"13 a 16"},{"$f":"IF(N49<>\"Sem Uso\",VLOOKUP(N49,Configurações!$C$1:$I$8,7,0),\"\")","v":0}]
[null,2,null,null,null,null,null,null,null,null,null,null,"Total de Alunos",null,null,null,{"$f":"_xlfn.IFS(N49=$AE$2,$B$102,N49=$AF$2,$C$102,N49=$AG$2,$D$102,N49=$AH$2,$E$102,N49=$AI$2,$F$102,N49=$AJ$2,$G$102,N49=$AK$2,$H$102,N49=\"Sem Uso\",\"\")","v":65},null,null,null,null,"Total de Alunos",null,null,null,{"$f":"Q55","v":65},null,null,null,null,"TABELA DE EQUIVALÊNCIA"]
[null,4,null,null,null,null,null,null,null,null,null,null,"Total de Aulas",null,null,null,{"$f":"IF(Q55<>\"\",SUM(AE53:AJ53),\"\")","v":9},"Registro",null,null,null,"Total de Aulas",null,null,null,{"$f":"Q56","v":9},null,null,null,null,"Nr. Alunos",{"$f":"AF54","v":0},{"$f":"IF(AG54<>0,AG54,\"\")","v":"1 a 4"},{"$f":"IF(AH54<>0,AH54,\"\")","v":"5 a 8"},{"$f":"IF(AI54<>0,AI54,\"\")","v":"9 a 12"},{"$f":"IF(AJ54<>0,AJ54,\"\")","v":"13 a 16"},{"$f":"IF(AK54<>0,AK54,\"\")","v":""}]
[null,3,null,null,null,null,null,null,null,null,null,null,"Total a Receber",null,null,null,{"$f":"IF(Q55<>\"\",SUM(N54:S54),\"\")","v":238.56},null,null,null,null,"Total a Receber",null,null,null,{"$f":"IF(Z55<>\"\",SUM(W54:AB54),\"\")","v":238.56},null,null,null,null,"Aulas",{"$f":"IF(AF56<>\"\",AF51,\"\")","v":0},0,8,1,0,""]
[null,3,null,null,null,null,null,null,null,null,null,null,null,null,null,null,null,null,null,null,null,null,null,null,null,null,null,null,null,null,null,{"$f":"IFERROR(VLOOKUP(N49&R49,Configurações!$C$13:$I$47,2,0),\"\")","v":17.66},{"$f":"IFERROR(IF(AG56<>0,VLOOKUP(N49&R49,Configurações!$C$13:$I$47,3,0),\"\"),\"\")","v":21.97},{"$f":"IFERROR(IF(AH56<>0,VLOOKUP(N49&R49,Configurações!$C$13:$I$47,4,0),\"\"),\"\")","v":26.08},{"$f":"IFERROR(IF(AI56<>0,VLOOKUP(N49&R49,Configurações!$C$13:$I$47,5,0),\"\"),\"\")","v":29.92},{"$f":"IFERROR(IF(AJ56<>0,VLOOKUP(N49&R49,Configurações!$C$13:$I$47,6,0),\"\"),\"\")","v":32.64},{"$f":"IFERROR(IF(AK56<>0,VLOOKUP(N49&R49,Configurações!$C$13:$I$47,7,0),\"\"),\"\")","v":0}]
[null,1]
[null,0,null,null,null,null,null,null,null,null,"Modalidade",null,null,"Iniciação",null,null,"Nível","Prof. Nível B",null,null,null,null,null,null,null,null,null,null,null,null,{"$f":"VLOOKUP(N60,Configurações!$J$1:$V$9,2,0)","v":"0"},{"$f":"VLOOKUP(N60,Configurações!$J$1:$V$9,3,0)","v":"0"},{"$f":"VLOOKUP(N60,Configurações!$J$1:$V$9,4,0)","v":"1 "},{"$f":"VLOOKUP(N60,Configurações!$J$1:$V$9,5,0)","v":" 3"},{"$f":"VLOOKUP(N60,Configurações!$J$1:$V$9,6,0)","v":"4 "},{"$f":"VLOOKUP(N60,Configurações!$J$1:$V$9,7,0)","v":" 6"},{"$f":"VLOOKUP(N60,Configurações!$J$1:$V$9,8,0)","v":"7 "},{"$f":"VLOOKUP(N60,Configurações!$J$1:$V$9,9,0)","v":" 8"},{"$f":"VLOOKUP(N60,Configurações!$J$1:$V$9,10,0)","v":"9 "},{"$f":"VLOOKUP(N60,Configurações!$J$1:$V$9,11,0)","v":"10"},{"$f":"VLOOKUP(N60,Configurações!$J$1:$V$9,12,0)","v":""},{"$f":"VLOOKUP(N60,Configurações!$J$1:$V$9,13,0)","v":""}]
[null,4,null,null,null,null,null,null,null,null,"Academia",null,null,null,null,null,null,null,null,null,"Contabilidade",null,null,null,null,null,null,null,null,null,{"$f":"IFERROR(VLOOKUP(N60,_xlfn.ANCHORARRAY($AQ$2),2,0),0)","v":0}]
[null,5,null,null,null,null,null,null,null,null,"Nr. de Alunos",null,null,{"$f":"IF(AF67<>\"\",AF67,\"\")","v":0},{"$f":"IF(AG67<>\"\",AG67,\"\")","v":"1 a 3"},{"$f":"IF(AH67<>\"\",AH67,\"\")","v":"4 a 6"},{"$f":"IF(AI67<>\"\",AI67,\"\")","v":"7 a 8"},{"$f":"IF(AJ67<>\"\",AJ67,\"\")","v":"9 a 10"},{"$f":"IF(AK67<>0,AK67,\"\")","v":""},null,"Nr. de Alunos",null,{"$f":"N62","v":0},{"$f":"O62","v":"1 a 3"},"4 a 6","7 a 8","9 a 10","",null,null,null,{"$f":"IF($N$60=$AE$2,COUNTIF($B$4:$B$100,\">=\"&AE60)-COUNTIF($B$4:$B$100,\">\"&AF60),\nIF($N$60=$AF$2,COUNTIF($C$4:$C$100,\">=\"&AE60)-COUNTIF($C$4:$C$100,\">\"&AF60),\nIF($N$60=$AG$2,COUNTIF($D$4:$D$100,\">=\"&AE60)-COUNTIF($D$4:$D$100,\">\"&AF60),\nIF($N$60=$AH$2,COUNTIF($E$4:$E$100,\">=\"&AE60)-COUNTIF($E$4:$E$100,\">\"&AF60),\nIF($N$60=$AI$2,COUNTIF($F$4:$F$100,\">=\"&AE60)-COUNTIF($F$4:$F$100,\">\"&AF60),\nIF($N$60=$AJ$2,COUNTIF($G$4:$G$100,\">=\"&AE60)-COUNTIF($G$4:$G$100,\">\"&AF60),\nIF($N$60=$AK$2,COUNTIF($H$4:$H$100,\">=\"&AE60)-COUNTIF($H$4:$H$100,\">\"&AF60),\nIF($N$60=\"Sem Uso\",\"\"))))))))","v":0},{"$f":"IF($N$60=$AE$2,COUNTIF($B$4:$B$100,\">=\"&AG60)-COUNTIF($B$4:$B$100,\">\"&AH60),\nIF($N$60=$AF$2,COUNTIF($C$4:$C$100,\">=\"&AG60)-COUNTIF($C$4:$C$100,\">\"&AH60),\nIF($N$60=$AG$2,COUNTIF($D$4:$D$100,\">=\"&AG60)-COUNTIF($D$4:$D$100,\">\"&AH60),\nIF($N$60=$AH$2,COUNTIF($E$4:$E$100,\">=\"&AG60)-COUNTIF($E$4:$E$100,\">\"&AH60),\nIF($N$60=$AI$2,COUNTIF($F$4:$F$100,\">=\"&AG60)-COUNTIF($F$4:$F$100,\">\"&AH60),\nIF($N$60=$AJ$2,COUNTIF($G$4:$G$100,\">=\"&AG60)-COUNTIF($G$4:$G$100,\">\"&AH60),\nIF($N$60=$AK$2,COUNTIF($H$4:$H$100,\">=\"&AG60)-COUNTIF($H$4:$H$100,\">\"&AH60),\nIF($N$60=\"Sem Uso\",\"\"))))))))","v":0},{"$f":"IF($N$60=$AE$2,COUNTIF($B$4:$B$100,\">=\"&AI60)-COUNTIF($B$4:$B$100,\">\"&AJ60),\nIF($N$60=$AF$2,COUNTIF($C$4:$C$100,\">=\"&AI60)-COUNTIF($C$4:$C$100,\">\"&AJ60),\nIF($N$60=$AG$2,COUNTIF($D$4:$D$100,\">=\"&AI60)-COUNTIF($D$4:$D$100,\">\"&AJ60),\nIF($N$60=$AH$2,COUNTIF($E$4:$E$100,\">=\"&AI60)-COUNTIF($E$4:$E$100,\">\"&AJ60),\nIF($N$60=$AI$2,COUNTIF($F$4:$F$100,\">=\"&AI60)-COUNTIF($F$4:$F$100,\">\"&AJ60),\nIF($N$60=$AJ$2,COUNTIF($G$4:$G$100,\">=\"&AI60)-COUNTIF($G$4:$G$100,\">\"&AJ60),\nIF($N$60=$AK$2,COUNTIF($H$4:$H$100,\">=\"&AI60)-COUNTIF($H$4:$H$100,\">\"&AJ60),\nIF($N$60=\"Sem Uso\",\"\"))))))))","v":0},{"$f":"IF($N$60=$AE$2,COUNTIF($B$4:$B$100,\">=\"&AK60)-COUNTIF($B$4:$B$100,\">\"&AL60),\nIF($N$60=$AF$2,COUNTIF($C$4:$C$100,\">=\"&AK60)-COUNTIF($C$4:$C$100,\">\"&AL60),\nIF($N$60=$AG$2,COUNTIF($D$4:$D$100,\">=\"&AK60)-COUNTIF($D$4:$D$100,\">\"&AL60),\nIF($N$60=$AH$2,COUNTIF($E$4:$E$100,\">=\"&AK60)-COUNTIF($E$4:$E$100,\">\"&AL60),\nIF($N$60=$AI$2,COUNTIF($F$4:$F$100,\">=\"&AK60)-COUNTIF($F$4:$F$100,\">\"&AL60),\nIF($N$60=$AJ$2,COUNTIF($G$4:$G$100,\">=\"&AK60)-COUNTIF($G$4:$G$100,\">\"&AL60),\nIF($N$60=$AK$2,COUNTIF($H$4:$H$100,\">=\"&AK60)-COUNTIF($H$4:$H$100,\">\"&AL60),\nIF($N$60=\"Sem Uso\",\"\"))))))))","v":0},{"$f":"IF($N$60=$AE$2,COUNTIF($B$4:$B$100,\">=\"&AM60)-COUNTIF($B$4:$B$100,\">\"&AN60),\nIF($N$60=$AF$2,COUNTIF($C$4:$C$100,\">=\"&AM60)-COUNTIF($C$4:$C$100,\">\"&AN60),\nIF($N$60=$AG$2,COUNTIF($D$4:$D$100,\">=\"&AM60)-COUNTIF($D$4:$D$100,\">\"&AN60),\nIF($N$60=$AH$2,COUNTIF($E$4:$E$100,\">=\"&AM60)-COUNTIF($E$4:$E$100,\">\"&AN60),\nIF($N$60=$AI$2,COUNTIF($F$4:$F$100,\">=\"&AM60)-COUNTIF($F$4:$F$100,\">\"&AN60),\nIF($N$60=$AJ$2,COUNTIF($G$4:$G$100,\">=\"&AM60)-COUNTIF($G$4:$G$100,\">\"&AN60),\nIF($N$60=$AK$2,COUNTIF($H$4:$H$100,\">=\"&AM60)-COUNTIF($H$4:$H$100,\">\"&AN60),\nIF($N$60=\"Sem Uso\",\"\"))))))))","v":0},{"$f":"IF($N$60=$AE$2,COUNTIF($B$4:$B$100,\">=\"&AO60)-COUNTIF($B$4:$B$100,\">\"&AP60),\nIF($N$60=$AF$2,COUNTIF($C$4:$C$100,\">=\"&AO60)-COUNTIF($C$4:$C$100,\">\"&AP60),\nIF($N$60=$AG$2,COUNTIF($D$4:$D$100,\">=\"&AO60)-COUNTIF($D$4:$D$100,\">\"&AP60),\nIF($N$60=$AH$2,COUNTIF($E$4:$E$100,\">=\"&AO60)-COUNTIF($E$4:$E$100,\">\"&AP60),\nIF($N$60=$AI$2,COUNTIF($F$4:$F$100,\">=\"&AO60)-COUNTIF($F$4:$F$100,\">\"&AP60),\nIF($N$60=$AJ$2,COUNTIF($G$4:$G$100,\">=\"&AO60)-COUNTIF($G$4:$G$100,\">\"&AP60),\nIF($N$60=$AK$2,COUNTIF($H$4:$H$100,\">=\"&AO60)-COUNTIF($H$4:$H$100,\">\"&AP60),\nIF($N$60=\"Sem Uso\",\"\"))))))))","v":0}]
[null,1,null,null,null,null,null,null,null,null,"Valor da Aula",null,null,{"$f":"IF(AF69<>0,AF69,\"\")","v":17.66},23.33,27.45,30.88,34.090000000000003,"",null,"Valor da Aula",null,{"$f":"IFERROR(IF(N63<=$S$67,0,N63-$S$67),\"\")","v":17.66},23.33,27.45,30.88,34.090000000000003,0]
[null,1,null,null,null,null,null,null,null,null,"Nr. de Aulas",null,null,{"$f":"IF(AF67<>\"\",AF68,\"\")","v":0},0,0,0,0,"",null,"Nr. de Aulas",null,{"$f":"N64","v":0},0,0,0,0,"",null,null,{"$f":"IF(N64<>\"\",N64,\"\")","v":0},0,0,0,0,""]
[null,3,null,null,null,null,null,null,null,null,"Valor",null,null,{"$f":"IFERROR(N63*N64,\"\")","v":0},0,0,0,0,"",null,"Valor",null,{"$f":"IFERROR(W63*W64,\"\")","v":0},0,0,0,0,"",null,null,null,{"$f":"IF($N60<>\"Sem Uso\",VLOOKUP(N60,Configurações!$C$1:$I$8,2,0),\"\")","v":0},{"$f":"IF(N60<>\"Sem Uso\",VLOOKUP(N60,Configurações!$C$1:$I$8,3,0),\"\")","v":"1 a 3"},{"$f":"IF(N60<>\"Sem Uso\",VLOOKUP(N60,Configurações!$C$1:$I$8,4,0),\"\")","v":"4 a 6"},{"$f":"IF(N60<>\"Sem Uso\",VLOOKUP(N60,Configurações!$C$1:$I$8,5,0),\"\")","v":"7 a 8"},{"$f":"IF(N60<>\"Sem Uso\",VLOOKUP(N60,Configurações!$C$1:$I$8,6,0),\"\")","v":"9 a 10"},{"$f":"IF(N60<>\"Sem Uso\",VLOOKUP(N60,Configurações!$C$1:$I$8,7,0),\"\")","v":0}]
[null,3,null,null,null,null,null,null,null,null,null,null,"Total de Alunos",null,null,null,{"$f":"_xlfn.IFS(N60=$AE$2,$B$102,N60=$AF$2,$C$102,N60=$AG$2,$D$102,N60=$AH$2,$E$102,N60=$AI$2,$F$102,N60=$AJ$2,$G$102,N60=$AK$2,$H$102,N60=\"Sem Uso\",\"\")","v":0},null,null,null,null,"Total de Alunos",null,null,null,{"$f":"Q66","v":0},null,null,null,null,"TABELA DE EQUIVALÊNCIA"]
[null,null,null,null,null,null,null,null,null,null,null,null,"Total de Aulas",null,null,null,{"$f":"IF(Q66<>\"\",SUM(AE64:AJ64),\"\")","v":0},"Registro",null,null,null,"Total de Aulas",null,null,null,{"$f":"Q67","v":0},null,null,null,null,"Nr. Alunos",{"$f":"AF65","v":0},{"$f":"IF(AG65<>0,AG65,\"\")","v":"1 a 3"},{"$f":"IF(AH65<>0,AH65,\"\")","v":"4 a 6"},{"$f":"IF(AI65<>0,AI65,\"\")","v":"7 a 8"},{"$f":"IF(AJ65<>0,AJ65,\"\")","v":"9 a 10"},{"$f":"IF(AK65<>0,AK65,\"\")","v":""}]
[null,null,null,null,null,null,null,null,null,null,null,null,"Total a Receber",null,null,null,{"$f":"IF(Q66<>\"\",SUM(N65:S65),\"\")","v":0},null,null,null,null,"Total a Receber",null,null,null,{"$f":"IF(Z66<>\"\",SUM(W65:AB65),\"\")","v":0},null,null,null,null,"Aulas",{"$f":"IF(AF67<>\"\",AF62,\"\")","v":0},0,0,0,0,""]
[null,null,null,null,null,null,null,null,null,null,null,null,null,null,null,null,null,null,null,null,null,null,null,null,null,null,null,null,null,null,null,{"$f":"IFERROR(VLOOKUP(N60&R60,Configurações!$C$13:$I$47,2,0),\"\")","v":17.66},{"$f":"IFERROR(IF(AG67<>0,VLOOKUP(N60&R60,Configurações!$C$13:$I$47,3,0),\"\"),\"\")","v":23.33},{"$f":"IFERROR(IF(AH67<>0,VLOOKUP(N60&R60,Configurações!$C$13:$I$47,4,0),\"\"),\"\")","v":27.45},{"$f":"IFERROR(IF(AI67<>0,VLOOKUP(N60&R60,Configurações!$C$13:$I$47,5,0),\"\"),\"\")","v":30.88},{"$f":"IFERROR(IF(AJ67<>0,VLOOKUP(N60&R60,Configurações!$C$13:$I$47,6,0),\"\"),\"\")","v":34.090000000000003},{"$f":"IFERROR(IF(AK67<>0,VLOOKUP(N60&R60,Configurações!$C$13:$I$47,7,0),\"\"),\"\")","v":0}]
[]
[null,null,null,null,null,null,null,null,null,null,"Modalidade",null,null,"Hidroginástica",null,null,"Nível","Prof. Nível B",null,null,null,null,null,null,null,null,null,null,null,null,{"$f":"VLOOKUP(N71,Configurações!$J$1:$V$9,2,0)","v":"0"},{"$f":"VLOOKUP(N71,Configurações!$J$1:$V$9,3,0)","v":"0"},{"$f":"VLOOKUP(N71,Configurações!$J$1:$V$9,4,0)","v":"1 "},{"$f":"VLOOKUP(N71,Configurações!$J$1:$V$9,5,0)","v":" 7"},{"$f":"VLOOKUP(N71,Configurações!$J$1:$V$9,6,0)","v":"8 "},{"$f":"VLOOKUP(N71,Configurações!$J$1:$V$9,7,0)","v":"15"},{"$f":"VLOOKUP(N71,Configurações!$J$1:$V$9,8,0)","v":"16"},{"$f":"VLOOKUP(N71,Configurações!$J$1:$V$9,9,0)","v":"22"},{"$f":"VLOOKUP(N71,Configurações!$J$1:$V$9,10,0)","v":"23"},{"$f":"VLOOKUP(N71,Configurações!$J$1:$V$9,11,0)","v":"30"},{"$f":"VLOOKUP(N71,Configurações!$J$1:$V$9,12,0)","v":""},{"$f":"VLOOKUP(N71,Configurações!$J$1:$V$9,13,0)","v":""}]
[null,null,null,null,null,null,null,null,null,null,"Academia",null,null,null,null,null,null,null,null,null,"Contabilidade",null,null,null,null,null,null,null,null,null,{"$f":"IFERROR(VLOOKUP(N71,_xlfn.ANCHORARRAY($AQ$2),2,0),0)","v":80}]
[null,null,null,null,null,null,null,null,null,null,"Nr. de Alunos",null,null,{"$f":"IF(AF78<>\"\",AF78,\"\")","v":0},{"$f":"IF(AG78<>\"\",AG78,\"\")","v":"1 a 7"},{"$f":"IF(AH78<>\"\",AH78,\"\")","v":"8 a 15"},{"$f":"IF(AI78<>\"\",AI78,\"\")","v":"16 a 22"},{"$f":"IF(AJ78<>\"\",AJ78,\"\")","v":"23 a 30"},{"$f":"IF(AK78<>0,AK78,\"\")","v":""},null,"Nr. de Alunos",null,{"$f":"N73","v":0},"1 a 7","8 a 15","16 a 22","23 a 30","",null,null,null,{"$f":"IF($N$71=$AE$2,COUNTIF($B$4:$B$100,\">=\"&AE71)-COUNTIF($B$4:$B$100,\">\"&AF71),\nIF($N$71=$AF$2,COUNTIF($C$4:$C$100,\">=\"&AE71)-COUNTIF($C$4:$C$100,\">\"&AF71),\nIF($N$71=$AG$2,COUNTIF($D$4:$D$100,\">=\"&AE71)-COUNTIF($D$4:$D$100,\">\"&AF71),\nIF($N$71=$AH$2,COUNTIF($E$4:$E$100,\">=\"&AE71)-COUNTIF($E$4:$E$100,\">\"&AF71),\nIF($N$71=$AI$2,COUNTIF($F$4:$F$100,\">=\"&AE71)-COUNTIF($F$4:$F$100,\">\"&AF71),\nIF($N$71=$AJ$2,COUNTIF($G$4:$G$100,\">=\"&AE71)-COUNTIF($G$4:$G$100,\">\"&AF71),\nIF($N$71=$AK$2,COUNTIF($H$4:$H$100,\">=\"&AE71)-COUNTIF($H$4:$H$100,\">\"&AF71),\nIF($N$71=\"Sem Uso\",\"\"))))))))","v":1},{"$f":"IF($N$71=$AE$2,COUNTIF($B$4:$B$100,\">=\"&AG71)-COUNTIF($B$4:$B$100,\">\"&AH71),\nIF($N$71=$AF$2,COUNTIF($C$4:$C$100,\">=\"&AG71)-COUNTIF($C$4:$C$100,\">\"&AH71),\nIF($N$71=$AG$2,COUNTIF($D$4:$D$100,\">=\"&AG71)-COUNTIF($D$4:$D$100,\">\"&AH71),\nIF($N$71=$AH$2,COUNTIF($E$4:$E$100,\">=\"&AG71)-COUNTIF($E$4:$E$100,\">\"&AH71),\nIF($N$71=$AI$2,COUNTIF($F$4:$F$100,\">=\"&AG71)-COUNTIF($F$4:$F$100,\">\"&AH71),\nIF($N$71=$AJ$2,COUNTIF($G$4:$G$100,\">=\"&AG71)-COUNTIF($G$4:$G$100,\">\"&AH71),\nIF($N$71=$AK$2,COUNTIF($H$4:$H$100,\">=\"&AG71)-COUNTIF($H$4:$H$100,\">\"&AH71),\nIF($N$71=\"Sem Uso\",\"\"))))))))","v":5},{"$f":"IF($N$71=$AE$2,COUNTIF($B$4:$B$100,\">=\"&AI71)-COUNTIF($B$4:$B$100,\">\"&AJ71),\nIF($N$71=$AF$2,COUNTIF($C$4:$C$100,\">=\"&AI71)-COUNTIF($C$4:$C$100,\">\"&AJ71),\nIF($N$71=$AG$2,COUNTIF($D$4:$D$100,\">=\"&AI71)-COUNTIF($D$4:$D$100,\">\"&AJ71),\nIF($N$71=$AH$2,COUNTIF($E$4:$E$100,\">=\"&AI71)-COUNTIF($E$4:$E$100,\">\"&AJ71),\nIF($N$71=$AI$2,COUNTIF($F$4:$F$100,\">=\"&AI71)-COUNTIF($F$4:$F$100,\">\"&AJ71),\nIF($N$71=$AJ$2,COUNTIF($G$4:$G$100,\">=\"&AI71)-COUNTIF($G$4:$G$100,\">\"&AJ71),\nIF($N$71=$AK$2,COUNTIF($H$4:$H$100,\">=\"&AI71)-COUNTIF($H$4:$H$100,\">\"&AJ71),\nIF($N$71=\"Sem Uso\",\"\"))))))))","v":6},{"$f":"IF($N$71=$AE$2,COUNTIF($B$4:$B$100,\">=\"&AK71)-COUNTIF($B$4:$B$100,\">\"&AL71),\nIF($N$71=$AF$2,COUNTIF($C$4:$C$100,\">=\"&AK71)-COUNTIF($C$4:$C$100,\">\"&AL71),\nIF($N$71=$AG$2,COUNTIF($D$4:$D$100,\">=\"&AK71)-COUNTIF($D$4:$D$100,\">\"&AL71),\nIF($N$71=$AH$2,COUNTIF($E$4:$E$100,\">=\"&AK71)-COUNTIF($E$4:$E$100,\">\"&AL71),\nIF($N$71=$AI$2,COUNTIF($F$4:$F$100,\">=\"&AK71)-COUNTIF($F$4:$F$100,\">\"&AL71),\nIF($N$71=$AJ$2,COUNTIF($G$4:$G$100,\">=\"&AK71)-COUNTIF($G$4:$G$100,\">\"&AL71),\nIF($N$71=$AK$2,COUNTIF($H$4:$H$100,\">=\"&AK71)-COUNTIF($H$4:$H$100,\">\"&AL71),\nIF($N$71=\"Sem Uso\",\"\"))))))))","v":0},{"$f":"IF($N$71=$AE$2,COUNTIF($B$4:$B$100,\">=\"&AM71)-COUNTIF($B$4:$B$100,\">\"&AN71),\nIF($N$71=$AF$2,COUNTIF($C$4:$C$100,\">=\"&AM71)-COUNTIF($C$4:$C$100,\">\"&AN71),\nIF($N$71=$AG$2,COUNTIF($D$4:$D$100,\">=\"&AM71)-COUNTIF($D$4:$D$100,\">\"&AN71),\nIF($N$71=$AH$2,COUNTIF($E$4:$E$100,\">=\"&AM71)-COUNTIF($E$4:$E$100,\">\"&AN71),\nIF($N$71=$AI$2,COUNTIF($F$4:$F$100,\">=\"&AM71)-COUNTIF($F$4:$F$100,\">\"&AN71),\nIF($N$71=$AJ$2,COUNTIF($G$4:$G$100,\">=\"&AM71)-COUNTIF($G$4:$G$100,\">\"&AN71),\nIF($N$71=$AK$2,COUNTIF($H$4:$H$100,\">=\"&AM71)-COUNTIF($H$4:$H$100,\">\"&AN71),\nIF($N$71=\"Sem Uso\",\"\"))))))))","v":0},{"$f":"IF($N$71=$AE$2,COUNTIF($B$4:$B$100,\">=\"&AO71)-COUNTIF($B$4:$B$100,\">\"&AP71),\nIF($N$71=$AF$2,COUNTIF($C$4:$C$100,\">=\"&AO71)-COUNTIF($C$4:$C$100,\">\"&AP71),\nIF($N$71=$AG$2,COUNTIF($D$4:$D$100,\">=\"&AO71)-COUNTIF($D$4:$D$100,\">\"&AP71),\nIF($N$71=$AH$2,COUNTIF($E$4:$E$100,\">=\"&AO71)-COUNTIF($E$4:$E$100,\">\"&AP71),\nIF($N$71=$AI$2,COUNTIF($F$4:$F$100,\">=\"&AO71)-COUNTIF($F$4:$F$100,\">\"&AP71),\nIF($N$71=$AJ$2,COUNTIF($G$4:$G$100,\">=\"&AO71)-COUNTIF($G$4:$G$100,\">\"&AP71),\nIF($N$71=$AK$2,COUNTIF($H$4:$H$100,\">=\"&AO71)-COUNTIF($H$4:$H$100,\">\"&AP71),\nIF($N$71=\"Sem Uso\",\"\"))))))))","v":0}]
[null,null,null,null,null,null,null,null,null,null,"Valor da Aula",null,null,{"$f":"IF(AF80<>0,AF80,\"\")","v":17.66},26.08,30.2,35.68,41.17,"",null,"Valor da Aula",null,{"$f":"IFERROR(IF(N74<=$S$78,0,N74-$S$78),\"\")","v":17.66},26.08,30.2,35.68,41.17,0]
[null,null,null,null,null,null,null,null,null,null,"Nr. de Aulas",null,null,{"$f":"IF(AF78<>\"\",AF79,\"\")","v":1},5,6,0,0,"",null,"Nr. de Aulas",null,{"$f":"N75","v":1},5,6,0,0,"",null,null,{"$f":"IF(N75<>\"\",N75,\"\")","v":1},5,6,0,0,""]
[null,null,null,null,null,null,null,null,null,null,"Valor",null,null,{"$f":"IFERROR(N74*N75,\"\")","v":17.66},130.39999999999998,181.2,0,0,"",null,"Valor",null,{"$f":"IFERROR(W74*W75,\"\")","v":17.66},130.39999999999998,181.2,0,0,"",null,null,null,{"$f":"IF($N71<>\"Sem Uso\",VLOOKUP(N71,Configurações!$C$1:$I$8,2,0),\"\")","v":0},{"$f":"IF(N71<>\"Sem Uso\",VLOOKUP(N71,Configurações!$C$1:$I$8,3,0),\"\")","v":"1 a 7"},{"$f":"IF(N71<>\"Sem Uso\",VLOOKUP(N71,Configurações!$C$1:$I$8,4,0),\"\")","v":"8 a 15"},{"$f":"IF(N71<>\"Sem Uso\",VLOOKUP(N71,Configurações!$C$1:$I$8,5,0),\"\")","v":"16 a 22"},{"$f":"IF(N71<>\"Sem Uso\",VLOOKUP(N71,Configurações!$C$1:$I$8,6,0),\"\")","v":"23 a 30"},{"$f":"IF(N71<>\"Sem Uso\",VLOOKUP(N71,Configurações!$C$1:$I$8,7,0),\"\")","v":0}]
[null,null,null,null,null,null,null,null,null,null,null,null,"Total de Alunos",null,null,null,{"$f":"_xlfn.IFS(N71=$AE$2,$B$102,N71=$AF$2,$C$102,N71=$AG$2,$D$102,N71=$AH$2,$E$102,N71=$AI$2,$F$102,N71=$AJ$2,$G$102,N71=$AK$2,$H$102,N71=\"Sem Uso\",\"\")","v":80},null,null,null,null,"Total de Alunos",null,null,null,{"$f":"Q77","v":80},null,null,null,null,"TABELA DE EQUIVALÊNCIA"]
[null,null,null,null,null,null,null,null,null,null,null,null,"Total de Aulas",null,null,null,{"$f":"IF(Q77<>\"\",SUM(AE75:AJ75),\"\")","v":12},"Registro",null,null,null,"Total de Aulas",null,null,null,{"$f":"Q78","v":12},null,null,null,null,"Nr. Alunos",{"$f":"AF76","v":0},{"$f":"IF(AG76<>0,AG76,\"\")","v":"1 a 7"},{"$f":"IF(AH76<>0,AH76,\"\")","v":"8 a 15"},{"$f":"IF(AI76<>0,AI76,\"\")","v":"16 a 22"},{"$f":"IF(AJ76<>0,AJ76,\"\")","v":"23 a 30"},{"$f":"IF(AK76<>0,AK76,\"\")","v":""}]
[null,null,null,null,null,null,null,null,null,null,null,null,"Total a Receber",null,null,null,{"$f":"IF(Q77<>\"\",SUM(N76:S76),\"\")","v":329.26},null,null,null,null,"Total a Receber",null,null,null,{"$f":"IF(Z77<>\"\",SUM(W76:AB76),\"\")","v":329.26},null,null,null,null,"Aulas",{"$f":"IF(AF78<>\"\",AF73,\"\")","v":1},5,6,0,0,""]
[null,null,null,null,null,null,null,null,null,null,null,null,null,null,null,null,null,null,null,null,null,null,null,null,null,null,null,null,null,null,null,{"$f":"IFERROR(VLOOKUP(N71&R71,Configurações!$C$13:$I$47,2,0),\"\")","v":17.66},{"$f":"IFERROR(IF(AG78<>0,VLOOKUP(N71&R71,Configurações!$C$13:$I$47,3,0),\"\"),\"\")","v":26.08},{"$f":"IFERROR(IF(AH78<>0,VLOOKUP(N71&R71,Configurações!$C$13:$I$47,4,0),\"\"),\"\")","v":30.2},{"$f":"IFERROR(IF(AI78<>0,VLOOKUP(N71&R71,Configurações!$C$13:$I$47,5,0),\"\"),\"\")","v":35.68},{"$f":"IFERROR(IF(AJ78<>0,VLOOKUP(N71&R71,Configurações!$C$13:$I$47,6,0),\"\"),\"\")","v":41.17},{"$f":"IFERROR(IF(AK78<>0,VLOOKUP(N71&R71,Configurações!$C$13:$I$47,7,0),\"\"),\"\")","v":0}]
[]
[null,null,null,null,null,null,null,null,null,null,"Modalidade",null,null,"Sem Uso",null,null,"Nível","Prof. Especial",null,null,null,null,null,null,null,null,null,null,null,null,{"$f":"VLOOKUP(N82,Configurações!$J$1:$V$9,2,0)","v":""},{"$f":"VLOOKUP(N82,Configurações!$J$1:$V$9,3,0)","v":""},{"$f":"VLOOKUP(N82,Configurações!$J$1:$V$9,4,0)","v":""},{"$f":"VLOOKUP(N82,Configurações!$J$1:$V$9,5,0)","v":""},{"$f":"VLOOKUP(N82,Configurações!$J$1:$V$9,6,0)","v":""},{"$f":"VLOOKUP(N82,Configurações!$J$1:$V$9,7,0)","v":""},{"$f":"VLOOKUP(N82,Configurações!$J$1:$V$9,8,0)","v":""},{"$f":"VLOOKUP(N82,Configurações!$J$1:$V$9,9,0)","v":""},{"$f":"VLOOKUP(N82,Configurações!$J$1:$V$9,10,0)","v":""},{"$f":"VLOOKUP(N82,Configurações!$J$1:$V$9,11,0)","v":""},{"$f":"VLOOKUP(N82,Configurações!$J$1:$V$9,12,0)","v":""},{"$f":"VLOOKUP(N82,Configurações!$J$1:$V$9,13,0)","v":""}]
[null,null,null,null,null,null,null,null,null,null,"Academia",null,null,null,null,null,null,null,null,null,"Contabilidade",null,null,null,null,null,null,null,null,null,{"$f":"IFERROR(VLOOKUP(N82,_xlfn.ANCHORARRAY($AQ$2),2,0),0)","v":0}]
[null,null,null,null,null,null,null,null,null,null,"Nr. de Alunos",null,null,{"$f":"IF(AF89<>\"\",AF89,\"\")","v":""},{"$f":"IF(AG89<>\"\",AG89,\"\")","v":""},{"$f":"IF(AH89<>\"\",AH89,\"\")","v":""},{"$f":"IF(AI89<>\"\",AI89,\"\")","v":""},{"$f":"IF(AJ89<>\"\",AJ89,\"\")","v":""},{"$f":"IF(AK89<>0,AK89,\"\")","v":""},null,"Nr. de Alunos",null,{"$f":"N84","v":""},{"$f":"O84","v":""},"","","","",null,null,null,{"$f":"IF($N$82=$AE$2,COUNTIF($B$4:$B$100,\">=\"&AE82)-COUNTIF($B$4:$B$100,\">\"&AF82),\nIF($N$82=$AF$2,COUNTIF($C$4:$C$100,\">=\"&AE82)-COUNTIF($C$4:$C$100,\">\"&AF82),\nIF($N$82=$AG$2,COUNTIF($D$4:$D$100,\">=\"&AE82)-COUNTIF($D$4:$D$100,\">\"&AF82),\nIF($N$82=$AH$2,COUNTIF($E$4:$E$100,\">=\"&AE82)-COUNTIF($E$4:$E$100,\">\"&AF82),\nIF($N$82=$AI$2,COUNTIF($F$4:$F$100,\">=\"&AE82)-COUNTIF($F$4:$F$100,\">\"&AF82),\nIF($N$82=$AJ$2,COUNTIF($G$4:$G$100,\">=\"&AE82)-COUNTIF($G$4:$G$100,\">\"&AF82),\nIF($N$82=$AK$2,COUNTIF($H$4:$H$100,\">=\"&AE82)-COUNTIF($H$4:$H$100,\">\"&AF82),\nIF($N$82=\"Sem Uso\",\"\"))))))))","v":""},{"$f":"IF($N$82=$AE$2,COUNTIF($B$4:$B$100,\">=\"&AG82)-COUNTIF($B$4:$B$100,\">\"&AH82),\nIF($N$82=$AF$2,COUNTIF($C$4:$C$100,\">=\"&AG82)-COUNTIF($C$4:$C$100,\">\"&AH82),\nIF($N$82=$AG$2,COUNTIF($D$4:$D$100,\">=\"&AG82)-COUNTIF($D$4:$D$100,\">\"&AH82),\nIF($N$82=$AH$2,COUNTIF($E$4:$E$100,\">=\"&AG82)-COUNTIF($E$4:$E$100,\">\"&AH82),\nIF($N$82=$AI$2,COUNTIF($F$4:$F$100,\">=\"&AG82)-COUNTIF($F$4:$F$100,\">\"&AH82),\nIF($N$82=$AJ$2,COUNTIF($G$4:$G$100,\">=\"&AG82)-COUNTIF($G$4:$G$100,\">\"&AH82),\nIF($N$82=$AK$2,COUNTIF($H$4:$H$100,\">=\"&AG82)-COUNTIF($H$4:$H$100,\">\"&AH82),\nIF($N$82=\"Sem Uso\",\"\"))))))))","v":""},{"$f":"IF($N$82=$AE$2,COUNTIF($B$4:$B$100,\">=\"&AI82)-COUNTIF($B$4:$B$100,\">\"&AJ82),\nIF($N$82=$AF$2,COUNTIF($C$4:$C$100,\">=\"&AI82)-COUNTIF($C$4:$C$100,\">\"&AJ82),\nIF($N$82=$AG$2,COUNTIF($D$4:$D$100,\">=\"&AI82)-COUNTIF($D$4:$D$100,\">\"&AJ82),\nIF($N$82=$AH$2,COUNTIF($E$4:$E$100,\">=\"&AI82)-COUNTIF($E$4:$E$100,\">\"&AJ82),\nIF($N$82=$AI$2,COUNTIF($F$4:$F$100,\">=\"&AI82)-COUNTIF($F$4:$F$100,\">\"&AJ82),\nIF($N$82=$AJ$2,COUNTIF($G$4:$G$100,\">=\"&AI82)-COUNTIF($G$4:$G$100,\">\"&AJ82),\nIF($N$82=$AK$2,COUNTIF($H$4:$H$100,\">=\"&AI82)-COUNTIF($H$4:$H$100,\">\"&AJ82),\nIF($N$82=\"Sem Uso\",\"\"))))))))","v":""},{"$f":"IF($N$82=$AE$2,COUNTIF($B$4:$B$100,\">=\"&AK82)-COUNTIF($B$4:$B$100,\">\"&AL82),\nIF($N$82=$AF$2,COUNTIF($C$4:$C$100,\">=\"&AK82)-COUNTIF($C$4:$C$100,\">\"&AL82),\nIF($N$82=$AG$2,COUNTIF($D$4:$D$100,\">=\"&AK82)-COUNTIF($D$4:$D$100,\">\"&AL82),\nIF($N$82=$AH$2,COUNTIF($E$4:$E$100,\">=\"&AK82)-COUNTIF($E$4:$E$100,\">\"&AL82),\nIF($N$82=$AI$2,COUNTIF($F$4:$F$100,\">=\"&AK82)-COUNTIF($F$4:$F$100,\">\"&AL82),\nIF($N$82=$AJ$2,COUNTIF($G$4:$G$100,\">=\"&AK82)-COUNTIF($G$4:$G$100,\">\"&AL82),\nIF($N$82=$AK$2,COUNTIF($H$4:$H$100,\">=\"&AK82)-COUNTIF($H$4:$H$100,\">\"&AL82),\nIF($N$82=\"Sem Uso\",\"\"))))))))","v":""},{"$f":"IF($N$82=$AE$2,COUNTIF($B$4:$B$100,\">=\"&AM82)-COUNTIF($B$4:$B$100,\">\"&AN82),\nIF($N$82=$AF$2,COUNTIF($C$4:$C$100,\">=\"&AM82)-COUNTIF($C$4:$C$100,\">\"&AN82),\nIF($N$82=$AG$2,COUNTIF($D$4:$D$100,\">=\"&AM82)-COUNTIF($D$4:$D$100,\">\"&AN82),\nIF($N$82=$AH$2,COUNTIF($E$4:$E$100,\">=\"&AM82)-COUNTIF($E$4:$E$100,\">\"&AN82),\nIF($N$82=$AI$2,COUNTIF($F$4:$F$100,\">=\"&AM82)-COUNTIF($F$4:$F$100,\">\"&AN82),\nIF($N$82=$AJ$2,COUNTIF($G$4:$G$100,\">=\"&AM82)-COUNTIF($G$4:$G$100,\">\"&AN82),\nIF($N$82=$AK$2,COUNTIF($H$4:$H$100,\">=\"&AM82)-COUNTIF($H$4:$H$100,\">\"&AN82),\nIF($N$82=\"Sem Uso\",\"\"))))))))","v":""},{"$f":"IF($N$82=$AE$2,COUNTIF($B$4:$B$100,\">=\"&AO82)-COUNTIF($B$4:$B$100,\">\"&AP82),\nIF($N$82=$AF$2,COUNTIF($C$4:$C$100,\">=\"&AO82)-COUNTIF($C$4:$C$100,\">\"&AP82),\nIF($N$82=$AG$2,COUNTIF($D$4:$D$100,\">=\"&AO82)-COUNTIF($D$4:$D$100,\">\"&AP82),\nIF($N$82=$AH$2,COUNTIF($E$4:$E$100,\">=\"&AO82)-COUNTIF($E$4:$E$100,\">\"&AP82),\nIF($N$82=$AI$2,COUNTIF($F$4:$F$100,\">=\"&AO82)-COUNTIF($F$4:$F$100,\">\"&AP82),\nIF($N$82=$AJ$2,COUNTIF($G$4:$G$100,\">=\"&AO82)-COUNTIF($G$4:$G$100,\">\"&AP82),\nIF($N$82=$AK$2,COUNTIF($H$4:$H$100,\">=\"&AO82)-COUNTIF($H$4:$H$100,\">\"&AP82),\nIF($N$82=\"Sem Uso\",\"\"))))))))","v":""}]
[null,null,null,null,null,null,null,null,null,null,"Valor da Aula",null,null,{"$f":"IF(AF91<>0,AF91,\"\")","v":""},"","","","","",null,"Valor da Aula",null,{"$f":"IFERROR(IF(N85<=$S$89,0,N85-$S$89),\"\")","v":0},0,0,0,0,0]
[null,null,null,null,null,null,null,null,null,null,"Nr. de Aulas",null,null,{"$f":"IF(AF89<>\"\",AF90,\"\")","v":""},"","","","","",null,"Nr. de Aulas",null,{"$f":"N86","v":""},"","","","","",null,null,{"$f":"IF(N86<>\"\",N86,\"\")","v":""},"","","","",""]
[null,null,null,null,null,null,null,null,null,null,"Valor",null,null,{"$f":"IFERROR(N85*N86,\"\")","v":""},"","","","","",null,"Valor",null,{"$f":"IFERROR(W85*W86,\"\")","v":""},"","","","","",null,null,null,{"$f":"IF($N82<>\"Sem Uso\",VLOOKUP(N82,Configurações!$C$1:$I$8,2,0),\"\")","v":""},{"$f":"IF(N82<>\"Sem Uso\",VLOOKUP(N82,Configurações!$C$1:$I$8,3,0),\"\")","v":""},{"$f":"IF(N82<>\"Sem Uso\",VLOOKUP(N82,Configurações!$C$1:$I$8,4,0),\"\")","v":""},{"$f":"IF(N82<>\"Sem Uso\",VLOOKUP(N82,Configurações!$C$1:$I$8,5,0),\"\")","v":""},{"$f":"IF(N82<>\"Sem Uso\",VLOOKUP(N82,Configurações!$C$1:$I$8,6,0),\"\")","v":""},{"$f":"IF(N82<>\"Sem Uso\",VLOOKUP(N82,Configurações!$C$1:$I$8,7,0),\"\")","v":""}]
[null,null,null,null,null,null,null,null,null,null,null,null,"Total de Alunos",null,null,null,{"$f":"_xlfn.IFS(N82=$AE$2,$B$102,N82=$AF$2,$C$102,N82=$AG$2,$D$102,N82=$AH$2,$E$102,N82=$AI$2,$F$102,N82=$AJ$2,$G$102,N82=$AK$2,$H$102,N82=\"Sem Uso\",\"\")","v":""},null,null,null,null,"Total de Alunos",null,null,null,{"$f":"Q88","v":""},null,null,null,null,"TABELA DE EQUIVALÊNCIA"]
[null,null,null,null,null,null,null,null,null,null,null,null,"Total de Aulas",null,null,null,{"$f":"IF(Q88<>\"\",SUM(AE86:AJ86),\"\")","v":""},"Registro",null,null,null,"Total de Aulas",null,null,null,{"$f":"Q89","v":""},null,null,null,null,"Nr. Alunos",{"$f":"AF87","v":""},{"$f":"IF(AG87<>0,AG87,\"\")","v":""},{"$f":"IF(AH87<>0,AH87,\"\")","v":""},{"$f":"IF(AI87<>0,AI87,\"\")","v":""},{"$f":"IF(AJ87<>0,AJ87,\"\")","v":""},{"$f":"IF(AK87<>0,AK87,\"\")","v":""}]
[null,null,null,null,null,null,null,null,null,null,null,null,"Total a Receber",null,null,null,{"$f":"IF(Q88<>\"\",SUM(N87:S87),\"\")","v":""},null,null,null,null,"Total a Receber",null,null,null,{"$f":"IF(Z88<>\"\",SUM(W87:AB87),\"\")","v":""},null,null,null,null,"Aulas",{"$f":"IF(AF89<>\"\",AF84,\"\")","v":""},"","","","",""]
[null,null,null,null,null,null,null,null,null,null,null,null,null,null,null,null,null,null,null,null,null,null,null,null,null,null,null,null,null,null,null,{"$f":"IFERROR(VLOOKUP(N82&R82,Configurações!$C$13:$I$47,2,0),\"\")","v":""},{"$f":"IFERROR(IF(AG89<>0,VLOOKUP(N82&R82,Configurações!$C$13:$I$47,3,0),\"\"),\"\")","v":""},{"$f":"IFERROR(IF(AH89<>0,VLOOKUP(N82&R82,Configurações!$C$13:$I$47,4,0),\"\"),\"\")","v":""},{"$f":"IFERROR(IF(AI89<>0,VLOOKUP(N82&R82,Configurações!$C$13:$I$47,5,0),\"\"),\"\")","v":""},{"$f":"IFERROR(IF(AJ89<>0,VLOOKUP(N82&R82,Configurações!$C$13:$I$47,6,0),\"\"),\"\")","v":""},{"$f":"IFERROR(IF(AK89<>0,VLOOKUP(N82&R82,Configurações!$C$13:$I$47,7,0),\"\"),\"\")","v":""}]
[]
[]
[]
[]
[]
[]
[]
[]
[]
[]
[null,{"$f":"SUM($B$4:$B$100)","v":184},{"$f":"SUM($C$4:$C$100)","v":0},{"$f":"SUM($D$4:$D$100)","v":53},{"$f":"SUM($E$4:$E$100)","v":65},{"$f":"SUM($F$4:$F$100)","v":0},{"$f":"SUM($G$4:$G$100)","v":0},{"$f":"SUM($H$4:$H$100)","v":80}]

{"sheet":"Juliano Gallo Silva","index":3,"n_rows":102,"n_cols":115,"rows_kept":102,"cut":false,"hidden":false,"merged":[[21,92,21,98],[21,100,21,106],[21,108,21,114],[87,39,87,45],[71,10,71,18],[71,20,71,27],[76,39,76,45],[81,10,81,12],[81,13,81,15],[81,17,81,18],[65,39,65,45],[70,10,70,12],[70,13,70,15],[70,17,70,18],[82,10,82,18],[82,20,82,27],[69,31,69,33],[54,39,54,45],[59,10,59,12],[59,13,59,15],[59,17,59,18],[60,10,60,18],[60,20,60,27],[43,39,43,45],[48,10,48,12],[48,13,48,15],[48,17,48,18],[49,10,49,18],[49,20,49,27],[32,39,32,45],[37,10,37,12],[37,13,37,15],[37,17,37,18],[38,10,38,18],[38,20,38,27],[21,39,21,45],[26,10,26,12],[26,13,26,15],[26,17,26,18],[27,10,27,18],[27,20,27,27],[21,31,21,33],[12,61,12,62],[16,10,16,18],[16,20,16,27],[15,10,15,12],[15,13,15,15],[15,17,15,18],[0,54,0,57],[0,59,0,62],[0,64,0,67],[1,25,1,26],[3,19,3,21],[3,31,4,33],[3,34,4,34],[4,19,4,21],[4,24,4,25],[22,84,25,84],[22,85,25,85],[22,86,25,86],[1,9,1,11],[1,12,1,15],[1,17,1,18],[1,19,1,20],[1,23,1,24],[4,9,4,12],[4,15,4,16],[7,12,7,17],[12,54,12,55],[5,19,5,21],[5,31,5,33],[12,56,12,57],[12,59,12,60],[22,78,25,78],[22,79,25,79],[22,80,25,80],[22,81,25,81],[22,83,25,83],[21,64,21,67],[21,59,21,62],[21,54,21,57],[22,87,25,87],[22,88,25,88],[21,69,21,74],[21,76,21,81],[21,83,21,88],[22,69,25,69],[22,70,25,70],[22,71,25,71],[22,72,25,72],[22,73,25,73],[22,74,25,74],[22,76,25,76],[22,77,25,77]]}
[null,null,null,null,null,null,null,null,null,null,null,null,null,null,null,null,null,null,null,null,null,null,null,null,null,null,null,null,null,null,null,null,null,null,null,null,null,null,null,null,null,null,null,null,null,null,null,null,null,null,null,null,null,null,"Valores",null,null,null,null,"Aulas",null,null,null,null,"Alunos"]
[null,"Nat. Adulta","Nat. Bebê","Aprend. A","Aprend. B","Adaptação","Iniciação","Hidrogin.",null,"Professor(a)",null,null,{"$f":"AN5","v":"Juliano Gallo Silva"},null,null,null,null,null,null,null,null,null,null,"Referência",null,"2025-07-01",null,null,null,null,null,null,null,null,null,null,null,null,null,"Natação Adulta","Natação Bebê","Aprendizagem A","Aprendizagem B","Adaptação","Iniciação","Hidroginástica",null,null,null,null,null,{"$f":"TRANSPOSE(AN2:AT3)","v":"Natação Adulta"},180,null,"TOT NA","TOT BB","TOT IN","TOT HI",null,"TOT NA","TOT BB","TOT IN","TOT HI",null,"TOT NA","TOT BB","TOT IN","TOT HI"]
[null,null,null,null,null,null,null,null,null,null,null,null,null,null,null,null,null,null,null,null,null,null,null,null,null,null,null,null,null,null,null,null,null,null,null,null,null,null,null,{"$f":"B102","v":180},0,83,41,0,51,258,null,null,null,null,null,"Natação Bebê",0]
[null,4,null,4,7,null,2,14,null,null,null,null,null,null,null,null,null,null,null,"Salário Bruto",null,null,{"$f":"R12+V11+Y11","v":2952.8},null,null,null,null,null,null,null,null,"RESUMOS CONTABILIDADE",null,null,{"$f":"AI6+AI22+AI70","v":709.98},null,null,null,null,{"$f":"CELL(\"nome.arquivo\",AN5)","v":"C:\\Users\\SAMSUNG\\Downloads\\[Aulas de Julho - NOVA.xlsm]Juliano Gallo Silva"},null,null,null,null,null,null,null,null,null,null,null,"Aprendizagem A",83,null,{"$f":"IF($N$16=\"Natação Adulta\",$Q$24,0)","v":1385.6799999999998},{"$f":"IF($N$16=\"Natação Bebê\",$Q$24,0)","v":0},{"$f":"IF(AND($N$16<>\"Natação Adulta\",$N$16<>\"Natação Bebê\",$N$16<>\"Hidroginástica\"),$Q$24,0)","v":0},{"$f":"IF($N$16=\"Hidroginástica\",$Q$24,0)","v":0},null,{"$f":"IF($N$16=\"Natação Adulta\",$Q$23,0)","v":65},{"$f":"IF($N$16=\"Natação Bebê\",$Q$23,0)","v":0},{"$f":"IF(AND($N$16<>\"Natação Adulta\",$N$16<>\"Natação Bebê\",$N$16<>\"Hidroginástica\"),$Q$23,0)","v":0},{"$f":"IF($N$16=\"Hidroginástica\",$Q$23,0)","v":0},null,{"$f":"IF($N$16=\"Natação Adulta\",$Q$22,0)","v":180},{"$f":"IF($N$16=\"Natação Bebê\",$Q$22,0)","v":0},{"$f":"IF(AND($N$16<>\"Natação Adulta\",$N$16<>\"Natação Bebê\",$N$16<>\"Hidroginástica\"),$Q$22,0)","v":0},{"$f":"IF($N$16=\"Hidroginástica\",$Q$22,0)","v":0}]
[null,4,null,3,9,null,3,15,null,"Total de Alunos",null,null,null,{"$f":"R10+V9+Y9","v":613},null,"Total de Aulas",null,{"$f":"R11+V10+Y10","v":127},null,"INSS Total",null,null,{"$f":"BN14","v":263.33550000000002},null,"Contabilidade",null,{"$f":"SUM(W21:AB21)+SUM(W32:AB32)+SUM(W43:AB43)+SUM(W54:AB54)+SUM(W65:AB65)+SUM(W76:AB76)+SUM(W87:AB87)","v":709.98},null,null,null,null,null,null,null,null,null,null,null,null,{"$f":"MID(AN4,SEARCH(\"]\",AN4)+1,LEN(AN4)-SEARCH(\"]\",AN4)+1)","v":"Juliano Gallo Silva"},null,null,{"$f":"MID(AN4,AO5+1,AP5-AO5)","v":""},null,null,null,null,null,null,null,null,"Aprendizagem B",41,null,{"$f":"IF($N$27=\"Natação Adulta\",$Q$35,0)","v":0},{"$f":"IF($N$27=\"Natação Bebê\",$Q$35,0)","v":0},{"$f":"IF(AND($N$27<>\"Natação Adulta\",$N$27<>\"Natação Bebê\",$N$27<>\"Hidroginástica\"),$Q$35,0)","v":0},{"$f":"IF($N$27=\"Hidroginástica\",$Q$35,0)","v":0},null,{"$f":"IF($N$27=\"Natação Adulta\",$Q$34,0)","v":0},{"$f":"IF($N$27=\"Natação Bebê\",$Q$34,0)","v":0},{"$f":"IF(AND($N$27<>\"Natação Adulta\",$N$27<>\"Natação Bebê\",$N$27<>\"Hidroginástica\"),$Q$34,0)","v":0},{"$f":"IF($N$27=\"Hidroginástica\",$Q$34,0)","v":0},null,{"$f":"IF($N$27=\"Natação Adulta\",$Q$33,0)","v":0},{"$f":"IF($N$27=\"Natação Bebê\",$Q$33,0)","v":0},{"$f":"IF(AND($N$27<>\"Natação Adulta\",$N$27<>\"Natação Bebê\",$N$27<>\"Hidroginástica\"),$Q$33,0)","v":0},{"$f":"IF($N$27=\"Hidroginástica\",$Q$33,0)","v":0}]
[null,0,null,5,6,null,5,7,null,null,null,null,null,null,null,null,null,null,null,"Salário Líquido",null,null,{"$f":"BN20","v":2689.4645},null,null,null,null,null,null,null,null,"Natação Aduta",null,null,{"$f":"SUM(AI8:AI20)","v":237.78000000000003},null,null,null,null,null,null,null,null,null,null,null,null,null,null,null,null,"Adaptação",0,null,{"$f":"IF($N$38=\"Natação Adulta\",$Q$46,0)","v":0},{"$f":"IF($N$38=\"Natação Bebê\",$Q$46,0)","v":0},{"$f":"IF(AND($N$38<>\"Natação Adulta\",$N$38<>\"Natação Bebê\",$N$38<>\"Hidroginástica\"),$Q$46,0)","v":467.69},{"$f":"IF($N$38=\"Hidroginástica\",$Q$46,0)","v":0},null,{"$f":"IF($N$38=\"Natação Adulta\",$Q$45,0)","v":0},{"$f":"IF($N$38=\"Natação Bebê\",$Q$45,0)","v":0},{"$f":"IF(AND($N$38<>\"Natação Adulta\",$N$38<>\"Natação Bebê\",$N$38<>\"Hidroginástica\"),$Q$45,0)","v":19},{"$f":"IF($N$38=\"Hidroginástica\",$Q$45,0)","v":0},null,{"$f":"IF($N$38=\"Natação Adulta\",$Q$44,0)","v":0},{"$f":"IF($N$38=\"Natação Bebê\",$Q$44,0)","v":0},{"$f":"IF(AND($N$38<>\"Natação Adulta\",$N$38<>\"Natação Bebê\",$N$38<>\"Hidroginástica\"),$Q$44,0)","v":83},{"$f":"IF($N$38=\"Hidroginástica\",$Q$44,0)","v":0}]
[null,0,null,3,7,null,2,18,null,null,null,null,null,null,null,null,null,null,null,null,null,null,null,null,null,null,null,null,null,null,null,"Nm_Adic","$_Aula","Qtde","$_Adic",null,null,null,null,null,null,null,null,null,null,null,null,null,null,null,null,"Iniciação",51,null,{"$f":"IF($N$49=\"Natação Adulta\",$Q$57,0)","v":0},{"$f":"IF($N$49=\"Natação Bebê\",$Q$57,0)","v":0},{"$f":"IF(AND($N$49<>\"Natação Adulta\",$N$49<>\"Natação Bebê\",$N$49<>\"Hidroginástica\"),$Q$57,0)","v":142.13},{"$f":"IF($N$49=\"Hidroginástica\",$Q$57,0)","v":0},null,{"$f":"IF($N$49=\"Natação Adulta\",$Q$56,0)","v":0},{"$f":"IF($N$49=\"Natação Bebê\",$Q$56,0)","v":0},{"$f":"IF(AND($N$49<>\"Natação Adulta\",$N$49<>\"Natação Bebê\",$N$49<>\"Hidroginástica\"),$Q$56,0)","v":6},{"$f":"IF($N$49=\"Hidroginástica\",$Q$56,0)","v":0},null,{"$f":"IF($N$49=\"Natação Adulta\",$Q$55,0)","v":0},{"$f":"IF($N$49=\"Natação Bebê\",$Q$55,0)","v":0},{"$f":"IF(AND($N$49<>\"Natação Adulta\",$N$49<>\"Natação Bebê\",$N$49<>\"Hidroginástica\"),$Q$55,0)","v":41},{"$f":"IF($N$49=\"Hidroginástica\",$Q$55,0)","v":0}]
[null,6,null,2,4,null,3,12,null,null,null,null,"Natação Infantil",null,null,null,null,null,null,null,"Natação Adulta",null,null,"Hidroginástica",null,null,null,null,null,null,null,{"$f":"IF(CR23<>\"\",CR23,\"\")","v":"Adic_Nat.Ad_02"},{"$f":"IF(CT23<>\"\",CT23,\"\")","v":2.1000000000000014},{"$f":"IF(CS23<>\"\",CS23,\"\")","v":34},{"$f":"IF(CU23<>\"\",CU23,\"\")","v":71.400000000000048},null,null,null,null,null,null,null,null,null,null,null,null,null,null,null,null,"Hidroginástica",258,null,{"$f":"IF($N$60=\"Natação Adulta\",$Q$68,0)","v":0},{"$f":"IF($N$60=\"Natação Bebê\",$Q$68,0)","v":0},{"$f":"IF(AND($N$60<>\"Natação Adulta\",$N$60<>\"Natação Bebê\",$N$60<>\"Hidroginástica\"),$Q$68,0)","v":357.53999999999996},{"$f":"IF($N$60=\"Hidroginástica\",$Q$68,0)","v":0},null,{"$f":"IF($N$60=\"Natação Adulta\",$Q$67,0)","v":0},{"$f":"IF($N$60=\"Natação Bebê\",$Q$67,0)","v":0},{"$f":"IF(AND($N$60<>\"Natação Adulta\",$N$60<>\"Natação Bebê\",$N$60<>\"Hidroginástica\"),$Q$67,0)","v":16},{"$f":"IF($N$60=\"Hidroginástica\",$Q$67,0)","v":0},null,{"$f":"IF($N$60=\"Natação Adulta\",$Q$66,0)","v":0},{"$f":"IF($N$60=\"Natação Bebê\",$Q$66,0)","v":0},{"$f":"IF(AND($N$60<>\"Natação Adulta\",$N$60<>\"Natação Bebê\",$N$60<>\"Hidroginástica\"),$Q$66,0)","v":51},{"$f":"IF($N$60=\"Hidroginástica\",$Q$66,0)","v":0}]
[null,4,null,4,8,null,4,8,null,null,null,null,"Natação Bebê",null,"Demais",null,"Total Infantil",null,null,null,"Alunos",{"$f":"BM11","v":180},null,"Alunos",{"$f":"BP11","v":258},null,null,null,null,null,null,"Adic_Nat.Ad_04",6.02,21,126.41999999999999,null,null,null,null,null,null,null,null,null,null,null,null,null,null,null,null,null,null,null,{"$f":"IF($N$71=\"Natação Adulta\",$Q$79,0)","v":0},{"$f":"IF($N$71=\"Natação Bebê\",$Q$79,0)","v":0},{"$f":"IF(AND($N$71<>\"Natação Adulta\",$N$71<>\"Natação Bebê\",$N$71<>\"Hidroginástica\"),$Q$79,0)","v":0},{"$f":"IF($N$71=\"Hidroginástica\",$Q$79,0)","v":599.76},null,{"$f":"IF($N$71=\"Natação Adulta\",$Q$78,0)","v":0},{"$f":"IF($N$71=\"Natação Bebê\",$Q$78,0)","v":0},{"$f":"IF(AND($N$71<>\"Natação Adulta\",$N$71<>\"Natação Bebê\",$N$71<>\"Hidroginástica\"),$Q$78,0)","v":0},{"$f":"IF($N$71=\"Hidroginástica\",$Q$78,0)","v":21},null,{"$f":"IF($N$71=\"Natação Adulta\",$Q$77,0)","v":0},{"$f":"IF($N$71=\"Natação Bebê\",$Q$77,0)","v":0},{"$f":"IF(AND($N$71<>\"Natação Adulta\",$N$71<>\"Natação Bebê\",$N$71<>\"Hidroginástica\"),$Q$77,0)","v":0},{"$f":"IF($N$71=\"Hidroginástica\",$Q$77,0)","v":258}]
[null,2,null,7,null,null,4,11,null,null,"Contábil",null,"Alunos",{"$f":"BN11","v":0},"Alunos",{"$f":"BO11","v":175},"Alunos",{"$f":"N10+P10","v":175},null,null,"Aulas",{"$f":"BH11","v":65},null,"Aulas",{"$f":"BK11","v":21},null,null,null,null,null,null,"Adic_Nat.Ad_08",9.9899999999999984,4,39.959999999999994,null,null,null,null,null,null,null,null,null,null,null,null,null,null,null,null,null,null,null,{"$f":"IF($N$82=\"Natação Adulta\",$Q$90,0)","v":0},{"$f":"IF($N$82=\"Natação Bebê\",$Q$90,0)","v":0},{"$f":"IF(AND($N$82<>\"Natação Adulta\",$N$82<>\"Natação Bebê\",$N$82<>\"Hidroginástica\"),$Q$90,0)","v":""},{"$f":"IF($N$82=\"Hidroginástica\",$Q$90,0)","v":0},null,{"$f":"IF($N$82=\"Natação Adulta\",$Q$89,0)","v":0},{"$f":"IF($N$82=\"Natação Bebê\",$Q$89,0)","v":0},{"$f":"IF(AND($N$82<>\"Natação Adulta\",$N$82<>\"Natação Bebê\",$N$82<>\"Hidroginástica\"),$Q$89,0)","v":""},{"$f":"IF($N$82=\"Hidroginástica\",$Q$89,0)","v":0},null,{"$f":"IF($N$82=\"Natação Adulta\",$Q$88,0)","v":0},{"$f":"IF($N$82=\"Natação Bebê\",$Q$88,0)","v":0},{"$f":"IF(AND($N$82<>\"Natação Adulta\",$N$82<>\"Natação Bebê\",$N$82<>\"Hidroginástica\"),$Q$88,0)","v":""},{"$f":"IF($N$82=\"Hidroginástica\",$Q$88,0)","v":0}]
[null,1,null,3,null,null,3,17,null,null,"Sistema",null,"Aulas",{"$f":"BI11","v":0},"Aulas",{"$f":"BJ11","v":41},"Aulas",41,null,null,"Bruto",{"$f":"BC11","v":1385.6799999999998},null,"Bruto",{"$f":"BF11","v":599.76},null,null,null,null,null,null,"","","","",null,null,null,null,null,null,null,null,null,null,null,null,null,null,null,null,null,null,null,{"$f":"SUM(BC4:BC10)","v":1385.6799999999998},{"$f":"SUM(BD4:BD10)","v":0},967.3599999999999,599.76,null,{"$f":"SUM(BH4:BH10)","v":65},{"$f":"SUM(BI4:BI10)","v":0},41,21,null,{"$f":"SUM(BM4:BM10)","v":180},{"$f":"SUM(BN4:BN10)","v":0},175,258]
[null,1,null,4,null,null,3,10,null,null,"Sistema",null,"Bruto",{"$f":"BD11","v":0},"Bruto",{"$f":"BE11","v":967.3599999999999},"Bruto",967.3599999999999,null,null,"INSS",{"$f":"BI15","v":106.53119999999998},null,"INSS",{"$f":"BK15","v":44.981999999999999},null,null,null,null,null,null,"","","",""]
[null,3,null,9,null,null,4,10,null,null,null,null,"INSS",{"$f":"BD15","v":0},"INSS",{"$f":"BF15","v":72.551999999999992},"INSS",72.551999999999992,null,null,"Líquido",{"$f":"V11-V12","v":1279.1487999999999},null,"Líquido",{"$f":"Y11-Y12","v":554.77800000000002},null,null,null,null,null,null,"","","","",null,null,null,null,null,null,null,null,null,null,null,null,null,null,null,null,null,null,null,"Natação Bebê",null,"Demais",null,null,"Natação Adulta",null,"Hidroginástica",null,null,"Bruto Informado",{"$f":"BD14+BF14+BI14+BK14","v":2952.8}]
[null,6,null,3,null,null,3,9,null,null,null,null,"Líquido",{"$f":"N12-N13","v":0},"Líquido",{"$f":"P12-P13","v":894.80799999999988},"Líquido",{"$f":"N14+P14","v":894.80799999999988},null,null,null,null,null,null,null,null,null,null,null,null,null,"","","","",null,null,null,null,null,null,null,null,null,null,null,null,null,null,null,null,null,null,null,"Salário",{"$f":"BD11","v":0},"Salário",{"$f":"BE11","v":967.3599999999999},null,"Salário",{"$f":"BC11","v":1385.6799999999998},"Salário",{"$f":"BF11","v":599.76},null,"INSS ",{"$f":"IF(BN13<=Impostos!$D$4,BN13*Impostos!$B$4,IF(BN13<=Impostos!$D$5,(BN13-Impostos!$D$4)*Impostos!$B$5+Impostos!$E$4,IF(BN13<=Impostos!$D$6,(BN13-(Impostos!$D$5-Impostos!$D$4)-Impostos!$D$4)*Impostos!$B$6+Impostos!$E$5+Impostos!$E$4,IF(BN13<=Impostos!$D$7,(BN13-(Impostos!$D$6-Impostos!$D$5)-(Impostos!$D$5-Impostos!$D$4)-Impostos!$D$4)*Impostos!$B$7+Impostos!$E$6+Impostos!$E$5+Impostos!$E$4,IF(BN13>=Impostos!$E$7,Impostos!$E$7)))))","v":263.33550000000002}]
[null,5,null,7,null,null,1,19,null,null,null,null,null,null,null,null,null,null,null,null,null,null,null,null,null,null,null,null,null,null,null,"","","","",null,null,null,null,null,null,null,null,null,null,null,null,null,null,null,null,null,null,null,"INSS",{"$f":"IF(BD14<=Impostos!$D$4,BD14*Impostos!$B$4,IF(BD14<=Impostos!$D$5,(BD14-Impostos!$D$4)*Impostos!$B$5+Impostos!$E$4,IF(BD14<=Impostos!$D$6,(BD14-(Impostos!$D$5-Impostos!$D$4)-Impostos!$D$4)*Impostos!$B$6+Impostos!$E$5+Impostos!$E$4,IF(BD14<=Impostos!$D$7,(BD14-(Impostos!$D$6-Impostos!$D$5)-(Impostos!$D$5-Impostos!$D$4)-Impostos!$D$4)*Impostos!$B$7+Impostos!$E$6+Impostos!$E$5+Impostos!$E$4,IF(BD14>=Impostos!$E$7,Impostos!$E$7)))))","v":0},"INSS",{"$f":"IF(BF14<=Impostos!$D$4,BF14*Impostos!$B$4,IF(BF14<=Impostos!$D$5,(BF14-Impostos!$D$4)*Impostos!$B$5+Impostos!$E$4,IF(BF14<=Impostos!$D$6,(BF14-(Impostos!$D$5-Impostos!$D$4)-Impostos!$D$4)*Impostos!$B$6+Impostos!$E$5+Impostos!$E$4,IF(BF14<=Impostos!$D$7,(BF14-(Impostos!$D$6-Impostos!$D$5)-(Impostos!$D$5-Impostos!$D$4)-Impostos!$D$4)*Impostos!$B$7+Impostos!$E$6+Impostos!$E$5+Impostos!$E$4,IF(BF14>=Impostos!$E$7,Impostos!$E$7)))))","v":72.551999999999992},null,"INSS",{"$f":"IF(BI14<=Impostos!$D$4,BI14*Impostos!$B$4,IF(BI14<=Impostos!$D$5,(BI14-Impostos!$D$4)*Impostos!$B$5+Impostos!$E$4,IF(BI14<=Impostos!$D$6,(BI14-(Impostos!$D$5-Impostos!$D$4)-Impostos!$D$4)*Impostos!$B$6+Impostos!$E$5+Impostos!$E$4,IF(BI14<=Impostos!$D$7,(BI14-(Impostos!$D$6-Impostos!$D$5)-(Impostos!$D$5-Impostos!$D$4)-Impostos!$D$4)*Impostos!$B$7+Impostos!$E$6+Impostos!$E$5+Impostos!$E$4,IF(BI14>=Impostos!$E$7,Impostos!$E$7)))))","v":106.53119999999998},"INSS",{"$f":"IF(BK14<=Impostos!$D$4,BK14*Impostos!$B$4,IF(BK14<=Impostos!$D$5,(BK14-Impostos!$D$4)*Impostos!$B$5+Impostos!$E$4,IF(BK14<=Impostos!$D$6,(BK14-(Impostos!$D$5-Impostos!$D$4)-Impostos!$D$4)*Impostos!$B$6+Impostos!$E$5+Impostos!$E$4,IF(BK14<=Impostos!$D$7,(BK14-(Impostos!$D$6-Impostos!$D$5)-(Impostos!$D$5-Impostos!$D$4)-Impostos!$D$4)*Impostos!$B$7+Impostos!$E$6+Impostos!$E$5+Impostos!$E$4,IF(BK14>=Impostos!$E$7,Impostos!$E$7)))))","v":44.981999999999999},null,"Líquido ",{"$f":"BN13-BN14","v":2689.4645}]
[null,1,null,7,null,null,2,11,null,null,"Modalidade",null,null,"Natação Adulta",null,null,"Nível","Prof. Nível C",null,null,null,null,null,null,null,null,null,null,null,null,null,"","","","",null,null,null,null,{"$f":"VLOOKUP(N16,Configurações!$J$1:$V$9,2,0)","v":"0"},{"$f":"VLOOKUP(N16,Configurações!$J$1:$V$9,3,0)","v":"0"},{"$f":"VLOOKUP(N16,Configurações!$J$1:$V$9,4,0)","v":"1 "},{"$f":"VLOOKUP(N16,Configurações!$J$1:$V$9,5,0)","v":" 3"},{"$f":"VLOOKUP(N16,Configurações!$J$1:$V$9,6,0)","v":"4 "},{"$f":"VLOOKUP(N16,Configurações!$J$1:$V$9,7,0)","v":" 5"},{"$f":"VLOOKUP(N16,Configurações!$J$1:$V$9,8,0)","v":"6 "},{"$f":"VLOOKUP(N16,Configurações!$J$1:$V$9,9,0)","v":" 8"},{"$f":"VLOOKUP(N16,Configurações!$J$1:$V$9,10,0)","v":""},{"$f":"VLOOKUP(N16,Configurações!$J$1:$V$9,11,0)","v":""},{"$f":"VLOOKUP(N16,Configurações!$J$1:$V$9,12,0)","v":""},{"$f":"VLOOKUP(N16,Configurações!$J$1:$V$9,13,0)","v":""}]
[null,2,null,2,null,null,4,14,null,null,"Academia",null,null,null,null,null,null,null,null,null,"Contabilidade",null,null,null,null,null,null,null,null,null,null,"","","","",null,null,null,null,{"$f":"IFERROR(VLOOKUP(N16,_xlfn.ANCHORARRAY($AZ$2),2,0),0)","v":180},null,null,null,null,null,null,null,null,null,null,null,null,null,null,null,null,null,null,null,null,null,null,null,null,"Líquido Calcl",{"$f":"R14+V13+Y13","v":2728.7348000000002}]
[null,3,null,4,null,null,5,14,null,null,"Nr. de Alunos",null,null,{"$f":"IF(AO23<>\"\",AO23,\"\")","v":0},{"$f":"IF(AP23<>\"\",AP23,\"\")","v":"1 a 3"},{"$f":"IF(AQ23<>\"\",AQ23,\"\")","v":"4 a 5"},{"$f":"IF(AR23<>\"\",AR23,\"\")","v":"6 a 8"},{"$f":"IF(AS23<>\"\",AS23,\"\")","v":""},{"$f":"IF(AT23<>0,AT23,\"\")","v":""},null,"Nr. de Alunos",null,{"$f":"N18","v":0},{"$f":"O18","v":"1 a 3"},"4 a 5","6 a 8","","",null,null,null,"","","","",null,null,null,null,null,{"$f":"IF($N$16=$AN$2,COUNTIF($B$4:$B$100,\">=\"&AN16)-COUNTIF($B$4:$B$100,\">\"&AO16),\nIF($N$16=$AO$2,COUNTIF($C$4:$C$100,\">=\"&AN16)-COUNTIF($C$4:$C$100,\">\"&AO16),\nIF($N$16=$AP$2,COUNTIF($D$4:$D$100,\">=\"&AN16)-COUNTIF($D$4:$D$100,\">\"&AO16),\nIF($N$16=$AQ$2,COUNTIF($E$4:$E$100,\">=\"&AN16)-COUNTIF($E$4:$E$100,\">\"&AO16),\nIF($N$16=$AR$2,COUNTIF($F$4:$F$100,\">=\"&AN16)-COUNTIF($F$4:$F$100,\">\"&AO16),\nIF($N$16=$AS$2,COUNTIF($G$4:$G$100,\">=\"&AN16)-COUNTIF($G$4:$G$100,\">\"&AO16),\nIF($N$16=$AT$2,COUNTIF($H$4:$H$100,\">=\"&AN16)-COUNTIF($H$4:$H$100,\">\"&AO16),\nIF($N$16=\"Sem Uso\",\"\"))))))))","v":6},{"$f":"IF($N$16=$AN$2,COUNTIF($B$4:$B$100,\">=\"&AP16)-COUNTIF($B$4:$B$100,\">\"&AQ16),\nIF($N$16=$AO$2,COUNTIF($C$4:$C$100,\">=\"&AP16)-COUNTIF($C$4:$C$100,\">\"&AQ16),\nIF($N$16=$AP$2,COUNTIF($D$4:$D$100,\">=\"&AP16)-COUNTIF($D$4:$D$100,\">\"&AQ16),\nIF($N$16=$AQ$2,COUNTIF($E$4:$E$100,\">=\"&AP16)-COUNTIF($E$4:$E$100,\">\"&AQ16),\nIF($N$16=$AR$2,COUNTIF($F$4:$F$100,\">=\"&AP16)-COUNTIF($F$4:$F$100,\">\"&AQ16),\nIF($N$16=$AS$2,COUNTIF($G$4:$G$100,\">=\"&AP16)-COUNTIF($G$4:$G$100,\">\"&AQ16),\nIF($N$16=$AT$2,COUNTIF($H$4:$H$100,\">=\"&AP16)-COUNTIF($H$4:$H$100,\">\"&AQ16),\nIF($N$16=\"Sem Uso\",\"\"))))))))","v":34},{"$f":"IF($N$16=$AN$2,COUNTIF($B$4:$B$100,\">=\"&AR16)-COUNTIF($B$4:$B$100,\">\"&AS16),\nIF($N$16=$AO$2,COUNTIF($C$4:$C$100,\">=\"&AR16)-COUNTIF($C$4:$C$100,\">\"&AS16),\nIF($N$16=$AP$2,COUNTIF($D$4:$D$100,\">=\"&AR16)-COUNTIF($D$4:$D$100,\">\"&AS16),\nIF($N$16=$AQ$2,COUNTIF($E$4:$E$100,\">=\"&AR16)-COUNTIF($E$4:$E$100,\">\"&AS16),\nIF($N$16=$AR$2,COUNTIF($F$4:$F$100,\">=\"&AR16)-COUNTIF($F$4:$F$100,\">\"&AS16),\nIF($N$16=$AS$2,COUNTIF($G$4:$G$100,\">=\"&AR16)-COUNTIF($G$4:$G$100,\">\"&AS16),\nIF($N$16=$AT$2,COUNTIF($H$4:$H$100,\">=\"&AR16)-COUNTIF($H$4:$H$100,\">\"&AS16),\nIF($N$16=\"Sem Uso\",\"\"))))))))","v":21},{"$f":"IF($N$16=$AN$2,COUNTIF($B$4:$B$100,\">=\"&AT16)-COUNTIF($B$4:$B$100,\">\"&AU16),\nIF($N$16=$AO$2,COUNTIF($C$4:$C$100,\">=\"&AT16)-COUNTIF($C$4:$C$100,\">\"&AU16),\nIF($N$16=$AP$2,COUNTIF($D$4:$D$100,\">=\"&AT16)-COUNTIF($D$4:$D$100,\">\"&AU16),\nIF($N$16=$AQ$2,COUNTIF($E$4:$E$100,\">=\"&AT16)-COUNTIF($E$4:$E$100,\">\"&AU16),\nIF($N$16=$AR$2,COUNTIF($F$4:$F$100,\">=\"&AT16)-COUNTIF($F$4:$F$100,\">\"&AU16),\nIF($N$16=$AS$2,COUNTIF($G$4:$G$100,\">=\"&AT16)-COUNTIF($G$4:$G$100,\">\"&AU16),\nIF($N$16=$AT$2,COUNTIF($H$4:$H$100,\">=\"&AT16)-COUNTIF($H$4:$H$100,\">\"&AU16),\nIF($N$16=\"Sem Uso\",\"\"))))))))","v":4},{"$f":"IF($N$16=$AN$2,COUNTIF($B$4:$B$100,\">=\"&AV16)-COUNTIF($B$4:$B$100,\">\"&AW16),\nIF($N$16=$AO$2,COUNTIF($C$4:$C$100,\">=\"&AV16)-COUNTIF($C$4:$C$100,\">\"&AW16),\nIF($N$16=$AP$2,COUNTIF($D$4:$D$100,\">=\"&AV16)-COUNTIF($D$4:$D$100,\">\"&AW16),\nIF($N$16=$AQ$2,COUNTIF($E$4:$E$100,\">=\"&AV16)-COUNTIF($E$4:$E$100,\">\"&AW16),\nIF($N$16=$AR$2,COUNTIF($F$4:$F$100,\">=\"&AV16)-COUNTIF($F$4:$F$100,\">\"&AW16),\nIF($N$16=$AS$2,COUNTIF($G$4:$G$100,\">=\"&AV16)-COUNTIF($G$4:$G$100,\">\"&AW16),\nIF($N$16=$AT$2,COUNTIF($H$4:$H$100,\">=\"&AV16)-COUNTIF($H$4:$H$100,\">\"&AW16),\nIF($N$16=\"Sem Uso\",\"\"))))))))","v":0},{"$f":"IF($N$16=$AN$2,COUNTIF($B$4:$B$100,\">=\"&AX16)-COUNTIF($B$4:$B$100,\">\"&AY16),\nIF($N$16=$AO$2,COUNTIF($C$4:$C$100,\">=\"&AX16)-COUNTIF($C$4:$C$100,\">\"&AY16),\nIF($N$16=$AP$2,COUNTIF($D$4:$D$100,\">=\"&AX16)-COUNTIF($D$4:$D$100,\">\"&AY16),\nIF($N$16=$AQ$2,COUNTIF($E$4:$E$100,\">=\"&AX16)-COUNTIF($E$4:$E$100,\">\"&AY16),\nIF($N$16=$AR$2,COUNTIF($F$4:$F$100,\">=\"&AX16)-COUNTIF($F$4:$F$100,\">\"&AY16),\nIF($N$16=$AS$2,COUNTIF($G$4:$G$100,\">=\"&AX16)-COUNTIF($G$4:$G$100,\">\"&AY16),\nIF($N$16=$AT$2,COUNTIF($H$4:$H$100,\">=\"&AX16)-COUNTIF($H$4:$H$100,\">\"&AY16),\nIF($N$16=\"Sem Uso\",\"\"))))))))","v":0},null,null,null,null,null,null,null,null,null,null,null,null,null,null,null,null,null,null,"Diferença",{"$f":"BN15-BN17","v":-39.270300000000134}]
[null,2,null,3,null,null,3,14,null,null,"Valor da Aula",null,null,{"$f":"IF(AO25<>0,AO25,\"\")","v":17.66},19.760000000000002,23.68,27.65,"","",null,"Valor da Aula",null,{"$f":"IFERROR(IF(N19<=$S$23,0,N19-$S$23),\"\")","v":0},2.1000000000000014,6.02,9.9899999999999984,"","",null,null,null,"","","",""]
[null,1,null,1,null,null,null,9,null,null,"Nr. de Aulas",null,null,{"$f":"IF(AO23<>\"\",AO24,\"\")","v":6},34,21,4,"","",null,"Nr. de Aulas",null,{"$f":"N20","v":6},34,21,4,"","",null,null,null,"","","","",null,null,null,null,{"$f":"IF(N20<>\"\",N20,\"\")","v":6},34,21,4,"","",null,null,null,null,null,null,null,null,null,null,null,null,null,null,null,null,null,null,null,"Líquido Real",{"$f":"BN17+BN18","v":2689.4645}]
[null,1,null,2,null,null,null,10,null,null,"Valor",null,null,{"$f":"IFERROR(N19*N20,\"\")","v":105.96000000000001},671.84,497.28,110.6,"","",null,"Valor",null,{"$f":"IFERROR(W19*W20,\"\")","v":0},71.400000000000048,126.41999999999999,39.959999999999994,"","",null,null,null,null,null,null,null,null,null,null,null,null,{"$f":"IF($N16<>\"Sem Uso\",VLOOKUP(N16,Configurações!$C$1:$I$8,2,0),\"\")","v":0},{"$f":"IF(N16<>\"Sem Uso\",VLOOKUP(N16,Configurações!$C$1:$I$8,3,0),\"\")","v":"1 a 3"},{"$f":"IF(N16<>\"Sem Uso\",VLOOKUP(N16,Configurações!$C$1:$I$8,4,0),\"\")","v":"4 a 5"},{"$f":"IF(N16<>\"Sem Uso\",VLOOKUP(N16,Configurações!$C$1:$I$8,5,0),\"\")","v":"6 a 8"},{"$f":"IF(N16<>\"Sem Uso\",VLOOKUP(N16,Configurações!$C$1:$I$8,6,0),\"\")","v":0},{"$f":"IF(N16<>\"Sem Uso\",VLOOKUP(N16,Configurações!$C$1:$I$8,7,0),\"\")","v":0}]
[null,2,null,5,null,null,null,9,null,null,null,null,"Total de Alunos",null,null,null,{"$f":"_xlfn.IFS(N16=$AN$2,$B$102,N16=$AO$2,$C$102,N16=$AP$2,$D$102,N16=$AQ$2,$E$102,N16=$AR$2,$F$102,N16=$AS$2,$G$102,N16=$AT$2,$H$102,N16=\"Sem Uso\",\"\")","v":180},null,null,null,null,"Total de Alunos",null,null,null,{"$f":"Q22","v":180},null,null,null,null,null,"Natação Infantil",null,null,{"$f":"SUM(AI24:AI68)","v":243.29999999999998},null,null,null,null,"TABELA DE EQUIVALÊNCIA",null,null,null,null,null,null,null,null,null,null,null,null,null,null,"Natação Adulta",null,null,null,null,"Natação Infantil",null,null,null,null,"Hidroginástica",null,null,null,null,"Natação Adulta",null,null,null,null,null,null,"Natação Infantil",null,null,null,null,null,null,"Hidroginástica",null,null,null,null,null,null,null,null,"Natação Adulta",null,null,null,null,null,null,null,"Natação Infantil",null,null,null,null,null,null,null,"Hidroginástica"]
[null,4,null,5,null,null,null,16,null,null,null,null,"Total de Aulas",null,null,null,{"$f":"IF(Q22<>\"\",SUM(AN20:AS20),\"\")","v":65},"Registro",17.66,null,null,"Total de Aulas",null,null,null,{"$f":"Q23","v":65},null,null,null,null,null,"Nm_Adic","$_Aula","Qtde","$_Adic",null,null,null,null,"Nr. Alunos",{"$f":"AO21","v":0},{"$f":"IF(AP21<>0,AP21,\"\")","v":"1 a 3"},{"$f":"IF(AQ21<>0,AQ21,\"\")","v":"4 a 5"},{"$f":"IF(AR21<>0,AR21,\"\")","v":"6 a 8"},{"$f":"IF(AS21<>0,AS21,\"\")","v":""},{"$f":"IF(AT21<>0,AT21,\"\")","v":""},null,null,null,null,null,null,null,null,"Nome_Adic","Valor_Aula","Qtdade_Aulas","Valor_Adicional",null,"Nome_Adic","Valor_Aula","Qtdade_Aulas","Valor_Adicional",null,"Nome_Adic","Valor_Aula","Qtdade_Aulas","Valor_Adicional",null,"Valor da Aula","Qtdade","Valor da Aula","Qtdade","Valor da Aula","Qtdade",null,"Valor da Aula","Qtdade","Valor da Aula","Qtdade","Valor da Aula","Qtdade",null,"Valor da Aula","Qtdade","Valor da Aula","Qtdade","Valor da Aula","Qtdade",null,null,null,{"$f":"Configurações!AA12","v":"Adic_Nat.Ad_01"},{"$f":"Configurações!AD12","v":0},{"$f":"IFERROR(VLOOKUP(CP23:CP35,BV27:BW68,2,0),\"\")","v":""},{"$f":"IFERROR(_xlfn._xlws.SORT(_xlfn._xlws.FILTER($CO$23:$CO$35,_xlfn.ANCHORARRAY($CQ$23)<>\"\")),\"\")","v":"Adic_Nat.Ad_02"},{"$f":"IFERROR(_xlfn._xlws.FILTER(_xlfn.ANCHORARRAY($CQ$23),_xlfn.ANCHORARRAY($CQ$23)<>\"\"),\"\")","v":34},{"$f":"IFERROR(VLOOKUP(CR23:CR35,CO23:CP35,2,0),\"\")","v":2.1000000000000014},{"$f":"IFERROR(CS23*CT23,\"\")","v":71.400000000000048},null,{"$f":"Configurações!AF12","v":"Adic_Nat.Inf_01"},{"$f":"Configurações!AI12","v":-4.9999999999990052E-3},{"$f":"IFERROR(VLOOKUP(CX23:CX67,CC27:CD68,2,0),\"\")","v":""},{"$f":"IFERROR(_xlfn._xlws.SORT(_xlfn._xlws.FILTER($CW$23:$CW$67,_xlfn.ANCHORARRAY($CY$23)<>\"\")),\"\")","v":"Adic_Nat.Inf_02"},{"$f":"IFERROR(_xlfn._xlws.FILTER(_xlfn.ANCHORARRAY($CY$23),_xlfn.ANCHORARRAY($CY$23)<>\"\"),\"\")","v":5},{"$f":"IFERROR(VLOOKUP(CZ23:CZ67,CW23:CX67,2,0),\"\")","v":2.1000000000000014},{"$f":"IFERROR(DA23*DB23,\"\")","v":10.500000000000007},null,{"$f":"Configurações!AK12","v":"Adic_Hidr_01"},{"$f":"Configurações!AN12","v":-4.9999999999990052E-3},{"$f":"IFERROR(VLOOKUP(DF23:DF39,CJ27:CK68,2,0),\"\")","v":""},{"$f":"IFERROR(_xlfn._xlws.SORT(_xlfn._xlws.FILTER($DE$23:$DE$39,$DG$23:$DG$39<>\"\")),\"\")","v":"Adic_Hidr_02"},{"$f":"IFERROR(_xlfn._xlws.FILTER($DG$23:$DG$39,$DG$23:$DG$39<>\"\"),\"\")","v":1},{"$f":"IFERROR(VLOOKUP(DH23:DH39,DE23:DF39,2,0),\"\")","v":6.02},{"$f":"IFERROR(DJ23*DI23,\"\")","v":6.02}]
[null,2,null,null,null,null,null,11,null,null,null,null,"Total a Receber",null,null,null,{"$f":"IF(Q22<>\"\",SUM(N21:S21),\"\")","v":1385.6799999999998},null,null,null,null,"Total a Receber",null,null,null,{"$f":"IF(Z22<>\"\",SUM(W21:AB21),\"\")","v":237.78000000000003},null,null,null,null,null,{"$f":"IF(CZ23<>\"\",CZ23,\"\")","v":"Adic_Nat.Inf_02"},{"$f":"IF(DB23<>\"\",DB23,\"\")","v":2.1000000000000014},{"$f":"IF(DA23<>\"\",DA23,\"\")","v":5},{"$f":"IF(DC23<>\"\",DC23,\"\")","v":10.500000000000007},null,null,null,null,"Aulas",{"$f":"IF(AO23<>\"\",AO18,\"\")","v":6},{"$f":"IF(AP23<>\"\",AP18,\"\")","v":34},21,4,"","",null,null,null,null,null,null,null,null,"Adic.Nat.Ad.1",{"$f":"IF($N$16=\"Natação Adulta\",$W$19,0)","v":0},{"$f":"IF($N$16=\"Natação Adulta\",$W$20,0)","v":6},{"$f":"IFERROR((BD24*BE24),\"\")","v":0},null,"Adic.Nat.Inf.1",{"$f":"IF(AND($N$16<>\"Natação Adulta\",$N$16<>\"Hidroginástica\"),$W$19,0)","v":0},{"$f":"IF(AND($N$16<>\"Natação Adulta\",$N$16<>\"Hidroginástica\"),$W$20,0)","v":0},{"$f":"IFERROR((BI24*BJ24),\"\")","v":0},null,"Adic.Hid.1",{"$f":"IF($N$16=\"Hidroginástica\",W$19,0)","v":0},{"$f":"IF($N$16=\"Hidroginástica\",$W$20,0)","v":0},{"$f":"IFERROR((BN24*BO24),\"\")","v":0},null,null,null,null,null,null,null,null,null,null,null,null,null,null,null,null,null,null,null,null,null,null,null,null,{"$f":"Configurações!AA13","v":"Adic_Nat.Ad_02"},{"$f":"Configurações!AD13","v":2.1000000000000014},34,"Adic_Nat.Ad_04",21,6.02,{"$f":"IFERROR(CS24*CT24,\"\")","v":126.41999999999999},null,{"$f":"Configurações!AF13","v":"Adic_Nat.Inf_02"},{"$f":"Configurações!AI13","v":2.1000000000000014},5,"Adic_Nat.Inf_03",10,3.129999999999999,{"$f":"IFERROR(DA24*DB24,\"\")","v":31.29999999999999},null,{"$f":"Configurações!AK13","v":"Adic_Hidr_02"},{"$f":"Configurações!AN13","v":6.02},1,"Adic_Hidr_04",16,9.9899999999999984,{"$f":"IFERROR(DJ24*DI24,\"\")","v":159.83999999999997}]
[null,2,null,null,null,null,null,null,null,null,null,null,null,null,null,null,null,null,null,null,null,null,null,null,null,null,null,null,null,null,null,"Adic_Nat.Inf_03",3.129999999999999,10,31.29999999999999,null,null,null,null,null,{"$f":"IFERROR(VLOOKUP(N16&R16,Configurações!$C$13:$I$47,2,0),\"\")","v":17.66},{"$f":"IFERROR(IF(AP23<>0,VLOOKUP(N16&R16,Configurações!$C$13:$I$47,3,0),\"\"),\"\")","v":19.760000000000002},{"$f":"IFERROR(IF(AQ23<>0,VLOOKUP(N16&R16,Configurações!$C$13:$I$47,4,0),\"\"),\"\")","v":23.68},{"$f":"IFERROR(IF(AR23<>0,VLOOKUP(N16&R16,Configurações!$C$13:$I$47,5,0),\"\"),\"\")","v":27.65},{"$f":"IFERROR(IF(AS23<>0,VLOOKUP(N16&R16,Configurações!$C$13:$I$47,6,0),\"\"),\"\")","v":0},{"$f":"IFERROR(IF(AT23<>0,VLOOKUP(N16&R16,Configurações!$C$13:$I$47,7,0),\"\"),\"\")","v":0},null,null,null,null,null,null,null,null,"Adic.Nat.Ad.2",{"$f":"IF($N$16=\"Natação Adulta\",$X$19,0)","v":2.1000000000000014},{"$f":"IF($N$16=\"Natação Adulta\",$X$20,0)","v":34},{"$f":"IFERROR((BD25*BE25),\"\")","v":71.400000000000048},null,"Adic.Nat.Inf.2",{"$f":"IF(AND($N$16<>\"Natação Adulta\",$N$16<>\"Hidroginástica\"),$X$19,0)","v":0},{"$f":"IF(AND($N$16<>\"Natação Adulta\",$N$16<>\"Hidroginástica\"),$X$20,0)","v":0},{"$f":"IFERROR((BI25*BJ25),\"\")","v":0},null,"Adic.Hid.2",{"$f":"IF($N$16=\"Hidroginástica\",$X$19,0)","v":0},{"$f":"IF($N$16=\"Hidroginástica\",$X$20,0)","v":0},{"$f":"IFERROR((BN25*BO25),\"\")","v":0},null,null,null,null,null,null,null,null,null,null,null,null,null,null,null,null,null,null,null,null,null,null,null,null,{"$f":"Configurações!AA14","v":"Adic_Nat.Ad_03"},{"$f":"Configurações!AD14","v":4.3099999999999987},"","Adic_Nat.Ad_08",4,9.9899999999999984,39.959999999999994,null,{"$f":"Configurações!AF14","v":"Adic_Nat.Inf_03"},{"$f":"Configurações!AI14","v":3.129999999999999},10,"Adic_Nat.Inf_07",13,6.02,78.259999999999991,null,{"$f":"Configurações!AK14","v":"Adic_Hidr_03"},{"$f":"Configurações!AN14","v":8.4199999999999982},"","Adic_Hidr_08",4,15.760000000000002,63.040000000000006]
[null,3,null,null,null,null,null,null,null,null,null,null,null,null,null,null,null,null,null,null,null,null,null,null,null,null,null,null,null,null,null,"Adic_Nat.Inf_07",6.02,13,78.259999999999991,null,null,null,null,null,null,null,null,null,null,null,null,null,null,null,null,null,null,null,"Adic.Nat.Ad.3",{"$f":"IF($N$16=\"Natação Adulta\",$Y$19,0)","v":6.02},{"$f":"IF($N$16=\"Natação Adulta\",$Y$20,0)","v":21},126.41999999999999,null,"Adic.Nat.Inf.3",{"$f":"IF(AND($N$16<>\"Natação Adulta\",$N$16<>\"Hidroginástica\"),$Y$19,0)","v":0},{"$f":"IF(AND($N$16<>\"Natação Adulta\",$N$16<>\"Hidroginástica\"),$Y$20,0)","v":0},0,null,"Adic.Hid.3",{"$f":"IF($N$16=\"Hidroginástica\",$Y$19,0)","v":0},{"$f":"IF($N$16=\"Hidroginástica\",$Y$20,0)","v":0},0,null,null,null,null,null,null,null,null,null,null,null,null,null,null,null,null,null,null,null,null,null,null,null,null,{"$f":"Configurações!AA15","v":"Adic_Nat.Ad_04"},{"$f":"Configurações!AD15","v":6.02},21,null,null,"","",null,{"$f":"Configurações!AF15","v":"Adic_Nat.Inf_04"},{"$f":"Configurações!AI15","v":4.3099999999999987},"","Adic_Nat.Inf_09",6,7.2800000000000011,43.680000000000007,null,{"$f":"Configurações!AK15","v":"Adic_Hidr_04"},{"$f":"Configurações!AN15","v":9.9899999999999984},16,null,null,"",""]
[null,0,null,null,null,null,null,null,null,null,"Modalidade",null,null,"Natação Bebê",null,null,"Nível","Prof. Nível C",null,null,null,null,null,null,null,null,null,null,null,null,null,"Adic_Nat.Inf_09",7.2800000000000011,6,43.680000000000007,null,null,null,null,{"$f":"VLOOKUP(N27,Configurações!$J$1:$V$9,2,0)","v":"0"},{"$f":"VLOOKUP(N27,Configurações!$J$1:$V$9,3,0)","v":"0"},{"$f":"VLOOKUP(N27,Configurações!$J$1:$V$9,4,0)","v":"1 "},{"$f":"VLOOKUP(N27,Configurações!$J$1:$V$9,5,0)","v":" 4"},{"$f":"VLOOKUP(N27,Configurações!$J$1:$V$9,6,0)","v":"5 "},{"$f":"VLOOKUP(N27,Configurações!$J$1:$V$9,7,0)","v":" 8"},{"$f":"VLOOKUP(N27,Configurações!$J$1:$V$9,8,0)","v":"9 "},{"$f":"VLOOKUP(N27,Configurações!$J$1:$V$9,9,0)","v":"12"},{"$f":"VLOOKUP(N27,Configurações!$J$1:$V$9,10,0)","v":"13"},{"$f":"VLOOKUP(N27,Configurações!$J$1:$V$9,11,0)","v":"15"},{"$f":"VLOOKUP(N27,Configurações!$J$1:$V$9,12,0)","v":""},{"$f":"VLOOKUP(N27,Configurações!$J$1:$V$9,13,0)","v":""},null,null,null,"Adic.Nat.Ad.4",{"$f":"IF($N$16=\"Natação Adulta\",$Z$19,0)","v":9.9899999999999984},{"$f":"IF($N$16=\"Natação Adulta\",$Z$20,0)","v":4},39.959999999999994,null,"Adic.Nat.Inf.4",{"$f":"IF(AND($N$16<>\"Natação Adulta\",$N$16<>\"Hidroginástica\"),$Z$19,0)","v":0},{"$f":"IF(AND($N$16<>\"Natação Adulta\",$N$16<>\"Hidroginástica\"),$Z$20,0)","v":0},0,null,"Adic.Hid.4",{"$f":"IF($N$16=\"Hidroginástica\",$Z$19,0)","v":0},{"$f":"IF($N$16=\"Hidroginástica\",$Z$20,0)","v":0},0,null,{"$f":"IF(BD24<>0,BD24,\"\")","v":""},{"$f":"IF(BD24<>0,BE24,\"\")","v":""},{"$f":"_xlfn._xlws.SORT(_xlfn.UNIQUE($BR$27:$BR$68))","v":2.1000000000000014},{"$f":"SUMIF($BR$27:$BR$68,BT27,$BS$27:$BS$68)","v":34},{"$f":"_xlfn._xlws.SORT(_xlfn._xlws.FILTER($BT$27:$BT$68,$BU$27:$BU$68<>0))","v":2.1000000000000014},{"$f":"_xlfn._xlws.FILTER($BU$27:$BU$68,$BU$27:$BU$68<>0)","v":34},null,{"$f":"IF(BI24<>0,BI24,\"\")","v":""},{"$f":"IF(BI24<>0,BJ24,\"\")","v":""},{"$f":"_xlfn._xlws.SORT(_xlfn.UNIQUE($BY$27:$BY$68))","v":2.1000000000000014},{"$f":"SUMIF($BY$27:$BY$68,CA27,$BZ$27:$BZ$68)","v":5},{"$f":"_xlfn._xlws.SORT(_xlfn._xlws.FILTER($CA$27:$CA$68,$CB$27:$CB$68<>0))","v":2.1000000000000014},{"$f":"_xlfn._xlws.FILTER($CB$27:$CB$68,CB27:CB68<>0)","v":5},null,{"$f":"IF(BN24<>0,BN24,\"\")","v":""},{"$f":"IF(BN24<>0,BO24,\"\")","v":""},{"$f":"_xlfn._xlws.SORT(_xlfn.UNIQUE($CF$27:$CF$67))","v":6.02},{"$f":"SUMIF($CF$27:$CF$68,CH27,$CG$27:$CG$68)","v":1},{"$f":"_xlfn._xlws.SORT(_xlfn._xlws.FILTER($CH$27:$CH$68,$CI$27:$CI$68<>0))","v":6.02},{"$f":"_xlfn._xlws.FILTER($CI$27:$CI$68,$CI$27:$CI$68<>0)","v":1},null,null,null,{"$f":"Configurações!AA16","v":"Adic_Nat.Ad_05"},{"$f":"Configurações!AD16","v":7.6099999999999994},"",null,null,"","",null,{"$f":"Configurações!AF16","v":"Adic_Nat.Inf_05"},{"$f":"Configurações!AI16","v":5.6699999999999982},"","Adic_Nat.Inf_16",4,9.9899999999999984,39.959999999999994,null,{"$f":"Configurações!AK16","v":"Adic_Hidr_05"},{"$f":"Configurações!AN16","v":12.54},"",null,null,"",""]
[null,4,null,null,null,null,null,null,null,null,"Academia",null,null,null,null,null,null,null,null,null,"Contabilidade",null,null,null,null,null,null,null,null,null,null,"Adic_Nat.Inf_16",9.9899999999999984,4,39.959999999999994,null,null,null,null,{"$f":"IFERROR(VLOOKUP(N27,_xlfn.ANCHORARRAY($AZ$2),2,0),0)","v":0},null,null,null,null,null,null,null,null,null,null,null,null,null,null,"Adic.Nat.Ad.5",{"$f":"IF($N$16=\"Natação Adulta\",$AA$19,0)","v":""},{"$f":"IF($N$16=\"Natação Adulta\",$AA$20,0)","v":""},"",null,"Adic.Nat.Inf.5",{"$f":"IF(AND($N$16<>\"Natação Adulta\",$N$16<>\"Hidroginástica\"),$AA$19,0)","v":0},{"$f":"IF(AND($N$16<>\"Natação Adulta\",$N$16<>\"Hidroginástica\"),$AA$20,0)","v":0},0,null,"Adic.Hid.5",{"$f":"IF($N$16=\"Hidroginástica\",$AA$19,0)","v":0},{"$f":"IF($N$16=\"Hidroginástica\",$AA$20,0)","v":0},0,null,2.1000000000000014,34,6.02,21,6.02,21,null,"","",3.129999999999999,10,3.129999999999999,10,null,"","",9.9899999999999984,16,9.9899999999999984,16,null,null,null,{"$f":"Configurações!AA17","v":"Adic_Nat.Ad_06"},{"$f":"Configurações!AD17","v":8.4199999999999982},"",null,null,"","",null,{"$f":"Configurações!AF17","v":"Adic_Nat.Inf_06"},{"$f":"Configurações!AI17","v":5.8900000000000006},"","Adic_Nat.Inf_22",3,13.2,39.599999999999994,null,{"$f":"Configurações!AK17","v":"Adic_Hidr_06"},{"$f":"Configurações!AN17","v":12.659520000000004},"",null,null,"",""]
[null,4,null,null,null,null,null,null,null,null,"Nr. de Alunos",null,null,{"$f":"IF(AO34<>\"\",AO34,\"\")","v":0},{"$f":"IF(AP34<>\"\",AP34,\"\")","v":""},{"$f":"IF(AQ34<>\"\",AQ34,\"\")","v":""},{"$f":"IF(AR34<>\"\",AR34,\"\")","v":""},{"$f":"IF(AS34<>\"\",AS34,\"\")","v":""},{"$f":"IF(AT34<>0,AT34,\"\")","v":""},null,"Nr. de Alunos",null,{"$f":"N29","v":0},{"$f":"O29","v":""},"","","","",null,null,null,"Adic_Nat.Inf_22",13.2,3,39.599999999999994,null,null,null,null,null,null,null,null,null,null,null,null,null,null,null,null,null,null,null,"Adic.Nat.Ad.6",{"$f":"IF($N$16=\"Natação Adulta\",$AB$19,0)","v":""},{"$f":"IF($N$16=\"Natação Adulta\",$AB$20,0)","v":""},"",null,"Adic.Nat.Inf.6",{"$f":"IF(AND($N$16<>\"Natação Adulta\",$N$16<>\"Hidroginástica\"),$AB$19,0)","v":0},{"$f":"IF(AND($N$16<>\"Natação Adulta\",$N$16<>\"Hidroginástica\"),$AB$20,0)","v":0},0,null,"Adic.Hid.6",{"$f":"IF($N$16=\"Hidroginástica\",$AB$19,0)","v":0},{"$f":"IF($N$16=\"Hidroginástica\",$AB$20,0)","v":0},0,null,6.02,21,9.9899999999999984,4,9.9899999999999984,4,null,"","",5.8900000000000006,0,6.02,13,null,"","",15.760000000000002,4,15.760000000000002,4,null,null,null,{"$f":"Configurações!AA18","v":"Adic_Nat.Ad_07"},{"$f":"Configurações!AD18","v":9.5300000000000011},"",null,null,"","",null,{"$f":"Configurações!AF18","v":"Adic_Nat.Inf_07"},{"$f":"Configurações!AI18","v":6.02},13,null,null,"","",null,{"$f":"Configurações!AK18","v":"Adic_Hidr_07"},{"$f":"Configurações!AN18","v":14.966439999999995},"",null,null,"",""]
[null,1,null,null,null,null,null,null,null,null,"Valor da Aula",null,null,{"$f":"IF(AO36<>0,AO36,\"\")","v":17.66},23.55,26.32,29.09,31.86,"",null,"Valor da Aula",null,{"$f":"IFERROR(IF(N30<=$S$34,0,N30-$S$34),\"\")","v":0},5.8900000000000006,8.66,11.43,14.2,"",null,null,null,"","","","",null,null,null,null,null,null,null,null,null,null,null,null,null,null,null,null,null,null,null,null,null,null,null,null,null,null,null,null,null,null,null,null,null,null,9.9899999999999984,4,"",0,null,null,null,"","",6.02,13,7.2800000000000011,6,null,"","",21.150000000000002,0,null,null,null,null,null,{"$f":"Configurações!AA19","v":"Adic_Nat.Ad_08"},{"$f":"Configurações!AD19","v":9.9899999999999984},4,null,null,"","",null,{"$f":"Configurações!AF19","v":"Adic_Nat.Inf_08"},{"$f":"Configurações!AI19","v":6.43},"",null,null,"","",null,{"$f":"Configurações!AK19","v":"Adic_Hidr_08"},{"$f":"Configurações!AN19","v":15.760000000000002},4,null,null,"",""]
[null,0,null,null,null,null,null,null,null,null,"Nr. de Aulas",null,null,{"$f":"IF(AO34<>\"\",AO35,\"\")","v":0},"","","","","",null,"Nr. de Aulas",null,{"$f":"N31","v":0},"","","","","",null,null,null,"","","","",null,null,null,null,null,null,null,null,null,null,null,null,null,null,null,null,null,null,null,"Adic.Nat.Ad.1",{"$f":"IF($N$27=\"Natação Adulta\",$W$30,0)","v":0},{"$f":"IF($N$27=\"Natação Adulta\",$W$31,0)","v":0},{"$f":"IFERROR((BD31*BE31),\"\")","v":0},null,"Adic.Nat.Inf.1",{"$f":"IF(AND($N$27<>\"Natação Adulta\",$N$27<>\"Hidroginástica\"),$W$30,0)","v":0},{"$f":"IF(AND($N$27<>\"Natação Adulta\",$N$27<>\"Hidroginástica\"),$W$31,0)","v":0},{"$f":"IFERROR((BI31*BJ31),\"\")","v":0},null,"Adic.Hid.1",{"$f":"IF($N$27=\"Hidroginástica\",$W$30,0)","v":0},{"$f":"IF($N$27=\"Hidroginástica\",$W$31,0)","v":0},{"$f":"IFERROR((BN31*BO31),\"\")","v":0},null,"","",null,0,null,null,null,"","",7.2800000000000011,6,9.9899999999999984,4,null,"","","",0,null,null,null,null,null,{"$f":"Configurações!AA20","v":"Adic_Nat.Ad_09"},{"$f":"Configurações!AD20","v":12.260000000000002},"",null,null,"","",null,{"$f":"Configurações!AF20","v":"Adic_Nat.Inf_09"},{"$f":"Configurações!AI20","v":7.2800000000000011},6,null,null,"","",null,{"$f":"Configurações!AK20","v":"Adic_Hidr_09"},{"$f":"Configurações!AN20","v":17.685309999999998},"",null,null,"",""]
[null,2,null,null,null,null,null,null,null,null,"Valor",null,null,{"$f":"IFERROR(N30*N31,\"\")","v":0},"","","","","",null,"Valor",null,{"$f":"IFERROR(W30*W31,\"\")","v":0},"","","","","",null,null,null,"","","","",null,null,null,null,null,null,null,null,null,null,null,null,null,null,null,null,null,null,null,"Adic.Nat.Ad.2",{"$f":"IF($N$27=\"Natação Adulta\",$X$30,0)","v":0},{"$f":"IF($N$27=\"Natação Adulta\",$X$31,0)","v":0},{"$f":"IFERROR((BD32*BE32),\"\")","v":0},null,"Adic.Nat.Inf.2",{"$f":"IF(AND($N$27<>\"Natação Adulta\",$N$27<>\"Hidroginástica\"),$X$30,0)","v":5.8900000000000006},{"$f":"IF(AND($N$27<>\"Natação Adulta\",$N$27<>\"Hidroginástica\"),$X$31,0)","v":""},{"$f":"IFERROR((BI32*BJ32),\"\")","v":""},null,"Adic.Hid.2",{"$f":"IF($N$27=\"Hidroginástica\",$X$30,0)","v":0},{"$f":"IF($N$27=\"Hidroginástica\",$X$31,0)","v":0},{"$f":"IFERROR((BN32*BO32),\"\")","v":0},null,"","",null,0,null,null,null,"","",8.66,0,13.2,3,null,"","",null,0,null,null,null,null,null,{"$f":"Configurações!AA21","v":"Adic_Nat.Ad_10"},{"$f":"Configurações!AD21","v":12.66},"",null,null,"","",null,{"$f":"Configurações!AF21","v":"Adic_Nat.Inf_10"},{"$f":"Configurações!AI21","v":7.6101899999999958},"",null,null,"","",null,{"$f":"Configurações!AK21","v":"Adic_Hidr_10"},{"$f":"Configurações!AN21","v":18.02},"",null,null,"",""]
[null,5,null,null,null,null,null,null,null,null,null,null,"Total de Alunos",null,null,null,{"$f":"_xlfn.IFS(N27=$AN$2,$B$102,N27=$AO$2,$C$102,N27=$AP$2,$D$102,N27=$AQ$2,$E$102,N27=$AR$2,$F$102,N27=$AS$2,$G$102,N27=$AT$2,$H$102,N27=\"Sem Uso\",\"\")","v":0},null,null,null,null,"Total de Alunos",null,null,null,{"$f":"Q33","v":0},null,null,null,null,null,"","","","",null,null,null,null,"TABELA DE EQUIVALÊNCIA",null,null,null,null,null,null,null,null,null,null,null,null,null,null,"Adic.Nat.Ad.3",{"$f":"IF($N$27=\"Natação Adulta\",$Y$30,0)","v":0},{"$f":"IF($N$27=\"Natação Adulta\",$Y$31,0)","v":0},0,null,"Adic.Nat.Inf.3",{"$f":"IF(AND($N$27<>\"Natação Adulta\",$N$27<>\"Hidroginástica\"),$Y$30,0)","v":8.66},{"$f":"IF(AND($N$27<>\"Natação Adulta\",$N$27<>\"Hidroginástica\"),$Y$31,0)","v":""},"",null,"Adic.Hid.3",{"$f":"IF($N$27=\"Hidroginástica\",$Y$30,0)","v":0},{"$f":"IF($N$27=\"Hidroginástica\",$Y$31,0)","v":0},0,null,{"$f":"IF(BD31<>0,BD31,\"\")","v":""},{"$f":"IF(BD31<>0,BE31,\"\")","v":""},null,0,null,null,null,{"$f":"IF(BI31<>0,BI31,\"\")","v":""},{"$f":"IF(BI31<>0,BJ31,\"\")","v":""},9.9899999999999984,4,null,null,null,{"$f":"IF(BN31<>0,BN31,\"\")","v":""},{"$f":"IF(BN31<>0,BO31,\"\")","v":""},null,0,null,null,null,null,null,{"$f":"Configurações!AA22","v":"Adic_Nat.Ad_11"},{"$f":"Configurações!AD22","v":14.970000000000002},"",null,null,"","",null,{"$f":"Configurações!AF22","v":"Adic_Nat.Inf_11"},{"$f":"Configurações!AI22","v":8.4199999999999982},"",null,null,"","",null,{"$f":"Configurações!AK22","v":"Adic_Hidr_11"},{"$f":"Configurações!AN22","v":20.404180000000007},"",null,null,"",""]
[null,3,null,null,null,null,null,null,null,null,null,null,"Total de Aulas",null,null,null,{"$f":"IF(Q33<>\"\",SUM(AN31:AS31),\"\")","v":0},"Registro",17.66,null,null,"Total de Aulas",null,null,null,{"$f":"Q34","v":0},null,null,null,null,null,"","","","",null,null,null,null,"Nr. Alunos",{"$f":"AO32","v":0},{"$f":"IF(AP32<>0,AP32,\"\")","v":""},{"$f":"IF(AQ32<>0,AQ32,\"\")","v":""},{"$f":"IF(AR32<>0,AR32,\"\")","v":""},{"$f":"IF(AS32<>0,AS32,\"\")","v":""},{"$f":"IF(AT32<>0,AT32,\"\")","v":""},null,null,null,null,null,null,null,null,"Adic.Nat.Ad.4",{"$f":"IF($N$27=\"Natação Adulta\",$Z$30,0)","v":0},{"$f":"IF($N$27=\"Natação Adulta\",$Z$31,0)","v":0},0,null,"Adic.Nat.Inf.4",{"$f":"IF(AND($N$27<>\"Natação Adulta\",$N$27<>\"Hidroginástica\"),$Z$30,0)","v":11.43},{"$f":"IF(AND($N$27<>\"Natação Adulta\",$N$27<>\"Hidroginástica\"),$Z$31,0)","v":""},"",null,"Adic.Hid.4",{"$f":"IF($N$27=\"Hidroginástica\",$Z$30,0)","v":0},{"$f":"IF($N$27=\"Hidroginástica\",$Z$31,0)","v":0},0,null,"","",null,0,null,null,null,5.8900000000000006,"",11.43,0,null,null,null,"","",null,0,null,null,null,null,null,{"$f":"Configurações!AA23","v":"Adic_Nat.Ad_12"},{"$f":"Configurações!AD23","v":17.720000000000002},"",null,null,"","",null,{"$f":"Configurações!AF23","v":"Adic_Nat.Inf_12"},{"$f":"Configurações!AI23","v":8.66},"",null,null,"","",null,{"$f":"Configurações!AK23","v":"Adic_Hidr_12"},{"$f":"Configurações!AN23","v":21.150000000000002},"",null,null,"",""]
[null,5,null,null,null,null,null,null,null,null,null,null,"Total a Receber",null,null,null,{"$f":"IF(Q33<>\"\",SUM(N32:S32),\"\")","v":0},null,null,null,null,"Total a Receber",null,null,null,{"$f":"IF(Z33<>\"\",SUM(W32:AB32),\"\")","v":0},null,null,null,null,null,"","","","",null,null,null,null,"Aulas",{"$f":"IF(AO34<>\"\",AO29,\"\")","v":0},"","","","","",null,null,null,null,null,null,null,null,"Adic.Nat.Ad.5",{"$f":"IF($N$27=\"Natação Adulta\",$AA$30,0)","v":0},{"$f":"IF($N$27=\"Natação Adulta\",$AA$31,0)","v":0},0,null,"Adic.Nat.Inf.5",{"$f":"IF(AND($N$27<>\"Natação Adulta\",$N$27<>\"Hidroginástica\"),$AA$30,0)","v":14.2},{"$f":"IF(AND($N$27<>\"Natação Adulta\",$N$27<>\"Hidroginástica\"),$AA$31,0)","v":""},"",null,"Adic.Hid.5",{"$f":"IF($N$27=\"Hidroginástica\",$AA$30,0)","v":0},{"$f":"IF($N$27=\"Hidroginástica\",$AA$31,0)","v":0},0,null,"","",null,0,null,null,null,8.66,"",13.2,3,null,null,null,"","",null,0,null,null,null,null,null,{"$f":"Configurações!AA24","v":"Adic_Nat.Ad_13"},{"$f":"Configurações!AD24","v":20.400000000000002},"",null,null,"","",null,{"$f":"Configurações!AF24","v":"Adic_Nat.Inf_13"},{"$f":"Configurações!AI24","v":8.8460399999999986},"",null,null,"","",null,{"$f":"Configurações!AK24","v":"Adic_Hidr_13"},{"$f":"Configurações!AN24","v":23.123049999999996},"",null,null,"",""]
[null,0,null,null,null,null,null,null,null,null,null,null,null,null,null,null,null,null,null,null,null,null,null,null,null,null,null,null,null,null,null,"","","","",null,null,null,null,null,{"$f":"IFERROR(VLOOKUP(N27&R27,Configurações!$C$13:$I$47,2,0),\"\")","v":17.66},{"$f":"IFERROR(IF(AP34<>0,VLOOKUP(N27&R27,Configurações!$C$13:$I$47,3,0),\"\"),\"\")","v":23.55},{"$f":"IFERROR(IF(AQ34<>0,VLOOKUP(N27&R27,Configurações!$C$13:$I$47,4,0),\"\"),\"\")","v":26.32},{"$f":"IFERROR(IF(AR34<>0,VLOOKUP(N27&R27,Configurações!$C$13:$I$47,5,0),\"\"),\"\")","v":29.09},{"$f":"IFERROR(IF(AS34<>0,VLOOKUP(N27&R27,Configurações!$C$13:$I$47,6,0),\"\"),\"\")","v":31.86},{"$f":"IFERROR(IF(AT34<>0,VLOOKUP(N27&R27,Configurações!$C$13:$I$47,7,0),\"\"),\"\")","v":0},null,null,null,null,null,null,null,null,"Adic.Nat.Ad.6",{"$f":"IF($N$27=\"Natação Adulta\",$AB$30,0)","v":0},{"$f":"IF($N$27=\"Natação Adulta\",$AB$31,0)","v":0},0,null,"Adic.Nat.Inf.6",{"$f":"IF(AND($N$27<>\"Natação Adulta\",$N$27<>\"Hidroginástica\"),$AB$30,0)","v":""},{"$f":"IF(AND($N$27<>\"Natação Adulta\",$N$27<>\"Hidroginástica\"),$AB$31,0)","v":""},"",null,"Adic.Hid.6",{"$f":"IF($N$27=\"Hidroginástica\",$AB$30,0)","v":0},{"$f":"IF($N$27=\"Hidroginástica\",$AB$31,0)","v":0},0,null,"","",null,0,null,null,null,11.43,"",14.2,0,null,null,null,"","",null,0,null,null,null,null,null,null,null,null,null,null,null,null,null,{"$f":"Configurações!AF25","v":"Adic_Nat.Inf_14"},{"$f":"Configurações!AI25","v":9.5287000000000006},"",null,null,"","",null,{"$f":"Configurações!AK25","v":"Adic_Hidr_14"},{"$f":"Configurações!AN25","v":23.51},"",null,null,"",""]
[null,2,null,null,null,null,null,null,null,null,null,null,null,null,null,null,null,null,null,null,null,null,null,null,null,null,null,null,null,null,null,"","","","",null,null,null,null,null,null,null,null,null,null,null,null,null,null,null,null,null,null,null,null,null,null,null,null,null,null,null,null,null,null,null,null,null,null,"","",null,0,null,null,null,14.2,"",14.639999999999997,0,null,null,null,"","",null,0,null,null,null,null,null,null,null,null,null,null,null,null,null,{"$f":"Configurações!AF26","v":"Adic_Nat.Inf_15"},{"$f":"Configurações!AI26","v":9.7899999999999991},"",null,null,"","",null,{"$f":"Configurações!AK26","v":"Adic_Hidr_15"},{"$f":"Configurações!AN26","v":25.841919999999998},"",null,null,"",""]
[null,5,null,null,null,null,null,null,null,null,"Modalidade",null,null,"Aprendizagem A",null,null,"Nível","Prof. Nível C",null,null,null,null,null,null,null,null,null,null,null,null,null,"","","","",null,null,null,null,{"$f":"VLOOKUP(N38,Configurações!$J$1:$V$9,2,0)","v":"0"},{"$f":"VLOOKUP(N38,Configurações!$J$1:$V$9,3,0)","v":"0"},{"$f":"VLOOKUP(N38,Configurações!$J$1:$V$9,4,0)","v":"1 "},{"$f":"VLOOKUP(N38,Configurações!$J$1:$V$9,5,0)","v":" 2"},{"$f":"VLOOKUP(N38,Configurações!$J$1:$V$9,6,0)","v":"3 "},{"$f":"VLOOKUP(N38,Configurações!$J$1:$V$9,7,0)","v":" 4"},{"$f":"VLOOKUP(N38,Configurações!$J$1:$V$9,8,0)","v":"5 "},{"$f":"VLOOKUP(N38,Configurações!$J$1:$V$9,9,0)","v":" 6"},{"$f":"VLOOKUP(N38,Configurações!$J$1:$V$9,10,0)","v":"7 "},{"$f":"VLOOKUP(N38,Configurações!$J$1:$V$9,11,0)","v":" 8"},{"$f":"VLOOKUP(N38,Configurações!$J$1:$V$9,12,0)","v":""},{"$f":"VLOOKUP(N38,Configurações!$J$1:$V$9,13,0)","v":""},null,null,null,"Adic.Nat.Ad.1",{"$f":"IF($N$38=\"Natação Adulta\",$W$41,0)","v":0},{"$f":"IF($N$38=\"Natação Adulta\",$W$42,0)","v":0},{"$f":"IFERROR((BD38*BE38),\"\")","v":0},null,"Adic.Nat.Inf.1",{"$f":"IF(AND($N$38<>\"Natação Adulta\",$N$38<>\"Hidroginástica\"),$W$41,0)","v":0},{"$f":"IF(AND($N$38<>\"Natação Adulta\",$N$38<>\"Hidroginástica\"),$W$42,0)","v":0},{"$f":"IFERROR((BI38*BJ38),\"\")","v":0},null,"Adic.Hid.1",{"$f":"IF($N$38=\"Hidroginástica\",$W$41,0)","v":0},{"$f":"IF($N$38=\"Hidroginástica\",$W$42,0)","v":0},{"$f":"IFERROR((BN38*BO38),\"\")","v":0},null,"","",null,0,null,null,null,"","","",0,null,null,null,"","",null,0,null,null,null,null,null,null,null,null,null,null,null,null,null,{"$f":"Configurações!AF27","v":"Adic_Nat.Inf_16"},{"$f":"Configurações!AI27","v":9.9899999999999984},4,null,null,"","",null,{"$f":"Configurações!AK27","v":"Adic_Hidr_16"},{"$f":"Configurações!AN27","v":28.560790000000001},"",null,null,"",""]
[null,7,null,null,null,null,null,null,null,null,"Academia",null,null,null,null,null,null,null,null,null,"Contabilidade",null,null,null,null,null,null,null,null,null,null,"","","","",null,null,null,null,{"$f":"IFERROR(VLOOKUP(N38,_xlfn.ANCHORARRAY($AZ$2),2,0),0)","v":83},null,null,null,null,null,null,null,null,null,null,null,null,null,null,"Adic.Nat.Ad.2",{"$f":"IF($N$38=\"Natação Adulta\",$X$41,0)","v":0},{"$f":"IF($N$38=\"Natação Adulta\",$X$42,0)","v":0},{"$f":"IFERROR((BD39*BE39),\"\")","v":0},null,"Adic.Nat.Inf.2",{"$f":"IF(AND($N$38<>\"Natação Adulta\",$N$38<>\"Hidroginástica\"),$X$41,0)","v":2.1000000000000014},{"$f":"IF(AND($N$38<>\"Natação Adulta\",$N$38<>\"Hidroginástica\"),$X$42,0)","v":4},{"$f":"IFERROR((BI39*BJ39),\"\")","v":8.4000000000000057},null,"Adic.Hid.2",{"$f":"IF($N$38=\"Hidroginástica\",$X$41,0)","v":0},{"$f":"IF($N$38=\"Hidroginástica\",$X$42,0)","v":0},{"$f":"IFERROR((BN39*BO39),\"\")","v":0},null,{"$f":"IF(BD38<>0,BD38,\"\")","v":""},{"$f":"IF(BD38<>0,BE38,\"\")","v":""},null,0,null,null,null,{"$f":"IF(BI38<>0,BI38,\"\")","v":""},{"$f":"IF(BI38<>0,BJ38,\"\")","v":""},null,0,null,null,null,{"$f":"IF(BN38<>0,BN38,\"\")","v":""},{"$f":"IF(BN38<>0,BO38,\"\")","v":""},null,0,null,null,null,null,null,null,null,null,null,null,null,null,null,{"$f":"Configurações!AF28","v":"Adic_Nat.Inf_17"},{"$f":"Configurações!AI28","v":10.894020000000001},"",null,null,"","",null,{"$f":"Configurações!AK28","v":"Adic_Hidr_17"},{"$f":"Configurações!AN28","v":31.279660000000003},"",null,null,"",""]
[null,4,null,null,null,null,null,null,null,null,"Nr. de Alunos",null,null,{"$f":"IF(AO45<>\"\",AO45,\"\")","v":0},{"$f":"IF(AP45<>\"\",AP45,\"\")","v":"1 a 2"},{"$f":"IF(AQ45<>\"\",AQ45,\"\")","v":"3 a 4"},{"$f":"IF(AR45<>\"\",AR45,\"\")","v":"5 a 6"},{"$f":"IF(AS45<>\"\",AS45,\"\")","v":"7 a 8"},{"$f":"IF(AT45<>0,AT45,\"\")","v":""},null,"Nr. de Alunos",null,{"$f":"N40","v":0},{"$f":"O40","v":"1 a 2"},"3 a 4","5 a 6","7 a 8","",null,null,null,"","","","",null,null,null,null,null,{"$f":"IF($N$38=$AN$2,COUNTIF($B$4:$B$100,\">=\"&AN38)-COUNTIF($B$4:$B$100,\">\"&AO38),\nIF($N$38=$AO$2,COUNTIF($C$4:$C$100,\">=\"&AN38)-COUNTIF($C$4:$C$100,\">\"&AO38),\nIF($N$38=$AP$2,COUNTIF($D$4:$D$100,\">=\"&AN38)-COUNTIF($D$4:$D$100,\">\"&AO38),\nIF($N$38=$AQ$2,COUNTIF($E$4:$E$100,\">=\"&AN38)-COUNTIF($E$4:$E$100,\">\"&AO38),\nIF($N$38=$AR$2,COUNTIF($F$4:$F$100,\">=\"&AN38)-COUNTIF($F$4:$F$100,\">\"&AO38),\nIF($N$38=$AS$2,COUNTIF($G$4:$G$100,\">=\"&AN38)-COUNTIF($G$4:$G$100,\">\"&AO38),\nIF($N$38=$AT$2,COUNTIF($H$4:$H$100,\">=\"&AN38)-COUNTIF($H$4:$H$100,\">\"&AO38),\nIF($N$38=\"Sem Uso\",\"\"))))))))","v":0},{"$f":"IF($N$38=$AN$2,COUNTIF($B$4:$B$100,\">=\"&AP38)-COUNTIF($B$4:$B$100,\">\"&AQ38),\nIF($N$38=$AO$2,COUNTIF($C$4:$C$100,\">=\"&AP38)-COUNTIF($C$4:$C$100,\">\"&AQ38),\nIF($N$38=$AP$2,COUNTIF($D$4:$D$100,\">=\"&AP38)-COUNTIF($D$4:$D$100,\">\"&AQ38),\nIF($N$38=$AQ$2,COUNTIF($E$4:$E$100,\">=\"&AP38)-COUNTIF($E$4:$E$100,\">\"&AQ38),\nIF($N$38=$AR$2,COUNTIF($F$4:$F$100,\">=\"&AP38)-COUNTIF($F$4:$F$100,\">\"&AQ38),\nIF($N$38=$AS$2,COUNTIF($G$4:$G$100,\">=\"&AP38)-COUNTIF($G$4:$G$100,\">\"&AQ38),\nIF($N$38=$AT$2,COUNTIF($H$4:$H$100,\">=\"&AP38)-COUNTIF($H$4:$H$100,\">\"&AQ38),\nIF($N$38=\"Sem Uso\",\"\"))))))))","v":4},{"$f":"IF($N$38=$AN$2,COUNTIF($B$4:$B$100,\">=\"&AR38)-COUNTIF($B$4:$B$100,\">\"&AS38),\nIF($N$38=$AO$2,COUNTIF($C$4:$C$100,\">=\"&AR38)-COUNTIF($C$4:$C$100,\">\"&AS38),\nIF($N$38=$AP$2,COUNTIF($D$4:$D$100,\">=\"&AR38)-COUNTIF($D$4:$D$100,\">\"&AS38),\nIF($N$38=$AQ$2,COUNTIF($E$4:$E$100,\">=\"&AR38)-COUNTIF($E$4:$E$100,\">\"&AS38),\nIF($N$38=$AR$2,COUNTIF($F$4:$F$100,\">=\"&AR38)-COUNTIF($F$4:$F$100,\">\"&AS38),\nIF($N$38=$AS$2,COUNTIF($G$4:$G$100,\">=\"&AR38)-COUNTIF($G$4:$G$100,\">\"&AS38),\nIF($N$38=$AT$2,COUNTIF($H$4:$H$100,\">=\"&AR38)-COUNTIF($H$4:$H$100,\">\"&AS38),\nIF($N$38=\"Sem Uso\",\"\"))))))))","v":9},{"$f":"IF($N$38=$AN$2,COUNTIF($B$4:$B$100,\">=\"&AT38)-COUNTIF($B$4:$B$100,\">\"&AU38),\nIF($N$38=$AO$2,COUNTIF($C$4:$C$100,\">=\"&AT38)-COUNTIF($C$4:$C$100,\">\"&AU38),\nIF($N$38=$AP$2,COUNTIF($D$4:$D$100,\">=\"&AT38)-COUNTIF($D$4:$D$100,\">\"&AU38),\nIF($N$38=$AQ$2,COUNTIF($E$4:$E$100,\">=\"&AT38)-COUNTIF($E$4:$E$100,\">\"&AU38),\nIF($N$38=$AR$2,COUNTIF($F$4:$F$100,\">=\"&AT38)-COUNTIF($F$4:$F$100,\">\"&AU38),\nIF($N$38=$AS$2,COUNTIF($G$4:$G$100,\">=\"&AT38)-COUNTIF($G$4:$G$100,\">\"&AU38),\nIF($N$38=$AT$2,COUNTIF($H$4:$H$100,\">=\"&AT38)-COUNTIF($H$4:$H$100,\">\"&AU38),\nIF($N$38=\"Sem Uso\",\"\"))))))))","v":3},{"$f":"IF($N$38=$AN$2,COUNTIF($B$4:$B$100,\">=\"&AV38)-COUNTIF($B$4:$B$100,\">\"&AW38),\nIF($N$38=$AO$2,COUNTIF($C$4:$C$100,\">=\"&AV38)-COUNTIF($C$4:$C$100,\">\"&AW38),\nIF($N$38=$AP$2,COUNTIF($D$4:$D$100,\">=\"&AV38)-COUNTIF($D$4:$D$100,\">\"&AW38),\nIF($N$38=$AQ$2,COUNTIF($E$4:$E$100,\">=\"&AV38)-COUNTIF($E$4:$E$100,\">\"&AW38),\nIF($N$38=$AR$2,COUNTIF($F$4:$F$100,\">=\"&AV38)-COUNTIF($F$4:$F$100,\">\"&AW38),\nIF($N$38=$AS$2,COUNTIF($G$4:$G$100,\">=\"&AV38)-COUNTIF($G$4:$G$100,\">\"&AW38),\nIF($N$38=$AT$2,COUNTIF($H$4:$H$100,\">=\"&AV38)-COUNTIF($H$4:$H$100,\">\"&AW38),\nIF($N$38=\"Sem Uso\",\"\"))))))))","v":3},{"$f":"IF($N$38=$AN$2,COUNTIF($B$4:$B$100,\">=\"&AX38)-COUNTIF($B$4:$B$100,\">\"&AY38),\nIF($N$38=$AO$2,COUNTIF($C$4:$C$100,\">=\"&AX38)-COUNTIF($C$4:$C$100,\">\"&AY38),\nIF($N$38=$AP$2,COUNTIF($D$4:$D$100,\">=\"&AX38)-COUNTIF($D$4:$D$100,\">\"&AY38),\nIF($N$38=$AQ$2,COUNTIF($E$4:$E$100,\">=\"&AX38)-COUNTIF($E$4:$E$100,\">\"&AY38),\nIF($N$38=$AR$2,COUNTIF($F$4:$F$100,\">=\"&AX38)-COUNTIF($F$4:$F$100,\">\"&AY38),\nIF($N$38=$AS$2,COUNTIF($G$4:$G$100,\">=\"&AX38)-COUNTIF($G$4:$G$100,\">\"&AY38),\nIF($N$38=$AT$2,COUNTIF($H$4:$H$100,\">=\"&AX38)-COUNTIF($H$4:$H$100,\">\"&AY38),\nIF($N$38=\"Sem Uso\",\"\"))))))))","v":0},null,null,null,null,null,null,null,null,"Adic.Nat.Ad.3",{"$f":"IF($N$38=\"Natação Adulta\",$Y$41,0)","v":0},{"$f":"IF($N$38=\"Natação Adulta\",$Y$42,0)","v":0},0,null,"Adic.Nat.Inf.3",{"$f":"IF(AND($N$38<>\"Natação Adulta\",$N$38<>\"Hidroginástica\"),$Y$41,0)","v":6.02},{"$f":"IF(AND($N$38<>\"Natação Adulta\",$N$38<>\"Hidroginástica\"),$Y$42,0)","v":9},54.179999999999993,null,"Adic.Hid.3",{"$f":"IF($N$38=\"Hidroginástica\",$Y$41,0)","v":0},{"$f":"IF($N$38=\"Hidroginástica\",$Y$42,0)","v":0},0,null,"","",null,0,null,null,null,2.1000000000000014,4,null,0,null,null,null,"","",null,0,null,null,null,null,null,null,null,null,null,null,null,null,null,{"$f":"Configurações!AF29","v":"Adic_Nat.Inf_18"},{"$f":"Configurações!AI29","v":11.169999999999998},"",null,null,"",""]
[null,4,null,null,null,null,null,null,null,null,"Valor da Aula",null,null,{"$f":"IF(AO47<>0,AO47,\"\")","v":17.66},19.760000000000002,23.68,27.65,30.86,"",null,"Valor da Aula",null,{"$f":"IFERROR(IF(N41<=$S$45,0,N41-$S$45),\"\")","v":0},2.1000000000000014,6.02,9.9899999999999984,13.2,"",null,null,null,"","","","",null,null,null,null,null,null,null,null,null,null,null,null,null,null,null,null,null,null,null,"Adic.Nat.Ad.4",{"$f":"IF($N$38=\"Natação Adulta\",$Z$41,0)","v":0},{"$f":"IF($N$38=\"Natação Adulta\",$Z$42,0)","v":0},0,null,"Adic.Nat.Inf.4",{"$f":"IF(AND($N$38<>\"Natação Adulta\",$N$38<>\"Hidroginástica\"),$Z$41,0)","v":9.9899999999999984},{"$f":"IF(AND($N$38<>\"Natação Adulta\",$N$38<>\"Hidroginástica\"),$Z$42,0)","v":3},29.969999999999995,null,"Adic.Hid.4",{"$f":"IF($N$38=\"Hidroginástica\",$Z$41,0)","v":0},{"$f":"IF($N$38=\"Hidroginástica\",$Z$42,0)","v":0},0,null,"","",null,0,null,null,null,6.02,9,null,0,null,null,null,"","",null,0,null,null,null,null,null,null,null,null,null,null,null,null,null,{"$f":"Configurações!AF30","v":"Adic_Nat.Inf_19"},{"$f":"Configurações!AI30","v":11.43},"",null,null,"",""]
[null,4,null,null,null,null,null,null,null,null,"Nr. de Aulas",null,null,{"$f":"IF(AO45<>\"\",AO46,\"\")","v":0},4,9,3,3,"",null,"Nr. de Aulas",null,{"$f":"N42","v":0},4,9,3,3,"",null,null,null,"","","","",null,null,null,null,{"$f":"IF(N42<>\"\",N42,\"\")","v":0},4,9,3,3,"",null,null,null,null,null,null,null,null,null,"Adic.Nat.Ad.5",{"$f":"IF($N$38=\"Natação Adulta\",$AA$41,0)","v":0},{"$f":"IF($N$38=\"Natação Adulta\",$AA$42,0)","v":0},0,null,"Adic.Nat.Inf.5",{"$f":"IF(AND($N$38<>\"Natação Adulta\",$N$38<>\"Hidroginástica\"),$AA$41,0)","v":13.2},{"$f":"IF(AND($N$38<>\"Natação Adulta\",$N$38<>\"Hidroginástica\"),$AA$42,0)","v":3},39.599999999999994,null,"Adic.Hid.5",{"$f":"IF($N$38=\"Hidroginástica\",$AA$41,0)","v":0},{"$f":"IF($N$38=\"Hidroginástica\",$AA$42,0)","v":0},0,null,"","",null,0,null,null,null,9.9899999999999984,3,null,0,null,null,null,"","",null,0,null,null,null,null,null,null,null,null,null,null,null,null,null,{"$f":"Configurações!AF31","v":"Adic_Nat.Inf_20"},{"$f":"Configurações!AI31","v":12.260000000000002},"",null,null,"",""]
[null,1,null,null,null,null,null,null,null,null,"Valor",null,null,{"$f":"IFERROR(N41*N42,\"\")","v":0},79.040000000000006,213.12,82.949999999999989,92.58,"",null,"Valor",null,{"$f":"IFERROR(W41*W42,\"\")","v":0},8.4000000000000057,54.179999999999993,29.969999999999995,39.599999999999994,"",null,null,null,"","","","",null,null,null,null,null,{"$f":"IF($N38<>\"Sem Uso\",VLOOKUP(N38,Configurações!$C$1:$I$8,2,0),\"\")","v":0},{"$f":"IF(N38<>\"Sem Uso\",VLOOKUP(N38,Configurações!$C$1:$I$8,3,0),\"\")","v":"1 a 2"},{"$f":"IF(N38<>\"Sem Uso\",VLOOKUP(N38,Configurações!$C$1:$I$8,4,0),\"\")","v":"3 a 4"},{"$f":"IF(N38<>\"Sem Uso\",VLOOKUP(N38,Configurações!$C$1:$I$8,5,0),\"\")","v":"5 a 6"},{"$f":"IF(N38<>\"Sem Uso\",VLOOKUP(N38,Configurações!$C$1:$I$8,6,0),\"\")","v":"7 a 8"},{"$f":"IF(N38<>\"Sem Uso\",VLOOKUP(N38,Configurações!$C$1:$I$8,7,0),\"\")","v":0},null,null,null,null,null,null,null,null,"Adic.Nat.Ad.6",{"$f":"IF($N$38=\"Natação Adulta\",$AB$41,0)","v":0},{"$f":"IF($N$38=\"Natação Adulta\",$AB$42,0)","v":0},0,null,"Adic.Nat.Inf.6",{"$f":"IF(AND($N$38<>\"Natação Adulta\",$N$38<>\"Hidroginástica\"),$AB$41,0)","v":""},{"$f":"IF(AND($N$38<>\"Natação Adulta\",$N$38<>\"Hidroginástica\"),$AB$42,0)","v":""},"",null,"Adic.Hid.6",{"$f":"IF($N$38=\"Hidroginástica\",$AB$41,0)","v":0},{"$f":"IF($N$38=\"Hidroginástica\",$AB$42,0)","v":0},0,null,"","",null,0,null,null,null,13.2,3,null,0,null,null,null,"","",null,0,null,null,null,null,null,null,null,null,null,null,null,null,null,{"$f":"Configurações!AF32","v":"Adic_Nat.Inf_21"},{"$f":"Configurações!AI32","v":12.659520000000004},"",null,null,"",""]
[null,4,null,null,null,null,null,null,null,null,null,null,"Total de Alunos",null,null,null,{"$f":"_xlfn.IFS(N38=$AN$2,$B$102,N38=$AO$2,$C$102,N38=$AP$2,$D$102,N38=$AQ$2,$E$102,N38=$AR$2,$F$102,N38=$AS$2,$G$102,N38=$AT$2,$H$102,N38=\"Sem Uso\",\"\")","v":83},null,null,null,null,"Total de Alunos",null,null,null,{"$f":"Q44","v":83},null,null,null,null,null,"","","","",null,null,null,null,"TABELA DE EQUIVALÊNCIA",null,null,null,null,null,null,null,null,null,null,null,null,null,null,null,null,null,null,null,null,null,null,null,null,null,null,null,null,null,"","",null,0,null,null,null,"","",null,0,null,null,null,"","",null,0,null,null,null,null,null,null,null,null,null,null,null,null,null,{"$f":"Configurações!AF33","v":"Adic_Nat.Inf_22"},{"$f":"Configurações!AI33","v":13.2},3,null,null,"",""]
[null,1,null,null,null,null,null,null,null,null,null,null,"Total de Aulas",null,null,null,{"$f":"IF(Q44<>\"\",SUM(AN42:AS42),\"\")","v":19},"Registro",17.66,null,null,"Total de Aulas",null,null,null,{"$f":"Q45","v":19},null,null,null,null,null,"","","","",null,null,null,null,"Nr. Alunos",{"$f":"AO43","v":0},{"$f":"IF(AP43<>0,AP43,\"\")","v":"1 a 2"},{"$f":"IF(AQ43<>0,AQ43,\"\")","v":"3 a 4"},{"$f":"IF(AR43<>0,AR43,\"\")","v":"5 a 6"},{"$f":"IF(AS43<>0,AS43,\"\")","v":"7 a 8"},{"$f":"IF(AT43<>0,AT43,\"\")","v":""},null,null,null,null,null,null,null,null,"Adic.Nat.Ad.1",{"$f":"IF($N$49=\"Natação Adulta\",$W$52,0)","v":0},{"$f":"IF($N$49=\"Natação Adulta\",$W$53,0)","v":0},{"$f":"IFERROR((BD45*BE45),\"\")","v":0},null,"Adic.Nat.Inf.1",{"$f":"IF(AND($N$49<>\"Natação Adulta\",$N$49<>\"Hidroginástica\"),$W$52,0)","v":0},{"$f":"IF(AND($N$49<>\"Natação Adulta\",$N$49<>\"Hidroginástica\"),$W$53,0)","v":0},{"$f":"IFERROR((BI45*BJ45),\"\")","v":0},null,"Adic.Hid.1",{"$f":"IF($N$49=\"Hidroginástica\",$W$52,0)","v":0},{"$f":"IF($N$49=\"Hidroginástica\",$W$53,0)","v":0},{"$f":"IFERROR((BN45*BO45),\"\")","v":0},null,{"$f":"IF(BD45<>0,BD45,\"\")","v":""},{"$f":"IF(BD45<>0,BE45,\"\")","v":""},null,0,null,null,null,{"$f":"IF(BI45<>0,BI45,\"\")","v":""},{"$f":"IF(BI45<>0,BJ45,\"\")","v":""},null,0,null,null,null,{"$f":"IF(BN45<>0,BN45,\"\")","v":""},{"$f":"IF(BN45<>0,BO45,\"\")","v":""},null,0,null,null,null,null,null,null,null,null,null,null,null,null,null,{"$f":"Configurações!AF34","v":"Adic_Nat.Inf_23"},{"$f":"Configurações!AI34","v":13.219999999999999},"",null,null,"",""]
[null,2,null,null,null,null,null,null,null,null,null,null,"Total a Receber",null,null,null,{"$f":"IF(Q44<>\"\",SUM(N43:S43),\"\")","v":467.69},null,null,null,null,"Total a Receber",null,null,null,{"$f":"IF(Z44<>\"\",SUM(W43:AB43),\"\")","v":132.14999999999998},null,null,null,null,null,"","","","",null,null,null,null,"Aulas",{"$f":"IF(AO45<>\"\",AO40,\"\")","v":0},4,9,3,3,"",null,null,null,null,null,null,null,null,"Adic.Nat.Ad.2",{"$f":"IF($N$49=\"Natação Adulta\",$X$52,0)","v":0},{"$f":"IF($N$49=\"Natação Adulta\",$X$53,0)","v":0},{"$f":"IFERROR((BD46*BE46),\"\")","v":0},null,"Adic.Nat.Inf.2",{"$f":"IF(AND($N$49<>\"Natação Adulta\",$N$49<>\"Hidroginástica\"),$X$52,0)","v":2.1000000000000014},{"$f":"IF(AND($N$49<>\"Natação Adulta\",$N$49<>\"Hidroginástica\"),$X$53,0)","v":1},{"$f":"IFERROR((BI46*BJ46),\"\")","v":2.1000000000000014},null,"Adic.Hid.2",{"$f":"IF($N$49=\"Hidroginástica\",$X$52,0)","v":0},{"$f":"IF($N$49=\"Hidroginástica\",$X$53,0)","v":0},{"$f":"IFERROR((BN46*BO46),\"\")","v":0},null,"","",null,0,null,null,null,2.1000000000000014,1,null,0,null,null,null,"","",null,0,null,null,null,null,null,null,null,null,null,null,null,null,null,{"$f":"Configurações!AF35","v":"Adic_Nat.Inf_24"},{"$f":"Configurações!AI35","v":13.61289},"",null,null,"",""]
[null,2,null,null,null,null,null,null,null,null,null,null,null,null,null,null,null,null,null,null,null,null,null,null,null,null,null,null,null,null,null,"","","","",null,null,null,null,null,{"$f":"IFERROR(VLOOKUP(N38&R38,Configurações!$C$13:$I$47,2,0),\"\")","v":17.66},{"$f":"IFERROR(IF(AP45<>0,VLOOKUP(N38&R38,Configurações!$C$13:$I$47,3,0),\"\"),\"\")","v":19.760000000000002},{"$f":"IFERROR(IF(AQ45<>0,VLOOKUP(N38&R38,Configurações!$C$13:$I$47,4,0),\"\"),\"\")","v":23.68},{"$f":"IFERROR(IF(AR45<>0,VLOOKUP(N38&R38,Configurações!$C$13:$I$47,5,0),\"\"),\"\")","v":27.65},{"$f":"IFERROR(IF(AS45<>0,VLOOKUP(N38&R38,Configurações!$C$13:$I$47,6,0),\"\"),\"\")","v":30.86},{"$f":"IFERROR(IF(AT45<>0,VLOOKUP(N38&R38,Configurações!$C$13:$I$47,7,0),\"\"),\"\")","v":0},null,null,null,null,null,null,null,null,"Adic.Nat.Ad.3",{"$f":"IF($N$49=\"Natação Adulta\",$Y$52,0)","v":0},{"$f":"IF($N$49=\"Natação Adulta\",$Y$53,0)","v":0},0,null,"Adic.Nat.Inf.3",{"$f":"IF(AND($N$49<>\"Natação Adulta\",$N$49<>\"Hidroginástica\"),$Y$52,0)","v":6.02},{"$f":"IF(AND($N$49<>\"Natação Adulta\",$N$49<>\"Hidroginástica\"),$Y$53,0)","v":4},24.08,null,"Adic.Hid.3",{"$f":"IF($N$49=\"Hidroginástica\",$Y$52,0)","v":0},{"$f":"IF($N$49=\"Hidroginástica\",$Y$53,0)","v":0},0,null,"","",null,0,null,null,null,6.02,4,null,0,null,null,null,"","",null,0,null,null,null,null,null,null,null,null,null,null,null,null,null,{"$f":"Configurações!AF36","v":"Adic_Nat.Inf_25"},{"$f":"Configurações!AI36","v":13.91},"",null,null,"",""]
[null,2,null,null,null,null,null,null,null,null,null,null,null,null,null,null,null,null,null,null,null,null,null,null,null,null,null,null,null,null,null,"","","","",null,null,null,null,null,null,null,null,null,null,null,null,null,null,null,null,null,null,null,"Adic.Nat.Ad.4",{"$f":"IF($N$49=\"Natação Adulta\",$Z$52,0)","v":0},{"$f":"IF($N$49=\"Natação Adulta\",$Z$53,0)","v":0},0,null,"Adic.Nat.Inf.4",{"$f":"IF(AND($N$49<>\"Natação Adulta\",$N$49<>\"Hidroginástica\"),$Z$52,0)","v":9.9899999999999984},{"$f":"IF(AND($N$49<>\"Natação Adulta\",$N$49<>\"Hidroginástica\"),$Z$53,0)","v":1},9.9899999999999984,null,"Adic.Hid.4",{"$f":"IF($N$49=\"Hidroginástica\",$Z$52,0)","v":0},{"$f":"IF($N$49=\"Hidroginástica\",$Z$53,0)","v":0},0,null,"","",null,0,null,null,null,9.9899999999999984,1,null,0,null,null,null,"","",null,0,null,null,null,null,null,null,null,null,null,null,null,null,null,{"$f":"Configurações!AF37","v":"Adic_Nat.Inf_26"},{"$f":"Configurações!AI37","v":14.2},"",null,null,"",""]
[null,5,null,null,null,null,null,null,null,null,"Modalidade",null,null,"Aprendizagem B",null,null,"Nível","Prof. Nível C",null,null,null,null,null,null,null,null,null,null,null,null,null,"","","","",null,null,null,null,{"$f":"VLOOKUP(N49,Configurações!$J$1:$V$9,2,0)","v":"0"},{"$f":"VLOOKUP(N49,Configurações!$J$1:$V$9,3,0)","v":"0"},{"$f":"VLOOKUP(N49,Configurações!$J$1:$V$9,4,0)","v":"1 "},{"$f":"VLOOKUP(N49,Configurações!$J$1:$V$9,5,0)","v":" 4"},{"$f":"VLOOKUP(N49,Configurações!$J$1:$V$9,6,0)","v":"5 "},{"$f":"VLOOKUP(N49,Configurações!$J$1:$V$9,7,0)","v":" 8"},{"$f":"VLOOKUP(N49,Configurações!$J$1:$V$9,8,0)","v":"9 "},{"$f":"VLOOKUP(N49,Configurações!$J$1:$V$9,9,0)","v":"12"},{"$f":"VLOOKUP(N49,Configurações!$J$1:$V$9,10,0)","v":"13"},{"$f":"VLOOKUP(N49,Configurações!$J$1:$V$9,11,0)","v":"16"},{"$f":"VLOOKUP(N49,Configurações!$J$1:$V$9,12,0)","v":""},{"$f":"VLOOKUP(N49,Configurações!$J$1:$V$9,13,0)","v":""},null,null,null,"Adic.Nat.Ad.5",{"$f":"IF($N$49=\"Natação Adulta\",$AA$52,0)","v":0},{"$f":"IF($N$49=\"Natação Adulta\",$AA$53,0)","v":0},0,null,"Adic.Nat.Inf.5",{"$f":"IF(AND($N$49<>\"Natação Adulta\",$N$49<>\"Hidroginástica\"),$AA$52,0)","v":13.2},{"$f":"IF(AND($N$49<>\"Natação Adulta\",$N$49<>\"Hidroginástica\"),$AA$53,0)","v":0},0,null,"Adic.Hid.5",{"$f":"IF($N$49=\"Hidroginástica\",$AA$52,0)","v":0},{"$f":"IF($N$49=\"Hidroginástica\",$AA$53,0)","v":0},0,null,"","",null,0,null,null,null,13.2,0,null,0,null,null,null,"","",null,0,null,null,null,null,null,null,null,null,null,null,null,null,null,{"$f":"Configurações!AF38","v":"Adic_Nat.Inf_27"},{"$f":"Configurações!AI38","v":14.639999999999997},"",null,null,"",""]
[null,5,null,null,null,null,null,null,null,null,"Academia",null,null,null,null,null,null,null,null,null,"Contabilidade",null,null,null,null,null,null,null,null,null,null,"","","","",null,null,null,null,{"$f":"IFERROR(VLOOKUP(N49,_xlfn.ANCHORARRAY($AZ$2),2,0),0)","v":41},null,null,null,null,null,null,null,null,null,null,null,null,null,null,"Adic.Nat.Ad.6",{"$f":"IF(N$49=\"Natação Adulta\",AB$52,0)","v":0},{"$f":"IF($N$49=\"Natação Adulta\",$AB$53,0)","v":0},0,null,"Adic.Nat.Inf.6",{"$f":"IF(AND($N$49<>\"Natação Adulta\",$N$49<>\"Hidroginástica\"),$AB$52,0)","v":""},{"$f":"IF(AND($N$49<>\"Natação Adulta\",$N$49<>\"Hidroginástica\"),$AB$53,0)","v":""},"",null,"Adic.Hid.6",{"$f":"IF($N$49=\"Hidroginástica\",$AB$52,0)","v":0},{"$f":"IF($N$49=\"Hidroginástica\",$AB$53,0)","v":0},0,null,"","",null,0,null,null,null,"","",null,0,null,null,null,"","",null,0,null,null,null,null,null,null,null,null,null,null,null,null,null,{"$f":"Configurações!AF39","v":"Adic_Nat.Inf_28"},{"$f":"Configurações!AI39","v":14.966439999999995},"",null,null,"",""]
[null,1,null,null,null,null,null,null,null,null,"Nr. de Alunos",null,null,{"$f":"IF(AO56<>\"\",AO56,\"\")","v":0},{"$f":"IF(AP56<>\"\",AP56,\"\")","v":"1 a 4"},{"$f":"IF(AQ56<>\"\",AQ56,\"\")","v":"5 a 8"},{"$f":"IF(AR56<>\"\",AR56,\"\")","v":"9 a 12"},{"$f":"IF(AS56<>\"\",AS56,\"\")","v":"13 a 16"},{"$f":"IF(AT56<>0,AT56,\"\")","v":""},null,"Nr. de Alunos",null,{"$f":"N51","v":0},{"$f":"O51","v":"1 a 4"},"5 a 8","9 a 12","13 a 16","",null,null,null,"","","","",null,null,null,null,null,{"$f":"IF($N$49=$AN$2,COUNTIF($B$4:$B$100,\">=\"&AN49)-COUNTIF($B$4:$B$100,\">\"&AO49),\nIF($N$49=$AO$2,COUNTIF($C$4:$C$100,\">=\"&AN49)-COUNTIF($C$4:$C$100,\">\"&AO49),\nIF($N$49=$AP$2,COUNTIF($D$4:$D$100,\">=\"&AN49)-COUNTIF($D$4:$D$100,\">\"&AO49),\nIF($N$49=$AQ$2,COUNTIF($E$4:$E$100,\">=\"&AN49)-COUNTIF($E$4:$E$100,\">\"&AO49),\nIF($N$49=$AR$2,COUNTIF($F$4:$F$100,\">=\"&AN49)-COUNTIF($F$4:$F$100,\">\"&AO49),\nIF($N$49=$AS$2,COUNTIF($G$4:$G$100,\">=\"&AN49)-COUNTIF($G$4:$G$100,\">\"&AO49),\nIF($N$49=$AT$2,COUNTIF($H$4:$H$100,\">=\"&AN49)-COUNTIF($H$4:$H$100,\">\"&AO49),\nIF($N$49=\"Sem Uso\",\"\"))))))))","v":0},{"$f":"IF($N$49=$AN$2,COUNTIF($B$4:$B$100,\">=\"&AP49)-COUNTIF($B$4:$B$100,\">\"&AQ49),\nIF($N$49=$AO$2,COUNTIF($C$4:$C$100,\">=\"&AP49)-COUNTIF($C$4:$C$100,\">\"&AQ49),\nIF($N$49=$AP$2,COUNTIF($D$4:$D$100,\">=\"&AP49)-COUNTIF($D$4:$D$100,\">\"&AQ49),\nIF($N$49=$AQ$2,COUNTIF($E$4:$E$100,\">=\"&AP49)-COUNTIF($E$4:$E$100,\">\"&AQ49),\nIF($N$49=$AR$2,COUNTIF($F$4:$F$100,\">=\"&AP49)-COUNTIF($F$4:$F$100,\">\"&AQ49),\nIF($N$49=$AS$2,COUNTIF($G$4:$G$100,\">=\"&AP49)-COUNTIF($G$4:$G$100,\">\"&AQ49),\nIF($N$49=$AT$2,COUNTIF($H$4:$H$100,\">=\"&AP49)-COUNTIF($H$4:$H$100,\">\"&AQ49),\nIF($N$49=\"Sem Uso\",\"\"))))))))","v":1},{"$f":"IF($N$49=$AN$2,COUNTIF($B$4:$B$100,\">=\"&AR49)-COUNTIF($B$4:$B$100,\">\"&AS49),\nIF($N$49=$AO$2,COUNTIF($C$4:$C$100,\">=\"&AR49)-COUNTIF($C$4:$C$100,\">\"&AS49),\nIF($N$49=$AP$2,COUNTIF($D$4:$D$100,\">=\"&AR49)-COUNTIF($D$4:$D$100,\">\"&AS49),\nIF($N$49=$AQ$2,COUNTIF($E$4:$E$100,\">=\"&AR49)-COUNTIF($E$4:$E$100,\">\"&AS49),\nIF($N$49=$AR$2,COUNTIF($F$4:$F$100,\">=\"&AR49)-COUNTIF($F$4:$F$100,\">\"&AS49),\nIF($N$49=$AS$2,COUNTIF($G$4:$G$100,\">=\"&AR49)-COUNTIF($G$4:$G$100,\">\"&AS49),\nIF($N$49=$AT$2,COUNTIF($H$4:$H$100,\">=\"&AR49)-COUNTIF($H$4:$H$100,\">\"&AS49),\nIF($N$49=\"Sem Uso\",\"\"))))))))","v":4},{"$f":"IF($N$49=$AN$2,COUNTIF($B$4:$B$100,\">=\"&AT49)-COUNTIF($B$4:$B$100,\">\"&AU49),\nIF($N$49=$AO$2,COUNTIF($C$4:$C$100,\">=\"&AT49)-COUNTIF($C$4:$C$100,\">\"&AU49),\nIF($N$49=$AP$2,COUNTIF($D$4:$D$100,\">=\"&AT49)-COUNTIF($D$4:$D$100,\">\"&AU49),\nIF($N$49=$AQ$2,COUNTIF($E$4:$E$100,\">=\"&AT49)-COUNTIF($E$4:$E$100,\">\"&AU49),\nIF($N$49=$AR$2,COUNTIF($F$4:$F$100,\">=\"&AT49)-COUNTIF($F$4:$F$100,\">\"&AU49),\nIF($N$49=$AS$2,COUNTIF($G$4:$G$100,\">=\"&AT49)-COUNTIF($G$4:$G$100,\">\"&AU49),\nIF($N$49=$AT$2,COUNTIF($H$4:$H$100,\">=\"&AT49)-COUNTIF($H$4:$H$100,\">\"&AU49),\nIF($N$49=\"Sem Uso\",\"\"))))))))","v":1},{"$f":"IF($N$49=$AN$2,COUNTIF($B$4:$B$100,\">=\"&AV49)-COUNTIF($B$4:$B$100,\">\"&AW49),\nIF($N$49=$AO$2,COUNTIF($C$4:$C$100,\">=\"&AV49)-COUNTIF($C$4:$C$100,\">\"&AW49),\nIF($N$49=$AP$2,COUNTIF($D$4:$D$100,\">=\"&AV49)-COUNTIF($D$4:$D$100,\">\"&AW49),\nIF($N$49=$AQ$2,COUNTIF($E$4:$E$100,\">=\"&AV49)-COUNTIF($E$4:$E$100,\">\"&AW49),\nIF($N$49=$AR$2,COUNTIF($F$4:$F$100,\">=\"&AV49)-COUNTIF($F$4:$F$100,\">\"&AW49),\nIF($N$49=$AS$2,COUNTIF($G$4:$G$100,\">=\"&AV49)-COUNTIF($G$4:$G$100,\">\"&AW49),\nIF($N$49=$AT$2,COUNTIF($H$4:$H$100,\">=\"&AV49)-COUNTIF($H$4:$H$100,\">\"&AW49),\nIF($N$49=\"Sem Uso\",\"\"))))))))","v":0},{"$f":"IF($N$49=$AN$2,COUNTIF($B$4:$B$100,\">=\"&AX49)-COUNTIF($B$4:$B$100,\">\"&AY49),\nIF($N$49=$AO$2,COUNTIF($C$4:$C$100,\">=\"&AX49)-COUNTIF($C$4:$C$100,\">\"&AY49),\nIF($N$49=$AP$2,COUNTIF($D$4:$D$100,\">=\"&AX49)-COUNTIF($D$4:$D$100,\">\"&AY49),\nIF($N$49=$AQ$2,COUNTIF($E$4:$E$100,\">=\"&AX49)-COUNTIF($E$4:$E$100,\">\"&AY49),\nIF($N$49=$AR$2,COUNTIF($F$4:$F$100,\">=\"&AX49)-COUNTIF($F$4:$F$100,\">\"&AY49),\nIF($N$49=$AS$2,COUNTIF($G$4:$G$100,\">=\"&AX49)-COUNTIF($G$4:$G$100,\">\"&AY49),\nIF($N$49=$AT$2,COUNTIF($H$4:$H$100,\">=\"&AX49)-COUNTIF($H$4:$H$100,\">\"&AY49),\nIF($N$49=\"Sem Uso\",\"\"))))))))","v":0},null,null,null,null,null,null,null,null,null,null,null,null,null,null,null,null,null,null,null,null,null,null,null,{"$f":"IF(BD52<>0,BD52,\"\")","v":""},{"$f":"IF(BD52<>0,BE52,\"\")","v":""},null,0,null,null,null,{"$f":"IF(BI52<>0,BI52,\"\")","v":""},{"$f":"IF(BI52<>0,BJ52,\"\")","v":""},null,0,null,null,null,{"$f":"IF(BN52<>0,BN52,\"\")","v":""},{"$f":"IF(BN52<>0,BO52,\"\")","v":""},null,0,null,null,null,null,null,null,null,null,null,null,null,null,null,{"$f":"Configurações!AF40","v":"Adic_Nat.Inf_29"},{"$f":"Configurações!AI40","v":14.98},"",null,null,"",""]
[null,0,null,null,null,null,null,null,null,null,"Valor da Aula",null,null,{"$f":"IF(AO58<>0,AO58,\"\")","v":17.66},19.760000000000002,23.68,27.65,30.86,"",null,"Valor da Aula",null,{"$f":"IFERROR(IF(N52<=$S$56,0,N52-$S$56),\"\")","v":0},2.1000000000000014,6.02,9.9899999999999984,13.2,"",null,null,null,"","","","",null,null,null,null,null,null,null,null,null,null,null,null,null,null,null,null,null,null,null,"Adic.Nat.Ad.1",{"$f":"IF($N$60=\"Natação Adulta\",$W$63,0)","v":0},{"$f":"IF($N$60=\"Natação Adulta\",$W$64,0)","v":0},{"$f":"IFERROR((BD52*BE52),\"\")","v":0},null,"Adic.Nat.Inf.1",{"$f":"IF(AND($N$60<>\"Natação Adulta\",$N$60<>\"Hidroginástica\"),$W$63,0)","v":0},{"$f":"IF(AND($N$60<>\"Natação Adulta\",$N$60<>\"Hidroginástica\"),$W$64,0)","v":0},{"$f":"IFERROR((BI52*BJ52),\"\")","v":0},null,"Adic.Hid.1",{"$f":"IF($N$60=\"Hidroginástica\",$W$63,0)","v":0},{"$f":"IF($N$60=\"Hidroginástica\",$W$64,0)","v":0},{"$f":"IFERROR((BN52*BO52),\"\")","v":0},null,"","",null,0,null,null,null,3.129999999999999,10,null,0,null,null,null,"","",null,0,null,null,null,null,null,null,null,null,null,null,null,null,null,{"$f":"Configurações!AF41","v":"Adic_Nat.Inf_30"},{"$f":"Configurações!AI41","v":16.331759999999999},"",null,null,"",""]
[null,4,null,null,null,null,null,null,null,null,"Nr. de Aulas",null,null,{"$f":"IF(AO56<>\"\",AO57,\"\")","v":0},1,4,1,0,"",null,"Nr. de Aulas",null,{"$f":"N53","v":0},1,4,1,0,"",null,null,null,"","","","",null,null,null,null,{"$f":"IF(N53<>\"\",N53,\"\")","v":0},1,4,1,0,"",null,null,null,null,null,null,null,null,null,"Adic.Nat.Ad.2",{"$f":"IF($N$60=\"Natação Adulta\",$X$63,0)","v":0},{"$f":"IF($N$60=\"Natação Adulta\",$X$64,0)","v":0},{"$f":"IFERROR((BD53*BE53),\"\")","v":0},null,"Adic.Nat.Inf.2",{"$f":"IF(AND($N$60<>\"Natação Adulta\",$N$60<>\"Hidroginástica\"),$X$63,0)","v":3.129999999999999},{"$f":"IF(AND($N$60<>\"Natação Adulta\",$N$60<>\"Hidroginástica\"),$X$64,0)","v":10},{"$f":"IFERROR((BI53*BJ53),\"\")","v":31.29999999999999},null,"Adic.Hid.2",{"$f":"IF($N$60=\"Hidroginástica\",$X$63,0)","v":0},{"$f":"IF($N$60=\"Hidroginástica\",$X$64,0)","v":0},{"$f":"IFERROR((BN53*BO53),\"\")","v":0},null,"","",null,0,null,null,null,7.2800000000000011,6,null,0,null,null,null,"","",null,0,null,null,null,null,null,null,null,null,null,null,null,null,null,{"$f":"Configurações!AF42","v":"Adic_Nat.Inf_31"},{"$f":"Configurações!AI42","v":16.430000000000003},"",null,null,"",""]
[null,7,null,null,null,null,null,null,null,null,"Valor",null,null,{"$f":"IFERROR(N52*N53,\"\")","v":0},19.760000000000002,94.72,27.65,0,"",null,"Valor",null,{"$f":"IFERROR(W52*W53,\"\")","v":0},2.1000000000000014,24.08,9.9899999999999984,0,"",null,null,null,"","","","",null,null,null,null,null,{"$f":"IF($N49<>\"Sem Uso\",VLOOKUP(N49,Configurações!$C$1:$I$8,2,0),\"\")","v":0},{"$f":"IF(N49<>\"Sem Uso\",VLOOKUP(N49,Configurações!$C$1:$I$8,3,0),\"\")","v":"1 a 4"},{"$f":"IF(N49<>\"Sem Uso\",VLOOKUP(N49,Configurações!$C$1:$I$8,4,0),\"\")","v":"5 a 8"},{"$f":"IF(N49<>\"Sem Uso\",VLOOKUP(N49,Configurações!$C$1:$I$8,5,0),\"\")","v":"9 a 12"},{"$f":"IF(N49<>\"Sem Uso\",VLOOKUP(N49,Configurações!$C$1:$I$8,6,0),\"\")","v":"13 a 16"},{"$f":"IF(N49<>\"Sem Uso\",VLOOKUP(N49,Configurações!$C$1:$I$8,7,0),\"\")","v":0},null,null,null,null,null,null,null,null,"Adic.Nat.Ad.3",{"$f":"IF($N$60=\"Natação Adulta\",$Y$63,0)","v":0},{"$f":"IF($N$60=\"Natação Adulta\",$Y$64,0)","v":0},0,null,"Adic.Nat.Inf.3",{"$f":"IF(AND($N$60<>\"Natação Adulta\",$N$60<>\"Hidroginástica\"),$Y$63,0)","v":7.2800000000000011},{"$f":"IF(AND($N$60<>\"Natação Adulta\",$N$60<>\"Hidroginástica\"),$Y$64,0)","v":6},43.680000000000007,null,"Adic.Hid.3",{"$f":"IF($N$60=\"Hidroginástica\",$Y$63,0)","v":0},{"$f":"IF($N$60=\"Hidroginástica\",$Y$64,0)","v":0},0,null,"","",null,0,null,null,null,11.43,0,null,0,null,null,null,"","",null,0,null,null,null,null,null,null,null,null,null,null,null,null,null,{"$f":"Configurações!AF43","v":"Adic_Nat.Inf_32"},{"$f":"Configurações!AI43","v":16.650000000000002},"",null,null,"",""]
[null,5,null,null,null,null,null,null,null,null,null,null,"Total de Alunos",null,null,null,{"$f":"_xlfn.IFS(N49=$AN$2,$B$102,N49=$AO$2,$C$102,N49=$AP$2,$D$102,N49=$AQ$2,$E$102,N49=$AR$2,$F$102,N49=$AS$2,$G$102,N49=$AT$2,$H$102,N49=\"Sem Uso\",\"\")","v":41},null,null,null,null,"Total de Alunos",null,null,null,{"$f":"Q55","v":41},null,null,null,null,null,"","","","",null,null,null,null,"TABELA DE EQUIVALÊNCIA",null,null,null,null,null,null,null,null,null,null,null,null,null,null,"Adic.Nat.Ad.4",{"$f":"IF($N$60=\"Natação Adulta\",$Z$63,0)","v":0},{"$f":"IF($N$60=\"Natação Adulta\",$Z$64,0)","v":0},0,null,"Adic.Nat.Inf.4",{"$f":"IF(AND($N$60<>\"Natação Adulta\",$N$60<>\"Hidroginástica\"),$Z$63,0)","v":11.43},{"$f":"IF(AND($N$60<>\"Natação Adulta\",$N$60<>\"Hidroginástica\"),$Z$64,0)","v":0},0,null,"Adic.Hid.4",{"$f":"IF($N$60=\"Hidroginástica\",$Z$63,0)","v":0},{"$f":"IF($N$60=\"Hidroginástica\",$Z$64,0)","v":0},0,null,"","",null,0,null,null,null,14.639999999999997,0,null,0,null,null,null,"","",null,0,null,null,null,null,null,null,null,null,null,null,null,null,null,{"$f":"Configurações!AF44","v":"Adic_Nat.Inf_33"},{"$f":"Configurações!AI44","v":17.685309999999998},"",null,null,"",""]
[null,1,null,null,null,null,null,null,null,null,null,null,"Total de Aulas",null,null,null,{"$f":"IF(Q55<>\"\",SUM(AN53:AS53),\"\")","v":6},"Registro",17.66,null,null,"Total de Aulas",null,null,null,{"$f":"Q56","v":6},null,null,null,null,null,"","","","",null,null,null,null,"Nr. Alunos",{"$f":"AO54","v":0},{"$f":"IF(AP54<>0,AP54,\"\")","v":"1 a 4"},{"$f":"IF(AQ54<>0,AQ54,\"\")","v":"5 a 8"},{"$f":"IF(AR54<>0,AR54,\"\")","v":"9 a 12"},{"$f":"IF(AS54<>0,AS54,\"\")","v":"13 a 16"},{"$f":"IF(AT54<>0,AT54,\"\")","v":""},null,null,null,null,null,null,null,null,"Adic.Nat.Ad.5",{"$f":"IF($N$60=\"Natação Adulta\",$AA$63,0)","v":0},{"$f":"IF($N$60=\"Natação Adulta\",$AA$64,0)","v":0},0,null,"Adic.Nat.Inf.5",{"$f":"IF(AND($N$60<>\"Natação Adulta\",$N$60<>\"Hidroginástica\"),$AA$63,0)","v":14.639999999999997},{"$f":"IF(AND($N$60<>\"Natação Adulta\",$N$60<>\"Hidroginástica\"),$AA$64,0)","v":0},0,null,"Adic.Hid.5",{"$f":"IF($N$60=\"Hidroginástica\",$AA$63,0)","v":0},{"$f":"IF($N$60=\"Hidroginástica\",$AA$64,0)","v":0},0,null,"","",null,0,null,null,null,"","",null,0,null,null,null,"","",null,0,null,null,null,null,null,null,null,null,null,null,null,null,null,{"$f":"Configurações!AF45","v":"Adic_Nat.Inf_34"},{"$f":"Configurações!AI45","v":17.72062},"",null,null,"",""]
[null,2,null,null,null,null,null,null,null,null,null,null,"Total a Receber",null,null,null,{"$f":"IF(Q55<>\"\",SUM(N54:S54),\"\")","v":142.13},null,null,null,null,"Total a Receber",null,null,null,{"$f":"IF(Z55<>\"\",SUM(W54:AB54),\"\")","v":36.17},null,null,null,null,null,"","","","",null,null,null,null,"Aulas",{"$f":"IF(AO56<>\"\",AO51,\"\")","v":0},1,4,1,0,"",null,null,null,null,null,null,null,null,"Adic.Nat.Ad.6",{"$f":"IF($N$60=\"Natação Adulta\",$AB$63,0)","v":0},{"$f":"IF($N$60=\"Natação Adulta\",$AB$64,0)","v":0},0,null,"Adic.Nat.Inf.6",{"$f":"IF(AND($N$60<>\"Natação Adulta\",$N$60<>\"Hidroginástica\"),$AB$63,0)","v":""},{"$f":"IF(AND($N$60<>\"Natação Adulta\",$N$60<>\"Hidroginástica\"),$AB$64,0)","v":""},"",null,"Adic.Hid.6",{"$f":"IF($N$60=\"Hidroginástica\",$AB$63,0)","v":0},{"$f":"IF($N$60=\"Hidroginástica\",$AB$64,0)","v":0},0,null,{"$f":"IF(BD59<>0,BD59,\"\")","v":""},{"$f":"IF(BD59<>0,BE59,\"\")","v":""},null,0,null,null,null,{"$f":"IF(BI59<>0,BI59,\"\")","v":""},{"$f":"IF(BI59<>0,BJ59,\"\")","v":""},null,0,null,null,null,{"$f":"IF(BN59<>0,BN59,\"\")","v":""},{"$f":"IF(BN59<>0,BO59,\"\")","v":""},null,0,null,null,null,null,null,null,null,null,null,null,null,null,null,{"$f":"Configurações!AF46","v":"Adic_Nat.Inf_35"},{"$f":"Configurações!AI46","v":19.050630000000002},"",null,null,"",""]
[null,3,null,null,null,null,null,null,null,null,null,null,null,null,null,null,null,null,null,null,null,null,null,null,null,null,null,null,null,null,null,"","","","",null,null,null,null,null,{"$f":"IFERROR(VLOOKUP(N49&R49,Configurações!$C$13:$I$47,2,0),\"\")","v":17.66},{"$f":"IFERROR(IF(AP56<>0,VLOOKUP(N49&R49,Configurações!$C$13:$I$47,3,0),\"\"),\"\")","v":19.760000000000002},{"$f":"IFERROR(IF(AQ56<>0,VLOOKUP(N49&R49,Configurações!$C$13:$I$47,4,0),\"\"),\"\")","v":23.68},{"$f":"IFERROR(IF(AR56<>0,VLOOKUP(N49&R49,Configurações!$C$13:$I$47,5,0),\"\"),\"\")","v":27.65},{"$f":"IFERROR(IF(AS56<>0,VLOOKUP(N49&R49,Configurações!$C$13:$I$47,6,0),\"\"),\"\")","v":30.86},{"$f":"IFERROR(IF(AT56<>0,VLOOKUP(N49&R49,Configurações!$C$13:$I$47,7,0),\"\"),\"\")","v":0},null,null,null,null,null,null,null,null,null,null,null,null,null,null,null,null,null,null,null,null,null,null,null,"","",null,0,null,null,null,"","",null,0,null,null,null,6.02,1,null,0,null,null,null,null,null,null,null,null,null,null,null,null,null,{"$f":"Configurações!AF47","v":"Adic_Nat.Inf_36"},{"$f":"Configurações!AI47","v":20.404180000000007},"",null,null,"",""]
[null,2,null,null,null,null,null,null,null,null,null,null,null,null,null,null,null,null,null,null,null,null,null,null,null,null,null,null,null,null,null,"","","","",null,null,null,null,null,null,null,null,null,null,null,null,null,null,null,null,null,null,null,"Adic.Nat.Ad.1",{"$f":"IF($N$71=\"Natação Adulta\",$W$74,0)","v":0},{"$f":"IF($N$71=\"Natação Adulta\",$W$75,0)","v":0},{"$f":"IFERROR((BD59*BE59),\"\")","v":0},null,"Adic.Nat.Inf.1",{"$f":"IF(AND($N$71<>\"Natação Adulta\",$N$71<>\"Hidroginástica\"),$W$74,0)","v":0},{"$f":"IF(AND($N$71<>\"Natação Adulta\",$N$71<>\"Hidroginástica\"),$W$75,0)","v":0},{"$f":"IFERROR((BI59*BJ59),\"\")","v":0},null,"Adic.Hid.1",{"$f":"IF($N$71=\"Hidroginástica\",$W$74,0)","v":0},{"$f":"IF($N$71=\"Hidroginástica\",$W$75,0)","v":0},{"$f":"IFERROR((BN59*BO59),\"\")","v":0},null,"","",null,0,null,null,null,"","",null,0,null,null,null,9.9899999999999984,16,null,0,null,null,null,null,null,null,null,null,null,null,null,null,null,{"$f":"Configurações!AF48","v":"Adic_Nat.Inf_37"},{"$f":"Configurações!AI48","v":21.769500000000004},"",null,null,"",""]
[null,3,null,null,null,null,null,null,null,null,"Modalidade",null,null,"Iniciação",null,null,"Nível","Prof. Nível C",null,null,null,null,null,null,null,null,null,null,null,null,null,"","","","",null,null,null,null,{"$f":"VLOOKUP(N60,Configurações!$J$1:$V$9,2,0)","v":"0"},{"$f":"VLOOKUP(N60,Configurações!$J$1:$V$9,3,0)","v":"0"},{"$f":"VLOOKUP(N60,Configurações!$J$1:$V$9,4,0)","v":"1 "},{"$f":"VLOOKUP(N60,Configurações!$J$1:$V$9,5,0)","v":" 3"},{"$f":"VLOOKUP(N60,Configurações!$J$1:$V$9,6,0)","v":"4 "},{"$f":"VLOOKUP(N60,Configurações!$J$1:$V$9,7,0)","v":" 6"},{"$f":"VLOOKUP(N60,Configurações!$J$1:$V$9,8,0)","v":"7 "},{"$f":"VLOOKUP(N60,Configurações!$J$1:$V$9,9,0)","v":" 8"},{"$f":"VLOOKUP(N60,Configurações!$J$1:$V$9,10,0)","v":"9 "},{"$f":"VLOOKUP(N60,Configurações!$J$1:$V$9,11,0)","v":"10"},{"$f":"VLOOKUP(N60,Configurações!$J$1:$V$9,12,0)","v":""},{"$f":"VLOOKUP(N60,Configurações!$J$1:$V$9,13,0)","v":""},null,null,null,"Adic.Nat.Ad.2",{"$f":"IF($N$71=\"Natação Adulta\",$X$74,0)","v":0},{"$f":"IF($N$71=\"Natação Adulta\",$X$75,0)","v":0},{"$f":"IFERROR((BD60*BE60),\"\")","v":0},null,"Adic.Nat.Inf.2",{"$f":"IF(AND($N$71<>\"Natação Adulta\",$N$71<>\"Hidroginástica\"),$X$74,0)","v":0},{"$f":"IF(AND($N$71<>\"Natação Adulta\",$N$71<>\"Hidroginástica\"),$X$75,0)","v":0},{"$f":"IFERROR((BI60*BJ60),\"\")","v":0},null,"Adic.Hid.2",{"$f":"IF($N$71=\"Hidroginástica\",$X$74,0)","v":6.02},{"$f":"IF($N$71=\"Hidroginástica\",$X$75,0)","v":1},{"$f":"IFERROR((BN60*BO60),\"\")","v":6.02},null,"","",null,0,null,null,null,"","",null,0,null,null,null,15.760000000000002,4,null,0,null,null,null,null,null,null,null,null,null,null,null,null,null,{"$f":"Configurações!AF49","v":"Adic_Nat.Inf_38"},{"$f":"Configurações!AI49","v":21.930000000000003},"",null,null,"",""]
[null,1,null,null,null,null,null,null,null,null,"Academia",null,null,null,null,null,null,null,null,null,"Contabilidade",null,null,null,null,null,null,null,null,null,null,"","","","",null,null,null,null,{"$f":"IFERROR(VLOOKUP(N60,_xlfn.ANCHORARRAY($AZ$2),2,0),0)","v":51},null,null,null,null,null,null,null,null,null,null,null,null,null,null,"Adic.Nat.Ad.3",{"$f":"IF($N$71=\"Natação Adulta\",$Y$74,0)","v":0},{"$f":"IF($N$71=\"Natação Adulta\",$Y$75,0)","v":0},0,null,"Adic.Nat.Inf.3",{"$f":"IF(AND($N$71<>\"Natação Adulta\",$N$71<>\"Hidroginástica\"),$Y$74,0)","v":0},{"$f":"IF(AND($N$71<>\"Natação Adulta\",$N$71<>\"Hidroginástica\"),$Y$75,0)","v":0},0,null,"Adic.Hid.3",{"$f":"IF($N$71=\"Hidroginástica\",$Y$74,0)","v":9.9899999999999984},{"$f":"IF($N$71=\"Hidroginástica\",$Y$75,0)","v":16},159.83999999999997,null,"","",null,0,null,null,null,"","",null,0,null,null,null,21.150000000000002,0,null,0,null,null,null,null,null,null,null,null,null,null,null,null,null,{"$f":"Configurações!AF50","v":"Adic_Nat.Inf_39"},{"$f":"Configurações!AI50","v":23.123049999999996},"",null,null,"",""]
[null,1,null,null,null,null,null,null,null,null,"Nr. de Alunos",null,null,{"$f":"IF(AO67<>\"\",AO67,\"\")","v":0},{"$f":"IF(AP67<>\"\",AP67,\"\")","v":"1 a 3"},{"$f":"IF(AQ67<>\"\",AQ67,\"\")","v":"4 a 6"},{"$f":"IF(AR67<>\"\",AR67,\"\")","v":"7 a 8"},{"$f":"IF(AS67<>\"\",AS67,\"\")","v":"9 a 10"},{"$f":"IF(AT67<>0,AT67,\"\")","v":""},null,"Nr. de Alunos",null,{"$f":"N62","v":0},{"$f":"O62","v":"1 a 3"},"4 a 6","7 a 8","9 a 10","",null,null,null,"","","","",null,null,null,null,null,{"$f":"IF($N$60=$AN$2,COUNTIF($B$4:$B$100,\">=\"&AN60)-COUNTIF($B$4:$B$100,\">\"&AO60),\nIF($N$60=$AO$2,COUNTIF($C$4:$C$100,\">=\"&AN60)-COUNTIF($C$4:$C$100,\">\"&AO60),\nIF($N$60=$AP$2,COUNTIF($D$4:$D$100,\">=\"&AN60)-COUNTIF($D$4:$D$100,\">\"&AO60),\nIF($N$60=$AQ$2,COUNTIF($E$4:$E$100,\">=\"&AN60)-COUNTIF($E$4:$E$100,\">\"&AO60),\nIF($N$60=$AR$2,COUNTIF($F$4:$F$100,\">=\"&AN60)-COUNTIF($F$4:$F$100,\">\"&AO60),\nIF($N$60=$AS$2,COUNTIF($G$4:$G$100,\">=\"&AN60)-COUNTIF($G$4:$G$100,\">\"&AO60),\nIF($N$60=$AT$2,COUNTIF($H$4:$H$100,\">=\"&AN60)-COUNTIF($H$4:$H$100,\">\"&AO60),\nIF($N$60=\"Sem Uso\",\"\"))))))))","v":0},{"$f":"IF($N$60=$AN$2,COUNTIF($B$4:$B$100,\">=\"&AP60)-COUNTIF($B$4:$B$100,\">\"&AQ60),\nIF($N$60=$AO$2,COUNTIF($C$4:$C$100,\">=\"&AP60)-COUNTIF($C$4:$C$100,\">\"&AQ60),\nIF($N$60=$AP$2,COUNTIF($D$4:$D$100,\">=\"&AP60)-COUNTIF($D$4:$D$100,\">\"&AQ60),\nIF($N$60=$AQ$2,COUNTIF($E$4:$E$100,\">=\"&AP60)-COUNTIF($E$4:$E$100,\">\"&AQ60),\nIF($N$60=$AR$2,COUNTIF($F$4:$F$100,\">=\"&AP60)-COUNTIF($F$4:$F$100,\">\"&AQ60),\nIF($N$60=$AS$2,COUNTIF($G$4:$G$100,\">=\"&AP60)-COUNTIF($G$4:$G$100,\">\"&AQ60),\nIF($N$60=$AT$2,COUNTIF($H$4:$H$100,\">=\"&AP60)-COUNTIF($H$4:$H$100,\">\"&AQ60),\nIF($N$60=\"Sem Uso\",\"\"))))))))","v":10},{"$f":"IF($N$60=$AN$2,COUNTIF($B$4:$B$100,\">=\"&AR60)-COUNTIF($B$4:$B$100,\">\"&AS60),\nIF($N$60=$AO$2,COUNTIF($C$4:$C$100,\">=\"&AR60)-COUNTIF($C$4:$C$100,\">\"&AS60),\nIF($N$60=$AP$2,COUNTIF($D$4:$D$100,\">=\"&AR60)-COUNTIF($D$4:$D$100,\">\"&AS60),\nIF($N$60=$AQ$2,COUNTIF($E$4:$E$100,\">=\"&AR60)-COUNTIF($E$4:$E$100,\">\"&AS60),\nIF($N$60=$AR$2,COUNTIF($F$4:$F$100,\">=\"&AR60)-COUNTIF($F$4:$F$100,\">\"&AS60),\nIF($N$60=$AS$2,COUNTIF($G$4:$G$100,\">=\"&AR60)-COUNTIF($G$4:$G$100,\">\"&AS60),\nIF($N$60=$AT$2,COUNTIF($H$4:$H$100,\">=\"&AR60)-COUNTIF($H$4:$H$100,\">\"&AS60),\nIF($N$60=\"Sem Uso\",\"\"))))))))","v":6},{"$f":"IF($N$60=$AN$2,COUNTIF($B$4:$B$100,\">=\"&AT60)-COUNTIF($B$4:$B$100,\">\"&AU60),\nIF($N$60=$AO$2,COUNTIF($C$4:$C$100,\">=\"&AT60)-COUNTIF($C$4:$C$100,\">\"&AU60),\nIF($N$60=$AP$2,COUNTIF($D$4:$D$100,\">=\"&AT60)-COUNTIF($D$4:$D$100,\">\"&AU60),\nIF($N$60=$AQ$2,COUNTIF($E$4:$E$100,\">=\"&AT60)-COUNTIF($E$4:$E$100,\">\"&AU60),\nIF($N$60=$AR$2,COUNTIF($F$4:$F$100,\">=\"&AT60)-COUNTIF($F$4:$F$100,\">\"&AU60),\nIF($N$60=$AS$2,COUNTIF($G$4:$G$100,\">=\"&AT60)-COUNTIF($G$4:$G$100,\">\"&AU60),\nIF($N$60=$AT$2,COUNTIF($H$4:$H$100,\">=\"&AT60)-COUNTIF($H$4:$H$100,\">\"&AU60),\nIF($N$60=\"Sem Uso\",\"\"))))))))","v":0},{"$f":"IF($N$60=$AN$2,COUNTIF($B$4:$B$100,\">=\"&AV60)-COUNTIF($B$4:$B$100,\">\"&AW60),\nIF($N$60=$AO$2,COUNTIF($C$4:$C$100,\">=\"&AV60)-COUNTIF($C$4:$C$100,\">\"&AW60),\nIF($N$60=$AP$2,COUNTIF($D$4:$D$100,\">=\"&AV60)-COUNTIF($D$4:$D$100,\">\"&AW60),\nIF($N$60=$AQ$2,COUNTIF($E$4:$E$100,\">=\"&AV60)-COUNTIF($E$4:$E$100,\">\"&AW60),\nIF($N$60=$AR$2,COUNTIF($F$4:$F$100,\">=\"&AV60)-COUNTIF($F$4:$F$100,\">\"&AW60),\nIF($N$60=$AS$2,COUNTIF($G$4:$G$100,\">=\"&AV60)-COUNTIF($G$4:$G$100,\">\"&AW60),\nIF($N$60=$AT$2,COUNTIF($H$4:$H$100,\">=\"&AV60)-COUNTIF($H$4:$H$100,\">\"&AW60),\nIF($N$60=\"Sem Uso\",\"\"))))))))","v":0},{"$f":"IF($N$60=$AN$2,COUNTIF($B$4:$B$100,\">=\"&AX60)-COUNTIF($B$4:$B$100,\">\"&AY60),\nIF($N$60=$AO$2,COUNTIF($C$4:$C$100,\">=\"&AX60)-COUNTIF($C$4:$C$100,\">\"&AY60),\nIF($N$60=$AP$2,COUNTIF($D$4:$D$100,\">=\"&AX60)-COUNTIF($D$4:$D$100,\">\"&AY60),\nIF($N$60=$AQ$2,COUNTIF($E$4:$E$100,\">=\"&AX60)-COUNTIF($E$4:$E$100,\">\"&AY60),\nIF($N$60=$AR$2,COUNTIF($F$4:$F$100,\">=\"&AX60)-COUNTIF($F$4:$F$100,\">\"&AY60),\nIF($N$60=$AS$2,COUNTIF($G$4:$G$100,\">=\"&AX60)-COUNTIF($G$4:$G$100,\">\"&AY60),\nIF($N$60=$AT$2,COUNTIF($H$4:$H$100,\">=\"&AX60)-COUNTIF($H$4:$H$100,\">\"&AY60),\nIF($N$60=\"Sem Uso\",\"\"))))))))","v":0},null,null,null,null,null,null,null,null,"Adic.Nat.Ad.4",{"$f":"IF($N$71=\"Natação Adulta\",$Z$74,0)","v":0},{"$f":"IF($N$71=\"Natação Adulta\",$Z$75,0)","v":0},0,null,"Adic.Nat.Inf.4",{"$f":"IF(AND($N$71<>\"Natação Adulta\",$N$71<>\"Hidroginástica\"),$Z$74,0)","v":0},{"$f":"IF(AND($N$71<>\"Natação Adulta\",$N$71<>\"Hidroginástica\"),$Z$75,0)","v":0},0,null,"Adic.Hid.4",{"$f":"IF($N$71=\"Hidroginástica\",$Z$74,0)","v":15.760000000000002},{"$f":"IF($N$71=\"Hidroginástica\",$Z$75,0)","v":4},63.040000000000006,null,"","",null,0,null,null,null,"","",null,0,null,null,null,"","",null,0,null,null,null,null,null,null,null,null,null,null,null,null,null,{"$f":"Configurações!AF51","v":"Adic_Nat.Inf_40"},{"$f":"Configurações!AI51","v":23.320999999999994},"",null,null,"",""]
[null,3,null,null,null,null,null,null,null,null,"Valor da Aula",null,null,{"$f":"IF(AO69<>0,AO69,\"\")","v":17.66},20.79,24.94,29.09,32.299999999999997,"",null,"Valor da Aula",null,{"$f":"IFERROR(IF(N63<=$S$67,0,N63-$S$67),\"\")","v":0},3.129999999999999,7.2800000000000011,11.43,14.639999999999997,"",null,null,null,"","","","",null,null,null,null,null,null,null,null,null,null,null,null,null,null,null,null,null,null,null,"Adic.Nat.Ad.5",{"$f":"IF($N$71=\"Natação Adulta\",$AA$74,0)","v":0},{"$f":"IF($N$71=\"Natação Adulta\",$AA$75,0)","v":0},0,null,"Adic.Nat.Inf.5",{"$f":"IF(AND($N$71<>\"Natação Adulta\",$N$71<>\"Hidroginástica\"),$AA$74,0)","v":0},{"$f":"IF(AND($N$71<>\"Natação Adulta\",$N$71<>\"Hidroginástica\"),$AA$75,0)","v":0},0,null,"Adic.Hid.5",{"$f":"IF($N$71=\"Hidroginástica\",$AA$74,0)","v":21.150000000000002},{"$f":"IF($N$71=\"Hidroginástica\",$AA$75,0)","v":0},0,null,{"$f":"IF(BD66<>0,BD66,\"\")","v":""},{"$f":"IF(BD66<>0,BE66,\"\")","v":""},null,0,null,null,null,{"$f":"IF(BI66<>0,BI66,\"\")","v":""},{"$f":"IF(BI66<>0,BJ66,\"\")","v":""},null,0,null,null,null,{"$f":"IF(BN66<>0,BN66,\"\")","v":""},{"$f":"IF(BN66<>0,BO66,\"\")","v":""},null,0,null,null,null,null,null,null,null,null,null,null,null,null,null,{"$f":"Configurações!AF52","v":"Adic_Nat.Inf_41"},{"$f":"Configurações!AI52","v":23.6099},"",null,null,"",""]
[null,4,null,null,null,null,null,null,null,null,"Nr. de Aulas",null,null,{"$f":"IF(AO67<>\"\",AO68,\"\")","v":0},10,6,0,0,"",null,"Nr. de Aulas",null,{"$f":"N64","v":0},10,6,0,0,"",null,null,null,"","","","",null,null,null,null,{"$f":"IF(N64<>\"\",N64,\"\")","v":0},10,6,0,0,"",null,null,null,null,null,null,null,null,null,"Adic.Nat.Ad.6",{"$f":"IF($N$71=\"Natação Adulta\",$AB$74,0)","v":0},{"$f":"IF($N$71=\"Natação Adulta\",$AB$75,0)","v":0},0,null,"Adic.Nat.Inf.6",{"$f":"IF(AND($N$71<>\"Natação Adulta\",$N$71<>\"Hidroginástica\"),$AB$74,0)","v":0},{"$f":"IF(AND($N$71<>\"Natação Adulta\",$N$71<>\"Hidroginástica\"),$AB$75,0)","v":0},0,null,"Adic.Hid.6",{"$f":"IF($N$71=\"Hidroginástica\",$AB$74,0)","v":""},{"$f":"IF($N$71=\"Hidroginástica\",$AB$75,0)","v":""},"",null,"","",null,0,null,null,null,"","",null,0,null,null,null,"","",null,0,null,null,null,null,null,null,null,null,null,null,null,null,null,{"$f":"Configurações!AF53","v":"Adic_Nat.Inf_42"},{"$f":"Configurações!AI53","v":24.968800000000005},"",null,null,"",""]
[null,5,null,null,null,null,null,null,null,null,"Valor",null,null,{"$f":"IFERROR(N63*N64,\"\")","v":0},207.89999999999998,149.64000000000001,0,0,"",null,"Valor",null,{"$f":"IFERROR(W63*W64,\"\")","v":0},31.29999999999999,43.680000000000007,0,0,"",null,null,null,"","","","",null,null,null,null,null,{"$f":"IF($N60<>\"Sem Uso\",VLOOKUP(N60,Configurações!$C$1:$I$8,2,0),\"\")","v":0},{"$f":"IF(N60<>\"Sem Uso\",VLOOKUP(N60,Configurações!$C$1:$I$8,3,0),\"\")","v":"1 a 3"},{"$f":"IF(N60<>\"Sem Uso\",VLOOKUP(N60,Configurações!$C$1:$I$8,4,0),\"\")","v":"4 a 6"},{"$f":"IF(N60<>\"Sem Uso\",VLOOKUP(N60,Configurações!$C$1:$I$8,5,0),\"\")","v":"7 a 8"},{"$f":"IF(N60<>\"Sem Uso\",VLOOKUP(N60,Configurações!$C$1:$I$8,6,0),\"\")","v":"9 a 10"},{"$f":"IF(N60<>\"Sem Uso\",VLOOKUP(N60,Configurações!$C$1:$I$8,7,0),\"\")","v":0},null,null,null,null,null,null,null,null,null,null,null,null,null,null,null,null,null,null,null,null,null,null,null,"","",null,0,null,null,null,"","",null,0,null,null,null,"","",null,0,null,null,null,null,null,null,null,null,null,null,null,null,null,{"$f":"Configurações!AF54","v":"Adic_Nat.Inf_43"},{"$f":"Configurações!AI54","v":25.841919999999998},"",null,null,"",""]
[null,5,null,null,null,null,null,null,null,null,null,null,"Total de Alunos",null,null,null,{"$f":"_xlfn.IFS(N60=$AN$2,$B$102,N60=$AO$2,$C$102,N60=$AP$2,$D$102,N60=$AQ$2,$E$102,N60=$AR$2,$F$102,N60=$AS$2,$G$102,N60=$AT$2,$H$102,N60=\"Sem Uso\",\"\")","v":51},null,null,null,null,"Total de Alunos",null,null,null,{"$f":"Q66","v":51},null,null,null,null,null,"","","","",null,null,null,null,"TABELA DE EQUIVALÊNCIA",null,null,null,null,null,null,null,null,null,null,null,null,null,null,"Adic.Nat.Ad.1",{"$f":"IF($N$82=\"Natação Adulta\",$W$85,0)","v":0},{"$f":"IF($N$82=\"Natação Adulta\",$W$86,0)","v":0},{"$f":"IFERROR((BD66*BE66),\"\")","v":0},null,"Adic.Nat.Inf.1",{"$f":"IF(AND($N$82<>\"Natação Adulta\",$N$82<>\"Hidroginástica\"),$W$85,0)","v":0},{"$f":"IF(AND($N$82<>\"Natação Adulta\",$N$82<>\"Hidroginástica\"),$W$86,0)","v":""},{"$f":"IFERROR((BI66*BJ66),\"\")","v":""},null,"Adic.Hid.1",{"$f":"IF($N$82=\"Hidroginástica\",$W$85,0)","v":0},{"$f":"IF($N$82=\"Hidroginástica\",$W$86,0)","v":0},{"$f":"IFERROR((BN66*BO66),\"\")","v":0},null,"","",null,0,null,null,null,"","",null,0,null,null,null,"","",null,0,null,null,null,null,null,null,null,null,null,null,null,null,null,{"$f":"Configurações!AF55","v":"Adic_Nat.Inf_44"},{"$f":"Configurações!AI55","v":28.560790000000001},"",null,null,"",""]
[null,1,null,null,null,null,null,null,null,null,null,null,"Total de Aulas",null,null,null,{"$f":"IF(Q66<>\"\",SUM(AN64:AS64),\"\")","v":16},"Registro",17.66,null,null,"Total de Aulas",null,null,null,{"$f":"Q67","v":16},null,null,null,null,null,"","","","",null,null,null,null,"Nr. Alunos",{"$f":"AO65","v":0},{"$f":"IF(AP65<>0,AP65,\"\")","v":"1 a 3"},{"$f":"IF(AQ65<>0,AQ65,\"\")","v":"4 a 6"},{"$f":"IF(AR65<>0,AR65,\"\")","v":"7 a 8"},{"$f":"IF(AS65<>0,AS65,\"\")","v":"9 a 10"},{"$f":"IF(AT65<>0,AT65,\"\")","v":""},null,null,null,null,null,null,null,null,"Adic.Nat.Ad.2",{"$f":"IF($N$82=\"Natação Adulta\",$X$85,0)","v":0},{"$f":"IF($N$82=\"Natação Adulta\",$X$86,0)","v":0},0,null,"Adic.Nat.Inf.2",{"$f":"IF(AND($N$82<>\"Natação Adulta\",$N$82<>\"Hidroginástica\"),$X$85,0)","v":0},{"$f":"IF(AND($N$82<>\"Natação Adulta\",$N$82<>\"Hidroginástica\"),$X$86,0)","v":""},{"$f":"IFERROR((BI67*BJ67),\"\")","v":""},null,"Adic.Hid.2",{"$f":"IF($N$82=\"Hidroginástica\",$X$85,0)","v":0},{"$f":"IF($N$82=\"Hidroginástica\",$X$86,0)","v":0},{"$f":"IFERROR((BN67*BO67),\"\")","v":0},null,"","",null,0,null,null,null,"","",null,0,null,null,null,"","",null,0,null,null,null,null,null,null,null,null,null,null,null,null,null,{"$f":"Configurações!AF56","v":"Adic_Nat.Inf_45"},{"$f":"Configurações!AI56","v":31.279660000000003},"",null,null,"",""]
[null,1,null,null,null,null,null,null,null,null,null,null,"Total a Receber",null,null,null,{"$f":"IF(Q66<>\"\",SUM(N65:S65),\"\")","v":357.53999999999996},null,null,null,null,"Total a Receber",null,null,null,{"$f":"IF(Z66<>\"\",SUM(W65:AB65),\"\")","v":74.97999999999999},null,null,null,null,null,"","","","",null,null,null,null,"Aulas",{"$f":"IF(AO67<>\"\",AO62,\"\")","v":0},10,6,0,0,"",null,null,null,null,null,null,null,null,"Adic.Nat.Ad.3",{"$f":"IF($N$82=\"Natação Adulta\",$Y$85,0)","v":0},{"$f":"IF($N$82=\"Natação Adulta\",$Y$86,0)","v":0},0,null,"Adic.Nat.Inf.3",{"$f":"IF(AND($N$82<>\"Natação Adulta\",$N$82<>\"Hidroginástica\"),$Y$85,0)","v":0},{"$f":"IF(AND($N$82<>\"Natação Adulta\",$N$82<>\"Hidroginástica\"),$Y$86,0)","v":""},"",null,"Adic.Hid.3",{"$f":"IF($N$82=\"Hidroginástica\",$Y$85,0)","v":0},{"$f":"IF($N$82=\"Hidroginástica\",$Y$86,0)","v":0},0,null,"","",null,0,null,null,null,"","",null,0,null,null,null,"","",null,0]
[null,null,null,null,null,null,null,null,null,null,null,null,null,null,null,null,null,null,null,null,null,null,null,null,null,null,null,null,null,null,null,null,null,null,null,null,null,null,null,null,{"$f":"IFERROR(VLOOKUP(N60&R60,Configurações!$C$13:$I$47,2,0),\"\")","v":17.66},{"$f":"IFERROR(IF(AP67<>0,VLOOKUP(N60&R60,Configurações!$C$13:$I$47,3,0),\"\"),\"\")","v":20.79},{"$f":"IFERROR(IF(AQ67<>0,VLOOKUP(N60&R60,Configurações!$C$13:$I$47,4,0),\"\"),\"\")","v":24.94},{"$f":"IFERROR(IF(AR67<>0,VLOOKUP(N60&R60,Configurações!$C$13:$I$47,5,0),\"\"),\"\")","v":29.09},{"$f":"IFERROR(IF(AS67<>0,VLOOKUP(N60&R60,Configurações!$C$13:$I$47,6,0),\"\"),\"\")","v":32.299999999999997},{"$f":"IFERROR(IF(AT67<>0,VLOOKUP(N60&R60,Configurações!$C$13:$I$47,7,0),\"\"),\"\")","v":0},null,null,null,null,null,null,null,null,"Adic.Nat.Ad.4",{"$f":"IF($N$82=\"Natação Adulta\",$Z$85,0)","v":0},{"$f":"IF($N$82=\"Natação Adulta\",$Z$86,0)","v":0},0,null,"Adic.Nat.Inf.4",{"$f":"IF(AND($N$82<>\"Natação Adulta\",$N$82<>\"Hidroginástica\"),$Z$85,0)","v":0},{"$f":"IF(AND($N$82<>\"Natação Adulta\",$N$82<>\"Hidroginástica\"),$Z$86,0)","v":""},"",null,"Adic.Hid.4",{"$f":"IF($N$82=\"Hidroginástica\",$Z$85,0)","v":0},{"$f":"IF($N$82=\"Hidroginástica\",$Z$86,0)","v":0},0]
[null,null,null,null,null,null,null,null,null,null,null,null,null,null,null,null,null,null,null,null,null,null,null,null,null,null,null,null,null,null,null,"Hidroginástica",null,null,{"$f":"SUM(AI72:AI88)","v":228.89999999999998},null,null,null,null,null,null,null,null,null,null,null,null,null,null,null,null,null,null,null,"Adic.Nat.Ad.5",{"$f":"IF($N$82=\"Natação Adulta\",$AA$85,0)","v":0},{"$f":"IF($N$82=\"Natação Adulta\",$AA$86,0)","v":0},0,null,"Adic.Nat.Inf.5",{"$f":"IF(AND($N$82<>\"Natação Adulta\",$N$82<>\"Hidroginástica\"),$AA$85,0)","v":0},{"$f":"IF(AND($N$82<>\"Natação Adulta\",$N$82<>\"Hidroginástica\"),$AA$86,0)","v":""},"",null,"Adic.Hid.5",{"$f":"IF($N$82=\"Hidroginástica\",$AA$85,0)","v":0},{"$f":"IF($N$82=\"Hidroginástica\",$AA$86,0)","v":0},0]
[null,null,null,null,null,null,null,null,null,null,"Modalidade",null,null,"Hidroginástica",null,null,"Nível","Prof. Nível C",null,null,null,null,null,null,null,null,null,null,null,null,null,"Nm_Adic","$_Aula","Qtde","$_Adic",null,null,null,null,{"$f":"VLOOKUP(N71,Configurações!$J$1:$V$9,2,0)","v":"0"},{"$f":"VLOOKUP(N71,Configurações!$J$1:$V$9,3,0)","v":"0"},{"$f":"VLOOKUP(N71,Configurações!$J$1:$V$9,4,0)","v":"1 "},{"$f":"VLOOKUP(N71,Configurações!$J$1:$V$9,5,0)","v":" 7"},{"$f":"VLOOKUP(N71,Configurações!$J$1:$V$9,6,0)","v":"8 "},{"$f":"VLOOKUP(N71,Configurações!$J$1:$V$9,7,0)","v":"15"},{"$f":"VLOOKUP(N71,Configurações!$J$1:$V$9,8,0)","v":"16"},{"$f":"VLOOKUP(N71,Configurações!$J$1:$V$9,9,0)","v":"22"},{"$f":"VLOOKUP(N71,Configurações!$J$1:$V$9,10,0)","v":"23"},{"$f":"VLOOKUP(N71,Configurações!$J$1:$V$9,11,0)","v":"30"},{"$f":"VLOOKUP(N71,Configurações!$J$1:$V$9,12,0)","v":""},{"$f":"VLOOKUP(N71,Configurações!$J$1:$V$9,13,0)","v":""},null,null,null,"Adic.Nat.Ad.6",{"$f":"IF($N$82=\"Natação Adulta\",$AB$85,0)","v":0},{"$f":"IF($N$82=\"Natação Adulta\",$AB$86,0)","v":0},0,null,"Adic.Nat.Inf.6",{"$f":"IF(AND($N$82<>\"Natação Adulta\",$N$82<>\"Hidroginástica\"),$AB$85,0)","v":0},{"$f":"IF(AND($N$82<>\"Natação Adulta\",$N$82<>\"Hidroginástica\"),$AB$86,0)","v":""},"",null,"Adic.Hid.6",{"$f":"IF($N$82=\"Hidroginástica\",$AB$85,0)","v":0},{"$f":"IF($N$82=\"Hidroginástica\",$AB$86,0)","v":0},0]
[null,null,null,null,null,null,null,null,null,null,"Academia",null,null,null,null,null,null,null,null,null,"Contabilidade",null,null,null,null,null,null,null,null,null,null,{"$f":"IF(DH23<>\"\",DH23,\"\")","v":"Adic_Hidr_02"},{"$f":"IF(DJ23<>\"\",DJ23,\"\")","v":6.02},{"$f":"IF(DI23<>\"\",DI23,\"\")","v":1},{"$f":"IF(DK23<>\"\",DK23,\"\")","v":6.02},null,null,null,null,{"$f":"IFERROR(VLOOKUP(N71,_xlfn.ANCHORARRAY($AZ$2),2,0),0)","v":258}]
[null,null,null,null,null,null,null,null,null,null,"Nr. de Alunos",null,null,{"$f":"IF(AO78<>\"\",AO78,\"\")","v":0},{"$f":"IF(AP78<>\"\",AP78,\"\")","v":"1 a 7"},{"$f":"IF(AQ78<>\"\",AQ78,\"\")","v":"8 a 15"},{"$f":"IF(AR78<>\"\",AR78,\"\")","v":"16 a 22"},{"$f":"IF(AS78<>\"\",AS78,\"\")","v":"23 a 30"},{"$f":"IF(AT78<>0,AT78,\"\")","v":""},null,"Nr. de Alunos",null,{"$f":"N73","v":0},"1 a 7","8 a 15","16 a 22","23 a 30","",null,null,null,"Adic_Hidr_04",9.9899999999999984,16,159.83999999999997,null,null,null,null,null,{"$f":"IF($N$71=$AN$2,COUNTIF($B$4:$B$100,\">=\"&AN71)-COUNTIF($B$4:$B$100,\">\"&AO71),\nIF($N$71=$AO$2,COUNTIF($C$4:$C$100,\">=\"&AN71)-COUNTIF($C$4:$C$100,\">\"&AO71),\nIF($N$71=$AP$2,COUNTIF($D$4:$D$100,\">=\"&AN71)-COUNTIF($D$4:$D$100,\">\"&AO71),\nIF($N$71=$AQ$2,COUNTIF($E$4:$E$100,\">=\"&AN71)-COUNTIF($E$4:$E$100,\">\"&AO71),\nIF($N$71=$AR$2,COUNTIF($F$4:$F$100,\">=\"&AN71)-COUNTIF($F$4:$F$100,\">\"&AO71),\nIF($N$71=$AS$2,COUNTIF($G$4:$G$100,\">=\"&AN71)-COUNTIF($G$4:$G$100,\">\"&AO71),\nIF($N$71=$AT$2,COUNTIF($H$4:$H$100,\">=\"&AN71)-COUNTIF($H$4:$H$100,\">\"&AO71),\nIF($N$71=\"Sem Uso\",\"\"))))))))","v":0},{"$f":"IF($N$71=$AN$2,COUNTIF($B$4:$B$100,\">=\"&AP71)-COUNTIF($B$4:$B$100,\">\"&AQ71),\nIF($N$71=$AO$2,COUNTIF($C$4:$C$100,\">=\"&AP71)-COUNTIF($C$4:$C$100,\">\"&AQ71),\nIF($N$71=$AP$2,COUNTIF($D$4:$D$100,\">=\"&AP71)-COUNTIF($D$4:$D$100,\">\"&AQ71),\nIF($N$71=$AQ$2,COUNTIF($E$4:$E$100,\">=\"&AP71)-COUNTIF($E$4:$E$100,\">\"&AQ71),\nIF($N$71=$AR$2,COUNTIF($F$4:$F$100,\">=\"&AP71)-COUNTIF($F$4:$F$100,\">\"&AQ71),\nIF($N$71=$AS$2,COUNTIF($G$4:$G$100,\">=\"&AP71)-COUNTIF($G$4:$G$100,\">\"&AQ71),\nIF($N$71=$AT$2,COUNTIF($H$4:$H$100,\">=\"&AP71)-COUNTIF($H$4:$H$100,\">\"&AQ71),\nIF($N$71=\"Sem Uso\",\"\"))))))))","v":1},{"$f":"IF($N$71=$AN$2,COUNTIF($B$4:$B$100,\">=\"&AR71)-COUNTIF($B$4:$B$100,\">\"&AS71),\nIF($N$71=$AO$2,COUNTIF($C$4:$C$100,\">=\"&AR71)-COUNTIF($C$4:$C$100,\">\"&AS71),\nIF($N$71=$AP$2,COUNTIF($D$4:$D$100,\">=\"&AR71)-COUNTIF($D$4:$D$100,\">\"&AS71),\nIF($N$71=$AQ$2,COUNTIF($E$4:$E$100,\">=\"&AR71)-COUNTIF($E$4:$E$100,\">\"&AS71),\nIF($N$71=$AR$2,COUNTIF($F$4:$F$100,\">=\"&AR71)-COUNTIF($F$4:$F$100,\">\"&AS71),\nIF($N$71=$AS$2,COUNTIF($G$4:$G$100,\">=\"&AR71)-COUNTIF($G$4:$G$100,\">\"&AS71),\nIF($N$71=$AT$2,COUNTIF($H$4:$H$100,\">=\"&AR71)-COUNTIF($H$4:$H$100,\">\"&AS71),\nIF($N$71=\"Sem Uso\",\"\"))))))))","v":16},{"$f":"IF($N$71=$AN$2,COUNTIF($B$4:$B$100,\">=\"&AT71)-COUNTIF($B$4:$B$100,\">\"&AU71),\nIF($N$71=$AO$2,COUNTIF($C$4:$C$100,\">=\"&AT71)-COUNTIF($C$4:$C$100,\">\"&AU71),\nIF($N$71=$AP$2,COUNTIF($D$4:$D$100,\">=\"&AT71)-COUNTIF($D$4:$D$100,\">\"&AU71),\nIF($N$71=$AQ$2,COUNTIF($E$4:$E$100,\">=\"&AT71)-COUNTIF($E$4:$E$100,\">\"&AU71),\nIF($N$71=$AR$2,COUNTIF($F$4:$F$100,\">=\"&AT71)-COUNTIF($F$4:$F$100,\">\"&AU71),\nIF($N$71=$AS$2,COUNTIF($G$4:$G$100,\">=\"&AT71)-COUNTIF($G$4:$G$100,\">\"&AU71),\nIF($N$71=$AT$2,COUNTIF($H$4:$H$100,\">=\"&AT71)-COUNTIF($H$4:$H$100,\">\"&AU71),\nIF($N$71=\"Sem Uso\",\"\"))))))))","v":4},{"$f":"IF($N$71=$AN$2,COUNTIF($B$4:$B$100,\">=\"&AV71)-COUNTIF($B$4:$B$100,\">\"&AW71),\nIF($N$71=$AO$2,COUNTIF($C$4:$C$100,\">=\"&AV71)-COUNTIF($C$4:$C$100,\">\"&AW71),\nIF($N$71=$AP$2,COUNTIF($D$4:$D$100,\">=\"&AV71)-COUNTIF($D$4:$D$100,\">\"&AW71),\nIF($N$71=$AQ$2,COUNTIF($E$4:$E$100,\">=\"&AV71)-COUNTIF($E$4:$E$100,\">\"&AW71),\nIF($N$71=$AR$2,COUNTIF($F$4:$F$100,\">=\"&AV71)-COUNTIF($F$4:$F$100,\">\"&AW71),\nIF($N$71=$AS$2,COUNTIF($G$4:$G$100,\">=\"&AV71)-COUNTIF($G$4:$G$100,\">\"&AW71),\nIF($N$71=$AT$2,COUNTIF($H$4:$H$100,\">=\"&AV71)-COUNTIF($H$4:$H$100,\">\"&AW71),\nIF($N$71=\"Sem Uso\",\"\"))))))))","v":0},{"$f":"IF($N$71=$AN$2,COUNTIF($B$4:$B$100,\">=\"&AX71)-COUNTIF($B$4:$B$100,\">\"&AY71),\nIF($N$71=$AO$2,COUNTIF($C$4:$C$100,\">=\"&AX71)-COUNTIF($C$4:$C$100,\">\"&AY71),\nIF($N$71=$AP$2,COUNTIF($D$4:$D$100,\">=\"&AX71)-COUNTIF($D$4:$D$100,\">\"&AY71),\nIF($N$71=$AQ$2,COUNTIF($E$4:$E$100,\">=\"&AX71)-COUNTIF($E$4:$E$100,\">\"&AY71),\nIF($N$71=$AR$2,COUNTIF($F$4:$F$100,\">=\"&AX71)-COUNTIF($F$4:$F$100,\">\"&AY71),\nIF($N$71=$AS$2,COUNTIF($G$4:$G$100,\">=\"&AX71)-COUNTIF($G$4:$G$100,\">\"&AY71),\nIF($N$71=$AT$2,COUNTIF($H$4:$H$100,\">=\"&AX71)-COUNTIF($H$4:$H$100,\">\"&AY71),\nIF($N$71=\"Sem Uso\",\"\"))))))))","v":0}]
[null,null,null,null,null,null,null,null,null,null,"Valor da Aula",null,null,{"$f":"IF(AO80<>0,AO80,\"\")","v":17.66},23.68,27.65,33.42,38.81,"",null,"Valor da Aula",null,{"$f":"IFERROR(IF(N74<=$S$78,0,N74-$S$78),\"\")","v":0},6.02,9.9899999999999984,15.760000000000002,21.150000000000002,"",null,null,null,"Adic_Hidr_08",15.760000000000002,4,63.040000000000006]
[null,null,null,null,null,null,null,null,null,null,"Nr. de Aulas",null,null,{"$f":"IF(AO78<>\"\",AO79,\"\")","v":0},1,16,4,0,"",null,"Nr. de Aulas",null,{"$f":"N75","v":0},1,16,4,0,"",null,null,null,"","","","",null,null,null,null,{"$f":"IF(N75<>\"\",N75,\"\")","v":0},1,16,4,0,""]
[null,null,null,null,null,null,null,null,null,null,"Valor",null,null,{"$f":"IFERROR(N74*N75,\"\")","v":0},23.68,442.4,133.68,0,"",null,"Valor",null,{"$f":"IFERROR(W74*W75,\"\")","v":0},6.02,159.83999999999997,63.040000000000006,0,"",null,null,null,"","","","",null,null,null,null,null,{"$f":"IF($N71<>\"Sem Uso\",VLOOKUP(N71,Configurações!$C$1:$I$8,2,0),\"\")","v":0},{"$f":"IF(N71<>\"Sem Uso\",VLOOKUP(N71,Configurações!$C$1:$I$8,3,0),\"\")","v":"1 a 7"},{"$f":"IF(N71<>\"Sem Uso\",VLOOKUP(N71,Configurações!$C$1:$I$8,4,0),\"\")","v":"8 a 15"},{"$f":"IF(N71<>\"Sem Uso\",VLOOKUP(N71,Configurações!$C$1:$I$8,5,0),\"\")","v":"16 a 22"},{"$f":"IF(N71<>\"Sem Uso\",VLOOKUP(N71,Configurações!$C$1:$I$8,6,0),\"\")","v":"23 a 30"},{"$f":"IF(N71<>\"Sem Uso\",VLOOKUP(N71,Configurações!$C$1:$I$8,7,0),\"\")","v":0}]
[null,null,null,null,null,null,null,null,null,null,null,null,"Total de Alunos",null,null,null,{"$f":"_xlfn.IFS(N71=$AN$2,$B$102,N71=$AO$2,$C$102,N71=$AP$2,$D$102,N71=$AQ$2,$E$102,N71=$AR$2,$F$102,N71=$AS$2,$G$102,N71=$AT$2,$H$102,N71=\"Sem Uso\",\"\")","v":258},null,null,null,null,"Total de Alunos",null,null,null,{"$f":"Q77","v":258},null,null,null,null,null,"","","","",null,null,null,null,"TABELA DE EQUIVALÊNCIA"]
[null,null,null,null,null,null,null,null,null,null,null,null,"Total de Aulas",null,null,null,{"$f":"IF(Q77<>\"\",SUM(AN75:AS75),\"\")","v":21},"Registro",17.66,null,null,"Total de Aulas",null,null,null,{"$f":"Q78","v":21},null,null,null,null,null,"","","","",null,null,null,null,"Nr. Alunos",{"$f":"AO76","v":0},{"$f":"IF(AP76<>0,AP76,\"\")","v":"1 a 7"},{"$f":"IF(AQ76<>0,AQ76,\"\")","v":"8 a 15"},{"$f":"IF(AR76<>0,AR76,\"\")","v":"16 a 22"},{"$f":"IF(AS76<>0,AS76,\"\")","v":"23 a 30"},{"$f":"IF(AT76<>0,AT76,\"\")","v":""}]
[null,null,null,null,null,null,null,null,null,null,null,null,"Total a Receber",null,null,null,{"$f":"IF(Q77<>\"\",SUM(N76:S76),\"\")","v":599.76},null,null,null,null,"Total a Receber",null,null,null,{"$f":"IF(Z77<>\"\",SUM(W76:AB76),\"\")","v":228.89999999999998},null,null,null,null,null,"","","","",null,null,null,null,"Aulas",{"$f":"IF(AO78<>\"\",AO73,\"\")","v":0},1,16,4,0,""]
[null,null,null,null,null,null,null,null,null,null,null,null,null,null,null,null,null,null,null,null,null,null,null,null,null,null,null,null,null,null,null,"","","","",null,null,null,null,null,{"$f":"IFERROR(VLOOKUP(N71&R71,Configurações!$C$13:$I$47,2,0),\"\")","v":17.66},{"$f":"IFERROR(IF(AP78<>0,VLOOKUP(N71&R71,Configurações!$C$13:$I$47,3,0),\"\"),\"\")","v":23.68},{"$f":"IFERROR(IF(AQ78<>0,VLOOKUP(N71&R71,Configurações!$C$13:$I$47,4,0),\"\"),\"\")","v":27.65},{"$f":"IFERROR(IF(AR78<>0,VLOOKUP(N71&R71,Configurações!$C$13:$I$47,5,0),\"\"),\"\")","v":33.42},{"$f":"IFERROR(IF(AS78<>0,VLOOKUP(N71&R71,Configurações!$C$13:$I$47,6,0),\"\"),\"\")","v":38.81},{"$f":"IFERROR(IF(AT78<>0,VLOOKUP(N71&R71,Configurações!$C$13:$I$47,7,0),\"\"),\"\")","v":0}]
[null,null,null,null,null,null,null,null,null,null,null,null,null,null,null,null,null,null,null,null,null,null,null,null,null,null,null,null,null,null,null,"","","",""]
[null,null,null,null,null,null,null,null,null,null,"Modalidade",null,null,"Sem Uso",null,null,"Nível","Prof. Especial",null,null,null,null,null,null,null,null,null,null,null,null,null,"","","","",null,null,null,null,{"$f":"VLOOKUP(N82,Configurações!$J$1:$V$9,2,0)","v":""},{"$f":"VLOOKUP(N82,Configurações!$J$1:$V$9,3,0)","v":""},{"$f":"VLOOKUP(N82,Configurações!$J$1:$V$9,4,0)","v":""},{"$f":"VLOOKUP(N82,Configurações!$J$1:$V$9,5,0)","v":""},{"$f":"VLOOKUP(N82,Configurações!$J$1:$V$9,6,0)","v":""},{"$f":"VLOOKUP(N82,Configurações!$J$1:$V$9,7,0)","v":""},{"$f":"VLOOKUP(N82,Configurações!$J$1:$V$9,8,0)","v":""},{"$f":"VLOOKUP(N82,Configurações!$J$1:$V$9,9,0)","v":""},{"$f":"VLOOKUP(N82,Configurações!$J$1:$V$9,10,0)","v":""},{"$f":"VLOOKUP(N82,Configurações!$J$1:$V$9,11,0)","v":""},{"$f":"VLOOKUP(N82,Configurações!$J$1:$V$9,12,0)","v":""},{"$f":"VLOOKUP(N82,Configurações!$J$1:$V$9,13,0)","v":""}]
[null,null,null,null,null,null,null,null,null,null,"Academia",null,null,null,null,null,null,null,null,null,"Contabilidade",null,null,null,null,null,null,null,null,null,null,"","","","",null,null,null,null,{"$f":"IFERROR(VLOOKUP(N82,_xlfn.ANCHORARRAY($AZ$2),2,0),0)","v":0}]
[null,null,null,null,null,null,null,null,null,null,"Nr. de Alunos",null,null,{"$f":"IF(AO89<>\"\",AO89,\"\")","v":""},{"$f":"IF(AP89<>\"\",AP89,\"\")","v":""},{"$f":"IF(AQ89<>\"\",AQ89,\"\")","v":""},{"$f":"IF(AR89<>\"\",AR89,\"\")","v":""},{"$f":"IF(AS89<>\"\",AS89,\"\")","v":""},{"$f":"IF(AT89<>0,AT89,\"\")","v":""},null,"Nr. de Alunos",null,{"$f":"N84","v":""},{"$f":"O84","v":""},"","","","",null,null,null,"","","","",null,null,null,null,null,{"$f":"IF($N$82=$AN$2,COUNTIF($B$4:$B$100,\">=\"&AN82)-COUNTIF($B$4:$B$100,\">\"&AO82),\nIF($N$82=$AO$2,COUNTIF($C$4:$C$100,\">=\"&AN82)-COUNTIF($C$4:$C$100,\">\"&AO82),\nIF($N$82=$AP$2,COUNTIF($D$4:$D$100,\">=\"&AN82)-COUNTIF($D$4:$D$100,\">\"&AO82),\nIF($N$82=$AQ$2,COUNTIF($E$4:$E$100,\">=\"&AN82)-COUNTIF($E$4:$E$100,\">\"&AO82),\nIF($N$82=$AR$2,COUNTIF($F$4:$F$100,\">=\"&AN82)-COUNTIF($F$4:$F$100,\">\"&AO82),\nIF($N$82=$AS$2,COUNTIF($G$4:$G$100,\">=\"&AN82)-COUNTIF($G$4:$G$100,\">\"&AO82),\nIF($N$82=$AT$2,COUNTIF($H$4:$H$100,\">=\"&AN82)-COUNTIF($H$4:$H$100,\">\"&AO82),\nIF($N$82=\"Sem Uso\",\"\"))))))))","v":""},{"$f":"IF($N$82=$AN$2,COUNTIF($B$4:$B$100,\">=\"&AP82)-COUNTIF($B$4:$B$100,\">\"&AQ82),\nIF($N$82=$AO$2,COUNTIF($C$4:$C$100,\">=\"&AP82)-COUNTIF($C$4:$C$100,\">\"&AQ82),\nIF($N$82=$AP$2,COUNTIF($D$4:$D$100,\">=\"&AP82)-COUNTIF($D$4:$D$100,\">\"&AQ82),\nIF($N$82=$AQ$2,COUNTIF($E$4:$E$100,\">=\"&AP82)-COUNTIF($E$4:$E$100,\">\"&AQ82),\nIF($N$82=$AR$2,COUNTIF($F$4:$F$100,\">=\"&AP82)-COUNTIF($F$4:$F$100,\">\"&AQ82),\nIF($N$82=$AS$2,COUNTIF($G$4:$G$100,\">=\"&AP82)-COUNTIF($G$4:$G$100,\">\"&AQ82),\nIF($N$82=$AT$2,COUNTIF($H$4:$H$100,\">=\"&AP82)-COUNTIF($H$4:$H$100,\">\"&AQ82),\nIF($N$82=\"Sem Uso\",\"\"))))))))","v":""},{"$f":"IF($N$82=$AN$2,COUNTIF($B$4:$B$100,\">=\"&AR82)-COUNTIF($B$4:$B$100,\">\"&AS82),\nIF($N$82=$AO$2,COUNTIF($C$4:$C$100,\">=\"&AR82)-COUNTIF($C$4:$C$100,\">\"&AS82),\nIF($N$82=$AP$2,COUNTIF($D$4:$D$100,\">=\"&AR82)-COUNTIF($D$4:$D$100,\">\"&AS82),\nIF($N$82=$AQ$2,COUNTIF($E$4:$E$100,\">=\"&AR82)-COUNTIF($E$4:$E$100,\">\"&AS82),\nIF($N$82=$AR$2,COUNTIF($F$4:$F$100,\">=\"&AR82)-COUNTIF($F$4:$F$100,\">\"&AS82),\nIF($N$82=$AS$2,COUNTIF($G$4:$G$100,\">=\"&AR82)-COUNTIF($G$4:$G$100,\">\"&AS82),\nIF($N$82=$AT$2,COUNTIF($H$4:$H$100,\">=\"&AR82)-COUNTIF($H$4:$H$100,\">\"&AS82),\nIF($N$82=\"Sem Uso\",\"\"))))))))","v":""},{"$f":"IF($N$82=$AN$2,COUNTIF($B$4:$B$100,\">=\"&AT82)-COUNTIF($B$4:$B$100,\">\"&AU82),\nIF($N$82=$AO$2,COUNTIF($C$4:$C$100,\">=\"&AT82)-COUNTIF($C$4:$C$100,\">\"&AU82),\nIF($N$82=$AP$2,COUNTIF($D$4:$D$100,\">=\"&AT82)-COUNTIF($D$4:$D$100,\">\"&AU82),\nIF($N$82=$AQ$2,COUNTIF($E$4:$E$100,\">=\"&AT82)-COUNTIF($E$4:$E$100,\">\"&AU82),\nIF($N$82=$AR$2,COUNTIF($F$4:$F$100,\">=\"&AT82)-COUNTIF($F$4:$F$100,\">\"&AU82),\nIF($N$82=$AS$2,COUNTIF($G$4:$G$100,\">=\"&AT82)-COUNTIF($G$4:$G$100,\">\"&AU82),\nIF($N$82=$AT$2,COUNTIF($H$4:$H$100,\">=\"&AT82)-COUNTIF($H$4:$H$100,\">\"&AU82),\nIF($N$82=\"Sem Uso\",\"\"))))))))","v":""},{"$f":"IF($N$82=$AN$2,COUNTIF($B$4:$B$100,\">=\"&AV82)-COUNTIF($B$4:$B$100,\">\"&AW82),\nIF($N$82=$AO$2,COUNTIF($C$4:$C$100,\">=\"&AV82)-COUNTIF($C$4:$C$100,\">\"&AW82),\nIF($N$82=$AP$2,COUNTIF($D$4:$D$100,\">=\"&AV82)-COUNTIF($D$4:$D$100,\">\"&AW82),\nIF($N$82=$AQ$2,COUNTIF($E$4:$E$100,\">=\"&AV82)-COUNTIF($E$4:$E$100,\">\"&AW82),\nIF($N$82=$AR$2,COUNTIF($F$4:$F$100,\">=\"&AV82)-COUNTIF($F$4:$F$100,\">\"&AW82),\nIF($N$82=$AS$2,COUNTIF($G$4:$G$100,\">=\"&AV82)-COUNTIF($G$4:$G$100,\">\"&AW82),\nIF($N$82=$AT$2,COUNTIF($H$4:$H$100,\">=\"&AV82)-COUNTIF($H$4:$H$100,\">\"&AW82),\nIF($N$82=\"Sem Uso\",\"\"))))))))","v":""},{"$f":"IF($N$82=$AN$2,COUNTIF($B$4:$B$100,\">=\"&AX82)-COUNTIF($B$4:$B$100,\">\"&AY82),\nIF($N$82=$AO$2,COUNTIF($C$4:$C$100,\">=\"&AX82)-COUNTIF($C$4:$C$100,\">\"&AY82),\nIF($N$82=$AP$2,COUNTIF($D$4:$D$100,\">=\"&AX82)-COUNTIF($D$4:$D$100,\">\"&AY82),\nIF($N$82=$AQ$2,COUNTIF($E$4:$E$100,\">=\"&AX82)-COUNTIF($E$4:$E$100,\">\"&AY82),\nIF($N$82=$AR$2,COUNTIF($F$4:$F$100,\">=\"&AX82)-COUNTIF($F$4:$F$100,\">\"&AY82),\nIF($N$82=$AS$2,COUNTIF($G$4:$G$100,\">=\"&AX82)-COUNTIF($G$4:$G$100,\">\"&AY82),\nIF($N$82=$AT$2,COUNTIF($H$4:$H$100,\">=\"&AX82)-COUNTIF($H$4:$H$100,\">\"&AY82),\nIF($N$82=\"Sem Uso\",\"\"))))))))","v":""}]
[null,null,null,null,null,null,null,null,null,null,"Valor da Aula",null,null,{"$f":"IF(AO91<>0,AO91,\"\")","v":""},"","","","","",null,"Valor da Aula",null,{"$f":"IFERROR(IF(N85<=$S$89,0,N85-$S$89),\"\")","v":0},0,0,0,0,0,null,null,null,"","","",""]
[null,null,null,null,null,null,null,null,null,null,"Nr. de Aulas",null,null,{"$f":"IF(AO89<>\"\",AO90,\"\")","v":""},"","","","","",null,"Nr. de Aulas",null,{"$f":"N86","v":""},"","","","","",null,null,null,"","","","",null,null,null,null,{"$f":"IF(N86<>\"\",N86,\"\")","v":""},"","","","",""]
[null,null,null,null,null,null,null,null,null,null,"Valor",null,null,{"$f":"IFERROR(N85*N86,\"\")","v":""},"","","","","",null,"Valor",null,{"$f":"IFERROR(W85*W86,\"\")","v":""},"","","","","",null,null,null,"","","","",null,null,null,null,null,{"$f":"IF($N82<>\"Sem Uso\",VLOOKUP(N82,Configurações!$C$1:$I$8,2,0),\"\")","v":""},{"$f":"IF(N82<>\"Sem Uso\",VLOOKUP(N82,Configurações!$C$1:$I$8,3,0),\"\")","v":""},{"$f":"IF(N82<>\"Sem Uso\",VLOOKUP(N82,Configurações!$C$1:$I$8,4,0),\"\")","v":""},{"$f":"IF(N82<>\"Sem Uso\",VLOOKUP(N82,Configurações!$C$1:$I$8,5,0),\"\")","v":""},{"$f":"IF(N82<>\"Sem Uso\",VLOOKUP(N82,Configurações!$C$1:$I$8,6,0),\"\")","v":""},{"$f":"IF(N82<>\"Sem Uso\",VLOOKUP(N82,Configurações!$C$1:$I$8,7,0),\"\")","v":""}]
[null,null,null,null,null,null,null,null,null,null,null,null,"Total de Alunos",null,null,null,{"$f":"_xlfn.IFS(N82=$AN$2,$B$102,N82=$AO$2,$C$102,N82=$AP$2,$D$102,N82=$AQ$2,$E$102,N82=$AR$2,$F$102,N82=$AS$2,$G$102,N82=$AT$2,$H$102,N82=\"Sem Uso\",\"\")","v":""},null,null,null,null,"Total de Alunos",null,null,null,{"$f":"Q88","v":""},null,null,null,null,null,"","","","",null,null,null,null,"TABELA DE EQUIVALÊNCIA"]
[null,null,null,null,null,null,null,null,null,null,null,null,"Total de Aulas",null,null,null,{"$f":"IF(Q88<>\"\",SUM(AN86:AS86),\"\")","v":""},"Registro",null,null,null,"Total de Aulas",null,null,null,{"$f":"Q89","v":""},null,null,null,null,null,null,null,null,null,null,null,null,null,"Nr. Alunos",{"$f":"AO87","v":""},{"$f":"IF(AP87<>0,AP87,\"\")","v":""},{"$f":"IF(AQ87<>0,AQ87,\"\")","v":""},{"$f":"IF(AR87<>0,AR87,\"\")","v":""},{"$f":"IF(AS87<>0,AS87,\"\")","v":""},{"$f":"IF(AT87<>0,AT87,\"\")","v":""}]
[null,null,null,null,null,null,null,null,null,null,null,null,"Total a Receber",null,null,null,{"$f":"IF(Q88<>\"\",SUM(N87:S87),\"\")","v":""},null,null,null,null,"Total a Receber",null,null,null,{"$f":"IF(Z88<>\"\",SUM(W87:AB87),\"\")","v":""},null,null,null,null,null,null,null,null,null,null,null,null,null,"Aulas",{"$f":"IF(AO89<>\"\",AO84,\"\")","v":""},"","","","",""]
[null,null,null,null,null,null,null,null,null,null,null,null,null,null,null,null,null,null,null,null,null,null,null,null,null,null,null,null,null,null,null,null,null,null,null,null,null,null,null,null,{"$f":"IFERROR(VLOOKUP(N82&R82,Configurações!$C$13:$I$47,2,0),\"\")","v":""},{"$f":"IFERROR(IF(AP89<>0,VLOOKUP(N82&R82,Configurações!$C$13:$I$47,3,0),\"\"),\"\")","v":""},{"$f":"IFERROR(IF(AQ89<>0,VLOOKUP(N82&R82,Configurações!$C$13:$I$47,4,0),\"\"),\"\")","v":""},{"$f":"IFERROR(IF(AR89<>0,VLOOKUP(N82&R82,Configurações!$C$13:$I$47,5,0),\"\"),\"\")","v":""},{"$f":"IFERROR(IF(AS89<>0,VLOOKUP(N82&R82,Configurações!$C$13:$I$47,6,0),\"\"),\"\")","v":""},{"$f":"IFERROR(IF(AT89<>0,VLOOKUP(N82&R82,Configurações!$C$13:$I$47,7,0),\"\"),\"\")","v":""}]
[]
[]
[]
[]
[]
[]
[]
[]
[]
[]
[null,{"$f":"SUM($B$4:$B$100)","v":180},{"$f":"SUM($C$4:$C$100)","v":0},{"$f":"SUM($D$4:$D$100)","v":83},{"$f":"SUM($E$4:$E$100)","v":41},{"$f":"SUM($F$4:$F$100)","v":0},{"$f":"SUM($G$4:$G$100)","v":51},{"$f":"SUM($H$4:$H$100)","v":258}]

{"sheet":"Sandra Aparecida M. Tavares","index":4,"n_rows":102,"n_cols":59,"rows_kept":102,"cut":false,"hidden":true,"merged":[[1,9,1,11],[1,12,1,15],[1,17,1,18],[1,19,1,20],[1,23,1,24],[0,45,0,48],[0,50,0,53],[0,55,0,58],[1,25,1,26],[3,19,3,21],[4,9,4,12],[4,15,4,16],[4,19,4,21],[7,12,7,17],[12,45,12,46],[4,24,4,25],[5,19,5,21],[12,47,12,48],[12,50,12,51],[12,52,12,53],[16,10,16,18],[16,20,16,27],[15,10,15,12],[15,13,15,15],[15,17,15,18],[21,30,21,36],[26,10,26,12],[26,13,26,15],[26,17,26,18],[27,10,27,18],[27,20,27,27],[32,30,32,36],[37,10,37,12],[37,13,37,15],[37,17,37,18],[38,10,38,18],[38,20,38,27],[43,30,43,36],[48,10,48,12],[48,13,48,15],[48,17,48,18],[49,10,49,18],[49,20,49,27],[54,30,54,36],[59,10,59,12],[59,13,59,15],[59,17,59,18],[60,10,60,18],[60,20,60,27],[65,30,65,36],[70,10,70,12],[70,13,70,15],[70,17,70,18],[82,10,82,18],[82,20,82,27],[87,30,87,36],[71,10,71,18],[71,20,71,27],[76,30,76,36],[81,10,81,12],[81,13,81,15],[81,17,81,18]]}
[null,null,null,null,null,null,null,null,null,null,null,null,null,null,null,null,null,null,null,null,null,null,null,null,null,null,null,null,null,null,null,null,null,null,null,null,null,null,null,null,null,null,null,null,null,"Valores",null,null,null,null,"Aulas",null,null,null,null,"Alunos"]
[null,"Nat. Adulta","Nat. Bebê","Aprend. A","Aprend. B","Adaptação","Iniciação","Hidrogin.",null,"Professor(a)",null,null,{"$f":"AE5","v":"Sandra Aparecida M. Tavares"},null,null,null,null,null,null,null,null,null,null,"Referência",null,"2025-07-01",null,null,null,null,"Natação Adulta","Natação Bebê","Aprendizagem A","Aprendizagem B","Adaptação","Iniciação","Hidroginástica",null,null,null,null,null,{"$f":"TRANSPOSE(AE2:AK3)","v":"Natação Adulta"},0,null,"TOT NA","TOT BB","TOT IN","TOT HI",null,"TOT NA","TOT BB","TOT IN","TOT HI",null,"TOT NA","TOT BB","TOT IN","TOT HI"]
[null,null,null,null,null,null,null,null,null,null,null,null,null,null,null,null,null,null,null,null,null,null,null,null,null,null,null,null,null,null,{"$f":"B102","v":0},67,0,0,113,0,0,null,null,null,null,null,"Natação Bebê",67]
[null,null,4,null,null,1,null,null,null,null,null,null,null,null,null,null,null,null,null,"Salário Bruto",null,null,{"$f":"R12+V11+Y11","v":2131.9942599999999},null,null,null,null,null,null,null,{"$f":"CELL(\"nome.arquivo\",AE5)","v":"C:\\Users\\SAMSUNG\\Downloads\\[Aulas de Julho - NOVA.xlsm]Sandra Aparecida M. Tavares"},null,null,null,null,null,null,null,null,null,null,null,"Aprendizagem A",0,null,{"$f":"IF($N$16=\"Natação Adulta\",$Q$24,0)","v":0},{"$f":"IF($N$16=\"Natação Bebê\",$Q$24,0)","v":507.62833000000006},{"$f":"IF(AND($N$16<>\"Natação Adulta\",$N$16<>\"Natação Bebê\",$N$16<>\"Hidroginástica\"),$Q$24,0)","v":0},{"$f":"IF($N$16=\"Hidroginástica\",$Q$24,0)","v":0},null,{"$f":"IF($N$16=\"Natação Adulta\",$Q$23,0)","v":0},{"$f":"IF($N$16=\"Natação Bebê\",$Q$23,0)","v":16},{"$f":"IF(AND($N$16<>\"Natação Adulta\",$N$16<>\"Natação Bebê\",$N$16<>\"Hidroginástica\"),$Q$23,0)","v":0},{"$f":"IF($N$16=\"Hidroginástica\",$Q$23,0)","v":0},null,{"$f":"IF($N$16=\"Natação Adulta\",$Q$22,0)","v":0},{"$f":"IF($N$16=\"Natação Bebê\",$Q$22,0)","v":67},{"$f":"IF(AND($N$16<>\"Natação Adulta\",$N$16<>\"Natação Bebê\",$N$16<>\"Hidroginástica\"),$Q$22,0)","v":0},{"$f":"IF($N$16=\"Hidroginástica\",$Q$22,0)","v":0}]
[null,null,3,null,null,2,null,null,null,"Total de Alunos",null,null,null,{"$f":"R10+V9+Y9","v":180},null,"Total de Aulas",null,{"$f":"R11+V10+Y10","v":77},null,"INSS Total",null,null,{"$f":"BE14","v":173.69948339999996},null,"Contabilidade",null,{"$f":"SUM(W21:AB21)+SUM(W32:AB32)+SUM(W43:AB43)+SUM(W54:AB54)+SUM(W65:AB65)+SUM(W76:AB76)+SUM(W87:AB87)","v":2131.9942599999999},null,null,null,{"$f":"MID(AE4,SEARCH(\"]\",AE4)+1,LEN(AE4)-SEARCH(\"]\",AE4)+1)","v":"Sandra Aparecida M. Tavares"},null,null,{"$f":"MID(AE4,AF5+1,AG5-AF5)","v":""},null,null,null,null,null,null,null,null,"Aprendizagem B",0,null,{"$f":"IF($N$27=\"Natação Adulta\",$Q$35,0)","v":0},{"$f":"IF($N$27=\"Natação Bebê\",$Q$35,0)","v":0},{"$f":"IF(AND($N$27<>\"Natação Adulta\",$N$27<>\"Natação Bebê\",$N$27<>\"Hidroginástica\"),$Q$35,0)","v":1624.3659299999999},{"$f":"IF($N$27=\"Hidroginástica\",$Q$35,0)","v":0},null,{"$f":"IF($N$27=\"Natação Adulta\",$Q$34,0)","v":0},{"$f":"IF($N$27=\"Natação Bebê\",$Q$34,0)","v":0},{"$f":"IF(AND($N$27<>\"Natação Adulta\",$N$27<>\"Natação Bebê\",$N$27<>\"Hidroginástica\"),$Q$34,0)","v":61},{"$f":"IF($N$27=\"Hidroginástica\",$Q$34,0)","v":0},null,{"$f":"IF($N$27=\"Natação Adulta\",$Q$33,0)","v":0},{"$f":"IF($N$27=\"Natação Bebê\",$Q$33,0)","v":0},{"$f":"IF(AND($N$27<>\"Natação Adulta\",$N$27<>\"Natação Bebê\",$N$27<>\"Hidroginástica\"),$Q$33,0)","v":113},{"$f":"IF($N$27=\"Hidroginástica\",$Q$33,0)","v":0}]
[null,null,4,null,null,3,null,null,null,null,null,null,null,null,null,null,null,null,null,"Salário Líquido",null,null,{"$f":"BE20","v":1958.2947766},null,null,null,null,null,null,null,null,null,null,null,null,null,null,null,null,null,null,null,"Adaptação",113,null,{"$f":"IF($N$38=\"Natação Adulta\",$Q$46,0)","v":0},{"$f":"IF($N$38=\"Natação Bebê\",$Q$46,0)","v":0},{"$f":"IF(AND($N$38<>\"Natação Adulta\",$N$38<>\"Natação Bebê\",$N$38<>\"Hidroginástica\"),$Q$46,0)","v":""},{"$f":"IF($N$38=\"Hidroginástica\",$Q$46,0)","v":0},null,{"$f":"IF($N$38=\"Natação Adulta\",$Q$45,0)","v":0},{"$f":"IF($N$38=\"Natação Bebê\",$Q$45,0)","v":0},{"$f":"IF(AND($N$38<>\"Natação Adulta\",$N$38<>\"Natação Bebê\",$N$38<>\"Hidroginástica\"),$Q$45,0)","v":""},{"$f":"IF($N$38=\"Hidroginástica\",$Q$45,0)","v":0},null,{"$f":"IF($N$38=\"Natação Adulta\",$Q$44,0)","v":0},{"$f":"IF($N$38=\"Natação Bebê\",$Q$44,0)","v":0},{"$f":"IF(AND($N$38<>\"Natação Adulta\",$N$38<>\"Natação Bebê\",$N$38<>\"Hidroginástica\"),$Q$44,0)","v":""},{"$f":"IF($N$38=\"Hidroginástica\",$Q$44,0)","v":0}]
[null,null,6,null,null,2,null,null,null,null,null,null,null,null,null,null,null,null,null,null,null,null,null,null,null,null,null,null,null,null,null,null,null,null,null,null,null,null,null,null,null,null,"Iniciação",0,null,{"$f":"IF($N$49=\"Natação Adulta\",$Q$57,0)","v":0},{"$f":"IF($N$49=\"Natação Bebê\",$Q$57,0)","v":0},{"$f":"IF(AND($N$49<>\"Natação Adulta\",$N$49<>\"Natação Bebê\",$N$49<>\"Hidroginástica\"),$Q$57,0)","v":""},{"$f":"IF($N$49=\"Hidroginástica\",$Q$57,0)","v":0},null,{"$f":"IF($N$49=\"Natação Adulta\",$Q$56,0)","v":0},{"$f":"IF($N$49=\"Natação Bebê\",$Q$56,0)","v":0},{"$f":"IF(AND($N$49<>\"Natação Adulta\",$N$49<>\"Natação Bebê\",$N$49<>\"Hidroginástica\"),$Q$56,0)","v":""},{"$f":"IF($N$49=\"Hidroginástica\",$Q$56,0)","v":0},null,{"$f":"IF($N$49=\"Natação Adulta\",$Q$55,0)","v":0},{"$f":"IF($N$49=\"Natação Bebê\",$Q$55,0)","v":0},{"$f":"IF(AND($N$49<>\"Natação Adulta\",$N$49<>\"Natação Bebê\",$N$49<>\"Hidroginástica\"),$Q$55,0)","v":""},{"$f":"IF($N$49=\"Hidroginástica\",$Q$55,0)","v":0}]
[null,null,5,null,null,1,null,null,null,null,null,null,"Natação Infantil",null,null,null,null,null,null,null,"Natação Adulta",null,null,"Hidroginástica",null,null,null,null,null,null,null,null,null,null,null,null,null,null,null,null,null,null,"Hidroginástica",0,null,{"$f":"IF($N$60=\"Natação Adulta\",$Q$68,0)","v":0},{"$f":"IF($N$60=\"Natação Bebê\",$Q$68,0)","v":0},{"$f":"IF(AND($N$60<>\"Natação Adulta\",$N$60<>\"Natação Bebê\",$N$60<>\"Hidroginástica\"),$Q$68,0)","v":""},{"$f":"IF($N$60=\"Hidroginástica\",$Q$68,0)","v":0},null,{"$f":"IF($N$60=\"Natação Adulta\",$Q$67,0)","v":0},{"$f":"IF($N$60=\"Natação Bebê\",$Q$67,0)","v":0},{"$f":"IF(AND($N$60<>\"Natação Adulta\",$N$60<>\"Natação Bebê\",$N$60<>\"Hidroginástica\"),$Q$67,0)","v":""},{"$f":"IF($N$60=\"Hidroginástica\",$Q$67,0)","v":0},null,{"$f":"IF($N$60=\"Natação Adulta\",$Q$66,0)","v":0},{"$f":"IF($N$60=\"Natação Bebê\",$Q$66,0)","v":0},{"$f":"IF(AND($N$60<>\"Natação Adulta\",$N$60<>\"Natação Bebê\",$N$60<>\"Hidroginástica\"),$Q$66,0)","v":""},{"$f":"IF($N$60=\"Hidroginástica\",$Q$66,0)","v":0}]
[null,null,4,null,null,2,null,null,null,null,null,null,"Natação Bebê",null,"Demais",null,"Total Infantil",null,null,null,"Alunos",{"$f":"BD11","v":0},null,"Alunos",{"$f":"BG11","v":0},null,null,null,null,null,null,null,null,null,null,null,null,null,null,null,null,null,null,null,null,{"$f":"IF($N$71=\"Natação Adulta\",$Q$79,0)","v":0},{"$f":"IF($N$71=\"Natação Bebê\",$Q$79,0)","v":0},{"$f":"IF(AND($N$71<>\"Natação Adulta\",$N$71<>\"Natação Bebê\",$N$71<>\"Hidroginástica\"),$Q$79,0)","v":""},{"$f":"IF($N$71=\"Hidroginástica\",$Q$79,0)","v":0},null,{"$f":"IF($N$71=\"Natação Adulta\",$Q$78,0)","v":0},{"$f":"IF($N$71=\"Natação Bebê\",$Q$78,0)","v":0},{"$f":"IF(AND($N$71<>\"Natação Adulta\",$N$71<>\"Natação Bebê\",$N$71<>\"Hidroginástica\"),$Q$78,0)","v":""},{"$f":"IF($N$71=\"Hidroginástica\",$Q$78,0)","v":0},null,{"$f":"IF($N$71=\"Natação Adulta\",$Q$77,0)","v":0},{"$f":"IF($N$71=\"Natação Bebê\",$Q$77,0)","v":0},{"$f":"IF(AND($N$71<>\"Natação Adulta\",$N$71<>\"Natação Bebê\",$N$71<>\"Hidroginástica\"),$Q$77,0)","v":""},{"$f":"IF($N$71=\"Hidroginástica\",$Q$77,0)","v":0}]
[null,null,8,null,null,2,null,null,null,null,"Contábil",null,"Alunos",{"$f":"BE11","v":67},"Alunos",{"$f":"BF11","v":113},"Alunos",{"$f":"N10+P10","v":180},null,null,"Aulas",{"$f":"AY11","v":0},null,"Aulas",{"$f":"BB11","v":0},null,null,null,null,null,null,null,null,null,null,null,null,null,null,null,null,null,null,null,null,{"$f":"IF($N$82=\"Natação Adulta\",$Q$90,0)","v":0},{"$f":"IF($N$82=\"Natação Bebê\",$Q$90,0)","v":0},{"$f":"IF(AND($N$82<>\"Natação Adulta\",$N$82<>\"Natação Bebê\",$N$82<>\"Hidroginástica\"),$Q$90,0)","v":""},{"$f":"IF($N$82=\"Hidroginástica\",$Q$90,0)","v":0},null,{"$f":"IF($N$82=\"Natação Adulta\",$Q$89,0)","v":0},{"$f":"IF($N$82=\"Natação Bebê\",$Q$89,0)","v":0},{"$f":"IF(AND($N$82<>\"Natação Adulta\",$N$82<>\"Natação Bebê\",$N$82<>\"Hidroginástica\"),$Q$89,0)","v":""},{"$f":"IF($N$82=\"Hidroginástica\",$Q$89,0)","v":0},null,{"$f":"IF($N$82=\"Natação Adulta\",$Q$88,0)","v":0},{"$f":"IF($N$82=\"Natação Bebê\",$Q$88,0)","v":0},{"$f":"IF(AND($N$82<>\"Natação Adulta\",$N$82<>\"Natação Bebê\",$N$82<>\"Hidroginástica\"),$Q$88,0)","v":""},{"$f":"IF($N$82=\"Hidroginástica\",$Q$88,0)","v":0}]
[null,null,5,null,null,2,null,null,null,null,"Sistema",null,"Aulas",{"$f":"AZ11","v":16},"Aulas",{"$f":"BA11","v":61},"Aulas",77,null,null,"Bruto",{"$f":"AT11","v":0},null,"Bruto",{"$f":"AW11","v":0},null,null,null,null,null,null,null,null,null,null,null,null,null,null,null,null,null,null,null,null,{"$f":"SUM(AT4:AT10)","v":0},{"$f":"SUM(AU4:AU10)","v":507.62833000000006},1624.3659299999999,0,null,{"$f":"SUM(AY4:AY10)","v":0},{"$f":"SUM(AZ4:AZ10)","v":16},61,0,null,{"$f":"SUM(BD4:BD10)","v":0},{"$f":"SUM(BE4:BE10)","v":67},113,0]
[null,null,3,null,null,3,null,null,null,null,"Sistema",null,"Bruto",{"$f":"AU11","v":507.62833000000006},"Bruto",{"$f":"AV11","v":1624.3659299999999},"Bruto",2131.9942599999999,null,null,"INSS",{"$f":"AZ15","v":0},null,"INSS",{"$f":"BB15","v":0}]
[null,null,6,null,null,1,null,null,null,null,null,null,"INSS",{"$f":"AU15","v":38.07212475},"INSS",{"$f":"AW15","v":128.01293369999999},"INSS",166.08505844999999,null,null,"Líquido",{"$f":"V11-V12","v":0},null,"Líquido",{"$f":"Y11-Y12","v":0},null,null,null,null,null,null,null,null,null,null,null,null,null,null,null,null,null,null,null,null,"Natação Bebê",null,"Demais",null,null,"Natação Adulta",null,"Hidroginástica",null,null,"Bruto Informado",{"$f":"AU14+AW14+AZ14+BB14","v":2131.9942599999999}]
[null,null,3,null,null,2,null,null,null,null,null,null,"Líquido",{"$f":"N12-N13","v":469.55620525000006},"Líquido",{"$f":"P12-P13","v":1496.3529962999999},"Líquido",{"$f":"N14+P14","v":1965.90920155},null,null,null,null,null,null,null,null,null,null,null,null,null,null,null,null,null,null,null,null,null,null,null,null,null,null,null,"Salário",{"$f":"AU11","v":507.62833000000006},"Salário",{"$f":"AV11","v":1624.3659299999999},null,"Salário",{"$f":"AT11","v":0},"Salário",{"$f":"AW11","v":0},null,"INSS ",{"$f":"IF(BE13<=Impostos!$D$4,BE13*Impostos!$B$4,IF(BE13<=Impostos!$D$5,(BE13-Impostos!$D$4)*Impostos!$B$5+Impostos!$E$4,IF(BE13<=Impostos!$D$6,(BE13-(Impostos!$D$5-Impostos!$D$4)-Impostos!$D$4)*Impostos!$B$6+Impostos!$E$5+Impostos!$E$4,IF(BE13<=Impostos!$D$7,(BE13-(Impostos!$D$6-Impostos!$D$5)-(Impostos!$D$5-Impostos!$D$4)-Impostos!$D$4)*Impostos!$B$7+Impostos!$E$6+Impostos!$E$5+Impostos!$E$4,IF(BE13>=Impostos!$E$7,Impostos!$E$7)))))","v":173.69948339999996}]
[null,null,1,null,null,2,null,null,null,null,null,null,null,null,null,null,null,null,null,null,null,null,null,null,null,null,null,null,null,null,null,null,null,null,null,null,null,null,null,null,null,null,null,null,null,"INSS",{"$f":"IF(AU14<=Impostos!$D$4,AU14*Impostos!$B$4,IF(AU14<=Impostos!$D$5,(AU14-Impostos!$D$4)*Impostos!$B$5+Impostos!$E$4,IF(AU14<=Impostos!$D$6,(AU14-(Impostos!$D$5-Impostos!$D$4)-Impostos!$D$4)*Impostos!$B$6+Impostos!$E$5+Impostos!$E$4,IF(AU14<=Impostos!$D$7,(AU14-(Impostos!$D$6-Impostos!$D$5)-(Impostos!$D$5-Impostos!$D$4)-Impostos!$D$4)*Impostos!$B$7+Impostos!$E$6+Impostos!$E$5+Impostos!$E$4,IF(AU14>=Impostos!$E$7,Impostos!$E$7)))))","v":38.07212475},"INSS",{"$f":"IF(AW14<=Impostos!$D$4,AW14*Impostos!$B$4,IF(AW14<=Impostos!$D$5,(AW14-Impostos!$D$4)*Impostos!$B$5+Impostos!$E$4,IF(AW14<=Impostos!$D$6,(AW14-(Impostos!$D$5-Impostos!$D$4)-Impostos!$D$4)*Impostos!$B$6+Impostos!$E$5+Impostos!$E$4,IF(AW14<=Impostos!$D$7,(AW14-(Impostos!$D$6-Impostos!$D$5)-(Impostos!$D$5-Impostos!$D$4)-Impostos!$D$4)*Impostos!$B$7+Impostos!$E$6+Impostos!$E$5+Impostos!$E$4,IF(AW14>=Impostos!$E$7,Impostos!$E$7)))))","v":128.01293369999999},null,"INSS",{"$f":"IF(AZ14<=Impostos!$D$4,AZ14*Impostos!$B$4,IF(AZ14<=Impostos!$D$5,(AZ14-Impostos!$D$4)*Impostos!$B$5+Impostos!$E$4,IF(AZ14<=Impostos!$D$6,(AZ14-(Impostos!$D$5-Impostos!$D$4)-Impostos!$D$4)*Impostos!$B$6+Impostos!$E$5+Impostos!$E$4,IF(AZ14<=Impostos!$D$7,(AZ14-(Impostos!$D$6-Impostos!$D$5)-(Impostos!$D$5-Impostos!$D$4)-Impostos!$D$4)*Impostos!$B$7+Impostos!$E$6+Impostos!$E$5+Impostos!$E$4,IF(AZ14>=Impostos!$E$7,Impostos!$E$7)))))","v":0},"INSS",{"$f":"IF(BB14<=Impostos!$D$4,BB14*Impostos!$B$4,IF(BB14<=Impostos!$D$5,(BB14-Impostos!$D$4)*Impostos!$B$5+Impostos!$E$4,IF(BB14<=Impostos!$D$6,(BB14-(Impostos!$D$5-Impostos!$D$4)-Impostos!$D$4)*Impostos!$B$6+Impostos!$E$5+Impostos!$E$4,IF(BB14<=Impostos!$D$7,(BB14-(Impostos!$D$6-Impostos!$D$5)-(Impostos!$D$5-Impostos!$D$4)-Impostos!$D$4)*Impostos!$B$7+Impostos!$E$6+Impostos!$E$5+Impostos!$E$4,IF(BB14>=Impostos!$E$7,Impostos!$E$7)))))","v":0},null,"Líquido ",{"$f":"BE13-BE14","v":1958.2947766}]
[null,null,5,null,null,1,null,null,null,null,"Modalidade",null,null,"Natação Bebê",null,null,"Nível","Prof. Nível A",null,null,null,null,null,null,null,null,null,null,null,null,{"$f":"VLOOKUP(N16,Configurações!$J$1:$V$9,2,0)","v":"0"},{"$f":"VLOOKUP(N16,Configurações!$J$1:$V$9,3,0)","v":"0"},{"$f":"VLOOKUP(N16,Configurações!$J$1:$V$9,4,0)","v":"1 "},{"$f":"VLOOKUP(N16,Configurações!$J$1:$V$9,5,0)","v":" 4"},{"$f":"VLOOKUP(N16,Configurações!$J$1:$V$9,6,0)","v":"5 "},{"$f":"VLOOKUP(N16,Configurações!$J$1:$V$9,7,0)","v":" 8"},{"$f":"VLOOKUP(N16,Configurações!$J$1:$V$9,8,0)","v":"9 "},{"$f":"VLOOKUP(N16,Configurações!$J$1:$V$9,9,0)","v":"12"},{"$f":"VLOOKUP(N16,Configurações!$J$1:$V$9,10,0)","v":"13"},{"$f":"VLOOKUP(N16,Configurações!$J$1:$V$9,11,0)","v":"15"},{"$f":"VLOOKUP(N16,Configurações!$J$1:$V$9,12,0)","v":""},{"$f":"VLOOKUP(N16,Configurações!$J$1:$V$9,13,0)","v":""}]
[null,null,6,null,null,6,null,null,null,null,"Academia",null,null,null,null,null,null,null,null,null,"Contabilidade",null,null,null,null,null,null,null,null,null,{"$f":"IFERROR(VLOOKUP(N16,_xlfn.ANCHORARRAY($AQ$2),2,0),0)","v":67},null,null,null,null,null,null,null,null,null,null,null,null,null,null,null,null,null,null,null,null,null,null,null,null,"Líquido Calcl",{"$f":"R14+V13+Y13","v":1965.90920155}]
[null,null,4,null,null,2,null,null,null,null,"Nr. de Alunos",null,null,{"$f":"IF(AF23<>\"\",AF23,\"\")","v":0},{"$f":"IF(AG23<>\"\",AG23,\"\")","v":"1 a 4"},{"$f":"IF(AH23<>\"\",AH23,\"\")","v":"5 a 8"},{"$f":"IF(AI23<>\"\",AI23,\"\")","v":"9 a 12"},{"$f":"IF(AJ23<>\"\",AJ23,\"\")","v":"13 a 15"},{"$f":"IF(AK23<>0,AK23,\"\")","v":""},null,"Nr. de Alunos",null,{"$f":"N18","v":0},{"$f":"O18","v":"1 a 4"},"5 a 8","9 a 12","13 a 15","",null,null,null,{"$f":"IF($N$16=$AE$2,COUNTIF($B$4:$B$100,\">=\"&AE16)-COUNTIF($B$4:$B$100,\">\"&AF16),\nIF($N$16=$AF$2,COUNTIF($C$4:$C$100,\">=\"&AE16)-COUNTIF($C$4:$C$100,\">\"&AF16),\nIF($N$16=$AG$2,COUNTIF($D$4:$D$100,\">=\"&AE16)-COUNTIF($D$4:$D$100,\">\"&AF16),\nIF($N$16=$AH$2,COUNTIF($E$4:$E$100,\">=\"&AE16)-COUNTIF($E$4:$E$100,\">\"&AF16),\nIF($N$16=$AI$2,COUNTIF($F$4:$F$100,\">=\"&AE16)-COUNTIF($F$4:$F$100,\">\"&AF16),\nIF($N$16=$AJ$2,COUNTIF($G$4:$G$100,\">=\"&AE16)-COUNTIF($G$4:$G$100,\">\"&AF16),\nIF($N$16=$AK$2,COUNTIF($H$4:$H$100,\">=\"&AE16)-COUNTIF($H$4:$H$100,\">\"&AF16),\nIF($N$16=\"Sem Uso\",\"\"))))))))","v":1},{"$f":"IF($N$16=$AE$2,COUNTIF($B$4:$B$100,\">=\"&AG16)-COUNTIF($B$4:$B$100,\">\"&AH16),\nIF($N$16=$AF$2,COUNTIF($C$4:$C$100,\">=\"&AG16)-COUNTIF($C$4:$C$100,\">\"&AH16),\nIF($N$16=$AG$2,COUNTIF($D$4:$D$100,\">=\"&AG16)-COUNTIF($D$4:$D$100,\">\"&AH16),\nIF($N$16=$AH$2,COUNTIF($E$4:$E$100,\">=\"&AG16)-COUNTIF($E$4:$E$100,\">\"&AH16),\nIF($N$16=$AI$2,COUNTIF($F$4:$F$100,\">=\"&AG16)-COUNTIF($F$4:$F$100,\">\"&AH16),\nIF($N$16=$AJ$2,COUNTIF($G$4:$G$100,\">=\"&AG16)-COUNTIF($G$4:$G$100,\">\"&AH16),\nIF($N$16=$AK$2,COUNTIF($H$4:$H$100,\">=\"&AG16)-COUNTIF($H$4:$H$100,\">\"&AH16),\nIF($N$16=\"Sem Uso\",\"\"))))))))","v":8},{"$f":"IF($N$16=$AE$2,COUNTIF($B$4:$B$100,\">=\"&AI16)-COUNTIF($B$4:$B$100,\">\"&AJ16),\nIF($N$16=$AF$2,COUNTIF($C$4:$C$100,\">=\"&AI16)-COUNTIF($C$4:$C$100,\">\"&AJ16),\nIF($N$16=$AG$2,COUNTIF($D$4:$D$100,\">=\"&AI16)-COUNTIF($D$4:$D$100,\">\"&AJ16),\nIF($N$16=$AH$2,COUNTIF($E$4:$E$100,\">=\"&AI16)-COUNTIF($E$4:$E$100,\">\"&AJ16),\nIF($N$16=$AI$2,COUNTIF($F$4:$F$100,\">=\"&AI16)-COUNTIF($F$4:$F$100,\">\"&AJ16),\nIF($N$16=$AJ$2,COUNTIF($G$4:$G$100,\">=\"&AI16)-COUNTIF($G$4:$G$100,\">\"&AJ16),\nIF($N$16=$AK$2,COUNTIF($H$4:$H$100,\">=\"&AI16)-COUNTIF($H$4:$H$100,\">\"&AJ16),\nIF($N$16=\"Sem Uso\",\"\"))))))))","v":7},{"$f":"IF($N$16=$AE$2,COUNTIF($B$4:$B$100,\">=\"&AK16)-COUNTIF($B$4:$B$100,\">\"&AL16),\nIF($N$16=$AF$2,COUNTIF($C$4:$C$100,\">=\"&AK16)-COUNTIF($C$4:$C$100,\">\"&AL16),\nIF($N$16=$AG$2,COUNTIF($D$4:$D$100,\">=\"&AK16)-COUNTIF($D$4:$D$100,\">\"&AL16),\nIF($N$16=$AH$2,COUNTIF($E$4:$E$100,\">=\"&AK16)-COUNTIF($E$4:$E$100,\">\"&AL16),\nIF($N$16=$AI$2,COUNTIF($F$4:$F$100,\">=\"&AK16)-COUNTIF($F$4:$F$100,\">\"&AL16),\nIF($N$16=$AJ$2,COUNTIF($G$4:$G$100,\">=\"&AK16)-COUNTIF($G$4:$G$100,\">\"&AL16),\nIF($N$16=$AK$2,COUNTIF($H$4:$H$100,\">=\"&AK16)-COUNTIF($H$4:$H$100,\">\"&AL16),\nIF($N$16=\"Sem Uso\",\"\"))))))))","v":0},{"$f":"IF($N$16=$AE$2,COUNTIF($B$4:$B$100,\">=\"&AM16)-COUNTIF($B$4:$B$100,\">\"&AN16),\nIF($N$16=$AF$2,COUNTIF($C$4:$C$100,\">=\"&AM16)-COUNTIF($C$4:$C$100,\">\"&AN16),\nIF($N$16=$AG$2,COUNTIF($D$4:$D$100,\">=\"&AM16)-COUNTIF($D$4:$D$100,\">\"&AN16),\nIF($N$16=$AH$2,COUNTIF($E$4:$E$100,\">=\"&AM16)-COUNTIF($E$4:$E$100,\">\"&AN16),\nIF($N$16=$AI$2,COUNTIF($F$4:$F$100,\">=\"&AM16)-COUNTIF($F$4:$F$100,\">\"&AN16),\nIF($N$16=$AJ$2,COUNTIF($G$4:$G$100,\">=\"&AM16)-COUNTIF($G$4:$G$100,\">\"&AN16),\nIF($N$16=$AK$2,COUNTIF($H$4:$H$100,\">=\"&AM16)-COUNTIF($H$4:$H$100,\">\"&AN16),\nIF($N$16=\"Sem Uso\",\"\"))))))))","v":0},{"$f":"IF($N$16=$AE$2,COUNTIF($B$4:$B$100,\">=\"&AO16)-COUNTIF($B$4:$B$100,\">\"&AP16),\nIF($N$16=$AF$2,COUNTIF($C$4:$C$100,\">=\"&AO16)-COUNTIF($C$4:$C$100,\">\"&AP16),\nIF($N$16=$AG$2,COUNTIF($D$4:$D$100,\">=\"&AO16)-COUNTIF($D$4:$D$100,\">\"&AP16),\nIF($N$16=$AH$2,COUNTIF($E$4:$E$100,\">=\"&AO16)-COUNTIF($E$4:$E$100,\">\"&AP16),\nIF($N$16=$AI$2,COUNTIF($F$4:$F$100,\">=\"&AO16)-COUNTIF($F$4:$F$100,\">\"&AP16),\nIF($N$16=$AJ$2,COUNTIF($G$4:$G$100,\">=\"&AO16)-COUNTIF($G$4:$G$100,\">\"&AP16),\nIF($N$16=$AK$2,COUNTIF($H$4:$H$100,\">=\"&AO16)-COUNTIF($H$4:$H$100,\">\"&AP16),\nIF($N$16=\"Sem Uso\",\"\"))))))))","v":0},null,null,null,null,null,null,null,null,null,null,null,null,null,null,null,null,null,null,"Diferença",{"$f":"BE15-BE17","v":-7.6144249500000569}]
[null,null,0,null,null,3,null,null,null,null,"Valor da Aula",null,null,{"$f":"IF(AF25<>0,AF25,\"\")","v":17.655000000000001},30.319520000000004,35.345309999999998,40.783049999999996,46.220790000000001,"",null,"Valor da Aula",null,{"$f":"IFERROR(IF(N19<=$S$23,0,N19-$S$23),\"\")","v":17.655000000000001},30.319520000000004,35.345309999999998,40.783049999999996,46.220790000000001,0]
[null,null,null,null,null,3,null,null,null,null,"Nr. de Aulas",null,null,{"$f":"IF(AF23<>\"\",AF24,\"\")","v":1},8,7,0,0,"",null,"Nr. de Aulas",null,{"$f":"N20","v":1},8,7,0,0,"",null,null,{"$f":"IF(N20<>\"\",N20,\"\")","v":1},8,7,0,0,"",null,null,null,null,null,null,null,null,null,null,null,null,null,null,null,null,null,null,null,"Líquido Real",{"$f":"BE17+BE18","v":1958.2947766}]
[null,null,null,null,null,3,null,null,null,null,"Valor",null,null,{"$f":"IFERROR(N19*N20,\"\")","v":17.655000000000001},242.55616000000003,247.41717,0,0,"",null,"Valor",null,{"$f":"IFERROR(W19*W20,\"\")","v":17.655000000000001},242.55616000000003,247.41717,0,0,"",null,null,null,{"$f":"IF($N16<>\"Sem Uso\",VLOOKUP(N16,Configurações!$C$1:$I$8,2,0),\"\")","v":0},{"$f":"IF(N16<>\"Sem Uso\",VLOOKUP(N16,Configurações!$C$1:$I$8,3,0),\"\")","v":"1 a 4"},{"$f":"IF(N16<>\"Sem Uso\",VLOOKUP(N16,Configurações!$C$1:$I$8,4,0),\"\")","v":"5 a 8"},{"$f":"IF(N16<>\"Sem Uso\",VLOOKUP(N16,Configurações!$C$1:$I$8,5,0),\"\")","v":"9 a 12"},{"$f":"IF(N16<>\"Sem Uso\",VLOOKUP(N16,Configurações!$C$1:$I$8,6,0),\"\")","v":"13 a 15"},{"$f":"IF(N16<>\"Sem Uso\",VLOOKUP(N16,Configurações!$C$1:$I$8,7,0),\"\")","v":0}]
[null,null,null,null,null,3,null,null,null,null,null,null,"Total de Alunos",null,null,null,{"$f":"_xlfn.IFS(N16=$AE$2,$B$102,N16=$AF$2,$C$102,N16=$AG$2,$D$102,N16=$AH$2,$E$102,N16=$AI$2,$F$102,N16=$AJ$2,$G$102,N16=$AK$2,$H$102,N16=\"Sem Uso\",\"\")","v":67},null,null,null,null,"Total de Alunos",null,null,null,{"$f":"Q22","v":67},null,null,null,null,"TABELA DE EQUIVALÊNCIA"]
[null,null,null,null,null,2,null,null,null,null,null,null,"Total de Aulas",null,null,null,{"$f":"IF(Q22<>\"\",SUM(AE20:AJ20),\"\")","v":16},"Registo",null,null,null,"Total de Aulas",null,null,null,{"$f":"Q23","v":16},null,null,null,null,"Nr. Alunos",{"$f":"AF21","v":0},{"$f":"IF(AG21<>0,AG21,\"\")","v":"1 a 4"},{"$f":"IF(AH21<>0,AH21,\"\")","v":"5 a 8"},{"$f":"IF(AI21<>0,AI21,\"\")","v":"9 a 12"},{"$f":"IF(AJ21<>0,AJ21,\"\")","v":"13 a 15"},{"$f":"IF(AK21<>0,AK21,\"\")","v":""}]
[null,null,null,null,null,2,null,null,null,null,null,null,"Total a Receber",null,null,null,{"$f":"IF(Q22<>\"\",SUM(N21:S21),\"\")","v":507.62833000000006},null,null,null,null,"Total a Receber",null,null,null,{"$f":"IF(Z22<>\"\",SUM(W21:AB21),\"\")","v":507.62833000000006},null,null,null,null,"Aulas",{"$f":"IF(AF23<>\"\",AF18,\"\")","v":1},8,7,0,0,""]
[null,null,null,null,null,2,null,null,null,null,null,null,null,null,null,null,null,null,null,null,null,null,null,null,null,null,null,null,null,null,null,{"$f":"IFERROR(VLOOKUP(N16&R16,Configurações!$C$13:$I$47,2,0),\"\")","v":17.655000000000001},{"$f":"IFERROR(IF(AG23<>0,VLOOKUP(N16&R16,Configurações!$C$13:$I$47,3,0),\"\"),\"\")","v":30.319520000000004},{"$f":"IFERROR(IF(AH23<>0,VLOOKUP(N16&R16,Configurações!$C$13:$I$47,4,0),\"\"),\"\")","v":35.345309999999998},{"$f":"IFERROR(IF(AI23<>0,VLOOKUP(N16&R16,Configurações!$C$13:$I$47,5,0),\"\"),\"\")","v":40.783049999999996},{"$f":"IFERROR(IF(AJ23<>0,VLOOKUP(N16&R16,Configurações!$C$13:$I$47,6,0),\"\"),\"\")","v":46.220790000000001},{"$f":"IFERROR(IF(AK23<>0,VLOOKUP(N16&R16,Configurações!$C$13:$I$47,7,0),\"\"),\"\")","v":0}]
[null,null,null,null,null,3]
[null,null,null,null,null,3,null,null,null,null,"Modalidade",null,null,"Adaptação",null,null,"Nível","Prof. Nível A",null,null,null,null,null,null,null,null,null,null,null,null,{"$f":"VLOOKUP(N27,Configurações!$J$1:$V$9,2,0)","v":"0"},{"$f":"VLOOKUP(N27,Configurações!$J$1:$V$9,3,0)","v":"0"},{"$f":"VLOOKUP(N27,Configurações!$J$1:$V$9,4,0)","v":"1 "},{"$f":"VLOOKUP(N27,Configurações!$J$1:$V$9,5,0)","v":" 2"},{"$f":"VLOOKUP(N27,Configurações!$J$1:$V$9,6,0)","v":"3 "},{"$f":"VLOOKUP(N27,Configurações!$J$1:$V$9,7,0)","v":" 4"},{"$f":"VLOOKUP(N27,Configurações!$J$1:$V$9,8,0)","v":"5 "},{"$f":"VLOOKUP(N27,Configurações!$J$1:$V$9,9,0)","v":" 6"},{"$f":"VLOOKUP(N27,Configurações!$J$1:$V$9,10,0)","v":"7 "},{"$f":"VLOOKUP(N27,Configurações!$J$1:$V$9,11,0)","v":" 8"},{"$f":"VLOOKUP(N27,Configurações!$J$1:$V$9,12,0)","v":""},{"$f":"VLOOKUP(N27,Configurações!$J$1:$V$9,13,0)","v":""}]
[null,null,null,null,null,1,null,null,null,null,"Academia",null,null,null,null,null,null,null,null,null,"Contabilidade",null,null,null,null,null,null,null,null,null,{"$f":"IFERROR(VLOOKUP(N27,_xlfn.ANCHORARRAY($AQ$2),2,0),0)","v":113}]
[null,null,null,null,null,2,null,null,null,null,"Nr. de Alunos",null,null,{"$f":"IF(AF34<>\"\",AF34,\"\")","v":0},{"$f":"IF(AG34<>\"\",AG34,\"\")","v":"1 a 2"},{"$f":"IF(AH34<>\"\",AH34,\"\")","v":"3 a 4"},{"$f":"IF(AI34<>\"\",AI34,\"\")","v":"5 a 6"},{"$f":"IF(AJ34<>\"\",AJ34,\"\")","v":"7 a 8"},{"$f":"IF(AK34<>0,AK34,\"\")","v":""},null,"Nr. de Alunos",null,{"$f":"N29","v":0},{"$f":"O29","v":"1 a 2"},"3 a 4","5 a 6","7 a 8","",null,null,null,{"$f":"IF($N$27=$AE$2,COUNTIF($B$4:$B$100,\">=\"&AE27)-COUNTIF($B$4:$B$100,\">\"&AF27),\nIF($N$27=$AF$2,COUNTIF($C$4:$C$100,\">=\"&AE27)-COUNTIF($C$4:$C$100,\">\"&AF27),\nIF($N$27=$AG$2,COUNTIF($D$4:$D$100,\">=\"&AE27)-COUNTIF($D$4:$D$100,\">\"&AF27),\nIF($N$27=$AH$2,COUNTIF($E$4:$E$100,\">=\"&AE27)-COUNTIF($E$4:$E$100,\">\"&AF27),\nIF($N$27=$AI$2,COUNTIF($F$4:$F$100,\">=\"&AE27)-COUNTIF($F$4:$F$100,\">\"&AF27),\nIF($N$27=$AJ$2,COUNTIF($G$4:$G$100,\">=\"&AE27)-COUNTIF($G$4:$G$100,\">\"&AF27),\nIF($N$27=$AK$2,COUNTIF($H$4:$H$100,\">=\"&AE27)-COUNTIF($H$4:$H$100,\">\"&AF27),\nIF($N$27=\"Sem Uso\",\"\"))))))))","v":10},{"$f":"IF($N$27=$AE$2,COUNTIF($B$4:$B$100,\">=\"&AG27)-COUNTIF($B$4:$B$100,\">\"&AH27),\nIF($N$27=$AF$2,COUNTIF($C$4:$C$100,\">=\"&AG27)-COUNTIF($C$4:$C$100,\">\"&AH27),\nIF($N$27=$AG$2,COUNTIF($D$4:$D$100,\">=\"&AG27)-COUNTIF($D$4:$D$100,\">\"&AH27),\nIF($N$27=$AH$2,COUNTIF($E$4:$E$100,\">=\"&AG27)-COUNTIF($E$4:$E$100,\">\"&AH27),\nIF($N$27=$AI$2,COUNTIF($F$4:$F$100,\">=\"&AG27)-COUNTIF($F$4:$F$100,\">\"&AH27),\nIF($N$27=$AJ$2,COUNTIF($G$4:$G$100,\">=\"&AG27)-COUNTIF($G$4:$G$100,\">\"&AH27),\nIF($N$27=$AK$2,COUNTIF($H$4:$H$100,\">=\"&AG27)-COUNTIF($H$4:$H$100,\">\"&AH27),\nIF($N$27=\"Sem Uso\",\"\"))))))))","v":32},{"$f":"IF($N$27=$AE$2,COUNTIF($B$4:$B$100,\">=\"&AI27)-COUNTIF($B$4:$B$100,\">\"&AJ27),\nIF($N$27=$AF$2,COUNTIF($C$4:$C$100,\">=\"&AI27)-COUNTIF($C$4:$C$100,\">\"&AJ27),\nIF($N$27=$AG$2,COUNTIF($D$4:$D$100,\">=\"&AI27)-COUNTIF($D$4:$D$100,\">\"&AJ27),\nIF($N$27=$AH$2,COUNTIF($E$4:$E$100,\">=\"&AI27)-COUNTIF($E$4:$E$100,\">\"&AJ27),\nIF($N$27=$AI$2,COUNTIF($F$4:$F$100,\">=\"&AI27)-COUNTIF($F$4:$F$100,\">\"&AJ27),\nIF($N$27=$AJ$2,COUNTIF($G$4:$G$100,\">=\"&AI27)-COUNTIF($G$4:$G$100,\">\"&AJ27),\nIF($N$27=$AK$2,COUNTIF($H$4:$H$100,\">=\"&AI27)-COUNTIF($H$4:$H$100,\">\"&AJ27),\nIF($N$27=\"Sem Uso\",\"\"))))))))","v":18},{"$f":"IF($N$27=$AE$2,COUNTIF($B$4:$B$100,\">=\"&AK27)-COUNTIF($B$4:$B$100,\">\"&AL27),\nIF($N$27=$AF$2,COUNTIF($C$4:$C$100,\">=\"&AK27)-COUNTIF($C$4:$C$100,\">\"&AL27),\nIF($N$27=$AG$2,COUNTIF($D$4:$D$100,\">=\"&AK27)-COUNTIF($D$4:$D$100,\">\"&AL27),\nIF($N$27=$AH$2,COUNTIF($E$4:$E$100,\">=\"&AK27)-COUNTIF($E$4:$E$100,\">\"&AL27),\nIF($N$27=$AI$2,COUNTIF($F$4:$F$100,\">=\"&AK27)-COUNTIF($F$4:$F$100,\">\"&AL27),\nIF($N$27=$AJ$2,COUNTIF($G$4:$G$100,\">=\"&AK27)-COUNTIF($G$4:$G$100,\">\"&AL27),\nIF($N$27=$AK$2,COUNTIF($H$4:$H$100,\">=\"&AK27)-COUNTIF($H$4:$H$100,\">\"&AL27),\nIF($N$27=\"Sem Uso\",\"\"))))))))","v":1},{"$f":"IF($N$27=$AE$2,COUNTIF($B$4:$B$100,\">=\"&AM27)-COUNTIF($B$4:$B$100,\">\"&AN27),\nIF($N$27=$AF$2,COUNTIF($C$4:$C$100,\">=\"&AM27)-COUNTIF($C$4:$C$100,\">\"&AN27),\nIF($N$27=$AG$2,COUNTIF($D$4:$D$100,\">=\"&AM27)-COUNTIF($D$4:$D$100,\">\"&AN27),\nIF($N$27=$AH$2,COUNTIF($E$4:$E$100,\">=\"&AM27)-COUNTIF($E$4:$E$100,\">\"&AN27),\nIF($N$27=$AI$2,COUNTIF($F$4:$F$100,\">=\"&AM27)-COUNTIF($F$4:$F$100,\">\"&AN27),\nIF($N$27=$AJ$2,COUNTIF($G$4:$G$100,\">=\"&AM27)-COUNTIF($G$4:$G$100,\">\"&AN27),\nIF($N$27=$AK$2,COUNTIF($H$4:$H$100,\">=\"&AM27)-COUNTIF($H$4:$H$100,\">\"&AN27),\nIF($N$27=\"Sem Uso\",\"\"))))))))","v":0},{"$f":"IF($N$27=$AE$2,COUNTIF($B$4:$B$100,\">=\"&AO27)-COUNTIF($B$4:$B$100,\">\"&AP27),\nIF($N$27=$AF$2,COUNTIF($C$4:$C$100,\">=\"&AO27)-COUNTIF($C$4:$C$100,\">\"&AP27),\nIF($N$27=$AG$2,COUNTIF($D$4:$D$100,\">=\"&AO27)-COUNTIF($D$4:$D$100,\">\"&AP27),\nIF($N$27=$AH$2,COUNTIF($E$4:$E$100,\">=\"&AO27)-COUNTIF($E$4:$E$100,\">\"&AP27),\nIF($N$27=$AI$2,COUNTIF($F$4:$F$100,\">=\"&AO27)-COUNTIF($F$4:$F$100,\">\"&AP27),\nIF($N$27=$AJ$2,COUNTIF($G$4:$G$100,\">=\"&AO27)-COUNTIF($G$4:$G$100,\">\"&AP27),\nIF($N$27=$AK$2,COUNTIF($H$4:$H$100,\">=\"&AO27)-COUNTIF($H$4:$H$100,\">\"&AP27),\nIF($N$27=\"Sem Uso\",\"\"))))))))","v":0}]
[null,null,null,null,null,1,null,null,null,null,"Valor da Aula",null,null,{"$f":"IF(AF36<>0,AF36,\"\")","v":17.655000000000001},26.506039999999999,31.27289,36.710630000000002,40.980999999999995,"",null,"Valor da Aula",null,{"$f":"IFERROR(IF(N30<=$S$34,0,N30-$S$34),\"\")","v":17.655000000000001},26.506039999999999,31.27289,36.710630000000002,40.980999999999995,0]
[null,null,null,null,null,0,null,null,null,null,"Nr. de Aulas",null,null,{"$f":"IF(AF34<>\"\",AF35,\"\")","v":10},32,18,1,0,"",null,"Nr. de Aulas",null,{"$f":"N31","v":10},32,18,1,0,"",null,null,{"$f":"IF(N31<>\"\",N31,\"\")","v":10},32,18,1,0,""]
[null,null,null,null,null,3,null,null,null,null,"Valor",null,null,{"$f":"IFERROR(N30*N31,\"\")","v":176.55},848.19327999999996,562.91201999999998,36.710630000000002,0,"",null,"Valor",null,{"$f":"IFERROR(W30*W31,\"\")","v":176.55},848.19327999999996,562.91201999999998,36.710630000000002,0,"",null,null,null,{"$f":"IF($N27<>\"Sem Uso\",VLOOKUP(N27,Configurações!$C$1:$I$8,2,0),\"\")","v":0},{"$f":"IF(N27<>\"Sem Uso\",VLOOKUP(N27,Configurações!$C$1:$I$8,3,0),\"\")","v":"1 a 2"},{"$f":"IF(N27<>\"Sem Uso\",VLOOKUP(N27,Configurações!$C$1:$I$8,4,0),\"\")","v":"3 a 4"},{"$f":"IF(N27<>\"Sem Uso\",VLOOKUP(N27,Configurações!$C$1:$I$8,5,0),\"\")","v":"5 a 6"},{"$f":"IF(N27<>\"Sem Uso\",VLOOKUP(N27,Configurações!$C$1:$I$8,6,0),\"\")","v":"7 a 8"},{"$f":"IF(N27<>\"Sem Uso\",VLOOKUP(N27,Configurações!$C$1:$I$8,7,0),\"\")","v":0}]
[null,null,null,null,null,4,null,null,null,null,null,null,"Total de Alunos",null,null,null,{"$f":"_xlfn.IFS(N27=$AE$2,$B$102,N27=$AF$2,$C$102,N27=$AG$2,$D$102,N27=$AH$2,$E$102,N27=$AI$2,$F$102,N27=$AJ$2,$G$102,N27=$AK$2,$H$102,N27=\"Sem Uso\",\"\")","v":113},null,null,null,null,"Total de Alunos",null,null,null,{"$f":"Q33","v":113},null,null,null,null,"TABELA DE EQUIVALÊNCIA"]
[null,null,null,null,null,3,null,null,null,null,null,null,"Total de Aulas",null,null,null,{"$f":"IF(Q33<>\"\",SUM(AE31:AJ31),\"\")","v":61},"Registo",null,null,null,"Total de Aulas",null,null,null,{"$f":"Q34","v":61},null,null,null,null,"Nr. Alunos",{"$f":"AF32","v":0},{"$f":"IF(AG32<>0,AG32,\"\")","v":"1 a 2"},{"$f":"IF(AH32<>0,AH32,\"\")","v":"3 a 4"},{"$f":"IF(AI32<>0,AI32,\"\")","v":"5 a 6"},{"$f":"IF(AJ32<>0,AJ32,\"\")","v":"7 a 8"},{"$f":"IF(AK32<>0,AK32,\"\")","v":""}]
[null,null,null,null,null,2,null,null,null,null,null,null,"Total a Receber",null,null,null,{"$f":"IF(Q33<>\"\",SUM(N32:S32),\"\")","v":1624.3659299999999},null,null,null,null,"Total a Receber",null,null,null,{"$f":"IF(Z33<>\"\",SUM(W32:AB32),\"\")","v":1624.3659299999999},null,null,null,null,"Aulas",{"$f":"IF(AF34<>\"\",AF29,\"\")","v":10},32,18,1,0,""]
[null,null,null,null,null,3,null,null,null,null,null,null,null,null,null,null,null,null,null,null,null,null,null,null,null,null,null,null,null,null,null,{"$f":"IFERROR(VLOOKUP(N27&R27,Configurações!$C$13:$I$47,2,0),\"\")","v":17.655000000000001},{"$f":"IFERROR(IF(AG34<>0,VLOOKUP(N27&R27,Configurações!$C$13:$I$47,3,0),\"\"),\"\")","v":26.506039999999999},{"$f":"IFERROR(IF(AH34<>0,VLOOKUP(N27&R27,Configurações!$C$13:$I$47,4,0),\"\"),\"\")","v":31.27289},{"$f":"IFERROR(IF(AI34<>0,VLOOKUP(N27&R27,Configurações!$C$13:$I$47,5,0),\"\"),\"\")","v":36.710630000000002},{"$f":"IFERROR(IF(AJ34<>0,VLOOKUP(N27&R27,Configurações!$C$13:$I$47,6,0),\"\"),\"\")","v":40.980999999999995},{"$f":"IFERROR(IF(AK34<>0,VLOOKUP(N27&R27,Configurações!$C$13:$I$47,7,0),\"\"),\"\")","v":0}]
[null,null,null,null,null,1]
[null,null,null,null,null,3,null,null,null,null,"Modalidade",null,null,"Sem Uso",null,null,"Nível","Prof. Especial",null,null,null,null,null,null,null,null,null,null,null,null,{"$f":"VLOOKUP(N38,Configurações!$J$1:$V$9,2,0)","v":""},{"$f":"VLOOKUP(N38,Configurações!$J$1:$V$9,3,0)","v":""},{"$f":"VLOOKUP(N38,Configurações!$J$1:$V$9,4,0)","v":""},{"$f":"VLOOKUP(N38,Configurações!$J$1:$V$9,5,0)","v":""},{"$f":"VLOOKUP(N38,Configurações!$J$1:$V$9,6,0)","v":""},{"$f":"VLOOKUP(N38,Configurações!$J$1:$V$9,7,0)","v":""},{"$f":"VLOOKUP(N38,Configurações!$J$1:$V$9,8,0)","v":""},{"$f":"VLOOKUP(N38,Configurações!$J$1:$V$9,9,0)","v":""},{"$f":"VLOOKUP(N38,Configurações!$J$1:$V$9,10,0)","v":""},{"$f":"VLOOKUP(N38,Configurações!$J$1:$V$9,11,0)","v":""},{"$f":"VLOOKUP(N38,Configurações!$J$1:$V$9,12,0)","v":""},{"$f":"VLOOKUP(N38,Configurações!$J$1:$V$9,13,0)","v":""}]
[null,null,null,null,null,0,null,null,null,null,"Academia",null,null,null,null,null,null,null,null,null,"Contabilidade",null,null,null,null,null,null,null,null,null,{"$f":"IFERROR(VLOOKUP(N38,_xlfn.ANCHORARRAY($AQ$2),2,0),0)","v":0}]
[null,null,null,null,null,2,null,null,null,null,"Nr. de Alunos",null,null,{"$f":"IF(AF45<>\"\",AF45,\"\")","v":""},{"$f":"IF(AG45<>\"\",AG45,\"\")","v":""},{"$f":"IF(AH45<>\"\",AH45,\"\")","v":""},{"$f":"IF(AI45<>\"\",AI45,\"\")","v":""},{"$f":"IF(AJ45<>\"\",AJ45,\"\")","v":""},{"$f":"IF(AK45<>0,AK45,\"\")","v":""},null,"Nr. de Alunos",null,{"$f":"N40","v":""},{"$f":"O40","v":""},"","","","",null,null,null,{"$f":"IF($N$38=$AE$2,COUNTIF($B$4:$B$100,\">=\"&AE38)-COUNTIF($B$4:$B$100,\">\"&AF38),\nIF($N$38=$AF$2,COUNTIF($C$4:$C$100,\">=\"&AE38)-COUNTIF($C$4:$C$100,\">\"&AF38),\nIF($N$38=$AG$2,COUNTIF($D$4:$D$100,\">=\"&AE38)-COUNTIF($D$4:$D$100,\">\"&AF38),\nIF($N$38=$AH$2,COUNTIF($E$4:$E$100,\">=\"&AE38)-COUNTIF($E$4:$E$100,\">\"&AF38),\nIF($N$38=$AI$2,COUNTIF($F$4:$F$100,\">=\"&AE38)-COUNTIF($F$4:$F$100,\">\"&AF38),\nIF($N$38=$AJ$2,COUNTIF($G$4:$G$100,\">=\"&AE38)-COUNTIF($G$4:$G$100,\">\"&AF38),\nIF($N$38=$AK$2,COUNTIF($H$4:$H$100,\">=\"&AE38)-COUNTIF($H$4:$H$100,\">\"&AF38),\nIF($N$38=\"Sem Uso\",\"\"))))))))","v":""},{"$f":"IF($N$38=$AE$2,COUNTIF($B$4:$B$100,\">=\"&AG38)-COUNTIF($B$4:$B$100,\">\"&AH38),\nIF($N$38=$AF$2,COUNTIF($C$4:$C$100,\">=\"&AG38)-COUNTIF($C$4:$C$100,\">\"&AH38),\nIF($N$38=$AG$2,COUNTIF($D$4:$D$100,\">=\"&AG38)-COUNTIF($D$4:$D$100,\">\"&AH38),\nIF($N$38=$AH$2,COUNTIF($E$4:$E$100,\">=\"&AG38)-COUNTIF($E$4:$E$100,\">\"&AH38),\nIF($N$38=$AI$2,COUNTIF($F$4:$F$100,\">=\"&AG38)-COUNTIF($F$4:$F$100,\">\"&AH38),\nIF($N$38=$AJ$2,COUNTIF($G$4:$G$100,\">=\"&AG38)-COUNTIF($G$4:$G$100,\">\"&AH38),\nIF($N$38=$AK$2,COUNTIF($H$4:$H$100,\">=\"&AG38)-COUNTIF($H$4:$H$100,\">\"&AH38),\nIF($N$38=\"Sem Uso\",\"\"))))))))","v":""},{"$f":"IF($N$38=$AE$2,COUNTIF($B$4:$B$100,\">=\"&AI38)-COUNTIF($B$4:$B$100,\">\"&AJ38),\nIF($N$38=$AF$2,COUNTIF($C$4:$C$100,\">=\"&AI38)-COUNTIF($C$4:$C$100,\">\"&AJ38),\nIF($N$38=$AG$2,COUNTIF($D$4:$D$100,\">=\"&AI38)-COUNTIF($D$4:$D$100,\">\"&AJ38),\nIF($N$38=$AH$2,COUNTIF($E$4:$E$100,\">=\"&AI38)-COUNTIF($E$4:$E$100,\">\"&AJ38),\nIF($N$38=$AI$2,COUNTIF($F$4:$F$100,\">=\"&AI38)-COUNTIF($F$4:$F$100,\">\"&AJ38),\nIF($N$38=$AJ$2,COUNTIF($G$4:$G$100,\">=\"&AI38)-COUNTIF($G$4:$G$100,\">\"&AJ38),\nIF($N$38=$AK$2,COUNTIF($H$4:$H$100,\">=\"&AI38)-COUNTIF($H$4:$H$100,\">\"&AJ38),\nIF($N$38=\"Sem Uso\",\"\"))))))))","v":""},{"$f":"IF($N$38=$AE$2,COUNTIF($B$4:$B$100,\">=\"&AK38)-COUNTIF($B$4:$B$100,\">\"&AL38),\nIF($N$38=$AF$2,COUNTIF($C$4:$C$100,\">=\"&AK38)-COUNTIF($C$4:$C$100,\">\"&AL38),\nIF($N$38=$AG$2,COUNTIF($D$4:$D$100,\">=\"&AK38)-COUNTIF($D$4:$D$100,\">\"&AL38),\nIF($N$38=$AH$2,COUNTIF($E$4:$E$100,\">=\"&AK38)-COUNTIF($E$4:$E$100,\">\"&AL38),\nIF($N$38=$AI$2,COUNTIF($F$4:$F$100,\">=\"&AK38)-COUNTIF($F$4:$F$100,\">\"&AL38),\nIF($N$38=$AJ$2,COUNTIF($G$4:$G$100,\">=\"&AK38)-COUNTIF($G$4:$G$100,\">\"&AL38),\nIF($N$38=$AK$2,COUNTIF($H$4:$H$100,\">=\"&AK38)-COUNTIF($H$4:$H$100,\">\"&AL38),\nIF($N$38=\"Sem Uso\",\"\"))))))))","v":""},{"$f":"IF($N$38=$AE$2,COUNTIF($B$4:$B$100,\">=\"&AM38)-COUNTIF($B$4:$B$100,\">\"&AN38),\nIF($N$38=$AF$2,COUNTIF($C$4:$C$100,\">=\"&AM38)-COUNTIF($C$4:$C$100,\">\"&AN38),\nIF($N$38=$AG$2,COUNTIF($D$4:$D$100,\">=\"&AM38)-COUNTIF($D$4:$D$100,\">\"&AN38),\nIF($N$38=$AH$2,COUNTIF($E$4:$E$100,\">=\"&AM38)-COUNTIF($E$4:$E$100,\">\"&AN38),\nIF($N$38=$AI$2,COUNTIF($F$4:$F$100,\">=\"&AM38)-COUNTIF($F$4:$F$100,\">\"&AN38),\nIF($N$38=$AJ$2,COUNTIF($G$4:$G$100,\">=\"&AM38)-COUNTIF($G$4:$G$100,\">\"&AN38),\nIF($N$38=$AK$2,COUNTIF($H$4:$H$100,\">=\"&AM38)-COUNTIF($H$4:$H$100,\">\"&AN38),\nIF($N$38=\"Sem Uso\",\"\"))))))))","v":""},{"$f":"IF($N$38=$AE$2,COUNTIF($B$4:$B$100,\">=\"&AO38)-COUNTIF($B$4:$B$100,\">\"&AP38),\nIF($N$38=$AF$2,COUNTIF($C$4:$C$100,\">=\"&AO38)-COUNTIF($C$4:$C$100,\">\"&AP38),\nIF($N$38=$AG$2,COUNTIF($D$4:$D$100,\">=\"&AO38)-COUNTIF($D$4:$D$100,\">\"&AP38),\nIF($N$38=$AH$2,COUNTIF($E$4:$E$100,\">=\"&AO38)-COUNTIF($E$4:$E$100,\">\"&AP38),\nIF($N$38=$AI$2,COUNTIF($F$4:$F$100,\">=\"&AO38)-COUNTIF($F$4:$F$100,\">\"&AP38),\nIF($N$38=$AJ$2,COUNTIF($G$4:$G$100,\">=\"&AO38)-COUNTIF($G$4:$G$100,\">\"&AP38),\nIF($N$38=$AK$2,COUNTIF($H$4:$H$100,\">=\"&AO38)-COUNTIF($H$4:$H$100,\">\"&AP38),\nIF($N$38=\"Sem Uso\",\"\"))))))))","v":""}]
[null,null,null,null,null,3,null,null,null,null,"Valor da Aula",null,null,{"$f":"IF(AF47<>0,AF47,\"\")","v":""},"","","","","",null,"Valor da Aula",null,{"$f":"IFERROR(IF(N41<=$S$45,0,N41-$S$45),\"\")","v":0},0,0,0,0,0]
[null,null,null,null,null,2,null,null,null,null,"Nr. de Aulas",null,null,{"$f":"IF(AF45<>\"\",AF46,\"\")","v":""},"","","","","",null,"Nr. de Aulas",null,{"$f":"N42","v":""},"","","","","",null,null,{"$f":"IF(N42<>\"\",N42,\"\")","v":""},"","","","",""]
[null,null,null,null,null,3,null,null,null,null,"Valor",null,null,{"$f":"IFERROR(N41*N42,\"\")","v":""},"","","","","",null,"Valor",null,{"$f":"IFERROR(W41*W42,\"\")","v":""},"","","","","",null,null,null,{"$f":"IF($N38<>\"Sem Uso\",VLOOKUP(N38,Configurações!$C$1:$I$8,2,0),\"\")","v":""},{"$f":"IF(N38<>\"Sem Uso\",VLOOKUP(N38,Configurações!$C$1:$I$8,3,0),\"\")","v":""},{"$f":"IF(N38<>\"Sem Uso\",VLOOKUP(N38,Configurações!$C$1:$I$8,4,0),\"\")","v":""},{"$f":"IF(N38<>\"Sem Uso\",VLOOKUP(N38,Configurações!$C$1:$I$8,5,0),\"\")","v":""},{"$f":"IF(N38<>\"Sem Uso\",VLOOKUP(N38,Configurações!$C$1:$I$8,6,0),\"\")","v":""},{"$f":"IF(N38<>\"Sem Uso\",VLOOKUP(N38,Configurações!$C$1:$I$8,7,0),\"\")","v":""}]
[null,null,null,null,null,0,null,null,null,null,null,null,"Total de Alunos",null,null,null,{"$f":"_xlfn.IFS(N38=$AE$2,$B$102,N38=$AF$2,$C$102,N38=$AG$2,$D$102,N38=$AH$2,$E$102,N38=$AI$2,$F$102,N38=$AJ$2,$G$102,N38=$AK$2,$H$102,N38=\"Sem Uso\",\"\")","v":""},null,null,null,null,"Total de Alunos",null,null,null,{"$f":"Q44","v":""},null,null,null,null,"TABELA DE EQUIVALÊNCIA"]
[null,null,null,null,null,3,null,null,null,null,null,null,"Total de Aulas",null,null,null,{"$f":"IF(Q44<>\"\",SUM(AE42:AJ42),\"\")","v":""},"Registo",null,null,null,"Total de Aulas",null,null,null,{"$f":"Q45","v":""},null,null,null,null,"Nr. Alunos",{"$f":"AF43","v":""},{"$f":"IF(AG43<>0,AG43,\"\")","v":""},{"$f":"IF(AH43<>0,AH43,\"\")","v":""},{"$f":"IF(AI43<>0,AI43,\"\")","v":""},{"$f":"IF(AJ43<>0,AJ43,\"\")","v":""},{"$f":"IF(AK43<>0,AK43,\"\")","v":""}]
[null,null,null,null,null,1,null,null,null,null,null,null,"Total a Receber",null,null,null,{"$f":"IF(Q44<>\"\",SUM(N43:S43),\"\")","v":""},null,null,null,null,"Total a Receber",null,null,null,{"$f":"IF(Z44<>\"\",SUM(W43:AB43),\"\")","v":""},null,null,null,null,"Aulas",{"$f":"IF(AF45<>\"\",AF40,\"\")","v":""},"","","","",""]
[null,null,null,null,null,3,null,null,null,null,null,null,null,null,null,null,null,null,null,null,null,null,null,null,null,null,null,null,null,null,null,{"$f":"IFERROR(VLOOKUP(N38&R38,Configurações!$C$13:$I$47,2,0),\"\")","v":""},{"$f":"IFERROR(IF(AG45<>0,VLOOKUP(N38&R38,Configurações!$C$13:$I$47,3,0),\"\"),\"\")","v":""},{"$f":"IFERROR(IF(AH45<>0,VLOOKUP(N38&R38,Configurações!$C$13:$I$47,4,0),\"\"),\"\")","v":""},{"$f":"IFERROR(IF(AI45<>0,VLOOKUP(N38&R38,Configurações!$C$13:$I$47,5,0),\"\"),\"\")","v":""},{"$f":"IFERROR(IF(AJ45<>0,VLOOKUP(N38&R38,Configurações!$C$13:$I$47,6,0),\"\"),\"\")","v":""},{"$f":"IFERROR(IF(AK45<>0,VLOOKUP(N38&R38,Configurações!$C$13:$I$47,7,0),\"\"),\"\")","v":""}]
[null,null,null,null,null,0]
[null,null,null,null,null,1,null,null,null,null,"Modalidade",null,null,"Sem Uso",null,null,"Nível","Prof. Especial",null,null,null,null,null,null,null,null,null,null,null,null,{"$f":"VLOOKUP(N49,Configurações!$J$1:$V$9,2,0)","v":""},{"$f":"VLOOKUP(N49,Configurações!$J$1:$V$9,3,0)","v":""},{"$f":"VLOOKUP(N49,Configurações!$J$1:$V$9,4,0)","v":""},{"$f":"VLOOKUP(N49,Configurações!$J$1:$V$9,5,0)","v":""},{"$f":"VLOOKUP(N49,Configurações!$J$1:$V$9,6,0)","v":""},{"$f":"VLOOKUP(N49,Configurações!$J$1:$V$9,7,0)","v":""},{"$f":"VLOOKUP(N49,Configurações!$J$1:$V$9,8,0)","v":""},{"$f":"VLOOKUP(N49,Configurações!$J$1:$V$9,9,0)","v":""},{"$f":"VLOOKUP(N49,Configurações!$J$1:$V$9,10,0)","v":""},{"$f":"VLOOKUP(N49,Configurações!$J$1:$V$9,11,0)","v":""},{"$f":"VLOOKUP(N49,Configurações!$J$1:$V$9,12,0)","v":""},{"$f":"VLOOKUP(N49,Configurações!$J$1:$V$9,13,0)","v":""}]
[null,null,null,null,null,0,null,null,null,null,"Academia",null,null,null,null,null,null,null,null,null,"Contabilidade",null,null,null,null,null,null,null,null,null,{"$f":"IFERROR(VLOOKUP(N49,_xlfn.ANCHORARRAY($AQ$2),2,0),0)","v":0}]
[null,null,null,null,null,1,null,null,null,null,"Nr. de Alunos",null,null,{"$f":"IF(AF56<>\"\",AF56,\"\")","v":""},{"$f":"IF(AG56<>\"\",AG56,\"\")","v":""},{"$f":"IF(AH56<>\"\",AH56,\"\")","v":""},{"$f":"IF(AI56<>\"\",AI56,\"\")","v":""},{"$f":"IF(AJ56<>\"\",AJ56,\"\")","v":""},{"$f":"IF(AK56<>0,AK56,\"\")","v":""},null,"Nr. de Alunos",null,{"$f":"N51","v":""},{"$f":"O51","v":""},"","","","",null,null,null,{"$f":"IF($N$49=$AE$2,COUNTIF($B$4:$B$100,\">=\"&AE49)-COUNTIF($B$4:$B$100,\">\"&AF49),\nIF($N$49=$AF$2,COUNTIF($C$4:$C$100,\">=\"&AE49)-COUNTIF($C$4:$C$100,\">\"&AF49),\nIF($N$49=$AG$2,COUNTIF($D$4:$D$100,\">=\"&AE49)-COUNTIF($D$4:$D$100,\">\"&AF49),\nIF($N$49=$AH$2,COUNTIF($E$4:$E$100,\">=\"&AE49)-COUNTIF($E$4:$E$100,\">\"&AF49),\nIF($N$49=$AI$2,COUNTIF($F$4:$F$100,\">=\"&AE49)-COUNTIF($F$4:$F$100,\">\"&AF49),\nIF($N$49=$AJ$2,COUNTIF($G$4:$G$100,\">=\"&AE49)-COUNTIF($G$4:$G$100,\">\"&AF49),\nIF($N$49=$AK$2,COUNTIF($H$4:$H$100,\">=\"&AE49)-COUNTIF($H$4:$H$100,\">\"&AF49),\nIF($N$49=\"Sem Uso\",\"\"))))))))","v":""},{"$f":"IF($N$49=$AE$2,COUNTIF($B$4:$B$100,\">=\"&AG49)-COUNTIF($B$4:$B$100,\">\"&AH49),\nIF($N$49=$AF$2,COUNTIF($C$4:$C$100,\">=\"&AG49)-COUNTIF($C$4:$C$100,\">\"&AH49),\nIF($N$49=$AG$2,COUNTIF($D$4:$D$100,\">=\"&AG49)-COUNTIF($D$4:$D$100,\">\"&AH49),\nIF($N$49=$AH$2,COUNTIF($E$4:$E$100,\">=\"&AG49)-COUNTIF($E$4:$E$100,\">\"&AH49),\nIF($N$49=$AI$2,COUNTIF($F$4:$F$100,\">=\"&AG49)-COUNTIF($F$4:$F$100,\">\"&AH49),\nIF($N$49=$AJ$2,COUNTIF($G$4:$G$100,\">=\"&AG49)-COUNTIF($G$4:$G$100,\">\"&AH49),\nIF($N$49=$AK$2,COUNTIF($H$4:$H$100,\">=\"&AG49)-COUNTIF($H$4:$H$100,\">\"&AH49),\nIF($N$49=\"Sem Uso\",\"\"))))))))","v":""},{"$f":"IF($N$49=$AE$2,COUNTIF($B$4:$B$100,\">=\"&AI49)-COUNTIF($B$4:$B$100,\">\"&AJ49),\nIF($N$49=$AF$2,COUNTIF($C$4:$C$100,\">=\"&AI49)-COUNTIF($C$4:$C$100,\">\"&AJ49),\nIF($N$49=$AG$2,COUNTIF($D$4:$D$100,\">=\"&AI49)-COUNTIF($D$4:$D$100,\">\"&AJ49),\nIF($N$49=$AH$2,COUNTIF($E$4:$E$100,\">=\"&AI49)-COUNTIF($E$4:$E$100,\">\"&AJ49),\nIF($N$49=$AI$2,COUNTIF($F$4:$F$100,\">=\"&AI49)-COUNTIF($F$4:$F$100,\">\"&AJ49),\nIF($N$49=$AJ$2,COUNTIF($G$4:$G$100,\">=\"&AI49)-COUNTIF($G$4:$G$100,\">\"&AJ49),\nIF($N$49=$AK$2,COUNTIF($H$4:$H$100,\">=\"&AI49)-COUNTIF($H$4:$H$100,\">\"&AJ49),\nIF($N$49=\"Sem Uso\",\"\"))))))))","v":""},{"$f":"IF($N$49=$AE$2,COUNTIF($B$4:$B$100,\">=\"&AK49)-COUNTIF($B$4:$B$100,\">\"&AL49),\nIF($N$49=$AF$2,COUNTIF($C$4:$C$100,\">=\"&AK49)-COUNTIF($C$4:$C$100,\">\"&AL49),\nIF($N$49=$AG$2,COUNTIF($D$4:$D$100,\">=\"&AK49)-COUNTIF($D$4:$D$100,\">\"&AL49),\nIF($N$49=$AH$2,COUNTIF($E$4:$E$100,\">=\"&AK49)-COUNTIF($E$4:$E$100,\">\"&AL49),\nIF($N$49=$AI$2,COUNTIF($F$4:$F$100,\">=\"&AK49)-COUNTIF($F$4:$F$100,\">\"&AL49),\nIF($N$49=$AJ$2,COUNTIF($G$4:$G$100,\">=\"&AK49)-COUNTIF($G$4:$G$100,\">\"&AL49),\nIF($N$49=$AK$2,COUNTIF($H$4:$H$100,\">=\"&AK49)-COUNTIF($H$4:$H$100,\">\"&AL49),\nIF($N$49=\"Sem Uso\",\"\"))))))))","v":""},{"$f":"IF($N$49=$AE$2,COUNTIF($B$4:$B$100,\">=\"&AM49)-COUNTIF($B$4:$B$100,\">\"&AN49),\nIF($N$49=$AF$2,COUNTIF($C$4:$C$100,\">=\"&AM49)-COUNTIF($C$4:$C$100,\">\"&AN49),\nIF($N$49=$AG$2,COUNTIF($D$4:$D$100,\">=\"&AM49)-COUNTIF($D$4:$D$100,\">\"&AN49),\nIF($N$49=$AH$2,COUNTIF($E$4:$E$100,\">=\"&AM49)-COUNTIF($E$4:$E$100,\">\"&AN49),\nIF($N$49=$AI$2,COUNTIF($F$4:$F$100,\">=\"&AM49)-COUNTIF($F$4:$F$100,\">\"&AN49),\nIF($N$49=$AJ$2,COUNTIF($G$4:$G$100,\">=\"&AM49)-COUNTIF($G$4:$G$100,\">\"&AN49),\nIF($N$49=$AK$2,COUNTIF($H$4:$H$100,\">=\"&AM49)-COUNTIF($H$4:$H$100,\">\"&AN49),\nIF($N$49=\"Sem Uso\",\"\"))))))))","v":""},{"$f":"IF($N$49=$AE$2,COUNTIF($B$4:$B$100,\">=\"&AO49)-COUNTIF($B$4:$B$100,\">\"&AP49),\nIF($N$49=$AF$2,COUNTIF($C$4:$C$100,\">=\"&AO49)-COUNTIF($C$4:$C$100,\">\"&AP49),\nIF($N$49=$AG$2,COUNTIF($D$4:$D$100,\">=\"&AO49)-COUNTIF($D$4:$D$100,\">\"&AP49),\nIF($N$49=$AH$2,COUNTIF($E$4:$E$100,\">=\"&AO49)-COUNTIF($E$4:$E$100,\">\"&AP49),\nIF($N$49=$AI$2,COUNTIF($F$4:$F$100,\">=\"&AO49)-COUNTIF($F$4:$F$100,\">\"&AP49),\nIF($N$49=$AJ$2,COUNTIF($G$4:$G$100,\">=\"&AO49)-COUNTIF($G$4:$G$100,\">\"&AP49),\nIF($N$49=$AK$2,COUNTIF($H$4:$H$100,\">=\"&AO49)-COUNTIF($H$4:$H$100,\">\"&AP49),\nIF($N$49=\"Sem Uso\",\"\"))))))))","v":""}]
[null,null,null,null,null,2,null,null,null,null,"Valor da Aula",null,null,{"$f":"IF(AF58<>0,AF58,\"\")","v":""},"","","","","",null,"Valor da Aula",null,{"$f":"IFERROR(IF(N52<=$S$56,0,N52-$S$56),\"\")","v":0},0,0,0,0,0]
[null,null,null,null,null,2,null,null,null,null,"Nr. de Aulas",null,null,{"$f":"IF(AF56<>\"\",AF57,\"\")","v":""},"","","","","",null,"Nr. de Aulas",null,{"$f":"N53","v":""},"","","","","",null,null,{"$f":"IF(N53<>\"\",N53,\"\")","v":""},"","","","",""]
[null,null,null,null,null,2,null,null,null,null,"Valor",null,null,{"$f":"IFERROR(N52*N53,\"\")","v":""},"","","","","",null,"Valor",null,{"$f":"IFERROR(W52*W53,\"\")","v":""},"","","","","",null,null,null,{"$f":"IF($N49<>\"Sem Uso\",VLOOKUP(N49,Configurações!$C$1:$I$8,2,0),\"\")","v":""},{"$f":"IF(N49<>\"Sem Uso\",VLOOKUP(N49,Configurações!$C$1:$I$8,3,0),\"\")","v":""},{"$f":"IF(N49<>\"Sem Uso\",VLOOKUP(N49,Configurações!$C$1:$I$8,4,0),\"\")","v":""},{"$f":"IF(N49<>\"Sem Uso\",VLOOKUP(N49,Configurações!$C$1:$I$8,5,0),\"\")","v":""},{"$f":"IF(N49<>\"Sem Uso\",VLOOKUP(N49,Configurações!$C$1:$I$8,6,0),\"\")","v":""},{"$f":"IF(N49<>\"Sem Uso\",VLOOKUP(N49,Configurações!$C$1:$I$8,7,0),\"\")","v":""}]
[null,null,null,null,null,0,null,null,null,null,null,null,"Total de Alunos",null,null,null,{"$f":"_xlfn.IFS(N49=$AE$2,$B$102,N49=$AF$2,$C$102,N49=$AG$2,$D$102,N49=$AH$2,$E$102,N49=$AI$2,$F$102,N49=$AJ$2,$G$102,N49=$AK$2,$H$102,N49=\"Sem Uso\",\"\")","v":""},null,null,null,null,"Total de Alunos",null,null,null,{"$f":"Q55","v":""},null,null,null,null,"TABELA DE EQUIVALÊNCIA"]
[null,null,null,null,null,3,null,null,null,null,null,null,"Total de Aulas",null,null,null,{"$f":"IF(Q55<>\"\",SUM(AE53:AJ53),\"\")","v":""},"Registo",null,null,null,"Total de Aulas",null,null,null,{"$f":"Q56","v":""},null,null,null,null,"Nr. Alunos",{"$f":"AF54","v":""},{"$f":"IF(AG54<>0,AG54,\"\")","v":""},{"$f":"IF(AH54<>0,AH54,\"\")","v":""},{"$f":"IF(AI54<>0,AI54,\"\")","v":""},{"$f":"IF(AJ54<>0,AJ54,\"\")","v":""},{"$f":"IF(AK54<>0,AK54,\"\")","v":""}]
[null,null,null,null,null,1,null,null,null,null,null,null,"Total a Receber",null,null,null,{"$f":"IF(Q55<>\"\",SUM(N54:S54),\"\")","v":""},null,null,null,null,"Total a Receber",null,null,null,{"$f":"IF(Z55<>\"\",SUM(W54:AB54),\"\")","v":""},null,null,null,null,"Aulas",{"$f":"IF(AF56<>\"\",AF51,\"\")","v":""},"","","","",""]
[null,null,null,null,null,0,null,null,null,null,null,null,null,null,null,null,null,null,null,null,null,null,null,null,null,null,null,null,null,null,null,{"$f":"IFERROR(VLOOKUP(N49&R49,Configurações!$C$13:$I$47,2,0),\"\")","v":""},{"$f":"IFERROR(IF(AG56<>0,VLOOKUP(N49&R49,Configurações!$C$13:$I$47,3,0),\"\"),\"\")","v":""},{"$f":"IFERROR(IF(AH56<>0,VLOOKUP(N49&R49,Configurações!$C$13:$I$47,4,0),\"\"),\"\")","v":""},{"$f":"IFERROR(IF(AI56<>0,VLOOKUP(N49&R49,Configurações!$C$13:$I$47,5,0),\"\"),\"\")","v":""},{"$f":"IFERROR(IF(AJ56<>0,VLOOKUP(N49&R49,Configurações!$C$13:$I$47,6,0),\"\"),\"\")","v":""},{"$f":"IFERROR(IF(AK56<>0,VLOOKUP(N49&R49,Configurações!$C$13:$I$47,7,0),\"\"),\"\")","v":""}]
[null,null,null,null,null,1]
[null,null,null,null,null,2,null,null,null,null,"Modalidade",null,null,"Sem Uso",null,null,"Nível","Prof. Especial",null,null,null,null,null,null,null,null,null,null,null,null,{"$f":"VLOOKUP(N60,Configurações!$J$1:$V$9,2,0)","v":""},{"$f":"VLOOKUP(N60,Configurações!$J$1:$V$9,3,0)","v":""},{"$f":"VLOOKUP(N60,Configurações!$J$1:$V$9,4,0)","v":""},{"$f":"VLOOKUP(N60,Configurações!$J$1:$V$9,5,0)","v":""},{"$f":"VLOOKUP(N60,Configurações!$J$1:$V$9,6,0)","v":""},{"$f":"VLOOKUP(N60,Configurações!$J$1:$V$9,7,0)","v":""},{"$f":"VLOOKUP(N60,Configurações!$J$1:$V$9,8,0)","v":""},{"$f":"VLOOKUP(N60,Configurações!$J$1:$V$9,9,0)","v":""},{"$f":"VLOOKUP(N60,Configurações!$J$1:$V$9,10,0)","v":""},{"$f":"VLOOKUP(N60,Configurações!$J$1:$V$9,11,0)","v":""},{"$f":"VLOOKUP(N60,Configurações!$J$1:$V$9,12,0)","v":""},{"$f":"VLOOKUP(N60,Configurações!$J$1:$V$9,13,0)","v":""}]
[null,null,null,null,null,2,null,null,null,null,"Academia",null,null,null,null,null,null,null,null,null,"Contabilidade",null,null,null,null,null,null,null,null,null,{"$f":"IFERROR(VLOOKUP(N60,_xlfn.ANCHORARRAY($AQ$2),2,0),0)","v":0}]
[null,null,null,null,null,0,null,null,null,null,"Nr. de Alunos",null,null,{"$f":"IF(AF67<>\"\",AF67,\"\")","v":""},{"$f":"IF(AG67<>\"\",AG67,\"\")","v":""},{"$f":"IF(AH67<>\"\",AH67,\"\")","v":""},{"$f":"IF(AI67<>\"\",AI67,\"\")","v":""},{"$f":"IF(AJ67<>\"\",AJ67,\"\")","v":""},{"$f":"IF(AK67<>0,AK67,\"\")","v":""},null,"Nr. de Alunos",null,{"$f":"N62","v":""},{"$f":"O62","v":""},"","","","",null,null,null,{"$f":"IF($N$60=$AE$2,COUNTIF($B$4:$B$100,\">=\"&AE60)-COUNTIF($B$4:$B$100,\">\"&AF60),\nIF($N$60=$AF$2,COUNTIF($C$4:$C$100,\">=\"&AE60)-COUNTIF($C$4:$C$100,\">\"&AF60),\nIF($N$60=$AG$2,COUNTIF($D$4:$D$100,\">=\"&AE60)-COUNTIF($D$4:$D$100,\">\"&AF60),\nIF($N$60=$AH$2,COUNTIF($E$4:$E$100,\">=\"&AE60)-COUNTIF($E$4:$E$100,\">\"&AF60),\nIF($N$60=$AI$2,COUNTIF($F$4:$F$100,\">=\"&AE60)-COUNTIF($F$4:$F$100,\">\"&AF60),\nIF($N$60=$AJ$2,COUNTIF($G$4:$G$100,\">=\"&AE60)-COUNTIF($G$4:$G$100,\">\"&AF60),\nIF($N$60=$AK$2,COUNTIF($H$4:$H$100,\">=\"&AE60)-COUNTIF($H$4:$H$100,\">\"&AF60),\nIF($N$60=\"Sem Uso\",\"\"))))))))","v":""},{"$f":"IF($N$60=$AE$2,COUNTIF($B$4:$B$100,\">=\"&AG60)-COUNTIF($B$4:$B$100,\">\"&AH60),\nIF($N$60=$AF$2,COUNTIF($C$4:$C$100,\">=\"&AG60)-COUNTIF($C$4:$C$100,\">\"&AH60),\nIF($N$60=$AG$2,COUNTIF($D$4:$D$100,\">=\"&AG60)-COUNTIF($D$4:$D$100,\">\"&AH60),\nIF($N$60=$AH$2,COUNTIF($E$4:$E$100,\">=\"&AG60)-COUNTIF($E$4:$E$100,\">\"&AH60),\nIF($N$60=$AI$2,COUNTIF($F$4:$F$100,\">=\"&AG60)-COUNTIF($F$4:$F$100,\">\"&AH60),\nIF($N$60=$AJ$2,COUNTIF($G$4:$G$100,\">=\"&AG60)-COUNTIF($G$4:$G$100,\">\"&AH60),\nIF($N$60=$AK$2,COUNTIF($H$4:$H$100,\">=\"&AG60)-COUNTIF($H$4:$H$100,\">\"&AH60),\nIF($N$60=\"Sem Uso\",\"\"))))))))","v":""},{"$f":"IF($N$60=$AE$2,COUNTIF($B$4:$B$100,\">=\"&AI60)-COUNTIF($B$4:$B$100,\">\"&AJ60),\nIF($N$60=$AF$2,COUNTIF($C$4:$C$100,\">=\"&AI60)-COUNTIF($C$4:$C$100,\">\"&AJ60),\nIF($N$60=$AG$2,COUNTIF($D$4:$D$100,\">=\"&AI60)-COUNTIF($D$4:$D$100,\">\"&AJ60),\nIF($N$60=$AH$2,COUNTIF($E$4:$E$100,\">=\"&AI60)-COUNTIF($E$4:$E$100,\">\"&AJ60),\nIF($N$60=$AI$2,COUNTIF($F$4:$F$100,\">=\"&AI60)-COUNTIF($F$4:$F$100,\">\"&AJ60),\nIF($N$60=$AJ$2,COUNTIF($G$4:$G$100,\">=\"&AI60)-COUNTIF($G$4:$G$100,\">\"&AJ60),\nIF($N$60=$AK$2,COUNTIF($H$4:$H$100,\">=\"&AI60)-COUNTIF($H$4:$H$100,\">\"&AJ60),\nIF($N$60=\"Sem Uso\",\"\"))))))))","v":""},{"$f":"IF($N$60=$AE$2,COUNTIF($B$4:$B$100,\">=\"&AK60)-COUNTIF($B$4:$B$100,\">\"&AL60),\nIF($N$60=$AF$2,COUNTIF($C$4:$C$100,\">=\"&AK60)-COUNTIF($C$4:$C$100,\">\"&AL60),\nIF($N$60=$AG$2,COUNTIF($D$4:$D$100,\">=\"&AK60)-COUNTIF($D$4:$D$100,\">\"&AL60),\nIF($N$60=$AH$2,COUNTIF($E$4:$E$100,\">=\"&AK60)-COUNTIF($E$4:$E$100,\">\"&AL60),\nIF($N$60=$AI$2,COUNTIF($F$4:$F$100,\">=\"&AK60)-COUNTIF($F$4:$F$100,\">\"&AL60),\nIF($N$60=$AJ$2,COUNTIF($G$4:$G$100,\">=\"&AK60)-COUNTIF($G$4:$G$100,\">\"&AL60),\nIF($N$60=$AK$2,COUNTIF($H$4:$H$100,\">=\"&AK60)-COUNTIF($H$4:$H$100,\">\"&AL60),\nIF($N$60=\"Sem Uso\",\"\"))))))))","v":""},{"$f":"IF($N$60=$AE$2,COUNTIF($B$4:$B$100,\">=\"&AM60)-COUNTIF($B$4:$B$100,\">\"&AN60),\nIF($N$60=$AF$2,COUNTIF($C$4:$C$100,\">=\"&AM60)-COUNTIF($C$4:$C$100,\">\"&AN60),\nIF($N$60=$AG$2,COUNTIF($D$4:$D$100,\">=\"&AM60)-COUNTIF($D$4:$D$100,\">\"&AN60),\nIF($N$60=$AH$2,COUNTIF($E$4:$E$100,\">=\"&AM60)-COUNTIF($E$4:$E$100,\">\"&AN60),\nIF($N$60=$AI$2,COUNTIF($F$4:$F$100,\">=\"&AM60)-COUNTIF($F$4:$F$100,\">\"&AN60),\nIF($N$60=$AJ$2,COUNTIF($G$4:$G$100,\">=\"&AM60)-COUNTIF($G$4:$G$100,\">\"&AN60),\nIF($N$60=$AK$2,COUNTIF($H$4:$H$100,\">=\"&AM60)-COUNTIF($H$4:$H$100,\">\"&AN60),\nIF($N$60=\"Sem Uso\",\"\"))))))))","v":""},{"$f":"IF($N$60=$AE$2,COUNTIF($B$4:$B$100,\">=\"&AO60)-COUNTIF($B$4:$B$100,\">\"&AP60),\nIF($N$60=$AF$2,COUNTIF($C$4:$C$100,\">=\"&AO60)-COUNTIF($C$4:$C$100,\">\"&AP60),\nIF($N$60=$AG$2,COUNTIF($D$4:$D$100,\">=\"&AO60)-COUNTIF($D$4:$D$100,\">\"&AP60),\nIF($N$60=$AH$2,COUNTIF($E$4:$E$100,\">=\"&AO60)-COUNTIF($E$4:$E$100,\">\"&AP60),\nIF($N$60=$AI$2,COUNTIF($F$4:$F$100,\">=\"&AO60)-COUNTIF($F$4:$F$100,\">\"&AP60),\nIF($N$60=$AJ$2,COUNTIF($G$4:$G$100,\">=\"&AO60)-COUNTIF($G$4:$G$100,\">\"&AP60),\nIF($N$60=$AK$2,COUNTIF($H$4:$H$100,\">=\"&AO60)-COUNTIF($H$4:$H$100,\">\"&AP60),\nIF($N$60=\"Sem Uso\",\"\"))))))))","v":""}]
[null,null,null,null,null,0,null,null,null,null,"Valor da Aula",null,null,{"$f":"IF(AF69<>0,AF69,\"\")","v":""},"","","","","",null,"Valor da Aula",null,{"$f":"IFERROR(IF(N63<=$S$67,0,N63-$S$67),\"\")","v":0},0,0,0,0,0]
[null,null,null,null,null,0,null,null,null,null,"Nr. de Aulas",null,null,{"$f":"IF(AF67<>\"\",AF68,\"\")","v":""},"","","","","",null,"Nr. de Aulas",null,{"$f":"N64","v":""},"","","","","",null,null,{"$f":"IF(N64<>\"\",N64,\"\")","v":""},"","","","",""]
[null,null,null,null,null,null,null,null,null,null,"Valor",null,null,{"$f":"IFERROR(N63*N64,\"\")","v":""},"","","","","",null,"Valor",null,{"$f":"IFERROR(W63*W64,\"\")","v":""},"","","","","",null,null,null,{"$f":"IF($N60<>\"Sem Uso\",VLOOKUP(N60,Configurações!$C$1:$I$8,2,0),\"\")","v":""},{"$f":"IF(N60<>\"Sem Uso\",VLOOKUP(N60,Configurações!$C$1:$I$8,3,0),\"\")","v":""},{"$f":"IF(N60<>\"Sem Uso\",VLOOKUP(N60,Configurações!$C$1:$I$8,4,0),\"\")","v":""},{"$f":"IF(N60<>\"Sem Uso\",VLOOKUP(N60,Configurações!$C$1:$I$8,5,0),\"\")","v":""},{"$f":"IF(N60<>\"Sem Uso\",VLOOKUP(N60,Configurações!$C$1:$I$8,6,0),\"\")","v":""},{"$f":"IF(N60<>\"Sem Uso\",VLOOKUP(N60,Configurações!$C$1:$I$8,7,0),\"\")","v":""}]
[null,null,null,null,null,null,null,null,null,null,null,null,"Total de Alunos",null,null,null,{"$f":"_xlfn.IFS(N60=$AE$2,$B$102,N60=$AF$2,$C$102,N60=$AG$2,$D$102,N60=$AH$2,$E$102,N60=$AI$2,$F$102,N60=$AJ$2,$G$102,N60=$AK$2,$H$102,N60=\"Sem Uso\",\"\")","v":""},null,null,null,null,"Total de Alunos",null,null,null,{"$f":"Q66","v":""},null,null,null,null,"TABELA DE EQUIVALÊNCIA"]
[null,null,null,null,null,null,null,null,null,null,null,null,"Total de Aulas",null,null,null,{"$f":"IF(Q66<>\"\",SUM(AE64:AJ64),\"\")","v":""},"Registo",null,null,null,"Total de Aulas",null,null,null,{"$f":"Q67","v":""},null,null,null,null,"Nr. Alunos",{"$f":"AF65","v":""},{"$f":"IF(AG65<>0,AG65,\"\")","v":""},{"$f":"IF(AH65<>0,AH65,\"\")","v":""},{"$f":"IF(AI65<>0,AI65,\"\")","v":""},{"$f":"IF(AJ65<>0,AJ65,\"\")","v":""},{"$f":"IF(AK65<>0,AK65,\"\")","v":""}]
[null,null,null,null,null,null,null,null,null,null,null,null,"Total a Receber",null,null,null,{"$f":"IF(Q66<>\"\",SUM(N65:S65),\"\")","v":""},null,null,null,null,"Total a Receber",null,null,null,{"$f":"IF(Z66<>\"\",SUM(W65:AB65),\"\")","v":""},null,null,null,null,"Aulas",{"$f":"IF(AF67<>\"\",AF62,\"\")","v":""},"","","","",""]
[null,null,null,null,null,null,null,null,null,null,null,null,null,null,null,null,null,null,null,null,null,null,null,null,null,null,null,null,null,null,null,{"$f":"IFERROR(VLOOKUP(N60&R60,Configurações!$C$13:$I$47,2,0),\"\")","v":""},{"$f":"IFERROR(IF(AG67<>0,VLOOKUP(N60&R60,Configurações!$C$13:$I$47,3,0),\"\"),\"\")","v":""},{"$f":"IFERROR(IF(AH67<>0,VLOOKUP(N60&R60,Configurações!$C$13:$I$47,4,0),\"\"),\"\")","v":""},{"$f":"IFERROR(IF(AI67<>0,VLOOKUP(N60&R60,Configurações!$C$13:$I$47,5,0),\"\"),\"\")","v":""},{"$f":"IFERROR(IF(AJ67<>0,VLOOKUP(N60&R60,Configurações!$C$13:$I$47,6,0),\"\"),\"\")","v":""},{"$f":"IFERROR(IF(AK67<>0,VLOOKUP(N60&R60,Configurações!$C$13:$I$47,7,0),\"\"),\"\")","v":""}]
[]
[null,null,null,null,null,null,null,null,null,null,"Modalidade",null,null,"Sem Uso",null,null,"Nível","Prof. Especial",null,null,null,null,null,null,null,null,null,null,null,null,{"$f":"VLOOKUP(N71,Configurações!$J$1:$V$9,2,0)","v":""},{"$f":"VLOOKUP(N71,Configurações!$J$1:$V$9,3,0)","v":""},{"$f":"VLOOKUP(N71,Configurações!$J$1:$V$9,4,0)","v":""},{"$f":"VLOOKUP(N71,Configurações!$J$1:$V$9,5,0)","v":""},{"$f":"VLOOKUP(N71,Configurações!$J$1:$V$9,6,0)","v":""},{"$f":"VLOOKUP(N71,Configurações!$J$1:$V$9,7,0)","v":""},{"$f":"VLOOKUP(N71,Configurações!$J$1:$V$9,8,0)","v":""},{"$f":"VLOOKUP(N71,Configurações!$J$1:$V$9,9,0)","v":""},{"$f":"VLOOKUP(N71,Configurações!$J$1:$V$9,10,0)","v":""},{"$f":"VLOOKUP(N71,Configurações!$J$1:$V$9,11,0)","v":""},{"$f":"VLOOKUP(N71,Configurações!$J$1:$V$9,12,0)","v":""},{"$f":"VLOOKUP(N71,Configurações!$J$1:$V$9,13,0)","v":""}]
[null,null,null,null,null,null,null,null,null,null,"Academia",null,null,null,null,null,null,null,null,null,"Contabilidade",null,null,null,null,null,null,null,null,null,{"$f":"IFERROR(VLOOKUP(N71,_xlfn.ANCHORARRAY($AQ$2),2,0),0)","v":0}]
[null,null,null,null,null,null,null,null,null,null,"Nr. de Alunos",null,null,{"$f":"IF(AF78<>\"\",AF78,\"\")","v":""},{"$f":"IF(AG78<>\"\",AG78,\"\")","v":""},{"$f":"IF(AH78<>\"\",AH78,\"\")","v":""},{"$f":"IF(AI78<>\"\",AI78,\"\")","v":""},{"$f":"IF(AJ78<>\"\",AJ78,\"\")","v":""},{"$f":"IF(AK78<>0,AK78,\"\")","v":""},null,"Nr. de Alunos",null,{"$f":"N73","v":""},"","","","","",null,null,null,{"$f":"IF($N$71=$AE$2,COUNTIF($B$4:$B$100,\">=\"&AE71)-COUNTIF($B$4:$B$100,\">\"&AF71),\nIF($N$71=$AF$2,COUNTIF($C$4:$C$100,\">=\"&AE71)-COUNTIF($C$4:$C$100,\">\"&AF71),\nIF($N$71=$AG$2,COUNTIF($D$4:$D$100,\">=\"&AE71)-COUNTIF($D$4:$D$100,\">\"&AF71),\nIF($N$71=$AH$2,COUNTIF($E$4:$E$100,\">=\"&AE71)-COUNTIF($E$4:$E$100,\">\"&AF71),\nIF($N$71=$AI$2,COUNTIF($F$4:$F$100,\">=\"&AE71)-COUNTIF($F$4:$F$100,\">\"&AF71),\nIF($N$71=$AJ$2,COUNTIF($G$4:$G$100,\">=\"&AE71)-COUNTIF($G$4:$G$100,\">\"&AF71),\nIF($N$71=$AK$2,COUNTIF($H$4:$H$100,\">=\"&AE71)-COUNTIF($H$4:$H$100,\">\"&AF71),\nIF($N$71=\"Sem Uso\",\"\"))))))))","v":""},{"$f":"IF($N$71=$AE$2,COUNTIF($B$4:$B$100,\">=\"&AG71)-COUNTIF($B$4:$B$100,\">\"&AH71),\nIF($N$71=$AF$2,COUNTIF($C$4:$C$100,\">=\"&AG71)-COUNTIF($C$4:$C$100,\">\"&AH71),\nIF($N$71=$AG$2,COUNTIF($D$4:$D$100,\">=\"&AG71)-COUNTIF($D$4:$D$100,\">\"&AH71),\nIF($N$71=$AH$2,COUNTIF($E$4:$E$100,\">=\"&AG71)-COUNTIF($E$4:$E$100,\">\"&AH71),\nIF($N$71=$AI$2,COUNTIF($F$4:$F$100,\">=\"&AG71)-COUNTIF($F$4:$F$100,\">\"&AH71),\nIF($N$71=$AJ$2,COUNTIF($G$4:$G$100,\">=\"&AG71)-COUNTIF($G$4:$G$100,\">\"&AH71),\nIF($N$71=$AK$2,COUNTIF($H$4:$H$100,\">=\"&AG71)-COUNTIF($H$4:$H$100,\">\"&AH71),\nIF($N$71=\"Sem Uso\",\"\"))))))))","v":""},{"$f":"IF($N$71=$AE$2,COUNTIF($B$4:$B$100,\">=\"&AI71)-COUNTIF($B$4:$B$100,\">\"&AJ71),\nIF($N$71=$AF$2,COUNTIF($C$4:$C$100,\">=\"&AI71)-COUNTIF($C$4:$C$100,\">\"&AJ71),\nIF($N$71=$AG$2,COUNTIF($D$4:$D$100,\">=\"&AI71)-COUNTIF($D$4:$D$100,\">\"&AJ71),\nIF($N$71=$AH$2,COUNTIF($E$4:$E$100,\">=\"&AI71)-COUNTIF($E$4:$E$100,\">\"&AJ71),\nIF($N$71=$AI$2,COUNTIF($F$4:$F$100,\">=\"&AI71)-COUNTIF($F$4:$F$100,\">\"&AJ71),\nIF($N$71=$AJ$2,COUNTIF($G$4:$G$100,\">=\"&AI71)-COUNTIF($G$4:$G$100,\">\"&AJ71),\nIF($N$71=$AK$2,COUNTIF($H$4:$H$100,\">=\"&AI71)-COUNTIF($H$4:$H$100,\">\"&AJ71),\nIF($N$71=\"Sem Uso\",\"\"))))))))","v":""},{"$f":"IF($N$71=$AE$2,COUNTIF($B$4:$B$100,\">=\"&AK71)-COUNTIF($B$4:$B$100,\">\"&AL71),\nIF($N$71=$AF$2,COUNTIF($C$4:$C$100,\">=\"&AK71)-COUNTIF($C$4:$C$100,\">\"&AL71),\nIF($N$71=$AG$2,COUNTIF($D$4:$D$100,\">=\"&AK71)-COUNTIF($D$4:$D$100,\">\"&AL71),\nIF($N$71=$AH$2,COUNTIF($E$4:$E$100,\">=\"&AK71)-COUNTIF($E$4:$E$100,\">\"&AL71),\nIF($N$71=$AI$2,COUNTIF($F$4:$F$100,\">=\"&AK71)-COUNTIF($F$4:$F$100,\">\"&AL71),\nIF($N$71=$AJ$2,COUNTIF($G$4:$G$100,\">=\"&AK71)-COUNTIF($G$4:$G$100,\">\"&AL71),\nIF($N$71=$AK$2,COUNTIF($H$4:$H$100,\">=\"&AK71)-COUNTIF($H$4:$H$100,\">\"&AL71),\nIF($N$71=\"Sem Uso\",\"\"))))))))","v":""},{"$f":"IF($N$71=$AE$2,COUNTIF($B$4:$B$100,\">=\"&AM71)-COUNTIF($B$4:$B$100,\">\"&AN71),\nIF($N$71=$AF$2,COUNTIF($C$4:$C$100,\">=\"&AM71)-COUNTIF($C$4:$C$100,\">\"&AN71),\nIF($N$71=$AG$2,COUNTIF($D$4:$D$100,\">=\"&AM71)-COUNTIF($D$4:$D$100,\">\"&AN71),\nIF($N$71=$AH$2,COUNTIF($E$4:$E$100,\">=\"&AM71)-COUNTIF($E$4:$E$100,\">\"&AN71),\nIF($N$71=$AI$2,COUNTIF($F$4:$F$100,\">=\"&AM71)-COUNTIF($F$4:$F$100,\">\"&AN71),\nIF($N$71=$AJ$2,COUNTIF($G$4:$G$100,\">=\"&AM71)-COUNTIF($G$4:$G$100,\">\"&AN71),\nIF($N$71=$AK$2,COUNTIF($H$4:$H$100,\">=\"&AM71)-COUNTIF($H$4:$H$100,\">\"&AN71),\nIF($N$71=\"Sem Uso\",\"\"))))))))","v":""},{"$f":"IF($N$71=$AE$2,COUNTIF($B$4:$B$100,\">=\"&AO71)-COUNTIF($B$4:$B$100,\">\"&AP71),\nIF($N$71=$AF$2,COUNTIF($C$4:$C$100,\">=\"&AO71)-COUNTIF($C$4:$C$100,\">\"&AP71),\nIF($N$71=$AG$2,COUNTIF($D$4:$D$100,\">=\"&AO71)-COUNTIF($D$4:$D$100,\">\"&AP71),\nIF($N$71=$AH$2,COUNTIF($E$4:$E$100,\">=\"&AO71)-COUNTIF($E$4:$E$100,\">\"&AP71),\nIF($N$71=$AI$2,COUNTIF($F$4:$F$100,\">=\"&AO71)-COUNTIF($F$4:$F$100,\">\"&AP71),\nIF($N$71=$AJ$2,COUNTIF($G$4:$G$100,\">=\"&AO71)-COUNTIF($G$4:$G$100,\">\"&AP71),\nIF($N$71=$AK$2,COUNTIF($H$4:$H$100,\">=\"&AO71)-COUNTIF($H$4:$H$100,\">\"&AP71),\nIF($N$71=\"Sem Uso\",\"\"))))))))","v":""}]
[null,null,null,null,null,null,null,null,null,null,"Valor da Aula",null,null,{"$f":"IF(AF80<>0,AF80,\"\")","v":""},"","","","","",null,"Valor da Aula",null,{"$f":"IFERROR(IF(N74<=$S$78,0,N74-$S$78),\"\")","v":0},0,0,0,0,0]
[null,null,null,null,null,null,null,null,null,null,"Nr. de Aulas",null,null,{"$f":"IF(AF78<>\"\",AF79,\"\")","v":""},"","","","","",null,"Nr. de Aulas",null,{"$f":"N75","v":""},"","","","","",null,null,{"$f":"IF(N75<>\"\",N75,\"\")","v":""},"","","","",""]
[null,null,null,null,null,null,null,null,null,null,"Valor",null,null,{"$f":"IFERROR(N74*N75,\"\")","v":""},"","","","","",null,"Valor",null,{"$f":"IFERROR(W74*W75,\"\")","v":""},"","","","","",null,null,null,{"$f":"IF($N71<>\"Sem Uso\",VLOOKUP(N71,Configurações!$C$1:$I$8,2,0),\"\")","v":""},{"$f":"IF(N71<>\"Sem Uso\",VLOOKUP(N71,Configurações!$C$1:$I$8,3,0),\"\")","v":""},{"$f":"IF(N71<>\"Sem Uso\",VLOOKUP(N71,Configurações!$C$1:$I$8,4,0),\"\")","v":""},{"$f":"IF(N71<>\"Sem Uso\",VLOOKUP(N71,Configurações!$C$1:$I$8,5,0),\"\")","v":""},{"$f":"IF(N71<>\"Sem Uso\",VLOOKUP(N71,Configurações!$C$1:$I$8,6,0),\"\")","v":""},{"$f":"IF(N71<>\"Sem Uso\",VLOOKUP(N71,Configurações!$C$1:$I$8,7,0),\"\")","v":""}]
[null,null,null,null,null,null,null,null,null,null,null,null,"Total de Alunos",null,null,null,{"$f":"_xlfn.IFS(N71=$AE$2,$B$102,N71=$AF$2,$C$102,N71=$AG$2,$D$102,N71=$AH$2,$E$102,N71=$AI$2,$F$102,N71=$AJ$2,$G$102,N71=$AK$2,$H$102,N71=\"Sem Uso\",\"\")","v":""},null,null,null,null,"Total de Alunos",null,null,null,{"$f":"Q77","v":""},null,null,null,null,"TABELA DE EQUIVALÊNCIA"]
[null,null,null,null,null,null,null,null,null,null,null,null,"Total de Aulas",null,null,null,{"$f":"IF(Q77<>\"\",SUM(AE75:AJ75),\"\")","v":""},"Registo",null,null,null,"Total de Aulas",null,null,null,{"$f":"Q78","v":""},null,null,null,null,"Nr. Alunos",{"$f":"AF76","v":""},{"$f":"IF(AG76<>0,AG76,\"\")","v":""},{"$f":"IF(AH76<>0,AH76,\"\")","v":""},{"$f":"IF(AI76<>0,AI76,\"\")","v":""},{"$f":"IF(AJ76<>0,AJ76,\"\")","v":""},{"$f":"IF(AK76<>0,AK76,\"\")","v":""}]
[null,null,null,null,null,null,null,null,null,null,null,null,"Total a Receber",null,null,null,{"$f":"IF(Q77<>\"\",SUM(N76:S76),\"\")","v":""},null,null,null,null,"Total a Receber",null,null,null,{"$f":"IF(Z77<>\"\",SUM(W76:AB76),\"\")","v":""},null,null,null,null,"Aulas",{"$f":"IF(AF78<>\"\",AF73,\"\")","v":""},"","","","",""]
[null,null,null,null,null,null,null,null,null,null,null,null,null,null,null,null,null,null,null,null,null,null,null,null,null,null,null,null,null,null,null,{"$f":"IFERROR(VLOOKUP(N71&R71,Configurações!$C$13:$I$47,2,0),\"\")","v":""},{"$f":"IFERROR(IF(AG78<>0,VLOOKUP(N71&R71,Configurações!$C$13:$I$47,3,0),\"\"),\"\")","v":""},{"$f":"IFERROR(IF(AH78<>0,VLOOKUP(N71&R71,Configurações!$C$13:$I$47,4,0),\"\"),\"\")","v":""},{"$f":"IFERROR(IF(AI78<>0,VLOOKUP(N71&R71,Configurações!$C$13:$I$47,5,0),\"\"),\"\")","v":""},{"$f":"IFERROR(IF(AJ78<>0,VLOOKUP(N71&R71,Configurações!$C$13:$I$47,6,0),\"\"),\"\")","v":""},{"$f":"IFERROR(IF(AK78<>0,VLOOKUP(N71&R71,Configurações!$C$13:$I$47,7,0),\"\"),\"\")","v":""}]
[]
[null,null,null,null,null,null,null,null,null,null,"Modalidade",null,null,"Sem Uso",null,null,"Nível","Prof. Especial",null,null,null,null,null,null,null,null,null,null,null,null,{"$f":"VLOOKUP(N82,Configurações!$J$1:$V$9,2,0)","v":""},{"$f":"VLOOKUP(N82,Configurações!$J$1:$V$9,3,0)","v":""},{"$f":"VLOOKUP(N82,Configurações!$J$1:$V$9,4,0)","v":""},{"$f":"VLOOKUP(N82,Configurações!$J$1:$V$9,5,0)","v":""},{"$f":"VLOOKUP(N82,Configurações!$J$1:$V$9,6,0)","v":""},{"$f":"VLOOKUP(N82,Configurações!$J$1:$V$9,7,0)","v":""},{"$f":"VLOOKUP(N82,Configurações!$J$1:$V$9,8,0)","v":""},{"$f":"VLOOKUP(N82,Configurações!$J$1:$V$9,9,0)","v":""},{"$f":"VLOOKUP(N82,Configurações!$J$1:$V$9,10,0)","v":""},{"$f":"VLOOKUP(N82,Configurações!$J$1:$V$9,11,0)","v":""},{"$f":"VLOOKUP(N82,Configurações!$J$1:$V$9,12,0)","v":""},{"$f":"VLOOKUP(N82,Configurações!$J$1:$V$9,13,0)","v":""}]
[null,null,null,null,null,null,null,null,null,null,"Academia",null,null,null,null,null,null,null,null,null,"Contabilidade",null,null,null,null,null,null,null,null,null,{"$f":"IFERROR(VLOOKUP(N82,_xlfn.ANCHORARRAY($AQ$2),2,0),0)","v":0}]
[null,null,null,null,null,null,null,null,null,null,"Nr. de Alunos",null,null,{"$f":"IF(AF89<>\"\",AF89,\"\")","v":""},{"$f":"IF(AG89<>\"\",AG89,\"\")","v":""},{"$f":"IF(AH89<>\"\",AH89,\"\")","v":""},{"$f":"IF(AI89<>\"\",AI89,\"\")","v":""},{"$f":"IF(AJ89<>\"\",AJ89,\"\")","v":""},{"$f":"IF(AK89<>0,AK89,\"\")","v":""},null,"Nr. de Alunos",null,{"$f":"N84","v":""},{"$f":"O84","v":""},"","","","",null,null,null,{"$f":"IF($N$82=$AE$2,COUNTIF($B$4:$B$100,\">=\"&AE82)-COUNTIF($B$4:$B$100,\">\"&AF82),\nIF($N$82=$AF$2,COUNTIF($C$4:$C$100,\">=\"&AE82)-COUNTIF($C$4:$C$100,\">\"&AF82),\nIF($N$82=$AG$2,COUNTIF($D$4:$D$100,\">=\"&AE82)-COUNTIF($D$4:$D$100,\">\"&AF82),\nIF($N$82=$AH$2,COUNTIF($E$4:$E$100,\">=\"&AE82)-COUNTIF($E$4:$E$100,\">\"&AF82),\nIF($N$82=$AI$2,COUNTIF($F$4:$F$100,\">=\"&AE82)-COUNTIF($F$4:$F$100,\">\"&AF82),\nIF($N$82=$AJ$2,COUNTIF($G$4:$G$100,\">=\"&AE82)-COUNTIF($G$4:$G$100,\">\"&AF82),\nIF($N$82=$AK$2,COUNTIF($H$4:$H$100,\">=\"&AE82)-COUNTIF($H$4:$H$100,\">\"&AF82),\nIF($N$82=\"Sem Uso\",\"\"))))))))","v":""},{"$f":"IF($N$82=$AE$2,COUNTIF($B$4:$B$100,\">=\"&AG82)-COUNTIF($B$4:$B$100,\">\"&AH82),\nIF($N$82=$AF$2,COUNTIF($C$4:$C$100,\">=\"&AG82)-COUNTIF($C$4:$C$100,\">\"&AH82),\nIF($N$82=$AG$2,COUNTIF($D$4:$D$100,\">=\"&AG82)-COUNTIF($D$4:$D$100,\">\"&AH82),\nIF($N$82=$AH$2,COUNTIF($E$4:$E$100,\">=\"&AG82)-COUNTIF($E$4:$E$100,\">\"&AH82),\nIF($N$82=$AI$2,COUNTIF($F$4:$F$100,\">=\"&AG82)-COUNTIF($F$4:$F$100,\">\"&AH82),\nIF($N$82=$AJ$2,COUNTIF($G$4:$G$100,\">=\"&AG82)-COUNTIF($G$4:$G$100,\">\"&AH82),\nIF($N$82=$AK$2,COUNTIF($H$4:$H$100,\">=\"&AG82)-COUNTIF($H$4:$H$100,\">\"&AH82),\nIF($N$82=\"Sem Uso\",\"\"))))))))","v":""},{"$f":"IF($N$82=$AE$2,COUNTIF($B$4:$B$100,\">=\"&AI82)-COUNTIF($B$4:$B$100,\">\"&AJ82),\nIF($N$82=$AF$2,COUNTIF($C$4:$C$100,\">=\"&AI82)-COUNTIF($C$4:$C$100,\">\"&AJ82),\nIF($N$82=$AG$2,COUNTIF($D$4:$D$100,\">=\"&AI82)-COUNTIF($D$4:$D$100,\">\"&AJ82),\nIF($N$82=$AH$2,COUNTIF($E$4:$E$100,\">=\"&AI82)-COUNTIF($E$4:$E$100,\">\"&AJ82),\nIF($N$82=$AI$2,COUNTIF($F$4:$F$100,\">=\"&AI82)-COUNTIF($F$4:$F$100,\">\"&AJ82),\nIF($N$82=$AJ$2,COUNTIF($G$4:$G$100,\">=\"&AI82)-COUNTIF($G$4:$G$100,\">\"&AJ82),\nIF($N$82=$AK$2,COUNTIF($H$4:$H$100,\">=\"&AI82)-COUNTIF($H$4:$H$100,\">\"&AJ82),\nIF($N$82=\"Sem Uso\",\"\"))))))))","v":""},{"$f":"IF($N$82=$AE$2,COUNTIF($B$4:$B$100,\">=\"&AK82)-COUNTIF($B$4:$B$100,\">\"&AL82),\nIF($N$82=$AF$2,COUNTIF($C$4:$C$100,\">=\"&AK82)-COUNTIF($C$4:$C$100,\">\"&AL82),\nIF($N$82=$AG$2,COUNTIF($D$4:$D$100,\">=\"&AK82)-COUNTIF($D$4:$D$100,\">\"&AL82),\nIF($N$82=$AH$2,COUNTIF($E$4:$E$100,\">=\"&AK82)-COUNTIF($E$4:$E$100,\">\"&AL82),\nIF($N$82=$AI$2,COUNTIF($F$4:$F$100,\">=\"&AK82)-COUNTIF($F$4:$F$100,\">\"&AL82),\nIF($N$82=$AJ$2,COUNTIF($G$4:$G$100,\">=\"&AK82)-COUNTIF($G$4:$G$100,\">\"&AL82),\nIF($N$82=$AK$2,COUNTIF($H$4:$H$100,\">=\"&AK82)-COUNTIF($H$4:$H$100,\">\"&AL82),\nIF($N$82=\"Sem Uso\",\"\"))))))))","v":""},{"$f":"IF($N$82=$AE$2,COUNTIF($B$4:$B$100,\">=\"&AM82)-COUNTIF($B$4:$B$100,\">\"&AN82),\nIF($N$82=$AF$2,COUNTIF($C$4:$C$100,\">=\"&AM82)-COUNTIF($C$4:$C$100,\">\"&AN82),\nIF($N$82=$AG$2,COUNTIF($D$4:$D$100,\">=\"&AM82)-COUNTIF($D$4:$D$100,\">\"&AN82),\nIF($N$82=$AH$2,COUNTIF($E$4:$E$100,\">=\"&AM82)-COUNTIF($E$4:$E$100,\">\"&AN82),\nIF($N$82=$AI$2,COUNTIF($F$4:$F$100,\">=\"&AM82)-COUNTIF($F$4:$F$100,\">\"&AN82),\nIF($N$82=$AJ$2,COUNTIF($G$4:$G$100,\">=\"&AM82)-COUNTIF($G$4:$G$100,\">\"&AN82),\nIF($N$82=$AK$2,COUNTIF($H$4:$H$100,\">=\"&AM82)-COUNTIF($H$4:$H$100,\">\"&AN82),\nIF($N$82=\"Sem Uso\",\"\"))))))))","v":""},{"$f":"IF($N$82=$AE$2,COUNTIF($B$4:$B$100,\">=\"&AO82)-COUNTIF($B$4:$B$100,\">\"&AP82),\nIF($N$82=$AF$2,COUNTIF($C$4:$C$100,\">=\"&AO82)-COUNTIF($C$4:$C$100,\">\"&AP82),\nIF($N$82=$AG$2,COUNTIF($D$4:$D$100,\">=\"&AO82)-COUNTIF($D$4:$D$100,\">\"&AP82),\nIF($N$82=$AH$2,COUNTIF($E$4:$E$100,\">=\"&AO82)-COUNTIF($E$4:$E$100,\">\"&AP82),\nIF($N$82=$AI$2,COUNTIF($F$4:$F$100,\">=\"&AO82)-COUNTIF($F$4:$F$100,\">\"&AP82),\nIF($N$82=$AJ$2,COUNTIF($G$4:$G$100,\">=\"&AO82)-COUNTIF($G$4:$G$100,\">\"&AP82),\nIF($N$82=$AK$2,COUNTIF($H$4:$H$100,\">=\"&AO82)-COUNTIF($H$4:$H$100,\">\"&AP82),\nIF($N$82=\"Sem Uso\",\"\"))))))))","v":""}]
[null,null,null,null,null,null,null,null,null,null,"Valor da Aula",null,null,{"$f":"IF(AF91<>0,AF91,\"\")","v":""},"","","","","",null,"Valor da Aula",null,{"$f":"IFERROR(IF(N85<=$S$89,0,N85-$S$89),\"\")","v":0},0,0,0,0,0]
[null,null,null,null,null,null,null,null,null,null,"Nr. de Aulas",null,null,{"$f":"IF(AF89<>\"\",AF90,\"\")","v":""},"","","","","",null,"Nr. de Aulas",null,{"$f":"N86","v":""},"","","","","",null,null,{"$f":"IF(N86<>\"\",N86,\"\")","v":""},"","","","",""]
[null,null,null,null,null,null,null,null,null,null,"Valor",null,null,{"$f":"IFERROR(N85*N86,\"\")","v":""},"","","","","",null,"Valor",null,{"$f":"IFERROR(W85*W86,\"\")","v":""},"","","","","",null,null,null,{"$f":"IF($N82<>\"Sem Uso\",VLOOKUP(N82,Configurações!$C$1:$I$8,2,0),\"\")","v":""},{"$f":"IF(N82<>\"Sem Uso\",VLOOKUP(N82,Configurações!$C$1:$I$8,3,0),\"\")","v":""},{"$f":"IF(N82<>\"Sem Uso\",VLOOKUP(N82,Configurações!$C$1:$I$8,4,0),\"\")","v":""},{"$f":"IF(N82<>\"Sem Uso\",VLOOKUP(N82,Configurações!$C$1:$I$8,5,0),\"\")","v":""},{"$f":"IF(N82<>\"Sem Uso\",VLOOKUP(N82,Configurações!$C$1:$I$8,6,0),\"\")","v":""},{"$f":"IF(N82<>\"Sem Uso\",VLOOKUP(N82,Configurações!$C$1:$I$8,7,0),\"\")","v":""}]
[null,null,null,null,null,null,null,null,null,null,null,null,"Total de Alunos",null,null,null,{"$f":"_xlfn.IFS(N82=$AE$2,$B$102,N82=$AF$2,$C$102,N82=$AG$2,$D$102,N82=$AH$2,$E$102,N82=$AI$2,$F$102,N82=$AJ$2,$G$102,N82=$AK$2,$H$102,N82=\"Sem Uso\",\"\")","v":""},null,null,null,null,"Total de Alunos",null,null,null,{"$f":"Q88","v":""},null,null,null,null,"TABELA DE EQUIVALÊNCIA"]
[null,null,null,null,null,null,null,null,null,null,null,null,"Total de Aulas",null,null,null,{"$f":"IF(Q88<>\"\",SUM(AE86:AJ86),\"\")","v":""},"Registo",null,null,null,"Total de Aulas",null,null,null,{"$f":"Q89","v":""},null,null,null,null,"Nr. Alunos",{"$f":"AF87","v":""},{"$f":"IF(AG87<>0,AG87,\"\")","v":""},{"$f":"IF(AH87<>0,AH87,\"\")","v":""},{"$f":"IF(AI87<>0,AI87,\"\")","v":""},{"$f":"IF(AJ87<>0,AJ87,\"\")","v":""},{"$f":"IF(AK87<>0,AK87,\"\")","v":""}]
[null,null,null,null,null,null,null,null,null,null,null,null,"Total a Receber",null,null,null,{"$f":"IF(Q88<>\"\",SUM(N87:S87),\"\")","v":""},null,null,null,null,"Total a Receber",null,null,null,{"$f":"IF(Z88<>\"\",SUM(W87:AB87),\"\")","v":""},null,null,null,null,"Aulas",{"$f":"IF(AF89<>\"\",AF84,\"\")","v":""},"","","","",""]
[null,null,null,null,null,null,null,null,null,null,null,null,null,null,null,null,null,null,null,null,null,null,null,null,null,null,null,null,null,null,null,{"$f":"IFERROR(VLOOKUP(N82&R82,Configurações!$C$13:$I$47,2,0),\"\")","v":""},{"$f":"IFERROR(IF(AG89<>0,VLOOKUP(N82&R82,Configurações!$C$13:$I$47,3,0),\"\"),\"\")","v":""},{"$f":"IFERROR(IF(AH89<>0,VLOOKUP(N82&R82,Configurações!$C$13:$I$47,4,0),\"\"),\"\")","v":""},{"$f":"IFERROR(IF(AI89<>0,VLOOKUP(N82&R82,Configurações!$C$13:$I$47,5,0),\"\"),\"\")","v":""},{"$f":"IFERROR(IF(AJ89<>0,VLOOKUP(N82&R82,Configurações!$C$13:$I$47,6,0),\"\"),\"\")","v":""},{"$f":"IFERROR(IF(AK89<>0,VLOOKUP(N82&R82,Configurações!$C$13:$I$47,7,0),\"\"),\"\")","v":""}]
[]
[]
[]
[]
[]
[]
[]
[]
[]
[]
[null,{"$f":"SUM($B$4:$B$100)","v":0},{"$f":"SUM($C$4:$C$100)","v":67},{"$f":"SUM($D$4:$D$100)","v":0},{"$f":"SUM($E$4:$E$100)","v":0},{"$f":"SUM($F$4:$F$100)","v":113},{"$f":"SUM($G$4:$G$100)","v":0},{"$f":"SUM($H$4:$H$100)","v":0}]

{"sheet":"Vinícius Braga de Oliveira","index":5,"n_rows":102,"n_cols":59,"rows_kept":102,"cut":false,"hidden":true,"merged":[[87,30,87,36],[71,10,71,18],[71,20,71,27],[76,30,76,36],[81,10,81,12],[81,13,81,15],[81,17,81,18],[65,30,65,36],[70,10,70,12],[70,13,70,15],[70,17,70,18],[82,10,82,18],[82,20,82,27],[54,30,54,36],[59,10,59,12],[59,13,59,15],[59,17,59,18],[60,10,60,18],[60,20,60,27],[43,30,43,36],[48,10,48,12],[48,13,48,15],[48,17,48,18],[49,10,49,18],[49,20,49,27],[32,30,32,36],[37,10,37,12],[37,13,37,15],[37,17,37,18],[38,10,38,18],[38,20,38,27],[21,30,21,36],[26,10,26,12],[26,13,26,15],[26,17,26,18],[27,10,27,18],[27,20,27,27],[12,47,12,48],[12,50,12,51],[12,52,12,53],[16,10,16,18],[16,20,16,27],[15,10,15,12],[15,13,15,15],[15,17,15,18],[4,9,4,12],[4,15,4,16],[4,19,4,21],[7,12,7,17],[12,45,12,46],[4,24,4,25],[5,19,5,21],[0,45,0,48],[0,50,0,53],[0,55,0,58],[1,25,1,26],[3,19,3,21],[1,9,1,11],[1,12,1,15],[1,17,1,18],[1,19,1,20],[1,23,1,24]]}
[null,null,null,null,null,null,null,null,null,null,null,null,null,null,null,null,null,null,null,null,null,null,null,null,null,null,null,null,null,null,null,null,null,null,null,null,null,null,null,null,null,null,null,null,null,"Valores",null,null,null,null,"Aulas",null,null,null,null,"Alunos"]
[null,"Nat. Adulta","Nat. Bebê","Aprend. A","Aprend. B","Adaptação","Iniciação","Hidrogin.",null,"Professor(a)",null,null,{"$f":"AE5","v":"Vinícius Braga de Oliveira"},null,null,null,null,null,null,null,null,null,null,"Referência",null,"2025-07-01",null,null,null,null,"Natação Adulta","Natação Bebê","Aprendizagem A","Aprendizagem B","Adaptação","Iniciação","Hidroginástica",null,null,null,null,null,{"$f":"TRANSPOSE(AE2:AK3)","v":"Natação Adulta"},58,null,"TOT NA","TOT BB","TOT IN","TOT HI",null,"TOT NA","TOT BB","TOT IN","TOT HI",null,"TOT NA","TOT BB","TOT IN","TOT HI"]
[null,null,null,null,null,null,null,null,null,null,null,null,null,null,null,null,null,null,null,null,null,null,null,null,null,null,null,null,null,null,{"$f":"B102","v":58},0,10,19,0,0,30,null,null,null,null,null,"Natação Bebê",0]
[null,2,null,0,5,null,null,8,null,null,null,null,null,null,null,null,null,null,null,"Salário Bruto",null,null,{"$f":"R12+V11+Y11","v":722.56},null,null,null,null,null,null,null,{"$f":"CELL(\"nome.arquivo\",AE5)","v":"C:\\Users\\SAMSUNG\\Downloads\\[Aulas de Julho - NOVA.xlsm]Vinícius Braga de Oliveira"},null,null,null,null,null,null,null,null,null,null,null,"Aprendizagem A",10,null,{"$f":"IF($N$16=\"Natação Adulta\",$Q$24,0)","v":460.11},{"$f":"IF($N$16=\"Natação Bebê\",$Q$24,0)","v":0},{"$f":"IF(AND($N$16<>\"Natação Adulta\",$N$16<>\"Natação Bebê\",$N$16<>\"Hidroginástica\"),$Q$24,0)","v":0},{"$f":"IF($N$16=\"Hidroginástica\",$Q$24,0)","v":0},null,{"$f":"IF($N$16=\"Natação Adulta\",$Q$23,0)","v":22},{"$f":"IF($N$16=\"Natação Bebê\",$Q$23,0)","v":0},{"$f":"IF(AND($N$16<>\"Natação Adulta\",$N$16<>\"Natação Bebê\",$N$16<>\"Hidroginástica\"),$Q$23,0)","v":0},{"$f":"IF($N$16=\"Hidroginástica\",$Q$23,0)","v":0},null,{"$f":"IF($N$16=\"Natação Adulta\",$Q$22,0)","v":58},{"$f":"IF($N$16=\"Natação Bebê\",$Q$22,0)","v":0},{"$f":"IF(AND($N$16<>\"Natação Adulta\",$N$16<>\"Natação Bebê\",$N$16<>\"Hidroginástica\"),$Q$22,0)","v":0},{"$f":"IF($N$16=\"Hidroginástica\",$Q$22,0)","v":0}]
[null,4,null,4,7,null,null,5,null,"Total de Alunos",null,null,null,{"$f":"R10+V9+Y9","v":117},null,"Total de Aulas",null,{"$f":"R11+V10+Y10","v":33},null,"INSS Total",null,null,{"$f":"BE14","v":54.191999999999993},null,"Contabilidade",null,{"$f":"SUM(W21:AB21)+SUM(W32:AB32)+SUM(W43:AB43)+SUM(W54:AB54)+SUM(W65:AB65)+SUM(W76:AB76)+SUM(W87:AB87)","v":139.78000000000003},null,null,null,{"$f":"MID(AE4,SEARCH(\"]\",AE4)+1,LEN(AE4)-SEARCH(\"]\",AE4)+1)","v":"Vinícius Braga de Oliveira"},null,null,{"$f":"MID(AE4,AF5+1,AG5-AF5)","v":""},null,null,null,null,null,null,null,null,"Aprendizagem B",19,null,{"$f":"IF($N$27=\"Natação Adulta\",$Q$35,0)","v":0},{"$f":"IF($N$27=\"Natação Bebê\",$Q$35,0)","v":0},{"$f":"IF(AND($N$27<>\"Natação Adulta\",$N$27<>\"Natação Bebê\",$N$27<>\"Hidroginástica\"),$Q$35,0)","v":88.75},{"$f":"IF($N$27=\"Hidroginástica\",$Q$35,0)","v":0},null,{"$f":"IF($N$27=\"Natação Adulta\",$Q$34,0)","v":0},{"$f":"IF($N$27=\"Natação Bebê\",$Q$34,0)","v":0},{"$f":"IF(AND($N$27<>\"Natação Adulta\",$N$27<>\"Natação Bebê\",$N$27<>\"Hidroginástica\"),$Q$34,0)","v":4},{"$f":"IF($N$27=\"Hidroginástica\",$Q$34,0)","v":0},null,{"$f":"IF($N$27=\"Natação Adulta\",$Q$33,0)","v":0},{"$f":"IF($N$27=\"Natação Bebê\",$Q$33,0)","v":0},{"$f":"IF(AND($N$27<>\"Natação Adulta\",$N$27<>\"Natação Bebê\",$N$27<>\"Hidroginástica\"),$Q$33,0)","v":10},{"$f":"IF($N$27=\"Hidroginástica\",$Q$33,0)","v":0}]
[null,3,null,1,7,null,null,6,null,null,null,null,null,null,null,null,null,null,null,"Salário Líquido",null,null,{"$f":"BE20","v":668.36800000000005},null,null,null,null,null,null,null,null,null,null,null,null,null,null,null,null,null,null,null,"Adaptação",0,null,{"$f":"IF($N$38=\"Natação Adulta\",$Q$46,0)","v":0},{"$f":"IF($N$38=\"Natação Bebê\",$Q$46,0)","v":0},{"$f":"IF(AND($N$38<>\"Natação Adulta\",$N$38<>\"Natação Bebê\",$N$38<>\"Hidroginástica\"),$Q$46,0)","v":71.039999999999992},{"$f":"IF($N$38=\"Hidroginástica\",$Q$46,0)","v":0},null,{"$f":"IF($N$38=\"Natação Adulta\",$Q$45,0)","v":0},{"$f":"IF($N$38=\"Natação Bebê\",$Q$45,0)","v":0},{"$f":"IF(AND($N$38<>\"Natação Adulta\",$N$38<>\"Natação Bebê\",$N$38<>\"Hidroginástica\"),$Q$45,0)","v":3},{"$f":"IF($N$38=\"Hidroginástica\",$Q$45,0)","v":0},null,{"$f":"IF($N$38=\"Natação Adulta\",$Q$44,0)","v":0},{"$f":"IF($N$38=\"Natação Bebê\",$Q$44,0)","v":0},{"$f":"IF(AND($N$38<>\"Natação Adulta\",$N$38<>\"Natação Bebê\",$N$38<>\"Hidroginástica\"),$Q$44,0)","v":19},{"$f":"IF($N$38=\"Hidroginástica\",$Q$44,0)","v":0}]
[null,3,null,5,null,null,null,11,null,null,null,null,null,null,null,null,null,null,null,null,null,null,null,null,null,null,null,null,null,null,null,null,null,null,null,null,null,null,null,null,null,null,"Iniciação",0,null,{"$f":"IF($N$49=\"Natação Adulta\",$Q$57,0)","v":0},{"$f":"IF($N$49=\"Natação Bebê\",$Q$57,0)","v":0},{"$f":"IF(AND($N$49<>\"Natação Adulta\",$N$49<>\"Natação Bebê\",$N$49<>\"Hidroginástica\"),$Q$57,0)","v":0},{"$f":"IF($N$49=\"Hidroginástica\",$Q$57,0)","v":102.66},null,{"$f":"IF($N$49=\"Natação Adulta\",$Q$56,0)","v":0},{"$f":"IF($N$49=\"Natação Bebê\",$Q$56,0)","v":0},{"$f":"IF(AND($N$49<>\"Natação Adulta\",$N$49<>\"Natação Bebê\",$N$49<>\"Hidroginástica\"),$Q$56,0)","v":0},{"$f":"IF($N$49=\"Hidroginástica\",$Q$56,0)","v":4},null,{"$f":"IF($N$49=\"Natação Adulta\",$Q$55,0)","v":0},{"$f":"IF($N$49=\"Natação Bebê\",$Q$55,0)","v":0},{"$f":"IF(AND($N$49<>\"Natação Adulta\",$N$49<>\"Natação Bebê\",$N$49<>\"Hidroginástica\"),$Q$55,0)","v":0},{"$f":"IF($N$49=\"Hidroginástica\",$Q$55,0)","v":30}]
[null,1,null,null,null,null,null,null,null,null,null,null,"Natação Infantil",null,null,null,null,null,null,null,"Natação Adulta",null,null,"Hidroginástica",null,null,null,null,null,null,null,null,null,null,null,null,null,null,null,null,null,null,"Hidroginástica",30,null,{"$f":"IF($N$60=\"Natação Adulta\",$Q$68,0)","v":0},{"$f":"IF($N$60=\"Natação Bebê\",$Q$68,0)","v":0},{"$f":"IF(AND($N$60<>\"Natação Adulta\",$N$60<>\"Natação Bebê\",$N$60<>\"Hidroginástica\"),$Q$68,0)","v":""},{"$f":"IF($N$60=\"Hidroginástica\",$Q$68,0)","v":0},null,{"$f":"IF($N$60=\"Natação Adulta\",$Q$67,0)","v":0},{"$f":"IF($N$60=\"Natação Bebê\",$Q$67,0)","v":0},{"$f":"IF(AND($N$60<>\"Natação Adulta\",$N$60<>\"Natação Bebê\",$N$60<>\"Hidroginástica\"),$Q$67,0)","v":""},{"$f":"IF($N$60=\"Hidroginástica\",$Q$67,0)","v":0},null,{"$f":"IF($N$60=\"Natação Adulta\",$Q$66,0)","v":0},{"$f":"IF($N$60=\"Natação Bebê\",$Q$66,0)","v":0},{"$f":"IF(AND($N$60<>\"Natação Adulta\",$N$60<>\"Natação Bebê\",$N$60<>\"Hidroginástica\"),$Q$66,0)","v":""},{"$f":"IF($N$60=\"Hidroginástica\",$Q$66,0)","v":0}]
[null,4,null,null,null,null,null,null,null,null,null,null,"Natação Bebê",null,"Demais",null,"Total Infantil",null,null,null,"Alunos",{"$f":"BD11","v":58},null,"Alunos",{"$f":"BG11","v":30},null,null,null,null,null,null,null,null,null,null,null,null,null,null,null,null,null,null,null,null,{"$f":"IF($N$71=\"Natação Adulta\",$Q$79,0)","v":0},{"$f":"IF($N$71=\"Natação Bebê\",$Q$79,0)","v":0},{"$f":"IF(AND($N$71<>\"Natação Adulta\",$N$71<>\"Natação Bebê\",$N$71<>\"Hidroginástica\"),$Q$79,0)","v":""},{"$f":"IF($N$71=\"Hidroginástica\",$Q$79,0)","v":0},null,{"$f":"IF($N$71=\"Natação Adulta\",$Q$78,0)","v":0},{"$f":"IF($N$71=\"Natação Bebê\",$Q$78,0)","v":0},{"$f":"IF(AND($N$71<>\"Natação Adulta\",$N$71<>\"Natação Bebê\",$N$71<>\"Hidroginástica\"),$Q$78,0)","v":""},{"$f":"IF($N$71=\"Hidroginástica\",$Q$78,0)","v":0},null,{"$f":"IF($N$71=\"Natação Adulta\",$Q$77,0)","v":0},{"$f":"IF($N$71=\"Natação Bebê\",$Q$77,0)","v":0},{"$f":"IF(AND($N$71<>\"Natação Adulta\",$N$71<>\"Natação Bebê\",$N$71<>\"Hidroginástica\"),$Q$77,0)","v":""},{"$f":"IF($N$71=\"Hidroginástica\",$Q$77,0)","v":0}]
[null,3,null,null,null,null,null,null,null,null,"Contábil",null,"Alunos",{"$f":"BE11","v":0},"Alunos",{"$f":"BF11","v":29},"Alunos",{"$f":"N10+P10","v":29},null,null,"Aulas",{"$f":"AY11","v":22},null,"Aulas",{"$f":"BB11","v":4},null,null,null,null,null,null,null,null,null,null,null,null,null,null,null,null,null,null,null,null,{"$f":"IF($N$82=\"Natação Adulta\",$Q$90,0)","v":0},{"$f":"IF($N$82=\"Natação Bebê\",$Q$90,0)","v":0},{"$f":"IF(AND($N$82<>\"Natação Adulta\",$N$82<>\"Natação Bebê\",$N$82<>\"Hidroginástica\"),$Q$90,0)","v":""},{"$f":"IF($N$82=\"Hidroginástica\",$Q$90,0)","v":0},null,{"$f":"IF($N$82=\"Natação Adulta\",$Q$89,0)","v":0},{"$f":"IF($N$82=\"Natação Bebê\",$Q$89,0)","v":0},{"$f":"IF(AND($N$82<>\"Natação Adulta\",$N$82<>\"Natação Bebê\",$N$82<>\"Hidroginástica\"),$Q$89,0)","v":""},{"$f":"IF($N$82=\"Hidroginástica\",$Q$89,0)","v":0},null,{"$f":"IF($N$82=\"Natação Adulta\",$Q$88,0)","v":0},{"$f":"IF($N$82=\"Natação Bebê\",$Q$88,0)","v":0},{"$f":"IF(AND($N$82<>\"Natação Adulta\",$N$82<>\"Natação Bebê\",$N$82<>\"Hidroginástica\"),$Q$88,0)","v":""},{"$f":"IF($N$82=\"Hidroginástica\",$Q$88,0)","v":0}]
[null,3,null,null,null,null,null,null,null,null,"Sistema",null,"Aulas",{"$f":"AZ11","v":0},"Aulas",{"$f":"BA11","v":7},"Aulas",7,null,null,"Bruto",{"$f":"AT11","v":460.11},null,"Bruto",{"$f":"AW11","v":102.66},null,null,null,null,null,null,null,null,null,null,null,null,null,null,null,null,null,null,null,null,{"$f":"SUM(AT4:AT10)","v":460.11},{"$f":"SUM(AU4:AU10)","v":0},159.79,102.66,null,{"$f":"SUM(AY4:AY10)","v":22},{"$f":"SUM(AZ4:AZ10)","v":0},7,4,null,{"$f":"SUM(BD4:BD10)","v":58},{"$f":"SUM(BE4:BE10)","v":0},29,30]
[null,1,null,null,null,null,null,null,null,null,"Sistema",null,"Bruto",{"$f":"AU11","v":0},"Bruto",{"$f":"AV11","v":159.79},"Bruto",159.79,null,null,"INSS",{"$f":"AZ15","v":34.508249999999997},null,"INSS",{"$f":"BB15","v":7.6994999999999996}]
[null,1,null,null,null,null,null,null,null,null,null,null,"INSS",{"$f":"AU15","v":0},"INSS",{"$f":"AW15","v":11.984249999999999},"INSS",11.984249999999999,null,null,"Líquido",{"$f":"V11-V12","v":425.60175000000004},null,"Líquido",{"$f":"Y11-Y12","v":94.960499999999996},null,null,null,null,null,null,null,null,null,null,null,null,null,null,null,null,null,null,null,null,"Natação Bebê",null,"Demais",null,null,"Natação Adulta",null,"Hidroginástica",null,null,"Bruto Informado",{"$f":"AU14+AW14+AZ14+BB14","v":722.56}]
[null,3,null,null,null,null,null,null,null,null,null,null,"Líquido",{"$f":"N12-N13","v":0},"Líquido",{"$f":"P12-P13","v":147.80574999999999},"Líquido",{"$f":"N14+P14","v":147.80574999999999},null,null,null,null,null,null,null,null,null,null,null,null,null,null,null,null,null,null,null,null,null,null,null,null,null,null,null,"Salário",{"$f":"AU11","v":0},"Salário",{"$f":"AV11","v":159.79},null,"Salário",{"$f":"AT11","v":460.11},"Salário",{"$f":"AW11","v":102.66},null,"INSS ",{"$f":"IF(BE13<=Impostos!$D$4,BE13*Impostos!$B$4,IF(BE13<=Impostos!$D$5,(BE13-Impostos!$D$4)*Impostos!$B$5+Impostos!$E$4,IF(BE13<=Impostos!$D$6,(BE13-(Impostos!$D$5-Impostos!$D$4)-Impostos!$D$4)*Impostos!$B$6+Impostos!$E$5+Impostos!$E$4,IF(BE13<=Impostos!$D$7,(BE13-(Impostos!$D$6-Impostos!$D$5)-(Impostos!$D$5-Impostos!$D$4)-Impostos!$D$4)*Impostos!$B$7+Impostos!$E$6+Impostos!$E$5+Impostos!$E$4,IF(BE13>=Impostos!$E$7,Impostos!$E$7)))))","v":54.191999999999993}]
[null,3,null,null,null,null,null,null,null,null,null,null,null,null,null,null,null,null,null,null,null,null,null,null,null,null,null,null,null,null,null,null,null,null,null,null,null,null,null,null,null,null,null,null,null,"INSS",{"$f":"IF(AU14<=Impostos!$D$4,AU14*Impostos!$B$4,IF(AU14<=Impostos!$D$5,(AU14-Impostos!$D$4)*Impostos!$B$5+Impostos!$E$4,IF(AU14<=Impostos!$D$6,(AU14-(Impostos!$D$5-Impostos!$D$4)-Impostos!$D$4)*Impostos!$B$6+Impostos!$E$5+Impostos!$E$4,IF(AU14<=Impostos!$D$7,(AU14-(Impostos!$D$6-Impostos!$D$5)-(Impostos!$D$5-Impostos!$D$4)-Impostos!$D$4)*Impostos!$B$7+Impostos!$E$6+Impostos!$E$5+Impostos!$E$4,IF(AU14>=Impostos!$E$7,Impostos!$E$7)))))","v":0},"INSS",{"$f":"IF(AW14<=Impostos!$D$4,AW14*Impostos!$B$4,IF(AW14<=Impostos!$D$5,(AW14-Impostos!$D$4)*Impostos!$B$5+Impostos!$E$4,IF(AW14<=Impostos!$D$6,(AW14-(Impostos!$D$5-Impostos!$D$4)-Impostos!$D$4)*Impostos!$B$6+Impostos!$E$5+Impostos!$E$4,IF(AW14<=Impostos!$D$7,(AW14-(Impostos!$D$6-Impostos!$D$5)-(Impostos!$D$5-Impostos!$D$4)-Impostos!$D$4)*Impostos!$B$7+Impostos!$E$6+Impostos!$E$5+Impostos!$E$4,IF(AW14>=Impostos!$E$7,Impostos!$E$7)))))","v":11.984249999999999},null,"INSS",{"$f":"IF(AZ14<=Impostos!$D$4,AZ14*Impostos!$B$4,IF(AZ14<=Impostos!$D$5,(AZ14-Impostos!$D$4)*Impostos!$B$5+Impostos!$E$4,IF(AZ14<=Impostos!$D$6,(AZ14-(Impostos!$D$5-Impostos!$D$4)-Impostos!$D$4)*Impostos!$B$6+Impostos!$E$5+Impostos!$E$4,IF(AZ14<=Impostos!$D$7,(AZ14-(Impostos!$D$6-Impostos!$D$5)-(Impostos!$D$5-Impostos!$D$4)-Impostos!$D$4)*Impostos!$B$7+Impostos!$E$6+Impostos!$E$5+Impostos!$E$4,IF(AZ14>=Impostos!$E$7,Impostos!$E$7)))))","v":34.508249999999997},"INSS",{"$f":"IF(BB14<=Impostos!$D$4,BB14*Impostos!$B$4,IF(BB14<=Impostos!$D$5,(BB14-Impostos!$D$4)*Impostos!$B$5+Impostos!$E$4,IF(BB14<=Impostos!$D$6,(BB14-(Impostos!$D$5-Impostos!$D$4)-Impostos!$D$4)*Impostos!$B$6+Impostos!$E$5+Impostos!$E$4,IF(BB14<=Impostos!$D$7,(BB14-(Impostos!$D$6-Impostos!$D$5)-(Impostos!$D$5-Impostos!$D$4)-Impostos!$D$4)*Impostos!$B$7+Impostos!$E$6+Impostos!$E$5+Impostos!$E$4,IF(BB14>=Impostos!$E$7,Impostos!$E$7)))))","v":7.6994999999999996},null,"Líquido ",{"$f":"BE13-BE14","v":668.36799999999994}]
[null,1,null,null,null,null,null,null,null,null,"Modalidade",null,null,"Natação Adulta",null,null,"Nível","Prof. Nível C",null,null,null,null,null,null,null,null,null,null,null,null,{"$f":"VLOOKUP(N16,Configurações!$J$1:$V$9,2,0)","v":"0"},{"$f":"VLOOKUP(N16,Configurações!$J$1:$V$9,3,0)","v":"0"},{"$f":"VLOOKUP(N16,Configurações!$J$1:$V$9,4,0)","v":"1 "},{"$f":"VLOOKUP(N16,Configurações!$J$1:$V$9,5,0)","v":" 3"},{"$f":"VLOOKUP(N16,Configurações!$J$1:$V$9,6,0)","v":"4 "},{"$f":"VLOOKUP(N16,Configurações!$J$1:$V$9,7,0)","v":" 5"},{"$f":"VLOOKUP(N16,Configurações!$J$1:$V$9,8,0)","v":"6 "},{"$f":"VLOOKUP(N16,Configurações!$J$1:$V$9,9,0)","v":" 8"},{"$f":"VLOOKUP(N16,Configurações!$J$1:$V$9,10,0)","v":""},{"$f":"VLOOKUP(N16,Configurações!$J$1:$V$9,11,0)","v":""},{"$f":"VLOOKUP(N16,Configurações!$J$1:$V$9,12,0)","v":""},{"$f":"VLOOKUP(N16,Configurações!$J$1:$V$9,13,0)","v":""}]
[null,0,null,null,null,null,null,null,null,null,"Academia",null,null,null,null,null,null,null,null,null,"Contabilidade",null,null,null,null,null,null,null,null,null,{"$f":"IFERROR(VLOOKUP(N16,_xlfn.ANCHORARRAY($AQ$2),2,0),0)","v":58},null,null,null,null,null,null,null,null,null,null,null,null,null,null,null,null,null,null,null,null,null,null,null,null,"Líquido Calcl",{"$f":"R14+V13+Y13","v":668.36800000000005}]
[null,4,null,null,null,null,null,null,null,null,"Nr. de Alunos",null,null,{"$f":"IF(AF23<>\"\",AF23,\"\")","v":0},{"$f":"IF(AG23<>\"\",AG23,\"\")","v":"1 a 3"},{"$f":"IF(AH23<>\"\",AH23,\"\")","v":"4 a 5"},{"$f":"IF(AI23<>\"\",AI23,\"\")","v":"6 a 8"},{"$f":"IF(AJ23<>\"\",AJ23,\"\")","v":""},{"$f":"IF(AK23<>0,AK23,\"\")","v":""},null,"Nr. de Alunos",null,{"$f":"N18","v":0},{"$f":"O18","v":"1 a 3"},"4 a 5","6 a 8","","",null,null,null,{"$f":"IF($N$16=$AE$2,COUNTIF($B$4:$B$100,\">=\"&AE16)-COUNTIF($B$4:$B$100,\">\"&AF16),\nIF($N$16=$AF$2,COUNTIF($C$4:$C$100,\">=\"&AE16)-COUNTIF($C$4:$C$100,\">\"&AF16),\nIF($N$16=$AG$2,COUNTIF($D$4:$D$100,\">=\"&AE16)-COUNTIF($D$4:$D$100,\">\"&AF16),\nIF($N$16=$AH$2,COUNTIF($E$4:$E$100,\">=\"&AE16)-COUNTIF($E$4:$E$100,\">\"&AF16),\nIF($N$16=$AI$2,COUNTIF($F$4:$F$100,\">=\"&AE16)-COUNTIF($F$4:$F$100,\">\"&AF16),\nIF($N$16=$AJ$2,COUNTIF($G$4:$G$100,\">=\"&AE16)-COUNTIF($G$4:$G$100,\">\"&AF16),\nIF($N$16=$AK$2,COUNTIF($H$4:$H$100,\">=\"&AE16)-COUNTIF($H$4:$H$100,\">\"&AF16),\nIF($N$16=\"Sem Uso\",\"\"))))))))","v":1},{"$f":"IF($N$16=$AE$2,COUNTIF($B$4:$B$100,\">=\"&AG16)-COUNTIF($B$4:$B$100,\">\"&AH16),\nIF($N$16=$AF$2,COUNTIF($C$4:$C$100,\">=\"&AG16)-COUNTIF($C$4:$C$100,\">\"&AH16),\nIF($N$16=$AG$2,COUNTIF($D$4:$D$100,\">=\"&AG16)-COUNTIF($D$4:$D$100,\">\"&AH16),\nIF($N$16=$AH$2,COUNTIF($E$4:$E$100,\">=\"&AG16)-COUNTIF($E$4:$E$100,\">\"&AH16),\nIF($N$16=$AI$2,COUNTIF($F$4:$F$100,\">=\"&AG16)-COUNTIF($F$4:$F$100,\">\"&AH16),\nIF($N$16=$AJ$2,COUNTIF($G$4:$G$100,\">=\"&AG16)-COUNTIF($G$4:$G$100,\">\"&AH16),\nIF($N$16=$AK$2,COUNTIF($H$4:$H$100,\">=\"&AG16)-COUNTIF($H$4:$H$100,\">\"&AH16),\nIF($N$16=\"Sem Uso\",\"\"))))))))","v":15},{"$f":"IF($N$16=$AE$2,COUNTIF($B$4:$B$100,\">=\"&AI16)-COUNTIF($B$4:$B$100,\">\"&AJ16),\nIF($N$16=$AF$2,COUNTIF($C$4:$C$100,\">=\"&AI16)-COUNTIF($C$4:$C$100,\">\"&AJ16),\nIF($N$16=$AG$2,COUNTIF($D$4:$D$100,\">=\"&AI16)-COUNTIF($D$4:$D$100,\">\"&AJ16),\nIF($N$16=$AH$2,COUNTIF($E$4:$E$100,\">=\"&AI16)-COUNTIF($E$4:$E$100,\">\"&AJ16),\nIF($N$16=$AI$2,COUNTIF($F$4:$F$100,\">=\"&AI16)-COUNTIF($F$4:$F$100,\">\"&AJ16),\nIF($N$16=$AJ$2,COUNTIF($G$4:$G$100,\">=\"&AI16)-COUNTIF($G$4:$G$100,\">\"&AJ16),\nIF($N$16=$AK$2,COUNTIF($H$4:$H$100,\">=\"&AI16)-COUNTIF($H$4:$H$100,\">\"&AJ16),\nIF($N$16=\"Sem Uso\",\"\"))))))))","v":5},{"$f":"IF($N$16=$AE$2,COUNTIF($B$4:$B$100,\">=\"&AK16)-COUNTIF($B$4:$B$100,\">\"&AL16),\nIF($N$16=$AF$2,COUNTIF($C$4:$C$100,\">=\"&AK16)-COUNTIF($C$4:$C$100,\">\"&AL16),\nIF($N$16=$AG$2,COUNTIF($D$4:$D$100,\">=\"&AK16)-COUNTIF($D$4:$D$100,\">\"&AL16),\nIF($N$16=$AH$2,COUNTIF($E$4:$E$100,\">=\"&AK16)-COUNTIF($E$4:$E$100,\">\"&AL16),\nIF($N$16=$AI$2,COUNTIF($F$4:$F$100,\">=\"&AK16)-COUNTIF($F$4:$F$100,\">\"&AL16),\nIF($N$16=$AJ$2,COUNTIF($G$4:$G$100,\">=\"&AK16)-COUNTIF($G$4:$G$100,\">\"&AL16),\nIF($N$16=$AK$2,COUNTIF($H$4:$H$100,\">=\"&AK16)-COUNTIF($H$4:$H$100,\">\"&AL16),\nIF($N$16=\"Sem Uso\",\"\"))))))))","v":1},{"$f":"IF($N$16=$AE$2,COUNTIF($B$4:$B$100,\">=\"&AM16)-COUNTIF($B$4:$B$100,\">\"&AN16),\nIF($N$16=$AF$2,COUNTIF($C$4:$C$100,\">=\"&AM16)-COUNTIF($C$4:$C$100,\">\"&AN16),\nIF($N$16=$AG$2,COUNTIF($D$4:$D$100,\">=\"&AM16)-COUNTIF($D$4:$D$100,\">\"&AN16),\nIF($N$16=$AH$2,COUNTIF($E$4:$E$100,\">=\"&AM16)-COUNTIF($E$4:$E$100,\">\"&AN16),\nIF($N$16=$AI$2,COUNTIF($F$4:$F$100,\">=\"&AM16)-COUNTIF($F$4:$F$100,\">\"&AN16),\nIF($N$16=$AJ$2,COUNTIF($G$4:$G$100,\">=\"&AM16)-COUNTIF($G$4:$G$100,\">\"&AN16),\nIF($N$16=$AK$2,COUNTIF($H$4:$H$100,\">=\"&AM16)-COUNTIF($H$4:$H$100,\">\"&AN16),\nIF($N$16=\"Sem Uso\",\"\"))))))))","v":0},{"$f":"IF($N$16=$AE$2,COUNTIF($B$4:$B$100,\">=\"&AO16)-COUNTIF($B$4:$B$100,\">\"&AP16),\nIF($N$16=$AF$2,COUNTIF($C$4:$C$100,\">=\"&AO16)-COUNTIF($C$4:$C$100,\">\"&AP16),\nIF($N$16=$AG$2,COUNTIF($D$4:$D$100,\">=\"&AO16)-COUNTIF($D$4:$D$100,\">\"&AP16),\nIF($N$16=$AH$2,COUNTIF($E$4:$E$100,\">=\"&AO16)-COUNTIF($E$4:$E$100,\">\"&AP16),\nIF($N$16=$AI$2,COUNTIF($F$4:$F$100,\">=\"&AO16)-COUNTIF($F$4:$F$100,\">\"&AP16),\nIF($N$16=$AJ$2,COUNTIF($G$4:$G$100,\">=\"&AO16)-COUNTIF($G$4:$G$100,\">\"&AP16),\nIF($N$16=$AK$2,COUNTIF($H$4:$H$100,\">=\"&AO16)-COUNTIF($H$4:$H$100,\">\"&AP16),\nIF($N$16=\"Sem Uso\",\"\"))))))))","v":0},null,null,null,null,null,null,null,null,null,null,null,null,null,null,null,null,null,null,"Diferença",{"$f":"BE15-BE17","v":0}]
[null,5,null,null,null,null,null,null,null,null,"Valor da Aula",null,null,{"$f":"IF(AF25<>0,AF25,\"\")","v":17.66},19.760000000000002,23.68,27.65,"","",null,"Valor da Aula",null,{"$f":"IFERROR(IF(N19<=$S$23,0,N19-$S$23),\"\")","v":0},2.1000000000000014,6.02,9.9899999999999984,"",""]
[null,1,null,null,null,null,null,null,null,null,"Nr. de Aulas",null,null,{"$f":"IF(AF23<>\"\",AF24,\"\")","v":1},15,5,1,"","",null,"Nr. de Aulas",null,{"$f":"N20","v":1},15,5,1,"","",null,null,{"$f":"IF(N20<>\"\",N20,\"\")","v":1},15,5,1,"","",null,null,null,null,null,null,null,null,null,null,null,null,null,null,null,null,null,null,null,"Líquido Real",{"$f":"BE17+BE18","v":668.36800000000005}]
[null,1,null,null,null,null,null,null,null,null,"Valor",null,null,{"$f":"IFERROR(N19*N20,\"\")","v":17.66},296.40000000000003,118.4,27.65,"","",null,"Valor",null,{"$f":"IFERROR(W19*W20,\"\")","v":0},31.500000000000021,30.099999999999998,9.9899999999999984,"","",null,null,null,{"$f":"IF($N16<>\"Sem Uso\",VLOOKUP(N16,Configurações!$C$1:$I$8,2,0),\"\")","v":0},{"$f":"IF(N16<>\"Sem Uso\",VLOOKUP(N16,Configurações!$C$1:$I$8,3,0),\"\")","v":"1 a 3"},{"$f":"IF(N16<>\"Sem Uso\",VLOOKUP(N16,Configurações!$C$1:$I$8,4,0),\"\")","v":"4 a 5"},{"$f":"IF(N16<>\"Sem Uso\",VLOOKUP(N16,Configurações!$C$1:$I$8,5,0),\"\")","v":"6 a 8"},{"$f":"IF(N16<>\"Sem Uso\",VLOOKUP(N16,Configurações!$C$1:$I$8,6,0),\"\")","v":0},{"$f":"IF(N16<>\"Sem Uso\",VLOOKUP(N16,Configurações!$C$1:$I$8,7,0),\"\")","v":0}]
[null,6,null,null,null,null,null,null,null,null,null,null,"Total de Alunos",null,null,null,{"$f":"_xlfn.IFS(N16=$AE$2,$B$102,N16=$AF$2,$C$102,N16=$AG$2,$D$102,N16=$AH$2,$E$102,N16=$AI$2,$F$102,N16=$AJ$2,$G$102,N16=$AK$2,$H$102,N16=\"Sem Uso\",\"\")","v":58},null,null,null,null,"Total de Alunos",null,null,null,{"$f":"Q22","v":58},null,null,null,null,"TABELA DE EQUIVALÊNCIA"]
[null,4,null,null,null,null,null,null,null,null,null,null,"Total de Aulas",null,null,null,{"$f":"IF(Q22<>\"\",SUM(AE20:AJ20),\"\")","v":22},"Registro",17.66,null,null,"Total de Aulas",null,null,null,{"$f":"Q23","v":22},null,null,null,null,"Nr. Alunos",{"$f":"AF21","v":0},{"$f":"IF(AG21<>0,AG21,\"\")","v":"1 a 3"},{"$f":"IF(AH21<>0,AH21,\"\")","v":"4 a 5"},{"$f":"IF(AI21<>0,AI21,\"\")","v":"6 a 8"},{"$f":"IF(AJ21<>0,AJ21,\"\")","v":""},{"$f":"IF(AK21<>0,AK21,\"\")","v":""}]
[null,3,null,null,null,null,null,null,null,null,null,null,"Total a Receber",null,null,null,{"$f":"IF(Q22<>\"\",SUM(N21:S21),\"\")","v":460.11},null,null,null,null,"Total a Receber",null,null,null,{"$f":"IF(Z22<>\"\",SUM(W21:AB21),\"\")","v":71.590000000000018},null,null,null,null,"Aulas",{"$f":"IF(AF23<>\"\",AF18,\"\")","v":1},15,5,1,"",""]
[null,2,null,null,null,null,null,null,null,null,null,null,null,null,null,null,null,null,null,null,null,null,null,null,null,null,null,null,null,null,null,{"$f":"IFERROR(VLOOKUP(N16&R16,Configurações!$C$13:$I$47,2,0),\"\")","v":17.66},{"$f":"IFERROR(IF(AG23<>0,VLOOKUP(N16&R16,Configurações!$C$13:$I$47,3,0),\"\"),\"\")","v":19.760000000000002},{"$f":"IFERROR(IF(AH23<>0,VLOOKUP(N16&R16,Configurações!$C$13:$I$47,4,0),\"\"),\"\")","v":23.68},{"$f":"IFERROR(IF(AI23<>0,VLOOKUP(N16&R16,Configurações!$C$13:$I$47,5,0),\"\"),\"\")","v":27.65},{"$f":"IFERROR(IF(AJ23<>0,VLOOKUP(N16&R16,Configurações!$C$13:$I$47,6,0),\"\"),\"\")","v":0},{"$f":"IFERROR(IF(AK23<>0,VLOOKUP(N16&R16,Configurações!$C$13:$I$47,7,0),\"\"),\"\")","v":0}]
[]
[null,null,null,null,null,null,null,null,null,null,"Modalidade",null,null,"Aprendizagem A",null,null,"Nível","Prof. Nível C",null,null,null,null,null,null,null,null,null,null,null,null,{"$f":"VLOOKUP(N27,Configurações!$J$1:$V$9,2,0)","v":"0"},{"$f":"VLOOKUP(N27,Configurações!$J$1:$V$9,3,0)","v":"0"},{"$f":"VLOOKUP(N27,Configurações!$J$1:$V$9,4,0)","v":"1 "},{"$f":"VLOOKUP(N27,Configurações!$J$1:$V$9,5,0)","v":" 2"},{"$f":"VLOOKUP(N27,Configurações!$J$1:$V$9,6,0)","v":"3 "},{"$f":"VLOOKUP(N27,Configurações!$J$1:$V$9,7,0)","v":" 4"},{"$f":"VLOOKUP(N27,Configurações!$J$1:$V$9,8,0)","v":"5 "},{"$f":"VLOOKUP(N27,Configurações!$J$1:$V$9,9,0)","v":" 6"},{"$f":"VLOOKUP(N27,Configurações!$J$1:$V$9,10,0)","v":"7 "},{"$f":"VLOOKUP(N27,Configurações!$J$1:$V$9,11,0)","v":" 8"},{"$f":"VLOOKUP(N27,Configurações!$J$1:$V$9,12,0)","v":""},{"$f":"VLOOKUP(N27,Configurações!$J$1:$V$9,13,0)","v":""}]
[null,null,null,null,null,null,null,null,null,null,"Academia",null,null,null,null,null,null,null,null,null,"Contabilidade",null,null,null,null,null,null,null,null,null,{"$f":"IFERROR(VLOOKUP(N27,_xlfn.ANCHORARRAY($AQ$2),2,0),0)","v":10}]
[null,null,null,null,null,null,null,null,null,null,"Nr. de Alunos",null,null,{"$f":"IF(AF34<>\"\",AF34,\"\")","v":0},{"$f":"IF(AG34<>\"\",AG34,\"\")","v":"1 a 2"},{"$f":"IF(AH34<>\"\",AH34,\"\")","v":"3 a 4"},{"$f":"IF(AI34<>\"\",AI34,\"\")","v":"5 a 6"},{"$f":"IF(AJ34<>\"\",AJ34,\"\")","v":"7 a 8"},{"$f":"IF(AK34<>0,AK34,\"\")","v":""},null,"Nr. de Alunos",null,{"$f":"N29","v":0},{"$f":"O29","v":"1 a 2"},"3 a 4","5 a 6","7 a 8","",null,null,null,{"$f":"IF($N$27=$AE$2,COUNTIF($B$4:$B$100,\">=\"&AE27)-COUNTIF($B$4:$B$100,\">\"&AF27),\nIF($N$27=$AF$2,COUNTIF($C$4:$C$100,\">=\"&AE27)-COUNTIF($C$4:$C$100,\">\"&AF27),\nIF($N$27=$AG$2,COUNTIF($D$4:$D$100,\">=\"&AE27)-COUNTIF($D$4:$D$100,\">\"&AF27),\nIF($N$27=$AH$2,COUNTIF($E$4:$E$100,\">=\"&AE27)-COUNTIF($E$4:$E$100,\">\"&AF27),\nIF($N$27=$AI$2,COUNTIF($F$4:$F$100,\">=\"&AE27)-COUNTIF($F$4:$F$100,\">\"&AF27),\nIF($N$27=$AJ$2,COUNTIF($G$4:$G$100,\">=\"&AE27)-COUNTIF($G$4:$G$100,\">\"&AF27),\nIF($N$27=$AK$2,COUNTIF($H$4:$H$100,\">=\"&AE27)-COUNTIF($H$4:$H$100,\">\"&AF27),\nIF($N$27=\"Sem Uso\",\"\"))))))))","v":1},{"$f":"IF($N$27=$AE$2,COUNTIF($B$4:$B$100,\">=\"&AG27)-COUNTIF($B$4:$B$100,\">\"&AH27),\nIF($N$27=$AF$2,COUNTIF($C$4:$C$100,\">=\"&AG27)-COUNTIF($C$4:$C$100,\">\"&AH27),\nIF($N$27=$AG$2,COUNTIF($D$4:$D$100,\">=\"&AG27)-COUNTIF($D$4:$D$100,\">\"&AH27),\nIF($N$27=$AH$2,COUNTIF($E$4:$E$100,\">=\"&AG27)-COUNTIF($E$4:$E$100,\">\"&AH27),\nIF($N$27=$AI$2,COUNTIF($F$4:$F$100,\">=\"&AG27)-COUNTIF($F$4:$F$100,\">\"&AH27),\nIF($N$27=$AJ$2,COUNTIF($G$4:$G$100,\">=\"&AG27)-COUNTIF($G$4:$G$100,\">\"&AH27),\nIF($N$27=$AK$2,COUNTIF($H$4:$H$100,\">=\"&AG27)-COUNTIF($H$4:$H$100,\">\"&AH27),\nIF($N$27=\"Sem Uso\",\"\"))))))))","v":1},{"$f":"IF($N$27=$AE$2,COUNTIF($B$4:$B$100,\">=\"&AI27)-COUNTIF($B$4:$B$100,\">\"&AJ27),\nIF($N$27=$AF$2,COUNTIF($C$4:$C$100,\">=\"&AI27)-COUNTIF($C$4:$C$100,\">\"&AJ27),\nIF($N$27=$AG$2,COUNTIF($D$4:$D$100,\">=\"&AI27)-COUNTIF($D$4:$D$100,\">\"&AJ27),\nIF($N$27=$AH$2,COUNTIF($E$4:$E$100,\">=\"&AI27)-COUNTIF($E$4:$E$100,\">\"&AJ27),\nIF($N$27=$AI$2,COUNTIF($F$4:$F$100,\">=\"&AI27)-COUNTIF($F$4:$F$100,\">\"&AJ27),\nIF($N$27=$AJ$2,COUNTIF($G$4:$G$100,\">=\"&AI27)-COUNTIF($G$4:$G$100,\">\"&AJ27),\nIF($N$27=$AK$2,COUNTIF($H$4:$H$100,\">=\"&AI27)-COUNTIF($H$4:$H$100,\">\"&AJ27),\nIF($N$27=\"Sem Uso\",\"\"))))))))","v":1},{"$f":"IF($N$27=$AE$2,COUNTIF($B$4:$B$100,\">=\"&AK27)-COUNTIF($B$4:$B$100,\">\"&AL27),\nIF($N$27=$AF$2,COUNTIF($C$4:$C$100,\">=\"&AK27)-COUNTIF($C$4:$C$100,\">\"&AL27),\nIF($N$27=$AG$2,COUNTIF($D$4:$D$100,\">=\"&AK27)-COUNTIF($D$4:$D$100,\">\"&AL27),\nIF($N$27=$AH$2,COUNTIF($E$4:$E$100,\">=\"&AK27)-COUNTIF($E$4:$E$100,\">\"&AL27),\nIF($N$27=$AI$2,COUNTIF($F$4:$F$100,\">=\"&AK27)-COUNTIF($F$4:$F$100,\">\"&AL27),\nIF($N$27=$AJ$2,COUNTIF($G$4:$G$100,\">=\"&AK27)-COUNTIF($G$4:$G$100,\">\"&AL27),\nIF($N$27=$AK$2,COUNTIF($H$4:$H$100,\">=\"&AK27)-COUNTIF($H$4:$H$100,\">\"&AL27),\nIF($N$27=\"Sem Uso\",\"\"))))))))","v":1},{"$f":"IF($N$27=$AE$2,COUNTIF($B$4:$B$100,\">=\"&AM27)-COUNTIF($B$4:$B$100,\">\"&AN27),\nIF($N$27=$AF$2,COUNTIF($C$4:$C$100,\">=\"&AM27)-COUNTIF($C$4:$C$100,\">\"&AN27),\nIF($N$27=$AG$2,COUNTIF($D$4:$D$100,\">=\"&AM27)-COUNTIF($D$4:$D$100,\">\"&AN27),\nIF($N$27=$AH$2,COUNTIF($E$4:$E$100,\">=\"&AM27)-COUNTIF($E$4:$E$100,\">\"&AN27),\nIF($N$27=$AI$2,COUNTIF($F$4:$F$100,\">=\"&AM27)-COUNTIF($F$4:$F$100,\">\"&AN27),\nIF($N$27=$AJ$2,COUNTIF($G$4:$G$100,\">=\"&AM27)-COUNTIF($G$4:$G$100,\">\"&AN27),\nIF($N$27=$AK$2,COUNTIF($H$4:$H$100,\">=\"&AM27)-COUNTIF($H$4:$H$100,\">\"&AN27),\nIF($N$27=\"Sem Uso\",\"\"))))))))","v":0},{"$f":"IF($N$27=$AE$2,COUNTIF($B$4:$B$100,\">=\"&AO27)-COUNTIF($B$4:$B$100,\">\"&AP27),\nIF($N$27=$AF$2,COUNTIF($C$4:$C$100,\">=\"&AO27)-COUNTIF($C$4:$C$100,\">\"&AP27),\nIF($N$27=$AG$2,COUNTIF($D$4:$D$100,\">=\"&AO27)-COUNTIF($D$4:$D$100,\">\"&AP27),\nIF($N$27=$AH$2,COUNTIF($E$4:$E$100,\">=\"&AO27)-COUNTIF($E$4:$E$100,\">\"&AP27),\nIF($N$27=$AI$2,COUNTIF($F$4:$F$100,\">=\"&AO27)-COUNTIF($F$4:$F$100,\">\"&AP27),\nIF($N$27=$AJ$2,COUNTIF($G$4:$G$100,\">=\"&AO27)-COUNTIF($G$4:$G$100,\">\"&AP27),\nIF($N$27=$AK$2,COUNTIF($H$4:$H$100,\">=\"&AO27)-COUNTIF($H$4:$H$100,\">\"&AP27),\nIF($N$27=\"Sem Uso\",\"\"))))))))","v":0}]
[null,null,null,null,null,null,null,null,null,null,"Valor da Aula",null,null,{"$f":"IF(AF36<>0,AF36,\"\")","v":17.66},19.760000000000002,23.68,27.65,30.86,"",null,"Valor da Aula",null,{"$f":"IFERROR(IF(N30<=$S$34,0,N30-$S$34),\"\")","v":0},2.1000000000000014,6.02,9.9899999999999984,13.2,""]
[null,null,null,null,null,null,null,null,null,null,"Nr. de Aulas",null,null,{"$f":"IF(AF34<>\"\",AF35,\"\")","v":1},1,1,1,0,"",null,"Nr. de Aulas",null,{"$f":"N31","v":1},1,1,1,0,"",null,null,{"$f":"IF(N31<>\"\",N31,\"\")","v":1},1,1,1,0,""]
[null,null,null,null,null,null,null,null,null,null,"Valor",null,null,{"$f":"IFERROR(N30*N31,\"\")","v":17.66},19.760000000000002,23.68,27.65,0,"",null,"Valor",null,{"$f":"IFERROR(W30*W31,\"\")","v":0},2.1000000000000014,6.02,9.9899999999999984,0,"",null,null,null,{"$f":"IF($N27<>\"Sem Uso\",VLOOKUP(N27,Configurações!$C$1:$I$8,2,0),\"\")","v":0},{"$f":"IF(N27<>\"Sem Uso\",VLOOKUP(N27,Configurações!$C$1:$I$8,3,0),\"\")","v":"1 a 2"},{"$f":"IF(N27<>\"Sem Uso\",VLOOKUP(N27,Configurações!$C$1:$I$8,4,0),\"\")","v":"3 a 4"},{"$f":"IF(N27<>\"Sem Uso\",VLOOKUP(N27,Configurações!$C$1:$I$8,5,0),\"\")","v":"5 a 6"},{"$f":"IF(N27<>\"Sem Uso\",VLOOKUP(N27,Configurações!$C$1:$I$8,6,0),\"\")","v":"7 a 8"},{"$f":"IF(N27<>\"Sem Uso\",VLOOKUP(N27,Configurações!$C$1:$I$8,7,0),\"\")","v":0}]
[null,null,null,null,null,null,null,null,null,null,null,null,"Total de Alunos",null,null,null,{"$f":"_xlfn.IFS(N27=$AE$2,$B$102,N27=$AF$2,$C$102,N27=$AG$2,$D$102,N27=$AH$2,$E$102,N27=$AI$2,$F$102,N27=$AJ$2,$G$102,N27=$AK$2,$H$102,N27=\"Sem Uso\",\"\")","v":10},null,null,null,null,"Total de Alunos",null,null,null,{"$f":"Q33","v":10},null,null,null,null,"TABELA DE EQUIVALÊNCIA"]
[null,null,null,null,null,null,null,null,null,null,null,null,"Total de Aulas",null,null,null,{"$f":"IF(Q33<>\"\",SUM(AE31:AJ31),\"\")","v":4},"Registro",17.66,null,null,"Total de Aulas",null,null,null,{"$f":"Q34","v":4},null,null,null,null,"Nr. Alunos",{"$f":"AF32","v":0},{"$f":"IF(AG32<>0,AG32,\"\")","v":"1 a 2"},{"$f":"IF(AH32<>0,AH32,\"\")","v":"3 a 4"},{"$f":"IF(AI32<>0,AI32,\"\")","v":"5 a 6"},{"$f":"IF(AJ32<>0,AJ32,\"\")","v":"7 a 8"},{"$f":"IF(AK32<>0,AK32,\"\")","v":""}]
[null,null,null,null,null,null,null,null,null,null,null,null,"Total a Receber",null,null,null,{"$f":"IF(Q33<>\"\",SUM(N32:S32),\"\")","v":88.75},null,null,null,null,"Total a Receber",null,null,null,{"$f":"IF(Z33<>\"\",SUM(W32:AB32),\"\")","v":18.11},null,null,null,null,"Aulas",{"$f":"IF(AF34<>\"\",AF29,\"\")","v":1},1,1,1,0,""]
[null,null,null,null,null,null,null,null,null,null,null,null,null,null,null,null,null,null,null,null,null,null,null,null,null,null,null,null,null,null,null,{"$f":"IFERROR(VLOOKUP(N27&R27,Configurações!$C$13:$I$47,2,0),\"\")","v":17.66},{"$f":"IFERROR(IF(AG34<>0,VLOOKUP(N27&R27,Configurações!$C$13:$I$47,3,0),\"\"),\"\")","v":19.760000000000002},{"$f":"IFERROR(IF(AH34<>0,VLOOKUP(N27&R27,Configurações!$C$13:$I$47,4,0),\"\"),\"\")","v":23.68},{"$f":"IFERROR(IF(AI34<>0,VLOOKUP(N27&R27,Configurações!$C$13:$I$47,5,0),\"\"),\"\")","v":27.65},{"$f":"IFERROR(IF(AJ34<>0,VLOOKUP(N27&R27,Configurações!$C$13:$I$47,6,0),\"\"),\"\")","v":30.86},{"$f":"IFERROR(IF(AK34<>0,VLOOKUP(N27&R27,Configurações!$C$13:$I$47,7,0),\"\"),\"\")","v":0}]
[]
[null,null,null,null,null,null,null,null,null,null,"Modalidade",null,null,"Aprendizagem B",null,null,"Nível","Prof. Nível C",null,null,null,null,null,null,null,null,null,null,null,null,{"$f":"VLOOKUP(N38,Configurações!$J$1:$V$9,2,0)","v":"0"},{"$f":"VLOOKUP(N38,Configurações!$J$1:$V$9,3,0)","v":"0"},{"$f":"VLOOKUP(N38,Configurações!$J$1:$V$9,4,0)","v":"1 "},{"$f":"VLOOKUP(N38,Configurações!$J$1:$V$9,5,0)","v":" 4"},{"$f":"VLOOKUP(N38,Configurações!$J$1:$V$9,6,0)","v":"5 "},{"$f":"VLOOKUP(N38,Configurações!$J$1:$V$9,7,0)","v":" 8"},{"$f":"VLOOKUP(N38,Configurações!$J$1:$V$9,8,0)","v":"9 "},{"$f":"VLOOKUP(N38,Configurações!$J$1:$V$9,9,0)","v":"12"},{"$f":"VLOOKUP(N38,Configurações!$J$1:$V$9,10,0)","v":"13"},{"$f":"VLOOKUP(N38,Configurações!$J$1:$V$9,11,0)","v":"16"},{"$f":"VLOOKUP(N38,Configurações!$J$1:$V$9,12,0)","v":""},{"$f":"VLOOKUP(N38,Configurações!$J$1:$V$9,13,0)","v":""}]
[null,null,null,null,null,null,null,null,null,null,"Academia",null,null,null,null,null,null,null,null,null,"Contabilidade",null,null,null,null,null,null,null,null,null,{"$f":"IFERROR(VLOOKUP(N38,_xlfn.ANCHORARRAY($AQ$2),2,0),0)","v":19}]
[null,null,null,null,null,null,null,null,null,null,"Nr. de Alunos",null,null,{"$f":"IF(AF45<>\"\",AF45,\"\")","v":0},{"$f":"IF(AG45<>\"\",AG45,\"\")","v":"1 a 4"},{"$f":"IF(AH45<>\"\",AH45,\"\")","v":"5 a 8"},{"$f":"IF(AI45<>\"\",AI45,\"\")","v":"9 a 12"},{"$f":"IF(AJ45<>\"\",AJ45,\"\")","v":"13 a 16"},{"$f":"IF(AK45<>0,AK45,\"\")","v":""},null,"Nr. de Alunos",null,{"$f":"N40","v":0},{"$f":"O40","v":"1 a 4"},"5 a 8","9 a 12","13 a 16","",null,null,null,{"$f":"IF($N$38=$AE$2,COUNTIF($B$4:$B$100,\">=\"&AE38)-COUNTIF($B$4:$B$100,\">\"&AF38),\nIF($N$38=$AF$2,COUNTIF($C$4:$C$100,\">=\"&AE38)-COUNTIF($C$4:$C$100,\">\"&AF38),\nIF($N$38=$AG$2,COUNTIF($D$4:$D$100,\">=\"&AE38)-COUNTIF($D$4:$D$100,\">\"&AF38),\nIF($N$38=$AH$2,COUNTIF($E$4:$E$100,\">=\"&AE38)-COUNTIF($E$4:$E$100,\">\"&AF38),\nIF($N$38=$AI$2,COUNTIF($F$4:$F$100,\">=\"&AE38)-COUNTIF($F$4:$F$100,\">\"&AF38),\nIF($N$38=$AJ$2,COUNTIF($G$4:$G$100,\">=\"&AE38)-COUNTIF($G$4:$G$100,\">\"&AF38),\nIF($N$38=$AK$2,COUNTIF($H$4:$H$100,\">=\"&AE38)-COUNTIF($H$4:$H$100,\">\"&AF38),\nIF($N$38=\"Sem Uso\",\"\"))))))))","v":0},{"$f":"IF($N$38=$AE$2,COUNTIF($B$4:$B$100,\">=\"&AG38)-COUNTIF($B$4:$B$100,\">\"&AH38),\nIF($N$38=$AF$2,COUNTIF($C$4:$C$100,\">=\"&AG38)-COUNTIF($C$4:$C$100,\">\"&AH38),\nIF($N$38=$AG$2,COUNTIF($D$4:$D$100,\">=\"&AG38)-COUNTIF($D$4:$D$100,\">\"&AH38),\nIF($N$38=$AH$2,COUNTIF($E$4:$E$100,\">=\"&AG38)-COUNTIF($E$4:$E$100,\">\"&AH38),\nIF($N$38=$AI$2,COUNTIF($F$4:$F$100,\">=\"&AG38)-COUNTIF($F$4:$F$100,\">\"&AH38),\nIF($N$38=$AJ$2,COUNTIF($G$4:$G$100,\">=\"&AG38)-COUNTIF($G$4:$G$100,\">\"&AH38),\nIF($N$38=$AK$2,COUNTIF($H$4:$H$100,\">=\"&AG38)-COUNTIF($H$4:$H$100,\">\"&AH38),\nIF($N$38=\"Sem Uso\",\"\"))))))))","v":0},{"$f":"IF($N$38=$AE$2,COUNTIF($B$4:$B$100,\">=\"&AI38)-COUNTIF($B$4:$B$100,\">\"&AJ38),\nIF($N$38=$AF$2,COUNTIF($C$4:$C$100,\">=\"&AI38)-COUNTIF($C$4:$C$100,\">\"&AJ38),\nIF($N$38=$AG$2,COUNTIF($D$4:$D$100,\">=\"&AI38)-COUNTIF($D$4:$D$100,\">\"&AJ38),\nIF($N$38=$AH$2,COUNTIF($E$4:$E$100,\">=\"&AI38)-COUNTIF($E$4:$E$100,\">\"&AJ38),\nIF($N$38=$AI$2,COUNTIF($F$4:$F$100,\">=\"&AI38)-COUNTIF($F$4:$F$100,\">\"&AJ38),\nIF($N$38=$AJ$2,COUNTIF($G$4:$G$100,\">=\"&AI38)-COUNTIF($G$4:$G$100,\">\"&AJ38),\nIF($N$38=$AK$2,COUNTIF($H$4:$H$100,\">=\"&AI38)-COUNTIF($H$4:$H$100,\">\"&AJ38),\nIF($N$38=\"Sem Uso\",\"\"))))))))","v":3},{"$f":"IF($N$38=$AE$2,COUNTIF($B$4:$B$100,\">=\"&AK38)-COUNTIF($B$4:$B$100,\">\"&AL38),\nIF($N$38=$AF$2,COUNTIF($C$4:$C$100,\">=\"&AK38)-COUNTIF($C$4:$C$100,\">\"&AL38),\nIF($N$38=$AG$2,COUNTIF($D$4:$D$100,\">=\"&AK38)-COUNTIF($D$4:$D$100,\">\"&AL38),\nIF($N$38=$AH$2,COUNTIF($E$4:$E$100,\">=\"&AK38)-COUNTIF($E$4:$E$100,\">\"&AL38),\nIF($N$38=$AI$2,COUNTIF($F$4:$F$100,\">=\"&AK38)-COUNTIF($F$4:$F$100,\">\"&AL38),\nIF($N$38=$AJ$2,COUNTIF($G$4:$G$100,\">=\"&AK38)-COUNTIF($G$4:$G$100,\">\"&AL38),\nIF($N$38=$AK$2,COUNTIF($H$4:$H$100,\">=\"&AK38)-COUNTIF($H$4:$H$100,\">\"&AL38),\nIF($N$38=\"Sem Uso\",\"\"))))))))","v":0},{"$f":"IF($N$38=$AE$2,COUNTIF($B$4:$B$100,\">=\"&AM38)-COUNTIF($B$4:$B$100,\">\"&AN38),\nIF($N$38=$AF$2,COUNTIF($C$4:$C$100,\">=\"&AM38)-COUNTIF($C$4:$C$100,\">\"&AN38),\nIF($N$38=$AG$2,COUNTIF($D$4:$D$100,\">=\"&AM38)-COUNTIF($D$4:$D$100,\">\"&AN38),\nIF($N$38=$AH$2,COUNTIF($E$4:$E$100,\">=\"&AM38)-COUNTIF($E$4:$E$100,\">\"&AN38),\nIF($N$38=$AI$2,COUNTIF($F$4:$F$100,\">=\"&AM38)-COUNTIF($F$4:$F$100,\">\"&AN38),\nIF($N$38=$AJ$2,COUNTIF($G$4:$G$100,\">=\"&AM38)-COUNTIF($G$4:$G$100,\">\"&AN38),\nIF($N$38=$AK$2,COUNTIF($H$4:$H$100,\">=\"&AM38)-COUNTIF($H$4:$H$100,\">\"&AN38),\nIF($N$38=\"Sem Uso\",\"\"))))))))","v":0},{"$f":"IF($N$38=$AE$2,COUNTIF($B$4:$B$100,\">=\"&AO38)-COUNTIF($B$4:$B$100,\">\"&AP38),\nIF($N$38=$AF$2,COUNTIF($C$4:$C$100,\">=\"&AO38)-COUNTIF($C$4:$C$100,\">\"&AP38),\nIF($N$38=$AG$2,COUNTIF($D$4:$D$100,\">=\"&AO38)-COUNTIF($D$4:$D$100,\">\"&AP38),\nIF($N$38=$AH$2,COUNTIF($E$4:$E$100,\">=\"&AO38)-COUNTIF($E$4:$E$100,\">\"&AP38),\nIF($N$38=$AI$2,COUNTIF($F$4:$F$100,\">=\"&AO38)-COUNTIF($F$4:$F$100,\">\"&AP38),\nIF($N$38=$AJ$2,COUNTIF($G$4:$G$100,\">=\"&AO38)-COUNTIF($G$4:$G$100,\">\"&AP38),\nIF($N$38=$AK$2,COUNTIF($H$4:$H$100,\">=\"&AO38)-COUNTIF($H$4:$H$100,\">\"&AP38),\nIF($N$38=\"Sem Uso\",\"\"))))))))","v":0}]
[null,null,null,null,null,null,null,null,null,null,"Valor da Aula",null,null,{"$f":"IF(AF47<>0,AF47,\"\")","v":17.66},19.760000000000002,23.68,27.65,30.86,"",null,"Valor da Aula",null,{"$f":"IFERROR(IF(N41<=$S$45,0,N41-$S$45),\"\")","v":0},2.1000000000000014,6.02,9.9899999999999984,13.2,""]
[null,null,null,null,null,null,null,null,null,null,"Nr. de Aulas",null,null,{"$f":"IF(AF45<>\"\",AF46,\"\")","v":0},0,3,0,0,"",null,"Nr. de Aulas",null,{"$f":"N42","v":0},0,3,0,0,"",null,null,{"$f":"IF(N42<>\"\",N42,\"\")","v":0},0,3,0,0,""]
[null,null,null,null,null,null,null,null,null,null,"Valor",null,null,{"$f":"IFERROR(N41*N42,\"\")","v":0},0,71.039999999999992,0,0,"",null,"Valor",null,{"$f":"IFERROR(W41*W42,\"\")","v":0},0,18.059999999999999,0,0,"",null,null,null,{"$f":"IF($N38<>\"Sem Uso\",VLOOKUP(N38,Configurações!$C$1:$I$8,2,0),\"\")","v":0},{"$f":"IF(N38<>\"Sem Uso\",VLOOKUP(N38,Configurações!$C$1:$I$8,3,0),\"\")","v":"1 a 4"},{"$f":"IF(N38<>\"Sem Uso\",VLOOKUP(N38,Configurações!$C$1:$I$8,4,0),\"\")","v":"5 a 8"},{"$f":"IF(N38<>\"Sem Uso\",VLOOKUP(N38,Configurações!$C$1:$I$8,5,0),\"\")","v":"9 a 12"},{"$f":"IF(N38<>\"Sem Uso\",VLOOKUP(N38,Configurações!$C$1:$I$8,6,0),\"\")","v":"13 a 16"},{"$f":"IF(N38<>\"Sem Uso\",VLOOKUP(N38,Configurações!$C$1:$I$8,7,0),\"\")","v":0}]
[null,null,null,null,null,null,null,null,null,null,null,null,"Total de Alunos",null,null,null,{"$f":"_xlfn.IFS(N38=$AE$2,$B$102,N38=$AF$2,$C$102,N38=$AG$2,$D$102,N38=$AH$2,$E$102,N38=$AI$2,$F$102,N38=$AJ$2,$G$102,N38=$AK$2,$H$102,N38=\"Sem Uso\",\"\")","v":19},null,null,null,null,"Total de Alunos",null,null,null,{"$f":"Q44","v":19},null,null,null,null,"TABELA DE EQUIVALÊNCIA"]
[null,null,null,null,null,null,null,null,null,null,null,null,"Total de Aulas",null,null,null,{"$f":"IF(Q44<>\"\",SUM(AE42:AJ42),\"\")","v":3},"Registro",17.66,null,null,"Total de Aulas",null,null,null,{"$f":"Q45","v":3},null,null,null,null,"Nr. Alunos",{"$f":"AF43","v":0},{"$f":"IF(AG43<>0,AG43,\"\")","v":"1 a 4"},{"$f":"IF(AH43<>0,AH43,\"\")","v":"5 a 8"},{"$f":"IF(AI43<>0,AI43,\"\")","v":"9 a 12"},{"$f":"IF(AJ43<>0,AJ43,\"\")","v":"13 a 16"},{"$f":"IF(AK43<>0,AK43,\"\")","v":""}]
[null,null,null,null,null,null,null,null,null,null,null,null,"Total a Receber",null,null,null,{"$f":"IF(Q44<>\"\",SUM(N43:S43),\"\")","v":71.039999999999992},null,null,null,null,"Total a Receber",null,null,null,{"$f":"IF(Z44<>\"\",SUM(W43:AB43),\"\")","v":18.059999999999999},null,null,null,null,"Aulas",{"$f":"IF(AF45<>\"\",AF40,\"\")","v":0},0,3,0,0,""]
[null,null,null,null,null,null,null,null,null,null,null,null,null,null,null,null,null,null,null,null,null,null,null,null,null,null,null,null,null,null,null,{"$f":"IFERROR(VLOOKUP(N38&R38,Configurações!$C$13:$I$47,2,0),\"\")","v":17.66},{"$f":"IFERROR(IF(AG45<>0,VLOOKUP(N38&R38,Configurações!$C$13:$I$47,3,0),\"\"),\"\")","v":19.760000000000002},{"$f":"IFERROR(IF(AH45<>0,VLOOKUP(N38&R38,Configurações!$C$13:$I$47,4,0),\"\"),\"\")","v":23.68},{"$f":"IFERROR(IF(AI45<>0,VLOOKUP(N38&R38,Configurações!$C$13:$I$47,5,0),\"\"),\"\")","v":27.65},{"$f":"IFERROR(IF(AJ45<>0,VLOOKUP(N38&R38,Configurações!$C$13:$I$47,6,0),\"\"),\"\")","v":30.86},{"$f":"IFERROR(IF(AK45<>0,VLOOKUP(N38&R38,Configurações!$C$13:$I$47,7,0),\"\"),\"\")","v":0}]
[]
[null,null,null,null,null,null,null,null,null,null,"Modalidade",null,null,"Hidroginástica",null,null,"Nível","Prof. Nível C",null,null,null,null,null,null,null,null,null,null,null,null,{"$f":"VLOOKUP(N49,Configurações!$J$1:$V$9,2,0)","v":"0"},{"$f":"VLOOKUP(N49,Configurações!$J$1:$V$9,3,0)","v":"0"},{"$f":"VLOOKUP(N49,Configurações!$J$1:$V$9,4,0)","v":"1 "},{"$f":"VLOOKUP(N49,Configurações!$J$1:$V$9,5,0)","v":" 7"},{"$f":"VLOOKUP(N49,Configurações!$J$1:$V$9,6,0)","v":"8 "},{"$f":"VLOOKUP(N49,Configurações!$J$1:$V$9,7,0)","v":"15"},{"$f":"VLOOKUP(N49,Configurações!$J$1:$V$9,8,0)","v":"16"},{"$f":"VLOOKUP(N49,Configurações!$J$1:$V$9,9,0)","v":"22"},{"$f":"VLOOKUP(N49,Configurações!$J$1:$V$9,10,0)","v":"23"},{"$f":"VLOOKUP(N49,Configurações!$J$1:$V$9,11,0)","v":"30"},{"$f":"VLOOKUP(N49,Configurações!$J$1:$V$9,12,0)","v":""},{"$f":"VLOOKUP(N49,Configurações!$J$1:$V$9,13,0)","v":""}]
[null,null,null,null,null,null,null,null,null,null,"Academia",null,null,null,null,null,null,null,null,null,"Contabilidade",null,null,null,null,null,null,null,null,null,{"$f":"IFERROR(VLOOKUP(N49,_xlfn.ANCHORARRAY($AQ$2),2,0),0)","v":30}]
[null,null,null,null,null,null,null,null,null,null,"Nr. de Alunos",null,null,{"$f":"IF(AF56<>\"\",AF56,\"\")","v":0},{"$f":"IF(AG56<>\"\",AG56,\"\")","v":"1 a 7"},{"$f":"IF(AH56<>\"\",AH56,\"\")","v":"8 a 15"},{"$f":"IF(AI56<>\"\",AI56,\"\")","v":"16 a 22"},{"$f":"IF(AJ56<>\"\",AJ56,\"\")","v":"23 a 30"},{"$f":"IF(AK56<>0,AK56,\"\")","v":""},null,"Nr. de Alunos",null,{"$f":"N51","v":0},{"$f":"O51","v":"1 a 7"},"8 a 15","16 a 22","23 a 30","",null,null,null,{"$f":"IF($N$49=$AE$2,COUNTIF($B$4:$B$100,\">=\"&AE49)-COUNTIF($B$4:$B$100,\">\"&AF49),\nIF($N$49=$AF$2,COUNTIF($C$4:$C$100,\">=\"&AE49)-COUNTIF($C$4:$C$100,\">\"&AF49),\nIF($N$49=$AG$2,COUNTIF($D$4:$D$100,\">=\"&AE49)-COUNTIF($D$4:$D$100,\">\"&AF49),\nIF($N$49=$AH$2,COUNTIF($E$4:$E$100,\">=\"&AE49)-COUNTIF($E$4:$E$100,\">\"&AF49),\nIF($N$49=$AI$2,COUNTIF($F$4:$F$100,\">=\"&AE49)-COUNTIF($F$4:$F$100,\">\"&AF49),\nIF($N$49=$AJ$2,COUNTIF($G$4:$G$100,\">=\"&AE49)-COUNTIF($G$4:$G$100,\">\"&AF49),\nIF($N$49=$AK$2,COUNTIF($H$4:$H$100,\">=\"&AE49)-COUNTIF($H$4:$H$100,\">\"&AF49),\nIF($N$49=\"Sem Uso\",\"\"))))))))","v":0},{"$f":"IF($N$49=$AE$2,COUNTIF($B$4:$B$100,\">=\"&AG49)-COUNTIF($B$4:$B$100,\">\"&AH49),\nIF($N$49=$AF$2,COUNTIF($C$4:$C$100,\">=\"&AG49)-COUNTIF($C$4:$C$100,\">\"&AH49),\nIF($N$49=$AG$2,COUNTIF($D$4:$D$100,\">=\"&AG49)-COUNTIF($D$4:$D$100,\">\"&AH49),\nIF($N$49=$AH$2,COUNTIF($E$4:$E$100,\">=\"&AG49)-COUNTIF($E$4:$E$100,\">\"&AH49),\nIF($N$49=$AI$2,COUNTIF($F$4:$F$100,\">=\"&AG49)-COUNTIF($F$4:$F$100,\">\"&AH49),\nIF($N$49=$AJ$2,COUNTIF($G$4:$G$100,\">=\"&AG49)-COUNTIF($G$4:$G$100,\">\"&AH49),\nIF($N$49=$AK$2,COUNTIF($H$4:$H$100,\">=\"&AG49)-COUNTIF($H$4:$H$100,\">\"&AH49),\nIF($N$49=\"Sem Uso\",\"\"))))))))","v":2},{"$f":"IF($N$49=$AE$2,COUNTIF($B$4:$B$100,\">=\"&AI49)-COUNTIF($B$4:$B$100,\">\"&AJ49),\nIF($N$49=$AF$2,COUNTIF($C$4:$C$100,\">=\"&AI49)-COUNTIF($C$4:$C$100,\">\"&AJ49),\nIF($N$49=$AG$2,COUNTIF($D$4:$D$100,\">=\"&AI49)-COUNTIF($D$4:$D$100,\">\"&AJ49),\nIF($N$49=$AH$2,COUNTIF($E$4:$E$100,\">=\"&AI49)-COUNTIF($E$4:$E$100,\">\"&AJ49),\nIF($N$49=$AI$2,COUNTIF($F$4:$F$100,\">=\"&AI49)-COUNTIF($F$4:$F$100,\">\"&AJ49),\nIF($N$49=$AJ$2,COUNTIF($G$4:$G$100,\">=\"&AI49)-COUNTIF($G$4:$G$100,\">\"&AJ49),\nIF($N$49=$AK$2,COUNTIF($H$4:$H$100,\">=\"&AI49)-COUNTIF($H$4:$H$100,\">\"&AJ49),\nIF($N$49=\"Sem Uso\",\"\"))))))))","v":2},{"$f":"IF($N$49=$AE$2,COUNTIF($B$4:$B$100,\">=\"&AK49)-COUNTIF($B$4:$B$100,\">\"&AL49),\nIF($N$49=$AF$2,COUNTIF($C$4:$C$100,\">=\"&AK49)-COUNTIF($C$4:$C$100,\">\"&AL49),\nIF($N$49=$AG$2,COUNTIF($D$4:$D$100,\">=\"&AK49)-COUNTIF($D$4:$D$100,\">\"&AL49),\nIF($N$49=$AH$2,COUNTIF($E$4:$E$100,\">=\"&AK49)-COUNTIF($E$4:$E$100,\">\"&AL49),\nIF($N$49=$AI$2,COUNTIF($F$4:$F$100,\">=\"&AK49)-COUNTIF($F$4:$F$100,\">\"&AL49),\nIF($N$49=$AJ$2,COUNTIF($G$4:$G$100,\">=\"&AK49)-COUNTIF($G$4:$G$100,\">\"&AL49),\nIF($N$49=$AK$2,COUNTIF($H$4:$H$100,\">=\"&AK49)-COUNTIF($H$4:$H$100,\">\"&AL49),\nIF($N$49=\"Sem Uso\",\"\"))))))))","v":0},{"$f":"IF($N$49=$AE$2,COUNTIF($B$4:$B$100,\">=\"&AM49)-COUNTIF($B$4:$B$100,\">\"&AN49),\nIF($N$49=$AF$2,COUNTIF($C$4:$C$100,\">=\"&AM49)-COUNTIF($C$4:$C$100,\">\"&AN49),\nIF($N$49=$AG$2,COUNTIF($D$4:$D$100,\">=\"&AM49)-COUNTIF($D$4:$D$100,\">\"&AN49),\nIF($N$49=$AH$2,COUNTIF($E$4:$E$100,\">=\"&AM49)-COUNTIF($E$4:$E$100,\">\"&AN49),\nIF($N$49=$AI$2,COUNTIF($F$4:$F$100,\">=\"&AM49)-COUNTIF($F$4:$F$100,\">\"&AN49),\nIF($N$49=$AJ$2,COUNTIF($G$4:$G$100,\">=\"&AM49)-COUNTIF($G$4:$G$100,\">\"&AN49),\nIF($N$49=$AK$2,COUNTIF($H$4:$H$100,\">=\"&AM49)-COUNTIF($H$4:$H$100,\">\"&AN49),\nIF($N$49=\"Sem Uso\",\"\"))))))))","v":0},{"$f":"IF($N$49=$AE$2,COUNTIF($B$4:$B$100,\">=\"&AO49)-COUNTIF($B$4:$B$100,\">\"&AP49),\nIF($N$49=$AF$2,COUNTIF($C$4:$C$100,\">=\"&AO49)-COUNTIF($C$4:$C$100,\">\"&AP49),\nIF($N$49=$AG$2,COUNTIF($D$4:$D$100,\">=\"&AO49)-COUNTIF($D$4:$D$100,\">\"&AP49),\nIF($N$49=$AH$2,COUNTIF($E$4:$E$100,\">=\"&AO49)-COUNTIF($E$4:$E$100,\">\"&AP49),\nIF($N$49=$AI$2,COUNTIF($F$4:$F$100,\">=\"&AO49)-COUNTIF($F$4:$F$100,\">\"&AP49),\nIF($N$49=$AJ$2,COUNTIF($G$4:$G$100,\">=\"&AO49)-COUNTIF($G$4:$G$100,\">\"&AP49),\nIF($N$49=$AK$2,COUNTIF($H$4:$H$100,\">=\"&AO49)-COUNTIF($H$4:$H$100,\">\"&AP49),\nIF($N$49=\"Sem Uso\",\"\"))))))))","v":0}]
[null,null,null,null,null,null,null,null,null,null,"Valor da Aula",null,null,{"$f":"IF(AF58<>0,AF58,\"\")","v":17.66},23.68,27.65,33.42,38.81,"",null,"Valor da Aula",null,{"$f":"IFERROR(IF(N52<=$S$56,0,N52-$S$56),\"\")","v":0},6.02,9.9899999999999984,15.760000000000002,21.150000000000002,""]
[null,null,null,null,null,null,null,null,null,null,"Nr. de Aulas",null,null,{"$f":"IF(AF56<>\"\",AF57,\"\")","v":0},2,2,0,0,"",null,"Nr. de Aulas",null,{"$f":"N53","v":0},2,2,0,0,"",null,null,{"$f":"IF(N53<>\"\",N53,\"\")","v":0},2,2,0,0,""]
[null,null,null,null,null,null,null,null,null,null,"Valor",null,null,{"$f":"IFERROR(N52*N53,\"\")","v":0},47.36,55.3,0,0,"",null,"Valor",null,{"$f":"IFERROR(W52*W53,\"\")","v":0},12.04,19.979999999999997,0,0,"",null,null,null,{"$f":"IF($N49<>\"Sem Uso\",VLOOKUP(N49,Configurações!$C$1:$I$8,2,0),\"\")","v":0},{"$f":"IF(N49<>\"Sem Uso\",VLOOKUP(N49,Configurações!$C$1:$I$8,3,0),\"\")","v":"1 a 7"},{"$f":"IF(N49<>\"Sem Uso\",VLOOKUP(N49,Configurações!$C$1:$I$8,4,0),\"\")","v":"8 a 15"},{"$f":"IF(N49<>\"Sem Uso\",VLOOKUP(N49,Configurações!$C$1:$I$8,5,0),\"\")","v":"16 a 22"},{"$f":"IF(N49<>\"Sem Uso\",VLOOKUP(N49,Configurações!$C$1:$I$8,6,0),\"\")","v":"23 a 30"},{"$f":"IF(N49<>\"Sem Uso\",VLOOKUP(N49,Configurações!$C$1:$I$8,7,0),\"\")","v":0}]
[null,null,null,null,null,null,null,null,null,null,null,null,"Total de Alunos",null,null,null,{"$f":"_xlfn.IFS(N49=$AE$2,$B$102,N49=$AF$2,$C$102,N49=$AG$2,$D$102,N49=$AH$2,$E$102,N49=$AI$2,$F$102,N49=$AJ$2,$G$102,N49=$AK$2,$H$102,N49=\"Sem Uso\",\"\")","v":30},null,null,null,null,"Total de Alunos",null,null,null,{"$f":"Q55","v":30},null,null,null,null,"TABELA DE EQUIVALÊNCIA"]
[null,null,null,null,null,null,null,null,null,null,null,null,"Total de Aulas",null,null,null,{"$f":"IF(Q55<>\"\",SUM(AE53:AJ53),\"\")","v":4},"Registro",17.66,null,null,"Total de Aulas",null,null,null,{"$f":"Q56","v":4},null,null,null,null,"Nr. Alunos",{"$f":"AF54","v":0},{"$f":"IF(AG54<>0,AG54,\"\")","v":"1 a 7"},{"$f":"IF(AH54<>0,AH54,\"\")","v":"8 a 15"},{"$f":"IF(AI54<>0,AI54,\"\")","v":"16 a 22"},{"$f":"IF(AJ54<>0,AJ54,\"\")","v":"23 a 30"},{"$f":"IF(AK54<>0,AK54,\"\")","v":""}]
[null,null,null,null,null,null,null,null,null,null,null,null,"Total a Receber",null,null,null,{"$f":"IF(Q55<>\"\",SUM(N54:S54),\"\")","v":102.66},null,null,null,null,"Total a Receber",null,null,null,{"$f":"IF(Z55<>\"\",SUM(W54:AB54),\"\")","v":32.019999999999996},null,null,null,null,"Aulas",{"$f":"IF(AF56<>\"\",AF51,\"\")","v":0},2,2,0,0,""]
[null,null,null,null,null,null,null,null,null,null,null,null,null,null,null,null,null,null,null,null,null,null,null,null,null,null,null,null,null,null,null,{"$f":"IFERROR(VLOOKUP(N49&R49,Configurações!$C$13:$I$47,2,0),\"\")","v":17.66},{"$f":"IFERROR(IF(AG56<>0,VLOOKUP(N49&R49,Configurações!$C$13:$I$47,3,0),\"\"),\"\")","v":23.68},{"$f":"IFERROR(IF(AH56<>0,VLOOKUP(N49&R49,Configurações!$C$13:$I$47,4,0),\"\"),\"\")","v":27.65},{"$f":"IFERROR(IF(AI56<>0,VLOOKUP(N49&R49,Configurações!$C$13:$I$47,5,0),\"\"),\"\")","v":33.42},{"$f":"IFERROR(IF(AJ56<>0,VLOOKUP(N49&R49,Configurações!$C$13:$I$47,6,0),\"\"),\"\")","v":38.81},{"$f":"IFERROR(IF(AK56<>0,VLOOKUP(N49&R49,Configurações!$C$13:$I$47,7,0),\"\"),\"\")","v":0}]
[]
[null,null,null,null,null,null,null,null,null,null,"Modalidade",null,null,"Sem Uso",null,null,"Nível","Prof. Especial",null,null,null,null,null,null,null,null,null,null,null,null,{"$f":"VLOOKUP(N60,Configurações!$J$1:$V$9,2,0)","v":""},{"$f":"VLOOKUP(N60,Configurações!$J$1:$V$9,3,0)","v":""},{"$f":"VLOOKUP(N60,Configurações!$J$1:$V$9,4,0)","v":""},{"$f":"VLOOKUP(N60,Configurações!$J$1:$V$9,5,0)","v":""},{"$f":"VLOOKUP(N60,Configurações!$J$1:$V$9,6,0)","v":""},{"$f":"VLOOKUP(N60,Configurações!$J$1:$V$9,7,0)","v":""},{"$f":"VLOOKUP(N60,Configurações!$J$1:$V$9,8,0)","v":""},{"$f":"VLOOKUP(N60,Configurações!$J$1:$V$9,9,0)","v":""},{"$f":"VLOOKUP(N60,Configurações!$J$1:$V$9,10,0)","v":""},{"$f":"VLOOKUP(N60,Configurações!$J$1:$V$9,11,0)","v":""},{"$f":"VLOOKUP(N60,Configurações!$J$1:$V$9,12,0)","v":""},{"$f":"VLOOKUP(N60,Configurações!$J$1:$V$9,13,0)","v":""}]
[null,null,null,null,null,null,null,null,null,null,"Academia",null,null,null,null,null,null,null,null,null,"Contabilidade",null,null,null,null,null,null,null,null,null,{"$f":"IFERROR(VLOOKUP(N60,_xlfn.ANCHORARRAY($AQ$2),2,0),0)","v":0}]
[null,null,null,null,null,null,null,null,null,null,"Nr. de Alunos",null,null,{"$f":"IF(AF67<>\"\",AF67,\"\")","v":""},{"$f":"IF(AG67<>\"\",AG67,\"\")","v":""},{"$f":"IF(AH67<>\"\",AH67,\"\")","v":""},{"$f":"IF(AI67<>\"\",AI67,\"\")","v":""},{"$f":"IF(AJ67<>\"\",AJ67,\"\")","v":""},{"$f":"IF(AK67<>0,AK67,\"\")","v":""},null,"Nr. de Alunos",null,{"$f":"N62","v":""},{"$f":"O62","v":""},"","","","",null,null,null,{"$f":"IF($N$60=$AE$2,COUNTIF($B$4:$B$100,\">=\"&AE60)-COUNTIF($B$4:$B$100,\">\"&AF60),\nIF($N$60=$AF$2,COUNTIF($C$4:$C$100,\">=\"&AE60)-COUNTIF($C$4:$C$100,\">\"&AF60),\nIF($N$60=$AG$2,COUNTIF($D$4:$D$100,\">=\"&AE60)-COUNTIF($D$4:$D$100,\">\"&AF60),\nIF($N$60=$AH$2,COUNTIF($E$4:$E$100,\">=\"&AE60)-COUNTIF($E$4:$E$100,\">\"&AF60),\nIF($N$60=$AI$2,COUNTIF($F$4:$F$100,\">=\"&AE60)-COUNTIF($F$4:$F$100,\">\"&AF60),\nIF($N$60=$AJ$2,COUNTIF($G$4:$G$100,\">=\"&AE60)-COUNTIF($G$4:$G$100,\">\"&AF60),\nIF($N$60=$AK$2,COUNTIF($H$4:$H$100,\">=\"&AE60)-COUNTIF($H$4:$H$100,\">\"&AF60),\nIF($N$60=\"Sem Uso\",\"\"))))))))","v":""},{"$f":"IF($N$60=$AE$2,COUNTIF($B$4:$B$100,\">=\"&AG60)-COUNTIF($B$4:$B$100,\">\"&AH60),\nIF($N$60=$AF$2,COUNTIF($C$4:$C$100,\">=\"&AG60)-COUNTIF($C$4:$C$100,\">\"&AH60),\nIF($N$60=$AG$2,COUNTIF($D$4:$D$100,\">=\"&AG60)-COUNTIF($D$4:$D$100,\">\"&AH60),\nIF($N$60=$AH$2,COUNTIF($E$4:$E$100,\">=\"&AG60)-COUNTIF($E$4:$E$100,\">\"&AH60),\nIF($N$60=$AI$2,COUNTIF($F$4:$F$100,\">=\"&AG60)-COUNTIF($F$4:$F$100,\">\"&AH60),\nIF($N$60=$AJ$2,COUNTIF($G$4:$G$100,\">=\"&AG60)-COUNTIF($G$4:$G$100,\">\"&AH60),\nIF($N$60=$AK$2,COUNTIF($H$4:$H$100,\">=\"&AG60)-COUNTIF($H$4:$H$100,\">\"&AH60),\nIF($N$60=\"Sem Uso\",\"\"))))))))","v":""},{"$f":"IF($N$60=$AE$2,COUNTIF($B$4:$B$100,\">=\"&AI60)-COUNTIF($B$4:$B$100,\">\"&AJ60),\nIF($N$60=$AF$2,COUNTIF($C$4:$C$100,\">=\"&AI60)-COUNTIF($C$4:$C$100,\">\"&AJ60),\nIF($N$60=$AG$2,COUNTIF($D$4:$D$100,\">=\"&AI60)-COUNTIF($D$4:$D$100,\">\"&AJ60),\nIF($N$60=$AH$2,COUNTIF($E$4:$E$100,\">=\"&AI60)-COUNTIF($E$4:$E$100,\">\"&AJ60),\nIF($N$60=$AI$2,COUNTIF($F$4:$F$100,\">=\"&AI60)-COUNTIF($F$4:$F$100,\">\"&AJ60),\nIF($N$60=$AJ$2,COUNTIF($G$4:$G$100,\">=\"&AI60)-COUNTIF($G$4:$G$100,\">\"&AJ60),\nIF($N$60=$AK$2,COUNTIF($H$4:$H$100,\">=\"&AI60)-COUNTIF($H$4:$H$100,\">\"&AJ60),\nIF($N$60=\"Sem Uso\",\"\"))))))))","v":""},{"$f":"IF($N$60=$AE$2,COUNTIF($B$4:$B$100,\">=\"&AK60)-COUNTIF($B$4:$B$100,\">\"&AL60),\nIF($N$60=$AF$2,COUNTIF($C$4:$C$100,\">=\"&AK60)-COUNTIF($C$4:$C$100,\">\"&AL60),\nIF($N$60=$AG$2,COUNTIF($D$4:$D$100,\">=\"&AK60)-COUNTIF($D$4:$D$100,\">\"&AL60),\nIF($N$60=$AH$2,COUNTIF($E$4:$E$100,\">=\"&AK60)-COUNTIF($E$4:$E$100,\">\"&AL60),\nIF($N$60=$AI$2,COUNTIF($F$4:$F$100,\">=\"&AK60)-COUNTIF($F$4:$F$100,\">\"&AL60),\nIF($N$60=$AJ$2,COUNTIF($G$4:$G$100,\">=\"&AK60)-COUNTIF($G$4:$G$100,\">\"&AL60),\nIF($N$60=$AK$2,COUNTIF($H$4:$H$100,\">=\"&AK60)-COUNTIF($H$4:$H$100,\">\"&AL60),\nIF($N$60=\"Sem Uso\",\"\"))))))))","v":""},{"$f":"IF($N$60=$AE$2,COUNTIF($B$4:$B$100,\">=\"&AM60)-COUNTIF($B$4:$B$100,\">\"&AN60),\nIF($N$60=$AF$2,COUNTIF($C$4:$C$100,\">=\"&AM60)-COUNTIF($C$4:$C$100,\">\"&AN60),\nIF($N$60=$AG$2,COUNTIF($D$4:$D$100,\">=\"&AM60)-COUNTIF($D$4:$D$100,\">\"&AN60),\nIF($N$60=$AH$2,COUNTIF($E$4:$E$100,\">=\"&AM60)-COUNTIF($E$4:$E$100,\">\"&AN60),\nIF($N$60=$AI$2,COUNTIF($F$4:$F$100,\">=\"&AM60)-COUNTIF($F$4:$F$100,\">\"&AN60),\nIF($N$60=$AJ$2,COUNTIF($G$4:$G$100,\">=\"&AM60)-COUNTIF($G$4:$G$100,\">\"&AN60),\nIF($N$60=$AK$2,COUNTIF($H$4:$H$100,\">=\"&AM60)-COUNTIF($H$4:$H$100,\">\"&AN60),\nIF($N$60=\"Sem Uso\",\"\"))))))))","v":""},{"$f":"IF($N$60=$AE$2,COUNTIF($B$4:$B$100,\">=\"&AO60)-COUNTIF($B$4:$B$100,\">\"&AP60),\nIF($N$60=$AF$2,COUNTIF($C$4:$C$100,\">=\"&AO60)-COUNTIF($C$4:$C$100,\">\"&AP60),\nIF($N$60=$AG$2,COUNTIF($D$4:$D$100,\">=\"&AO60)-COUNTIF($D$4:$D$100,\">\"&AP60),\nIF($N$60=$AH$2,COUNTIF($E$4:$E$100,\">=\"&AO60)-COUNTIF($E$4:$E$100,\">\"&AP60),\nIF($N$60=$AI$2,COUNTIF($F$4:$F$100,\">=\"&AO60)-COUNTIF($F$4:$F$100,\">\"&AP60),\nIF($N$60=$AJ$2,COUNTIF($G$4:$G$100,\">=\"&AO60)-COUNTIF($G$4:$G$100,\">\"&AP60),\nIF($N$60=$AK$2,COUNTIF($H$4:$H$100,\">=\"&AO60)-COUNTIF($H$4:$H$100,\">\"&AP60),\nIF($N$60=\"Sem Uso\",\"\"))))))))","v":""}]
[null,null,null,null,null,null,null,null,null,null,"Valor da Aula",null,null,{"$f":"IF(AF69<>0,AF69,\"\")","v":""},"","","","","",null,"Valor da Aula",null,{"$f":"IFERROR(IF(N63<=$S$67,0,N63-$S$67),\"\")","v":0},0,0,0,0,0]
[null,null,null,null,null,null,null,null,null,null,"Nr. de Aulas",null,null,{"$f":"IF(AF67<>\"\",AF68,\"\")","v":""},"","","","","",null,"Nr. de Aulas",null,{"$f":"N64","v":""},"","","","","",null,null,{"$f":"IF(N64<>\"\",N64,\"\")","v":""},"","","","",""]
[null,null,null,null,null,null,null,null,null,null,"Valor",null,null,{"$f":"IFERROR(N63*N64,\"\")","v":""},"","","","","",null,"Valor",null,{"$f":"IFERROR(W63*W64,\"\")","v":""},"","","","","",null,null,null,{"$f":"IF($N60<>\"Sem Uso\",VLOOKUP(N60,Configurações!$C$1:$I$8,2,0),\"\")","v":""},{"$f":"IF(N60<>\"Sem Uso\",VLOOKUP(N60,Configurações!$C$1:$I$8,3,0),\"\")","v":""},{"$f":"IF(N60<>\"Sem Uso\",VLOOKUP(N60,Configurações!$C$1:$I$8,4,0),\"\")","v":""},{"$f":"IF(N60<>\"Sem Uso\",VLOOKUP(N60,Configurações!$C$1:$I$8,5,0),\"\")","v":""},{"$f":"IF(N60<>\"Sem Uso\",VLOOKUP(N60,Configurações!$C$1:$I$8,6,0),\"\")","v":""},{"$f":"IF(N60<>\"Sem Uso\",VLOOKUP(N60,Configurações!$C$1:$I$8,7,0),\"\")","v":""}]
[null,null,null,null,null,null,null,null,null,null,null,null,"Total de Alunos",null,null,null,{"$f":"_xlfn.IFS(N60=$AE$2,$B$102,N60=$AF$2,$C$102,N60=$AG$2,$D$102,N60=$AH$2,$E$102,N60=$AI$2,$F$102,N60=$AJ$2,$G$102,N60=$AK$2,$H$102,N60=\"Sem Uso\",\"\")","v":""},null,null,null,null,"Total de Alunos",null,null,null,{"$f":"Q66","v":""},null,null,null,null,"TABELA DE EQUIVALÊNCIA"]
[null,null,null,null,null,null,null,null,null,null,null,null,"Total de Aulas",null,null,null,{"$f":"IF(Q66<>\"\",SUM(AE64:AJ64),\"\")","v":""},"Registro",null,null,null,"Total de Aulas",null,null,null,{"$f":"Q67","v":""},null,null,null,null,"Nr. Alunos",{"$f":"AF65","v":""},{"$f":"IF(AG65<>0,AG65,\"\")","v":""},{"$f":"IF(AH65<>0,AH65,\"\")","v":""},{"$f":"IF(AI65<>0,AI65,\"\")","v":""},{"$f":"IF(AJ65<>0,AJ65,\"\")","v":""},{"$f":"IF(AK65<>0,AK65,\"\")","v":""}]
[null,null,null,null,null,null,null,null,null,null,null,null,"Total a Receber",null,null,null,{"$f":"IF(Q66<>\"\",SUM(N65:S65),\"\")","v":""},null,null,null,null,"Total a Receber",null,null,null,{"$f":"IF(Z66<>\"\",SUM(W65:AB65),\"\")","v":""},null,null,null,null,"Aulas",{"$f":"IF(AF67<>\"\",AF62,\"\")","v":""},"","","","",""]
[null,null,null,null,null,null,null,null,null,null,null,null,null,null,null,null,null,null,null,null,null,null,null,null,null,null,null,null,null,null,null,{"$f":"IFERROR(VLOOKUP(N60&R60,Configurações!$C$13:$I$47,2,0),\"\")","v":""},{"$f":"IFERROR(IF(AG67<>0,VLOOKUP(N60&R60,Configurações!$C$13:$I$47,3,0),\"\"),\"\")","v":""},{"$f":"IFERROR(IF(AH67<>0,VLOOKUP(N60&R60,Configurações!$C$13:$I$47,4,0),\"\"),\"\")","v":""},{"$f":"IFERROR(IF(AI67<>0,VLOOKUP(N60&R60,Configurações!$C$13:$I$47,5,0),\"\"),\"\")","v":""},{"$f":"IFERROR(IF(AJ67<>0,VLOOKUP(N60&R60,Configurações!$C$13:$I$47,6,0),\"\"),\"\")","v":""},{"$f":"IFERROR(IF(AK67<>0,VLOOKUP(N60&R60,Configurações!$C$13:$I$47,7,0),\"\"),\"\")","v":""}]
[]
[null,null,null,null,null,null,null,null,null,null,"Modalidade",null,null,"Sem Uso",null,null,"Nível","Prof. Especial",null,null,null,null,null,null,null,null,null,null,null,null,{"$f":"VLOOKUP(N71,Configurações!$J$1:$V$9,2,0)","v":""},{"$f":"VLOOKUP(N71,Configurações!$J$1:$V$9,3,0)","v":""},{"$f":"VLOOKUP(N71,Configurações!$J$1:$V$9,4,0)","v":""},{"$f":"VLOOKUP(N71,Configurações!$J$1:$V$9,5,0)","v":""},{"$f":"VLOOKUP(N71,Configurações!$J$1:$V$9,6,0)","v":""},{"$f":"VLOOKUP(N71,Configurações!$J$1:$V$9,7,0)","v":""},{"$f":"VLOOKUP(N71,Configurações!$J$1:$V$9,8,0)","v":""},{"$f":"VLOOKUP(N71,Configurações!$J$1:$V$9,9,0)","v":""},{"$f":"VLOOKUP(N71,Configurações!$J$1:$V$9,10,0)","v":""},{"$f":"VLOOKUP(N71,Configurações!$J$1:$V$9,11,0)","v":""},{"$f":"VLOOKUP(N71,Configurações!$J$1:$V$9,12,0)","v":""},{"$f":"VLOOKUP(N71,Configurações!$J$1:$V$9,13,0)","v":""}]
[null,null,null,null,null,null,null,null,null,null,"Academia",null,null,null,null,null,null,null,null,null,"Contabilidade",null,null,null,null,null,null,null,null,null,{"$f":"IFERROR(VLOOKUP(N71,_xlfn.ANCHORARRAY($AQ$2),2,0),0)","v":0}]
[null,null,null,null,null,null,null,null,null,null,"Nr. de Alunos",null,null,{"$f":"IF(AF78<>\"\",AF78,\"\")","v":""},{"$f":"IF(AG78<>\"\",AG78,\"\")","v":""},{"$f":"IF(AH78<>\"\",AH78,\"\")","v":""},{"$f":"IF(AI78<>\"\",AI78,\"\")","v":""},{"$f":"IF(AJ78<>\"\",AJ78,\"\")","v":""},{"$f":"IF(AK78<>0,AK78,\"\")","v":""},null,"Nr. de Alunos",null,{"$f":"N73","v":""},"","","","","",null,null,null,{"$f":"IF($N$71=$AE$2,COUNTIF($B$4:$B$100,\">=\"&AE71)-COUNTIF($B$4:$B$100,\">\"&AF71),\nIF($N$71=$AF$2,COUNTIF($C$4:$C$100,\">=\"&AE71)-COUNTIF($C$4:$C$100,\">\"&AF71),\nIF($N$71=$AG$2,COUNTIF($D$4:$D$100,\">=\"&AE71)-COUNTIF($D$4:$D$100,\">\"&AF71),\nIF($N$71=$AH$2,COUNTIF($E$4:$E$100,\">=\"&AE71)-COUNTIF($E$4:$E$100,\">\"&AF71),\nIF($N$71=$AI$2,COUNTIF($F$4:$F$100,\">=\"&AE71)-COUNTIF($F$4:$F$100,\">\"&AF71),\nIF($N$71=$AJ$2,COUNTIF($G$4:$G$100,\">=\"&AE71)-COUNTIF($G$4:$G$100,\">\"&AF71),\nIF($N$71=$AK$2,COUNTIF($H$4:$H$100,\">=\"&AE71)-COUNTIF($H$4:$H$100,\">\"&AF71),\nIF($N$71=\"Sem Uso\",\"\"))))))))","v":""},{"$f":"IF($N$71=$AE$2,COUNTIF($B$4:$B$100,\">=\"&AG71)-COUNTIF($B$4:$B$100,\">\"&AH71),\nIF($N$71=$AF$2,COUNTIF($C$4:$C$100,\">=\"&AG71)-COUNTIF($C$4:$C$100,\">\"&AH71),\nIF($N$71=$AG$2,COUNTIF($D$4:$D$100,\">=\"&AG71)-COUNTIF($D$4:$D$100,\">\"&AH71),\nIF($N$71=$AH$2,COUNTIF($E$4:$E$100,\">=\"&AG71)-COUNTIF($E$4:$E$100,\">\"&AH71),\nIF($N$71=$AI$2,COUNTIF($F$4:$F$100,\">=\"&AG71)-COUNTIF($F$4:$F$100,\">\"&AH71),\nIF($N$71=$AJ$2,COUNTIF($G$4:$G$100,\">=\"&AG71)-COUNTIF($G$4:$G$100,\">\"&AH71),\nIF($N$71=$AK$2,COUNTIF($H$4:$H$100,\">=\"&AG71)-COUNTIF($H$4:$H$100,\">\"&AH71),\nIF($N$71=\"Sem Uso\",\"\"))))))))","v":""},{"$f":"IF($N$71=$AE$2,COUNTIF($B$4:$B$100,\">=\"&AI71)-COUNTIF($B$4:$B$100,\">\"&AJ71),\nIF($N$71=$AF$2,COUNTIF($C$4:$C$100,\">=\"&AI71)-COUNTIF($C$4:$C$100,\">\"&AJ71),\nIF($N$71=$AG$2,COUNTIF($D$4:$D$100,\">=\"&AI71)-COUNTIF($D$4:$D$100,\">\"&AJ71),\nIF($N$71=$AH$2,COUNTIF($E$4:$E$100,\">=\"&AI71)-COUNTIF($E$4:$E$100,\">\"&AJ71),\nIF($N$71=$AI$2,COUNTIF($F$4:$F$100,\">=\"&AI71)-COUNTIF($F$4:$F$100,\">\"&AJ71),\nIF($N$71=$AJ$2,COUNTIF($G$4:$G$100,\">=\"&AI71)-COUNTIF($G$4:$G$100,\">\"&AJ71),\nIF($N$71=$AK$2,COUNTIF($H$4:$H$100,\">=\"&AI71)-COUNTIF($H$4:$H$100,\">\"&AJ71),\nIF($N$71=\"Sem Uso\",\"\"))))))))","v":""},{"$f":"IF($N$71=$AE$2,COUNTIF($B$4:$B$100,\">=\"&AK71)-COUNTIF($B$4:$B$100,\">\"&AL71),\nIF($N$71=$AF$2,COUNTIF($C$4:$C$100,\">=\"&AK71)-COUNTIF($C$4:$C$100,\">\"&AL71),\nIF($N$71=$AG$2,COUNTIF($D$4:$D$100,\">=\"&AK71)-COUNTIF($D$4:$D$100,\">\"&AL71),\nIF($N$71=$AH$2,COUNTIF($E$4:$E$100,\">=\"&AK71)-COUNTIF($E$4:$E$100,\">\"&AL71),\nIF($N$71=$AI$2,COUNTIF($F$4:$F$100,\">=\"&AK71)-COUNTIF($F$4:$F$100,\">\"&AL71),\nIF($N$71=$AJ$2,COUNTIF($G$4:$G$100,\">=\"&AK71)-COUNTIF($G$4:$G$100,\">\"&AL71),\nIF($N$71=$AK$2,COUNTIF($H$4:$H$100,\">=\"&AK71)-COUNTIF($H$4:$H$100,\">\"&AL71),\nIF($N$71=\"Sem Uso\",\"\"))))))))","v":""},{"$f":"IF($N$71=$AE$2,COUNTIF($B$4:$B$100,\">=\"&AM71)-COUNTIF($B$4:$B$100,\">\"&AN71),\nIF($N$71=$AF$2,COUNTIF($C$4:$C$100,\">=\"&AM71)-COUNTIF($C$4:$C$100,\">\"&AN71),\nIF($N$71=$AG$2,COUNTIF($D$4:$D$100,\">=\"&AM71)-COUNTIF($D$4:$D$100,\">\"&AN71),\nIF($N$71=$AH$2,COUNTIF($E$4:$E$100,\">=\"&AM71)-COUNTIF($E$4:$E$100,\">\"&AN71),\nIF($N$71=$AI$2,COUNTIF($F$4:$F$100,\">=\"&AM71)-COUNTIF($F$4:$F$100,\">\"&AN71),\nIF($N$71=$AJ$2,COUNTIF($G$4:$G$100,\">=\"&AM71)-COUNTIF($G$4:$G$100,\">\"&AN71),\nIF($N$71=$AK$2,COUNTIF($H$4:$H$100,\">=\"&AM71)-COUNTIF($H$4:$H$100,\">\"&AN71),\nIF($N$71=\"Sem Uso\",\"\"))))))))","v":""},{"$f":"IF($N$71=$AE$2,COUNTIF($B$4:$B$100,\">=\"&AO71)-COUNTIF($B$4:$B$100,\">\"&AP71),\nIF($N$71=$AF$2,COUNTIF($C$4:$C$100,\">=\"&AO71)-COUNTIF($C$4:$C$100,\">\"&AP71),\nIF($N$71=$AG$2,COUNTIF($D$4:$D$100,\">=\"&AO71)-COUNTIF($D$4:$D$100,\">\"&AP71),\nIF($N$71=$AH$2,COUNTIF($E$4:$E$100,\">=\"&AO71)-COUNTIF($E$4:$E$100,\">\"&AP71),\nIF($N$71=$AI$2,COUNTIF($F$4:$F$100,\">=\"&AO71)-COUNTIF($F$4:$F$100,\">\"&AP71),\nIF($N$71=$AJ$2,COUNTIF($G$4:$G$100,\">=\"&AO71)-COUNTIF($G$4:$G$100,\">\"&AP71),\nIF($N$71=$AK$2,COUNTIF($H$4:$H$100,\">=\"&AO71)-COUNTIF($H$4:$H$100,\">\"&AP71),\nIF($N$71=\"Sem Uso\",\"\"))))))))","v":""}]
[null,null,null,null,null,null,null,null,null,null,"Valor da Aula",null,null,{"$f":"IF(AF80<>0,AF80,\"\")","v":""},"","","","","",null,"Valor da Aula",null,{"$f":"IFERROR(IF(N74<=$S$78,0,N74-$S$78),\"\")","v":0},0,0,0,0,0]
[null,null,null,null,null,null,null,null,null,null,"Nr. de Aulas",null,null,{"$f":"IF(AF78<>\"\",AF79,\"\")","v":""},"","","","","",null,"Nr. de Aulas",null,{"$f":"N75","v":""},"","","","","",null,null,{"$f":"IF(N75<>\"\",N75,\"\")","v":""},"","","","",""]
[null,null,null,null,null,null,null,null,null,null,"Valor",null,null,{"$f":"IFERROR(N74*N75,\"\")","v":""},"","","","","",null,"Valor",null,{"$f":"IFERROR(W74*W75,\"\")","v":""},"","","","","",null,null,null,{"$f":"IF($N71<>\"Sem Uso\",VLOOKUP(N71,Configurações!$C$1:$I$8,2,0),\"\")","v":""},{"$f":"IF(N71<>\"Sem Uso\",VLOOKUP(N71,Configurações!$C$1:$I$8,3,0),\"\")","v":""},{"$f":"IF(N71<>\"Sem Uso\",VLOOKUP(N71,Configurações!$C$1:$I$8,4,0),\"\")","v":""},{"$f":"IF(N71<>\"Sem Uso\",VLOOKUP(N71,Configurações!$C$1:$I$8,5,0),\"\")","v":""},{"$f":"IF(N71<>\"Sem Uso\",VLOOKUP(N71,Configurações!$C$1:$I$8,6,0),\"\")","v":""},{"$f":"IF(N71<>\"Sem Uso\",VLOOKUP(N71,Configurações!$C$1:$I$8,7,0),\"\")","v":""}]
[null,null,null,null,null,null,null,null,null,null,null,null,"Total de Alunos",null,null,null,{"$f":"_xlfn.IFS(N71=$AE$2,$B$102,N71=$AF$2,$C$102,N71=$AG$2,$D$102,N71=$AH$2,$E$102,N71=$AI$2,$F$102,N71=$AJ$2,$G$102,N71=$AK$2,$H$102,N71=\"Sem Uso\",\"\")","v":""},null,null,null,null,"Total de Alunos",null,null,null,{"$f":"Q77","v":""},null,null,null,null,"TABELA DE EQUIVALÊNCIA"]
[null,null,null,null,null,null,null,null,null,null,null,null,"Total de Aulas",null,null,null,{"$f":"IF(Q77<>\"\",SUM(AE75:AJ75),\"\")","v":""},"Registro",null,null,null,"Total de Aulas",null,null,null,{"$f":"Q78","v":""},null,null,null,null,"Nr. Alunos",{"$f":"AF76","v":""},{"$f":"IF(AG76<>0,AG76,\"\")","v":""},{"$f":"IF(AH76<>0,AH76,\"\")","v":""},{"$f":"IF(AI76<>0,AI76,\"\")","v":""},{"$f":"IF(AJ76<>0,AJ76,\"\")","v":""},{"$f":"IF(AK76<>0,AK76,\"\")","v":""}]
[null,null,null,null,null,null,null,null,null,null,null,null,"Total a Receber",null,null,null,{"$f":"IF(Q77<>\"\",SUM(N76:S76),\"\")","v":""},null,null,null,null,"Total a Receber",null,null,null,{"$f":"IF(Z77<>\"\",SUM(W76:AB76),\"\")","v":""},null,null,null,null,"Aulas",{"$f":"IF(AF78<>\"\",AF73,\"\")","v":""},"","","","",""]
[null,null,null,null,null,null,null,null,null,null,null,null,null,null,null,null,null,null,null,null,null,null,null,null,null,null,null,null,null,null,null,{"$f":"IFERROR(VLOOKUP(N71&R71,Configurações!$C$13:$I$47,2,0),\"\")","v":""},{"$f":"IFERROR(IF(AG78<>0,VLOOKUP(N71&R71,Configurações!$C$13:$I$47,3,0),\"\"),\"\")","v":""},{"$f":"IFERROR(IF(AH78<>0,VLOOKUP(N71&R71,Configurações!$C$13:$I$47,4,0),\"\"),\"\")","v":""},{"$f":"IFERROR(IF(AI78<>0,VLOOKUP(N71&R71,Configurações!$C$13:$I$47,5,0),\"\"),\"\")","v":""},{"$f":"IFERROR(IF(AJ78<>0,VLOOKUP(N71&R71,Configurações!$C$13:$I$47,6,0),\"\"),\"\")","v":""},{"$f":"IFERROR(IF(AK78<>0,VLOOKUP(N71&R71,Configurações!$C$13:$I$47,7,0),\"\"),\"\")","v":""}]
[]
[null,null,null,null,null,null,null,null,null,null,"Modalidade",null,null,"Sem Uso",null,null,"Nível","Prof. Especial",null,null,null,null,null,null,null,null,null,null,null,null,{"$f":"VLOOKUP(N82,Configurações!$J$1:$V$9,2,0)","v":""},{"$f":"VLOOKUP(N82,Configurações!$J$1:$V$9,3,0)","v":""},{"$f":"VLOOKUP(N82,Configurações!$J$1:$V$9,4,0)","v":""},{"$f":"VLOOKUP(N82,Configurações!$J$1:$V$9,5,0)","v":""},{"$f":"VLOOKUP(N82,Configurações!$J$1:$V$9,6,0)","v":""},{"$f":"VLOOKUP(N82,Configurações!$J$1:$V$9,7,0)","v":""},{"$f":"VLOOKUP(N82,Configurações!$J$1:$V$9,8,0)","v":""},{"$f":"VLOOKUP(N82,Configurações!$J$1:$V$9,9,0)","v":""},{"$f":"VLOOKUP(N82,Configurações!$J$1:$V$9,10,0)","v":""},{"$f":"VLOOKUP(N82,Configurações!$J$1:$V$9,11,0)","v":""},{"$f":"VLOOKUP(N82,Configurações!$J$1:$V$9,12,0)","v":""},{"$f":"VLOOKUP(N82,Configurações!$J$1:$V$9,13,0)","v":""}]
[null,null,null,null,null,null,null,null,null,null,"Academia",null,null,null,null,null,null,null,null,null,"Contabilidade",null,null,null,null,null,null,null,null,null,{"$f":"IFERROR(VLOOKUP(N82,_xlfn.ANCHORARRAY($AQ$2),2,0),0)","v":0}]
[null,null,null,null,null,null,null,null,null,null,"Nr. de Alunos",null,null,{"$f":"IF(AF89<>\"\",AF89,\"\")","v":""},{"$f":"IF(AG89<>\"\",AG89,\"\")","v":""},{"$f":"IF(AH89<>\"\",AH89,\"\")","v":""},{"$f":"IF(AI89<>\"\",AI89,\"\")","v":""},{"$f":"IF(AJ89<>\"\",AJ89,\"\")","v":""},{"$f":"IF(AK89<>0,AK89,\"\")","v":""},null,"Nr. de Alunos",null,{"$f":"N84","v":""},{"$f":"O84","v":""},"","","","",null,null,null,{"$f":"IF($N$82=$AE$2,COUNTIF($B$4:$B$100,\">=\"&AE82)-COUNTIF($B$4:$B$100,\">\"&AF82),\nIF($N$82=$AF$2,COUNTIF($C$4:$C$100,\">=\"&AE82)-COUNTIF($C$4:$C$100,\">\"&AF82),\nIF($N$82=$AG$2,COUNTIF($D$4:$D$100,\">=\"&AE82)-COUNTIF($D$4:$D$100,\">\"&AF82),\nIF($N$82=$AH$2,COUNTIF($E$4:$E$100,\">=\"&AE82)-COUNTIF($E$4:$E$100,\">\"&AF82),\nIF($N$82=$AI$2,COUNTIF($F$4:$F$100,\">=\"&AE82)-COUNTIF($F$4:$F$100,\">\"&AF82),\nIF($N$82=$AJ$2,COUNTIF($G$4:$G$100,\">=\"&AE82)-COUNTIF($G$4:$G$100,\">\"&AF82),\nIF($N$82=$AK$2,COUNTIF($H$4:$H$100,\">=\"&AE82)-COUNTIF($H$4:$H$100,\">\"&AF82),\nIF($N$82=\"Sem Uso\",\"\"))))))))","v":""},{"$f":"IF($N$82=$AE$2,COUNTIF($B$4:$B$100,\">=\"&AG82)-COUNTIF($B$4:$B$100,\">\"&AH82),\nIF($N$82=$AF$2,COUNTIF($C$4:$C$100,\">=\"&AG82)-COUNTIF($C$4:$C$100,\">\"&AH82),\nIF($N$82=$AG$2,COUNTIF($D$4:$D$100,\">=\"&AG82)-COUNTIF($D$4:$D$100,\">\"&AH82),\nIF($N$82=$AH$2,COUNTIF($E$4:$E$100,\">=\"&AG82)-COUNTIF($E$4:$E$100,\">\"&AH82),\nIF($N$82=$AI$2,COUNTIF($F$4:$F$100,\">=\"&AG82)-COUNTIF($F$4:$F$100,\">\"&AH82),\nIF($N$82=$AJ$2,COUNTIF($G$4:$G$100,\">=\"&AG82)-COUNTIF($G$4:$G$100,\">\"&AH82),\nIF($N$82=$AK$2,COUNTIF($H$4:$H$100,\">=\"&AG82)-COUNTIF($H$4:$H$100,\">\"&AH82),\nIF($N$82=\"Sem Uso\",\"\"))))))))","v":""},{"$f":"IF($N$82=$AE$2,COUNTIF($B$4:$B$100,\">=\"&AI82)-COUNTIF($B$4:$B$100,\">\"&AJ82),\nIF($N$82=$AF$2,COUNTIF($C$4:$C$100,\">=\"&AI82)-COUNTIF($C$4:$C$100,\">\"&AJ82),\nIF($N$82=$AG$2,COUNTIF($D$4:$D$100,\">=\"&AI82)-COUNTIF($D$4:$D$100,\">\"&AJ82),\nIF($N$82=$AH$2,COUNTIF($E$4:$E$100,\">=\"&AI82)-COUNTIF($E$4:$E$100,\">\"&AJ82),\nIF($N$82=$AI$2,COUNTIF($F$4:$F$100,\">=\"&AI82)-COUNTIF($F$4:$F$100,\">\"&AJ82),\nIF($N$82=$AJ$2,COUNTIF($G$4:$G$100,\">=\"&AI82)-COUNTIF($G$4:$G$100,\">\"&AJ82),\nIF($N$82=$AK$2,COUNTIF($H$4:$H$100,\">=\"&AI82)-COUNTIF($H$4:$H$100,\">\"&AJ82),\nIF($N$82=\"Sem Uso\",\"\"))))))))","v":""},{"$f":"IF($N$82=$AE$2,COUNTIF($B$4:$B$100,\">=\"&AK82)-COUNTIF($B$4:$B$100,\">\"&AL82),\nIF($N$82=$AF$2,COUNTIF($C$4:$C$100,\">=\"&AK82)-COUNTIF($C$4:$C$100,\">\"&AL82),\nIF($N$82=$AG$2,COUNTIF($D$4:$D$100,\">=\"&AK82)-COUNTIF($D$4:$D$100,\">\"&AL82),\nIF($N$82=$AH$2,COUNTIF($E$4:$E$100,\">=\"&AK82)-COUNTIF($E$4:$E$100,\">\"&AL82),\nIF($N$82=$AI$2,COUNTIF($F$4:$F$100,\">=\"&AK82)-COUNTIF($F$4:$F$100,\">\"&AL82),\nIF($N$82=$AJ$2,COUNTIF($G$4:$G$100,\">=\"&AK82)-COUNTIF($G$4:$G$100,\">\"&AL82),\nIF($N$82=$AK$2,COUNTIF($H$4:$H$100,\">=\"&AK82)-COUNTIF($H$4:$H$100,\">\"&AL82),\nIF($N$82=\"Sem Uso\",\"\"))))))))","v":""},{"$f":"IF($N$82=$AE$2,COUNTIF($B$4:$B$100,\">=\"&AM82)-COUNTIF($B$4:$B$100,\">\"&AN82),\nIF($N$82=$AF$2,COUNTIF($C$4:$C$100,\">=\"&AM82)-COUNTIF($C$4:$C$100,\">\"&AN82),\nIF($N$82=$AG$2,COUNTIF($D$4:$D$100,\">=\"&AM82)-COUNTIF($D$4:$D$100,\">\"&AN82),\nIF($N$82=$AH$2,COUNTIF($E$4:$E$100,\">=\"&AM82)-COUNTIF($E$4:$E$100,\">\"&AN82),\nIF($N$82=$AI$2,COUNTIF($F$4:$F$100,\">=\"&AM82)-COUNTIF($F$4:$F$100,\">\"&AN82),\nIF($N$82=$AJ$2,COUNTIF($G$4:$G$100,\">=\"&AM82)-COUNTIF($G$4:$G$100,\">\"&AN82),\nIF($N$82=$AK$2,COUNTIF($H$4:$H$100,\">=\"&AM82)-COUNTIF($H$4:$H$100,\">\"&AN82),\nIF($N$82=\"Sem Uso\",\"\"))))))))","v":""},{"$f":"IF($N$82=$AE$2,COUNTIF($B$4:$B$100,\">=\"&AO82)-COUNTIF($B$4:$B$100,\">\"&AP82),\nIF($N$82=$AF$2,COUNTIF($C$4:$C$100,\">=\"&AO82)-COUNTIF($C$4:$C$100,\">\"&AP82),\nIF($N$82=$AG$2,COUNTIF($D$4:$D$100,\">=\"&AO82)-COUNTIF($D$4:$D$100,\">\"&AP82),\nIF($N$82=$AH$2,COUNTIF($E$4:$E$100,\">=\"&AO82)-COUNTIF($E$4:$E$100,\">\"&AP82),\nIF($N$82=$AI$2,COUNTIF($F$4:$F$100,\">=\"&AO82)-COUNTIF($F$4:$F$100,\">\"&AP82),\nIF($N$82=$AJ$2,COUNTIF($G$4:$G$100,\">=\"&AO82)-COUNTIF($G$4:$G$100,\">\"&AP82),\nIF($N$82=$AK$2,COUNTIF($H$4:$H$100,\">=\"&AO82)-COUNTIF($H$4:$H$100,\">\"&AP82),\nIF($N$82=\"Sem Uso\",\"\"))))))))","v":""}]
[null,null,null,null,null,null,null,null,null,null,"Valor da Aula",null,null,{"$f":"IF(AF91<>0,AF91,\"\")","v":""},"","","","","",null,"Valor da Aula",null,{"$f":"IFERROR(IF(N85<=$S$89,0,N85-$S$89),\"\")","v":0},0,0,0,0,0]
[null,null,null,null,null,null,null,null,null,null,"Nr. de Aulas",null,null,{"$f":"IF(AF89<>\"\",AF90,\"\")","v":""},"","","","","",null,"Nr. de Aulas",null,{"$f":"N86","v":""},"","","","","",null,null,{"$f":"IF(N86<>\"\",N86,\"\")","v":""},"","","","",""]
[null,null,null,null,null,null,null,null,null,null,"Valor",null,null,{"$f":"IFERROR(N85*N86,\"\")","v":""},"","","","","",null,"Valor",null,{"$f":"IFERROR(W85*W86,\"\")","v":""},"","","","","",null,null,null,{"$f":"IF($N82<>\"Sem Uso\",VLOOKUP(N82,Configurações!$C$1:$I$8,2,0),\"\")","v":""},{"$f":"IF(N82<>\"Sem Uso\",VLOOKUP(N82,Configurações!$C$1:$I$8,3,0),\"\")","v":""},{"$f":"IF(N82<>\"Sem Uso\",VLOOKUP(N82,Configurações!$C$1:$I$8,4,0),\"\")","v":""},{"$f":"IF(N82<>\"Sem Uso\",VLOOKUP(N82,Configurações!$C$1:$I$8,5,0),\"\")","v":""},{"$f":"IF(N82<>\"Sem Uso\",VLOOKUP(N82,Configurações!$C$1:$I$8,6,0),\"\")","v":""},{"$f":"IF(N82<>\"Sem Uso\",VLOOKUP(N82,Configurações!$C$1:$I$8,7,0),\"\")","v":""}]
[null,null,null,null,null,null,null,null,null,null,null,null,"Total de Alunos",null,null,null,{"$f":"_xlfn.IFS(N82=$AE$2,$B$102,N82=$AF$2,$C$102,N82=$AG$2,$D$102,N82=$AH$2,$E$102,N82=$AI$2,$F$102,N82=$AJ$2,$G$102,N82=$AK$2,$H$102,N82=\"Sem Uso\",\"\")","v":""},null,null,null,null,"Total de Alunos",null,null,null,{"$f":"Q88","v":""},null,null,null,null,"TABELA DE EQUIVALÊNCIA"]
[null,null,null,null,null,null,null,null,null,null,null,null,"Total de Aulas",null,null,null,{"$f":"IF(Q88<>\"\",SUM(AE86:AJ86),\"\")","v":""},"Registro",null,null,null,"Total de Aulas",null,null,null,{"$f":"Q89","v":""},null,null,null,null,"Nr. Alunos",{"$f":"AF87","v":""},{"$f":"IF(AG87<>0,AG87,\"\")","v":""},{"$f":"IF(AH87<>0,AH87,\"\")","v":""},{"$f":"IF(AI87<>0,AI87,\"\")","v":""},{"$f":"IF(AJ87<>0,AJ87,\"\")","v":""},{"$f":"IF(AK87<>0,AK87,\"\")","v":""}]
[null,null,null,null,null,null,null,null,null,null,null,null,"Total a Receber",null,null,null,{"$f":"IF(Q88<>\"\",SUM(N87:S87),\"\")","v":""},null,null,null,null,"Total a Receber",null,null,null,{"$f":"IF(Z88<>\"\",SUM(W87:AB87),\"\")","v":""},null,null,null,null,"Aulas",{"$f":"IF(AF89<>\"\",AF84,\"\")","v":""},"","","","",""]
[null,null,null,null,null,null,null,null,null,null,null,null,null,null,null,null,null,null,null,null,null,null,null,null,null,null,null,null,null,null,null,{"$f":"IFERROR(VLOOKUP(N82&R82,Configurações!$C$13:$I$47,2,0),\"\")","v":""},{"$f":"IFERROR(IF(AG89<>0,VLOOKUP(N82&R82,Configurações!$C$13:$I$47,3,0),\"\"),\"\")","v":""},{"$f":"IFERROR(IF(AH89<>0,VLOOKUP(N82&R82,Configurações!$C$13:$I$47,4,0),\"\"),\"\")","v":""},{"$f":"IFERROR(IF(AI89<>0,VLOOKUP(N82&R82,Configurações!$C$13:$I$47,5,0),\"\"),\"\")","v":""},{"$f":"IFERROR(IF(AJ89<>0,VLOOKUP(N82&R82,Configurações!$C$13:$I$47,6,0),\"\"),\"\")","v":""},{"$f":"IFERROR(IF(AK89<>0,VLOOKUP(N82&R82,Configurações!$C$13:$I$47,7,0),\"\"),\"\")","v":""}]
[]
[]
[]
[]
[]
[]
[]
[]
[]
[]
[null,{"$f":"SUM($B$4:$B$100)","v":58},{"$f":"SUM($C$4:$C$100)","v":0},{"$f":"SUM($D$4:$D$100)","v":10},{"$f":"SUM($E$4:$E$100)","v":19},{"$f":"SUM($F$4:$F$100)","v":0},{"$f":"SUM($G$4:$G$100)","v":0},{"$f":"SUM($H$4:$H$100)","v":30}]